Workbook
Name Beløb_vedl_A_I: Nutidsværdiberegning!$J$48
Name Beløb_vedl_A_II: Nutidsværdiberegning!$J$49
Name Beløb_vedl_A_III: Nutidsværdiberegning!$J$50
Name Beløb_vedl_B_I: Nutidsværdiberegning!$P$48
Name Beløb_vedl_B_II: Nutidsværdiberegning!$P$49
Name Beløb_vedl_B_III: Nutidsværdiberegning!$P$50
Name Beløb_vedl_C_I: Nutidsværdiberegning!$V$48
Name Beløb_vedl_C_II: Nutidsværdiberegning!$V$49
Name Beløb_vedl_C_III: Nutidsværdiberegning!$V$50
Name inflation: Nutidsværdiberegning!#REF!
Name Interval_vedl_A_I: Nutidsværdiberegning!$H$48
Name Interval_vedl_A_II: Nutidsværdiberegning!$H$49
Name Interval_vedl_A_III: Nutidsværdiberegning!$H$50
Name Interval_vedl_B_I: Nutidsværdiberegning!$N$48
Name Interval_vedl_B_II: Nutidsværdiberegning!$N$49
Name Interval_vedl_B_III: Nutidsværdiberegning!$N$50
Name Interval_vedl_C_I: Nutidsværdiberegning!$T$48
Name Interval_vedl_C_II: Nutidsværdiberegning!$T$49
Name Interval_vedl_C_III: Nutidsværdiberegning!$T$50
Name Kalkulationsrente: Nutidsværdiberegning!$E$5
Name levetid_A: Nutidsværdiberegning!$J$16
Name levetid_B: Nutidsværdiberegning!$P$16
Name levetid_C: Nutidsværdiberegning!$V$16
Name navn_A: Nutidsværdiberegning!$H$12
Name navn_B: Nutidsværdiberegning!$N$12
Name navn_C: Nutidsværdiberegning!$T$12
Name scrap_A: Nutidsværdiberegning!$J$18
Name scrap_B: Nutidsværdiberegning!$P$18
Name scrap_C: Nutidsværdiberegning!$V$18

Sheet Nutidsværdiberegning
B2: Model til sammenligning af Total Cost of Ownership (TCO) af to eller tre investeringer med samme levetid
B4: Generelle antagelser
B5: Kalkulationsrente [%] | E5: 0.04
B6: Anskaffelsesår er år 1. Anskaffelsesår er det første år af levetiden.
B8: Informationer om investeringsalternativerne
H11: Alternativ A | N11: Alternativ B | T11: Alternativ C
B12: Navn | H12: Pumpe Bibi | N12: Pumpe Boris | T12: Pumpe Tina
B16: Levetid [år], skal gælde for alle tre investeringer | E16: 80 | J16: =$E$16 -> 80 | M16: =IF(levetid_B>100,"OBS! Max 100 år.","") | P16: =$E$16 -> 80 | S16: =IF(levetid_C>100,"OBS! Max 100 år.","") | V16: =$E$16 -> 80
B18: Scrapværdi | J18: 20000 | P18: 20000 | V18: 10000
B21: Anlægsomkostninger
B22: Skal betales én gang, nemlig i år 1.
B23: Angives i kroner
C24: Anskaffelsespris | J24: 600000 | P24: 750000 | V24: 600000
C25: Installering | J25: 15000 | P25: 22000 | V25: 20000
C26: Projektomkostninger | J26: 4000 | P26: 5500 | V26: 7000
C27: Andet, fx positive eller negativer eksternaliteter | J27: 0 | P27: 1000 | V27: 1000
B30: Driftsomkostninger
B31: Skal betales hvert år over hele levetid.
B32: Angives i kroner per år
C33: Løbende driftsomkostninger (direkte omkostinger)
D34: Løbende drift og eftersyn | J34: 9000 | P34: 7000 | V34: 10000
D35: Energi og forbrug | J35: 3000 | P35: 3000 | V35: 5000
C36: Indirekte omkostninger
D37: Forsikring etc. | J37: 0 | P37: 0 | V37: 0
D38: Admin-omkostninger etc. | J38: 1000 | P38: 1000 | V38: 850
C40: Andre løbende omkostninger, fx positive eller negative eksternaliteter | J40: 0 | P40: 1000 | V40: 350
B43: Vedligeholdelse
B44: Skal betales flere gange, i regelmæssige intervaller
B45: I feltet til venstre angives længden af tidsintervallerne
B46: I feltet til højre angives beløbet af en enkel betaling | H46: Betalingen | J46: Beløb [Kr.) | N46: Betalingen | P46: Beløb [Kr.) | T46: Betalingen | V46: Beløb [Kr.)
B47: i kroner | H47: hvert … år | N47: hvert … år | T47: hvert … år
C48: Vedligeholdelse, type I | H48: 5 | J48: 75000 | N48: 5 | P48: 12000 | T48: 5 | V48: 20000
C49: Vedligeholdelse, type II | H49: 8 | J49: 20000 | N49: 10 | P49: 5000 | T49: 15 | V49: 3000
C50: Vedligeholdelse, type III | H50: - | J50: 0 | N50: 20 | P50: 25000 | T50: 0 | V50: 0
B54: Resultater og figurer | H54: i alt | N54: i alt | T54: i alt
B55: Nutidsværdi af investeringens omkostninger [Kr., faste priser] | H55: =Baggrundsberegning!C80 -> 1339823.3 | N55: =Baggrundsberegning!D80 -> 1162405.5 | T55: =Baggrundsberegning!E80 -> 1126006.1
D79: Note: Scrapværdien er indeholdt i anlægsomkostningerne.

Sheet Årlig ækvivalent annuitet
B2: Model til sammenligning af Total Cost of Ownership (TCO) af to investeringer med forskellig levetid
B3: EAA-beregneren giver et udtryk for omkostningseffektivitet, hvilket gør det muligt at sammenligne investeringer med forskellige levetid og etableringsår.
B4: Forsyningssekretariatet anvender en lignende EAA-beregner i forbindelse med medfinansiering af klimatilpasningsprojekter. Forsyningssekretariatets model bygger på andre forudsætninger end denne model, hvorfor der forekommer mindre forskelle i de præcise estimater.
B6: Generelle antagelser | G6: Resultater
B7: Kalkulationsrente [%] | C7: 0.04
G8: Alternativ A | H8: =IF(SUM($D$47:$E$166)>0,($C$7*SUM($N$47:$N$166)/(1-(1+$C$7)^(-($E$20-$E$19+1)))),"") -> 11899.958
B9: År ved dags dato | C9: =YEAR(O20) -> 2018 | G9: Alternativ B | H9: =IF(SUM($J$47:$K$166)>0,($C$7*SUM($O$47:$O$166)/(1-(1+$C$7)^(-($K$20-$K$19+1)))),"") -> 17669.144
G11: Konklusion: | H11: =IF($H$8>0,IF($H$8<>$H$9,IF($H$8<$H$9,"Alternativ A er mest omkostningseffektivt","Alternativ B er mest omkostningseffektivt"),"Alterativerne A og B er lige omkostningseffektive"),"") -> Alternativ A er mest omkostningseffektivt
D15: Alternativ A | J15: Alternativ B
D16: Pumpe Bibi | J16: Pumpe Boris
D19: Projektets startår | E19: 2018 | J19: Projektets startår | K19: 2019 | P19: =IF($J19>=$K$19,IF($J19<=$K$20,SUM($K19:$M19),""),"")
D20: Projektets slutår | E20: 2047 | J20: Projektets slutår | K20: 2065 | O20: =TODAY() -> 43279
D21: Periodelængde | E21: =E20-E19 -> 29 | J21: Periodelængde | K21: =K20-K19 -> 46
C23: Anlægsomkostninger | I23: Anlægsomkostninger
D24: Anskaffelsespris | E24: 20000 | J24: Anskaffelsespris | K24: 200000
D25: Installering | E25: 25000 | J25: Installering | K25: 25000
D26: Projektomkostninger | E26: 105000 | J26: Projektomkostninger | K26: 105000
D27: Andet, fx positive eller negativer eksternaliteter | E27: 50000 | J27: Andet, fx positive eller negativer eksternaliteter | K27: 50000
D28: Samlede anlægsomkostninger | E28: =SUM(E24:E27) -> 200000 | J28: Samlede anlægsomkostninger | K28: =SUM(K24:K27) -> 380000
D29: Startår for drift | E29: 2019 | J29: Startår for drift | K29: 2020
C30: Løbende driftsomkostninger per år | I30: Løbende driftsomkostninger, per år
D31: Løbende drift og eftersyn | E31: 20 | J31: Løbende drift og eftersyn | K31: 100
D32: Energi og forbrug | E32: 300 | J32: Energi og forbrug | K32: 200
C33: Indirekte omkostninger, per år | I33: Indirekte omkostninger, per år
D34: Forsikring etc. | E34: 5 | J34: Forsikring etc. | K34: 5
D35: Admin-omkostninger etc. | E35: 5 | J35: Admin-omkostninger etc. | K35: 5
C37: Andre løbende omkostninger, per år | E37: 5 | I37: Andre løbende omkostninger, per år | K37: 5
C39: Vedligeholdelse, per år | I39: Vedligeholdelse, per år
D40: type I | E40: 1 | J40: type I | K40: 2
D41: type II | E41: 2 | J41: type II | K41: 2
D42: type III | E42: 2 | J42: type III | K42: 1
D43: Drift og vedligeholdelse per år | E43: =SUM(E31:E32,E34:E35,E37,E40:E42) -> 340 | J43: Drift og vedligeholdelse per år | K43: =SUM(K31:K32,K34:K35,K37,K40:K42) -> 320
C46: År | D46: År for anlægsinvestering | E46: Forventede driftsomkostninger i år x | I46: År | J46: År for anlægsinvestering | K46: Forventede driftsomkostninger i år x | N46: Tilbagediskonteret cash-flow sædvanlig projekt | O46: Tilbagediskonteret cash-flow alternativt projekt
C47: =E19 -> 2018 | D47: =IF($E$19=C47,$E$28,"") -> 200000 | E47: =IF(C47-1<$E$20,IF(C47+1>$E$29,$E$43,""),"") | I47: =K19 -> 2019 | J47: =IF($K$19=I47,$K$28,"") -> 380000 | K47: =IF(I47-1<$K$20,IF(I47+1>$K$29,$K$43,""),"") | N47: =SUM($D47:$E47)/((1+$C$7)^($C47-$C$9)) -> 200000 | O47: =SUM($J47:$K47)/((1+$C$7)^($I47-$C$9)) -> 365384.62
C48: =C47+1 -> 2019 | D48: =IF($E$19=C48,$E$28,"") | E48: =IF(C48-1<$E$20,IF(C48+1>$E$29,$E$43,""),"") -> 340 | I48: =I47+1 -> 2020 | J48: =IF($K$19=I48,$K$28,"") | K48: =IF(I48-1<$K$20,IF(I48+1>$K$29,$K$43,""),"") -> 320 | N48: =SUM($D48:$E48)/((1+$C$7)^($C48-$C$9)) -> 326.92308 | O48: =SUM($J48:$K48)/((1+$C$7)^($I48-$C$9)) -> 295.85799
C49: =C48+1 -> 2020 | D49: =IF($E$19=C49,$E$28,"") | E49: =IF(C49-1<$E$20,IF(C49+1>$E$29,$E$43,""),"") -> 340 | I49: =I48+1 -> 2021 | J49: =IF($K$19=I49,$K$28,"") | K49: =IF(I49-1<$K$20,IF(I49+1>$K$29,$K$43,""),"") -> 320 | N49: =SUM($D49:$E49)/((1+$C$7)^($C49-$C$9)) -> 314.34911 | O49: =SUM($J49:$K49)/((1+$C$7)^($I49-$C$9)) -> 284.47883
C50: =C49+1 -> 2021 | D50: =IF($E$19=C50,$E$28,"") | E50: =IF(C50-1<$E$20,IF(C50+1>$E$29,$E$43,""),"") -> 340 | I50: =I49+1 -> 2022 | J50: =IF($K$19=I50,$K$28,"") | K50: =IF(I50-1<$K$20,IF(I50+1>$K$29,$K$43,""),"") -> 320 | N50: =SUM($D50:$E50)/((1+$C$7)^($C50-$C$9)) -> 302.25876 | O50: =SUM($J50:$K50)/((1+$C$7)^($I50-$C$9)) -> 273.53734
C51: =C50+1 -> 2022 | D51: =IF($E$19=C51,$E$28,"") | E51: =IF(C51-1<$E$20,IF(C51+1>$E$29,$E$43,""),"") -> 340 | I51: =I50+1 -> 2023 | J51: =IF($K$19=I51,$K$28,"") | K51: =IF(I51-1<$K$20,IF(I51+1>$K$29,$K$43,""),"") -> 320 | N51: =SUM($D51:$E51)/((1+$C$7)^($C51-$C$9)) -> 290.63342 | O51: =SUM($J51:$K51)/((1+$C$7)^($I51-$C$9)) -> 263.01667
C52: =C51+1 -> 2023 | D52: =IF($E$19=C52,$E$28,"") | E52: =IF(C52-1<$E$20,IF(C52+1>$E$29,$E$43,""),"") -> 340 | I52: =I51+1 -> 2024 | J52: =IF($K$19=I52,$K$28,"") | K52: =IF(I52-1<$K$20,IF(I52+1>$K$29,$K$43,""),"") -> 320 | N52: =SUM($D52:$E52)/((1+$C$7)^($C52-$C$9)) -> 279.45522 | O52: =SUM($J52:$K52)/((1+$C$7)^($I52-$C$9)) -> 252.90065
C53: =C52+1 -> 2024 | D53: =IF($E$19=C53,$E$28,"") | E53: =IF(C53-1<$E$20,IF(C53+1>$E$29,$E$43,""),"") -> 340 | I53: =I52+1 -> 2025 | J53: =IF($K$19=I53,$K$28,"") | K53: =IF(I53-1<$K$20,IF(I53+1>$K$29,$K$43,""),"") -> 320 | N53: =SUM($D53:$E53)/((1+$C$7)^($C53-$C$9)) -> 268.70694 | O53: =SUM($J53:$K53)/((1+$C$7)^($I53-$C$9)) -> 243.1737
...

Sheet Baggrundsberegning
C2: 1 | D2: 2 | E2: 3 | F2: 4 | G2: 5 | H2: 6 | I2: 7 | J2: 8 | K2: 9 | L2: 10 | M2: 11 | N2: 12 | O2: 13 | P2: 14 | Q2: 15 | R2: 16 | S2: 17 | T2: 18 | U2: 19 | V2: 20 | W2: 21 | X2: 22 | Y2: 23 | Z2: 24 | AA2: 25 | AB2: 26 | AC2: 27 | AD2: 28 | AE2: 29 | AF2: 30 | AG2: 31 | AH2: 32 | AI2: 33 | AJ2: 34 | AK2: 35 | AL2: 36 | AM2: 37 | AN2: 38 | AO2: 39 | AP2: 40 | AQ2: 41 | AR2: 42 | AS2: 43 | AT2: 44 | AU2: 45 | AV2: 46 | AW2: 47 | AX2: 48 | AY2: 49 | AZ2: 50 | BA2: 51 | BB2: 52 | BC2: 53 | BD2: 54 | BE2: 55 | BF2: 56 | BG2: 57 | BH2: 58 | BI2: 59 | BJ2: 60 | BK2: 61 | BL2: 62 | BM2: 63 | BN2: 64 | BO2: 65 | BP2: 66 | BQ2: 67 | BR2: 68 | BS2: 69 | BT2: 70 | BU2: 71 | BV2: 72 | BW2: 73 | BX2: 74 | BY2: 75 | BZ2: 76 | CA2: 77 | CB2: 78 | CC2: 79 | CD2: 80 | CE2: 81 | CF2: 82 | CG2: 83 | CH2: 84 | CI2: 85 | CJ2: 86 | CK2: 87 | CL2: 88 | CM2: 89 | CN2: 90 | CO2: 91 | CP2: 92 | CQ2: 93 | CR2: 94 | CS2: 95 | CT2: 96 | CU2: 97 | CV2: 98 | CW2: 99 | CX2: 100
C3: 2017 | D3: 2018 | E3: 2019 | F3: 2020 | G3: 2021 | H3: 2022 | I3: 2023 | J3: 2024 | K3: 2025 | L3: 2026 | M3: 2027 | N3: 2028 | O3: 2029 | P3: 2030 | Q3: 2031 | R3: 2032 | S3: 2033 | T3: 2034 | U3: 2035 | V3: 2036 | W3: 2037 | X3: 2038 | Y3: 2039 | Z3: 2040 | AA3: 2041 | AB3: 2042 | AC3: 2043 | AD3: 2044 | AE3: 2045 | AF3: 2046 | AG3: 2047 | AH3: 2048 | AI3: 2049 | AJ3: 2050 | AK3: 2051 | AL3: 2052 | AM3: 2053 | AN3: 2054 | AO3: 2055 | AP3: 2056 | AQ3: 2057 | AR3: 2058 | AS3: 2059 | AT3: 2060 | AU3: 2061 | AV3: 2062 | AW3: 2063 | AX3: 2064 | AY3: 2065 | AZ3: 2066 | BA3: 2067 | BB3: 2068 | BC3: 2069 | BD3: 2070 | BE3: 2071 | BF3: 2072 | BG3: 2073 | BH3: 2074 | BI3: 2075 | BJ3: 2076 | BK3: 2077 | BL3: 2078 | BM3: 2079 | BN3: 2080 | BO3: 2081 | BP3: 2082 | BQ3: 2083 | BR3: 2084 | BS3: 2085 | BT3: 2086 | BU3: 2087 | BV3: 2088 | BW3: 2089 | BX3: 2090 | BY3: 2091 | BZ3: 2092 | CA3: 2093 | CB3: 2094 | CC3: 2095 | CD3: 2096 | CE3: 2097 | CF3: 2098 | CG3: 2099 | CH3: 2100 | CI3: 2101 | CJ3: 2102 | CK3: 2103 | CL3: 2104 | CM3: 2105 | CN3: 2106 | CO3: 2107 | CP3: 2108 | CQ3: 2109 | CR3: 2110 | CS3: 2111 | CT3: 2112 | CU3: 2113 | CV3: 2114 | CW3: 2115 | CX3: 2116
A4: Alternativ A | B4: =Nutidsværdiberegning!H12 -> Pumpe Bibi
A5: Anlægsomkostninger | B5: Anskaffelsespris og scrap værdi | C5: =Nutidsværdiberegning!J24 -> 600000 | D5: =IF(D$2=levetid_A,scrap_A* (-1),0) -> 0 | E5: =IF(E$2=levetid_A,scrap_A* (-1),0) -> 0 | F5: =IF(F$2=levetid_A,scrap_A* (-1),0) -> 0 | G5: =IF(G$2=levetid_A,scrap_A* (-1),0) -> 0 | H5: =IF(H$2=levetid_A,scrap_A* (-1),0) -> 0 | I5: =IF(I$2=levetid_A,scrap_A* (-1),0) -> 0 | J5: =IF(J$2=levetid_A,scrap_A* (-1),0) -> 0 | K5: =IF(K$2=levetid_A,scrap_A* (-1),0) -> 0 | ... CX5: =IF(CX$2=levetid_A,scrap_A* (-1),0) -> 0
B6: =Nutidsværdiberegning!C25 -> Installering | C6: =Nutidsværdiberegning!J25 -> 15000 | D6: 0 | E6: 0 | F6: 0 | G6: 0 | H6: 0 | I6: 0 | J6: 0 | K6: 0 | L6: 0 | M6: 0 | N6: 0 | O6: 0 | P6: 0 | Q6: 0 | R6: 0 | S6: 0 | T6: 0 | U6: 0 | V6: 0 | W6: 0 | X6: 0 | Y6: 0 | Z6: 0 | AA6: 0 | AB6: 0 | AC6: 0 | AD6: 0 | AE6: 0 | AF6: 0 | AG6: 0 | AH6: 0 | AI6: 0 | AJ6: 0 | AK6: 0 | AL6: 0 | AM6: 0 | AN6: 0 | AO6: 0 | AP6: 0 | AQ6: 0 | AR6: 0 | AS6: 0 | AT6: 0 | AU6: 0 | AV6: 0 | AW6: 0 | AX6: 0 | AY6: 0 | AZ6: 0 | BA6: 0 | BB6: 0 | BC6: 0 | BD6: 0 | BE6: 0 | BF6: 0 | BG6: 0 | BH6: 0 | BI6: 0 | BJ6: 0 | BK6: 0 | BL6: 0 | BM6: 0 | BN6: 0 | BO6: 0 | BP6: 0 | BQ6: 0 | BR6: 0 | BS6: 0 | BT6: 0 | BU6: 0 | BV6: 0 | BW6: 0 | BX6: 0 | BY6: 0 | BZ6: 0 | CA6: 0 | CB6: 0 | CC6: 0 | CD6: 0 | CE6: 0 | CF6: 0 | CG6: 0 | CH6: 0 | CI6: 0 | CJ6: 0 | CK6: 0 | CL6: 0 | CM6: 0 | CN6: 0 | CO6: 0 | CP6: 0 | CQ6: 0 | CR6: 0 | CS6: 0 | CT6: 0 | CU6: 0 | CV6: 0 | CW6: 0 | CX6: 0
B7: =Nutidsværdiberegning!C26 -> Projektomkostninger | C7: =Nutidsværdiberegning!J26 -> 4000 | D7: 0 | E7: 0 | F7: 0 | G7: 0 | H7: 0 | I7: 0 | J7: 0 | K7: 0 | L7: 0 | M7: 0 | N7: 0 | O7: 0 | P7: 0 | Q7: 0 | R7: 0 | S7: 0 | T7: 0 | U7: 0 | V7: 0 | W7: 0 | X7: 0 | Y7: 0 | Z7: 0 | AA7: 0 | AB7: 0 | AC7: 0 | AD7: 0 | AE7: 0 | AF7: 0 | AG7: 0 | AH7: 0 | AI7: 0 | AJ7: 0 | AK7: 0 | AL7: 0 | AM7: 0 | AN7: 0 | AO7: 0 | AP7: 0 | AQ7: 0 | AR7: 0 | AS7: 0 | AT7: 0 | AU7: 0 | AV7: 0 | AW7: 0 | AX7: 0 | AY7: 0 | AZ7: 0 | BA7: 0 | BB7: 0 | BC7: 0 | BD7: 0 | BE7: 0 | BF7: 0 | BG7: 0 | BH7: 0 | BI7: 0 | BJ7: 0 | BK7: 0 | BL7: 0 | BM7: 0 | BN7: 0 | BO7: 0 | BP7: 0 | BQ7: 0 | BR7: 0 | BS7: 0 | BT7: 0 | BU7: 0 | BV7: 0 | BW7: 0 | BX7: 0 | BY7: 0 | BZ7: 0 | CA7: 0 | CB7: 0 | CC7: 0 | CD7: 0 | CE7: 0 | CF7: 0 | CG7: 0 | CH7: 0 | CI7: 0 | CJ7: 0 | CK7: 0 | CL7: 0 | CM7: 0 | CN7: 0 | CO7: 0 | CP7: 0 | CQ7: 0 | CR7: 0 | CS7: 0 | CT7: 0 | CU7: 0 | CV7: 0 | CW7: 0 | CX7: 0
B8: =Nutidsværdiberegning!C27 -> Andet, fx positive eller negativer eksternaliteter | C8: =Nutidsværdiberegning!J27 -> 0 | D8: 0 | E8: 0 | F8: 0 | G8: 0 | H8: 0 | I8: 0 | J8: 0 | K8: 0 | L8: 0 | M8: 0 | N8: 0 | O8: 0 | P8: 0 | Q8: 0 | R8: 0 | S8: 0 | T8: 0 | U8: 0 | V8: 0 | W8: 0 | X8: 0 | Y8: 0 | Z8: 0 | AA8: 0 | AB8: 0 | AC8: 0 | AD8: 0 | AE8: 0 | AF8: 0 | AG8: 0 | AH8: 0 | AI8: 0 | AJ8: 0 | AK8: 0 | AL8: 0 | AM8: 0 | AN8: 0 | AO8: 0 | AP8: 0 | AQ8: 0 | AR8: 0 | AS8: 0 | AT8: 0 | AU8: 0 | AV8: 0 | AW8: 0 | AX8: 0 | AY8: 0 | AZ8: 0 | BA8: 0 | BB8: 0 | BC8: 0 | BD8: 0 | BE8: 0 | BF8: 0 | BG8: 0 | BH8: 0 | BI8: 0 | BJ8: 0 | BK8: 0 | BL8: 0 | BM8: 0 | BN8: 0 | BO8: 0 | BP8: 0 | BQ8: 0 | BR8: 0 | BS8: 0 | BT8: 0 | BU8: 0 | BV8: 0 | BW8: 0 | BX8: 0 | BY8: 0 | BZ8: 0 | CA8: 0 | CB8: 0 | CC8: 0 | CD8: 0 | CE8: 0 | CF8: 0 | CG8: 0 | CH8: 0 | CI8: 0 | CJ8: 0 | CK8: 0 | CL8: 0 | CM8: 0 | CN8: 0 | CO8: 0 | CP8: 0 | CQ8: 0 | CR8: 0 | CS8: 0 | CT8: 0 | CU8: 0 | CV8: 0 | CW8: 0 | CX8: 0
B9: Sum | C9: =SUM(C5:C8) -> 619000 | D9: =SUM(D5:D8) -> 0 | E9: =SUM(E5:E8) -> 0 | F9: =SUM(F5:F8) -> 0 | G9: =SUM(G5:G8) -> 0 | H9: =SUM(H5:H8) -> 0 | I9: =SUM(I5:I8) -> 0 | J9: =SUM(J5:J8) -> 0 | ... CX9: =SUM(CX5:CX8) -> 0
A10: Driftsomkostninger | B10: =Nutidsværdiberegning!D34 -> Løbende drift og eftersyn | C10: =Nutidsværdiberegning!J34 -> 9000 | D10: =IF(D$3-$C$3<levetid_A, C10, 0) -> 9000 | E10: =IF(E$3-$C$3<levetid_A, D10, 0) -> 9000 | F10: =IF(F$3-$C$3<levetid_A, E10, 0) -> 9000 | G10: =IF(G$3-$C$3<levetid_A, F10, 0) -> 9000 | H10: =IF(H$3-$C$3<levetid_A, G10, 0) -> 9000 | I10: =IF(I$3-$C$3<levetid_A, H10, 0) -> 9000 | J10: =IF(J$3-$C$3<levetid_A, I10, 0) -> 9000 | K10: =IF(K$3-$C$3<levetid_A, J10, 0) -> 9000 | ... CX10: =IF(CX$3-$C$3<levetid_A, CW10, 0) -> 0
B11: =Nutidsværdiberegning!D35 -> Energi og forbrug | C11: =Nutidsværdiberegning!J35 -> 3000 | D11: =IF(D$3-$C$3<levetid_A, C11, 0) -> 3000 | E11: =IF(E$3-$C$3<levetid_A, D11, 0) -> 3000 | F11: =IF(F$3-$C$3<levetid_A, E11, 0) -> 3000 | G11: =IF(G$3-$C$3<levetid_A, F11, 0) -> 3000 | H11: =IF(H$3-$C$3<levetid_A, G11, 0) -> 3000 | I11: =IF(I$3-$C$3<levetid_A, H11, 0) -> 3000 | J11: =IF(J$3-$C$3<levetid_A, I11, 0) -> 3000 | K11: =IF(K$3-$C$3<levetid_A, J11, 0) -> 3000 | ... CX11: =IF(CX$3-$C$3<levetid_A, CW11, 0) -> 0
B12: =Nutidsværdiberegning!D37 -> Forsikring etc. | C12: =Nutidsværdiberegning!J37 -> 0 | D12: =IF(D$3-$C$3<levetid_A, C12, 0) -> 0 | E12: =IF(E$3-$C$3<levetid_A, D12, 0) -> 0 | F12: =IF(F$3-$C$3<levetid_A, E12, 0) -> 0 | G12: =IF(G$3-$C$3<levetid_A, F12, 0) -> 0 | H12: =IF(H$3-$C$3<levetid_A, G12, 0) -> 0 | I12: =IF(I$3-$C$3<levetid_A, H12, 0) -> 0 | J12: =IF(J$3-$C$3<levetid_A, I12, 0) -> 0 | K12: =IF(K$3-$C$3<levetid_A, J12, 0) -> 0 | ... CX12: =IF(CX$3-$C$3<levetid_A, CW12, 0) -> 0
B13: =Nutidsværdiberegning!D38 -> Admin-omkostninger etc. | C13: =Nutidsværdiberegning!J38 -> 1000 | D13: =IF(D$3-$C$3<levetid_A, C13, 0) -> 1000 | E13: =IF(E$3-$C$3<levetid_A, D13, 0) -> 1000 | F13: =IF(F$3-$C$3<levetid_A, E13, 0) -> 1000 | G13: =IF(G$3-$C$3<levetid_A, F13, 0) -> 1000 | H13: =IF(H$3-$C$3<levetid_A, G13, 0) -> 1000 | I13: =IF(I$3-$C$3<levetid_A, H13, 0) -> 1000 | J13: =IF(J$3-$C$3<levetid_A, I13, 0) -> 1000 | K13: =IF(K$3-$C$3<levetid_A, J13, 0) -> 1000 | ... CX13: =IF(CX$3-$C$3<levetid_A, CW13, 0) -> 0
B14: =Nutidsværdiberegning!C40 -> Andre løbende omkostninger, fx positive eller negative eksternaliteter | C14: =Nutidsværdiberegning!J40 -> 0 | D14: =IF(D$3-$C$3<levetid_A, C14, 0) -> 0 | E14: =IF(E$3-$C$3<levetid_A, D14, 0) -> 0 | F14: =IF(F$3-$C$3<levetid_A, E14, 0) -> 0 | G14: =IF(G$3-$C$3<levetid_A, F14, 0) -> 0 | H14: =IF(H$3-$C$3<levetid_A, G14, 0) -> 0 | I14: =IF(I$3-$C$3<levetid_A, H14, 0) -> 0 | J14: =IF(J$3-$C$3<levetid_A, I14, 0) -> 0 | K14: =IF(K$3-$C$3<levetid_A, J14, 0) -> 0 | ... CX14: =IF(CX$3-$C$3<levetid_A, CW14, 0) -> 0
B15: Sum | C15: =SUM(C10:C14) -> 13000 | D15: =SUM(D10:D14) -> 13000 | E15: =SUM(E10:E14) -> 13000 | F15: =SUM(F10:F14) -> 13000 | G15: =SUM(G10:G14) -> 13000 | H15: =SUM(H10:H14) -> 13000 | I15: =SUM(I10:I14) -> 13000 | J15: =SUM(J10:J14) -> 13000 | ... CX15: =SUM(CX10:CX14) -> 0
A16: Vedligeholdelse | B16: =Nutidsværdiberegning!C48 -> Vedligeholdelse, type I | C16: =IFERROR(IF(C$3-$C$3<levetid_A, IF(MOD(C$2,Interval_vedl_A_I)=0, Beløb_vedl_A_I * 1,0), 0), 0) -> 0 | D16: =IFERROR(IF(D$3-$C$3<levetid_A, IF(MOD(D$2,Interval_vedl_A_I)=0, Beløb_vedl_A_I * 1,0), 0), 0) -> 0 | E16: =IFERROR(IF(E$3-$C$3<levetid_A, IF(MOD(E$2,Interval_vedl_A_I)=0, Beløb_vedl_A_I * 1,0), 0), 0) -> 0 | F16: =IFERROR(IF(F$3-$C$3<levetid_A, IF(MOD(F$2,Interval_vedl_A_I)=0, Beløb_vedl_A_I * 1,0), 0), 0) -> 0 | G16: =IFERROR(IF(G$3-$C$3<levetid_A, IF(MOD(G$2,Interval_vedl_A_I)=0, Beløb_vedl_A_I * 1,0), 0), 0) -> 75000 | H16: =IFERROR(IF(H$3-$C$3<levetid_A, IF(MOD(H$2,Interval_vedl_A_I)=0, Beløb_vedl_A_I * 1,0), 0), 0) -> 0 | I16: =IFERROR(IF(I$3-$C$3<levetid_A, IF(MOD(I$2,Interval_vedl_A_I)=0, Beløb_vedl_A_I * 1,0), 0), 0) -> 0 | J16: =IFERROR(IF(J$3-$C$3<levetid_A, IF(MOD(J$2,Interval_vedl_A_I)=0, Beløb_vedl_A_I * 1,0), 0), 0) -> 0 | ... CX16: =IFERROR(IF(CX$3-$C$3<levetid_A, IF(MOD(CX$2,Interval_vedl_A_I)=0, Beløb_vedl_A_I * 1,0), 0), 0) -> 0
B17: =Nutidsværdiberegning!C49 -> Vedligeholdelse, type II | C17: =IFERROR(IF(C$3-$C$3<levetid_A, IF(MOD(C$2,Interval_vedl_A_II)=0, Beløb_vedl_A_II * 1,), 0), 0) -> 0 | D17: =IFERROR(IF(D$3-$C$3<levetid_A, IF(MOD(D$2,Interval_vedl_A_II)=0, Beløb_vedl_A_II * 1,), 0), 0) -> 0 | E17: =IFERROR(IF(E$3-$C$3<levetid_A, IF(MOD(E$2,Interval_vedl_A_II)=0, Beløb_vedl_A_II * 1,), 0), 0) -> 0 | F17: =IFERROR(IF(F$3-$C$3<levetid_A, IF(MOD(F$2,Interval_vedl_A_II)=0, Beløb_vedl_A_II * 1,), 0), 0) -> 0 | G17: =IFERROR(IF(G$3-$C$3<levetid_A, IF(MOD(G$2,Interval_vedl_A_II)=0, Beløb_vedl_A_II * 1,), 0), 0) -> 0 | H17: =IFERROR(IF(H$3-$C$3<levetid_A, IF(MOD(H$2,Interval_vedl_A_II)=0, Beløb_vedl_A_II * 1,), 0), 0) -> 0 | I17: =IFERROR(IF(I$3-$C$3<levetid_A, IF(MOD(I$2,Interval_vedl_A_II)=0, Beløb_vedl_A_II * 1,), 0), 0) -> 0 | J17: =IFERROR(IF(J$3-$C$3<levetid_A, IF(MOD(J$2,Interval_vedl_A_II)=0, Beløb_vedl_A_II * 1,), 0), 0) -> 20000 | ... CX17: =IFERROR(IF(CX$3-$C$3<levetid_A, IF(MOD(CX$2,Interval_vedl_A_II)=0, Beløb_vedl_A_II * 1,), 0), 0) -> 0
B18: =Nutidsværdiberegning!C50 -> Vedligeholdelse, type III | C18: =IFERROR(IF(C$3-$C$3<levetid_A, IF(MOD(C$2,Interval_vedl_A_III)=0, Beløb_vedl_A_III * 1,), 0), 0) -> 0 | D18: =IFERROR(IF(D$3-$C$3<levetid_A, IF(MOD(D$2,Interval_vedl_A_III)=0, Beløb_vedl_A_III * 1,), 0), 0) -> 0 | E18: =IFERROR(IF(E$3-$C$3<levetid_A, IF(MOD(E$2,Interval_vedl_A_III)=0, Beløb_vedl_A_III * 1,), 0), 0) -> 0 | F18: =IFERROR(IF(F$3-$C$3<levetid_A, IF(MOD(F$2,Interval_vedl_A_III)=0, Beløb_vedl_A_III * 1,), 0), 0) -> 0 | G18: =IFERROR(IF(G$3-$C$3<levetid_A, IF(MOD(G$2,Interval_vedl_A_III)=0, Beløb_vedl_A_III * 1,), 0), 0) -> 0 | H18: =IFERROR(IF(H$3-$C$3<levetid_A, IF(MOD(H$2,Interval_vedl_A_III)=0, Beløb_vedl_A_III * 1,), 0), 0) -> 0 | I18: =IFERROR(IF(I$3-$C$3<levetid_A, IF(MOD(I$2,Interval_vedl_A_III)=0, Beløb_vedl_A_III * 1,), 0), 0) -> 0 | J18: =IFERROR(IF(J$3-$C$3<levetid_A, IF(MOD(J$2,Interval_vedl_A_III)=0, Beløb_vedl_A_III * 1,), 0), 0) -> 0 | ... CX18: =IFERROR(IF(CX$3-$C$3<levetid_A, IF(MOD(CX$2,Interval_vedl_A_III)=0, Beløb_vedl_A_III * 1,), 0), 0) -> 0
B19: Sum | C19: =SUM(C16:C18) -> 0 | D19: =SUM(D16:D18) -> 0 | E19: =SUM(E16:E18) -> 0 | F19: =SUM(F16:F18) -> 0 | G19: =SUM(G16:G18) -> 75000 | H19: =SUM(H16:H18) -> 0 | I19: =SUM(I16:I18) -> 0 | J19: =SUM(J16:J18) -> 20000 | ... CX19: =SUM(CX16:CX18) -> 0
A20: Sum af årlige betalinger (faste priser) | B20: =navn_A -> Pumpe Bibi | C20: =C9+C15+C19 -> 632000 | D20: =D9+D15+D19 -> 13000 | E20: =E9+E15+E19 -> 13000 | F20: =F9+F15+F19 -> 13000 | G20: =G9+G15+G19 -> 88000 | H20: =H9+H15+H19 -> 13000 | I20: =I9+I15+I19 -> 13000 | J20: =J9+J15+J19 -> 33000 | ... CX20: =CX9+CX15+CX19 -> 0
A21: Nutidsværdien af årlige betalinger (faste priser) | B21: =navn_A -> Pumpe Bibi | C21: =C20 -> 632000 | D21: =D20/((1+Kalkulationsrente)^(D$2-1)) -> 12500 | E21: =E20/((1+Kalkulationsrente)^(E$2-1)) -> 12019.231 | F21: =F20/((1+Kalkulationsrente)^(F$2-1)) -> 11556.953 | G21: =G20/((1+Kalkulationsrente)^(G$2-1)) -> 75222.769 | H21: =H20/((1+Kalkulationsrente)^(H$2-1)) -> 10685.052 | I21: =I20/((1+Kalkulationsrente)^(I$2-1)) -> 10274.089 | J21: =J20/((1+Kalkulationsrente)^(J$2-1)) -> 25077.288 | K21: =K20/((1+Kalkulationsrente)^(K$2-1)) -> 9498.9727 | ... CX21: =CX20/((1+Kalkulationsrente)^(CX$2-1)) -> 0
A22: Akkumuleret nutidsværdi af årlig betaling (faste priser) | B22: =navn_A -> Pumpe Bibi | C22: =IF(C21=0,#N/A, SUM($C21:C21)) -> 632000 | D22: =IF(D21=0,#N/A, SUM($C21:D21)) -> 644500 | E22: =IF(E21=0,#N/A, SUM($C21:E21)) -> 656519.23 | F22: =IF(F21=0,#N/A, SUM($C21:F21)) -> 668076.18 | G22: =IF(G21=0,#N/A, SUM($C21:G21)) -> 743298.95 | H22: =IF(H21=0,#N/A, SUM($C21:H21)) -> 753984 | I22: =IF(I21=0,#N/A, SUM($C21:I21)) -> 764258.09 | J22: =IF(J21=0,#N/A, SUM($C21:J21)) -> 789335.38 | ... CX22: =IF(CX21=0,#N/A, SUM($C21:CX21)) -> #N/A
A23: Nutidsværdi | B23: Anlægsomkostninger | C23: =C9+NPV(Kalkulationsrente,D9:CX9) -> 618097.61
B24: Driftsomkostninger | C24: =C15+NPV(Kalkulationsrente,D15:CX15) -> 323336.1
B25: Vedligeholdelse | C25: =C19+NPV(Kalkulationsrente,D19:CX19) -> 398389.62
A26: Alternativ B | B26: =Nutidsværdiberegning!N12 -> Pumpe Boris
A27: Anlægsomkostninger | B27: =B5 -> Anskaffelsespris og scrap værdi | C27: =Nutidsværdiberegning!P24 -> 750000 | D27: =IF(D$2=levetid_B,scrap_B*(-1),0) -> 0 | E27: =IF(E$2=levetid_B,scrap_B*(-1),0) -> 0 | F27: =IF(F$2=levetid_B,scrap_B*(-1),0) -> 0 | G27: =IF(G$2=levetid_B,scrap_B*(-1),0) -> 0 | H27: =IF(H$2=levetid_B,scrap_B*(-1),0) -> 0 | I27: =IF(I$2=levetid_B,scrap_B*(-1),0) -> 0 | J27: =IF(J$2=levetid_B,scrap_B*(-1),0) -> 0 | K27: =IF(K$2=levetid_B,scrap_B*(-1),0) -> 0 | ... CX27: =IF(CX$2=levetid_B,scrap_B*(-1),0) -> 0
B28: =B6 -> Installering | C28: =Nutidsværdiberegning!P25 -> 22000 | D28: 0 | E28: 0 | F28: 0 | G28: 0 | H28: 0 | I28: 0 | J28: 0 | K28: 0 | L28: 0 | M28: 0 | N28: 0 | O28: 0 | P28: 0 | Q28: 0 | R28: 0 | S28: 0 | T28: 0 | U28: 0 | V28: 0 | W28: 0 | X28: 0 | Y28: 0 | Z28: 0 | AA28: 0 | AB28: 0 | AC28: 0 | AD28: 0 | AE28: 0 | AF28: 0 | AG28: 0 | AH28: 0 | AI28: 0 | AJ28: 0 | AK28: 0 | AL28: 0 | AM28: 0 | AN28: 0 | AO28: 0 | AP28: 0 | AQ28: 0 | AR28: 0 | AS28: 0 | AT28: 0 | AU28: 0 | AV28: 0 | AW28: 0 | AX28: 0 | AY28: 0 | AZ28: 0 | BA28: 0 | BB28: 0 | BC28: 0 | BD28: 0 | BE28: 0 | BF28: 0 | BG28: 0 | BH28: 0 | BI28: 0 | BJ28: 0 | BK28: 0 | BL28: 0 | BM28: 0 | BN28: 0 | BO28: 0 | BP28: 0 | BQ28: 0 | BR28: 0 | BS28: 0 | BT28: 0 | BU28: 0 | BV28: 0 | BW28: 0 | BX28: 0 | BY28: 0 | BZ28: 0 | CA28: 0 | CB28: 0 | CC28: 0 | CD28: 0 | CE28: 0 | CF28: 0 | CG28: 0 | CH28: 0 | CI28: 0 | CJ28: 0 | CK28: 0 | CL28: 0 | CM28: 0 | CN28: 0 | CO28: 0 | CP28: 0 | CQ28: 0 | CR28: 0 | CS28: 0 | CT28: 0 | CU28: 0 | CV28: 0 | CW28: 0 | CX28: 0
B29: =B7 -> Projektomkostninger | C29: =Nutidsværdiberegning!P26 -> 5500 | D29: 0 | E29: 0 | F29: 0 | G29: 0 | H29: 0 | I29: 0 | J29: 0 | K29: 0 | L29: 0 | M29: 0 | N29: 0 | O29: 0 | P29: 0 | Q29: 0 | R29: 0 | S29: 0 | T29: 0 | U29: 0 | V29: 0 | W29: 0 | X29: 0 | Y29: 0 | Z29: 0 | AA29: 0 | AB29: 0 | AC29: 0 | AD29: 0 | AE29: 0 | AF29: 0 | AG29: 0 | AH29: 0 | AI29: 0 | AJ29: 0 | AK29: 0 | AL29: 0 | AM29: 0 | AN29: 0 | AO29: 0 | AP29: 0 | AQ29: 0 | AR29: 0 | AS29: 0 | AT29: 0 | AU29: 0 | AV29: 0 | AW29: 0 | AX29: 0 | AY29: 0 | AZ29: 0 | BA29: 0 | BB29: 0 | BC29: 0 | BD29: 0 | BE29: 0 | BF29: 0 | BG29: 0 | BH29: 0 | BI29: 0 | BJ29: 0 | BK29: 0 | BL29: 0 | BM29: 0 | BN29: 0 | BO29: 0 | BP29: 0 | BQ29: 0 | BR29: 0 | BS29: 0 | BT29: 0 | BU29: 0 | BV29: 0 | BW29: 0 | BX29: 0 | BY29: 0 | BZ29: 0 | CA29: 0 | CB29: 0 | CC29: 0 | CD29: 0 | CE29: 0 | CF29: 0 | CG29: 0 | CH29: 0 | CI29: 0 | CJ29: 0 | CK29: 0 | CL29: 0 | CM29: 0 | CN29: 0 | CO29: 0 | CP29: 0 | CQ29: 0 | CR29: 0 | CS29: 0 | CT29: 0 | CU29: 0 | CV29: 0 | CW29: 0 | CX29: 0
B30: =B8 -> Andet, fx positive eller negativer eksternaliteter | C30: =Nutidsværdiberegning!P27 -> 1000 | D30: 0 | E30: 0 | F30: 0 | G30: 0 | H30: 0 | I30: 0 | J30: 0 | K30: 0 | L30: 0 | M30: 0 | N30: 0 | O30: 0 | P30: 0 | Q30: 0 | R30: 0 | S30: 0 | T30: 0 | U30: 0 | V30: 0 | W30: 0 | X30: 0 | Y30: 0 | Z30: 0 | AA30: 0 | AB30: 0 | AC30: 0 | AD30: 0 | AE30: 0 | AF30: 0 | AG30: 0 | AH30: 0 | AI30: 0 | AJ30: 0 | AK30: 0 | AL30: 0 | AM30: 0 | AN30: 0 | AO30: 0 | AP30: 0 | AQ30: 0 | AR30: 0 | AS30: 0 | AT30: 0 | AU30: 0 | AV30: 0 | AW30: 0 | AX30: 0 | AY30: 0 | AZ30: 0 | BA30: 0 | BB30: 0 | BC30: 0 | BD30: 0 | BE30: 0 | BF30: 0 | BG30: 0 | BH30: 0 | BI30: 0 | BJ30: 0 | BK30: 0 | BL30: 0 | BM30: 0 | BN30: 0 | BO30: 0 | BP30: 0 | BQ30: 0 | BR30: 0 | BS30: 0 | BT30: 0 | BU30: 0 | BV30: 0 | BW30: 0 | BX30: 0 | BY30: 0 | BZ30: 0 | CA30: 0 | CB30: 0 | CC30: 0 | CD30: 0 | CE30: 0 | CF30: 0 | CG30: 0 | CH30: 0 | CI30: 0 | CJ30: 0 | CK30: 0 | CL30: 0 | CM30: 0 | CN30: 0 | CO30: 0 | CP30: 0 | CQ30: 0 | CR30: 0 | CS30: 0 | CT30: 0 | CU30: 0 | CV30: 0 | CW30: 0 | CX30: 0
B31: Sum | C31: =SUM(C27:C30) -> 778500 | D31: =SUM(D27:D30) -> 0 | E31: =SUM(E27:E30) -> 0 | F31: =SUM(F27:F30) -> 0 | G31: =SUM(G27:G30) -> 0 | H31: =SUM(H27:H30) -> 0 | I31: =SUM(I27:I30) -> 0 | J31: =SUM(J27:J30) -> 0 | ... CX31: =SUM(CX27:CX30) -> 0
A32: Driftsomkostninger | B32: =B10 -> Løbende drift og eftersyn | C32: =Nutidsværdiberegning!P34 -> 7000 | D32: =IF(D$3-$C$3<levetid_B, C32, 0) -> 7000 | E32: =IF(E$3-$C$3<levetid_B, D32, 0) -> 7000 | F32: =IF(F$3-$C$3<levetid_B, E32, 0) -> 7000 | G32: =IF(G$3-$C$3<levetid_B, F32, 0) -> 7000 | H32: =IF(H$3-$C$3<levetid_B, G32, 0) -> 7000 | I32: =IF(I$3-$C$3<levetid_B, H32, 0) -> 7000 | J32: =IF(J$3-$C$3<levetid_B, I32, 0) -> 7000 | K32: =IF(K$3-$C$3<levetid_B, J32, 0) -> 7000 | ... CX32: =IF(CX$3-$C$3<levetid_B, CW32, 0) -> 0
B33: =B11 -> Energi og forbrug | C33: =Nutidsværdiberegning!P35 -> 3000 | D33: =IF(D$3-$C$3<levetid_B, C33, 0) -> 3000 | E33: =IF(E$3-$C$3<levetid_B, D33, 0) -> 3000 | F33: =IF(F$3-$C$3<levetid_B, E33, 0) -> 3000 | G33: =IF(G$3-$C$3<levetid_B, F33, 0) -> 3000 | H33: =IF(H$3-$C$3<levetid_B, G33, 0) -> 3000 | I33: =IF(I$3-$C$3<levetid_B, H33, 0) -> 3000 | J33: =IF(J$3-$C$3<levetid_B, I33, 0) -> 3000 | K33: =IF(K$3-$C$3<levetid_B, J33, 0) -> 3000 | ... CX33: =IF(CX$3-$C$3<levetid_B, CW33, 0) -> 0
B34: =B12 -> Forsikring etc. | C34: =Nutidsværdiberegning!P37 -> 0 | D34: =IF(D$3-$C$3<levetid_B, C34, 0) -> 0 | E34: =IF(E$3-$C$3<levetid_B, D34, 0) -> 0 | F34: =IF(F$3-$C$3<levetid_B, E34, 0) -> 0 | G34: =IF(G$3-$C$3<levetid_B, F34, 0) -> 0 | H34: =IF(H$3-$C$3<levetid_B, G34, 0) -> 0 | I34: =IF(I$3-$C$3<levetid_B, H34, 0) -> 0 | J34: =IF(J$3-$C$3<levetid_B, I34, 0) -> 0 | K34: =IF(K$3-$C$3<levetid_B, J34, 0) -> 0 | ... CX34: =IF(CX$3-$C$3<levetid_B, CW34, 0) -> 0
B35: =B13 -> Admin-omkostninger etc. | C35: =Nutidsværdiberegning!P38 -> 1000 | D35: =IF(D$3-$C$3<levetid_B, C35, 0) -> 1000 | E35: =IF(E$3-$C$3<levetid_B, D35, 0) -> 1000 | F35: =IF(F$3-$C$3<levetid_B, E35, 0) -> 1000 | G35: =IF(G$3-$C$3<levetid_B, F35, 0) -> 1000 | H35: =IF(H$3-$C$3<levetid_B, G35, 0) -> 1000 | I35: =IF(I$3-$C$3<levetid_B, H35, 0) -> 1000 | J35: =IF(J$3-$C$3<levetid_B, I35, 0) -> 1000 | K35: =IF(K$3-$C$3<levetid_B, J35, 0) -> 1000 | ... CX35: =IF(CX$3-$C$3<levetid_B, CW35, 0) -> 0
B36: =B14 -> Andre løbende omkostninger, fx positive eller negative eksternaliteter | C36: =Nutidsværdiberegning!P40 -> 1000 | D36: =IF(D$3-$C$3<levetid_B, C36, 0) -> 1000 | E36: =IF(E$3-$C$3<levetid_B, D36, 0) -> 1000 | F36: =IF(F$3-$C$3<levetid_B, E36, 0) -> 1000 | G36: =IF(G$3-$C$3<levetid_B, F36, 0) -> 1000 | H36: =IF(H$3-$C$3<levetid_B, G36, 0) -> 1000 | I36: =IF(I$3-$C$3<levetid_B, H36, 0) -> 1000 | J36: =IF(J$3-$C$3<levetid_B, I36, 0) -> 1000 | K36: =IF(K$3-$C$3<levetid_B, J36, 0) -> 1000 | ... CX36: =IF(CX$3-$C$3<levetid_B, CW36, 0) -> 0
B37: Sum | C37: =SUM(C32:C36) -> 12000 | D37: =SUM(D32:D36) -> 12000 | E37: =SUM(E32:E36) -> 12000 | F37: =SUM(F32:F36) -> 12000 | G37: =SUM(G32:G36) -> 12000 | H37: =SUM(H32:H36) -> 12000 | I37: =SUM(I32:I36) -> 12000 | J37: =SUM(J32:J36) -> 12000 | ... CX37: =SUM(CX32:CX36) -> 0
A38: Vedligeholdelse | B38: =B16 -> Vedligeholdelse, type I | C38: =IFERROR(IF(C$3-$C$3<levetid_B, IF(MOD(C$2,Interval_vedl_B_I)=0, Beløb_vedl_B_I * 1,0), 0), 0) -> 0 | D38: =IFERROR(IF(D$3-$C$3<levetid_B, IF(MOD(D$2,Interval_vedl_B_I)=0, Beløb_vedl_B_I * 1,0), 0), 0) -> 0 | E38: =IFERROR(IF(E$3-$C$3<levetid_B, IF(MOD(E$2,Interval_vedl_B_I)=0, Beløb_vedl_B_I * 1,0), 0), 0) -> 0 | F38: =IFERROR(IF(F$3-$C$3<levetid_B, IF(MOD(F$2,Interval_vedl_B_I)=0, Beløb_vedl_B_I * 1,0), 0), 0) -> 0 | G38: =IFERROR(IF(G$3-$C$3<levetid_B, IF(MOD(G$2,Interval_vedl_B_I)=0, Beløb_vedl_B_I * 1,0), 0), 0) -> 12000 | H38: =IFERROR(IF(H$3-$C$3<levetid_B, IF(MOD(H$2,Interval_vedl_B_I)=0, Beløb_vedl_B_I * 1,0), 0), 0) -> 0 | I38: =IFERROR(IF(I$3-$C$3<levetid_B, IF(MOD(I$2,Interval_vedl_B_I)=0, Beløb_vedl_B_I * 1,0), 0), 0) -> 0 | J38: =IFERROR(IF(J$3-$C$3<levetid_B, IF(MOD(J$2,Interval_vedl_B_I)=0, Beløb_vedl_B_I * 1,0), 0), 0) -> 0 | ... CX38: =IFERROR(IF(CX$3-$C$3<levetid_B, IF(MOD(CX$2,Interval_vedl_B_I)=0, Beløb_vedl_B_I * 1,0), 0), 0) -> 0
B39: =B17 -> Vedligeholdelse, type II | C39: =IFERROR(IF(C$3-$C$3<levetid_B, IF(MOD(C$2,Interval_vedl_B_II)=0, Beløb_vedl_B_II *1,0), 0), 0) -> 0 | D39: =IFERROR(IF(D$3-$C$3<levetid_B, IF(MOD(D$2,Interval_vedl_B_II)=0, Beløb_vedl_B_II *1,0), 0), 0) -> 0 | E39: =IFERROR(IF(E$3-$C$3<levetid_B, IF(MOD(E$2,Interval_vedl_B_II)=0, Beløb_vedl_B_II *1,0), 0), 0) -> 0 | F39: =IFERROR(IF(F$3-$C$3<levetid_B, IF(MOD(F$2,Interval_vedl_B_II)=0, Beløb_vedl_B_II *1,0), 0), 0) -> 0 | G39: =IFERROR(IF(G$3-$C$3<levetid_B, IF(MOD(G$2,Interval_vedl_B_II)=0, Beløb_vedl_B_II *1,0), 0), 0) -> 0 | H39: =IFERROR(IF(H$3-$C$3<levetid_B, IF(MOD(H$2,Interval_vedl_B_II)=0, Beløb_vedl_B_II *1,0), 0), 0) -> 0 | I39: =IFERROR(IF(I$3-$C$3<levetid_B, IF(MOD(I$2,Interval_vedl_B_II)=0, Beløb_vedl_B_II *1,0), 0), 0) -> 0 | J39: =IFERROR(IF(J$3-$C$3<levetid_B, IF(MOD(J$2,Interval_vedl_B_II)=0, Beløb_vedl_B_II *1,0), 0), 0) -> 0 | ... CX39: =IFERROR(IF(CX$3-$C$3<levetid_B, IF(MOD(CX$2,Interval_vedl_B_II)=0, Beløb_vedl_B_II *1,0), 0), 0) -> 0
B40: =B18 -> Vedligeholdelse, type III | C40: =IFERROR(IF(C$3-$C$3<levetid_B, IF(MOD(C$2,Interval_vedl_B_III)=0, Beløb_vedl_B_III * 1,0), 0), 0) -> 0 | D40: =IFERROR(IF(D$3-$C$3<levetid_B, IF(MOD(D$2,Interval_vedl_B_III)=0, Beløb_vedl_B_III * 1,0), 0), 0) -> 0 | E40: =IFERROR(IF(E$3-$C$3<levetid_B, IF(MOD(E$2,Interval_vedl_B_III)=0, Beløb_vedl_B_III * 1,0), 0), 0) -> 0 | F40: =IFERROR(IF(F$3-$C$3<levetid_B, IF(MOD(F$2,Interval_vedl_B_III)=0, Beløb_vedl_B_III * 1,0), 0), 0) -> 0 | G40: =IFERROR(IF(G$3-$C$3<levetid_B, IF(MOD(G$2,Interval_vedl_B_III)=0, Beløb_vedl_B_III * 1,0), 0), 0) -> 0 | H40: =IFERROR(IF(H$3-$C$3<levetid_B, IF(MOD(H$2,Interval_vedl_B_III)=0, Beløb_vedl_B_III * 1,0), 0), 0) -> 0 | I40: =IFERROR(IF(I$3-$C$3<levetid_B, IF(MOD(I$2,Interval_vedl_B_III)=0, Beløb_vedl_B_III * 1,0), 0), 0) -> 0 | J40: =IFERROR(IF(J$3-$C$3<levetid_B, IF(MOD(J$2,Interval_vedl_B_III)=0, Beløb_vedl_B_III * 1,0), 0), 0) -> 0 | ... CX40: =IFERROR(IF(CX$3-$C$3<levetid_B, IF(MOD(CX$2,Interval_vedl_B_III)=0, Beløb_vedl_B_III * 1,0), 0), 0) -> 0
B41: Sum | C41: =SUM(C38:C40) -> 0 | D41: =SUM(D38:D40) -> 0 | E41: =SUM(E38:E40) -> 0 | F41: =SUM(F38:F40) -> 0 | G41: =SUM(G38:G40) -> 12000 | H41: =SUM(H38:H40) -> 0 | I41: =SUM(I38:I40) -> 0 | J41: =SUM(J38:J40) -> 0 | ... CX41: =SUM(CX38:CX40) -> 0
...

Sheet Disclaimer
A2: Hjælpeværktøj til at beregne totaløkonomien i investeringsprojekter
A4: Dette regneark er et hjælpeværktøj til vandselskaber, som ønsker at beregne totaløkonomien i deres investeringsprojekter.
A6: Hvordan skal hjælpeværktøjet benyttes: Der henvises til guide i bilag A i Vejledning i brug af totaløkonomi for danske vandværker.
A7: DISCLAIMER: Hjælpeværktøjet er blevet udviklet omhyggeligt og grundigt. Dog kan fejl i regnearket ikke udelukkes.
A8: Energistyrelsen og Copenhagen Economics kan ikke gøres erstatningsansvarlig, hvis anvendelsen af regnearket mod forventning skulle føre til forkerte resultater.
A9: Energistyrelsen og Copenhagen Economics kan derfor ikke pålægges ansvar for skader eller tab, der direkte eller indirekte er en følge af anvendelse af regnearket.
