{"text_format":"1","workbook":"xlsx","n_sheets":25,"sheets":["Forside","Brugervejledning","Definition af led","Beregningsforudsætninger","CO2 konvertering","CO2 eksempel","Kalender2015","Kalender2016","Vejl Årsindberetning","Input","Leverandører","Procentandel - mellemregning","Dagsbasis-mellemregning","Biomasser","Summering","Faktor ark","Resultatark","Energinetdk rapport","Unik liste","Datoark","ja-nej","Default biomasser","Biograce 1","LogDetails","Logbog"],"not_rendered":{"charts":0,"images":79,"macros":1,"external_links":5,"defined_names":120,"comments":3,"pivot_tables":0},"unopened":[],"bounds":{"document_bytes":16777216,"sheet_cells":100000,"rows_first":2000,"rows_last":500,"rows_between":2000,"halvings":0,"cell_chars":16384,"cell_head_chars":4096},"cells_cut":0,"cells_raw":0,"read":"row_number_cap","date_system":"1900"}

{"sheet":"Forside","index":0,"n_rows":25,"n_cols":7,"rows_kept":25,"cut":false,"hidden":false,"merged":[[24,5,26,11]]}
[]
[]
[]
[]
[]
[]
[null,"Anlæggets navn:"]
[null,"Vej og husnummer:"]
[null,"Postnummer og by:"]
[null,"CVR/CPR-nummer:"]
[null,"Anlæggets opholdstid:",1,"dage"]
[null,"Metanudslip:",0.05]
[null,"Fossil reference:"]
[]
[]
[]
[]
[]
[]
[]
[]
[]
[]
[null,null,null,null,null,null,"             Udviklet af"]
[null,null,null,null,null,"*Dette værktøj er udviklet for Energistyrelsens biogas taskforce. Brug af værktøjet og dets resultater sker på brugerens eget ansvar. v. 1.11"]

{"sheet":"Brugervejledning","index":1,"n_rows":55,"n_cols":2,"rows_kept":55,"cut":false,"hidden":false,"merged":[[27,0,27,1],[50,0,50,1],[0,0,0,1],[3,0,3,1]]}
["Denne brugervejledning beskriver kort de forskellige funktioner i værktøjet. For at tilgå beregningsforudsætninger og eksempel på CO2e-udregning, se startsiden."]
[]
["Startside"]
["Her indsættes basisoplysninger vedrørende biogasanlægget, som skal indgå i indberetningen til Energinet.dk. Derudover kan man ved hjælp af knapperne tilgå de forskellige funktioner i værktøjet."]
[]
["                                                                              ","Ved flueben gives der mulighed for at indtaste oplysninger, der er nødvendige for at kunne  bæredygtighedscertificere biogassen. Dette giver i sidste ende mulighed for at beregne en massebalance og biogassens drivhusgasfortrængning sammenlignet med fossil energi. Ingen flueben begrænser indtastningsarket til kun at omfatte de oplysninger der er obligatoriske til indberetningen til Energinet.dk."]
[null,"For at kunne beregne en massebalance og CO2e fortrængningen skal der vælges en fossil reference. Ved transportformål er referencen sat til 83.8 gCO2e/MJ udfra EU direktivet om vedvarende energi (2009/28/EF). Hvis biogassen skal bruges til andre formål kan man vælge naturgas som reference scenarie som er sat til 56.79 gCO2e/MJ."]
[null,"Metantabet fra biogasanlægget skal indsættes i % af den samlede gasproduktion. Dette kræver, at der er foretaget en måling af udledningen f.eks. som led i det frivillige måleprogram, som Brancheforeningen for Biogas står for. Standardværdien er sat til 5 % ud fra IPCC's retningslinjer som kan ses her:\nhttp://www.ipcc-nggip.iges.or.jp/public/2006gl/pdf/5_Volume5/V5_4_Ch4_Bio_Treat.pdf"]
[]
[null,"Anlæggets opholdstid bruges til at beregne den teoretiske gasproduktion og derved massebalancen, som er nødvendig ift. certificering. Opholdstiden skal være imellem 1 og 40 dage - typisk 30 dage."]
[]
[null,"Her vælger man en dato og tilgår derefter indberetningsarket, hvor man kan indtaste de biomasser, der er tilført anlægget den pågældende dag. Fra data-arket er der også mulighed for at indtaste årlige eller månedlige data. Dette er især relevant for brugere som kun vil benytte værktøjet til at danne en rapport til Energinet.dk. Ved generering af Energinet.dk rapport skal man være opmærksom på, at der ikke må være indtastet data for andre dage i perioden. Derudover kan det også bruges til at få et hurtigt overblik over modellens beregnede teoretiske gasproduktion og sammenholde den med anlæggets faktiske gasproduktion. Man kan også indtaste sine CO2e data. Det vil dog ikke være tilstrækkeligt til certificeringsformål, hvor der ofte vil være krav om at alle processer i produktionen er dokumenterede."]
[]
[null,"Her kan man se en årsoversigt fordelt på måned over mængderne af den indberettede biomasse samt gasproduktionen."]
[]
[null,"Her tilgår man listen over leverandører af biomasse. Der er mulighed for at tilføje ny leverandører eller redigere i eksisterende. Leverandørlisten tilgås i indberetningsarket ved indberetning af biomasser og er kun synlig ved certificering."]
[]
[null,"Her kan man tilføje en ny biomasse til biomasselisten eller redigere i eksisterende. Trykker man på knappen ”Rediger eksisterende” kan man se for hvilke biomasser værktøjet har oplysninger om gaspotentiale, VS-andel og defaultværdi for CO2-udledningen pr. ton biomasse. Defaultværdien udtrykker den udledning der har været ved fremskaffelse af biomassen. Den er nul som standard, men kan ændres i biomassearket, som tilgås fra startsiden. Defaultværdien kan bruges i stedet for at indtaste noget i kolonnen ”Biomassproducent/first Gathering Point”, hvis man ikke har faktiske værdier for den CO2-udledning, der er forbundet med fremskaffelsen af biomassen. Har man faktiske værdier kan man indtaste dem i Kolonnen ”Biomasseproducent/First Gathering Point” og de indtastede værdier vil så overskrive defaultværdien. Der er i øvrigt mulighed for maksimalt at tilføje 10 nye biomasser i biomassearket."]
[]
[null,"Her skal man beregne anlæggets egen CO2e udledning, som skal bruges til at udregne CO2e fortrængningen til certificeringsformål. Det beregnes på baggrund af data for el- og varme forbrug, som indtastes her samt metantab, som indtastes på forsiden, samt andre kilder. Se evt. eksempel på beregning af et anlægs udledning af CO2e under fanen 'CO2 eksempel'."]
[]
[null,"Her dannes rapporten til indberetning til Energinet.dk. Der dannes et PDF dokument som kan gemmes på computeren."]
[]
[null,"Her beregnes massebalance og CO2e fortrængning. Man kan selv vælge hvilket tidsinterval man ønsker. Visse certificeringsordninger, f.eks. REDCert, kræver, at massebalancen kan verificeres i tidsinterval på tre måneder. Selve beregningen kan tage et stykke tid alt efter hastigheden på ens computer, men forvent imellem 5 og 10 minutter."]
[]
[]
["Indberetningsark"]
["Her indberettes det daglige input til biogasanlægget. Arket ser forskelligt ud alt efter om der indberettes til certificering eller ej. Der er i alt plads til 100 daglige inputs. Ét input skal have samme leverandør og samme biomassetype. Derudover indberettes den daglige gasproduktion."]
[]
["Mængde biomasse (Ton)","Summerer den samlede mængde biomasse for den pågældende dato."]
[]
["Gasproduktion","Her skal indsættes den totale gasproduktion på den pågældende dag i m3 METAN (CH4)."]
[]
["Leverandør","Her vælges leverandør for den pågældende biomasse. Hvis leverandøren ikke forekommer på listen, kan han tilføjes ved tryk på knappen \"Tilføj ny leverandør\" ovenover."]
[]
["Certificeret","Her vælges om den pågældende biomasse er certificeret eller ej."]
[]
["Råvarer input","Her vælges biomassetypen. Hvis biomassetypen ikke er på listen kan den tilføjes fra startsiden ved tryk på knappen \"Indsæt ny biomassetype\". Der kan maksimalt tilføjes 10 nye biomasser."]
[]
["Mængder \n(Ton vådvægt)","Her angives vådvægten af den pågældende biomasse i ton."]
[]
["Tørstof\n%","Her angives tørstofprocenten for den pågældende biomasse."]
[]
["Omsættelig tørstof\n%","Den omsættelige tørstof procent hentes automatisk fra biomasse arket og kan ikke redigeres i Indberetningsarket. Hvis man vil ændre i den omsættelige tørstofprocent for en specifik biomassetype, så tilgås det fra startsiden ved tryk på knappen \"Indsæt ny biomassetype\" og derefter \"Redigér eksisterende\"."]
[]
["Gaspotentiale\nm³ CH4/tons ","Gaspotentialet hentes automatisk fra biomasse arket og kan ikke redigeres i Indberetningsarket. Hvis man vil ændre i gaspotentialet for en specifik biomassetype, så tilgås det fra startsiden ved tryk på knappen \"Indsæt ny biomassetype\" og derefter \"Redigér eksisterende\". Vær opmærksom på at gaspotentialet er angivet i m3 Metan (CH4)."]
[]
[null,"Default værdien udtrykker den udledning, der er forbundet med fremskaffelse af biomassen. Default-værdien hentes automatisk fra fanen ’Biomasser’ ud fra hvilken biomasse man har valgt som råvare input. Den er nul som standard, men kan ændres i biomassearket, som tilgås via ”Ny/rediger biomassetype” fra startsiden og derefter \"Redigér eksisterende”. I yderste kolonne til højre kan indsættes en default-værdi for CO2e udledningen angivet i gCO2e/ton biomasse. Defaultværdien kan bruges i stedet for at indtaste noget i kolonnen ”Biomassproducent/first Gathering Point”, hvis man ikke har faktiske værdier for den CO2-udledning, der er forbundet med fremskaffelsen af biomassen. Har man faktiske værdier kan man indtaste dem i Kolonnen ”Biomasseproducent/First Gathering Point” og de indtastede værdier vil så overskrive defaultværdien."]
[]
[]
["Hvert led repræsenterer et led i biomassens produktionskæde. Her skal indtastes CO2e udledningen i gCO2e/ton biomasse, som det pågældende led har givet anledning til. I kolonnen ”Biomasseproducent/FGP” skal man indtaste CO2-udledningen fra produktion og transport af biomassen inden den afleveres på biogasanlægget . Dette skal gøres for hver eneste række med en certificeret biomasse."]
[]
[null,"Her kan man kopiere tidligere dages input til den pågældende dag. Man kan selv vælge hvilke kolonner der skal kopieres. Bemærk at eventuelt indtastede data for den pågældende dag bliver slettet."]
[]
[null,"Her tilgår man listen over leverandører af biomasse. Der er mulighed for at tilføje ny leverandører eller redigere i eksisterende. Ved tilføjelse af en ny leverandør, tilføjes denne drop down listen."]

{"sheet":"Definition af led","index":2,"n_rows":31,"n_cols":1,"rows_kept":31,"cut":false,"hidden":false,"merged":[]}
[]
["Værktøjet tager udgangspunkt i Energistyrelsens rapport 'Bæredygtighedscertificering af biogas til transport i Danmark', som kan hentes her. \n(https://ens.dk/ansvarsomraader/bioenergi/biogas-taskforce) \nDet anbefales at gennemgå rapporten for at få et indblik i certificeringsprocessen. Der er en lang række yderligere krav til certificering udover CO2e udledningen som gennemgås i denne rapport. Certificeringsprocessen opdeler produktionskæden i flere led som hver især har specifikke krav til dokumentation og skal have beregnet dets bidrag til den samlede CO2e udledning. De forgående led er forpligtet til at videresende opgørelser over drivhusgasudledninger fra deres aktiviteter."]
[]
["Overblik over produktionskæden:"]
[]
[]
[]
[]
[]
[]
[]
[]
[]
[]
[]
[]
[]
[]
[]
["Biomasseproducent / First Gathering Point"]
["Biomasseproducenten er den som dyrker biomassen eller har den som et biprodukt i deres produktion. Der skal skelnes imellem to forskellige typer af biomasseproducenter, producenter af energiafgrøder (1st generation) og producenter af affalds- og restprodukter (2nd generation). Der er forskellige krav til hver type producent i forhold til hvad de skal dokumentere. Affalds- og restprodukters udledning er som defaultværdi sat til 0 inden de transporteres til biogasanlægget. \nFirst Gathering Point (FGP) er det led i produktionskæden, som står for opkøb af den rå biomasse fra biomasseproducenten, evt. forarbejdning og videresalg til biogasanlægget. Det kan fx være et firma, der afhenter madaffald o. lign. fra restauranter mm., forarbejder det og sælger det videre til et biogasanlæg. Eller den landmand der leverer gylle. Oplagringsfaciliteter, der er mellemled imellem biomasseproducenten og FGP indgår i samme led som FGP.\n\nDa Biomasseproducent ofte er First Gathering Point er det valgt at sammensætte disse to i værktøjet."]
[]
["Konvertering (biogasanlæg)"]
["Biogasanlægget er det led i produktionskæden, hvor biomassen bliver konverteret til biogas. Hvis biogasanlægget er det sidste led i produktionskæden, så har det ansvaret for at beregne den samlede drivhusgasfortrængning fra alle led og sikre, at det overstiger minimumsniveauet som er krævet i VE-direktivet. Hvis de foregående led er certificeret, er de forpligtet til at videresende opgørelser over drivhusgasudledninger fra deres aktiviteter til biogasanlægget."]
[]
[]
["Distribution"]
["Hvis biogassen ikke fødes ind i naturgasnettet efter produktionen på biogasanlægget og i stedet transporteres, fx ved lastbil, så skal distributøren af gassen certificeres. Dette indbefatter ikke tankstationen som fysisk enhed, men selve firmaet der står for distributionen, altså den økonomiske enhed. Derimod hvis biogassen fødes ind i naturgasnettet og derved blandes med fossil gas, så er opgraderingsanlægget det sidste led der skal certificeres. Det betyder, at naturgasnettet ikke skal certificeres, da det opfattes som transport."]
[]
["Transport"]
["Udslip fra naturgasnettet forekommer principielt ikke, men der kan forekomme lækager og såkaldte blow-outs, hvor man tømmer en strækning for naturgas og leder det ud i det fri. Derudover sker der også et tab ved tankning.\nTransport mellem de forskellige led i produktionskæden, som f.x lastbiltransport af biomasse, skal ikke certificeres, men deres drivhusgasudledning skal medregnes i det samlede regnskab. Den værdi, der skal indtastes er CO2e-udledningen pr ton biomasse, som transporten har givet anledning til. Denne skal beregnes  ud fra den kørte distance (inklusiv evt. tom returtransport), typen af transportmiddel samt mængden af transporteret biomasse. Som emissionsfaktorer fra brændstof og køretøjers brændstofforbrug kan man bruge standardværdier fra anerkendt litteratur. Det er altid det modtagende produktionsled, der skal inkludere udledningen fra transport. Se et eksempel på beregningen i ”CO2e eksempel”."]

{"sheet":"Beregningsforudsætninger","index":3,"n_rows":35,"n_cols":1,"rows_kept":35,"cut":false,"hidden":false,"merged":[[34,0,34,1],[30,0,30,1],[2,0,2,1],[4,0,4,1],[6,0,6,1],[8,0,8,1],[12,0,12,1],[14,0,14,1],[20,0,20,1],[21,0,21,1],[23,0,23,1],[24,0,24,1],[26,0,26,1],[18,0,18,1]]}
["Energinet.dk rapport"]
[]
["Perioden for indberetning til Energinet.dk løber fra d. 1. august til d. 31. juli. Det er op til brugeren selv at sikre, at alle datoer er udfyldt. Man kan få et overblik i årsoversigten som tilgås fra startsiden."]
[]
["Værktøjet beregner automatisk den gennemsnitlige tørstofprocent for alle indberettede biomassetyper. Der ses bort fra de tilfælde hvor der ikke er angivet en tørstofprocent på indtastningssiden, dvs. de påvirker ikke den gennemsnitlige tørstofprocent. Mængden tælles selvfølgelig stadig med."]
[]
["Rapporten fremstår som den officielle Energinet.dk rapport med samme biomassetyper og kategoriseringer. Indberettede biomassetyper som ikke fremgår i den officielle Energinet.dk rapportbliver tilføjet nederst under kategorien 'Andre biomasser'. Det betyder at hvis man fx indberetter en energiafgrøde som ikke er på den officielle liste, så vil den fremgå under 'Andre biomasser' og ikke under kategorien 'Energiafgrøder'."]
[]
["Det er brugerens eget ansvar at sikre at energiafgrøder efter gældende definition ikke overstiger den maksimale andel (25 %)."]
[]
["Massebalance"]
[]
["Beregning af CO2e-fortrængning opdeler gasproduktionen i certificeret gas, ikke-certificeret  gas og gas der kan dobbelttælles ift. iblandingskravet for biobrændstoffer til transport. Den andel, der dobbelttælles, skal være certificeret. Opdelingen af gasproduktionen sker i forhold til den beregnede mængde gas, altså den teoretiske gasproduktion, som må forventes at ligge lidt over den faktiske produktion.\nVærktøjet er opbygget efter VE-direktivets retningslinjer for beregning af drivhusgas-fortrængningen. Direktivet kræver, at der tilknyttes bæredygtighedsoplysninger til de enkelte partier gasproduktion efter den såkaldte massebalancemetode.  Det tillades heri, at biogasmængder med forskellige bæredygtighedskriterier blandes fysisk, hvis oplysninger om partiernes størrelse og bæredygtighedskarakteristika forbliver knyttet til blandingen. Summen af alle partier, der trækkes ud af blandingen, skal have de samme bæredygtighedskarakteristika i de samme mængder, som summen af de partier, der tilføres blandingen. \nEt biogasanlæg tilføres typisk forskellige biomasser, der hver især giver anledning til produktion af en biogasmængde med hver sin tilknyttede CO2 fortrængning. Nogle biomasser kan komme fra certificerede leverandører, mens andre ikke gør. Værktøjet beregner  CO2-fortrængningen fra den certificerede delmængde af biogassen på grundlag af oplysningerne om de tilførte biomassers gaspotentiale og CO2-udledning."]
[]
["Beregningen af de forskellige andele bygger på en lineær afgasningsmodel ud fra en teoretisk gasproduktion. Gasproduktionen er beregnet ud fra gaspotentialet (gaspot), tørstofprocenten (TS), den omsættelige tørstofprocent (VS) samt mængden i ton af den pågældende biomassetype:"]
[]
[]
[]
["Derudover antager modellen at hele gaspotentialet bliver afgasset i anlægget. Derfor må det formodes, at den teoretiske gasproduktion vil ligge lidt over den faktiske produktion, hvis biomassen fjernes før den er fuldt afgasset. Derudover fratrækkes metantabet fra anlægget, som angives på startsiden, som standard er sat til 5 %."]
[]
["Gaspotentialer og omsættelige tørstofprocenter er indhentet fra Faktaark om biogas fra 2012 på Energinet.dk's hjemmeside:"]
["http://www.energinet.dk/SiteCollectionDocuments/Danske%20dokumenter/Gas/Faktaark_biogas_2012_ver1.xls"]
[]
["Bemærk at gaspotentialerne angives i metan (CH4)."]
["Anlæggets opholdstid indgår også i modellen og angives af brugeren på startsiden. Den kan sættes til mellem 1 og 40 dage."]
[]
["Modellen er opsat ud fra et forsigtighedsprincip som betyder at mængden af den certificerede og dobbelttalte gas maksimalt kan udgøre den teoretisk beregnede. Dette gælder også selvom alle inputs til anlægget er certificerede. Hvis der forekommer en rest imellem den teoretisk beregnede gasproduktion og den faktiske gasproduktion, så tilgår den 'ikke certificeret' gas."]
[]
["Resultatark - CO2e fortrængning"]
[]
["Ved transportformål skal CO2e udledningen fra biogassens produktionskæde minimum fortrænge 35 % (år 2015) ift. et fossilt reference scenarie for at biogassen kan klassificeres som bæredygtig. Reference scenariet er sat til 83.8 gCO2e/MJ udfra EU direktivet om vedvarende energi (2009/28/EF). Hvis biogassen skal bruges til andre formål kan man vælge naturgas som reference scenarie som er sat til 56.79 gCO2e/MJ."]
[]
["Energiindholdet i metan (CH4) er sat til 35,9 MJ/m3."]
[]
["Metanudslippet fra anlægget skal omregnes til CO2e ækvivalenter, da metan er en kraftigere drivhusgas end CO2e. Her er massefylden sat til 750 gCH4/m3 CH4 og 1 g CH4 svarer til 25 g CO2e."]

{"sheet":"CO2 konvertering","index":4,"n_rows":25,"n_cols":6,"rows_kept":25,"cut":false,"hidden":false,"merged":[[25,5,27,11]]}
[]
[]
[]
[null,"Vælg år:"]
[]
[null,"År",2015]
[null,"Årligt elforbrug",null,"kWh","Nettab:",0.05]
[null,"Årligt varmeforbrug",null,"kWh"]
[null,"Årligt biomasseinput",null,"ton"]
[null,"Årlig gasleverance",null,"m3 CH4"]
[null,"Anden CO2 udledning (total)",null,"kg CO2e"]
[null,"Emissionsfaktor for varme",null,"g CO2e/kWh"," Emissionsfaktor afhænger af varmekilden."]
[null,"Emissionsfaktor for el",null,"g CO2e/kWh"]
[null,"Anlæggets udledning",{"$f":"IFERROR(((C7*(1+F7)*C13)+(C8*C12)+(C11*1000)+(((C10/(1-Forside!$C$12)*Forside!$C$12)*'Faktor ark'!C21*'Faktor ark'!C22)*1000))/C9,0)","v":0},"g CO2e/ton biomasse"]
[null,"År",2016]
[null,"Årligt elforbrug",null,"kWh","Nettab:",0.05]
[null,"Årligt varmeforbrug",null,"kWh"]
[null,"Årligt biomasseinput",null,"ton"]
[null,"Årlig gasleverance",null,"m3 CH4"]
[null,"Anden CO2 udledning (total)",null,"kg CO2"]
[null,"Emissionsfaktor for varme",null,"g CO2/kWh"," Emissionsfaktor afhænger af varmekilden"]
[null,"Emissionsfaktor for el",null,"g CO2/kWh"]
[null,"Anlæggets udledning",{"$f":"IFERROR(((C16*(1+F16)*C22)+(C17*C21)+(C20*1000)+(((C19/(1-Forside!$C$12)*Forside!$C$12)*'Faktor ark'!C21*'Faktor ark'!C22)*1000))/C18,0)","v":0},"g CO2/ton biomasse"]
[]
[null,null,{"$f":"IF(AND(C23=0,C14=0),\"ja\",\"Nej\")","v":"ja"}]

{"sheet":"CO2 eksempel","index":5,"n_rows":48,"n_cols":29,"rows_kept":48,"cut":false,"hidden":false,"merged":[[47,15,47,17],[47,18,47,19],[47,20,47,21],[45,15,45,21],[46,15,46,17],[46,18,46,19],[46,20,46,21],[27,0,27,1],[45,9,45,14],[45,3,45,8],[47,1,47,2],[47,5,47,6],[47,7,47,8],[47,9,47,10],[47,11,47,12],[46,1,46,2],[46,5,46,6],[46,7,46,8],[46,9,46,10],[47,13,47,14],[46,11,46,12],[46,13,46,14]]}
[]
[]
["Forudsætninger:"]
["Biomasserne bliver kørt direkte fra biomasseproducenten til biogasanlægget (Konvertering). Dette eliminerer alle mellemled."]
[]
["Distance fra biomasseproducenter til biogasanlæg:"]
["Hans Hansen",null,30,"km"]
["Jens Jensen",null,15,"km"]
["Lars Larsen",null,10,"km"]
[]
["Årligt elforbrug",null,"Nettab 5 %"]
[1440000,"kWh",{"$f":"A12*0.05","v":72000}]
["Årligt varmeforbrug"]
[8160000,"kWh"]
["Årlig mængde biomasse input:"]
[240000,"ton"]
["Elforbrug per ton biomasse"]
[{"$f":"A12/A16","v":6},"kWh/ton"]
["Varmeforbrug per ton biomasse"]
[{"$f":"A14/A16","v":34},"kWh/ton"]
["Metanudslip per ton biomasse"]
[2,"m3 CH4"]
["Emissionsfaktorer"]
["Lastbil - tørprodukt",null,82.381599999999992,"gCO2e/ton km (Biograce)"]
["Lastbil - vådprodukt",null,88.516400000000004,"gCO2e/ton km (Biograce)"]
["El",null,292,"gCO2e/kWh - 125 % metoden 2014 (http://energinet.dk/DA/KLIMA-OG-MILJOE/Miljoedeklarationer/Sider/Miljoedeklarering-af-1-kWh-el.aspx)"]
["Varme (naturgas)",null,205.452,"gCO2e/kWh - (http://energinet.dk/DA/GAS/Gasdata-og-kvalitet/Sider/Braendvaerdier.aspx)"]
["CO2e udledning fra dyrkning af majs",null,444,"gCO2e/ton (Biograce - Ethanol from corn tilnærmelse) "]
["Andet"]
["MJ/m3 CH4",null,35.9,"MJ"]
["Fossil reference",null,83.8,"gCO2e/MJ"]
["CO2 ækvivalent for 1 m3 metan",null,15364,"gCO2e/m3 CH4"]
[]
[]
["Eksempel på data i indtastningsark"]
["Leverandør",null,"Certificeret",null,"Råvarer input",null,"Mængder \nTon",null,"Tørstof\n%",null,"Omsættelig tørstof\n%",null,"Gaspotentiale\nm³ CH4/ton VS ",null,"Teoretisk\ngasproduktion\nm³ CH4",null,"gCO2/ton biomasse",null,null,null,null,null,null,null,null,null,null,null,"Total"]
[]
["Hans Hansen",null,"Ja",null,"Majs",null,5,null,0.4,null,0.95,null,305,null,{"$f":"G38*I38*K38*M38","v":579.5},null,null,null,null,{"$f":"C28","v":444},null,{"$f":"C24*C7","v":2471.4479999999999},null,{"$f":"A18*C26+A20*C27+A22*C32","v":39465.368000000002},null,null,null,null,{"$f":"SUM(T38,X38,V38)","v":42380.815999999999}]
["Jens Jensen",null,"Ja",null,"Kvæggylle",null,10,null,7.4999999999999997E-2,null,0.85,null,198,null,{"$f":"G39*I39*K39*M39","v":126.22499999999999},null,null,null,null,0,null,{"$f":"C25*C8","v":1327.7460000000001},null,{"$f":"A18*C26+A20*C27+A22*C32","v":39465.368000000002},null,null,null,null,{"$f":"SUM(T39,X39,V39)","v":40793.114000000001}]
["Lars Larsen",null,"Nej",null,"Organisk husholdningsaffald",null,20,null,0.3,null,0.88,null,400,null,{"$f":"G40*I40*K40*M40","v":2112},null,null,null,null,0,null,{"$f":"C24*C9","v":823.81599999999992},null,{"$f":"A18*C26+A20*C27+A22*C32","v":39465.368000000002},null,null,null,null,40289.184000000001]
[]
["Eksempel på resultatark"]
[]
[]
[]
[null,null,null,"Gasproduktion (CH4 m3)",null,null,null,null,null,"CO2e fra certificeret gas",null,null,null,null,null,"CO2e fra total gasproduktion"]
[null,"Biomasse (ton)",null,"Total","Certificeret","Ikke-certificeret",null,"Certificeret Dobbelttællende",null,"Udledning (g)",null,"gCO2e/MJ gas",null,"Fortrængning",null,"Udledning (g)",null,null,"gCO2e/MJ gas",null,"Fortrængning"]
[2014,{"$f":"SUM(G38:G40)","v":35},null,{"$f":"SUM(O38:O40)","v":2817.7249999999999},{"$f":"SUM(O38)","v":579.5},{"$f":"SUM(O40)","v":2112},null,{"$f":"SUM(O39)","v":126.22499999999999},null,{"$f":"G38*AC38+G39*AC39","v":619835.22},null,{"$f":"J48/(SUM(E48,H48)*C30)","v":24.465060772861349},null,{"$f":"(C31-L48)/C31","v":0.70805416738828941},null,{"$f":"G38*AC38+G39*AC39+G40*AC40","v":1425618.9},null,null,{"$f":"J48/(SUM(E48:I48)*C30)","v":6.1274982526426731},null,{"$f":"(C31-S48)/C31","v":0.92687949579185358}]

{"sheet":"Kalender2015","index":6,"n_rows":18,"n_cols":39,"rows_kept":18,"cut":false,"hidden":false,"merged":[]}
[]
[]
[]
[]
[]
[null,"Måned","Man","Tir","Ons","Tor","Fre","Lør","Søn","Man","Tir","Ons","Tor","Fre","Lør","Søn","Man","Tir","Ons","Tor","Fre","Lør","Søn","Man","Tir","Ons","Tor","Fre","Lør","Søn","Man","Tir","Ons","Tor","Fre","Lør","Søn","Man","Tir"]
[null,"Januar",null,null,null,1,2,3,4,5,6,7,8,9,10,11,12,13,14,15,16,17,18,19,20,21,22,23,24,25,26,27,28,29,30,31]
[null,"Februar",null,null,null,null,null,null,1,2,3,4,5,6,7,8,9,10,11,12,13,14,15,16,17,18,19,20,21,22,23,24,25,26,27,28]
[null,"Marts",null,null,null,null,null,null,1,2,3,4,5,6,7,8,9,10,11,12,13,14,15,16,17,18,19,20,21,22,23,24,25,26,27,28,29,30,31]
[null,"April",null,null,1,2,3,4,5,6,7,8,9,10,11,12,13,14,15,16,17,18,19,20,21,22,23,24,25,26,27,28,29,30]
[null,"Maj",null,null,null,null,1,2,3,4,5,6,7,8,9,10,11,12,13,14,15,16,17,18,19,20,21,22,23,24,25,26,27,28,29,30,31]
[null,"Juni",1,2,3,4,5,6,7,8,9,10,11,12,13,14,15,16,17,18,19,20,21,22,23,24,25,26,27,28,29,30]
[null,"Juli",null,null,1,2,3,4,5,6,7,8,9,10,11,12,13,14,15,16,17,18,19,20,21,22,23,24,25,26,27,28,29,30,31]
[null,"August",null,null,null,null,null,1,2,3,4,5,6,7,8,9,10,11,12,13,14,15,16,17,18,19,20,21,22,23,24,25,26,27,28,29,30,31]
[null,"September",null,1,2,3,4,5,6,7,8,9,10,11,12,13,14,15,16,17,18,19,20,21,22,23,24,25,26,27,28,29,30]
[null,"Oktober",null,null,null,1,2,3,4,5,6,7,8,9,10,11,12,13,14,15,16,17,18,19,20,21,22,23,24,25,26,27,28,29,30,31]
[null,"November",null,null,null,null,null,null,1,2,3,4,5,6,7,8,9,10,11,12,13,14,15,16,17,18,19,20,21,22,23,24,25,26,27,28,29,30]
[null,"December",null,1,2,3,4,5,6,7,8,9,10,11,12,13,14,15,16,17,18,19,20,21,22,23,24,25,26,27,28,29,30,31]

{"sheet":"Kalender2016","index":7,"n_rows":18,"n_cols":39,"rows_kept":18,"cut":false,"hidden":false,"merged":[]}
[]
[]
[]
[]
[]
[null,"Måned","Man","Tir","Ons","Tor","Fre","Lør","Søn","Man","Tir","Ons","Tor","Fre","Lør","Søn","Man","Tir","Ons","Tor","Fre","Lør","Søn","Man","Tir","Ons","Tor","Fre","Lør","Søn","Man","Tir","Ons","Tor","Fre","Lør","Søn","Man","Tir"]
[null,"Januar",null,null,null,null,1,2,3,4,5,6,7,8,9,10,11,12,13,14,15,16,17,18,19,20,21,22,23,24,25,26,27,28,29,30,31]
[null,"Februar",1,2,3,4,5,6,7,8,9,10,11,12,13,14,15,16,17,18,19,20,21,22,23,24,25,26,27,28,29]
[null,"Marts",null,1,2,3,4,5,6,7,8,9,10,11,12,13,14,15,16,17,18,19,20,21,22,23,24,25,26,27,28,29,30,31]
[null,"April",null,null,null,null,1,2,3,4,5,6,7,8,9,10,11,12,13,14,15,16,17,18,19,20,21,22,23,24,25,26,27,28,29,30]
[null,"Maj",null,null,null,null,null,null,1,2,3,4,5,6,7,8,9,10,11,12,13,14,15,16,17,18,19,20,21,22,23,24,25,26,27,28,29,30,31]
[null,"Juni",null,null,1,2,3,4,5,6,7,8,9,10,11,12,13,14,15,16,17,18,19,20,21,22,23,24,25,26,27,28,29,30]
[null,"Juli",null,null,null,null,1,2,3,4,5,6,7,8,9,10,11,12,13,14,15,16,17,18,19,20,21,22,23,24,25,26,27,28,29,30,31]
[null,"August",1,2,3,4,5,6,7,8,9,10,11,12,13,14,15,16,17,18,19,20,21,22,23,24,25,26,27,28,29,30,31]
[null,"September",null,null,null,1,2,3,4,5,6,7,8,9,10,11,12,13,14,15,16,17,18,19,20,21,22,23,24,25,26,27,28,29,30]
[null,"Oktober",null,null,null,null,null,1,2,3,4,5,6,7,8,9,10,11,12,13,14,15,16,17,18,19,20,21,22,23,24,25,26,27,28,29,30,31]
[null,"November",null,1,2,3,4,5,6,7,8,9,10,11,12,13,14,15,16,17,18,19,20,21,22,23,24,25,26,27,28,29,30]
[null,"December",null,null,null,1,2,3,4,5,6,7,8,9,10,11,12,13,14,15,16,17,18,19,20,21,22,23,24,25,26,27,28,29,30,31]

{"sheet":"Vejl Årsindberetning","index":8,"n_rows":61,"n_cols":30,"rows_kept":61,"cut":false,"hidden":false,"merged":[[3,1,4,13],[8,1,9,13],[6,1,6,13]]}
[]
[null,"Indberetning på baggrund af månedsdata eller årsdata"]
[]
[null,"Denne vejledning beskriver hvordan man kan indtaste årlige eller månedlige data i værktøjet. Dette er relevant for brugere som kun vil benytte værktøjet til at danne en rapport til Energinet.dk. Ved generering af Energinet.dk rapport skal man være opmærksom på, at der ikke må være indtastet data for andre dage i perioden. Derudover kan det også bruges til at få et hurtigt overblik over modellens beregnede teoretiske gasproduktion og sammenholde den med anlæggets faktiske gasproduktion. Man kan også indtaste sine CO2e data. Det vil dog ikke være tilstrækkeligt til certificeringsformål, hvor der ofte vil være krav om at alle processer i produktionen er dokumenterede."]
[]
[]
[null,"Man skal være opmærksom på at det ikke vil give et helt reelt billede af den årlige produktion, da der ikke tages højde for input fra året før, der afgasses i januar og input i december måned, som afgasses året efter. Dog kan disse jo til dels modsvare hinanden. "]
[]
[null,"Ved månedsdata er princippet at indtaste en måneds data per dag i fx januar - så data for januar måned indtastes 1. januar, data for februar indtastes 2. januar osv. (se nedenfor). Ved årsdata indtaster man bare alle data 1. januar. HUSK at den målte gasproduktion for en måned skal indtastes måneden efter. Det betyder at den biogas derproduceres med inputdata fra januar skal skrives ind i februar. Ved årsdata kan hver dag betragtes som et år. På samme måde som ved månedsdata indtastes et års data fx 1 januar, mens den mængde biogas der blev produceret i det år indtastes dagen efter fx 2 januar. "]
[]
[]
[null,"På startsiden skal opholdstiden sættes til 1 dag både ved måneds- og årsdata:"]
[]
[]
[]
[null,"Når man vil beregne en massebalance så tidsperioden som minimum gå fra 1. januar til 13. januar. Man kan også sætte den til længere:"]
[]
[]
[]
[]
[]
[]
[]
[]
[]
[]
[]
[]
[]
[]
[]
[]
[]
[]
[]
[null,null,null,null,null,null,null,null,null,null,null,null,null,null,null,"Defaultværdi"]
[]
[]
[null,"Dato:",null,null,null,"Mængde biomasse (Ton)",null,"Gasproduktion"]
[null,"1. januar",2015,null,null,{"$f":"SUM(H42:H101)","v":0},null,null,"m3 CH4"]
[null,"Leverandør",null,"Certificeret",null,"Råvarer input",null,"Mængder \nTon",null,"Tørstof\n%",null,"Omsættelig tørstof\n%",null,"Gaspotentiale m³ CH4/ton VS"]
[null,null,null,"Ja",null,null,null,null,null,null,null,null,null,null,null,{"$f":"IFERROR(VLOOKUP(C42,Biomasser!$A$3:$M$88,13,FALSE),)","v":0},null,null,null,null,null,null,null,null,null,null,null,null,null,{"$f":"IF(C42<>\"\",'CO2 konvertering'!$C$14,)","v":0}]
[]
[null,"Dato:",null,null,null,"Mængde biomasse (Ton)",null,"Gasproduktion"]
[null,"2. januar",2015,null,null,{"$f":"SUM(H47:H106)","v":0},null,null,"m3 CH4"]
[null,"Leverandør",null,"Certificeret",null,"Råvarer input",null,"Mængder \nTon",null,"Tørstof\n%",null,"Omsættelig tørstof\n%",null,"Gaspotentiale m³ CH4/ton VS"]
[null,null,null,"Ja",null,null,null,null,null,null,null,null,null,null,null,{"$f":"IFERROR(VLOOKUP(C47,Biomasser!$A$3:$M$88,13,FALSE),)","v":0},null,null,null,null,null,null,null,null,null,null,null,null,null,{"$f":"IF(C47<>\"\",'CO2 konvertering'!$C$14,)","v":0}]
[]
[null,"Dato:",null,null,null,"Mængde biomasse (Ton)",null,"Gasproduktion"]
[null,"3. januar",2015,null,null,{"$f":"SUM(H52:H111)","v":0},null,null,"m3 CH4"]
[null,"Leverandør",null,"Certificeret",null,"Råvarer input",null,"Mængder \nTon",null,"Tørstof\n%",null,"Omsættelig tørstof\n%",null,"Gaspotentiale m³ CH4/ton VS"]
[null,null,null,"Ja",null,null,null,null,null,null,null,null,null,null,null,{"$f":"IFERROR(VLOOKUP(C52,Biomasser!$A$3:$M$88,13,FALSE),)","v":0},null,null,null,null,null,null,null,null,null,null,null,null,null,{"$f":"IF(C52<>\"\",'CO2 konvertering'!$C$14,)","v":0}]
[]
[]
[]
[]
[]
[null,"Dato:",null,null,null,"Mængde biomasse (Ton)",null,"Gasproduktion"]
[null,"12. januar",2015,null,null,{"$f":"SUM(H61:H116)","v":0},null,null,"m3 CH4"]
[null,"Leverandør",null,"Certificeret",null,"Råvarer input",null,"Mængder \nTon",null,"Tørstof\n%",null,"Omsættelig tørstof\n%",null,"Gaspotentiale m³ CH4/ton VS"]
[null,null,null,"Ja",null,null,null,null,null,null,null,null,null,null,null,{"$f":"IFERROR(VLOOKUP(C61,Biomasser!$A$3:$M$88,13,FALSE),)","v":0},null,null,null,null,null,null,null,null,null,null,null,null,null,{"$f":"IF(C61<>\"\",'CO2 konvertering'!$C$14,)","v":0}]

{"sheet":"Input","index":9,"n_rows":76760,"n_cols":30,"rows_kept":2250,"cut":true,"hidden":false,"merged":[[76552,6,76552,8],[76657,6,76657,8],[75922,6,75922,8],[76027,6,76027,8],[76132,6,76132,8],[76237,6,76237,8],[76342,6,76342,8],[76447,6,76447,8],[75292,6,75292,8],[75397,6,75397,8],[75502,6,75502,8],[75607,6,75607,8],[75712,6,75712,8],[75817,6,75817,8],[74662,6,74662,8],[74767,6,74767,8],[74872,6,74872,8],[74977,6,74977,8],[75082,6,75082,8],[75187,6,75187,8],[74032,6,74032,8],[74137,6,74137,8],[74242,6,74242,8],[74347,6,74347,8],[74452,6,74452,8],[74557,6,74557,8],[73402,6,73402,8],[73507,6,73507,8],[73612,6,73612,8],[73717,6,73717,8],[73822,6,73822,8],[73927,6,73927,8],[72772,6,72772,8],[72877,6,72877,8],[72982,6,72982,8],[73087,6,73087,8],[73192,6,73192,8],[73297,6,73297,8],[72142,6,72142,8],[72247,6,72247,8],[72352,6,72352,8],[72457,6,72457,8],[72562,6,72562,8],[72667,6,72667,8],[71512,6,71512,8],[71617,6,71617,8],[71722,6,71722,8],[71827,6,71827,8],[71932,6,71932,8],[72037,6,72037,8],[70882,6,70882,8],[70987,6,70987,8],[71092,6,71092,8],[71197,6,71197,8],[71302,6,71302,8],[71407,6,71407,8],[70252,6,70252,8],[70357,6,70357,8],[70462,6,70462,8],[70567,6,70567,8],[70672,6,70672,8],[70777,6,70777,8],[69622,6,69622,8],[69727,6,69727,8],[69832,6,69832,8],[69937,6,69937,8],[70042,6,70042,8],[70147,6,70147,8],[68992,6,68992,8],[69097,6,69097,8],[69202,6,69202,8],[69307,6,69307,8],[69412,6,69412,8],[69517,6,69517,8],[68362,6,68362,8],[68467,6,68467,8],[68572,6,68572,8],[68677,6,68677,8],[68782,6,68782,8],[68887,6,68887,8],[67732,6,67732,8],[67837,6,67837,8],[67942,6,67942,8],[68047,6,68047,8],[68152,6,68152,8],[68257,6,68257,8],[67102,6,67102,8],[67207,6,67207,8],[67312,6,67312,8],[67417,6,67417,8],[67522,6,67522,8],[67627,6,67627,8],[66472,6,66472,8],[66577,6,66577,8],[66682,6,66682,8],[66787,6,66787,8],[66892,6,66892,8],[66997,6,66997,8],[65842,6,65842,8],[65947,6,65947,8],[66052,6,66052,8],[66157,6,66157,8],[66262,6,66262,8],[66367,6,66367,8],[65212,6,65212,8],[65317,6,65317,8],[65422,6,65422,8],[65527,6,65527,8],[65632,6,65632,8],[65737,6,65737,8],[64582,6,64582,8],[64687,6,64687,8],[64792,6,64792,8],[64897,6,64897,8],[65002,6,65002,8],[65107,6,65107,8],[63952,6,63952,8],[64057,6,64057,8],[64162,6,64162,8],[64267,6,64267,8],[64372,6,64372,8],[64477,6,64477,8],[63322,6,63322,8],[63427,6,63427,8],[63532,6,63532,8],[63637,6,63637,8],[63742,6,63742,8],[63847,6,63847,8],[62692,6,62692,8],[62797,6,62797,8],[62902,6,62902,8],[63007,6,63007,8],[63112,6,63112,8],[63217,6,63217,8],[62062,6,62062,8],[62167,6,62167,8],[62272,6,62272,8],[62377,6,62377,8],[62482,6,62482,8],[62587,6,62587,8],[61432,6,61432,8],[61537,6,61537,8],[61642,6,61642,8],[61747,6,61747,8],[61852,6,61852,8],[61957,6,61957,8],[60802,6,60802,8],[60907,6,60907,8],[61012,6,61012,8],[61117,6,61117,8],[61222,6,61222,8],[61327,6,61327,8],[60172,6,60172,8],[60277,6,60277,8],[60382,6,60382,8],[60487,6,60487,8],[60592,6,60592,8],[60697,6,60697,8],[59542,6,59542,8],[59647,6,59647,8],[59752,6,59752,8],[59857,6,59857,8],[59962,6,59962,8],[60067,6,60067,8],[58912,6,58912,8],[59017,6,59017,8],[59122,6,59122,8],[59227,6,59227,8],[59332,6,59332,8],[59437,6,59437,8],[58282,6,58282,8],[58387,6,58387,8],[58492,6,58492,8],[58597,6,58597,8],[58702,6,58702,8],[58807,6,58807,8],[57652,6,57652,8],[57757,6,57757,8],[57862,6,57862,8],[57967,6,57967,8],[58072,6,58072,8],[58177,6,58177,8],[57022,6,57022,8],[57127,6,57127,8],[57232,6,57232,8],[57337,6,57337,8],[57442,6,57442,8],[57547,6,57547,8],[56392,6,56392,8],[56497,6,56497,8],[56602,6,56602,8],[56707,6,56707,8],[56812,6,56812,8],[56917,6,56917,8],[55762,6,55762,8],[55867,6,55867,8],[55972,6,55972,8],[56077,6,56077,8],[56182,6,56182,8],[56287,6,56287,8],[55132,6,55132,8],[55237,6,55237,8],[55342,6,55342,8],[55447,6,55447,8],[55552,6,55552,8],[55657,6,55657,8],[54502,6,54502,8],[54607,6,54607,8],[54712,6,54712,8],[54817,6,54817,8],[54922,6,54922,8],[55027,6,55027,8],[53872,6,53872,8],[53977,6,53977,8],[54082,6,54082,8],[54187,6,54187,8],[54292,6,54292,8],[54397,6,54397,8],[53242,6,53242,8],[53347,6,53347,8],[53452,6,53452,8],[53557,6,53557,8],[53662,6,53662,8],[53767,6,53767,8],[52612,6,52612,8],[52717,6,52717,8],[52822,6,52822,8],[52927,6,52927,8],[53032,6,53032,8],[53137,6,53137,8],[51982,6,51982,8],[52087,6,52087,8],[52192,6,52192,8],[52297,6,52297,8],[52402,6,52402,8],[52507,6,52507,8],[51457,6,51457,8],[51562,6,51562,8],[51667,6,51667,8],[51772,6,51772,8],[51877,6,51877,8],[50827,6,50827,8],[50932,6,50932,8],[51037,6,51037,8],[51142,6,51142,8],[51247,6,51247,8],[51352,6,51352,8],[50197,6,50197,8],[50302,6,50302,8],[50407,6,50407,8],[50512,6,50512,8],[50617,6,50617,8],[50722,6,50722,8],[49567,6,49567,8],[49672,6,49672,8],[49777,6,49777,8],[49882,6,49882,8],[49987,6,49987,8],[50092,6,50092,8],[48937,6,48937,8],[49042,6,49042,8],[49147,6,49147,8],[49252,6,49252,8],[49357,6,49357,8],[49462,6,49462,8],[48307,6,48307,8],[48412,6,48412,8],[48517,6,48517,8],[48622,6,48622,8],[48727,6,48727,8],[48832,6,48832,8],[47677,6,47677,8],[47782,6,47782,8],[47887,6,47887,8],[47992,6,47992,8],[48097,6,48097,8],[48202,6,48202,8],[47047,6,47047,8],[47152,6,47152,8],[47257,6,47257,8],[47362,6,47362,8],[47467,6,47467,8],[47572,6,47572,8],[46417,6,46417,8],[46522,6,46522,8],[46627,6,46627,8],[46732,6,46732,8],[46837,6,46837,8],[46942,6,46942,8],[45787,6,45787,8],[45892,6,45892,8],[45997,6,45997,8],[46102,6,46102,8],[46207,6,46207,8],[46312,6,46312,8],[45157,6,45157,8],[45262,6,45262,8],[45367,6,45367,8],[45472,6,45472,8],[45577,6,45577,8],[45682,6,45682,8],[44527,6,44527,8],[44632,6,44632,8],[44737,6,44737,8],[44842,6,44842,8],[44947,6,44947,8],[45052,6,45052,8],[43897,6,43897,8],[44002,6,44002,8],[44107,6,44107,8],[44212,6,44212,8],[44317,6,44317,8],[44422,6,44422,8],[43267,6,43267,8],[43372,6,43372,8],[43477,6,43477,8],[43582,6,43582,8],[43687,6,43687,8],[43792,6,43792,8],[42637,6,42637,8],[42742,6,42742,8],[42847,6,42847,8],[42952,6,42952,8],[43057,6,43057,8],[43162,6,43162,8],[42007,6,42007,8],[42112,6,42112,8],[42217,6,42217,8],[42322,6,42322,8],[42427,6,42427,8],[42532,6,42532,8],[41377,6,41377,8],[41482,6,41482,8],[41587,6,41587,8],[41692,6,41692,8],[41797,6,41797,8],[41902,6,41902,8],[40747,6,40747,8],[40852,6,40852,8],[40957,6,40957,8],[41062,6,41062,8],[41167,6,41167,8],[41272,6,41272,8],[40117,6,40117,8],[40222,6,40222,8],[40327,6,40327,8],[40432,6,40432,8],[40537,6,40537,8],[40642,6,40642,8],[39487,6,39487,8],[39592,6,39592,8],[39697,6,39697,8],[39802,6,39802,8],[39907,6,39907,8],[40012,6,40012,8],[38857,6,38857,8],[38962,6,38962,8],[39067,6,39067,8],[39172,6,39172,8],[39277,6,39277,8],[39382,6,39382,8],[38227,6,38227,8],[38332,6,38332,8],[38437,6,38437,8],[38542,6,38542,8],[38647,6,38647,8],[38752,6,38752,8],[37597,6,37597,8],[37702,6,37702,8],[37807,6,37807,8],[37912,6,37912,8],[38017,6,38017,8],[38122,6,38122,8],[36967,6,36967,8],[37072,6,37072,8],[37177,6,37177,8],[37282,6,37282,8],[37387,6,37387,8],[37492,6,37492,8],[36337,6,36337,8],[36442,6,36442,8],[36547,6,36547,8],[36652,6,36652,8],[36757,6,36757,8],[36862,6,36862,8],[35707,6,35707,8],[35812,6,35812,8],[35917,6,35917,8],[36022,6,36022,8],[36127,6,36127,8],[36232,6,36232,8],[35077,6,35077,8],[35182,6,35182,8],[35287,6,35287,8],[35392,6,35392,8],[35497,6,35497,8],[35602,6,35602,8],[34447,6,34447,8],[34552,6,34552,8],[34657,6,34657,8],[34762,6,34762,8],[34867,6,34867,8],[34972,6,34972,8],[33817,6,33817,8],[33922,6,33922,8],[34027,6,34027,8],[34132,6,34132,8],[34237,6,34237,8],[34342,6,34342,8],[33187,6,33187,8],[33292,6,33292,8],[33397,6,33397,8],[33502,6,33502,8],[33607,6,33607,8],[33712,6,33712,8],[32557,6,32557,8],[32662,6,32662,8],[32767,6,32767,8],[32872,6,32872,8],[32977,6,32977,8],[33082,6,33082,8],[31927,6,31927,8],[32032,6,32032,8],[32137,6,32137,8],[32242,6,32242,8],[32347,6,32347,8],[32452,6,32452,8],[31297,6,31297,8],[31402,6,31402,8],[31507,6,31507,8],[31612,6,31612,8],[31717,6,31717,8],[31822,6,31822,8],[30667,6,30667,8],[30772,6,30772,8],[30877,6,30877,8],[30982,6,30982,8],[31087,6,31087,8],[31192,6,31192,8],[30037,6,30037,8],[30142,6,30142,8],[30247,6,30247,8],[30352,6,30352,8],[30457,6,30457,8],[30562,6,30562,8],[29407,6,29407,8],[29512,6,29512,8],[29617,6,29617,8],[29722,6,29722,8],[29827,6,29827,8],[29932,6,29932,8],[28777,6,28777,8],[28882,6,28882,8],[28987,6,28987,8],[29092,6,29092,8],[29197,6,29197,8],[29302,6,29302,8],[28147,6,28147,8],[28252,6,28252,8],[28357,6,28357,8],[28462,6,28462,8],[28567,6,28567,8],[28672,6,28672,8],[27517,6,27517,8],[27622,6,27622,8],[27727,6,27727,8],[27832,6,27832,8],[27937,6,27937,8],[28042,6,28042,8],[26887,6,26887,8],[26992,6,26992,8],[27097,6,27097,8],[27202,6,27202,8],[27307,6,27307,8],[27412,6,27412,8],[26257,6,26257,8],[26362,6,26362,8],[26467,6,26467,8],[26572,6,26572,8],[26677,6,26677,8],[26782,6,26782,8],[25627,6,25627,8],[25732,6,25732,8],[25837,6,25837,8],[25942,6,25942,8],[26047,6,26047,8],[26152,6,26152,8],[24997,6,24997,8],[25102,6,25102,8],[25207,6,25207,8],[25312,6,25312,8],[25417,6,25417,8],[25522,6,25522,8],[24367,6,24367,8],[24472,6,24472,8],[24577,6,24577,8],[24682,6,24682,8],[24787,6,24787,8],[24892,6,24892,8],[23737,6,23737,8],[23842,6,23842,8],[23947,6,23947,8],[24052,6,24052,8],[24157,6,24157,8],[24262,6,24262,8],[23107,6,23107,8],[23212,6,23212,8],[23317,6,23317,8],[23422,6,23422,8],[23527,6,23527,8],[23632,6,23632,8],[22477,6,22477,8],[22582,6,22582,8],[22687,6,22687,8],[22792,6,22792,8],[22897,6,22897,8],[23002,6,23002,8],[21847,6,21847,8],[21952,6,21952,8],[22057,6,22057,8],[22162,6,22162,8],[22267,6,22267,8],[22372,6,22372,8],[21217,6,21217,8],[21322,6,21322,8],[21427,6,21427,8],[21532,6,21532,8],[21637,6,21637,8],[21742,6,21742,8],[20587,6,20587,8],[20692,6,20692,8],[20797,6,20797,8],[20902,6,20902,8],[21007,6,21007,8],[21112,6,21112,8],[19957,6,19957,8],[20062,6,20062,8],[20167,6,20167,8],[20272,6,20272,8],[20377,6,20377,8],[20482,6,20482,8],[19327,6,19327,8],[19432,6,19432,8],[19537,6,19537,8],[19642,6,19642,8],[19747,6,19747,8],[19852,6,19852,8],[18697,6,18697,8],[18802,6,18802,8],[18907,6,18907,8],[19012,6,19012,8],[19117,6,19117,8],[19222,6,19222,8],[18067,6,18067,8],[18172,6,18172,8],[18277,6,18277,8],[18382,6,18382,8],[18487,6,18487,8],[18592,6,18592,8],[17437,6,17437,8],[17542,6,17542,8],[17647,6,17647,8],[17752,6,17752,8],[17857,6,17857,8],[17962,6,17962,8],[16807,6,16807,8],[16912,6,16912,8],[17017,6,17017,8],[17122,6,17122,8],[17227,6,17227,8],[17332,6,17332,8],[16177,6,16177,8],[16282,6,16282,8],[16387,6,16387,8],[16492,6,16492,8],[16597,6,16597,8],[16702,6,16702,8],[15547,6,15547,8],[15652,6,15652,8],[15757,6,15757,8],[15862,6,15862,8],[15967,6,15967,8],[16072,6,16072,8],[14917,6,14917,8],[15022,6,15022,8],[15127,6,15127,8],[15232,6,15232,8],[15337,6,15337,8],[15442,6,15442,8],[14287,6,14287,8],[14392,6,14392,8],[14497,6,14497,8],[14602,6,14602,8],[14707,6,14707,8],[14812,6,14812,8],[13657,6,13657,8],[13762,6,13762,8],[13867,6,13867,8],[13972,6,13972,8],[14077,6,14077,8],[14182,6,14182,8],[13027,6,13027,8],[13132,6,13132,8],[13237,6,13237,8],[13342,6,13342,8],[13447,6,13447,8],[13552,6,13552,8],[12397,6,12397,8],[12502,6,12502,8],[12607,6,12607,8],[12712,6,12712,8],[12817,6,12817,8],[12922,6,12922,8],[11767,6,11767,8],[11872,6,11872,8],[11977,6,11977,8],[12082,6,12082,8],[12187,6,12187,8],[12292,6,12292,8],[11137,6,11137,8],[11242,6,11242,8],[11347,6,11347,8],[11452,6,11452,8],[11557,6,11557,8],[11662,6,11662,8],[10507,6,10507,8],[10612,6,10612,8],[10717,6,10717,8],[10822,6,10822,8],[10927,6,10927,8],[11032,6,11032,8],[9877,6,9877,8],[9982,6,9982,8],[10087,6,10087,8],[10192,6,10192,8],[10297,6,10297,8],[10402,6,10402,8],[9247,6,9247,8],[9352,6,9352,8],[9457,6,9457,8],[9562,6,9562,8],[9667,6,9667,8],[9772,6,9772,8],[8617,6,8617,8],[8722,6,8722,8],[8827,6,8827,8],[8932,6,8932,8],[9037,6,9037,8],[9142,6,9142,8],[7987,6,7987,8],[8092,6,8092,8],[8197,6,8197,8],[8302,6,8302,8],[8407,6,8407,8],[8512,6,8512,8],[7357,6,7357,8],[7462,6,7462,8],[7567,6,7567,8],[7672,6,7672,8],[7777,6,7777,8],[7882,6,7882,8],[6727,6,6727,8],[6832,6,6832,8],[6937,6,6937,8],[7042,6,7042,8],[7147,6,7147,8],[7252,6,7252,8],[6097,6,6097,8],[6202,6,6202,8],[6307,6,6307,8],[6412,6,6412,8],[6517,6,6517,8],[6622,6,6622,8],[5467,6,5467,8],[5572,6,5572,8],[5677,6,5677,8],[5782,6,5782,8],[5887,6,5887,8],[5992,6,5992,8],[4837,6,4837,8],[4942,6,4942,8],[5047,6,5047,8],[5152,6,5152,8],[5257,6,5257,8],[5362,6,5362,8],[4207,6,4207,8],[4312,6,4312,8],[4417,6,4417,8],[4522,6,4522,8],[4627,6,4627,8],[4732,6,4732,8],[3577,6,3577,8],[3682,6,3682,8],[3787,6,3787,8],[3892,6,3892,8],[3997,6,3997,8],[4102,6,4102,8],[2947,6,2947,8],[3052,6,3052,8],[3157,6,3157,8],[3262,6,3262,8],[3367,6,3367,8],[3472,6,3472,8],[2317,6,2317,8],[2422,6,2422,8],[2527,6,2527,8],[2632,6,2632,8],[2737,6,2737,8],[2842,6,2842,8],[1687,6,1687,8],[1792,6,1792,8],[1897,6,1897,8],[2002,6,2002,8],[2107,6,2107,8],[2212,6,2212,8],[1162,6,1162,8],[1267,6,1267,8],[1372,6,1372,8],[1477,6,1477,8],[1582,6,1582,8],[0,17,1,20],[532,6,532,8],[637,6,637,8],[742,6,742,8],[847,6,847,8],[952,6,952,8],[1057,6,1057,8],[7,6,7,8],[112,6,112,8],[217,6,217,8],[322,6,322,8],[427,6,427,8]],"bounds":{"rows_first":1000,"rows_last":250,"rows_between":1000,"halvings":1},"read":"row_number_cap"}
[null,null,null,null,null,null,null,null,null,null,null,null,null,null,null,null,null,"* CO2e værdierne skal indsættes som gCO2e/ ton biomasse"]
[]
[]
[null,null,null,null,null,null,null,null,null,null,null,null,null,null,null,null,null,null,"Defaultværdi",null,null,null,null,null,null,null,null,null,null,"CO2 total"]
[]
[null,"Dato:",null,null,null,"Mængde biomasse (Ton)",null,"Gasproduktion"]
["Gas","1. januar",2015,null,null,{"$f":"SUM(H10:H110)","v":0},null,null,"m3 CH4"]
[null,"Leverandør",null,"Certificeret",null,"Råvarer input","          Mængder                 \n      (Ton vådvægt)            ",null,null,"Tørstof\n%",null,"Omsættelig tørstof\n%",null,"Gaspotentiale\nm³ CH4/ton VS",null,"Teoretisk\ngasproduktion\nm³ CH4"]
[]
[{"$f":"B7&C7","v":"1. januar2015"},null,null,"Ja",null,null,null,null,{"$f":"IF(AND(F10<>\"\",ISBLANK(H10)),\"Indtast vægt\",\"\")","v":""},null,{"$f":"IF(AND(F10<>\"\",ISBLANK(J10)),\"Indtast tørstof %\",\"\")","v":""},{"$f":"IFERROR(VLOOKUP(F10,Biomasser!$A$3:$E$88,4,FALSE),)","v":0},null,{"$f":"IFERROR(VLOOKUP(F10,Biomasser!$A$3:$E$88,5,FALSE),0)","v":0},{"$f":"IF(AND(F10<>\"\",(N10=0)),\"Opdater biomasseark\",\"\")","v":""},{"$f":"J10*L10*N10*H10","v":0},null,null,{"$f":"IFERROR(VLOOKUP(F10,Biomasser!$A$3:$M$88,13,FALSE),)","v":0},null,0,null,512,null,{"$f":"IF(F10<>\"\",'CO2 konvertering'!$C$14,)","v":0},null,561,null,551,{"$f":"SUM(S10:AC10)","v":1624}]
[null,null,null,"Ja",null,null,null,null,{"$f":"IF(AND(F11<>\"\",ISBLANK(H11)),\"Indtast vægt\",\"\")","v":""},null,{"$f":"IF(AND(F11<>\"\",ISBLANK(J11)),\"Indtast tørstof %\",\"\")","v":""},{"$f":"IFERROR(VLOOKUP(F11,Biomasser!$A$3:$E$88,4,FALSE),0)","v":0},null,{"$f":"IFERROR(VLOOKUP(F11,Biomasser!$A$3:$E$88,5,FALSE),0)","v":0},"",0,null,null,{"$f":"IFERROR(VLOOKUP(F11,Biomasser!$A$3:$M$88,13,FALSE),)","v":0},null,null,null,null,null,{"$f":"IF(F11<>\"\",'CO2 konvertering'!$C$14,)","v":0},null,null,null,null,0]
[null,null,null,"Ja",null,null,null,null,"",null,"",{"$f":"IFERROR(VLOOKUP(F12,Biomasser!$A$3:$E$88,4,FALSE),0)","v":0},null,{"$f":"IFERROR(VLOOKUP(F12,Biomasser!$A$3:$E$88,5,FALSE),0)","v":0},"",0,null,null,{"$f":"IFERROR(VLOOKUP(F12,Biomasser!$A$3:$M$88,13,FALSE),)","v":0},null,null,null,null,null,{"$f":"IF(F12<>\"\",'CO2 konvertering'!$C$14,)","v":0},null,null,null,null,0]
[null,null,null,"Ja",null,null,null,null,"",null,"",{"$f":"IFERROR(VLOOKUP(F13,Biomasser!$A$3:$E$88,4,FALSE),0)","v":0},null,{"$f":"IFERROR(VLOOKUP(F13,Biomasser!$A$3:$E$88,5,FALSE),0)","v":0},{"$f":"IF(AND(F13<>\"\",(N13=0)),\"Opdater biomasseark\",\"\")","v":""},0,null,null,{"$f":"IFERROR(VLOOKUP(F13,Biomasser!$A$3:$M$88,13,FALSE),)","v":0},null,null,null,null,null,{"$f":"IF(F13<>\"\",'CO2 konvertering'!$C$14,)","v":0},null,null,null,null,0]
[null,null,null,"Ja",null,null,null,null,"",null,"",{"$f":"IFERROR(VLOOKUP(F14,Biomasser!$A$3:$E$88,4,FALSE),0)","v":0},null,{"$f":"IFERROR(VLOOKUP(F14,Biomasser!$A$3:$E$88,5,FALSE),0)","v":0},{"$f":"IF(AND(F14<>\"\",(N14=0)),\"Opdater biomasseark\",\"\")","v":""},0,null,null,{"$f":"IFERROR(VLOOKUP(F14,Biomasser!$A$3:$M$88,13,FALSE),)","v":0},null,null,null,null,null,{"$f":"IF(F14<>\"\",'CO2 konvertering'!$C$14,)","v":0},null,null,null,null,0]
[null,null,null,"Ja",null,null,null,null,"",null,"",{"$f":"IFERROR(VLOOKUP(F15,Biomasser!$A$3:$E$88,4,FALSE),0)","v":0},null,{"$f":"IFERROR(VLOOKUP(F15,Biomasser!$A$3:$E$88,5,FALSE),0)","v":0},"",0,null,null,{"$f":"IFERROR(VLOOKUP(F15,Biomasser!$A$3:$M$88,13,FALSE),)","v":0},null,null,null,null,null,{"$f":"IF(F15<>\"\",'CO2 konvertering'!$C$14,)","v":0},null,null,null,null,0]
[null,null,null,"Ja",null,null,null,null,"",null,"",{"$f":"IFERROR(VLOOKUP(F16,Biomasser!$A$3:$E$88,4,FALSE),0)","v":0},null,{"$f":"IFERROR(VLOOKUP(F16,Biomasser!$A$3:$E$88,5,FALSE),0)","v":0},"",0,null,null,{"$f":"IFERROR(VLOOKUP(F16,Biomasser!$A$3:$M$88,13,FALSE),)","v":0},null,null,null,null,null,{"$f":"IF(F16<>\"\",'CO2 konvertering'!$C$14,)","v":0},null,null,null,null,0]
[null,null,null,"Ja",null,null,null,null,"",null,"",{"$f":"IFERROR(VLOOKUP(F17,Biomasser!$A$3:$E$88,4,FALSE),0)","v":0},null,{"$f":"IFERROR(VLOOKUP(F17,Biomasser!$A$3:$E$88,5,FALSE),0)","v":0},"",0,null,null,{"$f":"IFERROR(VLOOKUP(F17,Biomasser!$A$3:$M$88,13,FALSE),)","v":0},null,null,null,null,null,{"$f":"IF(F17<>\"\",'CO2 konvertering'!$C$14,)","v":0},null,null,null,null,0]
[null,null,null,"Ja",null,null,null,null,"",null,"",{"$f":"IFERROR(VLOOKUP(F18,Biomasser!$A$3:$E$88,4,FALSE),0)","v":0},null,{"$f":"IFERROR(VLOOKUP(F18,Biomasser!$A$3:$E$88,5,FALSE),0)","v":0},"",0,null,null,{"$f":"IFERROR(VLOOKUP(F18,Biomasser!$A$3:$M$88,13,FALSE),)","v":0},null,null,null,null,null,{"$f":"IF(F18<>\"\",'CO2 konvertering'!$C$14,)","v":0},null,null,null,null,0]
[null,null,null,"Ja",null,null,null,null,"",null,"",{"$f":"IFERROR(VLOOKUP(F19,Biomasser!$A$3:$E$88,4,FALSE),0)","v":0},null,{"$f":"IFERROR(VLOOKUP(F19,Biomasser!$A$3:$E$88,5,FALSE),0)","v":0},"",0,null,null,{"$f":"IFERROR(VLOOKUP(F19,Biomasser!$A$3:$M$88,13,FALSE),)","v":0},null,null,null,null,null,{"$f":"IF(F19<>\"\",'CO2 konvertering'!$C$14,)","v":0},null,null,null,null,0]
[null,null,null,"Ja",null,null,null,null,"",null,"",{"$f":"IFERROR(VLOOKUP(F20,Biomasser!$A$3:$E$88,4,FALSE),0)","v":0},null,{"$f":"IFERROR(VLOOKUP(F20,Biomasser!$A$3:$E$88,5,FALSE),0)","v":0},"",0,null,null,{"$f":"IFERROR(VLOOKUP(F20,Biomasser!$A$3:$M$88,13,FALSE),)","v":0},null,null,null,null,null,{"$f":"IF(F20<>\"\",'CO2 konvertering'!$C$14,)","v":0},null,null,null,null,0]
[null,null,null,"Ja",null,null,null,null,"",null,"",{"$f":"IFERROR(VLOOKUP(F21,Biomasser!$A$3:$E$88,4,FALSE),0)","v":0},null,{"$f":"IFERROR(VLOOKUP(F21,Biomasser!$A$3:$E$88,5,FALSE),0)","v":0},"",0,null,null,{"$f":"IFERROR(VLOOKUP(F21,Biomasser!$A$3:$M$88,13,FALSE),)","v":0},null,null,null,null,null,{"$f":"IF(F21<>\"\",'CO2 konvertering'!$C$14,)","v":0},null,null,null,null,0]
[null,null,null,"Ja",null,null,null,null,"",null,"",{"$f":"IFERROR(VLOOKUP(F22,Biomasser!$A$3:$E$88,4,FALSE),0)","v":0},null,{"$f":"IFERROR(VLOOKUP(F22,Biomasser!$A$3:$E$88,5,FALSE),0)","v":0},"",0,null,null,{"$f":"IFERROR(VLOOKUP(F22,Biomasser!$A$3:$M$88,13,FALSE),)","v":0},null,null,null,null,null,{"$f":"IF(F22<>\"\",'CO2 konvertering'!$C$14,)","v":0},null,null,null,null,0]
[null,null,null,"Ja",null,null,null,null,"",null,"",{"$f":"IFERROR(VLOOKUP(F23,Biomasser!$A$3:$E$88,4,FALSE),0)","v":0},null,{"$f":"IFERROR(VLOOKUP(F23,Biomasser!$A$3:$E$88,5,FALSE),0)","v":0},"",0,null,null,{"$f":"IFERROR(VLOOKUP(F23,Biomasser!$A$3:$M$88,13,FALSE),)","v":0},null,null,null,null,null,{"$f":"IF(F23<>\"\",'CO2 konvertering'!$C$14,)","v":0},null,null,null,null,0]
[null,null,null,"Ja",null,null,null,null,"",null,"",{"$f":"IFERROR(VLOOKUP(F24,Biomasser!$A$3:$E$88,4,FALSE),0)","v":0},null,{"$f":"IFERROR(VLOOKUP(F24,Biomasser!$A$3:$E$88,5,FALSE),0)","v":0},"",0,null,null,{"$f":"IFERROR(VLOOKUP(F24,Biomasser!$A$3:$M$88,13,FALSE),)","v":0},null,null,null,null,null,{"$f":"IF(F24<>\"\",'CO2 konvertering'!$C$14,)","v":0},null,null,null,null,0]
[null,null,null,"Ja",null,null,null,null,"",null,"",{"$f":"IFERROR(VLOOKUP(F25,Biomasser!$A$3:$E$88,4,FALSE),0)","v":0},null,{"$f":"IFERROR(VLOOKUP(F25,Biomasser!$A$3:$E$88,5,FALSE),0)","v":0},"",0,null,null,{"$f":"IFERROR(VLOOKUP(F25,Biomasser!$A$3:$M$88,13,FALSE),)","v":0},null,null,null,null,null,{"$f":"IF(F25<>\"\",'CO2 konvertering'!$C$14,)","v":0},null,null,null,null,0]
[null,null,null,"Ja",null,null,null,null,"",null,"",{"$f":"IFERROR(VLOOKUP(F26,Biomasser!$A$3:$E$88,4,FALSE),0)","v":0},null,{"$f":"IFERROR(VLOOKUP(F26,Biomasser!$A$3:$E$88,5,FALSE),0)","v":0},"",0,null,null,{"$f":"IFERROR(VLOOKUP(F26,Biomasser!$A$3:$M$88,13,FALSE),)","v":0},null,null,null,null,null,{"$f":"IF(F26<>\"\",'CO2 konvertering'!$C$14,)","v":0},null,null,null,null,0]
[null,null,null,"Ja",null,null,null,null,"",null,"",{"$f":"IFERROR(VLOOKUP(F27,Biomasser!$A$3:$E$88,4,FALSE),0)","v":0},null,{"$f":"IFERROR(VLOOKUP(F27,Biomasser!$A$3:$E$88,5,FALSE),0)","v":0},"",0,null,null,{"$f":"IFERROR(VLOOKUP(F27,Biomasser!$A$3:$M$88,13,FALSE),)","v":0},null,null,null,null,null,{"$f":"IF(F27<>\"\",'CO2 konvertering'!$C$14,)","v":0},null,null,null,null,0]
[null,null,null,"Ja",null,null,null,null,"",null,"",{"$f":"IFERROR(VLOOKUP(F28,Biomasser!$A$3:$E$88,4,FALSE),0)","v":0},null,{"$f":"IFERROR(VLOOKUP(F28,Biomasser!$A$3:$E$88,5,FALSE),0)","v":0},"",0,null,null,{"$f":"IFERROR(VLOOKUP(F28,Biomasser!$A$3:$M$88,13,FALSE),)","v":0},null,null,null,null,null,{"$f":"IF(F28<>\"\",'CO2 konvertering'!$C$14,)","v":0},null,null,null,null,0]
[null,null,null,"Ja",null,null,null,null,"",null,"",{"$f":"IFERROR(VLOOKUP(F29,Biomasser!$A$3:$E$88,4,FALSE),0)","v":0},null,{"$f":"IFERROR(VLOOKUP(F29,Biomasser!$A$3:$E$88,5,FALSE),0)","v":0},"",0,null,null,{"$f":"IFERROR(VLOOKUP(F29,Biomasser!$A$3:$M$88,13,FALSE),)","v":0},null,null,null,null,null,{"$f":"IF(F29<>\"\",'CO2 konvertering'!$C$14,)","v":0},null,null,null,null,0]
[null,null,null,"Ja",null,null,null,null,"",null,"",{"$f":"IFERROR(VLOOKUP(F30,Biomasser!$A$3:$E$88,4,FALSE),0)","v":0},null,{"$f":"IFERROR(VLOOKUP(F30,Biomasser!$A$3:$E$88,5,FALSE),0)","v":0},"",0,null,null,{"$f":"IFERROR(VLOOKUP(F30,Biomasser!$A$3:$M$88,13,FALSE),)","v":0},null,null,null,null,null,{"$f":"IF(F30<>\"\",'CO2 konvertering'!$C$14,)","v":0},null,null,null,null,0]
[null,null,null,"Ja",null,null,null,null,"",null,"",{"$f":"IFERROR(VLOOKUP(F31,Biomasser!$A$3:$E$88,4,FALSE),0)","v":0},null,{"$f":"IFERROR(VLOOKUP(F31,Biomasser!$A$3:$E$88,5,FALSE),0)","v":0},"",0,null,null,{"$f":"IFERROR(VLOOKUP(F31,Biomasser!$A$3:$M$88,13,FALSE),)","v":0},null,null,null,null,null,{"$f":"IF(F31<>\"\",'CO2 konvertering'!$C$14,)","v":0},null,null,null,null,0]
[null,null,null,"Ja",null,null,null,null,"",null,"",{"$f":"IFERROR(VLOOKUP(F32,Biomasser!$A$3:$E$88,4,FALSE),0)","v":0},null,{"$f":"IFERROR(VLOOKUP(F32,Biomasser!$A$3:$E$88,5,FALSE),0)","v":0},"",0,null,null,{"$f":"IFERROR(VLOOKUP(F32,Biomasser!$A$3:$M$88,13,FALSE),)","v":0},null,null,null,null,null,{"$f":"IF(F32<>\"\",'CO2 konvertering'!$C$14,)","v":0},null,null,null,null,0]
[null,null,null,"Ja",null,null,null,null,"",null,"",{"$f":"IFERROR(VLOOKUP(F33,Biomasser!$A$3:$E$88,4,FALSE),0)","v":0},null,{"$f":"IFERROR(VLOOKUP(F33,Biomasser!$A$3:$E$88,5,FALSE),0)","v":0},"",0,null,null,{"$f":"IFERROR(VLOOKUP(F33,Biomasser!$A$3:$M$88,13,FALSE),)","v":0},null,null,null,null,null,{"$f":"IF(F33<>\"\",'CO2 konvertering'!$C$14,)","v":0},null,null,null,null,0]
[null,null,null,"Ja",null,null,null,null,"",null,"",{"$f":"IFERROR(VLOOKUP(F34,Biomasser!$A$3:$E$88,4,FALSE),0)","v":0},null,{"$f":"IFERROR(VLOOKUP(F34,Biomasser!$A$3:$E$88,5,FALSE),0)","v":0},"",0,null,null,{"$f":"IFERROR(VLOOKUP(F34,Biomasser!$A$3:$M$88,13,FALSE),)","v":0},null,null,null,null,null,{"$f":"IF(F34<>\"\",'CO2 konvertering'!$C$14,)","v":0},null,null,null,null,0]
[null,null,null,"Ja",null,null,null,null,"",null,"",{"$f":"IFERROR(VLOOKUP(F35,Biomasser!$A$3:$E$88,4,FALSE),0)","v":0},null,{"$f":"IFERROR(VLOOKUP(F35,Biomasser!$A$3:$E$88,5,FALSE),0)","v":0},"",0,null,null,{"$f":"IFERROR(VLOOKUP(F35,Biomasser!$A$3:$M$88,13,FALSE),)","v":0},null,null,null,null,null,{"$f":"IF(F35<>\"\",'CO2 konvertering'!$C$14,)","v":0},null,null,null,null,0]
[null,null,null,"Ja",null,null,null,null,"",null,"",{"$f":"IFERROR(VLOOKUP(F36,Biomasser!$A$3:$E$88,4,FALSE),0)","v":0},null,{"$f":"IFERROR(VLOOKUP(F36,Biomasser!$A$3:$E$88,5,FALSE),0)","v":0},"",0,null,null,{"$f":"IFERROR(VLOOKUP(F36,Biomasser!$A$3:$M$88,13,FALSE),)","v":0},null,null,null,null,null,{"$f":"IF(F36<>\"\",'CO2 konvertering'!$C$14,)","v":0},null,null,null,null,0]
[null,null,null,"Ja",null,null,null,null,"",null,"",{"$f":"IFERROR(VLOOKUP(F37,Biomasser!$A$3:$E$88,4,FALSE),0)","v":0},null,{"$f":"IFERROR(VLOOKUP(F37,Biomasser!$A$3:$E$88,5,FALSE),0)","v":0},"",0,null,null,{"$f":"IFERROR(VLOOKUP(F37,Biomasser!$A$3:$M$88,13,FALSE),)","v":0},null,null,null,null,null,{"$f":"IF(F37<>\"\",'CO2 konvertering'!$C$14,)","v":0},null,null,null,null,0]
[null,null,null,"Ja",null,null,null,null,"",null,"",{"$f":"IFERROR(VLOOKUP(F38,Biomasser!$A$3:$E$88,4,FALSE),0)","v":0},null,{"$f":"IFERROR(VLOOKUP(F38,Biomasser!$A$3:$E$88,5,FALSE),0)","v":0},"",0,null,null,{"$f":"IFERROR(VLOOKUP(F38,Biomasser!$A$3:$M$88,13,FALSE),)","v":0},null,null,null,null,null,{"$f":"IF(F38<>\"\",'CO2 konvertering'!$C$14,)","v":0},null,null,null,null,0]
[null,null,null,"Ja",null,null,null,null,"",null,"",{"$f":"IFERROR(VLOOKUP(F39,Biomasser!$A$3:$E$88,4,FALSE),0)","v":0},null,{"$f":"IFERROR(VLOOKUP(F39,Biomasser!$A$3:$E$88,5,FALSE),0)","v":0},"",0,null,null,{"$f":"IFERROR(VLOOKUP(F39,Biomasser!$A$3:$M$88,13,FALSE),)","v":0},null,null,null,null,null,{"$f":"IF(F39<>\"\",'CO2 konvertering'!$C$14,)","v":0},null,null,null,null,0]
[null,null,null,"Ja",null,null,null,null,"",null,"",{"$f":"IFERROR(VLOOKUP(F40,Biomasser!$A$3:$E$88,4,FALSE),0)","v":0},null,{"$f":"IFERROR(VLOOKUP(F40,Biomasser!$A$3:$E$88,5,FALSE),0)","v":0},"",0,null,null,{"$f":"IFERROR(VLOOKUP(F40,Biomasser!$A$3:$M$88,13,FALSE),)","v":0},null,null,null,null,null,{"$f":"IF(F40<>\"\",'CO2 konvertering'!$C$14,)","v":0},null,null,null,null,0]
[null,null,null,"Ja",null,null,null,null,"",null,"",{"$f":"IFERROR(VLOOKUP(F41,Biomasser!$A$3:$E$88,4,FALSE),0)","v":0},null,{"$f":"IFERROR(VLOOKUP(F41,Biomasser!$A$3:$E$88,5,FALSE),0)","v":0},"",0,null,null,{"$f":"IFERROR(VLOOKUP(F41,Biomasser!$A$3:$M$88,13,FALSE),)","v":0},null,null,null,null,null,{"$f":"IF(F41<>\"\",'CO2 konvertering'!$C$14,)","v":0},null,null,null,null,0]
[null,null,null,"Ja",null,null,null,null,"",null,"",{"$f":"IFERROR(VLOOKUP(F42,Biomasser!$A$3:$E$88,4,FALSE),0)","v":0},null,{"$f":"IFERROR(VLOOKUP(F42,Biomasser!$A$3:$E$88,5,FALSE),0)","v":0},"",{"$f":"J42*L42*N42*H42","v":0},null,null,{"$f":"IFERROR(VLOOKUP(F42,Biomasser!$A$3:$M$88,13,FALSE),)","v":0},null,null,null,null,null,{"$f":"IF(F42<>\"\",'CO2 konvertering'!$C$14,)","v":0},null,null,null,null,{"$f":"SUM(S42:AC42)","v":0}]
[null,null,null,"Ja",null,null,null,null,"",null,"",{"$f":"IFERROR(VLOOKUP(F43,Biomasser!$A$3:$E$88,4,FALSE),0)","v":0},null,{"$f":"IFERROR(VLOOKUP(F43,Biomasser!$A$3:$E$88,5,FALSE),0)","v":0},"",0,null,null,{"$f":"IFERROR(VLOOKUP(F43,Biomasser!$A$3:$M$88,13,FALSE),)","v":0},null,null,null,null,null,{"$f":"IF(F43<>\"\",'CO2 konvertering'!$C$14,)","v":0},null,null,null,null,0]
[null,null,null,"Ja",null,null,null,null,"",null,"",{"$f":"IFERROR(VLOOKUP(F44,Biomasser!$A$3:$E$88,4,FALSE),0)","v":0},null,{"$f":"IFERROR(VLOOKUP(F44,Biomasser!$A$3:$E$88,5,FALSE),0)","v":0},"",0,null,null,{"$f":"IFERROR(VLOOKUP(F44,Biomasser!$A$3:$M$88,13,FALSE),)","v":0},null,null,null,null,null,{"$f":"IF(F44<>\"\",'CO2 konvertering'!$C$14,)","v":0},null,null,null,null,0]
[null,null,null,"Ja",null,null,null,null,"",null,"",{"$f":"IFERROR(VLOOKUP(F45,Biomasser!$A$3:$E$88,4,FALSE),0)","v":0},null,{"$f":"IFERROR(VLOOKUP(F45,Biomasser!$A$3:$E$88,5,FALSE),0)","v":0},"",0,null,null,{"$f":"IFERROR(VLOOKUP(F45,Biomasser!$A$3:$M$88,13,FALSE),)","v":0},null,null,null,null,null,{"$f":"IF(F45<>\"\",'CO2 konvertering'!$C$14,)","v":0},null,null,null,null,0]
[null,null,null,"Ja",null,null,null,null,"",null,"",{"$f":"IFERROR(VLOOKUP(F46,Biomasser!$A$3:$E$88,4,FALSE),0)","v":0},null,{"$f":"IFERROR(VLOOKUP(F46,Biomasser!$A$3:$E$88,5,FALSE),0)","v":0},"",0,null,null,{"$f":"IFERROR(VLOOKUP(F46,Biomasser!$A$3:$M$88,13,FALSE),)","v":0},null,null,null,null,null,{"$f":"IF(F46<>\"\",'CO2 konvertering'!$C$14,)","v":0},null,null,null,null,0]
[null,null,null,"Ja",null,null,null,null,"",null,"",{"$f":"IFERROR(VLOOKUP(F47,Biomasser!$A$3:$E$88,4,FALSE),0)","v":0},null,{"$f":"IFERROR(VLOOKUP(F47,Biomasser!$A$3:$E$88,5,FALSE),0)","v":0},"",0,null,null,{"$f":"IFERROR(VLOOKUP(F47,Biomasser!$A$3:$M$88,13,FALSE),)","v":0},null,null,null,null,null,{"$f":"IF(F47<>\"\",'CO2 konvertering'!$C$14,)","v":0},null,null,null,null,0]
[null,null,null,"Ja",null,null,null,null,"",null,"",{"$f":"IFERROR(VLOOKUP(F48,Biomasser!$A$3:$E$88,4,FALSE),0)","v":0},null,{"$f":"IFERROR(VLOOKUP(F48,Biomasser!$A$3:$E$88,5,FALSE),0)","v":0},"",0,null,null,{"$f":"IFERROR(VLOOKUP(F48,Biomasser!$A$3:$M$88,13,FALSE),)","v":0},null,null,null,null,null,{"$f":"IF(F48<>\"\",'CO2 konvertering'!$C$14,)","v":0},null,null,null,null,0]
[null,null,null,"Ja",null,null,null,null,"",null,"",{"$f":"IFERROR(VLOOKUP(F49,Biomasser!$A$3:$E$88,4,FALSE),0)","v":0},null,{"$f":"IFERROR(VLOOKUP(F49,Biomasser!$A$3:$E$88,5,FALSE),0)","v":0},"",0,null,null,{"$f":"IFERROR(VLOOKUP(F49,Biomasser!$A$3:$M$88,13,FALSE),)","v":0},null,null,null,null,null,{"$f":"IF(F49<>\"\",'CO2 konvertering'!$C$14,)","v":0},null,null,null,null,0]
[null,null,null,"Ja",null,null,null,null,"",null,"",{"$f":"IFERROR(VLOOKUP(F50,Biomasser!$A$3:$E$88,4,FALSE),0)","v":0},null,{"$f":"IFERROR(VLOOKUP(F50,Biomasser!$A$3:$E$88,5,FALSE),0)","v":0},"",0,null,null,{"$f":"IFERROR(VLOOKUP(F50,Biomasser!$A$3:$M$88,13,FALSE),)","v":0},null,null,null,null,null,{"$f":"IF(F50<>\"\",'CO2 konvertering'!$C$14,)","v":0},null,null,null,null,0]
[null,null,null,"Ja",null,null,null,null,"",null,"",{"$f":"IFERROR(VLOOKUP(F51,Biomasser!$A$3:$E$88,4,FALSE),0)","v":0},null,{"$f":"IFERROR(VLOOKUP(F51,Biomasser!$A$3:$E$88,5,FALSE),0)","v":0},"",0,null,null,{"$f":"IFERROR(VLOOKUP(F51,Biomasser!$A$3:$M$88,13,FALSE),)","v":0},null,null,null,null,null,{"$f":"IF(F51<>\"\",'CO2 konvertering'!$C$14,)","v":0},null,null,null,null,0]
[null,null,null,"Ja",null,null,null,null,"",null,"",{"$f":"IFERROR(VLOOKUP(F52,Biomasser!$A$3:$E$88,4,FALSE),0)","v":0},null,{"$f":"IFERROR(VLOOKUP(F52,Biomasser!$A$3:$E$88,5,FALSE),0)","v":0},"",0,null,null,{"$f":"IFERROR(VLOOKUP(F52,Biomasser!$A$3:$M$88,13,FALSE),)","v":0},null,null,null,null,null,{"$f":"IF(F52<>\"\",'CO2 konvertering'!$C$14,)","v":0},null,null,null,null,0]
[null,null,null,"Ja",null,null,null,null,"",null,"",{"$f":"IFERROR(VLOOKUP(F53,Biomasser!$A$3:$E$88,4,FALSE),0)","v":0},null,{"$f":"IFERROR(VLOOKUP(F53,Biomasser!$A$3:$E$88,5,FALSE),0)","v":0},"",0,null,null,{"$f":"IFERROR(VLOOKUP(F53,Biomasser!$A$3:$M$88,13,FALSE),)","v":0},null,null,null,null,null,{"$f":"IF(F53<>\"\",'CO2 konvertering'!$C$14,)","v":0},null,null,null,null,0]
[null,null,null,"Ja",null,null,null,null,"",null,"",{"$f":"IFERROR(VLOOKUP(F54,Biomasser!$A$3:$E$88,4,FALSE),0)","v":0},null,{"$f":"IFERROR(VLOOKUP(F54,Biomasser!$A$3:$E$88,5,FALSE),0)","v":0},"",0,null,null,{"$f":"IFERROR(VLOOKUP(F54,Biomasser!$A$3:$M$88,13,FALSE),)","v":0},null,null,null,null,null,{"$f":"IF(F54<>\"\",'CO2 konvertering'!$C$14,)","v":0},null,null,null,null,0]
[null,null,null,"Ja",null,null,null,null,"",null,"",{"$f":"IFERROR(VLOOKUP(F55,Biomasser!$A$3:$E$88,4,FALSE),0)","v":0},null,{"$f":"IFERROR(VLOOKUP(F55,Biomasser!$A$3:$E$88,5,FALSE),0)","v":0},"",0,null,null,{"$f":"IFERROR(VLOOKUP(F55,Biomasser!$A$3:$M$88,13,FALSE),)","v":0},null,null,null,null,null,{"$f":"IF(F55<>\"\",'CO2 konvertering'!$C$14,)","v":0},null,null,null,null,0]
[null,null,null,"Ja",null,null,null,null,"",null,"",{"$f":"IFERROR(VLOOKUP(F56,Biomasser!$A$3:$E$88,4,FALSE),0)","v":0},null,{"$f":"IFERROR(VLOOKUP(F56,Biomasser!$A$3:$E$88,5,FALSE),0)","v":0},"",0,null,null,{"$f":"IFERROR(VLOOKUP(F56,Biomasser!$A$3:$M$88,13,FALSE),)","v":0},null,null,null,null,null,{"$f":"IF(F56<>\"\",'CO2 konvertering'!$C$14,)","v":0},null,null,null,null,0]
[null,null,null,"Ja",null,null,null,null,"",null,"",{"$f":"IFERROR(VLOOKUP(F57,Biomasser!$A$3:$E$88,4,FALSE),0)","v":0},null,{"$f":"IFERROR(VLOOKUP(F57,Biomasser!$A$3:$E$88,5,FALSE),0)","v":0},"",0,null,null,{"$f":"IFERROR(VLOOKUP(F57,Biomasser!$A$3:$M$88,13,FALSE),)","v":0},null,null,null,null,null,{"$f":"IF(F57<>\"\",'CO2 konvertering'!$C$14,)","v":0},null,null,null,null,0]
[null,null,null,"Ja",null,null,null,null,"",null,"",{"$f":"IFERROR(VLOOKUP(F58,Biomasser!$A$3:$E$88,4,FALSE),0)","v":0},null,{"$f":"IFERROR(VLOOKUP(F58,Biomasser!$A$3:$E$88,5,FALSE),0)","v":0},"",0,null,null,{"$f":"IFERROR(VLOOKUP(F58,Biomasser!$A$3:$M$88,13,FALSE),)","v":0},null,null,null,null,null,{"$f":"IF(F58<>\"\",'CO2 konvertering'!$C$14,)","v":0},null,null,null,null,0]
[null,null,null,"Ja",null,null,null,null,"",null,"",{"$f":"IFERROR(VLOOKUP(F59,Biomasser!$A$3:$E$88,4,FALSE),0)","v":0},null,{"$f":"IFERROR(VLOOKUP(F59,Biomasser!$A$3:$E$88,5,FALSE),0)","v":0},"",0,null,null,{"$f":"IFERROR(VLOOKUP(F59,Biomasser!$A$3:$M$88,13,FALSE),)","v":0},null,null,null,null,null,{"$f":"IF(F59<>\"\",'CO2 konvertering'!$C$14,)","v":0},null,null,null,null,0]
[null,null,null,"Ja",null,null,null,null,"",null,"",{"$f":"IFERROR(VLOOKUP(F60,Biomasser!$A$3:$E$88,4,FALSE),0)","v":0},null,{"$f":"IFERROR(VLOOKUP(F60,Biomasser!$A$3:$E$88,5,FALSE),0)","v":0},"",0,null,null,{"$f":"IFERROR(VLOOKUP(F60,Biomasser!$A$3:$M$88,13,FALSE),)","v":0},null,null,null,null,null,{"$f":"IF(F60<>\"\",'CO2 konvertering'!$C$14,)","v":0},null,null,null,null,0]
[null,null,null,"Ja",null,null,null,null,"",null,"",{"$f":"IFERROR(VLOOKUP(F61,Biomasser!$A$3:$E$88,4,FALSE),0)","v":0},null,{"$f":"IFERROR(VLOOKUP(F61,Biomasser!$A$3:$E$88,5,FALSE),0)","v":0},"",0,null,null,{"$f":"IFERROR(VLOOKUP(F61,Biomasser!$A$3:$M$88,13,FALSE),)","v":0},null,null,null,null,null,{"$f":"IF(F61<>\"\",'CO2 konvertering'!$C$14,)","v":0},null,null,null,null,0]
[null,null,null,"Ja",null,null,null,null,"",null,"",{"$f":"IFERROR(VLOOKUP(F62,Biomasser!$A$3:$E$88,4,FALSE),0)","v":0},null,{"$f":"IFERROR(VLOOKUP(F62,Biomasser!$A$3:$E$88,5,FALSE),0)","v":0},"",0,null,null,{"$f":"IFERROR(VLOOKUP(F62,Biomasser!$A$3:$M$88,13,FALSE),)","v":0},null,null,null,null,null,{"$f":"IF(F62<>\"\",'CO2 konvertering'!$C$14,)","v":0},null,null,null,null,0]
[null,null,null,"Ja",null,null,null,null,"",null,"",{"$f":"IFERROR(VLOOKUP(F63,Biomasser!$A$3:$E$88,4,FALSE),0)","v":0},null,{"$f":"IFERROR(VLOOKUP(F63,Biomasser!$A$3:$E$88,5,FALSE),0)","v":0},"",0,null,null,{"$f":"IFERROR(VLOOKUP(F63,Biomasser!$A$3:$M$88,13,FALSE),)","v":0},null,null,null,null,null,{"$f":"IF(F63<>\"\",'CO2 konvertering'!$C$14,)","v":0},null,null,null,null,0]
[null,null,null,"Ja",null,null,null,null,"",null,"",{"$f":"IFERROR(VLOOKUP(F64,Biomasser!$A$3:$E$88,4,FALSE),0)","v":0},null,{"$f":"IFERROR(VLOOKUP(F64,Biomasser!$A$3:$E$88,5,FALSE),0)","v":0},"",0,null,null,{"$f":"IFERROR(VLOOKUP(F64,Biomasser!$A$3:$M$88,13,FALSE),)","v":0},null,null,null,null,null,{"$f":"IF(F64<>\"\",'CO2 konvertering'!$C$14,)","v":0},null,null,null,null,0]
[null,null,null,"Ja",null,null,null,null,"",null,"",{"$f":"IFERROR(VLOOKUP(F65,Biomasser!$A$3:$E$88,4,FALSE),0)","v":0},null,{"$f":"IFERROR(VLOOKUP(F65,Biomasser!$A$3:$E$88,5,FALSE),0)","v":0},"",0,null,null,{"$f":"IFERROR(VLOOKUP(F65,Biomasser!$A$3:$M$88,13,FALSE),)","v":0},null,null,null,null,null,{"$f":"IF(F65<>\"\",'CO2 konvertering'!$C$14,)","v":0},null,null,null,null,0]
[null,null,null,"Ja",null,null,null,null,"",null,"",{"$f":"IFERROR(VLOOKUP(F66,Biomasser!$A$3:$E$88,4,FALSE),0)","v":0},null,{"$f":"IFERROR(VLOOKUP(F66,Biomasser!$A$3:$E$88,5,FALSE),0)","v":0},"",0,null,null,{"$f":"IFERROR(VLOOKUP(F66,Biomasser!$A$3:$M$88,13,FALSE),)","v":0},null,null,null,null,null,{"$f":"IF(F66<>\"\",'CO2 konvertering'!$C$14,)","v":0},null,null,null,null,0]
[null,null,null,"Ja",null,null,null,null,"",null,"",{"$f":"IFERROR(VLOOKUP(F67,Biomasser!$A$3:$E$88,4,FALSE),0)","v":0},null,{"$f":"IFERROR(VLOOKUP(F67,Biomasser!$A$3:$E$88,5,FALSE),0)","v":0},"",0,null,null,{"$f":"IFERROR(VLOOKUP(F67,Biomasser!$A$3:$M$88,13,FALSE),)","v":0},null,null,null,null,null,{"$f":"IF(F67<>\"\",'CO2 konvertering'!$C$14,)","v":0},null,null,null,null,0]
[null,null,null,"Ja",null,null,null,null,"",null,"",{"$f":"IFERROR(VLOOKUP(F68,Biomasser!$A$3:$E$88,4,FALSE),0)","v":0},null,{"$f":"IFERROR(VLOOKUP(F68,Biomasser!$A$3:$E$88,5,FALSE),0)","v":0},"",0,null,null,{"$f":"IFERROR(VLOOKUP(F68,Biomasser!$A$3:$M$88,13,FALSE),)","v":0},null,null,null,null,null,{"$f":"IF(F68<>\"\",'CO2 konvertering'!$C$14,)","v":0},null,null,null,null,0]
[null,null,null,"Ja",null,null,null,null,"",null,"",{"$f":"IFERROR(VLOOKUP(F69,Biomasser!$A$3:$E$88,4,FALSE),0)","v":0},null,{"$f":"IFERROR(VLOOKUP(F69,Biomasser!$A$3:$E$88,5,FALSE),0)","v":0},"",0,null,null,{"$f":"IFERROR(VLOOKUP(F69,Biomasser!$A$3:$M$88,13,FALSE),)","v":0},null,null,null,null,null,{"$f":"IF(F69<>\"\",'CO2 konvertering'!$C$14,)","v":0},null,null,null,null,0]
[null,null,null,"Ja",null,null,null,null,"",null,"",{"$f":"IFERROR(VLOOKUP(F70,Biomasser!$A$3:$E$88,4,FALSE),0)","v":0},null,{"$f":"IFERROR(VLOOKUP(F70,Biomasser!$A$3:$E$88,5,FALSE),0)","v":0},"",0,null,null,{"$f":"IFERROR(VLOOKUP(F70,Biomasser!$A$3:$M$88,13,FALSE),)","v":0},null,null,null,null,null,{"$f":"IF(F70<>\"\",'CO2 konvertering'!$C$14,)","v":0},null,null,null,null,0]
[null,null,null,"Ja",null,null,null,null,"",null,"",{"$f":"IFERROR(VLOOKUP(F71,Biomasser!$A$3:$E$88,4,FALSE),0)","v":0},null,{"$f":"IFERROR(VLOOKUP(F71,Biomasser!$A$3:$E$88,5,FALSE),0)","v":0},"",0,null,null,{"$f":"IFERROR(VLOOKUP(F71,Biomasser!$A$3:$M$88,13,FALSE),)","v":0},null,null,null,null,null,{"$f":"IF(F71<>\"\",'CO2 konvertering'!$C$14,)","v":0},null,null,null,null,0]
[null,null,null,"Ja",null,null,null,null,"",null,"",{"$f":"IFERROR(VLOOKUP(F72,Biomasser!$A$3:$E$88,4,FALSE),0)","v":0},null,{"$f":"IFERROR(VLOOKUP(F72,Biomasser!$A$3:$E$88,5,FALSE),0)","v":0},"",0,null,null,{"$f":"IFERROR(VLOOKUP(F72,Biomasser!$A$3:$M$88,13,FALSE),)","v":0},null,null,null,null,null,{"$f":"IF(F72<>\"\",'CO2 konvertering'!$C$14,)","v":0},null,null,null,null,0]
[null,null,null,"Ja",null,null,null,null,"",null,"",{"$f":"IFERROR(VLOOKUP(F73,Biomasser!$A$3:$E$88,4,FALSE),0)","v":0},null,{"$f":"IFERROR(VLOOKUP(F73,Biomasser!$A$3:$E$88,5,FALSE),0)","v":0},"",0,null,null,{"$f":"IFERROR(VLOOKUP(F73,Biomasser!$A$3:$M$88,13,FALSE),)","v":0},null,null,null,null,null,{"$f":"IF(F73<>\"\",'CO2 konvertering'!$C$14,)","v":0},null,null,null,null,0]
[null,null,null,"Ja",null,null,null,null,"",null,"",{"$f":"IFERROR(VLOOKUP(F74,Biomasser!$A$3:$E$88,4,FALSE),0)","v":0},null,{"$f":"IFERROR(VLOOKUP(F74,Biomasser!$A$3:$E$88,5,FALSE),0)","v":0},"",{"$f":"J74*L74*N74*H74","v":0},null,null,{"$f":"IFERROR(VLOOKUP(F74,Biomasser!$A$3:$M$88,13,FALSE),)","v":0},null,null,null,null,null,{"$f":"IF(F74<>\"\",'CO2 konvertering'!$C$14,)","v":0},null,null,null,null,{"$f":"SUM(S74:AC74)","v":0}]
[null,null,null,"Ja",null,null,null,null,{"$f":"IF(AND(F75<>\"\",ISBLANK(H75)),\"Indtast vægt\",\"\")","v":""},null,{"$f":"IF(AND(F75<>\"\",ISBLANK(J75)),\"Indtast tørstof %\",\"\")","v":""},{"$f":"IFERROR(VLOOKUP(F75,Biomasser!$A$3:$E$88,4,FALSE),0)","v":0},null,{"$f":"IFERROR(VLOOKUP(F75,Biomasser!$A$3:$E$88,5,FALSE),0)","v":0},"",0,null,null,{"$f":"IFERROR(VLOOKUP(F75,Biomasser!$A$3:$M$88,13,FALSE),)","v":0},null,null,null,null,null,{"$f":"IF(F75<>\"\",'CO2 konvertering'!$C$14,)","v":0},null,null,null,null,0]
[null,null,null,"Ja",null,null,null,null,"",null,"",{"$f":"IFERROR(VLOOKUP(F76,Biomasser!$A$3:$E$88,4,FALSE),0)","v":0},null,{"$f":"IFERROR(VLOOKUP(F76,Biomasser!$A$3:$E$88,5,FALSE),0)","v":0},"",0,null,null,{"$f":"IFERROR(VLOOKUP(F76,Biomasser!$A$3:$M$88,13,FALSE),)","v":0},null,null,null,null,null,{"$f":"IF(F76<>\"\",'CO2 konvertering'!$C$14,)","v":0},null,null,null,null,0]
[null,null,null,"Ja",null,null,null,null,"",null,"",{"$f":"IFERROR(VLOOKUP(F77,Biomasser!$A$3:$E$88,4,FALSE),0)","v":0},null,{"$f":"IFERROR(VLOOKUP(F77,Biomasser!$A$3:$E$88,5,FALSE),0)","v":0},"",0,null,null,{"$f":"IFERROR(VLOOKUP(F77,Biomasser!$A$3:$M$88,13,FALSE),)","v":0},null,null,null,null,null,{"$f":"IF(F77<>\"\",'CO2 konvertering'!$C$14,)","v":0},null,null,null,null,0]
[null,null,null,"Ja",null,null,null,null,"",null,"",{"$f":"IFERROR(VLOOKUP(F78,Biomasser!$A$3:$E$88,4,FALSE),0)","v":0},null,{"$f":"IFERROR(VLOOKUP(F78,Biomasser!$A$3:$E$88,5,FALSE),0)","v":0},{"$f":"IF(AND(F78<>\"\",(N78=0)),\"Opdater biomasseark\",\"\")","v":""},0,null,null,{"$f":"IFERROR(VLOOKUP(F78,Biomasser!$A$3:$M$88,13,FALSE),)","v":0},null,null,null,null,null,{"$f":"IF(F78<>\"\",'CO2 konvertering'!$C$14,)","v":0},null,null,null,null,0]
[null,null,null,"Ja",null,null,null,null,"",null,"",{"$f":"IFERROR(VLOOKUP(F79,Biomasser!$A$3:$E$88,4,FALSE),0)","v":0},null,{"$f":"IFERROR(VLOOKUP(F79,Biomasser!$A$3:$E$88,5,FALSE),0)","v":0},"",0,null,null,{"$f":"IFERROR(VLOOKUP(F79,Biomasser!$A$3:$M$88,13,FALSE),)","v":0},null,null,null,null,null,{"$f":"IF(F79<>\"\",'CO2 konvertering'!$C$14,)","v":0},null,null,null,null,0]
[null,null,null,"Ja",null,null,null,null,"",null,"",{"$f":"IFERROR(VLOOKUP(F80,Biomasser!$A$3:$E$88,4,FALSE),0)","v":0},null,{"$f":"IFERROR(VLOOKUP(F80,Biomasser!$A$3:$E$88,5,FALSE),0)","v":0},"",0,null,null,{"$f":"IFERROR(VLOOKUP(F80,Biomasser!$A$3:$M$88,13,FALSE),)","v":0},null,null,null,null,null,{"$f":"IF(F80<>\"\",'CO2 konvertering'!$C$14,)","v":0},null,null,null,null,0]
[null,null,null,"Ja",null,null,null,null,"",null,"",{"$f":"IFERROR(VLOOKUP(F81,Biomasser!$A$3:$E$88,4,FALSE),0)","v":0},null,{"$f":"IFERROR(VLOOKUP(F81,Biomasser!$A$3:$E$88,5,FALSE),0)","v":0},"",0,null,null,{"$f":"IFERROR(VLOOKUP(F81,Biomasser!$A$3:$M$88,13,FALSE),)","v":0},null,null,null,null,null,{"$f":"IF(F81<>\"\",'CO2 konvertering'!$C$14,)","v":0},null,null,null,null,0]
[null,null,null,"Ja",null,null,null,null,"",null,"",{"$f":"IFERROR(VLOOKUP(F82,Biomasser!$A$3:$E$88,4,FALSE),0)","v":0},null,{"$f":"IFERROR(VLOOKUP(F82,Biomasser!$A$3:$E$88,5,FALSE),0)","v":0},"",0,null,null,{"$f":"IFERROR(VLOOKUP(F82,Biomasser!$A$3:$M$88,13,FALSE),)","v":0},null,null,null,null,null,{"$f":"IF(F82<>\"\",'CO2 konvertering'!$C$14,)","v":0},null,null,null,null,0]
[null,null,null,"Ja",null,null,null,null,"",null,"",{"$f":"IFERROR(VLOOKUP(F83,Biomasser!$A$3:$E$88,4,FALSE),0)","v":0},null,{"$f":"IFERROR(VLOOKUP(F83,Biomasser!$A$3:$E$88,5,FALSE),0)","v":0},"",0,null,null,{"$f":"IFERROR(VLOOKUP(F83,Biomasser!$A$3:$M$88,13,FALSE),)","v":0},null,null,null,null,null,{"$f":"IF(F83<>\"\",'CO2 konvertering'!$C$14,)","v":0},null,null,null,null,0]
[null,null,null,"Ja",null,null,null,null,"",null,"",{"$f":"IFERROR(VLOOKUP(F84,Biomasser!$A$3:$E$88,4,FALSE),0)","v":0},null,{"$f":"IFERROR(VLOOKUP(F84,Biomasser!$A$3:$E$88,5,FALSE),0)","v":0},"",0,null,null,{"$f":"IFERROR(VLOOKUP(F84,Biomasser!$A$3:$M$88,13,FALSE),)","v":0},null,null,null,null,null,{"$f":"IF(F84<>\"\",'CO2 konvertering'!$C$14,)","v":0},null,null,null,null,0]
[null,null,null,"Ja",null,null,null,null,"",null,"",{"$f":"IFERROR(VLOOKUP(F85,Biomasser!$A$3:$E$88,4,FALSE),0)","v":0},null,{"$f":"IFERROR(VLOOKUP(F85,Biomasser!$A$3:$E$88,5,FALSE),0)","v":0},"",0,null,null,{"$f":"IFERROR(VLOOKUP(F85,Biomasser!$A$3:$M$88,13,FALSE),)","v":0},null,null,null,null,null,{"$f":"IF(F85<>\"\",'CO2 konvertering'!$C$14,)","v":0},null,null,null,null,0]
[null,null,null,"Ja",null,null,null,null,"",null,"",{"$f":"IFERROR(VLOOKUP(F86,Biomasser!$A$3:$E$88,4,FALSE),0)","v":0},null,{"$f":"IFERROR(VLOOKUP(F86,Biomasser!$A$3:$E$88,5,FALSE),0)","v":0},"",0,null,null,{"$f":"IFERROR(VLOOKUP(F86,Biomasser!$A$3:$M$88,13,FALSE),)","v":0},null,null,null,null,null,{"$f":"IF(F86<>\"\",'CO2 konvertering'!$C$14,)","v":0},null,null,null,null,0]
[null,null,null,"Ja",null,null,null,null,"",null,"",{"$f":"IFERROR(VLOOKUP(F87,Biomasser!$A$3:$E$88,4,FALSE),0)","v":0},null,{"$f":"IFERROR(VLOOKUP(F87,Biomasser!$A$3:$E$88,5,FALSE),0)","v":0},"",0,null,null,{"$f":"IFERROR(VLOOKUP(F87,Biomasser!$A$3:$M$88,13,FALSE),)","v":0},null,null,null,null,null,{"$f":"IF(F87<>\"\",'CO2 konvertering'!$C$14,)","v":0},null,null,null,null,0]
[null,null,null,"Ja",null,null,null,null,"",null,"",{"$f":"IFERROR(VLOOKUP(F88,Biomasser!$A$3:$E$88,4,FALSE),0)","v":0},null,{"$f":"IFERROR(VLOOKUP(F88,Biomasser!$A$3:$E$88,5,FALSE),0)","v":0},"",0,null,null,{"$f":"IFERROR(VLOOKUP(F88,Biomasser!$A$3:$M$88,13,FALSE),)","v":0},null,null,null,null,null,{"$f":"IF(F88<>\"\",'CO2 konvertering'!$C$14,)","v":0},null,null,null,null,0]
[null,null,null,"Ja",null,null,null,null,"",null,"",{"$f":"IFERROR(VLOOKUP(F89,Biomasser!$A$3:$E$88,4,FALSE),0)","v":0},null,{"$f":"IFERROR(VLOOKUP(F89,Biomasser!$A$3:$E$88,5,FALSE),0)","v":0},"",0,null,null,{"$f":"IFERROR(VLOOKUP(F89,Biomasser!$A$3:$M$88,13,FALSE),)","v":0},null,null,null,null,null,{"$f":"IF(F89<>\"\",'CO2 konvertering'!$C$14,)","v":0},null,null,null,null,0]
[null,null,null,"Ja",null,null,null,null,"",null,"",{"$f":"IFERROR(VLOOKUP(F90,Biomasser!$A$3:$E$88,4,FALSE),0)","v":0},null,{"$f":"IFERROR(VLOOKUP(F90,Biomasser!$A$3:$E$88,5,FALSE),0)","v":0},"",0,null,null,{"$f":"IFERROR(VLOOKUP(F90,Biomasser!$A$3:$M$88,13,FALSE),)","v":0},null,null,null,null,null,{"$f":"IF(F90<>\"\",'CO2 konvertering'!$C$14,)","v":0},null,null,null,null,0]
[null,null,null,"Ja",null,null,null,null,"",null,"",{"$f":"IFERROR(VLOOKUP(F91,Biomasser!$A$3:$E$88,4,FALSE),0)","v":0},null,{"$f":"IFERROR(VLOOKUP(F91,Biomasser!$A$3:$E$88,5,FALSE),0)","v":0},"",0,null,null,{"$f":"IFERROR(VLOOKUP(F91,Biomasser!$A$3:$M$88,13,FALSE),)","v":0},null,null,null,null,null,{"$f":"IF(F91<>\"\",'CO2 konvertering'!$C$14,)","v":0},null,null,null,null,0]
[null,null,null,"Ja",null,null,null,null,"",null,"",{"$f":"IFERROR(VLOOKUP(F92,Biomasser!$A$3:$E$88,4,FALSE),0)","v":0},null,{"$f":"IFERROR(VLOOKUP(F92,Biomasser!$A$3:$E$88,5,FALSE),0)","v":0},"",0,null,null,{"$f":"IFERROR(VLOOKUP(F92,Biomasser!$A$3:$M$88,13,FALSE),)","v":0},null,null,null,null,null,{"$f":"IF(F92<>\"\",'CO2 konvertering'!$C$14,)","v":0},null,null,null,null,0]
[null,null,null,"Ja",null,null,null,null,"",null,"",{"$f":"IFERROR(VLOOKUP(F93,Biomasser!$A$3:$E$88,4,FALSE),0)","v":0},null,{"$f":"IFERROR(VLOOKUP(F93,Biomasser!$A$3:$E$88,5,FALSE),0)","v":0},"",0,null,null,{"$f":"IFERROR(VLOOKUP(F93,Biomasser!$A$3:$M$88,13,FALSE),)","v":0},null,null,null,null,null,{"$f":"IF(F93<>\"\",'CO2 konvertering'!$C$14,)","v":0},null,null,null,null,0]
[null,null,null,"Ja",null,null,null,null,"",null,"",{"$f":"IFERROR(VLOOKUP(F94,Biomasser!$A$3:$E$88,4,FALSE),0)","v":0},null,{"$f":"IFERROR(VLOOKUP(F94,Biomasser!$A$3:$E$88,5,FALSE),0)","v":0},"",0,null,null,{"$f":"IFERROR(VLOOKUP(F94,Biomasser!$A$3:$M$88,13,FALSE),)","v":0},null,null,null,null,null,{"$f":"IF(F94<>\"\",'CO2 konvertering'!$C$14,)","v":0},null,null,null,null,0]
[null,null,null,"Ja",null,null,null,null,"",null,"",{"$f":"IFERROR(VLOOKUP(F95,Biomasser!$A$3:$E$88,4,FALSE),0)","v":0},null,{"$f":"IFERROR(VLOOKUP(F95,Biomasser!$A$3:$E$88,5,FALSE),0)","v":0},"",0,null,null,{"$f":"IFERROR(VLOOKUP(F95,Biomasser!$A$3:$M$88,13,FALSE),)","v":0},null,null,null,null,null,{"$f":"IF(F95<>\"\",'CO2 konvertering'!$C$14,)","v":0},null,null,null,null,0]
[null,null,null,"Ja",null,null,null,null,"",null,"",{"$f":"IFERROR(VLOOKUP(F96,Biomasser!$A$3:$E$88,4,FALSE),0)","v":0},null,{"$f":"IFERROR(VLOOKUP(F96,Biomasser!$A$3:$E$88,5,FALSE),0)","v":0},"",0,null,null,{"$f":"IFERROR(VLOOKUP(F96,Biomasser!$A$3:$M$88,13,FALSE),)","v":0},null,null,null,null,null,{"$f":"IF(F96<>\"\",'CO2 konvertering'!$C$14,)","v":0},null,null,null,null,0]
[null,null,null,"Ja",null,null,null,null,"",null,"",{"$f":"IFERROR(VLOOKUP(F97,Biomasser!$A$3:$E$88,4,FALSE),0)","v":0},null,{"$f":"IFERROR(VLOOKUP(F97,Biomasser!$A$3:$E$88,5,FALSE),0)","v":0},"",0,null,null,{"$f":"IFERROR(VLOOKUP(F97,Biomasser!$A$3:$M$88,13,FALSE),)","v":0},null,null,null,null,null,{"$f":"IF(F97<>\"\",'CO2 konvertering'!$C$14,)","v":0},null,null,null,null,0]
[null,null,null,"Ja",null,null,null,null,"",null,"",{"$f":"IFERROR(VLOOKUP(F98,Biomasser!$A$3:$E$88,4,FALSE),0)","v":0},null,{"$f":"IFERROR(VLOOKUP(F98,Biomasser!$A$3:$E$88,5,FALSE),0)","v":0},"",0,null,null,{"$f":"IFERROR(VLOOKUP(F98,Biomasser!$A$3:$M$88,13,FALSE),)","v":0},null,null,null,null,null,{"$f":"IF(F98<>\"\",'CO2 konvertering'!$C$14,)","v":0},null,null,null,null,0]
[null,null,null,"Ja",null,null,null,null,"",null,"",{"$f":"IFERROR(VLOOKUP(F99,Biomasser!$A$3:$E$88,4,FALSE),0)","v":0},null,{"$f":"IFERROR(VLOOKUP(F99,Biomasser!$A$3:$E$88,5,FALSE),0)","v":0},"",0,null,null,{"$f":"IFERROR(VLOOKUP(F99,Biomasser!$A$3:$M$88,13,FALSE),)","v":0},null,null,null,null,null,{"$f":"IF(F99<>\"\",'CO2 konvertering'!$C$14,)","v":0},null,null,null,null,0]
[null,null,null,"Ja",null,null,null,null,"",null,"",{"$f":"IFERROR(VLOOKUP(F100,Biomasser!$A$3:$E$88,4,FALSE),0)","v":0},null,{"$f":"IFERROR(VLOOKUP(F100,Biomasser!$A$3:$E$88,5,FALSE),0)","v":0},"",0,null,null,{"$f":"IFERROR(VLOOKUP(F100,Biomasser!$A$3:$M$88,13,FALSE),)","v":0},null,null,null,null,null,{"$f":"IF(F100<>\"\",'CO2 konvertering'!$C$14,)","v":0},null,null,null,null,0]
[null,null,null,"Ja",null,null,null,null,"",null,"",{"$f":"IFERROR(VLOOKUP(F101,Biomasser!$A$3:$E$88,4,FALSE),0)","v":0},null,{"$f":"IFERROR(VLOOKUP(F101,Biomasser!$A$3:$E$88,5,FALSE),0)","v":0},"",0,null,null,{"$f":"IFERROR(VLOOKUP(F101,Biomasser!$A$3:$M$88,13,FALSE),)","v":0},null,null,null,null,null,{"$f":"IF(F101<>\"\",'CO2 konvertering'!$C$14,)","v":0},null,null,null,null,0]
[null,null,null,"Ja",null,null,null,null,"",null,"",{"$f":"IFERROR(VLOOKUP(F102,Biomasser!$A$3:$E$88,4,FALSE),0)","v":0},null,{"$f":"IFERROR(VLOOKUP(F102,Biomasser!$A$3:$E$88,5,FALSE),0)","v":0},"",0,null,null,{"$f":"IFERROR(VLOOKUP(F102,Biomasser!$A$3:$M$88,13,FALSE),)","v":0},null,null,null,null,null,{"$f":"IF(F102<>\"\",'CO2 konvertering'!$C$14,)","v":0},null,null,null,null,0]
[null,null,null,"Ja",null,null,null,null,"",null,"",{"$f":"IFERROR(VLOOKUP(F103,Biomasser!$A$3:$E$88,4,FALSE),0)","v":0},null,{"$f":"IFERROR(VLOOKUP(F103,Biomasser!$A$3:$E$88,5,FALSE),0)","v":0},"",0,null,null,{"$f":"IFERROR(VLOOKUP(F103,Biomasser!$A$3:$M$88,13,FALSE),)","v":0},null,null,null,null,null,{"$f":"IF(F103<>\"\",'CO2 konvertering'!$C$14,)","v":0},null,null,null,null,0]
[null,null,null,"Ja",null,null,null,null,"",null,"",{"$f":"IFERROR(VLOOKUP(F104,Biomasser!$A$3:$E$88,4,FALSE),0)","v":0},null,{"$f":"IFERROR(VLOOKUP(F104,Biomasser!$A$3:$E$88,5,FALSE),0)","v":0},"",0,null,null,{"$f":"IFERROR(VLOOKUP(F104,Biomasser!$A$3:$M$88,13,FALSE),)","v":0},null,null,null,null,null,{"$f":"IF(F104<>\"\",'CO2 konvertering'!$C$14,)","v":0},null,null,null,null,0]
[null,null,null,"Ja",null,null,null,null,"",null,"",{"$f":"IFERROR(VLOOKUP(F105,Biomasser!$A$3:$E$88,4,FALSE),0)","v":0},null,{"$f":"IFERROR(VLOOKUP(F105,Biomasser!$A$3:$E$88,5,FALSE),0)","v":0},"",0,null,null,{"$f":"IFERROR(VLOOKUP(F105,Biomasser!$A$3:$M$88,13,FALSE),)","v":0},null,null,null,null,null,{"$f":"IF(F105<>\"\",'CO2 konvertering'!$C$14,)","v":0},null,null,null,null,0]
[null,null,null,"Ja",null,null,null,null,"",null,"",{"$f":"IFERROR(VLOOKUP(F106,Biomasser!$A$3:$E$88,4,FALSE),0)","v":0},null,{"$f":"IFERROR(VLOOKUP(F106,Biomasser!$A$3:$E$88,5,FALSE),0)","v":0},"",0,null,null,{"$f":"IFERROR(VLOOKUP(F106,Biomasser!$A$3:$M$88,13,FALSE),)","v":0},null,null,null,null,null,{"$f":"IF(F106<>\"\",'CO2 konvertering'!$C$14,)","v":0},null,null,null,null,{"$f":"SUM(S106:AC106)","v":0}]
[null,null,null,"Ja",null,null,null,null,"",null,"",{"$f":"IFERROR(VLOOKUP(F107,Biomasser!$A$3:$E$88,4,FALSE),0)","v":0},null,{"$f":"IFERROR(VLOOKUP(F107,Biomasser!$A$3:$E$88,5,FALSE),0)","v":0},"",0,null,null,{"$f":"IFERROR(VLOOKUP(F107,Biomasser!$A$3:$M$88,13,FALSE),)","v":0},null,null,null,null,null,{"$f":"IF(F107<>\"\",'CO2 konvertering'!$C$14,)","v":0},null,null,null,null,0]
[null,null,null,"Ja",null,null,null,null,"",null,"",{"$f":"IFERROR(VLOOKUP(F108,Biomasser!$A$3:$E$88,4,FALSE),0)","v":0},null,{"$f":"IFERROR(VLOOKUP(F108,Biomasser!$A$3:$E$88,5,FALSE),0)","v":0},"",0,null,null,{"$f":"IFERROR(VLOOKUP(F108,Biomasser!$A$3:$M$88,13,FALSE),)","v":0},null,null,null,null,null,{"$f":"IF(F108<>\"\",'CO2 konvertering'!$C$14,)","v":0},null,null,null,null,0]
[null,null,null,"Ja",null,null,null,null,"",null,"",{"$f":"IFERROR(VLOOKUP(F109,Biomasser!$A$3:$E$88,4,FALSE),0)","v":0},null,{"$f":"IFERROR(VLOOKUP(F109,Biomasser!$A$3:$E$88,5,FALSE),0)","v":0},"",0,null,null,{"$f":"IFERROR(VLOOKUP(F109,Biomasser!$A$3:$M$88,13,FALSE),)","v":0},null,null,null,null,null,{"$f":"IF(F109<>\"\",'CO2 konvertering'!$C$14,)","v":0},null,null,null,null,0]
[null,null,null,"Ja",null,null,null,null,"",null,"",{"$f":"IFERROR(VLOOKUP(F110,Biomasser!$A$3:$E$88,4,FALSE),0)","v":0},null,{"$f":"IFERROR(VLOOKUP(F110,Biomasser!$A$3:$E$88,5,FALSE),0)","v":0},"",0,null,null,{"$f":"IFERROR(VLOOKUP(F110,Biomasser!$A$3:$M$88,13,FALSE),)","v":0},null,null,null,null,null,{"$f":"IF(F110<>\"\",'CO2 konvertering'!$C$14,)","v":0},null,null,null,null,0]
[null,"Dato:",null,null,null,"Mængde biomasse (Ton)",null,"Gasproduktion"]
["Gas","2. januar",2015,null,null,{"$f":"SUM(H115:H215)","v":0},null,null,"m3 CH4"]
[null,"Leverandør",null,"Certificeret",null,"Råvarer input","          Mængder                 \n      (Ton vådvægt)            ",null,null,"Tørstof\n%",null,"Omsættelig tørstof\n%",null,"Gaspotentiale\nm³ CH4/ton VS",null,"Teoretisk\ngasproduktion\nm³ CH4"]
[]
[{"$f":"B112&C112","v":"2. januar2015"},null,null,"Ja",null,null,null,null,{"$f":"IF(AND(F115<>\"\",ISBLANK(H115)),\"Indtast vægt\",\"\")","v":""},null,{"$f":"IF(AND(F115<>\"\",ISBLANK(J115)),\"Indtast tørstof %\",\"\")","v":""},{"$f":"IFERROR(VLOOKUP(F115,Biomasser!$A$3:$E$88,4,FALSE),)","v":0},null,{"$f":"IFERROR(VLOOKUP(F115,Biomasser!$A$3:$E$88,5,FALSE),0)","v":0},{"$f":"IF(AND(F115<>\"\",(N115=0)),\"Opdater biomasseark\",\"\")","v":""},{"$f":"J115*L115*N115*H115","v":0},null,null,{"$f":"IFERROR(VLOOKUP(F115,Biomasser!$A$3:$M$88,13,FALSE),)","v":0},null,null,null,null,null,{"$f":"IF(F115<>\"\",'CO2 konvertering'!$C$14,)","v":0},null,null,null,null,{"$f":"SUM(S115:AC115)","v":0}]
[null,null,null,"Ja",null,null,null,null,{"$f":"IF(AND(F116<>\"\",ISBLANK(H116)),\"Indtast vægt\",\"\")","v":""},null,{"$f":"IF(AND(F116<>\"\",ISBLANK(J116)),\"Indtast tørstof %\",\"\")","v":""},{"$f":"IFERROR(VLOOKUP(F116,Biomasser!$A$3:$E$88,4,FALSE),0)","v":0},null,{"$f":"IFERROR(VLOOKUP(F116,Biomasser!$A$3:$E$88,5,FALSE),0)","v":0},"",0,null,null,{"$f":"IFERROR(VLOOKUP(F116,Biomasser!$A$3:$M$88,13,FALSE),)","v":0},null,null,null,null,null,{"$f":"IF(F116<>\"\",'CO2 konvertering'!$C$14,)","v":0},null,null,null,null,0]
[null,null,null,"Ja",null,null,null,null,"",null,"",{"$f":"IFERROR(VLOOKUP(F117,Biomasser!$A$3:$E$88,4,FALSE),0)","v":0},null,{"$f":"IFERROR(VLOOKUP(F117,Biomasser!$A$3:$E$88,5,FALSE),0)","v":0},"",0,null,null,{"$f":"IFERROR(VLOOKUP(F117,Biomasser!$A$3:$M$88,13,FALSE),)","v":0},null,null,null,null,null,{"$f":"IF(F117<>\"\",'CO2 konvertering'!$C$14,)","v":0},null,null,null,null,0]
[null,null,null,"Ja",null,null,null,null,"",null,"",{"$f":"IFERROR(VLOOKUP(F118,Biomasser!$A$3:$E$88,4,FALSE),0)","v":0},null,{"$f":"IFERROR(VLOOKUP(F118,Biomasser!$A$3:$E$88,5,FALSE),0)","v":0},{"$f":"IF(AND(F118<>\"\",(N118=0)),\"Opdater biomasseark\",\"\")","v":""},0,null,null,{"$f":"IFERROR(VLOOKUP(F118,Biomasser!$A$3:$M$88,13,FALSE),)","v":0},null,null,null,null,null,{"$f":"IF(F118<>\"\",'CO2 konvertering'!$C$14,)","v":0},null,null,null,null,0]
[null,null,null,"Ja",null,null,null,null,"",null,"",{"$f":"IFERROR(VLOOKUP(F119,Biomasser!$A$3:$E$88,4,FALSE),0)","v":0},null,{"$f":"IFERROR(VLOOKUP(F119,Biomasser!$A$3:$E$88,5,FALSE),0)","v":0},{"$f":"IF(AND(F119<>\"\",(N119=0)),\"Opdater biomasseark\",\"\")","v":""},0,null,null,{"$f":"IFERROR(VLOOKUP(F119,Biomasser!$A$3:$M$88,13,FALSE),)","v":0},null,null,null,null,null,{"$f":"IF(F119<>\"\",'CO2 konvertering'!$C$14,)","v":0},null,null,null,null,0]
[null,null,null,"Ja",null,null,null,null,"",null,"",{"$f":"IFERROR(VLOOKUP(F120,Biomasser!$A$3:$E$88,4,FALSE),0)","v":0},null,{"$f":"IFERROR(VLOOKUP(F120,Biomasser!$A$3:$E$88,5,FALSE),0)","v":0},"",0,null,null,{"$f":"IFERROR(VLOOKUP(F120,Biomasser!$A$3:$M$88,13,FALSE),)","v":0},null,null,null,null,null,{"$f":"IF(F120<>\"\",'CO2 konvertering'!$C$14,)","v":0},null,null,null,null,0]
[null,null,null,"Ja",null,null,null,null,"",null,"",{"$f":"IFERROR(VLOOKUP(F121,Biomasser!$A$3:$E$88,4,FALSE),0)","v":0},null,{"$f":"IFERROR(VLOOKUP(F121,Biomasser!$A$3:$E$88,5,FALSE),0)","v":0},"",0,null,null,{"$f":"IFERROR(VLOOKUP(F121,Biomasser!$A$3:$M$88,13,FALSE),)","v":0},null,null,null,null,null,{"$f":"IF(F121<>\"\",'CO2 konvertering'!$C$14,)","v":0},null,null,null,null,0]
[null,null,null,"Ja",null,null,null,null,"",null,"",{"$f":"IFERROR(VLOOKUP(F122,Biomasser!$A$3:$E$88,4,FALSE),0)","v":0},null,{"$f":"IFERROR(VLOOKUP(F122,Biomasser!$A$3:$E$88,5,FALSE),0)","v":0},"",0,null,null,{"$f":"IFERROR(VLOOKUP(F122,Biomasser!$A$3:$M$88,13,FALSE),)","v":0},null,null,null,null,null,{"$f":"IF(F122<>\"\",'CO2 konvertering'!$C$14,)","v":0},null,null,null,null,0]
[null,null,null,"Ja",null,null,null,null,"",null,"",{"$f":"IFERROR(VLOOKUP(F123,Biomasser!$A$3:$E$88,4,FALSE),0)","v":0},null,{"$f":"IFERROR(VLOOKUP(F123,Biomasser!$A$3:$E$88,5,FALSE),0)","v":0},"",0,null,null,{"$f":"IFERROR(VLOOKUP(F123,Biomasser!$A$3:$M$88,13,FALSE),)","v":0},null,null,null,null,null,{"$f":"IF(F123<>\"\",'CO2 konvertering'!$C$14,)","v":0},null,null,null,null,0]
[null,null,null,"Ja",null,null,null,null,"",null,"",{"$f":"IFERROR(VLOOKUP(F124,Biomasser!$A$3:$E$88,4,FALSE),0)","v":0},null,{"$f":"IFERROR(VLOOKUP(F124,Biomasser!$A$3:$E$88,5,FALSE),0)","v":0},"",0,null,null,{"$f":"IFERROR(VLOOKUP(F124,Biomasser!$A$3:$M$88,13,FALSE),)","v":0},null,null,null,null,null,{"$f":"IF(F124<>\"\",'CO2 konvertering'!$C$14,)","v":0},null,null,null,null,0]
[null,null,null,"Ja",null,null,null,null,"",null,"",{"$f":"IFERROR(VLOOKUP(F125,Biomasser!$A$3:$E$88,4,FALSE),0)","v":0},null,{"$f":"IFERROR(VLOOKUP(F125,Biomasser!$A$3:$E$88,5,FALSE),0)","v":0},"",0,null,null,{"$f":"IFERROR(VLOOKUP(F125,Biomasser!$A$3:$M$88,13,FALSE),)","v":0},null,null,null,null,null,{"$f":"IF(F125<>\"\",'CO2 konvertering'!$C$14,)","v":0},null,null,null,null,0]
[null,null,null,"Ja",null,null,null,null,"",null,"",{"$f":"IFERROR(VLOOKUP(F126,Biomasser!$A$3:$E$88,4,FALSE),0)","v":0},null,{"$f":"IFERROR(VLOOKUP(F126,Biomasser!$A$3:$E$88,5,FALSE),0)","v":0},"",0,null,null,{"$f":"IFERROR(VLOOKUP(F126,Biomasser!$A$3:$M$88,13,FALSE),)","v":0},null,null,null,null,null,{"$f":"IF(F126<>\"\",'CO2 konvertering'!$C$14,)","v":0},null,null,null,null,0]
[null,null,null,"Ja",null,null,null,null,"",null,"",{"$f":"IFERROR(VLOOKUP(F127,Biomasser!$A$3:$E$88,4,FALSE),0)","v":0},null,{"$f":"IFERROR(VLOOKUP(F127,Biomasser!$A$3:$E$88,5,FALSE),0)","v":0},"",0,null,null,{"$f":"IFERROR(VLOOKUP(F127,Biomasser!$A$3:$M$88,13,FALSE),)","v":0},null,null,null,null,null,{"$f":"IF(F127<>\"\",'CO2 konvertering'!$C$14,)","v":0},null,null,null,null,0]
[null,null,null,"Ja",null,null,null,null,"",null,"",{"$f":"IFERROR(VLOOKUP(F128,Biomasser!$A$3:$E$88,4,FALSE),0)","v":0},null,{"$f":"IFERROR(VLOOKUP(F128,Biomasser!$A$3:$E$88,5,FALSE),0)","v":0},"",0,null,null,{"$f":"IFERROR(VLOOKUP(F128,Biomasser!$A$3:$M$88,13,FALSE),)","v":0},null,null,null,null,null,{"$f":"IF(F128<>\"\",'CO2 konvertering'!$C$14,)","v":0},null,null,null,null,0]
[null,null,null,"Ja",null,null,null,null,"",null,"",{"$f":"IFERROR(VLOOKUP(F129,Biomasser!$A$3:$E$88,4,FALSE),0)","v":0},null,{"$f":"IFERROR(VLOOKUP(F129,Biomasser!$A$3:$E$88,5,FALSE),0)","v":0},"",0,null,null,{"$f":"IFERROR(VLOOKUP(F129,Biomasser!$A$3:$M$88,13,FALSE),)","v":0},null,null,null,null,null,{"$f":"IF(F129<>\"\",'CO2 konvertering'!$C$14,)","v":0},null,null,null,null,0]
[null,null,null,"Ja",null,null,null,null,"",null,"",{"$f":"IFERROR(VLOOKUP(F130,Biomasser!$A$3:$E$88,4,FALSE),0)","v":0},null,{"$f":"IFERROR(VLOOKUP(F130,Biomasser!$A$3:$E$88,5,FALSE),0)","v":0},"",0,null,null,{"$f":"IFERROR(VLOOKUP(F130,Biomasser!$A$3:$M$88,13,FALSE),)","v":0},null,null,null,null,null,{"$f":"IF(F130<>\"\",'CO2 konvertering'!$C$14,)","v":0},null,null,null,null,0]
[null,null,null,"Ja",null,null,null,null,"",null,"",{"$f":"IFERROR(VLOOKUP(F131,Biomasser!$A$3:$E$88,4,FALSE),0)","v":0},null,{"$f":"IFERROR(VLOOKUP(F131,Biomasser!$A$3:$E$88,5,FALSE),0)","v":0},"",0,null,null,{"$f":"IFERROR(VLOOKUP(F131,Biomasser!$A$3:$M$88,13,FALSE),)","v":0},null,null,null,null,null,{"$f":"IF(F131<>\"\",'CO2 konvertering'!$C$14,)","v":0},null,null,null,null,0]
[null,null,null,"Ja",null,null,null,null,"",null,"",{"$f":"IFERROR(VLOOKUP(F132,Biomasser!$A$3:$E$88,4,FALSE),0)","v":0},null,{"$f":"IFERROR(VLOOKUP(F132,Biomasser!$A$3:$E$88,5,FALSE),0)","v":0},"",0,null,null,{"$f":"IFERROR(VLOOKUP(F132,Biomasser!$A$3:$M$88,13,FALSE),)","v":0},null,null,null,null,null,{"$f":"IF(F132<>\"\",'CO2 konvertering'!$C$14,)","v":0},null,null,null,null,0]
[null,null,null,"Ja",null,null,null,null,"",null,"",{"$f":"IFERROR(VLOOKUP(F133,Biomasser!$A$3:$E$88,4,FALSE),0)","v":0},null,{"$f":"IFERROR(VLOOKUP(F133,Biomasser!$A$3:$E$88,5,FALSE),0)","v":0},"",0,null,null,{"$f":"IFERROR(VLOOKUP(F133,Biomasser!$A$3:$M$88,13,FALSE),)","v":0},null,null,null,null,null,{"$f":"IF(F133<>\"\",'CO2 konvertering'!$C$14,)","v":0},null,null,null,null,0]
[null,null,null,"Ja",null,null,null,null,"",null,"",{"$f":"IFERROR(VLOOKUP(F134,Biomasser!$A$3:$E$88,4,FALSE),0)","v":0},null,{"$f":"IFERROR(VLOOKUP(F134,Biomasser!$A$3:$E$88,5,FALSE),0)","v":0},"",0,null,null,{"$f":"IFERROR(VLOOKUP(F134,Biomasser!$A$3:$M$88,13,FALSE),)","v":0},null,null,null,null,null,{"$f":"IF(F134<>\"\",'CO2 konvertering'!$C$14,)","v":0},null,null,null,null,0]
[null,null,null,"Ja",null,null,null,null,"",null,"",{"$f":"IFERROR(VLOOKUP(F135,Biomasser!$A$3:$E$88,4,FALSE),0)","v":0},null,{"$f":"IFERROR(VLOOKUP(F135,Biomasser!$A$3:$E$88,5,FALSE),0)","v":0},"",0,null,null,{"$f":"IFERROR(VLOOKUP(F135,Biomasser!$A$3:$M$88,13,FALSE),)","v":0},null,null,null,null,null,{"$f":"IF(F135<>\"\",'CO2 konvertering'!$C$14,)","v":0},null,null,null,null,0]
[null,null,null,"Ja",null,null,null,null,"",null,"",{"$f":"IFERROR(VLOOKUP(F136,Biomasser!$A$3:$E$88,4,FALSE),0)","v":0},null,{"$f":"IFERROR(VLOOKUP(F136,Biomasser!$A$3:$E$88,5,FALSE),0)","v":0},"",0,null,null,{"$f":"IFERROR(VLOOKUP(F136,Biomasser!$A$3:$M$88,13,FALSE),)","v":0},null,null,null,null,null,{"$f":"IF(F136<>\"\",'CO2 konvertering'!$C$14,)","v":0},null,null,null,null,0]
[null,null,null,"Ja",null,null,null,null,"",null,"",{"$f":"IFERROR(VLOOKUP(F137,Biomasser!$A$3:$E$88,4,FALSE),0)","v":0},null,{"$f":"IFERROR(VLOOKUP(F137,Biomasser!$A$3:$E$88,5,FALSE),0)","v":0},"",0,null,null,{"$f":"IFERROR(VLOOKUP(F137,Biomasser!$A$3:$M$88,13,FALSE),)","v":0},null,null,null,null,null,{"$f":"IF(F137<>\"\",'CO2 konvertering'!$C$14,)","v":0},null,null,null,null,0]
[null,null,null,"Ja",null,null,null,null,"",null,"",{"$f":"IFERROR(VLOOKUP(F138,Biomasser!$A$3:$E$88,4,FALSE),0)","v":0},null,{"$f":"IFERROR(VLOOKUP(F138,Biomasser!$A$3:$E$88,5,FALSE),0)","v":0},"",0,null,null,{"$f":"IFERROR(VLOOKUP(F138,Biomasser!$A$3:$M$88,13,FALSE),)","v":0},null,null,null,null,null,{"$f":"IF(F138<>\"\",'CO2 konvertering'!$C$14,)","v":0},null,null,null,null,0]
[null,null,null,"Ja",null,null,null,null,"",null,"",{"$f":"IFERROR(VLOOKUP(F139,Biomasser!$A$3:$E$88,4,FALSE),0)","v":0},null,{"$f":"IFERROR(VLOOKUP(F139,Biomasser!$A$3:$E$88,5,FALSE),0)","v":0},"",0,null,null,{"$f":"IFERROR(VLOOKUP(F139,Biomasser!$A$3:$M$88,13,FALSE),)","v":0},null,null,null,null,null,{"$f":"IF(F139<>\"\",'CO2 konvertering'!$C$14,)","v":0},null,null,null,null,0]
[null,null,null,"Ja",null,null,null,null,"",null,"",{"$f":"IFERROR(VLOOKUP(F140,Biomasser!$A$3:$E$88,4,FALSE),0)","v":0},null,{"$f":"IFERROR(VLOOKUP(F140,Biomasser!$A$3:$E$88,5,FALSE),0)","v":0},"",0,null,null,{"$f":"IFERROR(VLOOKUP(F140,Biomasser!$A$3:$M$88,13,FALSE),)","v":0},null,null,null,null,null,{"$f":"IF(F140<>\"\",'CO2 konvertering'!$C$14,)","v":0},null,null,null,null,0]
[null,null,null,"Ja",null,null,null,null,"",null,"",{"$f":"IFERROR(VLOOKUP(F141,Biomasser!$A$3:$E$88,4,FALSE),0)","v":0},null,{"$f":"IFERROR(VLOOKUP(F141,Biomasser!$A$3:$E$88,5,FALSE),0)","v":0},"",0,null,null,{"$f":"IFERROR(VLOOKUP(F141,Biomasser!$A$3:$M$88,13,FALSE),)","v":0},null,null,null,null,null,{"$f":"IF(F141<>\"\",'CO2 konvertering'!$C$14,)","v":0},null,null,null,null,0]
[null,null,null,"Ja",null,null,null,null,"",null,"",{"$f":"IFERROR(VLOOKUP(F142,Biomasser!$A$3:$E$88,4,FALSE),0)","v":0},null,{"$f":"IFERROR(VLOOKUP(F142,Biomasser!$A$3:$E$88,5,FALSE),0)","v":0},"",0,null,null,{"$f":"IFERROR(VLOOKUP(F142,Biomasser!$A$3:$M$88,13,FALSE),)","v":0},null,null,null,null,null,{"$f":"IF(F142<>\"\",'CO2 konvertering'!$C$14,)","v":0},null,null,null,null,0]
[null,null,null,"Ja",null,null,null,null,"",null,"",{"$f":"IFERROR(VLOOKUP(F143,Biomasser!$A$3:$E$88,4,FALSE),0)","v":0},null,{"$f":"IFERROR(VLOOKUP(F143,Biomasser!$A$3:$E$88,5,FALSE),0)","v":0},"",0,null,null,{"$f":"IFERROR(VLOOKUP(F143,Biomasser!$A$3:$M$88,13,FALSE),)","v":0},null,null,null,null,null,{"$f":"IF(F143<>\"\",'CO2 konvertering'!$C$14,)","v":0},null,null,null,null,0]
[null,null,null,"Ja",null,null,null,null,"",null,"",{"$f":"IFERROR(VLOOKUP(F144,Biomasser!$A$3:$E$88,4,FALSE),0)","v":0},null,{"$f":"IFERROR(VLOOKUP(F144,Biomasser!$A$3:$E$88,5,FALSE),0)","v":0},"",0,null,null,{"$f":"IFERROR(VLOOKUP(F144,Biomasser!$A$3:$M$88,13,FALSE),)","v":0},null,null,null,null,null,{"$f":"IF(F144<>\"\",'CO2 konvertering'!$C$14,)","v":0},null,null,null,null,0]
[null,null,null,"Ja",null,null,null,null,"",null,"",{"$f":"IFERROR(VLOOKUP(F145,Biomasser!$A$3:$E$88,4,FALSE),0)","v":0},null,{"$f":"IFERROR(VLOOKUP(F145,Biomasser!$A$3:$E$88,5,FALSE),0)","v":0},"",0,null,null,{"$f":"IFERROR(VLOOKUP(F145,Biomasser!$A$3:$M$88,13,FALSE),)","v":0},null,null,null,null,null,{"$f":"IF(F145<>\"\",'CO2 konvertering'!$C$14,)","v":0},null,null,null,null,0]
[null,null,null,"Ja",null,null,null,null,"",null,"",{"$f":"IFERROR(VLOOKUP(F146,Biomasser!$A$3:$E$88,4,FALSE),0)","v":0},null,{"$f":"IFERROR(VLOOKUP(F146,Biomasser!$A$3:$E$88,5,FALSE),0)","v":0},"",0,null,null,{"$f":"IFERROR(VLOOKUP(F146,Biomasser!$A$3:$M$88,13,FALSE),)","v":0},null,null,null,null,null,{"$f":"IF(F146<>\"\",'CO2 konvertering'!$C$14,)","v":0},null,null,null,null,0]
[null,null,null,"Ja",null,null,null,null,"",null,"",{"$f":"IFERROR(VLOOKUP(F147,Biomasser!$A$3:$E$88,4,FALSE),0)","v":0},null,{"$f":"IFERROR(VLOOKUP(F147,Biomasser!$A$3:$E$88,5,FALSE),0)","v":0},"",{"$f":"J147*L147*N147*H147","v":0},null,null,{"$f":"IFERROR(VLOOKUP(F147,Biomasser!$A$3:$M$88,13,FALSE),)","v":0},null,null,null,null,null,{"$f":"IF(F147<>\"\",'CO2 konvertering'!$C$14,)","v":0},null,null,null,null,{"$f":"SUM(S147:AC147)","v":0}]
[null,null,null,"Ja",null,null,null,null,"",null,"",{"$f":"IFERROR(VLOOKUP(F148,Biomasser!$A$3:$E$88,4,FALSE),0)","v":0},null,{"$f":"IFERROR(VLOOKUP(F148,Biomasser!$A$3:$E$88,5,FALSE),0)","v":0},"",0,null,null,{"$f":"IFERROR(VLOOKUP(F148,Biomasser!$A$3:$M$88,13,FALSE),)","v":0},null,null,null,null,null,{"$f":"IF(F148<>\"\",'CO2 konvertering'!$C$14,)","v":0},null,null,null,null,0]
[null,null,null,"Ja",null,null,null,null,"",null,"",{"$f":"IFERROR(VLOOKUP(F149,Biomasser!$A$3:$E$88,4,FALSE),0)","v":0},null,{"$f":"IFERROR(VLOOKUP(F149,Biomasser!$A$3:$E$88,5,FALSE),0)","v":0},"",0,null,null,{"$f":"IFERROR(VLOOKUP(F149,Biomasser!$A$3:$M$88,13,FALSE),)","v":0},null,null,null,null,null,{"$f":"IF(F149<>\"\",'CO2 konvertering'!$C$14,)","v":0},null,null,null,null,0]
[null,null,null,"Ja",null,null,null,null,"",null,"",{"$f":"IFERROR(VLOOKUP(F150,Biomasser!$A$3:$E$88,4,FALSE),0)","v":0},null,{"$f":"IFERROR(VLOOKUP(F150,Biomasser!$A$3:$E$88,5,FALSE),0)","v":0},"",0,null,null,{"$f":"IFERROR(VLOOKUP(F150,Biomasser!$A$3:$M$88,13,FALSE),)","v":0},null,null,null,null,null,{"$f":"IF(F150<>\"\",'CO2 konvertering'!$C$14,)","v":0},null,null,null,null,0]
[null,null,null,"Ja",null,null,null,null,"",null,"",{"$f":"IFERROR(VLOOKUP(F151,Biomasser!$A$3:$E$88,4,FALSE),0)","v":0},null,{"$f":"IFERROR(VLOOKUP(F151,Biomasser!$A$3:$E$88,5,FALSE),0)","v":0},"",0,null,null,{"$f":"IFERROR(VLOOKUP(F151,Biomasser!$A$3:$M$88,13,FALSE),)","v":0},null,null,null,null,null,{"$f":"IF(F151<>\"\",'CO2 konvertering'!$C$14,)","v":0},null,null,null,null,0]
[null,null,null,"Ja",null,null,null,null,"",null,"",{"$f":"IFERROR(VLOOKUP(F152,Biomasser!$A$3:$E$88,4,FALSE),0)","v":0},null,{"$f":"IFERROR(VLOOKUP(F152,Biomasser!$A$3:$E$88,5,FALSE),0)","v":0},"",0,null,null,{"$f":"IFERROR(VLOOKUP(F152,Biomasser!$A$3:$M$88,13,FALSE),)","v":0},null,null,null,null,null,{"$f":"IF(F152<>\"\",'CO2 konvertering'!$C$14,)","v":0},null,null,null,null,0]
[null,null,null,"Ja",null,null,null,null,"",null,"",{"$f":"IFERROR(VLOOKUP(F153,Biomasser!$A$3:$E$88,4,FALSE),0)","v":0},null,{"$f":"IFERROR(VLOOKUP(F153,Biomasser!$A$3:$E$88,5,FALSE),0)","v":0},"",0,null,null,{"$f":"IFERROR(VLOOKUP(F153,Biomasser!$A$3:$M$88,13,FALSE),)","v":0},null,null,null,null,null,{"$f":"IF(F153<>\"\",'CO2 konvertering'!$C$14,)","v":0},null,null,null,null,0]
[null,null,null,"Ja",null,null,null,null,"",null,"",{"$f":"IFERROR(VLOOKUP(F154,Biomasser!$A$3:$E$88,4,FALSE),0)","v":0},null,{"$f":"IFERROR(VLOOKUP(F154,Biomasser!$A$3:$E$88,5,FALSE),0)","v":0},"",0,null,null,{"$f":"IFERROR(VLOOKUP(F154,Biomasser!$A$3:$M$88,13,FALSE),)","v":0},null,null,null,null,null,{"$f":"IF(F154<>\"\",'CO2 konvertering'!$C$14,)","v":0},null,null,null,null,0]
[null,null,null,"Ja",null,null,null,null,"",null,"",{"$f":"IFERROR(VLOOKUP(F155,Biomasser!$A$3:$E$88,4,FALSE),0)","v":0},null,{"$f":"IFERROR(VLOOKUP(F155,Biomasser!$A$3:$E$88,5,FALSE),0)","v":0},"",0,null,null,{"$f":"IFERROR(VLOOKUP(F155,Biomasser!$A$3:$M$88,13,FALSE),)","v":0},null,null,null,null,null,{"$f":"IF(F155<>\"\",'CO2 konvertering'!$C$14,)","v":0},null,null,null,null,0]
[null,null,null,"Ja",null,null,null,null,"",null,"",{"$f":"IFERROR(VLOOKUP(F156,Biomasser!$A$3:$E$88,4,FALSE),0)","v":0},null,{"$f":"IFERROR(VLOOKUP(F156,Biomasser!$A$3:$E$88,5,FALSE),0)","v":0},"",0,null,null,{"$f":"IFERROR(VLOOKUP(F156,Biomasser!$A$3:$M$88,13,FALSE),)","v":0},null,null,null,null,null,{"$f":"IF(F156<>\"\",'CO2 konvertering'!$C$14,)","v":0},null,null,null,null,0]
[null,null,null,"Ja",null,null,null,null,"",null,"",{"$f":"IFERROR(VLOOKUP(F157,Biomasser!$A$3:$E$88,4,FALSE),0)","v":0},null,{"$f":"IFERROR(VLOOKUP(F157,Biomasser!$A$3:$E$88,5,FALSE),0)","v":0},"",0,null,null,{"$f":"IFERROR(VLOOKUP(F157,Biomasser!$A$3:$M$88,13,FALSE),)","v":0},null,null,null,null,null,{"$f":"IF(F157<>\"\",'CO2 konvertering'!$C$14,)","v":0},null,null,null,null,0]
[null,null,null,"Ja",null,null,null,null,"",null,"",{"$f":"IFERROR(VLOOKUP(F158,Biomasser!$A$3:$E$88,4,FALSE),0)","v":0},null,{"$f":"IFERROR(VLOOKUP(F158,Biomasser!$A$3:$E$88,5,FALSE),0)","v":0},"",0,null,null,{"$f":"IFERROR(VLOOKUP(F158,Biomasser!$A$3:$M$88,13,FALSE),)","v":0},null,null,null,null,null,{"$f":"IF(F158<>\"\",'CO2 konvertering'!$C$14,)","v":0},null,null,null,null,0]
[null,null,null,"Ja",null,null,null,null,"",null,"",{"$f":"IFERROR(VLOOKUP(F159,Biomasser!$A$3:$E$88,4,FALSE),0)","v":0},null,{"$f":"IFERROR(VLOOKUP(F159,Biomasser!$A$3:$E$88,5,FALSE),0)","v":0},"",0,null,null,{"$f":"IFERROR(VLOOKUP(F159,Biomasser!$A$3:$M$88,13,FALSE),)","v":0},null,null,null,null,null,{"$f":"IF(F159<>\"\",'CO2 konvertering'!$C$14,)","v":0},null,null,null,null,0]
[null,null,null,"Ja",null,null,null,null,"",null,"",{"$f":"IFERROR(VLOOKUP(F160,Biomasser!$A$3:$E$88,4,FALSE),0)","v":0},null,{"$f":"IFERROR(VLOOKUP(F160,Biomasser!$A$3:$E$88,5,FALSE),0)","v":0},"",0,null,null,{"$f":"IFERROR(VLOOKUP(F160,Biomasser!$A$3:$M$88,13,FALSE),)","v":0},null,null,null,null,null,{"$f":"IF(F160<>\"\",'CO2 konvertering'!$C$14,)","v":0},null,null,null,null,0]
[null,null,null,"Ja",null,null,null,null,"",null,"",{"$f":"IFERROR(VLOOKUP(F161,Biomasser!$A$3:$E$88,4,FALSE),0)","v":0},null,{"$f":"IFERROR(VLOOKUP(F161,Biomasser!$A$3:$E$88,5,FALSE),0)","v":0},"",0,null,null,{"$f":"IFERROR(VLOOKUP(F161,Biomasser!$A$3:$M$88,13,FALSE),)","v":0},null,null,null,null,null,{"$f":"IF(F161<>\"\",'CO2 konvertering'!$C$14,)","v":0},null,null,null,null,0]
[null,null,null,"Ja",null,null,null,null,"",null,"",{"$f":"IFERROR(VLOOKUP(F162,Biomasser!$A$3:$E$88,4,FALSE),0)","v":0},null,{"$f":"IFERROR(VLOOKUP(F162,Biomasser!$A$3:$E$88,5,FALSE),0)","v":0},"",0,null,null,{"$f":"IFERROR(VLOOKUP(F162,Biomasser!$A$3:$M$88,13,FALSE),)","v":0},null,null,null,null,null,{"$f":"IF(F162<>\"\",'CO2 konvertering'!$C$14,)","v":0},null,null,null,null,0]
[null,null,null,"Ja",null,null,null,null,"",null,"",{"$f":"IFERROR(VLOOKUP(F163,Biomasser!$A$3:$E$88,4,FALSE),0)","v":0},null,{"$f":"IFERROR(VLOOKUP(F163,Biomasser!$A$3:$E$88,5,FALSE),0)","v":0},"",0,null,null,{"$f":"IFERROR(VLOOKUP(F163,Biomasser!$A$3:$M$88,13,FALSE),)","v":0},null,null,null,null,null,{"$f":"IF(F163<>\"\",'CO2 konvertering'!$C$14,)","v":0},null,null,null,null,0]
[null,null,null,"Ja",null,null,null,null,"",null,"",{"$f":"IFERROR(VLOOKUP(F164,Biomasser!$A$3:$E$88,4,FALSE),0)","v":0},null,{"$f":"IFERROR(VLOOKUP(F164,Biomasser!$A$3:$E$88,5,FALSE),0)","v":0},"",0,null,null,{"$f":"IFERROR(VLOOKUP(F164,Biomasser!$A$3:$M$88,13,FALSE),)","v":0},null,null,null,null,null,{"$f":"IF(F164<>\"\",'CO2 konvertering'!$C$14,)","v":0},null,null,null,null,0]
[null,null,null,"Ja",null,null,null,null,"",null,"",{"$f":"IFERROR(VLOOKUP(F165,Biomasser!$A$3:$E$88,4,FALSE),0)","v":0},null,{"$f":"IFERROR(VLOOKUP(F165,Biomasser!$A$3:$E$88,5,FALSE),0)","v":0},"",0,null,null,{"$f":"IFERROR(VLOOKUP(F165,Biomasser!$A$3:$M$88,13,FALSE),)","v":0},null,null,null,null,null,{"$f":"IF(F165<>\"\",'CO2 konvertering'!$C$14,)","v":0},null,null,null,null,0]
[null,null,null,"Ja",null,null,null,null,"",null,"",{"$f":"IFERROR(VLOOKUP(F166,Biomasser!$A$3:$E$88,4,FALSE),0)","v":0},null,{"$f":"IFERROR(VLOOKUP(F166,Biomasser!$A$3:$E$88,5,FALSE),0)","v":0},"",0,null,null,{"$f":"IFERROR(VLOOKUP(F166,Biomasser!$A$3:$M$88,13,FALSE),)","v":0},null,null,null,null,null,{"$f":"IF(F166<>\"\",'CO2 konvertering'!$C$14,)","v":0},null,null,null,null,0]
[null,null,null,"Ja",null,null,null,null,"",null,"",{"$f":"IFERROR(VLOOKUP(F167,Biomasser!$A$3:$E$88,4,FALSE),0)","v":0},null,{"$f":"IFERROR(VLOOKUP(F167,Biomasser!$A$3:$E$88,5,FALSE),0)","v":0},"",0,null,null,{"$f":"IFERROR(VLOOKUP(F167,Biomasser!$A$3:$M$88,13,FALSE),)","v":0},null,null,null,null,null,{"$f":"IF(F167<>\"\",'CO2 konvertering'!$C$14,)","v":0},null,null,null,null,0]
[null,null,null,"Ja",null,null,null,null,"",null,"",{"$f":"IFERROR(VLOOKUP(F168,Biomasser!$A$3:$E$88,4,FALSE),0)","v":0},null,{"$f":"IFERROR(VLOOKUP(F168,Biomasser!$A$3:$E$88,5,FALSE),0)","v":0},"",0,null,null,{"$f":"IFERROR(VLOOKUP(F168,Biomasser!$A$3:$M$88,13,FALSE),)","v":0},null,null,null,null,null,{"$f":"IF(F168<>\"\",'CO2 konvertering'!$C$14,)","v":0},null,null,null,null,0]
[null,null,null,"Ja",null,null,null,null,"",null,"",{"$f":"IFERROR(VLOOKUP(F169,Biomasser!$A$3:$E$88,4,FALSE),0)","v":0},null,{"$f":"IFERROR(VLOOKUP(F169,Biomasser!$A$3:$E$88,5,FALSE),0)","v":0},"",0,null,null,{"$f":"IFERROR(VLOOKUP(F169,Biomasser!$A$3:$M$88,13,FALSE),)","v":0},null,null,null,null,null,{"$f":"IF(F169<>\"\",'CO2 konvertering'!$C$14,)","v":0},null,null,null,null,0]
[null,null,null,"Ja",null,null,null,null,"",null,"",{"$f":"IFERROR(VLOOKUP(F170,Biomasser!$A$3:$E$88,4,FALSE),0)","v":0},null,{"$f":"IFERROR(VLOOKUP(F170,Biomasser!$A$3:$E$88,5,FALSE),0)","v":0},"",0,null,null,{"$f":"IFERROR(VLOOKUP(F170,Biomasser!$A$3:$M$88,13,FALSE),)","v":0},null,null,null,null,null,{"$f":"IF(F170<>\"\",'CO2 konvertering'!$C$14,)","v":0},null,null,null,null,0]
[null,null,null,"Ja",null,null,null,null,"",null,"",{"$f":"IFERROR(VLOOKUP(F171,Biomasser!$A$3:$E$88,4,FALSE),0)","v":0},null,{"$f":"IFERROR(VLOOKUP(F171,Biomasser!$A$3:$E$88,5,FALSE),0)","v":0},"",0,null,null,{"$f":"IFERROR(VLOOKUP(F171,Biomasser!$A$3:$M$88,13,FALSE),)","v":0},null,null,null,null,null,{"$f":"IF(F171<>\"\",'CO2 konvertering'!$C$14,)","v":0},null,null,null,null,0]
[null,null,null,"Ja",null,null,null,null,"",null,"",{"$f":"IFERROR(VLOOKUP(F172,Biomasser!$A$3:$E$88,4,FALSE),0)","v":0},null,{"$f":"IFERROR(VLOOKUP(F172,Biomasser!$A$3:$E$88,5,FALSE),0)","v":0},"",0,null,null,{"$f":"IFERROR(VLOOKUP(F172,Biomasser!$A$3:$M$88,13,FALSE),)","v":0},null,null,null,null,null,{"$f":"IF(F172<>\"\",'CO2 konvertering'!$C$14,)","v":0},null,null,null,null,0]
[null,null,null,"Ja",null,null,null,null,"",null,"",{"$f":"IFERROR(VLOOKUP(F173,Biomasser!$A$3:$E$88,4,FALSE),0)","v":0},null,{"$f":"IFERROR(VLOOKUP(F173,Biomasser!$A$3:$E$88,5,FALSE),0)","v":0},"",0,null,null,{"$f":"IFERROR(VLOOKUP(F173,Biomasser!$A$3:$M$88,13,FALSE),)","v":0},null,null,null,null,null,{"$f":"IF(F173<>\"\",'CO2 konvertering'!$C$14,)","v":0},null,null,null,null,0]
[null,null,null,"Ja",null,null,null,null,"",null,"",{"$f":"IFERROR(VLOOKUP(F174,Biomasser!$A$3:$E$88,4,FALSE),0)","v":0},null,{"$f":"IFERROR(VLOOKUP(F174,Biomasser!$A$3:$E$88,5,FALSE),0)","v":0},"",0,null,null,{"$f":"IFERROR(VLOOKUP(F174,Biomasser!$A$3:$M$88,13,FALSE),)","v":0},null,null,null,null,null,{"$f":"IF(F174<>\"\",'CO2 konvertering'!$C$14,)","v":0},null,null,null,null,0]
[null,null,null,"Ja",null,null,null,null,"",null,"",{"$f":"IFERROR(VLOOKUP(F175,Biomasser!$A$3:$E$88,4,FALSE),0)","v":0},null,{"$f":"IFERROR(VLOOKUP(F175,Biomasser!$A$3:$E$88,5,FALSE),0)","v":0},"",0,null,null,{"$f":"IFERROR(VLOOKUP(F175,Biomasser!$A$3:$M$88,13,FALSE),)","v":0},null,null,null,null,null,{"$f":"IF(F175<>\"\",'CO2 konvertering'!$C$14,)","v":0},null,null,null,null,0]
[null,null,null,"Ja",null,null,null,null,"",null,"",{"$f":"IFERROR(VLOOKUP(F176,Biomasser!$A$3:$E$88,4,FALSE),0)","v":0},null,{"$f":"IFERROR(VLOOKUP(F176,Biomasser!$A$3:$E$88,5,FALSE),0)","v":0},"",0,null,null,{"$f":"IFERROR(VLOOKUP(F176,Biomasser!$A$3:$M$88,13,FALSE),)","v":0},null,null,null,null,null,{"$f":"IF(F176<>\"\",'CO2 konvertering'!$C$14,)","v":0},null,null,null,null,0]
[null,null,null,"Ja",null,null,null,null,"",null,"",{"$f":"IFERROR(VLOOKUP(F177,Biomasser!$A$3:$E$88,4,FALSE),0)","v":0},null,{"$f":"IFERROR(VLOOKUP(F177,Biomasser!$A$3:$E$88,5,FALSE),0)","v":0},"",0,null,null,{"$f":"IFERROR(VLOOKUP(F177,Biomasser!$A$3:$M$88,13,FALSE),)","v":0},null,null,null,null,null,{"$f":"IF(F177<>\"\",'CO2 konvertering'!$C$14,)","v":0},null,null,null,null,0]
[null,null,null,"Ja",null,null,null,null,"",null,"",{"$f":"IFERROR(VLOOKUP(F178,Biomasser!$A$3:$E$88,4,FALSE),0)","v":0},null,{"$f":"IFERROR(VLOOKUP(F178,Biomasser!$A$3:$E$88,5,FALSE),0)","v":0},"",0,null,null,{"$f":"IFERROR(VLOOKUP(F178,Biomasser!$A$3:$M$88,13,FALSE),)","v":0},null,null,null,null,null,{"$f":"IF(F178<>\"\",'CO2 konvertering'!$C$14,)","v":0},null,null,null,null,0]
[null,null,null,"Ja",null,null,null,null,"",null,"",{"$f":"IFERROR(VLOOKUP(F179,Biomasser!$A$3:$E$88,4,FALSE),0)","v":0},null,{"$f":"IFERROR(VLOOKUP(F179,Biomasser!$A$3:$E$88,5,FALSE),0)","v":0},"",{"$f":"J179*L179*N179*H179","v":0},null,null,{"$f":"IFERROR(VLOOKUP(F179,Biomasser!$A$3:$M$88,13,FALSE),)","v":0},null,null,null,null,null,{"$f":"IF(F179<>\"\",'CO2 konvertering'!$C$14,)","v":0},null,null,null,null,{"$f":"SUM(S179:AC179)","v":0}]
[null,null,null,"Ja",null,null,null,null,{"$f":"IF(AND(F180<>\"\",ISBLANK(H180)),\"Indtast vægt\",\"\")","v":""},null,{"$f":"IF(AND(F180<>\"\",ISBLANK(J180)),\"Indtast tørstof %\",\"\")","v":""},{"$f":"IFERROR(VLOOKUP(F180,Biomasser!$A$3:$E$88,4,FALSE),0)","v":0},null,{"$f":"IFERROR(VLOOKUP(F180,Biomasser!$A$3:$E$88,5,FALSE),0)","v":0},"",0,null,null,{"$f":"IFERROR(VLOOKUP(F180,Biomasser!$A$3:$M$88,13,FALSE),)","v":0},null,null,null,null,null,{"$f":"IF(F180<>\"\",'CO2 konvertering'!$C$14,)","v":0},null,null,null,null,0]
[null,null,null,"Ja",null,null,null,null,"",null,"",{"$f":"IFERROR(VLOOKUP(F181,Biomasser!$A$3:$E$88,4,FALSE),0)","v":0},null,{"$f":"IFERROR(VLOOKUP(F181,Biomasser!$A$3:$E$88,5,FALSE),0)","v":0},"",0,null,null,{"$f":"IFERROR(VLOOKUP(F181,Biomasser!$A$3:$M$88,13,FALSE),)","v":0},null,null,null,null,null,{"$f":"IF(F181<>\"\",'CO2 konvertering'!$C$14,)","v":0},null,null,null,null,0]
[null,null,null,"Ja",null,null,null,null,"",null,"",{"$f":"IFERROR(VLOOKUP(F182,Biomasser!$A$3:$E$88,4,FALSE),0)","v":0},null,{"$f":"IFERROR(VLOOKUP(F182,Biomasser!$A$3:$E$88,5,FALSE),0)","v":0},"",0,null,null,{"$f":"IFERROR(VLOOKUP(F182,Biomasser!$A$3:$M$88,13,FALSE),)","v":0},null,null,null,null,null,{"$f":"IF(F182<>\"\",'CO2 konvertering'!$C$14,)","v":0},null,null,null,null,0]
[null,null,null,"Ja",null,null,null,null,"",null,"",{"$f":"IFERROR(VLOOKUP(F183,Biomasser!$A$3:$E$88,4,FALSE),0)","v":0},null,{"$f":"IFERROR(VLOOKUP(F183,Biomasser!$A$3:$E$88,5,FALSE),0)","v":0},{"$f":"IF(AND(F183<>\"\",(N183=0)),\"Opdater biomasseark\",\"\")","v":""},0,null,null,{"$f":"IFERROR(VLOOKUP(F183,Biomasser!$A$3:$M$88,13,FALSE),)","v":0},null,null,null,null,null,{"$f":"IF(F183<>\"\",'CO2 konvertering'!$C$14,)","v":0},null,null,null,null,0]
[null,null,null,"Ja",null,null,null,null,"",null,"",{"$f":"IFERROR(VLOOKUP(F184,Biomasser!$A$3:$E$88,4,FALSE),0)","v":0},null,{"$f":"IFERROR(VLOOKUP(F184,Biomasser!$A$3:$E$88,5,FALSE),0)","v":0},"",0,null,null,{"$f":"IFERROR(VLOOKUP(F184,Biomasser!$A$3:$M$88,13,FALSE),)","v":0},null,null,null,null,null,{"$f":"IF(F184<>\"\",'CO2 konvertering'!$C$14,)","v":0},null,null,null,null,0]
[null,null,null,"Ja",null,null,null,null,"",null,"",{"$f":"IFERROR(VLOOKUP(F185,Biomasser!$A$3:$E$88,4,FALSE),0)","v":0},null,{"$f":"IFERROR(VLOOKUP(F185,Biomasser!$A$3:$E$88,5,FALSE),0)","v":0},"",0,null,null,{"$f":"IFERROR(VLOOKUP(F185,Biomasser!$A$3:$M$88,13,FALSE),)","v":0},null,null,null,null,null,{"$f":"IF(F185<>\"\",'CO2 konvertering'!$C$14,)","v":0},null,null,null,null,0]
[null,null,null,"Ja",null,null,null,null,"",null,"",{"$f":"IFERROR(VLOOKUP(F186,Biomasser!$A$3:$E$88,4,FALSE),0)","v":0},null,{"$f":"IFERROR(VLOOKUP(F186,Biomasser!$A$3:$E$88,5,FALSE),0)","v":0},"",0,null,null,{"$f":"IFERROR(VLOOKUP(F186,Biomasser!$A$3:$M$88,13,FALSE),)","v":0},null,null,null,null,null,{"$f":"IF(F186<>\"\",'CO2 konvertering'!$C$14,)","v":0},null,null,null,null,0]
[null,null,null,"Ja",null,null,null,null,"",null,"",{"$f":"IFERROR(VLOOKUP(F187,Biomasser!$A$3:$E$88,4,FALSE),0)","v":0},null,{"$f":"IFERROR(VLOOKUP(F187,Biomasser!$A$3:$E$88,5,FALSE),0)","v":0},"",0,null,null,{"$f":"IFERROR(VLOOKUP(F187,Biomasser!$A$3:$M$88,13,FALSE),)","v":0},null,null,null,null,null,{"$f":"IF(F187<>\"\",'CO2 konvertering'!$C$14,)","v":0},null,null,null,null,0]
[null,null,null,"Ja",null,null,null,null,"",null,"",{"$f":"IFERROR(VLOOKUP(F188,Biomasser!$A$3:$E$88,4,FALSE),0)","v":0},null,{"$f":"IFERROR(VLOOKUP(F188,Biomasser!$A$3:$E$88,5,FALSE),0)","v":0},"",0,null,null,{"$f":"IFERROR(VLOOKUP(F188,Biomasser!$A$3:$M$88,13,FALSE),)","v":0},null,null,null,null,null,{"$f":"IF(F188<>\"\",'CO2 konvertering'!$C$14,)","v":0},null,null,null,null,0]
[null,null,null,"Ja",null,null,null,null,"",null,"",{"$f":"IFERROR(VLOOKUP(F189,Biomasser!$A$3:$E$88,4,FALSE),0)","v":0},null,{"$f":"IFERROR(VLOOKUP(F189,Biomasser!$A$3:$E$88,5,FALSE),0)","v":0},"",0,null,null,{"$f":"IFERROR(VLOOKUP(F189,Biomasser!$A$3:$M$88,13,FALSE),)","v":0},null,null,null,null,null,{"$f":"IF(F189<>\"\",'CO2 konvertering'!$C$14,)","v":0},null,null,null,null,0]
[null,null,null,"Ja",null,null,null,null,"",null,"",{"$f":"IFERROR(VLOOKUP(F190,Biomasser!$A$3:$E$88,4,FALSE),0)","v":0},null,{"$f":"IFERROR(VLOOKUP(F190,Biomasser!$A$3:$E$88,5,FALSE),0)","v":0},"",0,null,null,{"$f":"IFERROR(VLOOKUP(F190,Biomasser!$A$3:$M$88,13,FALSE),)","v":0},null,null,null,null,null,{"$f":"IF(F190<>\"\",'CO2 konvertering'!$C$14,)","v":0},null,null,null,null,0]
[null,null,null,"Ja",null,null,null,null,"",null,"",{"$f":"IFERROR(VLOOKUP(F191,Biomasser!$A$3:$E$88,4,FALSE),0)","v":0},null,{"$f":"IFERROR(VLOOKUP(F191,Biomasser!$A$3:$E$88,5,FALSE),0)","v":0},"",0,null,null,{"$f":"IFERROR(VLOOKUP(F191,Biomasser!$A$3:$M$88,13,FALSE),)","v":0},null,null,null,null,null,{"$f":"IF(F191<>\"\",'CO2 konvertering'!$C$14,)","v":0},null,null,null,null,0]
[null,null,null,"Ja",null,null,null,null,"",null,"",{"$f":"IFERROR(VLOOKUP(F192,Biomasser!$A$3:$E$88,4,FALSE),0)","v":0},null,{"$f":"IFERROR(VLOOKUP(F192,Biomasser!$A$3:$E$88,5,FALSE),0)","v":0},"",0,null,null,{"$f":"IFERROR(VLOOKUP(F192,Biomasser!$A$3:$M$88,13,FALSE),)","v":0},null,null,null,null,null,{"$f":"IF(F192<>\"\",'CO2 konvertering'!$C$14,)","v":0},null,null,null,null,0]
[null,null,null,"Ja",null,null,null,null,"",null,"",{"$f":"IFERROR(VLOOKUP(F193,Biomasser!$A$3:$E$88,4,FALSE),0)","v":0},null,{"$f":"IFERROR(VLOOKUP(F193,Biomasser!$A$3:$E$88,5,FALSE),0)","v":0},"",0,null,null,{"$f":"IFERROR(VLOOKUP(F193,Biomasser!$A$3:$M$88,13,FALSE),)","v":0},null,null,null,null,null,{"$f":"IF(F193<>\"\",'CO2 konvertering'!$C$14,)","v":0},null,null,null,null,0]
[null,null,null,"Ja",null,null,null,null,"",null,"",{"$f":"IFERROR(VLOOKUP(F194,Biomasser!$A$3:$E$88,4,FALSE),0)","v":0},null,{"$f":"IFERROR(VLOOKUP(F194,Biomasser!$A$3:$E$88,5,FALSE),0)","v":0},"",0,null,null,{"$f":"IFERROR(VLOOKUP(F194,Biomasser!$A$3:$M$88,13,FALSE),)","v":0},null,null,null,null,null,{"$f":"IF(F194<>\"\",'CO2 konvertering'!$C$14,)","v":0},null,null,null,null,0]
[null,null,null,"Ja",null,null,null,null,"",null,"",{"$f":"IFERROR(VLOOKUP(F195,Biomasser!$A$3:$E$88,4,FALSE),0)","v":0},null,{"$f":"IFERROR(VLOOKUP(F195,Biomasser!$A$3:$E$88,5,FALSE),0)","v":0},"",0,null,null,{"$f":"IFERROR(VLOOKUP(F195,Biomasser!$A$3:$M$88,13,FALSE),)","v":0},null,null,null,null,null,{"$f":"IF(F195<>\"\",'CO2 konvertering'!$C$14,)","v":0},null,null,null,null,0]
[null,null,null,"Ja",null,null,null,null,"",null,"",{"$f":"IFERROR(VLOOKUP(F196,Biomasser!$A$3:$E$88,4,FALSE),0)","v":0},null,{"$f":"IFERROR(VLOOKUP(F196,Biomasser!$A$3:$E$88,5,FALSE),0)","v":0},"",0,null,null,{"$f":"IFERROR(VLOOKUP(F196,Biomasser!$A$3:$M$88,13,FALSE),)","v":0},null,null,null,null,null,{"$f":"IF(F196<>\"\",'CO2 konvertering'!$C$14,)","v":0},null,null,null,null,0]
[null,null,null,"Ja",null,null,null,null,"",null,"",{"$f":"IFERROR(VLOOKUP(F197,Biomasser!$A$3:$E$88,4,FALSE),0)","v":0},null,{"$f":"IFERROR(VLOOKUP(F197,Biomasser!$A$3:$E$88,5,FALSE),0)","v":0},"",0,null,null,{"$f":"IFERROR(VLOOKUP(F197,Biomasser!$A$3:$M$88,13,FALSE),)","v":0},null,null,null,null,null,{"$f":"IF(F197<>\"\",'CO2 konvertering'!$C$14,)","v":0},null,null,null,null,0]
[null,null,null,"Ja",null,null,null,null,"",null,"",{"$f":"IFERROR(VLOOKUP(F198,Biomasser!$A$3:$E$88,4,FALSE),0)","v":0},null,{"$f":"IFERROR(VLOOKUP(F198,Biomasser!$A$3:$E$88,5,FALSE),0)","v":0},"",0,null,null,{"$f":"IFERROR(VLOOKUP(F198,Biomasser!$A$3:$M$88,13,FALSE),)","v":0},null,null,null,null,null,{"$f":"IF(F198<>\"\",'CO2 konvertering'!$C$14,)","v":0},null,null,null,null,0]
[null,null,null,"Ja",null,null,null,null,"",null,"",{"$f":"IFERROR(VLOOKUP(F199,Biomasser!$A$3:$E$88,4,FALSE),0)","v":0},null,{"$f":"IFERROR(VLOOKUP(F199,Biomasser!$A$3:$E$88,5,FALSE),0)","v":0},"",0,null,null,{"$f":"IFERROR(VLOOKUP(F199,Biomasser!$A$3:$M$88,13,FALSE),)","v":0},null,null,null,null,null,{"$f":"IF(F199<>\"\",'CO2 konvertering'!$C$14,)","v":0},null,null,null,null,0]
[null,null,null,"Ja",null,null,null,null,"",null,"",{"$f":"IFERROR(VLOOKUP(F200,Biomasser!$A$3:$E$88,4,FALSE),0)","v":0},null,{"$f":"IFERROR(VLOOKUP(F200,Biomasser!$A$3:$E$88,5,FALSE),0)","v":0},"",0,null,null,{"$f":"IFERROR(VLOOKUP(F200,Biomasser!$A$3:$M$88,13,FALSE),)","v":0},null,null,null,null,null,{"$f":"IF(F200<>\"\",'CO2 konvertering'!$C$14,)","v":0},null,null,null,null,0]
[null,null,null,"Ja",null,null,null,null,"",null,"",{"$f":"IFERROR(VLOOKUP(F201,Biomasser!$A$3:$E$88,4,FALSE),0)","v":0},null,{"$f":"IFERROR(VLOOKUP(F201,Biomasser!$A$3:$E$88,5,FALSE),0)","v":0},"",0,null,null,{"$f":"IFERROR(VLOOKUP(F201,Biomasser!$A$3:$M$88,13,FALSE),)","v":0},null,null,null,null,null,{"$f":"IF(F201<>\"\",'CO2 konvertering'!$C$14,)","v":0},null,null,null,null,0]
[null,null,null,"Ja",null,null,null,null,"",null,"",{"$f":"IFERROR(VLOOKUP(F202,Biomasser!$A$3:$E$88,4,FALSE),0)","v":0},null,{"$f":"IFERROR(VLOOKUP(F202,Biomasser!$A$3:$E$88,5,FALSE),0)","v":0},"",0,null,null,{"$f":"IFERROR(VLOOKUP(F202,Biomasser!$A$3:$M$88,13,FALSE),)","v":0},null,null,null,null,null,{"$f":"IF(F202<>\"\",'CO2 konvertering'!$C$14,)","v":0},null,null,null,null,0]
[null,null,null,"Ja",null,null,null,null,"",null,"",{"$f":"IFERROR(VLOOKUP(F203,Biomasser!$A$3:$E$88,4,FALSE),0)","v":0},null,{"$f":"IFERROR(VLOOKUP(F203,Biomasser!$A$3:$E$88,5,FALSE),0)","v":0},"",0,null,null,{"$f":"IFERROR(VLOOKUP(F203,Biomasser!$A$3:$M$88,13,FALSE),)","v":0},null,null,null,null,null,{"$f":"IF(F203<>\"\",'CO2 konvertering'!$C$14,)","v":0},null,null,null,null,0]
[null,null,null,"Ja",null,null,null,null,"",null,"",{"$f":"IFERROR(VLOOKUP(F204,Biomasser!$A$3:$E$88,4,FALSE),0)","v":0},null,{"$f":"IFERROR(VLOOKUP(F204,Biomasser!$A$3:$E$88,5,FALSE),0)","v":0},"",0,null,null,{"$f":"IFERROR(VLOOKUP(F204,Biomasser!$A$3:$M$88,13,FALSE),)","v":0},null,null,null,null,null,{"$f":"IF(F204<>\"\",'CO2 konvertering'!$C$14,)","v":0},null,null,null,null,0]
[null,null,null,"Ja",null,null,null,null,"",null,"",{"$f":"IFERROR(VLOOKUP(F205,Biomasser!$A$3:$E$88,4,FALSE),0)","v":0},null,{"$f":"IFERROR(VLOOKUP(F205,Biomasser!$A$3:$E$88,5,FALSE),0)","v":0},"",0,null,null,{"$f":"IFERROR(VLOOKUP(F205,Biomasser!$A$3:$M$88,13,FALSE),)","v":0},null,null,null,null,null,{"$f":"IF(F205<>\"\",'CO2 konvertering'!$C$14,)","v":0},null,null,null,null,0]
[null,null,null,"Ja",null,null,null,null,"",null,"",{"$f":"IFERROR(VLOOKUP(F206,Biomasser!$A$3:$E$88,4,FALSE),0)","v":0},null,{"$f":"IFERROR(VLOOKUP(F206,Biomasser!$A$3:$E$88,5,FALSE),0)","v":0},"",0,null,null,{"$f":"IFERROR(VLOOKUP(F206,Biomasser!$A$3:$M$88,13,FALSE),)","v":0},null,null,null,null,null,{"$f":"IF(F206<>\"\",'CO2 konvertering'!$C$14,)","v":0},null,null,null,null,0]
[null,null,null,"Ja",null,null,null,null,"",null,"",{"$f":"IFERROR(VLOOKUP(F207,Biomasser!$A$3:$E$88,4,FALSE),0)","v":0},null,{"$f":"IFERROR(VLOOKUP(F207,Biomasser!$A$3:$E$88,5,FALSE),0)","v":0},"",0,null,null,{"$f":"IFERROR(VLOOKUP(F207,Biomasser!$A$3:$M$88,13,FALSE),)","v":0},null,null,null,null,null,{"$f":"IF(F207<>\"\",'CO2 konvertering'!$C$14,)","v":0},null,null,null,null,0]
[null,null,null,"Ja",null,null,null,null,"",null,"",{"$f":"IFERROR(VLOOKUP(F208,Biomasser!$A$3:$E$88,4,FALSE),0)","v":0},null,{"$f":"IFERROR(VLOOKUP(F208,Biomasser!$A$3:$E$88,5,FALSE),0)","v":0},"",0,null,null,{"$f":"IFERROR(VLOOKUP(F208,Biomasser!$A$3:$M$88,13,FALSE),)","v":0},null,null,null,null,null,{"$f":"IF(F208<>\"\",'CO2 konvertering'!$C$14,)","v":0},null,null,null,null,0]
[null,null,null,"Ja",null,null,null,null,"",null,"",{"$f":"IFERROR(VLOOKUP(F209,Biomasser!$A$3:$E$88,4,FALSE),0)","v":0},null,{"$f":"IFERROR(VLOOKUP(F209,Biomasser!$A$3:$E$88,5,FALSE),0)","v":0},"",0,null,null,{"$f":"IFERROR(VLOOKUP(F209,Biomasser!$A$3:$M$88,13,FALSE),)","v":0},null,null,null,null,null,{"$f":"IF(F209<>\"\",'CO2 konvertering'!$C$14,)","v":0},null,null,null,null,0]
[null,null,null,"Ja",null,null,null,null,"",null,"",{"$f":"IFERROR(VLOOKUP(F210,Biomasser!$A$3:$E$88,4,FALSE),0)","v":0},null,{"$f":"IFERROR(VLOOKUP(F210,Biomasser!$A$3:$E$88,5,FALSE),0)","v":0},"",0,null,null,{"$f":"IFERROR(VLOOKUP(F210,Biomasser!$A$3:$M$88,13,FALSE),)","v":0},null,null,null,null,null,{"$f":"IF(F210<>\"\",'CO2 konvertering'!$C$14,)","v":0},null,null,null,null,0]
[null,null,null,"Ja",null,null,null,null,"",null,"",{"$f":"IFERROR(VLOOKUP(F211,Biomasser!$A$3:$E$88,4,FALSE),0)","v":0},null,{"$f":"IFERROR(VLOOKUP(F211,Biomasser!$A$3:$E$88,5,FALSE),0)","v":0},"",0,null,null,{"$f":"IFERROR(VLOOKUP(F211,Biomasser!$A$3:$M$88,13,FALSE),)","v":0},null,null,null,null,null,{"$f":"IF(F211<>\"\",'CO2 konvertering'!$C$14,)","v":0},null,null,null,null,{"$f":"SUM(S211:AC211)","v":0}]
[null,null,null,"Ja",null,null,null,null,"",null,"",{"$f":"IFERROR(VLOOKUP(F212,Biomasser!$A$3:$E$88,4,FALSE),0)","v":0},null,{"$f":"IFERROR(VLOOKUP(F212,Biomasser!$A$3:$E$88,5,FALSE),0)","v":0},"",0,null,null,{"$f":"IFERROR(VLOOKUP(F212,Biomasser!$A$3:$M$88,13,FALSE),)","v":0},null,null,null,null,null,{"$f":"IF(F212<>\"\",'CO2 konvertering'!$C$14,)","v":0},null,null,null,null,0]
[null,null,null,"Ja",null,null,null,null,"",null,"",{"$f":"IFERROR(VLOOKUP(F213,Biomasser!$A$3:$E$88,4,FALSE),0)","v":0},null,{"$f":"IFERROR(VLOOKUP(F213,Biomasser!$A$3:$E$88,5,FALSE),0)","v":0},"",0,null,null,{"$f":"IFERROR(VLOOKUP(F213,Biomasser!$A$3:$M$88,13,FALSE),)","v":0},null,null,null,null,null,{"$f":"IF(F213<>\"\",'CO2 konvertering'!$C$14,)","v":0},null,null,null,null,0]
[null,null,null,"Ja",null,null,null,null,"",null,"",{"$f":"IFERROR(VLOOKUP(F214,Biomasser!$A$3:$E$88,4,FALSE),0)","v":0},null,{"$f":"IFERROR(VLOOKUP(F214,Biomasser!$A$3:$E$88,5,FALSE),0)","v":0},"",0,null,null,{"$f":"IFERROR(VLOOKUP(F214,Biomasser!$A$3:$M$88,13,FALSE),)","v":0},null,null,null,null,null,{"$f":"IF(F214<>\"\",'CO2 konvertering'!$C$14,)","v":0},null,null,null,null,0]
[null,null,null,"Ja",null,null,null,null,"",null,"",{"$f":"IFERROR(VLOOKUP(F215,Biomasser!$A$3:$E$88,4,FALSE),0)","v":0},null,{"$f":"IFERROR(VLOOKUP(F215,Biomasser!$A$3:$E$88,5,FALSE),0)","v":0},"",0,null,null,{"$f":"IFERROR(VLOOKUP(F215,Biomasser!$A$3:$M$88,13,FALSE),)","v":0},null,null,null,null,null,{"$f":"IF(F215<>\"\",'CO2 konvertering'!$C$14,)","v":0},null,null,null,null,0]
[null,"Dato:",null,null,null,"Mængde biomasse (Ton)",null,"Gasproduktion"]
["Gas","3. januar",2015,null,null,{"$f":"SUM(H220:H320)","v":0},null,null,"m3 CH4"]
[null,"Leverandør",null,"Certificeret",null,"Råvarer input","          Mængder                 \n      (Ton vådvægt)            ",null,null,"Tørstof\n%",null,"Omsættelig tørstof\n%",null,"Gaspotentiale\nm³ CH4/ton VS",null,"Teoretisk\ngasproduktion\nm³ CH4"]
[]
[{"$f":"B217&C217","v":"3. januar2015"},null,null,"Ja",null,"Afgrøder (Overskrift, kan ikke vælges)",null,null,{"$f":"IF(AND(F220<>\"\",ISBLANK(H220)),\"Indtast vægt\",\"\")","v":"Indtast vægt"},null,{"$f":"IF(AND(F220<>\"\",ISBLANK(J220)),\"Indtast tørstof %\",\"\")","v":"Indtast tørstof %"},{"$f":"IFERROR(VLOOKUP(F220,Biomasser!$A$3:$E$88,4,FALSE),)","v":0},null,{"$f":"IFERROR(VLOOKUP(F220,Biomasser!$A$3:$E$88,5,FALSE),0)","v":0},{"$f":"IF(AND(F220<>\"\",(N220=0)),\"Opdater biomasseark\",\"\")","v":"Opdater biomasseark"},{"$f":"J220*L220*N220*H220","v":0},null,null,{"$f":"IFERROR(VLOOKUP(F220,Biomasser!$A$3:$M$88,13,FALSE),)","v":0},null,null,null,null,null,{"$f":"IF(F220<>\"\",'CO2 konvertering'!$C$14,)","v":0},null,null,null,null,{"$f":"SUM(S220:AC220)","v":0}]
[null,null,null,"Ja",null,null,null,null,{"$f":"IF(AND(F221<>\"\",ISBLANK(H221)),\"Indtast vægt\",\"\")","v":""},null,{"$f":"IF(AND(F221<>\"\",ISBLANK(J221)),\"Indtast tørstof %\",\"\")","v":""},{"$f":"IFERROR(VLOOKUP(F221,Biomasser!$A$3:$E$88,4,FALSE),0)","v":0},null,{"$f":"IFERROR(VLOOKUP(F221,Biomasser!$A$3:$E$88,5,FALSE),0)","v":0},"",0,null,null,{"$f":"IFERROR(VLOOKUP(F221,Biomasser!$A$3:$M$88,13,FALSE),)","v":0},null,null,null,null,null,{"$f":"IF(F221<>\"\",'CO2 konvertering'!$C$14,)","v":0},null,null,null,null,0]
[null,null,null,"Ja",null,null,null,null,"",null,"",{"$f":"IFERROR(VLOOKUP(F222,Biomasser!$A$3:$E$88,4,FALSE),0)","v":0},null,{"$f":"IFERROR(VLOOKUP(F222,Biomasser!$A$3:$E$88,5,FALSE),0)","v":0},"",0,null,null,{"$f":"IFERROR(VLOOKUP(F222,Biomasser!$A$3:$M$88,13,FALSE),)","v":0},null,null,null,null,null,{"$f":"IF(F222<>\"\",'CO2 konvertering'!$C$14,)","v":0},null,null,null,null,0]
[null,null,null,"Ja",null,null,null,null,"",null,"",{"$f":"IFERROR(VLOOKUP(F223,Biomasser!$A$3:$E$88,4,FALSE),0)","v":0},null,{"$f":"IFERROR(VLOOKUP(F223,Biomasser!$A$3:$E$88,5,FALSE),0)","v":0},{"$f":"IF(AND(F223<>\"\",(N223=0)),\"Opdater biomasseark\",\"\")","v":""},0,null,null,{"$f":"IFERROR(VLOOKUP(F223,Biomasser!$A$3:$M$88,13,FALSE),)","v":0},null,null,null,null,null,{"$f":"IF(F223<>\"\",'CO2 konvertering'!$C$14,)","v":0},null,null,null,null,0]
[null,null,null,"Ja",null,null,null,null,"",null,"",{"$f":"IFERROR(VLOOKUP(F224,Biomasser!$A$3:$E$88,4,FALSE),0)","v":0},null,{"$f":"IFERROR(VLOOKUP(F224,Biomasser!$A$3:$E$88,5,FALSE),0)","v":0},{"$f":"IF(AND(F224<>\"\",(N224=0)),\"Opdater biomasseark\",\"\")","v":""},0,null,null,{"$f":"IFERROR(VLOOKUP(F224,Biomasser!$A$3:$M$88,13,FALSE),)","v":0},null,null,null,null,null,{"$f":"IF(F224<>\"\",'CO2 konvertering'!$C$14,)","v":0},null,null,null,null,0]
[null,null,null,"Ja",null,null,null,null,"",null,"",{"$f":"IFERROR(VLOOKUP(F225,Biomasser!$A$3:$E$88,4,FALSE),0)","v":0},null,{"$f":"IFERROR(VLOOKUP(F225,Biomasser!$A$3:$E$88,5,FALSE),0)","v":0},"",0,null,null,{"$f":"IFERROR(VLOOKUP(F225,Biomasser!$A$3:$M$88,13,FALSE),)","v":0},null,null,null,null,null,{"$f":"IF(F225<>\"\",'CO2 konvertering'!$C$14,)","v":0},null,null,null,null,0]
[null,null,null,"Ja",null,null,null,null,"",null,"",{"$f":"IFERROR(VLOOKUP(F226,Biomasser!$A$3:$E$88,4,FALSE),0)","v":0},null,{"$f":"IFERROR(VLOOKUP(F226,Biomasser!$A$3:$E$88,5,FALSE),0)","v":0},"",0,null,null,{"$f":"IFERROR(VLOOKUP(F226,Biomasser!$A$3:$M$88,13,FALSE),)","v":0},null,null,null,null,null,{"$f":"IF(F226<>\"\",'CO2 konvertering'!$C$14,)","v":0},null,null,null,null,0]
[null,null,null,"Ja",null,null,null,null,"",null,"",{"$f":"IFERROR(VLOOKUP(F227,Biomasser!$A$3:$E$88,4,FALSE),0)","v":0},null,{"$f":"IFERROR(VLOOKUP(F227,Biomasser!$A$3:$E$88,5,FALSE),0)","v":0},"",0,null,null,{"$f":"IFERROR(VLOOKUP(F227,Biomasser!$A$3:$M$88,13,FALSE),)","v":0},null,null,null,null,null,{"$f":"IF(F227<>\"\",'CO2 konvertering'!$C$14,)","v":0},null,null,null,null,0]
[null,null,null,"Ja",null,null,null,null,"",null,"",{"$f":"IFERROR(VLOOKUP(F228,Biomasser!$A$3:$E$88,4,FALSE),0)","v":0},null,{"$f":"IFERROR(VLOOKUP(F228,Biomasser!$A$3:$E$88,5,FALSE),0)","v":0},"",0,null,null,{"$f":"IFERROR(VLOOKUP(F228,Biomasser!$A$3:$M$88,13,FALSE),)","v":0},null,null,null,null,null,{"$f":"IF(F228<>\"\",'CO2 konvertering'!$C$14,)","v":0},null,null,null,null,0]
[null,null,null,"Ja",null,null,null,null,"",null,"",{"$f":"IFERROR(VLOOKUP(F229,Biomasser!$A$3:$E$88,4,FALSE),0)","v":0},null,{"$f":"IFERROR(VLOOKUP(F229,Biomasser!$A$3:$E$88,5,FALSE),0)","v":0},"",0,null,null,{"$f":"IFERROR(VLOOKUP(F229,Biomasser!$A$3:$M$88,13,FALSE),)","v":0},null,null,null,null,null,{"$f":"IF(F229<>\"\",'CO2 konvertering'!$C$14,)","v":0},null,null,null,null,0]
[null,null,null,"Ja",null,null,null,null,"",null,"",{"$f":"IFERROR(VLOOKUP(F230,Biomasser!$A$3:$E$88,4,FALSE),0)","v":0},null,{"$f":"IFERROR(VLOOKUP(F230,Biomasser!$A$3:$E$88,5,FALSE),0)","v":0},"",0,null,null,{"$f":"IFERROR(VLOOKUP(F230,Biomasser!$A$3:$M$88,13,FALSE),)","v":0},null,null,null,null,null,{"$f":"IF(F230<>\"\",'CO2 konvertering'!$C$14,)","v":0},null,null,null,null,0]
[null,null,null,"Ja",null,null,null,null,"",null,"",{"$f":"IFERROR(VLOOKUP(F231,Biomasser!$A$3:$E$88,4,FALSE),0)","v":0},null,{"$f":"IFERROR(VLOOKUP(F231,Biomasser!$A$3:$E$88,5,FALSE),0)","v":0},"",0,null,null,{"$f":"IFERROR(VLOOKUP(F231,Biomasser!$A$3:$M$88,13,FALSE),)","v":0},null,null,null,null,null,{"$f":"IF(F231<>\"\",'CO2 konvertering'!$C$14,)","v":0},null,null,null,null,0]
[null,null,null,"Ja",null,null,null,null,"",null,"",{"$f":"IFERROR(VLOOKUP(F232,Biomasser!$A$3:$E$88,4,FALSE),0)","v":0},null,{"$f":"IFERROR(VLOOKUP(F232,Biomasser!$A$3:$E$88,5,FALSE),0)","v":0},"",0,null,null,{"$f":"IFERROR(VLOOKUP(F232,Biomasser!$A$3:$M$88,13,FALSE),)","v":0},null,null,null,null,null,{"$f":"IF(F232<>\"\",'CO2 konvertering'!$C$14,)","v":0},null,null,null,null,0]
[null,null,null,"Ja",null,null,null,null,"",null,"",{"$f":"IFERROR(VLOOKUP(F233,Biomasser!$A$3:$E$88,4,FALSE),0)","v":0},null,{"$f":"IFERROR(VLOOKUP(F233,Biomasser!$A$3:$E$88,5,FALSE),0)","v":0},"",0,null,null,{"$f":"IFERROR(VLOOKUP(F233,Biomasser!$A$3:$M$88,13,FALSE),)","v":0},null,null,null,null,null,{"$f":"IF(F233<>\"\",'CO2 konvertering'!$C$14,)","v":0},null,null,null,null,0]
[null,null,null,"Ja",null,null,null,null,"",null,"",{"$f":"IFERROR(VLOOKUP(F234,Biomasser!$A$3:$E$88,4,FALSE),0)","v":0},null,{"$f":"IFERROR(VLOOKUP(F234,Biomasser!$A$3:$E$88,5,FALSE),0)","v":0},"",0,null,null,{"$f":"IFERROR(VLOOKUP(F234,Biomasser!$A$3:$M$88,13,FALSE),)","v":0},null,null,null,null,null,{"$f":"IF(F234<>\"\",'CO2 konvertering'!$C$14,)","v":0},null,null,null,null,0]
[null,null,null,"Ja",null,null,null,null,"",null,"",{"$f":"IFERROR(VLOOKUP(F235,Biomasser!$A$3:$E$88,4,FALSE),0)","v":0},null,{"$f":"IFERROR(VLOOKUP(F235,Biomasser!$A$3:$E$88,5,FALSE),0)","v":0},"",0,null,null,{"$f":"IFERROR(VLOOKUP(F235,Biomasser!$A$3:$M$88,13,FALSE),)","v":0},null,null,null,null,null,{"$f":"IF(F235<>\"\",'CO2 konvertering'!$C$14,)","v":0},null,null,null,null,0]
[null,null,null,"Ja",null,null,null,null,"",null,"",{"$f":"IFERROR(VLOOKUP(F236,Biomasser!$A$3:$E$88,4,FALSE),0)","v":0},null,{"$f":"IFERROR(VLOOKUP(F236,Biomasser!$A$3:$E$88,5,FALSE),0)","v":0},"",0,null,null,{"$f":"IFERROR(VLOOKUP(F236,Biomasser!$A$3:$M$88,13,FALSE),)","v":0},null,null,null,null,null,{"$f":"IF(F236<>\"\",'CO2 konvertering'!$C$14,)","v":0},null,null,null,null,0]
[null,null,null,"Ja",null,null,null,null,"",null,"",{"$f":"IFERROR(VLOOKUP(F237,Biomasser!$A$3:$E$88,4,FALSE),0)","v":0},null,{"$f":"IFERROR(VLOOKUP(F237,Biomasser!$A$3:$E$88,5,FALSE),0)","v":0},"",0,null,null,{"$f":"IFERROR(VLOOKUP(F237,Biomasser!$A$3:$M$88,13,FALSE),)","v":0},null,null,null,null,null,{"$f":"IF(F237<>\"\",'CO2 konvertering'!$C$14,)","v":0},null,null,null,null,0]
[null,null,null,"Ja",null,null,null,null,"",null,"",{"$f":"IFERROR(VLOOKUP(F238,Biomasser!$A$3:$E$88,4,FALSE),0)","v":0},null,{"$f":"IFERROR(VLOOKUP(F238,Biomasser!$A$3:$E$88,5,FALSE),0)","v":0},"",0,null,null,{"$f":"IFERROR(VLOOKUP(F238,Biomasser!$A$3:$M$88,13,FALSE),)","v":0},null,null,null,null,null,{"$f":"IF(F238<>\"\",'CO2 konvertering'!$C$14,)","v":0},null,null,null,null,0]
[null,null,null,"Ja",null,null,null,null,"",null,"",{"$f":"IFERROR(VLOOKUP(F239,Biomasser!$A$3:$E$88,4,FALSE),0)","v":0},null,{"$f":"IFERROR(VLOOKUP(F239,Biomasser!$A$3:$E$88,5,FALSE),0)","v":0},"",0,null,null,{"$f":"IFERROR(VLOOKUP(F239,Biomasser!$A$3:$M$88,13,FALSE),)","v":0},null,null,null,null,null,{"$f":"IF(F239<>\"\",'CO2 konvertering'!$C$14,)","v":0},null,null,null,null,0]
[null,null,null,"Ja",null,null,null,null,"",null,"",{"$f":"IFERROR(VLOOKUP(F240,Biomasser!$A$3:$E$88,4,FALSE),0)","v":0},null,{"$f":"IFERROR(VLOOKUP(F240,Biomasser!$A$3:$E$88,5,FALSE),0)","v":0},"",0,null,null,{"$f":"IFERROR(VLOOKUP(F240,Biomasser!$A$3:$M$88,13,FALSE),)","v":0},null,null,null,null,null,{"$f":"IF(F240<>\"\",'CO2 konvertering'!$C$14,)","v":0},null,null,null,null,0]
[null,null,null,"Ja",null,null,null,null,"",null,"",{"$f":"IFERROR(VLOOKUP(F241,Biomasser!$A$3:$E$88,4,FALSE),0)","v":0},null,{"$f":"IFERROR(VLOOKUP(F241,Biomasser!$A$3:$E$88,5,FALSE),0)","v":0},"",0,null,null,{"$f":"IFERROR(VLOOKUP(F241,Biomasser!$A$3:$M$88,13,FALSE),)","v":0},null,null,null,null,null,{"$f":"IF(F241<>\"\",'CO2 konvertering'!$C$14,)","v":0},null,null,null,null,0]
[null,null,null,"Ja",null,null,null,null,"",null,"",{"$f":"IFERROR(VLOOKUP(F242,Biomasser!$A$3:$E$88,4,FALSE),0)","v":0},null,{"$f":"IFERROR(VLOOKUP(F242,Biomasser!$A$3:$E$88,5,FALSE),0)","v":0},"",0,null,null,{"$f":"IFERROR(VLOOKUP(F242,Biomasser!$A$3:$M$88,13,FALSE),)","v":0},null,null,null,null,null,{"$f":"IF(F242<>\"\",'CO2 konvertering'!$C$14,)","v":0},null,null,null,null,0]
[null,null,null,"Ja",null,null,null,null,"",null,"",{"$f":"IFERROR(VLOOKUP(F243,Biomasser!$A$3:$E$88,4,FALSE),0)","v":0},null,{"$f":"IFERROR(VLOOKUP(F243,Biomasser!$A$3:$E$88,5,FALSE),0)","v":0},"",0,null,null,{"$f":"IFERROR(VLOOKUP(F243,Biomasser!$A$3:$M$88,13,FALSE),)","v":0},null,null,null,null,null,{"$f":"IF(F243<>\"\",'CO2 konvertering'!$C$14,)","v":0},null,null,null,null,0]
[null,null,null,"Ja",null,null,null,null,"",null,"",{"$f":"IFERROR(VLOOKUP(F244,Biomasser!$A$3:$E$88,4,FALSE),0)","v":0},null,{"$f":"IFERROR(VLOOKUP(F244,Biomasser!$A$3:$E$88,5,FALSE),0)","v":0},"",0,null,null,{"$f":"IFERROR(VLOOKUP(F244,Biomasser!$A$3:$M$88,13,FALSE),)","v":0},null,null,null,null,null,{"$f":"IF(F244<>\"\",'CO2 konvertering'!$C$14,)","v":0},null,null,null,null,0]
[null,null,null,"Ja",null,null,null,null,"",null,"",{"$f":"IFERROR(VLOOKUP(F245,Biomasser!$A$3:$E$88,4,FALSE),0)","v":0},null,{"$f":"IFERROR(VLOOKUP(F245,Biomasser!$A$3:$E$88,5,FALSE),0)","v":0},"",0,null,null,{"$f":"IFERROR(VLOOKUP(F245,Biomasser!$A$3:$M$88,13,FALSE),)","v":0},null,null,null,null,null,{"$f":"IF(F245<>\"\",'CO2 konvertering'!$C$14,)","v":0},null,null,null,null,0]
[null,null,null,"Ja",null,null,null,null,"",null,"",{"$f":"IFERROR(VLOOKUP(F246,Biomasser!$A$3:$E$88,4,FALSE),0)","v":0},null,{"$f":"IFERROR(VLOOKUP(F246,Biomasser!$A$3:$E$88,5,FALSE),0)","v":0},"",0,null,null,{"$f":"IFERROR(VLOOKUP(F246,Biomasser!$A$3:$M$88,13,FALSE),)","v":0},null,null,null,null,null,{"$f":"IF(F246<>\"\",'CO2 konvertering'!$C$14,)","v":0},null,null,null,null,0]
[null,null,null,"Ja",null,null,null,null,"",null,"",{"$f":"IFERROR(VLOOKUP(F247,Biomasser!$A$3:$E$88,4,FALSE),0)","v":0},null,{"$f":"IFERROR(VLOOKUP(F247,Biomasser!$A$3:$E$88,5,FALSE),0)","v":0},"",0,null,null,{"$f":"IFERROR(VLOOKUP(F247,Biomasser!$A$3:$M$88,13,FALSE),)","v":0},null,null,null,null,null,{"$f":"IF(F247<>\"\",'CO2 konvertering'!$C$14,)","v":0},null,null,null,null,0]
[null,null,null,"Ja",null,null,null,null,"",null,"",{"$f":"IFERROR(VLOOKUP(F248,Biomasser!$A$3:$E$88,4,FALSE),0)","v":0},null,{"$f":"IFERROR(VLOOKUP(F248,Biomasser!$A$3:$E$88,5,FALSE),0)","v":0},"",0,null,null,{"$f":"IFERROR(VLOOKUP(F248,Biomasser!$A$3:$M$88,13,FALSE),)","v":0},null,null,null,null,null,{"$f":"IF(F248<>\"\",'CO2 konvertering'!$C$14,)","v":0},null,null,null,null,0]
[null,null,null,"Ja",null,null,null,null,"",null,"",{"$f":"IFERROR(VLOOKUP(F249,Biomasser!$A$3:$E$88,4,FALSE),0)","v":0},null,{"$f":"IFERROR(VLOOKUP(F249,Biomasser!$A$3:$E$88,5,FALSE),0)","v":0},"",0,null,null,{"$f":"IFERROR(VLOOKUP(F249,Biomasser!$A$3:$M$88,13,FALSE),)","v":0},null,null,null,null,null,{"$f":"IF(F249<>\"\",'CO2 konvertering'!$C$14,)","v":0},null,null,null,null,0]
[null,null,null,"Ja",null,null,null,null,"",null,"",{"$f":"IFERROR(VLOOKUP(F250,Biomasser!$A$3:$E$88,4,FALSE),0)","v":0},null,{"$f":"IFERROR(VLOOKUP(F250,Biomasser!$A$3:$E$88,5,FALSE),0)","v":0},"",0,null,null,{"$f":"IFERROR(VLOOKUP(F250,Biomasser!$A$3:$M$88,13,FALSE),)","v":0},null,null,null,null,null,{"$f":"IF(F250<>\"\",'CO2 konvertering'!$C$14,)","v":0},null,null,null,null,0]
[null,null,null,"Ja",null,null,null,null,"",null,"",{"$f":"IFERROR(VLOOKUP(F251,Biomasser!$A$3:$E$88,4,FALSE),0)","v":0},null,{"$f":"IFERROR(VLOOKUP(F251,Biomasser!$A$3:$E$88,5,FALSE),0)","v":0},"",0,null,null,{"$f":"IFERROR(VLOOKUP(F251,Biomasser!$A$3:$M$88,13,FALSE),)","v":0},null,null,null,null,null,{"$f":"IF(F251<>\"\",'CO2 konvertering'!$C$14,)","v":0},null,null,null,null,0]
[null,null,null,"Ja",null,null,null,null,"",null,"",{"$f":"IFERROR(VLOOKUP(F252,Biomasser!$A$3:$E$88,4,FALSE),0)","v":0},null,{"$f":"IFERROR(VLOOKUP(F252,Biomasser!$A$3:$E$88,5,FALSE),0)","v":0},"",{"$f":"J252*L252*N252*H252","v":0},null,null,{"$f":"IFERROR(VLOOKUP(F252,Biomasser!$A$3:$M$88,13,FALSE),)","v":0},null,null,null,null,null,{"$f":"IF(F252<>\"\",'CO2 konvertering'!$C$14,)","v":0},null,null,null,null,{"$f":"SUM(S252:AC252)","v":0}]
[null,null,null,"Ja",null,null,null,null,"",null,"",{"$f":"IFERROR(VLOOKUP(F253,Biomasser!$A$3:$E$88,4,FALSE),0)","v":0},null,{"$f":"IFERROR(VLOOKUP(F253,Biomasser!$A$3:$E$88,5,FALSE),0)","v":0},"",0,null,null,{"$f":"IFERROR(VLOOKUP(F253,Biomasser!$A$3:$M$88,13,FALSE),)","v":0},null,null,null,null,null,{"$f":"IF(F253<>\"\",'CO2 konvertering'!$C$14,)","v":0},null,null,null,null,0]
[null,null,null,"Ja",null,null,null,null,"",null,"",{"$f":"IFERROR(VLOOKUP(F254,Biomasser!$A$3:$E$88,4,FALSE),0)","v":0},null,{"$f":"IFERROR(VLOOKUP(F254,Biomasser!$A$3:$E$88,5,FALSE),0)","v":0},"",0,null,null,{"$f":"IFERROR(VLOOKUP(F254,Biomasser!$A$3:$M$88,13,FALSE),)","v":0},null,null,null,null,null,{"$f":"IF(F254<>\"\",'CO2 konvertering'!$C$14,)","v":0},null,null,null,null,0]
[null,null,null,"Ja",null,null,null,null,"",null,"",{"$f":"IFERROR(VLOOKUP(F255,Biomasser!$A$3:$E$88,4,FALSE),0)","v":0},null,{"$f":"IFERROR(VLOOKUP(F255,Biomasser!$A$3:$E$88,5,FALSE),0)","v":0},"",0,null,null,{"$f":"IFERROR(VLOOKUP(F255,Biomasser!$A$3:$M$88,13,FALSE),)","v":0},null,null,null,null,null,{"$f":"IF(F255<>\"\",'CO2 konvertering'!$C$14,)","v":0},null,null,null,null,0]
[null,null,null,"Ja",null,null,null,null,"",null,"",{"$f":"IFERROR(VLOOKUP(F256,Biomasser!$A$3:$E$88,4,FALSE),0)","v":0},null,{"$f":"IFERROR(VLOOKUP(F256,Biomasser!$A$3:$E$88,5,FALSE),0)","v":0},"",0,null,null,{"$f":"IFERROR(VLOOKUP(F256,Biomasser!$A$3:$M$88,13,FALSE),)","v":0},null,null,null,null,null,{"$f":"IF(F256<>\"\",'CO2 konvertering'!$C$14,)","v":0},null,null,null,null,0]
[null,null,null,"Ja",null,null,null,null,"",null,"",{"$f":"IFERROR(VLOOKUP(F257,Biomasser!$A$3:$E$88,4,FALSE),0)","v":0},null,{"$f":"IFERROR(VLOOKUP(F257,Biomasser!$A$3:$E$88,5,FALSE),0)","v":0},"",0,null,null,{"$f":"IFERROR(VLOOKUP(F257,Biomasser!$A$3:$M$88,13,FALSE),)","v":0},null,null,null,null,null,{"$f":"IF(F257<>\"\",'CO2 konvertering'!$C$14,)","v":0},null,null,null,null,0]
[null,null,null,"Ja",null,null,null,null,"",null,"",{"$f":"IFERROR(VLOOKUP(F258,Biomasser!$A$3:$E$88,4,FALSE),0)","v":0},null,{"$f":"IFERROR(VLOOKUP(F258,Biomasser!$A$3:$E$88,5,FALSE),0)","v":0},"",0,null,null,{"$f":"IFERROR(VLOOKUP(F258,Biomasser!$A$3:$M$88,13,FALSE),)","v":0},null,null,null,null,null,{"$f":"IF(F258<>\"\",'CO2 konvertering'!$C$14,)","v":0},null,null,null,null,0]
[null,null,null,"Ja",null,null,null,null,"",null,"",{"$f":"IFERROR(VLOOKUP(F259,Biomasser!$A$3:$E$88,4,FALSE),0)","v":0},null,{"$f":"IFERROR(VLOOKUP(F259,Biomasser!$A$3:$E$88,5,FALSE),0)","v":0},"",0,null,null,{"$f":"IFERROR(VLOOKUP(F259,Biomasser!$A$3:$M$88,13,FALSE),)","v":0},null,null,null,null,null,{"$f":"IF(F259<>\"\",'CO2 konvertering'!$C$14,)","v":0},null,null,null,null,0]
[null,null,null,"Ja",null,null,null,null,"",null,"",{"$f":"IFERROR(VLOOKUP(F260,Biomasser!$A$3:$E$88,4,FALSE),0)","v":0},null,{"$f":"IFERROR(VLOOKUP(F260,Biomasser!$A$3:$E$88,5,FALSE),0)","v":0},"",0,null,null,{"$f":"IFERROR(VLOOKUP(F260,Biomasser!$A$3:$M$88,13,FALSE),)","v":0},null,null,null,null,null,{"$f":"IF(F260<>\"\",'CO2 konvertering'!$C$14,)","v":0},null,null,null,null,0]
[null,null,null,"Ja",null,null,null,null,"",null,"",{"$f":"IFERROR(VLOOKUP(F261,Biomasser!$A$3:$E$88,4,FALSE),0)","v":0},null,{"$f":"IFERROR(VLOOKUP(F261,Biomasser!$A$3:$E$88,5,FALSE),0)","v":0},"",0,null,null,{"$f":"IFERROR(VLOOKUP(F261,Biomasser!$A$3:$M$88,13,FALSE),)","v":0},null,null,null,null,null,{"$f":"IF(F261<>\"\",'CO2 konvertering'!$C$14,)","v":0},null,null,null,null,0]
[null,null,null,"Ja",null,null,null,null,"",null,"",{"$f":"IFERROR(VLOOKUP(F262,Biomasser!$A$3:$E$88,4,FALSE),0)","v":0},null,{"$f":"IFERROR(VLOOKUP(F262,Biomasser!$A$3:$E$88,5,FALSE),0)","v":0},"",0,null,null,{"$f":"IFERROR(VLOOKUP(F262,Biomasser!$A$3:$M$88,13,FALSE),)","v":0},null,null,null,null,null,{"$f":"IF(F262<>\"\",'CO2 konvertering'!$C$14,)","v":0},null,null,null,null,0]
[null,null,null,"Ja",null,null,null,null,"",null,"",{"$f":"IFERROR(VLOOKUP(F263,Biomasser!$A$3:$E$88,4,FALSE),0)","v":0},null,{"$f":"IFERROR(VLOOKUP(F263,Biomasser!$A$3:$E$88,5,FALSE),0)","v":0},"",0,null,null,{"$f":"IFERROR(VLOOKUP(F263,Biomasser!$A$3:$M$88,13,FALSE),)","v":0},null,null,null,null,null,{"$f":"IF(F263<>\"\",'CO2 konvertering'!$C$14,)","v":0},null,null,null,null,0]
[null,null,null,"Ja",null,null,null,null,"",null,"",{"$f":"IFERROR(VLOOKUP(F264,Biomasser!$A$3:$E$88,4,FALSE),0)","v":0},null,{"$f":"IFERROR(VLOOKUP(F264,Biomasser!$A$3:$E$88,5,FALSE),0)","v":0},"",0,null,null,{"$f":"IFERROR(VLOOKUP(F264,Biomasser!$A$3:$M$88,13,FALSE),)","v":0},null,null,null,null,null,{"$f":"IF(F264<>\"\",'CO2 konvertering'!$C$14,)","v":0},null,null,null,null,0]
[null,null,null,"Ja",null,null,null,null,"",null,"",{"$f":"IFERROR(VLOOKUP(F265,Biomasser!$A$3:$E$88,4,FALSE),0)","v":0},null,{"$f":"IFERROR(VLOOKUP(F265,Biomasser!$A$3:$E$88,5,FALSE),0)","v":0},"",0,null,null,{"$f":"IFERROR(VLOOKUP(F265,Biomasser!$A$3:$M$88,13,FALSE),)","v":0},null,null,null,null,null,{"$f":"IF(F265<>\"\",'CO2 konvertering'!$C$14,)","v":0},null,null,null,null,0]
[null,null,null,"Ja",null,null,null,null,"",null,"",{"$f":"IFERROR(VLOOKUP(F266,Biomasser!$A$3:$E$88,4,FALSE),0)","v":0},null,{"$f":"IFERROR(VLOOKUP(F266,Biomasser!$A$3:$E$88,5,FALSE),0)","v":0},"",0,null,null,{"$f":"IFERROR(VLOOKUP(F266,Biomasser!$A$3:$M$88,13,FALSE),)","v":0},null,null,null,null,null,{"$f":"IF(F266<>\"\",'CO2 konvertering'!$C$14,)","v":0},null,null,null,null,0]
[null,null,null,"Ja",null,null,null,null,"",null,"",{"$f":"IFERROR(VLOOKUP(F267,Biomasser!$A$3:$E$88,4,FALSE),0)","v":0},null,{"$f":"IFERROR(VLOOKUP(F267,Biomasser!$A$3:$E$88,5,FALSE),0)","v":0},"",0,null,null,{"$f":"IFERROR(VLOOKUP(F267,Biomasser!$A$3:$M$88,13,FALSE),)","v":0},null,null,null,null,null,{"$f":"IF(F267<>\"\",'CO2 konvertering'!$C$14,)","v":0},null,null,null,null,0]
[null,null,null,"Ja",null,null,null,null,"",null,"",{"$f":"IFERROR(VLOOKUP(F268,Biomasser!$A$3:$E$88,4,FALSE),0)","v":0},null,{"$f":"IFERROR(VLOOKUP(F268,Biomasser!$A$3:$E$88,5,FALSE),0)","v":0},"",0,null,null,{"$f":"IFERROR(VLOOKUP(F268,Biomasser!$A$3:$M$88,13,FALSE),)","v":0},null,null,null,null,null,{"$f":"IF(F268<>\"\",'CO2 konvertering'!$C$14,)","v":0},null,null,null,null,0]
[null,null,null,"Ja",null,null,null,null,"",null,"",{"$f":"IFERROR(VLOOKUP(F269,Biomasser!$A$3:$E$88,4,FALSE),0)","v":0},null,{"$f":"IFERROR(VLOOKUP(F269,Biomasser!$A$3:$E$88,5,FALSE),0)","v":0},"",0,null,null,{"$f":"IFERROR(VLOOKUP(F269,Biomasser!$A$3:$M$88,13,FALSE),)","v":0},null,null,null,null,null,{"$f":"IF(F269<>\"\",'CO2 konvertering'!$C$14,)","v":0},null,null,null,null,0]
[null,null,null,"Ja",null,null,null,null,"",null,"",{"$f":"IFERROR(VLOOKUP(F270,Biomasser!$A$3:$E$88,4,FALSE),0)","v":0},null,{"$f":"IFERROR(VLOOKUP(F270,Biomasser!$A$3:$E$88,5,FALSE),0)","v":0},"",0,null,null,{"$f":"IFERROR(VLOOKUP(F270,Biomasser!$A$3:$M$88,13,FALSE),)","v":0},null,null,null,null,null,{"$f":"IF(F270<>\"\",'CO2 konvertering'!$C$14,)","v":0},null,null,null,null,0]
[null,null,null,"Ja",null,null,null,null,"",null,"",{"$f":"IFERROR(VLOOKUP(F271,Biomasser!$A$3:$E$88,4,FALSE),0)","v":0},null,{"$f":"IFERROR(VLOOKUP(F271,Biomasser!$A$3:$E$88,5,FALSE),0)","v":0},"",0,null,null,{"$f":"IFERROR(VLOOKUP(F271,Biomasser!$A$3:$M$88,13,FALSE),)","v":0},null,null,null,null,null,{"$f":"IF(F271<>\"\",'CO2 konvertering'!$C$14,)","v":0},null,null,null,null,0]
[null,null,null,"Ja",null,null,null,null,"",null,"",{"$f":"IFERROR(VLOOKUP(F272,Biomasser!$A$3:$E$88,4,FALSE),0)","v":0},null,{"$f":"IFERROR(VLOOKUP(F272,Biomasser!$A$3:$E$88,5,FALSE),0)","v":0},"",0,null,null,{"$f":"IFERROR(VLOOKUP(F272,Biomasser!$A$3:$M$88,13,FALSE),)","v":0},null,null,null,null,null,{"$f":"IF(F272<>\"\",'CO2 konvertering'!$C$14,)","v":0},null,null,null,null,0]
[null,null,null,"Ja",null,null,null,null,"",null,"",{"$f":"IFERROR(VLOOKUP(F273,Biomasser!$A$3:$E$88,4,FALSE),0)","v":0},null,{"$f":"IFERROR(VLOOKUP(F273,Biomasser!$A$3:$E$88,5,FALSE),0)","v":0},"",0,null,null,{"$f":"IFERROR(VLOOKUP(F273,Biomasser!$A$3:$M$88,13,FALSE),)","v":0},null,null,null,null,null,{"$f":"IF(F273<>\"\",'CO2 konvertering'!$C$14,)","v":0},null,null,null,null,0]
[null,null,null,"Ja",null,null,null,null,"",null,"",{"$f":"IFERROR(VLOOKUP(F274,Biomasser!$A$3:$E$88,4,FALSE),0)","v":0},null,{"$f":"IFERROR(VLOOKUP(F274,Biomasser!$A$3:$E$88,5,FALSE),0)","v":0},"",0,null,null,{"$f":"IFERROR(VLOOKUP(F274,Biomasser!$A$3:$M$88,13,FALSE),)","v":0},null,null,null,null,null,{"$f":"IF(F274<>\"\",'CO2 konvertering'!$C$14,)","v":0},null,null,null,null,0]
[null,null,null,"Ja",null,null,null,null,"",null,"",{"$f":"IFERROR(VLOOKUP(F275,Biomasser!$A$3:$E$88,4,FALSE),0)","v":0},null,{"$f":"IFERROR(VLOOKUP(F275,Biomasser!$A$3:$E$88,5,FALSE),0)","v":0},"",0,null,null,{"$f":"IFERROR(VLOOKUP(F275,Biomasser!$A$3:$M$88,13,FALSE),)","v":0},null,null,null,null,null,{"$f":"IF(F275<>\"\",'CO2 konvertering'!$C$14,)","v":0},null,null,null,null,0]
[null,null,null,"Ja",null,null,null,null,"",null,"",{"$f":"IFERROR(VLOOKUP(F276,Biomasser!$A$3:$E$88,4,FALSE),0)","v":0},null,{"$f":"IFERROR(VLOOKUP(F276,Biomasser!$A$3:$E$88,5,FALSE),0)","v":0},"",0,null,null,{"$f":"IFERROR(VLOOKUP(F276,Biomasser!$A$3:$M$88,13,FALSE),)","v":0},null,null,null,null,null,{"$f":"IF(F276<>\"\",'CO2 konvertering'!$C$14,)","v":0},null,null,null,null,0]
[null,null,null,"Ja",null,null,null,null,"",null,"",{"$f":"IFERROR(VLOOKUP(F277,Biomasser!$A$3:$E$88,4,FALSE),0)","v":0},null,{"$f":"IFERROR(VLOOKUP(F277,Biomasser!$A$3:$E$88,5,FALSE),0)","v":0},"",0,null,null,{"$f":"IFERROR(VLOOKUP(F277,Biomasser!$A$3:$M$88,13,FALSE),)","v":0},null,null,null,null,null,{"$f":"IF(F277<>\"\",'CO2 konvertering'!$C$14,)","v":0},null,null,null,null,0]
[null,null,null,"Ja",null,null,null,null,"",null,"",{"$f":"IFERROR(VLOOKUP(F278,Biomasser!$A$3:$E$88,4,FALSE),0)","v":0},null,{"$f":"IFERROR(VLOOKUP(F278,Biomasser!$A$3:$E$88,5,FALSE),0)","v":0},"",0,null,null,{"$f":"IFERROR(VLOOKUP(F278,Biomasser!$A$3:$M$88,13,FALSE),)","v":0},null,null,null,null,null,{"$f":"IF(F278<>\"\",'CO2 konvertering'!$C$14,)","v":0},null,null,null,null,0]
[null,null,null,"Ja",null,null,null,null,"",null,"",{"$f":"IFERROR(VLOOKUP(F279,Biomasser!$A$3:$E$88,4,FALSE),0)","v":0},null,{"$f":"IFERROR(VLOOKUP(F279,Biomasser!$A$3:$E$88,5,FALSE),0)","v":0},"",0,null,null,{"$f":"IFERROR(VLOOKUP(F279,Biomasser!$A$3:$M$88,13,FALSE),)","v":0},null,null,null,null,null,{"$f":"IF(F279<>\"\",'CO2 konvertering'!$C$14,)","v":0},null,null,null,null,0]
[null,null,null,"Ja",null,null,null,null,"",null,"",{"$f":"IFERROR(VLOOKUP(F280,Biomasser!$A$3:$E$88,4,FALSE),0)","v":0},null,{"$f":"IFERROR(VLOOKUP(F280,Biomasser!$A$3:$E$88,5,FALSE),0)","v":0},"",0,null,null,{"$f":"IFERROR(VLOOKUP(F280,Biomasser!$A$3:$M$88,13,FALSE),)","v":0},null,null,null,null,null,{"$f":"IF(F280<>\"\",'CO2 konvertering'!$C$14,)","v":0},null,null,null,null,0]
[null,null,null,"Ja",null,null,null,null,"",null,"",{"$f":"IFERROR(VLOOKUP(F281,Biomasser!$A$3:$E$88,4,FALSE),0)","v":0},null,{"$f":"IFERROR(VLOOKUP(F281,Biomasser!$A$3:$E$88,5,FALSE),0)","v":0},"",0,null,null,{"$f":"IFERROR(VLOOKUP(F281,Biomasser!$A$3:$M$88,13,FALSE),)","v":0},null,null,null,null,null,{"$f":"IF(F281<>\"\",'CO2 konvertering'!$C$14,)","v":0},null,null,null,null,0]
[null,null,null,"Ja",null,null,null,null,"",null,"",{"$f":"IFERROR(VLOOKUP(F282,Biomasser!$A$3:$E$88,4,FALSE),0)","v":0},null,{"$f":"IFERROR(VLOOKUP(F282,Biomasser!$A$3:$E$88,5,FALSE),0)","v":0},"",0,null,null,{"$f":"IFERROR(VLOOKUP(F282,Biomasser!$A$3:$M$88,13,FALSE),)","v":0},null,null,null,null,null,{"$f":"IF(F282<>\"\",'CO2 konvertering'!$C$14,)","v":0},null,null,null,null,0]
[null,null,null,"Ja",null,null,null,null,"",null,"",{"$f":"IFERROR(VLOOKUP(F283,Biomasser!$A$3:$E$88,4,FALSE),0)","v":0},null,{"$f":"IFERROR(VLOOKUP(F283,Biomasser!$A$3:$E$88,5,FALSE),0)","v":0},"",0,null,null,{"$f":"IFERROR(VLOOKUP(F283,Biomasser!$A$3:$M$88,13,FALSE),)","v":0},null,null,null,null,null,{"$f":"IF(F283<>\"\",'CO2 konvertering'!$C$14,)","v":0},null,null,null,null,0]
[null,null,null,"Ja",null,null,null,null,"",null,"",{"$f":"IFERROR(VLOOKUP(F284,Biomasser!$A$3:$E$88,4,FALSE),0)","v":0},null,{"$f":"IFERROR(VLOOKUP(F284,Biomasser!$A$3:$E$88,5,FALSE),0)","v":0},"",{"$f":"J284*L284*N284*H284","v":0},null,null,{"$f":"IFERROR(VLOOKUP(F284,Biomasser!$A$3:$M$88,13,FALSE),)","v":0},null,null,null,null,null,{"$f":"IF(F284<>\"\",'CO2 konvertering'!$C$14,)","v":0},null,null,null,null,{"$f":"SUM(S284:AC284)","v":0}]
[null,null,null,"Ja",null,null,null,null,{"$f":"IF(AND(F285<>\"\",ISBLANK(H285)),\"Indtast vægt\",\"\")","v":""},null,{"$f":"IF(AND(F285<>\"\",ISBLANK(J285)),\"Indtast tørstof %\",\"\")","v":""},{"$f":"IFERROR(VLOOKUP(F285,Biomasser!$A$3:$E$88,4,FALSE),0)","v":0},null,{"$f":"IFERROR(VLOOKUP(F285,Biomasser!$A$3:$E$88,5,FALSE),0)","v":0},"",0,null,null,{"$f":"IFERROR(VLOOKUP(F285,Biomasser!$A$3:$M$88,13,FALSE),)","v":0},null,null,null,null,null,{"$f":"IF(F285<>\"\",'CO2 konvertering'!$C$14,)","v":0},null,null,null,null,0]
[null,null,null,"Ja",null,null,null,null,"",null,"",{"$f":"IFERROR(VLOOKUP(F286,Biomasser!$A$3:$E$88,4,FALSE),0)","v":0},null,{"$f":"IFERROR(VLOOKUP(F286,Biomasser!$A$3:$E$88,5,FALSE),0)","v":0},"",0,null,null,{"$f":"IFERROR(VLOOKUP(F286,Biomasser!$A$3:$M$88,13,FALSE),)","v":0},null,null,null,null,null,{"$f":"IF(F286<>\"\",'CO2 konvertering'!$C$14,)","v":0},null,null,null,null,0]
[null,null,null,"Ja",null,null,null,null,"",null,"",{"$f":"IFERROR(VLOOKUP(F287,Biomasser!$A$3:$E$88,4,FALSE),0)","v":0},null,{"$f":"IFERROR(VLOOKUP(F287,Biomasser!$A$3:$E$88,5,FALSE),0)","v":0},"",0,null,null,{"$f":"IFERROR(VLOOKUP(F287,Biomasser!$A$3:$M$88,13,FALSE),)","v":0},null,null,null,null,null,{"$f":"IF(F287<>\"\",'CO2 konvertering'!$C$14,)","v":0},null,null,null,null,0]
[null,null,null,"Ja",null,null,null,null,"",null,"",{"$f":"IFERROR(VLOOKUP(F288,Biomasser!$A$3:$E$88,4,FALSE),0)","v":0},null,{"$f":"IFERROR(VLOOKUP(F288,Biomasser!$A$3:$E$88,5,FALSE),0)","v":0},{"$f":"IF(AND(F288<>\"\",(N288=0)),\"Opdater biomasseark\",\"\")","v":""},0,null,null,{"$f":"IFERROR(VLOOKUP(F288,Biomasser!$A$3:$M$88,13,FALSE),)","v":0},null,null,null,null,null,{"$f":"IF(F288<>\"\",'CO2 konvertering'!$C$14,)","v":0},null,null,null,null,0]
[null,null,null,"Ja",null,null,null,null,"",null,"",{"$f":"IFERROR(VLOOKUP(F289,Biomasser!$A$3:$E$88,4,FALSE),0)","v":0},null,{"$f":"IFERROR(VLOOKUP(F289,Biomasser!$A$3:$E$88,5,FALSE),0)","v":0},"",0,null,null,{"$f":"IFERROR(VLOOKUP(F289,Biomasser!$A$3:$M$88,13,FALSE),)","v":0},null,null,null,null,null,{"$f":"IF(F289<>\"\",'CO2 konvertering'!$C$14,)","v":0},null,null,null,null,0]
[null,null,null,"Ja",null,null,null,null,"",null,"",{"$f":"IFERROR(VLOOKUP(F290,Biomasser!$A$3:$E$88,4,FALSE),0)","v":0},null,{"$f":"IFERROR(VLOOKUP(F290,Biomasser!$A$3:$E$88,5,FALSE),0)","v":0},"",0,null,null,{"$f":"IFERROR(VLOOKUP(F290,Biomasser!$A$3:$M$88,13,FALSE),)","v":0},null,null,null,null,null,{"$f":"IF(F290<>\"\",'CO2 konvertering'!$C$14,)","v":0},null,null,null,null,0]
[null,null,null,"Ja",null,null,null,null,"",null,"",{"$f":"IFERROR(VLOOKUP(F291,Biomasser!$A$3:$E$88,4,FALSE),0)","v":0},null,{"$f":"IFERROR(VLOOKUP(F291,Biomasser!$A$3:$E$88,5,FALSE),0)","v":0},"",0,null,null,{"$f":"IFERROR(VLOOKUP(F291,Biomasser!$A$3:$M$88,13,FALSE),)","v":0},null,null,null,null,null,{"$f":"IF(F291<>\"\",'CO2 konvertering'!$C$14,)","v":0},null,null,null,null,0]
[null,null,null,"Ja",null,null,null,null,"",null,"",{"$f":"IFERROR(VLOOKUP(F292,Biomasser!$A$3:$E$88,4,FALSE),0)","v":0},null,{"$f":"IFERROR(VLOOKUP(F292,Biomasser!$A$3:$E$88,5,FALSE),0)","v":0},"",0,null,null,{"$f":"IFERROR(VLOOKUP(F292,Biomasser!$A$3:$M$88,13,FALSE),)","v":0},null,null,null,null,null,{"$f":"IF(F292<>\"\",'CO2 konvertering'!$C$14,)","v":0},null,null,null,null,0]
[null,null,null,"Ja",null,null,null,null,"",null,"",{"$f":"IFERROR(VLOOKUP(F293,Biomasser!$A$3:$E$88,4,FALSE),0)","v":0},null,{"$f":"IFERROR(VLOOKUP(F293,Biomasser!$A$3:$E$88,5,FALSE),0)","v":0},"",0,null,null,{"$f":"IFERROR(VLOOKUP(F293,Biomasser!$A$3:$M$88,13,FALSE),)","v":0},null,null,null,null,null,{"$f":"IF(F293<>\"\",'CO2 konvertering'!$C$14,)","v":0},null,null,null,null,0]
[null,null,null,"Ja",null,null,null,null,"",null,"",{"$f":"IFERROR(VLOOKUP(F294,Biomasser!$A$3:$E$88,4,FALSE),0)","v":0},null,{"$f":"IFERROR(VLOOKUP(F294,Biomasser!$A$3:$E$88,5,FALSE),0)","v":0},"",0,null,null,{"$f":"IFERROR(VLOOKUP(F294,Biomasser!$A$3:$M$88,13,FALSE),)","v":0},null,null,null,null,null,{"$f":"IF(F294<>\"\",'CO2 konvertering'!$C$14,)","v":0},null,null,null,null,0]
[null,null,null,"Ja",null,null,null,null,"",null,"",{"$f":"IFERROR(VLOOKUP(F295,Biomasser!$A$3:$E$88,4,FALSE),0)","v":0},null,{"$f":"IFERROR(VLOOKUP(F295,Biomasser!$A$3:$E$88,5,FALSE),0)","v":0},"",0,null,null,{"$f":"IFERROR(VLOOKUP(F295,Biomasser!$A$3:$M$88,13,FALSE),)","v":0},null,null,null,null,null,{"$f":"IF(F295<>\"\",'CO2 konvertering'!$C$14,)","v":0},null,null,null,null,0]
[null,null,null,"Ja",null,null,null,null,"",null,"",{"$f":"IFERROR(VLOOKUP(F296,Biomasser!$A$3:$E$88,4,FALSE),0)","v":0},null,{"$f":"IFERROR(VLOOKUP(F296,Biomasser!$A$3:$E$88,5,FALSE),0)","v":0},"",0,null,null,{"$f":"IFERROR(VLOOKUP(F296,Biomasser!$A$3:$M$88,13,FALSE),)","v":0},null,null,null,null,null,{"$f":"IF(F296<>\"\",'CO2 konvertering'!$C$14,)","v":0},null,null,null,null,0]
[null,null,null,"Ja",null,null,null,null,"",null,"",{"$f":"IFERROR(VLOOKUP(F297,Biomasser!$A$3:$E$88,4,FALSE),0)","v":0},null,{"$f":"IFERROR(VLOOKUP(F297,Biomasser!$A$3:$E$88,5,FALSE),0)","v":0},"",0,null,null,{"$f":"IFERROR(VLOOKUP(F297,Biomasser!$A$3:$M$88,13,FALSE),)","v":0},null,null,null,null,null,{"$f":"IF(F297<>\"\",'CO2 konvertering'!$C$14,)","v":0},null,null,null,null,0]
[null,null,null,"Ja",null,null,null,null,"",null,"",{"$f":"IFERROR(VLOOKUP(F298,Biomasser!$A$3:$E$88,4,FALSE),0)","v":0},null,{"$f":"IFERROR(VLOOKUP(F298,Biomasser!$A$3:$E$88,5,FALSE),0)","v":0},"",0,null,null,{"$f":"IFERROR(VLOOKUP(F298,Biomasser!$A$3:$M$88,13,FALSE),)","v":0},null,null,null,null,null,{"$f":"IF(F298<>\"\",'CO2 konvertering'!$C$14,)","v":0},null,null,null,null,0]
[null,null,null,"Ja",null,null,null,null,"",null,"",{"$f":"IFERROR(VLOOKUP(F299,Biomasser!$A$3:$E$88,4,FALSE),0)","v":0},null,{"$f":"IFERROR(VLOOKUP(F299,Biomasser!$A$3:$E$88,5,FALSE),0)","v":0},"",0,null,null,{"$f":"IFERROR(VLOOKUP(F299,Biomasser!$A$3:$M$88,13,FALSE),)","v":0},null,null,null,null,null,{"$f":"IF(F299<>\"\",'CO2 konvertering'!$C$14,)","v":0},null,null,null,null,0]
[null,null,null,"Ja",null,null,null,null,"",null,"",{"$f":"IFERROR(VLOOKUP(F300,Biomasser!$A$3:$E$88,4,FALSE),0)","v":0},null,{"$f":"IFERROR(VLOOKUP(F300,Biomasser!$A$3:$E$88,5,FALSE),0)","v":0},"",0,null,null,{"$f":"IFERROR(VLOOKUP(F300,Biomasser!$A$3:$M$88,13,FALSE),)","v":0},null,null,null,null,null,{"$f":"IF(F300<>\"\",'CO2 konvertering'!$C$14,)","v":0},null,null,null,null,0]
[null,null,null,"Ja",null,null,null,null,"",null,"",{"$f":"IFERROR(VLOOKUP(F301,Biomasser!$A$3:$E$88,4,FALSE),0)","v":0},null,{"$f":"IFERROR(VLOOKUP(F301,Biomasser!$A$3:$E$88,5,FALSE),0)","v":0},"",0,null,null,{"$f":"IFERROR(VLOOKUP(F301,Biomasser!$A$3:$M$88,13,FALSE),)","v":0},null,null,null,null,null,{"$f":"IF(F301<>\"\",'CO2 konvertering'!$C$14,)","v":0},null,null,null,null,0]
[null,null,null,"Ja",null,null,null,null,"",null,"",{"$f":"IFERROR(VLOOKUP(F302,Biomasser!$A$3:$E$88,4,FALSE),0)","v":0},null,{"$f":"IFERROR(VLOOKUP(F302,Biomasser!$A$3:$E$88,5,FALSE),0)","v":0},"",0,null,null,{"$f":"IFERROR(VLOOKUP(F302,Biomasser!$A$3:$M$88,13,FALSE),)","v":0},null,null,null,null,null,{"$f":"IF(F302<>\"\",'CO2 konvertering'!$C$14,)","v":0},null,null,null,null,0]
[null,null,null,"Ja",null,null,null,null,"",null,"",{"$f":"IFERROR(VLOOKUP(F303,Biomasser!$A$3:$E$88,4,FALSE),0)","v":0},null,{"$f":"IFERROR(VLOOKUP(F303,Biomasser!$A$3:$E$88,5,FALSE),0)","v":0},"",0,null,null,{"$f":"IFERROR(VLOOKUP(F303,Biomasser!$A$3:$M$88,13,FALSE),)","v":0},null,null,null,null,null,{"$f":"IF(F303<>\"\",'CO2 konvertering'!$C$14,)","v":0},null,null,null,null,0]
[null,null,null,"Ja",null,null,null,null,"",null,"",{"$f":"IFERROR(VLOOKUP(F304,Biomasser!$A$3:$E$88,4,FALSE),0)","v":0},null,{"$f":"IFERROR(VLOOKUP(F304,Biomasser!$A$3:$E$88,5,FALSE),0)","v":0},"",0,null,null,{"$f":"IFERROR(VLOOKUP(F304,Biomasser!$A$3:$M$88,13,FALSE),)","v":0},null,null,null,null,null,{"$f":"IF(F304<>\"\",'CO2 konvertering'!$C$14,)","v":0},null,null,null,null,0]
[null,null,null,"Ja",null,null,null,null,"",null,"",{"$f":"IFERROR(VLOOKUP(F305,Biomasser!$A$3:$E$88,4,FALSE),0)","v":0},null,{"$f":"IFERROR(VLOOKUP(F305,Biomasser!$A$3:$E$88,5,FALSE),0)","v":0},"",0,null,null,{"$f":"IFERROR(VLOOKUP(F305,Biomasser!$A$3:$M$88,13,FALSE),)","v":0},null,null,null,null,null,{"$f":"IF(F305<>\"\",'CO2 konvertering'!$C$14,)","v":0},null,null,null,null,0]
[null,null,null,"Ja",null,null,null,null,"",null,"",{"$f":"IFERROR(VLOOKUP(F306,Biomasser!$A$3:$E$88,4,FALSE),0)","v":0},null,{"$f":"IFERROR(VLOOKUP(F306,Biomasser!$A$3:$E$88,5,FALSE),0)","v":0},"",0,null,null,{"$f":"IFERROR(VLOOKUP(F306,Biomasser!$A$3:$M$88,13,FALSE),)","v":0},null,null,null,null,null,{"$f":"IF(F306<>\"\",'CO2 konvertering'!$C$14,)","v":0},null,null,null,null,0]
[null,null,null,"Ja",null,null,null,null,"",null,"",{"$f":"IFERROR(VLOOKUP(F307,Biomasser!$A$3:$E$88,4,FALSE),0)","v":0},null,{"$f":"IFERROR(VLOOKUP(F307,Biomasser!$A$3:$E$88,5,FALSE),0)","v":0},"",0,null,null,{"$f":"IFERROR(VLOOKUP(F307,Biomasser!$A$3:$M$88,13,FALSE),)","v":0},null,null,null,null,null,{"$f":"IF(F307<>\"\",'CO2 konvertering'!$C$14,)","v":0},null,null,null,null,0]
[null,null,null,"Ja",null,null,null,null,"",null,"",{"$f":"IFERROR(VLOOKUP(F308,Biomasser!$A$3:$E$88,4,FALSE),0)","v":0},null,{"$f":"IFERROR(VLOOKUP(F308,Biomasser!$A$3:$E$88,5,FALSE),0)","v":0},"",0,null,null,{"$f":"IFERROR(VLOOKUP(F308,Biomasser!$A$3:$M$88,13,FALSE),)","v":0},null,null,null,null,null,{"$f":"IF(F308<>\"\",'CO2 konvertering'!$C$14,)","v":0},null,null,null,null,0]
[null,null,null,"Ja",null,null,null,null,"",null,"",{"$f":"IFERROR(VLOOKUP(F309,Biomasser!$A$3:$E$88,4,FALSE),0)","v":0},null,{"$f":"IFERROR(VLOOKUP(F309,Biomasser!$A$3:$E$88,5,FALSE),0)","v":0},"",0,null,null,{"$f":"IFERROR(VLOOKUP(F309,Biomasser!$A$3:$M$88,13,FALSE),)","v":0},null,null,null,null,null,{"$f":"IF(F309<>\"\",'CO2 konvertering'!$C$14,)","v":0},null,null,null,null,0]
[null,null,null,"Ja",null,null,null,null,"",null,"",{"$f":"IFERROR(VLOOKUP(F310,Biomasser!$A$3:$E$88,4,FALSE),0)","v":0},null,{"$f":"IFERROR(VLOOKUP(F310,Biomasser!$A$3:$E$88,5,FALSE),0)","v":0},"",0,null,null,{"$f":"IFERROR(VLOOKUP(F310,Biomasser!$A$3:$M$88,13,FALSE),)","v":0},null,null,null,null,null,{"$f":"IF(F310<>\"\",'CO2 konvertering'!$C$14,)","v":0},null,null,null,null,0]
[null,null,null,"Ja",null,null,null,null,"",null,"",{"$f":"IFERROR(VLOOKUP(F311,Biomasser!$A$3:$E$88,4,FALSE),0)","v":0},null,{"$f":"IFERROR(VLOOKUP(F311,Biomasser!$A$3:$E$88,5,FALSE),0)","v":0},"",0,null,null,{"$f":"IFERROR(VLOOKUP(F311,Biomasser!$A$3:$M$88,13,FALSE),)","v":0},null,null,null,null,null,{"$f":"IF(F311<>\"\",'CO2 konvertering'!$C$14,)","v":0},null,null,null,null,0]
[null,null,null,"Ja",null,null,null,null,"",null,"",{"$f":"IFERROR(VLOOKUP(F312,Biomasser!$A$3:$E$88,4,FALSE),0)","v":0},null,{"$f":"IFERROR(VLOOKUP(F312,Biomasser!$A$3:$E$88,5,FALSE),0)","v":0},"",0,null,null,{"$f":"IFERROR(VLOOKUP(F312,Biomasser!$A$3:$M$88,13,FALSE),)","v":0},null,null,null,null,null,{"$f":"IF(F312<>\"\",'CO2 konvertering'!$C$14,)","v":0},null,null,null,null,0]
[null,null,null,"Ja",null,null,null,null,"",null,"",{"$f":"IFERROR(VLOOKUP(F313,Biomasser!$A$3:$E$88,4,FALSE),0)","v":0},null,{"$f":"IFERROR(VLOOKUP(F313,Biomasser!$A$3:$E$88,5,FALSE),0)","v":0},"",0,null,null,{"$f":"IFERROR(VLOOKUP(F313,Biomasser!$A$3:$M$88,13,FALSE),)","v":0},null,null,null,null,null,{"$f":"IF(F313<>\"\",'CO2 konvertering'!$C$14,)","v":0},null,null,null,null,0]
[null,null,null,"Ja",null,null,null,null,"",null,"",{"$f":"IFERROR(VLOOKUP(F314,Biomasser!$A$3:$E$88,4,FALSE),0)","v":0},null,{"$f":"IFERROR(VLOOKUP(F314,Biomasser!$A$3:$E$88,5,FALSE),0)","v":0},"",0,null,null,{"$f":"IFERROR(VLOOKUP(F314,Biomasser!$A$3:$M$88,13,FALSE),)","v":0},null,null,null,null,null,{"$f":"IF(F314<>\"\",'CO2 konvertering'!$C$14,)","v":0},null,null,null,null,0]
[null,null,null,"Ja",null,null,null,null,"",null,"",{"$f":"IFERROR(VLOOKUP(F315,Biomasser!$A$3:$E$88,4,FALSE),0)","v":0},null,{"$f":"IFERROR(VLOOKUP(F315,Biomasser!$A$3:$E$88,5,FALSE),0)","v":0},"",0,null,null,{"$f":"IFERROR(VLOOKUP(F315,Biomasser!$A$3:$M$88,13,FALSE),)","v":0},null,null,null,null,null,{"$f":"IF(F315<>\"\",'CO2 konvertering'!$C$14,)","v":0},null,null,null,null,0]
[null,null,null,"Ja",null,null,null,null,"",null,"",{"$f":"IFERROR(VLOOKUP(F316,Biomasser!$A$3:$E$88,4,FALSE),0)","v":0},null,{"$f":"IFERROR(VLOOKUP(F316,Biomasser!$A$3:$E$88,5,FALSE),0)","v":0},"",0,null,null,{"$f":"IFERROR(VLOOKUP(F316,Biomasser!$A$3:$M$88,13,FALSE),)","v":0},null,null,null,null,null,{"$f":"IF(F316<>\"\",'CO2 konvertering'!$C$14,)","v":0},null,null,null,null,{"$f":"SUM(S316:AC316)","v":0}]
[null,null,null,"Ja",null,null,null,null,"",null,"",{"$f":"IFERROR(VLOOKUP(F317,Biomasser!$A$3:$E$88,4,FALSE),0)","v":0},null,{"$f":"IFERROR(VLOOKUP(F317,Biomasser!$A$3:$E$88,5,FALSE),0)","v":0},"",0,null,null,{"$f":"IFERROR(VLOOKUP(F317,Biomasser!$A$3:$M$88,13,FALSE),)","v":0},null,null,null,null,null,{"$f":"IF(F317<>\"\",'CO2 konvertering'!$C$14,)","v":0},null,null,null,null,0]
[null,null,null,"Ja",null,null,null,null,"",null,"",{"$f":"IFERROR(VLOOKUP(F318,Biomasser!$A$3:$E$88,4,FALSE),0)","v":0},null,{"$f":"IFERROR(VLOOKUP(F318,Biomasser!$A$3:$E$88,5,FALSE),0)","v":0},"",0,null,null,{"$f":"IFERROR(VLOOKUP(F318,Biomasser!$A$3:$M$88,13,FALSE),)","v":0},null,null,null,null,null,{"$f":"IF(F318<>\"\",'CO2 konvertering'!$C$14,)","v":0},null,null,null,null,0]
[null,null,null,"Ja",null,null,null,null,"",null,"",{"$f":"IFERROR(VLOOKUP(F319,Biomasser!$A$3:$E$88,4,FALSE),0)","v":0},null,{"$f":"IFERROR(VLOOKUP(F319,Biomasser!$A$3:$E$88,5,FALSE),0)","v":0},"",0,null,null,{"$f":"IFERROR(VLOOKUP(F319,Biomasser!$A$3:$M$88,13,FALSE),)","v":0},null,null,null,null,null,{"$f":"IF(F319<>\"\",'CO2 konvertering'!$C$14,)","v":0},null,null,null,null,0]
[null,null,null,"Ja",null,null,null,null,"",null,"",{"$f":"IFERROR(VLOOKUP(F320,Biomasser!$A$3:$E$88,4,FALSE),0)","v":0},null,{"$f":"IFERROR(VLOOKUP(F320,Biomasser!$A$3:$E$88,5,FALSE),0)","v":0},"",0,null,null,{"$f":"IFERROR(VLOOKUP(F320,Biomasser!$A$3:$M$88,13,FALSE),)","v":0},null,null,null,null,null,{"$f":"IF(F320<>\"\",'CO2 konvertering'!$C$14,)","v":0},null,null,null,null,0]
[null,"Dato:",null,null,null,"Mængde biomasse (Ton)",null,"Gasproduktion"]
["Gas","4. januar",2015,null,null,{"$f":"SUM(H325:H425)","v":0},null,null,"m3 CH4"]
[null,"Leverandør",null,"Certificeret",null,"Råvarer input","          Mængder                 \n      (Ton vådvægt)            ",null,null,"Tørstof\n%",null,"Omsættelig tørstof\n%",null,"Gaspotentiale\nm³ CH4/ton VS",null,"Teoretisk\ngasproduktion\nm³ CH4"]
[]
[{"$f":"B322&C322","v":"4. januar2015"},null,null,"Ja",null,null,null,null,{"$f":"IF(AND(F325<>\"\",ISBLANK(H325)),\"Indtast vægt\",\"\")","v":""},null,{"$f":"IF(AND(F325<>\"\",ISBLANK(J325)),\"Indtast tørstof %\",\"\")","v":""},{"$f":"IFERROR(VLOOKUP(F325,Biomasser!$A$3:$E$88,4,FALSE),)","v":0},null,{"$f":"IFERROR(VLOOKUP(F325,Biomasser!$A$3:$E$88,5,FALSE),0)","v":0},{"$f":"IF(AND(F325<>\"\",(N325=0)),\"Opdater biomasseark\",\"\")","v":""},{"$f":"J325*L325*N325*H325","v":0},null,null,{"$f":"IFERROR(VLOOKUP(F325,Biomasser!$A$3:$M$88,13,FALSE),)","v":0},null,null,null,null,null,{"$f":"IF(F325<>\"\",'CO2 konvertering'!$C$14,)","v":0},null,null,null,null,{"$f":"SUM(S325:AC325)","v":0}]
[null,null,null,"Ja",null,null,null,null,{"$f":"IF(AND(F326<>\"\",ISBLANK(H326)),\"Indtast vægt\",\"\")","v":""},null,{"$f":"IF(AND(F326<>\"\",ISBLANK(J326)),\"Indtast tørstof %\",\"\")","v":""},{"$f":"IFERROR(VLOOKUP(F326,Biomasser!$A$3:$E$88,4,FALSE),0)","v":0},null,{"$f":"IFERROR(VLOOKUP(F326,Biomasser!$A$3:$E$88,5,FALSE),0)","v":0},"",0,null,null,{"$f":"IFERROR(VLOOKUP(F326,Biomasser!$A$3:$M$88,13,FALSE),)","v":0},null,null,null,null,null,{"$f":"IF(F326<>\"\",'CO2 konvertering'!$C$14,)","v":0},null,null,null,null,0]
[null,null,null,"Ja",null,null,null,null,"",null,"",{"$f":"IFERROR(VLOOKUP(F327,Biomasser!$A$3:$E$88,4,FALSE),0)","v":0},null,{"$f":"IFERROR(VLOOKUP(F327,Biomasser!$A$3:$E$88,5,FALSE),0)","v":0},"",0,null,null,{"$f":"IFERROR(VLOOKUP(F327,Biomasser!$A$3:$M$88,13,FALSE),)","v":0},null,null,null,null,null,{"$f":"IF(F327<>\"\",'CO2 konvertering'!$C$14,)","v":0},null,null,null,null,0]
[null,null,null,"Ja",null,null,null,null,"",null,"",{"$f":"IFERROR(VLOOKUP(F328,Biomasser!$A$3:$E$88,4,FALSE),0)","v":0},null,{"$f":"IFERROR(VLOOKUP(F328,Biomasser!$A$3:$E$88,5,FALSE),0)","v":0},{"$f":"IF(AND(F328<>\"\",(N328=0)),\"Opdater biomasseark\",\"\")","v":""},0,null,null,{"$f":"IFERROR(VLOOKUP(F328,Biomasser!$A$3:$M$88,13,FALSE),)","v":0},null,null,null,null,null,{"$f":"IF(F328<>\"\",'CO2 konvertering'!$C$14,)","v":0},null,null,null,null,0]
[null,null,null,"Ja",null,null,null,null,"",null,"",{"$f":"IFERROR(VLOOKUP(F329,Biomasser!$A$3:$E$88,4,FALSE),0)","v":0},null,{"$f":"IFERROR(VLOOKUP(F329,Biomasser!$A$3:$E$88,5,FALSE),0)","v":0},{"$f":"IF(AND(F329<>\"\",(N329=0)),\"Opdater biomasseark\",\"\")","v":""},0,null,null,{"$f":"IFERROR(VLOOKUP(F329,Biomasser!$A$3:$M$88,13,FALSE),)","v":0},null,null,null,null,null,{"$f":"IF(F329<>\"\",'CO2 konvertering'!$C$14,)","v":0},null,null,null,null,0]
[null,null,null,"Ja",null,null,null,null,"",null,"",{"$f":"IFERROR(VLOOKUP(F330,Biomasser!$A$3:$E$88,4,FALSE),0)","v":0},null,{"$f":"IFERROR(VLOOKUP(F330,Biomasser!$A$3:$E$88,5,FALSE),0)","v":0},"",0,null,null,{"$f":"IFERROR(VLOOKUP(F330,Biomasser!$A$3:$M$88,13,FALSE),)","v":0},null,null,null,null,null,{"$f":"IF(F330<>\"\",'CO2 konvertering'!$C$14,)","v":0},null,null,null,null,0]
[null,null,null,"Ja",null,null,null,null,"",null,"",{"$f":"IFERROR(VLOOKUP(F331,Biomasser!$A$3:$E$88,4,FALSE),0)","v":0},null,{"$f":"IFERROR(VLOOKUP(F331,Biomasser!$A$3:$E$88,5,FALSE),0)","v":0},"",0,null,null,{"$f":"IFERROR(VLOOKUP(F331,Biomasser!$A$3:$M$88,13,FALSE),)","v":0},null,null,null,null,null,{"$f":"IF(F331<>\"\",'CO2 konvertering'!$C$14,)","v":0},null,null,null,null,0]
[null,null,null,"Ja",null,null,null,null,"",null,"",{"$f":"IFERROR(VLOOKUP(F332,Biomasser!$A$3:$E$88,4,FALSE),0)","v":0},null,{"$f":"IFERROR(VLOOKUP(F332,Biomasser!$A$3:$E$88,5,FALSE),0)","v":0},"",0,null,null,{"$f":"IFERROR(VLOOKUP(F332,Biomasser!$A$3:$M$88,13,FALSE),)","v":0},null,null,null,null,null,{"$f":"IF(F332<>\"\",'CO2 konvertering'!$C$14,)","v":0},null,null,null,null,0]
[null,null,null,"Ja",null,null,null,null,"",null,"",{"$f":"IFERROR(VLOOKUP(F333,Biomasser!$A$3:$E$88,4,FALSE),0)","v":0},null,{"$f":"IFERROR(VLOOKUP(F333,Biomasser!$A$3:$E$88,5,FALSE),0)","v":0},"",0,null,null,{"$f":"IFERROR(VLOOKUP(F333,Biomasser!$A$3:$M$88,13,FALSE),)","v":0},null,null,null,null,null,{"$f":"IF(F333<>\"\",'CO2 konvertering'!$C$14,)","v":0},null,null,null,null,0]
[null,null,null,"Ja",null,null,null,null,"",null,"",{"$f":"IFERROR(VLOOKUP(F334,Biomasser!$A$3:$E$88,4,FALSE),0)","v":0},null,{"$f":"IFERROR(VLOOKUP(F334,Biomasser!$A$3:$E$88,5,FALSE),0)","v":0},"",0,null,null,{"$f":"IFERROR(VLOOKUP(F334,Biomasser!$A$3:$M$88,13,FALSE),)","v":0},null,null,null,null,null,{"$f":"IF(F334<>\"\",'CO2 konvertering'!$C$14,)","v":0},null,null,null,null,0]
[null,null,null,"Ja",null,null,null,null,"",null,"",{"$f":"IFERROR(VLOOKUP(F335,Biomasser!$A$3:$E$88,4,FALSE),0)","v":0},null,{"$f":"IFERROR(VLOOKUP(F335,Biomasser!$A$3:$E$88,5,FALSE),0)","v":0},"",0,null,null,{"$f":"IFERROR(VLOOKUP(F335,Biomasser!$A$3:$M$88,13,FALSE),)","v":0},null,null,null,null,null,{"$f":"IF(F335<>\"\",'CO2 konvertering'!$C$14,)","v":0},null,null,null,null,0]
[null,null,null,"Ja",null,null,null,null,"",null,"",{"$f":"IFERROR(VLOOKUP(F336,Biomasser!$A$3:$E$88,4,FALSE),0)","v":0},null,{"$f":"IFERROR(VLOOKUP(F336,Biomasser!$A$3:$E$88,5,FALSE),0)","v":0},"",0,null,null,{"$f":"IFERROR(VLOOKUP(F336,Biomasser!$A$3:$M$88,13,FALSE),)","v":0},null,null,null,null,null,{"$f":"IF(F336<>\"\",'CO2 konvertering'!$C$14,)","v":0},null,null,null,null,0]
[null,null,null,"Ja",null,null,null,null,"",null,"",{"$f":"IFERROR(VLOOKUP(F337,Biomasser!$A$3:$E$88,4,FALSE),0)","v":0},null,{"$f":"IFERROR(VLOOKUP(F337,Biomasser!$A$3:$E$88,5,FALSE),0)","v":0},"",0,null,null,{"$f":"IFERROR(VLOOKUP(F337,Biomasser!$A$3:$M$88,13,FALSE),)","v":0},null,null,null,null,null,{"$f":"IF(F337<>\"\",'CO2 konvertering'!$C$14,)","v":0},null,null,null,null,0]
[null,null,null,"Ja",null,null,null,null,"",null,"",{"$f":"IFERROR(VLOOKUP(F338,Biomasser!$A$3:$E$88,4,FALSE),0)","v":0},null,{"$f":"IFERROR(VLOOKUP(F338,Biomasser!$A$3:$E$88,5,FALSE),0)","v":0},"",0,null,null,{"$f":"IFERROR(VLOOKUP(F338,Biomasser!$A$3:$M$88,13,FALSE),)","v":0},null,null,null,null,null,{"$f":"IF(F338<>\"\",'CO2 konvertering'!$C$14,)","v":0},null,null,null,null,0]
[null,null,null,"Ja",null,null,null,null,"",null,"",{"$f":"IFERROR(VLOOKUP(F339,Biomasser!$A$3:$E$88,4,FALSE),0)","v":0},null,{"$f":"IFERROR(VLOOKUP(F339,Biomasser!$A$3:$E$88,5,FALSE),0)","v":0},"",0,null,null,{"$f":"IFERROR(VLOOKUP(F339,Biomasser!$A$3:$M$88,13,FALSE),)","v":0},null,null,null,null,null,{"$f":"IF(F339<>\"\",'CO2 konvertering'!$C$14,)","v":0},null,null,null,null,0]
[null,null,null,"Ja",null,null,null,null,"",null,"",{"$f":"IFERROR(VLOOKUP(F340,Biomasser!$A$3:$E$88,4,FALSE),0)","v":0},null,{"$f":"IFERROR(VLOOKUP(F340,Biomasser!$A$3:$E$88,5,FALSE),0)","v":0},"",0,null,null,{"$f":"IFERROR(VLOOKUP(F340,Biomasser!$A$3:$M$88,13,FALSE),)","v":0},null,null,null,null,null,{"$f":"IF(F340<>\"\",'CO2 konvertering'!$C$14,)","v":0},null,null,null,null,0]
[null,null,null,"Ja",null,null,null,null,"",null,"",{"$f":"IFERROR(VLOOKUP(F341,Biomasser!$A$3:$E$88,4,FALSE),0)","v":0},null,{"$f":"IFERROR(VLOOKUP(F341,Biomasser!$A$3:$E$88,5,FALSE),0)","v":0},"",0,null,null,{"$f":"IFERROR(VLOOKUP(F341,Biomasser!$A$3:$M$88,13,FALSE),)","v":0},null,null,null,null,null,{"$f":"IF(F341<>\"\",'CO2 konvertering'!$C$14,)","v":0},null,null,null,null,0]
[null,null,null,"Ja",null,null,null,null,"",null,"",{"$f":"IFERROR(VLOOKUP(F342,Biomasser!$A$3:$E$88,4,FALSE),0)","v":0},null,{"$f":"IFERROR(VLOOKUP(F342,Biomasser!$A$3:$E$88,5,FALSE),0)","v":0},"",0,null,null,{"$f":"IFERROR(VLOOKUP(F342,Biomasser!$A$3:$M$88,13,FALSE),)","v":0},null,null,null,null,null,{"$f":"IF(F342<>\"\",'CO2 konvertering'!$C$14,)","v":0},null,null,null,null,0]
[null,null,null,"Ja",null,null,null,null,"",null,"",{"$f":"IFERROR(VLOOKUP(F343,Biomasser!$A$3:$E$88,4,FALSE),0)","v":0},null,{"$f":"IFERROR(VLOOKUP(F343,Biomasser!$A$3:$E$88,5,FALSE),0)","v":0},"",0,null,null,{"$f":"IFERROR(VLOOKUP(F343,Biomasser!$A$3:$M$88,13,FALSE),)","v":0},null,null,null,null,null,{"$f":"IF(F343<>\"\",'CO2 konvertering'!$C$14,)","v":0},null,null,null,null,0]
[null,null,null,"Ja",null,null,null,null,"",null,"",{"$f":"IFERROR(VLOOKUP(F344,Biomasser!$A$3:$E$88,4,FALSE),0)","v":0},null,{"$f":"IFERROR(VLOOKUP(F344,Biomasser!$A$3:$E$88,5,FALSE),0)","v":0},"",0,null,null,{"$f":"IFERROR(VLOOKUP(F344,Biomasser!$A$3:$M$88,13,FALSE),)","v":0},null,null,null,null,null,{"$f":"IF(F344<>\"\",'CO2 konvertering'!$C$14,)","v":0},null,null,null,null,0]
[null,null,null,"Ja",null,null,null,null,"",null,"",{"$f":"IFERROR(VLOOKUP(F345,Biomasser!$A$3:$E$88,4,FALSE),0)","v":0},null,{"$f":"IFERROR(VLOOKUP(F345,Biomasser!$A$3:$E$88,5,FALSE),0)","v":0},"",0,null,null,{"$f":"IFERROR(VLOOKUP(F345,Biomasser!$A$3:$M$88,13,FALSE),)","v":0},null,null,null,null,null,{"$f":"IF(F345<>\"\",'CO2 konvertering'!$C$14,)","v":0},null,null,null,null,0]
[null,null,null,"Ja",null,null,null,null,"",null,"",{"$f":"IFERROR(VLOOKUP(F346,Biomasser!$A$3:$E$88,4,FALSE),0)","v":0},null,{"$f":"IFERROR(VLOOKUP(F346,Biomasser!$A$3:$E$88,5,FALSE),0)","v":0},"",0,null,null,{"$f":"IFERROR(VLOOKUP(F346,Biomasser!$A$3:$M$88,13,FALSE),)","v":0},null,null,null,null,null,{"$f":"IF(F346<>\"\",'CO2 konvertering'!$C$14,)","v":0},null,null,null,null,0]
[null,null,null,"Ja",null,null,null,null,"",null,"",{"$f":"IFERROR(VLOOKUP(F347,Biomasser!$A$3:$E$88,4,FALSE),0)","v":0},null,{"$f":"IFERROR(VLOOKUP(F347,Biomasser!$A$3:$E$88,5,FALSE),0)","v":0},"",0,null,null,{"$f":"IFERROR(VLOOKUP(F347,Biomasser!$A$3:$M$88,13,FALSE),)","v":0},null,null,null,null,null,{"$f":"IF(F347<>\"\",'CO2 konvertering'!$C$14,)","v":0},null,null,null,null,0]
[null,null,null,"Ja",null,null,null,null,"",null,"",{"$f":"IFERROR(VLOOKUP(F348,Biomasser!$A$3:$E$88,4,FALSE),0)","v":0},null,{"$f":"IFERROR(VLOOKUP(F348,Biomasser!$A$3:$E$88,5,FALSE),0)","v":0},"",0,null,null,{"$f":"IFERROR(VLOOKUP(F348,Biomasser!$A$3:$M$88,13,FALSE),)","v":0},null,null,null,null,null,{"$f":"IF(F348<>\"\",'CO2 konvertering'!$C$14,)","v":0},null,null,null,null,0]
[null,null,null,"Ja",null,null,null,null,"",null,"",{"$f":"IFERROR(VLOOKUP(F349,Biomasser!$A$3:$E$88,4,FALSE),0)","v":0},null,{"$f":"IFERROR(VLOOKUP(F349,Biomasser!$A$3:$E$88,5,FALSE),0)","v":0},"",0,null,null,{"$f":"IFERROR(VLOOKUP(F349,Biomasser!$A$3:$M$88,13,FALSE),)","v":0},null,null,null,null,null,{"$f":"IF(F349<>\"\",'CO2 konvertering'!$C$14,)","v":0},null,null,null,null,0]
[null,null,null,"Ja",null,null,null,null,"",null,"",{"$f":"IFERROR(VLOOKUP(F350,Biomasser!$A$3:$E$88,4,FALSE),0)","v":0},null,{"$f":"IFERROR(VLOOKUP(F350,Biomasser!$A$3:$E$88,5,FALSE),0)","v":0},"",0,null,null,{"$f":"IFERROR(VLOOKUP(F350,Biomasser!$A$3:$M$88,13,FALSE),)","v":0},null,null,null,null,null,{"$f":"IF(F350<>\"\",'CO2 konvertering'!$C$14,)","v":0},null,null,null,null,0]
[null,null,null,"Ja",null,null,null,null,"",null,"",{"$f":"IFERROR(VLOOKUP(F351,Biomasser!$A$3:$E$88,4,FALSE),0)","v":0},null,{"$f":"IFERROR(VLOOKUP(F351,Biomasser!$A$3:$E$88,5,FALSE),0)","v":0},"",0,null,null,{"$f":"IFERROR(VLOOKUP(F351,Biomasser!$A$3:$M$88,13,FALSE),)","v":0},null,null,null,null,null,{"$f":"IF(F351<>\"\",'CO2 konvertering'!$C$14,)","v":0},null,null,null,null,0]
[null,null,null,"Ja",null,null,null,null,"",null,"",{"$f":"IFERROR(VLOOKUP(F352,Biomasser!$A$3:$E$88,4,FALSE),0)","v":0},null,{"$f":"IFERROR(VLOOKUP(F352,Biomasser!$A$3:$E$88,5,FALSE),0)","v":0},"",0,null,null,{"$f":"IFERROR(VLOOKUP(F352,Biomasser!$A$3:$M$88,13,FALSE),)","v":0},null,null,null,null,null,{"$f":"IF(F352<>\"\",'CO2 konvertering'!$C$14,)","v":0},null,null,null,null,0]
[null,null,null,"Ja",null,null,null,null,"",null,"",{"$f":"IFERROR(VLOOKUP(F353,Biomasser!$A$3:$E$88,4,FALSE),0)","v":0},null,{"$f":"IFERROR(VLOOKUP(F353,Biomasser!$A$3:$E$88,5,FALSE),0)","v":0},"",0,null,null,{"$f":"IFERROR(VLOOKUP(F353,Biomasser!$A$3:$M$88,13,FALSE),)","v":0},null,null,null,null,null,{"$f":"IF(F353<>\"\",'CO2 konvertering'!$C$14,)","v":0},null,null,null,null,0]
[null,null,null,"Ja",null,null,null,null,"",null,"",{"$f":"IFERROR(VLOOKUP(F354,Biomasser!$A$3:$E$88,4,FALSE),0)","v":0},null,{"$f":"IFERROR(VLOOKUP(F354,Biomasser!$A$3:$E$88,5,FALSE),0)","v":0},"",0,null,null,{"$f":"IFERROR(VLOOKUP(F354,Biomasser!$A$3:$M$88,13,FALSE),)","v":0},null,null,null,null,null,{"$f":"IF(F354<>\"\",'CO2 konvertering'!$C$14,)","v":0},null,null,null,null,0]
[null,null,null,"Ja",null,null,null,null,"",null,"",{"$f":"IFERROR(VLOOKUP(F355,Biomasser!$A$3:$E$88,4,FALSE),0)","v":0},null,{"$f":"IFERROR(VLOOKUP(F355,Biomasser!$A$3:$E$88,5,FALSE),0)","v":0},"",0,null,null,{"$f":"IFERROR(VLOOKUP(F355,Biomasser!$A$3:$M$88,13,FALSE),)","v":0},null,null,null,null,null,{"$f":"IF(F355<>\"\",'CO2 konvertering'!$C$14,)","v":0},null,null,null,null,0]
[null,null,null,"Ja",null,null,null,null,"",null,"",{"$f":"IFERROR(VLOOKUP(F356,Biomasser!$A$3:$E$88,4,FALSE),0)","v":0},null,{"$f":"IFERROR(VLOOKUP(F356,Biomasser!$A$3:$E$88,5,FALSE),0)","v":0},"",0,null,null,{"$f":"IFERROR(VLOOKUP(F356,Biomasser!$A$3:$M$88,13,FALSE),)","v":0},null,null,null,null,null,{"$f":"IF(F356<>\"\",'CO2 konvertering'!$C$14,)","v":0},null,null,null,null,0]
[null,null,null,"Ja",null,null,null,null,"",null,"",{"$f":"IFERROR(VLOOKUP(F357,Biomasser!$A$3:$E$88,4,FALSE),0)","v":0},null,{"$f":"IFERROR(VLOOKUP(F357,Biomasser!$A$3:$E$88,5,FALSE),0)","v":0},"",0,null,null,{"$f":"IFERROR(VLOOKUP(F357,Biomasser!$A$3:$M$88,13,FALSE),)","v":0},null,null,null,null,null,{"$f":"IF(F357<>\"\",'CO2 konvertering'!$C$14,)","v":0},null,null,null,null,{"$f":"SUM(S357:AC357)","v":0}]
[null,null,null,"Ja",null,null,null,null,"",null,"",{"$f":"IFERROR(VLOOKUP(F358,Biomasser!$A$3:$E$88,4,FALSE),0)","v":0},null,{"$f":"IFERROR(VLOOKUP(F358,Biomasser!$A$3:$E$88,5,FALSE),0)","v":0},"",0,null,null,{"$f":"IFERROR(VLOOKUP(F358,Biomasser!$A$3:$M$88,13,FALSE),)","v":0},null,null,null,null,null,{"$f":"IF(F358<>\"\",'CO2 konvertering'!$C$14,)","v":0},null,null,null,null,0]
[null,null,null,"Ja",null,null,null,null,"",null,"",{"$f":"IFERROR(VLOOKUP(F359,Biomasser!$A$3:$E$88,4,FALSE),0)","v":0},null,{"$f":"IFERROR(VLOOKUP(F359,Biomasser!$A$3:$E$88,5,FALSE),0)","v":0},"",0,null,null,{"$f":"IFERROR(VLOOKUP(F359,Biomasser!$A$3:$M$88,13,FALSE),)","v":0},null,null,null,null,null,{"$f":"IF(F359<>\"\",'CO2 konvertering'!$C$14,)","v":0},null,null,null,null,0]
[null,null,null,"Ja",null,null,null,null,"",null,"",{"$f":"IFERROR(VLOOKUP(F360,Biomasser!$A$3:$E$88,4,FALSE),0)","v":0},null,{"$f":"IFERROR(VLOOKUP(F360,Biomasser!$A$3:$E$88,5,FALSE),0)","v":0},"",0,null,null,{"$f":"IFERROR(VLOOKUP(F360,Biomasser!$A$3:$M$88,13,FALSE),)","v":0},null,null,null,null,null,{"$f":"IF(F360<>\"\",'CO2 konvertering'!$C$14,)","v":0},null,null,null,null,0]
[null,null,null,"Ja",null,null,null,null,"",null,"",{"$f":"IFERROR(VLOOKUP(F361,Biomasser!$A$3:$E$88,4,FALSE),0)","v":0},null,{"$f":"IFERROR(VLOOKUP(F361,Biomasser!$A$3:$E$88,5,FALSE),0)","v":0},"",0,null,null,{"$f":"IFERROR(VLOOKUP(F361,Biomasser!$A$3:$M$88,13,FALSE),)","v":0},null,null,null,null,null,{"$f":"IF(F361<>\"\",'CO2 konvertering'!$C$14,)","v":0},null,null,null,null,0]
[null,null,null,"Ja",null,null,null,null,"",null,"",{"$f":"IFERROR(VLOOKUP(F362,Biomasser!$A$3:$E$88,4,FALSE),0)","v":0},null,{"$f":"IFERROR(VLOOKUP(F362,Biomasser!$A$3:$E$88,5,FALSE),0)","v":0},"",0,null,null,{"$f":"IFERROR(VLOOKUP(F362,Biomasser!$A$3:$M$88,13,FALSE),)","v":0},null,null,null,null,null,{"$f":"IF(F362<>\"\",'CO2 konvertering'!$C$14,)","v":0},null,null,null,null,0]
[null,null,null,"Ja",null,null,null,null,"",null,"",{"$f":"IFERROR(VLOOKUP(F363,Biomasser!$A$3:$E$88,4,FALSE),0)","v":0},null,{"$f":"IFERROR(VLOOKUP(F363,Biomasser!$A$3:$E$88,5,FALSE),0)","v":0},"",0,null,null,{"$f":"IFERROR(VLOOKUP(F363,Biomasser!$A$3:$M$88,13,FALSE),)","v":0},null,null,null,null,null,{"$f":"IF(F363<>\"\",'CO2 konvertering'!$C$14,)","v":0},null,null,null,null,0]
[null,null,null,"Ja",null,null,null,null,"",null,"",{"$f":"IFERROR(VLOOKUP(F364,Biomasser!$A$3:$E$88,4,FALSE),0)","v":0},null,{"$f":"IFERROR(VLOOKUP(F364,Biomasser!$A$3:$E$88,5,FALSE),0)","v":0},"",0,null,null,{"$f":"IFERROR(VLOOKUP(F364,Biomasser!$A$3:$M$88,13,FALSE),)","v":0},null,null,null,null,null,{"$f":"IF(F364<>\"\",'CO2 konvertering'!$C$14,)","v":0},null,null,null,null,0]
[null,null,null,"Ja",null,null,null,null,"",null,"",{"$f":"IFERROR(VLOOKUP(F365,Biomasser!$A$3:$E$88,4,FALSE),0)","v":0},null,{"$f":"IFERROR(VLOOKUP(F365,Biomasser!$A$3:$E$88,5,FALSE),0)","v":0},"",0,null,null,{"$f":"IFERROR(VLOOKUP(F365,Biomasser!$A$3:$M$88,13,FALSE),)","v":0},null,null,null,null,null,{"$f":"IF(F365<>\"\",'CO2 konvertering'!$C$14,)","v":0},null,null,null,null,0]
[null,null,null,"Ja",null,null,null,null,"",null,"",{"$f":"IFERROR(VLOOKUP(F366,Biomasser!$A$3:$E$88,4,FALSE),0)","v":0},null,{"$f":"IFERROR(VLOOKUP(F366,Biomasser!$A$3:$E$88,5,FALSE),0)","v":0},"",0,null,null,{"$f":"IFERROR(VLOOKUP(F366,Biomasser!$A$3:$M$88,13,FALSE),)","v":0},null,null,null,null,null,{"$f":"IF(F366<>\"\",'CO2 konvertering'!$C$14,)","v":0},null,null,null,null,0]
[null,null,null,"Ja",null,null,null,null,"",null,"",{"$f":"IFERROR(VLOOKUP(F367,Biomasser!$A$3:$E$88,4,FALSE),0)","v":0},null,{"$f":"IFERROR(VLOOKUP(F367,Biomasser!$A$3:$E$88,5,FALSE),0)","v":0},"",0,null,null,{"$f":"IFERROR(VLOOKUP(F367,Biomasser!$A$3:$M$88,13,FALSE),)","v":0},null,null,null,null,null,{"$f":"IF(F367<>\"\",'CO2 konvertering'!$C$14,)","v":0},null,null,null,null,0]
[null,null,null,"Ja",null,null,null,null,"",null,"",{"$f":"IFERROR(VLOOKUP(F368,Biomasser!$A$3:$E$88,4,FALSE),0)","v":0},null,{"$f":"IFERROR(VLOOKUP(F368,Biomasser!$A$3:$E$88,5,FALSE),0)","v":0},"",0,null,null,{"$f":"IFERROR(VLOOKUP(F368,Biomasser!$A$3:$M$88,13,FALSE),)","v":0},null,null,null,null,null,{"$f":"IF(F368<>\"\",'CO2 konvertering'!$C$14,)","v":0},null,null,null,null,0]
[null,null,null,"Ja",null,null,null,null,"",null,"",{"$f":"IFERROR(VLOOKUP(F369,Biomasser!$A$3:$E$88,4,FALSE),0)","v":0},null,{"$f":"IFERROR(VLOOKUP(F369,Biomasser!$A$3:$E$88,5,FALSE),0)","v":0},"",0,null,null,{"$f":"IFERROR(VLOOKUP(F369,Biomasser!$A$3:$M$88,13,FALSE),)","v":0},null,null,null,null,null,{"$f":"IF(F369<>\"\",'CO2 konvertering'!$C$14,)","v":0},null,null,null,null,0]
[null,null,null,"Ja",null,null,null,null,"",null,"",{"$f":"IFERROR(VLOOKUP(F370,Biomasser!$A$3:$E$88,4,FALSE),0)","v":0},null,{"$f":"IFERROR(VLOOKUP(F370,Biomasser!$A$3:$E$88,5,FALSE),0)","v":0},"",0,null,null,{"$f":"IFERROR(VLOOKUP(F370,Biomasser!$A$3:$M$88,13,FALSE),)","v":0},null,null,null,null,null,{"$f":"IF(F370<>\"\",'CO2 konvertering'!$C$14,)","v":0},null,null,null,null,0]
[null,null,null,"Ja",null,null,null,null,"",null,"",{"$f":"IFERROR(VLOOKUP(F371,Biomasser!$A$3:$E$88,4,FALSE),0)","v":0},null,{"$f":"IFERROR(VLOOKUP(F371,Biomasser!$A$3:$E$88,5,FALSE),0)","v":0},"",0,null,null,{"$f":"IFERROR(VLOOKUP(F371,Biomasser!$A$3:$M$88,13,FALSE),)","v":0},null,null,null,null,null,{"$f":"IF(F371<>\"\",'CO2 konvertering'!$C$14,)","v":0},null,null,null,null,0]
[null,null,null,"Ja",null,null,null,null,"",null,"",{"$f":"IFERROR(VLOOKUP(F372,Biomasser!$A$3:$E$88,4,FALSE),0)","v":0},null,{"$f":"IFERROR(VLOOKUP(F372,Biomasser!$A$3:$E$88,5,FALSE),0)","v":0},"",0,null,null,{"$f":"IFERROR(VLOOKUP(F372,Biomasser!$A$3:$M$88,13,FALSE),)","v":0},null,null,null,null,null,{"$f":"IF(F372<>\"\",'CO2 konvertering'!$C$14,)","v":0},null,null,null,null,0]
[null,null,null,"Ja",null,null,null,null,"",null,"",{"$f":"IFERROR(VLOOKUP(F373,Biomasser!$A$3:$E$88,4,FALSE),0)","v":0},null,{"$f":"IFERROR(VLOOKUP(F373,Biomasser!$A$3:$E$88,5,FALSE),0)","v":0},"",0,null,null,{"$f":"IFERROR(VLOOKUP(F373,Biomasser!$A$3:$M$88,13,FALSE),)","v":0},null,null,null,null,null,{"$f":"IF(F373<>\"\",'CO2 konvertering'!$C$14,)","v":0},null,null,null,null,0]
[null,null,null,"Ja",null,null,null,null,"",null,"",{"$f":"IFERROR(VLOOKUP(F374,Biomasser!$A$3:$E$88,4,FALSE),0)","v":0},null,{"$f":"IFERROR(VLOOKUP(F374,Biomasser!$A$3:$E$88,5,FALSE),0)","v":0},"",0,null,null,{"$f":"IFERROR(VLOOKUP(F374,Biomasser!$A$3:$M$88,13,FALSE),)","v":0},null,null,null,null,null,{"$f":"IF(F374<>\"\",'CO2 konvertering'!$C$14,)","v":0},null,null,null,null,0]
[null,null,null,"Ja",null,null,null,null,"",null,"",{"$f":"IFERROR(VLOOKUP(F375,Biomasser!$A$3:$E$88,4,FALSE),0)","v":0},null,{"$f":"IFERROR(VLOOKUP(F375,Biomasser!$A$3:$E$88,5,FALSE),0)","v":0},"",0,null,null,{"$f":"IFERROR(VLOOKUP(F375,Biomasser!$A$3:$M$88,13,FALSE),)","v":0},null,null,null,null,null,{"$f":"IF(F375<>\"\",'CO2 konvertering'!$C$14,)","v":0},null,null,null,null,0]
[null,null,null,"Ja",null,null,null,null,"",null,"",{"$f":"IFERROR(VLOOKUP(F376,Biomasser!$A$3:$E$88,4,FALSE),0)","v":0},null,{"$f":"IFERROR(VLOOKUP(F376,Biomasser!$A$3:$E$88,5,FALSE),0)","v":0},"",0,null,null,{"$f":"IFERROR(VLOOKUP(F376,Biomasser!$A$3:$M$88,13,FALSE),)","v":0},null,null,null,null,null,{"$f":"IF(F376<>\"\",'CO2 konvertering'!$C$14,)","v":0},null,null,null,null,0]
[null,null,null,"Ja",null,null,null,null,"",null,"",{"$f":"IFERROR(VLOOKUP(F377,Biomasser!$A$3:$E$88,4,FALSE),0)","v":0},null,{"$f":"IFERROR(VLOOKUP(F377,Biomasser!$A$3:$E$88,5,FALSE),0)","v":0},"",0,null,null,{"$f":"IFERROR(VLOOKUP(F377,Biomasser!$A$3:$M$88,13,FALSE),)","v":0},null,null,null,null,null,{"$f":"IF(F377<>\"\",'CO2 konvertering'!$C$14,)","v":0},null,null,null,null,0]
[null,null,null,"Ja",null,null,null,null,"",null,"",{"$f":"IFERROR(VLOOKUP(F378,Biomasser!$A$3:$E$88,4,FALSE),0)","v":0},null,{"$f":"IFERROR(VLOOKUP(F378,Biomasser!$A$3:$E$88,5,FALSE),0)","v":0},"",0,null,null,{"$f":"IFERROR(VLOOKUP(F378,Biomasser!$A$3:$M$88,13,FALSE),)","v":0},null,null,null,null,null,{"$f":"IF(F378<>\"\",'CO2 konvertering'!$C$14,)","v":0},null,null,null,null,0]
[null,null,null,"Ja",null,null,null,null,"",null,"",{"$f":"IFERROR(VLOOKUP(F379,Biomasser!$A$3:$E$88,4,FALSE),0)","v":0},null,{"$f":"IFERROR(VLOOKUP(F379,Biomasser!$A$3:$E$88,5,FALSE),0)","v":0},"",0,null,null,{"$f":"IFERROR(VLOOKUP(F379,Biomasser!$A$3:$M$88,13,FALSE),)","v":0},null,null,null,null,null,{"$f":"IF(F379<>\"\",'CO2 konvertering'!$C$14,)","v":0},null,null,null,null,0]
[null,null,null,"Ja",null,null,null,null,"",null,"",{"$f":"IFERROR(VLOOKUP(F380,Biomasser!$A$3:$E$88,4,FALSE),0)","v":0},null,{"$f":"IFERROR(VLOOKUP(F380,Biomasser!$A$3:$E$88,5,FALSE),0)","v":0},"",0,null,null,{"$f":"IFERROR(VLOOKUP(F380,Biomasser!$A$3:$M$88,13,FALSE),)","v":0},null,null,null,null,null,{"$f":"IF(F380<>\"\",'CO2 konvertering'!$C$14,)","v":0},null,null,null,null,0]
[null,null,null,"Ja",null,null,null,null,"",null,"",{"$f":"IFERROR(VLOOKUP(F381,Biomasser!$A$3:$E$88,4,FALSE),0)","v":0},null,{"$f":"IFERROR(VLOOKUP(F381,Biomasser!$A$3:$E$88,5,FALSE),0)","v":0},"",0,null,null,{"$f":"IFERROR(VLOOKUP(F381,Biomasser!$A$3:$M$88,13,FALSE),)","v":0},null,null,null,null,null,{"$f":"IF(F381<>\"\",'CO2 konvertering'!$C$14,)","v":0},null,null,null,null,0]
[null,null,null,"Ja",null,null,null,null,"",null,"",{"$f":"IFERROR(VLOOKUP(F382,Biomasser!$A$3:$E$88,4,FALSE),0)","v":0},null,{"$f":"IFERROR(VLOOKUP(F382,Biomasser!$A$3:$E$88,5,FALSE),0)","v":0},"",0,null,null,{"$f":"IFERROR(VLOOKUP(F382,Biomasser!$A$3:$M$88,13,FALSE),)","v":0},null,null,null,null,null,{"$f":"IF(F382<>\"\",'CO2 konvertering'!$C$14,)","v":0},null,null,null,null,0]
[null,null,null,"Ja",null,null,null,null,"",null,"",{"$f":"IFERROR(VLOOKUP(F383,Biomasser!$A$3:$E$88,4,FALSE),0)","v":0},null,{"$f":"IFERROR(VLOOKUP(F383,Biomasser!$A$3:$E$88,5,FALSE),0)","v":0},"",0,null,null,{"$f":"IFERROR(VLOOKUP(F383,Biomasser!$A$3:$M$88,13,FALSE),)","v":0},null,null,null,null,null,{"$f":"IF(F383<>\"\",'CO2 konvertering'!$C$14,)","v":0},null,null,null,null,0]
[null,null,null,"Ja",null,null,null,null,"",null,"",{"$f":"IFERROR(VLOOKUP(F384,Biomasser!$A$3:$E$88,4,FALSE),0)","v":0},null,{"$f":"IFERROR(VLOOKUP(F384,Biomasser!$A$3:$E$88,5,FALSE),0)","v":0},"",0,null,null,{"$f":"IFERROR(VLOOKUP(F384,Biomasser!$A$3:$M$88,13,FALSE),)","v":0},null,null,null,null,null,{"$f":"IF(F384<>\"\",'CO2 konvertering'!$C$14,)","v":0},null,null,null,null,0]
[null,null,null,"Ja",null,null,null,null,"",null,"",{"$f":"IFERROR(VLOOKUP(F385,Biomasser!$A$3:$E$88,4,FALSE),0)","v":0},null,{"$f":"IFERROR(VLOOKUP(F385,Biomasser!$A$3:$E$88,5,FALSE),0)","v":0},"",0,null,null,{"$f":"IFERROR(VLOOKUP(F385,Biomasser!$A$3:$M$88,13,FALSE),)","v":0},null,null,null,null,null,{"$f":"IF(F385<>\"\",'CO2 konvertering'!$C$14,)","v":0},null,null,null,null,0]
[null,null,null,"Ja",null,null,null,null,"",null,"",{"$f":"IFERROR(VLOOKUP(F386,Biomasser!$A$3:$E$88,4,FALSE),0)","v":0},null,{"$f":"IFERROR(VLOOKUP(F386,Biomasser!$A$3:$E$88,5,FALSE),0)","v":0},"",0,null,null,{"$f":"IFERROR(VLOOKUP(F386,Biomasser!$A$3:$M$88,13,FALSE),)","v":0},null,null,null,null,null,{"$f":"IF(F386<>\"\",'CO2 konvertering'!$C$14,)","v":0},null,null,null,null,0]
[null,null,null,"Ja",null,null,null,null,"",null,"",{"$f":"IFERROR(VLOOKUP(F387,Biomasser!$A$3:$E$88,4,FALSE),0)","v":0},null,{"$f":"IFERROR(VLOOKUP(F387,Biomasser!$A$3:$E$88,5,FALSE),0)","v":0},"",0,null,null,{"$f":"IFERROR(VLOOKUP(F387,Biomasser!$A$3:$M$88,13,FALSE),)","v":0},null,null,null,null,null,{"$f":"IF(F387<>\"\",'CO2 konvertering'!$C$14,)","v":0},null,null,null,null,0]
[null,null,null,"Ja",null,null,null,null,"",null,"",{"$f":"IFERROR(VLOOKUP(F388,Biomasser!$A$3:$E$88,4,FALSE),0)","v":0},null,{"$f":"IFERROR(VLOOKUP(F388,Biomasser!$A$3:$E$88,5,FALSE),0)","v":0},"",0,null,null,{"$f":"IFERROR(VLOOKUP(F388,Biomasser!$A$3:$M$88,13,FALSE),)","v":0},null,null,null,null,null,{"$f":"IF(F388<>\"\",'CO2 konvertering'!$C$14,)","v":0},null,null,null,null,0]
[null,null,null,"Ja",null,null,null,null,"",null,"",{"$f":"IFERROR(VLOOKUP(F389,Biomasser!$A$3:$E$88,4,FALSE),0)","v":0},null,{"$f":"IFERROR(VLOOKUP(F389,Biomasser!$A$3:$E$88,5,FALSE),0)","v":0},"",{"$f":"J389*L389*N389*H389","v":0},null,null,{"$f":"IFERROR(VLOOKUP(F389,Biomasser!$A$3:$M$88,13,FALSE),)","v":0},null,null,null,null,null,{"$f":"IF(F389<>\"\",'CO2 konvertering'!$C$14,)","v":0},null,null,null,null,{"$f":"SUM(S389:AC389)","v":0}]
[null,null,null,"Ja",null,null,null,null,{"$f":"IF(AND(F390<>\"\",ISBLANK(H390)),\"Indtast vægt\",\"\")","v":""},null,{"$f":"IF(AND(F390<>\"\",ISBLANK(J390)),\"Indtast tørstof %\",\"\")","v":""},{"$f":"IFERROR(VLOOKUP(F390,Biomasser!$A$3:$E$88,4,FALSE),0)","v":0},null,{"$f":"IFERROR(VLOOKUP(F390,Biomasser!$A$3:$E$88,5,FALSE),0)","v":0},"",0,null,null,{"$f":"IFERROR(VLOOKUP(F390,Biomasser!$A$3:$M$88,13,FALSE),)","v":0},null,null,null,null,null,{"$f":"IF(F390<>\"\",'CO2 konvertering'!$C$14,)","v":0},null,null,null,null,0]
[null,null,null,"Ja",null,null,null,null,"",null,"",{"$f":"IFERROR(VLOOKUP(F391,Biomasser!$A$3:$E$88,4,FALSE),0)","v":0},null,{"$f":"IFERROR(VLOOKUP(F391,Biomasser!$A$3:$E$88,5,FALSE),0)","v":0},"",0,null,null,{"$f":"IFERROR(VLOOKUP(F391,Biomasser!$A$3:$M$88,13,FALSE),)","v":0},null,null,null,null,null,{"$f":"IF(F391<>\"\",'CO2 konvertering'!$C$14,)","v":0},null,null,null,null,0]
[null,null,null,"Ja",null,null,null,null,"",null,"",{"$f":"IFERROR(VLOOKUP(F392,Biomasser!$A$3:$E$88,4,FALSE),0)","v":0},null,{"$f":"IFERROR(VLOOKUP(F392,Biomasser!$A$3:$E$88,5,FALSE),0)","v":0},"",0,null,null,{"$f":"IFERROR(VLOOKUP(F392,Biomasser!$A$3:$M$88,13,FALSE),)","v":0},null,null,null,null,null,{"$f":"IF(F392<>\"\",'CO2 konvertering'!$C$14,)","v":0},null,null,null,null,0]
[null,null,null,"Ja",null,null,null,null,"",null,"",{"$f":"IFERROR(VLOOKUP(F393,Biomasser!$A$3:$E$88,4,FALSE),0)","v":0},null,{"$f":"IFERROR(VLOOKUP(F393,Biomasser!$A$3:$E$88,5,FALSE),0)","v":0},{"$f":"IF(AND(F393<>\"\",(N393=0)),\"Opdater biomasseark\",\"\")","v":""},0,null,null,{"$f":"IFERROR(VLOOKUP(F393,Biomasser!$A$3:$M$88,13,FALSE),)","v":0},null,null,null,null,null,{"$f":"IF(F393<>\"\",'CO2 konvertering'!$C$14,)","v":0},null,null,null,null,0]
[null,null,null,"Ja",null,null,null,null,"",null,"",{"$f":"IFERROR(VLOOKUP(F394,Biomasser!$A$3:$E$88,4,FALSE),0)","v":0},null,{"$f":"IFERROR(VLOOKUP(F394,Biomasser!$A$3:$E$88,5,FALSE),0)","v":0},"",0,null,null,{"$f":"IFERROR(VLOOKUP(F394,Biomasser!$A$3:$M$88,13,FALSE),)","v":0},null,null,null,null,null,{"$f":"IF(F394<>\"\",'CO2 konvertering'!$C$14,)","v":0},null,null,null,null,0]
[null,null,null,"Ja",null,null,null,null,"",null,"",{"$f":"IFERROR(VLOOKUP(F395,Biomasser!$A$3:$E$88,4,FALSE),0)","v":0},null,{"$f":"IFERROR(VLOOKUP(F395,Biomasser!$A$3:$E$88,5,FALSE),0)","v":0},"",0,null,null,{"$f":"IFERROR(VLOOKUP(F395,Biomasser!$A$3:$M$88,13,FALSE),)","v":0},null,null,null,null,null,{"$f":"IF(F395<>\"\",'CO2 konvertering'!$C$14,)","v":0},null,null,null,null,0]
[null,null,null,"Ja",null,null,null,null,"",null,"",{"$f":"IFERROR(VLOOKUP(F396,Biomasser!$A$3:$E$88,4,FALSE),0)","v":0},null,{"$f":"IFERROR(VLOOKUP(F396,Biomasser!$A$3:$E$88,5,FALSE),0)","v":0},"",0,null,null,{"$f":"IFERROR(VLOOKUP(F396,Biomasser!$A$3:$M$88,13,FALSE),)","v":0},null,null,null,null,null,{"$f":"IF(F396<>\"\",'CO2 konvertering'!$C$14,)","v":0},null,null,null,null,0]
[null,null,null,"Ja",null,null,null,null,"",null,"",{"$f":"IFERROR(VLOOKUP(F397,Biomasser!$A$3:$E$88,4,FALSE),0)","v":0},null,{"$f":"IFERROR(VLOOKUP(F397,Biomasser!$A$3:$E$88,5,FALSE),0)","v":0},"",0,null,null,{"$f":"IFERROR(VLOOKUP(F397,Biomasser!$A$3:$M$88,13,FALSE),)","v":0},null,null,null,null,null,{"$f":"IF(F397<>\"\",'CO2 konvertering'!$C$14,)","v":0},null,null,null,null,0]
[null,null,null,"Ja",null,null,null,null,"",null,"",{"$f":"IFERROR(VLOOKUP(F398,Biomasser!$A$3:$E$88,4,FALSE),0)","v":0},null,{"$f":"IFERROR(VLOOKUP(F398,Biomasser!$A$3:$E$88,5,FALSE),0)","v":0},"",0,null,null,{"$f":"IFERROR(VLOOKUP(F398,Biomasser!$A$3:$M$88,13,FALSE),)","v":0},null,null,null,null,null,{"$f":"IF(F398<>\"\",'CO2 konvertering'!$C$14,)","v":0},null,null,null,null,0]
[null,null,null,"Ja",null,null,null,null,"",null,"",{"$f":"IFERROR(VLOOKUP(F399,Biomasser!$A$3:$E$88,4,FALSE),0)","v":0},null,{"$f":"IFERROR(VLOOKUP(F399,Biomasser!$A$3:$E$88,5,FALSE),0)","v":0},"",0,null,null,{"$f":"IFERROR(VLOOKUP(F399,Biomasser!$A$3:$M$88,13,FALSE),)","v":0},null,null,null,null,null,{"$f":"IF(F399<>\"\",'CO2 konvertering'!$C$14,)","v":0},null,null,null,null,0]
[null,null,null,"Ja",null,null,null,null,"",null,"",{"$f":"IFERROR(VLOOKUP(F400,Biomasser!$A$3:$E$88,4,FALSE),0)","v":0},null,{"$f":"IFERROR(VLOOKUP(F400,Biomasser!$A$3:$E$88,5,FALSE),0)","v":0},"",0,null,null,{"$f":"IFERROR(VLOOKUP(F400,Biomasser!$A$3:$M$88,13,FALSE),)","v":0},null,null,null,null,null,{"$f":"IF(F400<>\"\",'CO2 konvertering'!$C$14,)","v":0},null,null,null,null,0]
[null,null,null,"Ja",null,null,null,null,"",null,"",{"$f":"IFERROR(VLOOKUP(F401,Biomasser!$A$3:$E$88,4,FALSE),0)","v":0},null,{"$f":"IFERROR(VLOOKUP(F401,Biomasser!$A$3:$E$88,5,FALSE),0)","v":0},"",0,null,null,{"$f":"IFERROR(VLOOKUP(F401,Biomasser!$A$3:$M$88,13,FALSE),)","v":0},null,null,null,null,null,{"$f":"IF(F401<>\"\",'CO2 konvertering'!$C$14,)","v":0},null,null,null,null,0]
[null,null,null,"Ja",null,null,null,null,"",null,"",{"$f":"IFERROR(VLOOKUP(F402,Biomasser!$A$3:$E$88,4,FALSE),0)","v":0},null,{"$f":"IFERROR(VLOOKUP(F402,Biomasser!$A$3:$E$88,5,FALSE),0)","v":0},"",0,null,null,{"$f":"IFERROR(VLOOKUP(F402,Biomasser!$A$3:$M$88,13,FALSE),)","v":0},null,null,null,null,null,{"$f":"IF(F402<>\"\",'CO2 konvertering'!$C$14,)","v":0},null,null,null,null,0]
[null,null,null,"Ja",null,null,null,null,"",null,"",{"$f":"IFERROR(VLOOKUP(F403,Biomasser!$A$3:$E$88,4,FALSE),0)","v":0},null,{"$f":"IFERROR(VLOOKUP(F403,Biomasser!$A$3:$E$88,5,FALSE),0)","v":0},"",0,null,null,{"$f":"IFERROR(VLOOKUP(F403,Biomasser!$A$3:$M$88,13,FALSE),)","v":0},null,null,null,null,null,{"$f":"IF(F403<>\"\",'CO2 konvertering'!$C$14,)","v":0},null,null,null,null,0]
[null,null,null,"Ja",null,null,null,null,"",null,"",{"$f":"IFERROR(VLOOKUP(F404,Biomasser!$A$3:$E$88,4,FALSE),0)","v":0},null,{"$f":"IFERROR(VLOOKUP(F404,Biomasser!$A$3:$E$88,5,FALSE),0)","v":0},"",0,null,null,{"$f":"IFERROR(VLOOKUP(F404,Biomasser!$A$3:$M$88,13,FALSE),)","v":0},null,null,null,null,null,{"$f":"IF(F404<>\"\",'CO2 konvertering'!$C$14,)","v":0},null,null,null,null,0]
[null,null,null,"Ja",null,null,null,null,"",null,"",{"$f":"IFERROR(VLOOKUP(F405,Biomasser!$A$3:$E$88,4,FALSE),0)","v":0},null,{"$f":"IFERROR(VLOOKUP(F405,Biomasser!$A$3:$E$88,5,FALSE),0)","v":0},"",0,null,null,{"$f":"IFERROR(VLOOKUP(F405,Biomasser!$A$3:$M$88,13,FALSE),)","v":0},null,null,null,null,null,{"$f":"IF(F405<>\"\",'CO2 konvertering'!$C$14,)","v":0},null,null,null,null,0]
[null,null,null,"Ja",null,null,null,null,"",null,"",{"$f":"IFERROR(VLOOKUP(F406,Biomasser!$A$3:$E$88,4,FALSE),0)","v":0},null,{"$f":"IFERROR(VLOOKUP(F406,Biomasser!$A$3:$E$88,5,FALSE),0)","v":0},"",0,null,null,{"$f":"IFERROR(VLOOKUP(F406,Biomasser!$A$3:$M$88,13,FALSE),)","v":0},null,null,null,null,null,{"$f":"IF(F406<>\"\",'CO2 konvertering'!$C$14,)","v":0},null,null,null,null,0]
[null,null,null,"Ja",null,null,null,null,"",null,"",{"$f":"IFERROR(VLOOKUP(F407,Biomasser!$A$3:$E$88,4,FALSE),0)","v":0},null,{"$f":"IFERROR(VLOOKUP(F407,Biomasser!$A$3:$E$88,5,FALSE),0)","v":0},"",0,null,null,{"$f":"IFERROR(VLOOKUP(F407,Biomasser!$A$3:$M$88,13,FALSE),)","v":0},null,null,null,null,null,{"$f":"IF(F407<>\"\",'CO2 konvertering'!$C$14,)","v":0},null,null,null,null,0]
[null,null,null,"Ja",null,null,null,null,"",null,"",{"$f":"IFERROR(VLOOKUP(F408,Biomasser!$A$3:$E$88,4,FALSE),0)","v":0},null,{"$f":"IFERROR(VLOOKUP(F408,Biomasser!$A$3:$E$88,5,FALSE),0)","v":0},"",0,null,null,{"$f":"IFERROR(VLOOKUP(F408,Biomasser!$A$3:$M$88,13,FALSE),)","v":0},null,null,null,null,null,{"$f":"IF(F408<>\"\",'CO2 konvertering'!$C$14,)","v":0},null,null,null,null,0]
[null,null,null,"Ja",null,null,null,null,"",null,"",{"$f":"IFERROR(VLOOKUP(F409,Biomasser!$A$3:$E$88,4,FALSE),0)","v":0},null,{"$f":"IFERROR(VLOOKUP(F409,Biomasser!$A$3:$E$88,5,FALSE),0)","v":0},"",0,null,null,{"$f":"IFERROR(VLOOKUP(F409,Biomasser!$A$3:$M$88,13,FALSE),)","v":0},null,null,null,null,null,{"$f":"IF(F409<>\"\",'CO2 konvertering'!$C$14,)","v":0},null,null,null,null,0]
[null,null,null,"Ja",null,null,null,null,"",null,"",{"$f":"IFERROR(VLOOKUP(F410,Biomasser!$A$3:$E$88,4,FALSE),0)","v":0},null,{"$f":"IFERROR(VLOOKUP(F410,Biomasser!$A$3:$E$88,5,FALSE),0)","v":0},"",0,null,null,{"$f":"IFERROR(VLOOKUP(F410,Biomasser!$A$3:$M$88,13,FALSE),)","v":0},null,null,null,null,null,{"$f":"IF(F410<>\"\",'CO2 konvertering'!$C$14,)","v":0},null,null,null,null,0]
[null,null,null,"Ja",null,null,null,null,"",null,"",{"$f":"IFERROR(VLOOKUP(F411,Biomasser!$A$3:$E$88,4,FALSE),0)","v":0},null,{"$f":"IFERROR(VLOOKUP(F411,Biomasser!$A$3:$E$88,5,FALSE),0)","v":0},"",0,null,null,{"$f":"IFERROR(VLOOKUP(F411,Biomasser!$A$3:$M$88,13,FALSE),)","v":0},null,null,null,null,null,{"$f":"IF(F411<>\"\",'CO2 konvertering'!$C$14,)","v":0},null,null,null,null,0]
[null,null,null,"Ja",null,null,null,null,"",null,"",{"$f":"IFERROR(VLOOKUP(F412,Biomasser!$A$3:$E$88,4,FALSE),0)","v":0},null,{"$f":"IFERROR(VLOOKUP(F412,Biomasser!$A$3:$E$88,5,FALSE),0)","v":0},"",0,null,null,{"$f":"IFERROR(VLOOKUP(F412,Biomasser!$A$3:$M$88,13,FALSE),)","v":0},null,null,null,null,null,{"$f":"IF(F412<>\"\",'CO2 konvertering'!$C$14,)","v":0},null,null,null,null,0]
[null,null,null,"Ja",null,null,null,null,"",null,"",{"$f":"IFERROR(VLOOKUP(F413,Biomasser!$A$3:$E$88,4,FALSE),0)","v":0},null,{"$f":"IFERROR(VLOOKUP(F413,Biomasser!$A$3:$E$88,5,FALSE),0)","v":0},"",0,null,null,{"$f":"IFERROR(VLOOKUP(F413,Biomasser!$A$3:$M$88,13,FALSE),)","v":0},null,null,null,null,null,{"$f":"IF(F413<>\"\",'CO2 konvertering'!$C$14,)","v":0},null,null,null,null,0]
[null,null,null,"Ja",null,null,null,null,"",null,"",{"$f":"IFERROR(VLOOKUP(F414,Biomasser!$A$3:$E$88,4,FALSE),0)","v":0},null,{"$f":"IFERROR(VLOOKUP(F414,Biomasser!$A$3:$E$88,5,FALSE),0)","v":0},"",0,null,null,{"$f":"IFERROR(VLOOKUP(F414,Biomasser!$A$3:$M$88,13,FALSE),)","v":0},null,null,null,null,null,{"$f":"IF(F414<>\"\",'CO2 konvertering'!$C$14,)","v":0},null,null,null,null,0]
[null,null,null,"Ja",null,null,null,null,"",null,"",{"$f":"IFERROR(VLOOKUP(F415,Biomasser!$A$3:$E$88,4,FALSE),0)","v":0},null,{"$f":"IFERROR(VLOOKUP(F415,Biomasser!$A$3:$E$88,5,FALSE),0)","v":0},"",0,null,null,{"$f":"IFERROR(VLOOKUP(F415,Biomasser!$A$3:$M$88,13,FALSE),)","v":0},null,null,null,null,null,{"$f":"IF(F415<>\"\",'CO2 konvertering'!$C$14,)","v":0},null,null,null,null,0]
[null,null,null,"Ja",null,null,null,null,"",null,"",{"$f":"IFERROR(VLOOKUP(F416,Biomasser!$A$3:$E$88,4,FALSE),0)","v":0},null,{"$f":"IFERROR(VLOOKUP(F416,Biomasser!$A$3:$E$88,5,FALSE),0)","v":0},"",0,null,null,{"$f":"IFERROR(VLOOKUP(F416,Biomasser!$A$3:$M$88,13,FALSE),)","v":0},null,null,null,null,null,{"$f":"IF(F416<>\"\",'CO2 konvertering'!$C$14,)","v":0},null,null,null,null,0]
[null,null,null,"Ja",null,null,null,null,"",null,"",{"$f":"IFERROR(VLOOKUP(F417,Biomasser!$A$3:$E$88,4,FALSE),0)","v":0},null,{"$f":"IFERROR(VLOOKUP(F417,Biomasser!$A$3:$E$88,5,FALSE),0)","v":0},"",0,null,null,{"$f":"IFERROR(VLOOKUP(F417,Biomasser!$A$3:$M$88,13,FALSE),)","v":0},null,null,null,null,null,{"$f":"IF(F417<>\"\",'CO2 konvertering'!$C$14,)","v":0},null,null,null,null,0]
[null,null,null,"Ja",null,null,null,null,"",null,"",{"$f":"IFERROR(VLOOKUP(F418,Biomasser!$A$3:$E$88,4,FALSE),0)","v":0},null,{"$f":"IFERROR(VLOOKUP(F418,Biomasser!$A$3:$E$88,5,FALSE),0)","v":0},"",0,null,null,{"$f":"IFERROR(VLOOKUP(F418,Biomasser!$A$3:$M$88,13,FALSE),)","v":0},null,null,null,null,null,{"$f":"IF(F418<>\"\",'CO2 konvertering'!$C$14,)","v":0},null,null,null,null,0]
[null,null,null,"Ja",null,null,null,null,"",null,"",{"$f":"IFERROR(VLOOKUP(F419,Biomasser!$A$3:$E$88,4,FALSE),0)","v":0},null,{"$f":"IFERROR(VLOOKUP(F419,Biomasser!$A$3:$E$88,5,FALSE),0)","v":0},"",0,null,null,{"$f":"IFERROR(VLOOKUP(F419,Biomasser!$A$3:$M$88,13,FALSE),)","v":0},null,null,null,null,null,{"$f":"IF(F419<>\"\",'CO2 konvertering'!$C$14,)","v":0},null,null,null,null,0]
[null,null,null,"Ja",null,null,null,null,"",null,"",{"$f":"IFERROR(VLOOKUP(F420,Biomasser!$A$3:$E$88,4,FALSE),0)","v":0},null,{"$f":"IFERROR(VLOOKUP(F420,Biomasser!$A$3:$E$88,5,FALSE),0)","v":0},"",0,null,null,{"$f":"IFERROR(VLOOKUP(F420,Biomasser!$A$3:$M$88,13,FALSE),)","v":0},null,null,null,null,null,{"$f":"IF(F420<>\"\",'CO2 konvertering'!$C$14,)","v":0},null,null,null,null,0]
[null,null,null,"Ja",null,null,null,null,"",null,"",{"$f":"IFERROR(VLOOKUP(F421,Biomasser!$A$3:$E$88,4,FALSE),0)","v":0},null,{"$f":"IFERROR(VLOOKUP(F421,Biomasser!$A$3:$E$88,5,FALSE),0)","v":0},"",0,null,null,{"$f":"IFERROR(VLOOKUP(F421,Biomasser!$A$3:$M$88,13,FALSE),)","v":0},null,null,null,null,null,{"$f":"IF(F421<>\"\",'CO2 konvertering'!$C$14,)","v":0},null,null,null,null,{"$f":"SUM(S421:AC421)","v":0}]
[null,null,null,"Ja",null,null,null,null,"",null,"",{"$f":"IFERROR(VLOOKUP(F422,Biomasser!$A$3:$E$88,4,FALSE),0)","v":0},null,{"$f":"IFERROR(VLOOKUP(F422,Biomasser!$A$3:$E$88,5,FALSE),0)","v":0},"",0,null,null,{"$f":"IFERROR(VLOOKUP(F422,Biomasser!$A$3:$M$88,13,FALSE),)","v":0},null,null,null,null,null,{"$f":"IF(F422<>\"\",'CO2 konvertering'!$C$14,)","v":0},null,null,null,null,0]
[null,null,null,"Ja",null,null,null,null,"",null,"",{"$f":"IFERROR(VLOOKUP(F423,Biomasser!$A$3:$E$88,4,FALSE),0)","v":0},null,{"$f":"IFERROR(VLOOKUP(F423,Biomasser!$A$3:$E$88,5,FALSE),0)","v":0},"",0,null,null,{"$f":"IFERROR(VLOOKUP(F423,Biomasser!$A$3:$M$88,13,FALSE),)","v":0},null,null,null,null,null,{"$f":"IF(F423<>\"\",'CO2 konvertering'!$C$14,)","v":0},null,null,null,null,0]
[null,null,null,"Ja",null,null,null,null,"",null,"",{"$f":"IFERROR(VLOOKUP(F424,Biomasser!$A$3:$E$88,4,FALSE),0)","v":0},null,{"$f":"IFERROR(VLOOKUP(F424,Biomasser!$A$3:$E$88,5,FALSE),0)","v":0},"",0,null,null,{"$f":"IFERROR(VLOOKUP(F424,Biomasser!$A$3:$M$88,13,FALSE),)","v":0},null,null,null,null,null,{"$f":"IF(F424<>\"\",'CO2 konvertering'!$C$14,)","v":0},null,null,null,null,0]
[null,null,null,"Ja",null,null,null,null,"",null,"",{"$f":"IFERROR(VLOOKUP(F425,Biomasser!$A$3:$E$88,4,FALSE),0)","v":0},null,{"$f":"IFERROR(VLOOKUP(F425,Biomasser!$A$3:$E$88,5,FALSE),0)","v":0},"",0,null,null,{"$f":"IFERROR(VLOOKUP(F425,Biomasser!$A$3:$M$88,13,FALSE),)","v":0},null,null,null,null,null,{"$f":"IF(F425<>\"\",'CO2 konvertering'!$C$14,)","v":0},null,null,null,null,0]
[null,"Dato:",null,null,null,"Mængde biomasse (Ton)",null,"Gasproduktion"]
["Gas","5. januar",2015,null,null,{"$f":"SUM(H430:H530)","v":0},null,null,"m3 CH4"]
[null,"Leverandør",null,"Certificeret",null,"Råvarer input","          Mængder                 \n      (Ton vådvægt)            ",null,null,"Tørstof\n%",null,"Omsættelig tørstof\n%",null,"Gaspotentiale\nm³ CH4/ton VS",null,"Teoretisk\ngasproduktion\nm³ CH4"]
[]
[{"$f":"B427&C427","v":"5. januar2015"},null,null,"Ja",null,null,null,null,{"$f":"IF(AND(F430<>\"\",ISBLANK(H430)),\"Indtast vægt\",\"\")","v":""},null,{"$f":"IF(AND(F430<>\"\",ISBLANK(J430)),\"Indtast tørstof %\",\"\")","v":""},{"$f":"IFERROR(VLOOKUP(F430,Biomasser!$A$3:$E$88,4,FALSE),)","v":0},null,{"$f":"IFERROR(VLOOKUP(F430,Biomasser!$A$3:$E$88,5,FALSE),0)","v":0},{"$f":"IF(AND(F430<>\"\",(N430=0)),\"Opdater biomasseark\",\"\")","v":""},{"$f":"J430*L430*N430*H430","v":0},null,null,{"$f":"IFERROR(VLOOKUP(F430,Biomasser!$A$3:$M$88,13,FALSE),)","v":0},null,null,null,null,null,{"$f":"IF(F430<>\"\",'CO2 konvertering'!$C$14,)","v":0},null,null,null,null,{"$f":"SUM(S430:AC430)","v":0}]
[null,null,null,"Ja",null,null,null,null,{"$f":"IF(AND(F431<>\"\",ISBLANK(H431)),\"Indtast vægt\",\"\")","v":""},null,{"$f":"IF(AND(F431<>\"\",ISBLANK(J431)),\"Indtast tørstof %\",\"\")","v":""},{"$f":"IFERROR(VLOOKUP(F431,Biomasser!$A$3:$E$88,4,FALSE),0)","v":0},null,{"$f":"IFERROR(VLOOKUP(F431,Biomasser!$A$3:$E$88,5,FALSE),0)","v":0},"",0,null,null,{"$f":"IFERROR(VLOOKUP(F431,Biomasser!$A$3:$M$88,13,FALSE),)","v":0},null,null,null,null,null,{"$f":"IF(F431<>\"\",'CO2 konvertering'!$C$14,)","v":0},null,null,null,null,0]
[null,null,null,"Ja",null,null,null,null,"",null,"",{"$f":"IFERROR(VLOOKUP(F432,Biomasser!$A$3:$E$88,4,FALSE),0)","v":0},null,{"$f":"IFERROR(VLOOKUP(F432,Biomasser!$A$3:$E$88,5,FALSE),0)","v":0},"",0,null,null,{"$f":"IFERROR(VLOOKUP(F432,Biomasser!$A$3:$M$88,13,FALSE),)","v":0},null,null,null,null,null,{"$f":"IF(F432<>\"\",'CO2 konvertering'!$C$14,)","v":0},null,null,null,null,0]
[null,null,null,"Ja",null,null,null,null,"",null,"",{"$f":"IFERROR(VLOOKUP(F433,Biomasser!$A$3:$E$88,4,FALSE),0)","v":0},null,{"$f":"IFERROR(VLOOKUP(F433,Biomasser!$A$3:$E$88,5,FALSE),0)","v":0},{"$f":"IF(AND(F433<>\"\",(N433=0)),\"Opdater biomasseark\",\"\")","v":""},0,null,null,{"$f":"IFERROR(VLOOKUP(F433,Biomasser!$A$3:$M$88,13,FALSE),)","v":0},null,null,null,null,null,{"$f":"IF(F433<>\"\",'CO2 konvertering'!$C$14,)","v":0},null,null,null,null,0]
[null,null,null,"Ja",null,null,null,null,"",null,"",{"$f":"IFERROR(VLOOKUP(F434,Biomasser!$A$3:$E$88,4,FALSE),0)","v":0},null,{"$f":"IFERROR(VLOOKUP(F434,Biomasser!$A$3:$E$88,5,FALSE),0)","v":0},{"$f":"IF(AND(F434<>\"\",(N434=0)),\"Opdater biomasseark\",\"\")","v":""},0,null,null,{"$f":"IFERROR(VLOOKUP(F434,Biomasser!$A$3:$M$88,13,FALSE),)","v":0},null,null,null,null,null,{"$f":"IF(F434<>\"\",'CO2 konvertering'!$C$14,)","v":0},null,null,null,null,0]
[null,null,null,"Ja",null,null,null,null,"",null,"",{"$f":"IFERROR(VLOOKUP(F435,Biomasser!$A$3:$E$88,4,FALSE),0)","v":0},null,{"$f":"IFERROR(VLOOKUP(F435,Biomasser!$A$3:$E$88,5,FALSE),0)","v":0},"",0,null,null,{"$f":"IFERROR(VLOOKUP(F435,Biomasser!$A$3:$M$88,13,FALSE),)","v":0},null,null,null,null,null,{"$f":"IF(F435<>\"\",'CO2 konvertering'!$C$14,)","v":0},null,null,null,null,0]
[null,null,null,"Ja",null,null,null,null,"",null,"",{"$f":"IFERROR(VLOOKUP(F436,Biomasser!$A$3:$E$88,4,FALSE),0)","v":0},null,{"$f":"IFERROR(VLOOKUP(F436,Biomasser!$A$3:$E$88,5,FALSE),0)","v":0},"",0,null,null,{"$f":"IFERROR(VLOOKUP(F436,Biomasser!$A$3:$M$88,13,FALSE),)","v":0},null,null,null,null,null,{"$f":"IF(F436<>\"\",'CO2 konvertering'!$C$14,)","v":0},null,null,null,null,0]
[null,null,null,"Ja",null,null,null,null,"",null,"",{"$f":"IFERROR(VLOOKUP(F437,Biomasser!$A$3:$E$88,4,FALSE),0)","v":0},null,{"$f":"IFERROR(VLOOKUP(F437,Biomasser!$A$3:$E$88,5,FALSE),0)","v":0},"",0,null,null,{"$f":"IFERROR(VLOOKUP(F437,Biomasser!$A$3:$M$88,13,FALSE),)","v":0},null,null,null,null,null,{"$f":"IF(F437<>\"\",'CO2 konvertering'!$C$14,)","v":0},null,null,null,null,0]
[null,null,null,"Ja",null,null,null,null,"",null,"",{"$f":"IFERROR(VLOOKUP(F438,Biomasser!$A$3:$E$88,4,FALSE),0)","v":0},null,{"$f":"IFERROR(VLOOKUP(F438,Biomasser!$A$3:$E$88,5,FALSE),0)","v":0},"",0,null,null,{"$f":"IFERROR(VLOOKUP(F438,Biomasser!$A$3:$M$88,13,FALSE),)","v":0},null,null,null,null,null,{"$f":"IF(F438<>\"\",'CO2 konvertering'!$C$14,)","v":0},null,null,null,null,0]
[null,null,null,"Ja",null,null,null,null,"",null,"",{"$f":"IFERROR(VLOOKUP(F439,Biomasser!$A$3:$E$88,4,FALSE),0)","v":0},null,{"$f":"IFERROR(VLOOKUP(F439,Biomasser!$A$3:$E$88,5,FALSE),0)","v":0},"",0,null,null,{"$f":"IFERROR(VLOOKUP(F439,Biomasser!$A$3:$M$88,13,FALSE),)","v":0},null,null,null,null,null,{"$f":"IF(F439<>\"\",'CO2 konvertering'!$C$14,)","v":0},null,null,null,null,0]
[null,null,null,"Ja",null,null,null,null,"",null,"",{"$f":"IFERROR(VLOOKUP(F440,Biomasser!$A$3:$E$88,4,FALSE),0)","v":0},null,{"$f":"IFERROR(VLOOKUP(F440,Biomasser!$A$3:$E$88,5,FALSE),0)","v":0},"",0,null,null,{"$f":"IFERROR(VLOOKUP(F440,Biomasser!$A$3:$M$88,13,FALSE),)","v":0},null,null,null,null,null,{"$f":"IF(F440<>\"\",'CO2 konvertering'!$C$14,)","v":0},null,null,null,null,0]
[null,null,null,"Ja",null,null,null,null,"",null,"",{"$f":"IFERROR(VLOOKUP(F441,Biomasser!$A$3:$E$88,4,FALSE),0)","v":0},null,{"$f":"IFERROR(VLOOKUP(F441,Biomasser!$A$3:$E$88,5,FALSE),0)","v":0},"",0,null,null,{"$f":"IFERROR(VLOOKUP(F441,Biomasser!$A$3:$M$88,13,FALSE),)","v":0},null,null,null,null,null,{"$f":"IF(F441<>\"\",'CO2 konvertering'!$C$14,)","v":0},null,null,null,null,0]
[null,null,null,"Ja",null,null,null,null,"",null,"",{"$f":"IFERROR(VLOOKUP(F442,Biomasser!$A$3:$E$88,4,FALSE),0)","v":0},null,{"$f":"IFERROR(VLOOKUP(F442,Biomasser!$A$3:$E$88,5,FALSE),0)","v":0},"",0,null,null,{"$f":"IFERROR(VLOOKUP(F442,Biomasser!$A$3:$M$88,13,FALSE),)","v":0},null,null,null,null,null,{"$f":"IF(F442<>\"\",'CO2 konvertering'!$C$14,)","v":0},null,null,null,null,0]
[null,null,null,"Ja",null,null,null,null,"",null,"",{"$f":"IFERROR(VLOOKUP(F443,Biomasser!$A$3:$E$88,4,FALSE),0)","v":0},null,{"$f":"IFERROR(VLOOKUP(F443,Biomasser!$A$3:$E$88,5,FALSE),0)","v":0},"",0,null,null,{"$f":"IFERROR(VLOOKUP(F443,Biomasser!$A$3:$M$88,13,FALSE),)","v":0},null,null,null,null,null,{"$f":"IF(F443<>\"\",'CO2 konvertering'!$C$14,)","v":0},null,null,null,null,0]
[null,null,null,"Ja",null,null,null,null,"",null,"",{"$f":"IFERROR(VLOOKUP(F444,Biomasser!$A$3:$E$88,4,FALSE),0)","v":0},null,{"$f":"IFERROR(VLOOKUP(F444,Biomasser!$A$3:$E$88,5,FALSE),0)","v":0},"",0,null,null,{"$f":"IFERROR(VLOOKUP(F444,Biomasser!$A$3:$M$88,13,FALSE),)","v":0},null,null,null,null,null,{"$f":"IF(F444<>\"\",'CO2 konvertering'!$C$14,)","v":0},null,null,null,null,0]
[null,null,null,"Ja",null,null,null,null,"",null,"",{"$f":"IFERROR(VLOOKUP(F445,Biomasser!$A$3:$E$88,4,FALSE),0)","v":0},null,{"$f":"IFERROR(VLOOKUP(F445,Biomasser!$A$3:$E$88,5,FALSE),0)","v":0},"",0,null,null,{"$f":"IFERROR(VLOOKUP(F445,Biomasser!$A$3:$M$88,13,FALSE),)","v":0},null,null,null,null,null,{"$f":"IF(F445<>\"\",'CO2 konvertering'!$C$14,)","v":0},null,null,null,null,0]
[null,null,null,"Ja",null,null,null,null,"",null,"",{"$f":"IFERROR(VLOOKUP(F446,Biomasser!$A$3:$E$88,4,FALSE),0)","v":0},null,{"$f":"IFERROR(VLOOKUP(F446,Biomasser!$A$3:$E$88,5,FALSE),0)","v":0},"",0,null,null,{"$f":"IFERROR(VLOOKUP(F446,Biomasser!$A$3:$M$88,13,FALSE),)","v":0},null,null,null,null,null,{"$f":"IF(F446<>\"\",'CO2 konvertering'!$C$14,)","v":0},null,null,null,null,0]
[null,null,null,"Ja",null,null,null,null,"",null,"",{"$f":"IFERROR(VLOOKUP(F447,Biomasser!$A$3:$E$88,4,FALSE),0)","v":0},null,{"$f":"IFERROR(VLOOKUP(F447,Biomasser!$A$3:$E$88,5,FALSE),0)","v":0},"",0,null,null,{"$f":"IFERROR(VLOOKUP(F447,Biomasser!$A$3:$M$88,13,FALSE),)","v":0},null,null,null,null,null,{"$f":"IF(F447<>\"\",'CO2 konvertering'!$C$14,)","v":0},null,null,null,null,0]
[null,null,null,"Ja",null,null,null,null,"",null,"",{"$f":"IFERROR(VLOOKUP(F448,Biomasser!$A$3:$E$88,4,FALSE),0)","v":0},null,{"$f":"IFERROR(VLOOKUP(F448,Biomasser!$A$3:$E$88,5,FALSE),0)","v":0},"",0,null,null,{"$f":"IFERROR(VLOOKUP(F448,Biomasser!$A$3:$M$88,13,FALSE),)","v":0},null,null,null,null,null,{"$f":"IF(F448<>\"\",'CO2 konvertering'!$C$14,)","v":0},null,null,null,null,0]
[null,null,null,"Ja",null,null,null,null,"",null,"",{"$f":"IFERROR(VLOOKUP(F449,Biomasser!$A$3:$E$88,4,FALSE),0)","v":0},null,{"$f":"IFERROR(VLOOKUP(F449,Biomasser!$A$3:$E$88,5,FALSE),0)","v":0},"",0,null,null,{"$f":"IFERROR(VLOOKUP(F449,Biomasser!$A$3:$M$88,13,FALSE),)","v":0},null,null,null,null,null,{"$f":"IF(F449<>\"\",'CO2 konvertering'!$C$14,)","v":0},null,null,null,null,0]
[null,null,null,"Ja",null,null,null,null,"",null,"",{"$f":"IFERROR(VLOOKUP(F450,Biomasser!$A$3:$E$88,4,FALSE),0)","v":0},null,{"$f":"IFERROR(VLOOKUP(F450,Biomasser!$A$3:$E$88,5,FALSE),0)","v":0},"",0,null,null,{"$f":"IFERROR(VLOOKUP(F450,Biomasser!$A$3:$M$88,13,FALSE),)","v":0},null,null,null,null,null,{"$f":"IF(F450<>\"\",'CO2 konvertering'!$C$14,)","v":0},null,null,null,null,0]
[null,null,null,"Ja",null,null,null,null,"",null,"",{"$f":"IFERROR(VLOOKUP(F451,Biomasser!$A$3:$E$88,4,FALSE),0)","v":0},null,{"$f":"IFERROR(VLOOKUP(F451,Biomasser!$A$3:$E$88,5,FALSE),0)","v":0},"",0,null,null,{"$f":"IFERROR(VLOOKUP(F451,Biomasser!$A$3:$M$88,13,FALSE),)","v":0},null,null,null,null,null,{"$f":"IF(F451<>\"\",'CO2 konvertering'!$C$14,)","v":0},null,null,null,null,0]
[null,null,null,"Ja",null,null,null,null,"",null,"",{"$f":"IFERROR(VLOOKUP(F452,Biomasser!$A$3:$E$88,4,FALSE),0)","v":0},null,{"$f":"IFERROR(VLOOKUP(F452,Biomasser!$A$3:$E$88,5,FALSE),0)","v":0},"",0,null,null,{"$f":"IFERROR(VLOOKUP(F452,Biomasser!$A$3:$M$88,13,FALSE),)","v":0},null,null,null,null,null,{"$f":"IF(F452<>\"\",'CO2 konvertering'!$C$14,)","v":0},null,null,null,null,0]
[null,null,null,"Ja",null,null,null,null,"",null,"",{"$f":"IFERROR(VLOOKUP(F453,Biomasser!$A$3:$E$88,4,FALSE),0)","v":0},null,{"$f":"IFERROR(VLOOKUP(F453,Biomasser!$A$3:$E$88,5,FALSE),0)","v":0},"",0,null,null,{"$f":"IFERROR(VLOOKUP(F453,Biomasser!$A$3:$M$88,13,FALSE),)","v":0},null,null,null,null,null,{"$f":"IF(F453<>\"\",'CO2 konvertering'!$C$14,)","v":0},null,null,null,null,0]
[null,null,null,"Ja",null,null,null,null,"",null,"",{"$f":"IFERROR(VLOOKUP(F454,Biomasser!$A$3:$E$88,4,FALSE),0)","v":0},null,{"$f":"IFERROR(VLOOKUP(F454,Biomasser!$A$3:$E$88,5,FALSE),0)","v":0},"",0,null,null,{"$f":"IFERROR(VLOOKUP(F454,Biomasser!$A$3:$M$88,13,FALSE),)","v":0},null,null,null,null,null,{"$f":"IF(F454<>\"\",'CO2 konvertering'!$C$14,)","v":0},null,null,null,null,0]
[null,null,null,"Ja",null,null,null,null,"",null,"",{"$f":"IFERROR(VLOOKUP(F455,Biomasser!$A$3:$E$88,4,FALSE),0)","v":0},null,{"$f":"IFERROR(VLOOKUP(F455,Biomasser!$A$3:$E$88,5,FALSE),0)","v":0},"",0,null,null,{"$f":"IFERROR(VLOOKUP(F455,Biomasser!$A$3:$M$88,13,FALSE),)","v":0},null,null,null,null,null,{"$f":"IF(F455<>\"\",'CO2 konvertering'!$C$14,)","v":0},null,null,null,null,0]
[null,null,null,"Ja",null,null,null,null,"",null,"",{"$f":"IFERROR(VLOOKUP(F456,Biomasser!$A$3:$E$88,4,FALSE),0)","v":0},null,{"$f":"IFERROR(VLOOKUP(F456,Biomasser!$A$3:$E$88,5,FALSE),0)","v":0},"",0,null,null,{"$f":"IFERROR(VLOOKUP(F456,Biomasser!$A$3:$M$88,13,FALSE),)","v":0},null,null,null,null,null,{"$f":"IF(F456<>\"\",'CO2 konvertering'!$C$14,)","v":0},null,null,null,null,0]
[null,null,null,"Ja",null,null,null,null,"",null,"",{"$f":"IFERROR(VLOOKUP(F457,Biomasser!$A$3:$E$88,4,FALSE),0)","v":0},null,{"$f":"IFERROR(VLOOKUP(F457,Biomasser!$A$3:$E$88,5,FALSE),0)","v":0},"",0,null,null,{"$f":"IFERROR(VLOOKUP(F457,Biomasser!$A$3:$M$88,13,FALSE),)","v":0},null,null,null,null,null,{"$f":"IF(F457<>\"\",'CO2 konvertering'!$C$14,)","v":0},null,null,null,null,0]
[null,null,null,"Ja",null,null,null,null,"",null,"",{"$f":"IFERROR(VLOOKUP(F458,Biomasser!$A$3:$E$88,4,FALSE),0)","v":0},null,{"$f":"IFERROR(VLOOKUP(F458,Biomasser!$A$3:$E$88,5,FALSE),0)","v":0},"",0,null,null,{"$f":"IFERROR(VLOOKUP(F458,Biomasser!$A$3:$M$88,13,FALSE),)","v":0},null,null,null,null,null,{"$f":"IF(F458<>\"\",'CO2 konvertering'!$C$14,)","v":0},null,null,null,null,0]
[null,null,null,"Ja",null,null,null,null,"",null,"",{"$f":"IFERROR(VLOOKUP(F459,Biomasser!$A$3:$E$88,4,FALSE),0)","v":0},null,{"$f":"IFERROR(VLOOKUP(F459,Biomasser!$A$3:$E$88,5,FALSE),0)","v":0},"",0,null,null,{"$f":"IFERROR(VLOOKUP(F459,Biomasser!$A$3:$M$88,13,FALSE),)","v":0},null,null,null,null,null,{"$f":"IF(F459<>\"\",'CO2 konvertering'!$C$14,)","v":0},null,null,null,null,0]
[null,null,null,"Ja",null,null,null,null,"",null,"",{"$f":"IFERROR(VLOOKUP(F460,Biomasser!$A$3:$E$88,4,FALSE),0)","v":0},null,{"$f":"IFERROR(VLOOKUP(F460,Biomasser!$A$3:$E$88,5,FALSE),0)","v":0},"",0,null,null,{"$f":"IFERROR(VLOOKUP(F460,Biomasser!$A$3:$M$88,13,FALSE),)","v":0},null,null,null,null,null,{"$f":"IF(F460<>\"\",'CO2 konvertering'!$C$14,)","v":0},null,null,null,null,0]
[null,null,null,"Ja",null,null,null,null,"",null,"",{"$f":"IFERROR(VLOOKUP(F461,Biomasser!$A$3:$E$88,4,FALSE),0)","v":0},null,{"$f":"IFERROR(VLOOKUP(F461,Biomasser!$A$3:$E$88,5,FALSE),0)","v":0},"",0,null,null,{"$f":"IFERROR(VLOOKUP(F461,Biomasser!$A$3:$M$88,13,FALSE),)","v":0},null,null,null,null,null,{"$f":"IF(F461<>\"\",'CO2 konvertering'!$C$14,)","v":0},null,null,null,null,0]
[null,null,null,"Ja",null,null,null,null,"",null,"",{"$f":"IFERROR(VLOOKUP(F462,Biomasser!$A$3:$E$88,4,FALSE),0)","v":0},null,{"$f":"IFERROR(VLOOKUP(F462,Biomasser!$A$3:$E$88,5,FALSE),0)","v":0},"",0,null,null,{"$f":"IFERROR(VLOOKUP(F462,Biomasser!$A$3:$M$88,13,FALSE),)","v":0},null,null,null,null,null,{"$f":"IF(F462<>\"\",'CO2 konvertering'!$C$14,)","v":0},null,null,null,null,{"$f":"SUM(S462:AC462)","v":0}]
[null,null,null,"Ja",null,null,null,null,"",null,"",{"$f":"IFERROR(VLOOKUP(F463,Biomasser!$A$3:$E$88,4,FALSE),0)","v":0},null,{"$f":"IFERROR(VLOOKUP(F463,Biomasser!$A$3:$E$88,5,FALSE),0)","v":0},"",0,null,null,{"$f":"IFERROR(VLOOKUP(F463,Biomasser!$A$3:$M$88,13,FALSE),)","v":0},null,null,null,null,null,{"$f":"IF(F463<>\"\",'CO2 konvertering'!$C$14,)","v":0},null,null,null,null,0]
[null,null,null,"Ja",null,null,null,null,"",null,"",{"$f":"IFERROR(VLOOKUP(F464,Biomasser!$A$3:$E$88,4,FALSE),0)","v":0},null,{"$f":"IFERROR(VLOOKUP(F464,Biomasser!$A$3:$E$88,5,FALSE),0)","v":0},"",0,null,null,{"$f":"IFERROR(VLOOKUP(F464,Biomasser!$A$3:$M$88,13,FALSE),)","v":0},null,null,null,null,null,{"$f":"IF(F464<>\"\",'CO2 konvertering'!$C$14,)","v":0},null,null,null,null,0]
[null,null,null,"Ja",null,null,null,null,"",null,"",{"$f":"IFERROR(VLOOKUP(F465,Biomasser!$A$3:$E$88,4,FALSE),0)","v":0},null,{"$f":"IFERROR(VLOOKUP(F465,Biomasser!$A$3:$E$88,5,FALSE),0)","v":0},"",0,null,null,{"$f":"IFERROR(VLOOKUP(F465,Biomasser!$A$3:$M$88,13,FALSE),)","v":0},null,null,null,null,null,{"$f":"IF(F465<>\"\",'CO2 konvertering'!$C$14,)","v":0},null,null,null,null,0]
[null,null,null,"Ja",null,null,null,null,"",null,"",{"$f":"IFERROR(VLOOKUP(F466,Biomasser!$A$3:$E$88,4,FALSE),0)","v":0},null,{"$f":"IFERROR(VLOOKUP(F466,Biomasser!$A$3:$E$88,5,FALSE),0)","v":0},"",0,null,null,{"$f":"IFERROR(VLOOKUP(F466,Biomasser!$A$3:$M$88,13,FALSE),)","v":0},null,null,null,null,null,{"$f":"IF(F466<>\"\",'CO2 konvertering'!$C$14,)","v":0},null,null,null,null,0]
[null,null,null,"Ja",null,null,null,null,"",null,"",{"$f":"IFERROR(VLOOKUP(F467,Biomasser!$A$3:$E$88,4,FALSE),0)","v":0},null,{"$f":"IFERROR(VLOOKUP(F467,Biomasser!$A$3:$E$88,5,FALSE),0)","v":0},"",0,null,null,{"$f":"IFERROR(VLOOKUP(F467,Biomasser!$A$3:$M$88,13,FALSE),)","v":0},null,null,null,null,null,{"$f":"IF(F467<>\"\",'CO2 konvertering'!$C$14,)","v":0},null,null,null,null,0]
[null,null,null,"Ja",null,null,null,null,"",null,"",{"$f":"IFERROR(VLOOKUP(F468,Biomasser!$A$3:$E$88,4,FALSE),0)","v":0},null,{"$f":"IFERROR(VLOOKUP(F468,Biomasser!$A$3:$E$88,5,FALSE),0)","v":0},"",0,null,null,{"$f":"IFERROR(VLOOKUP(F468,Biomasser!$A$3:$M$88,13,FALSE),)","v":0},null,null,null,null,null,{"$f":"IF(F468<>\"\",'CO2 konvertering'!$C$14,)","v":0},null,null,null,null,0]
[null,null,null,"Ja",null,null,null,null,"",null,"",{"$f":"IFERROR(VLOOKUP(F469,Biomasser!$A$3:$E$88,4,FALSE),0)","v":0},null,{"$f":"IFERROR(VLOOKUP(F469,Biomasser!$A$3:$E$88,5,FALSE),0)","v":0},"",0,null,null,{"$f":"IFERROR(VLOOKUP(F469,Biomasser!$A$3:$M$88,13,FALSE),)","v":0},null,null,null,null,null,{"$f":"IF(F469<>\"\",'CO2 konvertering'!$C$14,)","v":0},null,null,null,null,0]
[null,null,null,"Ja",null,null,null,null,"",null,"",{"$f":"IFERROR(VLOOKUP(F470,Biomasser!$A$3:$E$88,4,FALSE),0)","v":0},null,{"$f":"IFERROR(VLOOKUP(F470,Biomasser!$A$3:$E$88,5,FALSE),0)","v":0},"",0,null,null,{"$f":"IFERROR(VLOOKUP(F470,Biomasser!$A$3:$M$88,13,FALSE),)","v":0},null,null,null,null,null,{"$f":"IF(F470<>\"\",'CO2 konvertering'!$C$14,)","v":0},null,null,null,null,0]
[null,null,null,"Ja",null,null,null,null,"",null,"",{"$f":"IFERROR(VLOOKUP(F471,Biomasser!$A$3:$E$88,4,FALSE),0)","v":0},null,{"$f":"IFERROR(VLOOKUP(F471,Biomasser!$A$3:$E$88,5,FALSE),0)","v":0},"",0,null,null,{"$f":"IFERROR(VLOOKUP(F471,Biomasser!$A$3:$M$88,13,FALSE),)","v":0},null,null,null,null,null,{"$f":"IF(F471<>\"\",'CO2 konvertering'!$C$14,)","v":0},null,null,null,null,0]
[null,null,null,"Ja",null,null,null,null,"",null,"",{"$f":"IFERROR(VLOOKUP(F472,Biomasser!$A$3:$E$88,4,FALSE),0)","v":0},null,{"$f":"IFERROR(VLOOKUP(F472,Biomasser!$A$3:$E$88,5,FALSE),0)","v":0},"",0,null,null,{"$f":"IFERROR(VLOOKUP(F472,Biomasser!$A$3:$M$88,13,FALSE),)","v":0},null,null,null,null,null,{"$f":"IF(F472<>\"\",'CO2 konvertering'!$C$14,)","v":0},null,null,null,null,0]
[null,null,null,"Ja",null,null,null,null,"",null,"",{"$f":"IFERROR(VLOOKUP(F473,Biomasser!$A$3:$E$88,4,FALSE),0)","v":0},null,{"$f":"IFERROR(VLOOKUP(F473,Biomasser!$A$3:$E$88,5,FALSE),0)","v":0},"",0,null,null,{"$f":"IFERROR(VLOOKUP(F473,Biomasser!$A$3:$M$88,13,FALSE),)","v":0},null,null,null,null,null,{"$f":"IF(F473<>\"\",'CO2 konvertering'!$C$14,)","v":0},null,null,null,null,0]
[null,null,null,"Ja",null,null,null,null,"",null,"",{"$f":"IFERROR(VLOOKUP(F474,Biomasser!$A$3:$E$88,4,FALSE),0)","v":0},null,{"$f":"IFERROR(VLOOKUP(F474,Biomasser!$A$3:$E$88,5,FALSE),0)","v":0},"",0,null,null,{"$f":"IFERROR(VLOOKUP(F474,Biomasser!$A$3:$M$88,13,FALSE),)","v":0},null,null,null,null,null,{"$f":"IF(F474<>\"\",'CO2 konvertering'!$C$14,)","v":0},null,null,null,null,0]
[null,null,null,"Ja",null,null,null,null,"",null,"",{"$f":"IFERROR(VLOOKUP(F475,Biomasser!$A$3:$E$88,4,FALSE),0)","v":0},null,{"$f":"IFERROR(VLOOKUP(F475,Biomasser!$A$3:$E$88,5,FALSE),0)","v":0},"",0,null,null,{"$f":"IFERROR(VLOOKUP(F475,Biomasser!$A$3:$M$88,13,FALSE),)","v":0},null,null,null,null,null,{"$f":"IF(F475<>\"\",'CO2 konvertering'!$C$14,)","v":0},null,null,null,null,0]
[null,null,null,"Ja",null,null,null,null,"",null,"",{"$f":"IFERROR(VLOOKUP(F476,Biomasser!$A$3:$E$88,4,FALSE),0)","v":0},null,{"$f":"IFERROR(VLOOKUP(F476,Biomasser!$A$3:$E$88,5,FALSE),0)","v":0},"",0,null,null,{"$f":"IFERROR(VLOOKUP(F476,Biomasser!$A$3:$M$88,13,FALSE),)","v":0},null,null,null,null,null,{"$f":"IF(F476<>\"\",'CO2 konvertering'!$C$14,)","v":0},null,null,null,null,0]
[null,null,null,"Ja",null,null,null,null,"",null,"",{"$f":"IFERROR(VLOOKUP(F477,Biomasser!$A$3:$E$88,4,FALSE),0)","v":0},null,{"$f":"IFERROR(VLOOKUP(F477,Biomasser!$A$3:$E$88,5,FALSE),0)","v":0},"",0,null,null,{"$f":"IFERROR(VLOOKUP(F477,Biomasser!$A$3:$M$88,13,FALSE),)","v":0},null,null,null,null,null,{"$f":"IF(F477<>\"\",'CO2 konvertering'!$C$14,)","v":0},null,null,null,null,0]
[null,null,null,"Ja",null,null,null,null,"",null,"",{"$f":"IFERROR(VLOOKUP(F478,Biomasser!$A$3:$E$88,4,FALSE),0)","v":0},null,{"$f":"IFERROR(VLOOKUP(F478,Biomasser!$A$3:$E$88,5,FALSE),0)","v":0},"",0,null,null,{"$f":"IFERROR(VLOOKUP(F478,Biomasser!$A$3:$M$88,13,FALSE),)","v":0},null,null,null,null,null,{"$f":"IF(F478<>\"\",'CO2 konvertering'!$C$14,)","v":0},null,null,null,null,0]
[null,null,null,"Ja",null,null,null,null,"",null,"",{"$f":"IFERROR(VLOOKUP(F479,Biomasser!$A$3:$E$88,4,FALSE),0)","v":0},null,{"$f":"IFERROR(VLOOKUP(F479,Biomasser!$A$3:$E$88,5,FALSE),0)","v":0},"",0,null,null,{"$f":"IFERROR(VLOOKUP(F479,Biomasser!$A$3:$M$88,13,FALSE),)","v":0},null,null,null,null,null,{"$f":"IF(F479<>\"\",'CO2 konvertering'!$C$14,)","v":0},null,null,null,null,0]
[null,null,null,"Ja",null,null,null,null,"",null,"",{"$f":"IFERROR(VLOOKUP(F480,Biomasser!$A$3:$E$88,4,FALSE),0)","v":0},null,{"$f":"IFERROR(VLOOKUP(F480,Biomasser!$A$3:$E$88,5,FALSE),0)","v":0},"",0,null,null,{"$f":"IFERROR(VLOOKUP(F480,Biomasser!$A$3:$M$88,13,FALSE),)","v":0},null,null,null,null,null,{"$f":"IF(F480<>\"\",'CO2 konvertering'!$C$14,)","v":0},null,null,null,null,0]
[null,null,null,"Ja",null,null,null,null,"",null,"",{"$f":"IFERROR(VLOOKUP(F481,Biomasser!$A$3:$E$88,4,FALSE),0)","v":0},null,{"$f":"IFERROR(VLOOKUP(F481,Biomasser!$A$3:$E$88,5,FALSE),0)","v":0},"",0,null,null,{"$f":"IFERROR(VLOOKUP(F481,Biomasser!$A$3:$M$88,13,FALSE),)","v":0},null,null,null,null,null,{"$f":"IF(F481<>\"\",'CO2 konvertering'!$C$14,)","v":0},null,null,null,null,0]
[null,null,null,"Ja",null,null,null,null,"",null,"",{"$f":"IFERROR(VLOOKUP(F482,Biomasser!$A$3:$E$88,4,FALSE),0)","v":0},null,{"$f":"IFERROR(VLOOKUP(F482,Biomasser!$A$3:$E$88,5,FALSE),0)","v":0},"",0,null,null,{"$f":"IFERROR(VLOOKUP(F482,Biomasser!$A$3:$M$88,13,FALSE),)","v":0},null,null,null,null,null,{"$f":"IF(F482<>\"\",'CO2 konvertering'!$C$14,)","v":0},null,null,null,null,0]
[null,null,null,"Ja",null,null,null,null,"",null,"",{"$f":"IFERROR(VLOOKUP(F483,Biomasser!$A$3:$E$88,4,FALSE),0)","v":0},null,{"$f":"IFERROR(VLOOKUP(F483,Biomasser!$A$3:$E$88,5,FALSE),0)","v":0},"",0,null,null,{"$f":"IFERROR(VLOOKUP(F483,Biomasser!$A$3:$M$88,13,FALSE),)","v":0},null,null,null,null,null,{"$f":"IF(F483<>\"\",'CO2 konvertering'!$C$14,)","v":0},null,null,null,null,0]
[null,null,null,"Ja",null,null,null,null,"",null,"",{"$f":"IFERROR(VLOOKUP(F484,Biomasser!$A$3:$E$88,4,FALSE),0)","v":0},null,{"$f":"IFERROR(VLOOKUP(F484,Biomasser!$A$3:$E$88,5,FALSE),0)","v":0},"",0,null,null,{"$f":"IFERROR(VLOOKUP(F484,Biomasser!$A$3:$M$88,13,FALSE),)","v":0},null,null,null,null,null,{"$f":"IF(F484<>\"\",'CO2 konvertering'!$C$14,)","v":0},null,null,null,null,0]
[null,null,null,"Ja",null,null,null,null,"",null,"",{"$f":"IFERROR(VLOOKUP(F485,Biomasser!$A$3:$E$88,4,FALSE),0)","v":0},null,{"$f":"IFERROR(VLOOKUP(F485,Biomasser!$A$3:$E$88,5,FALSE),0)","v":0},"",0,null,null,{"$f":"IFERROR(VLOOKUP(F485,Biomasser!$A$3:$M$88,13,FALSE),)","v":0},null,null,null,null,null,{"$f":"IF(F485<>\"\",'CO2 konvertering'!$C$14,)","v":0},null,null,null,null,0]
[null,null,null,"Ja",null,null,null,null,"",null,"",{"$f":"IFERROR(VLOOKUP(F486,Biomasser!$A$3:$E$88,4,FALSE),0)","v":0},null,{"$f":"IFERROR(VLOOKUP(F486,Biomasser!$A$3:$E$88,5,FALSE),0)","v":0},"",0,null,null,{"$f":"IFERROR(VLOOKUP(F486,Biomasser!$A$3:$M$88,13,FALSE),)","v":0},null,null,null,null,null,{"$f":"IF(F486<>\"\",'CO2 konvertering'!$C$14,)","v":0},null,null,null,null,0]
[null,null,null,"Ja",null,null,null,null,"",null,"",{"$f":"IFERROR(VLOOKUP(F487,Biomasser!$A$3:$E$88,4,FALSE),0)","v":0},null,{"$f":"IFERROR(VLOOKUP(F487,Biomasser!$A$3:$E$88,5,FALSE),0)","v":0},"",0,null,null,{"$f":"IFERROR(VLOOKUP(F487,Biomasser!$A$3:$M$88,13,FALSE),)","v":0},null,null,null,null,null,{"$f":"IF(F487<>\"\",'CO2 konvertering'!$C$14,)","v":0},null,null,null,null,0]
[null,null,null,"Ja",null,null,null,null,"",null,"",{"$f":"IFERROR(VLOOKUP(F488,Biomasser!$A$3:$E$88,4,FALSE),0)","v":0},null,{"$f":"IFERROR(VLOOKUP(F488,Biomasser!$A$3:$E$88,5,FALSE),0)","v":0},"",0,null,null,{"$f":"IFERROR(VLOOKUP(F488,Biomasser!$A$3:$M$88,13,FALSE),)","v":0},null,null,null,null,null,{"$f":"IF(F488<>\"\",'CO2 konvertering'!$C$14,)","v":0},null,null,null,null,0]
[null,null,null,"Ja",null,null,null,null,"",null,"",{"$f":"IFERROR(VLOOKUP(F489,Biomasser!$A$3:$E$88,4,FALSE),0)","v":0},null,{"$f":"IFERROR(VLOOKUP(F489,Biomasser!$A$3:$E$88,5,FALSE),0)","v":0},"",0,null,null,{"$f":"IFERROR(VLOOKUP(F489,Biomasser!$A$3:$M$88,13,FALSE),)","v":0},null,null,null,null,null,{"$f":"IF(F489<>\"\",'CO2 konvertering'!$C$14,)","v":0},null,null,null,null,0]
[null,null,null,"Ja",null,null,null,null,"",null,"",{"$f":"IFERROR(VLOOKUP(F490,Biomasser!$A$3:$E$88,4,FALSE),0)","v":0},null,{"$f":"IFERROR(VLOOKUP(F490,Biomasser!$A$3:$E$88,5,FALSE),0)","v":0},"",0,null,null,{"$f":"IFERROR(VLOOKUP(F490,Biomasser!$A$3:$M$88,13,FALSE),)","v":0},null,null,null,null,null,{"$f":"IF(F490<>\"\",'CO2 konvertering'!$C$14,)","v":0},null,null,null,null,0]
[null,null,null,"Ja",null,null,null,null,"",null,"",{"$f":"IFERROR(VLOOKUP(F491,Biomasser!$A$3:$E$88,4,FALSE),0)","v":0},null,{"$f":"IFERROR(VLOOKUP(F491,Biomasser!$A$3:$E$88,5,FALSE),0)","v":0},"",0,null,null,{"$f":"IFERROR(VLOOKUP(F491,Biomasser!$A$3:$M$88,13,FALSE),)","v":0},null,null,null,null,null,{"$f":"IF(F491<>\"\",'CO2 konvertering'!$C$14,)","v":0},null,null,null,null,0]
[null,null,null,"Ja",null,null,null,null,"",null,"",{"$f":"IFERROR(VLOOKUP(F492,Biomasser!$A$3:$E$88,4,FALSE),0)","v":0},null,{"$f":"IFERROR(VLOOKUP(F492,Biomasser!$A$3:$E$88,5,FALSE),0)","v":0},"",0,null,null,{"$f":"IFERROR(VLOOKUP(F492,Biomasser!$A$3:$M$88,13,FALSE),)","v":0},null,null,null,null,null,{"$f":"IF(F492<>\"\",'CO2 konvertering'!$C$14,)","v":0},null,null,null,null,0]
[null,null,null,"Ja",null,null,null,null,"",null,"",{"$f":"IFERROR(VLOOKUP(F493,Biomasser!$A$3:$E$88,4,FALSE),0)","v":0},null,{"$f":"IFERROR(VLOOKUP(F493,Biomasser!$A$3:$E$88,5,FALSE),0)","v":0},"",0,null,null,{"$f":"IFERROR(VLOOKUP(F493,Biomasser!$A$3:$M$88,13,FALSE),)","v":0},null,null,null,null,null,{"$f":"IF(F493<>\"\",'CO2 konvertering'!$C$14,)","v":0},null,null,null,null,0]
[null,null,null,"Ja",null,null,null,null,"",null,"",{"$f":"IFERROR(VLOOKUP(F494,Biomasser!$A$3:$E$88,4,FALSE),0)","v":0},null,{"$f":"IFERROR(VLOOKUP(F494,Biomasser!$A$3:$E$88,5,FALSE),0)","v":0},"",{"$f":"J494*L494*N494*H494","v":0},null,null,{"$f":"IFERROR(VLOOKUP(F494,Biomasser!$A$3:$M$88,13,FALSE),)","v":0},null,null,null,null,null,{"$f":"IF(F494<>\"\",'CO2 konvertering'!$C$14,)","v":0},null,null,null,null,{"$f":"SUM(S494:AC494)","v":0}]
[null,null,null,"Ja",null,null,null,null,{"$f":"IF(AND(F495<>\"\",ISBLANK(H495)),\"Indtast vægt\",\"\")","v":""},null,{"$f":"IF(AND(F495<>\"\",ISBLANK(J495)),\"Indtast tørstof %\",\"\")","v":""},{"$f":"IFERROR(VLOOKUP(F495,Biomasser!$A$3:$E$88,4,FALSE),0)","v":0},null,{"$f":"IFERROR(VLOOKUP(F495,Biomasser!$A$3:$E$88,5,FALSE),0)","v":0},"",0,null,null,{"$f":"IFERROR(VLOOKUP(F495,Biomasser!$A$3:$M$88,13,FALSE),)","v":0},null,null,null,null,null,{"$f":"IF(F495<>\"\",'CO2 konvertering'!$C$14,)","v":0},null,null,null,null,0]
[null,null,null,"Ja",null,null,null,null,"",null,"",{"$f":"IFERROR(VLOOKUP(F496,Biomasser!$A$3:$E$88,4,FALSE),0)","v":0},null,{"$f":"IFERROR(VLOOKUP(F496,Biomasser!$A$3:$E$88,5,FALSE),0)","v":0},"",0,null,null,{"$f":"IFERROR(VLOOKUP(F496,Biomasser!$A$3:$M$88,13,FALSE),)","v":0},null,null,null,null,null,{"$f":"IF(F496<>\"\",'CO2 konvertering'!$C$14,)","v":0},null,null,null,null,0]
[null,null,null,"Ja",null,null,null,null,"",null,"",{"$f":"IFERROR(VLOOKUP(F497,Biomasser!$A$3:$E$88,4,FALSE),0)","v":0},null,{"$f":"IFERROR(VLOOKUP(F497,Biomasser!$A$3:$E$88,5,FALSE),0)","v":0},"",0,null,null,{"$f":"IFERROR(VLOOKUP(F497,Biomasser!$A$3:$M$88,13,FALSE),)","v":0},null,null,null,null,null,{"$f":"IF(F497<>\"\",'CO2 konvertering'!$C$14,)","v":0},null,null,null,null,0]
[null,null,null,"Ja",null,null,null,null,"",null,"",{"$f":"IFERROR(VLOOKUP(F498,Biomasser!$A$3:$E$88,4,FALSE),0)","v":0},null,{"$f":"IFERROR(VLOOKUP(F498,Biomasser!$A$3:$E$88,5,FALSE),0)","v":0},{"$f":"IF(AND(F498<>\"\",(N498=0)),\"Opdater biomasseark\",\"\")","v":""},0,null,null,{"$f":"IFERROR(VLOOKUP(F498,Biomasser!$A$3:$M$88,13,FALSE),)","v":0},null,null,null,null,null,{"$f":"IF(F498<>\"\",'CO2 konvertering'!$C$14,)","v":0},null,null,null,null,0]
[null,null,null,"Ja",null,null,null,null,"",null,"",{"$f":"IFERROR(VLOOKUP(F499,Biomasser!$A$3:$E$88,4,FALSE),0)","v":0},null,{"$f":"IFERROR(VLOOKUP(F499,Biomasser!$A$3:$E$88,5,FALSE),0)","v":0},"",0,null,null,{"$f":"IFERROR(VLOOKUP(F499,Biomasser!$A$3:$M$88,13,FALSE),)","v":0},null,null,null,null,null,{"$f":"IF(F499<>\"\",'CO2 konvertering'!$C$14,)","v":0},null,null,null,null,0]
[null,null,null,"Ja",null,null,null,null,"",null,"",{"$f":"IFERROR(VLOOKUP(F500,Biomasser!$A$3:$E$88,4,FALSE),0)","v":0},null,{"$f":"IFERROR(VLOOKUP(F500,Biomasser!$A$3:$E$88,5,FALSE),0)","v":0},"",0,null,null,{"$f":"IFERROR(VLOOKUP(F500,Biomasser!$A$3:$M$88,13,FALSE),)","v":0},null,null,null,null,null,{"$f":"IF(F500<>\"\",'CO2 konvertering'!$C$14,)","v":0},null,null,null,null,0]
[null,null,null,"Ja",null,null,null,null,"",null,"",{"$f":"IFERROR(VLOOKUP(F501,Biomasser!$A$3:$E$88,4,FALSE),0)","v":0},null,{"$f":"IFERROR(VLOOKUP(F501,Biomasser!$A$3:$E$88,5,FALSE),0)","v":0},"",0,null,null,{"$f":"IFERROR(VLOOKUP(F501,Biomasser!$A$3:$M$88,13,FALSE),)","v":0},null,null,null,null,null,{"$f":"IF(F501<>\"\",'CO2 konvertering'!$C$14,)","v":0},null,null,null,null,0]
[null,null,null,"Ja",null,null,null,null,"",null,"",{"$f":"IFERROR(VLOOKUP(F502,Biomasser!$A$3:$E$88,4,FALSE),0)","v":0},null,{"$f":"IFERROR(VLOOKUP(F502,Biomasser!$A$3:$E$88,5,FALSE),0)","v":0},"",0,null,null,{"$f":"IFERROR(VLOOKUP(F502,Biomasser!$A$3:$M$88,13,FALSE),)","v":0},null,null,null,null,null,{"$f":"IF(F502<>\"\",'CO2 konvertering'!$C$14,)","v":0},null,null,null,null,0]
[null,null,null,"Ja",null,null,null,null,"",null,"",{"$f":"IFERROR(VLOOKUP(F503,Biomasser!$A$3:$E$88,4,FALSE),0)","v":0},null,{"$f":"IFERROR(VLOOKUP(F503,Biomasser!$A$3:$E$88,5,FALSE),0)","v":0},"",0,null,null,{"$f":"IFERROR(VLOOKUP(F503,Biomasser!$A$3:$M$88,13,FALSE),)","v":0},null,null,null,null,null,{"$f":"IF(F503<>\"\",'CO2 konvertering'!$C$14,)","v":0},null,null,null,null,0]
[null,null,null,"Ja",null,null,null,null,"",null,"",{"$f":"IFERROR(VLOOKUP(F504,Biomasser!$A$3:$E$88,4,FALSE),0)","v":0},null,{"$f":"IFERROR(VLOOKUP(F504,Biomasser!$A$3:$E$88,5,FALSE),0)","v":0},"",0,null,null,{"$f":"IFERROR(VLOOKUP(F504,Biomasser!$A$3:$M$88,13,FALSE),)","v":0},null,null,null,null,null,{"$f":"IF(F504<>\"\",'CO2 konvertering'!$C$14,)","v":0},null,null,null,null,0]
[null,null,null,"Ja",null,null,null,null,"",null,"",{"$f":"IFERROR(VLOOKUP(F505,Biomasser!$A$3:$E$88,4,FALSE),0)","v":0},null,{"$f":"IFERROR(VLOOKUP(F505,Biomasser!$A$3:$E$88,5,FALSE),0)","v":0},"",0,null,null,{"$f":"IFERROR(VLOOKUP(F505,Biomasser!$A$3:$M$88,13,FALSE),)","v":0},null,null,null,null,null,{"$f":"IF(F505<>\"\",'CO2 konvertering'!$C$14,)","v":0},null,null,null,null,0]
[null,null,null,"Ja",null,null,null,null,"",null,"",{"$f":"IFERROR(VLOOKUP(F506,Biomasser!$A$3:$E$88,4,FALSE),0)","v":0},null,{"$f":"IFERROR(VLOOKUP(F506,Biomasser!$A$3:$E$88,5,FALSE),0)","v":0},"",0,null,null,{"$f":"IFERROR(VLOOKUP(F506,Biomasser!$A$3:$M$88,13,FALSE),)","v":0},null,null,null,null,null,{"$f":"IF(F506<>\"\",'CO2 konvertering'!$C$14,)","v":0},null,null,null,null,0]
[null,null,null,"Ja",null,null,null,null,"",null,"",{"$f":"IFERROR(VLOOKUP(F507,Biomasser!$A$3:$E$88,4,FALSE),0)","v":0},null,{"$f":"IFERROR(VLOOKUP(F507,Biomasser!$A$3:$E$88,5,FALSE),0)","v":0},"",0,null,null,{"$f":"IFERROR(VLOOKUP(F507,Biomasser!$A$3:$M$88,13,FALSE),)","v":0},null,null,null,null,null,{"$f":"IF(F507<>\"\",'CO2 konvertering'!$C$14,)","v":0},null,null,null,null,0]
[null,null,null,"Ja",null,null,null,null,"",null,"",{"$f":"IFERROR(VLOOKUP(F508,Biomasser!$A$3:$E$88,4,FALSE),0)","v":0},null,{"$f":"IFERROR(VLOOKUP(F508,Biomasser!$A$3:$E$88,5,FALSE),0)","v":0},"",0,null,null,{"$f":"IFERROR(VLOOKUP(F508,Biomasser!$A$3:$M$88,13,FALSE),)","v":0},null,null,null,null,null,{"$f":"IF(F508<>\"\",'CO2 konvertering'!$C$14,)","v":0},null,null,null,null,0]
[null,null,null,"Ja",null,null,null,null,"",null,"",{"$f":"IFERROR(VLOOKUP(F509,Biomasser!$A$3:$E$88,4,FALSE),0)","v":0},null,{"$f":"IFERROR(VLOOKUP(F509,Biomasser!$A$3:$E$88,5,FALSE),0)","v":0},"",0,null,null,{"$f":"IFERROR(VLOOKUP(F509,Biomasser!$A$3:$M$88,13,FALSE),)","v":0},null,null,null,null,null,{"$f":"IF(F509<>\"\",'CO2 konvertering'!$C$14,)","v":0},null,null,null,null,0]
[null,null,null,"Ja",null,null,null,null,"",null,"",{"$f":"IFERROR(VLOOKUP(F510,Biomasser!$A$3:$E$88,4,FALSE),0)","v":0},null,{"$f":"IFERROR(VLOOKUP(F510,Biomasser!$A$3:$E$88,5,FALSE),0)","v":0},"",0,null,null,{"$f":"IFERROR(VLOOKUP(F510,Biomasser!$A$3:$M$88,13,FALSE),)","v":0},null,null,null,null,null,{"$f":"IF(F510<>\"\",'CO2 konvertering'!$C$14,)","v":0},null,null,null,null,0]
[null,null,null,"Ja",null,null,null,null,"",null,"",{"$f":"IFERROR(VLOOKUP(F511,Biomasser!$A$3:$E$88,4,FALSE),0)","v":0},null,{"$f":"IFERROR(VLOOKUP(F511,Biomasser!$A$3:$E$88,5,FALSE),0)","v":0},"",0,null,null,{"$f":"IFERROR(VLOOKUP(F511,Biomasser!$A$3:$M$88,13,FALSE),)","v":0},null,null,null,null,null,{"$f":"IF(F511<>\"\",'CO2 konvertering'!$C$14,)","v":0},null,null,null,null,0]
[null,null,null,"Ja",null,null,null,null,"",null,"",{"$f":"IFERROR(VLOOKUP(F512,Biomasser!$A$3:$E$88,4,FALSE),0)","v":0},null,{"$f":"IFERROR(VLOOKUP(F512,Biomasser!$A$3:$E$88,5,FALSE),0)","v":0},"",0,null,null,{"$f":"IFERROR(VLOOKUP(F512,Biomasser!$A$3:$M$88,13,FALSE),)","v":0},null,null,null,null,null,{"$f":"IF(F512<>\"\",'CO2 konvertering'!$C$14,)","v":0},null,null,null,null,0]
[null,null,null,"Ja",null,null,null,null,"",null,"",{"$f":"IFERROR(VLOOKUP(F513,Biomasser!$A$3:$E$88,4,FALSE),0)","v":0},null,{"$f":"IFERROR(VLOOKUP(F513,Biomasser!$A$3:$E$88,5,FALSE),0)","v":0},"",0,null,null,{"$f":"IFERROR(VLOOKUP(F513,Biomasser!$A$3:$M$88,13,FALSE),)","v":0},null,null,null,null,null,{"$f":"IF(F513<>\"\",'CO2 konvertering'!$C$14,)","v":0},null,null,null,null,0]
[null,null,null,"Ja",null,null,null,null,"",null,"",{"$f":"IFERROR(VLOOKUP(F514,Biomasser!$A$3:$E$88,4,FALSE),0)","v":0},null,{"$f":"IFERROR(VLOOKUP(F514,Biomasser!$A$3:$E$88,5,FALSE),0)","v":0},"",0,null,null,{"$f":"IFERROR(VLOOKUP(F514,Biomasser!$A$3:$M$88,13,FALSE),)","v":0},null,null,null,null,null,{"$f":"IF(F514<>\"\",'CO2 konvertering'!$C$14,)","v":0},null,null,null,null,0]
[null,null,null,"Ja",null,null,null,null,"",null,"",{"$f":"IFERROR(VLOOKUP(F515,Biomasser!$A$3:$E$88,4,FALSE),0)","v":0},null,{"$f":"IFERROR(VLOOKUP(F515,Biomasser!$A$3:$E$88,5,FALSE),0)","v":0},"",0,null,null,{"$f":"IFERROR(VLOOKUP(F515,Biomasser!$A$3:$M$88,13,FALSE),)","v":0},null,null,null,null,null,{"$f":"IF(F515<>\"\",'CO2 konvertering'!$C$14,)","v":0},null,null,null,null,0]
[null,null,null,"Ja",null,null,null,null,"",null,"",{"$f":"IFERROR(VLOOKUP(F516,Biomasser!$A$3:$E$88,4,FALSE),0)","v":0},null,{"$f":"IFERROR(VLOOKUP(F516,Biomasser!$A$3:$E$88,5,FALSE),0)","v":0},"",0,null,null,{"$f":"IFERROR(VLOOKUP(F516,Biomasser!$A$3:$M$88,13,FALSE),)","v":0},null,null,null,null,null,{"$f":"IF(F516<>\"\",'CO2 konvertering'!$C$14,)","v":0},null,null,null,null,0]
[null,null,null,"Ja",null,null,null,null,"",null,"",{"$f":"IFERROR(VLOOKUP(F517,Biomasser!$A$3:$E$88,4,FALSE),0)","v":0},null,{"$f":"IFERROR(VLOOKUP(F517,Biomasser!$A$3:$E$88,5,FALSE),0)","v":0},"",0,null,null,{"$f":"IFERROR(VLOOKUP(F517,Biomasser!$A$3:$M$88,13,FALSE),)","v":0},null,null,null,null,null,{"$f":"IF(F517<>\"\",'CO2 konvertering'!$C$14,)","v":0},null,null,null,null,0]
[null,null,null,"Ja",null,null,null,null,"",null,"",{"$f":"IFERROR(VLOOKUP(F518,Biomasser!$A$3:$E$88,4,FALSE),0)","v":0},null,{"$f":"IFERROR(VLOOKUP(F518,Biomasser!$A$3:$E$88,5,FALSE),0)","v":0},"",0,null,null,{"$f":"IFERROR(VLOOKUP(F518,Biomasser!$A$3:$M$88,13,FALSE),)","v":0},null,null,null,null,null,{"$f":"IF(F518<>\"\",'CO2 konvertering'!$C$14,)","v":0},null,null,null,null,0]
[null,null,null,"Ja",null,null,null,null,"",null,"",{"$f":"IFERROR(VLOOKUP(F519,Biomasser!$A$3:$E$88,4,FALSE),0)","v":0},null,{"$f":"IFERROR(VLOOKUP(F519,Biomasser!$A$3:$E$88,5,FALSE),0)","v":0},"",0,null,null,{"$f":"IFERROR(VLOOKUP(F519,Biomasser!$A$3:$M$88,13,FALSE),)","v":0},null,null,null,null,null,{"$f":"IF(F519<>\"\",'CO2 konvertering'!$C$14,)","v":0},null,null,null,null,0]
[null,null,null,"Ja",null,null,null,null,"",null,"",{"$f":"IFERROR(VLOOKUP(F520,Biomasser!$A$3:$E$88,4,FALSE),0)","v":0},null,{"$f":"IFERROR(VLOOKUP(F520,Biomasser!$A$3:$E$88,5,FALSE),0)","v":0},"",0,null,null,{"$f":"IFERROR(VLOOKUP(F520,Biomasser!$A$3:$M$88,13,FALSE),)","v":0},null,null,null,null,null,{"$f":"IF(F520<>\"\",'CO2 konvertering'!$C$14,)","v":0},null,null,null,null,0]
[null,null,null,"Ja",null,null,null,null,"",null,"",{"$f":"IFERROR(VLOOKUP(F521,Biomasser!$A$3:$E$88,4,FALSE),0)","v":0},null,{"$f":"IFERROR(VLOOKUP(F521,Biomasser!$A$3:$E$88,5,FALSE),0)","v":0},"",0,null,null,{"$f":"IFERROR(VLOOKUP(F521,Biomasser!$A$3:$M$88,13,FALSE),)","v":0},null,null,null,null,null,{"$f":"IF(F521<>\"\",'CO2 konvertering'!$C$14,)","v":0},null,null,null,null,0]
[null,null,null,"Ja",null,null,null,null,"",null,"",{"$f":"IFERROR(VLOOKUP(F522,Biomasser!$A$3:$E$88,4,FALSE),0)","v":0},null,{"$f":"IFERROR(VLOOKUP(F522,Biomasser!$A$3:$E$88,5,FALSE),0)","v":0},"",0,null,null,{"$f":"IFERROR(VLOOKUP(F522,Biomasser!$A$3:$M$88,13,FALSE),)","v":0},null,null,null,null,null,{"$f":"IF(F522<>\"\",'CO2 konvertering'!$C$14,)","v":0},null,null,null,null,0]
[null,null,null,"Ja",null,null,null,null,"",null,"",{"$f":"IFERROR(VLOOKUP(F523,Biomasser!$A$3:$E$88,4,FALSE),0)","v":0},null,{"$f":"IFERROR(VLOOKUP(F523,Biomasser!$A$3:$E$88,5,FALSE),0)","v":0},"",0,null,null,{"$f":"IFERROR(VLOOKUP(F523,Biomasser!$A$3:$M$88,13,FALSE),)","v":0},null,null,null,null,null,{"$f":"IF(F523<>\"\",'CO2 konvertering'!$C$14,)","v":0},null,null,null,null,0]
[null,null,null,"Ja",null,null,null,null,"",null,"",{"$f":"IFERROR(VLOOKUP(F524,Biomasser!$A$3:$E$88,4,FALSE),0)","v":0},null,{"$f":"IFERROR(VLOOKUP(F524,Biomasser!$A$3:$E$88,5,FALSE),0)","v":0},"",0,null,null,{"$f":"IFERROR(VLOOKUP(F524,Biomasser!$A$3:$M$88,13,FALSE),)","v":0},null,null,null,null,null,{"$f":"IF(F524<>\"\",'CO2 konvertering'!$C$14,)","v":0},null,null,null,null,0]
[null,null,null,"Ja",null,null,null,null,"",null,"",{"$f":"IFERROR(VLOOKUP(F525,Biomasser!$A$3:$E$88,4,FALSE),0)","v":0},null,{"$f":"IFERROR(VLOOKUP(F525,Biomasser!$A$3:$E$88,5,FALSE),0)","v":0},"",0,null,null,{"$f":"IFERROR(VLOOKUP(F525,Biomasser!$A$3:$M$88,13,FALSE),)","v":0},null,null,null,null,null,{"$f":"IF(F525<>\"\",'CO2 konvertering'!$C$14,)","v":0},null,null,null,null,0]
[null,null,null,"Ja",null,null,null,null,"",null,"",{"$f":"IFERROR(VLOOKUP(F526,Biomasser!$A$3:$E$88,4,FALSE),0)","v":0},null,{"$f":"IFERROR(VLOOKUP(F526,Biomasser!$A$3:$E$88,5,FALSE),0)","v":0},"",0,null,null,{"$f":"IFERROR(VLOOKUP(F526,Biomasser!$A$3:$M$88,13,FALSE),)","v":0},null,null,null,null,null,{"$f":"IF(F526<>\"\",'CO2 konvertering'!$C$14,)","v":0},null,null,null,null,{"$f":"SUM(S526:AC526)","v":0}]
[null,null,null,"Ja",null,null,null,null,"",null,"",{"$f":"IFERROR(VLOOKUP(F527,Biomasser!$A$3:$E$88,4,FALSE),0)","v":0},null,{"$f":"IFERROR(VLOOKUP(F527,Biomasser!$A$3:$E$88,5,FALSE),0)","v":0},"",0,null,null,{"$f":"IFERROR(VLOOKUP(F527,Biomasser!$A$3:$M$88,13,FALSE),)","v":0},null,null,null,null,null,{"$f":"IF(F527<>\"\",'CO2 konvertering'!$C$14,)","v":0},null,null,null,null,0]
[null,null,null,"Ja",null,null,null,null,"",null,"",{"$f":"IFERROR(VLOOKUP(F528,Biomasser!$A$3:$E$88,4,FALSE),0)","v":0},null,{"$f":"IFERROR(VLOOKUP(F528,Biomasser!$A$3:$E$88,5,FALSE),0)","v":0},"",0,null,null,{"$f":"IFERROR(VLOOKUP(F528,Biomasser!$A$3:$M$88,13,FALSE),)","v":0},null,null,null,null,null,{"$f":"IF(F528<>\"\",'CO2 konvertering'!$C$14,)","v":0},null,null,null,null,0]
[null,null,null,"Ja",null,null,null,null,"",null,"",{"$f":"IFERROR(VLOOKUP(F529,Biomasser!$A$3:$E$88,4,FALSE),0)","v":0},null,{"$f":"IFERROR(VLOOKUP(F529,Biomasser!$A$3:$E$88,5,FALSE),0)","v":0},"",0,null,null,{"$f":"IFERROR(VLOOKUP(F529,Biomasser!$A$3:$M$88,13,FALSE),)","v":0},null,null,null,null,null,{"$f":"IF(F529<>\"\",'CO2 konvertering'!$C$14,)","v":0},null,null,null,null,0]
[null,null,null,"Ja",null,null,null,null,"",null,"",{"$f":"IFERROR(VLOOKUP(F530,Biomasser!$A$3:$E$88,4,FALSE),0)","v":0},null,{"$f":"IFERROR(VLOOKUP(F530,Biomasser!$A$3:$E$88,5,FALSE),0)","v":0},"",0,null,null,{"$f":"IFERROR(VLOOKUP(F530,Biomasser!$A$3:$M$88,13,FALSE),)","v":0},null,null,null,null,null,{"$f":"IF(F530<>\"\",'CO2 konvertering'!$C$14,)","v":0},null,null,null,null,0]
[null,"Dato:",null,null,null,"Mængde biomasse (Ton)",null,"Gasproduktion"]
["Gas","6. januar",2015,null,null,{"$f":"SUM(H535:H635)","v":0},null,null,"m3 CH4"]
[null,"Leverandør",null,"Certificeret",null,"Råvarer input","          Mængder                 \n      (Ton vådvægt)            ",null,null,"Tørstof\n%",null,"Omsættelig tørstof\n%",null,"Gaspotentiale\nm³ CH4/ton VS",null,"Teoretisk\ngasproduktion\nm³ CH4"]
[]
[{"$f":"B532&C532","v":"6. januar2015"},null,null,"Ja",null,null,null,null,{"$f":"IF(AND(F535<>\"\",ISBLANK(H535)),\"Indtast vægt\",\"\")","v":""},null,{"$f":"IF(AND(F535<>\"\",ISBLANK(J535)),\"Indtast tørstof %\",\"\")","v":""},{"$f":"IFERROR(VLOOKUP(F535,Biomasser!$A$3:$E$88,4,FALSE),)","v":0},null,{"$f":"IFERROR(VLOOKUP(F535,Biomasser!$A$3:$E$88,5,FALSE),0)","v":0},{"$f":"IF(AND(F535<>\"\",(N535=0)),\"Opdater biomasseark\",\"\")","v":""},{"$f":"J535*L535*N535*H535","v":0},null,null,{"$f":"IFERROR(VLOOKUP(F535,Biomasser!$A$3:$M$88,13,FALSE),)","v":0},null,null,null,null,null,{"$f":"IF(F535<>\"\",'CO2 konvertering'!$C$14,)","v":0},null,null,null,null,{"$f":"SUM(S535:AC535)","v":0}]
[null,null,null,"Ja",null,null,null,null,{"$f":"IF(AND(F536<>\"\",ISBLANK(H536)),\"Indtast vægt\",\"\")","v":""},null,{"$f":"IF(AND(F536<>\"\",ISBLANK(J536)),\"Indtast tørstof %\",\"\")","v":""},{"$f":"IFERROR(VLOOKUP(F536,Biomasser!$A$3:$E$88,4,FALSE),0)","v":0},null,{"$f":"IFERROR(VLOOKUP(F536,Biomasser!$A$3:$E$88,5,FALSE),0)","v":0},"",0,null,null,{"$f":"IFERROR(VLOOKUP(F536,Biomasser!$A$3:$M$88,13,FALSE),)","v":0},null,null,null,null,null,{"$f":"IF(F536<>\"\",'CO2 konvertering'!$C$14,)","v":0},null,null,null,null,0]
[null,null,null,"Ja",null,null,null,null,"",null,"",{"$f":"IFERROR(VLOOKUP(F537,Biomasser!$A$3:$E$88,4,FALSE),0)","v":0},null,{"$f":"IFERROR(VLOOKUP(F537,Biomasser!$A$3:$E$88,5,FALSE),0)","v":0},"",0,null,null,{"$f":"IFERROR(VLOOKUP(F537,Biomasser!$A$3:$M$88,13,FALSE),)","v":0},null,null,null,null,null,{"$f":"IF(F537<>\"\",'CO2 konvertering'!$C$14,)","v":0},null,null,null,null,0]
[null,null,null,"Ja",null,null,null,null,"",null,"",{"$f":"IFERROR(VLOOKUP(F538,Biomasser!$A$3:$E$88,4,FALSE),0)","v":0},null,{"$f":"IFERROR(VLOOKUP(F538,Biomasser!$A$3:$E$88,5,FALSE),0)","v":0},{"$f":"IF(AND(F538<>\"\",(N538=0)),\"Opdater biomasseark\",\"\")","v":""},0,null,null,{"$f":"IFERROR(VLOOKUP(F538,Biomasser!$A$3:$M$88,13,FALSE),)","v":0},null,null,null,null,null,{"$f":"IF(F538<>\"\",'CO2 konvertering'!$C$14,)","v":0},null,null,null,null,0]
[null,null,null,"Ja",null,null,null,null,"",null,"",{"$f":"IFERROR(VLOOKUP(F539,Biomasser!$A$3:$E$88,4,FALSE),0)","v":0},null,{"$f":"IFERROR(VLOOKUP(F539,Biomasser!$A$3:$E$88,5,FALSE),0)","v":0},{"$f":"IF(AND(F539<>\"\",(N539=0)),\"Opdater biomasseark\",\"\")","v":""},0,null,null,{"$f":"IFERROR(VLOOKUP(F539,Biomasser!$A$3:$M$88,13,FALSE),)","v":0},null,null,null,null,null,{"$f":"IF(F539<>\"\",'CO2 konvertering'!$C$14,)","v":0},null,null,null,null,0]
[null,null,null,"Ja",null,null,null,null,"",null,"",{"$f":"IFERROR(VLOOKUP(F540,Biomasser!$A$3:$E$88,4,FALSE),0)","v":0},null,{"$f":"IFERROR(VLOOKUP(F540,Biomasser!$A$3:$E$88,5,FALSE),0)","v":0},"",0,null,null,{"$f":"IFERROR(VLOOKUP(F540,Biomasser!$A$3:$M$88,13,FALSE),)","v":0},null,null,null,null,null,{"$f":"IF(F540<>\"\",'CO2 konvertering'!$C$14,)","v":0},null,null,null,null,0]
[null,null,null,"Ja",null,null,null,null,"",null,"",{"$f":"IFERROR(VLOOKUP(F541,Biomasser!$A$3:$E$88,4,FALSE),0)","v":0},null,{"$f":"IFERROR(VLOOKUP(F541,Biomasser!$A$3:$E$88,5,FALSE),0)","v":0},"",0,null,null,{"$f":"IFERROR(VLOOKUP(F541,Biomasser!$A$3:$M$88,13,FALSE),)","v":0},null,null,null,null,null,{"$f":"IF(F541<>\"\",'CO2 konvertering'!$C$14,)","v":0},null,null,null,null,0]
[null,null,null,"Ja",null,null,null,null,"",null,"",{"$f":"IFERROR(VLOOKUP(F542,Biomasser!$A$3:$E$88,4,FALSE),0)","v":0},null,{"$f":"IFERROR(VLOOKUP(F542,Biomasser!$A$3:$E$88,5,FALSE),0)","v":0},"",0,null,null,{"$f":"IFERROR(VLOOKUP(F542,Biomasser!$A$3:$M$88,13,FALSE),)","v":0},null,null,null,null,null,{"$f":"IF(F542<>\"\",'CO2 konvertering'!$C$14,)","v":0},null,null,null,null,0]
[null,null,null,"Ja",null,null,null,null,"",null,"",{"$f":"IFERROR(VLOOKUP(F543,Biomasser!$A$3:$E$88,4,FALSE),0)","v":0},null,{"$f":"IFERROR(VLOOKUP(F543,Biomasser!$A$3:$E$88,5,FALSE),0)","v":0},"",0,null,null,{"$f":"IFERROR(VLOOKUP(F543,Biomasser!$A$3:$M$88,13,FALSE),)","v":0},null,null,null,null,null,{"$f":"IF(F543<>\"\",'CO2 konvertering'!$C$14,)","v":0},null,null,null,null,0]
[null,null,null,"Ja",null,null,null,null,"",null,"",{"$f":"IFERROR(VLOOKUP(F544,Biomasser!$A$3:$E$88,4,FALSE),0)","v":0},null,{"$f":"IFERROR(VLOOKUP(F544,Biomasser!$A$3:$E$88,5,FALSE),0)","v":0},"",0,null,null,{"$f":"IFERROR(VLOOKUP(F544,Biomasser!$A$3:$M$88,13,FALSE),)","v":0},null,null,null,null,null,{"$f":"IF(F544<>\"\",'CO2 konvertering'!$C$14,)","v":0},null,null,null,null,0]
[null,null,null,"Ja",null,null,null,null,"",null,"",{"$f":"IFERROR(VLOOKUP(F545,Biomasser!$A$3:$E$88,4,FALSE),0)","v":0},null,{"$f":"IFERROR(VLOOKUP(F545,Biomasser!$A$3:$E$88,5,FALSE),0)","v":0},"",0,null,null,{"$f":"IFERROR(VLOOKUP(F545,Biomasser!$A$3:$M$88,13,FALSE),)","v":0},null,null,null,null,null,{"$f":"IF(F545<>\"\",'CO2 konvertering'!$C$14,)","v":0},null,null,null,null,0]
[null,null,null,"Ja",null,null,null,null,"",null,"",{"$f":"IFERROR(VLOOKUP(F546,Biomasser!$A$3:$E$88,4,FALSE),0)","v":0},null,{"$f":"IFERROR(VLOOKUP(F546,Biomasser!$A$3:$E$88,5,FALSE),0)","v":0},"",0,null,null,{"$f":"IFERROR(VLOOKUP(F546,Biomasser!$A$3:$M$88,13,FALSE),)","v":0},null,null,null,null,null,{"$f":"IF(F546<>\"\",'CO2 konvertering'!$C$14,)","v":0},null,null,null,null,0]
[null,null,null,"Ja",null,null,null,null,"",null,"",{"$f":"IFERROR(VLOOKUP(F547,Biomasser!$A$3:$E$88,4,FALSE),0)","v":0},null,{"$f":"IFERROR(VLOOKUP(F547,Biomasser!$A$3:$E$88,5,FALSE),0)","v":0},"",0,null,null,{"$f":"IFERROR(VLOOKUP(F547,Biomasser!$A$3:$M$88,13,FALSE),)","v":0},null,null,null,null,null,{"$f":"IF(F547<>\"\",'CO2 konvertering'!$C$14,)","v":0},null,null,null,null,0]
[null,null,null,"Ja",null,null,null,null,"",null,"",{"$f":"IFERROR(VLOOKUP(F548,Biomasser!$A$3:$E$88,4,FALSE),0)","v":0},null,{"$f":"IFERROR(VLOOKUP(F548,Biomasser!$A$3:$E$88,5,FALSE),0)","v":0},"",0,null,null,{"$f":"IFERROR(VLOOKUP(F548,Biomasser!$A$3:$M$88,13,FALSE),)","v":0},null,null,null,null,null,{"$f":"IF(F548<>\"\",'CO2 konvertering'!$C$14,)","v":0},null,null,null,null,0]
[null,null,null,"Ja",null,null,null,null,"",null,"",{"$f":"IFERROR(VLOOKUP(F549,Biomasser!$A$3:$E$88,4,FALSE),0)","v":0},null,{"$f":"IFERROR(VLOOKUP(F549,Biomasser!$A$3:$E$88,5,FALSE),0)","v":0},"",0,null,null,{"$f":"IFERROR(VLOOKUP(F549,Biomasser!$A$3:$M$88,13,FALSE),)","v":0},null,null,null,null,null,{"$f":"IF(F549<>\"\",'CO2 konvertering'!$C$14,)","v":0},null,null,null,null,0]
[null,null,null,"Ja",null,null,null,null,"",null,"",{"$f":"IFERROR(VLOOKUP(F550,Biomasser!$A$3:$E$88,4,FALSE),0)","v":0},null,{"$f":"IFERROR(VLOOKUP(F550,Biomasser!$A$3:$E$88,5,FALSE),0)","v":0},"",0,null,null,{"$f":"IFERROR(VLOOKUP(F550,Biomasser!$A$3:$M$88,13,FALSE),)","v":0},null,null,null,null,null,{"$f":"IF(F550<>\"\",'CO2 konvertering'!$C$14,)","v":0},null,null,null,null,0]
[null,null,null,"Ja",null,null,null,null,"",null,"",{"$f":"IFERROR(VLOOKUP(F551,Biomasser!$A$3:$E$88,4,FALSE),0)","v":0},null,{"$f":"IFERROR(VLOOKUP(F551,Biomasser!$A$3:$E$88,5,FALSE),0)","v":0},"",0,null,null,{"$f":"IFERROR(VLOOKUP(F551,Biomasser!$A$3:$M$88,13,FALSE),)","v":0},null,null,null,null,null,{"$f":"IF(F551<>\"\",'CO2 konvertering'!$C$14,)","v":0},null,null,null,null,0]
[null,null,null,"Ja",null,null,null,null,"",null,"",{"$f":"IFERROR(VLOOKUP(F552,Biomasser!$A$3:$E$88,4,FALSE),0)","v":0},null,{"$f":"IFERROR(VLOOKUP(F552,Biomasser!$A$3:$E$88,5,FALSE),0)","v":0},"",0,null,null,{"$f":"IFERROR(VLOOKUP(F552,Biomasser!$A$3:$M$88,13,FALSE),)","v":0},null,null,null,null,null,{"$f":"IF(F552<>\"\",'CO2 konvertering'!$C$14,)","v":0},null,null,null,null,0]
[null,null,null,"Ja",null,null,null,null,"",null,"",{"$f":"IFERROR(VLOOKUP(F553,Biomasser!$A$3:$E$88,4,FALSE),0)","v":0},null,{"$f":"IFERROR(VLOOKUP(F553,Biomasser!$A$3:$E$88,5,FALSE),0)","v":0},"",0,null,null,{"$f":"IFERROR(VLOOKUP(F553,Biomasser!$A$3:$M$88,13,FALSE),)","v":0},null,null,null,null,null,{"$f":"IF(F553<>\"\",'CO2 konvertering'!$C$14,)","v":0},null,null,null,null,0]
[null,null,null,"Ja",null,null,null,null,"",null,"",{"$f":"IFERROR(VLOOKUP(F554,Biomasser!$A$3:$E$88,4,FALSE),0)","v":0},null,{"$f":"IFERROR(VLOOKUP(F554,Biomasser!$A$3:$E$88,5,FALSE),0)","v":0},"",0,null,null,{"$f":"IFERROR(VLOOKUP(F554,Biomasser!$A$3:$M$88,13,FALSE),)","v":0},null,null,null,null,null,{"$f":"IF(F554<>\"\",'CO2 konvertering'!$C$14,)","v":0},null,null,null,null,0]
[null,null,null,"Ja",null,null,null,null,"",null,"",{"$f":"IFERROR(VLOOKUP(F555,Biomasser!$A$3:$E$88,4,FALSE),0)","v":0},null,{"$f":"IFERROR(VLOOKUP(F555,Biomasser!$A$3:$E$88,5,FALSE),0)","v":0},"",0,null,null,{"$f":"IFERROR(VLOOKUP(F555,Biomasser!$A$3:$M$88,13,FALSE),)","v":0},null,null,null,null,null,{"$f":"IF(F555<>\"\",'CO2 konvertering'!$C$14,)","v":0},null,null,null,null,0]
[null,null,null,"Ja",null,null,null,null,"",null,"",{"$f":"IFERROR(VLOOKUP(F556,Biomasser!$A$3:$E$88,4,FALSE),0)","v":0},null,{"$f":"IFERROR(VLOOKUP(F556,Biomasser!$A$3:$E$88,5,FALSE),0)","v":0},"",0,null,null,{"$f":"IFERROR(VLOOKUP(F556,Biomasser!$A$3:$M$88,13,FALSE),)","v":0},null,null,null,null,null,{"$f":"IF(F556<>\"\",'CO2 konvertering'!$C$14,)","v":0},null,null,null,null,0]
[null,null,null,"Ja",null,null,null,null,"",null,"",{"$f":"IFERROR(VLOOKUP(F557,Biomasser!$A$3:$E$88,4,FALSE),0)","v":0},null,{"$f":"IFERROR(VLOOKUP(F557,Biomasser!$A$3:$E$88,5,FALSE),0)","v":0},"",0,null,null,{"$f":"IFERROR(VLOOKUP(F557,Biomasser!$A$3:$M$88,13,FALSE),)","v":0},null,null,null,null,null,{"$f":"IF(F557<>\"\",'CO2 konvertering'!$C$14,)","v":0},null,null,null,null,0]
[null,null,null,"Ja",null,null,null,null,"",null,"",{"$f":"IFERROR(VLOOKUP(F558,Biomasser!$A$3:$E$88,4,FALSE),0)","v":0},null,{"$f":"IFERROR(VLOOKUP(F558,Biomasser!$A$3:$E$88,5,FALSE),0)","v":0},"",0,null,null,{"$f":"IFERROR(VLOOKUP(F558,Biomasser!$A$3:$M$88,13,FALSE),)","v":0},null,null,null,null,null,{"$f":"IF(F558<>\"\",'CO2 konvertering'!$C$14,)","v":0},null,null,null,null,0]
[null,null,null,"Ja",null,null,null,null,"",null,"",{"$f":"IFERROR(VLOOKUP(F559,Biomasser!$A$3:$E$88,4,FALSE),0)","v":0},null,{"$f":"IFERROR(VLOOKUP(F559,Biomasser!$A$3:$E$88,5,FALSE),0)","v":0},"",0,null,null,{"$f":"IFERROR(VLOOKUP(F559,Biomasser!$A$3:$M$88,13,FALSE),)","v":0},null,null,null,null,null,{"$f":"IF(F559<>\"\",'CO2 konvertering'!$C$14,)","v":0},null,null,null,null,0]
[null,null,null,"Ja",null,null,null,null,"",null,"",{"$f":"IFERROR(VLOOKUP(F560,Biomasser!$A$3:$E$88,4,FALSE),0)","v":0},null,{"$f":"IFERROR(VLOOKUP(F560,Biomasser!$A$3:$E$88,5,FALSE),0)","v":0},"",0,null,null,{"$f":"IFERROR(VLOOKUP(F560,Biomasser!$A$3:$M$88,13,FALSE),)","v":0},null,null,null,null,null,{"$f":"IF(F560<>\"\",'CO2 konvertering'!$C$14,)","v":0},null,null,null,null,0]
[null,null,null,"Ja",null,null,null,null,"",null,"",{"$f":"IFERROR(VLOOKUP(F561,Biomasser!$A$3:$E$88,4,FALSE),0)","v":0},null,{"$f":"IFERROR(VLOOKUP(F561,Biomasser!$A$3:$E$88,5,FALSE),0)","v":0},"",0,null,null,{"$f":"IFERROR(VLOOKUP(F561,Biomasser!$A$3:$M$88,13,FALSE),)","v":0},null,null,null,null,null,{"$f":"IF(F561<>\"\",'CO2 konvertering'!$C$14,)","v":0},null,null,null,null,0]
[null,null,null,"Ja",null,null,null,null,"",null,"",{"$f":"IFERROR(VLOOKUP(F562,Biomasser!$A$3:$E$88,4,FALSE),0)","v":0},null,{"$f":"IFERROR(VLOOKUP(F562,Biomasser!$A$3:$E$88,5,FALSE),0)","v":0},"",0,null,null,{"$f":"IFERROR(VLOOKUP(F562,Biomasser!$A$3:$M$88,13,FALSE),)","v":0},null,null,null,null,null,{"$f":"IF(F562<>\"\",'CO2 konvertering'!$C$14,)","v":0},null,null,null,null,0]
[null,null,null,"Ja",null,null,null,null,"",null,"",{"$f":"IFERROR(VLOOKUP(F563,Biomasser!$A$3:$E$88,4,FALSE),0)","v":0},null,{"$f":"IFERROR(VLOOKUP(F563,Biomasser!$A$3:$E$88,5,FALSE),0)","v":0},"",0,null,null,{"$f":"IFERROR(VLOOKUP(F563,Biomasser!$A$3:$M$88,13,FALSE),)","v":0},null,null,null,null,null,{"$f":"IF(F563<>\"\",'CO2 konvertering'!$C$14,)","v":0},null,null,null,null,0]
[null,null,null,"Ja",null,null,null,null,"",null,"",{"$f":"IFERROR(VLOOKUP(F564,Biomasser!$A$3:$E$88,4,FALSE),0)","v":0},null,{"$f":"IFERROR(VLOOKUP(F564,Biomasser!$A$3:$E$88,5,FALSE),0)","v":0},"",0,null,null,{"$f":"IFERROR(VLOOKUP(F564,Biomasser!$A$3:$M$88,13,FALSE),)","v":0},null,null,null,null,null,{"$f":"IF(F564<>\"\",'CO2 konvertering'!$C$14,)","v":0},null,null,null,null,0]
[null,null,null,"Ja",null,null,null,null,"",null,"",{"$f":"IFERROR(VLOOKUP(F565,Biomasser!$A$3:$E$88,4,FALSE),0)","v":0},null,{"$f":"IFERROR(VLOOKUP(F565,Biomasser!$A$3:$E$88,5,FALSE),0)","v":0},"",0,null,null,{"$f":"IFERROR(VLOOKUP(F565,Biomasser!$A$3:$M$88,13,FALSE),)","v":0},null,null,null,null,null,{"$f":"IF(F565<>\"\",'CO2 konvertering'!$C$14,)","v":0},null,null,null,null,0]
[null,null,null,"Ja",null,null,null,null,"",null,"",{"$f":"IFERROR(VLOOKUP(F566,Biomasser!$A$3:$E$88,4,FALSE),0)","v":0},null,{"$f":"IFERROR(VLOOKUP(F566,Biomasser!$A$3:$E$88,5,FALSE),0)","v":0},"",0,null,null,{"$f":"IFERROR(VLOOKUP(F566,Biomasser!$A$3:$M$88,13,FALSE),)","v":0},null,null,null,null,null,{"$f":"IF(F566<>\"\",'CO2 konvertering'!$C$14,)","v":0},null,null,null,null,0]
[null,null,null,"Ja",null,null,null,null,"",null,"",{"$f":"IFERROR(VLOOKUP(F567,Biomasser!$A$3:$E$88,4,FALSE),0)","v":0},null,{"$f":"IFERROR(VLOOKUP(F567,Biomasser!$A$3:$E$88,5,FALSE),0)","v":0},"",{"$f":"J567*L567*N567*H567","v":0},null,null,{"$f":"IFERROR(VLOOKUP(F567,Biomasser!$A$3:$M$88,13,FALSE),)","v":0},null,null,null,null,null,{"$f":"IF(F567<>\"\",'CO2 konvertering'!$C$14,)","v":0},null,null,null,null,{"$f":"SUM(S567:AC567)","v":0}]
[null,null,null,"Ja",null,null,null,null,"",null,"",{"$f":"IFERROR(VLOOKUP(F568,Biomasser!$A$3:$E$88,4,FALSE),0)","v":0},null,{"$f":"IFERROR(VLOOKUP(F568,Biomasser!$A$3:$E$88,5,FALSE),0)","v":0},"",0,null,null,{"$f":"IFERROR(VLOOKUP(F568,Biomasser!$A$3:$M$88,13,FALSE),)","v":0},null,null,null,null,null,{"$f":"IF(F568<>\"\",'CO2 konvertering'!$C$14,)","v":0},null,null,null,null,0]
[null,null,null,"Ja",null,null,null,null,"",null,"",{"$f":"IFERROR(VLOOKUP(F569,Biomasser!$A$3:$E$88,4,FALSE),0)","v":0},null,{"$f":"IFERROR(VLOOKUP(F569,Biomasser!$A$3:$E$88,5,FALSE),0)","v":0},"",0,null,null,{"$f":"IFERROR(VLOOKUP(F569,Biomasser!$A$3:$M$88,13,FALSE),)","v":0},null,null,null,null,null,{"$f":"IF(F569<>\"\",'CO2 konvertering'!$C$14,)","v":0},null,null,null,null,0]
[null,null,null,"Ja",null,null,null,null,"",null,"",{"$f":"IFERROR(VLOOKUP(F570,Biomasser!$A$3:$E$88,4,FALSE),0)","v":0},null,{"$f":"IFERROR(VLOOKUP(F570,Biomasser!$A$3:$E$88,5,FALSE),0)","v":0},"",0,null,null,{"$f":"IFERROR(VLOOKUP(F570,Biomasser!$A$3:$M$88,13,FALSE),)","v":0},null,null,null,null,null,{"$f":"IF(F570<>\"\",'CO2 konvertering'!$C$14,)","v":0},null,null,null,null,0]
[null,null,null,"Ja",null,null,null,null,"",null,"",{"$f":"IFERROR(VLOOKUP(F571,Biomasser!$A$3:$E$88,4,FALSE),0)","v":0},null,{"$f":"IFERROR(VLOOKUP(F571,Biomasser!$A$3:$E$88,5,FALSE),0)","v":0},"",0,null,null,{"$f":"IFERROR(VLOOKUP(F571,Biomasser!$A$3:$M$88,13,FALSE),)","v":0},null,null,null,null,null,{"$f":"IF(F571<>\"\",'CO2 konvertering'!$C$14,)","v":0},null,null,null,null,0]
[null,null,null,"Ja",null,null,null,null,"",null,"",{"$f":"IFERROR(VLOOKUP(F572,Biomasser!$A$3:$E$88,4,FALSE),0)","v":0},null,{"$f":"IFERROR(VLOOKUP(F572,Biomasser!$A$3:$E$88,5,FALSE),0)","v":0},"",0,null,null,{"$f":"IFERROR(VLOOKUP(F572,Biomasser!$A$3:$M$88,13,FALSE),)","v":0},null,null,null,null,null,{"$f":"IF(F572<>\"\",'CO2 konvertering'!$C$14,)","v":0},null,null,null,null,0]
[null,null,null,"Ja",null,null,null,null,"",null,"",{"$f":"IFERROR(VLOOKUP(F573,Biomasser!$A$3:$E$88,4,FALSE),0)","v":0},null,{"$f":"IFERROR(VLOOKUP(F573,Biomasser!$A$3:$E$88,5,FALSE),0)","v":0},"",0,null,null,{"$f":"IFERROR(VLOOKUP(F573,Biomasser!$A$3:$M$88,13,FALSE),)","v":0},null,null,null,null,null,{"$f":"IF(F573<>\"\",'CO2 konvertering'!$C$14,)","v":0},null,null,null,null,0]
[null,null,null,"Ja",null,null,null,null,"",null,"",{"$f":"IFERROR(VLOOKUP(F574,Biomasser!$A$3:$E$88,4,FALSE),0)","v":0},null,{"$f":"IFERROR(VLOOKUP(F574,Biomasser!$A$3:$E$88,5,FALSE),0)","v":0},"",0,null,null,{"$f":"IFERROR(VLOOKUP(F574,Biomasser!$A$3:$M$88,13,FALSE),)","v":0},null,null,null,null,null,{"$f":"IF(F574<>\"\",'CO2 konvertering'!$C$14,)","v":0},null,null,null,null,0]
[null,null,null,"Ja",null,null,null,null,"",null,"",{"$f":"IFERROR(VLOOKUP(F575,Biomasser!$A$3:$E$88,4,FALSE),0)","v":0},null,{"$f":"IFERROR(VLOOKUP(F575,Biomasser!$A$3:$E$88,5,FALSE),0)","v":0},"",0,null,null,{"$f":"IFERROR(VLOOKUP(F575,Biomasser!$A$3:$M$88,13,FALSE),)","v":0},null,null,null,null,null,{"$f":"IF(F575<>\"\",'CO2 konvertering'!$C$14,)","v":0},null,null,null,null,0]
[null,null,null,"Ja",null,null,null,null,"",null,"",{"$f":"IFERROR(VLOOKUP(F576,Biomasser!$A$3:$E$88,4,FALSE),0)","v":0},null,{"$f":"IFERROR(VLOOKUP(F576,Biomasser!$A$3:$E$88,5,FALSE),0)","v":0},"",0,null,null,{"$f":"IFERROR(VLOOKUP(F576,Biomasser!$A$3:$M$88,13,FALSE),)","v":0},null,null,null,null,null,{"$f":"IF(F576<>\"\",'CO2 konvertering'!$C$14,)","v":0},null,null,null,null,0]
[null,null,null,"Ja",null,null,null,null,"",null,"",{"$f":"IFERROR(VLOOKUP(F577,Biomasser!$A$3:$E$88,4,FALSE),0)","v":0},null,{"$f":"IFERROR(VLOOKUP(F577,Biomasser!$A$3:$E$88,5,FALSE),0)","v":0},"",0,null,null,{"$f":"IFERROR(VLOOKUP(F577,Biomasser!$A$3:$M$88,13,FALSE),)","v":0},null,null,null,null,null,{"$f":"IF(F577<>\"\",'CO2 konvertering'!$C$14,)","v":0},null,null,null,null,0]
[null,null,null,"Ja",null,null,null,null,"",null,"",{"$f":"IFERROR(VLOOKUP(F578,Biomasser!$A$3:$E$88,4,FALSE),0)","v":0},null,{"$f":"IFERROR(VLOOKUP(F578,Biomasser!$A$3:$E$88,5,FALSE),0)","v":0},"",0,null,null,{"$f":"IFERROR(VLOOKUP(F578,Biomasser!$A$3:$M$88,13,FALSE),)","v":0},null,null,null,null,null,{"$f":"IF(F578<>\"\",'CO2 konvertering'!$C$14,)","v":0},null,null,null,null,0]
[null,null,null,"Ja",null,null,null,null,"",null,"",{"$f":"IFERROR(VLOOKUP(F579,Biomasser!$A$3:$E$88,4,FALSE),0)","v":0},null,{"$f":"IFERROR(VLOOKUP(F579,Biomasser!$A$3:$E$88,5,FALSE),0)","v":0},"",0,null,null,{"$f":"IFERROR(VLOOKUP(F579,Biomasser!$A$3:$M$88,13,FALSE),)","v":0},null,null,null,null,null,{"$f":"IF(F579<>\"\",'CO2 konvertering'!$C$14,)","v":0},null,null,null,null,0]
[null,null,null,"Ja",null,null,null,null,"",null,"",{"$f":"IFERROR(VLOOKUP(F580,Biomasser!$A$3:$E$88,4,FALSE),0)","v":0},null,{"$f":"IFERROR(VLOOKUP(F580,Biomasser!$A$3:$E$88,5,FALSE),0)","v":0},"",0,null,null,{"$f":"IFERROR(VLOOKUP(F580,Biomasser!$A$3:$M$88,13,FALSE),)","v":0},null,null,null,null,null,{"$f":"IF(F580<>\"\",'CO2 konvertering'!$C$14,)","v":0},null,null,null,null,0]
[null,null,null,"Ja",null,null,null,null,"",null,"",{"$f":"IFERROR(VLOOKUP(F581,Biomasser!$A$3:$E$88,4,FALSE),0)","v":0},null,{"$f":"IFERROR(VLOOKUP(F581,Biomasser!$A$3:$E$88,5,FALSE),0)","v":0},"",0,null,null,{"$f":"IFERROR(VLOOKUP(F581,Biomasser!$A$3:$M$88,13,FALSE),)","v":0},null,null,null,null,null,{"$f":"IF(F581<>\"\",'CO2 konvertering'!$C$14,)","v":0},null,null,null,null,0]
[null,null,null,"Ja",null,null,null,null,"",null,"",{"$f":"IFERROR(VLOOKUP(F582,Biomasser!$A$3:$E$88,4,FALSE),0)","v":0},null,{"$f":"IFERROR(VLOOKUP(F582,Biomasser!$A$3:$E$88,5,FALSE),0)","v":0},"",0,null,null,{"$f":"IFERROR(VLOOKUP(F582,Biomasser!$A$3:$M$88,13,FALSE),)","v":0},null,null,null,null,null,{"$f":"IF(F582<>\"\",'CO2 konvertering'!$C$14,)","v":0},null,null,null,null,0]
[null,null,null,"Ja",null,null,null,null,"",null,"",{"$f":"IFERROR(VLOOKUP(F583,Biomasser!$A$3:$E$88,4,FALSE),0)","v":0},null,{"$f":"IFERROR(VLOOKUP(F583,Biomasser!$A$3:$E$88,5,FALSE),0)","v":0},"",0,null,null,{"$f":"IFERROR(VLOOKUP(F583,Biomasser!$A$3:$M$88,13,FALSE),)","v":0},null,null,null,null,null,{"$f":"IF(F583<>\"\",'CO2 konvertering'!$C$14,)","v":0},null,null,null,null,0]
[null,null,null,"Ja",null,null,null,null,"",null,"",{"$f":"IFERROR(VLOOKUP(F584,Biomasser!$A$3:$E$88,4,FALSE),0)","v":0},null,{"$f":"IFERROR(VLOOKUP(F584,Biomasser!$A$3:$E$88,5,FALSE),0)","v":0},"",0,null,null,{"$f":"IFERROR(VLOOKUP(F584,Biomasser!$A$3:$M$88,13,FALSE),)","v":0},null,null,null,null,null,{"$f":"IF(F584<>\"\",'CO2 konvertering'!$C$14,)","v":0},null,null,null,null,0]
[null,null,null,"Ja",null,null,null,null,"",null,"",{"$f":"IFERROR(VLOOKUP(F585,Biomasser!$A$3:$E$88,4,FALSE),0)","v":0},null,{"$f":"IFERROR(VLOOKUP(F585,Biomasser!$A$3:$E$88,5,FALSE),0)","v":0},"",0,null,null,{"$f":"IFERROR(VLOOKUP(F585,Biomasser!$A$3:$M$88,13,FALSE),)","v":0},null,null,null,null,null,{"$f":"IF(F585<>\"\",'CO2 konvertering'!$C$14,)","v":0},null,null,null,null,0]
[null,null,null,"Ja",null,null,null,null,"",null,"",{"$f":"IFERROR(VLOOKUP(F586,Biomasser!$A$3:$E$88,4,FALSE),0)","v":0},null,{"$f":"IFERROR(VLOOKUP(F586,Biomasser!$A$3:$E$88,5,FALSE),0)","v":0},"",0,null,null,{"$f":"IFERROR(VLOOKUP(F586,Biomasser!$A$3:$M$88,13,FALSE),)","v":0},null,null,null,null,null,{"$f":"IF(F586<>\"\",'CO2 konvertering'!$C$14,)","v":0},null,null,null,null,0]
[null,null,null,"Ja",null,null,null,null,"",null,"",{"$f":"IFERROR(VLOOKUP(F587,Biomasser!$A$3:$E$88,4,FALSE),0)","v":0},null,{"$f":"IFERROR(VLOOKUP(F587,Biomasser!$A$3:$E$88,5,FALSE),0)","v":0},"",0,null,null,{"$f":"IFERROR(VLOOKUP(F587,Biomasser!$A$3:$M$88,13,FALSE),)","v":0},null,null,null,null,null,{"$f":"IF(F587<>\"\",'CO2 konvertering'!$C$14,)","v":0},null,null,null,null,0]
[null,null,null,"Ja",null,null,null,null,"",null,"",{"$f":"IFERROR(VLOOKUP(F588,Biomasser!$A$3:$E$88,4,FALSE),0)","v":0},null,{"$f":"IFERROR(VLOOKUP(F588,Biomasser!$A$3:$E$88,5,FALSE),0)","v":0},"",0,null,null,{"$f":"IFERROR(VLOOKUP(F588,Biomasser!$A$3:$M$88,13,FALSE),)","v":0},null,null,null,null,null,{"$f":"IF(F588<>\"\",'CO2 konvertering'!$C$14,)","v":0},null,null,null,null,0]
[null,null,null,"Ja",null,null,null,null,"",null,"",{"$f":"IFERROR(VLOOKUP(F589,Biomasser!$A$3:$E$88,4,FALSE),0)","v":0},null,{"$f":"IFERROR(VLOOKUP(F589,Biomasser!$A$3:$E$88,5,FALSE),0)","v":0},"",0,null,null,{"$f":"IFERROR(VLOOKUP(F589,Biomasser!$A$3:$M$88,13,FALSE),)","v":0},null,null,null,null,null,{"$f":"IF(F589<>\"\",'CO2 konvertering'!$C$14,)","v":0},null,null,null,null,0]
[null,null,null,"Ja",null,null,null,null,"",null,"",{"$f":"IFERROR(VLOOKUP(F590,Biomasser!$A$3:$E$88,4,FALSE),0)","v":0},null,{"$f":"IFERROR(VLOOKUP(F590,Biomasser!$A$3:$E$88,5,FALSE),0)","v":0},"",0,null,null,{"$f":"IFERROR(VLOOKUP(F590,Biomasser!$A$3:$M$88,13,FALSE),)","v":0},null,null,null,null,null,{"$f":"IF(F590<>\"\",'CO2 konvertering'!$C$14,)","v":0},null,null,null,null,0]
[null,null,null,"Ja",null,null,null,null,"",null,"",{"$f":"IFERROR(VLOOKUP(F591,Biomasser!$A$3:$E$88,4,FALSE),0)","v":0},null,{"$f":"IFERROR(VLOOKUP(F591,Biomasser!$A$3:$E$88,5,FALSE),0)","v":0},"",0,null,null,{"$f":"IFERROR(VLOOKUP(F591,Biomasser!$A$3:$M$88,13,FALSE),)","v":0},null,null,null,null,null,{"$f":"IF(F591<>\"\",'CO2 konvertering'!$C$14,)","v":0},null,null,null,null,0]
[null,null,null,"Ja",null,null,null,null,"",null,"",{"$f":"IFERROR(VLOOKUP(F592,Biomasser!$A$3:$E$88,4,FALSE),0)","v":0},null,{"$f":"IFERROR(VLOOKUP(F592,Biomasser!$A$3:$E$88,5,FALSE),0)","v":0},"",0,null,null,{"$f":"IFERROR(VLOOKUP(F592,Biomasser!$A$3:$M$88,13,FALSE),)","v":0},null,null,null,null,null,{"$f":"IF(F592<>\"\",'CO2 konvertering'!$C$14,)","v":0},null,null,null,null,0]
[null,null,null,"Ja",null,null,null,null,"",null,"",{"$f":"IFERROR(VLOOKUP(F593,Biomasser!$A$3:$E$88,4,FALSE),0)","v":0},null,{"$f":"IFERROR(VLOOKUP(F593,Biomasser!$A$3:$E$88,5,FALSE),0)","v":0},"",0,null,null,{"$f":"IFERROR(VLOOKUP(F593,Biomasser!$A$3:$M$88,13,FALSE),)","v":0},null,null,null,null,null,{"$f":"IF(F593<>\"\",'CO2 konvertering'!$C$14,)","v":0},null,null,null,null,0]
[null,null,null,"Ja",null,null,null,null,"",null,"",{"$f":"IFERROR(VLOOKUP(F594,Biomasser!$A$3:$E$88,4,FALSE),0)","v":0},null,{"$f":"IFERROR(VLOOKUP(F594,Biomasser!$A$3:$E$88,5,FALSE),0)","v":0},"",0,null,null,{"$f":"IFERROR(VLOOKUP(F594,Biomasser!$A$3:$M$88,13,FALSE),)","v":0},null,null,null,null,null,{"$f":"IF(F594<>\"\",'CO2 konvertering'!$C$14,)","v":0},null,null,null,null,0]
[null,null,null,"Ja",null,null,null,null,"",null,"",{"$f":"IFERROR(VLOOKUP(F595,Biomasser!$A$3:$E$88,4,FALSE),0)","v":0},null,{"$f":"IFERROR(VLOOKUP(F595,Biomasser!$A$3:$E$88,5,FALSE),0)","v":0},"",0,null,null,{"$f":"IFERROR(VLOOKUP(F595,Biomasser!$A$3:$M$88,13,FALSE),)","v":0},null,null,null,null,null,{"$f":"IF(F595<>\"\",'CO2 konvertering'!$C$14,)","v":0},null,null,null,null,0]
[null,null,null,"Ja",null,null,null,null,"",null,"",{"$f":"IFERROR(VLOOKUP(F596,Biomasser!$A$3:$E$88,4,FALSE),0)","v":0},null,{"$f":"IFERROR(VLOOKUP(F596,Biomasser!$A$3:$E$88,5,FALSE),0)","v":0},"",0,null,null,{"$f":"IFERROR(VLOOKUP(F596,Biomasser!$A$3:$M$88,13,FALSE),)","v":0},null,null,null,null,null,{"$f":"IF(F596<>\"\",'CO2 konvertering'!$C$14,)","v":0},null,null,null,null,0]
[null,null,null,"Ja",null,null,null,null,"",null,"",{"$f":"IFERROR(VLOOKUP(F597,Biomasser!$A$3:$E$88,4,FALSE),0)","v":0},null,{"$f":"IFERROR(VLOOKUP(F597,Biomasser!$A$3:$E$88,5,FALSE),0)","v":0},"",0,null,null,{"$f":"IFERROR(VLOOKUP(F597,Biomasser!$A$3:$M$88,13,FALSE),)","v":0},null,null,null,null,null,{"$f":"IF(F597<>\"\",'CO2 konvertering'!$C$14,)","v":0},null,null,null,null,0]
[null,null,null,"Ja",null,null,null,null,"",null,"",{"$f":"IFERROR(VLOOKUP(F598,Biomasser!$A$3:$E$88,4,FALSE),0)","v":0},null,{"$f":"IFERROR(VLOOKUP(F598,Biomasser!$A$3:$E$88,5,FALSE),0)","v":0},"",0,null,null,{"$f":"IFERROR(VLOOKUP(F598,Biomasser!$A$3:$M$88,13,FALSE),)","v":0},null,null,null,null,null,{"$f":"IF(F598<>\"\",'CO2 konvertering'!$C$14,)","v":0},null,null,null,null,0]
[null,null,null,"Ja",null,null,null,null,"",null,"",{"$f":"IFERROR(VLOOKUP(F599,Biomasser!$A$3:$E$88,4,FALSE),0)","v":0},null,{"$f":"IFERROR(VLOOKUP(F599,Biomasser!$A$3:$E$88,5,FALSE),0)","v":0},"",{"$f":"J599*L599*N599*H599","v":0},null,null,{"$f":"IFERROR(VLOOKUP(F599,Biomasser!$A$3:$M$88,13,FALSE),)","v":0},null,null,null,null,null,{"$f":"IF(F599<>\"\",'CO2 konvertering'!$C$14,)","v":0},null,null,null,null,{"$f":"SUM(S599:AC599)","v":0}]
[null,null,null,"Ja",null,null,null,null,{"$f":"IF(AND(F600<>\"\",ISBLANK(H600)),\"Indtast vægt\",\"\")","v":""},null,{"$f":"IF(AND(F600<>\"\",ISBLANK(J600)),\"Indtast tørstof %\",\"\")","v":""},{"$f":"IFERROR(VLOOKUP(F600,Biomasser!$A$3:$E$88,4,FALSE),0)","v":0},null,{"$f":"IFERROR(VLOOKUP(F600,Biomasser!$A$3:$E$88,5,FALSE),0)","v":0},"",0,null,null,{"$f":"IFERROR(VLOOKUP(F600,Biomasser!$A$3:$M$88,13,FALSE),)","v":0},null,null,null,null,null,{"$f":"IF(F600<>\"\",'CO2 konvertering'!$C$14,)","v":0},null,null,null,null,0]
[null,null,null,"Ja",null,null,null,null,"",null,"",{"$f":"IFERROR(VLOOKUP(F601,Biomasser!$A$3:$E$88,4,FALSE),0)","v":0},null,{"$f":"IFERROR(VLOOKUP(F601,Biomasser!$A$3:$E$88,5,FALSE),0)","v":0},"",0,null,null,{"$f":"IFERROR(VLOOKUP(F601,Biomasser!$A$3:$M$88,13,FALSE),)","v":0},null,null,null,null,null,{"$f":"IF(F601<>\"\",'CO2 konvertering'!$C$14,)","v":0},null,null,null,null,0]
[null,null,null,"Ja",null,null,null,null,"",null,"",{"$f":"IFERROR(VLOOKUP(F602,Biomasser!$A$3:$E$88,4,FALSE),0)","v":0},null,{"$f":"IFERROR(VLOOKUP(F602,Biomasser!$A$3:$E$88,5,FALSE),0)","v":0},"",0,null,null,{"$f":"IFERROR(VLOOKUP(F602,Biomasser!$A$3:$M$88,13,FALSE),)","v":0},null,null,null,null,null,{"$f":"IF(F602<>\"\",'CO2 konvertering'!$C$14,)","v":0},null,null,null,null,0]
[null,null,null,"Ja",null,null,null,null,"",null,"",{"$f":"IFERROR(VLOOKUP(F603,Biomasser!$A$3:$E$88,4,FALSE),0)","v":0},null,{"$f":"IFERROR(VLOOKUP(F603,Biomasser!$A$3:$E$88,5,FALSE),0)","v":0},{"$f":"IF(AND(F603<>\"\",(N603=0)),\"Opdater biomasseark\",\"\")","v":""},0,null,null,{"$f":"IFERROR(VLOOKUP(F603,Biomasser!$A$3:$M$88,13,FALSE),)","v":0},null,null,null,null,null,{"$f":"IF(F603<>\"\",'CO2 konvertering'!$C$14,)","v":0},null,null,null,null,0]
[null,null,null,"Ja",null,null,null,null,"",null,"",{"$f":"IFERROR(VLOOKUP(F604,Biomasser!$A$3:$E$88,4,FALSE),0)","v":0},null,{"$f":"IFERROR(VLOOKUP(F604,Biomasser!$A$3:$E$88,5,FALSE),0)","v":0},"",0,null,null,{"$f":"IFERROR(VLOOKUP(F604,Biomasser!$A$3:$M$88,13,FALSE),)","v":0},null,null,null,null,null,{"$f":"IF(F604<>\"\",'CO2 konvertering'!$C$14,)","v":0},null,null,null,null,0]
[null,null,null,"Ja",null,null,null,null,"",null,"",{"$f":"IFERROR(VLOOKUP(F605,Biomasser!$A$3:$E$88,4,FALSE),0)","v":0},null,{"$f":"IFERROR(VLOOKUP(F605,Biomasser!$A$3:$E$88,5,FALSE),0)","v":0},"",0,null,null,{"$f":"IFERROR(VLOOKUP(F605,Biomasser!$A$3:$M$88,13,FALSE),)","v":0},null,null,null,null,null,{"$f":"IF(F605<>\"\",'CO2 konvertering'!$C$14,)","v":0},null,null,null,null,0]
[null,null,null,"Ja",null,null,null,null,"",null,"",{"$f":"IFERROR(VLOOKUP(F606,Biomasser!$A$3:$E$88,4,FALSE),0)","v":0},null,{"$f":"IFERROR(VLOOKUP(F606,Biomasser!$A$3:$E$88,5,FALSE),0)","v":0},"",0,null,null,{"$f":"IFERROR(VLOOKUP(F606,Biomasser!$A$3:$M$88,13,FALSE),)","v":0},null,null,null,null,null,{"$f":"IF(F606<>\"\",'CO2 konvertering'!$C$14,)","v":0},null,null,null,null,0]
[null,null,null,"Ja",null,null,null,null,"",null,"",{"$f":"IFERROR(VLOOKUP(F607,Biomasser!$A$3:$E$88,4,FALSE),0)","v":0},null,{"$f":"IFERROR(VLOOKUP(F607,Biomasser!$A$3:$E$88,5,FALSE),0)","v":0},"",0,null,null,{"$f":"IFERROR(VLOOKUP(F607,Biomasser!$A$3:$M$88,13,FALSE),)","v":0},null,null,null,null,null,{"$f":"IF(F607<>\"\",'CO2 konvertering'!$C$14,)","v":0},null,null,null,null,0]
[null,null,null,"Ja",null,null,null,null,"",null,"",{"$f":"IFERROR(VLOOKUP(F608,Biomasser!$A$3:$E$88,4,FALSE),0)","v":0},null,{"$f":"IFERROR(VLOOKUP(F608,Biomasser!$A$3:$E$88,5,FALSE),0)","v":0},"",0,null,null,{"$f":"IFERROR(VLOOKUP(F608,Biomasser!$A$3:$M$88,13,FALSE),)","v":0},null,null,null,null,null,{"$f":"IF(F608<>\"\",'CO2 konvertering'!$C$14,)","v":0},null,null,null,null,0]
[null,null,null,"Ja",null,null,null,null,"",null,"",{"$f":"IFERROR(VLOOKUP(F609,Biomasser!$A$3:$E$88,4,FALSE),0)","v":0},null,{"$f":"IFERROR(VLOOKUP(F609,Biomasser!$A$3:$E$88,5,FALSE),0)","v":0},"",0,null,null,{"$f":"IFERROR(VLOOKUP(F609,Biomasser!$A$3:$M$88,13,FALSE),)","v":0},null,null,null,null,null,{"$f":"IF(F609<>\"\",'CO2 konvertering'!$C$14,)","v":0},null,null,null,null,0]
[null,null,null,"Ja",null,null,null,null,"",null,"",{"$f":"IFERROR(VLOOKUP(F610,Biomasser!$A$3:$E$88,4,FALSE),0)","v":0},null,{"$f":"IFERROR(VLOOKUP(F610,Biomasser!$A$3:$E$88,5,FALSE),0)","v":0},"",0,null,null,{"$f":"IFERROR(VLOOKUP(F610,Biomasser!$A$3:$M$88,13,FALSE),)","v":0},null,null,null,null,null,{"$f":"IF(F610<>\"\",'CO2 konvertering'!$C$14,)","v":0},null,null,null,null,0]
[null,null,null,"Ja",null,null,null,null,"",null,"",{"$f":"IFERROR(VLOOKUP(F611,Biomasser!$A$3:$E$88,4,FALSE),0)","v":0},null,{"$f":"IFERROR(VLOOKUP(F611,Biomasser!$A$3:$E$88,5,FALSE),0)","v":0},"",0,null,null,{"$f":"IFERROR(VLOOKUP(F611,Biomasser!$A$3:$M$88,13,FALSE),)","v":0},null,null,null,null,null,{"$f":"IF(F611<>\"\",'CO2 konvertering'!$C$14,)","v":0},null,null,null,null,0]
[null,null,null,"Ja",null,null,null,null,"",null,"",{"$f":"IFERROR(VLOOKUP(F612,Biomasser!$A$3:$E$88,4,FALSE),0)","v":0},null,{"$f":"IFERROR(VLOOKUP(F612,Biomasser!$A$3:$E$88,5,FALSE),0)","v":0},"",0,null,null,{"$f":"IFERROR(VLOOKUP(F612,Biomasser!$A$3:$M$88,13,FALSE),)","v":0},null,null,null,null,null,{"$f":"IF(F612<>\"\",'CO2 konvertering'!$C$14,)","v":0},null,null,null,null,0]
[null,null,null,"Ja",null,null,null,null,"",null,"",{"$f":"IFERROR(VLOOKUP(F613,Biomasser!$A$3:$E$88,4,FALSE),0)","v":0},null,{"$f":"IFERROR(VLOOKUP(F613,Biomasser!$A$3:$E$88,5,FALSE),0)","v":0},"",0,null,null,{"$f":"IFERROR(VLOOKUP(F613,Biomasser!$A$3:$M$88,13,FALSE),)","v":0},null,null,null,null,null,{"$f":"IF(F613<>\"\",'CO2 konvertering'!$C$14,)","v":0},null,null,null,null,0]
[null,null,null,"Ja",null,null,null,null,"",null,"",{"$f":"IFERROR(VLOOKUP(F614,Biomasser!$A$3:$E$88,4,FALSE),0)","v":0},null,{"$f":"IFERROR(VLOOKUP(F614,Biomasser!$A$3:$E$88,5,FALSE),0)","v":0},"",0,null,null,{"$f":"IFERROR(VLOOKUP(F614,Biomasser!$A$3:$M$88,13,FALSE),)","v":0},null,null,null,null,null,{"$f":"IF(F614<>\"\",'CO2 konvertering'!$C$14,)","v":0},null,null,null,null,0]
[null,null,null,"Ja",null,null,null,null,"",null,"",{"$f":"IFERROR(VLOOKUP(F615,Biomasser!$A$3:$E$88,4,FALSE),0)","v":0},null,{"$f":"IFERROR(VLOOKUP(F615,Biomasser!$A$3:$E$88,5,FALSE),0)","v":0},"",0,null,null,{"$f":"IFERROR(VLOOKUP(F615,Biomasser!$A$3:$M$88,13,FALSE),)","v":0},null,null,null,null,null,{"$f":"IF(F615<>\"\",'CO2 konvertering'!$C$14,)","v":0},null,null,null,null,0]
[null,null,null,"Ja",null,null,null,null,"",null,"",{"$f":"IFERROR(VLOOKUP(F616,Biomasser!$A$3:$E$88,4,FALSE),0)","v":0},null,{"$f":"IFERROR(VLOOKUP(F616,Biomasser!$A$3:$E$88,5,FALSE),0)","v":0},"",0,null,null,{"$f":"IFERROR(VLOOKUP(F616,Biomasser!$A$3:$M$88,13,FALSE),)","v":0},null,null,null,null,null,{"$f":"IF(F616<>\"\",'CO2 konvertering'!$C$14,)","v":0},null,null,null,null,0]
[null,null,null,"Ja",null,null,null,null,"",null,"",{"$f":"IFERROR(VLOOKUP(F617,Biomasser!$A$3:$E$88,4,FALSE),0)","v":0},null,{"$f":"IFERROR(VLOOKUP(F617,Biomasser!$A$3:$E$88,5,FALSE),0)","v":0},"",0,null,null,{"$f":"IFERROR(VLOOKUP(F617,Biomasser!$A$3:$M$88,13,FALSE),)","v":0},null,null,null,null,null,{"$f":"IF(F617<>\"\",'CO2 konvertering'!$C$14,)","v":0},null,null,null,null,0]
[null,null,null,"Ja",null,null,null,null,"",null,"",{"$f":"IFERROR(VLOOKUP(F618,Biomasser!$A$3:$E$88,4,FALSE),0)","v":0},null,{"$f":"IFERROR(VLOOKUP(F618,Biomasser!$A$3:$E$88,5,FALSE),0)","v":0},"",0,null,null,{"$f":"IFERROR(VLOOKUP(F618,Biomasser!$A$3:$M$88,13,FALSE),)","v":0},null,null,null,null,null,{"$f":"IF(F618<>\"\",'CO2 konvertering'!$C$14,)","v":0},null,null,null,null,0]
[null,null,null,"Ja",null,null,null,null,"",null,"",{"$f":"IFERROR(VLOOKUP(F619,Biomasser!$A$3:$E$88,4,FALSE),0)","v":0},null,{"$f":"IFERROR(VLOOKUP(F619,Biomasser!$A$3:$E$88,5,FALSE),0)","v":0},"",0,null,null,{"$f":"IFERROR(VLOOKUP(F619,Biomasser!$A$3:$M$88,13,FALSE),)","v":0},null,null,null,null,null,{"$f":"IF(F619<>\"\",'CO2 konvertering'!$C$14,)","v":0},null,null,null,null,0]
[null,null,null,"Ja",null,null,null,null,"",null,"",{"$f":"IFERROR(VLOOKUP(F620,Biomasser!$A$3:$E$88,4,FALSE),0)","v":0},null,{"$f":"IFERROR(VLOOKUP(F620,Biomasser!$A$3:$E$88,5,FALSE),0)","v":0},"",0,null,null,{"$f":"IFERROR(VLOOKUP(F620,Biomasser!$A$3:$M$88,13,FALSE),)","v":0},null,null,null,null,null,{"$f":"IF(F620<>\"\",'CO2 konvertering'!$C$14,)","v":0},null,null,null,null,0]
[null,null,null,"Ja",null,null,null,null,"",null,"",{"$f":"IFERROR(VLOOKUP(F621,Biomasser!$A$3:$E$88,4,FALSE),0)","v":0},null,{"$f":"IFERROR(VLOOKUP(F621,Biomasser!$A$3:$E$88,5,FALSE),0)","v":0},"",0,null,null,{"$f":"IFERROR(VLOOKUP(F621,Biomasser!$A$3:$M$88,13,FALSE),)","v":0},null,null,null,null,null,{"$f":"IF(F621<>\"\",'CO2 konvertering'!$C$14,)","v":0},null,null,null,null,0]
[null,null,null,"Ja",null,null,null,null,"",null,"",{"$f":"IFERROR(VLOOKUP(F622,Biomasser!$A$3:$E$88,4,FALSE),0)","v":0},null,{"$f":"IFERROR(VLOOKUP(F622,Biomasser!$A$3:$E$88,5,FALSE),0)","v":0},"",0,null,null,{"$f":"IFERROR(VLOOKUP(F622,Biomasser!$A$3:$M$88,13,FALSE),)","v":0},null,null,null,null,null,{"$f":"IF(F622<>\"\",'CO2 konvertering'!$C$14,)","v":0},null,null,null,null,0]
[null,null,null,"Ja",null,null,null,null,"",null,"",{"$f":"IFERROR(VLOOKUP(F623,Biomasser!$A$3:$E$88,4,FALSE),0)","v":0},null,{"$f":"IFERROR(VLOOKUP(F623,Biomasser!$A$3:$E$88,5,FALSE),0)","v":0},"",0,null,null,{"$f":"IFERROR(VLOOKUP(F623,Biomasser!$A$3:$M$88,13,FALSE),)","v":0},null,null,null,null,null,{"$f":"IF(F623<>\"\",'CO2 konvertering'!$C$14,)","v":0},null,null,null,null,0]
[null,null,null,"Ja",null,null,null,null,"",null,"",{"$f":"IFERROR(VLOOKUP(F624,Biomasser!$A$3:$E$88,4,FALSE),0)","v":0},null,{"$f":"IFERROR(VLOOKUP(F624,Biomasser!$A$3:$E$88,5,FALSE),0)","v":0},"",0,null,null,{"$f":"IFERROR(VLOOKUP(F624,Biomasser!$A$3:$M$88,13,FALSE),)","v":0},null,null,null,null,null,{"$f":"IF(F624<>\"\",'CO2 konvertering'!$C$14,)","v":0},null,null,null,null,0]
[null,null,null,"Ja",null,null,null,null,"",null,"",{"$f":"IFERROR(VLOOKUP(F625,Biomasser!$A$3:$E$88,4,FALSE),0)","v":0},null,{"$f":"IFERROR(VLOOKUP(F625,Biomasser!$A$3:$E$88,5,FALSE),0)","v":0},"",0,null,null,{"$f":"IFERROR(VLOOKUP(F625,Biomasser!$A$3:$M$88,13,FALSE),)","v":0},null,null,null,null,null,{"$f":"IF(F625<>\"\",'CO2 konvertering'!$C$14,)","v":0},null,null,null,null,0]
[null,null,null,"Ja",null,null,null,null,"",null,"",{"$f":"IFERROR(VLOOKUP(F626,Biomasser!$A$3:$E$88,4,FALSE),0)","v":0},null,{"$f":"IFERROR(VLOOKUP(F626,Biomasser!$A$3:$E$88,5,FALSE),0)","v":0},"",0,null,null,{"$f":"IFERROR(VLOOKUP(F626,Biomasser!$A$3:$M$88,13,FALSE),)","v":0},null,null,null,null,null,{"$f":"IF(F626<>\"\",'CO2 konvertering'!$C$14,)","v":0},null,null,null,null,0]
[null,null,null,"Ja",null,null,null,null,"",null,"",{"$f":"IFERROR(VLOOKUP(F627,Biomasser!$A$3:$E$88,4,FALSE),0)","v":0},null,{"$f":"IFERROR(VLOOKUP(F627,Biomasser!$A$3:$E$88,5,FALSE),0)","v":0},"",0,null,null,{"$f":"IFERROR(VLOOKUP(F627,Biomasser!$A$3:$M$88,13,FALSE),)","v":0},null,null,null,null,null,{"$f":"IF(F627<>\"\",'CO2 konvertering'!$C$14,)","v":0},null,null,null,null,0]
[null,null,null,"Ja",null,null,null,null,"",null,"",{"$f":"IFERROR(VLOOKUP(F628,Biomasser!$A$3:$E$88,4,FALSE),0)","v":0},null,{"$f":"IFERROR(VLOOKUP(F628,Biomasser!$A$3:$E$88,5,FALSE),0)","v":0},"",0,null,null,{"$f":"IFERROR(VLOOKUP(F628,Biomasser!$A$3:$M$88,13,FALSE),)","v":0},null,null,null,null,null,{"$f":"IF(F628<>\"\",'CO2 konvertering'!$C$14,)","v":0},null,null,null,null,0]
[null,null,null,"Ja",null,null,null,null,"",null,"",{"$f":"IFERROR(VLOOKUP(F629,Biomasser!$A$3:$E$88,4,FALSE),0)","v":0},null,{"$f":"IFERROR(VLOOKUP(F629,Biomasser!$A$3:$E$88,5,FALSE),0)","v":0},"",0,null,null,{"$f":"IFERROR(VLOOKUP(F629,Biomasser!$A$3:$M$88,13,FALSE),)","v":0},null,null,null,null,null,{"$f":"IF(F629<>\"\",'CO2 konvertering'!$C$14,)","v":0},null,null,null,null,0]
[null,null,null,"Ja",null,null,null,null,"",null,"",{"$f":"IFERROR(VLOOKUP(F630,Biomasser!$A$3:$E$88,4,FALSE),0)","v":0},null,{"$f":"IFERROR(VLOOKUP(F630,Biomasser!$A$3:$E$88,5,FALSE),0)","v":0},"",0,null,null,{"$f":"IFERROR(VLOOKUP(F630,Biomasser!$A$3:$M$88,13,FALSE),)","v":0},null,null,null,null,null,{"$f":"IF(F630<>\"\",'CO2 konvertering'!$C$14,)","v":0},null,null,null,null,0]
[null,null,null,"Ja",null,null,null,null,"",null,"",{"$f":"IFERROR(VLOOKUP(F631,Biomasser!$A$3:$E$88,4,FALSE),0)","v":0},null,{"$f":"IFERROR(VLOOKUP(F631,Biomasser!$A$3:$E$88,5,FALSE),0)","v":0},"",0,null,null,{"$f":"IFERROR(VLOOKUP(F631,Biomasser!$A$3:$M$88,13,FALSE),)","v":0},null,null,null,null,null,{"$f":"IF(F631<>\"\",'CO2 konvertering'!$C$14,)","v":0},null,null,null,null,{"$f":"SUM(S631:AC631)","v":0}]
[null,null,null,"Ja",null,null,null,null,"",null,"",{"$f":"IFERROR(VLOOKUP(F632,Biomasser!$A$3:$E$88,4,FALSE),0)","v":0},null,{"$f":"IFERROR(VLOOKUP(F632,Biomasser!$A$3:$E$88,5,FALSE),0)","v":0},"",0,null,null,{"$f":"IFERROR(VLOOKUP(F632,Biomasser!$A$3:$M$88,13,FALSE),)","v":0},null,null,null,null,null,{"$f":"IF(F632<>\"\",'CO2 konvertering'!$C$14,)","v":0},null,null,null,null,0]
[null,null,null,"Ja",null,null,null,null,"",null,"",{"$f":"IFERROR(VLOOKUP(F633,Biomasser!$A$3:$E$88,4,FALSE),0)","v":0},null,{"$f":"IFERROR(VLOOKUP(F633,Biomasser!$A$3:$E$88,5,FALSE),0)","v":0},"",0,null,null,{"$f":"IFERROR(VLOOKUP(F633,Biomasser!$A$3:$M$88,13,FALSE),)","v":0},null,null,null,null,null,{"$f":"IF(F633<>\"\",'CO2 konvertering'!$C$14,)","v":0},null,null,null,null,0]
[null,null,null,"Ja",null,null,null,null,"",null,"",{"$f":"IFERROR(VLOOKUP(F634,Biomasser!$A$3:$E$88,4,FALSE),0)","v":0},null,{"$f":"IFERROR(VLOOKUP(F634,Biomasser!$A$3:$E$88,5,FALSE),0)","v":0},"",0,null,null,{"$f":"IFERROR(VLOOKUP(F634,Biomasser!$A$3:$M$88,13,FALSE),)","v":0},null,null,null,null,null,{"$f":"IF(F634<>\"\",'CO2 konvertering'!$C$14,)","v":0},null,null,null,null,0]
[null,null,null,"Ja",null,null,null,null,"",null,"",{"$f":"IFERROR(VLOOKUP(F635,Biomasser!$A$3:$E$88,4,FALSE),0)","v":0},null,{"$f":"IFERROR(VLOOKUP(F635,Biomasser!$A$3:$E$88,5,FALSE),0)","v":0},"",0,null,null,{"$f":"IFERROR(VLOOKUP(F635,Biomasser!$A$3:$M$88,13,FALSE),)","v":0},null,null,null,null,null,{"$f":"IF(F635<>\"\",'CO2 konvertering'!$C$14,)","v":0},null,null,null,null,0]
[null,"Dato:",null,null,null,"Mængde biomasse (Ton)",null,"Gasproduktion"]
["Gas","7. januar",2015,null,null,{"$f":"SUM(H640:H740)","v":0},null,null,"m3 CH4"]
[null,"Leverandør",null,"Certificeret",null,"Råvarer input","          Mængder                 \n      (Ton vådvægt)            ",null,null,"Tørstof\n%",null,"Omsættelig tørstof\n%",null,"Gaspotentiale\nm³ CH4/ton VS",null,"Teoretisk\ngasproduktion\nm³ CH4"]
[]
[{"$f":"B637&C637","v":"7. januar2015"},null,null,"Ja",null,null,null,null,{"$f":"IF(AND(F640<>\"\",ISBLANK(H640)),\"Indtast vægt\",\"\")","v":""},null,{"$f":"IF(AND(F640<>\"\",ISBLANK(J640)),\"Indtast tørstof %\",\"\")","v":""},{"$f":"IFERROR(VLOOKUP(F640,Biomasser!$A$3:$E$88,4,FALSE),)","v":0},null,{"$f":"IFERROR(VLOOKUP(F640,Biomasser!$A$3:$E$88,5,FALSE),0)","v":0},{"$f":"IF(AND(F640<>\"\",(N640=0)),\"Opdater biomasseark\",\"\")","v":""},{"$f":"J640*L640*N640*H640","v":0},null,null,{"$f":"IFERROR(VLOOKUP(F640,Biomasser!$A$3:$M$88,13,FALSE),)","v":0},null,null,null,null,null,{"$f":"IF(F640<>\"\",'CO2 konvertering'!$C$14,)","v":0},null,null,null,null,{"$f":"SUM(S640:AC640)","v":0}]
[null,null,null,"Ja",null,null,null,null,{"$f":"IF(AND(F641<>\"\",ISBLANK(H641)),\"Indtast vægt\",\"\")","v":""},null,{"$f":"IF(AND(F641<>\"\",ISBLANK(J641)),\"Indtast tørstof %\",\"\")","v":""},{"$f":"IFERROR(VLOOKUP(F641,Biomasser!$A$3:$E$88,4,FALSE),0)","v":0},null,{"$f":"IFERROR(VLOOKUP(F641,Biomasser!$A$3:$E$88,5,FALSE),0)","v":0},"",0,null,null,{"$f":"IFERROR(VLOOKUP(F641,Biomasser!$A$3:$M$88,13,FALSE),)","v":0},null,null,null,null,null,{"$f":"IF(F641<>\"\",'CO2 konvertering'!$C$14,)","v":0},null,null,null,null,0]
[null,null,null,"Ja",null,null,null,null,"",null,"",{"$f":"IFERROR(VLOOKUP(F642,Biomasser!$A$3:$E$88,4,FALSE),0)","v":0},null,{"$f":"IFERROR(VLOOKUP(F642,Biomasser!$A$3:$E$88,5,FALSE),0)","v":0},"",0,null,null,{"$f":"IFERROR(VLOOKUP(F642,Biomasser!$A$3:$M$88,13,FALSE),)","v":0},null,null,null,null,null,{"$f":"IF(F642<>\"\",'CO2 konvertering'!$C$14,)","v":0},null,null,null,null,0]
[null,null,null,"Ja",null,null,null,null,"",null,"",{"$f":"IFERROR(VLOOKUP(F643,Biomasser!$A$3:$E$88,4,FALSE),0)","v":0},null,{"$f":"IFERROR(VLOOKUP(F643,Biomasser!$A$3:$E$88,5,FALSE),0)","v":0},{"$f":"IF(AND(F643<>\"\",(N643=0)),\"Opdater biomasseark\",\"\")","v":""},0,null,null,{"$f":"IFERROR(VLOOKUP(F643,Biomasser!$A$3:$M$88,13,FALSE),)","v":0},null,null,null,null,null,{"$f":"IF(F643<>\"\",'CO2 konvertering'!$C$14,)","v":0},null,null,null,null,0]
[null,null,null,"Ja",null,null,null,null,"",null,"",{"$f":"IFERROR(VLOOKUP(F644,Biomasser!$A$3:$E$88,4,FALSE),0)","v":0},null,{"$f":"IFERROR(VLOOKUP(F644,Biomasser!$A$3:$E$88,5,FALSE),0)","v":0},{"$f":"IF(AND(F644<>\"\",(N644=0)),\"Opdater biomasseark\",\"\")","v":""},0,null,null,{"$f":"IFERROR(VLOOKUP(F644,Biomasser!$A$3:$M$88,13,FALSE),)","v":0},null,null,null,null,null,{"$f":"IF(F644<>\"\",'CO2 konvertering'!$C$14,)","v":0},null,null,null,null,0]
[null,null,null,"Ja",null,null,null,null,"",null,"",{"$f":"IFERROR(VLOOKUP(F645,Biomasser!$A$3:$E$88,4,FALSE),0)","v":0},null,{"$f":"IFERROR(VLOOKUP(F645,Biomasser!$A$3:$E$88,5,FALSE),0)","v":0},"",0,null,null,{"$f":"IFERROR(VLOOKUP(F645,Biomasser!$A$3:$M$88,13,FALSE),)","v":0},null,null,null,null,null,{"$f":"IF(F645<>\"\",'CO2 konvertering'!$C$14,)","v":0},null,null,null,null,0]
[null,null,null,"Ja",null,null,null,null,"",null,"",{"$f":"IFERROR(VLOOKUP(F646,Biomasser!$A$3:$E$88,4,FALSE),0)","v":0},null,{"$f":"IFERROR(VLOOKUP(F646,Biomasser!$A$3:$E$88,5,FALSE),0)","v":0},"",0,null,null,{"$f":"IFERROR(VLOOKUP(F646,Biomasser!$A$3:$M$88,13,FALSE),)","v":0},null,null,null,null,null,{"$f":"IF(F646<>\"\",'CO2 konvertering'!$C$14,)","v":0},null,null,null,null,0]
[null,null,null,"Ja",null,null,null,null,"",null,"",{"$f":"IFERROR(VLOOKUP(F647,Biomasser!$A$3:$E$88,4,FALSE),0)","v":0},null,{"$f":"IFERROR(VLOOKUP(F647,Biomasser!$A$3:$E$88,5,FALSE),0)","v":0},"",0,null,null,{"$f":"IFERROR(VLOOKUP(F647,Biomasser!$A$3:$M$88,13,FALSE),)","v":0},null,null,null,null,null,{"$f":"IF(F647<>\"\",'CO2 konvertering'!$C$14,)","v":0},null,null,null,null,0]
[null,null,null,"Ja",null,null,null,null,"",null,"",{"$f":"IFERROR(VLOOKUP(F648,Biomasser!$A$3:$E$88,4,FALSE),0)","v":0},null,{"$f":"IFERROR(VLOOKUP(F648,Biomasser!$A$3:$E$88,5,FALSE),0)","v":0},"",0,null,null,{"$f":"IFERROR(VLOOKUP(F648,Biomasser!$A$3:$M$88,13,FALSE),)","v":0},null,null,null,null,null,{"$f":"IF(F648<>\"\",'CO2 konvertering'!$C$14,)","v":0},null,null,null,null,0]
[null,null,null,"Ja",null,null,null,null,"",null,"",{"$f":"IFERROR(VLOOKUP(F649,Biomasser!$A$3:$E$88,4,FALSE),0)","v":0},null,{"$f":"IFERROR(VLOOKUP(F649,Biomasser!$A$3:$E$88,5,FALSE),0)","v":0},"",0,null,null,{"$f":"IFERROR(VLOOKUP(F649,Biomasser!$A$3:$M$88,13,FALSE),)","v":0},null,null,null,null,null,{"$f":"IF(F649<>\"\",'CO2 konvertering'!$C$14,)","v":0},null,null,null,null,0]
[null,null,null,"Ja",null,null,null,null,"",null,"",{"$f":"IFERROR(VLOOKUP(F650,Biomasser!$A$3:$E$88,4,FALSE),0)","v":0},null,{"$f":"IFERROR(VLOOKUP(F650,Biomasser!$A$3:$E$88,5,FALSE),0)","v":0},"",0,null,null,{"$f":"IFERROR(VLOOKUP(F650,Biomasser!$A$3:$M$88,13,FALSE),)","v":0},null,null,null,null,null,{"$f":"IF(F650<>\"\",'CO2 konvertering'!$C$14,)","v":0},null,null,null,null,0]
[null,null,null,"Ja",null,null,null,null,"",null,"",{"$f":"IFERROR(VLOOKUP(F651,Biomasser!$A$3:$E$88,4,FALSE),0)","v":0},null,{"$f":"IFERROR(VLOOKUP(F651,Biomasser!$A$3:$E$88,5,FALSE),0)","v":0},"",0,null,null,{"$f":"IFERROR(VLOOKUP(F651,Biomasser!$A$3:$M$88,13,FALSE),)","v":0},null,null,null,null,null,{"$f":"IF(F651<>\"\",'CO2 konvertering'!$C$14,)","v":0},null,null,null,null,0]
[null,null,null,"Ja",null,null,null,null,"",null,"",{"$f":"IFERROR(VLOOKUP(F652,Biomasser!$A$3:$E$88,4,FALSE),0)","v":0},null,{"$f":"IFERROR(VLOOKUP(F652,Biomasser!$A$3:$E$88,5,FALSE),0)","v":0},"",0,null,null,{"$f":"IFERROR(VLOOKUP(F652,Biomasser!$A$3:$M$88,13,FALSE),)","v":0},null,null,null,null,null,{"$f":"IF(F652<>\"\",'CO2 konvertering'!$C$14,)","v":0},null,null,null,null,0]
[null,null,null,"Ja",null,null,null,null,"",null,"",{"$f":"IFERROR(VLOOKUP(F653,Biomasser!$A$3:$E$88,4,FALSE),0)","v":0},null,{"$f":"IFERROR(VLOOKUP(F653,Biomasser!$A$3:$E$88,5,FALSE),0)","v":0},"",0,null,null,{"$f":"IFERROR(VLOOKUP(F653,Biomasser!$A$3:$M$88,13,FALSE),)","v":0},null,null,null,null,null,{"$f":"IF(F653<>\"\",'CO2 konvertering'!$C$14,)","v":0},null,null,null,null,0]
[null,null,null,"Ja",null,null,null,null,"",null,"",{"$f":"IFERROR(VLOOKUP(F654,Biomasser!$A$3:$E$88,4,FALSE),0)","v":0},null,{"$f":"IFERROR(VLOOKUP(F654,Biomasser!$A$3:$E$88,5,FALSE),0)","v":0},"",0,null,null,{"$f":"IFERROR(VLOOKUP(F654,Biomasser!$A$3:$M$88,13,FALSE),)","v":0},null,null,null,null,null,{"$f":"IF(F654<>\"\",'CO2 konvertering'!$C$14,)","v":0},null,null,null,null,0]
[null,null,null,"Ja",null,null,null,null,"",null,"",{"$f":"IFERROR(VLOOKUP(F655,Biomasser!$A$3:$E$88,4,FALSE),0)","v":0},null,{"$f":"IFERROR(VLOOKUP(F655,Biomasser!$A$3:$E$88,5,FALSE),0)","v":0},"",0,null,null,{"$f":"IFERROR(VLOOKUP(F655,Biomasser!$A$3:$M$88,13,FALSE),)","v":0},null,null,null,null,null,{"$f":"IF(F655<>\"\",'CO2 konvertering'!$C$14,)","v":0},null,null,null,null,0]
[null,null,null,"Ja",null,null,null,null,"",null,"",{"$f":"IFERROR(VLOOKUP(F656,Biomasser!$A$3:$E$88,4,FALSE),0)","v":0},null,{"$f":"IFERROR(VLOOKUP(F656,Biomasser!$A$3:$E$88,5,FALSE),0)","v":0},"",0,null,null,{"$f":"IFERROR(VLOOKUP(F656,Biomasser!$A$3:$M$88,13,FALSE),)","v":0},null,null,null,null,null,{"$f":"IF(F656<>\"\",'CO2 konvertering'!$C$14,)","v":0},null,null,null,null,0]
[null,null,null,"Ja",null,null,null,null,"",null,"",{"$f":"IFERROR(VLOOKUP(F657,Biomasser!$A$3:$E$88,4,FALSE),0)","v":0},null,{"$f":"IFERROR(VLOOKUP(F657,Biomasser!$A$3:$E$88,5,FALSE),0)","v":0},"",0,null,null,{"$f":"IFERROR(VLOOKUP(F657,Biomasser!$A$3:$M$88,13,FALSE),)","v":0},null,null,null,null,null,{"$f":"IF(F657<>\"\",'CO2 konvertering'!$C$14,)","v":0},null,null,null,null,0]
[null,null,null,"Ja",null,null,null,null,"",null,"",{"$f":"IFERROR(VLOOKUP(F658,Biomasser!$A$3:$E$88,4,FALSE),0)","v":0},null,{"$f":"IFERROR(VLOOKUP(F658,Biomasser!$A$3:$E$88,5,FALSE),0)","v":0},"",0,null,null,{"$f":"IFERROR(VLOOKUP(F658,Biomasser!$A$3:$M$88,13,FALSE),)","v":0},null,null,null,null,null,{"$f":"IF(F658<>\"\",'CO2 konvertering'!$C$14,)","v":0},null,null,null,null,0]
[null,null,null,"Ja",null,null,null,null,"",null,"",{"$f":"IFERROR(VLOOKUP(F659,Biomasser!$A$3:$E$88,4,FALSE),0)","v":0},null,{"$f":"IFERROR(VLOOKUP(F659,Biomasser!$A$3:$E$88,5,FALSE),0)","v":0},"",0,null,null,{"$f":"IFERROR(VLOOKUP(F659,Biomasser!$A$3:$M$88,13,FALSE),)","v":0},null,null,null,null,null,{"$f":"IF(F659<>\"\",'CO2 konvertering'!$C$14,)","v":0},null,null,null,null,0]
[null,null,null,"Ja",null,null,null,null,"",null,"",{"$f":"IFERROR(VLOOKUP(F660,Biomasser!$A$3:$E$88,4,FALSE),0)","v":0},null,{"$f":"IFERROR(VLOOKUP(F660,Biomasser!$A$3:$E$88,5,FALSE),0)","v":0},"",0,null,null,{"$f":"IFERROR(VLOOKUP(F660,Biomasser!$A$3:$M$88,13,FALSE),)","v":0},null,null,null,null,null,{"$f":"IF(F660<>\"\",'CO2 konvertering'!$C$14,)","v":0},null,null,null,null,0]
[null,null,null,"Ja",null,null,null,null,"",null,"",{"$f":"IFERROR(VLOOKUP(F661,Biomasser!$A$3:$E$88,4,FALSE),0)","v":0},null,{"$f":"IFERROR(VLOOKUP(F661,Biomasser!$A$3:$E$88,5,FALSE),0)","v":0},"",0,null,null,{"$f":"IFERROR(VLOOKUP(F661,Biomasser!$A$3:$M$88,13,FALSE),)","v":0},null,null,null,null,null,{"$f":"IF(F661<>\"\",'CO2 konvertering'!$C$14,)","v":0},null,null,null,null,0]
[null,null,null,"Ja",null,null,null,null,"",null,"",{"$f":"IFERROR(VLOOKUP(F662,Biomasser!$A$3:$E$88,4,FALSE),0)","v":0},null,{"$f":"IFERROR(VLOOKUP(F662,Biomasser!$A$3:$E$88,5,FALSE),0)","v":0},"",0,null,null,{"$f":"IFERROR(VLOOKUP(F662,Biomasser!$A$3:$M$88,13,FALSE),)","v":0},null,null,null,null,null,{"$f":"IF(F662<>\"\",'CO2 konvertering'!$C$14,)","v":0},null,null,null,null,0]
[null,null,null,"Ja",null,null,null,null,"",null,"",{"$f":"IFERROR(VLOOKUP(F663,Biomasser!$A$3:$E$88,4,FALSE),0)","v":0},null,{"$f":"IFERROR(VLOOKUP(F663,Biomasser!$A$3:$E$88,5,FALSE),0)","v":0},"",0,null,null,{"$f":"IFERROR(VLOOKUP(F663,Biomasser!$A$3:$M$88,13,FALSE),)","v":0},null,null,null,null,null,{"$f":"IF(F663<>\"\",'CO2 konvertering'!$C$14,)","v":0},null,null,null,null,0]
[null,null,null,"Ja",null,null,null,null,"",null,"",{"$f":"IFERROR(VLOOKUP(F664,Biomasser!$A$3:$E$88,4,FALSE),0)","v":0},null,{"$f":"IFERROR(VLOOKUP(F664,Biomasser!$A$3:$E$88,5,FALSE),0)","v":0},"",0,null,null,{"$f":"IFERROR(VLOOKUP(F664,Biomasser!$A$3:$M$88,13,FALSE),)","v":0},null,null,null,null,null,{"$f":"IF(F664<>\"\",'CO2 konvertering'!$C$14,)","v":0},null,null,null,null,0]
[null,null,null,"Ja",null,null,null,null,"",null,"",{"$f":"IFERROR(VLOOKUP(F665,Biomasser!$A$3:$E$88,4,FALSE),0)","v":0},null,{"$f":"IFERROR(VLOOKUP(F665,Biomasser!$A$3:$E$88,5,FALSE),0)","v":0},"",0,null,null,{"$f":"IFERROR(VLOOKUP(F665,Biomasser!$A$3:$M$88,13,FALSE),)","v":0},null,null,null,null,null,{"$f":"IF(F665<>\"\",'CO2 konvertering'!$C$14,)","v":0},null,null,null,null,0]
[null,null,null,"Ja",null,null,null,null,"",null,"",{"$f":"IFERROR(VLOOKUP(F666,Biomasser!$A$3:$E$88,4,FALSE),0)","v":0},null,{"$f":"IFERROR(VLOOKUP(F666,Biomasser!$A$3:$E$88,5,FALSE),0)","v":0},"",0,null,null,{"$f":"IFERROR(VLOOKUP(F666,Biomasser!$A$3:$M$88,13,FALSE),)","v":0},null,null,null,null,null,{"$f":"IF(F666<>\"\",'CO2 konvertering'!$C$14,)","v":0},null,null,null,null,0]
[null,null,null,"Ja",null,null,null,null,"",null,"",{"$f":"IFERROR(VLOOKUP(F667,Biomasser!$A$3:$E$88,4,FALSE),0)","v":0},null,{"$f":"IFERROR(VLOOKUP(F667,Biomasser!$A$3:$E$88,5,FALSE),0)","v":0},"",0,null,null,{"$f":"IFERROR(VLOOKUP(F667,Biomasser!$A$3:$M$88,13,FALSE),)","v":0},null,null,null,null,null,{"$f":"IF(F667<>\"\",'CO2 konvertering'!$C$14,)","v":0},null,null,null,null,0]
[null,null,null,"Ja",null,null,null,null,"",null,"",{"$f":"IFERROR(VLOOKUP(F668,Biomasser!$A$3:$E$88,4,FALSE),0)","v":0},null,{"$f":"IFERROR(VLOOKUP(F668,Biomasser!$A$3:$E$88,5,FALSE),0)","v":0},"",0,null,null,{"$f":"IFERROR(VLOOKUP(F668,Biomasser!$A$3:$M$88,13,FALSE),)","v":0},null,null,null,null,null,{"$f":"IF(F668<>\"\",'CO2 konvertering'!$C$14,)","v":0},null,null,null,null,0]
[null,null,null,"Ja",null,null,null,null,"",null,"",{"$f":"IFERROR(VLOOKUP(F669,Biomasser!$A$3:$E$88,4,FALSE),0)","v":0},null,{"$f":"IFERROR(VLOOKUP(F669,Biomasser!$A$3:$E$88,5,FALSE),0)","v":0},"",0,null,null,{"$f":"IFERROR(VLOOKUP(F669,Biomasser!$A$3:$M$88,13,FALSE),)","v":0},null,null,null,null,null,{"$f":"IF(F669<>\"\",'CO2 konvertering'!$C$14,)","v":0},null,null,null,null,0]
[null,null,null,"Ja",null,null,null,null,"",null,"",{"$f":"IFERROR(VLOOKUP(F670,Biomasser!$A$3:$E$88,4,FALSE),0)","v":0},null,{"$f":"IFERROR(VLOOKUP(F670,Biomasser!$A$3:$E$88,5,FALSE),0)","v":0},"",0,null,null,{"$f":"IFERROR(VLOOKUP(F670,Biomasser!$A$3:$M$88,13,FALSE),)","v":0},null,null,null,null,null,{"$f":"IF(F670<>\"\",'CO2 konvertering'!$C$14,)","v":0},null,null,null,null,0]
[null,null,null,"Ja",null,null,null,null,"",null,"",{"$f":"IFERROR(VLOOKUP(F671,Biomasser!$A$3:$E$88,4,FALSE),0)","v":0},null,{"$f":"IFERROR(VLOOKUP(F671,Biomasser!$A$3:$E$88,5,FALSE),0)","v":0},"",0,null,null,{"$f":"IFERROR(VLOOKUP(F671,Biomasser!$A$3:$M$88,13,FALSE),)","v":0},null,null,null,null,null,{"$f":"IF(F671<>\"\",'CO2 konvertering'!$C$14,)","v":0},null,null,null,null,0]
[null,null,null,"Ja",null,null,null,null,"",null,"",{"$f":"IFERROR(VLOOKUP(F672,Biomasser!$A$3:$E$88,4,FALSE),0)","v":0},null,{"$f":"IFERROR(VLOOKUP(F672,Biomasser!$A$3:$E$88,5,FALSE),0)","v":0},"",{"$f":"J672*L672*N672*H672","v":0},null,null,{"$f":"IFERROR(VLOOKUP(F672,Biomasser!$A$3:$M$88,13,FALSE),)","v":0},null,null,null,null,null,{"$f":"IF(F672<>\"\",'CO2 konvertering'!$C$14,)","v":0},null,null,null,null,{"$f":"SUM(S672:AC672)","v":0}]
[null,null,null,"Ja",null,null,null,null,"",null,"",{"$f":"IFERROR(VLOOKUP(F673,Biomasser!$A$3:$E$88,4,FALSE),0)","v":0},null,{"$f":"IFERROR(VLOOKUP(F673,Biomasser!$A$3:$E$88,5,FALSE),0)","v":0},"",0,null,null,{"$f":"IFERROR(VLOOKUP(F673,Biomasser!$A$3:$M$88,13,FALSE),)","v":0},null,null,null,null,null,{"$f":"IF(F673<>\"\",'CO2 konvertering'!$C$14,)","v":0},null,null,null,null,0]
[null,null,null,"Ja",null,null,null,null,"",null,"",{"$f":"IFERROR(VLOOKUP(F674,Biomasser!$A$3:$E$88,4,FALSE),0)","v":0},null,{"$f":"IFERROR(VLOOKUP(F674,Biomasser!$A$3:$E$88,5,FALSE),0)","v":0},"",0,null,null,{"$f":"IFERROR(VLOOKUP(F674,Biomasser!$A$3:$M$88,13,FALSE),)","v":0},null,null,null,null,null,{"$f":"IF(F674<>\"\",'CO2 konvertering'!$C$14,)","v":0},null,null,null,null,0]
[null,null,null,"Ja",null,null,null,null,"",null,"",{"$f":"IFERROR(VLOOKUP(F675,Biomasser!$A$3:$E$88,4,FALSE),0)","v":0},null,{"$f":"IFERROR(VLOOKUP(F675,Biomasser!$A$3:$E$88,5,FALSE),0)","v":0},"",0,null,null,{"$f":"IFERROR(VLOOKUP(F675,Biomasser!$A$3:$M$88,13,FALSE),)","v":0},null,null,null,null,null,{"$f":"IF(F675<>\"\",'CO2 konvertering'!$C$14,)","v":0},null,null,null,null,0]
[null,null,null,"Ja",null,null,null,null,"",null,"",{"$f":"IFERROR(VLOOKUP(F676,Biomasser!$A$3:$E$88,4,FALSE),0)","v":0},null,{"$f":"IFERROR(VLOOKUP(F676,Biomasser!$A$3:$E$88,5,FALSE),0)","v":0},"",0,null,null,{"$f":"IFERROR(VLOOKUP(F676,Biomasser!$A$3:$M$88,13,FALSE),)","v":0},null,null,null,null,null,{"$f":"IF(F676<>\"\",'CO2 konvertering'!$C$14,)","v":0},null,null,null,null,0]
[null,null,null,"Ja",null,null,null,null,"",null,"",{"$f":"IFERROR(VLOOKUP(F677,Biomasser!$A$3:$E$88,4,FALSE),0)","v":0},null,{"$f":"IFERROR(VLOOKUP(F677,Biomasser!$A$3:$E$88,5,FALSE),0)","v":0},"",0,null,null,{"$f":"IFERROR(VLOOKUP(F677,Biomasser!$A$3:$M$88,13,FALSE),)","v":0},null,null,null,null,null,{"$f":"IF(F677<>\"\",'CO2 konvertering'!$C$14,)","v":0},null,null,null,null,0]
[null,null,null,"Ja",null,null,null,null,"",null,"",{"$f":"IFERROR(VLOOKUP(F678,Biomasser!$A$3:$E$88,4,FALSE),0)","v":0},null,{"$f":"IFERROR(VLOOKUP(F678,Biomasser!$A$3:$E$88,5,FALSE),0)","v":0},"",0,null,null,{"$f":"IFERROR(VLOOKUP(F678,Biomasser!$A$3:$M$88,13,FALSE),)","v":0},null,null,null,null,null,{"$f":"IF(F678<>\"\",'CO2 konvertering'!$C$14,)","v":0},null,null,null,null,0]
[null,null,null,"Ja",null,null,null,null,"",null,"",{"$f":"IFERROR(VLOOKUP(F679,Biomasser!$A$3:$E$88,4,FALSE),0)","v":0},null,{"$f":"IFERROR(VLOOKUP(F679,Biomasser!$A$3:$E$88,5,FALSE),0)","v":0},"",0,null,null,{"$f":"IFERROR(VLOOKUP(F679,Biomasser!$A$3:$M$88,13,FALSE),)","v":0},null,null,null,null,null,{"$f":"IF(F679<>\"\",'CO2 konvertering'!$C$14,)","v":0},null,null,null,null,0]
[null,null,null,"Ja",null,null,null,null,"",null,"",{"$f":"IFERROR(VLOOKUP(F680,Biomasser!$A$3:$E$88,4,FALSE),0)","v":0},null,{"$f":"IFERROR(VLOOKUP(F680,Biomasser!$A$3:$E$88,5,FALSE),0)","v":0},"",0,null,null,{"$f":"IFERROR(VLOOKUP(F680,Biomasser!$A$3:$M$88,13,FALSE),)","v":0},null,null,null,null,null,{"$f":"IF(F680<>\"\",'CO2 konvertering'!$C$14,)","v":0},null,null,null,null,0]
[null,null,null,"Ja",null,null,null,null,"",null,"",{"$f":"IFERROR(VLOOKUP(F681,Biomasser!$A$3:$E$88,4,FALSE),0)","v":0},null,{"$f":"IFERROR(VLOOKUP(F681,Biomasser!$A$3:$E$88,5,FALSE),0)","v":0},"",0,null,null,{"$f":"IFERROR(VLOOKUP(F681,Biomasser!$A$3:$M$88,13,FALSE),)","v":0},null,null,null,null,null,{"$f":"IF(F681<>\"\",'CO2 konvertering'!$C$14,)","v":0},null,null,null,null,0]
[null,null,null,"Ja",null,null,null,null,"",null,"",{"$f":"IFERROR(VLOOKUP(F682,Biomasser!$A$3:$E$88,4,FALSE),0)","v":0},null,{"$f":"IFERROR(VLOOKUP(F682,Biomasser!$A$3:$E$88,5,FALSE),0)","v":0},"",0,null,null,{"$f":"IFERROR(VLOOKUP(F682,Biomasser!$A$3:$M$88,13,FALSE),)","v":0},null,null,null,null,null,{"$f":"IF(F682<>\"\",'CO2 konvertering'!$C$14,)","v":0},null,null,null,null,0]
[null,null,null,"Ja",null,null,null,null,"",null,"",{"$f":"IFERROR(VLOOKUP(F683,Biomasser!$A$3:$E$88,4,FALSE),0)","v":0},null,{"$f":"IFERROR(VLOOKUP(F683,Biomasser!$A$3:$E$88,5,FALSE),0)","v":0},"",0,null,null,{"$f":"IFERROR(VLOOKUP(F683,Biomasser!$A$3:$M$88,13,FALSE),)","v":0},null,null,null,null,null,{"$f":"IF(F683<>\"\",'CO2 konvertering'!$C$14,)","v":0},null,null,null,null,0]
[null,null,null,"Ja",null,null,null,null,"",null,"",{"$f":"IFERROR(VLOOKUP(F684,Biomasser!$A$3:$E$88,4,FALSE),0)","v":0},null,{"$f":"IFERROR(VLOOKUP(F684,Biomasser!$A$3:$E$88,5,FALSE),0)","v":0},"",0,null,null,{"$f":"IFERROR(VLOOKUP(F684,Biomasser!$A$3:$M$88,13,FALSE),)","v":0},null,null,null,null,null,{"$f":"IF(F684<>\"\",'CO2 konvertering'!$C$14,)","v":0},null,null,null,null,0]
[null,null,null,"Ja",null,null,null,null,"",null,"",{"$f":"IFERROR(VLOOKUP(F685,Biomasser!$A$3:$E$88,4,FALSE),0)","v":0},null,{"$f":"IFERROR(VLOOKUP(F685,Biomasser!$A$3:$E$88,5,FALSE),0)","v":0},"",0,null,null,{"$f":"IFERROR(VLOOKUP(F685,Biomasser!$A$3:$M$88,13,FALSE),)","v":0},null,null,null,null,null,{"$f":"IF(F685<>\"\",'CO2 konvertering'!$C$14,)","v":0},null,null,null,null,0]
[null,null,null,"Ja",null,null,null,null,"",null,"",{"$f":"IFERROR(VLOOKUP(F686,Biomasser!$A$3:$E$88,4,FALSE),0)","v":0},null,{"$f":"IFERROR(VLOOKUP(F686,Biomasser!$A$3:$E$88,5,FALSE),0)","v":0},"",0,null,null,{"$f":"IFERROR(VLOOKUP(F686,Biomasser!$A$3:$M$88,13,FALSE),)","v":0},null,null,null,null,null,{"$f":"IF(F686<>\"\",'CO2 konvertering'!$C$14,)","v":0},null,null,null,null,0]
[null,null,null,"Ja",null,null,null,null,"",null,"",{"$f":"IFERROR(VLOOKUP(F687,Biomasser!$A$3:$E$88,4,FALSE),0)","v":0},null,{"$f":"IFERROR(VLOOKUP(F687,Biomasser!$A$3:$E$88,5,FALSE),0)","v":0},"",0,null,null,{"$f":"IFERROR(VLOOKUP(F687,Biomasser!$A$3:$M$88,13,FALSE),)","v":0},null,null,null,null,null,{"$f":"IF(F687<>\"\",'CO2 konvertering'!$C$14,)","v":0},null,null,null,null,0]
[null,null,null,"Ja",null,null,null,null,"",null,"",{"$f":"IFERROR(VLOOKUP(F688,Biomasser!$A$3:$E$88,4,FALSE),0)","v":0},null,{"$f":"IFERROR(VLOOKUP(F688,Biomasser!$A$3:$E$88,5,FALSE),0)","v":0},"",0,null,null,{"$f":"IFERROR(VLOOKUP(F688,Biomasser!$A$3:$M$88,13,FALSE),)","v":0},null,null,null,null,null,{"$f":"IF(F688<>\"\",'CO2 konvertering'!$C$14,)","v":0},null,null,null,null,0]
[null,null,null,"Ja",null,null,null,null,"",null,"",{"$f":"IFERROR(VLOOKUP(F689,Biomasser!$A$3:$E$88,4,FALSE),0)","v":0},null,{"$f":"IFERROR(VLOOKUP(F689,Biomasser!$A$3:$E$88,5,FALSE),0)","v":0},"",0,null,null,{"$f":"IFERROR(VLOOKUP(F689,Biomasser!$A$3:$M$88,13,FALSE),)","v":0},null,null,null,null,null,{"$f":"IF(F689<>\"\",'CO2 konvertering'!$C$14,)","v":0},null,null,null,null,0]
[null,null,null,"Ja",null,null,null,null,"",null,"",{"$f":"IFERROR(VLOOKUP(F690,Biomasser!$A$3:$E$88,4,FALSE),0)","v":0},null,{"$f":"IFERROR(VLOOKUP(F690,Biomasser!$A$3:$E$88,5,FALSE),0)","v":0},"",0,null,null,{"$f":"IFERROR(VLOOKUP(F690,Biomasser!$A$3:$M$88,13,FALSE),)","v":0},null,null,null,null,null,{"$f":"IF(F690<>\"\",'CO2 konvertering'!$C$14,)","v":0},null,null,null,null,0]
[null,null,null,"Ja",null,null,null,null,"",null,"",{"$f":"IFERROR(VLOOKUP(F691,Biomasser!$A$3:$E$88,4,FALSE),0)","v":0},null,{"$f":"IFERROR(VLOOKUP(F691,Biomasser!$A$3:$E$88,5,FALSE),0)","v":0},"",0,null,null,{"$f":"IFERROR(VLOOKUP(F691,Biomasser!$A$3:$M$88,13,FALSE),)","v":0},null,null,null,null,null,{"$f":"IF(F691<>\"\",'CO2 konvertering'!$C$14,)","v":0},null,null,null,null,0]
[null,null,null,"Ja",null,null,null,null,"",null,"",{"$f":"IFERROR(VLOOKUP(F692,Biomasser!$A$3:$E$88,4,FALSE),0)","v":0},null,{"$f":"IFERROR(VLOOKUP(F692,Biomasser!$A$3:$E$88,5,FALSE),0)","v":0},"",0,null,null,{"$f":"IFERROR(VLOOKUP(F692,Biomasser!$A$3:$M$88,13,FALSE),)","v":0},null,null,null,null,null,{"$f":"IF(F692<>\"\",'CO2 konvertering'!$C$14,)","v":0},null,null,null,null,0]
[null,null,null,"Ja",null,null,null,null,"",null,"",{"$f":"IFERROR(VLOOKUP(F693,Biomasser!$A$3:$E$88,4,FALSE),0)","v":0},null,{"$f":"IFERROR(VLOOKUP(F693,Biomasser!$A$3:$E$88,5,FALSE),0)","v":0},"",0,null,null,{"$f":"IFERROR(VLOOKUP(F693,Biomasser!$A$3:$M$88,13,FALSE),)","v":0},null,null,null,null,null,{"$f":"IF(F693<>\"\",'CO2 konvertering'!$C$14,)","v":0},null,null,null,null,0]
[null,null,null,"Ja",null,null,null,null,"",null,"",{"$f":"IFERROR(VLOOKUP(F694,Biomasser!$A$3:$E$88,4,FALSE),0)","v":0},null,{"$f":"IFERROR(VLOOKUP(F694,Biomasser!$A$3:$E$88,5,FALSE),0)","v":0},"",0,null,null,{"$f":"IFERROR(VLOOKUP(F694,Biomasser!$A$3:$M$88,13,FALSE),)","v":0},null,null,null,null,null,{"$f":"IF(F694<>\"\",'CO2 konvertering'!$C$14,)","v":0},null,null,null,null,0]
[null,null,null,"Ja",null,null,null,null,"",null,"",{"$f":"IFERROR(VLOOKUP(F695,Biomasser!$A$3:$E$88,4,FALSE),0)","v":0},null,{"$f":"IFERROR(VLOOKUP(F695,Biomasser!$A$3:$E$88,5,FALSE),0)","v":0},"",0,null,null,{"$f":"IFERROR(VLOOKUP(F695,Biomasser!$A$3:$M$88,13,FALSE),)","v":0},null,null,null,null,null,{"$f":"IF(F695<>\"\",'CO2 konvertering'!$C$14,)","v":0},null,null,null,null,0]
[null,null,null,"Ja",null,null,null,null,"",null,"",{"$f":"IFERROR(VLOOKUP(F696,Biomasser!$A$3:$E$88,4,FALSE),0)","v":0},null,{"$f":"IFERROR(VLOOKUP(F696,Biomasser!$A$3:$E$88,5,FALSE),0)","v":0},"",0,null,null,{"$f":"IFERROR(VLOOKUP(F696,Biomasser!$A$3:$M$88,13,FALSE),)","v":0},null,null,null,null,null,{"$f":"IF(F696<>\"\",'CO2 konvertering'!$C$14,)","v":0},null,null,null,null,0]
[null,null,null,"Ja",null,null,null,null,"",null,"",{"$f":"IFERROR(VLOOKUP(F697,Biomasser!$A$3:$E$88,4,FALSE),0)","v":0},null,{"$f":"IFERROR(VLOOKUP(F697,Biomasser!$A$3:$E$88,5,FALSE),0)","v":0},"",0,null,null,{"$f":"IFERROR(VLOOKUP(F697,Biomasser!$A$3:$M$88,13,FALSE),)","v":0},null,null,null,null,null,{"$f":"IF(F697<>\"\",'CO2 konvertering'!$C$14,)","v":0},null,null,null,null,0]
[null,null,null,"Ja",null,null,null,null,"",null,"",{"$f":"IFERROR(VLOOKUP(F698,Biomasser!$A$3:$E$88,4,FALSE),0)","v":0},null,{"$f":"IFERROR(VLOOKUP(F698,Biomasser!$A$3:$E$88,5,FALSE),0)","v":0},"",0,null,null,{"$f":"IFERROR(VLOOKUP(F698,Biomasser!$A$3:$M$88,13,FALSE),)","v":0},null,null,null,null,null,{"$f":"IF(F698<>\"\",'CO2 konvertering'!$C$14,)","v":0},null,null,null,null,0]
[null,null,null,"Ja",null,null,null,null,"",null,"",{"$f":"IFERROR(VLOOKUP(F699,Biomasser!$A$3:$E$88,4,FALSE),0)","v":0},null,{"$f":"IFERROR(VLOOKUP(F699,Biomasser!$A$3:$E$88,5,FALSE),0)","v":0},"",0,null,null,{"$f":"IFERROR(VLOOKUP(F699,Biomasser!$A$3:$M$88,13,FALSE),)","v":0},null,null,null,null,null,{"$f":"IF(F699<>\"\",'CO2 konvertering'!$C$14,)","v":0},null,null,null,null,0]
[null,null,null,"Ja",null,null,null,null,"",null,"",{"$f":"IFERROR(VLOOKUP(F700,Biomasser!$A$3:$E$88,4,FALSE),0)","v":0},null,{"$f":"IFERROR(VLOOKUP(F700,Biomasser!$A$3:$E$88,5,FALSE),0)","v":0},"",0,null,null,{"$f":"IFERROR(VLOOKUP(F700,Biomasser!$A$3:$M$88,13,FALSE),)","v":0},null,null,null,null,null,{"$f":"IF(F700<>\"\",'CO2 konvertering'!$C$14,)","v":0},null,null,null,null,0]
[null,null,null,"Ja",null,null,null,null,"",null,"",{"$f":"IFERROR(VLOOKUP(F701,Biomasser!$A$3:$E$88,4,FALSE),0)","v":0},null,{"$f":"IFERROR(VLOOKUP(F701,Biomasser!$A$3:$E$88,5,FALSE),0)","v":0},"",0,null,null,{"$f":"IFERROR(VLOOKUP(F701,Biomasser!$A$3:$M$88,13,FALSE),)","v":0},null,null,null,null,null,{"$f":"IF(F701<>\"\",'CO2 konvertering'!$C$14,)","v":0},null,null,null,null,0]
[null,null,null,"Ja",null,null,null,null,"",null,"",{"$f":"IFERROR(VLOOKUP(F702,Biomasser!$A$3:$E$88,4,FALSE),0)","v":0},null,{"$f":"IFERROR(VLOOKUP(F702,Biomasser!$A$3:$E$88,5,FALSE),0)","v":0},"",0,null,null,{"$f":"IFERROR(VLOOKUP(F702,Biomasser!$A$3:$M$88,13,FALSE),)","v":0},null,null,null,null,null,{"$f":"IF(F702<>\"\",'CO2 konvertering'!$C$14,)","v":0},null,null,null,null,0]
[null,null,null,"Ja",null,null,null,null,"",null,"",{"$f":"IFERROR(VLOOKUP(F703,Biomasser!$A$3:$E$88,4,FALSE),0)","v":0},null,{"$f":"IFERROR(VLOOKUP(F703,Biomasser!$A$3:$E$88,5,FALSE),0)","v":0},"",0,null,null,{"$f":"IFERROR(VLOOKUP(F703,Biomasser!$A$3:$M$88,13,FALSE),)","v":0},null,null,null,null,null,{"$f":"IF(F703<>\"\",'CO2 konvertering'!$C$14,)","v":0},null,null,null,null,0]
[null,null,null,"Ja",null,null,null,null,"",null,"",{"$f":"IFERROR(VLOOKUP(F704,Biomasser!$A$3:$E$88,4,FALSE),0)","v":0},null,{"$f":"IFERROR(VLOOKUP(F704,Biomasser!$A$3:$E$88,5,FALSE),0)","v":0},"",{"$f":"J704*L704*N704*H704","v":0},null,null,{"$f":"IFERROR(VLOOKUP(F704,Biomasser!$A$3:$M$88,13,FALSE),)","v":0},null,null,null,null,null,{"$f":"IF(F704<>\"\",'CO2 konvertering'!$C$14,)","v":0},null,null,null,null,{"$f":"SUM(S704:AC704)","v":0}]
[null,null,null,"Ja",null,null,null,null,{"$f":"IF(AND(F705<>\"\",ISBLANK(H705)),\"Indtast vægt\",\"\")","v":""},null,{"$f":"IF(AND(F705<>\"\",ISBLANK(J705)),\"Indtast tørstof %\",\"\")","v":""},{"$f":"IFERROR(VLOOKUP(F705,Biomasser!$A$3:$E$88,4,FALSE),0)","v":0},null,{"$f":"IFERROR(VLOOKUP(F705,Biomasser!$A$3:$E$88,5,FALSE),0)","v":0},"",0,null,null,{"$f":"IFERROR(VLOOKUP(F705,Biomasser!$A$3:$M$88,13,FALSE),)","v":0},null,null,null,null,null,{"$f":"IF(F705<>\"\",'CO2 konvertering'!$C$14,)","v":0},null,null,null,null,0]
[null,null,null,"Ja",null,null,null,null,"",null,"",{"$f":"IFERROR(VLOOKUP(F706,Biomasser!$A$3:$E$88,4,FALSE),0)","v":0},null,{"$f":"IFERROR(VLOOKUP(F706,Biomasser!$A$3:$E$88,5,FALSE),0)","v":0},"",0,null,null,{"$f":"IFERROR(VLOOKUP(F706,Biomasser!$A$3:$M$88,13,FALSE),)","v":0},null,null,null,null,null,{"$f":"IF(F706<>\"\",'CO2 konvertering'!$C$14,)","v":0},null,null,null,null,0]
[null,null,null,"Ja",null,null,null,null,"",null,"",{"$f":"IFERROR(VLOOKUP(F707,Biomasser!$A$3:$E$88,4,FALSE),0)","v":0},null,{"$f":"IFERROR(VLOOKUP(F707,Biomasser!$A$3:$E$88,5,FALSE),0)","v":0},"",0,null,null,{"$f":"IFERROR(VLOOKUP(F707,Biomasser!$A$3:$M$88,13,FALSE),)","v":0},null,null,null,null,null,{"$f":"IF(F707<>\"\",'CO2 konvertering'!$C$14,)","v":0},null,null,null,null,0]
[null,null,null,"Ja",null,null,null,null,"",null,"",{"$f":"IFERROR(VLOOKUP(F708,Biomasser!$A$3:$E$88,4,FALSE),0)","v":0},null,{"$f":"IFERROR(VLOOKUP(F708,Biomasser!$A$3:$E$88,5,FALSE),0)","v":0},{"$f":"IF(AND(F708<>\"\",(N708=0)),\"Opdater biomasseark\",\"\")","v":""},0,null,null,{"$f":"IFERROR(VLOOKUP(F708,Biomasser!$A$3:$M$88,13,FALSE),)","v":0},null,null,null,null,null,{"$f":"IF(F708<>\"\",'CO2 konvertering'!$C$14,)","v":0},null,null,null,null,0]
[null,null,null,"Ja",null,null,null,null,"",null,"",{"$f":"IFERROR(VLOOKUP(F709,Biomasser!$A$3:$E$88,4,FALSE),0)","v":0},null,{"$f":"IFERROR(VLOOKUP(F709,Biomasser!$A$3:$E$88,5,FALSE),0)","v":0},"",0,null,null,{"$f":"IFERROR(VLOOKUP(F709,Biomasser!$A$3:$M$88,13,FALSE),)","v":0},null,null,null,null,null,{"$f":"IF(F709<>\"\",'CO2 konvertering'!$C$14,)","v":0},null,null,null,null,0]
[null,null,null,"Ja",null,null,null,null,"",null,"",{"$f":"IFERROR(VLOOKUP(F710,Biomasser!$A$3:$E$88,4,FALSE),0)","v":0},null,{"$f":"IFERROR(VLOOKUP(F710,Biomasser!$A$3:$E$88,5,FALSE),0)","v":0},"",0,null,null,{"$f":"IFERROR(VLOOKUP(F710,Biomasser!$A$3:$M$88,13,FALSE),)","v":0},null,null,null,null,null,{"$f":"IF(F710<>\"\",'CO2 konvertering'!$C$14,)","v":0},null,null,null,null,0]
[null,null,null,"Ja",null,null,null,null,"",null,"",{"$f":"IFERROR(VLOOKUP(F711,Biomasser!$A$3:$E$88,4,FALSE),0)","v":0},null,{"$f":"IFERROR(VLOOKUP(F711,Biomasser!$A$3:$E$88,5,FALSE),0)","v":0},"",0,null,null,{"$f":"IFERROR(VLOOKUP(F711,Biomasser!$A$3:$M$88,13,FALSE),)","v":0},null,null,null,null,null,{"$f":"IF(F711<>\"\",'CO2 konvertering'!$C$14,)","v":0},null,null,null,null,0]
[null,null,null,"Ja",null,null,null,null,"",null,"",{"$f":"IFERROR(VLOOKUP(F712,Biomasser!$A$3:$E$88,4,FALSE),0)","v":0},null,{"$f":"IFERROR(VLOOKUP(F712,Biomasser!$A$3:$E$88,5,FALSE),0)","v":0},"",0,null,null,{"$f":"IFERROR(VLOOKUP(F712,Biomasser!$A$3:$M$88,13,FALSE),)","v":0},null,null,null,null,null,{"$f":"IF(F712<>\"\",'CO2 konvertering'!$C$14,)","v":0},null,null,null,null,0]
[null,null,null,"Ja",null,null,null,null,"",null,"",{"$f":"IFERROR(VLOOKUP(F713,Biomasser!$A$3:$E$88,4,FALSE),0)","v":0},null,{"$f":"IFERROR(VLOOKUP(F713,Biomasser!$A$3:$E$88,5,FALSE),0)","v":0},"",0,null,null,{"$f":"IFERROR(VLOOKUP(F713,Biomasser!$A$3:$M$88,13,FALSE),)","v":0},null,null,null,null,null,{"$f":"IF(F713<>\"\",'CO2 konvertering'!$C$14,)","v":0},null,null,null,null,0]
[null,null,null,"Ja",null,null,null,null,"",null,"",{"$f":"IFERROR(VLOOKUP(F714,Biomasser!$A$3:$E$88,4,FALSE),0)","v":0},null,{"$f":"IFERROR(VLOOKUP(F714,Biomasser!$A$3:$E$88,5,FALSE),0)","v":0},"",0,null,null,{"$f":"IFERROR(VLOOKUP(F714,Biomasser!$A$3:$M$88,13,FALSE),)","v":0},null,null,null,null,null,{"$f":"IF(F714<>\"\",'CO2 konvertering'!$C$14,)","v":0},null,null,null,null,0]
[null,null,null,"Ja",null,null,null,null,"",null,"",{"$f":"IFERROR(VLOOKUP(F715,Biomasser!$A$3:$E$88,4,FALSE),0)","v":0},null,{"$f":"IFERROR(VLOOKUP(F715,Biomasser!$A$3:$E$88,5,FALSE),0)","v":0},"",0,null,null,{"$f":"IFERROR(VLOOKUP(F715,Biomasser!$A$3:$M$88,13,FALSE),)","v":0},null,null,null,null,null,{"$f":"IF(F715<>\"\",'CO2 konvertering'!$C$14,)","v":0},null,null,null,null,0]
[null,null,null,"Ja",null,null,null,null,"",null,"",{"$f":"IFERROR(VLOOKUP(F716,Biomasser!$A$3:$E$88,4,FALSE),0)","v":0},null,{"$f":"IFERROR(VLOOKUP(F716,Biomasser!$A$3:$E$88,5,FALSE),0)","v":0},"",0,null,null,{"$f":"IFERROR(VLOOKUP(F716,Biomasser!$A$3:$M$88,13,FALSE),)","v":0},null,null,null,null,null,{"$f":"IF(F716<>\"\",'CO2 konvertering'!$C$14,)","v":0},null,null,null,null,0]
[null,null,null,"Ja",null,null,null,null,"",null,"",{"$f":"IFERROR(VLOOKUP(F717,Biomasser!$A$3:$E$88,4,FALSE),0)","v":0},null,{"$f":"IFERROR(VLOOKUP(F717,Biomasser!$A$3:$E$88,5,FALSE),0)","v":0},"",0,null,null,{"$f":"IFERROR(VLOOKUP(F717,Biomasser!$A$3:$M$88,13,FALSE),)","v":0},null,null,null,null,null,{"$f":"IF(F717<>\"\",'CO2 konvertering'!$C$14,)","v":0},null,null,null,null,0]
[null,null,null,"Ja",null,null,null,null,"",null,"",{"$f":"IFERROR(VLOOKUP(F718,Biomasser!$A$3:$E$88,4,FALSE),0)","v":0},null,{"$f":"IFERROR(VLOOKUP(F718,Biomasser!$A$3:$E$88,5,FALSE),0)","v":0},"",0,null,null,{"$f":"IFERROR(VLOOKUP(F718,Biomasser!$A$3:$M$88,13,FALSE),)","v":0},null,null,null,null,null,{"$f":"IF(F718<>\"\",'CO2 konvertering'!$C$14,)","v":0},null,null,null,null,0]
[null,null,null,"Ja",null,null,null,null,"",null,"",{"$f":"IFERROR(VLOOKUP(F719,Biomasser!$A$3:$E$88,4,FALSE),0)","v":0},null,{"$f":"IFERROR(VLOOKUP(F719,Biomasser!$A$3:$E$88,5,FALSE),0)","v":0},"",0,null,null,{"$f":"IFERROR(VLOOKUP(F719,Biomasser!$A$3:$M$88,13,FALSE),)","v":0},null,null,null,null,null,{"$f":"IF(F719<>\"\",'CO2 konvertering'!$C$14,)","v":0},null,null,null,null,0]
[null,null,null,"Ja",null,null,null,null,"",null,"",{"$f":"IFERROR(VLOOKUP(F720,Biomasser!$A$3:$E$88,4,FALSE),0)","v":0},null,{"$f":"IFERROR(VLOOKUP(F720,Biomasser!$A$3:$E$88,5,FALSE),0)","v":0},"",0,null,null,{"$f":"IFERROR(VLOOKUP(F720,Biomasser!$A$3:$M$88,13,FALSE),)","v":0},null,null,null,null,null,{"$f":"IF(F720<>\"\",'CO2 konvertering'!$C$14,)","v":0},null,null,null,null,0]
[null,null,null,"Ja",null,null,null,null,"",null,"",{"$f":"IFERROR(VLOOKUP(F721,Biomasser!$A$3:$E$88,4,FALSE),0)","v":0},null,{"$f":"IFERROR(VLOOKUP(F721,Biomasser!$A$3:$E$88,5,FALSE),0)","v":0},"",0,null,null,{"$f":"IFERROR(VLOOKUP(F721,Biomasser!$A$3:$M$88,13,FALSE),)","v":0},null,null,null,null,null,{"$f":"IF(F721<>\"\",'CO2 konvertering'!$C$14,)","v":0},null,null,null,null,0]
[null,null,null,"Ja",null,null,null,null,"",null,"",{"$f":"IFERROR(VLOOKUP(F722,Biomasser!$A$3:$E$88,4,FALSE),0)","v":0},null,{"$f":"IFERROR(VLOOKUP(F722,Biomasser!$A$3:$E$88,5,FALSE),0)","v":0},"",0,null,null,{"$f":"IFERROR(VLOOKUP(F722,Biomasser!$A$3:$M$88,13,FALSE),)","v":0},null,null,null,null,null,{"$f":"IF(F722<>\"\",'CO2 konvertering'!$C$14,)","v":0},null,null,null,null,0]
[null,null,null,"Ja",null,null,null,null,"",null,"",{"$f":"IFERROR(VLOOKUP(F723,Biomasser!$A$3:$E$88,4,FALSE),0)","v":0},null,{"$f":"IFERROR(VLOOKUP(F723,Biomasser!$A$3:$E$88,5,FALSE),0)","v":0},"",0,null,null,{"$f":"IFERROR(VLOOKUP(F723,Biomasser!$A$3:$M$88,13,FALSE),)","v":0},null,null,null,null,null,{"$f":"IF(F723<>\"\",'CO2 konvertering'!$C$14,)","v":0},null,null,null,null,0]
[null,null,null,"Ja",null,null,null,null,"",null,"",{"$f":"IFERROR(VLOOKUP(F724,Biomasser!$A$3:$E$88,4,FALSE),0)","v":0},null,{"$f":"IFERROR(VLOOKUP(F724,Biomasser!$A$3:$E$88,5,FALSE),0)","v":0},"",0,null,null,{"$f":"IFERROR(VLOOKUP(F724,Biomasser!$A$3:$M$88,13,FALSE),)","v":0},null,null,null,null,null,{"$f":"IF(F724<>\"\",'CO2 konvertering'!$C$14,)","v":0},null,null,null,null,0]
[null,null,null,"Ja",null,null,null,null,"",null,"",{"$f":"IFERROR(VLOOKUP(F725,Biomasser!$A$3:$E$88,4,FALSE),0)","v":0},null,{"$f":"IFERROR(VLOOKUP(F725,Biomasser!$A$3:$E$88,5,FALSE),0)","v":0},"",0,null,null,{"$f":"IFERROR(VLOOKUP(F725,Biomasser!$A$3:$M$88,13,FALSE),)","v":0},null,null,null,null,null,{"$f":"IF(F725<>\"\",'CO2 konvertering'!$C$14,)","v":0},null,null,null,null,0]
[null,null,null,"Ja",null,null,null,null,"",null,"",{"$f":"IFERROR(VLOOKUP(F726,Biomasser!$A$3:$E$88,4,FALSE),0)","v":0},null,{"$f":"IFERROR(VLOOKUP(F726,Biomasser!$A$3:$E$88,5,FALSE),0)","v":0},"",0,null,null,{"$f":"IFERROR(VLOOKUP(F726,Biomasser!$A$3:$M$88,13,FALSE),)","v":0},null,null,null,null,null,{"$f":"IF(F726<>\"\",'CO2 konvertering'!$C$14,)","v":0},null,null,null,null,0]
[null,null,null,"Ja",null,null,null,null,"",null,"",{"$f":"IFERROR(VLOOKUP(F727,Biomasser!$A$3:$E$88,4,FALSE),0)","v":0},null,{"$f":"IFERROR(VLOOKUP(F727,Biomasser!$A$3:$E$88,5,FALSE),0)","v":0},"",0,null,null,{"$f":"IFERROR(VLOOKUP(F727,Biomasser!$A$3:$M$88,13,FALSE),)","v":0},null,null,null,null,null,{"$f":"IF(F727<>\"\",'CO2 konvertering'!$C$14,)","v":0},null,null,null,null,0]
[null,null,null,"Ja",null,null,null,null,"",null,"",{"$f":"IFERROR(VLOOKUP(F728,Biomasser!$A$3:$E$88,4,FALSE),0)","v":0},null,{"$f":"IFERROR(VLOOKUP(F728,Biomasser!$A$3:$E$88,5,FALSE),0)","v":0},"",0,null,null,{"$f":"IFERROR(VLOOKUP(F728,Biomasser!$A$3:$M$88,13,FALSE),)","v":0},null,null,null,null,null,{"$f":"IF(F728<>\"\",'CO2 konvertering'!$C$14,)","v":0},null,null,null,null,0]
[null,null,null,"Ja",null,null,null,null,"",null,"",{"$f":"IFERROR(VLOOKUP(F729,Biomasser!$A$3:$E$88,4,FALSE),0)","v":0},null,{"$f":"IFERROR(VLOOKUP(F729,Biomasser!$A$3:$E$88,5,FALSE),0)","v":0},"",0,null,null,{"$f":"IFERROR(VLOOKUP(F729,Biomasser!$A$3:$M$88,13,FALSE),)","v":0},null,null,null,null,null,{"$f":"IF(F729<>\"\",'CO2 konvertering'!$C$14,)","v":0},null,null,null,null,0]
[null,null,null,"Ja",null,null,null,null,"",null,"",{"$f":"IFERROR(VLOOKUP(F730,Biomasser!$A$3:$E$88,4,FALSE),0)","v":0},null,{"$f":"IFERROR(VLOOKUP(F730,Biomasser!$A$3:$E$88,5,FALSE),0)","v":0},"",0,null,null,{"$f":"IFERROR(VLOOKUP(F730,Biomasser!$A$3:$M$88,13,FALSE),)","v":0},null,null,null,null,null,{"$f":"IF(F730<>\"\",'CO2 konvertering'!$C$14,)","v":0},null,null,null,null,0]
[null,null,null,"Ja",null,null,null,null,"",null,"",{"$f":"IFERROR(VLOOKUP(F731,Biomasser!$A$3:$E$88,4,FALSE),0)","v":0},null,{"$f":"IFERROR(VLOOKUP(F731,Biomasser!$A$3:$E$88,5,FALSE),0)","v":0},"",0,null,null,{"$f":"IFERROR(VLOOKUP(F731,Biomasser!$A$3:$M$88,13,FALSE),)","v":0},null,null,null,null,null,{"$f":"IF(F731<>\"\",'CO2 konvertering'!$C$14,)","v":0},null,null,null,null,0]
[null,null,null,"Ja",null,null,null,null,"",null,"",{"$f":"IFERROR(VLOOKUP(F732,Biomasser!$A$3:$E$88,4,FALSE),0)","v":0},null,{"$f":"IFERROR(VLOOKUP(F732,Biomasser!$A$3:$E$88,5,FALSE),0)","v":0},"",0,null,null,{"$f":"IFERROR(VLOOKUP(F732,Biomasser!$A$3:$M$88,13,FALSE),)","v":0},null,null,null,null,null,{"$f":"IF(F732<>\"\",'CO2 konvertering'!$C$14,)","v":0},null,null,null,null,0]
[null,null,null,"Ja",null,null,null,null,"",null,"",{"$f":"IFERROR(VLOOKUP(F733,Biomasser!$A$3:$E$88,4,FALSE),0)","v":0},null,{"$f":"IFERROR(VLOOKUP(F733,Biomasser!$A$3:$E$88,5,FALSE),0)","v":0},"",0,null,null,{"$f":"IFERROR(VLOOKUP(F733,Biomasser!$A$3:$M$88,13,FALSE),)","v":0},null,null,null,null,null,{"$f":"IF(F733<>\"\",'CO2 konvertering'!$C$14,)","v":0},null,null,null,null,0]
[null,null,null,"Ja",null,null,null,null,"",null,"",{"$f":"IFERROR(VLOOKUP(F734,Biomasser!$A$3:$E$88,4,FALSE),0)","v":0},null,{"$f":"IFERROR(VLOOKUP(F734,Biomasser!$A$3:$E$88,5,FALSE),0)","v":0},"",0,null,null,{"$f":"IFERROR(VLOOKUP(F734,Biomasser!$A$3:$M$88,13,FALSE),)","v":0},null,null,null,null,null,{"$f":"IF(F734<>\"\",'CO2 konvertering'!$C$14,)","v":0},null,null,null,null,0]
[null,null,null,"Ja",null,null,null,null,"",null,"",{"$f":"IFERROR(VLOOKUP(F735,Biomasser!$A$3:$E$88,4,FALSE),0)","v":0},null,{"$f":"IFERROR(VLOOKUP(F735,Biomasser!$A$3:$E$88,5,FALSE),0)","v":0},"",0,null,null,{"$f":"IFERROR(VLOOKUP(F735,Biomasser!$A$3:$M$88,13,FALSE),)","v":0},null,null,null,null,null,{"$f":"IF(F735<>\"\",'CO2 konvertering'!$C$14,)","v":0},null,null,null,null,0]
[null,null,null,"Ja",null,null,null,null,"",null,"",{"$f":"IFERROR(VLOOKUP(F736,Biomasser!$A$3:$E$88,4,FALSE),0)","v":0},null,{"$f":"IFERROR(VLOOKUP(F736,Biomasser!$A$3:$E$88,5,FALSE),0)","v":0},"",0,null,null,{"$f":"IFERROR(VLOOKUP(F736,Biomasser!$A$3:$M$88,13,FALSE),)","v":0},null,null,null,null,null,{"$f":"IF(F736<>\"\",'CO2 konvertering'!$C$14,)","v":0},null,null,null,null,{"$f":"SUM(S736:AC736)","v":0}]
[null,null,null,"Ja",null,null,null,null,"",null,"",{"$f":"IFERROR(VLOOKUP(F737,Biomasser!$A$3:$E$88,4,FALSE),0)","v":0},null,{"$f":"IFERROR(VLOOKUP(F737,Biomasser!$A$3:$E$88,5,FALSE),0)","v":0},"",0,null,null,{"$f":"IFERROR(VLOOKUP(F737,Biomasser!$A$3:$M$88,13,FALSE),)","v":0},null,null,null,null,null,{"$f":"IF(F737<>\"\",'CO2 konvertering'!$C$14,)","v":0},null,null,null,null,0]
[null,null,null,"Ja",null,null,null,null,"",null,"",{"$f":"IFERROR(VLOOKUP(F738,Biomasser!$A$3:$E$88,4,FALSE),0)","v":0},null,{"$f":"IFERROR(VLOOKUP(F738,Biomasser!$A$3:$E$88,5,FALSE),0)","v":0},"",0,null,null,{"$f":"IFERROR(VLOOKUP(F738,Biomasser!$A$3:$M$88,13,FALSE),)","v":0},null,null,null,null,null,{"$f":"IF(F738<>\"\",'CO2 konvertering'!$C$14,)","v":0},null,null,null,null,0]
[null,null,null,"Ja",null,null,null,null,"",null,"",{"$f":"IFERROR(VLOOKUP(F739,Biomasser!$A$3:$E$88,4,FALSE),0)","v":0},null,{"$f":"IFERROR(VLOOKUP(F739,Biomasser!$A$3:$E$88,5,FALSE),0)","v":0},"",0,null,null,{"$f":"IFERROR(VLOOKUP(F739,Biomasser!$A$3:$M$88,13,FALSE),)","v":0},null,null,null,null,null,{"$f":"IF(F739<>\"\",'CO2 konvertering'!$C$14,)","v":0},null,null,null,null,0]
[null,null,null,"Ja",null,null,null,null,"",null,"",{"$f":"IFERROR(VLOOKUP(F740,Biomasser!$A$3:$E$88,4,FALSE),0)","v":0},null,{"$f":"IFERROR(VLOOKUP(F740,Biomasser!$A$3:$E$88,5,FALSE),0)","v":0},"",0,null,null,{"$f":"IFERROR(VLOOKUP(F740,Biomasser!$A$3:$M$88,13,FALSE),)","v":0},null,null,null,null,null,{"$f":"IF(F740<>\"\",'CO2 konvertering'!$C$14,)","v":0},null,null,null,null,0]
[null,"Dato:",null,null,null,"Mængde biomasse (Ton)",null,"Gasproduktion"]
["Gas","8. januar",2015,null,null,{"$f":"SUM(H745:H845)","v":0},null,null,"m3 CH4"]
[null,"Leverandør",null,"Certificeret",null,"Råvarer input","          Mængder                 \n      (Ton vådvægt)            ",null,null,"Tørstof\n%",null,"Omsættelig tørstof\n%",null,"Gaspotentiale\nm³ CH4/ton VS",null,"Teoretisk\ngasproduktion\nm³ CH4"]
[]
[{"$f":"B742&C742","v":"8. januar2015"},null,null,"Ja",null,null,null,null,{"$f":"IF(AND(F745<>\"\",ISBLANK(H745)),\"Indtast vægt\",\"\")","v":""},null,{"$f":"IF(AND(F745<>\"\",ISBLANK(J745)),\"Indtast tørstof %\",\"\")","v":""},{"$f":"IFERROR(VLOOKUP(F745,Biomasser!$A$3:$E$88,4,FALSE),)","v":0},null,{"$f":"IFERROR(VLOOKUP(F745,Biomasser!$A$3:$E$88,5,FALSE),0)","v":0},{"$f":"IF(AND(F745<>\"\",(N745=0)),\"Opdater biomasseark\",\"\")","v":""},{"$f":"J745*L745*N745*H745","v":0},null,null,{"$f":"IFERROR(VLOOKUP(F745,Biomasser!$A$3:$M$88,13,FALSE),)","v":0},null,null,null,null,null,{"$f":"IF(F745<>\"\",'CO2 konvertering'!$C$14,)","v":0},null,null,null,null,{"$f":"SUM(S745:AC745)","v":0}]
[null,null,null,"Ja",null,null,null,null,{"$f":"IF(AND(F746<>\"\",ISBLANK(H746)),\"Indtast vægt\",\"\")","v":""},null,{"$f":"IF(AND(F746<>\"\",ISBLANK(J746)),\"Indtast tørstof %\",\"\")","v":""},{"$f":"IFERROR(VLOOKUP(F746,Biomasser!$A$3:$E$88,4,FALSE),0)","v":0},null,{"$f":"IFERROR(VLOOKUP(F746,Biomasser!$A$3:$E$88,5,FALSE),0)","v":0},"",0,null,null,{"$f":"IFERROR(VLOOKUP(F746,Biomasser!$A$3:$M$88,13,FALSE),)","v":0},null,null,null,null,null,{"$f":"IF(F746<>\"\",'CO2 konvertering'!$C$14,)","v":0},null,null,null,null,0]
[null,null,null,"Ja",null,null,null,null,"",null,"",{"$f":"IFERROR(VLOOKUP(F747,Biomasser!$A$3:$E$88,4,FALSE),0)","v":0},null,{"$f":"IFERROR(VLOOKUP(F747,Biomasser!$A$3:$E$88,5,FALSE),0)","v":0},"",0,null,null,{"$f":"IFERROR(VLOOKUP(F747,Biomasser!$A$3:$M$88,13,FALSE),)","v":0},null,null,null,null,null,{"$f":"IF(F747<>\"\",'CO2 konvertering'!$C$14,)","v":0},null,null,null,null,0]
[null,null,null,"Ja",null,null,null,null,"",null,"",{"$f":"IFERROR(VLOOKUP(F748,Biomasser!$A$3:$E$88,4,FALSE),0)","v":0},null,{"$f":"IFERROR(VLOOKUP(F748,Biomasser!$A$3:$E$88,5,FALSE),0)","v":0},{"$f":"IF(AND(F748<>\"\",(N748=0)),\"Opdater biomasseark\",\"\")","v":""},0,null,null,{"$f":"IFERROR(VLOOKUP(F748,Biomasser!$A$3:$M$88,13,FALSE),)","v":0},null,null,null,null,null,{"$f":"IF(F748<>\"\",'CO2 konvertering'!$C$14,)","v":0},null,null,null,null,0]
[null,null,null,"Ja",null,null,null,null,"",null,"",{"$f":"IFERROR(VLOOKUP(F749,Biomasser!$A$3:$E$88,4,FALSE),0)","v":0},null,{"$f":"IFERROR(VLOOKUP(F749,Biomasser!$A$3:$E$88,5,FALSE),0)","v":0},{"$f":"IF(AND(F749<>\"\",(N749=0)),\"Opdater biomasseark\",\"\")","v":""},0,null,null,{"$f":"IFERROR(VLOOKUP(F749,Biomasser!$A$3:$M$88,13,FALSE),)","v":0},null,null,null,null,null,{"$f":"IF(F749<>\"\",'CO2 konvertering'!$C$14,)","v":0},null,null,null,null,0]
[null,null,null,"Ja",null,null,null,null,"",null,"",{"$f":"IFERROR(VLOOKUP(F750,Biomasser!$A$3:$E$88,4,FALSE),0)","v":0},null,{"$f":"IFERROR(VLOOKUP(F750,Biomasser!$A$3:$E$88,5,FALSE),0)","v":0},"",0,null,null,{"$f":"IFERROR(VLOOKUP(F750,Biomasser!$A$3:$M$88,13,FALSE),)","v":0},null,null,null,null,null,{"$f":"IF(F750<>\"\",'CO2 konvertering'!$C$14,)","v":0},null,null,null,null,0]
[null,null,null,"Ja",null,null,null,null,"",null,"",{"$f":"IFERROR(VLOOKUP(F751,Biomasser!$A$3:$E$88,4,FALSE),0)","v":0},null,{"$f":"IFERROR(VLOOKUP(F751,Biomasser!$A$3:$E$88,5,FALSE),0)","v":0},"",0,null,null,{"$f":"IFERROR(VLOOKUP(F751,Biomasser!$A$3:$M$88,13,FALSE),)","v":0},null,null,null,null,null,{"$f":"IF(F751<>\"\",'CO2 konvertering'!$C$14,)","v":0},null,null,null,null,0]
[null,null,null,"Ja",null,null,null,null,"",null,"",{"$f":"IFERROR(VLOOKUP(F752,Biomasser!$A$3:$E$88,4,FALSE),0)","v":0},null,{"$f":"IFERROR(VLOOKUP(F752,Biomasser!$A$3:$E$88,5,FALSE),0)","v":0},"",0,null,null,{"$f":"IFERROR(VLOOKUP(F752,Biomasser!$A$3:$M$88,13,FALSE),)","v":0},null,null,null,null,null,{"$f":"IF(F752<>\"\",'CO2 konvertering'!$C$14,)","v":0},null,null,null,null,0]
[null,null,null,"Ja",null,null,null,null,"",null,"",{"$f":"IFERROR(VLOOKUP(F753,Biomasser!$A$3:$E$88,4,FALSE),0)","v":0},null,{"$f":"IFERROR(VLOOKUP(F753,Biomasser!$A$3:$E$88,5,FALSE),0)","v":0},"",0,null,null,{"$f":"IFERROR(VLOOKUP(F753,Biomasser!$A$3:$M$88,13,FALSE),)","v":0},null,null,null,null,null,{"$f":"IF(F753<>\"\",'CO2 konvertering'!$C$14,)","v":0},null,null,null,null,0]
[null,null,null,"Ja",null,null,null,null,"",null,"",{"$f":"IFERROR(VLOOKUP(F754,Biomasser!$A$3:$E$88,4,FALSE),0)","v":0},null,{"$f":"IFERROR(VLOOKUP(F754,Biomasser!$A$3:$E$88,5,FALSE),0)","v":0},"",0,null,null,{"$f":"IFERROR(VLOOKUP(F754,Biomasser!$A$3:$M$88,13,FALSE),)","v":0},null,null,null,null,null,{"$f":"IF(F754<>\"\",'CO2 konvertering'!$C$14,)","v":0},null,null,null,null,0]
[null,null,null,"Ja",null,null,null,null,"",null,"",{"$f":"IFERROR(VLOOKUP(F755,Biomasser!$A$3:$E$88,4,FALSE),0)","v":0},null,{"$f":"IFERROR(VLOOKUP(F755,Biomasser!$A$3:$E$88,5,FALSE),0)","v":0},"",0,null,null,{"$f":"IFERROR(VLOOKUP(F755,Biomasser!$A$3:$M$88,13,FALSE),)","v":0},null,null,null,null,null,{"$f":"IF(F755<>\"\",'CO2 konvertering'!$C$14,)","v":0},null,null,null,null,0]
[null,null,null,"Ja",null,null,null,null,"",null,"",{"$f":"IFERROR(VLOOKUP(F756,Biomasser!$A$3:$E$88,4,FALSE),0)","v":0},null,{"$f":"IFERROR(VLOOKUP(F756,Biomasser!$A$3:$E$88,5,FALSE),0)","v":0},"",0,null,null,{"$f":"IFERROR(VLOOKUP(F756,Biomasser!$A$3:$M$88,13,FALSE),)","v":0},null,null,null,null,null,{"$f":"IF(F756<>\"\",'CO2 konvertering'!$C$14,)","v":0},null,null,null,null,0]
[null,null,null,"Ja",null,null,null,null,"",null,"",{"$f":"IFERROR(VLOOKUP(F757,Biomasser!$A$3:$E$88,4,FALSE),0)","v":0},null,{"$f":"IFERROR(VLOOKUP(F757,Biomasser!$A$3:$E$88,5,FALSE),0)","v":0},"",0,null,null,{"$f":"IFERROR(VLOOKUP(F757,Biomasser!$A$3:$M$88,13,FALSE),)","v":0},null,null,null,null,null,{"$f":"IF(F757<>\"\",'CO2 konvertering'!$C$14,)","v":0},null,null,null,null,0]
[null,null,null,"Ja",null,null,null,null,"",null,"",{"$f":"IFERROR(VLOOKUP(F758,Biomasser!$A$3:$E$88,4,FALSE),0)","v":0},null,{"$f":"IFERROR(VLOOKUP(F758,Biomasser!$A$3:$E$88,5,FALSE),0)","v":0},"",0,null,null,{"$f":"IFERROR(VLOOKUP(F758,Biomasser!$A$3:$M$88,13,FALSE),)","v":0},null,null,null,null,null,{"$f":"IF(F758<>\"\",'CO2 konvertering'!$C$14,)","v":0},null,null,null,null,0]
[null,null,null,"Ja",null,null,null,null,"",null,"",{"$f":"IFERROR(VLOOKUP(F759,Biomasser!$A$3:$E$88,4,FALSE),0)","v":0},null,{"$f":"IFERROR(VLOOKUP(F759,Biomasser!$A$3:$E$88,5,FALSE),0)","v":0},"",0,null,null,{"$f":"IFERROR(VLOOKUP(F759,Biomasser!$A$3:$M$88,13,FALSE),)","v":0},null,null,null,null,null,{"$f":"IF(F759<>\"\",'CO2 konvertering'!$C$14,)","v":0},null,null,null,null,0]
[null,null,null,"Ja",null,null,null,null,"",null,"",{"$f":"IFERROR(VLOOKUP(F760,Biomasser!$A$3:$E$88,4,FALSE),0)","v":0},null,{"$f":"IFERROR(VLOOKUP(F760,Biomasser!$A$3:$E$88,5,FALSE),0)","v":0},"",0,null,null,{"$f":"IFERROR(VLOOKUP(F760,Biomasser!$A$3:$M$88,13,FALSE),)","v":0},null,null,null,null,null,{"$f":"IF(F760<>\"\",'CO2 konvertering'!$C$14,)","v":0},null,null,null,null,0]
[null,null,null,"Ja",null,null,null,null,"",null,"",{"$f":"IFERROR(VLOOKUP(F761,Biomasser!$A$3:$E$88,4,FALSE),0)","v":0},null,{"$f":"IFERROR(VLOOKUP(F761,Biomasser!$A$3:$E$88,5,FALSE),0)","v":0},"",0,null,null,{"$f":"IFERROR(VLOOKUP(F761,Biomasser!$A$3:$M$88,13,FALSE),)","v":0},null,null,null,null,null,{"$f":"IF(F761<>\"\",'CO2 konvertering'!$C$14,)","v":0},null,null,null,null,0]
[null,null,null,"Ja",null,null,null,null,"",null,"",{"$f":"IFERROR(VLOOKUP(F762,Biomasser!$A$3:$E$88,4,FALSE),0)","v":0},null,{"$f":"IFERROR(VLOOKUP(F762,Biomasser!$A$3:$E$88,5,FALSE),0)","v":0},"",0,null,null,{"$f":"IFERROR(VLOOKUP(F762,Biomasser!$A$3:$M$88,13,FALSE),)","v":0},null,null,null,null,null,{"$f":"IF(F762<>\"\",'CO2 konvertering'!$C$14,)","v":0},null,null,null,null,0]
[null,null,null,"Ja",null,null,null,null,"",null,"",{"$f":"IFERROR(VLOOKUP(F763,Biomasser!$A$3:$E$88,4,FALSE),0)","v":0},null,{"$f":"IFERROR(VLOOKUP(F763,Biomasser!$A$3:$E$88,5,FALSE),0)","v":0},"",0,null,null,{"$f":"IFERROR(VLOOKUP(F763,Biomasser!$A$3:$M$88,13,FALSE),)","v":0},null,null,null,null,null,{"$f":"IF(F763<>\"\",'CO2 konvertering'!$C$14,)","v":0},null,null,null,null,0]
[null,null,null,"Ja",null,null,null,null,"",null,"",{"$f":"IFERROR(VLOOKUP(F764,Biomasser!$A$3:$E$88,4,FALSE),0)","v":0},null,{"$f":"IFERROR(VLOOKUP(F764,Biomasser!$A$3:$E$88,5,FALSE),0)","v":0},"",0,null,null,{"$f":"IFERROR(VLOOKUP(F764,Biomasser!$A$3:$M$88,13,FALSE),)","v":0},null,null,null,null,null,{"$f":"IF(F764<>\"\",'CO2 konvertering'!$C$14,)","v":0},null,null,null,null,0]
[null,null,null,"Ja",null,null,null,null,"",null,"",{"$f":"IFERROR(VLOOKUP(F765,Biomasser!$A$3:$E$88,4,FALSE),0)","v":0},null,{"$f":"IFERROR(VLOOKUP(F765,Biomasser!$A$3:$E$88,5,FALSE),0)","v":0},"",0,null,null,{"$f":"IFERROR(VLOOKUP(F765,Biomasser!$A$3:$M$88,13,FALSE),)","v":0},null,null,null,null,null,{"$f":"IF(F765<>\"\",'CO2 konvertering'!$C$14,)","v":0},null,null,null,null,0]
[null,null,null,"Ja",null,null,null,null,"",null,"",{"$f":"IFERROR(VLOOKUP(F766,Biomasser!$A$3:$E$88,4,FALSE),0)","v":0},null,{"$f":"IFERROR(VLOOKUP(F766,Biomasser!$A$3:$E$88,5,FALSE),0)","v":0},"",0,null,null,{"$f":"IFERROR(VLOOKUP(F766,Biomasser!$A$3:$M$88,13,FALSE),)","v":0},null,null,null,null,null,{"$f":"IF(F766<>\"\",'CO2 konvertering'!$C$14,)","v":0},null,null,null,null,0]
[null,null,null,"Ja",null,null,null,null,"",null,"",{"$f":"IFERROR(VLOOKUP(F767,Biomasser!$A$3:$E$88,4,FALSE),0)","v":0},null,{"$f":"IFERROR(VLOOKUP(F767,Biomasser!$A$3:$E$88,5,FALSE),0)","v":0},"",0,null,null,{"$f":"IFERROR(VLOOKUP(F767,Biomasser!$A$3:$M$88,13,FALSE),)","v":0},null,null,null,null,null,{"$f":"IF(F767<>\"\",'CO2 konvertering'!$C$14,)","v":0},null,null,null,null,0]
[null,null,null,"Ja",null,null,null,null,"",null,"",{"$f":"IFERROR(VLOOKUP(F768,Biomasser!$A$3:$E$88,4,FALSE),0)","v":0},null,{"$f":"IFERROR(VLOOKUP(F768,Biomasser!$A$3:$E$88,5,FALSE),0)","v":0},"",0,null,null,{"$f":"IFERROR(VLOOKUP(F768,Biomasser!$A$3:$M$88,13,FALSE),)","v":0},null,null,null,null,null,{"$f":"IF(F768<>\"\",'CO2 konvertering'!$C$14,)","v":0},null,null,null,null,0]
[null,null,null,"Ja",null,null,null,null,"",null,"",{"$f":"IFERROR(VLOOKUP(F769,Biomasser!$A$3:$E$88,4,FALSE),0)","v":0},null,{"$f":"IFERROR(VLOOKUP(F769,Biomasser!$A$3:$E$88,5,FALSE),0)","v":0},"",0,null,null,{"$f":"IFERROR(VLOOKUP(F769,Biomasser!$A$3:$M$88,13,FALSE),)","v":0},null,null,null,null,null,{"$f":"IF(F769<>\"\",'CO2 konvertering'!$C$14,)","v":0},null,null,null,null,0]
[null,null,null,"Ja",null,null,null,null,"",null,"",{"$f":"IFERROR(VLOOKUP(F770,Biomasser!$A$3:$E$88,4,FALSE),0)","v":0},null,{"$f":"IFERROR(VLOOKUP(F770,Biomasser!$A$3:$E$88,5,FALSE),0)","v":0},"",0,null,null,{"$f":"IFERROR(VLOOKUP(F770,Biomasser!$A$3:$M$88,13,FALSE),)","v":0},null,null,null,null,null,{"$f":"IF(F770<>\"\",'CO2 konvertering'!$C$14,)","v":0},null,null,null,null,0]
[null,null,null,"Ja",null,null,null,null,"",null,"",{"$f":"IFERROR(VLOOKUP(F771,Biomasser!$A$3:$E$88,4,FALSE),0)","v":0},null,{"$f":"IFERROR(VLOOKUP(F771,Biomasser!$A$3:$E$88,5,FALSE),0)","v":0},"",0,null,null,{"$f":"IFERROR(VLOOKUP(F771,Biomasser!$A$3:$M$88,13,FALSE),)","v":0},null,null,null,null,null,{"$f":"IF(F771<>\"\",'CO2 konvertering'!$C$14,)","v":0},null,null,null,null,0]
[null,null,null,"Ja",null,null,null,null,"",null,"",{"$f":"IFERROR(VLOOKUP(F772,Biomasser!$A$3:$E$88,4,FALSE),0)","v":0},null,{"$f":"IFERROR(VLOOKUP(F772,Biomasser!$A$3:$E$88,5,FALSE),0)","v":0},"",0,null,null,{"$f":"IFERROR(VLOOKUP(F772,Biomasser!$A$3:$M$88,13,FALSE),)","v":0},null,null,null,null,null,{"$f":"IF(F772<>\"\",'CO2 konvertering'!$C$14,)","v":0},null,null,null,null,0]
[null,null,null,"Ja",null,null,null,null,"",null,"",{"$f":"IFERROR(VLOOKUP(F773,Biomasser!$A$3:$E$88,4,FALSE),0)","v":0},null,{"$f":"IFERROR(VLOOKUP(F773,Biomasser!$A$3:$E$88,5,FALSE),0)","v":0},"",0,null,null,{"$f":"IFERROR(VLOOKUP(F773,Biomasser!$A$3:$M$88,13,FALSE),)","v":0},null,null,null,null,null,{"$f":"IF(F773<>\"\",'CO2 konvertering'!$C$14,)","v":0},null,null,null,null,0]
[null,null,null,"Ja",null,null,null,null,"",null,"",{"$f":"IFERROR(VLOOKUP(F774,Biomasser!$A$3:$E$88,4,FALSE),0)","v":0},null,{"$f":"IFERROR(VLOOKUP(F774,Biomasser!$A$3:$E$88,5,FALSE),0)","v":0},"",0,null,null,{"$f":"IFERROR(VLOOKUP(F774,Biomasser!$A$3:$M$88,13,FALSE),)","v":0},null,null,null,null,null,{"$f":"IF(F774<>\"\",'CO2 konvertering'!$C$14,)","v":0},null,null,null,null,0]
[null,null,null,"Ja",null,null,null,null,"",null,"",{"$f":"IFERROR(VLOOKUP(F775,Biomasser!$A$3:$E$88,4,FALSE),0)","v":0},null,{"$f":"IFERROR(VLOOKUP(F775,Biomasser!$A$3:$E$88,5,FALSE),0)","v":0},"",0,null,null,{"$f":"IFERROR(VLOOKUP(F775,Biomasser!$A$3:$M$88,13,FALSE),)","v":0},null,null,null,null,null,{"$f":"IF(F775<>\"\",'CO2 konvertering'!$C$14,)","v":0},null,null,null,null,0]
[null,null,null,"Ja",null,null,null,null,"",null,"",{"$f":"IFERROR(VLOOKUP(F776,Biomasser!$A$3:$E$88,4,FALSE),0)","v":0},null,{"$f":"IFERROR(VLOOKUP(F776,Biomasser!$A$3:$E$88,5,FALSE),0)","v":0},"",0,null,null,{"$f":"IFERROR(VLOOKUP(F776,Biomasser!$A$3:$M$88,13,FALSE),)","v":0},null,null,null,null,null,{"$f":"IF(F776<>\"\",'CO2 konvertering'!$C$14,)","v":0},null,null,null,null,0]
[null,null,null,"Ja",null,null,null,null,"",null,"",{"$f":"IFERROR(VLOOKUP(F777,Biomasser!$A$3:$E$88,4,FALSE),0)","v":0},null,{"$f":"IFERROR(VLOOKUP(F777,Biomasser!$A$3:$E$88,5,FALSE),0)","v":0},"",{"$f":"J777*L777*N777*H777","v":0},null,null,{"$f":"IFERROR(VLOOKUP(F777,Biomasser!$A$3:$M$88,13,FALSE),)","v":0},null,null,null,null,null,{"$f":"IF(F777<>\"\",'CO2 konvertering'!$C$14,)","v":0},null,null,null,null,{"$f":"SUM(S777:AC777)","v":0}]
[null,null,null,"Ja",null,null,null,null,"",null,"",{"$f":"IFERROR(VLOOKUP(F778,Biomasser!$A$3:$E$88,4,FALSE),0)","v":0},null,{"$f":"IFERROR(VLOOKUP(F778,Biomasser!$A$3:$E$88,5,FALSE),0)","v":0},"",0,null,null,{"$f":"IFERROR(VLOOKUP(F778,Biomasser!$A$3:$M$88,13,FALSE),)","v":0},null,null,null,null,null,{"$f":"IF(F778<>\"\",'CO2 konvertering'!$C$14,)","v":0},null,null,null,null,0]
[null,null,null,"Ja",null,null,null,null,"",null,"",{"$f":"IFERROR(VLOOKUP(F779,Biomasser!$A$3:$E$88,4,FALSE),0)","v":0},null,{"$f":"IFERROR(VLOOKUP(F779,Biomasser!$A$3:$E$88,5,FALSE),0)","v":0},"",0,null,null,{"$f":"IFERROR(VLOOKUP(F779,Biomasser!$A$3:$M$88,13,FALSE),)","v":0},null,null,null,null,null,{"$f":"IF(F779<>\"\",'CO2 konvertering'!$C$14,)","v":0},null,null,null,null,0]
[null,null,null,"Ja",null,null,null,null,"",null,"",{"$f":"IFERROR(VLOOKUP(F780,Biomasser!$A$3:$E$88,4,FALSE),0)","v":0},null,{"$f":"IFERROR(VLOOKUP(F780,Biomasser!$A$3:$E$88,5,FALSE),0)","v":0},"",0,null,null,{"$f":"IFERROR(VLOOKUP(F780,Biomasser!$A$3:$M$88,13,FALSE),)","v":0},null,null,null,null,null,{"$f":"IF(F780<>\"\",'CO2 konvertering'!$C$14,)","v":0},null,null,null,null,0]
[null,null,null,"Ja",null,null,null,null,"",null,"",{"$f":"IFERROR(VLOOKUP(F781,Biomasser!$A$3:$E$88,4,FALSE),0)","v":0},null,{"$f":"IFERROR(VLOOKUP(F781,Biomasser!$A$3:$E$88,5,FALSE),0)","v":0},"",0,null,null,{"$f":"IFERROR(VLOOKUP(F781,Biomasser!$A$3:$M$88,13,FALSE),)","v":0},null,null,null,null,null,{"$f":"IF(F781<>\"\",'CO2 konvertering'!$C$14,)","v":0},null,null,null,null,0]
[null,null,null,"Ja",null,null,null,null,"",null,"",{"$f":"IFERROR(VLOOKUP(F782,Biomasser!$A$3:$E$88,4,FALSE),0)","v":0},null,{"$f":"IFERROR(VLOOKUP(F782,Biomasser!$A$3:$E$88,5,FALSE),0)","v":0},"",0,null,null,{"$f":"IFERROR(VLOOKUP(F782,Biomasser!$A$3:$M$88,13,FALSE),)","v":0},null,null,null,null,null,{"$f":"IF(F782<>\"\",'CO2 konvertering'!$C$14,)","v":0},null,null,null,null,0]
[null,null,null,"Ja",null,null,null,null,"",null,"",{"$f":"IFERROR(VLOOKUP(F783,Biomasser!$A$3:$E$88,4,FALSE),0)","v":0},null,{"$f":"IFERROR(VLOOKUP(F783,Biomasser!$A$3:$E$88,5,FALSE),0)","v":0},"",0,null,null,{"$f":"IFERROR(VLOOKUP(F783,Biomasser!$A$3:$M$88,13,FALSE),)","v":0},null,null,null,null,null,{"$f":"IF(F783<>\"\",'CO2 konvertering'!$C$14,)","v":0},null,null,null,null,0]
[null,null,null,"Ja",null,null,null,null,"",null,"",{"$f":"IFERROR(VLOOKUP(F784,Biomasser!$A$3:$E$88,4,FALSE),0)","v":0},null,{"$f":"IFERROR(VLOOKUP(F784,Biomasser!$A$3:$E$88,5,FALSE),0)","v":0},"",0,null,null,{"$f":"IFERROR(VLOOKUP(F784,Biomasser!$A$3:$M$88,13,FALSE),)","v":0},null,null,null,null,null,{"$f":"IF(F784<>\"\",'CO2 konvertering'!$C$14,)","v":0},null,null,null,null,0]
[null,null,null,"Ja",null,null,null,null,"",null,"",{"$f":"IFERROR(VLOOKUP(F785,Biomasser!$A$3:$E$88,4,FALSE),0)","v":0},null,{"$f":"IFERROR(VLOOKUP(F785,Biomasser!$A$3:$E$88,5,FALSE),0)","v":0},"",0,null,null,{"$f":"IFERROR(VLOOKUP(F785,Biomasser!$A$3:$M$88,13,FALSE),)","v":0},null,null,null,null,null,{"$f":"IF(F785<>\"\",'CO2 konvertering'!$C$14,)","v":0},null,null,null,null,0]
[null,null,null,"Ja",null,null,null,null,"",null,"",{"$f":"IFERROR(VLOOKUP(F786,Biomasser!$A$3:$E$88,4,FALSE),0)","v":0},null,{"$f":"IFERROR(VLOOKUP(F786,Biomasser!$A$3:$E$88,5,FALSE),0)","v":0},"",0,null,null,{"$f":"IFERROR(VLOOKUP(F786,Biomasser!$A$3:$M$88,13,FALSE),)","v":0},null,null,null,null,null,{"$f":"IF(F786<>\"\",'CO2 konvertering'!$C$14,)","v":0},null,null,null,null,0]
[null,null,null,"Ja",null,null,null,null,"",null,"",{"$f":"IFERROR(VLOOKUP(F787,Biomasser!$A$3:$E$88,4,FALSE),0)","v":0},null,{"$f":"IFERROR(VLOOKUP(F787,Biomasser!$A$3:$E$88,5,FALSE),0)","v":0},"",0,null,null,{"$f":"IFERROR(VLOOKUP(F787,Biomasser!$A$3:$M$88,13,FALSE),)","v":0},null,null,null,null,null,{"$f":"IF(F787<>\"\",'CO2 konvertering'!$C$14,)","v":0},null,null,null,null,0]
[null,null,null,"Ja",null,null,null,null,"",null,"",{"$f":"IFERROR(VLOOKUP(F788,Biomasser!$A$3:$E$88,4,FALSE),0)","v":0},null,{"$f":"IFERROR(VLOOKUP(F788,Biomasser!$A$3:$E$88,5,FALSE),0)","v":0},"",0,null,null,{"$f":"IFERROR(VLOOKUP(F788,Biomasser!$A$3:$M$88,13,FALSE),)","v":0},null,null,null,null,null,{"$f":"IF(F788<>\"\",'CO2 konvertering'!$C$14,)","v":0},null,null,null,null,0]
[null,null,null,"Ja",null,null,null,null,"",null,"",{"$f":"IFERROR(VLOOKUP(F789,Biomasser!$A$3:$E$88,4,FALSE),0)","v":0},null,{"$f":"IFERROR(VLOOKUP(F789,Biomasser!$A$3:$E$88,5,FALSE),0)","v":0},"",0,null,null,{"$f":"IFERROR(VLOOKUP(F789,Biomasser!$A$3:$M$88,13,FALSE),)","v":0},null,null,null,null,null,{"$f":"IF(F789<>\"\",'CO2 konvertering'!$C$14,)","v":0},null,null,null,null,0]
[null,null,null,"Ja",null,null,null,null,"",null,"",{"$f":"IFERROR(VLOOKUP(F790,Biomasser!$A$3:$E$88,4,FALSE),0)","v":0},null,{"$f":"IFERROR(VLOOKUP(F790,Biomasser!$A$3:$E$88,5,FALSE),0)","v":0},"",0,null,null,{"$f":"IFERROR(VLOOKUP(F790,Biomasser!$A$3:$M$88,13,FALSE),)","v":0},null,null,null,null,null,{"$f":"IF(F790<>\"\",'CO2 konvertering'!$C$14,)","v":0},null,null,null,null,0]
[null,null,null,"Ja",null,null,null,null,"",null,"",{"$f":"IFERROR(VLOOKUP(F791,Biomasser!$A$3:$E$88,4,FALSE),0)","v":0},null,{"$f":"IFERROR(VLOOKUP(F791,Biomasser!$A$3:$E$88,5,FALSE),0)","v":0},"",0,null,null,{"$f":"IFERROR(VLOOKUP(F791,Biomasser!$A$3:$M$88,13,FALSE),)","v":0},null,null,null,null,null,{"$f":"IF(F791<>\"\",'CO2 konvertering'!$C$14,)","v":0},null,null,null,null,0]
[null,null,null,"Ja",null,null,null,null,"",null,"",{"$f":"IFERROR(VLOOKUP(F792,Biomasser!$A$3:$E$88,4,FALSE),0)","v":0},null,{"$f":"IFERROR(VLOOKUP(F792,Biomasser!$A$3:$E$88,5,FALSE),0)","v":0},"",0,null,null,{"$f":"IFERROR(VLOOKUP(F792,Biomasser!$A$3:$M$88,13,FALSE),)","v":0},null,null,null,null,null,{"$f":"IF(F792<>\"\",'CO2 konvertering'!$C$14,)","v":0},null,null,null,null,0]
[null,null,null,"Ja",null,null,null,null,"",null,"",{"$f":"IFERROR(VLOOKUP(F793,Biomasser!$A$3:$E$88,4,FALSE),0)","v":0},null,{"$f":"IFERROR(VLOOKUP(F793,Biomasser!$A$3:$E$88,5,FALSE),0)","v":0},"",0,null,null,{"$f":"IFERROR(VLOOKUP(F793,Biomasser!$A$3:$M$88,13,FALSE),)","v":0},null,null,null,null,null,{"$f":"IF(F793<>\"\",'CO2 konvertering'!$C$14,)","v":0},null,null,null,null,0]
[null,null,null,"Ja",null,null,null,null,"",null,"",{"$f":"IFERROR(VLOOKUP(F794,Biomasser!$A$3:$E$88,4,FALSE),0)","v":0},null,{"$f":"IFERROR(VLOOKUP(F794,Biomasser!$A$3:$E$88,5,FALSE),0)","v":0},"",0,null,null,{"$f":"IFERROR(VLOOKUP(F794,Biomasser!$A$3:$M$88,13,FALSE),)","v":0},null,null,null,null,null,{"$f":"IF(F794<>\"\",'CO2 konvertering'!$C$14,)","v":0},null,null,null,null,0]
[null,null,null,"Ja",null,null,null,null,"",null,"",{"$f":"IFERROR(VLOOKUP(F795,Biomasser!$A$3:$E$88,4,FALSE),0)","v":0},null,{"$f":"IFERROR(VLOOKUP(F795,Biomasser!$A$3:$E$88,5,FALSE),0)","v":0},"",0,null,null,{"$f":"IFERROR(VLOOKUP(F795,Biomasser!$A$3:$M$88,13,FALSE),)","v":0},null,null,null,null,null,{"$f":"IF(F795<>\"\",'CO2 konvertering'!$C$14,)","v":0},null,null,null,null,0]
[null,null,null,"Ja",null,null,null,null,"",null,"",{"$f":"IFERROR(VLOOKUP(F796,Biomasser!$A$3:$E$88,4,FALSE),0)","v":0},null,{"$f":"IFERROR(VLOOKUP(F796,Biomasser!$A$3:$E$88,5,FALSE),0)","v":0},"",0,null,null,{"$f":"IFERROR(VLOOKUP(F796,Biomasser!$A$3:$M$88,13,FALSE),)","v":0},null,null,null,null,null,{"$f":"IF(F796<>\"\",'CO2 konvertering'!$C$14,)","v":0},null,null,null,null,0]
[null,null,null,"Ja",null,null,null,null,"",null,"",{"$f":"IFERROR(VLOOKUP(F797,Biomasser!$A$3:$E$88,4,FALSE),0)","v":0},null,{"$f":"IFERROR(VLOOKUP(F797,Biomasser!$A$3:$E$88,5,FALSE),0)","v":0},"",0,null,null,{"$f":"IFERROR(VLOOKUP(F797,Biomasser!$A$3:$M$88,13,FALSE),)","v":0},null,null,null,null,null,{"$f":"IF(F797<>\"\",'CO2 konvertering'!$C$14,)","v":0},null,null,null,null,0]
[null,null,null,"Ja",null,null,null,null,"",null,"",{"$f":"IFERROR(VLOOKUP(F798,Biomasser!$A$3:$E$88,4,FALSE),0)","v":0},null,{"$f":"IFERROR(VLOOKUP(F798,Biomasser!$A$3:$E$88,5,FALSE),0)","v":0},"",0,null,null,{"$f":"IFERROR(VLOOKUP(F798,Biomasser!$A$3:$M$88,13,FALSE),)","v":0},null,null,null,null,null,{"$f":"IF(F798<>\"\",'CO2 konvertering'!$C$14,)","v":0},null,null,null,null,0]
[null,null,null,"Ja",null,null,null,null,"",null,"",{"$f":"IFERROR(VLOOKUP(F799,Biomasser!$A$3:$E$88,4,FALSE),0)","v":0},null,{"$f":"IFERROR(VLOOKUP(F799,Biomasser!$A$3:$E$88,5,FALSE),0)","v":0},"",0,null,null,{"$f":"IFERROR(VLOOKUP(F799,Biomasser!$A$3:$M$88,13,FALSE),)","v":0},null,null,null,null,null,{"$f":"IF(F799<>\"\",'CO2 konvertering'!$C$14,)","v":0},null,null,null,null,0]
[null,null,null,"Ja",null,null,null,null,"",null,"",{"$f":"IFERROR(VLOOKUP(F800,Biomasser!$A$3:$E$88,4,FALSE),0)","v":0},null,{"$f":"IFERROR(VLOOKUP(F800,Biomasser!$A$3:$E$88,5,FALSE),0)","v":0},"",0,null,null,{"$f":"IFERROR(VLOOKUP(F800,Biomasser!$A$3:$M$88,13,FALSE),)","v":0},null,null,null,null,null,{"$f":"IF(F800<>\"\",'CO2 konvertering'!$C$14,)","v":0},null,null,null,null,0]
[null,null,null,"Ja",null,null,null,null,"",null,"",{"$f":"IFERROR(VLOOKUP(F801,Biomasser!$A$3:$E$88,4,FALSE),0)","v":0},null,{"$f":"IFERROR(VLOOKUP(F801,Biomasser!$A$3:$E$88,5,FALSE),0)","v":0},"",0,null,null,{"$f":"IFERROR(VLOOKUP(F801,Biomasser!$A$3:$M$88,13,FALSE),)","v":0},null,null,null,null,null,{"$f":"IF(F801<>\"\",'CO2 konvertering'!$C$14,)","v":0},null,null,null,null,0]
[null,null,null,"Ja",null,null,null,null,"",null,"",{"$f":"IFERROR(VLOOKUP(F802,Biomasser!$A$3:$E$88,4,FALSE),0)","v":0},null,{"$f":"IFERROR(VLOOKUP(F802,Biomasser!$A$3:$E$88,5,FALSE),0)","v":0},"",0,null,null,{"$f":"IFERROR(VLOOKUP(F802,Biomasser!$A$3:$M$88,13,FALSE),)","v":0},null,null,null,null,null,{"$f":"IF(F802<>\"\",'CO2 konvertering'!$C$14,)","v":0},null,null,null,null,0]
[null,null,null,"Ja",null,null,null,null,"",null,"",{"$f":"IFERROR(VLOOKUP(F803,Biomasser!$A$3:$E$88,4,FALSE),0)","v":0},null,{"$f":"IFERROR(VLOOKUP(F803,Biomasser!$A$3:$E$88,5,FALSE),0)","v":0},"",0,null,null,{"$f":"IFERROR(VLOOKUP(F803,Biomasser!$A$3:$M$88,13,FALSE),)","v":0},null,null,null,null,null,{"$f":"IF(F803<>\"\",'CO2 konvertering'!$C$14,)","v":0},null,null,null,null,0]
[null,null,null,"Ja",null,null,null,null,"",null,"",{"$f":"IFERROR(VLOOKUP(F804,Biomasser!$A$3:$E$88,4,FALSE),0)","v":0},null,{"$f":"IFERROR(VLOOKUP(F804,Biomasser!$A$3:$E$88,5,FALSE),0)","v":0},"",0,null,null,{"$f":"IFERROR(VLOOKUP(F804,Biomasser!$A$3:$M$88,13,FALSE),)","v":0},null,null,null,null,null,{"$f":"IF(F804<>\"\",'CO2 konvertering'!$C$14,)","v":0},null,null,null,null,0]
[null,null,null,"Ja",null,null,null,null,"",null,"",{"$f":"IFERROR(VLOOKUP(F805,Biomasser!$A$3:$E$88,4,FALSE),0)","v":0},null,{"$f":"IFERROR(VLOOKUP(F805,Biomasser!$A$3:$E$88,5,FALSE),0)","v":0},"",0,null,null,{"$f":"IFERROR(VLOOKUP(F805,Biomasser!$A$3:$M$88,13,FALSE),)","v":0},null,null,null,null,null,{"$f":"IF(F805<>\"\",'CO2 konvertering'!$C$14,)","v":0},null,null,null,null,0]
[null,null,null,"Ja",null,null,null,null,"",null,"",{"$f":"IFERROR(VLOOKUP(F806,Biomasser!$A$3:$E$88,4,FALSE),0)","v":0},null,{"$f":"IFERROR(VLOOKUP(F806,Biomasser!$A$3:$E$88,5,FALSE),0)","v":0},"",0,null,null,{"$f":"IFERROR(VLOOKUP(F806,Biomasser!$A$3:$M$88,13,FALSE),)","v":0},null,null,null,null,null,{"$f":"IF(F806<>\"\",'CO2 konvertering'!$C$14,)","v":0},null,null,null,null,0]
[null,null,null,"Ja",null,null,null,null,"",null,"",{"$f":"IFERROR(VLOOKUP(F807,Biomasser!$A$3:$E$88,4,FALSE),0)","v":0},null,{"$f":"IFERROR(VLOOKUP(F807,Biomasser!$A$3:$E$88,5,FALSE),0)","v":0},"",0,null,null,{"$f":"IFERROR(VLOOKUP(F807,Biomasser!$A$3:$M$88,13,FALSE),)","v":0},null,null,null,null,null,{"$f":"IF(F807<>\"\",'CO2 konvertering'!$C$14,)","v":0},null,null,null,null,0]
[null,null,null,"Ja",null,null,null,null,"",null,"",{"$f":"IFERROR(VLOOKUP(F808,Biomasser!$A$3:$E$88,4,FALSE),0)","v":0},null,{"$f":"IFERROR(VLOOKUP(F808,Biomasser!$A$3:$E$88,5,FALSE),0)","v":0},"",0,null,null,{"$f":"IFERROR(VLOOKUP(F808,Biomasser!$A$3:$M$88,13,FALSE),)","v":0},null,null,null,null,null,{"$f":"IF(F808<>\"\",'CO2 konvertering'!$C$14,)","v":0},null,null,null,null,0]
[null,null,null,"Ja",null,null,null,null,"",null,"",{"$f":"IFERROR(VLOOKUP(F809,Biomasser!$A$3:$E$88,4,FALSE),0)","v":0},null,{"$f":"IFERROR(VLOOKUP(F809,Biomasser!$A$3:$E$88,5,FALSE),0)","v":0},"",{"$f":"J809*L809*N809*H809","v":0},null,null,{"$f":"IFERROR(VLOOKUP(F809,Biomasser!$A$3:$M$88,13,FALSE),)","v":0},null,null,null,null,null,{"$f":"IF(F809<>\"\",'CO2 konvertering'!$C$14,)","v":0},null,null,null,null,{"$f":"SUM(S809:AC809)","v":0}]
[null,null,null,"Ja",null,null,null,null,{"$f":"IF(AND(F810<>\"\",ISBLANK(H810)),\"Indtast vægt\",\"\")","v":""},null,{"$f":"IF(AND(F810<>\"\",ISBLANK(J810)),\"Indtast tørstof %\",\"\")","v":""},{"$f":"IFERROR(VLOOKUP(F810,Biomasser!$A$3:$E$88,4,FALSE),0)","v":0},null,{"$f":"IFERROR(VLOOKUP(F810,Biomasser!$A$3:$E$88,5,FALSE),0)","v":0},"",0,null,null,{"$f":"IFERROR(VLOOKUP(F810,Biomasser!$A$3:$M$88,13,FALSE),)","v":0},null,null,null,null,null,{"$f":"IF(F810<>\"\",'CO2 konvertering'!$C$14,)","v":0},null,null,null,null,0]
[null,null,null,"Ja",null,null,null,null,"",null,"",{"$f":"IFERROR(VLOOKUP(F811,Biomasser!$A$3:$E$88,4,FALSE),0)","v":0},null,{"$f":"IFERROR(VLOOKUP(F811,Biomasser!$A$3:$E$88,5,FALSE),0)","v":0},"",0,null,null,{"$f":"IFERROR(VLOOKUP(F811,Biomasser!$A$3:$M$88,13,FALSE),)","v":0},null,null,null,null,null,{"$f":"IF(F811<>\"\",'CO2 konvertering'!$C$14,)","v":0},null,null,null,null,0]
[null,null,null,"Ja",null,null,null,null,"",null,"",{"$f":"IFERROR(VLOOKUP(F812,Biomasser!$A$3:$E$88,4,FALSE),0)","v":0},null,{"$f":"IFERROR(VLOOKUP(F812,Biomasser!$A$3:$E$88,5,FALSE),0)","v":0},"",0,null,null,{"$f":"IFERROR(VLOOKUP(F812,Biomasser!$A$3:$M$88,13,FALSE),)","v":0},null,null,null,null,null,{"$f":"IF(F812<>\"\",'CO2 konvertering'!$C$14,)","v":0},null,null,null,null,0]
[null,null,null,"Ja",null,null,null,null,"",null,"",{"$f":"IFERROR(VLOOKUP(F813,Biomasser!$A$3:$E$88,4,FALSE),0)","v":0},null,{"$f":"IFERROR(VLOOKUP(F813,Biomasser!$A$3:$E$88,5,FALSE),0)","v":0},{"$f":"IF(AND(F813<>\"\",(N813=0)),\"Opdater biomasseark\",\"\")","v":""},0,null,null,{"$f":"IFERROR(VLOOKUP(F813,Biomasser!$A$3:$M$88,13,FALSE),)","v":0},null,null,null,null,null,{"$f":"IF(F813<>\"\",'CO2 konvertering'!$C$14,)","v":0},null,null,null,null,0]
[null,null,null,"Ja",null,null,null,null,"",null,"",{"$f":"IFERROR(VLOOKUP(F814,Biomasser!$A$3:$E$88,4,FALSE),0)","v":0},null,{"$f":"IFERROR(VLOOKUP(F814,Biomasser!$A$3:$E$88,5,FALSE),0)","v":0},"",0,null,null,{"$f":"IFERROR(VLOOKUP(F814,Biomasser!$A$3:$M$88,13,FALSE),)","v":0},null,null,null,null,null,{"$f":"IF(F814<>\"\",'CO2 konvertering'!$C$14,)","v":0},null,null,null,null,0]
[null,null,null,"Ja",null,null,null,null,"",null,"",{"$f":"IFERROR(VLOOKUP(F815,Biomasser!$A$3:$E$88,4,FALSE),0)","v":0},null,{"$f":"IFERROR(VLOOKUP(F815,Biomasser!$A$3:$E$88,5,FALSE),0)","v":0},"",0,null,null,{"$f":"IFERROR(VLOOKUP(F815,Biomasser!$A$3:$M$88,13,FALSE),)","v":0},null,null,null,null,null,{"$f":"IF(F815<>\"\",'CO2 konvertering'!$C$14,)","v":0},null,null,null,null,0]
[null,null,null,"Ja",null,null,null,null,"",null,"",{"$f":"IFERROR(VLOOKUP(F816,Biomasser!$A$3:$E$88,4,FALSE),0)","v":0},null,{"$f":"IFERROR(VLOOKUP(F816,Biomasser!$A$3:$E$88,5,FALSE),0)","v":0},"",0,null,null,{"$f":"IFERROR(VLOOKUP(F816,Biomasser!$A$3:$M$88,13,FALSE),)","v":0},null,null,null,null,null,{"$f":"IF(F816<>\"\",'CO2 konvertering'!$C$14,)","v":0},null,null,null,null,0]
[null,null,null,"Ja",null,null,null,null,"",null,"",{"$f":"IFERROR(VLOOKUP(F817,Biomasser!$A$3:$E$88,4,FALSE),0)","v":0},null,{"$f":"IFERROR(VLOOKUP(F817,Biomasser!$A$3:$E$88,5,FALSE),0)","v":0},"",0,null,null,{"$f":"IFERROR(VLOOKUP(F817,Biomasser!$A$3:$M$88,13,FALSE),)","v":0},null,null,null,null,null,{"$f":"IF(F817<>\"\",'CO2 konvertering'!$C$14,)","v":0},null,null,null,null,0]
[null,null,null,"Ja",null,null,null,null,"",null,"",{"$f":"IFERROR(VLOOKUP(F818,Biomasser!$A$3:$E$88,4,FALSE),0)","v":0},null,{"$f":"IFERROR(VLOOKUP(F818,Biomasser!$A$3:$E$88,5,FALSE),0)","v":0},"",0,null,null,{"$f":"IFERROR(VLOOKUP(F818,Biomasser!$A$3:$M$88,13,FALSE),)","v":0},null,null,null,null,null,{"$f":"IF(F818<>\"\",'CO2 konvertering'!$C$14,)","v":0},null,null,null,null,0]
[null,null,null,"Ja",null,null,null,null,"",null,"",{"$f":"IFERROR(VLOOKUP(F819,Biomasser!$A$3:$E$88,4,FALSE),0)","v":0},null,{"$f":"IFERROR(VLOOKUP(F819,Biomasser!$A$3:$E$88,5,FALSE),0)","v":0},"",0,null,null,{"$f":"IFERROR(VLOOKUP(F819,Biomasser!$A$3:$M$88,13,FALSE),)","v":0},null,null,null,null,null,{"$f":"IF(F819<>\"\",'CO2 konvertering'!$C$14,)","v":0},null,null,null,null,0]
[null,null,null,"Ja",null,null,null,null,"",null,"",{"$f":"IFERROR(VLOOKUP(F820,Biomasser!$A$3:$E$88,4,FALSE),0)","v":0},null,{"$f":"IFERROR(VLOOKUP(F820,Biomasser!$A$3:$E$88,5,FALSE),0)","v":0},"",0,null,null,{"$f":"IFERROR(VLOOKUP(F820,Biomasser!$A$3:$M$88,13,FALSE),)","v":0},null,null,null,null,null,{"$f":"IF(F820<>\"\",'CO2 konvertering'!$C$14,)","v":0},null,null,null,null,0]
[null,null,null,"Ja",null,null,null,null,"",null,"",{"$f":"IFERROR(VLOOKUP(F821,Biomasser!$A$3:$E$88,4,FALSE),0)","v":0},null,{"$f":"IFERROR(VLOOKUP(F821,Biomasser!$A$3:$E$88,5,FALSE),0)","v":0},"",0,null,null,{"$f":"IFERROR(VLOOKUP(F821,Biomasser!$A$3:$M$88,13,FALSE),)","v":0},null,null,null,null,null,{"$f":"IF(F821<>\"\",'CO2 konvertering'!$C$14,)","v":0},null,null,null,null,0]
[null,null,null,"Ja",null,null,null,null,"",null,"",{"$f":"IFERROR(VLOOKUP(F822,Biomasser!$A$3:$E$88,4,FALSE),0)","v":0},null,{"$f":"IFERROR(VLOOKUP(F822,Biomasser!$A$3:$E$88,5,FALSE),0)","v":0},"",0,null,null,{"$f":"IFERROR(VLOOKUP(F822,Biomasser!$A$3:$M$88,13,FALSE),)","v":0},null,null,null,null,null,{"$f":"IF(F822<>\"\",'CO2 konvertering'!$C$14,)","v":0},null,null,null,null,0]
[null,null,null,"Ja",null,null,null,null,"",null,"",{"$f":"IFERROR(VLOOKUP(F823,Biomasser!$A$3:$E$88,4,FALSE),0)","v":0},null,{"$f":"IFERROR(VLOOKUP(F823,Biomasser!$A$3:$E$88,5,FALSE),0)","v":0},"",0,null,null,{"$f":"IFERROR(VLOOKUP(F823,Biomasser!$A$3:$M$88,13,FALSE),)","v":0},null,null,null,null,null,{"$f":"IF(F823<>\"\",'CO2 konvertering'!$C$14,)","v":0},null,null,null,null,0]
[null,null,null,"Ja",null,null,null,null,"",null,"",{"$f":"IFERROR(VLOOKUP(F824,Biomasser!$A$3:$E$88,4,FALSE),0)","v":0},null,{"$f":"IFERROR(VLOOKUP(F824,Biomasser!$A$3:$E$88,5,FALSE),0)","v":0},"",0,null,null,{"$f":"IFERROR(VLOOKUP(F824,Biomasser!$A$3:$M$88,13,FALSE),)","v":0},null,null,null,null,null,{"$f":"IF(F824<>\"\",'CO2 konvertering'!$C$14,)","v":0},null,null,null,null,0]
[null,null,null,"Ja",null,null,null,null,"",null,"",{"$f":"IFERROR(VLOOKUP(F825,Biomasser!$A$3:$E$88,4,FALSE),0)","v":0},null,{"$f":"IFERROR(VLOOKUP(F825,Biomasser!$A$3:$E$88,5,FALSE),0)","v":0},"",0,null,null,{"$f":"IFERROR(VLOOKUP(F825,Biomasser!$A$3:$M$88,13,FALSE),)","v":0},null,null,null,null,null,{"$f":"IF(F825<>\"\",'CO2 konvertering'!$C$14,)","v":0},null,null,null,null,0]
[null,null,null,"Ja",null,null,null,null,"",null,"",{"$f":"IFERROR(VLOOKUP(F826,Biomasser!$A$3:$E$88,4,FALSE),0)","v":0},null,{"$f":"IFERROR(VLOOKUP(F826,Biomasser!$A$3:$E$88,5,FALSE),0)","v":0},"",0,null,null,{"$f":"IFERROR(VLOOKUP(F826,Biomasser!$A$3:$M$88,13,FALSE),)","v":0},null,null,null,null,null,{"$f":"IF(F826<>\"\",'CO2 konvertering'!$C$14,)","v":0},null,null,null,null,0]
[null,null,null,"Ja",null,null,null,null,"",null,"",{"$f":"IFERROR(VLOOKUP(F827,Biomasser!$A$3:$E$88,4,FALSE),0)","v":0},null,{"$f":"IFERROR(VLOOKUP(F827,Biomasser!$A$3:$E$88,5,FALSE),0)","v":0},"",0,null,null,{"$f":"IFERROR(VLOOKUP(F827,Biomasser!$A$3:$M$88,13,FALSE),)","v":0},null,null,null,null,null,{"$f":"IF(F827<>\"\",'CO2 konvertering'!$C$14,)","v":0},null,null,null,null,0]
[null,null,null,"Ja",null,null,null,null,"",null,"",{"$f":"IFERROR(VLOOKUP(F828,Biomasser!$A$3:$E$88,4,FALSE),0)","v":0},null,{"$f":"IFERROR(VLOOKUP(F828,Biomasser!$A$3:$E$88,5,FALSE),0)","v":0},"",0,null,null,{"$f":"IFERROR(VLOOKUP(F828,Biomasser!$A$3:$M$88,13,FALSE),)","v":0},null,null,null,null,null,{"$f":"IF(F828<>\"\",'CO2 konvertering'!$C$14,)","v":0},null,null,null,null,0]
[null,null,null,"Ja",null,null,null,null,"",null,"",{"$f":"IFERROR(VLOOKUP(F829,Biomasser!$A$3:$E$88,4,FALSE),0)","v":0},null,{"$f":"IFERROR(VLOOKUP(F829,Biomasser!$A$3:$E$88,5,FALSE),0)","v":0},"",0,null,null,{"$f":"IFERROR(VLOOKUP(F829,Biomasser!$A$3:$M$88,13,FALSE),)","v":0},null,null,null,null,null,{"$f":"IF(F829<>\"\",'CO2 konvertering'!$C$14,)","v":0},null,null,null,null,0]
[null,null,null,"Ja",null,null,null,null,"",null,"",{"$f":"IFERROR(VLOOKUP(F830,Biomasser!$A$3:$E$88,4,FALSE),0)","v":0},null,{"$f":"IFERROR(VLOOKUP(F830,Biomasser!$A$3:$E$88,5,FALSE),0)","v":0},"",0,null,null,{"$f":"IFERROR(VLOOKUP(F830,Biomasser!$A$3:$M$88,13,FALSE),)","v":0},null,null,null,null,null,{"$f":"IF(F830<>\"\",'CO2 konvertering'!$C$14,)","v":0},null,null,null,null,0]
[null,null,null,"Ja",null,null,null,null,"",null,"",{"$f":"IFERROR(VLOOKUP(F831,Biomasser!$A$3:$E$88,4,FALSE),0)","v":0},null,{"$f":"IFERROR(VLOOKUP(F831,Biomasser!$A$3:$E$88,5,FALSE),0)","v":0},"",0,null,null,{"$f":"IFERROR(VLOOKUP(F831,Biomasser!$A$3:$M$88,13,FALSE),)","v":0},null,null,null,null,null,{"$f":"IF(F831<>\"\",'CO2 konvertering'!$C$14,)","v":0},null,null,null,null,0]
[null,null,null,"Ja",null,null,null,null,"",null,"",{"$f":"IFERROR(VLOOKUP(F832,Biomasser!$A$3:$E$88,4,FALSE),0)","v":0},null,{"$f":"IFERROR(VLOOKUP(F832,Biomasser!$A$3:$E$88,5,FALSE),0)","v":0},"",0,null,null,{"$f":"IFERROR(VLOOKUP(F832,Biomasser!$A$3:$M$88,13,FALSE),)","v":0},null,null,null,null,null,{"$f":"IF(F832<>\"\",'CO2 konvertering'!$C$14,)","v":0},null,null,null,null,0]
[null,null,null,"Ja",null,null,null,null,"",null,"",{"$f":"IFERROR(VLOOKUP(F833,Biomasser!$A$3:$E$88,4,FALSE),0)","v":0},null,{"$f":"IFERROR(VLOOKUP(F833,Biomasser!$A$3:$E$88,5,FALSE),0)","v":0},"",0,null,null,{"$f":"IFERROR(VLOOKUP(F833,Biomasser!$A$3:$M$88,13,FALSE),)","v":0},null,null,null,null,null,{"$f":"IF(F833<>\"\",'CO2 konvertering'!$C$14,)","v":0},null,null,null,null,0]
[null,null,null,"Ja",null,null,null,null,"",null,"",{"$f":"IFERROR(VLOOKUP(F834,Biomasser!$A$3:$E$88,4,FALSE),0)","v":0},null,{"$f":"IFERROR(VLOOKUP(F834,Biomasser!$A$3:$E$88,5,FALSE),0)","v":0},"",0,null,null,{"$f":"IFERROR(VLOOKUP(F834,Biomasser!$A$3:$M$88,13,FALSE),)","v":0},null,null,null,null,null,{"$f":"IF(F834<>\"\",'CO2 konvertering'!$C$14,)","v":0},null,null,null,null,0]
[null,null,null,"Ja",null,null,null,null,"",null,"",{"$f":"IFERROR(VLOOKUP(F835,Biomasser!$A$3:$E$88,4,FALSE),0)","v":0},null,{"$f":"IFERROR(VLOOKUP(F835,Biomasser!$A$3:$E$88,5,FALSE),0)","v":0},"",0,null,null,{"$f":"IFERROR(VLOOKUP(F835,Biomasser!$A$3:$M$88,13,FALSE),)","v":0},null,null,null,null,null,{"$f":"IF(F835<>\"\",'CO2 konvertering'!$C$14,)","v":0},null,null,null,null,0]
[null,null,null,"Ja",null,null,null,null,"",null,"",{"$f":"IFERROR(VLOOKUP(F836,Biomasser!$A$3:$E$88,4,FALSE),0)","v":0},null,{"$f":"IFERROR(VLOOKUP(F836,Biomasser!$A$3:$E$88,5,FALSE),0)","v":0},"",0,null,null,{"$f":"IFERROR(VLOOKUP(F836,Biomasser!$A$3:$M$88,13,FALSE),)","v":0},null,null,null,null,null,{"$f":"IF(F836<>\"\",'CO2 konvertering'!$C$14,)","v":0},null,null,null,null,0]
[null,null,null,"Ja",null,null,null,null,"",null,"",{"$f":"IFERROR(VLOOKUP(F837,Biomasser!$A$3:$E$88,4,FALSE),0)","v":0},null,{"$f":"IFERROR(VLOOKUP(F837,Biomasser!$A$3:$E$88,5,FALSE),0)","v":0},"",0,null,null,{"$f":"IFERROR(VLOOKUP(F837,Biomasser!$A$3:$M$88,13,FALSE),)","v":0},null,null,null,null,null,{"$f":"IF(F837<>\"\",'CO2 konvertering'!$C$14,)","v":0},null,null,null,null,0]
[null,null,null,"Ja",null,null,null,null,"",null,"",{"$f":"IFERROR(VLOOKUP(F838,Biomasser!$A$3:$E$88,4,FALSE),0)","v":0},null,{"$f":"IFERROR(VLOOKUP(F838,Biomasser!$A$3:$E$88,5,FALSE),0)","v":0},"",0,null,null,{"$f":"IFERROR(VLOOKUP(F838,Biomasser!$A$3:$M$88,13,FALSE),)","v":0},null,null,null,null,null,{"$f":"IF(F838<>\"\",'CO2 konvertering'!$C$14,)","v":0},null,null,null,null,0]
[null,null,null,"Ja",null,null,null,null,"",null,"",{"$f":"IFERROR(VLOOKUP(F839,Biomasser!$A$3:$E$88,4,FALSE),0)","v":0},null,{"$f":"IFERROR(VLOOKUP(F839,Biomasser!$A$3:$E$88,5,FALSE),0)","v":0},"",0,null,null,{"$f":"IFERROR(VLOOKUP(F839,Biomasser!$A$3:$M$88,13,FALSE),)","v":0},null,null,null,null,null,{"$f":"IF(F839<>\"\",'CO2 konvertering'!$C$14,)","v":0},null,null,null,null,0]
[null,null,null,"Ja",null,null,null,null,"",null,"",{"$f":"IFERROR(VLOOKUP(F840,Biomasser!$A$3:$E$88,4,FALSE),0)","v":0},null,{"$f":"IFERROR(VLOOKUP(F840,Biomasser!$A$3:$E$88,5,FALSE),0)","v":0},"",0,null,null,{"$f":"IFERROR(VLOOKUP(F840,Biomasser!$A$3:$M$88,13,FALSE),)","v":0},null,null,null,null,null,{"$f":"IF(F840<>\"\",'CO2 konvertering'!$C$14,)","v":0},null,null,null,null,0]
[null,null,null,"Ja",null,null,null,null,"",null,"",{"$f":"IFERROR(VLOOKUP(F841,Biomasser!$A$3:$E$88,4,FALSE),0)","v":0},null,{"$f":"IFERROR(VLOOKUP(F841,Biomasser!$A$3:$E$88,5,FALSE),0)","v":0},"",0,null,null,{"$f":"IFERROR(VLOOKUP(F841,Biomasser!$A$3:$M$88,13,FALSE),)","v":0},null,null,null,null,null,{"$f":"IF(F841<>\"\",'CO2 konvertering'!$C$14,)","v":0},null,null,null,null,{"$f":"SUM(S841:AC841)","v":0}]
[null,null,null,"Ja",null,null,null,null,"",null,"",{"$f":"IFERROR(VLOOKUP(F842,Biomasser!$A$3:$E$88,4,FALSE),0)","v":0},null,{"$f":"IFERROR(VLOOKUP(F842,Biomasser!$A$3:$E$88,5,FALSE),0)","v":0},"",0,null,null,{"$f":"IFERROR(VLOOKUP(F842,Biomasser!$A$3:$M$88,13,FALSE),)","v":0},null,null,null,null,null,{"$f":"IF(F842<>\"\",'CO2 konvertering'!$C$14,)","v":0},null,null,null,null,0]
[null,null,null,"Ja",null,null,null,null,"",null,"",{"$f":"IFERROR(VLOOKUP(F843,Biomasser!$A$3:$E$88,4,FALSE),0)","v":0},null,{"$f":"IFERROR(VLOOKUP(F843,Biomasser!$A$3:$E$88,5,FALSE),0)","v":0},"",0,null,null,{"$f":"IFERROR(VLOOKUP(F843,Biomasser!$A$3:$M$88,13,FALSE),)","v":0},null,null,null,null,null,{"$f":"IF(F843<>\"\",'CO2 konvertering'!$C$14,)","v":0},null,null,null,null,0]
[null,null,null,"Ja",null,null,null,null,"",null,"",{"$f":"IFERROR(VLOOKUP(F844,Biomasser!$A$3:$E$88,4,FALSE),0)","v":0},null,{"$f":"IFERROR(VLOOKUP(F844,Biomasser!$A$3:$E$88,5,FALSE),0)","v":0},"",0,null,null,{"$f":"IFERROR(VLOOKUP(F844,Biomasser!$A$3:$M$88,13,FALSE),)","v":0},null,null,null,null,null,{"$f":"IF(F844<>\"\",'CO2 konvertering'!$C$14,)","v":0},null,null,null,null,0]
[null,null,null,"Ja",null,null,null,null,"",null,"",{"$f":"IFERROR(VLOOKUP(F845,Biomasser!$A$3:$E$88,4,FALSE),0)","v":0},null,{"$f":"IFERROR(VLOOKUP(F845,Biomasser!$A$3:$E$88,5,FALSE),0)","v":0},"",0,null,null,{"$f":"IFERROR(VLOOKUP(F845,Biomasser!$A$3:$M$88,13,FALSE),)","v":0},null,null,null,null,null,{"$f":"IF(F845<>\"\",'CO2 konvertering'!$C$14,)","v":0},null,null,null,null,0]
[null,"Dato:",null,null,null,"Mængde biomasse (Ton)",null,"Gasproduktion"]
["Gas","9. januar",2015,null,null,{"$f":"SUM(H850:H950)","v":0},null,null,"m3 CH4"]
[null,"Leverandør",null,"Certificeret",null,"Råvarer input","          Mængder                 \n      (Ton vådvægt)            ",null,null,"Tørstof\n%",null,"Omsættelig tørstof\n%",null,"Gaspotentiale\nm³ CH4/ton VS",null,"Teoretisk\ngasproduktion\nm³ CH4"]
[]
[{"$f":"B847&C847","v":"9. januar2015"},null,null,"Ja",null,null,null,null,{"$f":"IF(AND(F850<>\"\",ISBLANK(H850)),\"Indtast vægt\",\"\")","v":""},null,{"$f":"IF(AND(F850<>\"\",ISBLANK(J850)),\"Indtast tørstof %\",\"\")","v":""},{"$f":"IFERROR(VLOOKUP(F850,Biomasser!$A$3:$E$88,4,FALSE),)","v":0},null,{"$f":"IFERROR(VLOOKUP(F850,Biomasser!$A$3:$E$88,5,FALSE),0)","v":0},{"$f":"IF(AND(F850<>\"\",(N850=0)),\"Opdater biomasseark\",\"\")","v":""},{"$f":"J850*L850*N850*H850","v":0},null,null,{"$f":"IFERROR(VLOOKUP(F850,Biomasser!$A$3:$M$88,13,FALSE),)","v":0},null,null,null,null,null,{"$f":"IF(F850<>\"\",'CO2 konvertering'!$C$14,)","v":0},null,null,null,null,{"$f":"SUM(S850:AC850)","v":0}]
[null,null,null,"Ja",null,null,null,null,{"$f":"IF(AND(F851<>\"\",ISBLANK(H851)),\"Indtast vægt\",\"\")","v":""},null,{"$f":"IF(AND(F851<>\"\",ISBLANK(J851)),\"Indtast tørstof %\",\"\")","v":""},{"$f":"IFERROR(VLOOKUP(F851,Biomasser!$A$3:$E$88,4,FALSE),0)","v":0},null,{"$f":"IFERROR(VLOOKUP(F851,Biomasser!$A$3:$E$88,5,FALSE),0)","v":0},"",0,null,null,{"$f":"IFERROR(VLOOKUP(F851,Biomasser!$A$3:$M$88,13,FALSE),)","v":0},null,null,null,null,null,{"$f":"IF(F851<>\"\",'CO2 konvertering'!$C$14,)","v":0},null,null,null,null,0]
[null,null,null,"Ja",null,null,null,null,"",null,"",{"$f":"IFERROR(VLOOKUP(F852,Biomasser!$A$3:$E$88,4,FALSE),0)","v":0},null,{"$f":"IFERROR(VLOOKUP(F852,Biomasser!$A$3:$E$88,5,FALSE),0)","v":0},"",0,null,null,{"$f":"IFERROR(VLOOKUP(F852,Biomasser!$A$3:$M$88,13,FALSE),)","v":0},null,null,null,null,null,{"$f":"IF(F852<>\"\",'CO2 konvertering'!$C$14,)","v":0},null,null,null,null,0]
[null,null,null,"Ja",null,null,null,null,"",null,"",{"$f":"IFERROR(VLOOKUP(F853,Biomasser!$A$3:$E$88,4,FALSE),0)","v":0},null,{"$f":"IFERROR(VLOOKUP(F853,Biomasser!$A$3:$E$88,5,FALSE),0)","v":0},{"$f":"IF(AND(F853<>\"\",(N853=0)),\"Opdater biomasseark\",\"\")","v":""},0,null,null,{"$f":"IFERROR(VLOOKUP(F853,Biomasser!$A$3:$M$88,13,FALSE),)","v":0},null,null,null,null,null,{"$f":"IF(F853<>\"\",'CO2 konvertering'!$C$14,)","v":0},null,null,null,null,0]
[null,null,null,"Ja",null,null,null,null,"",null,"",{"$f":"IFERROR(VLOOKUP(F854,Biomasser!$A$3:$E$88,4,FALSE),0)","v":0},null,{"$f":"IFERROR(VLOOKUP(F854,Biomasser!$A$3:$E$88,5,FALSE),0)","v":0},{"$f":"IF(AND(F854<>\"\",(N854=0)),\"Opdater biomasseark\",\"\")","v":""},0,null,null,{"$f":"IFERROR(VLOOKUP(F854,Biomasser!$A$3:$M$88,13,FALSE),)","v":0},null,null,null,null,null,{"$f":"IF(F854<>\"\",'CO2 konvertering'!$C$14,)","v":0},null,null,null,null,0]
[null,null,null,"Ja",null,null,null,null,"",null,"",{"$f":"IFERROR(VLOOKUP(F855,Biomasser!$A$3:$E$88,4,FALSE),0)","v":0},null,{"$f":"IFERROR(VLOOKUP(F855,Biomasser!$A$3:$E$88,5,FALSE),0)","v":0},"",0,null,null,{"$f":"IFERROR(VLOOKUP(F855,Biomasser!$A$3:$M$88,13,FALSE),)","v":0},null,null,null,null,null,{"$f":"IF(F855<>\"\",'CO2 konvertering'!$C$14,)","v":0},null,null,null,null,0]
[null,null,null,"Ja",null,null,null,null,"",null,"",{"$f":"IFERROR(VLOOKUP(F856,Biomasser!$A$3:$E$88,4,FALSE),0)","v":0},null,{"$f":"IFERROR(VLOOKUP(F856,Biomasser!$A$3:$E$88,5,FALSE),0)","v":0},"",0,null,null,{"$f":"IFERROR(VLOOKUP(F856,Biomasser!$A$3:$M$88,13,FALSE),)","v":0},null,null,null,null,null,{"$f":"IF(F856<>\"\",'CO2 konvertering'!$C$14,)","v":0},null,null,null,null,0]
[null,null,null,"Ja",null,null,null,null,"",null,"",{"$f":"IFERROR(VLOOKUP(F857,Biomasser!$A$3:$E$88,4,FALSE),0)","v":0},null,{"$f":"IFERROR(VLOOKUP(F857,Biomasser!$A$3:$E$88,5,FALSE),0)","v":0},"",0,null,null,{"$f":"IFERROR(VLOOKUP(F857,Biomasser!$A$3:$M$88,13,FALSE),)","v":0},null,null,null,null,null,{"$f":"IF(F857<>\"\",'CO2 konvertering'!$C$14,)","v":0},null,null,null,null,0]
[null,null,null,"Ja",null,null,null,null,"",null,"",{"$f":"IFERROR(VLOOKUP(F858,Biomasser!$A$3:$E$88,4,FALSE),0)","v":0},null,{"$f":"IFERROR(VLOOKUP(F858,Biomasser!$A$3:$E$88,5,FALSE),0)","v":0},"",0,null,null,{"$f":"IFERROR(VLOOKUP(F858,Biomasser!$A$3:$M$88,13,FALSE),)","v":0},null,null,null,null,null,{"$f":"IF(F858<>\"\",'CO2 konvertering'!$C$14,)","v":0},null,null,null,null,0]
[null,null,null,"Ja",null,null,null,null,"",null,"",{"$f":"IFERROR(VLOOKUP(F859,Biomasser!$A$3:$E$88,4,FALSE),0)","v":0},null,{"$f":"IFERROR(VLOOKUP(F859,Biomasser!$A$3:$E$88,5,FALSE),0)","v":0},"",0,null,null,{"$f":"IFERROR(VLOOKUP(F859,Biomasser!$A$3:$M$88,13,FALSE),)","v":0},null,null,null,null,null,{"$f":"IF(F859<>\"\",'CO2 konvertering'!$C$14,)","v":0},null,null,null,null,0]
[null,null,null,"Ja",null,null,null,null,"",null,"",{"$f":"IFERROR(VLOOKUP(F860,Biomasser!$A$3:$E$88,4,FALSE),0)","v":0},null,{"$f":"IFERROR(VLOOKUP(F860,Biomasser!$A$3:$E$88,5,FALSE),0)","v":0},"",0,null,null,{"$f":"IFERROR(VLOOKUP(F860,Biomasser!$A$3:$M$88,13,FALSE),)","v":0},null,null,null,null,null,{"$f":"IF(F860<>\"\",'CO2 konvertering'!$C$14,)","v":0},null,null,null,null,0]
[null,null,null,"Ja",null,null,null,null,"",null,"",{"$f":"IFERROR(VLOOKUP(F861,Biomasser!$A$3:$E$88,4,FALSE),0)","v":0},null,{"$f":"IFERROR(VLOOKUP(F861,Biomasser!$A$3:$E$88,5,FALSE),0)","v":0},"",0,null,null,{"$f":"IFERROR(VLOOKUP(F861,Biomasser!$A$3:$M$88,13,FALSE),)","v":0},null,null,null,null,null,{"$f":"IF(F861<>\"\",'CO2 konvertering'!$C$14,)","v":0},null,null,null,null,0]
[null,null,null,"Ja",null,null,null,null,"",null,"",{"$f":"IFERROR(VLOOKUP(F862,Biomasser!$A$3:$E$88,4,FALSE),0)","v":0},null,{"$f":"IFERROR(VLOOKUP(F862,Biomasser!$A$3:$E$88,5,FALSE),0)","v":0},"",0,null,null,{"$f":"IFERROR(VLOOKUP(F862,Biomasser!$A$3:$M$88,13,FALSE),)","v":0},null,null,null,null,null,{"$f":"IF(F862<>\"\",'CO2 konvertering'!$C$14,)","v":0},null,null,null,null,0]
[null,null,null,"Ja",null,null,null,null,"",null,"",{"$f":"IFERROR(VLOOKUP(F863,Biomasser!$A$3:$E$88,4,FALSE),0)","v":0},null,{"$f":"IFERROR(VLOOKUP(F863,Biomasser!$A$3:$E$88,5,FALSE),0)","v":0},"",0,null,null,{"$f":"IFERROR(VLOOKUP(F863,Biomasser!$A$3:$M$88,13,FALSE),)","v":0},null,null,null,null,null,{"$f":"IF(F863<>\"\",'CO2 konvertering'!$C$14,)","v":0},null,null,null,null,0]
[null,null,null,"Ja",null,null,null,null,"",null,"",{"$f":"IFERROR(VLOOKUP(F864,Biomasser!$A$3:$E$88,4,FALSE),0)","v":0},null,{"$f":"IFERROR(VLOOKUP(F864,Biomasser!$A$3:$E$88,5,FALSE),0)","v":0},"",0,null,null,{"$f":"IFERROR(VLOOKUP(F864,Biomasser!$A$3:$M$88,13,FALSE),)","v":0},null,null,null,null,null,{"$f":"IF(F864<>\"\",'CO2 konvertering'!$C$14,)","v":0},null,null,null,null,0]
[null,null,null,"Ja",null,null,null,null,"",null,"",{"$f":"IFERROR(VLOOKUP(F865,Biomasser!$A$3:$E$88,4,FALSE),0)","v":0},null,{"$f":"IFERROR(VLOOKUP(F865,Biomasser!$A$3:$E$88,5,FALSE),0)","v":0},"",0,null,null,{"$f":"IFERROR(VLOOKUP(F865,Biomasser!$A$3:$M$88,13,FALSE),)","v":0},null,null,null,null,null,{"$f":"IF(F865<>\"\",'CO2 konvertering'!$C$14,)","v":0},null,null,null,null,0]
[null,null,null,"Ja",null,null,null,null,"",null,"",{"$f":"IFERROR(VLOOKUP(F866,Biomasser!$A$3:$E$88,4,FALSE),0)","v":0},null,{"$f":"IFERROR(VLOOKUP(F866,Biomasser!$A$3:$E$88,5,FALSE),0)","v":0},"",0,null,null,{"$f":"IFERROR(VLOOKUP(F866,Biomasser!$A$3:$M$88,13,FALSE),)","v":0},null,null,null,null,null,{"$f":"IF(F866<>\"\",'CO2 konvertering'!$C$14,)","v":0},null,null,null,null,0]
[null,null,null,"Ja",null,null,null,null,"",null,"",{"$f":"IFERROR(VLOOKUP(F867,Biomasser!$A$3:$E$88,4,FALSE),0)","v":0},null,{"$f":"IFERROR(VLOOKUP(F867,Biomasser!$A$3:$E$88,5,FALSE),0)","v":0},"",0,null,null,{"$f":"IFERROR(VLOOKUP(F867,Biomasser!$A$3:$M$88,13,FALSE),)","v":0},null,null,null,null,null,{"$f":"IF(F867<>\"\",'CO2 konvertering'!$C$14,)","v":0},null,null,null,null,0]
[null,null,null,"Ja",null,null,null,null,"",null,"",{"$f":"IFERROR(VLOOKUP(F868,Biomasser!$A$3:$E$88,4,FALSE),0)","v":0},null,{"$f":"IFERROR(VLOOKUP(F868,Biomasser!$A$3:$E$88,5,FALSE),0)","v":0},"",0,null,null,{"$f":"IFERROR(VLOOKUP(F868,Biomasser!$A$3:$M$88,13,FALSE),)","v":0},null,null,null,null,null,{"$f":"IF(F868<>\"\",'CO2 konvertering'!$C$14,)","v":0},null,null,null,null,0]
[null,null,null,"Ja",null,null,null,null,"",null,"",{"$f":"IFERROR(VLOOKUP(F869,Biomasser!$A$3:$E$88,4,FALSE),0)","v":0},null,{"$f":"IFERROR(VLOOKUP(F869,Biomasser!$A$3:$E$88,5,FALSE),0)","v":0},"",0,null,null,{"$f":"IFERROR(VLOOKUP(F869,Biomasser!$A$3:$M$88,13,FALSE),)","v":0},null,null,null,null,null,{"$f":"IF(F869<>\"\",'CO2 konvertering'!$C$14,)","v":0},null,null,null,null,0]
[null,null,null,"Ja",null,null,null,null,"",null,"",{"$f":"IFERROR(VLOOKUP(F870,Biomasser!$A$3:$E$88,4,FALSE),0)","v":0},null,{"$f":"IFERROR(VLOOKUP(F870,Biomasser!$A$3:$E$88,5,FALSE),0)","v":0},"",0,null,null,{"$f":"IFERROR(VLOOKUP(F870,Biomasser!$A$3:$M$88,13,FALSE),)","v":0},null,null,null,null,null,{"$f":"IF(F870<>\"\",'CO2 konvertering'!$C$14,)","v":0},null,null,null,null,0]
[null,null,null,"Ja",null,null,null,null,"",null,"",{"$f":"IFERROR(VLOOKUP(F871,Biomasser!$A$3:$E$88,4,FALSE),0)","v":0},null,{"$f":"IFERROR(VLOOKUP(F871,Biomasser!$A$3:$E$88,5,FALSE),0)","v":0},"",0,null,null,{"$f":"IFERROR(VLOOKUP(F871,Biomasser!$A$3:$M$88,13,FALSE),)","v":0},null,null,null,null,null,{"$f":"IF(F871<>\"\",'CO2 konvertering'!$C$14,)","v":0},null,null,null,null,0]
[null,null,null,"Ja",null,null,null,null,"",null,"",{"$f":"IFERROR(VLOOKUP(F872,Biomasser!$A$3:$E$88,4,FALSE),0)","v":0},null,{"$f":"IFERROR(VLOOKUP(F872,Biomasser!$A$3:$E$88,5,FALSE),0)","v":0},"",0,null,null,{"$f":"IFERROR(VLOOKUP(F872,Biomasser!$A$3:$M$88,13,FALSE),)","v":0},null,null,null,null,null,{"$f":"IF(F872<>\"\",'CO2 konvertering'!$C$14,)","v":0},null,null,null,null,0]
[null,null,null,"Ja",null,null,null,null,"",null,"",{"$f":"IFERROR(VLOOKUP(F873,Biomasser!$A$3:$E$88,4,FALSE),0)","v":0},null,{"$f":"IFERROR(VLOOKUP(F873,Biomasser!$A$3:$E$88,5,FALSE),0)","v":0},"",0,null,null,{"$f":"IFERROR(VLOOKUP(F873,Biomasser!$A$3:$M$88,13,FALSE),)","v":0},null,null,null,null,null,{"$f":"IF(F873<>\"\",'CO2 konvertering'!$C$14,)","v":0},null,null,null,null,0]
[null,null,null,"Ja",null,null,null,null,"",null,"",{"$f":"IFERROR(VLOOKUP(F874,Biomasser!$A$3:$E$88,4,FALSE),0)","v":0},null,{"$f":"IFERROR(VLOOKUP(F874,Biomasser!$A$3:$E$88,5,FALSE),0)","v":0},"",0,null,null,{"$f":"IFERROR(VLOOKUP(F874,Biomasser!$A$3:$M$88,13,FALSE),)","v":0},null,null,null,null,null,{"$f":"IF(F874<>\"\",'CO2 konvertering'!$C$14,)","v":0},null,null,null,null,0]
[null,null,null,"Ja",null,null,null,null,"",null,"",{"$f":"IFERROR(VLOOKUP(F875,Biomasser!$A$3:$E$88,4,FALSE),0)","v":0},null,{"$f":"IFERROR(VLOOKUP(F875,Biomasser!$A$3:$E$88,5,FALSE),0)","v":0},"",0,null,null,{"$f":"IFERROR(VLOOKUP(F875,Biomasser!$A$3:$M$88,13,FALSE),)","v":0},null,null,null,null,null,{"$f":"IF(F875<>\"\",'CO2 konvertering'!$C$14,)","v":0},null,null,null,null,0]
[null,null,null,"Ja",null,null,null,null,"",null,"",{"$f":"IFERROR(VLOOKUP(F876,Biomasser!$A$3:$E$88,4,FALSE),0)","v":0},null,{"$f":"IFERROR(VLOOKUP(F876,Biomasser!$A$3:$E$88,5,FALSE),0)","v":0},"",0,null,null,{"$f":"IFERROR(VLOOKUP(F876,Biomasser!$A$3:$M$88,13,FALSE),)","v":0},null,null,null,null,null,{"$f":"IF(F876<>\"\",'CO2 konvertering'!$C$14,)","v":0},null,null,null,null,0]
[null,null,null,"Ja",null,null,null,null,"",null,"",{"$f":"IFERROR(VLOOKUP(F877,Biomasser!$A$3:$E$88,4,FALSE),0)","v":0},null,{"$f":"IFERROR(VLOOKUP(F877,Biomasser!$A$3:$E$88,5,FALSE),0)","v":0},"",0,null,null,{"$f":"IFERROR(VLOOKUP(F877,Biomasser!$A$3:$M$88,13,FALSE),)","v":0},null,null,null,null,null,{"$f":"IF(F877<>\"\",'CO2 konvertering'!$C$14,)","v":0},null,null,null,null,0]
[null,null,null,"Ja",null,null,null,null,"",null,"",{"$f":"IFERROR(VLOOKUP(F878,Biomasser!$A$3:$E$88,4,FALSE),0)","v":0},null,{"$f":"IFERROR(VLOOKUP(F878,Biomasser!$A$3:$E$88,5,FALSE),0)","v":0},"",0,null,null,{"$f":"IFERROR(VLOOKUP(F878,Biomasser!$A$3:$M$88,13,FALSE),)","v":0},null,null,null,null,null,{"$f":"IF(F878<>\"\",'CO2 konvertering'!$C$14,)","v":0},null,null,null,null,0]
[null,null,null,"Ja",null,null,null,null,"",null,"",{"$f":"IFERROR(VLOOKUP(F879,Biomasser!$A$3:$E$88,4,FALSE),0)","v":0},null,{"$f":"IFERROR(VLOOKUP(F879,Biomasser!$A$3:$E$88,5,FALSE),0)","v":0},"",0,null,null,{"$f":"IFERROR(VLOOKUP(F879,Biomasser!$A$3:$M$88,13,FALSE),)","v":0},null,null,null,null,null,{"$f":"IF(F879<>\"\",'CO2 konvertering'!$C$14,)","v":0},null,null,null,null,0]
[null,null,null,"Ja",null,null,null,null,"",null,"",{"$f":"IFERROR(VLOOKUP(F880,Biomasser!$A$3:$E$88,4,FALSE),0)","v":0},null,{"$f":"IFERROR(VLOOKUP(F880,Biomasser!$A$3:$E$88,5,FALSE),0)","v":0},"",0,null,null,{"$f":"IFERROR(VLOOKUP(F880,Biomasser!$A$3:$M$88,13,FALSE),)","v":0},null,null,null,null,null,{"$f":"IF(F880<>\"\",'CO2 konvertering'!$C$14,)","v":0},null,null,null,null,0]
[null,null,null,"Ja",null,null,null,null,"",null,"",{"$f":"IFERROR(VLOOKUP(F881,Biomasser!$A$3:$E$88,4,FALSE),0)","v":0},null,{"$f":"IFERROR(VLOOKUP(F881,Biomasser!$A$3:$E$88,5,FALSE),0)","v":0},"",0,null,null,{"$f":"IFERROR(VLOOKUP(F881,Biomasser!$A$3:$M$88,13,FALSE),)","v":0},null,null,null,null,null,{"$f":"IF(F881<>\"\",'CO2 konvertering'!$C$14,)","v":0},null,null,null,null,0]
[null,null,null,"Ja",null,null,null,null,"",null,"",{"$f":"IFERROR(VLOOKUP(F882,Biomasser!$A$3:$E$88,4,FALSE),0)","v":0},null,{"$f":"IFERROR(VLOOKUP(F882,Biomasser!$A$3:$E$88,5,FALSE),0)","v":0},"",{"$f":"J882*L882*N882*H882","v":0},null,null,{"$f":"IFERROR(VLOOKUP(F882,Biomasser!$A$3:$M$88,13,FALSE),)","v":0},null,null,null,null,null,{"$f":"IF(F882<>\"\",'CO2 konvertering'!$C$14,)","v":0},null,null,null,null,{"$f":"SUM(S882:AC882)","v":0}]
[null,null,null,"Ja",null,null,null,null,"",null,"",{"$f":"IFERROR(VLOOKUP(F883,Biomasser!$A$3:$E$88,4,FALSE),0)","v":0},null,{"$f":"IFERROR(VLOOKUP(F883,Biomasser!$A$3:$E$88,5,FALSE),0)","v":0},"",0,null,null,{"$f":"IFERROR(VLOOKUP(F883,Biomasser!$A$3:$M$88,13,FALSE),)","v":0},null,null,null,null,null,{"$f":"IF(F883<>\"\",'CO2 konvertering'!$C$14,)","v":0},null,null,null,null,0]
[null,null,null,"Ja",null,null,null,null,"",null,"",{"$f":"IFERROR(VLOOKUP(F884,Biomasser!$A$3:$E$88,4,FALSE),0)","v":0},null,{"$f":"IFERROR(VLOOKUP(F884,Biomasser!$A$3:$E$88,5,FALSE),0)","v":0},"",0,null,null,{"$f":"IFERROR(VLOOKUP(F884,Biomasser!$A$3:$M$88,13,FALSE),)","v":0},null,null,null,null,null,{"$f":"IF(F884<>\"\",'CO2 konvertering'!$C$14,)","v":0},null,null,null,null,0]
[null,null,null,"Ja",null,null,null,null,"",null,"",{"$f":"IFERROR(VLOOKUP(F885,Biomasser!$A$3:$E$88,4,FALSE),0)","v":0},null,{"$f":"IFERROR(VLOOKUP(F885,Biomasser!$A$3:$E$88,5,FALSE),0)","v":0},"",0,null,null,{"$f":"IFERROR(VLOOKUP(F885,Biomasser!$A$3:$M$88,13,FALSE),)","v":0},null,null,null,null,null,{"$f":"IF(F885<>\"\",'CO2 konvertering'!$C$14,)","v":0},null,null,null,null,0]
[null,null,null,"Ja",null,null,null,null,"",null,"",{"$f":"IFERROR(VLOOKUP(F886,Biomasser!$A$3:$E$88,4,FALSE),0)","v":0},null,{"$f":"IFERROR(VLOOKUP(F886,Biomasser!$A$3:$E$88,5,FALSE),0)","v":0},"",0,null,null,{"$f":"IFERROR(VLOOKUP(F886,Biomasser!$A$3:$M$88,13,FALSE),)","v":0},null,null,null,null,null,{"$f":"IF(F886<>\"\",'CO2 konvertering'!$C$14,)","v":0},null,null,null,null,0]
[null,null,null,"Ja",null,null,null,null,"",null,"",{"$f":"IFERROR(VLOOKUP(F887,Biomasser!$A$3:$E$88,4,FALSE),0)","v":0},null,{"$f":"IFERROR(VLOOKUP(F887,Biomasser!$A$3:$E$88,5,FALSE),0)","v":0},"",0,null,null,{"$f":"IFERROR(VLOOKUP(F887,Biomasser!$A$3:$M$88,13,FALSE),)","v":0},null,null,null,null,null,{"$f":"IF(F887<>\"\",'CO2 konvertering'!$C$14,)","v":0},null,null,null,null,0]
[null,null,null,"Ja",null,null,null,null,"",null,"",{"$f":"IFERROR(VLOOKUP(F888,Biomasser!$A$3:$E$88,4,FALSE),0)","v":0},null,{"$f":"IFERROR(VLOOKUP(F888,Biomasser!$A$3:$E$88,5,FALSE),0)","v":0},"",0,null,null,{"$f":"IFERROR(VLOOKUP(F888,Biomasser!$A$3:$M$88,13,FALSE),)","v":0},null,null,null,null,null,{"$f":"IF(F888<>\"\",'CO2 konvertering'!$C$14,)","v":0},null,null,null,null,0]
[null,null,null,"Ja",null,null,null,null,"",null,"",{"$f":"IFERROR(VLOOKUP(F889,Biomasser!$A$3:$E$88,4,FALSE),0)","v":0},null,{"$f":"IFERROR(VLOOKUP(F889,Biomasser!$A$3:$E$88,5,FALSE),0)","v":0},"",0,null,null,{"$f":"IFERROR(VLOOKUP(F889,Biomasser!$A$3:$M$88,13,FALSE),)","v":0},null,null,null,null,null,{"$f":"IF(F889<>\"\",'CO2 konvertering'!$C$14,)","v":0},null,null,null,null,0]
[null,null,null,"Ja",null,null,null,null,"",null,"",{"$f":"IFERROR(VLOOKUP(F890,Biomasser!$A$3:$E$88,4,FALSE),0)","v":0},null,{"$f":"IFERROR(VLOOKUP(F890,Biomasser!$A$3:$E$88,5,FALSE),0)","v":0},"",0,null,null,{"$f":"IFERROR(VLOOKUP(F890,Biomasser!$A$3:$M$88,13,FALSE),)","v":0},null,null,null,null,null,{"$f":"IF(F890<>\"\",'CO2 konvertering'!$C$14,)","v":0},null,null,null,null,0]
[null,null,null,"Ja",null,null,null,null,"",null,"",{"$f":"IFERROR(VLOOKUP(F891,Biomasser!$A$3:$E$88,4,FALSE),0)","v":0},null,{"$f":"IFERROR(VLOOKUP(F891,Biomasser!$A$3:$E$88,5,FALSE),0)","v":0},"",0,null,null,{"$f":"IFERROR(VLOOKUP(F891,Biomasser!$A$3:$M$88,13,FALSE),)","v":0},null,null,null,null,null,{"$f":"IF(F891<>\"\",'CO2 konvertering'!$C$14,)","v":0},null,null,null,null,0]
[null,null,null,"Ja",null,null,null,null,"",null,"",{"$f":"IFERROR(VLOOKUP(F892,Biomasser!$A$3:$E$88,4,FALSE),0)","v":0},null,{"$f":"IFERROR(VLOOKUP(F892,Biomasser!$A$3:$E$88,5,FALSE),0)","v":0},"",0,null,null,{"$f":"IFERROR(VLOOKUP(F892,Biomasser!$A$3:$M$88,13,FALSE),)","v":0},null,null,null,null,null,{"$f":"IF(F892<>\"\",'CO2 konvertering'!$C$14,)","v":0},null,null,null,null,0]
[null,null,null,"Ja",null,null,null,null,"",null,"",{"$f":"IFERROR(VLOOKUP(F893,Biomasser!$A$3:$E$88,4,FALSE),0)","v":0},null,{"$f":"IFERROR(VLOOKUP(F893,Biomasser!$A$3:$E$88,5,FALSE),0)","v":0},"",0,null,null,{"$f":"IFERROR(VLOOKUP(F893,Biomasser!$A$3:$M$88,13,FALSE),)","v":0},null,null,null,null,null,{"$f":"IF(F893<>\"\",'CO2 konvertering'!$C$14,)","v":0},null,null,null,null,0]
[null,null,null,"Ja",null,null,null,null,"",null,"",{"$f":"IFERROR(VLOOKUP(F894,Biomasser!$A$3:$E$88,4,FALSE),0)","v":0},null,{"$f":"IFERROR(VLOOKUP(F894,Biomasser!$A$3:$E$88,5,FALSE),0)","v":0},"",0,null,null,{"$f":"IFERROR(VLOOKUP(F894,Biomasser!$A$3:$M$88,13,FALSE),)","v":0},null,null,null,null,null,{"$f":"IF(F894<>\"\",'CO2 konvertering'!$C$14,)","v":0},null,null,null,null,0]
[null,null,null,"Ja",null,null,null,null,"",null,"",{"$f":"IFERROR(VLOOKUP(F895,Biomasser!$A$3:$E$88,4,FALSE),0)","v":0},null,{"$f":"IFERROR(VLOOKUP(F895,Biomasser!$A$3:$E$88,5,FALSE),0)","v":0},"",0,null,null,{"$f":"IFERROR(VLOOKUP(F895,Biomasser!$A$3:$M$88,13,FALSE),)","v":0},null,null,null,null,null,{"$f":"IF(F895<>\"\",'CO2 konvertering'!$C$14,)","v":0},null,null,null,null,0]
[null,null,null,"Ja",null,null,null,null,"",null,"",{"$f":"IFERROR(VLOOKUP(F896,Biomasser!$A$3:$E$88,4,FALSE),0)","v":0},null,{"$f":"IFERROR(VLOOKUP(F896,Biomasser!$A$3:$E$88,5,FALSE),0)","v":0},"",0,null,null,{"$f":"IFERROR(VLOOKUP(F896,Biomasser!$A$3:$M$88,13,FALSE),)","v":0},null,null,null,null,null,{"$f":"IF(F896<>\"\",'CO2 konvertering'!$C$14,)","v":0},null,null,null,null,0]
[null,null,null,"Ja",null,null,null,null,"",null,"",{"$f":"IFERROR(VLOOKUP(F897,Biomasser!$A$3:$E$88,4,FALSE),0)","v":0},null,{"$f":"IFERROR(VLOOKUP(F897,Biomasser!$A$3:$E$88,5,FALSE),0)","v":0},"",0,null,null,{"$f":"IFERROR(VLOOKUP(F897,Biomasser!$A$3:$M$88,13,FALSE),)","v":0},null,null,null,null,null,{"$f":"IF(F897<>\"\",'CO2 konvertering'!$C$14,)","v":0},null,null,null,null,0]
[null,null,null,"Ja",null,null,null,null,"",null,"",{"$f":"IFERROR(VLOOKUP(F898,Biomasser!$A$3:$E$88,4,FALSE),0)","v":0},null,{"$f":"IFERROR(VLOOKUP(F898,Biomasser!$A$3:$E$88,5,FALSE),0)","v":0},"",0,null,null,{"$f":"IFERROR(VLOOKUP(F898,Biomasser!$A$3:$M$88,13,FALSE),)","v":0},null,null,null,null,null,{"$f":"IF(F898<>\"\",'CO2 konvertering'!$C$14,)","v":0},null,null,null,null,0]
[null,null,null,"Ja",null,null,null,null,"",null,"",{"$f":"IFERROR(VLOOKUP(F899,Biomasser!$A$3:$E$88,4,FALSE),0)","v":0},null,{"$f":"IFERROR(VLOOKUP(F899,Biomasser!$A$3:$E$88,5,FALSE),0)","v":0},"",0,null,null,{"$f":"IFERROR(VLOOKUP(F899,Biomasser!$A$3:$M$88,13,FALSE),)","v":0},null,null,null,null,null,{"$f":"IF(F899<>\"\",'CO2 konvertering'!$C$14,)","v":0},null,null,null,null,0]
[null,null,null,"Ja",null,null,null,null,"",null,"",{"$f":"IFERROR(VLOOKUP(F900,Biomasser!$A$3:$E$88,4,FALSE),0)","v":0},null,{"$f":"IFERROR(VLOOKUP(F900,Biomasser!$A$3:$E$88,5,FALSE),0)","v":0},"",0,null,null,{"$f":"IFERROR(VLOOKUP(F900,Biomasser!$A$3:$M$88,13,FALSE),)","v":0},null,null,null,null,null,{"$f":"IF(F900<>\"\",'CO2 konvertering'!$C$14,)","v":0},null,null,null,null,0]
[null,null,null,"Ja",null,null,null,null,"",null,"",{"$f":"IFERROR(VLOOKUP(F901,Biomasser!$A$3:$E$88,4,FALSE),0)","v":0},null,{"$f":"IFERROR(VLOOKUP(F901,Biomasser!$A$3:$E$88,5,FALSE),0)","v":0},"",0,null,null,{"$f":"IFERROR(VLOOKUP(F901,Biomasser!$A$3:$M$88,13,FALSE),)","v":0},null,null,null,null,null,{"$f":"IF(F901<>\"\",'CO2 konvertering'!$C$14,)","v":0},null,null,null,null,0]
[null,null,null,"Ja",null,null,null,null,"",null,"",{"$f":"IFERROR(VLOOKUP(F902,Biomasser!$A$3:$E$88,4,FALSE),0)","v":0},null,{"$f":"IFERROR(VLOOKUP(F902,Biomasser!$A$3:$E$88,5,FALSE),0)","v":0},"",0,null,null,{"$f":"IFERROR(VLOOKUP(F902,Biomasser!$A$3:$M$88,13,FALSE),)","v":0},null,null,null,null,null,{"$f":"IF(F902<>\"\",'CO2 konvertering'!$C$14,)","v":0},null,null,null,null,0]
[null,null,null,"Ja",null,null,null,null,"",null,"",{"$f":"IFERROR(VLOOKUP(F903,Biomasser!$A$3:$E$88,4,FALSE),0)","v":0},null,{"$f":"IFERROR(VLOOKUP(F903,Biomasser!$A$3:$E$88,5,FALSE),0)","v":0},"",0,null,null,{"$f":"IFERROR(VLOOKUP(F903,Biomasser!$A$3:$M$88,13,FALSE),)","v":0},null,null,null,null,null,{"$f":"IF(F903<>\"\",'CO2 konvertering'!$C$14,)","v":0},null,null,null,null,0]
[null,null,null,"Ja",null,null,null,null,"",null,"",{"$f":"IFERROR(VLOOKUP(F904,Biomasser!$A$3:$E$88,4,FALSE),0)","v":0},null,{"$f":"IFERROR(VLOOKUP(F904,Biomasser!$A$3:$E$88,5,FALSE),0)","v":0},"",0,null,null,{"$f":"IFERROR(VLOOKUP(F904,Biomasser!$A$3:$M$88,13,FALSE),)","v":0},null,null,null,null,null,{"$f":"IF(F904<>\"\",'CO2 konvertering'!$C$14,)","v":0},null,null,null,null,0]
[null,null,null,"Ja",null,null,null,null,"",null,"",{"$f":"IFERROR(VLOOKUP(F905,Biomasser!$A$3:$E$88,4,FALSE),0)","v":0},null,{"$f":"IFERROR(VLOOKUP(F905,Biomasser!$A$3:$E$88,5,FALSE),0)","v":0},"",0,null,null,{"$f":"IFERROR(VLOOKUP(F905,Biomasser!$A$3:$M$88,13,FALSE),)","v":0},null,null,null,null,null,{"$f":"IF(F905<>\"\",'CO2 konvertering'!$C$14,)","v":0},null,null,null,null,0]
[null,null,null,"Ja",null,null,null,null,"",null,"",{"$f":"IFERROR(VLOOKUP(F906,Biomasser!$A$3:$E$88,4,FALSE),0)","v":0},null,{"$f":"IFERROR(VLOOKUP(F906,Biomasser!$A$3:$E$88,5,FALSE),0)","v":0},"",0,null,null,{"$f":"IFERROR(VLOOKUP(F906,Biomasser!$A$3:$M$88,13,FALSE),)","v":0},null,null,null,null,null,{"$f":"IF(F906<>\"\",'CO2 konvertering'!$C$14,)","v":0},null,null,null,null,0]
[null,null,null,"Ja",null,null,null,null,"",null,"",{"$f":"IFERROR(VLOOKUP(F907,Biomasser!$A$3:$E$88,4,FALSE),0)","v":0},null,{"$f":"IFERROR(VLOOKUP(F907,Biomasser!$A$3:$E$88,5,FALSE),0)","v":0},"",0,null,null,{"$f":"IFERROR(VLOOKUP(F907,Biomasser!$A$3:$M$88,13,FALSE),)","v":0},null,null,null,null,null,{"$f":"IF(F907<>\"\",'CO2 konvertering'!$C$14,)","v":0},null,null,null,null,0]
[null,null,null,"Ja",null,null,null,null,"",null,"",{"$f":"IFERROR(VLOOKUP(F908,Biomasser!$A$3:$E$88,4,FALSE),0)","v":0},null,{"$f":"IFERROR(VLOOKUP(F908,Biomasser!$A$3:$E$88,5,FALSE),0)","v":0},"",0,null,null,{"$f":"IFERROR(VLOOKUP(F908,Biomasser!$A$3:$M$88,13,FALSE),)","v":0},null,null,null,null,null,{"$f":"IF(F908<>\"\",'CO2 konvertering'!$C$14,)","v":0},null,null,null,null,0]
[null,null,null,"Ja",null,null,null,null,"",null,"",{"$f":"IFERROR(VLOOKUP(F909,Biomasser!$A$3:$E$88,4,FALSE),0)","v":0},null,{"$f":"IFERROR(VLOOKUP(F909,Biomasser!$A$3:$E$88,5,FALSE),0)","v":0},"",0,null,null,{"$f":"IFERROR(VLOOKUP(F909,Biomasser!$A$3:$M$88,13,FALSE),)","v":0},null,null,null,null,null,{"$f":"IF(F909<>\"\",'CO2 konvertering'!$C$14,)","v":0},null,null,null,null,0]
[null,null,null,"Ja",null,null,null,null,"",null,"",{"$f":"IFERROR(VLOOKUP(F910,Biomasser!$A$3:$E$88,4,FALSE),0)","v":0},null,{"$f":"IFERROR(VLOOKUP(F910,Biomasser!$A$3:$E$88,5,FALSE),0)","v":0},"",0,null,null,{"$f":"IFERROR(VLOOKUP(F910,Biomasser!$A$3:$M$88,13,FALSE),)","v":0},null,null,null,null,null,{"$f":"IF(F910<>\"\",'CO2 konvertering'!$C$14,)","v":0},null,null,null,null,0]
[null,null,null,"Ja",null,null,null,null,"",null,"",{"$f":"IFERROR(VLOOKUP(F911,Biomasser!$A$3:$E$88,4,FALSE),0)","v":0},null,{"$f":"IFERROR(VLOOKUP(F911,Biomasser!$A$3:$E$88,5,FALSE),0)","v":0},"",0,null,null,{"$f":"IFERROR(VLOOKUP(F911,Biomasser!$A$3:$M$88,13,FALSE),)","v":0},null,null,null,null,null,{"$f":"IF(F911<>\"\",'CO2 konvertering'!$C$14,)","v":0},null,null,null,null,0]
[null,null,null,"Ja",null,null,null,null,"",null,"",{"$f":"IFERROR(VLOOKUP(F912,Biomasser!$A$3:$E$88,4,FALSE),0)","v":0},null,{"$f":"IFERROR(VLOOKUP(F912,Biomasser!$A$3:$E$88,5,FALSE),0)","v":0},"",0,null,null,{"$f":"IFERROR(VLOOKUP(F912,Biomasser!$A$3:$M$88,13,FALSE),)","v":0},null,null,null,null,null,{"$f":"IF(F912<>\"\",'CO2 konvertering'!$C$14,)","v":0},null,null,null,null,0]
[null,null,null,"Ja",null,null,null,null,"",null,"",{"$f":"IFERROR(VLOOKUP(F913,Biomasser!$A$3:$E$88,4,FALSE),0)","v":0},null,{"$f":"IFERROR(VLOOKUP(F913,Biomasser!$A$3:$E$88,5,FALSE),0)","v":0},"",0,null,null,{"$f":"IFERROR(VLOOKUP(F913,Biomasser!$A$3:$M$88,13,FALSE),)","v":0},null,null,null,null,null,{"$f":"IF(F913<>\"\",'CO2 konvertering'!$C$14,)","v":0},null,null,null,null,0]
[null,null,null,"Ja",null,null,null,null,"",null,"",{"$f":"IFERROR(VLOOKUP(F914,Biomasser!$A$3:$E$88,4,FALSE),0)","v":0},null,{"$f":"IFERROR(VLOOKUP(F914,Biomasser!$A$3:$E$88,5,FALSE),0)","v":0},"",{"$f":"J914*L914*N914*H914","v":0},null,null,{"$f":"IFERROR(VLOOKUP(F914,Biomasser!$A$3:$M$88,13,FALSE),)","v":0},null,null,null,null,null,{"$f":"IF(F914<>\"\",'CO2 konvertering'!$C$14,)","v":0},null,null,null,null,{"$f":"SUM(S914:AC914)","v":0}]
[null,null,null,"Ja",null,null,null,null,{"$f":"IF(AND(F915<>\"\",ISBLANK(H915)),\"Indtast vægt\",\"\")","v":""},null,{"$f":"IF(AND(F915<>\"\",ISBLANK(J915)),\"Indtast tørstof %\",\"\")","v":""},{"$f":"IFERROR(VLOOKUP(F915,Biomasser!$A$3:$E$88,4,FALSE),0)","v":0},null,{"$f":"IFERROR(VLOOKUP(F915,Biomasser!$A$3:$E$88,5,FALSE),0)","v":0},"",0,null,null,{"$f":"IFERROR(VLOOKUP(F915,Biomasser!$A$3:$M$88,13,FALSE),)","v":0},null,null,null,null,null,{"$f":"IF(F915<>\"\",'CO2 konvertering'!$C$14,)","v":0},null,null,null,null,0]
[null,null,null,"Ja",null,null,null,null,"",null,"",{"$f":"IFERROR(VLOOKUP(F916,Biomasser!$A$3:$E$88,4,FALSE),0)","v":0},null,{"$f":"IFERROR(VLOOKUP(F916,Biomasser!$A$3:$E$88,5,FALSE),0)","v":0},"",0,null,null,{"$f":"IFERROR(VLOOKUP(F916,Biomasser!$A$3:$M$88,13,FALSE),)","v":0},null,null,null,null,null,{"$f":"IF(F916<>\"\",'CO2 konvertering'!$C$14,)","v":0},null,null,null,null,0]
[null,null,null,"Ja",null,null,null,null,"",null,"",{"$f":"IFERROR(VLOOKUP(F917,Biomasser!$A$3:$E$88,4,FALSE),0)","v":0},null,{"$f":"IFERROR(VLOOKUP(F917,Biomasser!$A$3:$E$88,5,FALSE),0)","v":0},"",0,null,null,{"$f":"IFERROR(VLOOKUP(F917,Biomasser!$A$3:$M$88,13,FALSE),)","v":0},null,null,null,null,null,{"$f":"IF(F917<>\"\",'CO2 konvertering'!$C$14,)","v":0},null,null,null,null,0]
[null,null,null,"Ja",null,null,null,null,"",null,"",{"$f":"IFERROR(VLOOKUP(F918,Biomasser!$A$3:$E$88,4,FALSE),0)","v":0},null,{"$f":"IFERROR(VLOOKUP(F918,Biomasser!$A$3:$E$88,5,FALSE),0)","v":0},{"$f":"IF(AND(F918<>\"\",(N918=0)),\"Opdater biomasseark\",\"\")","v":""},0,null,null,{"$f":"IFERROR(VLOOKUP(F918,Biomasser!$A$3:$M$88,13,FALSE),)","v":0},null,null,null,null,null,{"$f":"IF(F918<>\"\",'CO2 konvertering'!$C$14,)","v":0},null,null,null,null,0]
[null,null,null,"Ja",null,null,null,null,"",null,"",{"$f":"IFERROR(VLOOKUP(F919,Biomasser!$A$3:$E$88,4,FALSE),0)","v":0},null,{"$f":"IFERROR(VLOOKUP(F919,Biomasser!$A$3:$E$88,5,FALSE),0)","v":0},"",0,null,null,{"$f":"IFERROR(VLOOKUP(F919,Biomasser!$A$3:$M$88,13,FALSE),)","v":0},null,null,null,null,null,{"$f":"IF(F919<>\"\",'CO2 konvertering'!$C$14,)","v":0},null,null,null,null,0]
[null,null,null,"Ja",null,null,null,null,"",null,"",{"$f":"IFERROR(VLOOKUP(F920,Biomasser!$A$3:$E$88,4,FALSE),0)","v":0},null,{"$f":"IFERROR(VLOOKUP(F920,Biomasser!$A$3:$E$88,5,FALSE),0)","v":0},"",0,null,null,{"$f":"IFERROR(VLOOKUP(F920,Biomasser!$A$3:$M$88,13,FALSE),)","v":0},null,null,null,null,null,{"$f":"IF(F920<>\"\",'CO2 konvertering'!$C$14,)","v":0},null,null,null,null,0]
[null,null,null,"Ja",null,null,null,null,"",null,"",{"$f":"IFERROR(VLOOKUP(F921,Biomasser!$A$3:$E$88,4,FALSE),0)","v":0},null,{"$f":"IFERROR(VLOOKUP(F921,Biomasser!$A$3:$E$88,5,FALSE),0)","v":0},"",0,null,null,{"$f":"IFERROR(VLOOKUP(F921,Biomasser!$A$3:$M$88,13,FALSE),)","v":0},null,null,null,null,null,{"$f":"IF(F921<>\"\",'CO2 konvertering'!$C$14,)","v":0},null,null,null,null,0]
[null,null,null,"Ja",null,null,null,null,"",null,"",{"$f":"IFERROR(VLOOKUP(F922,Biomasser!$A$3:$E$88,4,FALSE),0)","v":0},null,{"$f":"IFERROR(VLOOKUP(F922,Biomasser!$A$3:$E$88,5,FALSE),0)","v":0},"",0,null,null,{"$f":"IFERROR(VLOOKUP(F922,Biomasser!$A$3:$M$88,13,FALSE),)","v":0},null,null,null,null,null,{"$f":"IF(F922<>\"\",'CO2 konvertering'!$C$14,)","v":0},null,null,null,null,0]
[null,null,null,"Ja",null,null,null,null,"",null,"",{"$f":"IFERROR(VLOOKUP(F923,Biomasser!$A$3:$E$88,4,FALSE),0)","v":0},null,{"$f":"IFERROR(VLOOKUP(F923,Biomasser!$A$3:$E$88,5,FALSE),0)","v":0},"",0,null,null,{"$f":"IFERROR(VLOOKUP(F923,Biomasser!$A$3:$M$88,13,FALSE),)","v":0},null,null,null,null,null,{"$f":"IF(F923<>\"\",'CO2 konvertering'!$C$14,)","v":0},null,null,null,null,0]
[null,null,null,"Ja",null,null,null,null,"",null,"",{"$f":"IFERROR(VLOOKUP(F924,Biomasser!$A$3:$E$88,4,FALSE),0)","v":0},null,{"$f":"IFERROR(VLOOKUP(F924,Biomasser!$A$3:$E$88,5,FALSE),0)","v":0},"",0,null,null,{"$f":"IFERROR(VLOOKUP(F924,Biomasser!$A$3:$M$88,13,FALSE),)","v":0},null,null,null,null,null,{"$f":"IF(F924<>\"\",'CO2 konvertering'!$C$14,)","v":0},null,null,null,null,0]
[null,null,null,"Ja",null,null,null,null,"",null,"",{"$f":"IFERROR(VLOOKUP(F925,Biomasser!$A$3:$E$88,4,FALSE),0)","v":0},null,{"$f":"IFERROR(VLOOKUP(F925,Biomasser!$A$3:$E$88,5,FALSE),0)","v":0},"",0,null,null,{"$f":"IFERROR(VLOOKUP(F925,Biomasser!$A$3:$M$88,13,FALSE),)","v":0},null,null,null,null,null,{"$f":"IF(F925<>\"\",'CO2 konvertering'!$C$14,)","v":0},null,null,null,null,0]
[null,null,null,"Ja",null,null,null,null,"",null,"",{"$f":"IFERROR(VLOOKUP(F926,Biomasser!$A$3:$E$88,4,FALSE),0)","v":0},null,{"$f":"IFERROR(VLOOKUP(F926,Biomasser!$A$3:$E$88,5,FALSE),0)","v":0},"",0,null,null,{"$f":"IFERROR(VLOOKUP(F926,Biomasser!$A$3:$M$88,13,FALSE),)","v":0},null,null,null,null,null,{"$f":"IF(F926<>\"\",'CO2 konvertering'!$C$14,)","v":0},null,null,null,null,0]
[null,null,null,"Ja",null,null,null,null,"",null,"",{"$f":"IFERROR(VLOOKUP(F927,Biomasser!$A$3:$E$88,4,FALSE),0)","v":0},null,{"$f":"IFERROR(VLOOKUP(F927,Biomasser!$A$3:$E$88,5,FALSE),0)","v":0},"",0,null,null,{"$f":"IFERROR(VLOOKUP(F927,Biomasser!$A$3:$M$88,13,FALSE),)","v":0},null,null,null,null,null,{"$f":"IF(F927<>\"\",'CO2 konvertering'!$C$14,)","v":0},null,null,null,null,0]
[null,null,null,"Ja",null,null,null,null,"",null,"",{"$f":"IFERROR(VLOOKUP(F928,Biomasser!$A$3:$E$88,4,FALSE),0)","v":0},null,{"$f":"IFERROR(VLOOKUP(F928,Biomasser!$A$3:$E$88,5,FALSE),0)","v":0},"",0,null,null,{"$f":"IFERROR(VLOOKUP(F928,Biomasser!$A$3:$M$88,13,FALSE),)","v":0},null,null,null,null,null,{"$f":"IF(F928<>\"\",'CO2 konvertering'!$C$14,)","v":0},null,null,null,null,0]
[null,null,null,"Ja",null,null,null,null,"",null,"",{"$f":"IFERROR(VLOOKUP(F929,Biomasser!$A$3:$E$88,4,FALSE),0)","v":0},null,{"$f":"IFERROR(VLOOKUP(F929,Biomasser!$A$3:$E$88,5,FALSE),0)","v":0},"",0,null,null,{"$f":"IFERROR(VLOOKUP(F929,Biomasser!$A$3:$M$88,13,FALSE),)","v":0},null,null,null,null,null,{"$f":"IF(F929<>\"\",'CO2 konvertering'!$C$14,)","v":0},null,null,null,null,0]
[null,null,null,"Ja",null,null,null,null,"",null,"",{"$f":"IFERROR(VLOOKUP(F930,Biomasser!$A$3:$E$88,4,FALSE),0)","v":0},null,{"$f":"IFERROR(VLOOKUP(F930,Biomasser!$A$3:$E$88,5,FALSE),0)","v":0},"",0,null,null,{"$f":"IFERROR(VLOOKUP(F930,Biomasser!$A$3:$M$88,13,FALSE),)","v":0},null,null,null,null,null,{"$f":"IF(F930<>\"\",'CO2 konvertering'!$C$14,)","v":0},null,null,null,null,0]
[null,null,null,"Ja",null,null,null,null,"",null,"",{"$f":"IFERROR(VLOOKUP(F931,Biomasser!$A$3:$E$88,4,FALSE),0)","v":0},null,{"$f":"IFERROR(VLOOKUP(F931,Biomasser!$A$3:$E$88,5,FALSE),0)","v":0},"",0,null,null,{"$f":"IFERROR(VLOOKUP(F931,Biomasser!$A$3:$M$88,13,FALSE),)","v":0},null,null,null,null,null,{"$f":"IF(F931<>\"\",'CO2 konvertering'!$C$14,)","v":0},null,null,null,null,0]
[null,null,null,"Ja",null,null,null,null,"",null,"",{"$f":"IFERROR(VLOOKUP(F932,Biomasser!$A$3:$E$88,4,FALSE),0)","v":0},null,{"$f":"IFERROR(VLOOKUP(F932,Biomasser!$A$3:$E$88,5,FALSE),0)","v":0},"",0,null,null,{"$f":"IFERROR(VLOOKUP(F932,Biomasser!$A$3:$M$88,13,FALSE),)","v":0},null,null,null,null,null,{"$f":"IF(F932<>\"\",'CO2 konvertering'!$C$14,)","v":0},null,null,null,null,0]
[null,null,null,"Ja",null,null,null,null,"",null,"",{"$f":"IFERROR(VLOOKUP(F933,Biomasser!$A$3:$E$88,4,FALSE),0)","v":0},null,{"$f":"IFERROR(VLOOKUP(F933,Biomasser!$A$3:$E$88,5,FALSE),0)","v":0},"",0,null,null,{"$f":"IFERROR(VLOOKUP(F933,Biomasser!$A$3:$M$88,13,FALSE),)","v":0},null,null,null,null,null,{"$f":"IF(F933<>\"\",'CO2 konvertering'!$C$14,)","v":0},null,null,null,null,0]
[null,null,null,"Ja",null,null,null,null,"",null,"",{"$f":"IFERROR(VLOOKUP(F934,Biomasser!$A$3:$E$88,4,FALSE),0)","v":0},null,{"$f":"IFERROR(VLOOKUP(F934,Biomasser!$A$3:$E$88,5,FALSE),0)","v":0},"",0,null,null,{"$f":"IFERROR(VLOOKUP(F934,Biomasser!$A$3:$M$88,13,FALSE),)","v":0},null,null,null,null,null,{"$f":"IF(F934<>\"\",'CO2 konvertering'!$C$14,)","v":0},null,null,null,null,0]
[null,null,null,"Ja",null,null,null,null,"",null,"",{"$f":"IFERROR(VLOOKUP(F935,Biomasser!$A$3:$E$88,4,FALSE),0)","v":0},null,{"$f":"IFERROR(VLOOKUP(F935,Biomasser!$A$3:$E$88,5,FALSE),0)","v":0},"",0,null,null,{"$f":"IFERROR(VLOOKUP(F935,Biomasser!$A$3:$M$88,13,FALSE),)","v":0},null,null,null,null,null,{"$f":"IF(F935<>\"\",'CO2 konvertering'!$C$14,)","v":0},null,null,null,null,0]
[null,null,null,"Ja",null,null,null,null,"",null,"",{"$f":"IFERROR(VLOOKUP(F936,Biomasser!$A$3:$E$88,4,FALSE),0)","v":0},null,{"$f":"IFERROR(VLOOKUP(F936,Biomasser!$A$3:$E$88,5,FALSE),0)","v":0},"",0,null,null,{"$f":"IFERROR(VLOOKUP(F936,Biomasser!$A$3:$M$88,13,FALSE),)","v":0},null,null,null,null,null,{"$f":"IF(F936<>\"\",'CO2 konvertering'!$C$14,)","v":0},null,null,null,null,0]
[null,null,null,"Ja",null,null,null,null,"",null,"",{"$f":"IFERROR(VLOOKUP(F937,Biomasser!$A$3:$E$88,4,FALSE),0)","v":0},null,{"$f":"IFERROR(VLOOKUP(F937,Biomasser!$A$3:$E$88,5,FALSE),0)","v":0},"",0,null,null,{"$f":"IFERROR(VLOOKUP(F937,Biomasser!$A$3:$M$88,13,FALSE),)","v":0},null,null,null,null,null,{"$f":"IF(F937<>\"\",'CO2 konvertering'!$C$14,)","v":0},null,null,null,null,0]
[null,null,null,"Ja",null,null,null,null,"",null,"",{"$f":"IFERROR(VLOOKUP(F938,Biomasser!$A$3:$E$88,4,FALSE),0)","v":0},null,{"$f":"IFERROR(VLOOKUP(F938,Biomasser!$A$3:$E$88,5,FALSE),0)","v":0},"",0,null,null,{"$f":"IFERROR(VLOOKUP(F938,Biomasser!$A$3:$M$88,13,FALSE),)","v":0},null,null,null,null,null,{"$f":"IF(F938<>\"\",'CO2 konvertering'!$C$14,)","v":0},null,null,null,null,0]
[null,null,null,"Ja",null,null,null,null,"",null,"",{"$f":"IFERROR(VLOOKUP(F939,Biomasser!$A$3:$E$88,4,FALSE),0)","v":0},null,{"$f":"IFERROR(VLOOKUP(F939,Biomasser!$A$3:$E$88,5,FALSE),0)","v":0},"",0,null,null,{"$f":"IFERROR(VLOOKUP(F939,Biomasser!$A$3:$M$88,13,FALSE),)","v":0},null,null,null,null,null,{"$f":"IF(F939<>\"\",'CO2 konvertering'!$C$14,)","v":0},null,null,null,null,0]
[null,null,null,"Ja",null,null,null,null,"",null,"",{"$f":"IFERROR(VLOOKUP(F940,Biomasser!$A$3:$E$88,4,FALSE),0)","v":0},null,{"$f":"IFERROR(VLOOKUP(F940,Biomasser!$A$3:$E$88,5,FALSE),0)","v":0},"",0,null,null,{"$f":"IFERROR(VLOOKUP(F940,Biomasser!$A$3:$M$88,13,FALSE),)","v":0},null,null,null,null,null,{"$f":"IF(F940<>\"\",'CO2 konvertering'!$C$14,)","v":0},null,null,null,null,0]
[null,null,null,"Ja",null,null,null,null,"",null,"",{"$f":"IFERROR(VLOOKUP(F941,Biomasser!$A$3:$E$88,4,FALSE),0)","v":0},null,{"$f":"IFERROR(VLOOKUP(F941,Biomasser!$A$3:$E$88,5,FALSE),0)","v":0},"",0,null,null,{"$f":"IFERROR(VLOOKUP(F941,Biomasser!$A$3:$M$88,13,FALSE),)","v":0},null,null,null,null,null,{"$f":"IF(F941<>\"\",'CO2 konvertering'!$C$14,)","v":0},null,null,null,null,0]
[null,null,null,"Ja",null,null,null,null,"",null,"",{"$f":"IFERROR(VLOOKUP(F942,Biomasser!$A$3:$E$88,4,FALSE),0)","v":0},null,{"$f":"IFERROR(VLOOKUP(F942,Biomasser!$A$3:$E$88,5,FALSE),0)","v":0},"",0,null,null,{"$f":"IFERROR(VLOOKUP(F942,Biomasser!$A$3:$M$88,13,FALSE),)","v":0},null,null,null,null,null,{"$f":"IF(F942<>\"\",'CO2 konvertering'!$C$14,)","v":0},null,null,null,null,0]
[null,null,null,"Ja",null,null,null,null,"",null,"",{"$f":"IFERROR(VLOOKUP(F943,Biomasser!$A$3:$E$88,4,FALSE),0)","v":0},null,{"$f":"IFERROR(VLOOKUP(F943,Biomasser!$A$3:$E$88,5,FALSE),0)","v":0},"",0,null,null,{"$f":"IFERROR(VLOOKUP(F943,Biomasser!$A$3:$M$88,13,FALSE),)","v":0},null,null,null,null,null,{"$f":"IF(F943<>\"\",'CO2 konvertering'!$C$14,)","v":0},null,null,null,null,0]
[null,null,null,"Ja",null,null,null,null,"",null,"",{"$f":"IFERROR(VLOOKUP(F944,Biomasser!$A$3:$E$88,4,FALSE),0)","v":0},null,{"$f":"IFERROR(VLOOKUP(F944,Biomasser!$A$3:$E$88,5,FALSE),0)","v":0},"",0,null,null,{"$f":"IFERROR(VLOOKUP(F944,Biomasser!$A$3:$M$88,13,FALSE),)","v":0},null,null,null,null,null,{"$f":"IF(F944<>\"\",'CO2 konvertering'!$C$14,)","v":0},null,null,null,null,0]
[null,null,null,"Ja",null,null,null,null,"",null,"",{"$f":"IFERROR(VLOOKUP(F945,Biomasser!$A$3:$E$88,4,FALSE),0)","v":0},null,{"$f":"IFERROR(VLOOKUP(F945,Biomasser!$A$3:$E$88,5,FALSE),0)","v":0},"",0,null,null,{"$f":"IFERROR(VLOOKUP(F945,Biomasser!$A$3:$M$88,13,FALSE),)","v":0},null,null,null,null,null,{"$f":"IF(F945<>\"\",'CO2 konvertering'!$C$14,)","v":0},null,null,null,null,0]
[null,null,null,"Ja",null,null,null,null,"",null,"",{"$f":"IFERROR(VLOOKUP(F946,Biomasser!$A$3:$E$88,4,FALSE),0)","v":0},null,{"$f":"IFERROR(VLOOKUP(F946,Biomasser!$A$3:$E$88,5,FALSE),0)","v":0},"",0,null,null,{"$f":"IFERROR(VLOOKUP(F946,Biomasser!$A$3:$M$88,13,FALSE),)","v":0},null,null,null,null,null,{"$f":"IF(F946<>\"\",'CO2 konvertering'!$C$14,)","v":0},null,null,null,null,{"$f":"SUM(S946:AC946)","v":0}]
[null,null,null,"Ja",null,null,null,null,"",null,"",{"$f":"IFERROR(VLOOKUP(F947,Biomasser!$A$3:$E$88,4,FALSE),0)","v":0},null,{"$f":"IFERROR(VLOOKUP(F947,Biomasser!$A$3:$E$88,5,FALSE),0)","v":0},"",0,null,null,{"$f":"IFERROR(VLOOKUP(F947,Biomasser!$A$3:$M$88,13,FALSE),)","v":0},null,null,null,null,null,{"$f":"IF(F947<>\"\",'CO2 konvertering'!$C$14,)","v":0},null,null,null,null,0]
[null,null,null,"Ja",null,null,null,null,"",null,"",{"$f":"IFERROR(VLOOKUP(F948,Biomasser!$A$3:$E$88,4,FALSE),0)","v":0},null,{"$f":"IFERROR(VLOOKUP(F948,Biomasser!$A$3:$E$88,5,FALSE),0)","v":0},"",0,null,null,{"$f":"IFERROR(VLOOKUP(F948,Biomasser!$A$3:$M$88,13,FALSE),)","v":0},null,null,null,null,null,{"$f":"IF(F948<>\"\",'CO2 konvertering'!$C$14,)","v":0},null,null,null,null,0]
[null,null,null,"Ja",null,null,null,null,"",null,"",{"$f":"IFERROR(VLOOKUP(F949,Biomasser!$A$3:$E$88,4,FALSE),0)","v":0},null,{"$f":"IFERROR(VLOOKUP(F949,Biomasser!$A$3:$E$88,5,FALSE),0)","v":0},"",0,null,null,{"$f":"IFERROR(VLOOKUP(F949,Biomasser!$A$3:$M$88,13,FALSE),)","v":0},null,null,null,null,null,{"$f":"IF(F949<>\"\",'CO2 konvertering'!$C$14,)","v":0},null,null,null,null,0]
[null,null,null,"Ja",null,null,null,null,"",null,"",{"$f":"IFERROR(VLOOKUP(F950,Biomasser!$A$3:$E$88,4,FALSE),0)","v":0},null,{"$f":"IFERROR(VLOOKUP(F950,Biomasser!$A$3:$E$88,5,FALSE),0)","v":0},"",0,null,null,{"$f":"IFERROR(VLOOKUP(F950,Biomasser!$A$3:$M$88,13,FALSE),)","v":0},null,null,null,null,null,{"$f":"IF(F950<>\"\",'CO2 konvertering'!$C$14,)","v":0},null,null,null,null,0]
[null,"Dato:",null,null,null,"Mængde biomasse (Ton)",null,"Gasproduktion"]
["Gas","10. januar",2015,null,null,{"$f":"SUM(H955:H1055)","v":0},null,null,"m3 CH4"]
[null,"Leverandør",null,"Certificeret",null,"Råvarer input","          Mængder                 \n      (Ton vådvægt)            ",null,null,"Tørstof\n%",null,"Omsættelig tørstof\n%",null,"Gaspotentiale\nm³ CH4/ton VS",null,"Teoretisk\ngasproduktion\nm³ CH4"]
[]
[{"$f":"B952&C952","v":"10. januar2015"},null,null,"Ja",null,null,null,null,{"$f":"IF(AND(F955<>\"\",ISBLANK(H955)),\"Indtast vægt\",\"\")","v":""},null,{"$f":"IF(AND(F955<>\"\",ISBLANK(J955)),\"Indtast tørstof %\",\"\")","v":""},{"$f":"IFERROR(VLOOKUP(F955,Biomasser!$A$3:$E$88,4,FALSE),)","v":0},null,{"$f":"IFERROR(VLOOKUP(F955,Biomasser!$A$3:$E$88,5,FALSE),0)","v":0},{"$f":"IF(AND(F955<>\"\",(N955=0)),\"Opdater biomasseark\",\"\")","v":""},{"$f":"J955*L955*N955*H955","v":0},null,null,{"$f":"IFERROR(VLOOKUP(F955,Biomasser!$A$3:$M$88,13,FALSE),)","v":0},null,null,null,null,null,{"$f":"IF(F955<>\"\",'CO2 konvertering'!$C$14,)","v":0},null,null,null,null,{"$f":"SUM(S955:AC955)","v":0}]
[null,null,null,"Ja",null,null,null,null,{"$f":"IF(AND(F956<>\"\",ISBLANK(H956)),\"Indtast vægt\",\"\")","v":""},null,{"$f":"IF(AND(F956<>\"\",ISBLANK(J956)),\"Indtast tørstof %\",\"\")","v":""},{"$f":"IFERROR(VLOOKUP(F956,Biomasser!$A$3:$E$88,4,FALSE),0)","v":0},null,{"$f":"IFERROR(VLOOKUP(F956,Biomasser!$A$3:$E$88,5,FALSE),0)","v":0},"",0,null,null,{"$f":"IFERROR(VLOOKUP(F956,Biomasser!$A$3:$M$88,13,FALSE),)","v":0},null,null,null,null,null,{"$f":"IF(F956<>\"\",'CO2 konvertering'!$C$14,)","v":0},null,null,null,null,0]
[null,null,null,"Ja",null,null,null,null,"",null,"",{"$f":"IFERROR(VLOOKUP(F957,Biomasser!$A$3:$E$88,4,FALSE),0)","v":0},null,{"$f":"IFERROR(VLOOKUP(F957,Biomasser!$A$3:$E$88,5,FALSE),0)","v":0},"",0,null,null,{"$f":"IFERROR(VLOOKUP(F957,Biomasser!$A$3:$M$88,13,FALSE),)","v":0},null,null,null,null,null,{"$f":"IF(F957<>\"\",'CO2 konvertering'!$C$14,)","v":0},null,null,null,null,0]
[null,null,null,"Ja",null,null,null,null,"",null,"",{"$f":"IFERROR(VLOOKUP(F958,Biomasser!$A$3:$E$88,4,FALSE),0)","v":0},null,{"$f":"IFERROR(VLOOKUP(F958,Biomasser!$A$3:$E$88,5,FALSE),0)","v":0},{"$f":"IF(AND(F958<>\"\",(N958=0)),\"Opdater biomasseark\",\"\")","v":""},0,null,null,{"$f":"IFERROR(VLOOKUP(F958,Biomasser!$A$3:$M$88,13,FALSE),)","v":0},null,null,null,null,null,{"$f":"IF(F958<>\"\",'CO2 konvertering'!$C$14,)","v":0},null,null,null,null,0]
[null,null,null,"Ja",null,null,null,null,"",null,"",{"$f":"IFERROR(VLOOKUP(F959,Biomasser!$A$3:$E$88,4,FALSE),0)","v":0},null,{"$f":"IFERROR(VLOOKUP(F959,Biomasser!$A$3:$E$88,5,FALSE),0)","v":0},{"$f":"IF(AND(F959<>\"\",(N959=0)),\"Opdater biomasseark\",\"\")","v":""},0,null,null,{"$f":"IFERROR(VLOOKUP(F959,Biomasser!$A$3:$M$88,13,FALSE),)","v":0},null,null,null,null,null,{"$f":"IF(F959<>\"\",'CO2 konvertering'!$C$14,)","v":0},null,null,null,null,0]
[null,null,null,"Ja",null,null,null,null,"",null,"",{"$f":"IFERROR(VLOOKUP(F960,Biomasser!$A$3:$E$88,4,FALSE),0)","v":0},null,{"$f":"IFERROR(VLOOKUP(F960,Biomasser!$A$3:$E$88,5,FALSE),0)","v":0},"",0,null,null,{"$f":"IFERROR(VLOOKUP(F960,Biomasser!$A$3:$M$88,13,FALSE),)","v":0},null,null,null,null,null,{"$f":"IF(F960<>\"\",'CO2 konvertering'!$C$14,)","v":0},null,null,null,null,0]
[null,null,null,"Ja",null,null,null,null,"",null,"",{"$f":"IFERROR(VLOOKUP(F961,Biomasser!$A$3:$E$88,4,FALSE),0)","v":0},null,{"$f":"IFERROR(VLOOKUP(F961,Biomasser!$A$3:$E$88,5,FALSE),0)","v":0},"",0,null,null,{"$f":"IFERROR(VLOOKUP(F961,Biomasser!$A$3:$M$88,13,FALSE),)","v":0},null,null,null,null,null,{"$f":"IF(F961<>\"\",'CO2 konvertering'!$C$14,)","v":0},null,null,null,null,0]
[null,null,null,"Ja",null,null,null,null,"",null,"",{"$f":"IFERROR(VLOOKUP(F962,Biomasser!$A$3:$E$88,4,FALSE),0)","v":0},null,{"$f":"IFERROR(VLOOKUP(F962,Biomasser!$A$3:$E$88,5,FALSE),0)","v":0},"",0,null,null,{"$f":"IFERROR(VLOOKUP(F962,Biomasser!$A$3:$M$88,13,FALSE),)","v":0},null,null,null,null,null,{"$f":"IF(F962<>\"\",'CO2 konvertering'!$C$14,)","v":0},null,null,null,null,0]
[null,null,null,"Ja",null,null,null,null,"",null,"",{"$f":"IFERROR(VLOOKUP(F963,Biomasser!$A$3:$E$88,4,FALSE),0)","v":0},null,{"$f":"IFERROR(VLOOKUP(F963,Biomasser!$A$3:$E$88,5,FALSE),0)","v":0},"",0,null,null,{"$f":"IFERROR(VLOOKUP(F963,Biomasser!$A$3:$M$88,13,FALSE),)","v":0},null,null,null,null,null,{"$f":"IF(F963<>\"\",'CO2 konvertering'!$C$14,)","v":0},null,null,null,null,0]
[null,null,null,"Ja",null,null,null,null,"",null,"",{"$f":"IFERROR(VLOOKUP(F964,Biomasser!$A$3:$E$88,4,FALSE),0)","v":0},null,{"$f":"IFERROR(VLOOKUP(F964,Biomasser!$A$3:$E$88,5,FALSE),0)","v":0},"",0,null,null,{"$f":"IFERROR(VLOOKUP(F964,Biomasser!$A$3:$M$88,13,FALSE),)","v":0},null,null,null,null,null,{"$f":"IF(F964<>\"\",'CO2 konvertering'!$C$14,)","v":0},null,null,null,null,0]
[null,null,null,"Ja",null,null,null,null,"",null,"",{"$f":"IFERROR(VLOOKUP(F965,Biomasser!$A$3:$E$88,4,FALSE),0)","v":0},null,{"$f":"IFERROR(VLOOKUP(F965,Biomasser!$A$3:$E$88,5,FALSE),0)","v":0},"",0,null,null,{"$f":"IFERROR(VLOOKUP(F965,Biomasser!$A$3:$M$88,13,FALSE),)","v":0},null,null,null,null,null,{"$f":"IF(F965<>\"\",'CO2 konvertering'!$C$14,)","v":0},null,null,null,null,0]
[null,null,null,"Ja",null,null,null,null,"",null,"",{"$f":"IFERROR(VLOOKUP(F966,Biomasser!$A$3:$E$88,4,FALSE),0)","v":0},null,{"$f":"IFERROR(VLOOKUP(F966,Biomasser!$A$3:$E$88,5,FALSE),0)","v":0},"",0,null,null,{"$f":"IFERROR(VLOOKUP(F966,Biomasser!$A$3:$M$88,13,FALSE),)","v":0},null,null,null,null,null,{"$f":"IF(F966<>\"\",'CO2 konvertering'!$C$14,)","v":0},null,null,null,null,0]
[null,null,null,"Ja",null,null,null,null,"",null,"",{"$f":"IFERROR(VLOOKUP(F967,Biomasser!$A$3:$E$88,4,FALSE),0)","v":0},null,{"$f":"IFERROR(VLOOKUP(F967,Biomasser!$A$3:$E$88,5,FALSE),0)","v":0},"",0,null,null,{"$f":"IFERROR(VLOOKUP(F967,Biomasser!$A$3:$M$88,13,FALSE),)","v":0},null,null,null,null,null,{"$f":"IF(F967<>\"\",'CO2 konvertering'!$C$14,)","v":0},null,null,null,null,0]
[null,null,null,"Ja",null,null,null,null,"",null,"",{"$f":"IFERROR(VLOOKUP(F968,Biomasser!$A$3:$E$88,4,FALSE),0)","v":0},null,{"$f":"IFERROR(VLOOKUP(F968,Biomasser!$A$3:$E$88,5,FALSE),0)","v":0},"",0,null,null,{"$f":"IFERROR(VLOOKUP(F968,Biomasser!$A$3:$M$88,13,FALSE),)","v":0},null,null,null,null,null,{"$f":"IF(F968<>\"\",'CO2 konvertering'!$C$14,)","v":0},null,null,null,null,0]
[null,null,null,"Ja",null,null,null,null,"",null,"",{"$f":"IFERROR(VLOOKUP(F969,Biomasser!$A$3:$E$88,4,FALSE),0)","v":0},null,{"$f":"IFERROR(VLOOKUP(F969,Biomasser!$A$3:$E$88,5,FALSE),0)","v":0},"",0,null,null,{"$f":"IFERROR(VLOOKUP(F969,Biomasser!$A$3:$M$88,13,FALSE),)","v":0},null,null,null,null,null,{"$f":"IF(F969<>\"\",'CO2 konvertering'!$C$14,)","v":0},null,null,null,null,0]
[null,null,null,"Ja",null,null,null,null,"",null,"",{"$f":"IFERROR(VLOOKUP(F970,Biomasser!$A$3:$E$88,4,FALSE),0)","v":0},null,{"$f":"IFERROR(VLOOKUP(F970,Biomasser!$A$3:$E$88,5,FALSE),0)","v":0},"",0,null,null,{"$f":"IFERROR(VLOOKUP(F970,Biomasser!$A$3:$M$88,13,FALSE),)","v":0},null,null,null,null,null,{"$f":"IF(F970<>\"\",'CO2 konvertering'!$C$14,)","v":0},null,null,null,null,0]
[null,null,null,"Ja",null,null,null,null,"",null,"",{"$f":"IFERROR(VLOOKUP(F971,Biomasser!$A$3:$E$88,4,FALSE),0)","v":0},null,{"$f":"IFERROR(VLOOKUP(F971,Biomasser!$A$3:$E$88,5,FALSE),0)","v":0},"",0,null,null,{"$f":"IFERROR(VLOOKUP(F971,Biomasser!$A$3:$M$88,13,FALSE),)","v":0},null,null,null,null,null,{"$f":"IF(F971<>\"\",'CO2 konvertering'!$C$14,)","v":0},null,null,null,null,0]
[null,null,null,"Ja",null,null,null,null,"",null,"",{"$f":"IFERROR(VLOOKUP(F972,Biomasser!$A$3:$E$88,4,FALSE),0)","v":0},null,{"$f":"IFERROR(VLOOKUP(F972,Biomasser!$A$3:$E$88,5,FALSE),0)","v":0},"",0,null,null,{"$f":"IFERROR(VLOOKUP(F972,Biomasser!$A$3:$M$88,13,FALSE),)","v":0},null,null,null,null,null,{"$f":"IF(F972<>\"\",'CO2 konvertering'!$C$14,)","v":0},null,null,null,null,0]
[null,null,null,"Ja",null,null,null,null,"",null,"",{"$f":"IFERROR(VLOOKUP(F973,Biomasser!$A$3:$E$88,4,FALSE),0)","v":0},null,{"$f":"IFERROR(VLOOKUP(F973,Biomasser!$A$3:$E$88,5,FALSE),0)","v":0},"",0,null,null,{"$f":"IFERROR(VLOOKUP(F973,Biomasser!$A$3:$M$88,13,FALSE),)","v":0},null,null,null,null,null,{"$f":"IF(F973<>\"\",'CO2 konvertering'!$C$14,)","v":0},null,null,null,null,0]
[null,null,null,"Ja",null,null,null,null,"",null,"",{"$f":"IFERROR(VLOOKUP(F974,Biomasser!$A$3:$E$88,4,FALSE),0)","v":0},null,{"$f":"IFERROR(VLOOKUP(F974,Biomasser!$A$3:$E$88,5,FALSE),0)","v":0},"",0,null,null,{"$f":"IFERROR(VLOOKUP(F974,Biomasser!$A$3:$M$88,13,FALSE),)","v":0},null,null,null,null,null,{"$f":"IF(F974<>\"\",'CO2 konvertering'!$C$14,)","v":0},null,null,null,null,0]
[null,null,null,"Ja",null,null,null,null,"",null,"",{"$f":"IFERROR(VLOOKUP(F975,Biomasser!$A$3:$E$88,4,FALSE),0)","v":0},null,{"$f":"IFERROR(VLOOKUP(F975,Biomasser!$A$3:$E$88,5,FALSE),0)","v":0},"",0,null,null,{"$f":"IFERROR(VLOOKUP(F975,Biomasser!$A$3:$M$88,13,FALSE),)","v":0},null,null,null,null,null,{"$f":"IF(F975<>\"\",'CO2 konvertering'!$C$14,)","v":0},null,null,null,null,0]
[null,null,null,"Ja",null,null,null,null,"",null,"",{"$f":"IFERROR(VLOOKUP(F976,Biomasser!$A$3:$E$88,4,FALSE),0)","v":0},null,{"$f":"IFERROR(VLOOKUP(F976,Biomasser!$A$3:$E$88,5,FALSE),0)","v":0},"",0,null,null,{"$f":"IFERROR(VLOOKUP(F976,Biomasser!$A$3:$M$88,13,FALSE),)","v":0},null,null,null,null,null,{"$f":"IF(F976<>\"\",'CO2 konvertering'!$C$14,)","v":0},null,null,null,null,0]
[null,null,null,"Ja",null,null,null,null,"",null,"",{"$f":"IFERROR(VLOOKUP(F977,Biomasser!$A$3:$E$88,4,FALSE),0)","v":0},null,{"$f":"IFERROR(VLOOKUP(F977,Biomasser!$A$3:$E$88,5,FALSE),0)","v":0},"",0,null,null,{"$f":"IFERROR(VLOOKUP(F977,Biomasser!$A$3:$M$88,13,FALSE),)","v":0},null,null,null,null,null,{"$f":"IF(F977<>\"\",'CO2 konvertering'!$C$14,)","v":0},null,null,null,null,0]
[null,null,null,"Ja",null,null,null,null,"",null,"",{"$f":"IFERROR(VLOOKUP(F978,Biomasser!$A$3:$E$88,4,FALSE),0)","v":0},null,{"$f":"IFERROR(VLOOKUP(F978,Biomasser!$A$3:$E$88,5,FALSE),0)","v":0},"",0,null,null,{"$f":"IFERROR(VLOOKUP(F978,Biomasser!$A$3:$M$88,13,FALSE),)","v":0},null,null,null,null,null,{"$f":"IF(F978<>\"\",'CO2 konvertering'!$C$14,)","v":0},null,null,null,null,0]
[null,null,null,"Ja",null,null,null,null,"",null,"",{"$f":"IFERROR(VLOOKUP(F979,Biomasser!$A$3:$E$88,4,FALSE),0)","v":0},null,{"$f":"IFERROR(VLOOKUP(F979,Biomasser!$A$3:$E$88,5,FALSE),0)","v":0},"",0,null,null,{"$f":"IFERROR(VLOOKUP(F979,Biomasser!$A$3:$M$88,13,FALSE),)","v":0},null,null,null,null,null,{"$f":"IF(F979<>\"\",'CO2 konvertering'!$C$14,)","v":0},null,null,null,null,0]
[null,null,null,"Ja",null,null,null,null,"",null,"",{"$f":"IFERROR(VLOOKUP(F980,Biomasser!$A$3:$E$88,4,FALSE),0)","v":0},null,{"$f":"IFERROR(VLOOKUP(F980,Biomasser!$A$3:$E$88,5,FALSE),0)","v":0},"",0,null,null,{"$f":"IFERROR(VLOOKUP(F980,Biomasser!$A$3:$M$88,13,FALSE),)","v":0},null,null,null,null,null,{"$f":"IF(F980<>\"\",'CO2 konvertering'!$C$14,)","v":0},null,null,null,null,0]
[null,null,null,"Ja",null,null,null,null,"",null,"",{"$f":"IFERROR(VLOOKUP(F981,Biomasser!$A$3:$E$88,4,FALSE),0)","v":0},null,{"$f":"IFERROR(VLOOKUP(F981,Biomasser!$A$3:$E$88,5,FALSE),0)","v":0},"",0,null,null,{"$f":"IFERROR(VLOOKUP(F981,Biomasser!$A$3:$M$88,13,FALSE),)","v":0},null,null,null,null,null,{"$f":"IF(F981<>\"\",'CO2 konvertering'!$C$14,)","v":0},null,null,null,null,0]
[null,null,null,"Ja",null,null,null,null,"",null,"",{"$f":"IFERROR(VLOOKUP(F982,Biomasser!$A$3:$E$88,4,FALSE),0)","v":0},null,{"$f":"IFERROR(VLOOKUP(F982,Biomasser!$A$3:$E$88,5,FALSE),0)","v":0},"",0,null,null,{"$f":"IFERROR(VLOOKUP(F982,Biomasser!$A$3:$M$88,13,FALSE),)","v":0},null,null,null,null,null,{"$f":"IF(F982<>\"\",'CO2 konvertering'!$C$14,)","v":0},null,null,null,null,0]
[null,null,null,"Ja",null,null,null,null,"",null,"",{"$f":"IFERROR(VLOOKUP(F983,Biomasser!$A$3:$E$88,4,FALSE),0)","v":0},null,{"$f":"IFERROR(VLOOKUP(F983,Biomasser!$A$3:$E$88,5,FALSE),0)","v":0},"",0,null,null,{"$f":"IFERROR(VLOOKUP(F983,Biomasser!$A$3:$M$88,13,FALSE),)","v":0},null,null,null,null,null,{"$f":"IF(F983<>\"\",'CO2 konvertering'!$C$14,)","v":0},null,null,null,null,0]
[null,null,null,"Ja",null,null,null,null,"",null,"",{"$f":"IFERROR(VLOOKUP(F984,Biomasser!$A$3:$E$88,4,FALSE),0)","v":0},null,{"$f":"IFERROR(VLOOKUP(F984,Biomasser!$A$3:$E$88,5,FALSE),0)","v":0},"",0,null,null,{"$f":"IFERROR(VLOOKUP(F984,Biomasser!$A$3:$M$88,13,FALSE),)","v":0},null,null,null,null,null,{"$f":"IF(F984<>\"\",'CO2 konvertering'!$C$14,)","v":0},null,null,null,null,0]
[null,null,null,"Ja",null,null,null,null,"",null,"",{"$f":"IFERROR(VLOOKUP(F985,Biomasser!$A$3:$E$88,4,FALSE),0)","v":0},null,{"$f":"IFERROR(VLOOKUP(F985,Biomasser!$A$3:$E$88,5,FALSE),0)","v":0},"",0,null,null,{"$f":"IFERROR(VLOOKUP(F985,Biomasser!$A$3:$M$88,13,FALSE),)","v":0},null,null,null,null,null,{"$f":"IF(F985<>\"\",'CO2 konvertering'!$C$14,)","v":0},null,null,null,null,0]
[null,null,null,"Ja",null,null,null,null,"",null,"",{"$f":"IFERROR(VLOOKUP(F986,Biomasser!$A$3:$E$88,4,FALSE),0)","v":0},null,{"$f":"IFERROR(VLOOKUP(F986,Biomasser!$A$3:$E$88,5,FALSE),0)","v":0},"",0,null,null,{"$f":"IFERROR(VLOOKUP(F986,Biomasser!$A$3:$M$88,13,FALSE),)","v":0},null,null,null,null,null,{"$f":"IF(F986<>\"\",'CO2 konvertering'!$C$14,)","v":0},null,null,null,null,0]
[null,null,null,"Ja",null,null,null,null,"",null,"",{"$f":"IFERROR(VLOOKUP(F987,Biomasser!$A$3:$E$88,4,FALSE),0)","v":0},null,{"$f":"IFERROR(VLOOKUP(F987,Biomasser!$A$3:$E$88,5,FALSE),0)","v":0},"",{"$f":"J987*L987*N987*H987","v":0},null,null,{"$f":"IFERROR(VLOOKUP(F987,Biomasser!$A$3:$M$88,13,FALSE),)","v":0},null,null,null,null,null,{"$f":"IF(F987<>\"\",'CO2 konvertering'!$C$14,)","v":0},null,null,null,null,{"$f":"SUM(S987:AC987)","v":0}]
[null,null,null,"Ja",null,null,null,null,"",null,"",{"$f":"IFERROR(VLOOKUP(F988,Biomasser!$A$3:$E$88,4,FALSE),0)","v":0},null,{"$f":"IFERROR(VLOOKUP(F988,Biomasser!$A$3:$E$88,5,FALSE),0)","v":0},"",0,null,null,{"$f":"IFERROR(VLOOKUP(F988,Biomasser!$A$3:$M$88,13,FALSE),)","v":0},null,null,null,null,null,{"$f":"IF(F988<>\"\",'CO2 konvertering'!$C$14,)","v":0},null,null,null,null,0]
[null,null,null,"Ja",null,null,null,null,"",null,"",{"$f":"IFERROR(VLOOKUP(F989,Biomasser!$A$3:$E$88,4,FALSE),0)","v":0},null,{"$f":"IFERROR(VLOOKUP(F989,Biomasser!$A$3:$E$88,5,FALSE),0)","v":0},"",0,null,null,{"$f":"IFERROR(VLOOKUP(F989,Biomasser!$A$3:$M$88,13,FALSE),)","v":0},null,null,null,null,null,{"$f":"IF(F989<>\"\",'CO2 konvertering'!$C$14,)","v":0},null,null,null,null,0]
[null,null,null,"Ja",null,null,null,null,"",null,"",{"$f":"IFERROR(VLOOKUP(F990,Biomasser!$A$3:$E$88,4,FALSE),0)","v":0},null,{"$f":"IFERROR(VLOOKUP(F990,Biomasser!$A$3:$E$88,5,FALSE),0)","v":0},"",0,null,null,{"$f":"IFERROR(VLOOKUP(F990,Biomasser!$A$3:$M$88,13,FALSE),)","v":0},null,null,null,null,null,{"$f":"IF(F990<>\"\",'CO2 konvertering'!$C$14,)","v":0},null,null,null,null,0]
[null,null,null,"Ja",null,null,null,null,"",null,"",{"$f":"IFERROR(VLOOKUP(F991,Biomasser!$A$3:$E$88,4,FALSE),0)","v":0},null,{"$f":"IFERROR(VLOOKUP(F991,Biomasser!$A$3:$E$88,5,FALSE),0)","v":0},"",0,null,null,{"$f":"IFERROR(VLOOKUP(F991,Biomasser!$A$3:$M$88,13,FALSE),)","v":0},null,null,null,null,null,{"$f":"IF(F991<>\"\",'CO2 konvertering'!$C$14,)","v":0},null,null,null,null,0]
[null,null,null,"Ja",null,null,null,null,"",null,"",{"$f":"IFERROR(VLOOKUP(F992,Biomasser!$A$3:$E$88,4,FALSE),0)","v":0},null,{"$f":"IFERROR(VLOOKUP(F992,Biomasser!$A$3:$E$88,5,FALSE),0)","v":0},"",0,null,null,{"$f":"IFERROR(VLOOKUP(F992,Biomasser!$A$3:$M$88,13,FALSE),)","v":0},null,null,null,null,null,{"$f":"IF(F992<>\"\",'CO2 konvertering'!$C$14,)","v":0},null,null,null,null,0]
[null,null,null,"Ja",null,null,null,null,"",null,"",{"$f":"IFERROR(VLOOKUP(F993,Biomasser!$A$3:$E$88,4,FALSE),0)","v":0},null,{"$f":"IFERROR(VLOOKUP(F993,Biomasser!$A$3:$E$88,5,FALSE),0)","v":0},"",0,null,null,{"$f":"IFERROR(VLOOKUP(F993,Biomasser!$A$3:$M$88,13,FALSE),)","v":0},null,null,null,null,null,{"$f":"IF(F993<>\"\",'CO2 konvertering'!$C$14,)","v":0},null,null,null,null,0]
[null,null,null,"Ja",null,null,null,null,"",null,"",{"$f":"IFERROR(VLOOKUP(F994,Biomasser!$A$3:$E$88,4,FALSE),0)","v":0},null,{"$f":"IFERROR(VLOOKUP(F994,Biomasser!$A$3:$E$88,5,FALSE),0)","v":0},"",0,null,null,{"$f":"IFERROR(VLOOKUP(F994,Biomasser!$A$3:$M$88,13,FALSE),)","v":0},null,null,null,null,null,{"$f":"IF(F994<>\"\",'CO2 konvertering'!$C$14,)","v":0},null,null,null,null,0]
[null,null,null,"Ja",null,null,null,null,"",null,"",{"$f":"IFERROR(VLOOKUP(F995,Biomasser!$A$3:$E$88,4,FALSE),0)","v":0},null,{"$f":"IFERROR(VLOOKUP(F995,Biomasser!$A$3:$E$88,5,FALSE),0)","v":0},"",0,null,null,{"$f":"IFERROR(VLOOKUP(F995,Biomasser!$A$3:$M$88,13,FALSE),)","v":0},null,null,null,null,null,{"$f":"IF(F995<>\"\",'CO2 konvertering'!$C$14,)","v":0},null,null,null,null,0]
[null,null,null,"Ja",null,null,null,null,"",null,"",{"$f":"IFERROR(VLOOKUP(F996,Biomasser!$A$3:$E$88,4,FALSE),0)","v":0},null,{"$f":"IFERROR(VLOOKUP(F996,Biomasser!$A$3:$E$88,5,FALSE),0)","v":0},"",0,null,null,{"$f":"IFERROR(VLOOKUP(F996,Biomasser!$A$3:$M$88,13,FALSE),)","v":0},null,null,null,null,null,{"$f":"IF(F996<>\"\",'CO2 konvertering'!$C$14,)","v":0},null,null,null,null,0]
[null,null,null,"Ja",null,null,null,null,"",null,"",{"$f":"IFERROR(VLOOKUP(F997,Biomasser!$A$3:$E$88,4,FALSE),0)","v":0},null,{"$f":"IFERROR(VLOOKUP(F997,Biomasser!$A$3:$E$88,5,FALSE),0)","v":0},"",0,null,null,{"$f":"IFERROR(VLOOKUP(F997,Biomasser!$A$3:$M$88,13,FALSE),)","v":0},null,null,null,null,null,{"$f":"IF(F997<>\"\",'CO2 konvertering'!$C$14,)","v":0},null,null,null,null,0]
[null,null,null,"Ja",null,null,null,null,"",null,"",{"$f":"IFERROR(VLOOKUP(F998,Biomasser!$A$3:$E$88,4,FALSE),0)","v":0},null,{"$f":"IFERROR(VLOOKUP(F998,Biomasser!$A$3:$E$88,5,FALSE),0)","v":0},"",0,null,null,{"$f":"IFERROR(VLOOKUP(F998,Biomasser!$A$3:$M$88,13,FALSE),)","v":0},null,null,null,null,null,{"$f":"IF(F998<>\"\",'CO2 konvertering'!$C$14,)","v":0},null,null,null,null,0]
[null,null,null,"Ja",null,null,null,null,"",null,"",{"$f":"IFERROR(VLOOKUP(F999,Biomasser!$A$3:$E$88,4,FALSE),0)","v":0},null,{"$f":"IFERROR(VLOOKUP(F999,Biomasser!$A$3:$E$88,5,FALSE),0)","v":0},"",0,null,null,{"$f":"IFERROR(VLOOKUP(F999,Biomasser!$A$3:$M$88,13,FALSE),)","v":0},null,null,null,null,null,{"$f":"IF(F999<>\"\",'CO2 konvertering'!$C$14,)","v":0},null,null,null,null,0]
[null,null,null,"Ja",null,null,null,null,"",null,"",{"$f":"IFERROR(VLOOKUP(F1000,Biomasser!$A$3:$E$88,4,FALSE),0)","v":0},null,{"$f":"IFERROR(VLOOKUP(F1000,Biomasser!$A$3:$E$88,5,FALSE),0)","v":0},"",0,null,null,{"$f":"IFERROR(VLOOKUP(F1000,Biomasser!$A$3:$M$88,13,FALSE),)","v":0},null,null,null,null,null,{"$f":"IF(F1000<>\"\",'CO2 konvertering'!$C$14,)","v":0},null,null,null,null,0]
[null,null,null,"Ja",null,null,null,null,"",null,"",{"$f":"IFERROR(VLOOKUP(F1046,Biomasser!$A$3:$E$88,4,FALSE),0)","v":0},null,{"$f":"IFERROR(VLOOKUP(F1046,Biomasser!$A$3:$E$88,5,FALSE),0)","v":0},"",0,null,null,{"$f":"IFERROR(VLOOKUP(F1046,Biomasser!$A$3:$M$88,13,FALSE),)","v":0},null,null,null,null,null,{"$f":"IF(F1046<>\"\",'CO2 konvertering'!$C$14,)","v":0},null,null,null,null,0]
[null,null,null,"Ja",null,null,null,null,"",null,"",{"$f":"IFERROR(VLOOKUP(F1134,Biomasser!$A$3:$E$88,4,FALSE),0)","v":0},null,{"$f":"IFERROR(VLOOKUP(F1134,Biomasser!$A$3:$E$88,5,FALSE),0)","v":0},"",0,null,null,{"$f":"IFERROR(VLOOKUP(F1134,Biomasser!$A$3:$M$88,13,FALSE),)","v":0},null,null,null,null,null,{"$f":"IF(F1134<>\"\",'CO2 konvertering'!$C$14,)","v":0},null,null,null,null,0]
[null,null,null,"Ja",null,null,null,null,"",null,"",{"$f":"IFERROR(VLOOKUP(F1198,Biomasser!$A$3:$E$88,4,FALSE),0)","v":0},null,{"$f":"IFERROR(VLOOKUP(F1198,Biomasser!$A$3:$E$88,5,FALSE),0)","v":0},"",0,null,null,{"$f":"IFERROR(VLOOKUP(F1198,Biomasser!$A$3:$M$88,13,FALSE),)","v":0},null,null,null,null,null,{"$f":"IF(F1198<>\"\",'CO2 konvertering'!$C$14,)","v":0},null,null,null,null,0]
[null,null,null,"Ja",null,null,null,null,"",null,"",{"$f":"IFERROR(VLOOKUP(F1291,Biomasser!$A$3:$E$88,4,FALSE),0)","v":0},null,{"$f":"IFERROR(VLOOKUP(F1291,Biomasser!$A$3:$E$88,5,FALSE),0)","v":0},"",0,null,null,{"$f":"IFERROR(VLOOKUP(F1291,Biomasser!$A$3:$M$88,13,FALSE),)","v":0},null,null,null,null,null,{"$f":"IF(F1291<>\"\",'CO2 konvertering'!$C$14,)","v":0},null,null,null,null,0]
[null,null,null,"Ja",null,null,null,null,"",null,"",{"$f":"IFERROR(VLOOKUP(F1350,Biomasser!$A$3:$E$88,4,FALSE),0)","v":0},null,{"$f":"IFERROR(VLOOKUP(F1350,Biomasser!$A$3:$E$88,5,FALSE),0)","v":0},"",0,null,null,{"$f":"IFERROR(VLOOKUP(F1350,Biomasser!$A$3:$M$88,13,FALSE),)","v":0},null,null,null,null,null,{"$f":"IF(F1350<>\"\",'CO2 konvertering'!$C$14,)","v":0},null,null,null,null,0]
[null,null,null,"Ja",null,null,null,null,"",null,"",{"$f":"IFERROR(VLOOKUP(F1404,Biomasser!$A$3:$E$88,4,FALSE),0)","v":0},null,{"$f":"IFERROR(VLOOKUP(F1404,Biomasser!$A$3:$E$88,5,FALSE),0)","v":0},"",0,null,null,{"$f":"IFERROR(VLOOKUP(F1404,Biomasser!$A$3:$M$88,13,FALSE),)","v":0},null,null,null,null,null,{"$f":"IF(F1404<>\"\",'CO2 konvertering'!$C$14,)","v":0},null,null,null,null,0]
[null,null,null,"Ja",null,null,null,null,"",null,"",{"$f":"IFERROR(VLOOKUP(F1502,Biomasser!$A$3:$E$88,4,FALSE),0)","v":0},null,{"$f":"IFERROR(VLOOKUP(F1502,Biomasser!$A$3:$E$88,5,FALSE),0)","v":0},"",0,null,null,{"$f":"IFERROR(VLOOKUP(F1502,Biomasser!$A$3:$M$88,13,FALSE),)","v":0},null,null,null,null,null,{"$f":"IF(F1502<>\"\",'CO2 konvertering'!$C$14,)","v":0},null,null,null,null,0]
[null,null,null,"Ja",null,null,null,null,"",null,"",{"$f":"IFERROR(VLOOKUP(F1561,Biomasser!$A$3:$E$88,4,FALSE),0)","v":0},null,{"$f":"IFERROR(VLOOKUP(F1561,Biomasser!$A$3:$E$88,5,FALSE),0)","v":0},"",0,null,null,{"$f":"IFERROR(VLOOKUP(F1561,Biomasser!$A$3:$M$88,13,FALSE),)","v":0},null,null,null,null,null,{"$f":"IF(F1561<>\"\",'CO2 konvertering'!$C$14,)","v":0},null,null,null,null,0]
[null,null,null,"Ja",null,null,null,null,"",null,"",{"$f":"IFERROR(VLOOKUP(F1654,Biomasser!$A$3:$E$88,4,FALSE),0)","v":0},null,{"$f":"IFERROR(VLOOKUP(F1654,Biomasser!$A$3:$E$88,5,FALSE),0)","v":0},"",0,null,null,{"$f":"IFERROR(VLOOKUP(F1654,Biomasser!$A$3:$M$88,13,FALSE),)","v":0},null,null,null,null,null,{"$f":"IF(F1654<>\"\",'CO2 konvertering'!$C$14,)","v":0},null,null,null,null,0]
[null,null,null,"Ja",null,null,null,null,"",null,"",{"$f":"IFERROR(VLOOKUP(F1718,Biomasser!$A$3:$E$88,4,FALSE),0)","v":0},null,{"$f":"IFERROR(VLOOKUP(F1718,Biomasser!$A$3:$E$88,5,FALSE),0)","v":0},"",0,null,null,{"$f":"IFERROR(VLOOKUP(F1718,Biomasser!$A$3:$M$88,13,FALSE),)","v":0},null,null,null,null,null,{"$f":"IF(F1718<>\"\",'CO2 konvertering'!$C$14,)","v":0},null,null,null,null,0]
[null,null,null,"Ja",null,null,null,null,"",null,"",{"$f":"IFERROR(VLOOKUP(F1760,Biomasser!$A$3:$E$88,4,FALSE),0)","v":0},null,{"$f":"IFERROR(VLOOKUP(F1760,Biomasser!$A$3:$E$88,5,FALSE),0)","v":0},"",0,null,null,{"$f":"IFERROR(VLOOKUP(F1760,Biomasser!$A$3:$M$88,13,FALSE),)","v":0},null,null,null,null,null,{"$f":"IF(F1760<>\"\",'CO2 konvertering'!$C$14,)","v":0},null,null,null,null,0]
[null,null,null,"Ja",null,null,null,null,"",null,"",{"$f":"IFERROR(VLOOKUP(F1875,Biomasser!$A$3:$E$88,4,FALSE),0)","v":0},null,{"$f":"IFERROR(VLOOKUP(F1875,Biomasser!$A$3:$E$88,5,FALSE),0)","v":0},"",0,null,null,{"$f":"IFERROR(VLOOKUP(F1875,Biomasser!$A$3:$M$88,13,FALSE),)","v":0},null,null,null,null,null,{"$f":"IF(F1875<>\"\",'CO2 konvertering'!$C$14,)","v":0},null,null,null,null,0]
[null,null,null,"Ja",null,null,null,null,"",null,"",{"$f":"IFERROR(VLOOKUP(F1912,Biomasser!$A$3:$E$88,4,FALSE),0)","v":0},null,{"$f":"IFERROR(VLOOKUP(F1912,Biomasser!$A$3:$E$88,5,FALSE),0)","v":0},"",0,null,null,{"$f":"IFERROR(VLOOKUP(F1912,Biomasser!$A$3:$M$88,13,FALSE),)","v":0},null,null,null,null,null,{"$f":"IF(F1912<>\"\",'CO2 konvertering'!$C$14,)","v":0},null,null,null,null,0]
[null,null,null,"Ja",null,null,null,null,"",null,"",{"$f":"IFERROR(VLOOKUP(F1988,Biomasser!$A$3:$E$88,4,FALSE),0)","v":0},null,{"$f":"IFERROR(VLOOKUP(F1988,Biomasser!$A$3:$E$88,5,FALSE),0)","v":0},"",0,null,null,{"$f":"IFERROR(VLOOKUP(F1988,Biomasser!$A$3:$M$88,13,FALSE),)","v":0},null,null,null,null,null,{"$f":"IF(F1988<>\"\",'CO2 konvertering'!$C$14,)","v":0},null,null,null,null,0]
[null,null,null,"Ja",null,null,null,null,"",null,"",{"$f":"IFERROR(VLOOKUP(F2064,Biomasser!$A$3:$E$88,4,FALSE),0)","v":0},null,{"$f":"IFERROR(VLOOKUP(F2064,Biomasser!$A$3:$E$88,5,FALSE),0)","v":0},"",0,null,null,{"$f":"IFERROR(VLOOKUP(F2064,Biomasser!$A$3:$M$88,13,FALSE),)","v":0},null,null,null,null,null,{"$f":"IF(F2064<>\"\",'CO2 konvertering'!$C$14,)","v":0},null,null,null,null,0]
[null,null,null,"Ja",null,null,null,null,"",null,"",{"$f":"IFERROR(VLOOKUP(F2145,Biomasser!$A$3:$E$88,4,FALSE),0)","v":0},null,{"$f":"IFERROR(VLOOKUP(F2145,Biomasser!$A$3:$E$88,5,FALSE),0)","v":0},"",0,null,null,{"$f":"IFERROR(VLOOKUP(F2145,Biomasser!$A$3:$M$88,13,FALSE),)","v":0},null,null,null,null,null,{"$f":"IF(F2145<>\"\",'CO2 konvertering'!$C$14,)","v":0},null,null,null,null,0]
[null,null,null,"Ja",null,null,null,null,{"$f":"IF(AND(F2216<>\"\",ISBLANK(H2216)),\"Indtast vægt\",\"\")","v":""},null,{"$f":"IF(AND(F2216<>\"\",ISBLANK(J2216)),\"Indtast tørstof %\",\"\")","v":""},{"$f":"IFERROR(VLOOKUP(F2216,Biomasser!$A$3:$E$88,4,FALSE),0)","v":0},null,{"$f":"IFERROR(VLOOKUP(F2216,Biomasser!$A$3:$E$88,5,FALSE),0)","v":0},"",0,null,null,{"$f":"IFERROR(VLOOKUP(F2216,Biomasser!$A$3:$M$88,13,FALSE),)","v":0},null,null,null,null,null,{"$f":"IF(F2216<>\"\",'CO2 konvertering'!$C$14,)","v":0},null,null,null,null,0]
[null,null,null,"Ja",null,null,null,null,"",null,"",{"$f":"IFERROR(VLOOKUP(F2302,Biomasser!$A$3:$E$88,4,FALSE),0)","v":0},null,{"$f":"IFERROR(VLOOKUP(F2302,Biomasser!$A$3:$E$88,5,FALSE),0)","v":0},"",0,null,null,{"$f":"IFERROR(VLOOKUP(F2302,Biomasser!$A$3:$M$88,13,FALSE),)","v":0},null,null,null,null,null,{"$f":"IF(F2302<>\"\",'CO2 konvertering'!$C$14,)","v":0},null,null,null,null,0]
[null,null,null,"Ja",null,null,null,null,"",null,"",{"$f":"IFERROR(VLOOKUP(F2397,Biomasser!$A$3:$E$88,4,FALSE),0)","v":0},null,{"$f":"IFERROR(VLOOKUP(F2397,Biomasser!$A$3:$E$88,5,FALSE),0)","v":0},"",0,null,null,{"$f":"IFERROR(VLOOKUP(F2397,Biomasser!$A$3:$M$88,13,FALSE),)","v":0},null,null,null,null,null,{"$f":"IF(F2397<>\"\",'CO2 konvertering'!$C$14,)","v":0},null,null,null,null,0]
[null,null,null,"Ja",null,null,null,null,"",null,"",{"$f":"IFERROR(VLOOKUP(F2459,Biomasser!$A$3:$E$88,4,FALSE),0)","v":0},null,{"$f":"IFERROR(VLOOKUP(F2459,Biomasser!$A$3:$E$88,5,FALSE),0)","v":0},"",0,null,null,{"$f":"IFERROR(VLOOKUP(F2459,Biomasser!$A$3:$M$88,13,FALSE),)","v":0},null,null,null,null,null,{"$f":"IF(F2459<>\"\",'CO2 konvertering'!$C$14,)","v":0},null,null,null,null,0]
[null,null,null,"Ja",null,null,null,null,"",null,"",{"$f":"IFERROR(VLOOKUP(F2549,Biomasser!$A$3:$E$88,4,FALSE),0)","v":0},null,{"$f":"IFERROR(VLOOKUP(F2549,Biomasser!$A$3:$E$88,5,FALSE),0)","v":0},"",0,null,null,{"$f":"IFERROR(VLOOKUP(F2549,Biomasser!$A$3:$M$88,13,FALSE),)","v":0},null,null,null,null,null,{"$f":"IF(F2549<>\"\",'CO2 konvertering'!$C$14,)","v":0},null,null,null,null,0]
[null,null,null,"Ja",null,null,null,null,"",null,"",{"$f":"IFERROR(VLOOKUP(F2616,Biomasser!$A$3:$E$88,4,FALSE),0)","v":0},null,{"$f":"IFERROR(VLOOKUP(F2616,Biomasser!$A$3:$E$88,5,FALSE),0)","v":0},"",0,null,null,{"$f":"IFERROR(VLOOKUP(F2616,Biomasser!$A$3:$M$88,13,FALSE),)","v":0},null,null,null,null,null,{"$f":"IF(F2616<>\"\",'CO2 konvertering'!$C$14,)","v":0},null,null,null,null,0]
[null,null,null,"Ja",null,null,null,null,"",null,"",{"$f":"IFERROR(VLOOKUP(F2701,Biomasser!$A$3:$E$88,4,FALSE),0)","v":0},null,{"$f":"IFERROR(VLOOKUP(F2701,Biomasser!$A$3:$E$88,5,FALSE),0)","v":0},"",0,null,null,{"$f":"IFERROR(VLOOKUP(F2701,Biomasser!$A$3:$M$88,13,FALSE),)","v":0},null,null,null,null,null,{"$f":"IF(F2701<>\"\",'CO2 konvertering'!$C$14,)","v":0},null,null,null,null,0]
[null,null,null,"Ja",null,null,null,null,{"$f":"IF(AND(F2805<>\"\",ISBLANK(H2805)),\"Indtast vægt\",\"\")","v":""},null,{"$f":"IF(AND(F2805<>\"\",ISBLANK(J2805)),\"Indtast tørstof %\",\"\")","v":""},{"$f":"IFERROR(VLOOKUP(F2805,Biomasser!$A$3:$E$88,4,FALSE),0)","v":0},null,{"$f":"IFERROR(VLOOKUP(F2805,Biomasser!$A$3:$E$88,5,FALSE),0)","v":0},"",0,null,null,{"$f":"IFERROR(VLOOKUP(F2805,Biomasser!$A$3:$M$88,13,FALSE),)","v":0},null,null,null,null,null,{"$f":"IF(F2805<>\"\",'CO2 konvertering'!$C$14,)","v":0},null,null,null,null,0]
[null,null,null,"Ja",null,null,null,null,"",null,"",{"$f":"IFERROR(VLOOKUP(F2853,Biomasser!$A$3:$E$88,4,FALSE),0)","v":0},null,{"$f":"IFERROR(VLOOKUP(F2853,Biomasser!$A$3:$E$88,5,FALSE),0)","v":0},"",0,null,null,{"$f":"IFERROR(VLOOKUP(F2853,Biomasser!$A$3:$M$88,13,FALSE),)","v":0},null,null,null,null,null,{"$f":"IF(F2853<>\"\",'CO2 konvertering'!$C$14,)","v":0},null,null,null,null,0]
[null,null,null,"Ja",null,null,null,null,"",null,"",{"$f":"IFERROR(VLOOKUP(F2962,Biomasser!$A$3:$E$88,4,FALSE),0)","v":0},null,{"$f":"IFERROR(VLOOKUP(F2962,Biomasser!$A$3:$E$88,5,FALSE),0)","v":0},"",0,null,null,{"$f":"IFERROR(VLOOKUP(F2962,Biomasser!$A$3:$M$88,13,FALSE),)","v":0},null,null,null,null,null,{"$f":"IF(F2962<>\"\",'CO2 konvertering'!$C$14,)","v":0},null,null,null,null,0]
[null,null,null,"Ja",null,null,null,null,"",null,"",{"$f":"IFERROR(VLOOKUP(F3034,Biomasser!$A$3:$E$88,4,FALSE),0)","v":0},null,{"$f":"IFERROR(VLOOKUP(F3034,Biomasser!$A$3:$E$88,5,FALSE),0)","v":0},"",0,null,null,{"$f":"IFERROR(VLOOKUP(F3034,Biomasser!$A$3:$M$88,13,FALSE),)","v":0},null,null,null,null,null,{"$f":"IF(F3034<>\"\",'CO2 konvertering'!$C$14,)","v":0},null,null,null,null,0]
[null,null,null,"Ja",null,null,null,null,"",null,"",{"$f":"IFERROR(VLOOKUP(F3043,Biomasser!$A$3:$E$88,4,FALSE),0)","v":0},null,{"$f":"IFERROR(VLOOKUP(F3043,Biomasser!$A$3:$E$88,5,FALSE),0)","v":0},"",0,null,null,{"$f":"IFERROR(VLOOKUP(F3043,Biomasser!$A$3:$M$88,13,FALSE),)","v":0},null,null,null,null,null,{"$f":"IF(F3043<>\"\",'CO2 konvertering'!$C$14,)","v":0},null,null,null,null,0]
[null,null,null,"Ja",null,null,null,null,"",null,"",{"$f":"IFERROR(VLOOKUP(F3186,Biomasser!$A$3:$E$88,4,FALSE),0)","v":0},null,{"$f":"IFERROR(VLOOKUP(F3186,Biomasser!$A$3:$E$88,5,FALSE),0)","v":0},"",0,null,null,{"$f":"IFERROR(VLOOKUP(F3186,Biomasser!$A$3:$M$88,13,FALSE),)","v":0},null,null,null,null,null,{"$f":"IF(F3186<>\"\",'CO2 konvertering'!$C$14,)","v":0},null,null,null,null,0]
[null,null,null,"Ja",null,null,null,null,"",null,"",{"$f":"IFERROR(VLOOKUP(F3200,Biomasser!$A$3:$E$88,4,FALSE),0)","v":0},null,{"$f":"IFERROR(VLOOKUP(F3200,Biomasser!$A$3:$E$88,5,FALSE),0)","v":0},"",0,null,null,{"$f":"IFERROR(VLOOKUP(F3200,Biomasser!$A$3:$M$88,13,FALSE),)","v":0},null,null,null,null,null,{"$f":"IF(F3200<>\"\",'CO2 konvertering'!$C$14,)","v":0},null,null,null,null,0]
[null,null,null,"Ja",null,null,null,null,"",null,"",{"$f":"IFERROR(VLOOKUP(F3338,Biomasser!$A$3:$E$88,4,FALSE),0)","v":0},null,{"$f":"IFERROR(VLOOKUP(F3338,Biomasser!$A$3:$E$88,5,FALSE),0)","v":0},"",0,null,null,{"$f":"IFERROR(VLOOKUP(F3338,Biomasser!$A$3:$M$88,13,FALSE),)","v":0},null,null,null,null,null,{"$f":"IF(F3338<>\"\",'CO2 konvertering'!$C$14,)","v":0},null,null,null,null,0]
[null,null,null,"Ja",null,null,null,null,"",null,"",{"$f":"IFERROR(VLOOKUP(F3389,Biomasser!$A$3:$E$88,4,FALSE),0)","v":0},null,{"$f":"IFERROR(VLOOKUP(F3389,Biomasser!$A$3:$E$88,5,FALSE),0)","v":0},"",0,null,null,{"$f":"IFERROR(VLOOKUP(F3389,Biomasser!$A$3:$M$88,13,FALSE),)","v":0},null,null,null,null,null,{"$f":"IF(F3389<>\"\",'CO2 konvertering'!$C$14,)","v":0},null,null,null,null,0]
[null,null,null,"Ja",null,null,null,null,"",null,"",{"$f":"IFERROR(VLOOKUP(F3490,Biomasser!$A$3:$E$88,4,FALSE),0)","v":0},null,{"$f":"IFERROR(VLOOKUP(F3490,Biomasser!$A$3:$E$88,5,FALSE),0)","v":0},"",0,null,null,{"$f":"IFERROR(VLOOKUP(F3490,Biomasser!$A$3:$M$88,13,FALSE),)","v":0},null,null,null,null,null,{"$f":"IF(F3490<>\"\",'CO2 konvertering'!$C$14,)","v":0},null,null,null,null,0]
[null,null,null,"Ja",null,null,null,null,"",null,"",{"$f":"IFERROR(VLOOKUP(F3546,Biomasser!$A$3:$E$88,4,FALSE),0)","v":0},null,{"$f":"IFERROR(VLOOKUP(F3546,Biomasser!$A$3:$E$88,5,FALSE),0)","v":0},"",0,null,null,{"$f":"IFERROR(VLOOKUP(F3546,Biomasser!$A$3:$M$88,13,FALSE),)","v":0},null,null,null,null,null,{"$f":"IF(F3546<>\"\",'CO2 konvertering'!$C$14,)","v":0},null,null,null,null,0]
[null,null,null,"Ja",null,null,null,null,"",null,"",{"$f":"IFERROR(VLOOKUP(F3596,Biomasser!$A$3:$E$88,4,FALSE),0)","v":0},null,{"$f":"IFERROR(VLOOKUP(F3596,Biomasser!$A$3:$E$88,5,FALSE),0)","v":0},"",0,null,null,{"$f":"IFERROR(VLOOKUP(F3596,Biomasser!$A$3:$M$88,13,FALSE),)","v":0},null,null,null,null,null,{"$f":"IF(F3596<>\"\",'CO2 konvertering'!$C$14,)","v":0},null,null,null,null,0]
[null,null,null,"Ja",null,null,null,null,"",null,"",{"$f":"IFERROR(VLOOKUP(F3703,Biomasser!$A$3:$E$88,4,FALSE),0)","v":0},null,{"$f":"IFERROR(VLOOKUP(F3703,Biomasser!$A$3:$E$88,5,FALSE),0)","v":0},"",0,null,null,{"$f":"IFERROR(VLOOKUP(F3703,Biomasser!$A$3:$M$88,13,FALSE),)","v":0},null,null,null,null,null,{"$f":"IF(F3703<>\"\",'CO2 konvertering'!$C$14,)","v":0},null,null,null,null,0]
[null,null,null,"Ja",null,null,null,null,"",null,"",{"$f":"IFERROR(VLOOKUP(F3748,Biomasser!$A$3:$E$88,4,FALSE),0)","v":0},null,{"$f":"IFERROR(VLOOKUP(F3748,Biomasser!$A$3:$E$88,5,FALSE),0)","v":0},"",0,null,null,{"$f":"IFERROR(VLOOKUP(F3748,Biomasser!$A$3:$M$88,13,FALSE),)","v":0},null,null,null,null,null,{"$f":"IF(F3748<>\"\",'CO2 konvertering'!$C$14,)","v":0},null,null,null,null,0]
[null,null,null,"Ja",null,null,null,null,"",null,"",{"$f":"IFERROR(VLOOKUP(F3860,Biomasser!$A$3:$E$88,4,FALSE),0)","v":0},null,{"$f":"IFERROR(VLOOKUP(F3860,Biomasser!$A$3:$E$88,5,FALSE),0)","v":0},"",0,null,null,{"$f":"IFERROR(VLOOKUP(F3860,Biomasser!$A$3:$M$88,13,FALSE),)","v":0},null,null,null,null,null,{"$f":"IF(F3860<>\"\",'CO2 konvertering'!$C$14,)","v":0},null,null,null,null,0]
[null,null,null,"Ja",null,null,null,null,"",null,"",{"$f":"IFERROR(VLOOKUP(F3900,Biomasser!$A$3:$E$88,4,FALSE),0)","v":0},null,{"$f":"IFERROR(VLOOKUP(F3900,Biomasser!$A$3:$E$88,5,FALSE),0)","v":0},"",0,null,null,{"$f":"IFERROR(VLOOKUP(F3900,Biomasser!$A$3:$M$88,13,FALSE),)","v":0},null,null,null,null,null,{"$f":"IF(F3900<>\"\",'CO2 konvertering'!$C$14,)","v":0},null,null,null,null,0]
[null,null,null,"Ja",null,null,null,null,"",null,"",{"$f":"IFERROR(VLOOKUP(F3973,Biomasser!$A$3:$E$88,4,FALSE),0)","v":0},null,{"$f":"IFERROR(VLOOKUP(F3973,Biomasser!$A$3:$E$88,5,FALSE),0)","v":0},"",0,null,null,{"$f":"IFERROR(VLOOKUP(F3973,Biomasser!$A$3:$M$88,13,FALSE),)","v":0},null,null,null,null,null,{"$f":"IF(F3973<>\"\",'CO2 konvertering'!$C$14,)","v":0},null,null,null,null,0]
[null,null,null,"Ja",null,null,null,null,"",null,"",{"$f":"IFERROR(VLOOKUP(F4052,Biomasser!$A$3:$E$88,4,FALSE),0)","v":0},null,{"$f":"IFERROR(VLOOKUP(F4052,Biomasser!$A$3:$E$88,5,FALSE),0)","v":0},"",0,null,null,{"$f":"IFERROR(VLOOKUP(F4052,Biomasser!$A$3:$M$88,13,FALSE),)","v":0},null,null,null,null,null,{"$f":"IF(F4052<>\"\",'CO2 konvertering'!$C$14,)","v":0},null,null,null,null,0]
[null,null,null,"Ja",null,null,null,null,"",null,"",{"$f":"IFERROR(VLOOKUP(F4130,Biomasser!$A$3:$E$88,4,FALSE),0)","v":0},null,{"$f":"IFERROR(VLOOKUP(F4130,Biomasser!$A$3:$E$88,5,FALSE),0)","v":0},"",0,null,null,{"$f":"IFERROR(VLOOKUP(F4130,Biomasser!$A$3:$M$88,13,FALSE),)","v":0},null,null,null,null,null,{"$f":"IF(F4130<>\"\",'CO2 konvertering'!$C$14,)","v":0},null,null,null,null,0]
[null,null,null,"Ja",null,null,null,null,"",null,"",{"$f":"IFERROR(VLOOKUP(F4204,Biomasser!$A$3:$E$88,4,FALSE),0)","v":0},null,{"$f":"IFERROR(VLOOKUP(F4204,Biomasser!$A$3:$E$88,5,FALSE),0)","v":0},"",0,null,null,{"$f":"IFERROR(VLOOKUP(F4204,Biomasser!$A$3:$M$88,13,FALSE),)","v":0},null,null,null,null,null,{"$f":"IF(F4204<>\"\",'CO2 konvertering'!$C$14,)","v":0},null,null,null,null,0]
[null,null,null,"Ja",null,null,null,null,"",null,"",{"$f":"IFERROR(VLOOKUP(F4287,Biomasser!$A$3:$E$88,4,FALSE),0)","v":0},null,{"$f":"IFERROR(VLOOKUP(F4287,Biomasser!$A$3:$E$88,5,FALSE),0)","v":0},"",0,null,null,{"$f":"IFERROR(VLOOKUP(F4287,Biomasser!$A$3:$M$88,13,FALSE),)","v":0},null,null,null,null,null,{"$f":"IF(F4287<>\"\",'CO2 konvertering'!$C$14,)","v":0},null,null,null,null,0]
[null,null,null,"Ja",null,null,null,null,"",null,"",{"$f":"IFERROR(VLOOKUP(F4385,Biomasser!$A$3:$E$88,4,FALSE),0)","v":0},null,{"$f":"IFERROR(VLOOKUP(F4385,Biomasser!$A$3:$E$88,5,FALSE),0)","v":0},"",0,null,null,{"$f":"IFERROR(VLOOKUP(F4385,Biomasser!$A$3:$M$88,13,FALSE),)","v":0},null,null,null,null,null,{"$f":"IF(F4385<>\"\",'CO2 konvertering'!$C$14,)","v":0},null,null,null,null,0]
[null,null,null,"Ja",null,null,null,null,"",null,"",{"$f":"IFERROR(VLOOKUP(F4444,Biomasser!$A$3:$E$88,4,FALSE),0)","v":0},null,{"$f":"IFERROR(VLOOKUP(F4444,Biomasser!$A$3:$E$88,5,FALSE),0)","v":0},"",0,null,null,{"$f":"IFERROR(VLOOKUP(F4444,Biomasser!$A$3:$M$88,13,FALSE),)","v":0},null,null,null,null,null,{"$f":"IF(F4444<>\"\",'CO2 konvertering'!$C$14,)","v":0},null,null,null,null,0]
[null,null,null,"Ja",null,null,null,null,"",null,"",{"$f":"IFERROR(VLOOKUP(F4537,Biomasser!$A$3:$E$88,4,FALSE),0)","v":0},null,{"$f":"IFERROR(VLOOKUP(F4537,Biomasser!$A$3:$E$88,5,FALSE),0)","v":0},"",0,null,null,{"$f":"IFERROR(VLOOKUP(F4537,Biomasser!$A$3:$M$88,13,FALSE),)","v":0},null,null,null,null,null,{"$f":"IF(F4537<>\"\",'CO2 konvertering'!$C$14,)","v":0},null,null,null,null,0]
[null,null,null,"Ja",null,null,null,null,"",null,"",{"$f":"IFERROR(VLOOKUP(F4557,Biomasser!$A$3:$E$88,4,FALSE),0)","v":0},null,{"$f":"IFERROR(VLOOKUP(F4557,Biomasser!$A$3:$E$88,5,FALSE),0)","v":0},"",0,null,null,{"$f":"IFERROR(VLOOKUP(F4557,Biomasser!$A$3:$M$88,13,FALSE),)","v":0},null,null,null,null,null,{"$f":"IF(F4557<>\"\",'CO2 konvertering'!$C$14,)","v":0},null,null,null,null,{"$f":"SUM(S4557:AC4557)","v":0}]
[null,null,null,"Ja",null,null,null,null,"",null,"",{"$f":"IFERROR(VLOOKUP(F4689,Biomasser!$A$3:$E$88,4,FALSE),0)","v":0},null,{"$f":"IFERROR(VLOOKUP(F4689,Biomasser!$A$3:$E$88,5,FALSE),0)","v":0},"",0,null,null,{"$f":"IFERROR(VLOOKUP(F4689,Biomasser!$A$3:$M$88,13,FALSE),)","v":0},null,null,null,null,null,{"$f":"IF(F4689<>\"\",'CO2 konvertering'!$C$14,)","v":0},null,null,null,null,0]
[null,null,null,"Ja",null,null,null,null,"",null,"",{"$f":"IFERROR(VLOOKUP(F4714,Biomasser!$A$3:$E$88,4,FALSE),0)","v":0},null,{"$f":"IFERROR(VLOOKUP(F4714,Biomasser!$A$3:$E$88,5,FALSE),0)","v":0},"",0,null,null,{"$f":"IFERROR(VLOOKUP(F4714,Biomasser!$A$3:$M$88,13,FALSE),)","v":0},null,null,null,null,null,{"$f":"IF(F4714<>\"\",'CO2 konvertering'!$C$14,)","v":0},null,null,null,null,0]
[null,null,null,"Ja",null,null,null,null,"",null,"",{"$f":"IFERROR(VLOOKUP(F4815,Biomasser!$A$3:$E$88,4,FALSE),0)","v":0},null,{"$f":"IFERROR(VLOOKUP(F4815,Biomasser!$A$3:$E$88,5,FALSE),0)","v":0},"",0,null,null,{"$f":"IFERROR(VLOOKUP(F4815,Biomasser!$A$3:$M$88,13,FALSE),)","v":0},null,null,null,null,null,{"$f":"IF(F4815<>\"\",'CO2 konvertering'!$C$14,)","v":0},null,null,null,null,0]
[null,null,null,"Ja",null,null,null,null,"",null,"",{"$f":"IFERROR(VLOOKUP(F4857,Biomasser!$A$3:$E$88,4,FALSE),0)","v":0},null,{"$f":"IFERROR(VLOOKUP(F4857,Biomasser!$A$3:$E$88,5,FALSE),0)","v":0},"",0,null,null,{"$f":"IFERROR(VLOOKUP(F4857,Biomasser!$A$3:$M$88,13,FALSE),)","v":0},null,null,null,null,null,{"$f":"IF(F4857<>\"\",'CO2 konvertering'!$C$14,)","v":0},null,null,null,null,0]
[null,null,null,"Ja",null,null,null,null,"",null,"",{"$f":"IFERROR(VLOOKUP(F4928,Biomasser!$A$3:$E$88,4,FALSE),0)","v":0},null,{"$f":"IFERROR(VLOOKUP(F4928,Biomasser!$A$3:$E$88,5,FALSE),0)","v":0},"",0,null,null,{"$f":"IFERROR(VLOOKUP(F4928,Biomasser!$A$3:$M$88,13,FALSE),)","v":0},null,null,null,null,null,{"$f":"IF(F4928<>\"\",'CO2 konvertering'!$C$14,)","v":0},null,null,null,null,0]
[null,null,null,"Ja",null,null,null,null,"",null,"",{"$f":"IFERROR(VLOOKUP(F5009,Biomasser!$A$3:$E$88,4,FALSE),0)","v":0},null,{"$f":"IFERROR(VLOOKUP(F5009,Biomasser!$A$3:$E$88,5,FALSE),0)","v":0},"",{"$f":"J5009*L5009*N5009*H5009","v":0},null,null,{"$f":"IFERROR(VLOOKUP(F5009,Biomasser!$A$3:$M$88,13,FALSE),)","v":0},null,null,null,null,null,{"$f":"IF(F5009<>\"\",'CO2 konvertering'!$C$14,)","v":0},null,null,null,null,{"$f":"SUM(S5009:AC5009)","v":0}]
[null,null,null,"Ja",null,null,null,null,"",null,"",{"$f":"IFERROR(VLOOKUP(F5085,Biomasser!$A$3:$E$88,4,FALSE),0)","v":0},null,{"$f":"IFERROR(VLOOKUP(F5085,Biomasser!$A$3:$E$88,5,FALSE),0)","v":0},"",0,null,null,{"$f":"IFERROR(VLOOKUP(F5085,Biomasser!$A$3:$M$88,13,FALSE),)","v":0},null,null,null,null,null,{"$f":"IF(F5085<>\"\",'CO2 konvertering'!$C$14,)","v":0},null,null,null,null,0]
[null,null,null,"Ja",null,null,null,null,"",null,"",{"$f":"IFERROR(VLOOKUP(F5161,Biomasser!$A$3:$E$88,4,FALSE),0)","v":0},null,{"$f":"IFERROR(VLOOKUP(F5161,Biomasser!$A$3:$E$88,5,FALSE),0)","v":0},"",0,null,null,{"$f":"IFERROR(VLOOKUP(F5161,Biomasser!$A$3:$M$88,13,FALSE),)","v":0},null,null,null,null,null,{"$f":"IF(F5161<>\"\",'CO2 konvertering'!$C$14,)","v":0},null,null,null,null,0]
[null,null,null,"Ja",null,null,null,null,"",null,"",{"$f":"IFERROR(VLOOKUP(F5242,Biomasser!$A$3:$E$88,4,FALSE),0)","v":0},null,{"$f":"IFERROR(VLOOKUP(F5242,Biomasser!$A$3:$E$88,5,FALSE),0)","v":0},"",0,null,null,{"$f":"IFERROR(VLOOKUP(F5242,Biomasser!$A$3:$M$88,13,FALSE),)","v":0},null,null,null,null,null,{"$f":"IF(F5242<>\"\",'CO2 konvertering'!$C$14,)","v":0},null,null,null,null,0]
[null,null,null,"Ja",null,null,null,null,"",null,"",{"$f":"IFERROR(VLOOKUP(F5342,Biomasser!$A$3:$E$88,4,FALSE),0)","v":0},null,{"$f":"IFERROR(VLOOKUP(F5342,Biomasser!$A$3:$E$88,5,FALSE),0)","v":0},"",0,null,null,{"$f":"IFERROR(VLOOKUP(F5342,Biomasser!$A$3:$M$88,13,FALSE),)","v":0},null,null,null,null,null,{"$f":"IF(F5342<>\"\",'CO2 konvertering'!$C$14,)","v":0},null,null,null,null,0]
[null,null,null,"Ja",null,null,null,null,"",null,"",{"$f":"IFERROR(VLOOKUP(F5399,Biomasser!$A$3:$E$88,4,FALSE),0)","v":0},null,{"$f":"IFERROR(VLOOKUP(F5399,Biomasser!$A$3:$E$88,5,FALSE),0)","v":0},"",0,null,null,{"$f":"IFERROR(VLOOKUP(F5399,Biomasser!$A$3:$M$88,13,FALSE),)","v":0},null,null,null,null,null,{"$f":"IF(F5399<>\"\",'CO2 konvertering'!$C$14,)","v":0},null,null,null,null,0]
[null,null,null,"Ja",null,null,null,null,"",null,"",{"$f":"IFERROR(VLOOKUP(F5494,Biomasser!$A$3:$E$88,4,FALSE),0)","v":0},null,{"$f":"IFERROR(VLOOKUP(F5494,Biomasser!$A$3:$E$88,5,FALSE),0)","v":0},"",0,null,null,{"$f":"IFERROR(VLOOKUP(F5494,Biomasser!$A$3:$M$88,13,FALSE),)","v":0},null,null,null,null,null,{"$f":"IF(F5494<>\"\",'CO2 konvertering'!$C$14,)","v":0},null,null,null,null,0]
[null,null,null,"Ja",null,null,null,null,"",null,"",{"$f":"IFERROR(VLOOKUP(F5588,Biomasser!$A$3:$E$88,4,FALSE),0)","v":0},null,{"$f":"IFERROR(VLOOKUP(F5588,Biomasser!$A$3:$E$88,5,FALSE),0)","v":0},"",0,null,null,{"$f":"IFERROR(VLOOKUP(F5588,Biomasser!$A$3:$M$88,13,FALSE),)","v":0},null,null,null,null,null,{"$f":"IF(F5588<>\"\",'CO2 konvertering'!$C$14,)","v":0},null,null,null,null,0]
[null,null,null,"Ja",null,null,null,null,"",null,"",{"$f":"IFERROR(VLOOKUP(F5646,Biomasser!$A$3:$E$88,4,FALSE),0)","v":0},null,{"$f":"IFERROR(VLOOKUP(F5646,Biomasser!$A$3:$E$88,5,FALSE),0)","v":0},"",0,null,null,{"$f":"IFERROR(VLOOKUP(F5646,Biomasser!$A$3:$M$88,13,FALSE),)","v":0},null,null,null,null,null,{"$f":"IF(F5646<>\"\",'CO2 konvertering'!$C$14,)","v":0},null,null,null,null,0]
[null,null,null,"Ja",null,null,null,null,{"$f":"IF(AND(F5745<>\"\",ISBLANK(H5745)),\"Indtast vægt\",\"\")","v":""},null,{"$f":"IF(AND(F5745<>\"\",ISBLANK(J5745)),\"Indtast tørstof %\",\"\")","v":""},{"$f":"IFERROR(VLOOKUP(F5745,Biomasser!$A$3:$E$88,4,FALSE),0)","v":0},null,{"$f":"IFERROR(VLOOKUP(F5745,Biomasser!$A$3:$E$88,5,FALSE),0)","v":0},"",0,null,null,{"$f":"IFERROR(VLOOKUP(F5745,Biomasser!$A$3:$M$88,13,FALSE),)","v":0},null,null,null,null,null,{"$f":"IF(F5745<>\"\",'CO2 konvertering'!$C$14,)","v":0},null,null,null,null,0]
[null,null,null,"Ja",null,null,null,null,"",null,"",{"$f":"IFERROR(VLOOKUP(F5798,Biomasser!$A$3:$E$88,4,FALSE),0)","v":0},null,{"$f":"IFERROR(VLOOKUP(F5798,Biomasser!$A$3:$E$88,5,FALSE),0)","v":0},"",0,null,null,{"$f":"IFERROR(VLOOKUP(F5798,Biomasser!$A$3:$M$88,13,FALSE),)","v":0},null,null,null,null,null,{"$f":"IF(F5798<>\"\",'CO2 konvertering'!$C$14,)","v":0},null,null,null,null,0]
[null,null,null,"Ja",null,null,null,null,"",null,"",{"$f":"IFERROR(VLOOKUP(F5902,Biomasser!$A$3:$E$88,4,FALSE),0)","v":0},null,{"$f":"IFERROR(VLOOKUP(F5902,Biomasser!$A$3:$E$88,5,FALSE),0)","v":0},"",0,null,null,{"$f":"IFERROR(VLOOKUP(F5902,Biomasser!$A$3:$M$88,13,FALSE),)","v":0},null,null,null,null,null,{"$f":"IF(F5902<>\"\",'CO2 konvertering'!$C$14,)","v":0},null,null,null,null,0]
[null,null,null,"Ja",null,null,null,null,"",null,"",{"$f":"IFERROR(VLOOKUP(F5979,Biomasser!$A$3:$E$88,4,FALSE),0)","v":0},null,{"$f":"IFERROR(VLOOKUP(F5979,Biomasser!$A$3:$E$88,5,FALSE),0)","v":0},"",0,null,null,{"$f":"IFERROR(VLOOKUP(F5979,Biomasser!$A$3:$M$88,13,FALSE),)","v":0},null,null,null,null,null,{"$f":"IF(F5979<>\"\",'CO2 konvertering'!$C$14,)","v":0},null,null,null,null,0]
[null,null,null,"Ja",null,null,null,null,"",null,"",{"$f":"IFERROR(VLOOKUP(F6059,Biomasser!$A$3:$E$88,4,FALSE),0)","v":0},null,{"$f":"IFERROR(VLOOKUP(F6059,Biomasser!$A$3:$E$88,5,FALSE),0)","v":0},"",{"$f":"J6059*L6059*N6059*H6059","v":0},null,null,{"$f":"IFERROR(VLOOKUP(F6059,Biomasser!$A$3:$M$88,13,FALSE),)","v":0},null,null,null,null,null,{"$f":"IF(F6059<>\"\",'CO2 konvertering'!$C$14,)","v":0},null,null,null,null,{"$f":"SUM(S6059:AC6059)","v":0}]
[null,null,null,"Ja",null,null,null,null,"",null,"",{"$f":"IFERROR(VLOOKUP(F6131,Biomasser!$A$3:$E$88,4,FALSE),0)","v":0},null,{"$f":"IFERROR(VLOOKUP(F6131,Biomasser!$A$3:$E$88,5,FALSE),0)","v":0},"",0,null,null,{"$f":"IFERROR(VLOOKUP(F6131,Biomasser!$A$3:$M$88,13,FALSE),)","v":0},null,null,null,null,null,{"$f":"IF(F6131<>\"\",'CO2 konvertering'!$C$14,)","v":0},null,null,null,null,0]
[null,null,null,"Ja",null,null,null,null,"",null,"",{"$f":"IFERROR(VLOOKUP(F6172,Biomasser!$A$3:$E$88,4,FALSE),0)","v":0},null,{"$f":"IFERROR(VLOOKUP(F6172,Biomasser!$A$3:$E$88,5,FALSE),0)","v":0},"",0,null,null,{"$f":"IFERROR(VLOOKUP(F6172,Biomasser!$A$3:$M$88,13,FALSE),)","v":0},null,null,null,null,null,{"$f":"IF(F6172<>\"\",'CO2 konvertering'!$C$14,)","v":0},null,null,null,null,0]
[null,null,null,"Ja",null,null,null,null,"",null,"",{"$f":"IFERROR(VLOOKUP(F6283,Biomasser!$A$3:$E$88,4,FALSE),0)","v":0},null,{"$f":"IFERROR(VLOOKUP(F6283,Biomasser!$A$3:$E$88,5,FALSE),0)","v":0},"",0,null,null,{"$f":"IFERROR(VLOOKUP(F6283,Biomasser!$A$3:$M$88,13,FALSE),)","v":0},null,null,null,null,null,{"$f":"IF(F6283<>\"\",'CO2 konvertering'!$C$14,)","v":0},null,null,null,null,0]
[null,null,null,"Ja",null,null,null,null,"",null,"",{"$f":"IFERROR(VLOOKUP(F6329,Biomasser!$A$3:$E$88,4,FALSE),0)","v":0},null,{"$f":"IFERROR(VLOOKUP(F6329,Biomasser!$A$3:$E$88,5,FALSE),0)","v":0},"",0,null,null,{"$f":"IFERROR(VLOOKUP(F6329,Biomasser!$A$3:$M$88,13,FALSE),)","v":0},null,null,null,null,null,{"$f":"IF(F6329<>\"\",'CO2 konvertering'!$C$14,)","v":0},null,null,null,null,0]
[null,null,null,"Ja",null,null,null,null,"",null,"",{"$f":"IFERROR(VLOOKUP(F6435,Biomasser!$A$3:$E$88,4,FALSE),0)","v":0},null,{"$f":"IFERROR(VLOOKUP(F6435,Biomasser!$A$3:$E$88,5,FALSE),0)","v":0},"",0,null,null,{"$f":"IFERROR(VLOOKUP(F6435,Biomasser!$A$3:$M$88,13,FALSE),)","v":0},null,null,null,null,null,{"$f":"IF(F6435<>\"\",'CO2 konvertering'!$C$14,)","v":0},null,null,null,null,0]
[null,null,null,"Ja",null,null,null,null,"",null,"",{"$f":"IFERROR(VLOOKUP(F6486,Biomasser!$A$3:$E$88,4,FALSE),0)","v":0},null,{"$f":"IFERROR(VLOOKUP(F6486,Biomasser!$A$3:$E$88,5,FALSE),0)","v":0},"",0,null,null,{"$f":"IFERROR(VLOOKUP(F6486,Biomasser!$A$3:$M$88,13,FALSE),)","v":0},null,null,null,null,null,{"$f":"IF(F6486<>\"\",'CO2 konvertering'!$C$14,)","v":0},null,null,null,null,0]
[null,null,null,"Ja",null,null,null,null,"",null,"",{"$f":"IFERROR(VLOOKUP(F6541,Biomasser!$A$3:$E$88,4,FALSE),0)","v":0},null,{"$f":"IFERROR(VLOOKUP(F6541,Biomasser!$A$3:$E$88,5,FALSE),0)","v":0},"",0,null,null,{"$f":"IFERROR(VLOOKUP(F6541,Biomasser!$A$3:$M$88,13,FALSE),)","v":0},null,null,null,null,null,{"$f":"IF(F6541<>\"\",'CO2 konvertering'!$C$14,)","v":0},null,null,null,null,0]
[null,null,null,"Ja",null,null,null,null,"",null,"",{"$f":"IFERROR(VLOOKUP(F6643,Biomasser!$A$3:$E$88,4,FALSE),0)","v":0},null,{"$f":"IFERROR(VLOOKUP(F6643,Biomasser!$A$3:$E$88,5,FALSE),0)","v":0},"",0,null,null,{"$f":"IFERROR(VLOOKUP(F6643,Biomasser!$A$3:$M$88,13,FALSE),)","v":0},null,null,null,null,null,{"$f":"IF(F6643<>\"\",'CO2 konvertering'!$C$14,)","v":0},null,null,null,null,0]
[null,null,null,"Ja",null,null,null,null,"",null,"",{"$f":"IFERROR(VLOOKUP(F6693,Biomasser!$A$3:$E$88,4,FALSE),0)","v":0},null,{"$f":"IFERROR(VLOOKUP(F6693,Biomasser!$A$3:$E$88,5,FALSE),0)","v":0},{"$f":"IF(AND(F6693<>\"\",(N6693=0)),\"Opdater biomasseark\",\"\")","v":""},0,null,null,{"$f":"IFERROR(VLOOKUP(F6693,Biomasser!$A$3:$M$88,13,FALSE),)","v":0},null,null,null,null,null,{"$f":"IF(F6693<>\"\",'CO2 konvertering'!$C$14,)","v":0},null,null,null,null,0]
[null,null,null,"Ja",null,null,null,null,"",null,"",{"$f":"IFERROR(VLOOKUP(F6800,Biomasser!$A$3:$E$88,4,FALSE),0)","v":0},null,{"$f":"IFERROR(VLOOKUP(F6800,Biomasser!$A$3:$E$88,5,FALSE),0)","v":0},"",0,null,null,{"$f":"IFERROR(VLOOKUP(F6800,Biomasser!$A$3:$M$88,13,FALSE),)","v":0},null,null,null,null,null,{"$f":"IF(F6800<>\"\",'CO2 konvertering'!$C$14,)","v":0},null,null,null,null,0]
[null,null,null,"Ja",null,null,null,null,"",null,"",{"$f":"IFERROR(VLOOKUP(F6845,Biomasser!$A$3:$E$88,4,FALSE),0)","v":0},null,{"$f":"IFERROR(VLOOKUP(F6845,Biomasser!$A$3:$E$88,5,FALSE),0)","v":0},"",0,null,null,{"$f":"IFERROR(VLOOKUP(F6845,Biomasser!$A$3:$M$88,13,FALSE),)","v":0},null,null,null,null,null,{"$f":"IF(F6845<>\"\",'CO2 konvertering'!$C$14,)","v":0},null,null,null,null,0]
[null,null,null,"Ja",null,null,null,null,"",null,"",{"$f":"IFERROR(VLOOKUP(F6913,Biomasser!$A$3:$E$88,4,FALSE),0)","v":0},null,{"$f":"IFERROR(VLOOKUP(F6913,Biomasser!$A$3:$E$88,5,FALSE),0)","v":0},"",0,null,null,{"$f":"IFERROR(VLOOKUP(F6913,Biomasser!$A$3:$M$88,13,FALSE),)","v":0},null,null,null,null,null,{"$f":"IF(F6913<>\"\",'CO2 konvertering'!$C$14,)","v":0},null,null,null,null,0]
[null,null,null,"Ja",null,null,null,null,"",null,"",{"$f":"IFERROR(VLOOKUP(F6997,Biomasser!$A$3:$E$88,4,FALSE),0)","v":0},null,{"$f":"IFERROR(VLOOKUP(F6997,Biomasser!$A$3:$E$88,5,FALSE),0)","v":0},"",0,null,null,{"$f":"IFERROR(VLOOKUP(F6997,Biomasser!$A$3:$M$88,13,FALSE),)","v":0},null,null,null,null,null,{"$f":"IF(F6997<>\"\",'CO2 konvertering'!$C$14,)","v":0},null,null,null,null,0]
[null,null,null,"Ja",null,null,null,null,"",null,"",{"$f":"IFERROR(VLOOKUP(F7070,Biomasser!$A$3:$E$88,4,FALSE),0)","v":0},null,{"$f":"IFERROR(VLOOKUP(F7070,Biomasser!$A$3:$E$88,5,FALSE),0)","v":0},"",0,null,null,{"$f":"IFERROR(VLOOKUP(F7070,Biomasser!$A$3:$M$88,13,FALSE),)","v":0},null,null,null,null,null,{"$f":"IF(F7070<>\"\",'CO2 konvertering'!$C$14,)","v":0},null,null,null,null,0]
[null,null,null,"Ja",null,null,null,null,"",null,"",{"$f":"IFERROR(VLOOKUP(F7178,Biomasser!$A$3:$E$88,4,FALSE),0)","v":0},null,{"$f":"IFERROR(VLOOKUP(F7178,Biomasser!$A$3:$E$88,5,FALSE),0)","v":0},"",0,null,null,{"$f":"IFERROR(VLOOKUP(F7178,Biomasser!$A$3:$M$88,13,FALSE),)","v":0},null,null,null,null,null,{"$f":"IF(F7178<>\"\",'CO2 konvertering'!$C$14,)","v":0},null,null,null,null,0]
[null,null,null,"Ja",null,null,null,null,"",null,"",{"$f":"IFERROR(VLOOKUP(F7227,Biomasser!$A$3:$E$88,4,FALSE),0)","v":0},null,{"$f":"IFERROR(VLOOKUP(F7227,Biomasser!$A$3:$E$88,5,FALSE),0)","v":0},"",0,null,null,{"$f":"IFERROR(VLOOKUP(F7227,Biomasser!$A$3:$M$88,13,FALSE),)","v":0},null,null,null,null,null,{"$f":"IF(F7227<>\"\",'CO2 konvertering'!$C$14,)","v":0},null,null,null,null,0]
[null,null,null,"Ja",null,null,null,null,"",null,"",{"$f":"IFERROR(VLOOKUP(F7330,Biomasser!$A$3:$E$88,4,FALSE),0)","v":0},null,{"$f":"IFERROR(VLOOKUP(F7330,Biomasser!$A$3:$E$88,5,FALSE),0)","v":0},"",0,null,null,{"$f":"IFERROR(VLOOKUP(F7330,Biomasser!$A$3:$M$88,13,FALSE),)","v":0},null,null,null,null,null,{"$f":"IF(F7330<>\"\",'CO2 konvertering'!$C$14,)","v":0},null,null,null,null,0]
[null,null,null,"Ja",null,null,null,null,"",null,"",{"$f":"IFERROR(VLOOKUP(F7384,Biomasser!$A$3:$E$88,4,FALSE),0)","v":0},null,{"$f":"IFERROR(VLOOKUP(F7384,Biomasser!$A$3:$E$88,5,FALSE),0)","v":0},"",0,null,null,{"$f":"IFERROR(VLOOKUP(F7384,Biomasser!$A$3:$M$88,13,FALSE),)","v":0},null,null,null,null,null,{"$f":"IF(F7384<>\"\",'CO2 konvertering'!$C$14,)","v":0},null,null,null,null,0]
[null,null,null,"Ja",null,null,null,null,"",null,"",{"$f":"IFERROR(VLOOKUP(F7482,Biomasser!$A$3:$E$88,4,FALSE),0)","v":0},null,{"$f":"IFERROR(VLOOKUP(F7482,Biomasser!$A$3:$E$88,5,FALSE),0)","v":0},"",0,null,null,{"$f":"IFERROR(VLOOKUP(F7482,Biomasser!$A$3:$M$88,13,FALSE),)","v":0},null,null,null,null,null,{"$f":"IF(F7482<>\"\",'CO2 konvertering'!$C$14,)","v":0},null,null,null,null,0]
[null,null,null,"Ja",null,null,null,null,"",null,"",{"$f":"IFERROR(VLOOKUP(F7497,Biomasser!$A$3:$E$88,4,FALSE),0)","v":0},null,{"$f":"IFERROR(VLOOKUP(F7497,Biomasser!$A$3:$E$88,5,FALSE),0)","v":0},"",0,null,null,{"$f":"IFERROR(VLOOKUP(F7497,Biomasser!$A$3:$M$88,13,FALSE),)","v":0},null,null,null,null,null,{"$f":"IF(F7497<>\"\",'CO2 konvertering'!$C$14,)","v":0},null,null,null,null,{"$f":"SUM(S7497:AC7497)","v":0}]
[null,null,null,"Ja",null,null,null,null,"",null,"",{"$f":"IFERROR(VLOOKUP(F7634,Biomasser!$A$3:$E$88,4,FALSE),0)","v":0},null,{"$f":"IFERROR(VLOOKUP(F7634,Biomasser!$A$3:$E$88,5,FALSE),0)","v":0},"",{"$f":"J7634*L7634*N7634*H7634","v":0},null,null,{"$f":"IFERROR(VLOOKUP(F7634,Biomasser!$A$3:$M$88,13,FALSE),)","v":0},null,null,null,null,null,{"$f":"IF(F7634<>\"\",'CO2 konvertering'!$C$14,)","v":0},null,null,null,null,{"$f":"SUM(S7634:AC7634)","v":0}]
[null,null,null,"Ja",null,null,null,null,"",null,"",{"$f":"IFERROR(VLOOKUP(F7654,Biomasser!$A$3:$E$88,4,FALSE),0)","v":0},null,{"$f":"IFERROR(VLOOKUP(F7654,Biomasser!$A$3:$E$88,5,FALSE),0)","v":0},"",0,null,null,{"$f":"IFERROR(VLOOKUP(F7654,Biomasser!$A$3:$M$88,13,FALSE),)","v":0},null,null,null,null,null,{"$f":"IF(F7654<>\"\",'CO2 konvertering'!$C$14,)","v":0},null,null,null,null,0]
[null,null,null,"Ja",null,null,null,null,{"$f":"IF(AND(F7740<>\"\",ISBLANK(H7740)),\"Indtast vægt\",\"\")","v":""},null,{"$f":"IF(AND(F7740<>\"\",ISBLANK(J7740)),\"Indtast tørstof %\",\"\")","v":""},{"$f":"IFERROR(VLOOKUP(F7740,Biomasser!$A$3:$E$88,4,FALSE),0)","v":0},null,{"$f":"IFERROR(VLOOKUP(F7740,Biomasser!$A$3:$E$88,5,FALSE),0)","v":0},"",0,null,null,{"$f":"IFERROR(VLOOKUP(F7740,Biomasser!$A$3:$M$88,13,FALSE),)","v":0},null,null,null,null,null,{"$f":"IF(F7740<>\"\",'CO2 konvertering'!$C$14,)","v":0},null,null,null,null,0]
[null,null,null,"Ja",null,null,null,null,"",null,"",{"$f":"IFERROR(VLOOKUP(F7811,Biomasser!$A$3:$E$88,4,FALSE),0)","v":0},null,{"$f":"IFERROR(VLOOKUP(F7811,Biomasser!$A$3:$E$88,5,FALSE),0)","v":0},"",0,null,null,{"$f":"IFERROR(VLOOKUP(F7811,Biomasser!$A$3:$M$88,13,FALSE),)","v":0},null,null,null,null,null,{"$f":"IF(F7811<>\"\",'CO2 konvertering'!$C$14,)","v":0},null,null,null,null,0]
[null,null,null,"Ja",null,null,null,null,"",null,"",{"$f":"IFERROR(VLOOKUP(F7892,Biomasser!$A$3:$E$88,4,FALSE),0)","v":0},null,{"$f":"IFERROR(VLOOKUP(F7892,Biomasser!$A$3:$E$88,5,FALSE),0)","v":0},"",0,null,null,{"$f":"IFERROR(VLOOKUP(F7892,Biomasser!$A$3:$M$88,13,FALSE),)","v":0},null,null,null,null,null,{"$f":"IF(F7892<>\"\",'CO2 konvertering'!$C$14,)","v":0},null,null,null,null,0]
[null,null,null,"Ja",null,null,null,null,"",null,"",{"$f":"IFERROR(VLOOKUP(F7968,Biomasser!$A$3:$E$88,4,FALSE),0)","v":0},null,{"$f":"IFERROR(VLOOKUP(F7968,Biomasser!$A$3:$E$88,5,FALSE),0)","v":0},"",0,null,null,{"$f":"IFERROR(VLOOKUP(F7968,Biomasser!$A$3:$M$88,13,FALSE),)","v":0},null,null,null,null,null,{"$f":"IF(F7968<>\"\",'CO2 konvertering'!$C$14,)","v":0},null,null,null,null,0]
[null,null,null,"Ja",null,null,null,null,"",null,"",{"$f":"IFERROR(VLOOKUP(F8044,Biomasser!$A$3:$E$88,4,FALSE),0)","v":0},null,{"$f":"IFERROR(VLOOKUP(F8044,Biomasser!$A$3:$E$88,5,FALSE),0)","v":0},"",0,null,null,{"$f":"IFERROR(VLOOKUP(F8044,Biomasser!$A$3:$M$88,13,FALSE),)","v":0},null,null,null,null,null,{"$f":"IF(F8044<>\"\",'CO2 konvertering'!$C$14,)","v":0},null,null,null,null,0]
[null,null,null,"Ja",null,null,null,null,"",null,"",{"$f":"IFERROR(VLOOKUP(F8157,Biomasser!$A$3:$E$88,4,FALSE),0)","v":0},null,{"$f":"IFERROR(VLOOKUP(F8157,Biomasser!$A$3:$E$88,5,FALSE),0)","v":0},"",0,null,null,{"$f":"IFERROR(VLOOKUP(F8157,Biomasser!$A$3:$M$88,13,FALSE),)","v":0},null,null,null,null,null,{"$f":"IF(F8157<>\"\",'CO2 konvertering'!$C$14,)","v":0},null,null,null,null,0]
[null,"Dato:",null,null,null,"Mængde biomasse (Ton)",null,"Gasproduktion"]
[null,null,null,"Ja",null,null,null,null,"",null,"",{"$f":"IFERROR(VLOOKUP(F8314,Biomasser!$A$3:$E$88,4,FALSE),0)","v":0},null,{"$f":"IFERROR(VLOOKUP(F8314,Biomasser!$A$3:$E$88,5,FALSE),0)","v":0},"",0,null,null,{"$f":"IFERROR(VLOOKUP(F8314,Biomasser!$A$3:$M$88,13,FALSE),)","v":0},null,null,null,null,null,{"$f":"IF(F8314<>\"\",'CO2 konvertering'!$C$14,)","v":0},null,null,null,null,0]
[null,null,null,"Ja",null,null,null,null,"",null,"",{"$f":"IFERROR(VLOOKUP(F8348,Biomasser!$A$3:$E$88,4,FALSE),0)","v":0},null,{"$f":"IFERROR(VLOOKUP(F8348,Biomasser!$A$3:$E$88,5,FALSE),0)","v":0},"",0,null,null,{"$f":"IFERROR(VLOOKUP(F8348,Biomasser!$A$3:$M$88,13,FALSE),)","v":0},null,null,null,null,null,{"$f":"IF(F8348<>\"\",'CO2 konvertering'!$C$14,)","v":0},null,null,null,null,0]
[null,null,null,"Ja",null,null,null,null,"",null,"",{"$f":"IFERROR(VLOOKUP(F8471,Biomasser!$A$3:$E$88,4,FALSE),0)","v":0},null,{"$f":"IFERROR(VLOOKUP(F8471,Biomasser!$A$3:$E$88,5,FALSE),0)","v":0},"",0,null,null,{"$f":"IFERROR(VLOOKUP(F8471,Biomasser!$A$3:$M$88,13,FALSE),)","v":0},null,null,null,null,null,{"$f":"IF(F8471<>\"\",'CO2 konvertering'!$C$14,)","v":0},null,null,null,null,0]
[null,null,null,"Ja",null,null,null,null,"",null,"",{"$f":"IFERROR(VLOOKUP(F8528,Biomasser!$A$3:$E$88,4,FALSE),0)","v":0},null,{"$f":"IFERROR(VLOOKUP(F8528,Biomasser!$A$3:$E$88,5,FALSE),0)","v":0},"",0,null,null,{"$f":"IFERROR(VLOOKUP(F8528,Biomasser!$A$3:$M$88,13,FALSE),)","v":0},null,null,null,null,null,{"$f":"IF(F8528<>\"\",'CO2 konvertering'!$C$14,)","v":0},null,null,null,null,0]
[null,null,null,"Ja",null,null,null,null,"",null,"",{"$f":"IFERROR(VLOOKUP(F8591,Biomasser!$A$3:$E$88,4,FALSE),0)","v":0},null,{"$f":"IFERROR(VLOOKUP(F8591,Biomasser!$A$3:$E$88,5,FALSE),0)","v":0},"",0,null,null,{"$f":"IFERROR(VLOOKUP(F8591,Biomasser!$A$3:$M$88,13,FALSE),)","v":0},null,null,null,null,null,{"$f":"IF(F8591<>\"\",'CO2 konvertering'!$C$14,)","v":0},null,null,null,null,0]
[null,null,null,"Ja",null,null,null,null,{"$f":"IF(AND(F8685<>\"\",ISBLANK(H8685)),\"Indtast vægt\",\"\")","v":""},null,{"$f":"IF(AND(F8685<>\"\",ISBLANK(J8685)),\"Indtast tørstof %\",\"\")","v":""},{"$f":"IFERROR(VLOOKUP(F8685,Biomasser!$A$3:$E$88,4,FALSE),0)","v":0},null,{"$f":"IFERROR(VLOOKUP(F8685,Biomasser!$A$3:$E$88,5,FALSE),0)","v":0},"",0,null,null,{"$f":"IFERROR(VLOOKUP(F8685,Biomasser!$A$3:$M$88,13,FALSE),)","v":0},null,null,null,null,null,{"$f":"IF(F8685<>\"\",'CO2 konvertering'!$C$14,)","v":0},null,null,null,null,0]
[null,null,null,"Ja",null,null,null,null,"",null,"",{"$f":"IFERROR(VLOOKUP(F8772,Biomasser!$A$3:$E$88,4,FALSE),0)","v":0},null,{"$f":"IFERROR(VLOOKUP(F8772,Biomasser!$A$3:$E$88,5,FALSE),0)","v":0},"",0,null,null,{"$f":"IFERROR(VLOOKUP(F8772,Biomasser!$A$3:$M$88,13,FALSE),)","v":0},null,null,null,null,null,{"$f":"IF(F8772<>\"\",'CO2 konvertering'!$C$14,)","v":0},null,null,null,null,0]
[null,null,null,"Ja",null,null,null,null,"",null,"",{"$f":"IFERROR(VLOOKUP(F8842,Biomasser!$A$3:$E$88,4,FALSE),0)","v":0},null,{"$f":"IFERROR(VLOOKUP(F8842,Biomasser!$A$3:$E$88,5,FALSE),0)","v":0},"",0,null,null,{"$f":"IFERROR(VLOOKUP(F8842,Biomasser!$A$3:$M$88,13,FALSE),)","v":0},null,null,null,null,null,{"$f":"IF(F8842<>\"\",'CO2 konvertering'!$C$14,)","v":0},null,null,null,null,0]
[null,null,null,"Ja",null,null,null,null,"",null,"",{"$f":"IFERROR(VLOOKUP(F8924,Biomasser!$A$3:$E$88,4,FALSE),0)","v":0},null,{"$f":"IFERROR(VLOOKUP(F8924,Biomasser!$A$3:$E$88,5,FALSE),0)","v":0},"",0,null,null,{"$f":"IFERROR(VLOOKUP(F8924,Biomasser!$A$3:$M$88,13,FALSE),)","v":0},null,null,null,null,null,{"$f":"IF(F8924<>\"\",'CO2 konvertering'!$C$14,)","v":0},null,null,null,null,0]
[null,null,null,"Ja",null,null,null,null,"",null,"",{"$f":"IFERROR(VLOOKUP(F8999,Biomasser!$A$3:$E$88,4,FALSE),0)","v":0},null,{"$f":"IFERROR(VLOOKUP(F8999,Biomasser!$A$3:$E$88,5,FALSE),0)","v":0},"",{"$f":"J8999*L8999*N8999*H8999","v":0},null,null,{"$f":"IFERROR(VLOOKUP(F8999,Biomasser!$A$3:$M$88,13,FALSE),)","v":0},null,null,null,null,null,{"$f":"IF(F8999<>\"\",'CO2 konvertering'!$C$14,)","v":0},null,null,null,null,{"$f":"SUM(S8999:AC8999)","v":0}]
[null,null,null,"Ja",null,null,null,null,"",null,"",{"$f":"IFERROR(VLOOKUP(F9076,Biomasser!$A$3:$E$88,4,FALSE),0)","v":0},null,{"$f":"IFERROR(VLOOKUP(F9076,Biomasser!$A$3:$E$88,5,FALSE),0)","v":0},"",0,null,null,{"$f":"IFERROR(VLOOKUP(F9076,Biomasser!$A$3:$M$88,13,FALSE),)","v":0},null,null,null,null,null,{"$f":"IF(F9076<>\"\",'CO2 konvertering'!$C$14,)","v":0},null,null,null,null,0]
[null,null,null,"Ja",null,null,null,null,"",null,"",{"$f":"IFERROR(VLOOKUP(F9112,Biomasser!$A$3:$E$88,4,FALSE),0)","v":0},null,{"$f":"IFERROR(VLOOKUP(F9112,Biomasser!$A$3:$E$88,5,FALSE),0)","v":0},"",0,null,null,{"$f":"IFERROR(VLOOKUP(F9112,Biomasser!$A$3:$M$88,13,FALSE),)","v":0},null,null,null,null,null,{"$f":"IF(F9112<>\"\",'CO2 konvertering'!$C$14,)","v":0},null,null,null,null,0]
[null,null,null,"Ja",null,null,null,null,"",null,"",{"$f":"IFERROR(VLOOKUP(F9228,Biomasser!$A$3:$E$88,4,FALSE),0)","v":0},null,{"$f":"IFERROR(VLOOKUP(F9228,Biomasser!$A$3:$E$88,5,FALSE),0)","v":0},"",0,null,null,{"$f":"IFERROR(VLOOKUP(F9228,Biomasser!$A$3:$M$88,13,FALSE),)","v":0},null,null,null,null,null,{"$f":"IF(F9228<>\"\",'CO2 konvertering'!$C$14,)","v":0},null,null,null,null,0]
[null,null,null,"Ja",null,null,null,null,"",null,"",{"$f":"IFERROR(VLOOKUP(F9269,Biomasser!$A$3:$E$88,4,FALSE),0)","v":0},null,{"$f":"IFERROR(VLOOKUP(F9269,Biomasser!$A$3:$E$88,5,FALSE),0)","v":0},"",0,null,null,{"$f":"IFERROR(VLOOKUP(F9269,Biomasser!$A$3:$M$88,13,FALSE),)","v":0},null,null,null,null,null,{"$f":"IF(F9269<>\"\",'CO2 konvertering'!$C$14,)","v":0},null,null,null,null,0]
[null,null,null,"Ja",null,null,null,null,"",null,"",{"$f":"IFERROR(VLOOKUP(F9380,Biomasser!$A$3:$E$88,4,FALSE),0)","v":0},null,{"$f":"IFERROR(VLOOKUP(F9380,Biomasser!$A$3:$E$88,5,FALSE),0)","v":0},"",0,null,null,{"$f":"IFERROR(VLOOKUP(F9380,Biomasser!$A$3:$M$88,13,FALSE),)","v":0},null,null,null,null,null,{"$f":"IF(F9380<>\"\",'CO2 konvertering'!$C$14,)","v":0},null,null,null,null,0]
[null,null,null,"Ja",null,null,null,null,"",null,"",{"$f":"IFERROR(VLOOKUP(F9426,Biomasser!$A$3:$E$88,4,FALSE),0)","v":0},null,{"$f":"IFERROR(VLOOKUP(F9426,Biomasser!$A$3:$E$88,5,FALSE),0)","v":0},"",0,null,null,{"$f":"IFERROR(VLOOKUP(F9426,Biomasser!$A$3:$M$88,13,FALSE),)","v":0},null,null,null,null,null,{"$f":"IF(F9426<>\"\",'CO2 konvertering'!$C$14,)","v":0},null,null,null,null,0]
[null,null,null,"Ja",null,null,null,null,"",null,"",{"$f":"IFERROR(VLOOKUP(F9486,Biomasser!$A$3:$E$88,4,FALSE),0)","v":0},null,{"$f":"IFERROR(VLOOKUP(F9486,Biomasser!$A$3:$E$88,5,FALSE),0)","v":0},"",0,null,null,{"$f":"IFERROR(VLOOKUP(F9486,Biomasser!$A$3:$M$88,13,FALSE),)","v":0},null,null,null,null,null,{"$f":"IF(F9486<>\"\",'CO2 konvertering'!$C$14,)","v":0},null,null,null,null,0]
[null,null,null,"Ja",null,null,null,null,"",null,"",{"$f":"IFERROR(VLOOKUP(F9583,Biomasser!$A$3:$E$88,4,FALSE),0)","v":0},null,{"$f":"IFERROR(VLOOKUP(F9583,Biomasser!$A$3:$E$88,5,FALSE),0)","v":0},"",0,null,null,{"$f":"IFERROR(VLOOKUP(F9583,Biomasser!$A$3:$M$88,13,FALSE),)","v":0},null,null,null,null,null,{"$f":"IF(F9583<>\"\",'CO2 konvertering'!$C$14,)","v":0},null,null,null,null,0]
[null,null,null,"Ja",null,null,null,null,"",null,"",{"$f":"IFERROR(VLOOKUP(F9638,Biomasser!$A$3:$E$88,4,FALSE),0)","v":0},null,{"$f":"IFERROR(VLOOKUP(F9638,Biomasser!$A$3:$E$88,5,FALSE),0)","v":0},"",0,null,null,{"$f":"IFERROR(VLOOKUP(F9638,Biomasser!$A$3:$M$88,13,FALSE),)","v":0},null,null,null,null,null,{"$f":"IF(F9638<>\"\",'CO2 konvertering'!$C$14,)","v":0},null,null,null,null,0]
[null,null,null,"Ja",null,null,null,null,"",null,"",{"$f":"IFERROR(VLOOKUP(F9696,Biomasser!$A$3:$E$88,4,FALSE),0)","v":0},null,{"$f":"IFERROR(VLOOKUP(F9696,Biomasser!$A$3:$E$88,5,FALSE),0)","v":0},"",0,null,null,{"$f":"IFERROR(VLOOKUP(F9696,Biomasser!$A$3:$M$88,13,FALSE),)","v":0},null,null,null,null,null,{"$f":"IF(F9696<>\"\",'CO2 konvertering'!$C$14,)","v":0},null,null,null,null,0]
[null,null,null,"Ja",null,null,null,null,"",null,"",{"$f":"IFERROR(VLOOKUP(F9790,Biomasser!$A$3:$E$88,4,FALSE),0)","v":0},null,{"$f":"IFERROR(VLOOKUP(F9790,Biomasser!$A$3:$E$88,5,FALSE),0)","v":0},"",0,null,null,{"$f":"IFERROR(VLOOKUP(F9790,Biomasser!$A$3:$M$88,13,FALSE),)","v":0},null,null,null,null,null,{"$f":"IF(F9790<>\"\",'CO2 konvertering'!$C$14,)","v":0},null,null,null,null,0]
[null,null,null,"Ja",null,null,null,null,"",null,"",{"$f":"IFERROR(VLOOKUP(F9853,Biomasser!$A$3:$E$88,4,FALSE),0)","v":0},null,{"$f":"IFERROR(VLOOKUP(F9853,Biomasser!$A$3:$E$88,5,FALSE),0)","v":0},"",0,null,null,{"$f":"IFERROR(VLOOKUP(F9853,Biomasser!$A$3:$M$88,13,FALSE),)","v":0},null,null,null,null,null,{"$f":"IF(F9853<>\"\",'CO2 konvertering'!$C$14,)","v":0},null,null,null,null,0]
[null,null,null,"Ja",null,null,null,null,"",null,"",{"$f":"IFERROR(VLOOKUP(F9942,Biomasser!$A$3:$E$88,4,FALSE),0)","v":0},null,{"$f":"IFERROR(VLOOKUP(F9942,Biomasser!$A$3:$E$88,5,FALSE),0)","v":0},"",0,null,null,{"$f":"IFERROR(VLOOKUP(F9942,Biomasser!$A$3:$M$88,13,FALSE),)","v":0},null,null,null,null,null,{"$f":"IF(F9942<>\"\",'CO2 konvertering'!$C$14,)","v":0},null,null,null,null,0]
[null,null,null,"Ja",null,null,null,null,"",null,"",{"$f":"IFERROR(VLOOKUP(F10010,Biomasser!$A$3:$E$88,4,FALSE),0)","v":0},null,{"$f":"IFERROR(VLOOKUP(F10010,Biomasser!$A$3:$E$88,5,FALSE),0)","v":0},"",0,null,null,{"$f":"IFERROR(VLOOKUP(F10010,Biomasser!$A$3:$M$88,13,FALSE),)","v":0},null,null,null,null,null,{"$f":"IF(F10010<>\"\",'CO2 konvertering'!$C$14,)","v":0},null,null,null,null,0]
[null,null,null,"Ja",null,null,null,null,"",null,"",{"$f":"IFERROR(VLOOKUP(F10123,Biomasser!$A$3:$E$88,4,FALSE),0)","v":0},null,{"$f":"IFERROR(VLOOKUP(F10123,Biomasser!$A$3:$E$88,5,FALSE),0)","v":0},"",0,null,null,{"$f":"IFERROR(VLOOKUP(F10123,Biomasser!$A$3:$M$88,13,FALSE),)","v":0},null,null,null,null,null,{"$f":"IF(F10123<>\"\",'CO2 konvertering'!$C$14,)","v":0},null,null,null,null,0]
[null,null,null,"Ja",null,null,null,null,"",null,"",{"$f":"IFERROR(VLOOKUP(F10167,Biomasser!$A$3:$E$88,4,FALSE),0)","v":0},null,{"$f":"IFERROR(VLOOKUP(F10167,Biomasser!$A$3:$E$88,5,FALSE),0)","v":0},"",0,null,null,{"$f":"IFERROR(VLOOKUP(F10167,Biomasser!$A$3:$M$88,13,FALSE),)","v":0},null,null,null,null,null,{"$f":"IF(F10167<>\"\",'CO2 konvertering'!$C$14,)","v":0},null,null,null,null,0]
[null,null,null,"Ja",null,null,null,null,"",null,"",{"$f":"IFERROR(VLOOKUP(F10275,Biomasser!$A$3:$E$88,4,FALSE),0)","v":0},null,{"$f":"IFERROR(VLOOKUP(F10275,Biomasser!$A$3:$E$88,5,FALSE),0)","v":0},"",0,null,null,{"$f":"IFERROR(VLOOKUP(F10275,Biomasser!$A$3:$M$88,13,FALSE),)","v":0},null,null,null,null,null,{"$f":"IF(F10275<>\"\",'CO2 konvertering'!$C$14,)","v":0},null,null,null,null,0]
[null,null,null,"Ja",null,null,null,null,"",null,"",{"$f":"IFERROR(VLOOKUP(F10356,Biomasser!$A$3:$E$88,4,FALSE),0)","v":0},null,{"$f":"IFERROR(VLOOKUP(F10356,Biomasser!$A$3:$E$88,5,FALSE),0)","v":0},"",0,null,null,{"$f":"IFERROR(VLOOKUP(F10356,Biomasser!$A$3:$M$88,13,FALSE),)","v":0},null,null,null,null,null,{"$f":"IF(F10356<>\"\",'CO2 konvertering'!$C$14,)","v":0},null,null,null,null,0]
[null,null,null,"Ja",null,null,null,null,"",null,"",{"$f":"IFERROR(VLOOKUP(F10427,Biomasser!$A$3:$E$88,4,FALSE),0)","v":0},null,{"$f":"IFERROR(VLOOKUP(F10427,Biomasser!$A$3:$E$88,5,FALSE),0)","v":0},"",0,null,null,{"$f":"IFERROR(VLOOKUP(F10427,Biomasser!$A$3:$M$88,13,FALSE),)","v":0},null,null,null,null,null,{"$f":"IF(F10427<>\"\",'CO2 konvertering'!$C$14,)","v":0},null,null,null,null,0]
[null,null,null,"Ja",null,null,null,null,"",null,"",{"$f":"IFERROR(VLOOKUP(F10513,Biomasser!$A$3:$E$88,4,FALSE),0)","v":0},null,{"$f":"IFERROR(VLOOKUP(F10513,Biomasser!$A$3:$E$88,5,FALSE),0)","v":0},{"$f":"IF(AND(F10513<>\"\",(N10513=0)),\"Opdater biomasseark\",\"\")","v":""},0,null,null,{"$f":"IFERROR(VLOOKUP(F10513,Biomasser!$A$3:$M$88,13,FALSE),)","v":0},null,null,null,null,null,{"$f":"IF(F10513<>\"\",'CO2 konvertering'!$C$14,)","v":0},null,null,null,null,0]
[null,null,null,"Ja",null,null,null,null,"",null,"",{"$f":"IFERROR(VLOOKUP(F10579,Biomasser!$A$3:$E$88,4,FALSE),0)","v":0},null,{"$f":"IFERROR(VLOOKUP(F10579,Biomasser!$A$3:$E$88,5,FALSE),0)","v":0},"",0,null,null,{"$f":"IFERROR(VLOOKUP(F10579,Biomasser!$A$3:$M$88,13,FALSE),)","v":0},null,null,null,null,null,{"$f":"IF(F10579<>\"\",'CO2 konvertering'!$C$14,)","v":0},null,null,null,null,0]
[null,null,null,"Ja",null,null,null,null,"",null,"",{"$f":"IFERROR(VLOOKUP(F10594,Biomasser!$A$3:$E$88,4,FALSE),0)","v":0},null,{"$f":"IFERROR(VLOOKUP(F10594,Biomasser!$A$3:$E$88,5,FALSE),0)","v":0},"",0,null,null,{"$f":"IFERROR(VLOOKUP(F10594,Biomasser!$A$3:$M$88,13,FALSE),)","v":0},null,null,null,null,null,{"$f":"IF(F10594<>\"\",'CO2 konvertering'!$C$14,)","v":0},null,null,null,null,0]
[null,null,null,"Ja",null,null,null,null,"",null,"",{"$f":"IFERROR(VLOOKUP(F10685,Biomasser!$A$3:$E$88,4,FALSE),0)","v":0},null,{"$f":"IFERROR(VLOOKUP(F10685,Biomasser!$A$3:$E$88,5,FALSE),0)","v":0},"",0,null,null,{"$f":"IFERROR(VLOOKUP(F10685,Biomasser!$A$3:$M$88,13,FALSE),)","v":0},null,null,null,null,null,{"$f":"IF(F10685<>\"\",'CO2 konvertering'!$C$14,)","v":0},null,null,null,null,0]
[null,null,null,"Ja",null,null,null,null,"",null,"",{"$f":"IFERROR(VLOOKUP(F10751,Biomasser!$A$3:$E$88,4,FALSE),0)","v":0},null,{"$f":"IFERROR(VLOOKUP(F10751,Biomasser!$A$3:$E$88,5,FALSE),0)","v":0},"",0,null,null,{"$f":"IFERROR(VLOOKUP(F10751,Biomasser!$A$3:$M$88,13,FALSE),)","v":0},null,null,null,null,null,{"$f":"IF(F10751<>\"\",'CO2 konvertering'!$C$14,)","v":0},null,null,null,null,0]
[null,null,null,"Ja",null,null,null,null,"",null,"",{"$f":"IFERROR(VLOOKUP(F10837,Biomasser!$A$3:$E$88,4,FALSE),0)","v":0},null,{"$f":"IFERROR(VLOOKUP(F10837,Biomasser!$A$3:$E$88,5,FALSE),0)","v":0},"",0,null,null,{"$f":"IFERROR(VLOOKUP(F10837,Biomasser!$A$3:$M$88,13,FALSE),)","v":0},null,null,null,null,null,{"$f":"IF(F10837<>\"\",'CO2 konvertering'!$C$14,)","v":0},null,null,null,null,0]
[null,null,null,"Ja",null,null,null,null,"",null,"",{"$f":"IFERROR(VLOOKUP(F10908,Biomasser!$A$3:$E$88,4,FALSE),0)","v":0},null,{"$f":"IFERROR(VLOOKUP(F10908,Biomasser!$A$3:$E$88,5,FALSE),0)","v":0},"",0,null,null,{"$f":"IFERROR(VLOOKUP(F10908,Biomasser!$A$3:$M$88,13,FALSE),)","v":0},null,null,null,null,null,{"$f":"IF(F10908<>\"\",'CO2 konvertering'!$C$14,)","v":0},null,null,null,null,0]
[null,null,null,"Ja",null,null,null,null,"",null,"",{"$f":"IFERROR(VLOOKUP(F10989,Biomasser!$A$3:$E$88,4,FALSE),0)","v":0},null,{"$f":"IFERROR(VLOOKUP(F10989,Biomasser!$A$3:$E$88,5,FALSE),0)","v":0},"",0,null,null,{"$f":"IFERROR(VLOOKUP(F10989,Biomasser!$A$3:$M$88,13,FALSE),)","v":0},null,null,null,null,null,{"$f":"IF(F10989<>\"\",'CO2 konvertering'!$C$14,)","v":0},null,null,null,null,0]
[null,null,null,"Ja",null,null,null,null,"",null,"",{"$f":"IFERROR(VLOOKUP(F11097,Biomasser!$A$3:$E$88,4,FALSE),0)","v":0},null,{"$f":"IFERROR(VLOOKUP(F11097,Biomasser!$A$3:$E$88,5,FALSE),0)","v":0},"",0,null,null,{"$f":"IFERROR(VLOOKUP(F11097,Biomasser!$A$3:$M$88,13,FALSE),)","v":0},null,null,null,null,null,{"$f":"IF(F11097<>\"\",'CO2 konvertering'!$C$14,)","v":0},null,null,null,null,0]
[null,null,null,"Ja",null,null,null,null,{"$f":"IF(AND(F11141<>\"\",ISBLANK(H11141)),\"Indtast vægt\",\"\")","v":""},null,{"$f":"IF(AND(F11141<>\"\",ISBLANK(J11141)),\"Indtast tørstof %\",\"\")","v":""},{"$f":"IFERROR(VLOOKUP(F11141,Biomasser!$A$3:$E$88,4,FALSE),0)","v":0},null,{"$f":"IFERROR(VLOOKUP(F11141,Biomasser!$A$3:$E$88,5,FALSE),0)","v":0},"",0,null,null,{"$f":"IFERROR(VLOOKUP(F11141,Biomasser!$A$3:$M$88,13,FALSE),)","v":0},null,null,null,null,null,{"$f":"IF(F11141<>\"\",'CO2 konvertering'!$C$14,)","v":0},null,null,null,null,0]
[null,null,null,"Ja",null,null,null,null,"",null,"",{"$f":"IFERROR(VLOOKUP(F11254,Biomasser!$A$3:$E$88,4,FALSE),0)","v":0},null,{"$f":"IFERROR(VLOOKUP(F11254,Biomasser!$A$3:$E$88,5,FALSE),0)","v":0},"",0,null,null,{"$f":"IFERROR(VLOOKUP(F11254,Biomasser!$A$3:$M$88,13,FALSE),)","v":0},null,null,null,null,null,{"$f":"IF(F11254<>\"\",'CO2 konvertering'!$C$14,)","v":0},null,null,null,null,0]
[null,null,null,"Ja",null,null,null,null,"",null,"",{"$f":"IFERROR(VLOOKUP(F11322,Biomasser!$A$3:$E$88,4,FALSE),0)","v":0},null,{"$f":"IFERROR(VLOOKUP(F11322,Biomasser!$A$3:$E$88,5,FALSE),0)","v":0},"",0,null,null,{"$f":"IFERROR(VLOOKUP(F11322,Biomasser!$A$3:$M$88,13,FALSE),)","v":0},null,null,null,null,null,{"$f":"IF(F11322<>\"\",'CO2 konvertering'!$C$14,)","v":0},null,null,null,null,0]
[null,null,null,"Ja",null,null,null,null,"",null,"",{"$f":"IFERROR(VLOOKUP(F11411,Biomasser!$A$3:$E$88,4,FALSE),0)","v":0},null,{"$f":"IFERROR(VLOOKUP(F11411,Biomasser!$A$3:$E$88,5,FALSE),0)","v":0},"",0,null,null,{"$f":"IFERROR(VLOOKUP(F11411,Biomasser!$A$3:$M$88,13,FALSE),)","v":0},null,null,null,null,null,{"$f":"IF(F11411<>\"\",'CO2 konvertering'!$C$14,)","v":0},null,null,null,null,0]
[null,null,null,"Ja",null,null,null,null,"",null,"",{"$f":"IFERROR(VLOOKUP(F11474,Biomasser!$A$3:$E$88,4,FALSE),0)","v":0},null,{"$f":"IFERROR(VLOOKUP(F11474,Biomasser!$A$3:$E$88,5,FALSE),0)","v":0},"",0,null,null,{"$f":"IFERROR(VLOOKUP(F11474,Biomasser!$A$3:$M$88,13,FALSE),)","v":0},null,null,null,null,null,{"$f":"IF(F11474<>\"\",'CO2 konvertering'!$C$14,)","v":0},null,null,null,null,0]
[null,null,null,"Ja",null,null,null,null,"",null,"",{"$f":"IFERROR(VLOOKUP(F11568,Biomasser!$A$3:$E$88,4,FALSE),0)","v":0},null,{"$f":"IFERROR(VLOOKUP(F11568,Biomasser!$A$3:$E$88,5,FALSE),0)","v":0},"",0,null,null,{"$f":"IFERROR(VLOOKUP(F11568,Biomasser!$A$3:$M$88,13,FALSE),)","v":0},null,null,null,null,null,{"$f":"IF(F11568<>\"\",'CO2 konvertering'!$C$14,)","v":0},null,null,null,null,0]
[null,null,null,"Ja",null,null,null,null,"",null,"",{"$f":"IFERROR(VLOOKUP(F11626,Biomasser!$A$3:$E$88,4,FALSE),0)","v":0},null,{"$f":"IFERROR(VLOOKUP(F11626,Biomasser!$A$3:$E$88,5,FALSE),0)","v":0},"",0,null,null,{"$f":"IFERROR(VLOOKUP(F11626,Biomasser!$A$3:$M$88,13,FALSE),)","v":0},null,null,null,null,null,{"$f":"IF(F11626<>\"\",'CO2 konvertering'!$C$14,)","v":0},null,null,null,null,0]
[null,null,null,"Ja",null,null,null,null,"",null,"",{"$f":"IFERROR(VLOOKUP(F11681,Biomasser!$A$3:$E$88,4,FALSE),0)","v":0},null,{"$f":"IFERROR(VLOOKUP(F11681,Biomasser!$A$3:$E$88,5,FALSE),0)","v":0},"",0,null,null,{"$f":"IFERROR(VLOOKUP(F11681,Biomasser!$A$3:$M$88,13,FALSE),)","v":0},null,null,null,null,null,{"$f":"IF(F11681<>\"\",'CO2 konvertering'!$C$14,)","v":0},null,null,null,null,0]
[null,null,null,"Ja",null,null,null,null,"",null,"",{"$f":"IFERROR(VLOOKUP(F11778,Biomasser!$A$3:$E$88,4,FALSE),0)","v":0},null,{"$f":"IFERROR(VLOOKUP(F11778,Biomasser!$A$3:$E$88,5,FALSE),0)","v":0},"",0,null,null,{"$f":"IFERROR(VLOOKUP(F11778,Biomasser!$A$3:$M$88,13,FALSE),)","v":0},null,null,null,null,null,{"$f":"IF(F11778<>\"\",'CO2 konvertering'!$C$14,)","v":0},null,null,null,null,0]
[null,null,null,"Ja",null,null,null,null,"",null,"",{"$f":"IFERROR(VLOOKUP(F11838,Biomasser!$A$3:$E$88,4,FALSE),0)","v":0},null,{"$f":"IFERROR(VLOOKUP(F11838,Biomasser!$A$3:$E$88,5,FALSE),0)","v":0},{"$f":"IF(AND(F11838<>\"\",(N11838=0)),\"Opdater biomasseark\",\"\")","v":""},0,null,null,{"$f":"IFERROR(VLOOKUP(F11838,Biomasser!$A$3:$M$88,13,FALSE),)","v":0},null,null,null,null,null,{"$f":"IF(F11838<>\"\",'CO2 konvertering'!$C$14,)","v":0},null,null,null,null,0]
[null,null,null,"Ja",null,null,null,null,"",null,"",{"$f":"IFERROR(VLOOKUP(F11930,Biomasser!$A$3:$E$88,4,FALSE),0)","v":0},null,{"$f":"IFERROR(VLOOKUP(F11930,Biomasser!$A$3:$E$88,5,FALSE),0)","v":0},"",0,null,null,{"$f":"IFERROR(VLOOKUP(F11930,Biomasser!$A$3:$M$88,13,FALSE),)","v":0},null,null,null,null,null,{"$f":"IF(F11930<>\"\",'CO2 konvertering'!$C$14,)","v":0},null,null,null,null,0]
[null,null,null,"Ja",null,null,null,null,"",null,"",{"$f":"IFERROR(VLOOKUP(F11995,Biomasser!$A$3:$E$88,4,FALSE),0)","v":0},null,{"$f":"IFERROR(VLOOKUP(F11995,Biomasser!$A$3:$E$88,5,FALSE),0)","v":0},"",0,null,null,{"$f":"IFERROR(VLOOKUP(F11995,Biomasser!$A$3:$M$88,13,FALSE),)","v":0},null,null,null,null,null,{"$f":"IF(F11995<>\"\",'CO2 konvertering'!$C$14,)","v":0},null,null,null,null,0]
[null,null,null,"Ja",null,null,null,null,"",null,"",{"$f":"IFERROR(VLOOKUP(F12036,Biomasser!$A$3:$E$88,4,FALSE),0)","v":0},null,{"$f":"IFERROR(VLOOKUP(F12036,Biomasser!$A$3:$E$88,5,FALSE),0)","v":0},"",0,null,null,{"$f":"IFERROR(VLOOKUP(F12036,Biomasser!$A$3:$M$88,13,FALSE),)","v":0},null,null,null,null,null,{"$f":"IF(F12036<>\"\",'CO2 konvertering'!$C$14,)","v":0},null,null,null,null,0]
[null,null,null,"Ja",null,null,null,null,"",null,"",{"$f":"IFERROR(VLOOKUP(F12152,Biomasser!$A$3:$E$88,4,FALSE),0)","v":0},null,{"$f":"IFERROR(VLOOKUP(F12152,Biomasser!$A$3:$E$88,5,FALSE),0)","v":0},"",0,null,null,{"$f":"IFERROR(VLOOKUP(F12152,Biomasser!$A$3:$M$88,13,FALSE),)","v":0},null,null,null,null,null,{"$f":"IF(F12152<>\"\",'CO2 konvertering'!$C$14,)","v":0},null,null,null,null,0]
[null,"Leverandør",null,"Certificeret",null,"Råvarer input","          Mængder                 \n      (Ton vådvægt)            ",null,null,"Tørstof\n%",null,"Omsættelig tørstof\n%",null,"Gaspotentiale\nm³ CH4/ton VS",null,"Teoretisk\ngasproduktion\nm³ CH4"]
[null,null,null,"Ja",null,null,null,null,"",null,"",{"$f":"IFERROR(VLOOKUP(F12265,Biomasser!$A$3:$E$88,4,FALSE),0)","v":0},null,{"$f":"IFERROR(VLOOKUP(F12265,Biomasser!$A$3:$E$88,5,FALSE),0)","v":0},"",0,null,null,{"$f":"IFERROR(VLOOKUP(F12265,Biomasser!$A$3:$M$88,13,FALSE),)","v":0},null,null,null,null,null,{"$f":"IF(F12265<>\"\",'CO2 konvertering'!$C$14,)","v":0},null,null,null,null,0]
[null,null,null,"Ja",null,null,null,null,"",null,"",{"$f":"IFERROR(VLOOKUP(F12366,Biomasser!$A$3:$E$88,4,FALSE),0)","v":0},null,{"$f":"IFERROR(VLOOKUP(F12366,Biomasser!$A$3:$E$88,5,FALSE),0)","v":0},"",0,null,null,{"$f":"IFERROR(VLOOKUP(F12366,Biomasser!$A$3:$M$88,13,FALSE),)","v":0},null,null,null,null,null,{"$f":"IF(F12366<>\"\",'CO2 konvertering'!$C$14,)","v":0},null,null,null,null,0]
[null,null,null,"Ja",null,null,null,null,"",null,"",{"$f":"IFERROR(VLOOKUP(F12431,Biomasser!$A$3:$E$88,4,FALSE),0)","v":0},null,{"$f":"IFERROR(VLOOKUP(F12431,Biomasser!$A$3:$E$88,5,FALSE),0)","v":0},"",0,null,null,{"$f":"IFERROR(VLOOKUP(F12431,Biomasser!$A$3:$M$88,13,FALSE),)","v":0},null,null,null,null,null,{"$f":"IF(F12431<>\"\",'CO2 konvertering'!$C$14,)","v":0},null,null,null,null,0]
[null,null,null,"Ja",null,null,null,null,"",null,"",{"$f":"IFERROR(VLOOKUP(F12523,Biomasser!$A$3:$E$88,4,FALSE),0)","v":0},null,{"$f":"IFERROR(VLOOKUP(F12523,Biomasser!$A$3:$E$88,5,FALSE),0)","v":0},"",0,null,null,{"$f":"IFERROR(VLOOKUP(F12523,Biomasser!$A$3:$M$88,13,FALSE),)","v":0},null,null,null,null,null,{"$f":"IF(F12523<>\"\",'CO2 konvertering'!$C$14,)","v":0},null,null,null,null,0]
[null,null,null,"Ja",null,null,null,null,"",null,"",{"$f":"IFERROR(VLOOKUP(F12583,Biomasser!$A$3:$E$88,4,FALSE),0)","v":0},null,{"$f":"IFERROR(VLOOKUP(F12583,Biomasser!$A$3:$E$88,5,FALSE),0)","v":0},"",0,null,null,{"$f":"IFERROR(VLOOKUP(F12583,Biomasser!$A$3:$M$88,13,FALSE),)","v":0},null,null,null,null,null,{"$f":"IF(F12583<>\"\",'CO2 konvertering'!$C$14,)","v":0},null,null,null,null,0]
[null,null,null,"Ja",null,null,null,null,"",null,"",{"$f":"IFERROR(VLOOKUP(F12636,Biomasser!$A$3:$E$88,4,FALSE),0)","v":0},null,{"$f":"IFERROR(VLOOKUP(F12636,Biomasser!$A$3:$E$88,5,FALSE),0)","v":0},"",0,null,null,{"$f":"IFERROR(VLOOKUP(F12636,Biomasser!$A$3:$M$88,13,FALSE),)","v":0},null,null,null,null,null,{"$f":"IF(F12636<>\"\",'CO2 konvertering'!$C$14,)","v":0},null,null,null,null,0]
[null,null,null,"Ja",null,null,null,null,"",null,"",{"$f":"IFERROR(VLOOKUP(F12735,Biomasser!$A$3:$E$88,4,FALSE),0)","v":0},null,{"$f":"IFERROR(VLOOKUP(F12735,Biomasser!$A$3:$E$88,5,FALSE),0)","v":0},"",0,null,null,{"$f":"IFERROR(VLOOKUP(F12735,Biomasser!$A$3:$M$88,13,FALSE),)","v":0},null,null,null,null,null,{"$f":"IF(F12735<>\"\",'CO2 konvertering'!$C$14,)","v":0},null,null,null,null,0]
[null,null,null,"Ja",null,null,null,null,"",null,"",{"$f":"IFERROR(VLOOKUP(F12793,Biomasser!$A$3:$E$88,4,FALSE),0)","v":0},null,{"$f":"IFERROR(VLOOKUP(F12793,Biomasser!$A$3:$E$88,5,FALSE),0)","v":0},"",0,null,null,{"$f":"IFERROR(VLOOKUP(F12793,Biomasser!$A$3:$M$88,13,FALSE),)","v":0},null,null,null,null,null,{"$f":"IF(F12793<>\"\",'CO2 konvertering'!$C$14,)","v":0},null,null,null,null,0]
[null,null,null,"Ja",null,null,null,null,"",null,"",{"$f":"IFERROR(VLOOKUP(F12916,Biomasser!$A$3:$E$88,4,FALSE),0)","v":0},null,{"$f":"IFERROR(VLOOKUP(F12916,Biomasser!$A$3:$E$88,5,FALSE),0)","v":0},"",0,null,null,{"$f":"IFERROR(VLOOKUP(F12916,Biomasser!$A$3:$M$88,13,FALSE),)","v":0},null,null,null,null,null,{"$f":"IF(F12916<>\"\",'CO2 konvertering'!$C$14,)","v":0},null,null,null,null,{"$f":"SUM(S12916:AC12916)","v":0}]
[null,null,null,"Ja",null,null,null,null,"",null,"",{"$f":"IFERROR(VLOOKUP(F12950,Biomasser!$A$3:$E$88,4,FALSE),0)","v":0},null,{"$f":"IFERROR(VLOOKUP(F12950,Biomasser!$A$3:$E$88,5,FALSE),0)","v":0},"",0,null,null,{"$f":"IFERROR(VLOOKUP(F12950,Biomasser!$A$3:$M$88,13,FALSE),)","v":0},null,null,null,null,null,{"$f":"IF(F12950<>\"\",'CO2 konvertering'!$C$14,)","v":0},null,null,null,null,0]
[null,null,null,"Ja",null,null,null,null,"",null,"",{"$f":"IFERROR(VLOOKUP(F13068,Biomasser!$A$3:$E$88,4,FALSE),0)","v":0},null,{"$f":"IFERROR(VLOOKUP(F13068,Biomasser!$A$3:$E$88,5,FALSE),0)","v":0},"",0,null,null,{"$f":"IFERROR(VLOOKUP(F13068,Biomasser!$A$3:$M$88,13,FALSE),)","v":0},null,null,null,null,null,{"$f":"IF(F13068<>\"\",'CO2 konvertering'!$C$14,)","v":0},null,null,null,null,0]
[null,null,null,"Ja",null,null,null,null,"",null,"",{"$f":"IFERROR(VLOOKUP(F13107,Biomasser!$A$3:$E$88,4,FALSE),0)","v":0},null,{"$f":"IFERROR(VLOOKUP(F13107,Biomasser!$A$3:$E$88,5,FALSE),0)","v":0},"",0,null,null,{"$f":"IFERROR(VLOOKUP(F13107,Biomasser!$A$3:$M$88,13,FALSE),)","v":0},null,null,null,null,null,{"$f":"IF(F13107<>\"\",'CO2 konvertering'!$C$14,)","v":0},null,null,null,null,0]
[null,null,null,"Ja",null,null,null,null,"",null,"",{"$f":"IFERROR(VLOOKUP(F13220,Biomasser!$A$3:$E$88,4,FALSE),0)","v":0},null,{"$f":"IFERROR(VLOOKUP(F13220,Biomasser!$A$3:$E$88,5,FALSE),0)","v":0},"",0,null,null,{"$f":"IFERROR(VLOOKUP(F13220,Biomasser!$A$3:$M$88,13,FALSE),)","v":0},null,null,null,null,null,{"$f":"IF(F13220<>\"\",'CO2 konvertering'!$C$14,)","v":0},null,null,null,null,0]
[null,null,null,"Ja",null,null,null,null,"",null,"",{"$f":"IFERROR(VLOOKUP(F13296,Biomasser!$A$3:$E$88,4,FALSE),0)","v":0},null,{"$f":"IFERROR(VLOOKUP(F13296,Biomasser!$A$3:$E$88,5,FALSE),0)","v":0},"",0,null,null,{"$f":"IFERROR(VLOOKUP(F13296,Biomasser!$A$3:$M$88,13,FALSE),)","v":0},null,null,null,null,null,{"$f":"IF(F13296<>\"\",'CO2 konvertering'!$C$14,)","v":0},null,null,null,null,0]
[null,null,null,"Ja",null,null,null,null,"",null,"",{"$f":"IFERROR(VLOOKUP(F13372,Biomasser!$A$3:$E$88,4,FALSE),0)","v":0},null,{"$f":"IFERROR(VLOOKUP(F13372,Biomasser!$A$3:$E$88,5,FALSE),0)","v":0},"",0,null,null,{"$f":"IFERROR(VLOOKUP(F13372,Biomasser!$A$3:$M$88,13,FALSE),)","v":0},null,null,null,null,null,{"$f":"IF(F13372<>\"\",'CO2 konvertering'!$C$14,)","v":0},null,null,null,null,0]
[null,null,null,"Ja",null,null,null,null,"",null,"",{"$f":"IFERROR(VLOOKUP(F13453,Biomasser!$A$3:$E$88,4,FALSE),0)","v":0},null,{"$f":"IFERROR(VLOOKUP(F13453,Biomasser!$A$3:$E$88,5,FALSE),0)","v":0},{"$f":"IF(AND(F13453<>\"\",(N13453=0)),\"Opdater biomasseark\",\"\")","v":""},0,null,null,{"$f":"IFERROR(VLOOKUP(F13453,Biomasser!$A$3:$M$88,13,FALSE),)","v":0},null,null,null,null,null,{"$f":"IF(F13453<>\"\",'CO2 konvertering'!$C$14,)","v":0},null,null,null,null,0]
[null,null,null,"Ja",null,null,null,null,"",null,"",{"$f":"IFERROR(VLOOKUP(F13524,Biomasser!$A$3:$E$88,4,FALSE),0)","v":0},null,{"$f":"IFERROR(VLOOKUP(F13524,Biomasser!$A$3:$E$88,5,FALSE),0)","v":0},"",0,null,null,{"$f":"IFERROR(VLOOKUP(F13524,Biomasser!$A$3:$M$88,13,FALSE),)","v":0},null,null,null,null,null,{"$f":"IF(F13524<>\"\",'CO2 konvertering'!$C$14,)","v":0},null,null,null,null,0]
[null,null,null,"Ja",null,null,null,null,"",null,"",{"$f":"IFERROR(VLOOKUP(F13610,Biomasser!$A$3:$E$88,4,FALSE),0)","v":0},null,{"$f":"IFERROR(VLOOKUP(F13610,Biomasser!$A$3:$E$88,5,FALSE),0)","v":0},"",0,null,null,{"$f":"IFERROR(VLOOKUP(F13610,Biomasser!$A$3:$M$88,13,FALSE),)","v":0},null,null,null,null,null,{"$f":"IF(F13610<>\"\",'CO2 konvertering'!$C$14,)","v":0},null,null,null,null,0]
[null,null,null,"Ja",null,null,null,null,"",null,"",{"$f":"IFERROR(VLOOKUP(F13630,Biomasser!$A$3:$E$88,4,FALSE),0)","v":0},null,{"$f":"IFERROR(VLOOKUP(F13630,Biomasser!$A$3:$E$88,5,FALSE),0)","v":0},"",0,null,null,{"$f":"IFERROR(VLOOKUP(F13630,Biomasser!$A$3:$M$88,13,FALSE),)","v":0},null,null,null,null,null,{"$f":"IF(F13630<>\"\",'CO2 konvertering'!$C$14,)","v":0},null,null,null,null,0]
[null,null,null,"Ja",null,null,null,null,"",null,"",{"$f":"IFERROR(VLOOKUP(F13691,Biomasser!$A$3:$E$88,4,FALSE),0)","v":0},null,{"$f":"IFERROR(VLOOKUP(F13691,Biomasser!$A$3:$E$88,5,FALSE),0)","v":0},"",0,null,null,{"$f":"IFERROR(VLOOKUP(F13691,Biomasser!$A$3:$M$88,13,FALSE),)","v":0},null,null,null,null,null,{"$f":"IF(F13691<>\"\",'CO2 konvertering'!$C$14,)","v":0},null,null,null,null,0]
[null,null,null,"Ja",null,null,null,null,"",null,"",{"$f":"IFERROR(VLOOKUP(F13782,Biomasser!$A$3:$E$88,4,FALSE),0)","v":0},null,{"$f":"IFERROR(VLOOKUP(F13782,Biomasser!$A$3:$E$88,5,FALSE),0)","v":0},"",0,null,null,{"$f":"IFERROR(VLOOKUP(F13782,Biomasser!$A$3:$M$88,13,FALSE),)","v":0},null,null,null,null,null,{"$f":"IF(F13782<>\"\",'CO2 konvertering'!$C$14,)","v":0},null,null,null,null,0]
[null,null,null,"Ja",null,null,null,null,"",null,"",{"$f":"IFERROR(VLOOKUP(F13880,Biomasser!$A$3:$E$88,4,FALSE),0)","v":0},null,{"$f":"IFERROR(VLOOKUP(F13880,Biomasser!$A$3:$E$88,5,FALSE),0)","v":0},"",0,null,null,{"$f":"IFERROR(VLOOKUP(F13880,Biomasser!$A$3:$M$88,13,FALSE),)","v":0},null,null,null,null,null,{"$f":"IF(F13880<>\"\",'CO2 konvertering'!$C$14,)","v":0},null,null,null,null,0]
[null,null,null,"Ja",null,null,null,null,"",null,"",{"$f":"IFERROR(VLOOKUP(F13934,Biomasser!$A$3:$E$88,4,FALSE),0)","v":0},null,{"$f":"IFERROR(VLOOKUP(F13934,Biomasser!$A$3:$E$88,5,FALSE),0)","v":0},"",{"$f":"J13934*L13934*N13934*H13934","v":0},null,null,{"$f":"IFERROR(VLOOKUP(F13934,Biomasser!$A$3:$M$88,13,FALSE),)","v":0},null,null,null,null,null,{"$f":"IF(F13934<>\"\",'CO2 konvertering'!$C$14,)","v":0},null,null,null,null,{"$f":"SUM(S13934:AC13934)","v":0}]
[null,null,null,"Ja",null,null,null,null,"",null,"",{"$f":"IFERROR(VLOOKUP(F14037,Biomasser!$A$3:$E$88,4,FALSE),0)","v":0},null,{"$f":"IFERROR(VLOOKUP(F14037,Biomasser!$A$3:$E$88,5,FALSE),0)","v":0},"",0,null,null,{"$f":"IFERROR(VLOOKUP(F14037,Biomasser!$A$3:$M$88,13,FALSE),)","v":0},null,null,null,null,null,{"$f":"IF(F14037<>\"\",'CO2 konvertering'!$C$14,)","v":0},null,null,null,null,0]
[null,null,null,"Ja",null,null,null,null,"",null,"",{"$f":"IFERROR(VLOOKUP(F14086,Biomasser!$A$3:$E$88,4,FALSE),0)","v":0},null,{"$f":"IFERROR(VLOOKUP(F14086,Biomasser!$A$3:$E$88,5,FALSE),0)","v":0},"",0,null,null,{"$f":"IFERROR(VLOOKUP(F14086,Biomasser!$A$3:$M$88,13,FALSE),)","v":0},null,null,null,null,null,{"$f":"IF(F14086<>\"\",'CO2 konvertering'!$C$14,)","v":0},null,null,null,null,0]
[null,null,null,"Ja",null,null,null,null,"",null,"",{"$f":"IFERROR(VLOOKUP(F14194,Biomasser!$A$3:$E$88,4,FALSE),0)","v":0},null,{"$f":"IFERROR(VLOOKUP(F14194,Biomasser!$A$3:$E$88,5,FALSE),0)","v":0},"",0,null,null,{"$f":"IFERROR(VLOOKUP(F14194,Biomasser!$A$3:$M$88,13,FALSE),)","v":0},null,null,null,null,null,{"$f":"IF(F14194<>\"\",'CO2 konvertering'!$C$14,)","v":0},null,null,null,null,0]
[null,null,null,"Ja",null,null,null,null,"",null,"",{"$f":"IFERROR(VLOOKUP(F14267,Biomasser!$A$3:$E$88,4,FALSE),0)","v":0},null,{"$f":"IFERROR(VLOOKUP(F14267,Biomasser!$A$3:$E$88,5,FALSE),0)","v":0},"",0,null,null,{"$f":"IFERROR(VLOOKUP(F14267,Biomasser!$A$3:$M$88,13,FALSE),)","v":0},null,null,null,null,null,{"$f":"IF(F14267<>\"\",'CO2 konvertering'!$C$14,)","v":0},null,null,null,null,0]
[null,null,null,"Ja",null,null,null,null,"",null,"",{"$f":"IFERROR(VLOOKUP(F14351,Biomasser!$A$3:$E$88,4,FALSE),0)","v":0},null,{"$f":"IFERROR(VLOOKUP(F14351,Biomasser!$A$3:$E$88,5,FALSE),0)","v":0},"",0,null,null,{"$f":"IFERROR(VLOOKUP(F14351,Biomasser!$A$3:$M$88,13,FALSE),)","v":0},null,null,null,null,null,{"$f":"IF(F14351<>\"\",'CO2 konvertering'!$C$14,)","v":0},null,null,null,null,0]
[null,null,null,"Ja",null,null,null,null,"",null,"",{"$f":"IFERROR(VLOOKUP(F14419,Biomasser!$A$3:$E$88,4,FALSE),0)","v":0},null,{"$f":"IFERROR(VLOOKUP(F14419,Biomasser!$A$3:$E$88,5,FALSE),0)","v":0},"",0,null,null,{"$f":"IFERROR(VLOOKUP(F14419,Biomasser!$A$3:$M$88,13,FALSE),)","v":0},null,null,null,null,null,{"$f":"IF(F14419<>\"\",'CO2 konvertering'!$C$14,)","v":0},null,null,null,null,0]
[null,null,null,"Ja",null,null,null,null,"",null,"",{"$f":"IFERROR(VLOOKUP(F14464,Biomasser!$A$3:$E$88,4,FALSE),0)","v":0},null,{"$f":"IFERROR(VLOOKUP(F14464,Biomasser!$A$3:$E$88,5,FALSE),0)","v":0},"",0,null,null,{"$f":"IFERROR(VLOOKUP(F14464,Biomasser!$A$3:$M$88,13,FALSE),)","v":0},null,null,null,null,null,{"$f":"IF(F14464<>\"\",'CO2 konvertering'!$C$14,)","v":0},null,null,null,null,0]
[null,null,null,"Ja",null,null,null,null,"",null,"",{"$f":"IFERROR(VLOOKUP(F14571,Biomasser!$A$3:$E$88,4,FALSE),0)","v":0},null,{"$f":"IFERROR(VLOOKUP(F14571,Biomasser!$A$3:$E$88,5,FALSE),0)","v":0},"",0,null,null,{"$f":"IFERROR(VLOOKUP(F14571,Biomasser!$A$3:$M$88,13,FALSE),)","v":0},null,null,null,null,null,{"$f":"IF(F14571<>\"\",'CO2 konvertering'!$C$14,)","v":0},null,null,null,null,0]
[null,null,null,"Ja",null,null,null,null,"",null,"",{"$f":"IFERROR(VLOOKUP(F14621,Biomasser!$A$3:$E$88,4,FALSE),0)","v":0},null,{"$f":"IFERROR(VLOOKUP(F14621,Biomasser!$A$3:$E$88,5,FALSE),0)","v":0},"",0,null,null,{"$f":"IFERROR(VLOOKUP(F14621,Biomasser!$A$3:$M$88,13,FALSE),)","v":0},null,null,null,null,null,{"$f":"IF(F14621<>\"\",'CO2 konvertering'!$C$14,)","v":0},null,null,null,null,0]
[null,null,null,"Ja",null,null,null,null,"",null,"",{"$f":"IFERROR(VLOOKUP(F14723,Biomasser!$A$3:$E$88,4,FALSE),0)","v":0},null,{"$f":"IFERROR(VLOOKUP(F14723,Biomasser!$A$3:$E$88,5,FALSE),0)","v":0},"",0,null,null,{"$f":"IFERROR(VLOOKUP(F14723,Biomasser!$A$3:$M$88,13,FALSE),)","v":0},null,null,null,null,null,{"$f":"IF(F14723<>\"\",'CO2 konvertering'!$C$14,)","v":0},null,null,null,null,0]
[null,null,null,"Ja",null,null,null,null,"",null,"",{"$f":"IFERROR(VLOOKUP(F14778,Biomasser!$A$3:$E$88,4,FALSE),0)","v":0},null,{"$f":"IFERROR(VLOOKUP(F14778,Biomasser!$A$3:$E$88,5,FALSE),0)","v":0},{"$f":"IF(AND(F14778<>\"\",(N14778=0)),\"Opdater biomasseark\",\"\")","v":""},0,null,null,{"$f":"IFERROR(VLOOKUP(F14778,Biomasser!$A$3:$M$88,13,FALSE),)","v":0},null,null,null,null,null,{"$f":"IF(F14778<>\"\",'CO2 konvertering'!$C$14,)","v":0},null,null,null,null,0]
[null,null,null,"Ja",null,null,null,null,"",null,"",{"$f":"IFERROR(VLOOKUP(F14829,Biomasser!$A$3:$E$88,4,FALSE),0)","v":0},null,{"$f":"IFERROR(VLOOKUP(F14829,Biomasser!$A$3:$E$88,5,FALSE),0)","v":0},"",0,null,null,{"$f":"IFERROR(VLOOKUP(F14829,Biomasser!$A$3:$M$88,13,FALSE),)","v":0},null,null,null,null,null,{"$f":"IF(F14829<>\"\",'CO2 konvertering'!$C$14,)","v":0},null,null,null,null,0]
[null,null,null,"Ja",null,null,null,null,"",null,"",{"$f":"IFERROR(VLOOKUP(F14935,Biomasser!$A$3:$E$88,4,FALSE),0)","v":0},null,{"$f":"IFERROR(VLOOKUP(F14935,Biomasser!$A$3:$E$88,5,FALSE),0)","v":0},"",0,null,null,{"$f":"IFERROR(VLOOKUP(F14935,Biomasser!$A$3:$M$88,13,FALSE),)","v":0},null,null,null,null,null,{"$f":"IF(F14935<>\"\",'CO2 konvertering'!$C$14,)","v":0},null,null,null,null,0]
[null,null,null,"Ja",null,null,null,null,"",null,"",{"$f":"IFERROR(VLOOKUP(F14981,Biomasser!$A$3:$E$88,4,FALSE),0)","v":0},null,{"$f":"IFERROR(VLOOKUP(F14981,Biomasser!$A$3:$E$88,5,FALSE),0)","v":0},"",0,null,null,{"$f":"IFERROR(VLOOKUP(F14981,Biomasser!$A$3:$M$88,13,FALSE),)","v":0},null,null,null,null,null,{"$f":"IF(F14981<>\"\",'CO2 konvertering'!$C$14,)","v":0},null,null,null,null,0]
[null,null,null,"Ja",null,null,null,null,"",null,"",{"$f":"IFERROR(VLOOKUP(F15092,Biomasser!$A$3:$E$88,4,FALSE),0)","v":0},null,{"$f":"IFERROR(VLOOKUP(F15092,Biomasser!$A$3:$E$88,5,FALSE),0)","v":0},"",0,null,null,{"$f":"IFERROR(VLOOKUP(F15092,Biomasser!$A$3:$M$88,13,FALSE),)","v":0},null,null,null,null,null,{"$f":"IF(F15092<>\"\",'CO2 konvertering'!$C$14,)","v":0},null,null,null,null,0]
[null,null,null,"Ja",null,null,null,null,"",null,"",{"$f":"IFERROR(VLOOKUP(F15133,Biomasser!$A$3:$E$88,4,FALSE),0)","v":0},null,{"$f":"IFERROR(VLOOKUP(F15133,Biomasser!$A$3:$E$88,5,FALSE),0)","v":0},{"$f":"IF(AND(F15133<>\"\",(N15133=0)),\"Opdater biomasseark\",\"\")","v":""},0,null,null,{"$f":"IFERROR(VLOOKUP(F15133,Biomasser!$A$3:$M$88,13,FALSE),)","v":0},null,null,null,null,null,{"$f":"IF(F15133<>\"\",'CO2 konvertering'!$C$14,)","v":0},null,null,null,null,0]
[null,null,null,"Ja",null,null,null,null,"",null,"",{"$f":"IFERROR(VLOOKUP(F15205,Biomasser!$A$3:$E$88,4,FALSE),0)","v":0},null,{"$f":"IFERROR(VLOOKUP(F15205,Biomasser!$A$3:$E$88,5,FALSE),0)","v":0},"",0,null,null,{"$f":"IFERROR(VLOOKUP(F15205,Biomasser!$A$3:$M$88,13,FALSE),)","v":0},null,null,null,null,null,{"$f":"IF(F15205<>\"\",'CO2 konvertering'!$C$14,)","v":0},null,null,null,null,0]
[null,null,null,"Ja",null,null,null,null,"",null,"",{"$f":"IFERROR(VLOOKUP(F15285,Biomasser!$A$3:$E$88,4,FALSE),0)","v":0},null,{"$f":"IFERROR(VLOOKUP(F15285,Biomasser!$A$3:$E$88,5,FALSE),0)","v":0},"",0,null,null,{"$f":"IFERROR(VLOOKUP(F15285,Biomasser!$A$3:$M$88,13,FALSE),)","v":0},null,null,null,null,null,{"$f":"IF(F15285<>\"\",'CO2 konvertering'!$C$14,)","v":0},null,null,null,null,0]
[null,null,null,"Ja",null,null,null,null,"",null,"",{"$f":"IFERROR(VLOOKUP(F15362,Biomasser!$A$3:$E$88,4,FALSE),0)","v":0},null,{"$f":"IFERROR(VLOOKUP(F15362,Biomasser!$A$3:$E$88,5,FALSE),0)","v":0},"",0,null,null,{"$f":"IFERROR(VLOOKUP(F15362,Biomasser!$A$3:$M$88,13,FALSE),)","v":0},null,null,null,null,null,{"$f":"IF(F15362<>\"\",'CO2 konvertering'!$C$14,)","v":0},null,null,null,null,0]
[null,null,null,"Ja",null,null,null,null,"",null,"",{"$f":"IFERROR(VLOOKUP(F15466,Biomasser!$A$3:$E$88,4,FALSE),0)","v":0},null,{"$f":"IFERROR(VLOOKUP(F15466,Biomasser!$A$3:$E$88,5,FALSE),0)","v":0},"",0,null,null,{"$f":"IFERROR(VLOOKUP(F15466,Biomasser!$A$3:$M$88,13,FALSE),)","v":0},null,null,null,null,null,{"$f":"IF(F15466<>\"\",'CO2 konvertering'!$C$14,)","v":0},null,null,null,null,0]
[null,null,null,"Ja",null,null,null,null,"",null,"",{"$f":"IFERROR(VLOOKUP(F15519,Biomasser!$A$3:$E$88,4,FALSE),0)","v":0},null,{"$f":"IFERROR(VLOOKUP(F15519,Biomasser!$A$3:$E$88,5,FALSE),0)","v":0},"",0,null,null,{"$f":"IFERROR(VLOOKUP(F15519,Biomasser!$A$3:$M$88,13,FALSE),)","v":0},null,null,null,null,null,{"$f":"IF(F15519<>\"\",'CO2 konvertering'!$C$14,)","v":0},null,null,null,null,0]
[null,null,null,"Ja",null,null,null,null,"",null,"",{"$f":"IFERROR(VLOOKUP(F15618,Biomasser!$A$3:$E$88,4,FALSE),0)","v":0},null,{"$f":"IFERROR(VLOOKUP(F15618,Biomasser!$A$3:$E$88,5,FALSE),0)","v":0},{"$f":"IF(AND(F15618<>\"\",(N15618=0)),\"Opdater biomasseark\",\"\")","v":""},0,null,null,{"$f":"IFERROR(VLOOKUP(F15618,Biomasser!$A$3:$M$88,13,FALSE),)","v":0},null,null,null,null,null,{"$f":"IF(F15618<>\"\",'CO2 konvertering'!$C$14,)","v":0},null,null,null,null,0]
[null,null,null,"Ja",null,null,null,null,"",null,"",{"$f":"IFERROR(VLOOKUP(F15676,Biomasser!$A$3:$E$88,4,FALSE),0)","v":0},null,{"$f":"IFERROR(VLOOKUP(F15676,Biomasser!$A$3:$E$88,5,FALSE),0)","v":0},"",0,null,null,{"$f":"IFERROR(VLOOKUP(F15676,Biomasser!$A$3:$M$88,13,FALSE),)","v":0},null,null,null,null,null,{"$f":"IF(F15676<>\"\",'CO2 konvertering'!$C$14,)","v":0},null,null,null,null,0]
[null,null,null,"Ja",null,null,null,null,"",null,"",{"$f":"IFERROR(VLOOKUP(F15770,Biomasser!$A$3:$E$88,4,FALSE),0)","v":0},null,{"$f":"IFERROR(VLOOKUP(F15770,Biomasser!$A$3:$E$88,5,FALSE),0)","v":0},"",0,null,null,{"$f":"IFERROR(VLOOKUP(F15770,Biomasser!$A$3:$M$88,13,FALSE),)","v":0},null,null,null,null,null,{"$f":"IF(F15770<>\"\",'CO2 konvertering'!$C$14,)","v":0},null,null,null,null,0]
[{"$f":"B15862&C15862","v":"1. juni2015"},null,null,"Ja",null,null,null,null,{"$f":"IF(AND(F15865<>\"\",ISBLANK(H15865)),\"Indtast vægt\",\"\")","v":""},null,{"$f":"IF(AND(F15865<>\"\",ISBLANK(J15865)),\"Indtast tørstof %\",\"\")","v":""},{"$f":"IFERROR(VLOOKUP(F15865,Biomasser!$A$3:$E$88,4,FALSE),)","v":0},null,{"$f":"IFERROR(VLOOKUP(F15865,Biomasser!$A$3:$E$88,5,FALSE),0)","v":0},{"$f":"IF(AND(F15865<>\"\",(N15865=0)),\"Opdater biomasseark\",\"\")","v":""},{"$f":"J15865*L15865*N15865*H15865","v":0},null,null,{"$f":"IFERROR(VLOOKUP(F15865,Biomasser!$A$3:$M$88,13,FALSE),)","v":0},null,null,null,null,null,{"$f":"IF(F15865<>\"\",'CO2 konvertering'!$C$14,)","v":0},null,null,null,null,{"$f":"SUM(S15865:AC15865)","v":0}]
[null,null,null,"Ja",null,null,null,null,"",null,"",{"$f":"IFERROR(VLOOKUP(F15922,Biomasser!$A$3:$E$88,4,FALSE),0)","v":0},null,{"$f":"IFERROR(VLOOKUP(F15922,Biomasser!$A$3:$E$88,5,FALSE),0)","v":0},"",0,null,null,{"$f":"IFERROR(VLOOKUP(F15922,Biomasser!$A$3:$M$88,13,FALSE),)","v":0},null,null,null,null,null,{"$f":"IF(F15922<>\"\",'CO2 konvertering'!$C$14,)","v":0},null,null,null,null,0]
[null,null,null,"Ja",null,null,null,null,"",null,"",{"$f":"IFERROR(VLOOKUP(F16022,Biomasser!$A$3:$E$88,4,FALSE),0)","v":0},null,{"$f":"IFERROR(VLOOKUP(F16022,Biomasser!$A$3:$E$88,5,FALSE),0)","v":0},"",0,null,null,{"$f":"IFERROR(VLOOKUP(F16022,Biomasser!$A$3:$M$88,13,FALSE),)","v":0},null,null,null,null,null,{"$f":"IF(F16022<>\"\",'CO2 konvertering'!$C$14,)","v":0},null,null,null,null,0]
[null,null,null,"Ja",null,null,null,null,"",null,"",{"$f":"IFERROR(VLOOKUP(F16047,Biomasser!$A$3:$E$88,4,FALSE),0)","v":0},null,{"$f":"IFERROR(VLOOKUP(F16047,Biomasser!$A$3:$E$88,5,FALSE),0)","v":0},"",0,null,null,{"$f":"IFERROR(VLOOKUP(F16047,Biomasser!$A$3:$M$88,13,FALSE),)","v":0},null,null,null,null,null,{"$f":"IF(F16047<>\"\",'CO2 konvertering'!$C$14,)","v":0},null,null,null,null,0]
[null,null,null,"Ja",null,null,null,null,"",null,"",{"$f":"IFERROR(VLOOKUP(F16165,Biomasser!$A$3:$E$88,4,FALSE),0)","v":0},null,{"$f":"IFERROR(VLOOKUP(F16165,Biomasser!$A$3:$E$88,5,FALSE),0)","v":0},"",0,null,null,{"$f":"IFERROR(VLOOKUP(F16165,Biomasser!$A$3:$M$88,13,FALSE),)","v":0},null,null,null,null,null,{"$f":"IF(F16165<>\"\",'CO2 konvertering'!$C$14,)","v":0},null,null,null,null,0]
[null,null,null,"Ja",null,null,null,null,"",null,"",{"$f":"IFERROR(VLOOKUP(F16236,Biomasser!$A$3:$E$88,4,FALSE),0)","v":0},null,{"$f":"IFERROR(VLOOKUP(F16236,Biomasser!$A$3:$E$88,5,FALSE),0)","v":0},"",0,null,null,{"$f":"IFERROR(VLOOKUP(F16236,Biomasser!$A$3:$M$88,13,FALSE),)","v":0},null,null,null,null,null,{"$f":"IF(F16236<>\"\",'CO2 konvertering'!$C$14,)","v":0},null,null,null,null,0]
[null,null,null,"Ja",null,null,null,null,"",null,"",{"$f":"IFERROR(VLOOKUP(F16317,Biomasser!$A$3:$E$88,4,FALSE),0)","v":0},null,{"$f":"IFERROR(VLOOKUP(F16317,Biomasser!$A$3:$E$88,5,FALSE),0)","v":0},"",0,null,null,{"$f":"IFERROR(VLOOKUP(F16317,Biomasser!$A$3:$M$88,13,FALSE),)","v":0},null,null,null,null,null,{"$f":"IF(F16317<>\"\",'CO2 konvertering'!$C$14,)","v":0},null,null,null,null,{"$f":"SUM(S16317:AC16317)","v":0}]
[null,null,null,"Ja",null,null,null,null,"",null,"",{"$f":"IFERROR(VLOOKUP(F16393,Biomasser!$A$3:$E$88,4,FALSE),0)","v":0},null,{"$f":"IFERROR(VLOOKUP(F16393,Biomasser!$A$3:$E$88,5,FALSE),0)","v":0},{"$f":"IF(AND(F16393<>\"\",(N16393=0)),\"Opdater biomasseark\",\"\")","v":""},0,null,null,{"$f":"IFERROR(VLOOKUP(F16393,Biomasser!$A$3:$M$88,13,FALSE),)","v":0},null,null,null,null,null,{"$f":"IF(F16393<>\"\",'CO2 konvertering'!$C$14,)","v":0},null,null,null,null,0]
[null,null,null,"Ja",null,null,null,null,"",null,"",{"$f":"IFERROR(VLOOKUP(F16423,Biomasser!$A$3:$E$88,4,FALSE),0)","v":0},null,{"$f":"IFERROR(VLOOKUP(F16423,Biomasser!$A$3:$E$88,5,FALSE),0)","v":0},"",0,null,null,{"$f":"IFERROR(VLOOKUP(F16423,Biomasser!$A$3:$M$88,13,FALSE),)","v":0},null,null,null,null,null,{"$f":"IF(F16423<>\"\",'CO2 konvertering'!$C$14,)","v":0},null,null,null,null,0]
[null,null,null,"Ja",null,null,null,null,"",null,"",{"$f":"IFERROR(VLOOKUP(F16550,Biomasser!$A$3:$E$88,4,FALSE),0)","v":0},null,{"$f":"IFERROR(VLOOKUP(F16550,Biomasser!$A$3:$E$88,5,FALSE),0)","v":0},"",0,null,null,{"$f":"IFERROR(VLOOKUP(F16550,Biomasser!$A$3:$M$88,13,FALSE),)","v":0},null,null,null,null,null,{"$f":"IF(F16550<>\"\",'CO2 konvertering'!$C$14,)","v":0},null,null,null,null,0]
[null,null,null,"Ja",null,null,null,null,"",null,"",{"$f":"IFERROR(VLOOKUP(F16575,Biomasser!$A$3:$E$88,4,FALSE),0)","v":0},null,{"$f":"IFERROR(VLOOKUP(F16575,Biomasser!$A$3:$E$88,5,FALSE),0)","v":0},"",0,null,null,{"$f":"IFERROR(VLOOKUP(F16575,Biomasser!$A$3:$M$88,13,FALSE),)","v":0},null,null,null,null,null,{"$f":"IF(F16575<>\"\",'CO2 konvertering'!$C$14,)","v":0},null,null,null,null,0]
[null,null,null,"Ja",null,null,null,null,"",null,"",{"$f":"IFERROR(VLOOKUP(F16631,Biomasser!$A$3:$E$88,4,FALSE),0)","v":0},null,{"$f":"IFERROR(VLOOKUP(F16631,Biomasser!$A$3:$E$88,5,FALSE),0)","v":0},"",0,null,null,{"$f":"IFERROR(VLOOKUP(F16631,Biomasser!$A$3:$M$88,13,FALSE),)","v":0},null,null,null,null,null,{"$f":"IF(F16631<>\"\",'CO2 konvertering'!$C$14,)","v":0},null,null,null,null,0]
[null,null,null,"Ja",null,null,null,null,"",null,"",{"$f":"IFERROR(VLOOKUP(F16727,Biomasser!$A$3:$E$88,4,FALSE),0)","v":0},null,{"$f":"IFERROR(VLOOKUP(F16727,Biomasser!$A$3:$E$88,5,FALSE),0)","v":0},"",0,null,null,{"$f":"IFERROR(VLOOKUP(F16727,Biomasser!$A$3:$M$88,13,FALSE),)","v":0},null,null,null,null,null,{"$f":"IF(F16727<>\"\",'CO2 konvertering'!$C$14,)","v":0},null,null,null,null,0]
[null,null,null,"Ja",null,null,null,null,"",null,"",{"$f":"IFERROR(VLOOKUP(F16820,Biomasser!$A$3:$E$88,4,FALSE),0)","v":0},null,{"$f":"IFERROR(VLOOKUP(F16820,Biomasser!$A$3:$E$88,5,FALSE),0)","v":0},"",0,null,null,{"$f":"IFERROR(VLOOKUP(F16820,Biomasser!$A$3:$M$88,13,FALSE),)","v":0},null,null,null,null,null,{"$f":"IF(F16820<>\"\",'CO2 konvertering'!$C$14,)","v":0},null,null,null,null,0]
[null,null,null,"Ja",null,null,null,null,"",null,"",{"$f":"IFERROR(VLOOKUP(F16879,Biomasser!$A$3:$E$88,4,FALSE),0)","v":0},null,{"$f":"IFERROR(VLOOKUP(F16879,Biomasser!$A$3:$E$88,5,FALSE),0)","v":0},"",0,null,null,{"$f":"IFERROR(VLOOKUP(F16879,Biomasser!$A$3:$M$88,13,FALSE),)","v":0},null,null,null,null,null,{"$f":"IF(F16879<>\"\",'CO2 konvertering'!$C$14,)","v":0},null,null,null,null,0]
[null,null,null,"Ja",null,null,null,null,"",null,"",{"$f":"IFERROR(VLOOKUP(F16977,Biomasser!$A$3:$E$88,4,FALSE),0)","v":0},null,{"$f":"IFERROR(VLOOKUP(F16977,Biomasser!$A$3:$E$88,5,FALSE),0)","v":0},"",0,null,null,{"$f":"IFERROR(VLOOKUP(F16977,Biomasser!$A$3:$M$88,13,FALSE),)","v":0},null,null,null,null,null,{"$f":"IF(F16977<>\"\",'CO2 konvertering'!$C$14,)","v":0},null,null,null,null,0]
[null,null,null,"Ja",null,null,null,null,"",null,"",{"$f":"IFERROR(VLOOKUP(F17060,Biomasser!$A$3:$E$88,4,FALSE),0)","v":0},null,{"$f":"IFERROR(VLOOKUP(F17060,Biomasser!$A$3:$E$88,5,FALSE),0)","v":0},"",0,null,null,{"$f":"IFERROR(VLOOKUP(F17060,Biomasser!$A$3:$M$88,13,FALSE),)","v":0},null,null,null,null,null,{"$f":"IF(F17060<>\"\",'CO2 konvertering'!$C$14,)","v":0},null,null,null,null,0]
[null,null,null,"Ja",null,null,null,null,"",null,"",{"$f":"IFERROR(VLOOKUP(F17134,Biomasser!$A$3:$E$88,4,FALSE),0)","v":0},null,{"$f":"IFERROR(VLOOKUP(F17134,Biomasser!$A$3:$E$88,5,FALSE),0)","v":0},"",0,null,null,{"$f":"IFERROR(VLOOKUP(F17134,Biomasser!$A$3:$M$88,13,FALSE),)","v":0},null,null,null,null,null,{"$f":"IF(F17134<>\"\",'CO2 konvertering'!$C$14,)","v":0},null,null,null,null,0]
[null,null,null,"Ja",null,null,null,null,"",null,"",{"$f":"IFERROR(VLOOKUP(F17212,Biomasser!$A$3:$E$88,4,FALSE),0)","v":0},null,{"$f":"IFERROR(VLOOKUP(F17212,Biomasser!$A$3:$E$88,5,FALSE),0)","v":0},"",0,null,null,{"$f":"IFERROR(VLOOKUP(F17212,Biomasser!$A$3:$M$88,13,FALSE),)","v":0},null,null,null,null,null,{"$f":"IF(F17212<>\"\",'CO2 konvertering'!$C$14,)","v":0},null,null,null,null,0]
[null,null,null,"Ja",null,null,null,null,"",null,"",{"$f":"IFERROR(VLOOKUP(F17291,Biomasser!$A$3:$E$88,4,FALSE),0)","v":0},null,{"$f":"IFERROR(VLOOKUP(F17291,Biomasser!$A$3:$E$88,5,FALSE),0)","v":0},"",0,null,null,{"$f":"IFERROR(VLOOKUP(F17291,Biomasser!$A$3:$M$88,13,FALSE),)","v":0},null,null,null,null,null,{"$f":"IF(F17291<>\"\",'CO2 konvertering'!$C$14,)","v":0},null,null,null,null,0]
[null,null,null,"Ja",null,null,null,null,"",null,"",{"$f":"IFERROR(VLOOKUP(F17364,Biomasser!$A$3:$E$88,4,FALSE),0)","v":0},null,{"$f":"IFERROR(VLOOKUP(F17364,Biomasser!$A$3:$E$88,5,FALSE),0)","v":0},"",0,null,null,{"$f":"IFERROR(VLOOKUP(F17364,Biomasser!$A$3:$M$88,13,FALSE),)","v":0},null,null,null,null,null,{"$f":"IF(F17364<>\"\",'CO2 konvertering'!$C$14,)","v":0},null,null,null,null,0]
[null,null,null,"Ja",null,null,null,null,"",null,"",{"$f":"IFERROR(VLOOKUP(F17404,Biomasser!$A$3:$E$88,4,FALSE),0)","v":0},null,{"$f":"IFERROR(VLOOKUP(F17404,Biomasser!$A$3:$E$88,5,FALSE),0)","v":0},"",0,null,null,{"$f":"IFERROR(VLOOKUP(F17404,Biomasser!$A$3:$M$88,13,FALSE),)","v":0},null,null,null,null,null,{"$f":"IF(F17404<>\"\",'CO2 konvertering'!$C$14,)","v":0},null,null,null,null,0]
[null,null,null,"Ja",null,null,null,null,"",null,"",{"$f":"IFERROR(VLOOKUP(F17516,Biomasser!$A$3:$E$88,4,FALSE),0)","v":0},null,{"$f":"IFERROR(VLOOKUP(F17516,Biomasser!$A$3:$E$88,5,FALSE),0)","v":0},"",0,null,null,{"$f":"IFERROR(VLOOKUP(F17516,Biomasser!$A$3:$M$88,13,FALSE),)","v":0},null,null,null,null,null,{"$f":"IF(F17516<>\"\",'CO2 konvertering'!$C$14,)","v":0},null,null,null,null,0]
[null,null,null,"Ja",null,null,null,null,"",null,"",{"$f":"IFERROR(VLOOKUP(F17561,Biomasser!$A$3:$E$88,4,FALSE),0)","v":0},null,{"$f":"IFERROR(VLOOKUP(F17561,Biomasser!$A$3:$E$88,5,FALSE),0)","v":0},"",0,null,null,{"$f":"IFERROR(VLOOKUP(F17561,Biomasser!$A$3:$M$88,13,FALSE),)","v":0},null,null,null,null,null,{"$f":"IF(F17561<>\"\",'CO2 konvertering'!$C$14,)","v":0},null,null,null,null,0]
[null,null,null,"Ja",null,null,null,null,"",null,"",{"$f":"IFERROR(VLOOKUP(F17668,Biomasser!$A$3:$E$88,4,FALSE),0)","v":0},null,{"$f":"IFERROR(VLOOKUP(F17668,Biomasser!$A$3:$E$88,5,FALSE),0)","v":0},"",0,null,null,{"$f":"IFERROR(VLOOKUP(F17668,Biomasser!$A$3:$M$88,13,FALSE),)","v":0},null,null,null,null,null,{"$f":"IF(F17668<>\"\",'CO2 konvertering'!$C$14,)","v":0},null,null,null,null,0]
[null,null,null,"Ja",null,null,null,null,"",null,"",{"$f":"IFERROR(VLOOKUP(F17718,Biomasser!$A$3:$E$88,4,FALSE),0)","v":0},null,{"$f":"IFERROR(VLOOKUP(F17718,Biomasser!$A$3:$E$88,5,FALSE),0)","v":0},{"$f":"IF(AND(F17718<>\"\",(N17718=0)),\"Opdater biomasseark\",\"\")","v":""},0,null,null,{"$f":"IFERROR(VLOOKUP(F17718,Biomasser!$A$3:$M$88,13,FALSE),)","v":0},null,null,null,null,null,{"$f":"IF(F17718<>\"\",'CO2 konvertering'!$C$14,)","v":0},null,null,null,null,0]
[null,null,null,"Ja",null,null,null,null,"",null,"",{"$f":"IFERROR(VLOOKUP(F17774,Biomasser!$A$3:$E$88,4,FALSE),0)","v":0},null,{"$f":"IFERROR(VLOOKUP(F17774,Biomasser!$A$3:$E$88,5,FALSE),0)","v":0},"",0,null,null,{"$f":"IFERROR(VLOOKUP(F17774,Biomasser!$A$3:$M$88,13,FALSE),)","v":0},null,null,null,null,null,{"$f":"IF(F17774<>\"\",'CO2 konvertering'!$C$14,)","v":0},null,null,null,null,0]
[null,null,null,"Ja",null,null,null,null,"",null,"",{"$f":"IFERROR(VLOOKUP(F17875,Biomasser!$A$3:$E$88,4,FALSE),0)","v":0},null,{"$f":"IFERROR(VLOOKUP(F17875,Biomasser!$A$3:$E$88,5,FALSE),0)","v":0},"",0,null,null,{"$f":"IFERROR(VLOOKUP(F17875,Biomasser!$A$3:$M$88,13,FALSE),)","v":0},null,null,null,null,null,{"$f":"IF(F17875<>\"\",'CO2 konvertering'!$C$14,)","v":0},null,null,null,null,0]
[null,null,null,"Ja",null,null,null,null,"",null,"",{"$f":"IFERROR(VLOOKUP(F17926,Biomasser!$A$3:$E$88,4,FALSE),0)","v":0},null,{"$f":"IFERROR(VLOOKUP(F17926,Biomasser!$A$3:$E$88,5,FALSE),0)","v":0},"",0,null,null,{"$f":"IFERROR(VLOOKUP(F17926,Biomasser!$A$3:$M$88,13,FALSE),)","v":0},null,null,null,null,null,{"$f":"IF(F17926<>\"\",'CO2 konvertering'!$C$14,)","v":0},null,null,null,null,0]
[null,null,null,"Ja",null,null,null,null,"",null,"",{"$f":"IFERROR(VLOOKUP(F18064,Biomasser!$A$3:$E$88,4,FALSE),0)","v":0},null,{"$f":"IFERROR(VLOOKUP(F18064,Biomasser!$A$3:$E$88,5,FALSE),0)","v":0},"",0,null,null,{"$f":"IFERROR(VLOOKUP(F18064,Biomasser!$A$3:$M$88,13,FALSE),)","v":0},null,null,null,null,null,{"$f":"IF(F18064<>\"\",'CO2 konvertering'!$C$14,)","v":0},null,null,null,null,0]
[null,null,null,"Ja",null,null,null,null,"",null,"",{"$f":"IFERROR(VLOOKUP(F18078,Biomasser!$A$3:$E$88,4,FALSE),0)","v":0},null,{"$f":"IFERROR(VLOOKUP(F18078,Biomasser!$A$3:$E$88,5,FALSE),0)","v":0},"",0,null,null,{"$f":"IFERROR(VLOOKUP(F18078,Biomasser!$A$3:$M$88,13,FALSE),)","v":0},null,null,null,null,null,{"$f":"IF(F18078<>\"\",'CO2 konvertering'!$C$14,)","v":0},null,null,null,null,0]
[null,null,null,"Ja",null,null,null,null,"",null,"",{"$f":"IFERROR(VLOOKUP(F18145,Biomasser!$A$3:$E$88,4,FALSE),0)","v":0},null,{"$f":"IFERROR(VLOOKUP(F18145,Biomasser!$A$3:$E$88,5,FALSE),0)","v":0},"",0,null,null,{"$f":"IFERROR(VLOOKUP(F18145,Biomasser!$A$3:$M$88,13,FALSE),)","v":0},null,null,null,null,null,{"$f":"IF(F18145<>\"\",'CO2 konvertering'!$C$14,)","v":0},null,null,null,null,0]
[null,null,null,"Ja",null,null,null,null,"",null,"",{"$f":"IFERROR(VLOOKUP(F18230,Biomasser!$A$3:$E$88,4,FALSE),0)","v":0},null,{"$f":"IFERROR(VLOOKUP(F18230,Biomasser!$A$3:$E$88,5,FALSE),0)","v":0},"",0,null,null,{"$f":"IFERROR(VLOOKUP(F18230,Biomasser!$A$3:$M$88,13,FALSE),)","v":0},null,null,null,null,null,{"$f":"IF(F18230<>\"\",'CO2 konvertering'!$C$14,)","v":0},null,null,null,null,0]
[null,null,null,"Ja",null,null,null,null,"",null,"",{"$f":"IFERROR(VLOOKUP(F18302,Biomasser!$A$3:$E$88,4,FALSE),0)","v":0},null,{"$f":"IFERROR(VLOOKUP(F18302,Biomasser!$A$3:$E$88,5,FALSE),0)","v":0},"",0,null,null,{"$f":"IFERROR(VLOOKUP(F18302,Biomasser!$A$3:$M$88,13,FALSE),)","v":0},null,null,null,null,null,{"$f":"IF(F18302<>\"\",'CO2 konvertering'!$C$14,)","v":0},null,null,null,null,0]
[null,null,null,"Ja",null,null,null,null,"",null,"",{"$f":"IFERROR(VLOOKUP(F18411,Biomasser!$A$3:$E$88,4,FALSE),0)","v":0},null,{"$f":"IFERROR(VLOOKUP(F18411,Biomasser!$A$3:$E$88,5,FALSE),0)","v":0},"",0,null,null,{"$f":"IFERROR(VLOOKUP(F18411,Biomasser!$A$3:$M$88,13,FALSE),)","v":0},null,null,null,null,null,{"$f":"IF(F18411<>\"\",'CO2 konvertering'!$C$14,)","v":0},null,null,null,null,0]
[null,null,null,"Ja",null,null,null,null,"",null,"",{"$f":"IFERROR(VLOOKUP(F18459,Biomasser!$A$3:$E$88,4,FALSE),0)","v":0},null,{"$f":"IFERROR(VLOOKUP(F18459,Biomasser!$A$3:$E$88,5,FALSE),0)","v":0},"",0,null,null,{"$f":"IFERROR(VLOOKUP(F18459,Biomasser!$A$3:$M$88,13,FALSE),)","v":0},null,null,null,null,null,{"$f":"IF(F18459<>\"\",'CO2 konvertering'!$C$14,)","v":0},null,null,null,null,0]
[null,null,null,"Ja",null,null,null,null,"",null,"",{"$f":"IFERROR(VLOOKUP(F18563,Biomasser!$A$3:$E$88,4,FALSE),0)","v":0},null,{"$f":"IFERROR(VLOOKUP(F18563,Biomasser!$A$3:$E$88,5,FALSE),0)","v":0},"",0,null,null,{"$f":"IFERROR(VLOOKUP(F18563,Biomasser!$A$3:$M$88,13,FALSE),)","v":0},null,null,null,null,null,{"$f":"IF(F18563<>\"\",'CO2 konvertering'!$C$14,)","v":0},null,null,null,null,0]
[null,null,null,"Ja",null,null,null,null,"",null,"",{"$f":"IFERROR(VLOOKUP(F18648,Biomasser!$A$3:$E$88,4,FALSE),0)","v":0},null,{"$f":"IFERROR(VLOOKUP(F18648,Biomasser!$A$3:$E$88,5,FALSE),0)","v":0},"",0,null,null,{"$f":"IFERROR(VLOOKUP(F18648,Biomasser!$A$3:$M$88,13,FALSE),)","v":0},null,null,null,null,null,{"$f":"IF(F18648<>\"\",'CO2 konvertering'!$C$14,)","v":0},null,null,null,null,0]
[null,null,null,"Ja",null,null,null,null,"",null,"",{"$f":"IFERROR(VLOOKUP(F18715,Biomasser!$A$3:$E$88,4,FALSE),0)","v":0},null,{"$f":"IFERROR(VLOOKUP(F18715,Biomasser!$A$3:$E$88,5,FALSE),0)","v":0},"",0,null,null,{"$f":"IFERROR(VLOOKUP(F18715,Biomasser!$A$3:$M$88,13,FALSE),)","v":0},null,null,null,null,null,{"$f":"IF(F18715<>\"\",'CO2 konvertering'!$C$14,)","v":0},null,null,null,null,0]
[{"$f":"B18802&C18802","v":"29. juni2015"},null,null,"Ja",null,null,null,null,{"$f":"IF(AND(F18805<>\"\",ISBLANK(H18805)),\"Indtast vægt\",\"\")","v":""},null,{"$f":"IF(AND(F18805<>\"\",ISBLANK(J18805)),\"Indtast tørstof %\",\"\")","v":""},{"$f":"IFERROR(VLOOKUP(F18805,Biomasser!$A$3:$E$88,4,FALSE),)","v":0},null,{"$f":"IFERROR(VLOOKUP(F18805,Biomasser!$A$3:$E$88,5,FALSE),0)","v":0},{"$f":"IF(AND(F18805<>\"\",(N18805=0)),\"Opdater biomasseark\",\"\")","v":""},{"$f":"J18805*L18805*N18805*H18805","v":0},null,null,{"$f":"IFERROR(VLOOKUP(F18805,Biomasser!$A$3:$M$88,13,FALSE),)","v":0},null,null,null,null,null,{"$f":"IF(F18805<>\"\",'CO2 konvertering'!$C$14,)","v":0},null,null,null,null,{"$f":"SUM(S18805:AC18805)","v":0}]
[null,null,null,"Ja",null,null,null,null,"",null,"",{"$f":"IFERROR(VLOOKUP(F18867,Biomasser!$A$3:$E$88,4,FALSE),0)","v":0},null,{"$f":"IFERROR(VLOOKUP(F18867,Biomasser!$A$3:$E$88,5,FALSE),0)","v":0},"",0,null,null,{"$f":"IFERROR(VLOOKUP(F18867,Biomasser!$A$3:$M$88,13,FALSE),)","v":0},null,null,null,null,null,{"$f":"IF(F18867<>\"\",'CO2 konvertering'!$C$14,)","v":0},null,null,null,null,0]
[null,null,null,"Ja",null,null,null,null,"",null,"",{"$f":"IFERROR(VLOOKUP(F18962,Biomasser!$A$3:$E$88,4,FALSE),0)","v":0},null,{"$f":"IFERROR(VLOOKUP(F18962,Biomasser!$A$3:$E$88,5,FALSE),0)","v":0},"",0,null,null,{"$f":"IFERROR(VLOOKUP(F18962,Biomasser!$A$3:$M$88,13,FALSE),)","v":0},null,null,null,null,null,{"$f":"IF(F18962<>\"\",'CO2 konvertering'!$C$14,)","v":0},null,null,null,null,0]
[null,null,null,"Ja",null,null,null,null,"",null,"",{"$f":"IFERROR(VLOOKUP(F18973,Biomasser!$A$3:$E$88,4,FALSE),0)","v":0},null,{"$f":"IFERROR(VLOOKUP(F18973,Biomasser!$A$3:$E$88,5,FALSE),0)","v":0},"",0,null,null,{"$f":"IFERROR(VLOOKUP(F18973,Biomasser!$A$3:$M$88,13,FALSE),)","v":0},null,null,null,null,null,{"$f":"IF(F18973<>\"\",'CO2 konvertering'!$C$14,)","v":0},null,null,null,null,0]
[]
[null,null,null,"Ja",null,null,null,null,"",null,"",{"$f":"IFERROR(VLOOKUP(F19125,Biomasser!$A$3:$E$88,4,FALSE),0)","v":0},null,{"$f":"IFERROR(VLOOKUP(F19125,Biomasser!$A$3:$E$88,5,FALSE),0)","v":0},"",0,null,null,{"$f":"IFERROR(VLOOKUP(F19125,Biomasser!$A$3:$M$88,13,FALSE),)","v":0},null,null,null,null,null,{"$f":"IF(F19125<>\"\",'CO2 konvertering'!$C$14,)","v":0},null,null,null,null,0]
[null,null,null,"Ja",null,null,null,null,"",null,"",{"$f":"IFERROR(VLOOKUP(F19200,Biomasser!$A$3:$E$88,4,FALSE),0)","v":0},null,{"$f":"IFERROR(VLOOKUP(F19200,Biomasser!$A$3:$E$88,5,FALSE),0)","v":0},"",0,null,null,{"$f":"IFERROR(VLOOKUP(F19200,Biomasser!$A$3:$M$88,13,FALSE),)","v":0},null,null,null,null,null,{"$f":"IF(F19200<>\"\",'CO2 konvertering'!$C$14,)","v":0},null,null,null,null,0]
[null,null,null,"Ja",null,null,null,null,"",null,"",{"$f":"IFERROR(VLOOKUP(F19277,Biomasser!$A$3:$E$88,4,FALSE),0)","v":0},null,{"$f":"IFERROR(VLOOKUP(F19277,Biomasser!$A$3:$E$88,5,FALSE),0)","v":0},"",0,null,null,{"$f":"IFERROR(VLOOKUP(F19277,Biomasser!$A$3:$M$88,13,FALSE),)","v":0},null,null,null,null,null,{"$f":"IF(F19277<>\"\",'CO2 konvertering'!$C$14,)","v":0},null,null,null,null,0]
[null,null,null,"Ja",null,null,null,null,"",null,"",{"$f":"IFERROR(VLOOKUP(F19389,Biomasser!$A$3:$E$88,4,FALSE),0)","v":0},null,{"$f":"IFERROR(VLOOKUP(F19389,Biomasser!$A$3:$E$88,5,FALSE),0)","v":0},"",0,null,null,{"$f":"IFERROR(VLOOKUP(F19389,Biomasser!$A$3:$M$88,13,FALSE),)","v":0},null,null,null,null,null,{"$f":"IF(F19389<>\"\",'CO2 konvertering'!$C$14,)","v":0},null,null,null,null,0]
[null,null,null,"Ja",null,null,null,null,"",null,"",{"$f":"IFERROR(VLOOKUP(F19429,Biomasser!$A$3:$E$88,4,FALSE),0)","v":0},null,{"$f":"IFERROR(VLOOKUP(F19429,Biomasser!$A$3:$E$88,5,FALSE),0)","v":0},"",0,null,null,{"$f":"IFERROR(VLOOKUP(F19429,Biomasser!$A$3:$M$88,13,FALSE),)","v":0},null,null,null,null,null,{"$f":"IF(F19429<>\"\",'CO2 konvertering'!$C$14,)","v":0},null,null,null,null,0]
[null,null,null,"Ja",null,null,null,null,"",null,"",{"$f":"IFERROR(VLOOKUP(F19546,Biomasser!$A$3:$E$88,4,FALSE),0)","v":0},null,{"$f":"IFERROR(VLOOKUP(F19546,Biomasser!$A$3:$E$88,5,FALSE),0)","v":0},"",0,null,null,{"$f":"IFERROR(VLOOKUP(F19546,Biomasser!$A$3:$M$88,13,FALSE),)","v":0},null,null,null,null,null,{"$f":"IF(F19546<>\"\",'CO2 konvertering'!$C$14,)","v":0},null,null,null,null,0]
[null,null,null,"Ja",null,null,null,null,"",null,"",{"$f":"IFERROR(VLOOKUP(F19610,Biomasser!$A$3:$E$88,4,FALSE),0)","v":0},null,{"$f":"IFERROR(VLOOKUP(F19610,Biomasser!$A$3:$E$88,5,FALSE),0)","v":0},"",0,null,null,{"$f":"IFERROR(VLOOKUP(F19610,Biomasser!$A$3:$M$88,13,FALSE),)","v":0},null,null,null,null,null,{"$f":"IF(F19610<>\"\",'CO2 konvertering'!$C$14,)","v":0},null,null,null,null,0]
[null,null,null,"Ja",null,null,null,null,"",null,"",{"$f":"IFERROR(VLOOKUP(F19703,Biomasser!$A$3:$E$88,4,FALSE),0)","v":0},null,{"$f":"IFERROR(VLOOKUP(F19703,Biomasser!$A$3:$E$88,5,FALSE),0)","v":0},"",0,null,null,{"$f":"IFERROR(VLOOKUP(F19703,Biomasser!$A$3:$M$88,13,FALSE),)","v":0},null,null,null,null,null,{"$f":"IF(F19703<>\"\",'CO2 konvertering'!$C$14,)","v":0},null,null,null,null,0]
[null,null,null,"Ja",null,null,null,null,"",null,"",{"$f":"IFERROR(VLOOKUP(F19762,Biomasser!$A$3:$E$88,4,FALSE),0)","v":0},null,{"$f":"IFERROR(VLOOKUP(F19762,Biomasser!$A$3:$E$88,5,FALSE),0)","v":0},"",0,null,null,{"$f":"IFERROR(VLOOKUP(F19762,Biomasser!$A$3:$M$88,13,FALSE),)","v":0},null,null,null,null,null,{"$f":"IF(F19762<>\"\",'CO2 konvertering'!$C$14,)","v":0},null,null,null,null,0]
[null,null,null,"Ja",null,null,null,null,"",null,"",{"$f":"IFERROR(VLOOKUP(F19860,Biomasser!$A$3:$E$88,4,FALSE),0)","v":0},null,{"$f":"IFERROR(VLOOKUP(F19860,Biomasser!$A$3:$E$88,5,FALSE),0)","v":0},"",0,null,null,{"$f":"IFERROR(VLOOKUP(F19860,Biomasser!$A$3:$M$88,13,FALSE),)","v":0},null,null,null,null,null,{"$f":"IF(F19860<>\"\",'CO2 konvertering'!$C$14,)","v":0},null,null,null,null,0]
[null,null,null,"Ja",null,null,null,null,"",null,"",{"$f":"IFERROR(VLOOKUP(F19917,Biomasser!$A$3:$E$88,4,FALSE),0)","v":0},null,{"$f":"IFERROR(VLOOKUP(F19917,Biomasser!$A$3:$E$88,5,FALSE),0)","v":0},"",0,null,null,{"$f":"IFERROR(VLOOKUP(F19917,Biomasser!$A$3:$M$88,13,FALSE),)","v":0},null,null,null,null,null,{"$f":"IF(F19917<>\"\",'CO2 konvertering'!$C$14,)","v":0},null,null,null,null,0]
[null,null,null,"Ja",null,null,null,null,"",null,"",{"$f":"IFERROR(VLOOKUP(F20005,Biomasser!$A$3:$E$88,4,FALSE),0)","v":0},null,{"$f":"IFERROR(VLOOKUP(F20005,Biomasser!$A$3:$E$88,5,FALSE),0)","v":0},"",0,null,null,{"$f":"IFERROR(VLOOKUP(F20005,Biomasser!$A$3:$M$88,13,FALSE),)","v":0},null,null,null,null,null,{"$f":"IF(F20005<>\"\",'CO2 konvertering'!$C$14,)","v":0},null,null,null,null,0]
[null,null,null,"Ja",null,null,null,null,"",null,"",{"$f":"IFERROR(VLOOKUP(F20074,Biomasser!$A$3:$E$88,4,FALSE),0)","v":0},null,{"$f":"IFERROR(VLOOKUP(F20074,Biomasser!$A$3:$E$88,5,FALSE),0)","v":0},"",0,null,null,{"$f":"IFERROR(VLOOKUP(F20074,Biomasser!$A$3:$M$88,13,FALSE),)","v":0},null,null,null,null,null,{"$f":"IF(F20074<>\"\",'CO2 konvertering'!$C$14,)","v":0},null,null,null,null,0]
[null,null,null,"Ja",null,null,null,null,"",null,"",{"$f":"IFERROR(VLOOKUP(F20157,Biomasser!$A$3:$E$88,4,FALSE),0)","v":0},null,{"$f":"IFERROR(VLOOKUP(F20157,Biomasser!$A$3:$E$88,5,FALSE),0)","v":0},"",0,null,null,{"$f":"IFERROR(VLOOKUP(F20157,Biomasser!$A$3:$M$88,13,FALSE),)","v":0},null,null,null,null,null,{"$f":"IF(F20157<>\"\",'CO2 konvertering'!$C$14,)","v":0},null,null,null,null,0]
[null,null,null,"Ja",null,null,null,null,"",null,"",{"$f":"IFERROR(VLOOKUP(F20231,Biomasser!$A$3:$E$88,4,FALSE),0)","v":0},null,{"$f":"IFERROR(VLOOKUP(F20231,Biomasser!$A$3:$E$88,5,FALSE),0)","v":0},"",0,null,null,{"$f":"IFERROR(VLOOKUP(F20231,Biomasser!$A$3:$M$88,13,FALSE),)","v":0},null,null,null,null,null,{"$f":"IF(F20231<>\"\",'CO2 konvertering'!$C$14,)","v":0},null,null,null,null,0]
[null,null,null,"Ja",null,null,null,null,"",null,"",{"$f":"IFERROR(VLOOKUP(F20309,Biomasser!$A$3:$E$88,4,FALSE),0)","v":0},null,{"$f":"IFERROR(VLOOKUP(F20309,Biomasser!$A$3:$E$88,5,FALSE),0)","v":0},"",0,null,null,{"$f":"IFERROR(VLOOKUP(F20309,Biomasser!$A$3:$M$88,13,FALSE),)","v":0},null,null,null,null,null,{"$f":"IF(F20309<>\"\",'CO2 konvertering'!$C$14,)","v":0},null,null,null,null,0]
[null,null,null,"Ja",null,null,null,null,"",null,"",{"$f":"IFERROR(VLOOKUP(F20344,Biomasser!$A$3:$E$88,4,FALSE),0)","v":0},null,{"$f":"IFERROR(VLOOKUP(F20344,Biomasser!$A$3:$E$88,5,FALSE),0)","v":0},"",0,null,null,{"$f":"IFERROR(VLOOKUP(F20344,Biomasser!$A$3:$M$88,13,FALSE),)","v":0},null,null,null,null,null,{"$f":"IF(F20344<>\"\",'CO2 konvertering'!$C$14,)","v":0},null,null,null,null,0]
[null,null,null,"Ja",null,null,null,null,"",null,"",{"$f":"IFERROR(VLOOKUP(F20461,Biomasser!$A$3:$E$88,4,FALSE),0)","v":0},null,{"$f":"IFERROR(VLOOKUP(F20461,Biomasser!$A$3:$E$88,5,FALSE),0)","v":0},"",0,null,null,{"$f":"IFERROR(VLOOKUP(F20461,Biomasser!$A$3:$M$88,13,FALSE),)","v":0},null,null,null,null,null,{"$f":"IF(F20461<>\"\",'CO2 konvertering'!$C$14,)","v":0},null,null,null,null,0]
[null,null,null,"Ja",null,null,null,null,"",null,"",{"$f":"IFERROR(VLOOKUP(F20501,Biomasser!$A$3:$E$88,4,FALSE),0)","v":0},null,{"$f":"IFERROR(VLOOKUP(F20501,Biomasser!$A$3:$E$88,5,FALSE),0)","v":0},"",0,null,null,{"$f":"IFERROR(VLOOKUP(F20501,Biomasser!$A$3:$M$88,13,FALSE),)","v":0},null,null,null,null,null,{"$f":"IF(F20501<>\"\",'CO2 konvertering'!$C$14,)","v":0},null,null,null,null,0]
[null,null,null,"Ja",null,null,null,null,"",null,"",{"$f":"IFERROR(VLOOKUP(F20567,Biomasser!$A$3:$E$88,4,FALSE),0)","v":0},null,{"$f":"IFERROR(VLOOKUP(F20567,Biomasser!$A$3:$E$88,5,FALSE),0)","v":0},"",0,null,null,{"$f":"IFERROR(VLOOKUP(F20567,Biomasser!$A$3:$M$88,13,FALSE),)","v":0},null,null,null,null,null,{"$f":"IF(F20567<>\"\",'CO2 konvertering'!$C$14,)","v":0},null,null,null,null,0]
[null,null,null,"Ja",null,null,null,null,"",null,"",{"$f":"IFERROR(VLOOKUP(F20658,Biomasser!$A$3:$E$88,4,FALSE),0)","v":0},null,{"$f":"IFERROR(VLOOKUP(F20658,Biomasser!$A$3:$E$88,5,FALSE),0)","v":0},{"$f":"IF(AND(F20658<>\"\",(N20658=0)),\"Opdater biomasseark\",\"\")","v":""},0,null,null,{"$f":"IFERROR(VLOOKUP(F20658,Biomasser!$A$3:$M$88,13,FALSE),)","v":0},null,null,null,null,null,{"$f":"IF(F20658<>\"\",'CO2 konvertering'!$C$14,)","v":0},null,null,null,null,0]
[null,null,null,"Ja",null,null,null,null,"",null,"",{"$f":"IFERROR(VLOOKUP(F20719,Biomasser!$A$3:$E$88,4,FALSE),0)","v":0},null,{"$f":"IFERROR(VLOOKUP(F20719,Biomasser!$A$3:$E$88,5,FALSE),0)","v":0},"",0,null,null,{"$f":"IFERROR(VLOOKUP(F20719,Biomasser!$A$3:$M$88,13,FALSE),)","v":0},null,null,null,null,null,{"$f":"IF(F20719<>\"\",'CO2 konvertering'!$C$14,)","v":0},null,null,null,null,0]
[null,null,null,"Ja",null,null,null,null,"",null,"",{"$f":"IFERROR(VLOOKUP(F20815,Biomasser!$A$3:$E$88,4,FALSE),0)","v":0},null,{"$f":"IFERROR(VLOOKUP(F20815,Biomasser!$A$3:$E$88,5,FALSE),0)","v":0},"",0,null,null,{"$f":"IFERROR(VLOOKUP(F20815,Biomasser!$A$3:$M$88,13,FALSE),)","v":0},null,null,null,null,null,{"$f":"IF(F20815<>\"\",'CO2 konvertering'!$C$14,)","v":0},null,null,null,null,0]
[null,null,null,"Ja",null,null,null,null,"",null,"",{"$f":"IFERROR(VLOOKUP(F20871,Biomasser!$A$3:$E$88,4,FALSE),0)","v":0},null,{"$f":"IFERROR(VLOOKUP(F20871,Biomasser!$A$3:$E$88,5,FALSE),0)","v":0},"",0,null,null,{"$f":"IFERROR(VLOOKUP(F20871,Biomasser!$A$3:$M$88,13,FALSE),)","v":0},null,null,null,null,null,{"$f":"IF(F20871<>\"\",'CO2 konvertering'!$C$14,)","v":0},null,null,null,null,0]
[null,null,null,"Ja",null,null,null,null,"",null,"",{"$f":"IFERROR(VLOOKUP(F21004,Biomasser!$A$3:$E$88,4,FALSE),0)","v":0},null,{"$f":"IFERROR(VLOOKUP(F21004,Biomasser!$A$3:$E$88,5,FALSE),0)","v":0},"",0,null,null,{"$f":"IFERROR(VLOOKUP(F21004,Biomasser!$A$3:$M$88,13,FALSE),)","v":0},null,null,null,null,null,{"$f":"IF(F21004<>\"\",'CO2 konvertering'!$C$14,)","v":0},null,null,null,null,0]
[null,null,null,"Ja",null,null,null,null,"",null,"",{"$f":"IFERROR(VLOOKUP(F21023,Biomasser!$A$3:$E$88,4,FALSE),0)","v":0},null,{"$f":"IFERROR(VLOOKUP(F21023,Biomasser!$A$3:$E$88,5,FALSE),0)","v":0},"",0,null,null,{"$f":"IFERROR(VLOOKUP(F21023,Biomasser!$A$3:$M$88,13,FALSE),)","v":0},null,null,null,null,null,{"$f":"IF(F21023<>\"\",'CO2 konvertering'!$C$14,)","v":0},null,null,null,null,0]
[null,null,null,"Ja",null,null,null,null,"",null,"",{"$f":"IFERROR(VLOOKUP(F21161,Biomasser!$A$3:$E$88,4,FALSE),0)","v":0},null,{"$f":"IFERROR(VLOOKUP(F21161,Biomasser!$A$3:$E$88,5,FALSE),0)","v":0},"",0,null,null,{"$f":"IFERROR(VLOOKUP(F21161,Biomasser!$A$3:$M$88,13,FALSE),)","v":0},null,null,null,null,null,{"$f":"IF(F21161<>\"\",'CO2 konvertering'!$C$14,)","v":0},null,null,null,null,0]
[null,null,null,"Ja",null,null,null,null,"",null,"",{"$f":"IFERROR(VLOOKUP(F21204,Biomasser!$A$3:$E$88,4,FALSE),0)","v":0},null,{"$f":"IFERROR(VLOOKUP(F21204,Biomasser!$A$3:$E$88,5,FALSE),0)","v":0},"",0,null,null,{"$f":"IFERROR(VLOOKUP(F21204,Biomasser!$A$3:$M$88,13,FALSE),)","v":0},null,null,null,null,null,{"$f":"IF(F21204<>\"\",'CO2 konvertering'!$C$14,)","v":0},null,null,null,null,0]
[null,null,null,"Ja",null,null,null,null,"",null,"",{"$f":"IFERROR(VLOOKUP(F21242,Biomasser!$A$3:$E$88,4,FALSE),0)","v":0},null,{"$f":"IFERROR(VLOOKUP(F21242,Biomasser!$A$3:$E$88,5,FALSE),0)","v":0},"",0,null,null,{"$f":"IFERROR(VLOOKUP(F21242,Biomasser!$A$3:$M$88,13,FALSE),)","v":0},null,null,null,null,null,{"$f":"IF(F21242<>\"\",'CO2 konvertering'!$C$14,)","v":0},null,null,null,null,0]
[null,null,null,"Ja",null,null,null,null,"",null,"",{"$f":"IFERROR(VLOOKUP(F21356,Biomasser!$A$3:$E$88,4,FALSE),0)","v":0},null,{"$f":"IFERROR(VLOOKUP(F21356,Biomasser!$A$3:$E$88,5,FALSE),0)","v":0},"",0,null,null,{"$f":"IFERROR(VLOOKUP(F21356,Biomasser!$A$3:$M$88,13,FALSE),)","v":0},null,null,null,null,null,{"$f":"IF(F21356<>\"\",'CO2 konvertering'!$C$14,)","v":0},null,null,null,null,0]
[null,null,null,"Ja",null,null,null,null,"",null,"",{"$f":"IFERROR(VLOOKUP(F21399,Biomasser!$A$3:$E$88,4,FALSE),0)","v":0},null,{"$f":"IFERROR(VLOOKUP(F21399,Biomasser!$A$3:$E$88,5,FALSE),0)","v":0},"",0,null,null,{"$f":"IFERROR(VLOOKUP(F21399,Biomasser!$A$3:$M$88,13,FALSE),)","v":0},null,null,null,null,null,{"$f":"IF(F21399<>\"\",'CO2 konvertering'!$C$14,)","v":0},null,null,null,null,0]
[null,null,null,"Ja",null,null,null,null,"",null,"",{"$f":"IFERROR(VLOOKUP(F21508,Biomasser!$A$3:$E$88,4,FALSE),0)","v":0},null,{"$f":"IFERROR(VLOOKUP(F21508,Biomasser!$A$3:$E$88,5,FALSE),0)","v":0},"",0,null,null,{"$f":"IFERROR(VLOOKUP(F21508,Biomasser!$A$3:$M$88,13,FALSE),)","v":0},null,null,null,null,null,{"$f":"IF(F21508<>\"\",'CO2 konvertering'!$C$14,)","v":0},null,null,null,null,0]
[null,null,null,"Ja",null,null,null,null,"",null,"",{"$f":"IFERROR(VLOOKUP(F21588,Biomasser!$A$3:$E$88,4,FALSE),0)","v":0},null,{"$f":"IFERROR(VLOOKUP(F21588,Biomasser!$A$3:$E$88,5,FALSE),0)","v":0},"",0,null,null,{"$f":"IFERROR(VLOOKUP(F21588,Biomasser!$A$3:$M$88,13,FALSE),)","v":0},null,null,null,null,null,{"$f":"IF(F21588<>\"\",'CO2 konvertering'!$C$14,)","v":0},null,null,null,null,0]
[null,null,null,"Ja",null,null,null,null,"",null,"",{"$f":"IFERROR(VLOOKUP(F21660,Biomasser!$A$3:$E$88,4,FALSE),0)","v":0},null,{"$f":"IFERROR(VLOOKUP(F21660,Biomasser!$A$3:$E$88,5,FALSE),0)","v":0},"",0,null,null,{"$f":"IFERROR(VLOOKUP(F21660,Biomasser!$A$3:$M$88,13,FALSE),)","v":0},null,null,null,null,null,{"$f":"IF(F21660<>\"\",'CO2 konvertering'!$C$14,)","v":0},null,null,null,null,0]
[{"$f":"B21742&C21742","v":"27. juli2015"},null,null,"Ja",null,null,null,null,{"$f":"IF(AND(F21745<>\"\",ISBLANK(H21745)),\"Indtast vægt\",\"\")","v":""},null,{"$f":"IF(AND(F21745<>\"\",ISBLANK(J21745)),\"Indtast tørstof %\",\"\")","v":""},{"$f":"IFERROR(VLOOKUP(F21745,Biomasser!$A$3:$E$88,4,FALSE),)","v":0},null,{"$f":"IFERROR(VLOOKUP(F21745,Biomasser!$A$3:$E$88,5,FALSE),0)","v":0},{"$f":"IF(AND(F21745<>\"\",(N21745=0)),\"Opdater biomasseark\",\"\")","v":""},{"$f":"J21745*L21745*N21745*H21745","v":0},null,null,{"$f":"IFERROR(VLOOKUP(F21745,Biomasser!$A$3:$M$88,13,FALSE),)","v":0},null,null,null,null,null,{"$f":"IF(F21745<>\"\",'CO2 konvertering'!$C$14,)","v":0},null,null,null,null,{"$f":"SUM(S21745:AC21745)","v":0}]
[null,null,null,"Ja",null,null,null,null,"",null,"",{"$f":"IFERROR(VLOOKUP(F21812,Biomasser!$A$3:$E$88,4,FALSE),0)","v":0},null,{"$f":"IFERROR(VLOOKUP(F21812,Biomasser!$A$3:$E$88,5,FALSE),0)","v":0},"",0,null,null,{"$f":"IFERROR(VLOOKUP(F21812,Biomasser!$A$3:$M$88,13,FALSE),)","v":0},null,null,null,null,null,{"$f":"IF(F21812<>\"\",'CO2 konvertering'!$C$14,)","v":0},null,null,null,null,0]
[null,null,null,"Ja",null,null,null,null,"",null,"",{"$f":"IFERROR(VLOOKUP(F21902,Biomasser!$A$3:$E$88,4,FALSE),0)","v":0},null,{"$f":"IFERROR(VLOOKUP(F21902,Biomasser!$A$3:$E$88,5,FALSE),0)","v":0},"",0,null,null,{"$f":"IFERROR(VLOOKUP(F21902,Biomasser!$A$3:$M$88,13,FALSE),)","v":0},null,null,null,null,null,{"$f":"IF(F21902<>\"\",'CO2 konvertering'!$C$14,)","v":0},null,null,null,null,0]
[null,null,null,"Ja",null,null,null,null,"",null,"",{"$f":"IFERROR(VLOOKUP(F21918,Biomasser!$A$3:$E$88,4,FALSE),0)","v":0},null,{"$f":"IFERROR(VLOOKUP(F21918,Biomasser!$A$3:$E$88,5,FALSE),0)","v":0},{"$f":"IF(AND(F21918<>\"\",(N21918=0)),\"Opdater biomasseark\",\"\")","v":""},0,null,null,{"$f":"IFERROR(VLOOKUP(F21918,Biomasser!$A$3:$M$88,13,FALSE),)","v":0},null,null,null,null,null,{"$f":"IF(F21918<>\"\",'CO2 konvertering'!$C$14,)","v":0},null,null,null,null,0]
[]
[null,null,null,"Ja",null,null,null,null,"",null,"",{"$f":"IFERROR(VLOOKUP(F22070,Biomasser!$A$3:$E$88,4,FALSE),0)","v":0},null,{"$f":"IFERROR(VLOOKUP(F22070,Biomasser!$A$3:$E$88,5,FALSE),0)","v":0},"",0,null,null,{"$f":"IFERROR(VLOOKUP(F22070,Biomasser!$A$3:$M$88,13,FALSE),)","v":0},null,null,null,null,null,{"$f":"IF(F22070<>\"\",'CO2 konvertering'!$C$14,)","v":0},null,null,null,null,0]
[null,null,null,"Ja",null,null,null,null,"",null,"",{"$f":"IFERROR(VLOOKUP(F22172,Biomasser!$A$3:$E$88,4,FALSE),0)","v":0},null,{"$f":"IFERROR(VLOOKUP(F22172,Biomasser!$A$3:$E$88,5,FALSE),0)","v":0},"",0,null,null,{"$f":"IFERROR(VLOOKUP(F22172,Biomasser!$A$3:$M$88,13,FALSE),)","v":0},null,null,null,null,null,{"$f":"IF(F22172<>\"\",'CO2 konvertering'!$C$14,)","v":0},null,null,null,null,0]
[null,null,null,"Ja",null,null,null,null,"",null,"",{"$f":"IFERROR(VLOOKUP(F22222,Biomasser!$A$3:$E$88,4,FALSE),0)","v":0},null,{"$f":"IFERROR(VLOOKUP(F22222,Biomasser!$A$3:$E$88,5,FALSE),0)","v":0},"",0,null,null,{"$f":"IFERROR(VLOOKUP(F22222,Biomasser!$A$3:$M$88,13,FALSE),)","v":0},null,null,null,null,null,{"$f":"IF(F22222<>\"\",'CO2 konvertering'!$C$14,)","v":0},null,null,null,null,0]
[null,null,null,"Ja",null,null,null,null,"",null,"",{"$f":"IFERROR(VLOOKUP(F22329,Biomasser!$A$3:$E$88,4,FALSE),0)","v":0},null,{"$f":"IFERROR(VLOOKUP(F22329,Biomasser!$A$3:$E$88,5,FALSE),0)","v":0},"",0,null,null,{"$f":"IFERROR(VLOOKUP(F22329,Biomasser!$A$3:$M$88,13,FALSE),)","v":0},null,null,null,null,null,{"$f":"IF(F22329<>\"\",'CO2 konvertering'!$C$14,)","v":0},null,null,null,null,0]
[]
[null,null,null,"Ja",null,null,null,null,"",null,"",{"$f":"IFERROR(VLOOKUP(F22486,Biomasser!$A$3:$E$88,4,FALSE),0)","v":0},null,{"$f":"IFERROR(VLOOKUP(F22486,Biomasser!$A$3:$E$88,5,FALSE),0)","v":0},"",0,null,null,{"$f":"IFERROR(VLOOKUP(F22486,Biomasser!$A$3:$M$88,13,FALSE),)","v":0},null,null,null,null,null,{"$f":"IF(F22486<>\"\",'CO2 konvertering'!$C$14,)","v":0},null,null,null,null,0]
[null,null,null,"Ja",null,null,null,null,"",null,"",{"$f":"IFERROR(VLOOKUP(F22555,Biomasser!$A$3:$E$88,4,FALSE),0)","v":0},null,{"$f":"IFERROR(VLOOKUP(F22555,Biomasser!$A$3:$E$88,5,FALSE),0)","v":0},"",0,null,null,{"$f":"IFERROR(VLOOKUP(F22555,Biomasser!$A$3:$M$88,13,FALSE),)","v":0},null,null,null,null,null,{"$f":"IF(F22555<>\"\",'CO2 konvertering'!$C$14,)","v":0},null,null,null,null,0]
[null,null,null,"Ja",null,null,null,null,"",null,"",{"$f":"IFERROR(VLOOKUP(F22643,Biomasser!$A$3:$E$88,4,FALSE),0)","v":0},null,{"$f":"IFERROR(VLOOKUP(F22643,Biomasser!$A$3:$E$88,5,FALSE),0)","v":0},"",0,null,null,{"$f":"IFERROR(VLOOKUP(F22643,Biomasser!$A$3:$M$88,13,FALSE),)","v":0},null,null,null,null,null,{"$f":"IF(F22643<>\"\",'CO2 konvertering'!$C$14,)","v":0},null,null,null,null,0]
[null,null,null,"Ja",null,null,null,null,"",null,"",{"$f":"IFERROR(VLOOKUP(F22707,Biomasser!$A$3:$E$88,4,FALSE),0)","v":0},null,{"$f":"IFERROR(VLOOKUP(F22707,Biomasser!$A$3:$E$88,5,FALSE),0)","v":0},"",0,null,null,{"$f":"IFERROR(VLOOKUP(F22707,Biomasser!$A$3:$M$88,13,FALSE),)","v":0},null,null,null,null,null,{"$f":"IF(F22707<>\"\",'CO2 konvertering'!$C$14,)","v":0},null,null,null,null,0]
[null,null,null,"Ja",null,null,null,null,"",null,"",{"$f":"IFERROR(VLOOKUP(F22800,Biomasser!$A$3:$E$88,4,FALSE),0)","v":0},null,{"$f":"IFERROR(VLOOKUP(F22800,Biomasser!$A$3:$E$88,5,FALSE),0)","v":0},"",0,null,null,{"$f":"IFERROR(VLOOKUP(F22800,Biomasser!$A$3:$M$88,13,FALSE),)","v":0},null,null,null,null,null,{"$f":"IF(F22800<>\"\",'CO2 konvertering'!$C$14,)","v":0},null,null,null,null,0]
[null,null,null,"Ja",null,null,null,null,"",null,"",{"$f":"IFERROR(VLOOKUP(F22859,Biomasser!$A$3:$E$88,4,FALSE),0)","v":0},null,{"$f":"IFERROR(VLOOKUP(F22859,Biomasser!$A$3:$E$88,5,FALSE),0)","v":0},"",{"$f":"J22859*L22859*N22859*H22859","v":0},null,null,{"$f":"IFERROR(VLOOKUP(F22859,Biomasser!$A$3:$M$88,13,FALSE),)","v":0},null,null,null,null,null,{"$f":"IF(F22859<>\"\",'CO2 konvertering'!$C$14,)","v":0},null,null,null,null,{"$f":"SUM(S22859:AC22859)","v":0}]
[null,null,null,"Ja",null,null,null,null,"",null,"",{"$f":"IFERROR(VLOOKUP(F22913,Biomasser!$A$3:$E$88,4,FALSE),0)","v":0},null,{"$f":"IFERROR(VLOOKUP(F22913,Biomasser!$A$3:$E$88,5,FALSE),0)","v":0},"",0,null,null,{"$f":"IFERROR(VLOOKUP(F22913,Biomasser!$A$3:$M$88,13,FALSE),)","v":0},null,null,null,null,null,{"$f":"IF(F22913<>\"\",'CO2 konvertering'!$C$14,)","v":0},null,null,null,null,0]
[null,null,null,"Ja",null,null,null,null,"",null,"",{"$f":"IFERROR(VLOOKUP(F23011,Biomasser!$A$3:$E$88,4,FALSE),0)","v":0},null,{"$f":"IFERROR(VLOOKUP(F23011,Biomasser!$A$3:$E$88,5,FALSE),0)","v":0},"",0,null,null,{"$f":"IFERROR(VLOOKUP(F23011,Biomasser!$A$3:$M$88,13,FALSE),)","v":0},null,null,null,null,null,{"$f":"IF(F23011<>\"\",'CO2 konvertering'!$C$14,)","v":0},null,null,null,null,0]
[null,null,null,"Ja",null,null,null,null,{"$f":"IF(AND(F23070<>\"\",ISBLANK(H23070)),\"Indtast vægt\",\"\")","v":""},null,{"$f":"IF(AND(F23070<>\"\",ISBLANK(J23070)),\"Indtast tørstof %\",\"\")","v":""},{"$f":"IFERROR(VLOOKUP(F23070,Biomasser!$A$3:$E$88,4,FALSE),0)","v":0},null,{"$f":"IFERROR(VLOOKUP(F23070,Biomasser!$A$3:$E$88,5,FALSE),0)","v":0},"",0,null,null,{"$f":"IFERROR(VLOOKUP(F23070,Biomasser!$A$3:$M$88,13,FALSE),)","v":0},null,null,null,null,null,{"$f":"IF(F23070<>\"\",'CO2 konvertering'!$C$14,)","v":0},null,null,null,null,0]
[null,null,null,"Ja",null,null,null,null,"",null,"",{"$f":"IFERROR(VLOOKUP(F23192,Biomasser!$A$3:$E$88,4,FALSE),0)","v":0},null,{"$f":"IFERROR(VLOOKUP(F23192,Biomasser!$A$3:$E$88,5,FALSE),0)","v":0},"",0,null,null,{"$f":"IFERROR(VLOOKUP(F23192,Biomasser!$A$3:$M$88,13,FALSE),)","v":0},null,null,null,null,null,{"$f":"IF(F23192<>\"\",'CO2 konvertering'!$C$14,)","v":0},null,null,null,null,0]
[null,null,null,"Ja",null,null,null,null,"",null,"",{"$f":"IFERROR(VLOOKUP(F23227,Biomasser!$A$3:$E$88,4,FALSE),0)","v":0},null,{"$f":"IFERROR(VLOOKUP(F23227,Biomasser!$A$3:$E$88,5,FALSE),0)","v":0},"",0,null,null,{"$f":"IFERROR(VLOOKUP(F23227,Biomasser!$A$3:$M$88,13,FALSE),)","v":0},null,null,null,null,null,{"$f":"IF(F23227<>\"\",'CO2 konvertering'!$C$14,)","v":0},null,null,null,null,0]
[null,null,null,"Ja",null,null,null,null,"",null,"",{"$f":"IFERROR(VLOOKUP(F23344,Biomasser!$A$3:$E$88,4,FALSE),0)","v":0},null,{"$f":"IFERROR(VLOOKUP(F23344,Biomasser!$A$3:$E$88,5,FALSE),0)","v":0},"",0,null,null,{"$f":"IFERROR(VLOOKUP(F23344,Biomasser!$A$3:$M$88,13,FALSE),)","v":0},null,null,null,null,null,{"$f":"IF(F23344<>\"\",'CO2 konvertering'!$C$14,)","v":0},null,null,null,null,0]
[null,null,null,"Ja",null,null,null,null,"",null,"",{"$f":"IFERROR(VLOOKUP(F23384,Biomasser!$A$3:$E$88,4,FALSE),0)","v":0},null,{"$f":"IFERROR(VLOOKUP(F23384,Biomasser!$A$3:$E$88,5,FALSE),0)","v":0},"",{"$f":"J23384*L23384*N23384*H23384","v":0},null,null,{"$f":"IFERROR(VLOOKUP(F23384,Biomasser!$A$3:$M$88,13,FALSE),)","v":0},null,null,null,null,null,{"$f":"IF(F23384<>\"\",'CO2 konvertering'!$C$14,)","v":0},null,null,null,null,{"$f":"SUM(S23384:AC23384)","v":0}]
[null,null,null,"Ja",null,null,null,null,"",null,"",{"$f":"IFERROR(VLOOKUP(F23496,Biomasser!$A$3:$E$88,4,FALSE),0)","v":0},null,{"$f":"IFERROR(VLOOKUP(F23496,Biomasser!$A$3:$E$88,5,FALSE),0)","v":0},"",0,null,null,{"$f":"IFERROR(VLOOKUP(F23496,Biomasser!$A$3:$M$88,13,FALSE),)","v":0},null,null,null,null,null,{"$f":"IF(F23496<>\"\",'CO2 konvertering'!$C$14,)","v":0},null,null,null,null,0]
[null,null,null,"Ja",null,null,null,null,"",null,"",{"$f":"IFERROR(VLOOKUP(F23573,Biomasser!$A$3:$E$88,4,FALSE),0)","v":0},null,{"$f":"IFERROR(VLOOKUP(F23573,Biomasser!$A$3:$E$88,5,FALSE),0)","v":0},"",0,null,null,{"$f":"IFERROR(VLOOKUP(F23573,Biomasser!$A$3:$M$88,13,FALSE),)","v":0},null,null,null,null,null,{"$f":"IF(F23573<>\"\",'CO2 konvertering'!$C$14,)","v":0},null,null,null,null,0]
[null,null,null,"Ja",null,null,null,null,"",null,"",{"$f":"IFERROR(VLOOKUP(F23598,Biomasser!$A$3:$E$88,4,FALSE),0)","v":0},null,{"$f":"IFERROR(VLOOKUP(F23598,Biomasser!$A$3:$E$88,5,FALSE),0)","v":0},{"$f":"IF(AND(F23598<>\"\",(N23598=0)),\"Opdater biomasseark\",\"\")","v":""},0,null,null,{"$f":"IFERROR(VLOOKUP(F23598,Biomasser!$A$3:$M$88,13,FALSE),)","v":0},null,null,null,null,null,{"$f":"IF(F23598<>\"\",'CO2 konvertering'!$C$14,)","v":0},null,null,null,null,0]
[null,null,null,"Ja",null,null,null,null,"",null,"",{"$f":"IFERROR(VLOOKUP(F23664,Biomasser!$A$3:$E$88,4,FALSE),0)","v":0},null,{"$f":"IFERROR(VLOOKUP(F23664,Biomasser!$A$3:$E$88,5,FALSE),0)","v":0},"",0,null,null,{"$f":"IFERROR(VLOOKUP(F23664,Biomasser!$A$3:$M$88,13,FALSE),)","v":0},null,null,null,null,null,{"$f":"IF(F23664<>\"\",'CO2 konvertering'!$C$14,)","v":0},null,null,null,null,0]
[null,null,null,"Ja",null,null,null,null,"",null,"",{"$f":"IFERROR(VLOOKUP(F23787,Biomasser!$A$3:$E$88,4,FALSE),0)","v":0},null,{"$f":"IFERROR(VLOOKUP(F23787,Biomasser!$A$3:$E$88,5,FALSE),0)","v":0},"",0,null,null,{"$f":"IFERROR(VLOOKUP(F23787,Biomasser!$A$3:$M$88,13,FALSE),)","v":0},null,null,null,null,null,{"$f":"IF(F23787<>\"\",'CO2 konvertering'!$C$14,)","v":0},null,null,null,null,0]
[null,null,null,"Ja",null,null,null,null,"",null,"",{"$f":"IFERROR(VLOOKUP(F23816,Biomasser!$A$3:$E$88,4,FALSE),0)","v":0},null,{"$f":"IFERROR(VLOOKUP(F23816,Biomasser!$A$3:$E$88,5,FALSE),0)","v":0},"",0,null,null,{"$f":"IFERROR(VLOOKUP(F23816,Biomasser!$A$3:$M$88,13,FALSE),)","v":0},null,null,null,null,null,{"$f":"IF(F23816<>\"\",'CO2 konvertering'!$C$14,)","v":0},null,null,null,null,0]
[null,null,null,"Ja",null,null,null,null,"",null,"",{"$f":"IFERROR(VLOOKUP(F23944,Biomasser!$A$3:$E$88,4,FALSE),0)","v":0},null,{"$f":"IFERROR(VLOOKUP(F23944,Biomasser!$A$3:$E$88,5,FALSE),0)","v":0},"",0,null,null,{"$f":"IFERROR(VLOOKUP(F23944,Biomasser!$A$3:$M$88,13,FALSE),)","v":0},null,null,null,null,null,{"$f":"IF(F23944<>\"\",'CO2 konvertering'!$C$14,)","v":0},null,null,null,null,0]
[null,null,null,"Ja",null,null,null,null,"",null,"",{"$f":"IFERROR(VLOOKUP(F23968,Biomasser!$A$3:$E$88,4,FALSE),0)","v":0},null,{"$f":"IFERROR(VLOOKUP(F23968,Biomasser!$A$3:$E$88,5,FALSE),0)","v":0},"",0,null,null,{"$f":"IFERROR(VLOOKUP(F23968,Biomasser!$A$3:$M$88,13,FALSE),)","v":0},null,null,null,null,null,{"$f":"IF(F23968<>\"\",'CO2 konvertering'!$C$14,)","v":0},null,null,null,null,0]
[null,null,null,"Ja",null,null,null,null,"",null,"",{"$f":"IFERROR(VLOOKUP(F24101,Biomasser!$A$3:$E$88,4,FALSE),0)","v":0},null,{"$f":"IFERROR(VLOOKUP(F24101,Biomasser!$A$3:$E$88,5,FALSE),0)","v":0},"",0,null,null,{"$f":"IFERROR(VLOOKUP(F24101,Biomasser!$A$3:$M$88,13,FALSE),)","v":0},null,null,null,null,null,{"$f":"IF(F24101<>\"\",'CO2 konvertering'!$C$14,)","v":0},null,null,null,null,0]
[null,null,null,"Ja",null,null,null,null,"",null,"",{"$f":"IFERROR(VLOOKUP(F24149,Biomasser!$A$3:$E$88,4,FALSE),0)","v":0},null,{"$f":"IFERROR(VLOOKUP(F24149,Biomasser!$A$3:$E$88,5,FALSE),0)","v":0},"",0,null,null,{"$f":"IFERROR(VLOOKUP(F24149,Biomasser!$A$3:$M$88,13,FALSE),)","v":0},null,null,null,null,null,{"$f":"IF(F24149<>\"\",'CO2 konvertering'!$C$14,)","v":0},null,null,null,null,0]
[null,null,null,"Ja",null,null,null,null,"",null,"",{"$f":"IFERROR(VLOOKUP(F24182,Biomasser!$A$3:$E$88,4,FALSE),0)","v":0},null,{"$f":"IFERROR(VLOOKUP(F24182,Biomasser!$A$3:$E$88,5,FALSE),0)","v":0},"",0,null,null,{"$f":"IFERROR(VLOOKUP(F24182,Biomasser!$A$3:$M$88,13,FALSE),)","v":0},null,null,null,null,null,{"$f":"IF(F24182<>\"\",'CO2 konvertering'!$C$14,)","v":0},null,null,null,null,0]
[null,null,null,"Ja",null,null,null,null,"",null,"",{"$f":"IFERROR(VLOOKUP(F24301,Biomasser!$A$3:$E$88,4,FALSE),0)","v":0},null,{"$f":"IFERROR(VLOOKUP(F24301,Biomasser!$A$3:$E$88,5,FALSE),0)","v":0},"",0,null,null,{"$f":"IFERROR(VLOOKUP(F24301,Biomasser!$A$3:$M$88,13,FALSE),)","v":0},null,null,null,null,null,{"$f":"IF(F24301<>\"\",'CO2 konvertering'!$C$14,)","v":0},null,null,null,null,0]
[null,null,null,"Ja",null,null,null,null,"",null,"",{"$f":"IFERROR(VLOOKUP(F24339,Biomasser!$A$3:$E$88,4,FALSE),0)","v":0},null,{"$f":"IFERROR(VLOOKUP(F24339,Biomasser!$A$3:$E$88,5,FALSE),0)","v":0},"",0,null,null,{"$f":"IFERROR(VLOOKUP(F24339,Biomasser!$A$3:$M$88,13,FALSE),)","v":0},null,null,null,null,null,{"$f":"IF(F24339<>\"\",'CO2 konvertering'!$C$14,)","v":0},null,null,null,null,0]
[null,null,null,"Ja",null,null,null,null,"",null,"",{"$f":"IFERROR(VLOOKUP(F24453,Biomasser!$A$3:$E$88,4,FALSE),0)","v":0},null,{"$f":"IFERROR(VLOOKUP(F24453,Biomasser!$A$3:$E$88,5,FALSE),0)","v":0},"",0,null,null,{"$f":"IFERROR(VLOOKUP(F24453,Biomasser!$A$3:$M$88,13,FALSE),)","v":0},null,null,null,null,null,{"$f":"IF(F24453<>\"\",'CO2 konvertering'!$C$14,)","v":0},null,null,null,null,0]
[null,null,null,"Ja",null,null,null,null,"",null,"",{"$f":"IFERROR(VLOOKUP(F24528,Biomasser!$A$3:$E$88,4,FALSE),0)","v":0},null,{"$f":"IFERROR(VLOOKUP(F24528,Biomasser!$A$3:$E$88,5,FALSE),0)","v":0},"",0,null,null,{"$f":"IFERROR(VLOOKUP(F24528,Biomasser!$A$3:$M$88,13,FALSE),)","v":0},null,null,null,null,null,{"$f":"IF(F24528<>\"\",'CO2 konvertering'!$C$14,)","v":0},null,null,null,null,0]
[null,null,null,"Ja",null,null,null,null,"",null,"",{"$f":"IFERROR(VLOOKUP(F24605,Biomasser!$A$3:$E$88,4,FALSE),0)","v":0},null,{"$f":"IFERROR(VLOOKUP(F24605,Biomasser!$A$3:$E$88,5,FALSE),0)","v":0},"",0,null,null,{"$f":"IFERROR(VLOOKUP(F24605,Biomasser!$A$3:$M$88,13,FALSE),)","v":0},null,null,null,null,null,{"$f":"IF(F24605<>\"\",'CO2 konvertering'!$C$14,)","v":0},null,null,null,null,0]
[{"$f":"B24682&C24682","v":"24. august2015"},null,null,"Ja",null,null,null,null,{"$f":"IF(AND(F24685<>\"\",ISBLANK(H24685)),\"Indtast vægt\",\"\")","v":""},null,{"$f":"IF(AND(F24685<>\"\",ISBLANK(J24685)),\"Indtast tørstof %\",\"\")","v":""},{"$f":"IFERROR(VLOOKUP(F24685,Biomasser!$A$3:$E$88,4,FALSE),)","v":0},null,{"$f":"IFERROR(VLOOKUP(F24685,Biomasser!$A$3:$E$88,5,FALSE),0)","v":0},{"$f":"IF(AND(F24685<>\"\",(N24685=0)),\"Opdater biomasseark\",\"\")","v":""},{"$f":"J24685*L24685*N24685*H24685","v":0},null,null,{"$f":"IFERROR(VLOOKUP(F24685,Biomasser!$A$3:$M$88,13,FALSE),)","v":0},null,null,null,null,null,{"$f":"IF(F24685<>\"\",'CO2 konvertering'!$C$14,)","v":0},null,null,null,null,{"$f":"SUM(S24685:AC24685)","v":0}]
[null,null,null,"Ja",null,null,null,null,"",null,"",{"$f":"IFERROR(VLOOKUP(F24711,Biomasser!$A$3:$E$88,4,FALSE),0)","v":0},null,{"$f":"IFERROR(VLOOKUP(F24711,Biomasser!$A$3:$E$88,5,FALSE),0)","v":0},"",0,null,null,{"$f":"IFERROR(VLOOKUP(F24711,Biomasser!$A$3:$M$88,13,FALSE),)","v":0},null,null,null,null,null,{"$f":"IF(F24711<>\"\",'CO2 konvertering'!$C$14,)","v":0},null,null,null,null,0]
[null,null,null,"Ja",null,null,null,null,"",null,"",{"$f":"IFERROR(VLOOKUP(F24842,Biomasser!$A$3:$E$88,4,FALSE),0)","v":0},null,{"$f":"IFERROR(VLOOKUP(F24842,Biomasser!$A$3:$E$88,5,FALSE),0)","v":0},"",0,null,null,{"$f":"IFERROR(VLOOKUP(F24842,Biomasser!$A$3:$M$88,13,FALSE),)","v":0},null,null,null,null,null,{"$f":"IF(F24842<>\"\",'CO2 konvertering'!$C$14,)","v":0},null,null,null,null,0]
[null,null,null,"Ja",null,null,null,null,"",null,"",{"$f":"IFERROR(VLOOKUP(F24863,Biomasser!$A$3:$E$88,4,FALSE),0)","v":0},null,{"$f":"IFERROR(VLOOKUP(F24863,Biomasser!$A$3:$E$88,5,FALSE),0)","v":0},"",0,null,null,{"$f":"IFERROR(VLOOKUP(F24863,Biomasser!$A$3:$M$88,13,FALSE),)","v":0},null,null,null,null,null,{"$f":"IF(F24863<>\"\",'CO2 konvertering'!$C$14,)","v":0},null,null,null,null,0]
[]
[null,null,null,"Ja",null,null,null,null,"",null,"",{"$f":"IFERROR(VLOOKUP(F25015,Biomasser!$A$3:$E$88,4,FALSE),0)","v":0},null,{"$f":"IFERROR(VLOOKUP(F25015,Biomasser!$A$3:$E$88,5,FALSE),0)","v":0},"",0,null,null,{"$f":"IFERROR(VLOOKUP(F25015,Biomasser!$A$3:$M$88,13,FALSE),)","v":0},null,null,null,null,null,{"$f":"IF(F25015<>\"\",'CO2 konvertering'!$C$14,)","v":0},null,null,null,null,0]
[null,null,null,"Ja",null,null,null,null,"",null,"",{"$f":"IFERROR(VLOOKUP(F25112,Biomasser!$A$3:$E$88,4,FALSE),0)","v":0},null,{"$f":"IFERROR(VLOOKUP(F25112,Biomasser!$A$3:$E$88,5,FALSE),0)","v":0},"",0,null,null,{"$f":"IFERROR(VLOOKUP(F25112,Biomasser!$A$3:$M$88,13,FALSE),)","v":0},null,null,null,null,null,{"$f":"IF(F25112<>\"\",'CO2 konvertering'!$C$14,)","v":0},null,null,null,null,0]
[null,null,null,"Ja",null,null,null,null,"",null,"",{"$f":"IFERROR(VLOOKUP(F25167,Biomasser!$A$3:$E$88,4,FALSE),0)","v":0},null,{"$f":"IFERROR(VLOOKUP(F25167,Biomasser!$A$3:$E$88,5,FALSE),0)","v":0},"",0,null,null,{"$f":"IFERROR(VLOOKUP(F25167,Biomasser!$A$3:$M$88,13,FALSE),)","v":0},null,null,null,null,null,{"$f":"IF(F25167<>\"\",'CO2 konvertering'!$C$14,)","v":0},null,null,null,null,0]
[null,null,null,"Ja",null,null,null,null,"",null,"",{"$f":"IFERROR(VLOOKUP(F25269,Biomasser!$A$3:$E$88,4,FALSE),0)","v":0},null,{"$f":"IFERROR(VLOOKUP(F25269,Biomasser!$A$3:$E$88,5,FALSE),0)","v":0},"",0,null,null,{"$f":"IFERROR(VLOOKUP(F25269,Biomasser!$A$3:$M$88,13,FALSE),)","v":0},null,null,null,null,null,{"$f":"IF(F25269<>\"\",'CO2 konvertering'!$C$14,)","v":0},null,null,null,null,0]
[null,null,null,"Ja",null,null,null,null,"",null,"",{"$f":"IFERROR(VLOOKUP(F25348,Biomasser!$A$3:$E$88,4,FALSE),0)","v":0},null,{"$f":"IFERROR(VLOOKUP(F25348,Biomasser!$A$3:$E$88,5,FALSE),0)","v":0},"",0,null,null,{"$f":"IFERROR(VLOOKUP(F25348,Biomasser!$A$3:$M$88,13,FALSE),)","v":0},null,null,null,null,null,{"$f":"IF(F25348<>\"\",'CO2 konvertering'!$C$14,)","v":0},null,null,null,null,0]
[null,null,null,"Ja",null,null,null,null,"",null,"",{"$f":"IFERROR(VLOOKUP(F25426,Biomasser!$A$3:$E$88,4,FALSE),0)","v":0},null,{"$f":"IFERROR(VLOOKUP(F25426,Biomasser!$A$3:$E$88,5,FALSE),0)","v":0},"",0,null,null,{"$f":"IFERROR(VLOOKUP(F25426,Biomasser!$A$3:$M$88,13,FALSE),)","v":0},null,null,null,null,null,{"$f":"IF(F25426<>\"\",'CO2 konvertering'!$C$14,)","v":0},null,null,null,null,0]
[null,null,null,"Ja",null,null,null,null,"",null,"",{"$f":"IFERROR(VLOOKUP(F25500,Biomasser!$A$3:$E$88,4,FALSE),0)","v":0},null,{"$f":"IFERROR(VLOOKUP(F25500,Biomasser!$A$3:$E$88,5,FALSE),0)","v":0},"",0,null,null,{"$f":"IFERROR(VLOOKUP(F25500,Biomasser!$A$3:$M$88,13,FALSE),)","v":0},null,null,null,null,null,{"$f":"IF(F25500<>\"\",'CO2 konvertering'!$C$14,)","v":0},null,null,null,null,0]
[null,null,null,"Ja",null,null,null,null,"",null,"",{"$f":"IFERROR(VLOOKUP(F25583,Biomasser!$A$3:$E$88,4,FALSE),0)","v":0},null,{"$f":"IFERROR(VLOOKUP(F25583,Biomasser!$A$3:$E$88,5,FALSE),0)","v":0},"",0,null,null,{"$f":"IFERROR(VLOOKUP(F25583,Biomasser!$A$3:$M$88,13,FALSE),)","v":0},null,null,null,null,null,{"$f":"IF(F25583<>\"\",'CO2 konvertering'!$C$14,)","v":0},null,null,null,null,0]
[null,null,null,"Ja",null,null,null,null,"",null,"",{"$f":"IFERROR(VLOOKUP(F25652,Biomasser!$A$3:$E$88,4,FALSE),0)","v":0},null,{"$f":"IFERROR(VLOOKUP(F25652,Biomasser!$A$3:$E$88,5,FALSE),0)","v":0},"",0,null,null,{"$f":"IFERROR(VLOOKUP(F25652,Biomasser!$A$3:$M$88,13,FALSE),)","v":0},null,null,null,null,null,{"$f":"IF(F25652<>\"\",'CO2 konvertering'!$C$14,)","v":0},null,null,null,null,0]
[null,null,null,"Ja",null,null,null,null,"",null,"",{"$f":"IFERROR(VLOOKUP(F25696,Biomasser!$A$3:$E$88,4,FALSE),0)","v":0},null,{"$f":"IFERROR(VLOOKUP(F25696,Biomasser!$A$3:$E$88,5,FALSE),0)","v":0},"",0,null,null,{"$f":"IFERROR(VLOOKUP(F25696,Biomasser!$A$3:$M$88,13,FALSE),)","v":0},null,null,null,null,null,{"$f":"IF(F25696<>\"\",'CO2 konvertering'!$C$14,)","v":0},null,null,null,null,0]
[null,null,null,"Ja",null,null,null,null,"",null,"",{"$f":"IFERROR(VLOOKUP(F25804,Biomasser!$A$3:$E$88,4,FALSE),0)","v":0},null,{"$f":"IFERROR(VLOOKUP(F25804,Biomasser!$A$3:$E$88,5,FALSE),0)","v":0},"",0,null,null,{"$f":"IFERROR(VLOOKUP(F25804,Biomasser!$A$3:$M$88,13,FALSE),)","v":0},null,null,null,null,null,{"$f":"IF(F25804<>\"\",'CO2 konvertering'!$C$14,)","v":0},null,null,null,null,0]
[null,null,null,"Ja",null,null,null,null,"",null,"",{"$f":"IFERROR(VLOOKUP(F25853,Biomasser!$A$3:$E$88,4,FALSE),0)","v":0},null,{"$f":"IFERROR(VLOOKUP(F25853,Biomasser!$A$3:$E$88,5,FALSE),0)","v":0},"",0,null,null,{"$f":"IFERROR(VLOOKUP(F25853,Biomasser!$A$3:$M$88,13,FALSE),)","v":0},null,null,null,null,null,{"$f":"IF(F25853<>\"\",'CO2 konvertering'!$C$14,)","v":0},null,null,null,null,0]
[null,null,null,"Ja",null,null,null,null,"",null,"",{"$f":"IFERROR(VLOOKUP(F25956,Biomasser!$A$3:$E$88,4,FALSE),0)","v":0},null,{"$f":"IFERROR(VLOOKUP(F25956,Biomasser!$A$3:$E$88,5,FALSE),0)","v":0},"",0,null,null,{"$f":"IFERROR(VLOOKUP(F25956,Biomasser!$A$3:$M$88,13,FALSE),)","v":0},null,null,null,null,null,{"$f":"IF(F25956<>\"\",'CO2 konvertering'!$C$14,)","v":0},null,null,null,null,0]
[null,null,null,"Ja",null,null,null,null,{"$f":"IF(AND(F26010<>\"\",ISBLANK(H26010)),\"Indtast vægt\",\"\")","v":""},null,{"$f":"IF(AND(F26010<>\"\",ISBLANK(J26010)),\"Indtast tørstof %\",\"\")","v":""},{"$f":"IFERROR(VLOOKUP(F26010,Biomasser!$A$3:$E$88,4,FALSE),0)","v":0},null,{"$f":"IFERROR(VLOOKUP(F26010,Biomasser!$A$3:$E$88,5,FALSE),0)","v":0},"",0,null,null,{"$f":"IFERROR(VLOOKUP(F26010,Biomasser!$A$3:$M$88,13,FALSE),)","v":0},null,null,null,null,null,{"$f":"IF(F26010<>\"\",'CO2 konvertering'!$C$14,)","v":0},null,null,null,null,0]
[null,null,null,"Ja",null,null,null,null,"",null,"",{"$f":"IFERROR(VLOOKUP(F26137,Biomasser!$A$3:$E$88,4,FALSE),0)","v":0},null,{"$f":"IFERROR(VLOOKUP(F26137,Biomasser!$A$3:$E$88,5,FALSE),0)","v":0},"",0,null,null,{"$f":"IFERROR(VLOOKUP(F26137,Biomasser!$A$3:$M$88,13,FALSE),)","v":0},null,null,null,null,null,{"$f":"IF(F26137<>\"\",'CO2 konvertering'!$C$14,)","v":0},null,null,null,null,0]
[null,null,null,"Ja",null,null,null,null,"",null,"",{"$f":"IFERROR(VLOOKUP(F26167,Biomasser!$A$3:$E$88,4,FALSE),0)","v":0},null,{"$f":"IFERROR(VLOOKUP(F26167,Biomasser!$A$3:$E$88,5,FALSE),0)","v":0},"",0,null,null,{"$f":"IFERROR(VLOOKUP(F26167,Biomasser!$A$3:$M$88,13,FALSE),)","v":0},null,null,null,null,null,{"$f":"IF(F26167<>\"\",'CO2 konvertering'!$C$14,)","v":0},null,null,null,null,0]
[null,null,null,"Ja",null,null,null,null,"",null,"",{"$f":"IFERROR(VLOOKUP(F26289,Biomasser!$A$3:$E$88,4,FALSE),0)","v":0},null,{"$f":"IFERROR(VLOOKUP(F26289,Biomasser!$A$3:$E$88,5,FALSE),0)","v":0},"",0,null,null,{"$f":"IFERROR(VLOOKUP(F26289,Biomasser!$A$3:$M$88,13,FALSE),)","v":0},null,null,null,null,null,{"$f":"IF(F26289<>\"\",'CO2 konvertering'!$C$14,)","v":0},null,null,null,null,0]
[null,null,null,"Ja",null,null,null,null,"",null,"",{"$f":"IFERROR(VLOOKUP(F26356,Biomasser!$A$3:$E$88,4,FALSE),0)","v":0},null,{"$f":"IFERROR(VLOOKUP(F26356,Biomasser!$A$3:$E$88,5,FALSE),0)","v":0},"",0,null,null,{"$f":"IFERROR(VLOOKUP(F26356,Biomasser!$A$3:$M$88,13,FALSE),)","v":0},null,null,null,null,null,{"$f":"IF(F26356<>\"\",'CO2 konvertering'!$C$14,)","v":0},null,null,null,null,{"$f":"SUM(S26356:AC26356)","v":0}]
[null,null,null,"Ja",null,null,null,null,"",null,"",{"$f":"IFERROR(VLOOKUP(F26441,Biomasser!$A$3:$E$88,4,FALSE),0)","v":0},null,{"$f":"IFERROR(VLOOKUP(F26441,Biomasser!$A$3:$E$88,5,FALSE),0)","v":0},"",0,null,null,{"$f":"IFERROR(VLOOKUP(F26441,Biomasser!$A$3:$M$88,13,FALSE),)","v":0},null,null,null,null,null,{"$f":"IF(F26441<>\"\",'CO2 konvertering'!$C$14,)","v":0},null,null,null,null,0]
[null,null,null,"Ja",null,null,null,null,"",null,"",{"$f":"IFERROR(VLOOKUP(F26513,Biomasser!$A$3:$E$88,4,FALSE),0)","v":0},null,{"$f":"IFERROR(VLOOKUP(F26513,Biomasser!$A$3:$E$88,5,FALSE),0)","v":0},"",0,null,null,{"$f":"IFERROR(VLOOKUP(F26513,Biomasser!$A$3:$M$88,13,FALSE),)","v":0},null,null,null,null,null,{"$f":"IF(F26513<>\"\",'CO2 konvertering'!$C$14,)","v":0},null,null,null,null,0]
[null,null,null,"Ja",null,null,null,null,"",null,"",{"$f":"IFERROR(VLOOKUP(F26593,Biomasser!$A$3:$E$88,4,FALSE),0)","v":0},null,{"$f":"IFERROR(VLOOKUP(F26593,Biomasser!$A$3:$E$88,5,FALSE),0)","v":0},"",0,null,null,{"$f":"IFERROR(VLOOKUP(F26593,Biomasser!$A$3:$M$88,13,FALSE),)","v":0},null,null,null,null,null,{"$f":"IF(F26593<>\"\",'CO2 konvertering'!$C$14,)","v":0},null,null,null,null,0]
[null,null,null,"Ja",null,null,null,null,"",null,"",{"$f":"IFERROR(VLOOKUP(F26670,Biomasser!$A$3:$E$88,4,FALSE),0)","v":0},null,{"$f":"IFERROR(VLOOKUP(F26670,Biomasser!$A$3:$E$88,5,FALSE),0)","v":0},"",0,null,null,{"$f":"IFERROR(VLOOKUP(F26670,Biomasser!$A$3:$M$88,13,FALSE),)","v":0},null,null,null,null,null,{"$f":"IF(F26670<>\"\",'CO2 konvertering'!$C$14,)","v":0},null,null,null,null,0]
[null,null,null,"Ja",null,null,null,null,"",null,"",{"$f":"IFERROR(VLOOKUP(F26699,Biomasser!$A$3:$E$88,4,FALSE),0)","v":0},null,{"$f":"IFERROR(VLOOKUP(F26699,Biomasser!$A$3:$E$88,5,FALSE),0)","v":0},"",0,null,null,{"$f":"IFERROR(VLOOKUP(F26699,Biomasser!$A$3:$M$88,13,FALSE),)","v":0},null,null,null,null,null,{"$f":"IF(F26699<>\"\",'CO2 konvertering'!$C$14,)","v":0},null,null,null,null,0]
[null,null,null,"Ja",null,null,null,null,"",null,"",{"$f":"IFERROR(VLOOKUP(F26751,Biomasser!$A$3:$E$88,4,FALSE),0)","v":0},null,{"$f":"IFERROR(VLOOKUP(F26751,Biomasser!$A$3:$E$88,5,FALSE),0)","v":0},"",0,null,null,{"$f":"IFERROR(VLOOKUP(F26751,Biomasser!$A$3:$M$88,13,FALSE),)","v":0},null,null,null,null,null,{"$f":"IF(F26751<>\"\",'CO2 konvertering'!$C$14,)","v":0},null,null,null,null,0]
[null,null,null,"Ja",null,null,null,null,"",null,"",{"$f":"IFERROR(VLOOKUP(F26851,Biomasser!$A$3:$E$88,4,FALSE),0)","v":0},null,{"$f":"IFERROR(VLOOKUP(F26851,Biomasser!$A$3:$E$88,5,FALSE),0)","v":0},"",0,null,null,{"$f":"IFERROR(VLOOKUP(F26851,Biomasser!$A$3:$M$88,13,FALSE),)","v":0},null,null,null,null,null,{"$f":"IF(F26851<>\"\",'CO2 konvertering'!$C$14,)","v":0},null,null,null,null,0]
[null,null,null,"Ja",null,null,null,null,"",null,"",{"$f":"IFERROR(VLOOKUP(F26908,Biomasser!$A$3:$E$88,4,FALSE),0)","v":0},null,{"$f":"IFERROR(VLOOKUP(F26908,Biomasser!$A$3:$E$88,5,FALSE),0)","v":0},"",0,null,null,{"$f":"IFERROR(VLOOKUP(F26908,Biomasser!$A$3:$M$88,13,FALSE),)","v":0},null,null,null,null,null,{"$f":"IF(F26908<>\"\",'CO2 konvertering'!$C$14,)","v":0},null,null,null,null,0]
[null,null,null,"Ja",null,null,null,null,"",null,"",{"$f":"IFERROR(VLOOKUP(F27003,Biomasser!$A$3:$E$88,4,FALSE),0)","v":0},null,{"$f":"IFERROR(VLOOKUP(F27003,Biomasser!$A$3:$E$88,5,FALSE),0)","v":0},"",0,null,null,{"$f":"IFERROR(VLOOKUP(F27003,Biomasser!$A$3:$M$88,13,FALSE),)","v":0},null,null,null,null,null,{"$f":"IF(F27003<>\"\",'CO2 konvertering'!$C$14,)","v":0},null,null,null,null,0]
["Gas","16. september",2015,null,null,{"$f":"SUM(H27100:H27200)","v":0},null,null,"m3 CH4"]
[null,null,null,"Ja",null,null,null,null,"",null,"",{"$f":"IFERROR(VLOOKUP(F27155,Biomasser!$A$3:$E$88,4,FALSE),0)","v":0},null,{"$f":"IFERROR(VLOOKUP(F27155,Biomasser!$A$3:$E$88,5,FALSE),0)","v":0},"",0,null,null,{"$f":"IFERROR(VLOOKUP(F27155,Biomasser!$A$3:$M$88,13,FALSE),)","v":0},null,null,null,null,null,{"$f":"IF(F27155<>\"\",'CO2 konvertering'!$C$14,)","v":0},null,null,null,null,0]
[null,null,null,"Ja",null,null,null,null,"",null,"",{"$f":"IFERROR(VLOOKUP(F27254,Biomasser!$A$3:$E$88,4,FALSE),0)","v":0},null,{"$f":"IFERROR(VLOOKUP(F27254,Biomasser!$A$3:$E$88,5,FALSE),0)","v":0},"",0,null,null,{"$f":"IFERROR(VLOOKUP(F27254,Biomasser!$A$3:$M$88,13,FALSE),)","v":0},null,null,null,null,null,{"$f":"IF(F27254<>\"\",'CO2 konvertering'!$C$14,)","v":0},null,null,null,null,0]
[null,null,null,"Ja",null,null,null,null,"",null,"",{"$f":"IFERROR(VLOOKUP(F27336,Biomasser!$A$3:$E$88,4,FALSE),0)","v":0},null,{"$f":"IFERROR(VLOOKUP(F27336,Biomasser!$A$3:$E$88,5,FALSE),0)","v":0},"",0,null,null,{"$f":"IFERROR(VLOOKUP(F27336,Biomasser!$A$3:$M$88,13,FALSE),)","v":0},null,null,null,null,null,{"$f":"IF(F27336<>\"\",'CO2 konvertering'!$C$14,)","v":0},null,null,null,null,0]
[null,"Dato:",null,null,null,"Mængde biomasse (Ton)",null,"Gasproduktion"]
[null,null,null,"Ja",null,null,null,null,"",null,"",{"$f":"IFERROR(VLOOKUP(F27468,Biomasser!$A$3:$E$88,4,FALSE),0)","v":0},null,{"$f":"IFERROR(VLOOKUP(F27468,Biomasser!$A$3:$E$88,5,FALSE),0)","v":0},"",0,null,null,{"$f":"IFERROR(VLOOKUP(F27468,Biomasser!$A$3:$M$88,13,FALSE),)","v":0},null,null,null,null,null,{"$f":"IF(F27468<>\"\",'CO2 konvertering'!$C$14,)","v":0},null,null,null,null,0]
[null,null,null,"Ja",null,null,null,null,"",null,"",{"$f":"IFERROR(VLOOKUP(F27550,Biomasser!$A$3:$E$88,4,FALSE),0)","v":0},null,{"$f":"IFERROR(VLOOKUP(F27550,Biomasser!$A$3:$E$88,5,FALSE),0)","v":0},"",0,null,null,{"$f":"IFERROR(VLOOKUP(F27550,Biomasser!$A$3:$M$88,13,FALSE),)","v":0},null,null,null,null,null,{"$f":"IF(F27550<>\"\",'CO2 konvertering'!$C$14,)","v":0},null,null,null,null,0]
[{"$f":"B27622&C27622","v":"21. september2015"},null,null,"Ja",null,null,null,null,{"$f":"IF(AND(F27625<>\"\",ISBLANK(H27625)),\"Indtast vægt\",\"\")","v":""},null,{"$f":"IF(AND(F27625<>\"\",ISBLANK(J27625)),\"Indtast tørstof %\",\"\")","v":""},{"$f":"IFERROR(VLOOKUP(F27625,Biomasser!$A$3:$E$88,4,FALSE),)","v":0},null,{"$f":"IFERROR(VLOOKUP(F27625,Biomasser!$A$3:$E$88,5,FALSE),0)","v":0},{"$f":"IF(AND(F27625<>\"\",(N27625=0)),\"Opdater biomasseark\",\"\")","v":""},{"$f":"J27625*L27625*N27625*H27625","v":0},null,null,{"$f":"IFERROR(VLOOKUP(F27625,Biomasser!$A$3:$M$88,13,FALSE),)","v":0},null,null,null,null,null,{"$f":"IF(F27625<>\"\",'CO2 konvertering'!$C$14,)","v":0},null,null,null,null,{"$f":"SUM(S27625:AC27625)","v":0}]
[null,null,null,"Ja",null,null,null,null,"",null,"",{"$f":"IFERROR(VLOOKUP(F27656,Biomasser!$A$3:$E$88,4,FALSE),0)","v":0},null,{"$f":"IFERROR(VLOOKUP(F27656,Biomasser!$A$3:$E$88,5,FALSE),0)","v":0},"",0,null,null,{"$f":"IFERROR(VLOOKUP(F27656,Biomasser!$A$3:$M$88,13,FALSE),)","v":0},null,null,null,null,null,{"$f":"IF(F27656<>\"\",'CO2 konvertering'!$C$14,)","v":0},null,null,null,null,0]
[null,null,null,"Ja",null,null,null,null,"",null,"",{"$f":"IFERROR(VLOOKUP(F27782,Biomasser!$A$3:$E$88,4,FALSE),0)","v":0},null,{"$f":"IFERROR(VLOOKUP(F27782,Biomasser!$A$3:$E$88,5,FALSE),0)","v":0},"",0,null,null,{"$f":"IFERROR(VLOOKUP(F27782,Biomasser!$A$3:$M$88,13,FALSE),)","v":0},null,null,null,null,null,{"$f":"IF(F27782<>\"\",'CO2 konvertering'!$C$14,)","v":0},null,null,null,null,0]
[null,null,null,"Ja",null,null,null,null,"",null,"",{"$f":"IFERROR(VLOOKUP(F27808,Biomasser!$A$3:$E$88,4,FALSE),0)","v":0},null,{"$f":"IFERROR(VLOOKUP(F27808,Biomasser!$A$3:$E$88,5,FALSE),0)","v":0},"",0,null,null,{"$f":"IFERROR(VLOOKUP(F27808,Biomasser!$A$3:$M$88,13,FALSE),)","v":0},null,null,null,null,null,{"$f":"IF(F27808<>\"\",'CO2 konvertering'!$C$14,)","v":0},null,null,null,null,0]
[null,null,null,"Ja",null,null,null,null,"",null,"",{"$f":"IFERROR(VLOOKUP(F27895,Biomasser!$A$3:$E$88,4,FALSE),0)","v":0},null,{"$f":"IFERROR(VLOOKUP(F27895,Biomasser!$A$3:$E$88,5,FALSE),0)","v":0},"",0,null,null,{"$f":"IFERROR(VLOOKUP(F27895,Biomasser!$A$3:$M$88,13,FALSE),)","v":0},null,null,null,null,null,{"$f":"IF(F27895<>\"\",'CO2 konvertering'!$C$14,)","v":0},null,null,null,null,0]
[null,null,null,"Ja",null,null,null,null,"",null,"",{"$f":"IFERROR(VLOOKUP(F27960,Biomasser!$A$3:$E$88,4,FALSE),0)","v":0},null,{"$f":"IFERROR(VLOOKUP(F27960,Biomasser!$A$3:$E$88,5,FALSE),0)","v":0},"",0,null,null,{"$f":"IFERROR(VLOOKUP(F27960,Biomasser!$A$3:$M$88,13,FALSE),)","v":0},null,null,null,null,null,{"$f":"IF(F27960<>\"\",'CO2 konvertering'!$C$14,)","v":0},null,null,null,null,0]
[null,null,null,"Ja",null,null,null,null,"",null,"",{"$f":"IFERROR(VLOOKUP(F28052,Biomasser!$A$3:$E$88,4,FALSE),0)","v":0},null,{"$f":"IFERROR(VLOOKUP(F28052,Biomasser!$A$3:$E$88,5,FALSE),0)","v":0},"",0,null,null,{"$f":"IFERROR(VLOOKUP(F28052,Biomasser!$A$3:$M$88,13,FALSE),)","v":0},null,null,null,null,null,{"$f":"IF(F28052<>\"\",'CO2 konvertering'!$C$14,)","v":0},null,null,null,null,0]
[null,null,null,"Ja",null,null,null,null,"",null,"",{"$f":"IFERROR(VLOOKUP(F28112,Biomasser!$A$3:$E$88,4,FALSE),0)","v":0},null,{"$f":"IFERROR(VLOOKUP(F28112,Biomasser!$A$3:$E$88,5,FALSE),0)","v":0},"",0,null,null,{"$f":"IFERROR(VLOOKUP(F28112,Biomasser!$A$3:$M$88,13,FALSE),)","v":0},null,null,null,null,null,{"$f":"IF(F28112<>\"\",'CO2 konvertering'!$C$14,)","v":0},null,null,null,null,0]
[null,null,null,"Ja",null,null,null,null,"",null,"",{"$f":"IFERROR(VLOOKUP(F28209,Biomasser!$A$3:$E$88,4,FALSE),0)","v":0},null,{"$f":"IFERROR(VLOOKUP(F28209,Biomasser!$A$3:$E$88,5,FALSE),0)","v":0},"",0,null,null,{"$f":"IFERROR(VLOOKUP(F28209,Biomasser!$A$3:$M$88,13,FALSE),)","v":0},null,null,null,null,null,{"$f":"IF(F28209<>\"\",'CO2 konvertering'!$C$14,)","v":0},null,null,null,null,0]
[null,null,null,"Ja",null,null,null,null,"",null,"",{"$f":"IFERROR(VLOOKUP(F28293,Biomasser!$A$3:$E$88,4,FALSE),0)","v":0},null,{"$f":"IFERROR(VLOOKUP(F28293,Biomasser!$A$3:$E$88,5,FALSE),0)","v":0},"",0,null,null,{"$f":"IFERROR(VLOOKUP(F28293,Biomasser!$A$3:$M$88,13,FALSE),)","v":0},null,null,null,null,null,{"$f":"IF(F28293<>\"\",'CO2 konvertering'!$C$14,)","v":0},null,null,null,null,0]
[null,null,null,"Ja",null,null,null,null,"",null,"",{"$f":"IFERROR(VLOOKUP(F28366,Biomasser!$A$3:$E$88,4,FALSE),0)","v":0},null,{"$f":"IFERROR(VLOOKUP(F28366,Biomasser!$A$3:$E$88,5,FALSE),0)","v":0},"",0,null,null,{"$f":"IFERROR(VLOOKUP(F28366,Biomasser!$A$3:$M$88,13,FALSE),)","v":0},null,null,null,null,null,{"$f":"IF(F28366<>\"\",'CO2 konvertering'!$C$14,)","v":0},null,null,null,null,0]
[null,null,null,"Ja",null,null,null,null,"",null,"",{"$f":"IFERROR(VLOOKUP(F28445,Biomasser!$A$3:$E$88,4,FALSE),0)","v":0},null,{"$f":"IFERROR(VLOOKUP(F28445,Biomasser!$A$3:$E$88,5,FALSE),0)","v":0},"",0,null,null,{"$f":"IFERROR(VLOOKUP(F28445,Biomasser!$A$3:$M$88,13,FALSE),)","v":0},null,null,null,null,null,{"$f":"IF(F28445<>\"\",'CO2 konvertering'!$C$14,)","v":0},null,null,null,null,0]
[null,null,null,"Ja",null,null,null,null,"",null,"",{"$f":"IFERROR(VLOOKUP(F28523,Biomasser!$A$3:$E$88,4,FALSE),0)","v":0},null,{"$f":"IFERROR(VLOOKUP(F28523,Biomasser!$A$3:$E$88,5,FALSE),0)","v":0},"",0,null,null,{"$f":"IFERROR(VLOOKUP(F28523,Biomasser!$A$3:$M$88,13,FALSE),)","v":0},null,null,null,null,null,{"$f":"IF(F28523<>\"\",'CO2 konvertering'!$C$14,)","v":0},null,null,null,null,0]
[null,null,null,"Ja",null,null,null,null,"",null,"",{"$f":"IFERROR(VLOOKUP(F28597,Biomasser!$A$3:$E$88,4,FALSE),0)","v":0},null,{"$f":"IFERROR(VLOOKUP(F28597,Biomasser!$A$3:$E$88,5,FALSE),0)","v":0},"",0,null,null,{"$f":"IFERROR(VLOOKUP(F28597,Biomasser!$A$3:$M$88,13,FALSE),)","v":0},null,null,null,null,null,{"$f":"IF(F28597<>\"\",'CO2 konvertering'!$C$14,)","v":0},null,null,null,null,0]
[null,null,null,"Ja",null,null,null,null,"",null,"",{"$f":"IFERROR(VLOOKUP(F28712,Biomasser!$A$3:$E$88,4,FALSE),0)","v":0},null,{"$f":"IFERROR(VLOOKUP(F28712,Biomasser!$A$3:$E$88,5,FALSE),0)","v":0},"",0,null,null,{"$f":"IFERROR(VLOOKUP(F28712,Biomasser!$A$3:$M$88,13,FALSE),)","v":0},null,null,null,null,null,{"$f":"IF(F28712<>\"\",'CO2 konvertering'!$C$14,)","v":0},null,null,null,null,0]
[null,null,null,"Ja",null,null,null,null,"",null,"",{"$f":"IFERROR(VLOOKUP(F28749,Biomasser!$A$3:$E$88,4,FALSE),0)","v":0},null,{"$f":"IFERROR(VLOOKUP(F28749,Biomasser!$A$3:$E$88,5,FALSE),0)","v":0},"",0,null,null,{"$f":"IFERROR(VLOOKUP(F28749,Biomasser!$A$3:$M$88,13,FALSE),)","v":0},null,null,null,null,null,{"$f":"IF(F28749<>\"\",'CO2 konvertering'!$C$14,)","v":0},null,null,null,null,0]
[null,null,null,"Ja",null,null,null,null,"",null,"",{"$f":"IFERROR(VLOOKUP(F28793,Biomasser!$A$3:$E$88,4,FALSE),0)","v":0},null,{"$f":"IFERROR(VLOOKUP(F28793,Biomasser!$A$3:$E$88,5,FALSE),0)","v":0},"",0,null,null,{"$f":"IFERROR(VLOOKUP(F28793,Biomasser!$A$3:$M$88,13,FALSE),)","v":0},null,null,null,null,null,{"$f":"IF(F28793<>\"\",'CO2 konvertering'!$C$14,)","v":0},null,null,null,null,0]
[null,null,null,"Ja",null,null,null,null,"",null,"",{"$f":"IFERROR(VLOOKUP(F28930,Biomasser!$A$3:$E$88,4,FALSE),0)","v":0},null,{"$f":"IFERROR(VLOOKUP(F28930,Biomasser!$A$3:$E$88,5,FALSE),0)","v":0},"",0,null,null,{"$f":"IFERROR(VLOOKUP(F28930,Biomasser!$A$3:$M$88,13,FALSE),)","v":0},null,null,null,null,null,{"$f":"IF(F28930<>\"\",'CO2 konvertering'!$C$14,)","v":0},null,null,null,null,0]
[null,null,null,"Ja",null,null,null,null,{"$f":"IF(AND(F28950<>\"\",ISBLANK(H28950)),\"Indtast vægt\",\"\")","v":""},null,{"$f":"IF(AND(F28950<>\"\",ISBLANK(J28950)),\"Indtast tørstof %\",\"\")","v":""},{"$f":"IFERROR(VLOOKUP(F28950,Biomasser!$A$3:$E$88,4,FALSE),0)","v":0},null,{"$f":"IFERROR(VLOOKUP(F28950,Biomasser!$A$3:$E$88,5,FALSE),0)","v":0},"",0,null,null,{"$f":"IFERROR(VLOOKUP(F28950,Biomasser!$A$3:$M$88,13,FALSE),)","v":0},null,null,null,null,null,{"$f":"IF(F28950<>\"\",'CO2 konvertering'!$C$14,)","v":0},null,null,null,null,0]
[null,null,null,"Ja",null,null,null,null,"",null,"",{"$f":"IFERROR(VLOOKUP(F29082,Biomasser!$A$3:$E$88,4,FALSE),0)","v":0},null,{"$f":"IFERROR(VLOOKUP(F29082,Biomasser!$A$3:$E$88,5,FALSE),0)","v":0},"",0,null,null,{"$f":"IFERROR(VLOOKUP(F29082,Biomasser!$A$3:$M$88,13,FALSE),)","v":0},null,null,null,null,null,{"$f":"IF(F29082<>\"\",'CO2 konvertering'!$C$14,)","v":0},null,null,null,null,0]
[null,null,null,"Ja",null,null,null,null,"",null,"",{"$f":"IFERROR(VLOOKUP(F29107,Biomasser!$A$3:$E$88,4,FALSE),0)","v":0},null,{"$f":"IFERROR(VLOOKUP(F29107,Biomasser!$A$3:$E$88,5,FALSE),0)","v":0},"",0,null,null,{"$f":"IFERROR(VLOOKUP(F29107,Biomasser!$A$3:$M$88,13,FALSE),)","v":0},null,null,null,null,null,{"$f":"IF(F29107<>\"\",'CO2 konvertering'!$C$14,)","v":0},null,null,null,null,0]
[null,null,null,"Ja",null,null,null,null,"",null,"",{"$f":"IFERROR(VLOOKUP(F29234,Biomasser!$A$3:$E$88,4,FALSE),0)","v":0},null,{"$f":"IFERROR(VLOOKUP(F29234,Biomasser!$A$3:$E$88,5,FALSE),0)","v":0},"",0,null,null,{"$f":"IFERROR(VLOOKUP(F29234,Biomasser!$A$3:$M$88,13,FALSE),)","v":0},null,null,null,null,null,{"$f":"IF(F29234<>\"\",'CO2 konvertering'!$C$14,)","v":0},null,null,null,null,0]
[null,null,null,"Ja",null,null,null,null,"",null,"",{"$f":"IFERROR(VLOOKUP(F29296,Biomasser!$A$3:$E$88,4,FALSE),0)","v":0},null,{"$f":"IFERROR(VLOOKUP(F29296,Biomasser!$A$3:$E$88,5,FALSE),0)","v":0},"",0,null,null,{"$f":"IFERROR(VLOOKUP(F29296,Biomasser!$A$3:$M$88,13,FALSE),)","v":0},null,null,null,null,null,{"$f":"IF(F29296<>\"\",'CO2 konvertering'!$C$14,)","v":0},null,null,null,null,{"$f":"SUM(S29296:AC29296)","v":0}]
[null,null,null,"Ja",null,null,null,null,"",null,"",{"$f":"IFERROR(VLOOKUP(F29386,Biomasser!$A$3:$E$88,4,FALSE),0)","v":0},null,{"$f":"IFERROR(VLOOKUP(F29386,Biomasser!$A$3:$E$88,5,FALSE),0)","v":0},"",0,null,null,{"$f":"IFERROR(VLOOKUP(F29386,Biomasser!$A$3:$M$88,13,FALSE),)","v":0},null,null,null,null,null,{"$f":"IF(F29386<>\"\",'CO2 konvertering'!$C$14,)","v":0},null,null,null,null,0]
[null,null,null,"Ja",null,null,null,null,"",null,"",{"$f":"IFERROR(VLOOKUP(F29453,Biomasser!$A$3:$E$88,4,FALSE),0)","v":0},null,{"$f":"IFERROR(VLOOKUP(F29453,Biomasser!$A$3:$E$88,5,FALSE),0)","v":0},"",0,null,null,{"$f":"IFERROR(VLOOKUP(F29453,Biomasser!$A$3:$M$88,13,FALSE),)","v":0},null,null,null,null,null,{"$f":"IF(F29453<>\"\",'CO2 konvertering'!$C$14,)","v":0},null,null,null,null,0]
[null,null,null,"Ja",null,null,null,null,"",null,"",{"$f":"IFERROR(VLOOKUP(F29538,Biomasser!$A$3:$E$88,4,FALSE),0)","v":0},null,{"$f":"IFERROR(VLOOKUP(F29538,Biomasser!$A$3:$E$88,5,FALSE),0)","v":0},"",0,null,null,{"$f":"IFERROR(VLOOKUP(F29538,Biomasser!$A$3:$M$88,13,FALSE),)","v":0},null,null,null,null,null,{"$f":"IF(F29538<>\"\",'CO2 konvertering'!$C$14,)","v":0},null,null,null,null,0]
[null,null,null,"Ja",null,null,null,null,"",null,"",{"$f":"IFERROR(VLOOKUP(F29610,Biomasser!$A$3:$E$88,4,FALSE),0)","v":0},null,{"$f":"IFERROR(VLOOKUP(F29610,Biomasser!$A$3:$E$88,5,FALSE),0)","v":0},"",0,null,null,{"$f":"IFERROR(VLOOKUP(F29610,Biomasser!$A$3:$M$88,13,FALSE),)","v":0},null,null,null,null,null,{"$f":"IF(F29610<>\"\",'CO2 konvertering'!$C$14,)","v":0},null,null,null,null,0]
[null,null,null,"Ja",null,null,null,null,"",null,"",{"$f":"IFERROR(VLOOKUP(F29644,Biomasser!$A$3:$E$88,4,FALSE),0)","v":0},null,{"$f":"IFERROR(VLOOKUP(F29644,Biomasser!$A$3:$E$88,5,FALSE),0)","v":0},"",0,null,null,{"$f":"IFERROR(VLOOKUP(F29644,Biomasser!$A$3:$M$88,13,FALSE),)","v":0},null,null,null,null,null,{"$f":"IF(F29644<>\"\",'CO2 konvertering'!$C$14,)","v":0},null,null,null,null,0]
[null,null,null,"Ja",null,null,null,null,"",null,"",{"$f":"IFERROR(VLOOKUP(F29767,Biomasser!$A$3:$E$88,4,FALSE),0)","v":0},null,{"$f":"IFERROR(VLOOKUP(F29767,Biomasser!$A$3:$E$88,5,FALSE),0)","v":0},"",0,null,null,{"$f":"IFERROR(VLOOKUP(F29767,Biomasser!$A$3:$M$88,13,FALSE),)","v":0},null,null,null,null,null,{"$f":"IF(F29767<>\"\",'CO2 konvertering'!$C$14,)","v":0},null,null,null,null,0]
[null,null,null,"Ja",null,null,null,null,"",null,"",{"$f":"IFERROR(VLOOKUP(F29796,Biomasser!$A$3:$E$88,4,FALSE),0)","v":0},null,{"$f":"IFERROR(VLOOKUP(F29796,Biomasser!$A$3:$E$88,5,FALSE),0)","v":0},"",0,null,null,{"$f":"IFERROR(VLOOKUP(F29796,Biomasser!$A$3:$M$88,13,FALSE),)","v":0},null,null,null,null,null,{"$f":"IF(F29796<>\"\",'CO2 konvertering'!$C$14,)","v":0},null,null,null,null,0]
[null,null,null,"Ja",null,null,null,null,"",null,"",{"$f":"IFERROR(VLOOKUP(F29880,Biomasser!$A$3:$E$88,4,FALSE),0)","v":0},null,{"$f":"IFERROR(VLOOKUP(F29880,Biomasser!$A$3:$E$88,5,FALSE),0)","v":0},"",0,null,null,{"$f":"IFERROR(VLOOKUP(F29880,Biomasser!$A$3:$M$88,13,FALSE),)","v":0},null,null,null,null,null,{"$f":"IF(F29880<>\"\",'CO2 konvertering'!$C$14,)","v":0},null,null,null,null,0]
[null,null,null,"Ja",null,null,null,null,"",null,"",{"$f":"IFERROR(VLOOKUP(F29948,Biomasser!$A$3:$E$88,4,FALSE),0)","v":0},null,{"$f":"IFERROR(VLOOKUP(F29948,Biomasser!$A$3:$E$88,5,FALSE),0)","v":0},"",0,null,null,{"$f":"IFERROR(VLOOKUP(F29948,Biomasser!$A$3:$M$88,13,FALSE),)","v":0},null,null,null,null,null,{"$f":"IF(F29948<>\"\",'CO2 konvertering'!$C$14,)","v":0},null,null,null,null,0]
["Gas","14. oktober",2015,null,null,{"$f":"SUM(H30040:H30140)","v":0},null,null,"m3 CH4"]
[null,null,null,"Ja",null,null,null,null,"",null,"",{"$f":"IFERROR(VLOOKUP(F30100,Biomasser!$A$3:$E$88,4,FALSE),0)","v":0},null,{"$f":"IFERROR(VLOOKUP(F30100,Biomasser!$A$3:$E$88,5,FALSE),0)","v":0},"",0,null,null,{"$f":"IFERROR(VLOOKUP(F30100,Biomasser!$A$3:$M$88,13,FALSE),)","v":0},null,null,null,null,null,{"$f":"IF(F30100<>\"\",'CO2 konvertering'!$C$14,)","v":0},null,null,null,null,0]
[null,null,null,"Ja",null,null,null,null,"",null,"",{"$f":"IFERROR(VLOOKUP(F30194,Biomasser!$A$3:$E$88,4,FALSE),0)","v":0},null,{"$f":"IFERROR(VLOOKUP(F30194,Biomasser!$A$3:$E$88,5,FALSE),0)","v":0},"",0,null,null,{"$f":"IFERROR(VLOOKUP(F30194,Biomasser!$A$3:$M$88,13,FALSE),)","v":0},null,null,null,null,null,{"$f":"IF(F30194<>\"\",'CO2 konvertering'!$C$14,)","v":0},null,null,null,null,0]
[null,null,null,"Ja",null,null,null,null,"",null,"",{"$f":"IFERROR(VLOOKUP(F30281,Biomasser!$A$3:$E$88,4,FALSE),0)","v":0},null,{"$f":"IFERROR(VLOOKUP(F30281,Biomasser!$A$3:$E$88,5,FALSE),0)","v":0},"",0,null,null,{"$f":"IFERROR(VLOOKUP(F30281,Biomasser!$A$3:$M$88,13,FALSE),)","v":0},null,null,null,null,null,{"$f":"IF(F30281<>\"\",'CO2 konvertering'!$C$14,)","v":0},null,null,null,null,0]
[null,"Dato:",null,null,null,"Mængde biomasse (Ton)",null,"Gasproduktion"]
[null,null,null,"Ja",null,null,null,null,"",null,"",{"$f":"IFERROR(VLOOKUP(F30433,Biomasser!$A$3:$E$88,4,FALSE),0)","v":0},null,{"$f":"IFERROR(VLOOKUP(F30433,Biomasser!$A$3:$E$88,5,FALSE),0)","v":0},"",0,null,null,{"$f":"IFERROR(VLOOKUP(F30433,Biomasser!$A$3:$M$88,13,FALSE),)","v":0},null,null,null,null,null,{"$f":"IF(F30433<>\"\",'CO2 konvertering'!$C$14,)","v":0},null,null,null,null,0]
[null,null,null,"Ja",null,null,null,null,"",null,"",{"$f":"IFERROR(VLOOKUP(F30464,Biomasser!$A$3:$E$88,4,FALSE),0)","v":0},null,{"$f":"IFERROR(VLOOKUP(F30464,Biomasser!$A$3:$E$88,5,FALSE),0)","v":0},{"$f":"IF(AND(F30464<>\"\",(N30464=0)),\"Opdater biomasseark\",\"\")","v":""},0,null,null,{"$f":"IFERROR(VLOOKUP(F30464,Biomasser!$A$3:$M$88,13,FALSE),)","v":0},null,null,null,null,null,{"$f":"IF(F30464<>\"\",'CO2 konvertering'!$C$14,)","v":0},null,null,null,null,0]
[null,null,null,"Ja",null,null,null,null,"",null,"",{"$f":"IFERROR(VLOOKUP(F30585,Biomasser!$A$3:$E$88,4,FALSE),0)","v":0},null,{"$f":"IFERROR(VLOOKUP(F30585,Biomasser!$A$3:$E$88,5,FALSE),0)","v":0},"",0,null,null,{"$f":"IFERROR(VLOOKUP(F30585,Biomasser!$A$3:$M$88,13,FALSE),)","v":0},null,null,null,null,null,{"$f":"IF(F30585<>\"\",'CO2 konvertering'!$C$14,)","v":0},null,null,null,null,0]
[null,null,null,"Ja",null,null,null,null,"",null,"",{"$f":"IFERROR(VLOOKUP(F30621,Biomasser!$A$3:$E$88,4,FALSE),0)","v":0},null,{"$f":"IFERROR(VLOOKUP(F30621,Biomasser!$A$3:$E$88,5,FALSE),0)","v":0},"",0,null,null,{"$f":"IFERROR(VLOOKUP(F30621,Biomasser!$A$3:$M$88,13,FALSE),)","v":0},null,null,null,null,null,{"$f":"IF(F30621<>\"\",'CO2 konvertering'!$C$14,)","v":0},null,null,null,null,0]
[null,null,null,"Ja",null,null,null,null,"",null,"",{"$f":"IFERROR(VLOOKUP(F30737,Biomasser!$A$3:$E$88,4,FALSE),0)","v":0},null,{"$f":"IFERROR(VLOOKUP(F30737,Biomasser!$A$3:$E$88,5,FALSE),0)","v":0},"",0,null,null,{"$f":"IFERROR(VLOOKUP(F30737,Biomasser!$A$3:$M$88,13,FALSE),)","v":0},null,null,null,null,null,{"$f":"IF(F30737<>\"\",'CO2 konvertering'!$C$14,)","v":0},null,null,null,null,0]
[null,null,null,"Ja",null,null,null,null,"",null,"",{"$f":"IFERROR(VLOOKUP(F30778,Biomasser!$A$3:$E$88,4,FALSE),0)","v":0},null,{"$f":"IFERROR(VLOOKUP(F30778,Biomasser!$A$3:$E$88,5,FALSE),0)","v":0},{"$f":"IF(AND(F30778<>\"\",(N30778=0)),\"Opdater biomasseark\",\"\")","v":""},0,null,null,{"$f":"IFERROR(VLOOKUP(F30778,Biomasser!$A$3:$M$88,13,FALSE),)","v":0},null,null,null,null,null,{"$f":"IF(F30778<>\"\",'CO2 konvertering'!$C$14,)","v":0},null,null,null,null,0]
[null,null,null,"Ja",null,null,null,null,"",null,"",{"$f":"IFERROR(VLOOKUP(F30843,Biomasser!$A$3:$E$88,4,FALSE),0)","v":0},null,{"$f":"IFERROR(VLOOKUP(F30843,Biomasser!$A$3:$E$88,5,FALSE),0)","v":0},{"$f":"IF(AND(F30843<>\"\",(N30843=0)),\"Opdater biomasseark\",\"\")","v":""},0,null,null,{"$f":"IFERROR(VLOOKUP(F30843,Biomasser!$A$3:$M$88,13,FALSE),)","v":0},null,null,null,null,null,{"$f":"IF(F30843<>\"\",'CO2 konvertering'!$C$14,)","v":0},null,null,null,null,0]
[null,null,null,"Ja",null,null,null,null,"",null,"",{"$f":"IFERROR(VLOOKUP(F30935,Biomasser!$A$3:$E$88,4,FALSE),0)","v":0},null,{"$f":"IFERROR(VLOOKUP(F30935,Biomasser!$A$3:$E$88,5,FALSE),0)","v":0},"",0,null,null,{"$f":"IFERROR(VLOOKUP(F30935,Biomasser!$A$3:$M$88,13,FALSE),)","v":0},null,null,null,null,null,{"$f":"IF(F30935<>\"\",'CO2 konvertering'!$C$14,)","v":0},null,null,null,null,0]
[null,null,null,"Ja",null,null,null,null,"",null,"",{"$f":"IFERROR(VLOOKUP(F30995,Biomasser!$A$3:$E$88,4,FALSE),0)","v":0},null,{"$f":"IFERROR(VLOOKUP(F30995,Biomasser!$A$3:$E$88,5,FALSE),0)","v":0},"",0,null,null,{"$f":"IFERROR(VLOOKUP(F30995,Biomasser!$A$3:$M$88,13,FALSE),)","v":0},null,null,null,null,null,{"$f":"IF(F30995<>\"\",'CO2 konvertering'!$C$14,)","v":0},null,null,null,null,0]
[null,null,null,"Ja",null,null,null,null,"",null,"",{"$f":"IFERROR(VLOOKUP(F31092,Biomasser!$A$3:$E$88,4,FALSE),0)","v":0},null,{"$f":"IFERROR(VLOOKUP(F31092,Biomasser!$A$3:$E$88,5,FALSE),0)","v":0},"",0,null,null,{"$f":"IFERROR(VLOOKUP(F31092,Biomasser!$A$3:$M$88,13,FALSE),)","v":0},null,null,null,null,null,{"$f":"IF(F31092<>\"\",'CO2 konvertering'!$C$14,)","v":0},null,null,null,null,0]
[null,null,null,"Ja",null,null,null,null,"",null,"",{"$f":"IFERROR(VLOOKUP(F31149,Biomasser!$A$3:$E$88,4,FALSE),0)","v":0},null,{"$f":"IFERROR(VLOOKUP(F31149,Biomasser!$A$3:$E$88,5,FALSE),0)","v":0},"",0,null,null,{"$f":"IFERROR(VLOOKUP(F31149,Biomasser!$A$3:$M$88,13,FALSE),)","v":0},null,null,null,null,null,{"$f":"IF(F31149<>\"\",'CO2 konvertering'!$C$14,)","v":0},null,null,null,null,0]
[null,null,null,"Ja",null,null,null,null,"",null,"",{"$f":"IFERROR(VLOOKUP(F31238,Biomasser!$A$3:$E$88,4,FALSE),0)","v":0},null,{"$f":"IFERROR(VLOOKUP(F31238,Biomasser!$A$3:$E$88,5,FALSE),0)","v":0},"",0,null,null,{"$f":"IFERROR(VLOOKUP(F31238,Biomasser!$A$3:$M$88,13,FALSE),)","v":0},null,null,null,null,null,{"$f":"IF(F31238<>\"\",'CO2 konvertering'!$C$14,)","v":0},null,null,null,null,0]
[null,null,null,"Ja",null,null,null,null,"",null,"",{"$f":"IFERROR(VLOOKUP(F31306,Biomasser!$A$3:$E$88,4,FALSE),0)","v":0},null,{"$f":"IFERROR(VLOOKUP(F31306,Biomasser!$A$3:$E$88,5,FALSE),0)","v":0},"",0,null,null,{"$f":"IFERROR(VLOOKUP(F31306,Biomasser!$A$3:$M$88,13,FALSE),)","v":0},null,null,null,null,null,{"$f":"IF(F31306<>\"\",'CO2 konvertering'!$C$14,)","v":0},null,null,null,null,0]
[null,null,null,"Ja",null,null,null,null,"",null,"",{"$f":"IFERROR(VLOOKUP(F31390,Biomasser!$A$3:$E$88,4,FALSE),0)","v":0},null,{"$f":"IFERROR(VLOOKUP(F31390,Biomasser!$A$3:$E$88,5,FALSE),0)","v":0},"",0,null,null,{"$f":"IFERROR(VLOOKUP(F31390,Biomasser!$A$3:$M$88,13,FALSE),)","v":0},null,null,null,null,null,{"$f":"IF(F31390<>\"\",'CO2 konvertering'!$C$14,)","v":0},null,null,null,null,0]
[null,null,null,"Ja",null,null,null,null,"",null,"",{"$f":"IFERROR(VLOOKUP(F31495,Biomasser!$A$3:$E$88,4,FALSE),0)","v":0},null,{"$f":"IFERROR(VLOOKUP(F31495,Biomasser!$A$3:$E$88,5,FALSE),0)","v":0},"",0,null,null,{"$f":"IFERROR(VLOOKUP(F31495,Biomasser!$A$3:$M$88,13,FALSE),)","v":0},null,null,null,null,null,{"$f":"IF(F31495<>\"\",'CO2 konvertering'!$C$14,)","v":0},null,null,null,null,0]
[null,null,null,"Ja",null,null,null,null,"",null,"",{"$f":"IFERROR(VLOOKUP(F31542,Biomasser!$A$3:$E$88,4,FALSE),0)","v":0},null,{"$f":"IFERROR(VLOOKUP(F31542,Biomasser!$A$3:$E$88,5,FALSE),0)","v":0},"",0,null,null,{"$f":"IFERROR(VLOOKUP(F31542,Biomasser!$A$3:$M$88,13,FALSE),)","v":0},null,null,null,null,null,{"$f":"IF(F31542<>\"\",'CO2 konvertering'!$C$14,)","v":0},null,null,null,null,{"$f":"SUM(S31542:AC31542)","v":0}]
[null,null,null,"Ja",null,null,null,null,"",null,"",{"$f":"IFERROR(VLOOKUP(F31652,Biomasser!$A$3:$E$88,4,FALSE),0)","v":0},null,{"$f":"IFERROR(VLOOKUP(F31652,Biomasser!$A$3:$E$88,5,FALSE),0)","v":0},"",0,null,null,{"$f":"IFERROR(VLOOKUP(F31652,Biomasser!$A$3:$M$88,13,FALSE),)","v":0},null,null,null,null,null,{"$f":"IF(F31652<>\"\",'CO2 konvertering'!$C$14,)","v":0},null,null,null,null,0]
[null,null,null,"Ja",null,null,null,null,"",null,"",{"$f":"IFERROR(VLOOKUP(F31694,Biomasser!$A$3:$E$88,4,FALSE),0)","v":0},null,{"$f":"IFERROR(VLOOKUP(F31694,Biomasser!$A$3:$E$88,5,FALSE),0)","v":0},"",0,null,null,{"$f":"IFERROR(VLOOKUP(F31694,Biomasser!$A$3:$M$88,13,FALSE),)","v":0},null,null,null,null,null,{"$f":"IF(F31694<>\"\",'CO2 konvertering'!$C$14,)","v":0},null,null,null,null,0]
[null,null,null,"Ja",null,null,null,null,"",null,"",{"$f":"IFERROR(VLOOKUP(F31733,Biomasser!$A$3:$E$88,4,FALSE),0)","v":0},null,{"$f":"IFERROR(VLOOKUP(F31733,Biomasser!$A$3:$E$88,5,FALSE),0)","v":0},"",0,null,null,{"$f":"IFERROR(VLOOKUP(F31733,Biomasser!$A$3:$M$88,13,FALSE),)","v":0},null,null,null,null,null,{"$f":"IF(F31733<>\"\",'CO2 konvertering'!$C$14,)","v":0},null,null,null,null,0]
[null,null,null,"Ja",null,null,null,null,"",null,"",{"$f":"IFERROR(VLOOKUP(F31875,Biomasser!$A$3:$E$88,4,FALSE),0)","v":0},null,{"$f":"IFERROR(VLOOKUP(F31875,Biomasser!$A$3:$E$88,5,FALSE),0)","v":0},"",0,null,null,{"$f":"IFERROR(VLOOKUP(F31875,Biomasser!$A$3:$M$88,13,FALSE),)","v":0},null,null,null,null,null,{"$f":"IF(F31875<>\"\",'CO2 konvertering'!$C$14,)","v":0},null,null,null,null,0]
[null,null,null,"Ja",null,null,null,null,{"$f":"IF(AND(F31890<>\"\",ISBLANK(H31890)),\"Indtast vægt\",\"\")","v":""},null,{"$f":"IF(AND(F31890<>\"\",ISBLANK(J31890)),\"Indtast tørstof %\",\"\")","v":""},{"$f":"IFERROR(VLOOKUP(F31890,Biomasser!$A$3:$E$88,4,FALSE),0)","v":0},null,{"$f":"IFERROR(VLOOKUP(F31890,Biomasser!$A$3:$E$88,5,FALSE),0)","v":0},"",0,null,null,{"$f":"IFERROR(VLOOKUP(F31890,Biomasser!$A$3:$M$88,13,FALSE),)","v":0},null,null,null,null,null,{"$f":"IF(F31890<>\"\",'CO2 konvertering'!$C$14,)","v":0},null,null,null,null,0]
[null,null,null,"Ja",null,null,null,null,"",null,"",{"$f":"IFERROR(VLOOKUP(F32027,Biomasser!$A$3:$E$88,4,FALSE),0)","v":0},null,{"$f":"IFERROR(VLOOKUP(F32027,Biomasser!$A$3:$E$88,5,FALSE),0)","v":0},"",0,null,null,{"$f":"IFERROR(VLOOKUP(F32027,Biomasser!$A$3:$M$88,13,FALSE),)","v":0},null,null,null,null,null,{"$f":"IF(F32027<>\"\",'CO2 konvertering'!$C$14,)","v":0},null,null,null,null,0]
[null,null,null,"Ja",null,null,null,null,"",null,"",{"$f":"IFERROR(VLOOKUP(F32079,Biomasser!$A$3:$E$88,4,FALSE),0)","v":0},null,{"$f":"IFERROR(VLOOKUP(F32079,Biomasser!$A$3:$E$88,5,FALSE),0)","v":0},"",0,null,null,{"$f":"IFERROR(VLOOKUP(F32079,Biomasser!$A$3:$M$88,13,FALSE),)","v":0},null,null,null,null,null,{"$f":"IF(F32079<>\"\",'CO2 konvertering'!$C$14,)","v":0},null,null,null,null,0]
[null,null,null,"Ja",null,null,null,null,"",null,"",{"$f":"IFERROR(VLOOKUP(F32179,Biomasser!$A$3:$E$88,4,FALSE),0)","v":0},null,{"$f":"IFERROR(VLOOKUP(F32179,Biomasser!$A$3:$E$88,5,FALSE),0)","v":0},"",0,null,null,{"$f":"IFERROR(VLOOKUP(F32179,Biomasser!$A$3:$M$88,13,FALSE),)","v":0},null,null,null,null,null,{"$f":"IF(F32179<>\"\",'CO2 konvertering'!$C$14,)","v":0},null,null,null,null,0]
[null,null,null,"Ja",null,null,null,null,"",null,"",{"$f":"IFERROR(VLOOKUP(F32236,Biomasser!$A$3:$E$88,4,FALSE),0)","v":0},null,{"$f":"IFERROR(VLOOKUP(F32236,Biomasser!$A$3:$E$88,5,FALSE),0)","v":0},"",0,null,null,{"$f":"IFERROR(VLOOKUP(F32236,Biomasser!$A$3:$M$88,13,FALSE),)","v":0},null,null,null,null,null,{"$f":"IF(F32236<>\"\",'CO2 konvertering'!$C$14,)","v":0},null,null,null,null,{"$f":"SUM(S32236:AC32236)","v":0}]
[null,null,null,"Ja",null,null,null,null,"",null,"",{"$f":"IFERROR(VLOOKUP(F32331,Biomasser!$A$3:$E$88,4,FALSE),0)","v":0},null,{"$f":"IFERROR(VLOOKUP(F32331,Biomasser!$A$3:$E$88,5,FALSE),0)","v":0},"",0,null,null,{"$f":"IFERROR(VLOOKUP(F32331,Biomasser!$A$3:$M$88,13,FALSE),)","v":0},null,null,null,null,null,{"$f":"IF(F32331<>\"\",'CO2 konvertering'!$C$14,)","v":0},null,null,null,null,0]
[null,null,null,"Ja",null,null,null,null,"",null,"",{"$f":"IFERROR(VLOOKUP(F32393,Biomasser!$A$3:$E$88,4,FALSE),0)","v":0},null,{"$f":"IFERROR(VLOOKUP(F32393,Biomasser!$A$3:$E$88,5,FALSE),0)","v":0},"",0,null,null,{"$f":"IFERROR(VLOOKUP(F32393,Biomasser!$A$3:$M$88,13,FALSE),)","v":0},null,null,null,null,null,{"$f":"IF(F32393<>\"\",'CO2 konvertering'!$C$14,)","v":0},null,null,null,null,0]
[null,null,null,"Ja",null,null,null,null,"",null,"",{"$f":"IFERROR(VLOOKUP(F32437,Biomasser!$A$3:$E$88,4,FALSE),0)","v":0},null,{"$f":"IFERROR(VLOOKUP(F32437,Biomasser!$A$3:$E$88,5,FALSE),0)","v":0},"",0,null,null,{"$f":"IFERROR(VLOOKUP(F32437,Biomasser!$A$3:$M$88,13,FALSE),)","v":0},null,null,null,null,null,{"$f":"IF(F32437<>\"\",'CO2 konvertering'!$C$14,)","v":0},null,null,null,null,0]
[null,null,null,"Ja",null,null,null,null,"",null,"",{"$f":"IFERROR(VLOOKUP(F32550,Biomasser!$A$3:$E$88,4,FALSE),0)","v":0},null,{"$f":"IFERROR(VLOOKUP(F32550,Biomasser!$A$3:$E$88,5,FALSE),0)","v":0},"",0,null,null,{"$f":"IFERROR(VLOOKUP(F32550,Biomasser!$A$3:$M$88,13,FALSE),)","v":0},null,null,null,null,null,{"$f":"IF(F32550<>\"\",'CO2 konvertering'!$C$14,)","v":0},null,null,null,null,0]
[null,null,null,"Ja",null,null,null,null,"",null,"",{"$f":"IFERROR(VLOOKUP(F32589,Biomasser!$A$3:$E$88,4,FALSE),0)","v":0},null,{"$f":"IFERROR(VLOOKUP(F32589,Biomasser!$A$3:$E$88,5,FALSE),0)","v":0},"",0,null,null,{"$f":"IFERROR(VLOOKUP(F32589,Biomasser!$A$3:$M$88,13,FALSE),)","v":0},null,null,null,null,null,{"$f":"IF(F32589<>\"\",'CO2 konvertering'!$C$14,)","v":0},null,null,null,null,0]
[null,null,null,"Ja",null,null,null,null,"",null,"",{"$f":"IFERROR(VLOOKUP(F32707,Biomasser!$A$3:$E$88,4,FALSE),0)","v":0},null,{"$f":"IFERROR(VLOOKUP(F32707,Biomasser!$A$3:$E$88,5,FALSE),0)","v":0},"",0,null,null,{"$f":"IFERROR(VLOOKUP(F32707,Biomasser!$A$3:$M$88,13,FALSE),)","v":0},null,null,null,null,null,{"$f":"IF(F32707<>\"\",'CO2 konvertering'!$C$14,)","v":0},null,null,null,null,0]
[null,null,null,"Ja",null,null,null,null,"",null,"",{"$f":"IFERROR(VLOOKUP(F32741,Biomasser!$A$3:$E$88,4,FALSE),0)","v":0},null,{"$f":"IFERROR(VLOOKUP(F32741,Biomasser!$A$3:$E$88,5,FALSE),0)","v":0},"",0,null,null,{"$f":"IFERROR(VLOOKUP(F32741,Biomasser!$A$3:$M$88,13,FALSE),)","v":0},null,null,null,null,null,{"$f":"IF(F32741<>\"\",'CO2 konvertering'!$C$14,)","v":0},null,null,null,null,0]
[null,null,null,"Ja",null,null,null,null,"",null,"",{"$f":"IFERROR(VLOOKUP(F32820,Biomasser!$A$3:$E$88,4,FALSE),0)","v":0},null,{"$f":"IFERROR(VLOOKUP(F32820,Biomasser!$A$3:$E$88,5,FALSE),0)","v":0},"",0,null,null,{"$f":"IFERROR(VLOOKUP(F32820,Biomasser!$A$3:$M$88,13,FALSE),)","v":0},null,null,null,null,null,{"$f":"IF(F32820<>\"\",'CO2 konvertering'!$C$14,)","v":0},null,null,null,null,0]
[null,null,null,"Ja",null,null,null,null,"",null,"",{"$f":"IFERROR(VLOOKUP(F32893,Biomasser!$A$3:$E$88,4,FALSE),0)","v":0},null,{"$f":"IFERROR(VLOOKUP(F32893,Biomasser!$A$3:$E$88,5,FALSE),0)","v":0},"",0,null,null,{"$f":"IFERROR(VLOOKUP(F32893,Biomasser!$A$3:$M$88,13,FALSE),)","v":0},null,null,null,null,null,{"$f":"IF(F32893<>\"\",'CO2 konvertering'!$C$14,)","v":0},null,null,null,null,0]
["Gas","11. november",2015,null,null,{"$f":"SUM(H32980:H33080)","v":0},null,null,"m3 CH4"]
[null,null,null,"Ja",null,null,null,null,"",null,"",{"$f":"IFERROR(VLOOKUP(F33074,Biomasser!$A$3:$E$88,4,FALSE),0)","v":0},null,{"$f":"IFERROR(VLOOKUP(F33074,Biomasser!$A$3:$E$88,5,FALSE),0)","v":0},"",0,null,null,{"$f":"IFERROR(VLOOKUP(F33074,Biomasser!$A$3:$M$88,13,FALSE),)","v":0},null,null,null,null,null,{"$f":"IF(F33074<>\"\",'CO2 konvertering'!$C$14,)","v":0},null,null,null,null,0]
[null,null,null,"Ja",null,null,null,null,"",null,"",{"$f":"IFERROR(VLOOKUP(F33134,Biomasser!$A$3:$E$88,4,FALSE),0)","v":0},null,{"$f":"IFERROR(VLOOKUP(F33134,Biomasser!$A$3:$E$88,5,FALSE),0)","v":0},"",0,null,null,{"$f":"IFERROR(VLOOKUP(F33134,Biomasser!$A$3:$M$88,13,FALSE),)","v":0},null,null,null,null,null,{"$f":"IF(F33134<>\"\",'CO2 konvertering'!$C$14,)","v":0},null,null,null,null,0]
[null,null,null,"Ja",null,null,null,null,"",null,"",{"$f":"IFERROR(VLOOKUP(F33226,Biomasser!$A$3:$E$88,4,FALSE),0)","v":0},null,{"$f":"IFERROR(VLOOKUP(F33226,Biomasser!$A$3:$E$88,5,FALSE),0)","v":0},"",0,null,null,{"$f":"IFERROR(VLOOKUP(F33226,Biomasser!$A$3:$M$88,13,FALSE),)","v":0},null,null,null,null,null,{"$f":"IF(F33226<>\"\",'CO2 konvertering'!$C$14,)","v":0},null,null,null,null,0]
[null,"Dato:",null,null,null,"Mængde biomasse (Ton)",null,"Gasproduktion"]
[null,null,null,"Ja",null,null,null,null,"",null,"",{"$f":"IFERROR(VLOOKUP(F33378,Biomasser!$A$3:$E$88,4,FALSE),0)","v":0},null,{"$f":"IFERROR(VLOOKUP(F33378,Biomasser!$A$3:$E$88,5,FALSE),0)","v":0},"",0,null,null,{"$f":"IFERROR(VLOOKUP(F33378,Biomasser!$A$3:$M$88,13,FALSE),)","v":0},null,null,null,null,null,{"$f":"IF(F33378<>\"\",'CO2 konvertering'!$C$14,)","v":0},null,null,null,null,0]
[null,null,null,"Ja",null,null,null,null,"",null,"",{"$f":"IFERROR(VLOOKUP(F33404,Biomasser!$A$3:$E$88,4,FALSE),0)","v":0},null,{"$f":"IFERROR(VLOOKUP(F33404,Biomasser!$A$3:$E$88,5,FALSE),0)","v":0},{"$f":"IF(AND(F33404<>\"\",(N33404=0)),\"Opdater biomasseark\",\"\")","v":""},0,null,null,{"$f":"IFERROR(VLOOKUP(F33404,Biomasser!$A$3:$M$88,13,FALSE),)","v":0},null,null,null,null,null,{"$f":"IF(F33404<>\"\",'CO2 konvertering'!$C$14,)","v":0},null,null,null,null,0]
[null,null,null,"Ja",null,null,null,null,"",null,"",{"$f":"IFERROR(VLOOKUP(F33530,Biomasser!$A$3:$E$88,4,FALSE),0)","v":0},null,{"$f":"IFERROR(VLOOKUP(F33530,Biomasser!$A$3:$E$88,5,FALSE),0)","v":0},"",0,null,null,{"$f":"IFERROR(VLOOKUP(F33530,Biomasser!$A$3:$M$88,13,FALSE),)","v":0},null,null,null,null,null,{"$f":"IF(F33530<>\"\",'CO2 konvertering'!$C$14,)","v":0},null,null,null,null,0]
[null,null,null,"Ja",null,null,null,null,"",null,"",{"$f":"IFERROR(VLOOKUP(F33561,Biomasser!$A$3:$E$88,4,FALSE),0)","v":0},null,{"$f":"IFERROR(VLOOKUP(F33561,Biomasser!$A$3:$E$88,5,FALSE),0)","v":0},"",0,null,null,{"$f":"IFERROR(VLOOKUP(F33561,Biomasser!$A$3:$M$88,13,FALSE),)","v":0},null,null,null,null,null,{"$f":"IF(F33561<>\"\",'CO2 konvertering'!$C$14,)","v":0},null,null,null,null,0]
[null,null,null,"Ja",null,null,null,null,"",null,"",{"$f":"IFERROR(VLOOKUP(F33682,Biomasser!$A$3:$E$88,4,FALSE),0)","v":0},null,{"$f":"IFERROR(VLOOKUP(F33682,Biomasser!$A$3:$E$88,5,FALSE),0)","v":0},"",0,null,null,{"$f":"IFERROR(VLOOKUP(F33682,Biomasser!$A$3:$M$88,13,FALSE),)","v":0},null,null,null,null,null,{"$f":"IF(F33682<>\"\",'CO2 konvertering'!$C$14,)","v":0},null,null,null,null,0]
[null,null,null,"Ja",null,null,null,null,"",null,"",{"$f":"IFERROR(VLOOKUP(F33718,Biomasser!$A$3:$E$88,4,FALSE),0)","v":0},null,{"$f":"IFERROR(VLOOKUP(F33718,Biomasser!$A$3:$E$88,5,FALSE),0)","v":0},{"$f":"IF(AND(F33718<>\"\",(N33718=0)),\"Opdater biomasseark\",\"\")","v":""},0,null,null,{"$f":"IFERROR(VLOOKUP(F33718,Biomasser!$A$3:$M$88,13,FALSE),)","v":0},null,null,null,null,null,{"$f":"IF(F33718<>\"\",'CO2 konvertering'!$C$14,)","v":0},null,null,null,null,0]
[null,null,null,"Ja",null,null,null,null,"",null,"",{"$f":"IFERROR(VLOOKUP(F33788,Biomasser!$A$3:$E$88,4,FALSE),0)","v":0},null,{"$f":"IFERROR(VLOOKUP(F33788,Biomasser!$A$3:$E$88,5,FALSE),0)","v":0},"",0,null,null,{"$f":"IFERROR(VLOOKUP(F33788,Biomasser!$A$3:$M$88,13,FALSE),)","v":0},null,null,null,null,null,{"$f":"IF(F33788<>\"\",'CO2 konvertering'!$C$14,)","v":0},null,null,null,null,0]
[null,null,null,"Ja",null,null,null,null,"",null,"",{"$f":"IFERROR(VLOOKUP(F33875,Biomasser!$A$3:$E$88,4,FALSE),0)","v":0},null,{"$f":"IFERROR(VLOOKUP(F33875,Biomasser!$A$3:$E$88,5,FALSE),0)","v":0},"",0,null,null,{"$f":"IFERROR(VLOOKUP(F33875,Biomasser!$A$3:$M$88,13,FALSE),)","v":0},null,null,null,null,null,{"$f":"IF(F33875<>\"\",'CO2 konvertering'!$C$14,)","v":0},null,null,null,null,0]
[null,null,null,"Ja",null,null,null,null,"",null,"",{"$f":"IFERROR(VLOOKUP(F33940,Biomasser!$A$3:$E$88,4,FALSE),0)","v":0},null,{"$f":"IFERROR(VLOOKUP(F33940,Biomasser!$A$3:$E$88,5,FALSE),0)","v":0},"",0,null,null,{"$f":"IFERROR(VLOOKUP(F33940,Biomasser!$A$3:$M$88,13,FALSE),)","v":0},null,null,null,null,null,{"$f":"IF(F33940<>\"\",'CO2 konvertering'!$C$14,)","v":0},null,null,null,null,0]
[null,null,null,"Ja",null,null,null,null,"",null,"",{"$f":"IFERROR(VLOOKUP(F34064,Biomasser!$A$3:$E$88,4,FALSE),0)","v":0},null,{"$f":"IFERROR(VLOOKUP(F34064,Biomasser!$A$3:$E$88,5,FALSE),0)","v":0},"",0,null,null,{"$f":"IFERROR(VLOOKUP(F34064,Biomasser!$A$3:$M$88,13,FALSE),)","v":0},null,null,null,null,null,{"$f":"IF(F34064<>\"\",'CO2 konvertering'!$C$14,)","v":0},null,null,null,null,0]
[null,null,null,"Ja",null,null,null,null,"",null,"",{"$f":"IFERROR(VLOOKUP(F34092,Biomasser!$A$3:$E$88,4,FALSE),0)","v":0},null,{"$f":"IFERROR(VLOOKUP(F34092,Biomasser!$A$3:$E$88,5,FALSE),0)","v":0},"",0,null,null,{"$f":"IFERROR(VLOOKUP(F34092,Biomasser!$A$3:$M$88,13,FALSE),)","v":0},null,null,null,null,null,{"$f":"IF(F34092<>\"\",'CO2 konvertering'!$C$14,)","v":0},null,null,null,null,0]
[null,null,null,"Ja",null,null,null,null,"",null,"",{"$f":"IFERROR(VLOOKUP(F34221,Biomasser!$A$3:$E$88,4,FALSE),0)","v":0},null,{"$f":"IFERROR(VLOOKUP(F34221,Biomasser!$A$3:$E$88,5,FALSE),0)","v":0},"",0,null,null,{"$f":"IFERROR(VLOOKUP(F34221,Biomasser!$A$3:$M$88,13,FALSE),)","v":0},null,null,null,null,null,{"$f":"IF(F34221<>\"\",'CO2 konvertering'!$C$14,)","v":0},null,null,null,null,0]
[null,null,null,"Ja",null,null,null,null,"",null,"",{"$f":"IFERROR(VLOOKUP(F34244,Biomasser!$A$3:$E$88,4,FALSE),0)","v":0},null,{"$f":"IFERROR(VLOOKUP(F34244,Biomasser!$A$3:$E$88,5,FALSE),0)","v":0},{"$f":"IF(AND(F34244<>\"\",(N34244=0)),\"Opdater biomasseark\",\"\")","v":""},0,null,null,{"$f":"IFERROR(VLOOKUP(F34244,Biomasser!$A$3:$M$88,13,FALSE),)","v":0},null,null,null,null,null,{"$f":"IF(F34244<>\"\",'CO2 konvertering'!$C$14,)","v":0},null,null,null,null,0]
[null,null,null,"Ja",null,null,null,null,"",null,"",{"$f":"IFERROR(VLOOKUP(F34302,Biomasser!$A$3:$E$88,4,FALSE),0)","v":0},null,{"$f":"IFERROR(VLOOKUP(F34302,Biomasser!$A$3:$E$88,5,FALSE),0)","v":0},"",0,null,null,{"$f":"IFERROR(VLOOKUP(F34302,Biomasser!$A$3:$M$88,13,FALSE),)","v":0},null,null,null,null,null,{"$f":"IF(F34302<>\"\",'CO2 konvertering'!$C$14,)","v":0},null,null,null,null,0]
[null,null,null,"Ja",null,null,null,null,"",null,"",{"$f":"IFERROR(VLOOKUP(F34425,Biomasser!$A$3:$E$88,4,FALSE),0)","v":0},null,{"$f":"IFERROR(VLOOKUP(F34425,Biomasser!$A$3:$E$88,5,FALSE),0)","v":0},"",0,null,null,{"$f":"IFERROR(VLOOKUP(F34425,Biomasser!$A$3:$M$88,13,FALSE),)","v":0},null,null,null,null,null,{"$f":"IF(F34425<>\"\",'CO2 konvertering'!$C$14,)","v":0},null,null,null,null,0]
[null,null,null,"Ja",null,null,null,null,"",null,"",{"$f":"IFERROR(VLOOKUP(F34459,Biomasser!$A$3:$E$88,4,FALSE),0)","v":0},null,{"$f":"IFERROR(VLOOKUP(F34459,Biomasser!$A$3:$E$88,5,FALSE),0)","v":0},"",0,null,null,{"$f":"IFERROR(VLOOKUP(F34459,Biomasser!$A$3:$M$88,13,FALSE),)","v":0},null,null,null,null,null,{"$f":"IF(F34459<>\"\",'CO2 konvertering'!$C$14,)","v":0},null,null,null,null,0]
[null,null,null,"Ja",null,null,null,null,"",null,"",{"$f":"IFERROR(VLOOKUP(F34577,Biomasser!$A$3:$E$88,4,FALSE),0)","v":0},null,{"$f":"IFERROR(VLOOKUP(F34577,Biomasser!$A$3:$E$88,5,FALSE),0)","v":0},"",0,null,null,{"$f":"IFERROR(VLOOKUP(F34577,Biomasser!$A$3:$M$88,13,FALSE),)","v":0},null,null,null,null,null,{"$f":"IF(F34577<>\"\",'CO2 konvertering'!$C$14,)","v":0},null,null,null,null,0]
[null,null,null,"Ja",null,null,null,null,"",null,"",{"$f":"IFERROR(VLOOKUP(F34648,Biomasser!$A$3:$E$88,4,FALSE),0)","v":0},null,{"$f":"IFERROR(VLOOKUP(F34648,Biomasser!$A$3:$E$88,5,FALSE),0)","v":0},"",0,null,null,{"$f":"IFERROR(VLOOKUP(F34648,Biomasser!$A$3:$M$88,13,FALSE),)","v":0},null,null,null,null,null,{"$f":"IF(F34648<>\"\",'CO2 konvertering'!$C$14,)","v":0},null,null,null,null,0]
[null,null,null,"Ja",null,null,null,null,"",null,"",{"$f":"IFERROR(VLOOKUP(F34729,Biomasser!$A$3:$E$88,4,FALSE),0)","v":0},null,{"$f":"IFERROR(VLOOKUP(F34729,Biomasser!$A$3:$E$88,5,FALSE),0)","v":0},"",0,null,null,{"$f":"IFERROR(VLOOKUP(F34729,Biomasser!$A$3:$M$88,13,FALSE),)","v":0},null,null,null,null,null,{"$f":"IF(F34729<>\"\",'CO2 konvertering'!$C$14,)","v":0},null,null,null,null,0]
[null,null,null,"Ja",null,null,null,null,"",null,"",{"$f":"IFERROR(VLOOKUP(F34805,Biomasser!$A$3:$E$88,4,FALSE),0)","v":0},null,{"$f":"IFERROR(VLOOKUP(F34805,Biomasser!$A$3:$E$88,5,FALSE),0)","v":0},"",0,null,null,{"$f":"IFERROR(VLOOKUP(F34805,Biomasser!$A$3:$M$88,13,FALSE),)","v":0},null,null,null,null,null,{"$f":"IF(F34805<>\"\",'CO2 konvertering'!$C$14,)","v":0},null,null,null,null,0]
[null,null,null,"Ja",null,null,null,null,"",null,"",{"$f":"IFERROR(VLOOKUP(F34881,Biomasser!$A$3:$E$88,4,FALSE),0)","v":0},null,{"$f":"IFERROR(VLOOKUP(F34881,Biomasser!$A$3:$E$88,5,FALSE),0)","v":0},"",0,null,null,{"$f":"IFERROR(VLOOKUP(F34881,Biomasser!$A$3:$M$88,13,FALSE),)","v":0},null,null,null,null,null,{"$f":"IF(F34881<>\"\",'CO2 konvertering'!$C$14,)","v":0},null,null,null,null,0]
[null,null,null,"Ja",null,null,null,null,"",null,"",{"$f":"IFERROR(VLOOKUP(F34962,Biomasser!$A$3:$E$88,4,FALSE),0)","v":0},null,{"$f":"IFERROR(VLOOKUP(F34962,Biomasser!$A$3:$E$88,5,FALSE),0)","v":0},"",0,null,null,{"$f":"IFERROR(VLOOKUP(F34962,Biomasser!$A$3:$M$88,13,FALSE),)","v":0},null,null,null,null,null,{"$f":"IF(F34962<>\"\",'CO2 konvertering'!$C$14,)","v":0},null,null,null,null,0]
[null,null,null,"Ja",null,null,null,null,"",null,"",{"$f":"IFERROR(VLOOKUP(F35019,Biomasser!$A$3:$E$88,4,FALSE),0)","v":0},null,{"$f":"IFERROR(VLOOKUP(F35019,Biomasser!$A$3:$E$88,5,FALSE),0)","v":0},"",0,null,null,{"$f":"IFERROR(VLOOKUP(F35019,Biomasser!$A$3:$M$88,13,FALSE),)","v":0},null,null,null,null,null,{"$f":"IF(F35019<>\"\",'CO2 konvertering'!$C$14,)","v":0},null,null,null,null,0]
[null,null,null,"Ja",null,null,null,null,"",null,"",{"$f":"IFERROR(VLOOKUP(F35124,Biomasser!$A$3:$E$88,4,FALSE),0)","v":0},null,{"$f":"IFERROR(VLOOKUP(F35124,Biomasser!$A$3:$E$88,5,FALSE),0)","v":0},"",0,null,null,{"$f":"IFERROR(VLOOKUP(F35124,Biomasser!$A$3:$M$88,13,FALSE),)","v":0},null,null,null,null,null,{"$f":"IF(F35124<>\"\",'CO2 konvertering'!$C$14,)","v":0},null,null,null,null,0]
[null,null,null,"Ja",null,null,null,null,"",null,"",{"$f":"IFERROR(VLOOKUP(F35176,Biomasser!$A$3:$E$88,4,FALSE),0)","v":0},null,{"$f":"IFERROR(VLOOKUP(F35176,Biomasser!$A$3:$E$88,5,FALSE),0)","v":0},"",0,null,null,{"$f":"IFERROR(VLOOKUP(F35176,Biomasser!$A$3:$M$88,13,FALSE),)","v":0},null,null,null,null,null,{"$f":"IF(F35176<>\"\",'CO2 konvertering'!$C$14,)","v":0},null,null,null,null,{"$f":"SUM(S35176:AC35176)","v":0}]
[null,null,null,"Ja",null,null,null,null,"",null,"",{"$f":"IFERROR(VLOOKUP(F35276,Biomasser!$A$3:$E$88,4,FALSE),0)","v":0},null,{"$f":"IFERROR(VLOOKUP(F35276,Biomasser!$A$3:$E$88,5,FALSE),0)","v":0},"",0,null,null,{"$f":"IFERROR(VLOOKUP(F35276,Biomasser!$A$3:$M$88,13,FALSE),)","v":0},null,null,null,null,null,{"$f":"IF(F35276<>\"\",'CO2 konvertering'!$C$14,)","v":0},null,null,null,null,0]
[null,null,null,"Ja",null,null,null,null,"",null,"",{"$f":"IFERROR(VLOOKUP(F35333,Biomasser!$A$3:$E$88,4,FALSE),0)","v":0},null,{"$f":"IFERROR(VLOOKUP(F35333,Biomasser!$A$3:$E$88,5,FALSE),0)","v":0},"",0,null,null,{"$f":"IFERROR(VLOOKUP(F35333,Biomasser!$A$3:$M$88,13,FALSE),)","v":0},null,null,null,null,null,{"$f":"IF(F35333<>\"\",'CO2 konvertering'!$C$14,)","v":0},null,null,null,null,0]
[null,null,null,"Ja",null,null,null,null,"",null,"",{"$f":"IFERROR(VLOOKUP(F35382,Biomasser!$A$3:$E$88,4,FALSE),0)","v":0},null,{"$f":"IFERROR(VLOOKUP(F35382,Biomasser!$A$3:$E$88,5,FALSE),0)","v":0},"",0,null,null,{"$f":"IFERROR(VLOOKUP(F35382,Biomasser!$A$3:$M$88,13,FALSE),)","v":0},null,null,null,null,null,{"$f":"IF(F35382<>\"\",'CO2 konvertering'!$C$14,)","v":0},null,null,null,null,0]
[null,null,null,"Ja",null,null,null,null,"",null,"",{"$f":"IFERROR(VLOOKUP(F35490,Biomasser!$A$3:$E$88,4,FALSE),0)","v":0},null,{"$f":"IFERROR(VLOOKUP(F35490,Biomasser!$A$3:$E$88,5,FALSE),0)","v":0},"",0,null,null,{"$f":"IFERROR(VLOOKUP(F35490,Biomasser!$A$3:$M$88,13,FALSE),)","v":0},null,null,null,null,null,{"$f":"IF(F35490<>\"\",'CO2 konvertering'!$C$14,)","v":0},null,null,null,null,0]
[null,null,null,"Ja",null,null,null,null,"",null,"",{"$f":"IFERROR(VLOOKUP(F35534,Biomasser!$A$3:$E$88,4,FALSE),0)","v":0},null,{"$f":"IFERROR(VLOOKUP(F35534,Biomasser!$A$3:$E$88,5,FALSE),0)","v":0},"",0,null,null,{"$f":"IFERROR(VLOOKUP(F35534,Biomasser!$A$3:$M$88,13,FALSE),)","v":0},null,null,null,null,null,{"$f":"IF(F35534<>\"\",'CO2 konvertering'!$C$14,)","v":0},null,null,null,null,0]
[null,"Leverandør",null,"Certificeret",null,"Råvarer input","          Mængder                 \n      (Ton vådvægt)            ",null,null,"Tørstof\n%",null,"Omsættelig tørstof\n%",null,"Gaspotentiale\nm³ CH4/ton VS",null,"Teoretisk\ngasproduktion\nm³ CH4"]
[null,null,null,"Ja",null,null,null,null,"",null,"",{"$f":"IFERROR(VLOOKUP(F35686,Biomasser!$A$3:$E$88,4,FALSE),0)","v":0},null,{"$f":"IFERROR(VLOOKUP(F35686,Biomasser!$A$3:$E$88,5,FALSE),0)","v":0},"",0,null,null,{"$f":"IFERROR(VLOOKUP(F35686,Biomasser!$A$3:$M$88,13,FALSE),)","v":0},null,null,null,null,null,{"$f":"IF(F35686<>\"\",'CO2 konvertering'!$C$14,)","v":0},null,null,null,null,0]
[null,null,null,"Ja",null,null,null,null,"",null,"",{"$f":"IFERROR(VLOOKUP(F35760,Biomasser!$A$3:$E$88,4,FALSE),0)","v":0},null,{"$f":"IFERROR(VLOOKUP(F35760,Biomasser!$A$3:$E$88,5,FALSE),0)","v":0},"",0,null,null,{"$f":"IFERROR(VLOOKUP(F35760,Biomasser!$A$3:$M$88,13,FALSE),)","v":0},null,null,null,null,null,{"$f":"IF(F35760<>\"\",'CO2 konvertering'!$C$14,)","v":0},null,null,null,null,0]
[null,null,null,"Ja",null,null,null,null,"",null,"",{"$f":"IFERROR(VLOOKUP(F35838,Biomasser!$A$3:$E$88,4,FALSE),0)","v":0},null,{"$f":"IFERROR(VLOOKUP(F35838,Biomasser!$A$3:$E$88,5,FALSE),0)","v":0},"",0,null,null,{"$f":"IFERROR(VLOOKUP(F35838,Biomasser!$A$3:$M$88,13,FALSE),)","v":0},null,null,null,null,null,{"$f":"IF(F35838<>\"\",'CO2 konvertering'!$C$14,)","v":0},null,null,null,null,0]
["Gas","9. december",2015,null,null,{"$f":"SUM(H35920:H36020)","v":0},null,null,"m3 CH4"]
[null,null,null,"Ja",null,null,null,null,"",null,"",{"$f":"IFERROR(VLOOKUP(F36019,Biomasser!$A$3:$E$88,4,FALSE),0)","v":0},null,{"$f":"IFERROR(VLOOKUP(F36019,Biomasser!$A$3:$E$88,5,FALSE),0)","v":0},"",0,null,null,{"$f":"IFERROR(VLOOKUP(F36019,Biomasser!$A$3:$M$88,13,FALSE),)","v":0},null,null,null,null,null,{"$f":"IF(F36019<>\"\",'CO2 konvertering'!$C$14,)","v":0},null,null,null,null,0]
[null,null,null,"Ja",null,null,null,null,"",null,"",{"$f":"IFERROR(VLOOKUP(F36074,Biomasser!$A$3:$E$88,4,FALSE),0)","v":0},null,{"$f":"IFERROR(VLOOKUP(F36074,Biomasser!$A$3:$E$88,5,FALSE),0)","v":0},"",0,null,null,{"$f":"IFERROR(VLOOKUP(F36074,Biomasser!$A$3:$M$88,13,FALSE),)","v":0},null,null,null,null,null,{"$f":"IF(F36074<>\"\",'CO2 konvertering'!$C$14,)","v":0},null,null,null,null,0]
[null,null,null,"Ja",null,null,null,null,"",null,"",{"$f":"IFERROR(VLOOKUP(F36171,Biomasser!$A$3:$E$88,4,FALSE),0)","v":0},null,{"$f":"IFERROR(VLOOKUP(F36171,Biomasser!$A$3:$E$88,5,FALSE),0)","v":0},"",0,null,null,{"$f":"IFERROR(VLOOKUP(F36171,Biomasser!$A$3:$M$88,13,FALSE),)","v":0},null,null,null,null,null,{"$f":"IF(F36171<>\"\",'CO2 konvertering'!$C$14,)","v":0},null,null,null,null,0]
[null,null,null,"Ja",null,null,null,null,"",null,"",{"$f":"IFERROR(VLOOKUP(F36263,Biomasser!$A$3:$E$88,4,FALSE),0)","v":0},null,{"$f":"IFERROR(VLOOKUP(F36263,Biomasser!$A$3:$E$88,5,FALSE),0)","v":0},"",0,null,null,{"$f":"IFERROR(VLOOKUP(F36263,Biomasser!$A$3:$M$88,13,FALSE),)","v":0},null,null,null,null,null,{"$f":"IF(F36263<>\"\",'CO2 konvertering'!$C$14,)","v":0},null,null,null,null,0]
[null,null,null,"Ja",null,null,null,null,"",null,"",{"$f":"IFERROR(VLOOKUP(F36323,Biomasser!$A$3:$E$88,4,FALSE),0)","v":0},null,{"$f":"IFERROR(VLOOKUP(F36323,Biomasser!$A$3:$E$88,5,FALSE),0)","v":0},"",0,null,null,{"$f":"IFERROR(VLOOKUP(F36323,Biomasser!$A$3:$M$88,13,FALSE),)","v":0},null,null,null,null,null,{"$f":"IF(F36323<>\"\",'CO2 konvertering'!$C$14,)","v":0},null,null,null,null,0]
[null,null,null,"Ja",null,null,null,null,"",null,"",{"$f":"IFERROR(VLOOKUP(F36344,Biomasser!$A$3:$E$88,4,FALSE),0)","v":0},null,{"$f":"IFERROR(VLOOKUP(F36344,Biomasser!$A$3:$E$88,5,FALSE),0)","v":0},{"$f":"IF(AND(F36344<>\"\",(N36344=0)),\"Opdater biomasseark\",\"\")","v":""},0,null,null,{"$f":"IFERROR(VLOOKUP(F36344,Biomasser!$A$3:$M$88,13,FALSE),)","v":0},null,null,null,null,null,{"$f":"IF(F36344<>\"\",'CO2 konvertering'!$C$14,)","v":0},null,null,null,null,0]
[null,null,null,"Ja",null,null,null,null,"",null,"",{"$f":"IFERROR(VLOOKUP(F36475,Biomasser!$A$3:$E$88,4,FALSE),0)","v":0},null,{"$f":"IFERROR(VLOOKUP(F36475,Biomasser!$A$3:$E$88,5,FALSE),0)","v":0},"",0,null,null,{"$f":"IFERROR(VLOOKUP(F36475,Biomasser!$A$3:$M$88,13,FALSE),)","v":0},null,null,null,null,null,{"$f":"IF(F36475<>\"\",'CO2 konvertering'!$C$14,)","v":0},null,null,null,null,0]
[null,null,null,"Ja",null,null,null,null,"",null,"",{"$f":"IFERROR(VLOOKUP(F36501,Biomasser!$A$3:$E$88,4,FALSE),0)","v":0},null,{"$f":"IFERROR(VLOOKUP(F36501,Biomasser!$A$3:$E$88,5,FALSE),0)","v":0},"",0,null,null,{"$f":"IFERROR(VLOOKUP(F36501,Biomasser!$A$3:$M$88,13,FALSE),)","v":0},null,null,null,null,null,{"$f":"IF(F36501<>\"\",'CO2 konvertering'!$C$14,)","v":0},null,null,null,null,0]
[null,null,null,"Ja",null,null,null,null,"",null,"",{"$f":"IFERROR(VLOOKUP(F36581,Biomasser!$A$3:$E$88,4,FALSE),0)","v":0},null,{"$f":"IFERROR(VLOOKUP(F36581,Biomasser!$A$3:$E$88,5,FALSE),0)","v":0},"",0,null,null,{"$f":"IFERROR(VLOOKUP(F36581,Biomasser!$A$3:$M$88,13,FALSE),)","v":0},null,null,null,null,null,{"$f":"IF(F36581<>\"\",'CO2 konvertering'!$C$14,)","v":0},null,null,null,null,0]
[null,null,null,"Ja",null,null,null,null,"",null,"",{"$f":"IFERROR(VLOOKUP(F36658,Biomasser!$A$3:$E$88,4,FALSE),0)","v":0},null,{"$f":"IFERROR(VLOOKUP(F36658,Biomasser!$A$3:$E$88,5,FALSE),0)","v":0},{"$f":"IF(AND(F36658<>\"\",(N36658=0)),\"Opdater biomasseark\",\"\")","v":""},0,null,null,{"$f":"IFERROR(VLOOKUP(F36658,Biomasser!$A$3:$M$88,13,FALSE),)","v":0},null,null,null,null,null,{"$f":"IF(F36658<>\"\",'CO2 konvertering'!$C$14,)","v":0},null,null,null,null,0]
[null,null,null,"Ja",null,null,null,null,"",null,"",{"$f":"IFERROR(VLOOKUP(F36733,Biomasser!$A$3:$E$88,4,FALSE),0)","v":0},null,{"$f":"IFERROR(VLOOKUP(F36733,Biomasser!$A$3:$E$88,5,FALSE),0)","v":0},"",0,null,null,{"$f":"IFERROR(VLOOKUP(F36733,Biomasser!$A$3:$M$88,13,FALSE),)","v":0},null,null,null,null,null,{"$f":"IF(F36733<>\"\",'CO2 konvertering'!$C$14,)","v":0},null,null,null,null,0]
[null,null,null,"Ja",null,null,null,null,"",null,"",{"$f":"IFERROR(VLOOKUP(F36815,Biomasser!$A$3:$E$88,4,FALSE),0)","v":0},null,{"$f":"IFERROR(VLOOKUP(F36815,Biomasser!$A$3:$E$88,5,FALSE),0)","v":0},"",0,null,null,{"$f":"IFERROR(VLOOKUP(F36815,Biomasser!$A$3:$M$88,13,FALSE),)","v":0},null,null,null,null,null,{"$f":"IF(F36815<>\"\",'CO2 konvertering'!$C$14,)","v":0},null,null,null,null,0]
[null,null,null,"Ja",null,null,null,null,"",null,"",{"$f":"IFERROR(VLOOKUP(F36885,Biomasser!$A$3:$E$88,4,FALSE),0)","v":0},null,{"$f":"IFERROR(VLOOKUP(F36885,Biomasser!$A$3:$E$88,5,FALSE),0)","v":0},"",0,null,null,{"$f":"IFERROR(VLOOKUP(F36885,Biomasser!$A$3:$M$88,13,FALSE),)","v":0},null,null,null,null,null,{"$f":"IF(F36885<>\"\",'CO2 konvertering'!$C$14,)","v":0},null,null,null,null,0]
[null,null,null,"Ja",null,null,null,null,"",null,"",{"$f":"IFERROR(VLOOKUP(F37004,Biomasser!$A$3:$E$88,4,FALSE),0)","v":0},null,{"$f":"IFERROR(VLOOKUP(F37004,Biomasser!$A$3:$E$88,5,FALSE),0)","v":0},"",0,null,null,{"$f":"IFERROR(VLOOKUP(F37004,Biomasser!$A$3:$M$88,13,FALSE),)","v":0},null,null,null,null,null,{"$f":"IF(F37004<>\"\",'CO2 konvertering'!$C$14,)","v":0},null,null,null,null,0]
[null,null,null,"Ja",null,null,null,null,"",null,"",{"$f":"IFERROR(VLOOKUP(F37037,Biomasser!$A$3:$E$88,4,FALSE),0)","v":0},null,{"$f":"IFERROR(VLOOKUP(F37037,Biomasser!$A$3:$E$88,5,FALSE),0)","v":0},"",0,null,null,{"$f":"IFERROR(VLOOKUP(F37037,Biomasser!$A$3:$M$88,13,FALSE),)","v":0},null,null,null,null,null,{"$f":"IF(F37037<>\"\",'CO2 konvertering'!$C$14,)","v":0},null,null,null,null,0]
[null,null,null,"Ja",null,null,null,null,"",null,"",{"$f":"IFERROR(VLOOKUP(F37161,Biomasser!$A$3:$E$88,4,FALSE),0)","v":0},null,{"$f":"IFERROR(VLOOKUP(F37161,Biomasser!$A$3:$E$88,5,FALSE),0)","v":0},"",0,null,null,{"$f":"IFERROR(VLOOKUP(F37161,Biomasser!$A$3:$M$88,13,FALSE),)","v":0},null,null,null,null,null,{"$f":"IF(F37161<>\"\",'CO2 konvertering'!$C$14,)","v":0},null,null,null,null,0]
[null,null,null,"Ja",null,null,null,null,"",null,"",{"$f":"IFERROR(VLOOKUP(F37218,Biomasser!$A$3:$E$88,4,FALSE),0)","v":0},null,{"$f":"IFERROR(VLOOKUP(F37218,Biomasser!$A$3:$E$88,5,FALSE),0)","v":0},"",0,null,null,{"$f":"IFERROR(VLOOKUP(F37218,Biomasser!$A$3:$M$88,13,FALSE),)","v":0},null,null,null,null,null,{"$f":"IF(F37218<>\"\",'CO2 konvertering'!$C$14,)","v":0},null,null,null,null,0]
[null,null,null,"Ja",null,null,null,null,"",null,"",{"$f":"IFERROR(VLOOKUP(F37318,Biomasser!$A$3:$E$88,4,FALSE),0)","v":0},null,{"$f":"IFERROR(VLOOKUP(F37318,Biomasser!$A$3:$E$88,5,FALSE),0)","v":0},"",0,null,null,{"$f":"IFERROR(VLOOKUP(F37318,Biomasser!$A$3:$M$88,13,FALSE),)","v":0},null,null,null,null,null,{"$f":"IF(F37318<>\"\",'CO2 konvertering'!$C$14,)","v":0},null,null,null,null,0]
[null,null,null,"Ja",null,null,null,null,"",null,"",{"$f":"IFERROR(VLOOKUP(F37370,Biomasser!$A$3:$E$88,4,FALSE),0)","v":0},null,{"$f":"IFERROR(VLOOKUP(F37370,Biomasser!$A$3:$E$88,5,FALSE),0)","v":0},"",0,null,null,{"$f":"IFERROR(VLOOKUP(F37370,Biomasser!$A$3:$M$88,13,FALSE),)","v":0},null,null,null,null,null,{"$f":"IF(F37370<>\"\",'CO2 konvertering'!$C$14,)","v":0},null,null,null,null,0]
[null,null,null,"Ja",null,null,null,null,"",null,"",{"$f":"IFERROR(VLOOKUP(F37399,Biomasser!$A$3:$E$88,4,FALSE),0)","v":0},null,{"$f":"IFERROR(VLOOKUP(F37399,Biomasser!$A$3:$E$88,5,FALSE),0)","v":0},"",0,null,null,{"$f":"IFERROR(VLOOKUP(F37399,Biomasser!$A$3:$M$88,13,FALSE),)","v":0},null,null,null,null,null,{"$f":"IF(F37399<>\"\",'CO2 konvertering'!$C$14,)","v":0},null,null,null,null,0]
[null,null,null,"Ja",null,null,null,null,"",null,"",{"$f":"IFERROR(VLOOKUP(F37522,Biomasser!$A$3:$E$88,4,FALSE),0)","v":0},null,{"$f":"IFERROR(VLOOKUP(F37522,Biomasser!$A$3:$E$88,5,FALSE),0)","v":0},"",0,null,null,{"$f":"IFERROR(VLOOKUP(F37522,Biomasser!$A$3:$M$88,13,FALSE),)","v":0},null,null,null,null,null,{"$f":"IF(F37522<>\"\",'CO2 konvertering'!$C$14,)","v":0},null,null,null,null,0]
[null,null,null,"Ja",null,null,null,null,"",null,"",{"$f":"IFERROR(VLOOKUP(F37588,Biomasser!$A$3:$E$88,4,FALSE),0)","v":0},null,{"$f":"IFERROR(VLOOKUP(F37588,Biomasser!$A$3:$E$88,5,FALSE),0)","v":0},"",0,null,null,{"$f":"IFERROR(VLOOKUP(F37588,Biomasser!$A$3:$M$88,13,FALSE),)","v":0},null,null,null,null,null,{"$f":"IF(F37588<>\"\",'CO2 konvertering'!$C$14,)","v":0},null,null,null,null,0]
[null,null,null,"Ja",null,null,null,null,"",null,"",{"$f":"IFERROR(VLOOKUP(F37674,Biomasser!$A$3:$E$88,4,FALSE),0)","v":0},null,{"$f":"IFERROR(VLOOKUP(F37674,Biomasser!$A$3:$E$88,5,FALSE),0)","v":0},"",0,null,null,{"$f":"IFERROR(VLOOKUP(F37674,Biomasser!$A$3:$M$88,13,FALSE),)","v":0},null,null,null,null,null,{"$f":"IF(F37674<>\"\",'CO2 konvertering'!$C$14,)","v":0},null,null,null,null,0]
[null,null,null,"Ja",null,null,null,null,"",null,"",{"$f":"IFERROR(VLOOKUP(F37745,Biomasser!$A$3:$E$88,4,FALSE),0)","v":0},null,{"$f":"IFERROR(VLOOKUP(F37745,Biomasser!$A$3:$E$88,5,FALSE),0)","v":0},"",0,null,null,{"$f":"IFERROR(VLOOKUP(F37745,Biomasser!$A$3:$M$88,13,FALSE),)","v":0},null,null,null,null,null,{"$f":"IF(F37745<>\"\",'CO2 konvertering'!$C$14,)","v":0},null,null,null,null,0]
[null,null,null,"Ja",null,null,null,null,"",null,"",{"$f":"IFERROR(VLOOKUP(F37826,Biomasser!$A$3:$E$88,4,FALSE),0)","v":0},null,{"$f":"IFERROR(VLOOKUP(F37826,Biomasser!$A$3:$E$88,5,FALSE),0)","v":0},"",0,null,null,{"$f":"IFERROR(VLOOKUP(F37826,Biomasser!$A$3:$M$88,13,FALSE),)","v":0},null,null,null,null,null,{"$f":"IF(F37826<>\"\",'CO2 konvertering'!$C$14,)","v":0},null,null,null,null,0]
[null,null,null,"Ja",null,null,null,null,"",null,"",{"$f":"IFERROR(VLOOKUP(F37902,Biomasser!$A$3:$E$88,4,FALSE),0)","v":0},null,{"$f":"IFERROR(VLOOKUP(F37902,Biomasser!$A$3:$E$88,5,FALSE),0)","v":0},"",0,null,null,{"$f":"IFERROR(VLOOKUP(F37902,Biomasser!$A$3:$M$88,13,FALSE),)","v":0},null,null,null,null,null,{"$f":"IF(F37902<>\"\",'CO2 konvertering'!$C$14,)","v":0},null,null,null,null,0]
[null,null,null,"Ja",null,null,null,null,"",null,"",{"$f":"IFERROR(VLOOKUP(F37932,Biomasser!$A$3:$E$88,4,FALSE),0)","v":0},null,{"$f":"IFERROR(VLOOKUP(F37932,Biomasser!$A$3:$E$88,5,FALSE),0)","v":0},"",0,null,null,{"$f":"IFERROR(VLOOKUP(F37932,Biomasser!$A$3:$M$88,13,FALSE),)","v":0},null,null,null,null,null,{"$f":"IF(F37932<>\"\",'CO2 konvertering'!$C$14,)","v":0},null,null,null,null,0]
[null,null,null,"Ja",null,null,null,null,"",null,"",{"$f":"IFERROR(VLOOKUP(F38059,Biomasser!$A$3:$E$88,4,FALSE),0)","v":0},null,{"$f":"IFERROR(VLOOKUP(F38059,Biomasser!$A$3:$E$88,5,FALSE),0)","v":0},"",0,null,null,{"$f":"IFERROR(VLOOKUP(F38059,Biomasser!$A$3:$M$88,13,FALSE),)","v":0},null,null,null,null,null,{"$f":"IF(F38059<>\"\",'CO2 konvertering'!$C$14,)","v":0},null,null,null,null,0]
[null,null,null,"Ja",null,null,null,null,"",null,"",{"$f":"IFERROR(VLOOKUP(F38084,Biomasser!$A$3:$E$88,4,FALSE),0)","v":0},null,{"$f":"IFERROR(VLOOKUP(F38084,Biomasser!$A$3:$E$88,5,FALSE),0)","v":0},"",{"$f":"J38084*L38084*N38084*H38084","v":0},null,null,{"$f":"IFERROR(VLOOKUP(F38084,Biomasser!$A$3:$M$88,13,FALSE),)","v":0},null,null,null,null,null,{"$f":"IF(F38084<>\"\",'CO2 konvertering'!$C$14,)","v":0},null,null,null,null,{"$f":"SUM(S38084:AC38084)","v":0}]
[null,null,null,"Ja",null,null,null,null,"",null,"",{"$f":"IFERROR(VLOOKUP(F38172,Biomasser!$A$3:$E$88,4,FALSE),0)","v":0},null,{"$f":"IFERROR(VLOOKUP(F38172,Biomasser!$A$3:$E$88,5,FALSE),0)","v":0},"",0,null,null,{"$f":"IFERROR(VLOOKUP(F38172,Biomasser!$A$3:$M$88,13,FALSE),)","v":0},null,null,null,null,null,{"$f":"IF(F38172<>\"\",'CO2 konvertering'!$C$14,)","v":0},null,null,null,null,0]
[null,null,null,"Ja",null,null,null,null,"",null,"",{"$f":"IFERROR(VLOOKUP(F38236,Biomasser!$A$3:$E$88,4,FALSE),0)","v":0},null,{"$f":"IFERROR(VLOOKUP(F38236,Biomasser!$A$3:$E$88,5,FALSE),0)","v":0},"",0,null,null,{"$f":"IFERROR(VLOOKUP(F38236,Biomasser!$A$3:$M$88,13,FALSE),)","v":0},null,null,null,null,null,{"$f":"IF(F38236<>\"\",'CO2 konvertering'!$C$14,)","v":0},null,null,null,null,0]
[null,null,null,"Ja",null,null,null,null,"",null,"",{"$f":"IFERROR(VLOOKUP(F38329,Biomasser!$A$3:$E$88,4,FALSE),0)","v":0},null,{"$f":"IFERROR(VLOOKUP(F38329,Biomasser!$A$3:$E$88,5,FALSE),0)","v":0},"",0,null,null,{"$f":"IFERROR(VLOOKUP(F38329,Biomasser!$A$3:$M$88,13,FALSE),)","v":0},null,null,null,null,null,{"$f":"IF(F38329<>\"\",'CO2 konvertering'!$C$14,)","v":0},null,null,null,null,0]
[null,null,null,"Ja",null,null,null,null,"",null,"",{"$f":"IFERROR(VLOOKUP(F38388,Biomasser!$A$3:$E$88,4,FALSE),0)","v":0},null,{"$f":"IFERROR(VLOOKUP(F38388,Biomasser!$A$3:$E$88,5,FALSE),0)","v":0},"",0,null,null,{"$f":"IFERROR(VLOOKUP(F38388,Biomasser!$A$3:$M$88,13,FALSE),)","v":0},null,null,null,null,null,{"$f":"IF(F38388<>\"\",'CO2 konvertering'!$C$23,)","v":0},null,null,null,null,0]
[null,null,null,"Ja",null,null,null,null,"",null,"",{"$f":"IFERROR(VLOOKUP(F38486,Biomasser!$A$3:$E$88,4,FALSE),0)","v":0},null,{"$f":"IFERROR(VLOOKUP(F38486,Biomasser!$A$3:$E$88,5,FALSE),0)","v":0},"",0,null,null,{"$f":"IFERROR(VLOOKUP(F38486,Biomasser!$A$3:$M$88,13,FALSE),)","v":0},null,null,null,null,null,{"$f":"IF(F38486<>\"\",'CO2 konvertering'!$C$23,)","v":0},null,null,null,null,0]
[null,null,null,"Ja",null,null,null,null,"",null,"",{"$f":"IFERROR(VLOOKUP(F38569,Biomasser!$A$3:$E$88,4,FALSE),0)","v":0},null,{"$f":"IFERROR(VLOOKUP(F38569,Biomasser!$A$3:$E$88,5,FALSE),0)","v":0},"",0,null,null,{"$f":"IFERROR(VLOOKUP(F38569,Biomasser!$A$3:$M$88,13,FALSE),)","v":0},null,null,null,null,null,{"$f":"IF(F38569<>\"\",'CO2 konvertering'!$C$23,)","v":0},null,null,null,null,0]
[null,null,null,"Ja",null,null,null,null,"",null,"",{"$f":"IFERROR(VLOOKUP(F38643,Biomasser!$A$3:$E$88,4,FALSE),0)","v":0},null,{"$f":"IFERROR(VLOOKUP(F38643,Biomasser!$A$3:$E$88,5,FALSE),0)","v":0},"",0,null,null,{"$f":"IFERROR(VLOOKUP(F38643,Biomasser!$A$3:$M$88,13,FALSE),)","v":0},null,null,null,null,null,{"$f":"IF(F38643<>\"\",'CO2 konvertering'!$C$23,)","v":0},null,null,null,null,0]
[null,null,null,"Ja",null,null,null,null,"",null,"",{"$f":"IFERROR(VLOOKUP(F38700,Biomasser!$A$3:$E$88,4,FALSE),0)","v":0},null,{"$f":"IFERROR(VLOOKUP(F38700,Biomasser!$A$3:$E$88,5,FALSE),0)","v":0},"",0,null,null,{"$f":"IFERROR(VLOOKUP(F38700,Biomasser!$A$3:$M$88,13,FALSE),)","v":0},null,null,null,null,null,{"$f":"IF(F38700<>\"\",'CO2 konvertering'!$C$23,)","v":0},null,null,null,null,0]
[null,null,null,"Ja",null,null,null,null,"",null,"",{"$f":"IFERROR(VLOOKUP(F38812,Biomasser!$A$3:$E$88,4,FALSE),0)","v":0},null,{"$f":"IFERROR(VLOOKUP(F38812,Biomasser!$A$3:$E$88,5,FALSE),0)","v":0},"",0,null,null,{"$f":"IFERROR(VLOOKUP(F38812,Biomasser!$A$3:$M$88,13,FALSE),)","v":0},null,null,null,null,null,{"$f":"IF(F38812<>\"\",'CO2 konvertering'!$C$23,)","v":0},null,null,null,null,0]
["Gas","6. januar",2016,null,null,{"$f":"SUM(H38860:H38960)","v":0},null,null,"m3 CH4"]
[]
[null,null,null,"Ja",null,null,null,null,"",null,"",{"$f":"IFERROR(VLOOKUP(F39014,Biomasser!$A$3:$E$88,4,FALSE),0)","v":0},null,{"$f":"IFERROR(VLOOKUP(F39014,Biomasser!$A$3:$E$88,5,FALSE),0)","v":0},"",0,null,null,{"$f":"IFERROR(VLOOKUP(F39014,Biomasser!$A$3:$M$88,13,FALSE),)","v":0},null,null,null,null,null,{"$f":"IF(F39014<>\"\",'CO2 konvertering'!$C$23,)","v":0},null,null,null,null,0]
[null,null,null,"Ja",null,null,null,null,"",null,"",{"$f":"IFERROR(VLOOKUP(F39116,Biomasser!$A$3:$E$88,4,FALSE),0)","v":0},null,{"$f":"IFERROR(VLOOKUP(F39116,Biomasser!$A$3:$E$88,5,FALSE),0)","v":0},"",0,null,null,{"$f":"IFERROR(VLOOKUP(F39116,Biomasser!$A$3:$M$88,13,FALSE),)","v":0},null,null,null,null,null,{"$f":"IF(F39116<>\"\",'CO2 konvertering'!$C$23,)","v":0},null,null,null,null,0]
[null,null,null,"Ja",null,null,null,null,"",null,"",{"$f":"IFERROR(VLOOKUP(F39203,Biomasser!$A$3:$E$88,4,FALSE),0)","v":0},null,{"$f":"IFERROR(VLOOKUP(F39203,Biomasser!$A$3:$E$88,5,FALSE),0)","v":0},"",0,null,null,{"$f":"IFERROR(VLOOKUP(F39203,Biomasser!$A$3:$M$88,13,FALSE),)","v":0},null,null,null,null,null,{"$f":"IF(F39203<>\"\",'CO2 konvertering'!$C$23,)","v":0},null,null,null,null,0]
[null,null,null,"Ja",null,null,null,null,"",null,"",{"$f":"IFERROR(VLOOKUP(F39268,Biomasser!$A$3:$E$88,4,FALSE),0)","v":0},null,{"$f":"IFERROR(VLOOKUP(F39268,Biomasser!$A$3:$E$88,5,FALSE),0)","v":0},"",0,null,null,{"$f":"IFERROR(VLOOKUP(F39268,Biomasser!$A$3:$M$88,13,FALSE),)","v":0},null,null,null,null,null,{"$f":"IF(F39268<>\"\",'CO2 konvertering'!$C$23,)","v":0},null,null,null,null,0]
[null,null,null,"Ja",null,null,null,null,"",null,"",{"$f":"IFERROR(VLOOKUP(F39284,Biomasser!$A$3:$E$88,4,FALSE),0)","v":0},null,{"$f":"IFERROR(VLOOKUP(F39284,Biomasser!$A$3:$E$88,5,FALSE),0)","v":0},{"$f":"IF(AND(F39284<>\"\",(N39284=0)),\"Opdater biomasseark\",\"\")","v":""},0,null,null,{"$f":"IFERROR(VLOOKUP(F39284,Biomasser!$A$3:$M$88,13,FALSE),)","v":0},null,null,null,null,null,{"$f":"IF(F39284<>\"\",'CO2 konvertering'!$C$23,)","v":0},null,null,null,null,0]
[null,null,null,"Ja",null,null,null,null,"",null,"",{"$f":"IFERROR(VLOOKUP(F39420,Biomasser!$A$3:$E$88,4,FALSE),0)","v":0},null,{"$f":"IFERROR(VLOOKUP(F39420,Biomasser!$A$3:$E$88,5,FALSE),0)","v":0},"",0,null,null,{"$f":"IFERROR(VLOOKUP(F39420,Biomasser!$A$3:$M$88,13,FALSE),)","v":0},null,null,null,null,null,{"$f":"IF(F39420<>\"\",'CO2 konvertering'!$C$23,)","v":0},null,null,null,null,0]
[null,null,null,"Ja",null,null,null,null,"",null,"",{"$f":"IFERROR(VLOOKUP(F39441,Biomasser!$A$3:$E$88,4,FALSE),0)","v":0},null,{"$f":"IFERROR(VLOOKUP(F39441,Biomasser!$A$3:$E$88,5,FALSE),0)","v":0},"",0,null,null,{"$f":"IFERROR(VLOOKUP(F39441,Biomasser!$A$3:$M$88,13,FALSE),)","v":0},null,null,null,null,null,{"$f":"IF(F39441<>\"\",'CO2 konvertering'!$C$23,)","v":0},null,null,null,null,0]
[null,null,null,"Ja",null,null,null,null,"",null,"",{"$f":"IFERROR(VLOOKUP(F39526,Biomasser!$A$3:$E$88,4,FALSE),0)","v":0},null,{"$f":"IFERROR(VLOOKUP(F39526,Biomasser!$A$3:$E$88,5,FALSE),0)","v":0},"",0,null,null,{"$f":"IFERROR(VLOOKUP(F39526,Biomasser!$A$3:$M$88,13,FALSE),)","v":0},null,null,null,null,null,{"$f":"IF(F39526<>\"\",'CO2 konvertering'!$C$23,)","v":0},null,null,null,null,0]
[null,null,null,"Ja",null,null,null,null,"",null,"",{"$f":"IFERROR(VLOOKUP(F39598,Biomasser!$A$3:$E$88,4,FALSE),0)","v":0},null,{"$f":"IFERROR(VLOOKUP(F39598,Biomasser!$A$3:$E$88,5,FALSE),0)","v":0},{"$f":"IF(AND(F39598<>\"\",(N39598=0)),\"Opdater biomasseark\",\"\")","v":""},0,null,null,{"$f":"IFERROR(VLOOKUP(F39598,Biomasser!$A$3:$M$88,13,FALSE),)","v":0},null,null,null,null,null,{"$f":"IF(F39598<>\"\",'CO2 konvertering'!$C$23,)","v":0},null,null,null,null,0]
[null,null,null,"Ja",null,null,null,null,"",null,"",{"$f":"IFERROR(VLOOKUP(F39678,Biomasser!$A$3:$E$88,4,FALSE),0)","v":0},null,{"$f":"IFERROR(VLOOKUP(F39678,Biomasser!$A$3:$E$88,5,FALSE),0)","v":0},"",0,null,null,{"$f":"IFERROR(VLOOKUP(F39678,Biomasser!$A$3:$M$88,13,FALSE),)","v":0},null,null,null,null,null,{"$f":"IF(F39678<>\"\",'CO2 konvertering'!$C$23,)","v":0},null,null,null,null,0]
[null,null,null,"Ja",null,null,null,null,"",null,"",{"$f":"IFERROR(VLOOKUP(F39787,Biomasser!$A$3:$E$88,4,FALSE),0)","v":0},null,{"$f":"IFERROR(VLOOKUP(F39787,Biomasser!$A$3:$E$88,5,FALSE),0)","v":0},"",0,null,null,{"$f":"IFERROR(VLOOKUP(F39787,Biomasser!$A$3:$M$88,13,FALSE),)","v":0},null,null,null,null,null,{"$f":"IF(F39787<>\"\",'CO2 konvertering'!$C$23,)","v":0},null,null,null,null,0]
[null,null,null,"Ja",null,null,null,null,"",null,"",{"$f":"IFERROR(VLOOKUP(F39830,Biomasser!$A$3:$E$88,4,FALSE),0)","v":0},null,{"$f":"IFERROR(VLOOKUP(F39830,Biomasser!$A$3:$E$88,5,FALSE),0)","v":0},"",0,null,null,{"$f":"IFERROR(VLOOKUP(F39830,Biomasser!$A$3:$M$88,13,FALSE),)","v":0},null,null,null,null,null,{"$f":"IF(F39830<>\"\",'CO2 konvertering'!$C$23,)","v":0},null,null,null,null,0]
[null,null,null,"Ja",null,null,null,null,"",null,"",{"$f":"IFERROR(VLOOKUP(F39944,Biomasser!$A$3:$E$88,4,FALSE),0)","v":0},null,{"$f":"IFERROR(VLOOKUP(F39944,Biomasser!$A$3:$E$88,5,FALSE),0)","v":0},"",0,null,null,{"$f":"IFERROR(VLOOKUP(F39944,Biomasser!$A$3:$M$88,13,FALSE),)","v":0},null,null,null,null,null,{"$f":"IF(F39944<>\"\",'CO2 konvertering'!$C$23,)","v":0},null,null,null,null,0]
[null,null,null,"Ja",null,null,null,null,"",null,"",{"$f":"IFERROR(VLOOKUP(F39982,Biomasser!$A$3:$E$88,4,FALSE),0)","v":0},null,{"$f":"IFERROR(VLOOKUP(F39982,Biomasser!$A$3:$E$88,5,FALSE),0)","v":0},"",0,null,null,{"$f":"IFERROR(VLOOKUP(F39982,Biomasser!$A$3:$M$88,13,FALSE),)","v":0},null,null,null,null,null,{"$f":"IF(F39982<>\"\",'CO2 konvertering'!$C$23,)","v":0},null,null,null,null,0]
[null,null,null,"Ja",null,null,null,null,"",null,"",{"$f":"IFERROR(VLOOKUP(F40101,Biomasser!$A$3:$E$88,4,FALSE),0)","v":0},null,{"$f":"IFERROR(VLOOKUP(F40101,Biomasser!$A$3:$E$88,5,FALSE),0)","v":0},"",0,null,null,{"$f":"IFERROR(VLOOKUP(F40101,Biomasser!$A$3:$M$88,13,FALSE),)","v":0},null,null,null,null,null,{"$f":"IF(F40101<>\"\",'CO2 konvertering'!$C$23,)","v":0},null,null,null,null,0]
[null,null,null,"Ja",null,null,null,null,"",null,"",{"$f":"IFERROR(VLOOKUP(F40163,Biomasser!$A$3:$E$88,4,FALSE),0)","v":0},null,{"$f":"IFERROR(VLOOKUP(F40163,Biomasser!$A$3:$E$88,5,FALSE),0)","v":0},"",0,null,null,{"$f":"IFERROR(VLOOKUP(F40163,Biomasser!$A$3:$M$88,13,FALSE),)","v":0},null,null,null,null,null,{"$f":"IF(F40163<>\"\",'CO2 konvertering'!$C$23,)","v":0},null,null,null,null,0]
[null,null,null,"Ja",null,null,null,null,"",null,"",{"$f":"IFERROR(VLOOKUP(F40258,Biomasser!$A$3:$E$88,4,FALSE),0)","v":0},null,{"$f":"IFERROR(VLOOKUP(F40258,Biomasser!$A$3:$E$88,5,FALSE),0)","v":0},"",0,null,null,{"$f":"IFERROR(VLOOKUP(F40258,Biomasser!$A$3:$M$88,13,FALSE),)","v":0},null,null,null,null,null,{"$f":"IF(F40258<>\"\",'CO2 konvertering'!$C$23,)","v":0},null,null,null,null,0]
[null,null,null,"Ja",null,null,null,null,"",null,"",{"$f":"IFERROR(VLOOKUP(F40315,Biomasser!$A$3:$E$88,4,FALSE),0)","v":0},null,{"$f":"IFERROR(VLOOKUP(F40315,Biomasser!$A$3:$E$88,5,FALSE),0)","v":0},"",0,null,null,{"$f":"IFERROR(VLOOKUP(F40315,Biomasser!$A$3:$M$88,13,FALSE),)","v":0},null,null,null,null,null,{"$f":"IF(F40315<>\"\",'CO2 konvertering'!$C$23,)","v":0},null,null,null,null,0]
[null,null,null,"Ja",null,null,null,null,"",null,"",{"$f":"IFERROR(VLOOKUP(F40415,Biomasser!$A$3:$E$88,4,FALSE),0)","v":0},null,{"$f":"IFERROR(VLOOKUP(F40415,Biomasser!$A$3:$E$88,5,FALSE),0)","v":0},"",0,null,null,{"$f":"IFERROR(VLOOKUP(F40415,Biomasser!$A$3:$M$88,13,FALSE),)","v":0},null,null,null,null,null,{"$f":"IF(F40415<>\"\",'CO2 konvertering'!$C$23,)","v":0},null,null,null,null,0]
[null,null,null,"Ja",null,null,null,null,"",null,"",{"$f":"IFERROR(VLOOKUP(F40467,Biomasser!$A$3:$E$88,4,FALSE),0)","v":0},null,{"$f":"IFERROR(VLOOKUP(F40467,Biomasser!$A$3:$E$88,5,FALSE),0)","v":0},"",0,null,null,{"$f":"IFERROR(VLOOKUP(F40467,Biomasser!$A$3:$M$88,13,FALSE),)","v":0},null,null,null,null,null,{"$f":"IF(F40467<>\"\",'CO2 konvertering'!$C$23,)","v":0},null,null,null,null,{"$f":"SUM(S40467:AC40467)","v":0}]
[null,null,null,"Ja",null,null,null,null,"",null,"",{"$f":"IFERROR(VLOOKUP(F40528,Biomasser!$A$3:$E$88,4,FALSE),0)","v":0},null,{"$f":"IFERROR(VLOOKUP(F40528,Biomasser!$A$3:$E$88,5,FALSE),0)","v":0},"",0,null,null,{"$f":"IFERROR(VLOOKUP(F40528,Biomasser!$A$3:$M$88,13,FALSE),)","v":0},null,null,null,null,null,{"$f":"IF(F40528<>\"\",'CO2 konvertering'!$C$23,)","v":0},null,null,null,null,0]
[null,null,null,"Ja",null,null,null,null,"",null,"",{"$f":"IFERROR(VLOOKUP(F40619,Biomasser!$A$3:$E$88,4,FALSE),0)","v":0},null,{"$f":"IFERROR(VLOOKUP(F40619,Biomasser!$A$3:$E$88,5,FALSE),0)","v":0},"",0,null,null,{"$f":"IFERROR(VLOOKUP(F40619,Biomasser!$A$3:$M$88,13,FALSE),)","v":0},null,null,null,null,null,{"$f":"IF(F40619<>\"\",'CO2 konvertering'!$C$23,)","v":0},null,null,null,null,0]
[null,null,null,"Ja",null,null,null,null,"",null,"",{"$f":"IFERROR(VLOOKUP(F40685,Biomasser!$A$3:$E$88,4,FALSE),0)","v":0},null,{"$f":"IFERROR(VLOOKUP(F40685,Biomasser!$A$3:$E$88,5,FALSE),0)","v":0},"",0,null,null,{"$f":"IFERROR(VLOOKUP(F40685,Biomasser!$A$3:$M$88,13,FALSE),)","v":0},null,null,null,null,null,{"$f":"IF(F40685<>\"\",'CO2 konvertering'!$C$23,)","v":0},null,null,null,null,0]
[null,null,null,"Ja",null,null,null,null,"",null,"",{"$f":"IFERROR(VLOOKUP(F40725,Biomasser!$A$3:$E$88,4,FALSE),0)","v":0},null,{"$f":"IFERROR(VLOOKUP(F40725,Biomasser!$A$3:$E$88,5,FALSE),0)","v":0},"",0,null,null,{"$f":"IFERROR(VLOOKUP(F40725,Biomasser!$A$3:$M$88,13,FALSE),)","v":0},null,null,null,null,null,{"$f":"IF(F40725<>\"\",'CO2 konvertering'!$C$23,)","v":0},null,null,null,null,0]
[null,null,null,"Ja",null,null,null,null,"",null,"",{"$f":"IFERROR(VLOOKUP(F40842,Biomasser!$A$3:$E$88,4,FALSE),0)","v":0},null,{"$f":"IFERROR(VLOOKUP(F40842,Biomasser!$A$3:$E$88,5,FALSE),0)","v":0},"",0,null,null,{"$f":"IFERROR(VLOOKUP(F40842,Biomasser!$A$3:$M$88,13,FALSE),)","v":0},null,null,null,null,null,{"$f":"IF(F40842<>\"\",'CO2 konvertering'!$C$23,)","v":0},null,null,null,null,0]
[null,null,null,"Ja",null,null,null,null,"",null,"",{"$f":"IFERROR(VLOOKUP(F40877,Biomasser!$A$3:$E$88,4,FALSE),0)","v":0},null,{"$f":"IFERROR(VLOOKUP(F40877,Biomasser!$A$3:$E$88,5,FALSE),0)","v":0},"",0,null,null,{"$f":"IFERROR(VLOOKUP(F40877,Biomasser!$A$3:$M$88,13,FALSE),)","v":0},null,null,null,null,null,{"$f":"IF(F40877<>\"\",'CO2 konvertering'!$C$23,)","v":0},null,null,null,null,0]
[null,null,null,"Ja",null,null,null,null,"",null,"",{"$f":"IFERROR(VLOOKUP(F40999,Biomasser!$A$3:$E$88,4,FALSE),0)","v":0},null,{"$f":"IFERROR(VLOOKUP(F40999,Biomasser!$A$3:$E$88,5,FALSE),0)","v":0},"",0,null,null,{"$f":"IFERROR(VLOOKUP(F40999,Biomasser!$A$3:$M$88,13,FALSE),)","v":0},null,null,null,null,null,{"$f":"IF(F40999<>\"\",'CO2 konvertering'!$C$23,)","v":0},null,null,null,null,0]
[null,null,null,"Ja",null,null,null,null,"",null,"",{"$f":"IFERROR(VLOOKUP(F41029,Biomasser!$A$3:$E$88,4,FALSE),0)","v":0},null,{"$f":"IFERROR(VLOOKUP(F41029,Biomasser!$A$3:$E$88,5,FALSE),0)","v":0},"",0,null,null,{"$f":"IFERROR(VLOOKUP(F41029,Biomasser!$A$3:$M$88,13,FALSE),)","v":0},null,null,null,null,null,{"$f":"IF(F41029<>\"\",'CO2 konvertering'!$C$23,)","v":0},null,null,null,null,0]
[null,null,null,"Ja",null,null,null,null,"",null,"",{"$f":"IFERROR(VLOOKUP(F41112,Biomasser!$A$3:$E$88,4,FALSE),0)","v":0},null,{"$f":"IFERROR(VLOOKUP(F41112,Biomasser!$A$3:$E$88,5,FALSE),0)","v":0},"",0,null,null,{"$f":"IFERROR(VLOOKUP(F41112,Biomasser!$A$3:$M$88,13,FALSE),)","v":0},null,null,null,null,null,{"$f":"IF(F41112<>\"\",'CO2 konvertering'!$C$23,)","v":0},null,null,null,null,0]
[null,null,null,"Ja",null,null,null,null,"",null,"",{"$f":"IFERROR(VLOOKUP(F41181,Biomasser!$A$3:$E$88,4,FALSE),0)","v":0},null,{"$f":"IFERROR(VLOOKUP(F41181,Biomasser!$A$3:$E$88,5,FALSE),0)","v":0},"",0,null,null,{"$f":"IFERROR(VLOOKUP(F41181,Biomasser!$A$3:$M$88,13,FALSE),)","v":0},null,null,null,null,null,{"$f":"IF(F41181<>\"\",'CO2 konvertering'!$C$23,)","v":0},null,null,null,null,0]
[null,null,null,"Ja",null,null,null,null,"",null,"",{"$f":"IFERROR(VLOOKUP(F41269,Biomasser!$A$3:$E$88,4,FALSE),0)","v":0},null,{"$f":"IFERROR(VLOOKUP(F41269,Biomasser!$A$3:$E$88,5,FALSE),0)","v":0},"",0,null,null,{"$f":"IFERROR(VLOOKUP(F41269,Biomasser!$A$3:$M$88,13,FALSE),)","v":0},null,null,null,null,null,{"$f":"IF(F41269<>\"\",'CO2 konvertering'!$C$23,)","v":0},null,null,null,null,0]
[null,null,null,"Ja",null,null,null,null,"",null,"",{"$f":"IFERROR(VLOOKUP(F41362,Biomasser!$A$3:$E$88,4,FALSE),0)","v":0},null,{"$f":"IFERROR(VLOOKUP(F41362,Biomasser!$A$3:$E$88,5,FALSE),0)","v":0},"",0,null,null,{"$f":"IFERROR(VLOOKUP(F41362,Biomasser!$A$3:$M$88,13,FALSE),)","v":0},null,null,null,null,null,{"$f":"IF(F41362<>\"\",'CO2 konvertering'!$C$23,)","v":0},null,null,null,null,0]
[null,null,null,"Ja",null,null,null,null,"",null,"",{"$f":"IFERROR(VLOOKUP(F41426,Biomasser!$A$3:$E$88,4,FALSE),0)","v":0},null,{"$f":"IFERROR(VLOOKUP(F41426,Biomasser!$A$3:$E$88,5,FALSE),0)","v":0},"",0,null,null,{"$f":"IFERROR(VLOOKUP(F41426,Biomasser!$A$3:$M$88,13,FALSE),)","v":0},null,null,null,null,null,{"$f":"IF(F41426<>\"\",'CO2 konvertering'!$C$23,)","v":0},null,null,null,null,0]
[null,null,null,"Ja",null,null,null,null,"",null,"",{"$f":"IFERROR(VLOOKUP(F41514,Biomasser!$A$3:$E$88,4,FALSE),0)","v":0},null,{"$f":"IFERROR(VLOOKUP(F41514,Biomasser!$A$3:$E$88,5,FALSE),0)","v":0},"",0,null,null,{"$f":"IFERROR(VLOOKUP(F41514,Biomasser!$A$3:$M$88,13,FALSE),)","v":0},null,null,null,null,null,{"$f":"IF(F41514<>\"\",'CO2 konvertering'!$C$23,)","v":0},null,null,null,null,0]
[null,null,null,"Ja",null,null,null,null,"",null,"",{"$f":"IFERROR(VLOOKUP(F41583,Biomasser!$A$3:$E$88,4,FALSE),0)","v":0},null,{"$f":"IFERROR(VLOOKUP(F41583,Biomasser!$A$3:$E$88,5,FALSE),0)","v":0},"",0,null,null,{"$f":"IFERROR(VLOOKUP(F41583,Biomasser!$A$3:$M$88,13,FALSE),)","v":0},null,null,null,null,null,{"$f":"IF(F41583<>\"\",'CO2 konvertering'!$C$23,)","v":0},null,null,null,null,0]
[null,null,null,"Ja",null,null,null,null,"",null,"",{"$f":"IFERROR(VLOOKUP(F41666,Biomasser!$A$3:$E$88,4,FALSE),0)","v":0},null,{"$f":"IFERROR(VLOOKUP(F41666,Biomasser!$A$3:$E$88,5,FALSE),0)","v":0},"",0,null,null,{"$f":"IFERROR(VLOOKUP(F41666,Biomasser!$A$3:$M$88,13,FALSE),)","v":0},null,null,null,null,null,{"$f":"IF(F41666<>\"\",'CO2 konvertering'!$C$23,)","v":0},null,null,null,null,0]
[null,null,null,"Ja",null,null,null,null,"",null,"",{"$f":"IFERROR(VLOOKUP(F41772,Biomasser!$A$3:$E$88,4,FALSE),0)","v":0},null,{"$f":"IFERROR(VLOOKUP(F41772,Biomasser!$A$3:$E$88,5,FALSE),0)","v":0},"",0,null,null,{"$f":"IFERROR(VLOOKUP(F41772,Biomasser!$A$3:$M$88,13,FALSE),)","v":0},null,null,null,null,null,{"$f":"IF(F41772<>\"\",'CO2 konvertering'!$C$23,)","v":0},null,null,null,null,0]
[null,null,null,"Ja",null,null,null,null,"",null,"",{"$f":"IFERROR(VLOOKUP(F41818,Biomasser!$A$3:$E$88,4,FALSE),0)","v":0},null,{"$f":"IFERROR(VLOOKUP(F41818,Biomasser!$A$3:$E$88,5,FALSE),0)","v":0},"",0,null,null,{"$f":"IFERROR(VLOOKUP(F41818,Biomasser!$A$3:$M$88,13,FALSE),)","v":0},null,null,null,null,null,{"$f":"IF(F41818<>\"\",'CO2 konvertering'!$C$23,)","v":0},null,null,null,null,0]
[null,null,null,"Ja",null,null,null,null,"",null,"",{"$f":"IFERROR(VLOOKUP(F41853,Biomasser!$A$3:$E$88,4,FALSE),0)","v":0},null,{"$f":"IFERROR(VLOOKUP(F41853,Biomasser!$A$3:$E$88,5,FALSE),0)","v":0},"",0,null,null,{"$f":"IFERROR(VLOOKUP(F41853,Biomasser!$A$3:$M$88,13,FALSE),)","v":0},null,null,null,null,null,{"$f":"IF(F41853<>\"\",'CO2 konvertering'!$C$23,)","v":0},null,null,null,null,0]
[null,null,null,"Ja",null,null,null,null,{"$f":"IF(AND(F41970<>\"\",ISBLANK(H41970)),\"Indtast vægt\",\"\")","v":""},null,{"$f":"IF(AND(F41970<>\"\",ISBLANK(J41970)),\"Indtast tørstof %\",\"\")","v":""},{"$f":"IFERROR(VLOOKUP(F41970,Biomasser!$A$3:$E$88,4,FALSE),0)","v":0},null,{"$f":"IFERROR(VLOOKUP(F41970,Biomasser!$A$3:$E$88,5,FALSE),0)","v":0},"",0,null,null,{"$f":"IFERROR(VLOOKUP(F41970,Biomasser!$A$3:$M$88,13,FALSE),)","v":0},null,null,null,null,null,{"$f":"IF(F41970<>\"\",'CO2 konvertering'!$C$23,)","v":0},null,null,null,null,0]
[{"$f":"B42007&C42007","v":"5. februar2016"},null,null,"Ja",null,null,null,null,{"$f":"IF(AND(F42010<>\"\",ISBLANK(H42010)),\"Indtast vægt\",\"\")","v":""},null,{"$f":"IF(AND(F42010<>\"\",ISBLANK(J42010)),\"Indtast tørstof %\",\"\")","v":""},{"$f":"IFERROR(VLOOKUP(F42010,Biomasser!$A$3:$E$88,4,FALSE),)","v":0},null,{"$f":"IFERROR(VLOOKUP(F42010,Biomasser!$A$3:$E$88,5,FALSE),0)","v":0},{"$f":"IF(AND(F42010<>\"\",(N42010=0)),\"Opdater biomasseark\",\"\")","v":""},{"$f":"J42010*L42010*N42010*H42010","v":0},null,null,{"$f":"IFERROR(VLOOKUP(F42010,Biomasser!$A$3:$M$88,13,FALSE),)","v":0},null,null,null,null,null,{"$f":"IF(F42010<>\"\",'CO2 konvertering'!$C$23,)","v":0},null,null,null,null,{"$f":"SUM(S42010:AC42010)","v":0}]
[null,null,null,"Ja",null,null,null,null,"",null,"",{"$f":"IFERROR(VLOOKUP(F42151,Biomasser!$A$3:$E$88,4,FALSE),0)","v":0},null,{"$f":"IFERROR(VLOOKUP(F42151,Biomasser!$A$3:$E$88,5,FALSE),0)","v":0},"",0,null,null,{"$f":"IFERROR(VLOOKUP(F42151,Biomasser!$A$3:$M$88,13,FALSE),)","v":0},null,null,null,null,null,{"$f":"IF(F42151<>\"\",'CO2 konvertering'!$C$23,)","v":0},null,null,null,null,0]
[null,null,null,"Ja",null,null,null,null,"",null,"",{"$f":"IFERROR(VLOOKUP(F42167,Biomasser!$A$3:$E$88,4,FALSE),0)","v":0},null,{"$f":"IFERROR(VLOOKUP(F42167,Biomasser!$A$3:$E$88,5,FALSE),0)","v":0},"",0,null,null,{"$f":"IFERROR(VLOOKUP(F42167,Biomasser!$A$3:$M$88,13,FALSE),)","v":0},null,null,null,null,null,{"$f":"IF(F42167<>\"\",'CO2 konvertering'!$C$23,)","v":0},null,null,null,null,0]
[null,null,null,"Ja",null,null,null,null,"",null,"",{"$f":"IFERROR(VLOOKUP(F42303,Biomasser!$A$3:$E$88,4,FALSE),0)","v":0},null,{"$f":"IFERROR(VLOOKUP(F42303,Biomasser!$A$3:$E$88,5,FALSE),0)","v":0},"",0,null,null,{"$f":"IFERROR(VLOOKUP(F42303,Biomasser!$A$3:$M$88,13,FALSE),)","v":0},null,null,null,null,null,{"$f":"IF(F42303<>\"\",'CO2 konvertering'!$C$23,)","v":0},null,null,null,null,0]
[null,null,null,"Ja",null,null,null,null,"",null,"",{"$f":"IFERROR(VLOOKUP(F42356,Biomasser!$A$3:$E$88,4,FALSE),0)","v":0},null,{"$f":"IFERROR(VLOOKUP(F42356,Biomasser!$A$3:$E$88,5,FALSE),0)","v":0},"",0,null,null,{"$f":"IFERROR(VLOOKUP(F42356,Biomasser!$A$3:$M$88,13,FALSE),)","v":0},null,null,null,null,null,{"$f":"IF(F42356<>\"\",'CO2 konvertering'!$C$23,)","v":0},null,null,null,null,0]
[null,null,null,"Ja",null,null,null,null,"",null,"",{"$f":"IFERROR(VLOOKUP(F42380,Biomasser!$A$3:$E$88,4,FALSE),0)","v":0},null,{"$f":"IFERROR(VLOOKUP(F42380,Biomasser!$A$3:$E$88,5,FALSE),0)","v":0},"",0,null,null,{"$f":"IFERROR(VLOOKUP(F42380,Biomasser!$A$3:$M$88,13,FALSE),)","v":0},null,null,null,null,null,{"$f":"IF(F42380<>\"\",'CO2 konvertering'!$C$23,)","v":0},null,null,null,null,0]
[null,null,null,"Ja",null,null,null,null,"",null,"",{"$f":"IFERROR(VLOOKUP(F42513,Biomasser!$A$3:$E$88,4,FALSE),0)","v":0},null,{"$f":"IFERROR(VLOOKUP(F42513,Biomasser!$A$3:$E$88,5,FALSE),0)","v":0},"",0,null,null,{"$f":"IFERROR(VLOOKUP(F42513,Biomasser!$A$3:$M$88,13,FALSE),)","v":0},null,null,null,null,null,{"$f":"IF(F42513<>\"\",'CO2 konvertering'!$C$23,)","v":0},null,null,null,null,0]
[null,null,null,"Ja",null,null,null,null,"",null,"",{"$f":"IFERROR(VLOOKUP(F42538,Biomasser!$A$3:$E$88,4,FALSE),0)","v":0},null,{"$f":"IFERROR(VLOOKUP(F42538,Biomasser!$A$3:$E$88,5,FALSE),0)","v":0},{"$f":"IF(AND(F42538<>\"\",(N42538=0)),\"Opdater biomasseark\",\"\")","v":""},0,null,null,{"$f":"IFERROR(VLOOKUP(F42538,Biomasser!$A$3:$M$88,13,FALSE),)","v":0},null,null,null,null,null,{"$f":"IF(F42538<>\"\",'CO2 konvertering'!$C$23,)","v":0},null,null,null,null,0]
[null,null,null,"Ja",null,null,null,null,"",null,"",{"$f":"IFERROR(VLOOKUP(F42623,Biomasser!$A$3:$E$88,4,FALSE),0)","v":0},null,{"$f":"IFERROR(VLOOKUP(F42623,Biomasser!$A$3:$E$88,5,FALSE),0)","v":0},"",0,null,null,{"$f":"IFERROR(VLOOKUP(F42623,Biomasser!$A$3:$M$88,13,FALSE),)","v":0},null,null,null,null,null,{"$f":"IF(F42623<>\"\",'CO2 konvertering'!$C$23,)","v":0},null,null,null,null,0]
[null,null,null,"Ja",null,null,null,null,"",null,"",{"$f":"IFERROR(VLOOKUP(F42727,Biomasser!$A$3:$E$88,4,FALSE),0)","v":0},null,{"$f":"IFERROR(VLOOKUP(F42727,Biomasser!$A$3:$E$88,5,FALSE),0)","v":0},"",0,null,null,{"$f":"IFERROR(VLOOKUP(F42727,Biomasser!$A$3:$M$88,13,FALSE),)","v":0},null,null,null,null,null,{"$f":"IF(F42727<>\"\",'CO2 konvertering'!$C$23,)","v":0},null,null,null,null,0]
[null,null,null,"Ja",null,null,null,null,"",null,"",{"$f":"IFERROR(VLOOKUP(F42775,Biomasser!$A$3:$E$88,4,FALSE),0)","v":0},null,{"$f":"IFERROR(VLOOKUP(F42775,Biomasser!$A$3:$E$88,5,FALSE),0)","v":0},"",0,null,null,{"$f":"IFERROR(VLOOKUP(F42775,Biomasser!$A$3:$M$88,13,FALSE),)","v":0},null,null,null,null,null,{"$f":"IF(F42775<>\"\",'CO2 konvertering'!$C$23,)","v":0},null,null,null,null,0]
[null,null,null,"Ja",null,null,null,null,"",null,"",{"$f":"IFERROR(VLOOKUP(F42884,Biomasser!$A$3:$E$88,4,FALSE),0)","v":0},null,{"$f":"IFERROR(VLOOKUP(F42884,Biomasser!$A$3:$E$88,5,FALSE),0)","v":0},"",0,null,null,{"$f":"IFERROR(VLOOKUP(F42884,Biomasser!$A$3:$M$88,13,FALSE),)","v":0},null,null,null,null,null,{"$f":"IF(F42884<>\"\",'CO2 konvertering'!$C$23,)","v":0},null,null,null,null,0]
[null,null,null,"Ja",null,null,null,null,{"$f":"IF(AND(F42956<>\"\",ISBLANK(H42956)),\"Indtast vægt\",\"\")","v":""},null,{"$f":"IF(AND(F42956<>\"\",ISBLANK(J42956)),\"Indtast tørstof %\",\"\")","v":""},{"$f":"IFERROR(VLOOKUP(F42956,Biomasser!$A$3:$E$88,4,FALSE),0)","v":0},null,{"$f":"IFERROR(VLOOKUP(F42956,Biomasser!$A$3:$E$88,5,FALSE),0)","v":0},"",0,null,null,{"$f":"IFERROR(VLOOKUP(F42956,Biomasser!$A$3:$M$88,13,FALSE),)","v":0},null,null,null,null,null,{"$f":"IF(F42956<>\"\",'CO2 konvertering'!$C$23,)","v":0},null,null,null,null,0]
[null,null,null,"Ja",null,null,null,null,"",null,"",{"$f":"IFERROR(VLOOKUP(F43041,Biomasser!$A$3:$E$88,4,FALSE),0)","v":0},null,{"$f":"IFERROR(VLOOKUP(F43041,Biomasser!$A$3:$E$88,5,FALSE),0)","v":0},"",0,null,null,{"$f":"IFERROR(VLOOKUP(F43041,Biomasser!$A$3:$M$88,13,FALSE),)","v":0},null,null,null,null,null,{"$f":"IF(F43041<>\"\",'CO2 konvertering'!$C$23,)","v":0},null,null,null,null,0]
[null,null,null,"Ja",null,null,null,null,"",null,"",{"$f":"IFERROR(VLOOKUP(F43108,Biomasser!$A$3:$E$88,4,FALSE),0)","v":0},null,{"$f":"IFERROR(VLOOKUP(F43108,Biomasser!$A$3:$E$88,5,FALSE),0)","v":0},"",0,null,null,{"$f":"IFERROR(VLOOKUP(F43108,Biomasser!$A$3:$M$88,13,FALSE),)","v":0},null,null,null,null,null,{"$f":"IF(F43108<>\"\",'CO2 konvertering'!$C$23,)","v":0},null,null,null,null,0]
[null,null,null,"Ja",null,null,null,null,"",null,"",{"$f":"IFERROR(VLOOKUP(F43198,Biomasser!$A$3:$E$88,4,FALSE),0)","v":0},null,{"$f":"IFERROR(VLOOKUP(F43198,Biomasser!$A$3:$E$88,5,FALSE),0)","v":0},"",0,null,null,{"$f":"IFERROR(VLOOKUP(F43198,Biomasser!$A$3:$M$88,13,FALSE),)","v":0},null,null,null,null,null,{"$f":"IF(F43198<>\"\",'CO2 konvertering'!$C$23,)","v":0},null,null,null,null,0]
[null,null,null,"Ja",null,null,null,null,"",null,"",{"$f":"IFERROR(VLOOKUP(F43260,Biomasser!$A$3:$E$88,4,FALSE),0)","v":0},null,{"$f":"IFERROR(VLOOKUP(F43260,Biomasser!$A$3:$E$88,5,FALSE),0)","v":0},"",0,null,null,{"$f":"IFERROR(VLOOKUP(F43260,Biomasser!$A$3:$M$88,13,FALSE),)","v":0},null,null,null,null,null,{"$f":"IF(F43260<>\"\",'CO2 konvertering'!$C$23,)","v":0},null,null,null,null,0]
[null,null,null,"Ja",null,null,null,null,"",null,"",{"$f":"IFERROR(VLOOKUP(F43311,Biomasser!$A$3:$E$88,4,FALSE),0)","v":0},null,{"$f":"IFERROR(VLOOKUP(F43311,Biomasser!$A$3:$E$88,5,FALSE),0)","v":0},"",0,null,null,{"$f":"IFERROR(VLOOKUP(F43311,Biomasser!$A$3:$M$88,13,FALSE),)","v":0},null,null,null,null,null,{"$f":"IF(F43311<>\"\",'CO2 konvertering'!$C$23,)","v":0},null,null,null,null,0]
[null,null,null,"Ja",null,null,null,null,"",null,"",{"$f":"IFERROR(VLOOKUP(F43412,Biomasser!$A$3:$E$88,4,FALSE),0)","v":0},null,{"$f":"IFERROR(VLOOKUP(F43412,Biomasser!$A$3:$E$88,5,FALSE),0)","v":0},"",0,null,null,{"$f":"IFERROR(VLOOKUP(F43412,Biomasser!$A$3:$M$88,13,FALSE),)","v":0},null,null,null,null,null,{"$f":"IF(F43412<>\"\",'CO2 konvertering'!$C$23,)","v":0},null,null,null,null,0]
[null,null,null,"Ja",null,null,null,null,"",null,"",{"$f":"IFERROR(VLOOKUP(F43468,Biomasser!$A$3:$E$88,4,FALSE),0)","v":0},null,{"$f":"IFERROR(VLOOKUP(F43468,Biomasser!$A$3:$E$88,5,FALSE),0)","v":0},"",0,null,null,{"$f":"IFERROR(VLOOKUP(F43468,Biomasser!$A$3:$M$88,13,FALSE),)","v":0},null,null,null,null,null,{"$f":"IF(F43468<>\"\",'CO2 konvertering'!$C$23,)","v":0},null,null,null,null,0]
[null,null,null,"Ja",null,null,null,null,"",null,"",{"$f":"IFERROR(VLOOKUP(F43564,Biomasser!$A$3:$E$88,4,FALSE),0)","v":0},null,{"$f":"IFERROR(VLOOKUP(F43564,Biomasser!$A$3:$E$88,5,FALSE),0)","v":0},"",0,null,null,{"$f":"IFERROR(VLOOKUP(F43564,Biomasser!$A$3:$M$88,13,FALSE),)","v":0},null,null,null,null,null,{"$f":"IF(F43564<>\"\",'CO2 konvertering'!$C$23,)","v":0},null,null,null,null,0]
[null,null,null,"Ja",null,null,null,null,"",null,"",{"$f":"IFERROR(VLOOKUP(F43625,Biomasser!$A$3:$E$88,4,FALSE),0)","v":0},null,{"$f":"IFERROR(VLOOKUP(F43625,Biomasser!$A$3:$E$88,5,FALSE),0)","v":0},"",0,null,null,{"$f":"IFERROR(VLOOKUP(F43625,Biomasser!$A$3:$M$88,13,FALSE),)","v":0},null,null,null,null,null,{"$f":"IF(F43625<>\"\",'CO2 konvertering'!$C$23,)","v":0},null,null,null,null,0]
[null,null,null,"Ja",null,null,null,null,"",null,"",{"$f":"IFERROR(VLOOKUP(F43670,Biomasser!$A$3:$E$88,4,FALSE),0)","v":0},null,{"$f":"IFERROR(VLOOKUP(F43670,Biomasser!$A$3:$E$88,5,FALSE),0)","v":0},"",0,null,null,{"$f":"IFERROR(VLOOKUP(F43670,Biomasser!$A$3:$M$88,13,FALSE),)","v":0},null,null,null,null,null,{"$f":"IF(F43670<>\"\",'CO2 konvertering'!$C$23,)","v":0},null,null,null,null,0]
[null,null,null,"Ja",null,null,null,null,"",null,"",{"$f":"IFERROR(VLOOKUP(F43782,Biomasser!$A$3:$E$88,4,FALSE),0)","v":0},null,{"$f":"IFERROR(VLOOKUP(F43782,Biomasser!$A$3:$E$88,5,FALSE),0)","v":0},"",0,null,null,{"$f":"IFERROR(VLOOKUP(F43782,Biomasser!$A$3:$M$88,13,FALSE),)","v":0},null,null,null,null,null,{"$f":"IF(F43782<>\"\",'CO2 konvertering'!$C$23,)","v":0},null,null,null,null,0]
[null,null,null,"Ja",null,null,null,null,"",null,"",{"$f":"IFERROR(VLOOKUP(F43822,Biomasser!$A$3:$E$88,4,FALSE),0)","v":0},null,{"$f":"IFERROR(VLOOKUP(F43822,Biomasser!$A$3:$E$88,5,FALSE),0)","v":0},"",0,null,null,{"$f":"IFERROR(VLOOKUP(F43822,Biomasser!$A$3:$M$88,13,FALSE),)","v":0},null,null,null,null,null,{"$f":"IF(F43822<>\"\",'CO2 konvertering'!$C$23,)","v":0},null,null,null,null,0]
[null,null,null,"Ja",null,null,null,null,"",null,"",{"$f":"IFERROR(VLOOKUP(F43895,Biomasser!$A$3:$E$88,4,FALSE),0)","v":0},null,{"$f":"IFERROR(VLOOKUP(F43895,Biomasser!$A$3:$E$88,5,FALSE),0)","v":0},"",0,null,null,{"$f":"IFERROR(VLOOKUP(F43895,Biomasser!$A$3:$M$88,13,FALSE),)","v":0},null,null,null,null,null,{"$f":"IF(F43895<>\"\",'CO2 konvertering'!$C$23,)","v":0},null,null,null,null,0]
[null,null,null,"Ja",null,null,null,null,"",null,"",{"$f":"IFERROR(VLOOKUP(F43974,Biomasser!$A$3:$E$88,4,FALSE),0)","v":0},null,{"$f":"IFERROR(VLOOKUP(F43974,Biomasser!$A$3:$E$88,5,FALSE),0)","v":0},"",0,null,null,{"$f":"IFERROR(VLOOKUP(F43974,Biomasser!$A$3:$M$88,13,FALSE),)","v":0},null,null,null,null,null,{"$f":"IF(F43974<>\"\",'CO2 konvertering'!$C$23,)","v":0},null,null,null,null,0]
[null,null,null,"Ja",null,null,null,null,"",null,"",{"$f":"IFERROR(VLOOKUP(F44052,Biomasser!$A$3:$E$88,4,FALSE),0)","v":0},null,{"$f":"IFERROR(VLOOKUP(F44052,Biomasser!$A$3:$E$88,5,FALSE),0)","v":0},"",0,null,null,{"$f":"IFERROR(VLOOKUP(F44052,Biomasser!$A$3:$M$88,13,FALSE),)","v":0},null,null,null,null,null,{"$f":"IF(F44052<>\"\",'CO2 konvertering'!$C$23,)","v":0},null,null,null,null,0]
[null,null,null,"Ja",null,null,null,null,"",null,"",{"$f":"IFERROR(VLOOKUP(F44126,Biomasser!$A$3:$E$88,4,FALSE),0)","v":0},null,{"$f":"IFERROR(VLOOKUP(F44126,Biomasser!$A$3:$E$88,5,FALSE),0)","v":0},"",0,null,null,{"$f":"IFERROR(VLOOKUP(F44126,Biomasser!$A$3:$M$88,13,FALSE),)","v":0},null,null,null,null,null,{"$f":"IF(F44126<>\"\",'CO2 konvertering'!$C$23,)","v":0},null,null,null,null,0]
[null,null,null,"Ja",null,null,null,null,"",null,"",{"$f":"IFERROR(VLOOKUP(F44209,Biomasser!$A$3:$E$88,4,FALSE),0)","v":0},null,{"$f":"IFERROR(VLOOKUP(F44209,Biomasser!$A$3:$E$88,5,FALSE),0)","v":0},"",0,null,null,{"$f":"IFERROR(VLOOKUP(F44209,Biomasser!$A$3:$M$88,13,FALSE),)","v":0},null,null,null,null,null,{"$f":"IF(F44209<>\"\",'CO2 konvertering'!$C$23,)","v":0},null,null,null,null,0]
[null,null,null,"Ja",null,null,null,null,"",null,"",{"$f":"IFERROR(VLOOKUP(F44307,Biomasser!$A$3:$E$88,4,FALSE),0)","v":0},null,{"$f":"IFERROR(VLOOKUP(F44307,Biomasser!$A$3:$E$88,5,FALSE),0)","v":0},"",0,null,null,{"$f":"IFERROR(VLOOKUP(F44307,Biomasser!$A$3:$M$88,13,FALSE),)","v":0},null,null,null,null,null,{"$f":"IF(F44307<>\"\",'CO2 konvertering'!$C$23,)","v":0},null,null,null,null,0]
[null,null,null,"Ja",null,null,null,null,"",null,"",{"$f":"IFERROR(VLOOKUP(F44366,Biomasser!$A$3:$E$88,4,FALSE),0)","v":0},null,{"$f":"IFERROR(VLOOKUP(F44366,Biomasser!$A$3:$E$88,5,FALSE),0)","v":0},"",0,null,null,{"$f":"IFERROR(VLOOKUP(F44366,Biomasser!$A$3:$M$88,13,FALSE),)","v":0},null,null,null,null,null,{"$f":"IF(F44366<>\"\",'CO2 konvertering'!$C$23,)","v":0},null,null,null,null,0]
[null,null,null,"Ja",null,null,null,null,"",null,"",{"$f":"IFERROR(VLOOKUP(F44459,Biomasser!$A$3:$E$88,4,FALSE),0)","v":0},null,{"$f":"IFERROR(VLOOKUP(F44459,Biomasser!$A$3:$E$88,5,FALSE),0)","v":0},"",0,null,null,{"$f":"IFERROR(VLOOKUP(F44459,Biomasser!$A$3:$M$88,13,FALSE),)","v":0},null,null,null,null,null,{"$f":"IF(F44459<>\"\",'CO2 konvertering'!$C$23,)","v":0},null,null,null,null,0]
[null,null,null,"Ja",null,null,null,null,"",null,"",{"$f":"IFERROR(VLOOKUP(F44523,Biomasser!$A$3:$E$88,4,FALSE),0)","v":0},null,{"$f":"IFERROR(VLOOKUP(F44523,Biomasser!$A$3:$E$88,5,FALSE),0)","v":0},"",0,null,null,{"$f":"IFERROR(VLOOKUP(F44523,Biomasser!$A$3:$M$88,13,FALSE),)","v":0},null,null,null,null,null,{"$f":"IF(F44523<>\"\",'CO2 konvertering'!$C$23,)","v":0},null,null,null,null,0]
[null,null,null,"Ja",null,null,null,null,"",null,"",{"$f":"IFERROR(VLOOKUP(F44611,Biomasser!$A$3:$E$88,4,FALSE),0)","v":0},null,{"$f":"IFERROR(VLOOKUP(F44611,Biomasser!$A$3:$E$88,5,FALSE),0)","v":0},"",0,null,null,{"$f":"IFERROR(VLOOKUP(F44611,Biomasser!$A$3:$M$88,13,FALSE),)","v":0},null,null,null,null,null,{"$f":"IF(F44611<>\"\",'CO2 konvertering'!$C$23,)","v":0},null,null,null,null,0]
[null,null,null,"Ja",null,null,null,null,"",null,"",{"$f":"IFERROR(VLOOKUP(F44712,Biomasser!$A$3:$E$88,4,FALSE),0)","v":0},null,{"$f":"IFERROR(VLOOKUP(F44712,Biomasser!$A$3:$E$88,5,FALSE),0)","v":0},"",0,null,null,{"$f":"IFERROR(VLOOKUP(F44712,Biomasser!$A$3:$M$88,13,FALSE),)","v":0},null,null,null,null,null,{"$f":"IF(F44712<>\"\",'CO2 konvertering'!$C$23,)","v":0},null,null,null,null,0]
[null,null,null,"Ja",null,null,null,null,"",null,"",{"$f":"IFERROR(VLOOKUP(F44763,Biomasser!$A$3:$E$88,4,FALSE),0)","v":0},null,{"$f":"IFERROR(VLOOKUP(F44763,Biomasser!$A$3:$E$88,5,FALSE),0)","v":0},"",0,null,null,{"$f":"IFERROR(VLOOKUP(F44763,Biomasser!$A$3:$M$88,13,FALSE),)","v":0},null,null,null,null,null,{"$f":"IF(F44763<>\"\",'CO2 konvertering'!$C$23,)","v":0},null,null,null,null,0]
[null,null,null,"Ja",null,null,null,null,"",null,"",{"$f":"IFERROR(VLOOKUP(F44869,Biomasser!$A$3:$E$88,4,FALSE),0)","v":0},null,{"$f":"IFERROR(VLOOKUP(F44869,Biomasser!$A$3:$E$88,5,FALSE),0)","v":0},"",0,null,null,{"$f":"IFERROR(VLOOKUP(F44869,Biomasser!$A$3:$M$88,13,FALSE),)","v":0},null,null,null,null,null,{"$f":"IF(F44869<>\"\",'CO2 konvertering'!$C$23,)","v":0},null,null,null,null,0]
[null,null,null,"Ja",null,null,null,null,"",null,"",{"$f":"IFERROR(VLOOKUP(F44944,Biomasser!$A$3:$E$88,4,FALSE),0)","v":0},null,{"$f":"IFERROR(VLOOKUP(F44944,Biomasser!$A$3:$E$88,5,FALSE),0)","v":0},"",0,null,null,{"$f":"IFERROR(VLOOKUP(F44944,Biomasser!$A$3:$M$88,13,FALSE),)","v":0},null,null,null,null,null,{"$f":"IF(F44944<>\"\",'CO2 konvertering'!$C$23,)","v":0},null,null,null,null,0]
[{"$f":"B44947&C44947","v":"4. marts2016"},null,null,"Ja",null,null,null,null,{"$f":"IF(AND(F44950<>\"\",ISBLANK(H44950)),\"Indtast vægt\",\"\")","v":""},null,{"$f":"IF(AND(F44950<>\"\",ISBLANK(J44950)),\"Indtast tørstof %\",\"\")","v":""},{"$f":"IFERROR(VLOOKUP(F44950,Biomasser!$A$3:$E$88,4,FALSE),)","v":0},null,{"$f":"IFERROR(VLOOKUP(F44950,Biomasser!$A$3:$E$88,5,FALSE),0)","v":0},{"$f":"IF(AND(F44950<>\"\",(N44950=0)),\"Opdater biomasseark\",\"\")","v":""},{"$f":"J44950*L44950*N44950*H44950","v":0},null,null,{"$f":"IFERROR(VLOOKUP(F44950,Biomasser!$A$3:$M$88,13,FALSE),)","v":0},null,null,null,null,null,{"$f":"IF(F44950<>\"\",'CO2 konvertering'!$C$23,)","v":0},null,null,null,null,{"$f":"SUM(S44950:AC44950)","v":0}]
[null,null,null,"Ja",null,null,null,null,"",null,"",{"$f":"IFERROR(VLOOKUP(F45096,Biomasser!$A$3:$E$88,4,FALSE),0)","v":0},null,{"$f":"IFERROR(VLOOKUP(F45096,Biomasser!$A$3:$E$88,5,FALSE),0)","v":0},"",0,null,null,{"$f":"IFERROR(VLOOKUP(F45096,Biomasser!$A$3:$M$88,13,FALSE),)","v":0},null,null,null,null,null,{"$f":"IF(F45096<>\"\",'CO2 konvertering'!$C$23,)","v":0},null,null,null,null,0]
[null,null,null,"Ja",null,null,null,null,"",null,"",{"$f":"IFERROR(VLOOKUP(F45107,Biomasser!$A$3:$E$88,4,FALSE),0)","v":0},null,{"$f":"IFERROR(VLOOKUP(F45107,Biomasser!$A$3:$E$88,5,FALSE),0)","v":0},"",0,null,null,{"$f":"IFERROR(VLOOKUP(F45107,Biomasser!$A$3:$M$88,13,FALSE),)","v":0},null,null,null,null,null,{"$f":"IF(F45107<>\"\",'CO2 konvertering'!$C$23,)","v":0},null,null,null,null,0]
[null,null,null,"Ja",null,null,null,null,"",null,"",{"$f":"IFERROR(VLOOKUP(F45248,Biomasser!$A$3:$E$88,4,FALSE),0)","v":0},null,{"$f":"IFERROR(VLOOKUP(F45248,Biomasser!$A$3:$E$88,5,FALSE),0)","v":0},"",0,null,null,{"$f":"IFERROR(VLOOKUP(F45248,Biomasser!$A$3:$M$88,13,FALSE),)","v":0},null,null,null,null,null,{"$f":"IF(F45248<>\"\",'CO2 konvertering'!$C$23,)","v":0},null,null,null,null,0]
[null,null,null,"Ja",null,null,null,null,"",null,"",{"$f":"IFERROR(VLOOKUP(F45296,Biomasser!$A$3:$E$88,4,FALSE),0)","v":0},null,{"$f":"IFERROR(VLOOKUP(F45296,Biomasser!$A$3:$E$88,5,FALSE),0)","v":0},"",0,null,null,{"$f":"IFERROR(VLOOKUP(F45296,Biomasser!$A$3:$M$88,13,FALSE),)","v":0},null,null,null,null,null,{"$f":"IF(F45296<>\"\",'CO2 konvertering'!$C$23,)","v":0},null,null,null,null,0]
[null,null,null,"Ja",null,null,null,null,"",null,"",{"$f":"IFERROR(VLOOKUP(F45325,Biomasser!$A$3:$E$88,4,FALSE),0)","v":0},null,{"$f":"IFERROR(VLOOKUP(F45325,Biomasser!$A$3:$E$88,5,FALSE),0)","v":0},"",0,null,null,{"$f":"IFERROR(VLOOKUP(F45325,Biomasser!$A$3:$M$88,13,FALSE),)","v":0},null,null,null,null,null,{"$f":"IF(F45325<>\"\",'CO2 konvertering'!$C$23,)","v":0},null,null,null,null,0]
[null,null,null,"Ja",null,null,null,null,"",null,"",{"$f":"IFERROR(VLOOKUP(F45453,Biomasser!$A$3:$E$88,4,FALSE),0)","v":0},null,{"$f":"IFERROR(VLOOKUP(F45453,Biomasser!$A$3:$E$88,5,FALSE),0)","v":0},"",0,null,null,{"$f":"IFERROR(VLOOKUP(F45453,Biomasser!$A$3:$M$88,13,FALSE),)","v":0},null,null,null,null,null,{"$f":"IF(F45453<>\"\",'CO2 konvertering'!$C$23,)","v":0},null,null,null,null,0]
[null,null,null,"Ja",null,null,null,null,"",null,"",{"$f":"IFERROR(VLOOKUP(F45506,Biomasser!$A$3:$E$88,4,FALSE),0)","v":0},null,{"$f":"IFERROR(VLOOKUP(F45506,Biomasser!$A$3:$E$88,5,FALSE),0)","v":0},"",0,null,null,{"$f":"IFERROR(VLOOKUP(F45506,Biomasser!$A$3:$M$88,13,FALSE),)","v":0},null,null,null,null,null,{"$f":"IF(F45506<>\"\",'CO2 konvertering'!$C$23,)","v":0},null,null,null,null,0]
[null,null,null,"Ja",null,null,null,null,"",null,"",{"$f":"IFERROR(VLOOKUP(F45610,Biomasser!$A$3:$E$88,4,FALSE),0)","v":0},null,{"$f":"IFERROR(VLOOKUP(F45610,Biomasser!$A$3:$E$88,5,FALSE),0)","v":0},"",0,null,null,{"$f":"IFERROR(VLOOKUP(F45610,Biomasser!$A$3:$M$88,13,FALSE),)","v":0},null,null,null,null,null,{"$f":"IF(F45610<>\"\",'CO2 konvertering'!$C$23,)","v":0},null,null,null,null,0]
[null,null,null,"Ja",null,null,null,null,"",null,"",{"$f":"IFERROR(VLOOKUP(F45658,Biomasser!$A$3:$E$88,4,FALSE),0)","v":0},null,{"$f":"IFERROR(VLOOKUP(F45658,Biomasser!$A$3:$E$88,5,FALSE),0)","v":0},"",0,null,null,{"$f":"IFERROR(VLOOKUP(F45658,Biomasser!$A$3:$M$88,13,FALSE),)","v":0},null,null,null,null,null,{"$f":"IF(F45658<>\"\",'CO2 konvertering'!$C$23,)","v":0},null,null,null,null,0]
[null,null,null,"Ja",null,null,null,null,"",null,"",{"$f":"IFERROR(VLOOKUP(F45767,Biomasser!$A$3:$E$88,4,FALSE),0)","v":0},null,{"$f":"IFERROR(VLOOKUP(F45767,Biomasser!$A$3:$E$88,5,FALSE),0)","v":0},"",0,null,null,{"$f":"IFERROR(VLOOKUP(F45767,Biomasser!$A$3:$M$88,13,FALSE),)","v":0},null,null,null,null,null,{"$f":"IF(F45767<>\"\",'CO2 konvertering'!$C$23,)","v":0},null,null,null,null,0]
[null,null,null,"Ja",null,null,null,null,"",null,"",{"$f":"IFERROR(VLOOKUP(F45810,Biomasser!$A$3:$E$88,4,FALSE),0)","v":0},null,{"$f":"IFERROR(VLOOKUP(F45810,Biomasser!$A$3:$E$88,5,FALSE),0)","v":0},"",0,null,null,{"$f":"IFERROR(VLOOKUP(F45810,Biomasser!$A$3:$M$88,13,FALSE),)","v":0},null,null,null,null,null,{"$f":"IF(F45810<>\"\",'CO2 konvertering'!$C$23,)","v":0},null,null,null,null,0]
[null,null,null,"Ja",null,null,null,null,"",null,"",{"$f":"IFERROR(VLOOKUP(F45880,Biomasser!$A$3:$E$88,4,FALSE),0)","v":0},null,{"$f":"IFERROR(VLOOKUP(F45880,Biomasser!$A$3:$E$88,5,FALSE),0)","v":0},"",0,null,null,{"$f":"IFERROR(VLOOKUP(F45880,Biomasser!$A$3:$M$88,13,FALSE),)","v":0},null,null,null,null,null,{"$f":"IF(F45880<>\"\",'CO2 konvertering'!$C$23,)","v":0},null,null,null,null,0]
[null,null,null,"Ja",null,null,null,null,"",null,"",{"$f":"IFERROR(VLOOKUP(F45962,Biomasser!$A$3:$E$88,4,FALSE),0)","v":0},null,{"$f":"IFERROR(VLOOKUP(F45962,Biomasser!$A$3:$E$88,5,FALSE),0)","v":0},"",0,null,null,{"$f":"IFERROR(VLOOKUP(F45962,Biomasser!$A$3:$M$88,13,FALSE),)","v":0},null,null,null,null,null,{"$f":"IF(F45962<>\"\",'CO2 konvertering'!$C$23,)","v":0},null,null,null,null,0]
[null,null,null,"Ja",null,null,null,null,"",null,"",{"$f":"IFERROR(VLOOKUP(F46037,Biomasser!$A$3:$E$88,4,FALSE),0)","v":0},null,{"$f":"IFERROR(VLOOKUP(F46037,Biomasser!$A$3:$E$88,5,FALSE),0)","v":0},"",0,null,null,{"$f":"IFERROR(VLOOKUP(F46037,Biomasser!$A$3:$M$88,13,FALSE),)","v":0},null,null,null,null,null,{"$f":"IF(F46037<>\"\",'CO2 konvertering'!$C$23,)","v":0},null,null,null,null,0]
[null,null,null,"Ja",null,null,null,null,"",null,"",{"$f":"IFERROR(VLOOKUP(F46114,Biomasser!$A$3:$E$88,4,FALSE),0)","v":0},null,{"$f":"IFERROR(VLOOKUP(F46114,Biomasser!$A$3:$E$88,5,FALSE),0)","v":0},"",0,null,null,{"$f":"IFERROR(VLOOKUP(F46114,Biomasser!$A$3:$M$88,13,FALSE),)","v":0},null,null,null,null,null,{"$f":"IF(F46114<>\"\",'CO2 konvertering'!$C$23,)","v":0},null,null,null,null,0]
[null,null,null,"Ja",null,null,null,null,"",null,"",{"$f":"IFERROR(VLOOKUP(F46194,Biomasser!$A$3:$E$88,4,FALSE),0)","v":0},null,{"$f":"IFERROR(VLOOKUP(F46194,Biomasser!$A$3:$E$88,5,FALSE),0)","v":0},"",0,null,null,{"$f":"IFERROR(VLOOKUP(F46194,Biomasser!$A$3:$M$88,13,FALSE),)","v":0},null,null,null,null,null,{"$f":"IF(F46194<>\"\",'CO2 konvertering'!$C$23,)","v":0},null,null,null,null,0]
[null,null,null,"Ja",null,null,null,null,"",null,"",{"$f":"IFERROR(VLOOKUP(F46251,Biomasser!$A$3:$E$88,4,FALSE),0)","v":0},null,{"$f":"IFERROR(VLOOKUP(F46251,Biomasser!$A$3:$E$88,5,FALSE),0)","v":0},"",0,null,null,{"$f":"IFERROR(VLOOKUP(F46251,Biomasser!$A$3:$M$88,13,FALSE),)","v":0},null,null,null,null,null,{"$f":"IF(F46251<>\"\",'CO2 konvertering'!$C$23,)","v":0},null,null,null,null,0]
[null,null,null,"Ja",null,null,null,null,"",null,"",{"$f":"IFERROR(VLOOKUP(F46357,Biomasser!$A$3:$E$88,4,FALSE),0)","v":0},null,{"$f":"IFERROR(VLOOKUP(F46357,Biomasser!$A$3:$E$88,5,FALSE),0)","v":0},"",0,null,null,{"$f":"IFERROR(VLOOKUP(F46357,Biomasser!$A$3:$M$88,13,FALSE),)","v":0},null,null,null,null,null,{"$f":"IF(F46357<>\"\",'CO2 konvertering'!$C$23,)","v":0},null,null,null,null,0]
[null,null,null,"Ja",null,null,null,null,"",null,"",{"$f":"IFERROR(VLOOKUP(F46408,Biomasser!$A$3:$E$88,4,FALSE),0)","v":0},null,{"$f":"IFERROR(VLOOKUP(F46408,Biomasser!$A$3:$E$88,5,FALSE),0)","v":0},"",0,null,null,{"$f":"IFERROR(VLOOKUP(F46408,Biomasser!$A$3:$M$88,13,FALSE),)","v":0},null,null,null,null,null,{"$f":"IF(F46408<>\"\",'CO2 konvertering'!$C$23,)","v":0},null,null,null,null,0]
[null,null,null,"Ja",null,null,null,null,"",null,"",{"$f":"IFERROR(VLOOKUP(F46463,Biomasser!$A$3:$E$88,4,FALSE),0)","v":0},null,{"$f":"IFERROR(VLOOKUP(F46463,Biomasser!$A$3:$E$88,5,FALSE),0)","v":0},"",0,null,null,{"$f":"IFERROR(VLOOKUP(F46463,Biomasser!$A$3:$M$88,13,FALSE),)","v":0},null,null,null,null,null,{"$f":"IF(F46463<>\"\",'CO2 konvertering'!$C$23,)","v":0},null,null,null,null,0]
[null,null,null,"Ja",null,null,null,null,"",null,"",{"$f":"IFERROR(VLOOKUP(F46565,Biomasser!$A$3:$E$88,4,FALSE),0)","v":0},null,{"$f":"IFERROR(VLOOKUP(F46565,Biomasser!$A$3:$E$88,5,FALSE),0)","v":0},"",0,null,null,{"$f":"IFERROR(VLOOKUP(F46565,Biomasser!$A$3:$M$88,13,FALSE),)","v":0},null,null,null,null,null,{"$f":"IF(F46565<>\"\",'CO2 konvertering'!$C$23,)","v":0},null,null,null,null,0]
[null,null,null,"Ja",null,null,null,null,"",null,"",{"$f":"IFERROR(VLOOKUP(F46615,Biomasser!$A$3:$E$88,4,FALSE),0)","v":0},null,{"$f":"IFERROR(VLOOKUP(F46615,Biomasser!$A$3:$E$88,5,FALSE),0)","v":0},"",0,null,null,{"$f":"IFERROR(VLOOKUP(F46615,Biomasser!$A$3:$M$88,13,FALSE),)","v":0},null,null,null,null,null,{"$f":"IF(F46615<>\"\",'CO2 konvertering'!$C$23,)","v":0},null,null,null,null,0]
[null,null,null,"Ja",null,null,null,null,"",null,"",{"$f":"IFERROR(VLOOKUP(F46722,Biomasser!$A$3:$E$88,4,FALSE),0)","v":0},null,{"$f":"IFERROR(VLOOKUP(F46722,Biomasser!$A$3:$E$88,5,FALSE),0)","v":0},"",0,null,null,{"$f":"IFERROR(VLOOKUP(F46722,Biomasser!$A$3:$M$88,13,FALSE),)","v":0},null,null,null,null,null,{"$f":"IF(F46722<>\"\",'CO2 konvertering'!$C$23,)","v":0},null,null,null,null,0]
[null,null,null,"Ja",null,null,null,null,"",null,"",{"$f":"IFERROR(VLOOKUP(F46767,Biomasser!$A$3:$E$88,4,FALSE),0)","v":0},null,{"$f":"IFERROR(VLOOKUP(F46767,Biomasser!$A$3:$E$88,5,FALSE),0)","v":0},"",0,null,null,{"$f":"IFERROR(VLOOKUP(F46767,Biomasser!$A$3:$M$88,13,FALSE),)","v":0},null,null,null,null,null,{"$f":"IF(F46767<>\"\",'CO2 konvertering'!$C$23,)","v":0},null,null,null,null,{"$f":"SUM(S46767:AC46767)","v":0}]
[null,null,null,"Ja",null,null,null,null,"",null,"",{"$f":"IFERROR(VLOOKUP(F46835,Biomasser!$A$3:$E$88,4,FALSE),0)","v":0},null,{"$f":"IFERROR(VLOOKUP(F46835,Biomasser!$A$3:$E$88,5,FALSE),0)","v":0},"",0,null,null,{"$f":"IFERROR(VLOOKUP(F46835,Biomasser!$A$3:$M$88,13,FALSE),)","v":0},null,null,null,null,null,{"$f":"IF(F46835<>\"\",'CO2 konvertering'!$C$23,)","v":0},null,null,null,null,0]
[null,null,null,"Ja",null,null,null,null,"",null,"",{"$f":"IFERROR(VLOOKUP(F46919,Biomasser!$A$3:$E$88,4,FALSE),0)","v":0},null,{"$f":"IFERROR(VLOOKUP(F46919,Biomasser!$A$3:$E$88,5,FALSE),0)","v":0},"",0,null,null,{"$f":"IFERROR(VLOOKUP(F46919,Biomasser!$A$3:$M$88,13,FALSE),)","v":0},null,null,null,null,null,{"$f":"IF(F46919<>\"\",'CO2 konvertering'!$C$23,)","v":0},null,null,null,null,0]
[null,null,null,"Ja",null,null,null,null,"",null,"",{"$f":"IFERROR(VLOOKUP(F46992,Biomasser!$A$3:$E$88,4,FALSE),0)","v":0},null,{"$f":"IFERROR(VLOOKUP(F46992,Biomasser!$A$3:$E$88,5,FALSE),0)","v":0},"",0,null,null,{"$f":"IFERROR(VLOOKUP(F46992,Biomasser!$A$3:$M$88,13,FALSE),)","v":0},null,null,null,null,null,{"$f":"IF(F46992<>\"\",'CO2 konvertering'!$C$23,)","v":0},null,null,null,null,0]
[null,null,null,"Ja",null,null,null,null,"",null,"",{"$f":"IFERROR(VLOOKUP(F47100,Biomasser!$A$3:$E$88,4,FALSE),0)","v":0},null,{"$f":"IFERROR(VLOOKUP(F47100,Biomasser!$A$3:$E$88,5,FALSE),0)","v":0},"",0,null,null,{"$f":"IFERROR(VLOOKUP(F47100,Biomasser!$A$3:$M$88,13,FALSE),)","v":0},null,null,null,null,null,{"$f":"IF(F47100<>\"\",'CO2 konvertering'!$C$23,)","v":0},null,null,null,null,0]
[null,null,null,"Ja",null,null,null,null,"",null,"",{"$f":"IFERROR(VLOOKUP(F47149,Biomasser!$A$3:$E$88,4,FALSE),0)","v":0},null,{"$f":"IFERROR(VLOOKUP(F47149,Biomasser!$A$3:$E$88,5,FALSE),0)","v":0},"",0,null,null,{"$f":"IFERROR(VLOOKUP(F47149,Biomasser!$A$3:$M$88,13,FALSE),)","v":0},null,null,null,null,null,{"$f":"IF(F47149<>\"\",'CO2 konvertering'!$C$23,)","v":0},null,null,null,null,0]
[null,null,null,"Ja",null,null,null,null,"",null,"",{"$f":"IFERROR(VLOOKUP(F47252,Biomasser!$A$3:$E$88,4,FALSE),0)","v":0},null,{"$f":"IFERROR(VLOOKUP(F47252,Biomasser!$A$3:$E$88,5,FALSE),0)","v":0},"",0,null,null,{"$f":"IFERROR(VLOOKUP(F47252,Biomasser!$A$3:$M$88,13,FALSE),)","v":0},null,null,null,null,null,{"$f":"IF(F47252<>\"\",'CO2 konvertering'!$C$23,)","v":0},null,null,null,null,0]
[null,null,null,"Ja",null,null,null,null,"",null,"",{"$f":"IFERROR(VLOOKUP(F47306,Biomasser!$A$3:$E$88,4,FALSE),0)","v":0},null,{"$f":"IFERROR(VLOOKUP(F47306,Biomasser!$A$3:$E$88,5,FALSE),0)","v":0},"",0,null,null,{"$f":"IFERROR(VLOOKUP(F47306,Biomasser!$A$3:$M$88,13,FALSE),)","v":0},null,null,null,null,null,{"$f":"IF(F47306<>\"\",'CO2 konvertering'!$C$23,)","v":0},null,null,null,null,0]
[null,null,null,"Ja",null,null,null,null,"",null,"",{"$f":"IFERROR(VLOOKUP(F47404,Biomasser!$A$3:$E$88,4,FALSE),0)","v":0},null,{"$f":"IFERROR(VLOOKUP(F47404,Biomasser!$A$3:$E$88,5,FALSE),0)","v":0},"",0,null,null,{"$f":"IFERROR(VLOOKUP(F47404,Biomasser!$A$3:$M$88,13,FALSE),)","v":0},null,null,null,null,null,{"$f":"IF(F47404<>\"\",'CO2 konvertering'!$C$23,)","v":0},null,null,null,null,0]
[null,null,null,"Ja",null,null,null,null,"",null,"",{"$f":"IFERROR(VLOOKUP(F47495,Biomasser!$A$3:$E$88,4,FALSE),0)","v":0},null,{"$f":"IFERROR(VLOOKUP(F47495,Biomasser!$A$3:$E$88,5,FALSE),0)","v":0},"",0,null,null,{"$f":"IFERROR(VLOOKUP(F47495,Biomasser!$A$3:$M$88,13,FALSE),)","v":0},null,null,null,null,null,{"$f":"IF(F47495<>\"\",'CO2 konvertering'!$C$23,)","v":0},null,null,null,null,0]
[null,null,null,"Ja",null,null,null,null,"",null,"",{"$f":"IFERROR(VLOOKUP(F47556,Biomasser!$A$3:$E$88,4,FALSE),0)","v":0},null,{"$f":"IFERROR(VLOOKUP(F47556,Biomasser!$A$3:$E$88,5,FALSE),0)","v":0},"",0,null,null,{"$f":"IFERROR(VLOOKUP(F47556,Biomasser!$A$3:$M$88,13,FALSE),)","v":0},null,null,null,null,null,{"$f":"IF(F47556<>\"\",'CO2 konvertering'!$C$23,)","v":0},null,null,null,null,0]
[null,null,null,"Ja",null,null,null,null,"",null,"",{"$f":"IFERROR(VLOOKUP(F47652,Biomasser!$A$3:$E$88,4,FALSE),0)","v":0},null,{"$f":"IFERROR(VLOOKUP(F47652,Biomasser!$A$3:$E$88,5,FALSE),0)","v":0},"",0,null,null,{"$f":"IFERROR(VLOOKUP(F47652,Biomasser!$A$3:$M$88,13,FALSE),)","v":0},null,null,null,null,null,{"$f":"IF(F47652<>\"\",'CO2 konvertering'!$C$23,)","v":0},null,null,null,null,0]
[null,null,null,"Ja",null,null,null,null,"",null,"",{"$f":"IFERROR(VLOOKUP(F47708,Biomasser!$A$3:$E$88,4,FALSE),0)","v":0},null,{"$f":"IFERROR(VLOOKUP(F47708,Biomasser!$A$3:$E$88,5,FALSE),0)","v":0},"",0,null,null,{"$f":"IFERROR(VLOOKUP(F47708,Biomasser!$A$3:$M$88,13,FALSE),)","v":0},null,null,null,null,null,{"$f":"IF(F47708<>\"\",'CO2 konvertering'!$C$23,)","v":0},null,null,null,null,0]
[null,null,null,"Ja",null,null,null,null,"",null,"",{"$f":"IFERROR(VLOOKUP(F47809,Biomasser!$A$3:$E$88,4,FALSE),0)","v":0},null,{"$f":"IFERROR(VLOOKUP(F47809,Biomasser!$A$3:$E$88,5,FALSE),0)","v":0},"",0,null,null,{"$f":"IFERROR(VLOOKUP(F47809,Biomasser!$A$3:$M$88,13,FALSE),)","v":0},null,null,null,null,null,{"$f":"IF(F47809<>\"\",'CO2 konvertering'!$C$23,)","v":0},null,null,null,null,0]
[]
[null,null,null,"Ja",null,null,null,null,"",null,"",{"$f":"IFERROR(VLOOKUP(F47966,Biomasser!$A$3:$E$88,4,FALSE),0)","v":0},null,{"$f":"IFERROR(VLOOKUP(F47966,Biomasser!$A$3:$E$88,5,FALSE),0)","v":0},"",0,null,null,{"$f":"IFERROR(VLOOKUP(F47966,Biomasser!$A$3:$M$88,13,FALSE),)","v":0},null,null,null,null,null,{"$f":"IF(F47966<>\"\",'CO2 konvertering'!$C$23,)","v":0},null,null,null,null,0]
[null,null,null,"Ja",null,null,null,null,"",null,"",{"$f":"IFERROR(VLOOKUP(F48041,Biomasser!$A$3:$E$88,4,FALSE),0)","v":0},null,{"$f":"IFERROR(VLOOKUP(F48041,Biomasser!$A$3:$E$88,5,FALSE),0)","v":0},"",0,null,null,{"$f":"IFERROR(VLOOKUP(F48041,Biomasser!$A$3:$M$88,13,FALSE),)","v":0},null,null,null,null,null,{"$f":"IF(F48041<>\"\",'CO2 konvertering'!$C$23,)","v":0},null,null,null,null,0]
[null,null,null,"Ja",null,null,null,null,"",null,"",{"$f":"IFERROR(VLOOKUP(F48079,Biomasser!$A$3:$E$88,4,FALSE),0)","v":0},null,{"$f":"IFERROR(VLOOKUP(F48079,Biomasser!$A$3:$E$88,5,FALSE),0)","v":0},"",0,null,null,{"$f":"IFERROR(VLOOKUP(F48079,Biomasser!$A$3:$M$88,13,FALSE),)","v":0},null,null,null,null,null,{"$f":"IF(F48079<>\"\",'CO2 konvertering'!$C$23,)","v":0},null,null,null,null,0]
[null,null,null,"Ja",null,null,null,null,"",null,"",{"$f":"IFERROR(VLOOKUP(F48193,Biomasser!$A$3:$E$88,4,FALSE),0)","v":0},null,{"$f":"IFERROR(VLOOKUP(F48193,Biomasser!$A$3:$E$88,5,FALSE),0)","v":0},"",0,null,null,{"$f":"IFERROR(VLOOKUP(F48193,Biomasser!$A$3:$M$88,13,FALSE),)","v":0},null,null,null,null,null,{"$f":"IF(F48193<>\"\",'CO2 konvertering'!$C$23,)","v":0},null,null,null,null,0]
[null,null,null,"Ja",null,null,null,null,"",null,"",{"$f":"IFERROR(VLOOKUP(F48236,Biomasser!$A$3:$E$88,4,FALSE),0)","v":0},null,{"$f":"IFERROR(VLOOKUP(F48236,Biomasser!$A$3:$E$88,5,FALSE),0)","v":0},"",0,null,null,{"$f":"IFERROR(VLOOKUP(F48236,Biomasser!$A$3:$M$88,13,FALSE),)","v":0},null,null,null,null,null,{"$f":"IF(F48236<>\"\",'CO2 konvertering'!$C$23,)","v":0},null,null,null,null,0]
[null,null,null,"Ja",null,null,null,null,{"$f":"IF(AND(F48270<>\"\",ISBLANK(H48270)),\"Indtast vægt\",\"\")","v":""},null,{"$f":"IF(AND(F48270<>\"\",ISBLANK(J48270)),\"Indtast tørstof %\",\"\")","v":""},{"$f":"IFERROR(VLOOKUP(F48270,Biomasser!$A$3:$E$88,4,FALSE),0)","v":0},null,{"$f":"IFERROR(VLOOKUP(F48270,Biomasser!$A$3:$E$88,5,FALSE),0)","v":0},"",0,null,null,{"$f":"IFERROR(VLOOKUP(F48270,Biomasser!$A$3:$M$88,13,FALSE),)","v":0},null,null,null,null,null,{"$f":"IF(F48270<>\"\",'CO2 konvertering'!$C$23,)","v":0},null,null,null,null,0]
[null,null,null,"Ja",null,null,null,null,"",null,"",{"$f":"IFERROR(VLOOKUP(F48393,Biomasser!$A$3:$E$88,4,FALSE),0)","v":0},null,{"$f":"IFERROR(VLOOKUP(F48393,Biomasser!$A$3:$E$88,5,FALSE),0)","v":0},"",0,null,null,{"$f":"IFERROR(VLOOKUP(F48393,Biomasser!$A$3:$M$88,13,FALSE),)","v":0},null,null,null,null,null,{"$f":"IF(F48393<>\"\",'CO2 konvertering'!$C$23,)","v":0},null,null,null,null,0]
[null,null,null,"Ja",null,null,null,null,"",null,"",{"$f":"IFERROR(VLOOKUP(F48451,Biomasser!$A$3:$E$88,4,FALSE),0)","v":0},null,{"$f":"IFERROR(VLOOKUP(F48451,Biomasser!$A$3:$E$88,5,FALSE),0)","v":0},"",0,null,null,{"$f":"IFERROR(VLOOKUP(F48451,Biomasser!$A$3:$M$88,13,FALSE),)","v":0},null,null,null,null,null,{"$f":"IF(F48451<>\"\",'CO2 konvertering'!$C$23,)","v":0},null,null,null,null,0]
[null,null,null,"Ja",null,null,null,null,"",null,"",{"$f":"IFERROR(VLOOKUP(F48550,Biomasser!$A$3:$E$88,4,FALSE),0)","v":0},null,{"$f":"IFERROR(VLOOKUP(F48550,Biomasser!$A$3:$E$88,5,FALSE),0)","v":0},"",0,null,null,{"$f":"IFERROR(VLOOKUP(F48550,Biomasser!$A$3:$M$88,13,FALSE),)","v":0},null,null,null,null,null,{"$f":"IF(F48550<>\"\",'CO2 konvertering'!$C$23,)","v":0},null,null,null,null,0]
[null,null,null,"Ja",null,null,null,null,"",null,"",{"$f":"IFERROR(VLOOKUP(F48603,Biomasser!$A$3:$E$88,4,FALSE),0)","v":0},null,{"$f":"IFERROR(VLOOKUP(F48603,Biomasser!$A$3:$E$88,5,FALSE),0)","v":0},"",0,null,null,{"$f":"IFERROR(VLOOKUP(F48603,Biomasser!$A$3:$M$88,13,FALSE),)","v":0},null,null,null,null,null,{"$f":"IF(F48603<>\"\",'CO2 konvertering'!$C$23,)","v":0},null,null,null,null,0]
[null,null,null,"Ja",null,null,null,null,"",null,"",{"$f":"IFERROR(VLOOKUP(F48707,Biomasser!$A$3:$E$88,4,FALSE),0)","v":0},null,{"$f":"IFERROR(VLOOKUP(F48707,Biomasser!$A$3:$E$88,5,FALSE),0)","v":0},"",0,null,null,{"$f":"IFERROR(VLOOKUP(F48707,Biomasser!$A$3:$M$88,13,FALSE),)","v":0},null,null,null,null,null,{"$f":"IF(F48707<>\"\",'CO2 konvertering'!$C$23,)","v":0},null,null,null,null,0]
[null,null,null,"Ja",null,null,null,null,"",null,"",{"$f":"IFERROR(VLOOKUP(F48755,Biomasser!$A$3:$E$88,4,FALSE),0)","v":0},null,{"$f":"IFERROR(VLOOKUP(F48755,Biomasser!$A$3:$E$88,5,FALSE),0)","v":0},"",0,null,null,{"$f":"IFERROR(VLOOKUP(F48755,Biomasser!$A$3:$M$88,13,FALSE),)","v":0},null,null,null,null,null,{"$f":"IF(F48755<>\"\",'CO2 konvertering'!$C$23,)","v":0},null,null,null,null,0]
[null,null,null,"Ja",null,null,null,null,"",null,"",{"$f":"IFERROR(VLOOKUP(F48820,Biomasser!$A$3:$E$88,4,FALSE),0)","v":0},null,{"$f":"IFERROR(VLOOKUP(F48820,Biomasser!$A$3:$E$88,5,FALSE),0)","v":0},"",0,null,null,{"$f":"IFERROR(VLOOKUP(F48820,Biomasser!$A$3:$M$88,13,FALSE),)","v":0},null,null,null,null,null,{"$f":"IF(F48820<>\"\",'CO2 konvertering'!$C$23,)","v":0},null,null,null,null,0]
[null,null,null,"Ja",null,null,null,null,"",null,"",{"$f":"IFERROR(VLOOKUP(F48907,Biomasser!$A$3:$E$88,4,FALSE),0)","v":0},null,{"$f":"IFERROR(VLOOKUP(F48907,Biomasser!$A$3:$E$88,5,FALSE),0)","v":0},"",0,null,null,{"$f":"IFERROR(VLOOKUP(F48907,Biomasser!$A$3:$M$88,13,FALSE),)","v":0},null,null,null,null,null,{"$f":"IF(F48907<>\"\",'CO2 konvertering'!$C$23,)","v":0},null,null,null,null,0]
[null,null,null,"Ja",null,null,null,null,"",null,"",{"$f":"IFERROR(VLOOKUP(F48977,Biomasser!$A$3:$E$88,4,FALSE),0)","v":0},null,{"$f":"IFERROR(VLOOKUP(F48977,Biomasser!$A$3:$E$88,5,FALSE),0)","v":0},"",0,null,null,{"$f":"IFERROR(VLOOKUP(F48977,Biomasser!$A$3:$M$88,13,FALSE),)","v":0},null,null,null,null,null,{"$f":"IF(F48977<>\"\",'CO2 konvertering'!$C$23,)","v":0},null,null,null,null,0]
[null,null,null,"Ja",null,null,null,null,"",null,"",{"$f":"IFERROR(VLOOKUP(F49088,Biomasser!$A$3:$E$88,4,FALSE),0)","v":0},null,{"$f":"IFERROR(VLOOKUP(F49088,Biomasser!$A$3:$E$88,5,FALSE),0)","v":0},"",0,null,null,{"$f":"IFERROR(VLOOKUP(F49088,Biomasser!$A$3:$M$88,13,FALSE),)","v":0},null,null,null,null,null,{"$f":"IF(F49088<>\"\",'CO2 konvertering'!$C$23,)","v":0},null,null,null,null,0]
[null,null,null,"Ja",null,null,null,null,"",null,"",{"$f":"IFERROR(VLOOKUP(F49134,Biomasser!$A$3:$E$88,4,FALSE),0)","v":0},null,{"$f":"IFERROR(VLOOKUP(F49134,Biomasser!$A$3:$E$88,5,FALSE),0)","v":0},"",0,null,null,{"$f":"IFERROR(VLOOKUP(F49134,Biomasser!$A$3:$M$88,13,FALSE),)","v":0},null,null,null,null,null,{"$f":"IF(F49134<>\"\",'CO2 konvertering'!$C$23,)","v":0},null,null,null,null,0]
[null,null,null,"Ja",null,null,null,null,"",null,"",{"$f":"IFERROR(VLOOKUP(F49240,Biomasser!$A$3:$E$88,4,FALSE),0)","v":0},null,{"$f":"IFERROR(VLOOKUP(F49240,Biomasser!$A$3:$E$88,5,FALSE),0)","v":0},"",0,null,null,{"$f":"IFERROR(VLOOKUP(F49240,Biomasser!$A$3:$M$88,13,FALSE),)","v":0},null,null,null,null,null,{"$f":"IF(F49240<>\"\",'CO2 konvertering'!$C$23,)","v":0},null,null,null,null,0]
[null,null,null,"Ja",null,null,null,null,"",null,"",{"$f":"IFERROR(VLOOKUP(F49291,Biomasser!$A$3:$E$88,4,FALSE),0)","v":0},null,{"$f":"IFERROR(VLOOKUP(F49291,Biomasser!$A$3:$E$88,5,FALSE),0)","v":0},"",0,null,null,{"$f":"IFERROR(VLOOKUP(F49291,Biomasser!$A$3:$M$88,13,FALSE),)","v":0},null,null,null,null,null,{"$f":"IF(F49291<>\"\",'CO2 konvertering'!$C$23,)","v":0},null,null,null,null,0]
[null,null,null,"Ja",null,null,null,null,"",null,"",{"$f":"IFERROR(VLOOKUP(F49392,Biomasser!$A$3:$E$88,4,FALSE),0)","v":0},null,{"$f":"IFERROR(VLOOKUP(F49392,Biomasser!$A$3:$E$88,5,FALSE),0)","v":0},"",0,null,null,{"$f":"IFERROR(VLOOKUP(F49392,Biomasser!$A$3:$M$88,13,FALSE),)","v":0},null,null,null,null,null,{"$f":"IF(F49392<>\"\",'CO2 konvertering'!$C$23,)","v":0},null,null,null,null,{"$f":"SUM(S49392:AC49392)","v":0}]
[null,null,null,"Ja",null,null,null,null,"",null,"",{"$f":"IFERROR(VLOOKUP(F49404,Biomasser!$A$3:$E$88,4,FALSE),0)","v":0},null,{"$f":"IFERROR(VLOOKUP(F49404,Biomasser!$A$3:$E$88,5,FALSE),0)","v":0},"",0,null,null,{"$f":"IFERROR(VLOOKUP(F49404,Biomasser!$A$3:$M$88,13,FALSE),)","v":0},null,null,null,null,null,{"$f":"IF(F49404<>\"\",'CO2 konvertering'!$C$23,)","v":0},null,null,null,null,0]
[null,null,null,"Ja",null,null,null,null,"",null,"",{"$f":"IFERROR(VLOOKUP(F49544,Biomasser!$A$3:$E$88,4,FALSE),0)","v":0},null,{"$f":"IFERROR(VLOOKUP(F49544,Biomasser!$A$3:$E$88,5,FALSE),0)","v":0},"",0,null,null,{"$f":"IFERROR(VLOOKUP(F49544,Biomasser!$A$3:$M$88,13,FALSE),)","v":0},null,null,null,null,null,{"$f":"IF(F49544<>\"\",'CO2 konvertering'!$C$23,)","v":0},null,null,null,null,0]
[null,null,null,"Ja",null,null,null,null,"",null,"",{"$f":"IFERROR(VLOOKUP(F49561,Biomasser!$A$3:$E$88,4,FALSE),0)","v":0},null,{"$f":"IFERROR(VLOOKUP(F49561,Biomasser!$A$3:$E$88,5,FALSE),0)","v":0},"",0,null,null,{"$f":"IFERROR(VLOOKUP(F49561,Biomasser!$A$3:$M$88,13,FALSE),)","v":0},null,null,null,null,null,{"$f":"IF(F49561<>\"\",'CO2 konvertering'!$C$23,)","v":0},null,null,null,null,{"$f":"SUM(S49561:AC49561)","v":0}]
[null,null,null,"Ja",null,null,null,null,"",null,"",{"$f":"IFERROR(VLOOKUP(F49650,Biomasser!$A$3:$E$88,4,FALSE),0)","v":0},null,{"$f":"IFERROR(VLOOKUP(F49650,Biomasser!$A$3:$E$88,5,FALSE),0)","v":0},"",0,null,null,{"$f":"IFERROR(VLOOKUP(F49650,Biomasser!$A$3:$M$88,13,FALSE),)","v":0},null,null,null,null,null,{"$f":"IF(F49650<>\"\",'CO2 konvertering'!$C$23,)","v":0},null,null,null,null,0]
[null,null,null,"Ja",null,null,null,null,"",null,"",{"$f":"IFERROR(VLOOKUP(F49718,Biomasser!$A$3:$E$88,4,FALSE),0)","v":0},null,{"$f":"IFERROR(VLOOKUP(F49718,Biomasser!$A$3:$E$88,5,FALSE),0)","v":0},"",0,null,null,{"$f":"IFERROR(VLOOKUP(F49718,Biomasser!$A$3:$M$88,13,FALSE),)","v":0},null,null,null,null,null,{"$f":"IF(F49718<>\"\",'CO2 konvertering'!$C$23,)","v":0},null,null,null,null,0]
[null,null,null,"Ja",null,null,null,null,"",null,"",{"$f":"IFERROR(VLOOKUP(F49802,Biomasser!$A$3:$E$88,4,FALSE),0)","v":0},null,{"$f":"IFERROR(VLOOKUP(F49802,Biomasser!$A$3:$E$88,5,FALSE),0)","v":0},"",0,null,null,{"$f":"IFERROR(VLOOKUP(F49802,Biomasser!$A$3:$M$88,13,FALSE),)","v":0},null,null,null,null,null,{"$f":"IF(F49802<>\"\",'CO2 konvertering'!$C$23,)","v":0},null,null,null,null,0]
[null,null,null,"Ja",null,null,null,null,"",null,"",{"$f":"IFERROR(VLOOKUP(F49875,Biomasser!$A$3:$E$88,4,FALSE),0)","v":0},null,{"$f":"IFERROR(VLOOKUP(F49875,Biomasser!$A$3:$E$88,5,FALSE),0)","v":0},"",0,null,null,{"$f":"IFERROR(VLOOKUP(F49875,Biomasser!$A$3:$M$88,13,FALSE),)","v":0},null,null,null,null,null,{"$f":"IF(F49875<>\"\",'CO2 konvertering'!$C$23,)","v":0},null,null,null,null,0]
[null,null,null,"Ja",null,null,null,null,"",null,"",{"$f":"IFERROR(VLOOKUP(F49954,Biomasser!$A$3:$E$88,4,FALSE),0)","v":0},null,{"$f":"IFERROR(VLOOKUP(F49954,Biomasser!$A$3:$E$88,5,FALSE),0)","v":0},"",0,null,null,{"$f":"IFERROR(VLOOKUP(F49954,Biomasser!$A$3:$M$88,13,FALSE),)","v":0},null,null,null,null,null,{"$f":"IF(F49954<>\"\",'CO2 konvertering'!$C$23,)","v":0},null,null,null,null,0]
[null,null,null,"Ja",null,null,null,null,"",null,"",{"$f":"IFERROR(VLOOKUP(F50064,Biomasser!$A$3:$E$88,4,FALSE),0)","v":0},null,{"$f":"IFERROR(VLOOKUP(F50064,Biomasser!$A$3:$E$88,5,FALSE),0)","v":0},"",0,null,null,{"$f":"IFERROR(VLOOKUP(F50064,Biomasser!$A$3:$M$88,13,FALSE),)","v":0},null,null,null,null,null,{"$f":"IF(F50064<>\"\",'CO2 konvertering'!$C$23,)","v":0},null,null,null,null,0]
[null,null,null,"Ja",null,null,null,null,"",null,"",{"$f":"IFERROR(VLOOKUP(F50089,Biomasser!$A$3:$E$88,4,FALSE),0)","v":0},null,{"$f":"IFERROR(VLOOKUP(F50089,Biomasser!$A$3:$E$88,5,FALSE),0)","v":0},"",0,null,null,{"$f":"IFERROR(VLOOKUP(F50089,Biomasser!$A$3:$M$88,13,FALSE),)","v":0},null,null,null,null,null,{"$f":"IF(F50089<>\"\",'CO2 konvertering'!$C$23,)","v":0},null,null,null,null,0]
["Gas","23. april",2016,null,null,{"$f":"SUM(H50200:H50300)","v":0},null,null,"m3 CH4"]
[null,null,null,"Ja",null,null,null,null,"",null,"",{"$f":"IFERROR(VLOOKUP(F50246,Biomasser!$A$3:$E$88,4,FALSE),0)","v":0},null,{"$f":"IFERROR(VLOOKUP(F50246,Biomasser!$A$3:$E$88,5,FALSE),0)","v":0},"",0,null,null,{"$f":"IFERROR(VLOOKUP(F50246,Biomasser!$A$3:$M$88,13,FALSE),)","v":0},null,null,null,null,null,{"$f":"IF(F50246<>\"\",'CO2 konvertering'!$C$23,)","v":0},null,null,null,null,0]
[null,null,null,"Ja",null,null,null,null,"",null,"",{"$f":"IFERROR(VLOOKUP(F50349,Biomasser!$A$3:$E$88,4,FALSE),0)","v":0},null,{"$f":"IFERROR(VLOOKUP(F50349,Biomasser!$A$3:$E$88,5,FALSE),0)","v":0},"",0,null,null,{"$f":"IFERROR(VLOOKUP(F50349,Biomasser!$A$3:$M$88,13,FALSE),)","v":0},null,null,null,null,null,{"$f":"IF(F50349<>\"\",'CO2 konvertering'!$C$23,)","v":0},null,null,null,null,0]
[null,null,null,"Ja",null,null,null,null,"",null,"",{"$f":"IFERROR(VLOOKUP(F50435,Biomasser!$A$3:$E$88,4,FALSE),0)","v":0},null,{"$f":"IFERROR(VLOOKUP(F50435,Biomasser!$A$3:$E$88,5,FALSE),0)","v":0},"",0,null,null,{"$f":"IFERROR(VLOOKUP(F50435,Biomasser!$A$3:$M$88,13,FALSE),)","v":0},null,null,null,null,null,{"$f":"IF(F50435<>\"\",'CO2 konvertering'!$C$23,)","v":0},null,null,null,null,0]
[null,null,null,"Ja",null,null,null,null,"",null,"",{"$f":"IFERROR(VLOOKUP(F50501,Biomasser!$A$3:$E$88,4,FALSE),0)","v":0},null,{"$f":"IFERROR(VLOOKUP(F50501,Biomasser!$A$3:$E$88,5,FALSE),0)","v":0},"",0,null,null,{"$f":"IFERROR(VLOOKUP(F50501,Biomasser!$A$3:$M$88,13,FALSE),)","v":0},null,null,null,null,null,{"$f":"IF(F50501<>\"\",'CO2 konvertering'!$C$23,)","v":0},null,null,null,null,0]
[null,null,null,"Ja",null,null,null,null,"",null,"",{"$f":"IFERROR(VLOOKUP(F50592,Biomasser!$A$3:$E$88,4,FALSE),0)","v":0},null,{"$f":"IFERROR(VLOOKUP(F50592,Biomasser!$A$3:$E$88,5,FALSE),0)","v":0},"",0,null,null,{"$f":"IFERROR(VLOOKUP(F50592,Biomasser!$A$3:$M$88,13,FALSE),)","v":0},null,null,null,null,null,{"$f":"IF(F50592<>\"\",'CO2 konvertering'!$C$23,)","v":0},null,null,null,null,0]
[null,null,null,"Ja",null,null,null,null,"",null,"",{"$f":"IFERROR(VLOOKUP(F50682,Biomasser!$A$3:$E$88,4,FALSE),0)","v":0},null,{"$f":"IFERROR(VLOOKUP(F50682,Biomasser!$A$3:$E$88,5,FALSE),0)","v":0},"",0,null,null,{"$f":"IFERROR(VLOOKUP(F50682,Biomasser!$A$3:$M$88,13,FALSE),)","v":0},null,null,null,null,null,{"$f":"IF(F50682<>\"\",'CO2 konvertering'!$C$23,)","v":0},null,null,null,null,0]
[null,null,null,"Ja",null,null,null,null,"",null,"",{"$f":"IFERROR(VLOOKUP(F50749,Biomasser!$A$3:$E$88,4,FALSE),0)","v":0},null,{"$f":"IFERROR(VLOOKUP(F50749,Biomasser!$A$3:$E$88,5,FALSE),0)","v":0},"",0,null,null,{"$f":"IFERROR(VLOOKUP(F50749,Biomasser!$A$3:$M$88,13,FALSE),)","v":0},null,null,null,null,null,{"$f":"IF(F50749<>\"\",'CO2 konvertering'!$C$23,)","v":0},null,null,null,null,0]
[null,null,null,"Ja",null,null,null,null,"",null,"",{"$f":"IFERROR(VLOOKUP(F50834,Biomasser!$A$3:$E$88,4,FALSE),0)","v":0},null,{"$f":"IFERROR(VLOOKUP(F50834,Biomasser!$A$3:$E$88,5,FALSE),0)","v":0},{"$f":"IF(AND(F50834<>\"\",(N50834=0)),\"Opdater biomasseark\",\"\")","v":""},0,null,null,{"$f":"IFERROR(VLOOKUP(F50834,Biomasser!$A$3:$M$88,13,FALSE),)","v":0},null,null,null,null,null,{"$f":"IF(F50834<>\"\",'CO2 konvertering'!$C$23,)","v":0},null,null,null,null,0]
[null,null,null,"Ja",null,null,null,null,"",null,"",{"$f":"IFERROR(VLOOKUP(F50906,Biomasser!$A$3:$E$88,4,FALSE),0)","v":0},null,{"$f":"IFERROR(VLOOKUP(F50906,Biomasser!$A$3:$E$88,5,FALSE),0)","v":0},"",0,null,null,{"$f":"IFERROR(VLOOKUP(F50906,Biomasser!$A$3:$M$88,13,FALSE),)","v":0},null,null,null,null,null,{"$f":"IF(F50906<>\"\",'CO2 konvertering'!$C$23,)","v":0},null,null,null,null,0]
[null,null,null,"Ja",null,null,null,null,"",null,"",{"$f":"IFERROR(VLOOKUP(F50986,Biomasser!$A$3:$E$88,4,FALSE),0)","v":0},null,{"$f":"IFERROR(VLOOKUP(F50986,Biomasser!$A$3:$E$88,5,FALSE),0)","v":0},"",0,null,null,{"$f":"IFERROR(VLOOKUP(F50986,Biomasser!$A$3:$M$88,13,FALSE),)","v":0},null,null,null,null,null,{"$f":"IF(F50986<>\"\",'CO2 konvertering'!$C$23,)","v":0},null,null,null,null,0]
[null,null,null,"Ja",null,null,null,null,"",null,"",{"$f":"IFERROR(VLOOKUP(F51019,Biomasser!$A$3:$E$88,4,FALSE),0)","v":0},null,{"$f":"IFERROR(VLOOKUP(F51019,Biomasser!$A$3:$E$88,5,FALSE),0)","v":0},"",0,null,null,{"$f":"IFERROR(VLOOKUP(F51019,Biomasser!$A$3:$M$88,13,FALSE),)","v":0},null,null,null,null,null,{"$f":"IF(F51019<>\"\",'CO2 konvertering'!$C$23,)","v":0},null,null,null,null,0]
[null,null,null,"Ja",null,null,null,null,"",null,"",{"$f":"IFERROR(VLOOKUP(F51138,Biomasser!$A$3:$E$88,4,FALSE),0)","v":0},null,{"$f":"IFERROR(VLOOKUP(F51138,Biomasser!$A$3:$E$88,5,FALSE),0)","v":0},"",0,null,null,{"$f":"IFERROR(VLOOKUP(F51138,Biomasser!$A$3:$M$88,13,FALSE),)","v":0},null,null,null,null,null,{"$f":"IF(F51138<>\"\",'CO2 konvertering'!$C$23,)","v":0},null,null,null,null,0]
[null,null,null,"Ja",null,null,null,null,"",null,"",{"$f":"IFERROR(VLOOKUP(F51176,Biomasser!$A$3:$E$88,4,FALSE),0)","v":0},null,{"$f":"IFERROR(VLOOKUP(F51176,Biomasser!$A$3:$E$88,5,FALSE),0)","v":0},"",0,null,null,{"$f":"IFERROR(VLOOKUP(F51176,Biomasser!$A$3:$M$88,13,FALSE),)","v":0},null,null,null,null,null,{"$f":"IF(F51176<>\"\",'CO2 konvertering'!$C$23,)","v":0},null,null,null,null,0]
[null,null,null,"Ja",null,null,null,null,"",null,"",{"$f":"IFERROR(VLOOKUP(F51215,Biomasser!$A$3:$E$88,4,FALSE),0)","v":0},null,{"$f":"IFERROR(VLOOKUP(F51215,Biomasser!$A$3:$E$88,5,FALSE),0)","v":0},"",0,null,null,{"$f":"IFERROR(VLOOKUP(F51215,Biomasser!$A$3:$M$88,13,FALSE),)","v":0},null,null,null,null,null,{"$f":"IF(F51215<>\"\",'CO2 konvertering'!$C$23,)","v":0},null,null,null,null,0]
[null,null,null,"Ja",null,null,null,null,"",null,"",{"$f":"IFERROR(VLOOKUP(F51333,Biomasser!$A$3:$E$88,4,FALSE),0)","v":0},null,{"$f":"IFERROR(VLOOKUP(F51333,Biomasser!$A$3:$E$88,5,FALSE),0)","v":0},"",0,null,null,{"$f":"IFERROR(VLOOKUP(F51333,Biomasser!$A$3:$M$88,13,FALSE),)","v":0},null,null,null,null,null,{"$f":"IF(F51333<>\"\",'CO2 konvertering'!$C$23,)","v":0},null,null,null,null,0]
[null,null,null,"Ja",null,null,null,null,"",null,"",{"$f":"IFERROR(VLOOKUP(F51396,Biomasser!$A$3:$E$88,4,FALSE),0)","v":0},null,{"$f":"IFERROR(VLOOKUP(F51396,Biomasser!$A$3:$E$88,5,FALSE),0)","v":0},"",0,null,null,{"$f":"IFERROR(VLOOKUP(F51396,Biomasser!$A$3:$M$88,13,FALSE),)","v":0},null,null,null,null,null,{"$f":"IF(F51396<>\"\",'CO2 konvertering'!$C$23,)","v":0},null,null,null,null,0]
[null,null,null,"Ja",null,null,null,null,"",null,"",{"$f":"IFERROR(VLOOKUP(F51490,Biomasser!$A$3:$E$88,4,FALSE),0)","v":0},null,{"$f":"IFERROR(VLOOKUP(F51490,Biomasser!$A$3:$E$88,5,FALSE),0)","v":0},"",0,null,null,{"$f":"IFERROR(VLOOKUP(F51490,Biomasser!$A$3:$M$88,13,FALSE),)","v":0},null,null,null,null,null,{"$f":"IF(F51490<>\"\",'CO2 konvertering'!$C$23,)","v":0},null,null,null,null,0]
[null,null,null,"Ja",null,null,null,null,"",null,"",{"$f":"IFERROR(VLOOKUP(F51548,Biomasser!$A$3:$E$88,4,FALSE),0)","v":0},null,{"$f":"IFERROR(VLOOKUP(F51548,Biomasser!$A$3:$E$88,5,FALSE),0)","v":0},"",0,null,null,{"$f":"IFERROR(VLOOKUP(F51548,Biomasser!$A$3:$M$88,13,FALSE),)","v":0},null,null,null,null,null,{"$f":"IF(F51548<>\"\",'CO2 konvertering'!$C$23,)","v":0},null,null,null,null,0]
[null,null,null,"Ja",null,null,null,null,"",null,"",{"$f":"IFERROR(VLOOKUP(F51603,Biomasser!$A$3:$E$88,4,FALSE),0)","v":0},null,{"$f":"IFERROR(VLOOKUP(F51603,Biomasser!$A$3:$E$88,5,FALSE),0)","v":0},"",0,null,null,{"$f":"IFERROR(VLOOKUP(F51603,Biomasser!$A$3:$M$88,13,FALSE),)","v":0},null,null,null,null,null,{"$f":"IF(F51603<>\"\",'CO2 konvertering'!$C$23,)","v":0},null,null,null,null,0]
[null,null,null,"Ja",null,null,null,null,"",null,"",{"$f":"IFERROR(VLOOKUP(F51700,Biomasser!$A$3:$E$88,4,FALSE),0)","v":0},null,{"$f":"IFERROR(VLOOKUP(F51700,Biomasser!$A$3:$E$88,5,FALSE),0)","v":0},"",0,null,null,{"$f":"IFERROR(VLOOKUP(F51700,Biomasser!$A$3:$M$88,13,FALSE),)","v":0},null,null,null,null,null,{"$f":"IF(F51700<>\"\",'CO2 konvertering'!$C$23,)","v":0},null,null,null,null,0]
[null,null,null,"Ja",null,null,null,null,"",null,"",{"$f":"IFERROR(VLOOKUP(F51760,Biomasser!$A$3:$E$88,4,FALSE),0)","v":0},null,{"$f":"IFERROR(VLOOKUP(F51760,Biomasser!$A$3:$E$88,5,FALSE),0)","v":0},"",0,null,null,{"$f":"IFERROR(VLOOKUP(F51760,Biomasser!$A$3:$M$88,13,FALSE),)","v":0},null,null,null,null,null,{"$f":"IF(F51760<>\"\",'CO2 konvertering'!$C$23,)","v":0},null,null,null,null,0]
[null,null,null,"Ja",null,null,null,null,"",null,"",{"$f":"IFERROR(VLOOKUP(F51852,Biomasser!$A$3:$E$88,4,FALSE),0)","v":0},null,{"$f":"IFERROR(VLOOKUP(F51852,Biomasser!$A$3:$E$88,5,FALSE),0)","v":0},"",0,null,null,{"$f":"IFERROR(VLOOKUP(F51852,Biomasser!$A$3:$M$88,13,FALSE),)","v":0},null,null,null,null,null,{"$f":"IF(F51852<>\"\",'CO2 konvertering'!$C$23,)","v":0},null,null,null,null,0]
[null,null,null,"Ja",null,null,null,null,"",null,"",{"$f":"IFERROR(VLOOKUP(F51917,Biomasser!$A$3:$E$88,4,FALSE),0)","v":0},null,{"$f":"IFERROR(VLOOKUP(F51917,Biomasser!$A$3:$E$88,5,FALSE),0)","v":0},"",0,null,null,{"$f":"IFERROR(VLOOKUP(F51917,Biomasser!$A$3:$M$88,13,FALSE),)","v":0},null,null,null,null,null,{"$f":"IF(F51917<>\"\",'CO2 konvertering'!$C$23,)","v":0},null,null,null,null,0]
[null,null,null,"Ja",null,null,null,null,"",null,"",{"$f":"IFERROR(VLOOKUP(F52033,Biomasser!$A$3:$E$88,4,FALSE),0)","v":0},null,{"$f":"IFERROR(VLOOKUP(F52033,Biomasser!$A$3:$E$88,5,FALSE),0)","v":0},"",0,null,null,{"$f":"IFERROR(VLOOKUP(F52033,Biomasser!$A$3:$M$88,13,FALSE),)","v":0},null,null,null,null,null,{"$f":"IF(F52033<>\"\",'CO2 konvertering'!$C$23,)","v":0},null,null,null,null,0]
[null,null,null,"Ja",null,null,null,null,"",null,"",{"$f":"IFERROR(VLOOKUP(F52074,Biomasser!$A$3:$E$88,4,FALSE),0)","v":0},null,{"$f":"IFERROR(VLOOKUP(F52074,Biomasser!$A$3:$E$88,5,FALSE),0)","v":0},"",0,null,null,{"$f":"IFERROR(VLOOKUP(F52074,Biomasser!$A$3:$M$88,13,FALSE),)","v":0},null,null,null,null,null,{"$f":"IF(F52074<>\"\",'CO2 konvertering'!$C$23,)","v":0},null,null,null,null,0]
[null,null,null,"Ja",null,null,null,null,"",null,"",{"$f":"IFERROR(VLOOKUP(F52185,Biomasser!$A$3:$E$88,4,FALSE),0)","v":0},null,{"$f":"IFERROR(VLOOKUP(F52185,Biomasser!$A$3:$E$88,5,FALSE),0)","v":0},"",0,null,null,{"$f":"IFERROR(VLOOKUP(F52185,Biomasser!$A$3:$M$88,13,FALSE),)","v":0},null,null,null,null,null,{"$f":"IF(F52185<>\"\",'CO2 konvertering'!$C$23,)","v":0},null,null,null,null,0]
[null,null,null,"Ja",null,null,null,null,"",null,"",{"$f":"IFERROR(VLOOKUP(F52263,Biomasser!$A$3:$E$88,4,FALSE),0)","v":0},null,{"$f":"IFERROR(VLOOKUP(F52263,Biomasser!$A$3:$E$88,5,FALSE),0)","v":0},{"$f":"IF(AND(F52263<>\"\",(N52263=0)),\"Opdater biomasseark\",\"\")","v":""},0,null,null,{"$f":"IFERROR(VLOOKUP(F52263,Biomasser!$A$3:$M$88,13,FALSE),)","v":0},null,null,null,null,null,{"$f":"IF(F52263<>\"\",'CO2 konvertering'!$C$23,)","v":0},null,null,null,null,0]
[null,null,null,"Ja",null,null,null,null,"",null,"",{"$f":"IFERROR(VLOOKUP(F52337,Biomasser!$A$3:$E$88,4,FALSE),0)","v":0},null,{"$f":"IFERROR(VLOOKUP(F52337,Biomasser!$A$3:$E$88,5,FALSE),0)","v":0},"",0,null,null,{"$f":"IFERROR(VLOOKUP(F52337,Biomasser!$A$3:$M$88,13,FALSE),)","v":0},null,null,null,null,null,{"$f":"IF(F52337<>\"\",'CO2 konvertering'!$C$23,)","v":0},null,null,null,null,0]
[null,null,null,"Ja",null,null,null,null,"",null,"",{"$f":"IFERROR(VLOOKUP(F52420,Biomasser!$A$3:$E$88,4,FALSE),0)","v":0},null,{"$f":"IFERROR(VLOOKUP(F52420,Biomasser!$A$3:$E$88,5,FALSE),0)","v":0},"",0,null,null,{"$f":"IFERROR(VLOOKUP(F52420,Biomasser!$A$3:$M$88,13,FALSE),)","v":0},null,null,null,null,null,{"$f":"IF(F52420<>\"\",'CO2 konvertering'!$C$23,)","v":0},null,null,null,null,0]
[null,null,null,"Ja",null,null,null,null,"",null,"",{"$f":"IFERROR(VLOOKUP(F52489,Biomasser!$A$3:$E$88,4,FALSE),0)","v":0},null,{"$f":"IFERROR(VLOOKUP(F52489,Biomasser!$A$3:$E$88,5,FALSE),0)","v":0},"",0,null,null,{"$f":"IFERROR(VLOOKUP(F52489,Biomasser!$A$3:$M$88,13,FALSE),)","v":0},null,null,null,null,null,{"$f":"IF(F52489<>\"\",'CO2 konvertering'!$C$23,)","v":0},null,null,null,null,0]
[null,null,null,"Ja",null,null,null,null,"",null,"",{"$f":"IFERROR(VLOOKUP(F52501,Biomasser!$A$3:$E$88,4,FALSE),0)","v":0},null,{"$f":"IFERROR(VLOOKUP(F52501,Biomasser!$A$3:$E$88,5,FALSE),0)","v":0},"",0,null,null,{"$f":"IFERROR(VLOOKUP(F52501,Biomasser!$A$3:$M$88,13,FALSE),)","v":0},null,null,null,null,null,{"$f":"IF(F52501<>\"\",'CO2 konvertering'!$C$23,)","v":0},null,null,null,null,{"$f":"SUM(S52501:AC52501)","v":0}]
[null,null,null,"Ja",null,null,null,null,"",null,"",{"$f":"IFERROR(VLOOKUP(F52595,Biomasser!$A$3:$E$88,4,FALSE),0)","v":0},null,{"$f":"IFERROR(VLOOKUP(F52595,Biomasser!$A$3:$E$88,5,FALSE),0)","v":0},"",0,null,null,{"$f":"IFERROR(VLOOKUP(F52595,Biomasser!$A$3:$M$88,13,FALSE),)","v":0},null,null,null,null,null,{"$f":"IF(F52595<>\"\",'CO2 konvertering'!$C$23,)","v":0},null,null,null,null,0]
[null,null,null,"Ja",null,null,null,null,"",null,"",{"$f":"IFERROR(VLOOKUP(F52658,Biomasser!$A$3:$E$88,4,FALSE),0)","v":0},null,{"$f":"IFERROR(VLOOKUP(F52658,Biomasser!$A$3:$E$88,5,FALSE),0)","v":0},"",0,null,null,{"$f":"IFERROR(VLOOKUP(F52658,Biomasser!$A$3:$M$88,13,FALSE),)","v":0},null,null,null,null,null,{"$f":"IF(F52658<>\"\",'CO2 konvertering'!$C$23,)","v":0},null,null,null,null,0]
[null,null,null,"Ja",null,null,null,null,"",null,"",{"$f":"IFERROR(VLOOKUP(F52747,Biomasser!$A$3:$E$88,4,FALSE),0)","v":0},null,{"$f":"IFERROR(VLOOKUP(F52747,Biomasser!$A$3:$E$88,5,FALSE),0)","v":0},"",0,null,null,{"$f":"IFERROR(VLOOKUP(F52747,Biomasser!$A$3:$M$88,13,FALSE),)","v":0},null,null,null,null,null,{"$f":"IF(F52747<>\"\",'CO2 konvertering'!$C$23,)","v":0},null,null,null,null,0]
[null,null,null,"Ja",null,null,null,null,"",null,"",{"$f":"IFERROR(VLOOKUP(F52815,Biomasser!$A$3:$E$88,4,FALSE),0)","v":0},null,{"$f":"IFERROR(VLOOKUP(F52815,Biomasser!$A$3:$E$88,5,FALSE),0)","v":0},"",0,null,null,{"$f":"IFERROR(VLOOKUP(F52815,Biomasser!$A$3:$M$88,13,FALSE),)","v":0},null,null,null,null,null,{"$f":"IF(F52815<>\"\",'CO2 konvertering'!$C$23,)","v":0},null,null,null,null,0]
[null,null,null,"Ja",null,null,null,null,"",null,"",{"$f":"IFERROR(VLOOKUP(F52899,Biomasser!$A$3:$E$88,4,FALSE),0)","v":0},null,{"$f":"IFERROR(VLOOKUP(F52899,Biomasser!$A$3:$E$88,5,FALSE),0)","v":0},"",0,null,null,{"$f":"IFERROR(VLOOKUP(F52899,Biomasser!$A$3:$M$88,13,FALSE),)","v":0},null,null,null,null,null,{"$f":"IF(F52899<>\"\",'CO2 konvertering'!$C$23,)","v":0},null,null,null,null,0]
[null,null,null,"Ja",null,null,null,null,"",null,"",{"$f":"IFERROR(VLOOKUP(F53004,Biomasser!$A$3:$E$88,4,FALSE),0)","v":0},null,{"$f":"IFERROR(VLOOKUP(F53004,Biomasser!$A$3:$E$88,5,FALSE),0)","v":0},"",0,null,null,{"$f":"IFERROR(VLOOKUP(F53004,Biomasser!$A$3:$M$88,13,FALSE),)","v":0},null,null,null,null,null,{"$f":"IF(F53004<>\"\",'CO2 konvertering'!$C$23,)","v":0},null,null,null,null,0]
[null,null,null,"Ja",null,null,null,null,"",null,"",{"$f":"IFERROR(VLOOKUP(F53051,Biomasser!$A$3:$E$88,4,FALSE),0)","v":0},null,{"$f":"IFERROR(VLOOKUP(F53051,Biomasser!$A$3:$E$88,5,FALSE),0)","v":0},"",0,null,null,{"$f":"IFERROR(VLOOKUP(F53051,Biomasser!$A$3:$M$88,13,FALSE),)","v":0},null,null,null,null,null,{"$f":"IF(F53051<>\"\",'CO2 konvertering'!$C$23,)","v":0},null,null,null,null,0]
[null,null,null,"Ja",null,null,null,null,"",null,"",{"$f":"IFERROR(VLOOKUP(F53161,Biomasser!$A$3:$E$88,4,FALSE),0)","v":0},null,{"$f":"IFERROR(VLOOKUP(F53161,Biomasser!$A$3:$E$88,5,FALSE),0)","v":0},"",0,null,null,{"$f":"IFERROR(VLOOKUP(F53161,Biomasser!$A$3:$M$88,13,FALSE),)","v":0},null,null,null,null,null,{"$f":"IF(F53161<>\"\",'CO2 konvertering'!$C$23,)","v":0},null,null,null,null,0]
[null,null,null,"Ja",null,null,null,null,"",null,"",{"$f":"IFERROR(VLOOKUP(F53232,Biomasser!$A$3:$E$88,4,FALSE),0)","v":0},null,{"$f":"IFERROR(VLOOKUP(F53232,Biomasser!$A$3:$E$88,5,FALSE),0)","v":0},"",0,null,null,{"$f":"IFERROR(VLOOKUP(F53232,Biomasser!$A$3:$M$88,13,FALSE),)","v":0},null,null,null,null,null,{"$f":"IF(F53232<>\"\",'CO2 konvertering'!$C$23,)","v":0},null,null,null,null,0]
[null,null,null,"Ja",null,null,null,null,"",null,"",{"$f":"IFERROR(VLOOKUP(F53318,Biomasser!$A$3:$E$88,4,FALSE),0)","v":0},null,{"$f":"IFERROR(VLOOKUP(F53318,Biomasser!$A$3:$E$88,5,FALSE),0)","v":0},"",0,null,null,{"$f":"IFERROR(VLOOKUP(F53318,Biomasser!$A$3:$M$88,13,FALSE),)","v":0},null,null,null,null,null,{"$f":"IF(F53318<>\"\",'CO2 konvertering'!$C$23,)","v":0},null,null,null,null,0]
[null,null,null,"Ja",null,null,null,null,"",null,"",{"$f":"IFERROR(VLOOKUP(F53384,Biomasser!$A$3:$E$88,4,FALSE),0)","v":0},null,{"$f":"IFERROR(VLOOKUP(F53384,Biomasser!$A$3:$E$88,5,FALSE),0)","v":0},"",0,null,null,{"$f":"IFERROR(VLOOKUP(F53384,Biomasser!$A$3:$M$88,13,FALSE),)","v":0},null,null,null,null,null,{"$f":"IF(F53384<>\"\",'CO2 konvertering'!$C$23,)","v":0},null,null,null,null,0]
[null,null,null,"Ja",null,null,null,null,"",null,"",{"$f":"IFERROR(VLOOKUP(F53475,Biomasser!$A$3:$E$88,4,FALSE),0)","v":0},null,{"$f":"IFERROR(VLOOKUP(F53475,Biomasser!$A$3:$E$88,5,FALSE),0)","v":0},"",0,null,null,{"$f":"IFERROR(VLOOKUP(F53475,Biomasser!$A$3:$M$88,13,FALSE),)","v":0},null,null,null,null,null,{"$f":"IF(F53475<>\"\",'CO2 konvertering'!$C$23,)","v":0},null,null,null,null,0]
[null,null,null,"Ja",null,null,null,null,"",null,"",{"$f":"IFERROR(VLOOKUP(F53536,Biomasser!$A$3:$E$88,4,FALSE),0)","v":0},null,{"$f":"IFERROR(VLOOKUP(F53536,Biomasser!$A$3:$E$88,5,FALSE),0)","v":0},"",0,null,null,{"$f":"IFERROR(VLOOKUP(F53536,Biomasser!$A$3:$M$88,13,FALSE),)","v":0},null,null,null,null,null,{"$f":"IF(F53536<>\"\",'CO2 konvertering'!$C$23,)","v":0},null,null,null,null,0]
[null,null,null,"Ja",null,null,null,null,"",null,"",{"$f":"IFERROR(VLOOKUP(F53588,Biomasser!$A$3:$E$88,4,FALSE),0)","v":0},null,{"$f":"IFERROR(VLOOKUP(F53588,Biomasser!$A$3:$E$88,5,FALSE),0)","v":0},"",0,null,null,{"$f":"IFERROR(VLOOKUP(F53588,Biomasser!$A$3:$M$88,13,FALSE),)","v":0},null,null,null,null,null,{"$f":"IF(F53588<>\"\",'CO2 konvertering'!$C$23,)","v":0},null,null,null,null,0]
[null,null,null,"Ja",null,null,null,null,"",null,"",{"$f":"IFERROR(VLOOKUP(F53688,Biomasser!$A$3:$E$88,4,FALSE),0)","v":0},null,{"$f":"IFERROR(VLOOKUP(F53688,Biomasser!$A$3:$E$88,5,FALSE),0)","v":0},"",0,null,null,{"$f":"IFERROR(VLOOKUP(F53688,Biomasser!$A$3:$M$88,13,FALSE),)","v":0},null,null,null,null,null,{"$f":"IF(F53688<>\"\",'CO2 konvertering'!$C$23,)","v":0},null,null,null,null,0]
[null,null,null,"Ja",null,null,null,null,"",null,"",{"$f":"IFERROR(VLOOKUP(F53745,Biomasser!$A$3:$E$88,4,FALSE),0)","v":0},null,{"$f":"IFERROR(VLOOKUP(F53745,Biomasser!$A$3:$E$88,5,FALSE),0)","v":0},"",0,null,null,{"$f":"IFERROR(VLOOKUP(F53745,Biomasser!$A$3:$M$88,13,FALSE),)","v":0},null,null,null,null,null,{"$f":"IF(F53745<>\"\",'CO2 konvertering'!$C$23,)","v":0},null,null,null,null,0]
[null,null,null,"Ja",null,null,null,null,"",null,"",{"$f":"IFERROR(VLOOKUP(F53802,Biomasser!$A$3:$E$88,4,FALSE),0)","v":0},null,{"$f":"IFERROR(VLOOKUP(F53802,Biomasser!$A$3:$E$88,5,FALSE),0)","v":0},"",0,null,null,{"$f":"IFERROR(VLOOKUP(F53802,Biomasser!$A$3:$M$88,13,FALSE),)","v":0},null,null,null,null,null,{"$f":"IF(F53802<>\"\",'CO2 konvertering'!$C$23,)","v":0},null,null,null,null,{"$f":"SUM(S53802:AC53802)","v":0}]
[null,null,null,"Ja",null,null,null,null,"",null,"",{"$f":"IFERROR(VLOOKUP(F53931,Biomasser!$A$3:$E$88,4,FALSE),0)","v":0},null,{"$f":"IFERROR(VLOOKUP(F53931,Biomasser!$A$3:$E$88,5,FALSE),0)","v":0},"",0,null,null,{"$f":"IFERROR(VLOOKUP(F53931,Biomasser!$A$3:$M$88,13,FALSE),)","v":0},null,null,null,null,null,{"$f":"IF(F53931<>\"\",'CO2 konvertering'!$C$23,)","v":0},null,null,null,null,0]
[null,null,null,"Ja",null,null,null,null,"",null,"",{"$f":"IFERROR(VLOOKUP(F53959,Biomasser!$A$3:$E$88,4,FALSE),0)","v":0},null,{"$f":"IFERROR(VLOOKUP(F53959,Biomasser!$A$3:$E$88,5,FALSE),0)","v":0},"",0,null,null,{"$f":"IFERROR(VLOOKUP(F53959,Biomasser!$A$3:$M$88,13,FALSE),)","v":0},null,null,null,null,null,{"$f":"IF(F53959<>\"\",'CO2 konvertering'!$C$23,)","v":0},null,null,null,null,0]
[null,"Leverandør",null,"Certificeret",null,"Råvarer input","          Mængder                 \n      (Ton vådvægt)            ",null,null,"Tørstof\n%",null,"Omsættelig tørstof\n%",null,"Gaspotentiale\nm³ CH4/ton VS",null,"Teoretisk\ngasproduktion\nm³ CH4"]
[null,null,null,"Ja",null,null,null,null,"",null,"",{"$f":"IFERROR(VLOOKUP(F54116,Biomasser!$A$3:$E$88,4,FALSE),0)","v":0},null,{"$f":"IFERROR(VLOOKUP(F54116,Biomasser!$A$3:$E$88,5,FALSE),0)","v":0},"",0,null,null,{"$f":"IFERROR(VLOOKUP(F54116,Biomasser!$A$3:$M$88,13,FALSE),)","v":0},null,null,null,null,null,{"$f":"IF(F54116<>\"\",'CO2 konvertering'!$C$23,)","v":0},null,null,null,null,0]
[]
[null,null,null,"Ja",null,null,null,null,"",null,"",{"$f":"IFERROR(VLOOKUP(F54273,Biomasser!$A$3:$E$88,4,FALSE),0)","v":0},null,{"$f":"IFERROR(VLOOKUP(F54273,Biomasser!$A$3:$E$88,5,FALSE),0)","v":0},"",0,null,null,{"$f":"IFERROR(VLOOKUP(F54273,Biomasser!$A$3:$M$88,13,FALSE),)","v":0},null,null,null,null,null,{"$f":"IF(F54273<>\"\",'CO2 konvertering'!$C$23,)","v":0},null,null,null,null,0]
[null,null,null,"Ja",null,null,null,null,"",null,"",{"$f":"IFERROR(VLOOKUP(F54341,Biomasser!$A$3:$E$88,4,FALSE),0)","v":0},null,{"$f":"IFERROR(VLOOKUP(F54341,Biomasser!$A$3:$E$88,5,FALSE),0)","v":0},"",0,null,null,{"$f":"IFERROR(VLOOKUP(F54341,Biomasser!$A$3:$M$88,13,FALSE),)","v":0},null,null,null,null,null,{"$f":"IF(F54341<>\"\",'CO2 konvertering'!$C$23,)","v":0},null,null,null,null,0]
[null,null,null,"Ja",null,null,null,null,"",null,"",{"$f":"IFERROR(VLOOKUP(F54430,Biomasser!$A$3:$E$88,4,FALSE),0)","v":0},null,{"$f":"IFERROR(VLOOKUP(F54430,Biomasser!$A$3:$E$88,5,FALSE),0)","v":0},"",0,null,null,{"$f":"IFERROR(VLOOKUP(F54430,Biomasser!$A$3:$M$88,13,FALSE),)","v":0},null,null,null,null,null,{"$f":"IF(F54430<>\"\",'CO2 konvertering'!$C$23,)","v":0},null,null,null,null,0]
[null,null,null,"Ja",null,null,null,null,"",null,"",{"$f":"IFERROR(VLOOKUP(F54493,Biomasser!$A$3:$E$88,4,FALSE),0)","v":0},null,{"$f":"IFERROR(VLOOKUP(F54493,Biomasser!$A$3:$E$88,5,FALSE),0)","v":0},"",0,null,null,{"$f":"IFERROR(VLOOKUP(F54493,Biomasser!$A$3:$M$88,13,FALSE),)","v":0},null,null,null,null,null,{"$f":"IF(F54493<>\"\",'CO2 konvertering'!$C$23,)","v":0},null,null,null,null,0]
[null,null,null,"Ja",null,null,null,null,"",null,"",{"$f":"IFERROR(VLOOKUP(F54543,Biomasser!$A$3:$E$88,4,FALSE),0)","v":0},null,{"$f":"IFERROR(VLOOKUP(F54543,Biomasser!$A$3:$E$88,5,FALSE),0)","v":0},"",0,null,null,{"$f":"IFERROR(VLOOKUP(F54543,Biomasser!$A$3:$M$88,13,FALSE),)","v":0},null,null,null,null,null,{"$f":"IF(F54543<>\"\",'CO2 konvertering'!$C$23,)","v":0},null,null,null,null,0]
[null,null,null,"Ja",null,null,null,null,"",null,"",{"$f":"IFERROR(VLOOKUP(F54645,Biomasser!$A$3:$E$88,4,FALSE),0)","v":0},null,{"$f":"IFERROR(VLOOKUP(F54645,Biomasser!$A$3:$E$88,5,FALSE),0)","v":0},"",0,null,null,{"$f":"IFERROR(VLOOKUP(F54645,Biomasser!$A$3:$M$88,13,FALSE),)","v":0},null,null,null,null,null,{"$f":"IF(F54645<>\"\",'CO2 konvertering'!$C$23,)","v":0},null,null,null,null,0]
[null,null,null,"Ja",null,null,null,null,"",null,"",{"$f":"IFERROR(VLOOKUP(F54700,Biomasser!$A$3:$E$88,4,FALSE),0)","v":0},null,{"$f":"IFERROR(VLOOKUP(F54700,Biomasser!$A$3:$E$88,5,FALSE),0)","v":0},"",0,null,null,{"$f":"IFERROR(VLOOKUP(F54700,Biomasser!$A$3:$M$88,13,FALSE),)","v":0},null,null,null,null,null,{"$f":"IF(F54700<>\"\",'CO2 konvertering'!$C$23,)","v":0},null,null,null,null,0]
[null,null,null,"Ja",null,null,null,null,"",null,"",{"$f":"IFERROR(VLOOKUP(F54826,Biomasser!$A$3:$E$88,4,FALSE),0)","v":0},null,{"$f":"IFERROR(VLOOKUP(F54826,Biomasser!$A$3:$E$88,5,FALSE),0)","v":0},"",0,null,null,{"$f":"IFERROR(VLOOKUP(F54826,Biomasser!$A$3:$M$88,13,FALSE),)","v":0},null,null,null,null,null,{"$f":"IF(F54826<>\"\",'CO2 konvertering'!$C$23,)","v":0},null,null,null,null,0]
[null,null,null,"Ja",null,null,null,null,"",null,"",{"$f":"IFERROR(VLOOKUP(F54857,Biomasser!$A$3:$E$88,4,FALSE),0)","v":0},null,{"$f":"IFERROR(VLOOKUP(F54857,Biomasser!$A$3:$E$88,5,FALSE),0)","v":0},"",0,null,null,{"$f":"IFERROR(VLOOKUP(F54857,Biomasser!$A$3:$M$88,13,FALSE),)","v":0},null,null,null,null,null,{"$f":"IF(F54857<>\"\",'CO2 konvertering'!$C$23,)","v":0},null,null,null,null,0]
[null,null,null,"Ja",null,null,null,null,"",null,"",{"$f":"IFERROR(VLOOKUP(F54978,Biomasser!$A$3:$E$88,4,FALSE),0)","v":0},null,{"$f":"IFERROR(VLOOKUP(F54978,Biomasser!$A$3:$E$88,5,FALSE),0)","v":0},"",0,null,null,{"$f":"IFERROR(VLOOKUP(F54978,Biomasser!$A$3:$M$88,13,FALSE),)","v":0},null,null,null,null,null,{"$f":"IF(F54978<>\"\",'CO2 konvertering'!$C$23,)","v":0},null,null,null,null,0]
[null,null,null,"Ja",null,null,null,null,"",null,"",{"$f":"IFERROR(VLOOKUP(F55014,Biomasser!$A$3:$E$88,4,FALSE),0)","v":0},null,{"$f":"IFERROR(VLOOKUP(F55014,Biomasser!$A$3:$E$88,5,FALSE),0)","v":0},"",0,null,null,{"$f":"IFERROR(VLOOKUP(F55014,Biomasser!$A$3:$M$88,13,FALSE),)","v":0},null,null,null,null,null,{"$f":"IF(F55014<>\"\",'CO2 konvertering'!$C$23,)","v":0},null,null,null,null,0]
[null,null,null,"Ja",null,null,null,null,"",null,"",{"$f":"IFERROR(VLOOKUP(F55130,Biomasser!$A$3:$E$88,4,FALSE),0)","v":0},null,{"$f":"IFERROR(VLOOKUP(F55130,Biomasser!$A$3:$E$88,5,FALSE),0)","v":0},"",0,null,null,{"$f":"IFERROR(VLOOKUP(F55130,Biomasser!$A$3:$M$88,13,FALSE),)","v":0},null,null,null,null,null,{"$f":"IF(F55130<>\"\",'CO2 konvertering'!$C$23,)","v":0},null,null,null,null,0]
[null,null,null,"Ja",null,null,null,null,"",null,"",{"$f":"IFERROR(VLOOKUP(F55203,Biomasser!$A$3:$E$88,4,FALSE),0)","v":0},null,{"$f":"IFERROR(VLOOKUP(F55203,Biomasser!$A$3:$E$88,5,FALSE),0)","v":0},{"$f":"IF(AND(F55203<>\"\",(N55203=0)),\"Opdater biomasseark\",\"\")","v":""},0,null,null,{"$f":"IFERROR(VLOOKUP(F55203,Biomasser!$A$3:$M$88,13,FALSE),)","v":0},null,null,null,null,null,{"$f":"IF(F55203<>\"\",'CO2 konvertering'!$C$23,)","v":0},null,null,null,null,0]
[null,null,null,"Ja",null,null,null,null,"",null,"",{"$f":"IFERROR(VLOOKUP(F55282,Biomasser!$A$3:$E$88,4,FALSE),0)","v":0},null,{"$f":"IFERROR(VLOOKUP(F55282,Biomasser!$A$3:$E$88,5,FALSE),0)","v":0},"",0,null,null,{"$f":"IFERROR(VLOOKUP(F55282,Biomasser!$A$3:$M$88,13,FALSE),)","v":0},null,null,null,null,null,{"$f":"IF(F55282<>\"\",'CO2 konvertering'!$C$23,)","v":0},null,null,null,null,0]
[null,null,null,"Ja",null,null,null,null,"",null,"",{"$f":"IFERROR(VLOOKUP(F55360,Biomasser!$A$3:$E$88,4,FALSE),0)","v":0},null,{"$f":"IFERROR(VLOOKUP(F55360,Biomasser!$A$3:$E$88,5,FALSE),0)","v":0},"",0,null,null,{"$f":"IFERROR(VLOOKUP(F55360,Biomasser!$A$3:$M$88,13,FALSE),)","v":0},null,null,null,null,null,{"$f":"IF(F55360<>\"\",'CO2 konvertering'!$C$23,)","v":0},null,null,null,null,0]
[null,null,null,"Ja",null,null,null,null,"",null,"",{"$f":"IFERROR(VLOOKUP(F55434,Biomasser!$A$3:$E$88,4,FALSE),0)","v":0},null,{"$f":"IFERROR(VLOOKUP(F55434,Biomasser!$A$3:$E$88,5,FALSE),0)","v":0},"",0,null,null,{"$f":"IFERROR(VLOOKUP(F55434,Biomasser!$A$3:$M$88,13,FALSE),)","v":0},null,null,null,null,null,{"$f":"IF(F55434<>\"\",'CO2 konvertering'!$C$23,)","v":0},null,null,null,null,0]
[null,null,null,"Ja",null,null,null,null,"",null,"",{"$f":"IFERROR(VLOOKUP(F55517,Biomasser!$A$3:$E$88,4,FALSE),0)","v":0},null,{"$f":"IFERROR(VLOOKUP(F55517,Biomasser!$A$3:$E$88,5,FALSE),0)","v":0},"",0,null,null,{"$f":"IFERROR(VLOOKUP(F55517,Biomasser!$A$3:$M$88,13,FALSE),)","v":0},null,null,null,null,null,{"$f":"IF(F55517<>\"\",'CO2 konvertering'!$C$23,)","v":0},null,null,null,null,0]
[null,null,null,"Ja",null,null,null,null,"",null,"",{"$f":"IFERROR(VLOOKUP(F55540,Biomasser!$A$3:$E$88,4,FALSE),0)","v":0},null,{"$f":"IFERROR(VLOOKUP(F55540,Biomasser!$A$3:$E$88,5,FALSE),0)","v":0},"",0,null,null,{"$f":"IFERROR(VLOOKUP(F55540,Biomasser!$A$3:$M$88,13,FALSE),)","v":0},null,null,null,null,null,{"$f":"IF(F55540<>\"\",'CO2 konvertering'!$C$23,)","v":0},null,null,null,null,0]
[null,null,null,"Ja",null,null,null,null,"",null,"",{"$f":"IFERROR(VLOOKUP(F55598,Biomasser!$A$3:$E$88,4,FALSE),0)","v":0},null,{"$f":"IFERROR(VLOOKUP(F55598,Biomasser!$A$3:$E$88,5,FALSE),0)","v":0},"",0,null,null,{"$f":"IFERROR(VLOOKUP(F55598,Biomasser!$A$3:$M$88,13,FALSE),)","v":0},null,null,null,null,null,{"$f":"IF(F55598<>\"\",'CO2 konvertering'!$C$23,)","v":0},null,null,null,null,0]
[null,null,null,"Ja",null,null,null,null,"",null,"",{"$f":"IFERROR(VLOOKUP(F55692,Biomasser!$A$3:$E$88,4,FALSE),0)","v":0},null,{"$f":"IFERROR(VLOOKUP(F55692,Biomasser!$A$3:$E$88,5,FALSE),0)","v":0},"",0,null,null,{"$f":"IFERROR(VLOOKUP(F55692,Biomasser!$A$3:$M$88,13,FALSE),)","v":0},null,null,null,null,null,{"$f":"IF(F55692<>\"\",'CO2 konvertering'!$C$23,)","v":0},null,null,null,null,{"$f":"SUM(S55692:AC55692)","v":0}]
[null,null,null,"Ja",null,null,null,null,"",null,"",{"$f":"IFERROR(VLOOKUP(F55787,Biomasser!$A$3:$E$88,4,FALSE),0)","v":0},null,{"$f":"IFERROR(VLOOKUP(F55787,Biomasser!$A$3:$E$88,5,FALSE),0)","v":0},"",0,null,null,{"$f":"IFERROR(VLOOKUP(F55787,Biomasser!$A$3:$M$88,13,FALSE),)","v":0},null,null,null,null,null,{"$f":"IF(F55787<>\"\",'CO2 konvertering'!$C$23,)","v":0},null,null,null,null,0]
[null,null,null,"Ja",null,null,null,null,"",null,"",{"$f":"IFERROR(VLOOKUP(F55844,Biomasser!$A$3:$E$88,4,FALSE),0)","v":0},null,{"$f":"IFERROR(VLOOKUP(F55844,Biomasser!$A$3:$E$88,5,FALSE),0)","v":0},"",0,null,null,{"$f":"IFERROR(VLOOKUP(F55844,Biomasser!$A$3:$M$88,13,FALSE),)","v":0},null,null,null,null,null,{"$f":"IF(F55844<>\"\",'CO2 konvertering'!$C$23,)","v":0},null,null,null,null,0]
[null,null,null,"Ja",null,null,null,null,"",null,"",{"$f":"IFERROR(VLOOKUP(F55944,Biomasser!$A$3:$E$88,4,FALSE),0)","v":0},null,{"$f":"IFERROR(VLOOKUP(F55944,Biomasser!$A$3:$E$88,5,FALSE),0)","v":0},"",0,null,null,{"$f":"IFERROR(VLOOKUP(F55944,Biomasser!$A$3:$M$88,13,FALSE),)","v":0},null,null,null,null,null,{"$f":"IF(F55944<>\"\",'CO2 konvertering'!$C$23,)","v":0},null,null,null,null,0]
[null,null,null,"Ja",null,null,null,null,"",null,"",{"$f":"IFERROR(VLOOKUP(F55996,Biomasser!$A$3:$E$88,4,FALSE),0)","v":0},null,{"$f":"IFERROR(VLOOKUP(F55996,Biomasser!$A$3:$E$88,5,FALSE),0)","v":0},"",0,null,null,{"$f":"IFERROR(VLOOKUP(F55996,Biomasser!$A$3:$M$88,13,FALSE),)","v":0},null,null,null,null,null,{"$f":"IF(F55996<>\"\",'CO2 konvertering'!$C$23,)","v":0},null,null,null,null,0]
[null,null,null,"Ja",null,null,null,null,"",null,"",{"$f":"IFERROR(VLOOKUP(F56101,Biomasser!$A$3:$E$88,4,FALSE),0)","v":0},null,{"$f":"IFERROR(VLOOKUP(F56101,Biomasser!$A$3:$E$88,5,FALSE),0)","v":0},"",0,null,null,{"$f":"IFERROR(VLOOKUP(F56101,Biomasser!$A$3:$M$88,13,FALSE),)","v":0},null,null,null,null,null,{"$f":"IF(F56101<>\"\",'CO2 konvertering'!$C$23,)","v":0},null,null,null,null,0]
[null,null,null,"Ja",null,null,null,null,"",null,"",{"$f":"IFERROR(VLOOKUP(F56177,Biomasser!$A$3:$E$88,4,FALSE),0)","v":0},null,{"$f":"IFERROR(VLOOKUP(F56177,Biomasser!$A$3:$E$88,5,FALSE),0)","v":0},"",0,null,null,{"$f":"IFERROR(VLOOKUP(F56177,Biomasser!$A$3:$M$88,13,FALSE),)","v":0},null,null,null,null,null,{"$f":"IF(F56177<>\"\",'CO2 konvertering'!$C$23,)","v":0},null,null,null,null,0]
[null,null,null,"Ja",null,null,null,null,"",null,"",{"$f":"IFERROR(VLOOKUP(F56258,Biomasser!$A$3:$E$88,4,FALSE),0)","v":0},null,{"$f":"IFERROR(VLOOKUP(F56258,Biomasser!$A$3:$E$88,5,FALSE),0)","v":0},"",0,null,null,{"$f":"IFERROR(VLOOKUP(F56258,Biomasser!$A$3:$M$88,13,FALSE),)","v":0},null,null,null,null,null,{"$f":"IF(F56258<>\"\",'CO2 konvertering'!$C$23,)","v":0},null,null,null,null,0]
[null,null,null,"Ja",null,null,null,null,"",null,"",{"$f":"IFERROR(VLOOKUP(F56329,Biomasser!$A$3:$E$88,4,FALSE),0)","v":0},null,{"$f":"IFERROR(VLOOKUP(F56329,Biomasser!$A$3:$E$88,5,FALSE),0)","v":0},"",0,null,null,{"$f":"IFERROR(VLOOKUP(F56329,Biomasser!$A$3:$M$88,13,FALSE),)","v":0},null,null,null,null,null,{"$f":"IF(F56329<>\"\",'CO2 konvertering'!$C$23,)","v":0},null,null,null,null,0]
[null,null,null,"Ja",null,null,null,null,"",null,"",{"$f":"IFERROR(VLOOKUP(F56371,Biomasser!$A$3:$E$88,4,FALSE),0)","v":0},null,{"$f":"IFERROR(VLOOKUP(F56371,Biomasser!$A$3:$E$88,5,FALSE),0)","v":0},"",0,null,null,{"$f":"IFERROR(VLOOKUP(F56371,Biomasser!$A$3:$M$88,13,FALSE),)","v":0},null,null,null,null,null,{"$f":"IF(F56371<>\"\",'CO2 konvertering'!$C$23,)","v":0},null,null,null,null,0]
[null,null,null,"Ja",null,null,null,null,"",null,"",{"$f":"IFERROR(VLOOKUP(F56481,Biomasser!$A$3:$E$88,4,FALSE),0)","v":0},null,{"$f":"IFERROR(VLOOKUP(F56481,Biomasser!$A$3:$E$88,5,FALSE),0)","v":0},"",0,null,null,{"$f":"IFERROR(VLOOKUP(F56481,Biomasser!$A$3:$M$88,13,FALSE),)","v":0},null,null,null,null,null,{"$f":"IF(F56481<>\"\",'CO2 konvertering'!$C$23,)","v":0},null,null,null,null,0]
[null,null,null,"Ja",null,null,null,null,"",null,"",{"$f":"IFERROR(VLOOKUP(F56528,Biomasser!$A$3:$E$88,4,FALSE),0)","v":0},null,{"$f":"IFERROR(VLOOKUP(F56528,Biomasser!$A$3:$E$88,5,FALSE),0)","v":0},"",0,null,null,{"$f":"IFERROR(VLOOKUP(F56528,Biomasser!$A$3:$M$88,13,FALSE),)","v":0},null,null,null,null,null,{"$f":"IF(F56528<>\"\",'CO2 konvertering'!$C$23,)","v":0},null,null,null,null,0]
[null,null,null,"Ja",null,null,null,null,"",null,"",{"$f":"IFERROR(VLOOKUP(F56633,Biomasser!$A$3:$E$88,4,FALSE),0)","v":0},null,{"$f":"IFERROR(VLOOKUP(F56633,Biomasser!$A$3:$E$88,5,FALSE),0)","v":0},"",0,null,null,{"$f":"IFERROR(VLOOKUP(F56633,Biomasser!$A$3:$M$88,13,FALSE),)","v":0},null,null,null,null,null,{"$f":"IF(F56633<>\"\",'CO2 konvertering'!$C$23,)","v":0},null,null,null,null,0]
[null,null,null,"Ja",null,null,null,null,"",null,"",{"$f":"IFERROR(VLOOKUP(F56685,Biomasser!$A$3:$E$88,4,FALSE),0)","v":0},null,{"$f":"IFERROR(VLOOKUP(F56685,Biomasser!$A$3:$E$88,5,FALSE),0)","v":0},"",0,null,null,{"$f":"IFERROR(VLOOKUP(F56685,Biomasser!$A$3:$M$88,13,FALSE),)","v":0},null,null,null,null,null,{"$f":"IF(F56685<>\"\",'CO2 konvertering'!$C$23,)","v":0},null,null,null,null,0]
[null,null,null,"Ja",null,null,null,null,"",null,"",{"$f":"IFERROR(VLOOKUP(F56739,Biomasser!$A$3:$E$88,4,FALSE),0)","v":0},null,{"$f":"IFERROR(VLOOKUP(F56739,Biomasser!$A$3:$E$88,5,FALSE),0)","v":0},"",0,null,null,{"$f":"IFERROR(VLOOKUP(F56739,Biomasser!$A$3:$M$88,13,FALSE),)","v":0},null,null,null,null,null,{"$f":"IF(F56739<>\"\",'CO2 konvertering'!$C$23,)","v":0},null,null,null,null,0]
[null,null,null,"Ja",null,null,null,null,"",null,"",{"$f":"IFERROR(VLOOKUP(F56842,Biomasser!$A$3:$E$88,4,FALSE),0)","v":0},null,{"$f":"IFERROR(VLOOKUP(F56842,Biomasser!$A$3:$E$88,5,FALSE),0)","v":0},"",0,null,null,{"$f":"IFERROR(VLOOKUP(F56842,Biomasser!$A$3:$M$88,13,FALSE),)","v":0},null,null,null,null,null,{"$f":"IF(F56842<>\"\",'CO2 konvertering'!$C$23,)","v":0},null,null,null,null,0]
[null,null,null,"Ja",null,null,null,null,"",null,"",{"$f":"IFERROR(VLOOKUP(F56891,Biomasser!$A$3:$E$88,4,FALSE),0)","v":0},null,{"$f":"IFERROR(VLOOKUP(F56891,Biomasser!$A$3:$E$88,5,FALSE),0)","v":0},"",0,null,null,{"$f":"IFERROR(VLOOKUP(F56891,Biomasser!$A$3:$M$88,13,FALSE),)","v":0},null,null,null,null,null,{"$f":"IF(F56891<>\"\",'CO2 konvertering'!$C$23,)","v":0},null,null,null,null,0]
[null,null,null,"Ja",null,null,null,null,"",null,"",{"$f":"IFERROR(VLOOKUP(F56999,Biomasser!$A$3:$E$88,4,FALSE),0)","v":0},null,{"$f":"IFERROR(VLOOKUP(F56999,Biomasser!$A$3:$E$88,5,FALSE),0)","v":0},"",0,null,null,{"$f":"IFERROR(VLOOKUP(F56999,Biomasser!$A$3:$M$88,13,FALSE),)","v":0},null,null,null,null,null,{"$f":"IF(F56999<>\"\",'CO2 konvertering'!$C$23,)","v":0},null,null,null,null,0]
[null,null,null,"Ja",null,null,null,null,"",null,"",{"$f":"IFERROR(VLOOKUP(F57043,Biomasser!$A$3:$E$88,4,FALSE),0)","v":0},null,{"$f":"IFERROR(VLOOKUP(F57043,Biomasser!$A$3:$E$88,5,FALSE),0)","v":0},"",0,null,null,{"$f":"IFERROR(VLOOKUP(F57043,Biomasser!$A$3:$M$88,13,FALSE),)","v":0},null,null,null,null,null,{"$f":"IF(F57043<>\"\",'CO2 konvertering'!$C$23,)","v":0},null,null,null,null,0]
[null,null,null,"Ja",null,null,null,null,"",null,"",{"$f":"IFERROR(VLOOKUP(F57112,Biomasser!$A$3:$E$88,4,FALSE),0)","v":0},null,{"$f":"IFERROR(VLOOKUP(F57112,Biomasser!$A$3:$E$88,5,FALSE),0)","v":0},"",0,null,null,{"$f":"IFERROR(VLOOKUP(F57112,Biomasser!$A$3:$M$88,13,FALSE),)","v":0},null,null,null,null,null,{"$f":"IF(F57112<>\"\",'CO2 konvertering'!$C$23,)","v":0},null,null,null,null,0]
[null,null,null,"Ja",null,null,null,null,{"$f":"IF(AND(F57195<>\"\",ISBLANK(H57195)),\"Indtast vægt\",\"\")","v":""},null,{"$f":"IF(AND(F57195<>\"\",ISBLANK(J57195)),\"Indtast tørstof %\",\"\")","v":""},{"$f":"IFERROR(VLOOKUP(F57195,Biomasser!$A$3:$E$88,4,FALSE),0)","v":0},null,{"$f":"IFERROR(VLOOKUP(F57195,Biomasser!$A$3:$E$88,5,FALSE),0)","v":0},"",0,null,null,{"$f":"IFERROR(VLOOKUP(F57195,Biomasser!$A$3:$M$88,13,FALSE),)","v":0},null,null,null,null,null,{"$f":"IF(F57195<>\"\",'CO2 konvertering'!$C$23,)","v":0},null,null,null,null,0]
[null,null,null,"Ja",null,null,null,null,"",null,"",{"$f":"IFERROR(VLOOKUP(F57269,Biomasser!$A$3:$E$88,4,FALSE),0)","v":0},null,{"$f":"IFERROR(VLOOKUP(F57269,Biomasser!$A$3:$E$88,5,FALSE),0)","v":0},"",0,null,null,{"$f":"IFERROR(VLOOKUP(F57269,Biomasser!$A$3:$M$88,13,FALSE),)","v":0},null,null,null,null,null,{"$f":"IF(F57269<>\"\",'CO2 konvertering'!$C$23,)","v":0},null,null,null,null,0]
[null,null,null,"Ja",null,null,null,null,"",null,"",{"$f":"IFERROR(VLOOKUP(F57376,Biomasser!$A$3:$E$88,4,FALSE),0)","v":0},null,{"$f":"IFERROR(VLOOKUP(F57376,Biomasser!$A$3:$E$88,5,FALSE),0)","v":0},"",0,null,null,{"$f":"IFERROR(VLOOKUP(F57376,Biomasser!$A$3:$M$88,13,FALSE),)","v":0},null,null,null,null,null,{"$f":"IF(F57376<>\"\",'CO2 konvertering'!$C$23,)","v":0},null,null,null,null,0]
[null,null,null,"Ja",null,null,null,null,"",null,"",{"$f":"IFERROR(VLOOKUP(F57426,Biomasser!$A$3:$E$88,4,FALSE),0)","v":0},null,{"$f":"IFERROR(VLOOKUP(F57426,Biomasser!$A$3:$E$88,5,FALSE),0)","v":0},"",0,null,null,{"$f":"IFERROR(VLOOKUP(F57426,Biomasser!$A$3:$M$88,13,FALSE),)","v":0},null,null,null,null,null,{"$f":"IF(F57426<>\"\",'CO2 konvertering'!$C$23,)","v":0},null,null,null,null,0]
[null,null,null,"Ja",null,null,null,null,"",null,"",{"$f":"IFERROR(VLOOKUP(F57528,Biomasser!$A$3:$E$88,4,FALSE),0)","v":0},null,{"$f":"IFERROR(VLOOKUP(F57528,Biomasser!$A$3:$E$88,5,FALSE),0)","v":0},"",0,null,null,{"$f":"IFERROR(VLOOKUP(F57528,Biomasser!$A$3:$M$88,13,FALSE),)","v":0},null,null,null,null,null,{"$f":"IF(F57528<>\"\",'CO2 konvertering'!$C$23,)","v":0},null,null,null,null,0]
[null,null,null,"Ja",null,null,null,null,"",null,"",{"$f":"IFERROR(VLOOKUP(F57583,Biomasser!$A$3:$E$88,4,FALSE),0)","v":0},null,{"$f":"IFERROR(VLOOKUP(F57583,Biomasser!$A$3:$E$88,5,FALSE),0)","v":0},"",0,null,null,{"$f":"IFERROR(VLOOKUP(F57583,Biomasser!$A$3:$M$88,13,FALSE),)","v":0},null,null,null,null,null,{"$f":"IF(F57583<>\"\",'CO2 konvertering'!$C$23,)","v":0},null,null,null,null,0]
[null,null,null,"Ja",null,null,null,null,"",null,"",{"$f":"IFERROR(VLOOKUP(F57640,Biomasser!$A$3:$E$88,4,FALSE),0)","v":0},null,{"$f":"IFERROR(VLOOKUP(F57640,Biomasser!$A$3:$E$88,5,FALSE),0)","v":0},"",0,null,null,{"$f":"IFERROR(VLOOKUP(F57640,Biomasser!$A$3:$M$88,13,FALSE),)","v":0},null,null,null,null,null,{"$f":"IF(F57640<>\"\",'CO2 konvertering'!$C$23,)","v":0},null,null,null,null,0]
[null,null,null,"Ja",null,null,null,null,"",null,"",{"$f":"IFERROR(VLOOKUP(F57771,Biomasser!$A$3:$E$88,4,FALSE),0)","v":0},null,{"$f":"IFERROR(VLOOKUP(F57771,Biomasser!$A$3:$E$88,5,FALSE),0)","v":0},"",0,null,null,{"$f":"IFERROR(VLOOKUP(F57771,Biomasser!$A$3:$M$88,13,FALSE),)","v":0},null,null,null,null,null,{"$f":"IF(F57771<>\"\",'CO2 konvertering'!$C$23,)","v":0},null,null,null,null,0]
[null,null,null,"Ja",null,null,null,null,"",null,"",{"$f":"IFERROR(VLOOKUP(F57797,Biomasser!$A$3:$E$88,4,FALSE),0)","v":0},null,{"$f":"IFERROR(VLOOKUP(F57797,Biomasser!$A$3:$E$88,5,FALSE),0)","v":0},"",0,null,null,{"$f":"IFERROR(VLOOKUP(F57797,Biomasser!$A$3:$M$88,13,FALSE),)","v":0},null,null,null,null,null,{"$f":"IF(F57797<>\"\",'CO2 konvertering'!$C$23,)","v":0},null,null,null,null,0]
[null,null,null,"Ja",null,null,null,null,"",null,"",{"$f":"IFERROR(VLOOKUP(F57923,Biomasser!$A$3:$E$88,4,FALSE),0)","v":0},null,{"$f":"IFERROR(VLOOKUP(F57923,Biomasser!$A$3:$E$88,5,FALSE),0)","v":0},"",0,null,null,{"$f":"IFERROR(VLOOKUP(F57923,Biomasser!$A$3:$M$88,13,FALSE),)","v":0},null,null,null,null,null,{"$f":"IF(F57923<>\"\",'CO2 konvertering'!$C$23,)","v":0},null,null,null,null,0]
[null,null,null,"Ja",null,null,null,null,"",null,"",{"$f":"IFERROR(VLOOKUP(F57954,Biomasser!$A$3:$E$88,4,FALSE),0)","v":0},null,{"$f":"IFERROR(VLOOKUP(F57954,Biomasser!$A$3:$E$88,5,FALSE),0)","v":0},"",0,null,null,{"$f":"IFERROR(VLOOKUP(F57954,Biomasser!$A$3:$M$88,13,FALSE),)","v":0},null,null,null,null,null,{"$f":"IF(F57954<>\"\",'CO2 konvertering'!$C$23,)","v":0},null,null,null,null,0]
[{"$f":"B58072&C58072","v":"7. juli2016"},null,null,"Ja",null,null,null,null,{"$f":"IF(AND(F58075<>\"\",ISBLANK(H58075)),\"Indtast vægt\",\"\")","v":""},null,{"$f":"IF(AND(F58075<>\"\",ISBLANK(J58075)),\"Indtast tørstof %\",\"\")","v":""},{"$f":"IFERROR(VLOOKUP(F58075,Biomasser!$A$3:$E$88,4,FALSE),)","v":0},null,{"$f":"IFERROR(VLOOKUP(F58075,Biomasser!$A$3:$E$88,5,FALSE),0)","v":0},{"$f":"IF(AND(F58075<>\"\",(N58075=0)),\"Opdater biomasseark\",\"\")","v":""},{"$f":"J58075*L58075*N58075*H58075","v":0},null,null,{"$f":"IFERROR(VLOOKUP(F58075,Biomasser!$A$3:$M$88,13,FALSE),)","v":0},null,null,null,null,null,{"$f":"IF(F58075<>\"\",'CO2 konvertering'!$C$23,)","v":0},null,null,null,null,{"$f":"SUM(S58075:AC58075)","v":0}]
[null,null,null,"Ja",null,null,null,null,"",null,"",{"$f":"IFERROR(VLOOKUP(F58143,Biomasser!$A$3:$E$88,4,FALSE),0)","v":0},null,{"$f":"IFERROR(VLOOKUP(F58143,Biomasser!$A$3:$E$88,5,FALSE),0)","v":0},{"$f":"IF(AND(F58143<>\"\",(N58143=0)),\"Opdater biomasseark\",\"\")","v":""},0,null,null,{"$f":"IFERROR(VLOOKUP(F58143,Biomasser!$A$3:$M$88,13,FALSE),)","v":0},null,null,null,null,null,{"$f":"IF(F58143<>\"\",'CO2 konvertering'!$C$23,)","v":0},null,null,null,null,0]
[null,null,null,"Ja",null,null,null,null,"",null,"",{"$f":"IFERROR(VLOOKUP(F58227,Biomasser!$A$3:$E$88,4,FALSE),0)","v":0},null,{"$f":"IFERROR(VLOOKUP(F58227,Biomasser!$A$3:$E$88,5,FALSE),0)","v":0},"",0,null,null,{"$f":"IFERROR(VLOOKUP(F58227,Biomasser!$A$3:$M$88,13,FALSE),)","v":0},null,null,null,null,null,{"$f":"IF(F58227<>\"\",'CO2 konvertering'!$C$23,)","v":0},null,null,null,null,0]
[null,null,null,"Ja",null,null,null,null,"",null,"",{"$f":"IFERROR(VLOOKUP(F58300,Biomasser!$A$3:$E$88,4,FALSE),0)","v":0},null,{"$f":"IFERROR(VLOOKUP(F58300,Biomasser!$A$3:$E$88,5,FALSE),0)","v":0},"",0,null,null,{"$f":"IFERROR(VLOOKUP(F58300,Biomasser!$A$3:$M$88,13,FALSE),)","v":0},null,null,null,null,null,{"$f":"IF(F58300<>\"\",'CO2 konvertering'!$C$23,)","v":0},null,null,null,null,0]
[null,null,null,"Ja",null,null,null,null,"",null,"",{"$f":"IFERROR(VLOOKUP(F58333,Biomasser!$A$3:$E$88,4,FALSE),0)","v":0},null,{"$f":"IFERROR(VLOOKUP(F58333,Biomasser!$A$3:$E$88,5,FALSE),0)","v":0},"",0,null,null,{"$f":"IFERROR(VLOOKUP(F58333,Biomasser!$A$3:$M$88,13,FALSE),)","v":0},null,null,null,null,null,{"$f":"IF(F58333<>\"\",'CO2 konvertering'!$C$23,)","v":0},null,null,null,null,0]
[null,null,null,"Ja",null,null,null,null,"",null,"",{"$f":"IFERROR(VLOOKUP(F58457,Biomasser!$A$3:$E$88,4,FALSE),0)","v":0},null,{"$f":"IFERROR(VLOOKUP(F58457,Biomasser!$A$3:$E$88,5,FALSE),0)","v":0},"",0,null,null,{"$f":"IFERROR(VLOOKUP(F58457,Biomasser!$A$3:$M$88,13,FALSE),)","v":0},null,null,null,null,null,{"$f":"IF(F58457<>\"\",'CO2 konvertering'!$C$23,)","v":0},null,null,null,null,0]
[null,null,null,"Ja",null,null,null,null,"",null,"",{"$f":"IFERROR(VLOOKUP(F58485,Biomasser!$A$3:$E$88,4,FALSE),0)","v":0},null,{"$f":"IFERROR(VLOOKUP(F58485,Biomasser!$A$3:$E$88,5,FALSE),0)","v":0},"",0,null,null,{"$f":"IFERROR(VLOOKUP(F58485,Biomasser!$A$3:$M$88,13,FALSE),)","v":0},null,null,null,null,null,{"$f":"IF(F58485<>\"\",'CO2 konvertering'!$C$23,)","v":0},null,null,null,null,0]
[null,null,null,"Ja",null,null,null,null,"",null,"",{"$f":"IFERROR(VLOOKUP(F58614,Biomasser!$A$3:$E$88,4,FALSE),0)","v":0},null,{"$f":"IFERROR(VLOOKUP(F58614,Biomasser!$A$3:$E$88,5,FALSE),0)","v":0},"",0,null,null,{"$f":"IFERROR(VLOOKUP(F58614,Biomasser!$A$3:$M$88,13,FALSE),)","v":0},null,null,null,null,null,{"$f":"IF(F58614<>\"\",'CO2 konvertering'!$C$23,)","v":0},null,null,null,null,0]
[null,null,null,"Ja",null,null,null,null,"",null,"",{"$f":"IFERROR(VLOOKUP(F58637,Biomasser!$A$3:$E$88,4,FALSE),0)","v":0},null,{"$f":"IFERROR(VLOOKUP(F58637,Biomasser!$A$3:$E$88,5,FALSE),0)","v":0},"",0,null,null,{"$f":"IFERROR(VLOOKUP(F58637,Biomasser!$A$3:$M$88,13,FALSE),)","v":0},null,null,null,null,null,{"$f":"IF(F58637<>\"\",'CO2 konvertering'!$C$23,)","v":0},null,null,null,null,0]
[null,null,null,"Ja",null,null,null,null,"",null,"",{"$f":"IFERROR(VLOOKUP(F58727,Biomasser!$A$3:$E$88,4,FALSE),0)","v":0},null,{"$f":"IFERROR(VLOOKUP(F58727,Biomasser!$A$3:$E$88,5,FALSE),0)","v":0},"",0,null,null,{"$f":"IFERROR(VLOOKUP(F58727,Biomasser!$A$3:$M$88,13,FALSE),)","v":0},null,null,null,null,null,{"$f":"IF(F58727<>\"\",'CO2 konvertering'!$C$23,)","v":0},null,null,null,null,0]
[null,null,null,"Ja",null,null,null,null,"",null,"",{"$f":"IFERROR(VLOOKUP(F58789,Biomasser!$A$3:$E$88,4,FALSE),0)","v":0},null,{"$f":"IFERROR(VLOOKUP(F58789,Biomasser!$A$3:$E$88,5,FALSE),0)","v":0},"",0,null,null,{"$f":"IFERROR(VLOOKUP(F58789,Biomasser!$A$3:$M$88,13,FALSE),)","v":0},null,null,null,null,null,{"$f":"IF(F58789<>\"\",'CO2 konvertering'!$C$23,)","v":0},null,null,null,null,0]
[null,null,null,"Ja",null,null,null,null,"",null,"",{"$f":"IFERROR(VLOOKUP(F58884,Biomasser!$A$3:$E$88,4,FALSE),0)","v":0},null,{"$f":"IFERROR(VLOOKUP(F58884,Biomasser!$A$3:$E$88,5,FALSE),0)","v":0},"",0,null,null,{"$f":"IFERROR(VLOOKUP(F58884,Biomasser!$A$3:$M$88,13,FALSE),)","v":0},null,null,null,null,null,{"$f":"IF(F58884<>\"\",'CO2 konvertering'!$C$23,)","v":0},null,null,null,null,0]
[null,null,null,"Ja",null,null,null,null,"",null,"",{"$f":"IFERROR(VLOOKUP(F58970,Biomasser!$A$3:$E$88,4,FALSE),0)","v":0},null,{"$f":"IFERROR(VLOOKUP(F58970,Biomasser!$A$3:$E$88,5,FALSE),0)","v":0},"",0,null,null,{"$f":"IFERROR(VLOOKUP(F58970,Biomasser!$A$3:$M$88,13,FALSE),)","v":0},null,null,null,null,null,{"$f":"IF(F58970<>\"\",'CO2 konvertering'!$C$23,)","v":0},null,null,null,null,0]
[null,null,null,"Ja",null,null,null,null,"",null,"",{"$f":"IFERROR(VLOOKUP(F59041,Biomasser!$A$3:$E$88,4,FALSE),0)","v":0},null,{"$f":"IFERROR(VLOOKUP(F59041,Biomasser!$A$3:$E$88,5,FALSE),0)","v":0},"",0,null,null,{"$f":"IFERROR(VLOOKUP(F59041,Biomasser!$A$3:$M$88,13,FALSE),)","v":0},null,null,null,null,null,{"$f":"IF(F59041<>\"\",'CO2 konvertering'!$C$23,)","v":0},null,null,null,null,0]
["Gas","17. juli",2016,null,null,{"$f":"SUM(H59125:H59225)","v":0},null,null,"m3 CH4"]
[null,null,null,"Ja",null,null,null,null,"",null,"",{"$f":"IFERROR(VLOOKUP(F59198,Biomasser!$A$3:$E$88,4,FALSE),0)","v":0},null,{"$f":"IFERROR(VLOOKUP(F59198,Biomasser!$A$3:$E$88,5,FALSE),0)","v":0},"",0,null,null,{"$f":"IFERROR(VLOOKUP(F59198,Biomasser!$A$3:$M$88,13,FALSE),)","v":0},null,null,null,null,null,{"$f":"IF(F59198<>\"\",'CO2 konvertering'!$C$23,)","v":0},null,null,null,null,0]
[null,null,null,"Ja",null,null,null,null,"",null,"",{"$f":"IFERROR(VLOOKUP(F59274,Biomasser!$A$3:$E$88,4,FALSE),0)","v":0},null,{"$f":"IFERROR(VLOOKUP(F59274,Biomasser!$A$3:$E$88,5,FALSE),0)","v":0},"",0,null,null,{"$f":"IFERROR(VLOOKUP(F59274,Biomasser!$A$3:$M$88,13,FALSE),)","v":0},null,null,null,null,null,{"$f":"IF(F59274<>\"\",'CO2 konvertering'!$C$23,)","v":0},null,null,null,null,0]
[null,null,null,"Ja",null,null,null,null,"",null,"",{"$f":"IFERROR(VLOOKUP(F59311,Biomasser!$A$3:$E$88,4,FALSE),0)","v":0},null,{"$f":"IFERROR(VLOOKUP(F59311,Biomasser!$A$3:$E$88,5,FALSE),0)","v":0},"",0,null,null,{"$f":"IFERROR(VLOOKUP(F59311,Biomasser!$A$3:$M$88,13,FALSE),)","v":0},null,null,null,null,null,{"$f":"IF(F59311<>\"\",'CO2 konvertering'!$C$23,)","v":0},null,null,null,null,0]
[null,null,null,"Ja",null,null,null,null,"",null,"",{"$f":"IFERROR(VLOOKUP(F59426,Biomasser!$A$3:$E$88,4,FALSE),0)","v":0},null,{"$f":"IFERROR(VLOOKUP(F59426,Biomasser!$A$3:$E$88,5,FALSE),0)","v":0},"",0,null,null,{"$f":"IFERROR(VLOOKUP(F59426,Biomasser!$A$3:$M$88,13,FALSE),)","v":0},null,null,null,null,null,{"$f":"IF(F59426<>\"\",'CO2 konvertering'!$C$23,)","v":0},null,null,null,null,0]
[null,null,null,"Ja",null,null,null,null,"",null,"",{"$f":"IFERROR(VLOOKUP(F59468,Biomasser!$A$3:$E$88,4,FALSE),0)","v":0},null,{"$f":"IFERROR(VLOOKUP(F59468,Biomasser!$A$3:$E$88,5,FALSE),0)","v":0},"",0,null,null,{"$f":"IFERROR(VLOOKUP(F59468,Biomasser!$A$3:$M$88,13,FALSE),)","v":0},null,null,null,null,null,{"$f":"IF(F59468<>\"\",'CO2 konvertering'!$C$23,)","v":0},null,null,null,null,0]
[null,null,null,"Ja",null,null,null,null,"",null,"",{"$f":"IFERROR(VLOOKUP(F59578,Biomasser!$A$3:$E$88,4,FALSE),0)","v":0},null,{"$f":"IFERROR(VLOOKUP(F59578,Biomasser!$A$3:$E$88,5,FALSE),0)","v":0},"",0,null,null,{"$f":"IFERROR(VLOOKUP(F59578,Biomasser!$A$3:$M$88,13,FALSE),)","v":0},null,null,null,null,null,{"$f":"IF(F59578<>\"\",'CO2 konvertering'!$C$23,)","v":0},null,null,null,null,0]
[null,null,null,"Ja",null,null,null,null,"",null,"",{"$f":"IFERROR(VLOOKUP(F59625,Biomasser!$A$3:$E$88,4,FALSE),0)","v":0},null,{"$f":"IFERROR(VLOOKUP(F59625,Biomasser!$A$3:$E$88,5,FALSE),0)","v":0},"",0,null,null,{"$f":"IFERROR(VLOOKUP(F59625,Biomasser!$A$3:$M$88,13,FALSE),)","v":0},null,null,null,null,null,{"$f":"IF(F59625<>\"\",'CO2 konvertering'!$C$23,)","v":0},null,null,null,null,0]
[null,null,null,"Ja",null,null,null,null,"",null,"",{"$f":"IFERROR(VLOOKUP(F59684,Biomasser!$A$3:$E$88,4,FALSE),0)","v":0},null,{"$f":"IFERROR(VLOOKUP(F59684,Biomasser!$A$3:$E$88,5,FALSE),0)","v":0},"",0,null,null,{"$f":"IFERROR(VLOOKUP(F59684,Biomasser!$A$3:$M$88,13,FALSE),)","v":0},null,null,null,null,null,{"$f":"IF(F59684<>\"\",'CO2 konvertering'!$C$23,)","v":0},null,null,null,null,0]
[null,null,null,"Ja",null,null,null,null,"",null,"",{"$f":"IFERROR(VLOOKUP(F59782,Biomasser!$A$3:$E$88,4,FALSE),0)","v":0},null,{"$f":"IFERROR(VLOOKUP(F59782,Biomasser!$A$3:$E$88,5,FALSE),0)","v":0},"",0,null,null,{"$f":"IFERROR(VLOOKUP(F59782,Biomasser!$A$3:$M$88,13,FALSE),)","v":0},null,null,null,null,null,{"$f":"IF(F59782<>\"\",'CO2 konvertering'!$C$23,)","v":0},null,null,null,null,0]
[null,null,null,"Ja",null,null,null,null,"",null,"",{"$f":"IFERROR(VLOOKUP(F59836,Biomasser!$A$3:$E$88,4,FALSE),0)","v":0},null,{"$f":"IFERROR(VLOOKUP(F59836,Biomasser!$A$3:$E$88,5,FALSE),0)","v":0},"",0,null,null,{"$f":"IFERROR(VLOOKUP(F59836,Biomasser!$A$3:$M$88,13,FALSE),)","v":0},null,null,null,null,null,{"$f":"IF(F59836<>\"\",'CO2 konvertering'!$C$23,)","v":0},null,null,null,null,0]
[null,null,null,"Ja",null,null,null,null,"",null,"",{"$f":"IFERROR(VLOOKUP(F59971,Biomasser!$A$3:$E$88,4,FALSE),0)","v":0},null,{"$f":"IFERROR(VLOOKUP(F59971,Biomasser!$A$3:$E$88,5,FALSE),0)","v":0},"",0,null,null,{"$f":"IFERROR(VLOOKUP(F59971,Biomasser!$A$3:$M$88,13,FALSE),)","v":0},null,null,null,null,null,{"$f":"IF(F59971<>\"\",'CO2 konvertering'!$C$23,)","v":0},null,null,null,null,0]
[null,null,null,"Ja",null,null,null,null,"",null,"",{"$f":"IFERROR(VLOOKUP(F59988,Biomasser!$A$3:$E$88,4,FALSE),0)","v":0},null,{"$f":"IFERROR(VLOOKUP(F59988,Biomasser!$A$3:$E$88,5,FALSE),0)","v":0},"",0,null,null,{"$f":"IFERROR(VLOOKUP(F59988,Biomasser!$A$3:$M$88,13,FALSE),)","v":0},null,null,null,null,null,{"$f":"IF(F59988<>\"\",'CO2 konvertering'!$C$23,)","v":0},null,null,null,null,0]
[null,null,null,"Ja",null,null,null,null,"",null,"",{"$f":"IFERROR(VLOOKUP(F60052,Biomasser!$A$3:$E$88,4,FALSE),0)","v":0},null,{"$f":"IFERROR(VLOOKUP(F60052,Biomasser!$A$3:$E$88,5,FALSE),0)","v":0},"",0,null,null,{"$f":"IFERROR(VLOOKUP(F60052,Biomasser!$A$3:$M$88,13,FALSE),)","v":0},null,null,null,null,null,{"$f":"IF(F60052<>\"\",'CO2 konvertering'!$C$23,)","v":0},null,null,null,null,0]
[null,null,null,"Ja",null,null,null,null,"",null,"",{"$f":"IFERROR(VLOOKUP(F60140,Biomasser!$A$3:$E$88,4,FALSE),0)","v":0},null,{"$f":"IFERROR(VLOOKUP(F60140,Biomasser!$A$3:$E$88,5,FALSE),0)","v":0},"",0,null,null,{"$f":"IFERROR(VLOOKUP(F60140,Biomasser!$A$3:$M$88,13,FALSE),)","v":0},null,null,null,null,null,{"$f":"IF(F60140<>\"\",'CO2 konvertering'!$C$23,)","v":0},null,null,null,null,0]
[null,null,null,"Ja",null,null,null,null,"",null,"",{"$f":"IFERROR(VLOOKUP(F60209,Biomasser!$A$3:$E$88,4,FALSE),0)","v":0},null,{"$f":"IFERROR(VLOOKUP(F60209,Biomasser!$A$3:$E$88,5,FALSE),0)","v":0},"",0,null,null,{"$f":"IFERROR(VLOOKUP(F60209,Biomasser!$A$3:$M$88,13,FALSE),)","v":0},null,null,null,null,null,{"$f":"IF(F60209<>\"\",'CO2 konvertering'!$C$23,)","v":0},null,null,null,null,0]
[null,null,null,"Ja",null,null,null,null,"",null,"",{"$f":"IFERROR(VLOOKUP(F60321,Biomasser!$A$3:$E$88,4,FALSE),0)","v":0},null,{"$f":"IFERROR(VLOOKUP(F60321,Biomasser!$A$3:$E$88,5,FALSE),0)","v":0},"",0,null,null,{"$f":"IFERROR(VLOOKUP(F60321,Biomasser!$A$3:$M$88,13,FALSE),)","v":0},null,null,null,null,null,{"$f":"IF(F60321<>\"\",'CO2 konvertering'!$C$23,)","v":0},null,null,null,null,0]
[null,null,null,"Ja",null,null,null,null,"",null,"",{"$f":"IFERROR(VLOOKUP(F60366,Biomasser!$A$3:$E$88,4,FALSE),0)","v":0},null,{"$f":"IFERROR(VLOOKUP(F60366,Biomasser!$A$3:$E$88,5,FALSE),0)","v":0},"",0,null,null,{"$f":"IFERROR(VLOOKUP(F60366,Biomasser!$A$3:$M$88,13,FALSE),)","v":0},null,null,null,null,null,{"$f":"IF(F60366<>\"\",'CO2 konvertering'!$C$23,)","v":0},null,null,null,null,0]
[null,null,null,"Ja",null,null,null,null,"",null,"",{"$f":"IFERROR(VLOOKUP(F60473,Biomasser!$A$3:$E$88,4,FALSE),0)","v":0},null,{"$f":"IFERROR(VLOOKUP(F60473,Biomasser!$A$3:$E$88,5,FALSE),0)","v":0},"",0,null,null,{"$f":"IFERROR(VLOOKUP(F60473,Biomasser!$A$3:$M$88,13,FALSE),)","v":0},null,null,null,null,null,{"$f":"IF(F60473<>\"\",'CO2 konvertering'!$C$23,)","v":0},null,null,null,null,0]
[null,null,null,"Ja",null,null,null,null,{"$f":"IF(AND(F60555<>\"\",ISBLANK(H60555)),\"Indtast vægt\",\"\")","v":""},null,{"$f":"IF(AND(F60555<>\"\",ISBLANK(J60555)),\"Indtast tørstof %\",\"\")","v":""},{"$f":"IFERROR(VLOOKUP(F60555,Biomasser!$A$3:$E$88,4,FALSE),0)","v":0},null,{"$f":"IFERROR(VLOOKUP(F60555,Biomasser!$A$3:$E$88,5,FALSE),0)","v":0},"",0,null,null,{"$f":"IFERROR(VLOOKUP(F60555,Biomasser!$A$3:$M$88,13,FALSE),)","v":0},null,null,null,null,null,{"$f":"IF(F60555<>\"\",'CO2 konvertering'!$C$23,)","v":0},null,null,null,null,0]
[null,null,null,"Ja",null,null,null,null,"",null,"",{"$f":"IFERROR(VLOOKUP(F60625,Biomasser!$A$3:$E$88,4,FALSE),0)","v":0},null,{"$f":"IFERROR(VLOOKUP(F60625,Biomasser!$A$3:$E$88,5,FALSE),0)","v":0},"",0,null,null,{"$f":"IFERROR(VLOOKUP(F60625,Biomasser!$A$3:$M$88,13,FALSE),)","v":0},null,null,null,null,null,{"$f":"IF(F60625<>\"\",'CO2 konvertering'!$C$23,)","v":0},null,null,null,null,0]
[null,null,null,"Ja",null,null,null,null,"",null,"",{"$f":"IFERROR(VLOOKUP(F60712,Biomasser!$A$3:$E$88,4,FALSE),0)","v":0},null,{"$f":"IFERROR(VLOOKUP(F60712,Biomasser!$A$3:$E$88,5,FALSE),0)","v":0},"",0,null,null,{"$f":"IFERROR(VLOOKUP(F60712,Biomasser!$A$3:$M$88,13,FALSE),)","v":0},null,null,null,null,null,{"$f":"IF(F60712<>\"\",'CO2 konvertering'!$C$23,)","v":0},null,null,null,null,0]
[null,null,null,"Ja",null,null,null,null,"",null,"",{"$f":"IFERROR(VLOOKUP(F60777,Biomasser!$A$3:$E$88,4,FALSE),0)","v":0},null,{"$f":"IFERROR(VLOOKUP(F60777,Biomasser!$A$3:$E$88,5,FALSE),0)","v":0},"",0,null,null,{"$f":"IFERROR(VLOOKUP(F60777,Biomasser!$A$3:$M$88,13,FALSE),)","v":0},null,null,null,null,null,{"$f":"IF(F60777<>\"\",'CO2 konvertering'!$C$23,)","v":0},null,null,null,null,0]
[null,null,null,"Ja",null,null,null,null,"",null,"",{"$f":"IFERROR(VLOOKUP(F60869,Biomasser!$A$3:$E$88,4,FALSE),0)","v":0},null,{"$f":"IFERROR(VLOOKUP(F60869,Biomasser!$A$3:$E$88,5,FALSE),0)","v":0},"",{"$f":"J60869*L60869*N60869*H60869","v":0},null,null,{"$f":"IFERROR(VLOOKUP(F60869,Biomasser!$A$3:$M$88,13,FALSE),)","v":0},null,null,null,null,null,{"$f":"IF(F60869<>\"\",'CO2 konvertering'!$C$23,)","v":0},null,null,null,null,{"$f":"SUM(S60869:AC60869)","v":0}]
[null,null,null,"Ja",null,null,null,null,"",null,"",{"$f":"IFERROR(VLOOKUP(F60883,Biomasser!$A$3:$E$88,4,FALSE),0)","v":0},null,{"$f":"IFERROR(VLOOKUP(F60883,Biomasser!$A$3:$E$88,5,FALSE),0)","v":0},"",0,null,null,{"$f":"IFERROR(VLOOKUP(F60883,Biomasser!$A$3:$M$88,13,FALSE),)","v":0},null,null,null,null,null,{"$f":"IF(F60883<>\"\",'CO2 konvertering'!$C$23,)","v":0},null,null,null,null,0]
[null,null,null,"Ja",null,null,null,null,"",null,"",{"$f":"IFERROR(VLOOKUP(F61026,Biomasser!$A$3:$E$88,4,FALSE),0)","v":0},null,{"$f":"IFERROR(VLOOKUP(F61026,Biomasser!$A$3:$E$88,5,FALSE),0)","v":0},"",0,null,null,{"$f":"IFERROR(VLOOKUP(F61026,Biomasser!$A$3:$M$88,13,FALSE),)","v":0},null,null,null,null,null,{"$f":"IF(F61026<>\"\",'CO2 konvertering'!$C$23,)","v":0},null,null,null,null,0]
[null,null,null,"Ja",null,null,null,null,"",null,"",{"$f":"IFERROR(VLOOKUP(F61035,Biomasser!$A$3:$E$88,4,FALSE),0)","v":0},null,{"$f":"IFERROR(VLOOKUP(F61035,Biomasser!$A$3:$E$88,5,FALSE),0)","v":0},"",0,null,null,{"$f":"IFERROR(VLOOKUP(F61035,Biomasser!$A$3:$M$88,13,FALSE),)","v":0},null,null,null,null,null,{"$f":"IF(F61035<>\"\",'CO2 konvertering'!$C$23,)","v":0},null,null,null,null,0]
[null,null,null,"Ja",null,null,null,null,"",null,"",{"$f":"IFERROR(VLOOKUP(F61107,Biomasser!$A$3:$E$88,4,FALSE),0)","v":0},null,{"$f":"IFERROR(VLOOKUP(F61107,Biomasser!$A$3:$E$88,5,FALSE),0)","v":0},"",0,null,null,{"$f":"IFERROR(VLOOKUP(F61107,Biomasser!$A$3:$M$88,13,FALSE),)","v":0},null,null,null,null,null,{"$f":"IF(F61107<>\"\",'CO2 konvertering'!$C$23,)","v":0},null,null,null,null,0]
[null,null,null,"Ja",null,null,null,null,"",null,"",{"$f":"IFERROR(VLOOKUP(F61187,Biomasser!$A$3:$E$88,4,FALSE),0)","v":0},null,{"$f":"IFERROR(VLOOKUP(F61187,Biomasser!$A$3:$E$88,5,FALSE),0)","v":0},"",0,null,null,{"$f":"IFERROR(VLOOKUP(F61187,Biomasser!$A$3:$M$88,13,FALSE),)","v":0},null,null,null,null,null,{"$f":"IF(F61187<>\"\",'CO2 konvertering'!$C$23,)","v":0},null,null,null,null,0]
[null,null,null,"Ja",null,null,null,null,"",null,"",{"$f":"IFERROR(VLOOKUP(F61296,Biomasser!$A$3:$E$88,4,FALSE),0)","v":0},null,{"$f":"IFERROR(VLOOKUP(F61296,Biomasser!$A$3:$E$88,5,FALSE),0)","v":0},"",0,null,null,{"$f":"IFERROR(VLOOKUP(F61296,Biomasser!$A$3:$M$88,13,FALSE),)","v":0},null,null,null,null,null,{"$f":"IF(F61296<>\"\",'CO2 konvertering'!$C$23,)","v":0},null,null,null,null,0]
[null,null,null,"Ja",null,null,null,null,"",null,"",{"$f":"IFERROR(VLOOKUP(F61397,Biomasser!$A$3:$E$88,4,FALSE),0)","v":0},null,{"$f":"IFERROR(VLOOKUP(F61397,Biomasser!$A$3:$E$88,5,FALSE),0)","v":0},"",0,null,null,{"$f":"IFERROR(VLOOKUP(F61397,Biomasser!$A$3:$M$88,13,FALSE),)","v":0},null,null,null,null,null,{"$f":"IF(F61397<>\"\",'CO2 konvertering'!$C$23,)","v":0},null,null,null,null,0]
[null,null,null,"Ja",null,null,null,null,"",null,"",{"$f":"IFERROR(VLOOKUP(F61430,Biomasser!$A$3:$E$88,4,FALSE),0)","v":0},null,{"$f":"IFERROR(VLOOKUP(F61430,Biomasser!$A$3:$E$88,5,FALSE),0)","v":0},"",0,null,null,{"$f":"IFERROR(VLOOKUP(F61430,Biomasser!$A$3:$M$88,13,FALSE),)","v":0},null,null,null,null,null,{"$f":"IF(F61430<>\"\",'CO2 konvertering'!$C$23,)","v":0},null,null,null,null,0]
[null,null,null,"Ja",null,null,null,null,"",null,"",{"$f":"IFERROR(VLOOKUP(F61510,Biomasser!$A$3:$E$88,4,FALSE),0)","v":0},null,{"$f":"IFERROR(VLOOKUP(F61510,Biomasser!$A$3:$E$88,5,FALSE),0)","v":0},"",0,null,null,{"$f":"IFERROR(VLOOKUP(F61510,Biomasser!$A$3:$M$88,13,FALSE),)","v":0},null,null,null,null,null,{"$f":"IF(F61510<>\"\",'CO2 konvertering'!$C$23,)","v":0},null,null,null,null,0]
[null,null,null,"Ja",null,null,null,null,"",null,"",{"$f":"IFERROR(VLOOKUP(F61582,Biomasser!$A$3:$E$88,4,FALSE),0)","v":0},null,{"$f":"IFERROR(VLOOKUP(F61582,Biomasser!$A$3:$E$88,5,FALSE),0)","v":0},"",0,null,null,{"$f":"IFERROR(VLOOKUP(F61582,Biomasser!$A$3:$M$88,13,FALSE),)","v":0},null,null,null,null,null,{"$f":"IF(F61582<>\"\",'CO2 konvertering'!$C$23,)","v":0},null,null,null,null,0]
[null,null,null,"Ja",null,null,null,null,"",null,"",{"$f":"IFERROR(VLOOKUP(F61667,Biomasser!$A$3:$E$88,4,FALSE),0)","v":0},null,{"$f":"IFERROR(VLOOKUP(F61667,Biomasser!$A$3:$E$88,5,FALSE),0)","v":0},"",0,null,null,{"$f":"IFERROR(VLOOKUP(F61667,Biomasser!$A$3:$M$88,13,FALSE),)","v":0},null,null,null,null,null,{"$f":"IF(F61667<>\"\",'CO2 konvertering'!$C$23,)","v":0},null,null,null,null,0]
[null,null,null,"Ja",null,null,null,null,"",null,"",{"$f":"IFERROR(VLOOKUP(F61734,Biomasser!$A$3:$E$88,4,FALSE),0)","v":0},null,{"$f":"IFERROR(VLOOKUP(F61734,Biomasser!$A$3:$E$88,5,FALSE),0)","v":0},"",0,null,null,{"$f":"IFERROR(VLOOKUP(F61734,Biomasser!$A$3:$M$88,13,FALSE),)","v":0},null,null,null,null,null,{"$f":"IF(F61734<>\"\",'CO2 konvertering'!$C$23,)","v":0},null,null,null,null,0]
[null,null,null,"Ja",null,null,null,null,"",null,"",{"$f":"IFERROR(VLOOKUP(F61824,Biomasser!$A$3:$E$88,4,FALSE),0)","v":0},null,{"$f":"IFERROR(VLOOKUP(F61824,Biomasser!$A$3:$E$88,5,FALSE),0)","v":0},"",0,null,null,{"$f":"IFERROR(VLOOKUP(F61824,Biomasser!$A$3:$M$88,13,FALSE),)","v":0},null,null,null,null,null,{"$f":"IF(F61824<>\"\",'CO2 konvertering'!$C$23,)","v":0},null,null,null,null,0]
[null,null,null,"Ja",null,null,null,null,"",null,"",{"$f":"IFERROR(VLOOKUP(F61915,Biomasser!$A$3:$E$88,4,FALSE),0)","v":0},null,{"$f":"IFERROR(VLOOKUP(F61915,Biomasser!$A$3:$E$88,5,FALSE),0)","v":0},"",0,null,null,{"$f":"IFERROR(VLOOKUP(F61915,Biomasser!$A$3:$M$88,13,FALSE),)","v":0},null,null,null,null,null,{"$f":"IF(F61915<>\"\",'CO2 konvertering'!$C$23,)","v":0},null,null,null,null,0]
[null,null,null,"Ja",null,null,null,null,"",null,"",{"$f":"IFERROR(VLOOKUP(F61981,Biomasser!$A$3:$E$88,4,FALSE),0)","v":0},null,{"$f":"IFERROR(VLOOKUP(F61981,Biomasser!$A$3:$E$88,5,FALSE),0)","v":0},"",0,null,null,{"$f":"IFERROR(VLOOKUP(F61981,Biomasser!$A$3:$M$88,13,FALSE),)","v":0},null,null,null,null,null,{"$f":"IF(F61981<>\"\",'CO2 konvertering'!$C$23,)","v":0},null,null,null,null,0]
[null,null,null,"Ja",null,null,null,null,"",null,"",{"$f":"IFERROR(VLOOKUP(F62067,Biomasser!$A$3:$E$88,4,FALSE),0)","v":0},null,{"$f":"IFERROR(VLOOKUP(F62067,Biomasser!$A$3:$E$88,5,FALSE),0)","v":0},"",0,null,null,{"$f":"IFERROR(VLOOKUP(F62067,Biomasser!$A$3:$M$88,13,FALSE),)","v":0},null,null,null,null,null,{"$f":"IF(F62067<>\"\",'CO2 konvertering'!$C$23,)","v":0},null,null,null,null,0]
[null,null,null,"Ja",null,null,null,null,"",null,"",{"$f":"IFERROR(VLOOKUP(F62138,Biomasser!$A$3:$E$88,4,FALSE),0)","v":0},null,{"$f":"IFERROR(VLOOKUP(F62138,Biomasser!$A$3:$E$88,5,FALSE),0)","v":0},"",0,null,null,{"$f":"IFERROR(VLOOKUP(F62138,Biomasser!$A$3:$M$88,13,FALSE),)","v":0},null,null,null,null,null,{"$f":"IF(F62138<>\"\",'CO2 konvertering'!$C$23,)","v":0},null,null,null,null,0]
[null,null,null,"Ja",null,null,null,null,"",null,"",{"$f":"IFERROR(VLOOKUP(F62219,Biomasser!$A$3:$E$88,4,FALSE),0)","v":0},null,{"$f":"IFERROR(VLOOKUP(F62219,Biomasser!$A$3:$E$88,5,FALSE),0)","v":0},"",0,null,null,{"$f":"IFERROR(VLOOKUP(F62219,Biomasser!$A$3:$M$88,13,FALSE),)","v":0},null,null,null,null,null,{"$f":"IF(F62219<>\"\",'CO2 konvertering'!$C$23,)","v":0},null,null,null,null,0]
[null,null,null,"Ja",null,null,null,null,"",null,"",{"$f":"IFERROR(VLOOKUP(F62251,Biomasser!$A$3:$E$88,4,FALSE),0)","v":0},null,{"$f":"IFERROR(VLOOKUP(F62251,Biomasser!$A$3:$E$88,5,FALSE),0)","v":0},"",0,null,null,{"$f":"IFERROR(VLOOKUP(F62251,Biomasser!$A$3:$M$88,13,FALSE),)","v":0},null,null,null,null,null,{"$f":"IF(F62251<>\"\",'CO2 konvertering'!$C$23,)","v":0},null,null,null,null,0]
[null,null,null,"Ja",null,null,null,null,"",null,"",{"$f":"IFERROR(VLOOKUP(F62371,Biomasser!$A$3:$E$88,4,FALSE),0)","v":0},null,{"$f":"IFERROR(VLOOKUP(F62371,Biomasser!$A$3:$E$88,5,FALSE),0)","v":0},"",0,null,null,{"$f":"IFERROR(VLOOKUP(F62371,Biomasser!$A$3:$M$88,13,FALSE),)","v":0},null,null,null,null,null,{"$f":"IF(F62371<>\"\",'CO2 konvertering'!$C$23,)","v":0},null,null,null,null,{"$f":"SUM(S62371:AC62371)","v":0}]
[null,null,null,"Ja",null,null,null,null,"",null,"",{"$f":"IFERROR(VLOOKUP(F62408,Biomasser!$A$3:$E$88,4,FALSE),0)","v":0},null,{"$f":"IFERROR(VLOOKUP(F62408,Biomasser!$A$3:$E$88,5,FALSE),0)","v":0},"",0,null,null,{"$f":"IFERROR(VLOOKUP(F62408,Biomasser!$A$3:$M$88,13,FALSE),)","v":0},null,null,null,null,null,{"$f":"IF(F62408<>\"\",'CO2 konvertering'!$C$23,)","v":0},null,null,null,null,0]
[null,null,null,"Ja",null,null,null,null,"",null,"",{"$f":"IFERROR(VLOOKUP(F62477,Biomasser!$A$3:$E$88,4,FALSE),0)","v":0},null,{"$f":"IFERROR(VLOOKUP(F62477,Biomasser!$A$3:$E$88,5,FALSE),0)","v":0},"",0,null,null,{"$f":"IFERROR(VLOOKUP(F62477,Biomasser!$A$3:$M$88,13,FALSE),)","v":0},null,null,null,null,null,{"$f":"IF(F62477<>\"\",'CO2 konvertering'!$C$23,)","v":0},null,null,null,null,0]
[null,null,null,"Ja",null,null,null,null,"",null,"",{"$f":"IFERROR(VLOOKUP(F62565,Biomasser!$A$3:$E$88,4,FALSE),0)","v":0},null,{"$f":"IFERROR(VLOOKUP(F62565,Biomasser!$A$3:$E$88,5,FALSE),0)","v":0},"",0,null,null,{"$f":"IFERROR(VLOOKUP(F62565,Biomasser!$A$3:$M$88,13,FALSE),)","v":0},null,null,null,null,null,{"$f":"IF(F62565<>\"\",'CO2 konvertering'!$C$23,)","v":0},null,null,null,null,0]
[null,null,null,"Ja",null,null,null,null,"",null,"",{"$f":"IFERROR(VLOOKUP(F62629,Biomasser!$A$3:$E$88,4,FALSE),0)","v":0},null,{"$f":"IFERROR(VLOOKUP(F62629,Biomasser!$A$3:$E$88,5,FALSE),0)","v":0},"",0,null,null,{"$f":"IFERROR(VLOOKUP(F62629,Biomasser!$A$3:$M$88,13,FALSE),)","v":0},null,null,null,null,null,{"$f":"IF(F62629<>\"\",'CO2 konvertering'!$C$23,)","v":0},null,null,null,null,0]
[null,null,null,"Ja",null,null,null,null,"",null,"",{"$f":"IFERROR(VLOOKUP(F62722,Biomasser!$A$3:$E$88,4,FALSE),0)","v":0},null,{"$f":"IFERROR(VLOOKUP(F62722,Biomasser!$A$3:$E$88,5,FALSE),0)","v":0},"",0,null,null,{"$f":"IFERROR(VLOOKUP(F62722,Biomasser!$A$3:$M$88,13,FALSE),)","v":0},null,null,null,null,null,{"$f":"IF(F62722<>\"\",'CO2 konvertering'!$C$23,)","v":0},null,null,null,null,0]
[null,null,null,"Ja",null,null,null,null,"",null,"",{"$f":"IFERROR(VLOOKUP(F62781,Biomasser!$A$3:$E$88,4,FALSE),0)","v":0},null,{"$f":"IFERROR(VLOOKUP(F62781,Biomasser!$A$3:$E$88,5,FALSE),0)","v":0},"",0,null,null,{"$f":"IFERROR(VLOOKUP(F62781,Biomasser!$A$3:$M$88,13,FALSE),)","v":0},null,null,null,null,null,{"$f":"IF(F62781<>\"\",'CO2 konvertering'!$C$23,)","v":0},null,null,null,null,0]
[null,null,null,"Ja",null,null,null,null,"",null,"",{"$f":"IFERROR(VLOOKUP(F62911,Biomasser!$A$3:$E$88,4,FALSE),0)","v":0},null,{"$f":"IFERROR(VLOOKUP(F62911,Biomasser!$A$3:$E$88,5,FALSE),0)","v":0},"",0,null,null,{"$f":"IFERROR(VLOOKUP(F62911,Biomasser!$A$3:$M$88,13,FALSE),)","v":0},null,null,null,null,null,{"$f":"IF(F62911<>\"\",'CO2 konvertering'!$C$23,)","v":0},null,null,null,null,0]
[null,null,null,"Ja",null,null,null,null,"",null,"",{"$f":"IFERROR(VLOOKUP(F62933,Biomasser!$A$3:$E$88,4,FALSE),0)","v":0},null,{"$f":"IFERROR(VLOOKUP(F62933,Biomasser!$A$3:$E$88,5,FALSE),0)","v":0},"",0,null,null,{"$f":"IFERROR(VLOOKUP(F62933,Biomasser!$A$3:$M$88,13,FALSE),)","v":0},null,null,null,null,null,{"$f":"IF(F62933<>\"\",'CO2 konvertering'!$C$23,)","v":0},null,null,null,null,0]
[null,null,null,"Ja",null,null,null,null,"",null,"",{"$f":"IFERROR(VLOOKUP(F63068,Biomasser!$A$3:$E$88,4,FALSE),0)","v":0},null,{"$f":"IFERROR(VLOOKUP(F63068,Biomasser!$A$3:$E$88,5,FALSE),0)","v":0},"",0,null,null,{"$f":"IFERROR(VLOOKUP(F63068,Biomasser!$A$3:$M$88,13,FALSE),)","v":0},null,null,null,null,null,{"$f":"IF(F63068<>\"\",'CO2 konvertering'!$C$23,)","v":0},null,null,null,null,0]
[]
[null,null,null,"Ja",null,null,null,null,"",null,"",{"$f":"IFERROR(VLOOKUP(F63149,Biomasser!$A$3:$E$88,4,FALSE),0)","v":0},null,{"$f":"IFERROR(VLOOKUP(F63149,Biomasser!$A$3:$E$88,5,FALSE),0)","v":0},"",0,null,null,{"$f":"IFERROR(VLOOKUP(F63149,Biomasser!$A$3:$M$88,13,FALSE),)","v":0},null,null,null,null,null,{"$f":"IF(F63149<>\"\",'CO2 konvertering'!$C$23,)","v":0},null,null,null,null,0]
[null,null,null,"Ja",null,null,null,null,"",null,"",{"$f":"IFERROR(VLOOKUP(F63266,Biomasser!$A$3:$E$88,4,FALSE),0)","v":0},null,{"$f":"IFERROR(VLOOKUP(F63266,Biomasser!$A$3:$E$88,5,FALSE),0)","v":0},"",0,null,null,{"$f":"IFERROR(VLOOKUP(F63266,Biomasser!$A$3:$M$88,13,FALSE),)","v":0},null,null,null,null,null,{"$f":"IF(F63266<>\"\",'CO2 konvertering'!$C$23,)","v":0},null,null,null,null,0]
[null,null,null,"Ja",null,null,null,null,"",null,"",{"$f":"IFERROR(VLOOKUP(F63306,Biomasser!$A$3:$E$88,4,FALSE),0)","v":0},null,{"$f":"IFERROR(VLOOKUP(F63306,Biomasser!$A$3:$E$88,5,FALSE),0)","v":0},"",0,null,null,{"$f":"IFERROR(VLOOKUP(F63306,Biomasser!$A$3:$M$88,13,FALSE),)","v":0},null,null,null,null,null,{"$f":"IF(F63306<>\"\",'CO2 konvertering'!$C$23,)","v":0},null,null,null,null,0]
[null,null,null,"Ja",null,null,null,null,"",null,"",{"$f":"IFERROR(VLOOKUP(F63418,Biomasser!$A$3:$E$88,4,FALSE),0)","v":0},null,{"$f":"IFERROR(VLOOKUP(F63418,Biomasser!$A$3:$E$88,5,FALSE),0)","v":0},"",0,null,null,{"$f":"IFERROR(VLOOKUP(F63418,Biomasser!$A$3:$M$88,13,FALSE),)","v":0},null,null,null,null,null,{"$f":"IF(F63418<>\"\",'CO2 konvertering'!$C$23,)","v":0},null,null,null,null,0]
[null,null,null,"Ja",null,null,null,null,{"$f":"IF(AND(F63495<>\"\",ISBLANK(H63495)),\"Indtast vægt\",\"\")","v":""},null,{"$f":"IF(AND(F63495<>\"\",ISBLANK(J63495)),\"Indtast tørstof %\",\"\")","v":""},{"$f":"IFERROR(VLOOKUP(F63495,Biomasser!$A$3:$E$88,4,FALSE),0)","v":0},null,{"$f":"IFERROR(VLOOKUP(F63495,Biomasser!$A$3:$E$88,5,FALSE),0)","v":0},"",0,null,null,{"$f":"IFERROR(VLOOKUP(F63495,Biomasser!$A$3:$M$88,13,FALSE),)","v":0},null,null,null,null,null,{"$f":"IF(F63495<>\"\",'CO2 konvertering'!$C$23,)","v":0},null,null,null,null,0]
[null,null,null,"Ja",null,null,null,null,"",null,"",{"$f":"IFERROR(VLOOKUP(F63570,Biomasser!$A$3:$E$88,4,FALSE),0)","v":0},null,{"$f":"IFERROR(VLOOKUP(F63570,Biomasser!$A$3:$E$88,5,FALSE),0)","v":0},"",0,null,null,{"$f":"IFERROR(VLOOKUP(F63570,Biomasser!$A$3:$M$88,13,FALSE),)","v":0},null,null,null,null,null,{"$f":"IF(F63570<>\"\",'CO2 konvertering'!$C$23,)","v":0},null,null,null,null,0]
[null,null,null,"Ja",null,null,null,null,"",null,"",{"$f":"IFERROR(VLOOKUP(F63652,Biomasser!$A$3:$E$88,4,FALSE),0)","v":0},null,{"$f":"IFERROR(VLOOKUP(F63652,Biomasser!$A$3:$E$88,5,FALSE),0)","v":0},"",0,null,null,{"$f":"IFERROR(VLOOKUP(F63652,Biomasser!$A$3:$M$88,13,FALSE),)","v":0},null,null,null,null,null,{"$f":"IF(F63652<>\"\",'CO2 konvertering'!$C$23,)","v":0},null,null,null,null,0]
[null,null,null,"Ja",null,null,null,null,"",null,"",{"$f":"IFERROR(VLOOKUP(F63722,Biomasser!$A$3:$E$88,4,FALSE),0)","v":0},null,{"$f":"IFERROR(VLOOKUP(F63722,Biomasser!$A$3:$E$88,5,FALSE),0)","v":0},"",0,null,null,{"$f":"IFERROR(VLOOKUP(F63722,Biomasser!$A$3:$M$88,13,FALSE),)","v":0},null,null,null,null,null,{"$f":"IF(F63722<>\"\",'CO2 konvertering'!$C$23,)","v":0},null,null,null,null,0]
[null,null,null,"Ja",null,null,null,null,"",null,"",{"$f":"IFERROR(VLOOKUP(F63809,Biomasser!$A$3:$E$88,4,FALSE),0)","v":0},null,{"$f":"IFERROR(VLOOKUP(F63809,Biomasser!$A$3:$E$88,5,FALSE),0)","v":0},"",{"$f":"J63809*L63809*N63809*H63809","v":0},null,null,{"$f":"IFERROR(VLOOKUP(F63809,Biomasser!$A$3:$M$88,13,FALSE),)","v":0},null,null,null,null,null,{"$f":"IF(F63809<>\"\",'CO2 konvertering'!$C$23,)","v":0},null,null,null,null,{"$f":"SUM(S63809:AC63809)","v":0}]
[null,null,null,"Ja",null,null,null,null,"",null,"",{"$f":"IFERROR(VLOOKUP(F63828,Biomasser!$A$3:$E$88,4,FALSE),0)","v":0},null,{"$f":"IFERROR(VLOOKUP(F63828,Biomasser!$A$3:$E$88,5,FALSE),0)","v":0},"",0,null,null,{"$f":"IFERROR(VLOOKUP(F63828,Biomasser!$A$3:$M$88,13,FALSE),)","v":0},null,null,null,null,null,{"$f":"IF(F63828<>\"\",'CO2 konvertering'!$C$23,)","v":0},null,null,null,null,0]
[null,null,null,"Ja",null,null,null,null,"",null,"",{"$f":"IFERROR(VLOOKUP(F63966,Biomasser!$A$3:$E$88,4,FALSE),0)","v":0},null,{"$f":"IFERROR(VLOOKUP(F63966,Biomasser!$A$3:$E$88,5,FALSE),0)","v":0},"",0,null,null,{"$f":"IFERROR(VLOOKUP(F63966,Biomasser!$A$3:$M$88,13,FALSE),)","v":0},null,null,null,null,null,{"$f":"IF(F63966<>\"\",'CO2 konvertering'!$C$23,)","v":0},null,null,null,null,0]
[null,null,null,"Ja",null,null,null,null,"",null,"",{"$f":"IFERROR(VLOOKUP(F63980,Biomasser!$A$3:$E$88,4,FALSE),0)","v":0},null,{"$f":"IFERROR(VLOOKUP(F63980,Biomasser!$A$3:$E$88,5,FALSE),0)","v":0},"",0,null,null,{"$f":"IFERROR(VLOOKUP(F63980,Biomasser!$A$3:$M$88,13,FALSE),)","v":0},null,null,null,null,null,{"$f":"IF(F63980<>\"\",'CO2 konvertering'!$C$23,)","v":0},null,null,null,null,0]
[null,null,null,"Ja",null,null,null,null,"",null,"",{"$f":"IFERROR(VLOOKUP(F64079,Biomasser!$A$3:$E$88,4,FALSE),0)","v":0},null,{"$f":"IFERROR(VLOOKUP(F64079,Biomasser!$A$3:$E$88,5,FALSE),0)","v":0},"",0,null,null,{"$f":"IFERROR(VLOOKUP(F64079,Biomasser!$A$3:$M$88,13,FALSE),)","v":0},null,null,null,null,null,{"$f":"IF(F64079<>\"\",'CO2 konvertering'!$C$23,)","v":0},null,null,null,null,0]
[null,null,null,"Ja",null,null,null,null,"",null,"",{"$f":"IFERROR(VLOOKUP(F64132,Biomasser!$A$3:$E$88,4,FALSE),0)","v":0},null,{"$f":"IFERROR(VLOOKUP(F64132,Biomasser!$A$3:$E$88,5,FALSE),0)","v":0},"",0,null,null,{"$f":"IFERROR(VLOOKUP(F64132,Biomasser!$A$3:$M$88,13,FALSE),)","v":0},null,null,null,null,null,{"$f":"IF(F64132<>\"\",'CO2 konvertering'!$C$23,)","v":0},null,null,null,null,0]
[null,null,null,"Ja",null,null,null,null,"",null,"",{"$f":"IFERROR(VLOOKUP(F64236,Biomasser!$A$3:$E$88,4,FALSE),0)","v":0},null,{"$f":"IFERROR(VLOOKUP(F64236,Biomasser!$A$3:$E$88,5,FALSE),0)","v":0},"",0,null,null,{"$f":"IFERROR(VLOOKUP(F64236,Biomasser!$A$3:$M$88,13,FALSE),)","v":0},null,null,null,null,null,{"$f":"IF(F64236<>\"\",'CO2 konvertering'!$C$23,)","v":0},null,null,null,null,0]
[null,null,null,"Ja",null,null,null,null,"",null,"",{"$f":"IFERROR(VLOOKUP(F64284,Biomasser!$A$3:$E$88,4,FALSE),0)","v":0},null,{"$f":"IFERROR(VLOOKUP(F64284,Biomasser!$A$3:$E$88,5,FALSE),0)","v":0},"",0,null,null,{"$f":"IFERROR(VLOOKUP(F64284,Biomasser!$A$3:$M$88,13,FALSE),)","v":0},null,null,null,null,null,{"$f":"IF(F64284<>\"\",'CO2 konvertering'!$C$23,)","v":0},null,null,null,null,0]
[null,null,null,"Ja",null,null,null,null,"",null,"",{"$f":"IFERROR(VLOOKUP(F64393,Biomasser!$A$3:$E$88,4,FALSE),0)","v":0},null,{"$f":"IFERROR(VLOOKUP(F64393,Biomasser!$A$3:$E$88,5,FALSE),0)","v":0},"",0,null,null,{"$f":"IFERROR(VLOOKUP(F64393,Biomasser!$A$3:$M$88,13,FALSE),)","v":0},null,null,null,null,null,{"$f":"IF(F64393<>\"\",'CO2 konvertering'!$C$23,)","v":0},null,null,null,null,0]
[null,null,null,"Ja",null,null,null,null,"",null,"",{"$f":"IFERROR(VLOOKUP(F64465,Biomasser!$A$3:$E$88,4,FALSE),0)","v":0},null,{"$f":"IFERROR(VLOOKUP(F64465,Biomasser!$A$3:$E$88,5,FALSE),0)","v":0},"",0,null,null,{"$f":"IFERROR(VLOOKUP(F64465,Biomasser!$A$3:$M$88,13,FALSE),)","v":0},null,null,null,null,null,{"$f":"IF(F64465<>\"\",'CO2 konvertering'!$C$23,)","v":0},null,null,null,null,0]
[null,null,null,"Ja",null,null,null,null,"",null,"",{"$f":"IFERROR(VLOOKUP(F64550,Biomasser!$A$3:$E$88,4,FALSE),0)","v":0},null,{"$f":"IFERROR(VLOOKUP(F64550,Biomasser!$A$3:$E$88,5,FALSE),0)","v":0},"",0,null,null,{"$f":"IFERROR(VLOOKUP(F64550,Biomasser!$A$3:$M$88,13,FALSE),)","v":0},null,null,null,null,null,{"$f":"IF(F64550<>\"\",'CO2 konvertering'!$C$23,)","v":0},null,null,null,null,0]
[null,null,null,"Ja",null,null,null,null,"",null,"",{"$f":"IFERROR(VLOOKUP(F64617,Biomasser!$A$3:$E$88,4,FALSE),0)","v":0},null,{"$f":"IFERROR(VLOOKUP(F64617,Biomasser!$A$3:$E$88,5,FALSE),0)","v":0},"",0,null,null,{"$f":"IFERROR(VLOOKUP(F64617,Biomasser!$A$3:$M$88,13,FALSE),)","v":0},null,null,null,null,null,{"$f":"IF(F64617<>\"\",'CO2 konvertering'!$C$23,)","v":0},null,null,null,null,{"$f":"SUM(S64617:AC64617)","v":0}]
[null,null,null,"Ja",null,null,null,null,"",null,"",{"$f":"IFERROR(VLOOKUP(F64663,Biomasser!$A$3:$E$88,4,FALSE),0)","v":0},null,{"$f":"IFERROR(VLOOKUP(F64663,Biomasser!$A$3:$E$88,5,FALSE),0)","v":0},"",0,null,null,{"$f":"IFERROR(VLOOKUP(F64663,Biomasser!$A$3:$M$88,13,FALSE),)","v":0},null,null,null,null,null,{"$f":"IF(F64663<>\"\",'CO2 konvertering'!$C$23,)","v":0},null,null,null,null,0]
[null,null,null,"Ja",null,null,null,null,"",null,"",{"$f":"IFERROR(VLOOKUP(F64769,Biomasser!$A$3:$E$88,4,FALSE),0)","v":0},null,{"$f":"IFERROR(VLOOKUP(F64769,Biomasser!$A$3:$E$88,5,FALSE),0)","v":0},"",0,null,null,{"$f":"IFERROR(VLOOKUP(F64769,Biomasser!$A$3:$M$88,13,FALSE),)","v":0},null,null,null,null,null,{"$f":"IF(F64769<>\"\",'CO2 konvertering'!$C$23,)","v":0},null,null,null,null,0]
[null,null,null,"Ja",null,null,null,null,"",null,"",{"$f":"IFERROR(VLOOKUP(F64820,Biomasser!$A$3:$E$88,4,FALSE),0)","v":0},null,{"$f":"IFERROR(VLOOKUP(F64820,Biomasser!$A$3:$E$88,5,FALSE),0)","v":0},"",0,null,null,{"$f":"IFERROR(VLOOKUP(F64820,Biomasser!$A$3:$M$88,13,FALSE),)","v":0},null,null,null,null,null,{"$f":"IF(F64820<>\"\",'CO2 konvertering'!$C$23,)","v":0},null,null,null,null,0]
[null,null,null,"Ja",null,null,null,null,"",null,"",{"$f":"IFERROR(VLOOKUP(F64921,Biomasser!$A$3:$E$88,4,FALSE),0)","v":0},null,{"$f":"IFERROR(VLOOKUP(F64921,Biomasser!$A$3:$E$88,5,FALSE),0)","v":0},"",0,null,null,{"$f":"IFERROR(VLOOKUP(F64921,Biomasser!$A$3:$M$88,13,FALSE),)","v":0},null,null,null,null,null,{"$f":"IF(F64921<>\"\",'CO2 konvertering'!$C$23,)","v":0},null,null,null,null,0]
[null,null,null,"Ja",null,null,null,null,"",null,"",{"$f":"IFERROR(VLOOKUP(F64977,Biomasser!$A$3:$E$88,4,FALSE),0)","v":0},null,{"$f":"IFERROR(VLOOKUP(F64977,Biomasser!$A$3:$E$88,5,FALSE),0)","v":0},"",0,null,null,{"$f":"IFERROR(VLOOKUP(F64977,Biomasser!$A$3:$M$88,13,FALSE),)","v":0},null,null,null,null,null,{"$f":"IF(F64977<>\"\",'CO2 konvertering'!$C$23,)","v":0},null,null,null,null,0]
[null,null,null,"Ja",null,null,null,null,"",null,"",{"$f":"IFERROR(VLOOKUP(F65102,Biomasser!$A$3:$E$88,4,FALSE),0)","v":0},null,{"$f":"IFERROR(VLOOKUP(F65102,Biomasser!$A$3:$E$88,5,FALSE),0)","v":0},"",0,null,null,{"$f":"IFERROR(VLOOKUP(F65102,Biomasser!$A$3:$M$88,13,FALSE),)","v":0},null,null,null,null,null,{"$f":"IF(F65102<>\"\",'CO2 konvertering'!$C$23,)","v":0},null,null,null,null,0]
[null,null,null,"Ja",null,null,null,null,"",null,"",{"$f":"IFERROR(VLOOKUP(F65134,Biomasser!$A$3:$E$88,4,FALSE),0)","v":0},null,{"$f":"IFERROR(VLOOKUP(F65134,Biomasser!$A$3:$E$88,5,FALSE),0)","v":0},"",0,null,null,{"$f":"IFERROR(VLOOKUP(F65134,Biomasser!$A$3:$M$88,13,FALSE),)","v":0},null,null,null,null,null,{"$f":"IF(F65134<>\"\",'CO2 konvertering'!$C$23,)","v":0},null,null,null,null,0]
[null,null,null,"Ja",null,null,null,null,"",null,"",{"$f":"IFERROR(VLOOKUP(F65191,Biomasser!$A$3:$E$88,4,FALSE),0)","v":0},null,{"$f":"IFERROR(VLOOKUP(F65191,Biomasser!$A$3:$E$88,5,FALSE),0)","v":0},"",0,null,null,{"$f":"IFERROR(VLOOKUP(F65191,Biomasser!$A$3:$M$88,13,FALSE),)","v":0},null,null,null,null,null,{"$f":"IF(F65191<>\"\",'CO2 konvertering'!$C$23,)","v":0},null,null,null,null,0]
[null,"Dato:",null,null,null,"Mængde biomasse (Ton)",null,"Gasproduktion"]
[null,null,null,"Ja",null,null,null,null,"",null,"",{"$f":"IFERROR(VLOOKUP(F65348,Biomasser!$A$3:$E$88,4,FALSE),0)","v":0},null,{"$f":"IFERROR(VLOOKUP(F65348,Biomasser!$A$3:$E$88,5,FALSE),0)","v":0},"",0,null,null,{"$f":"IFERROR(VLOOKUP(F65348,Biomasser!$A$3:$M$88,13,FALSE),)","v":0},null,null,null,null,null,{"$f":"IF(F65348<>\"\",'CO2 konvertering'!$C$23,)","v":0},null,null,null,null,0]
["Gas","15. september",2016,null,null,{"$f":"SUM(H65425:H65525)","v":0},null,null,"m3 CH4"]
[null,null,null,"Ja",null,null,null,null,"",null,"",{"$f":"IFERROR(VLOOKUP(F65505,Biomasser!$A$3:$E$88,4,FALSE),0)","v":0},null,{"$f":"IFERROR(VLOOKUP(F65505,Biomasser!$A$3:$E$88,5,FALSE),0)","v":0},"",0,null,null,{"$f":"IFERROR(VLOOKUP(F65505,Biomasser!$A$3:$M$88,13,FALSE),)","v":0},null,null,null,null,null,{"$f":"IF(F65505<>\"\",'CO2 konvertering'!$C$23,)","v":0},null,null,null,null,0]
[null,null,null,"Ja",null,null,null,null,"",null,"",{"$f":"IFERROR(VLOOKUP(F65574,Biomasser!$A$3:$E$88,4,FALSE),0)","v":0},null,{"$f":"IFERROR(VLOOKUP(F65574,Biomasser!$A$3:$E$88,5,FALSE),0)","v":0},"",0,null,null,{"$f":"IFERROR(VLOOKUP(F65574,Biomasser!$A$3:$M$88,13,FALSE),)","v":0},null,null,null,null,null,{"$f":"IF(F65574<>\"\",'CO2 konvertering'!$C$23,)","v":0},null,null,null,null,0]
[null,null,null,"Ja",null,null,null,null,"",null,"",{"$f":"IFERROR(VLOOKUP(F65694,Biomasser!$A$3:$E$88,4,FALSE),0)","v":0},null,{"$f":"IFERROR(VLOOKUP(F65694,Biomasser!$A$3:$E$88,5,FALSE),0)","v":0},"",0,null,null,{"$f":"IFERROR(VLOOKUP(F65694,Biomasser!$A$3:$M$88,13,FALSE),)","v":0},null,null,null,null,null,{"$f":"IF(F65694<>\"\",'CO2 konvertering'!$C$23,)","v":0},null,null,null,null,0]
[null,null,null,"Ja",null,null,null,null,"",null,"",{"$f":"IFERROR(VLOOKUP(F65726,Biomasser!$A$3:$E$88,4,FALSE),0)","v":0},null,{"$f":"IFERROR(VLOOKUP(F65726,Biomasser!$A$3:$E$88,5,FALSE),0)","v":0},"",0,null,null,{"$f":"IFERROR(VLOOKUP(F65726,Biomasser!$A$3:$M$88,13,FALSE),)","v":0},null,null,null,null,null,{"$f":"IF(F65726<>\"\",'CO2 konvertering'!$C$23,)","v":0},null,null,null,null,0]
[null,null,null,"Ja",null,null,null,null,"",null,"",{"$f":"IFERROR(VLOOKUP(F65851,Biomasser!$A$3:$E$88,4,FALSE),0)","v":0},null,{"$f":"IFERROR(VLOOKUP(F65851,Biomasser!$A$3:$E$88,5,FALSE),0)","v":0},"",0,null,null,{"$f":"IFERROR(VLOOKUP(F65851,Biomasser!$A$3:$M$88,13,FALSE),)","v":0},null,null,null,null,null,{"$f":"IF(F65851<>\"\",'CO2 konvertering'!$C$23,)","v":0},null,null,null,null,0]
[null,null,null,"Ja",null,null,null,null,"",null,"",{"$f":"IFERROR(VLOOKUP(F65878,Biomasser!$A$3:$E$88,4,FALSE),0)","v":0},null,{"$f":"IFERROR(VLOOKUP(F65878,Biomasser!$A$3:$E$88,5,FALSE),0)","v":0},"",0,null,null,{"$f":"IFERROR(VLOOKUP(F65878,Biomasser!$A$3:$M$88,13,FALSE),)","v":0},null,null,null,null,null,{"$f":"IF(F65878<>\"\",'CO2 konvertering'!$C$23,)","v":0},null,null,null,null,0]
[null,null,null,"Ja",null,null,null,null,"",null,"",{"$f":"IFERROR(VLOOKUP(F66008,Biomasser!$A$3:$E$88,4,FALSE),0)","v":0},null,{"$f":"IFERROR(VLOOKUP(F66008,Biomasser!$A$3:$E$88,5,FALSE),0)","v":0},"",0,null,null,{"$f":"IFERROR(VLOOKUP(F66008,Biomasser!$A$3:$M$88,13,FALSE),)","v":0},null,null,null,null,null,{"$f":"IF(F66008<>\"\",'CO2 konvertering'!$C$23,)","v":0},null,null,null,null,0]
[null,null,null,"Ja",null,null,null,null,"",null,"",{"$f":"IFERROR(VLOOKUP(F66059,Biomasser!$A$3:$E$88,4,FALSE),0)","v":0},null,{"$f":"IFERROR(VLOOKUP(F66059,Biomasser!$A$3:$E$88,5,FALSE),0)","v":0},{"$f":"IF(AND(F66059<>\"\",(N66059=0)),\"Opdater biomasseark\",\"\")","v":""},0,null,null,{"$f":"IFERROR(VLOOKUP(F66059,Biomasser!$A$3:$M$88,13,FALSE),)","v":0},null,null,null,null,null,{"$f":"IF(F66059<>\"\",'CO2 konvertering'!$C$23,)","v":0},null,null,null,null,0]
[null,null,null,"Ja",null,null,null,null,"",null,"",{"$f":"IFERROR(VLOOKUP(F66165,Biomasser!$A$3:$E$88,4,FALSE),0)","v":0},null,{"$f":"IFERROR(VLOOKUP(F66165,Biomasser!$A$3:$E$88,5,FALSE),0)","v":0},"",0,null,null,{"$f":"IFERROR(VLOOKUP(F66165,Biomasser!$A$3:$M$88,13,FALSE),)","v":0},null,null,null,null,null,{"$f":"IF(F66165<>\"\",'CO2 konvertering'!$C$23,)","v":0},null,null,null,null,0]
[null,null,null,"Ja",null,null,null,null,"",null,"",{"$f":"IFERROR(VLOOKUP(F66211,Biomasser!$A$3:$E$88,4,FALSE),0)","v":0},null,{"$f":"IFERROR(VLOOKUP(F66211,Biomasser!$A$3:$E$88,5,FALSE),0)","v":0},"",0,null,null,{"$f":"IFERROR(VLOOKUP(F66211,Biomasser!$A$3:$M$88,13,FALSE),)","v":0},null,null,null,null,null,{"$f":"IF(F66211<>\"\",'CO2 konvertering'!$C$23,)","v":0},null,null,null,null,0]
[null,null,null,"Ja",null,null,null,null,"",null,"",{"$f":"IFERROR(VLOOKUP(F66246,Biomasser!$A$3:$E$88,4,FALSE),0)","v":0},null,{"$f":"IFERROR(VLOOKUP(F66246,Biomasser!$A$3:$E$88,5,FALSE),0)","v":0},"",0,null,null,{"$f":"IFERROR(VLOOKUP(F66246,Biomasser!$A$3:$M$88,13,FALSE),)","v":0},null,null,null,null,null,{"$f":"IF(F66246<>\"\",'CO2 konvertering'!$C$23,)","v":0},null,null,null,null,0]
[null,null,null,"Ja",null,null,null,null,"",null,"",{"$f":"IFERROR(VLOOKUP(F66363,Biomasser!$A$3:$E$88,4,FALSE),0)","v":0},null,{"$f":"IFERROR(VLOOKUP(F66363,Biomasser!$A$3:$E$88,5,FALSE),0)","v":0},"",0,null,null,{"$f":"IFERROR(VLOOKUP(F66363,Biomasser!$A$3:$M$88,13,FALSE),)","v":0},null,null,null,null,null,{"$f":"IF(F66363<>\"\",'CO2 konvertering'!$C$23,)","v":0},null,null,null,null,0]
[null,null,null,"Ja",null,null,null,null,{"$f":"IF(AND(F66435<>\"\",ISBLANK(H66435)),\"Indtast vægt\",\"\")","v":""},null,{"$f":"IF(AND(F66435<>\"\",ISBLANK(J66435)),\"Indtast tørstof %\",\"\")","v":""},{"$f":"IFERROR(VLOOKUP(F66435,Biomasser!$A$3:$E$88,4,FALSE),0)","v":0},null,{"$f":"IFERROR(VLOOKUP(F66435,Biomasser!$A$3:$E$88,5,FALSE),0)","v":0},"",0,null,null,{"$f":"IFERROR(VLOOKUP(F66435,Biomasser!$A$3:$M$88,13,FALSE),)","v":0},null,null,null,null,null,{"$f":"IF(F66435<>\"\",'CO2 konvertering'!$C$23,)","v":0},null,null,null,null,0]
[null,null,null,"Ja",null,null,null,null,"",null,"",{"$f":"IFERROR(VLOOKUP(F66515,Biomasser!$A$3:$E$88,4,FALSE),0)","v":0},null,{"$f":"IFERROR(VLOOKUP(F66515,Biomasser!$A$3:$E$88,5,FALSE),0)","v":0},"",0,null,null,{"$f":"IFERROR(VLOOKUP(F66515,Biomasser!$A$3:$M$88,13,FALSE),)","v":0},null,null,null,null,null,{"$f":"IF(F66515<>\"\",'CO2 konvertering'!$C$23,)","v":0},null,null,null,null,0]
[null,null,null,"Ja",null,null,null,null,"",null,"",{"$f":"IFERROR(VLOOKUP(F66592,Biomasser!$A$3:$E$88,4,FALSE),0)","v":0},null,{"$f":"IFERROR(VLOOKUP(F66592,Biomasser!$A$3:$E$88,5,FALSE),0)","v":0},"",0,null,null,{"$f":"IFERROR(VLOOKUP(F66592,Biomasser!$A$3:$M$88,13,FALSE),)","v":0},null,null,null,null,null,{"$f":"IF(F66592<>\"\",'CO2 konvertering'!$C$23,)","v":0},null,null,null,null,0]
[null,null,null,"Ja",null,null,null,null,"",null,"",{"$f":"IFERROR(VLOOKUP(F66621,Biomasser!$A$3:$E$88,4,FALSE),0)","v":0},null,{"$f":"IFERROR(VLOOKUP(F66621,Biomasser!$A$3:$E$88,5,FALSE),0)","v":0},"",0,null,null,{"$f":"IFERROR(VLOOKUP(F66621,Biomasser!$A$3:$M$88,13,FALSE),)","v":0},null,null,null,null,null,{"$f":"IF(F66621<>\"\",'CO2 konvertering'!$C$23,)","v":0},null,null,null,null,0]
[null,null,null,"Ja",null,null,null,null,"",null,"",{"$f":"IFERROR(VLOOKUP(F66749,Biomasser!$A$3:$E$88,4,FALSE),0)","v":0},null,{"$f":"IFERROR(VLOOKUP(F66749,Biomasser!$A$3:$E$88,5,FALSE),0)","v":0},"",{"$f":"J66749*L66749*N66749*H66749","v":0},null,null,{"$f":"IFERROR(VLOOKUP(F66749,Biomasser!$A$3:$M$88,13,FALSE),)","v":0},null,null,null,null,null,{"$f":"IF(F66749<>\"\",'CO2 konvertering'!$C$23,)","v":0},null,null,null,null,{"$f":"SUM(S66749:AC66749)","v":0}]
[null,null,null,"Ja",null,null,null,null,"",null,"",{"$f":"IFERROR(VLOOKUP(F66773,Biomasser!$A$3:$E$88,4,FALSE),0)","v":0},null,{"$f":"IFERROR(VLOOKUP(F66773,Biomasser!$A$3:$E$88,5,FALSE),0)","v":0},"",0,null,null,{"$f":"IFERROR(VLOOKUP(F66773,Biomasser!$A$3:$M$88,13,FALSE),)","v":0},null,null,null,null,null,{"$f":"IF(F66773<>\"\",'CO2 konvertering'!$C$23,)","v":0},null,null,null,null,0]
[null,null,null,"Ja",null,null,null,null,"",null,"",{"$f":"IFERROR(VLOOKUP(F66906,Biomasser!$A$3:$E$88,4,FALSE),0)","v":0},null,{"$f":"IFERROR(VLOOKUP(F66906,Biomasser!$A$3:$E$88,5,FALSE),0)","v":0},"",0,null,null,{"$f":"IFERROR(VLOOKUP(F66906,Biomasser!$A$3:$M$88,13,FALSE),)","v":0},null,null,null,null,null,{"$f":"IF(F66906<>\"\",'CO2 konvertering'!$C$23,)","v":0},null,null,null,null,0]
[null,null,null,"Ja",null,null,null,null,"",null,"",{"$f":"IFERROR(VLOOKUP(F66925,Biomasser!$A$3:$E$88,4,FALSE),0)","v":0},null,{"$f":"IFERROR(VLOOKUP(F66925,Biomasser!$A$3:$E$88,5,FALSE),0)","v":0},"",0,null,null,{"$f":"IFERROR(VLOOKUP(F66925,Biomasser!$A$3:$M$88,13,FALSE),)","v":0},null,null,null,null,null,{"$f":"IF(F66925<>\"\",'CO2 konvertering'!$C$23,)","v":0},null,null,null,null,0]
[null,null,null,"Ja",null,null,null,null,"",null,"",{"$f":"IFERROR(VLOOKUP(F67019,Biomasser!$A$3:$E$88,4,FALSE),0)","v":0},null,{"$f":"IFERROR(VLOOKUP(F67019,Biomasser!$A$3:$E$88,5,FALSE),0)","v":0},"",0,null,null,{"$f":"IFERROR(VLOOKUP(F67019,Biomasser!$A$3:$M$88,13,FALSE),)","v":0},null,null,null,null,null,{"$f":"IF(F67019<>\"\",'CO2 konvertering'!$C$23,)","v":0},null,null,null,null,0]
[null,null,null,"Ja",null,null,null,null,"",null,"",{"$f":"IFERROR(VLOOKUP(F67077,Biomasser!$A$3:$E$88,4,FALSE),0)","v":0},null,{"$f":"IFERROR(VLOOKUP(F67077,Biomasser!$A$3:$E$88,5,FALSE),0)","v":0},"",0,null,null,{"$f":"IFERROR(VLOOKUP(F67077,Biomasser!$A$3:$M$88,13,FALSE),)","v":0},null,null,null,null,null,{"$f":"IF(F67077<>\"\",'CO2 konvertering'!$C$23,)","v":0},null,null,null,null,0]
[null,null,null,"Ja",null,null,null,null,"",null,"",{"$f":"IFERROR(VLOOKUP(F67176,Biomasser!$A$3:$E$88,4,FALSE),0)","v":0},null,{"$f":"IFERROR(VLOOKUP(F67176,Biomasser!$A$3:$E$88,5,FALSE),0)","v":0},"",0,null,null,{"$f":"IFERROR(VLOOKUP(F67176,Biomasser!$A$3:$M$88,13,FALSE),)","v":0},null,null,null,null,null,{"$f":"IF(F67176<>\"\",'CO2 konvertering'!$C$23,)","v":0},null,null,null,null,0]
[null,null,null,"Ja",null,null,null,null,"",null,"",{"$f":"IFERROR(VLOOKUP(F67258,Biomasser!$A$3:$E$88,4,FALSE),0)","v":0},null,{"$f":"IFERROR(VLOOKUP(F67258,Biomasser!$A$3:$E$88,5,FALSE),0)","v":0},"",0,null,null,{"$f":"IFERROR(VLOOKUP(F67258,Biomasser!$A$3:$M$88,13,FALSE),)","v":0},null,null,null,null,null,{"$f":"IF(F67258<>\"\",'CO2 konvertering'!$C$23,)","v":0},null,null,null,null,0]
[null,null,null,"Ja",null,null,null,null,"",null,"",{"$f":"IFERROR(VLOOKUP(F67333,Biomasser!$A$3:$E$88,4,FALSE),0)","v":0},null,{"$f":"IFERROR(VLOOKUP(F67333,Biomasser!$A$3:$E$88,5,FALSE),0)","v":0},"",0,null,null,{"$f":"IFERROR(VLOOKUP(F67333,Biomasser!$A$3:$M$88,13,FALSE),)","v":0},null,null,null,null,null,{"$f":"IF(F67333<>\"\",'CO2 konvertering'!$C$23,)","v":0},null,null,null,null,0]
[null,null,null,"Ja",null,null,null,null,"",null,"",{"$f":"IFERROR(VLOOKUP(F67410,Biomasser!$A$3:$E$88,4,FALSE),0)","v":0},null,{"$f":"IFERROR(VLOOKUP(F67410,Biomasser!$A$3:$E$88,5,FALSE),0)","v":0},"",0,null,null,{"$f":"IFERROR(VLOOKUP(F67410,Biomasser!$A$3:$M$88,13,FALSE),)","v":0},null,null,null,null,null,{"$f":"IF(F67410<>\"\",'CO2 konvertering'!$C$23,)","v":0},null,null,null,null,0]
[null,null,null,"Ja",null,null,null,null,"",null,"",{"$f":"IFERROR(VLOOKUP(F67490,Biomasser!$A$3:$E$88,4,FALSE),0)","v":0},null,{"$f":"IFERROR(VLOOKUP(F67490,Biomasser!$A$3:$E$88,5,FALSE),0)","v":0},"",0,null,null,{"$f":"IFERROR(VLOOKUP(F67490,Biomasser!$A$3:$M$88,13,FALSE),)","v":0},null,null,null,null,null,{"$f":"IF(F67490<>\"\",'CO2 konvertering'!$C$23,)","v":0},null,null,null,null,0]
[null,null,null,"Ja",null,null,null,null,"",null,"",{"$f":"IFERROR(VLOOKUP(F67562,Biomasser!$A$3:$E$88,4,FALSE),0)","v":0},null,{"$f":"IFERROR(VLOOKUP(F67562,Biomasser!$A$3:$E$88,5,FALSE),0)","v":0},"",0,null,null,{"$f":"IFERROR(VLOOKUP(F67562,Biomasser!$A$3:$M$88,13,FALSE),)","v":0},null,null,null,null,null,{"$f":"IF(F67562<>\"\",'CO2 konvertering'!$C$23,)","v":0},null,null,null,null,0]
[null,null,null,"Ja",null,null,null,null,"",null,"",{"$f":"IFERROR(VLOOKUP(F67603,Biomasser!$A$3:$E$88,4,FALSE),0)","v":0},null,{"$f":"IFERROR(VLOOKUP(F67603,Biomasser!$A$3:$E$88,5,FALSE),0)","v":0},"",0,null,null,{"$f":"IFERROR(VLOOKUP(F67603,Biomasser!$A$3:$M$88,13,FALSE),)","v":0},null,null,null,null,null,{"$f":"IF(F67603<>\"\",'CO2 konvertering'!$C$23,)","v":0},null,null,null,null,0]
[null,null,null,"Ja",null,null,null,null,"",null,"",{"$f":"IFERROR(VLOOKUP(F67714,Biomasser!$A$3:$E$88,4,FALSE),0)","v":0},null,{"$f":"IFERROR(VLOOKUP(F67714,Biomasser!$A$3:$E$88,5,FALSE),0)","v":0},"",0,null,null,{"$f":"IFERROR(VLOOKUP(F67714,Biomasser!$A$3:$M$88,13,FALSE),)","v":0},null,null,null,null,null,{"$f":"IF(F67714<>\"\",'CO2 konvertering'!$C$23,)","v":0},null,null,null,null,0]
[null,null,null,"Ja",null,null,null,null,"",null,"",{"$f":"IFERROR(VLOOKUP(F67760,Biomasser!$A$3:$E$88,4,FALSE),0)","v":0},null,{"$f":"IFERROR(VLOOKUP(F67760,Biomasser!$A$3:$E$88,5,FALSE),0)","v":0},"",0,null,null,{"$f":"IFERROR(VLOOKUP(F67760,Biomasser!$A$3:$M$88,13,FALSE),)","v":0},null,null,null,null,null,{"$f":"IF(F67760<>\"\",'CO2 konvertering'!$C$23,)","v":0},null,null,null,null,0]
[null,null,null,"Ja",null,null,null,null,"",null,"",{"$f":"IFERROR(VLOOKUP(F67866,Biomasser!$A$3:$E$88,4,FALSE),0)","v":0},null,{"$f":"IFERROR(VLOOKUP(F67866,Biomasser!$A$3:$E$88,5,FALSE),0)","v":0},"",0,null,null,{"$f":"IFERROR(VLOOKUP(F67866,Biomasser!$A$3:$M$88,13,FALSE),)","v":0},null,null,null,null,null,{"$f":"IF(F67866<>\"\",'CO2 konvertering'!$C$23,)","v":0},null,null,null,null,0]
[null,null,null,"Ja",null,null,null,null,"",null,"",{"$f":"IFERROR(VLOOKUP(F67917,Biomasser!$A$3:$E$88,4,FALSE),0)","v":0},null,{"$f":"IFERROR(VLOOKUP(F67917,Biomasser!$A$3:$E$88,5,FALSE),0)","v":0},"",0,null,null,{"$f":"IFERROR(VLOOKUP(F67917,Biomasser!$A$3:$M$88,13,FALSE),)","v":0},null,null,null,null,null,{"$f":"IF(F67917<>\"\",'CO2 konvertering'!$C$23,)","v":0},null,null,null,null,0]
["Gas","10. oktober",2016,null,null,{"$f":"SUM(H68050:H68150)","v":0},null,null,"m3 CH4"]
[null,null,null,"Ja",null,null,null,null,"",null,"",{"$f":"IFERROR(VLOOKUP(F68074,Biomasser!$A$3:$E$88,4,FALSE),0)","v":0},null,{"$f":"IFERROR(VLOOKUP(F68074,Biomasser!$A$3:$E$88,5,FALSE),0)","v":0},"",0,null,null,{"$f":"IFERROR(VLOOKUP(F68074,Biomasser!$A$3:$M$88,13,FALSE),)","v":0},null,null,null,null,null,{"$f":"IF(F68074<>\"\",'CO2 konvertering'!$C$23,)","v":0},null,null,null,null,0]
[null,null,null,"Ja",null,null,null,null,"",null,"",{"$f":"IFERROR(VLOOKUP(F68199,Biomasser!$A$3:$E$88,4,FALSE),0)","v":0},null,{"$f":"IFERROR(VLOOKUP(F68199,Biomasser!$A$3:$E$88,5,FALSE),0)","v":0},"",0,null,null,{"$f":"IFERROR(VLOOKUP(F68199,Biomasser!$A$3:$M$88,13,FALSE),)","v":0},null,null,null,null,null,{"$f":"IF(F68199<>\"\",'CO2 konvertering'!$C$23,)","v":0},null,null,null,null,0]
[null,null,null,"Ja",null,null,null,null,"",null,"",{"$f":"IFERROR(VLOOKUP(F68263,Biomasser!$A$3:$E$88,4,FALSE),0)","v":0},null,{"$f":"IFERROR(VLOOKUP(F68263,Biomasser!$A$3:$E$88,5,FALSE),0)","v":0},{"$f":"IF(AND(F68263<>\"\",(N68263=0)),\"Opdater biomasseark\",\"\")","v":""},0,null,null,{"$f":"IFERROR(VLOOKUP(F68263,Biomasser!$A$3:$M$88,13,FALSE),)","v":0},null,null,null,null,null,{"$f":"IF(F68263<>\"\",'CO2 konvertering'!$C$23,)","v":0},null,null,null,null,0]
[null,null,null,"Ja",null,null,null,null,"",null,"",{"$f":"IFERROR(VLOOKUP(F68351,Biomasser!$A$3:$E$88,4,FALSE),0)","v":0},null,{"$f":"IFERROR(VLOOKUP(F68351,Biomasser!$A$3:$E$88,5,FALSE),0)","v":0},"",0,null,null,{"$f":"IFERROR(VLOOKUP(F68351,Biomasser!$A$3:$M$88,13,FALSE),)","v":0},null,null,null,null,null,{"$f":"IF(F68351<>\"\",'CO2 konvertering'!$C$23,)","v":0},null,null,null,null,0]
[null,null,null,"Ja",null,null,null,null,"",null,"",{"$f":"IFERROR(VLOOKUP(F68420,Biomasser!$A$3:$E$88,4,FALSE),0)","v":0},null,{"$f":"IFERROR(VLOOKUP(F68420,Biomasser!$A$3:$E$88,5,FALSE),0)","v":0},"",0,null,null,{"$f":"IFERROR(VLOOKUP(F68420,Biomasser!$A$3:$M$88,13,FALSE),)","v":0},null,null,null,null,null,{"$f":"IF(F68420<>\"\",'CO2 konvertering'!$C$23,)","v":0},null,null,null,null,0]
[null,null,null,"Ja",null,null,null,null,"",null,"",{"$f":"IFERROR(VLOOKUP(F68503,Biomasser!$A$3:$E$88,4,FALSE),0)","v":0},null,{"$f":"IFERROR(VLOOKUP(F68503,Biomasser!$A$3:$E$88,5,FALSE),0)","v":0},"",0,null,null,{"$f":"IFERROR(VLOOKUP(F68503,Biomasser!$A$3:$M$88,13,FALSE),)","v":0},null,null,null,null,null,{"$f":"IF(F68503<>\"\",'CO2 konvertering'!$C$23,)","v":0},null,null,null,null,0]
[null,null,null,"Ja",null,null,null,null,"",null,"",{"$f":"IFERROR(VLOOKUP(F68577,Biomasser!$A$3:$E$88,4,FALSE),0)","v":0},null,{"$f":"IFERROR(VLOOKUP(F68577,Biomasser!$A$3:$E$88,5,FALSE),0)","v":0},"",0,null,null,{"$f":"IFERROR(VLOOKUP(F68577,Biomasser!$A$3:$M$88,13,FALSE),)","v":0},null,null,null,null,null,{"$f":"IF(F68577<>\"\",'CO2 konvertering'!$C$23,)","v":0},null,null,null,null,0]
[null,null,null,"Ja",null,null,null,null,"",null,"",{"$f":"IFERROR(VLOOKUP(F68609,Biomasser!$A$3:$E$88,4,FALSE),0)","v":0},null,{"$f":"IFERROR(VLOOKUP(F68609,Biomasser!$A$3:$E$88,5,FALSE),0)","v":0},"",0,null,null,{"$f":"IFERROR(VLOOKUP(F68609,Biomasser!$A$3:$M$88,13,FALSE),)","v":0},null,null,null,null,null,{"$f":"IF(F68609<>\"\",'CO2 konvertering'!$C$23,)","v":0},null,null,null,null,0]
[null,null,null,"Ja",null,null,null,null,"",null,"",{"$f":"IFERROR(VLOOKUP(F68658,Biomasser!$A$3:$E$88,4,FALSE),0)","v":0},null,{"$f":"IFERROR(VLOOKUP(F68658,Biomasser!$A$3:$E$88,5,FALSE),0)","v":0},"",0,null,null,{"$f":"IFERROR(VLOOKUP(F68658,Biomasser!$A$3:$M$88,13,FALSE),)","v":0},null,null,null,null,null,{"$f":"IF(F68658<>\"\",'CO2 konvertering'!$C$23,)","v":0},null,null,null,null,0]
[null,null,null,"Ja",null,null,null,null,"",null,"",{"$f":"IFERROR(VLOOKUP(F68761,Biomasser!$A$3:$E$88,4,FALSE),0)","v":0},null,{"$f":"IFERROR(VLOOKUP(F68761,Biomasser!$A$3:$E$88,5,FALSE),0)","v":0},"",0,null,null,{"$f":"IFERROR(VLOOKUP(F68761,Biomasser!$A$3:$M$88,13,FALSE),)","v":0},null,null,null,null,null,{"$f":"IF(F68761<>\"\",'CO2 konvertering'!$C$23,)","v":0},null,null,null,null,0]
[null,null,null,"Ja",null,null,null,null,"",null,"",{"$f":"IFERROR(VLOOKUP(F68815,Biomasser!$A$3:$E$88,4,FALSE),0)","v":0},null,{"$f":"IFERROR(VLOOKUP(F68815,Biomasser!$A$3:$E$88,5,FALSE),0)","v":0},"",0,null,null,{"$f":"IFERROR(VLOOKUP(F68815,Biomasser!$A$3:$M$88,13,FALSE),)","v":0},null,null,null,null,null,{"$f":"IF(F68815<>\"\",'CO2 konvertering'!$C$23,)","v":0},null,null,null,null,0]
[null,null,null,"Ja",null,null,null,null,"",null,"",{"$f":"IFERROR(VLOOKUP(F68948,Biomasser!$A$3:$E$88,4,FALSE),0)","v":0},null,{"$f":"IFERROR(VLOOKUP(F68948,Biomasser!$A$3:$E$88,5,FALSE),0)","v":0},"",0,null,null,{"$f":"IFERROR(VLOOKUP(F68948,Biomasser!$A$3:$M$88,13,FALSE),)","v":0},null,null,null,null,null,{"$f":"IF(F68948<>\"\",'CO2 konvertering'!$C$23,)","v":0},null,null,null,null,0]
[null,null,null,"Ja",null,null,null,null,"",null,"",{"$f":"IFERROR(VLOOKUP(F69004,Biomasser!$A$3:$E$88,4,FALSE),0)","v":0},null,{"$f":"IFERROR(VLOOKUP(F69004,Biomasser!$A$3:$E$88,5,FALSE),0)","v":0},"",0,null,null,{"$f":"IFERROR(VLOOKUP(F69004,Biomasser!$A$3:$M$88,13,FALSE),)","v":0},null,null,null,null,null,{"$f":"IF(F69004<>\"\",'CO2 konvertering'!$C$23,)","v":0},null,null,null,null,0]
[null,null,null,"Ja",null,null,null,null,"",null,"",{"$f":"IFERROR(VLOOKUP(F69105,Biomasser!$A$3:$E$88,4,FALSE),0)","v":0},null,{"$f":"IFERROR(VLOOKUP(F69105,Biomasser!$A$3:$E$88,5,FALSE),0)","v":0},"",0,null,null,{"$f":"IFERROR(VLOOKUP(F69105,Biomasser!$A$3:$M$88,13,FALSE),)","v":0},null,null,null,null,null,{"$f":"IF(F69105<>\"\",'CO2 konvertering'!$C$23,)","v":0},null,null,null,null,0]
[null,null,null,"Ja",null,null,null,null,"",null,"",{"$f":"IFERROR(VLOOKUP(F69156,Biomasser!$A$3:$E$88,4,FALSE),0)","v":0},null,{"$f":"IFERROR(VLOOKUP(F69156,Biomasser!$A$3:$E$88,5,FALSE),0)","v":0},"",0,null,null,{"$f":"IFERROR(VLOOKUP(F69156,Biomasser!$A$3:$M$88,13,FALSE),)","v":0},null,null,null,null,null,{"$f":"IF(F69156<>\"\",'CO2 konvertering'!$C$23,)","v":0},null,null,null,null,0]
[null,null,null,"Ja",null,null,null,null,"",null,"",{"$f":"IFERROR(VLOOKUP(F69218,Biomasser!$A$3:$E$88,4,FALSE),0)","v":0},null,{"$f":"IFERROR(VLOOKUP(F69218,Biomasser!$A$3:$E$88,5,FALSE),0)","v":0},"",0,null,null,{"$f":"IFERROR(VLOOKUP(F69218,Biomasser!$A$3:$M$88,13,FALSE),)","v":0},null,null,null,null,null,{"$f":"IF(F69218<>\"\",'CO2 konvertering'!$C$23,)","v":0},null,null,null,null,0]
[null,"Leverandør",null,"Certificeret",null,"Råvarer input","          Mængder                 \n      (Ton vådvægt)            ",null,null,"Tørstof\n%",null,"Omsættelig tørstof\n%",null,"Gaspotentiale\nm³ CH4/ton VS",null,"Teoretisk\ngasproduktion\nm³ CH4"]
[null,null,null,"Ja",null,null,null,null,{"$f":"IF(AND(F69375<>\"\",ISBLANK(H69375)),\"Indtast vægt\",\"\")","v":""},null,{"$f":"IF(AND(F69375<>\"\",ISBLANK(J69375)),\"Indtast tørstof %\",\"\")","v":""},{"$f":"IFERROR(VLOOKUP(F69375,Biomasser!$A$3:$E$88,4,FALSE),0)","v":0},null,{"$f":"IFERROR(VLOOKUP(F69375,Biomasser!$A$3:$E$88,5,FALSE),0)","v":0},"",0,null,null,{"$f":"IFERROR(VLOOKUP(F69375,Biomasser!$A$3:$M$88,13,FALSE),)","v":0},null,null,null,null,null,{"$f":"IF(F69375<>\"\",'CO2 konvertering'!$C$23,)","v":0},null,null,null,null,0]
[null,null,null,"Ja",null,null,null,null,"",null,"",{"$f":"IFERROR(VLOOKUP(F69460,Biomasser!$A$3:$E$88,4,FALSE),0)","v":0},null,{"$f":"IFERROR(VLOOKUP(F69460,Biomasser!$A$3:$E$88,5,FALSE),0)","v":0},"",0,null,null,{"$f":"IFERROR(VLOOKUP(F69460,Biomasser!$A$3:$M$88,13,FALSE),)","v":0},null,null,null,null,null,{"$f":"IF(F69460<>\"\",'CO2 konvertering'!$C$23,)","v":0},null,null,null,null,0]
[null,null,null,"Ja",null,null,null,null,"",null,"",{"$f":"IFERROR(VLOOKUP(F69532,Biomasser!$A$3:$E$88,4,FALSE),0)","v":0},null,{"$f":"IFERROR(VLOOKUP(F69532,Biomasser!$A$3:$E$88,5,FALSE),0)","v":0},"",0,null,null,{"$f":"IFERROR(VLOOKUP(F69532,Biomasser!$A$3:$M$88,13,FALSE),)","v":0},null,null,null,null,null,{"$f":"IF(F69532<>\"\",'CO2 konvertering'!$C$23,)","v":0},null,null,null,null,0]
[null,null,null,"Ja",null,null,null,null,"",null,"",{"$f":"IFERROR(VLOOKUP(F69566,Biomasser!$A$3:$E$88,4,FALSE),0)","v":0},null,{"$f":"IFERROR(VLOOKUP(F69566,Biomasser!$A$3:$E$88,5,FALSE),0)","v":0},"",0,null,null,{"$f":"IFERROR(VLOOKUP(F69566,Biomasser!$A$3:$M$88,13,FALSE),)","v":0},null,null,null,null,null,{"$f":"IF(F69566<>\"\",'CO2 konvertering'!$C$23,)","v":0},null,null,null,null,0]
[null,null,null,"Ja",null,null,null,null,"",null,"",{"$f":"IFERROR(VLOOKUP(F69689,Biomasser!$A$3:$E$88,4,FALSE),0)","v":0},null,{"$f":"IFERROR(VLOOKUP(F69689,Biomasser!$A$3:$E$88,5,FALSE),0)","v":0},"",{"$f":"J69689*L69689*N69689*H69689","v":0},null,null,{"$f":"IFERROR(VLOOKUP(F69689,Biomasser!$A$3:$M$88,13,FALSE),)","v":0},null,null,null,null,null,{"$f":"IF(F69689<>\"\",'CO2 konvertering'!$C$23,)","v":0},null,null,null,null,{"$f":"SUM(S69689:AC69689)","v":0}]
[null,null,null,"Ja",null,null,null,null,"",null,"",{"$f":"IFERROR(VLOOKUP(F69718,Biomasser!$A$3:$E$88,4,FALSE),0)","v":0},null,{"$f":"IFERROR(VLOOKUP(F69718,Biomasser!$A$3:$E$88,5,FALSE),0)","v":0},"",0,null,null,{"$f":"IFERROR(VLOOKUP(F69718,Biomasser!$A$3:$M$88,13,FALSE),)","v":0},null,null,null,null,null,{"$f":"IF(F69718<>\"\",'CO2 konvertering'!$C$23,)","v":0},null,null,null,null,0]
[null,null,null,"Ja",null,null,null,null,"",null,"",{"$f":"IFERROR(VLOOKUP(F69802,Biomasser!$A$3:$E$88,4,FALSE),0)","v":0},null,{"$f":"IFERROR(VLOOKUP(F69802,Biomasser!$A$3:$E$88,5,FALSE),0)","v":0},"",0,null,null,{"$f":"IFERROR(VLOOKUP(F69802,Biomasser!$A$3:$M$88,13,FALSE),)","v":0},null,null,null,null,null,{"$f":"IF(F69802<>\"\",'CO2 konvertering'!$C$23,)","v":0},null,null,null,null,0]
[null,null,null,"Ja",null,null,null,null,"",null,"",{"$f":"IFERROR(VLOOKUP(F69870,Biomasser!$A$3:$E$88,4,FALSE),0)","v":0},null,{"$f":"IFERROR(VLOOKUP(F69870,Biomasser!$A$3:$E$88,5,FALSE),0)","v":0},"",0,null,null,{"$f":"IFERROR(VLOOKUP(F69870,Biomasser!$A$3:$M$88,13,FALSE),)","v":0},null,null,null,null,null,{"$f":"IF(F69870<>\"\",'CO2 konvertering'!$C$23,)","v":0},null,null,null,null,0]
[null,null,null,"Ja",null,null,null,null,"",null,"",{"$f":"IFERROR(VLOOKUP(F69959,Biomasser!$A$3:$E$88,4,FALSE),0)","v":0},null,{"$f":"IFERROR(VLOOKUP(F69959,Biomasser!$A$3:$E$88,5,FALSE),0)","v":0},"",0,null,null,{"$f":"IFERROR(VLOOKUP(F69959,Biomasser!$A$3:$M$88,13,FALSE),)","v":0},null,null,null,null,null,{"$f":"IF(F69959<>\"\",'CO2 konvertering'!$C$23,)","v":0},null,null,null,null,0]
[null,null,null,"Ja",null,null,null,null,"",null,"",{"$f":"IFERROR(VLOOKUP(F70022,Biomasser!$A$3:$E$88,4,FALSE),0)","v":0},null,{"$f":"IFERROR(VLOOKUP(F70022,Biomasser!$A$3:$E$88,5,FALSE),0)","v":0},"",0,null,null,{"$f":"IFERROR(VLOOKUP(F70022,Biomasser!$A$3:$M$88,13,FALSE),)","v":0},null,null,null,null,null,{"$f":"IF(F70022<>\"\",'CO2 konvertering'!$C$23,)","v":0},null,null,null,null,0]
[null,null,null,"Ja",null,null,null,null,"",null,"",{"$f":"IFERROR(VLOOKUP(F70116,Biomasser!$A$3:$E$88,4,FALSE),0)","v":0},null,{"$f":"IFERROR(VLOOKUP(F70116,Biomasser!$A$3:$E$88,5,FALSE),0)","v":0},"",0,null,null,{"$f":"IFERROR(VLOOKUP(F70116,Biomasser!$A$3:$M$88,13,FALSE),)","v":0},null,null,null,null,null,{"$f":"IF(F70116<>\"\",'CO2 konvertering'!$C$23,)","v":0},null,null,null,null,0]
[null,null,null,"Ja",null,null,null,null,"",null,"",{"$f":"IFERROR(VLOOKUP(F70203,Biomasser!$A$3:$E$88,4,FALSE),0)","v":0},null,{"$f":"IFERROR(VLOOKUP(F70203,Biomasser!$A$3:$E$88,5,FALSE),0)","v":0},"",0,null,null,{"$f":"IFERROR(VLOOKUP(F70203,Biomasser!$A$3:$M$88,13,FALSE),)","v":0},null,null,null,null,null,{"$f":"IF(F70203<>\"\",'CO2 konvertering'!$C$23,)","v":0},null,null,null,null,0]
[null,null,null,"Ja",null,null,null,null,"",null,"",{"$f":"IFERROR(VLOOKUP(F70273,Biomasser!$A$3:$E$88,4,FALSE),0)","v":0},null,{"$f":"IFERROR(VLOOKUP(F70273,Biomasser!$A$3:$E$88,5,FALSE),0)","v":0},"",0,null,null,{"$f":"IFERROR(VLOOKUP(F70273,Biomasser!$A$3:$M$88,13,FALSE),)","v":0},null,null,null,null,null,{"$f":"IF(F70273<>\"\",'CO2 konvertering'!$C$23,)","v":0},null,null,null,null,0]
[null,null,null,"Ja",null,null,null,null,"",null,"",{"$f":"IFERROR(VLOOKUP(F70355,Biomasser!$A$3:$E$88,4,FALSE),0)","v":0},null,{"$f":"IFERROR(VLOOKUP(F70355,Biomasser!$A$3:$E$88,5,FALSE),0)","v":0},"",0,null,null,{"$f":"IFERROR(VLOOKUP(F70355,Biomasser!$A$3:$M$88,13,FALSE),)","v":0},null,null,null,null,null,{"$f":"IF(F70355<>\"\",'CO2 konvertering'!$C$23,)","v":0},null,null,null,null,0]
[null,null,null,"Ja",null,null,null,null,"",null,"",{"$f":"IFERROR(VLOOKUP(F70430,Biomasser!$A$3:$E$88,4,FALSE),0)","v":0},null,{"$f":"IFERROR(VLOOKUP(F70430,Biomasser!$A$3:$E$88,5,FALSE),0)","v":0},"",0,null,null,{"$f":"IFERROR(VLOOKUP(F70430,Biomasser!$A$3:$M$88,13,FALSE),)","v":0},null,null,null,null,null,{"$f":"IF(F70430<>\"\",'CO2 konvertering'!$C$23,)","v":0},null,null,null,null,0]
[null,null,null,"Ja",null,null,null,null,"",null,"",{"$f":"IFERROR(VLOOKUP(F70507,Biomasser!$A$3:$E$88,4,FALSE),0)","v":0},null,{"$f":"IFERROR(VLOOKUP(F70507,Biomasser!$A$3:$E$88,5,FALSE),0)","v":0},"",0,null,null,{"$f":"IFERROR(VLOOKUP(F70507,Biomasser!$A$3:$M$88,13,FALSE),)","v":0},null,null,null,null,null,{"$f":"IF(F70507<>\"\",'CO2 konvertering'!$C$23,)","v":0},null,null,null,null,0]
[null,null,null,"Ja",null,null,null,null,"",null,"",{"$f":"IFERROR(VLOOKUP(F70619,Biomasser!$A$3:$E$88,4,FALSE),0)","v":0},null,{"$f":"IFERROR(VLOOKUP(F70619,Biomasser!$A$3:$E$88,5,FALSE),0)","v":0},"",0,null,null,{"$f":"IFERROR(VLOOKUP(F70619,Biomasser!$A$3:$M$88,13,FALSE),)","v":0},null,null,null,null,null,{"$f":"IF(F70619<>\"\",'CO2 konvertering'!$C$23,)","v":0},null,null,null,null,0]
[null,null,null,"Ja",null,null,null,null,"",null,"",{"$f":"IFERROR(VLOOKUP(F70659,Biomasser!$A$3:$E$88,4,FALSE),0)","v":0},null,{"$f":"IFERROR(VLOOKUP(F70659,Biomasser!$A$3:$E$88,5,FALSE),0)","v":0},"",0,null,null,{"$f":"IFERROR(VLOOKUP(F70659,Biomasser!$A$3:$M$88,13,FALSE),)","v":0},null,null,null,null,null,{"$f":"IF(F70659<>\"\",'CO2 konvertering'!$C$23,)","v":0},null,null,null,null,0]
[null,null,null,"Ja",null,null,null,null,"",null,"",{"$f":"IFERROR(VLOOKUP(F70700,Biomasser!$A$3:$E$88,4,FALSE),0)","v":0},null,{"$f":"IFERROR(VLOOKUP(F70700,Biomasser!$A$3:$E$88,5,FALSE),0)","v":0},"",0,null,null,{"$f":"IFERROR(VLOOKUP(F70700,Biomasser!$A$3:$M$88,13,FALSE),)","v":0},null,null,null,null,null,{"$f":"IF(F70700<>\"\",'CO2 konvertering'!$C$23,)","v":0},null,null,null,null,0]
[null,null,null,"Ja",null,null,null,null,"",null,"",{"$f":"IFERROR(VLOOKUP(F70840,Biomasser!$A$3:$E$88,4,FALSE),0)","v":0},null,{"$f":"IFERROR(VLOOKUP(F70840,Biomasser!$A$3:$E$88,5,FALSE),0)","v":0},"",0,null,null,{"$f":"IFERROR(VLOOKUP(F70840,Biomasser!$A$3:$M$88,13,FALSE),)","v":0},null,null,null,null,null,{"$f":"IF(F70840<>\"\",'CO2 konvertering'!$C$23,)","v":0},null,null,null,null,0]
[null,null,null,"Ja",null,null,null,null,"",null,"",{"$f":"IFERROR(VLOOKUP(F70857,Biomasser!$A$3:$E$88,4,FALSE),0)","v":0},null,{"$f":"IFERROR(VLOOKUP(F70857,Biomasser!$A$3:$E$88,5,FALSE),0)","v":0},"",0,null,null,{"$f":"IFERROR(VLOOKUP(F70857,Biomasser!$A$3:$M$88,13,FALSE),)","v":0},null,null,null,null,null,{"$f":"IF(F70857<>\"\",'CO2 konvertering'!$C$23,)","v":0},null,null,null,null,0]
[null,null,null,"Ja",null,null,null,null,"",null,"",{"$f":"IFERROR(VLOOKUP(F70992,Biomasser!$A$3:$E$88,4,FALSE),0)","v":0},null,{"$f":"IFERROR(VLOOKUP(F70992,Biomasser!$A$3:$E$88,5,FALSE),0)","v":0},"",0,null,null,{"$f":"IFERROR(VLOOKUP(F70992,Biomasser!$A$3:$M$88,13,FALSE),)","v":0},null,null,null,null,null,{"$f":"IF(F70992<>\"\",'CO2 konvertering'!$C$23,)","v":0},null,null,null,null,0]
[null,null,null,"Ja",null,null,null,null,"",null,"",{"$f":"IFERROR(VLOOKUP(F71014,Biomasser!$A$3:$E$88,4,FALSE),0)","v":0},null,{"$f":"IFERROR(VLOOKUP(F71014,Biomasser!$A$3:$E$88,5,FALSE),0)","v":0},"",0,null,null,{"$f":"IFERROR(VLOOKUP(F71014,Biomasser!$A$3:$M$88,13,FALSE),)","v":0},null,null,null,null,null,{"$f":"IF(F71014<>\"\",'CO2 konvertering'!$C$23,)","v":0},null,null,null,null,0]
[null,null,null,"Ja",null,null,null,null,"",null,"",{"$f":"IFERROR(VLOOKUP(F71144,Biomasser!$A$3:$E$88,4,FALSE),0)","v":0},null,{"$f":"IFERROR(VLOOKUP(F71144,Biomasser!$A$3:$E$88,5,FALSE),0)","v":0},"",0,null,null,{"$f":"IFERROR(VLOOKUP(F71144,Biomasser!$A$3:$M$88,13,FALSE),)","v":0},null,null,null,null,null,{"$f":"IF(F71144<>\"\",'CO2 konvertering'!$C$23,)","v":0},null,null,null,null,0]
[null,null,null,"Ja",null,null,null,null,"",null,"",{"$f":"IFERROR(VLOOKUP(F71203,Biomasser!$A$3:$E$88,4,FALSE),0)","v":0},null,{"$f":"IFERROR(VLOOKUP(F71203,Biomasser!$A$3:$E$88,5,FALSE),0)","v":0},{"$f":"IF(AND(F71203<>\"\",(N71203=0)),\"Opdater biomasseark\",\"\")","v":""},0,null,null,{"$f":"IFERROR(VLOOKUP(F71203,Biomasser!$A$3:$M$88,13,FALSE),)","v":0},null,null,null,null,null,{"$f":"IF(F71203<>\"\",'CO2 konvertering'!$C$23,)","v":0},null,null,null,null,0]
[null,null,null,"Ja",null,null,null,null,"",null,"",{"$f":"IFERROR(VLOOKUP(F71296,Biomasser!$A$3:$E$88,4,FALSE),0)","v":0},null,{"$f":"IFERROR(VLOOKUP(F71296,Biomasser!$A$3:$E$88,5,FALSE),0)","v":0},"",0,null,null,{"$f":"IFERROR(VLOOKUP(F71296,Biomasser!$A$3:$M$88,13,FALSE),)","v":0},null,null,null,null,null,{"$f":"IF(F71296<>\"\",'CO2 konvertering'!$C$23,)","v":0},null,null,null,null,{"$f":"SUM(S71296:AC71296)","v":0}]
[null,null,null,"Ja",null,null,null,null,"",null,"",{"$f":"IFERROR(VLOOKUP(F71360,Biomasser!$A$3:$E$88,4,FALSE),0)","v":0},null,{"$f":"IFERROR(VLOOKUP(F71360,Biomasser!$A$3:$E$88,5,FALSE),0)","v":0},"",0,null,null,{"$f":"IFERROR(VLOOKUP(F71360,Biomasser!$A$3:$M$88,13,FALSE),)","v":0},null,null,null,null,null,{"$f":"IF(F71360<>\"\",'CO2 konvertering'!$C$23,)","v":0},null,null,null,null,0]
[null,null,null,"Ja",null,null,null,null,"",null,"",{"$f":"IFERROR(VLOOKUP(F71402,Biomasser!$A$3:$E$88,4,FALSE),0)","v":0},null,{"$f":"IFERROR(VLOOKUP(F71402,Biomasser!$A$3:$E$88,5,FALSE),0)","v":0},"",0,null,null,{"$f":"IFERROR(VLOOKUP(F71402,Biomasser!$A$3:$M$88,13,FALSE),)","v":0},null,null,null,null,null,{"$f":"IF(F71402<>\"\",'CO2 konvertering'!$C$23,)","v":0},null,null,null,null,0]
[null,null,null,"Ja",null,null,null,null,"",null,"",{"$f":"IFERROR(VLOOKUP(F71517,Biomasser!$A$3:$E$88,4,FALSE),0)","v":0},null,{"$f":"IFERROR(VLOOKUP(F71517,Biomasser!$A$3:$E$88,5,FALSE),0)","v":0},"",0,null,null,{"$f":"IFERROR(VLOOKUP(F71517,Biomasser!$A$3:$M$88,13,FALSE),)","v":0},null,null,null,null,null,{"$f":"IF(F71517<>\"\",'CO2 konvertering'!$C$23,)","v":0},null,null,null,null,0]
[null,null,null,"Ja",null,null,null,null,"",null,"",{"$f":"IFERROR(VLOOKUP(F71554,Biomasser!$A$3:$E$88,4,FALSE),0)","v":0},null,{"$f":"IFERROR(VLOOKUP(F71554,Biomasser!$A$3:$E$88,5,FALSE),0)","v":0},"",0,null,null,{"$f":"IFERROR(VLOOKUP(F71554,Biomasser!$A$3:$M$88,13,FALSE),)","v":0},null,null,null,null,null,{"$f":"IF(F71554<>\"\",'CO2 konvertering'!$C$23,)","v":0},null,null,null,null,0]
[null,null,null,"Ja",null,null,null,null,"",null,"",{"$f":"IFERROR(VLOOKUP(F71674,Biomasser!$A$3:$E$88,4,FALSE),0)","v":0},null,{"$f":"IFERROR(VLOOKUP(F71674,Biomasser!$A$3:$E$88,5,FALSE),0)","v":0},"",0,null,null,{"$f":"IFERROR(VLOOKUP(F71674,Biomasser!$A$3:$M$88,13,FALSE),)","v":0},null,null,null,null,null,{"$f":"IF(F71674<>\"\",'CO2 konvertering'!$C$23,)","v":0},null,null,null,null,0]
[null,null,null,"Ja",null,null,null,null,"",null,"",{"$f":"IFERROR(VLOOKUP(F71706,Biomasser!$A$3:$E$88,4,FALSE),0)","v":0},null,{"$f":"IFERROR(VLOOKUP(F71706,Biomasser!$A$3:$E$88,5,FALSE),0)","v":0},"",0,null,null,{"$f":"IFERROR(VLOOKUP(F71706,Biomasser!$A$3:$M$88,13,FALSE),)","v":0},null,null,null,null,null,{"$f":"IF(F71706<>\"\",'CO2 konvertering'!$C$23,)","v":0},null,null,null,null,0]
[null,null,null,"Ja",null,null,null,null,"",null,"",{"$f":"IFERROR(VLOOKUP(F71787,Biomasser!$A$3:$E$88,4,FALSE),0)","v":0},null,{"$f":"IFERROR(VLOOKUP(F71787,Biomasser!$A$3:$E$88,5,FALSE),0)","v":0},"",0,null,null,{"$f":"IFERROR(VLOOKUP(F71787,Biomasser!$A$3:$M$88,13,FALSE),)","v":0},null,null,null,null,null,{"$f":"IF(F71787<>\"\",'CO2 konvertering'!$C$23,)","v":0},null,null,null,null,0]
[null,null,null,"Ja",null,null,null,null,"",null,"",{"$f":"IFERROR(VLOOKUP(F71858,Biomasser!$A$3:$E$88,4,FALSE),0)","v":0},null,{"$f":"IFERROR(VLOOKUP(F71858,Biomasser!$A$3:$E$88,5,FALSE),0)","v":0},"",0,null,null,{"$f":"IFERROR(VLOOKUP(F71858,Biomasser!$A$3:$M$88,13,FALSE),)","v":0},null,null,null,null,null,{"$f":"IF(F71858<>\"\",'CO2 konvertering'!$C$23,)","v":0},null,null,null,null,0]
[null,null,null,"Ja",null,null,null,null,"",null,"",{"$f":"IFERROR(VLOOKUP(F71944,Biomasser!$A$3:$E$88,4,FALSE),0)","v":0},null,{"$f":"IFERROR(VLOOKUP(F71944,Biomasser!$A$3:$E$88,5,FALSE),0)","v":0},"",0,null,null,{"$f":"IFERROR(VLOOKUP(F71944,Biomasser!$A$3:$M$88,13,FALSE),)","v":0},null,null,null,null,null,{"$f":"IF(F71944<>\"\",'CO2 konvertering'!$C$23,)","v":0},null,null,null,null,0]
[null,null,null,"Ja",null,null,null,null,"",null,"",{"$f":"IFERROR(VLOOKUP(F72010,Biomasser!$A$3:$E$88,4,FALSE),0)","v":0},null,{"$f":"IFERROR(VLOOKUP(F72010,Biomasser!$A$3:$E$88,5,FALSE),0)","v":0},"",0,null,null,{"$f":"IFERROR(VLOOKUP(F72010,Biomasser!$A$3:$M$88,13,FALSE),)","v":0},null,null,null,null,null,{"$f":"IF(F72010<>\"\",'CO2 konvertering'!$C$23,)","v":0},null,null,null,null,0]
[null,null,null,"Ja",null,null,null,null,"",null,"",{"$f":"IFERROR(VLOOKUP(F72101,Biomasser!$A$3:$E$88,4,FALSE),0)","v":0},null,{"$f":"IFERROR(VLOOKUP(F72101,Biomasser!$A$3:$E$88,5,FALSE),0)","v":0},"",0,null,null,{"$f":"IFERROR(VLOOKUP(F72101,Biomasser!$A$3:$M$88,13,FALSE),)","v":0},null,null,null,null,null,{"$f":"IF(F72101<>\"\",'CO2 konvertering'!$C$23,)","v":0},null,null,null,null,0]
[null,null,null,"Ja",null,null,null,null,"",null,"",{"$f":"IFERROR(VLOOKUP(F72191,Biomasser!$A$3:$E$88,4,FALSE),0)","v":0},null,{"$f":"IFERROR(VLOOKUP(F72191,Biomasser!$A$3:$E$88,5,FALSE),0)","v":0},"",0,null,null,{"$f":"IFERROR(VLOOKUP(F72191,Biomasser!$A$3:$M$88,13,FALSE),)","v":0},null,null,null,null,null,{"$f":"IF(F72191<>\"\",'CO2 konvertering'!$C$23,)","v":0},null,null,null,null,0]
[null,null,null,"Ja",null,null,null,null,"",null,"",{"$f":"IFERROR(VLOOKUP(F72258,Biomasser!$A$3:$E$88,4,FALSE),0)","v":0},null,{"$f":"IFERROR(VLOOKUP(F72258,Biomasser!$A$3:$E$88,5,FALSE),0)","v":0},"",0,null,null,{"$f":"IFERROR(VLOOKUP(F72258,Biomasser!$A$3:$M$88,13,FALSE),)","v":0},null,null,null,null,null,{"$f":"IF(F72258<>\"\",'CO2 konvertering'!$C$23,)","v":0},null,null,null,null,0]
[null,null,null,"Ja",null,null,null,null,"",null,"",{"$f":"IFERROR(VLOOKUP(F72343,Biomasser!$A$3:$E$88,4,FALSE),0)","v":0},null,{"$f":"IFERROR(VLOOKUP(F72343,Biomasser!$A$3:$E$88,5,FALSE),0)","v":0},"",0,null,null,{"$f":"IFERROR(VLOOKUP(F72343,Biomasser!$A$3:$M$88,13,FALSE),)","v":0},null,null,null,null,null,{"$f":"IF(F72343<>\"\",'CO2 konvertering'!$C$23,)","v":0},null,null,null,null,0]
[null,null,null,"Ja",null,null,null,null,"",null,"",{"$f":"IFERROR(VLOOKUP(F72371,Biomasser!$A$3:$E$88,4,FALSE),0)","v":0},null,{"$f":"IFERROR(VLOOKUP(F72371,Biomasser!$A$3:$E$88,5,FALSE),0)","v":0},"",0,null,null,{"$f":"IFERROR(VLOOKUP(F72371,Biomasser!$A$3:$M$88,13,FALSE),)","v":0},null,null,null,null,null,{"$f":"IF(F72371<>\"\",'CO2 konvertering'!$C$23,)","v":0},null,null,null,null,0]
[null,null,null,"Ja",null,null,null,null,"",null,"",{"$f":"IFERROR(VLOOKUP(F72495,Biomasser!$A$3:$E$88,4,FALSE),0)","v":0},null,{"$f":"IFERROR(VLOOKUP(F72495,Biomasser!$A$3:$E$88,5,FALSE),0)","v":0},"",0,null,null,{"$f":"IFERROR(VLOOKUP(F72495,Biomasser!$A$3:$M$88,13,FALSE),)","v":0},null,null,null,null,null,{"$f":"IF(F72495<>\"\",'CO2 konvertering'!$C$23,)","v":0},null,null,null,null,0]
[null,null,null,"Ja",null,null,null,null,"",null,"",{"$f":"IFERROR(VLOOKUP(F72528,Biomasser!$A$3:$E$88,4,FALSE),0)","v":0},null,{"$f":"IFERROR(VLOOKUP(F72528,Biomasser!$A$3:$E$88,5,FALSE),0)","v":0},{"$f":"IF(AND(F72528<>\"\",(N72528=0)),\"Opdater biomasseark\",\"\")","v":""},0,null,null,{"$f":"IFERROR(VLOOKUP(F72528,Biomasser!$A$3:$M$88,13,FALSE),)","v":0},null,null,null,null,null,{"$f":"IF(F72528<>\"\",'CO2 konvertering'!$C$23,)","v":0},null,null,null,null,0]
[null,null,null,"Ja",null,null,null,null,"",null,"",{"$f":"IFERROR(VLOOKUP(F72647,Biomasser!$A$3:$E$88,4,FALSE),0)","v":0},null,{"$f":"IFERROR(VLOOKUP(F72647,Biomasser!$A$3:$E$88,5,FALSE),0)","v":0},"",0,null,null,{"$f":"IFERROR(VLOOKUP(F72647,Biomasser!$A$3:$M$88,13,FALSE),)","v":0},null,null,null,null,null,{"$f":"IF(F72647<>\"\",'CO2 konvertering'!$C$23,)","v":0},null,null,null,null,0]
[null,null,null,"Ja",null,null,null,null,"",null,"",{"$f":"IFERROR(VLOOKUP(F72685,Biomasser!$A$3:$E$88,4,FALSE),0)","v":0},null,{"$f":"IFERROR(VLOOKUP(F72685,Biomasser!$A$3:$E$88,5,FALSE),0)","v":0},"",0,null,null,{"$f":"IFERROR(VLOOKUP(F72685,Biomasser!$A$3:$M$88,13,FALSE),)","v":0},null,null,null,null,null,{"$f":"IF(F72685<>\"\",'CO2 konvertering'!$C$23,)","v":0},null,null,null,null,0]
[null,null,null,"Ja",null,null,null,null,"",null,"",{"$f":"IFERROR(VLOOKUP(F72742,Biomasser!$A$3:$E$88,4,FALSE),0)","v":0},null,{"$f":"IFERROR(VLOOKUP(F72742,Biomasser!$A$3:$E$88,5,FALSE),0)","v":0},"",0,null,null,{"$f":"IFERROR(VLOOKUP(F72742,Biomasser!$A$3:$M$88,13,FALSE),)","v":0},null,null,null,null,null,{"$f":"IF(F72742<>\"\",'CO2 konvertering'!$C$23,)","v":0},null,null,null,null,0]
[null,null,null,"Ja",null,null,null,null,"",null,"",{"$f":"IFERROR(VLOOKUP(F72815,Biomasser!$A$3:$E$88,4,FALSE),0)","v":0},null,{"$f":"IFERROR(VLOOKUP(F72815,Biomasser!$A$3:$E$88,5,FALSE),0)","v":0},"",0,null,null,{"$f":"IFERROR(VLOOKUP(F72815,Biomasser!$A$3:$M$88,13,FALSE),)","v":0},null,null,null,null,null,{"$f":"IF(F72815<>\"\",'CO2 konvertering'!$C$23,)","v":0},null,null,null,null,0]
[null,null,null,"Ja",null,null,null,null,"",null,"",{"$f":"IFERROR(VLOOKUP(F72899,Biomasser!$A$3:$E$88,4,FALSE),0)","v":0},null,{"$f":"IFERROR(VLOOKUP(F72899,Biomasser!$A$3:$E$88,5,FALSE),0)","v":0},"",0,null,null,{"$f":"IFERROR(VLOOKUP(F72899,Biomasser!$A$3:$M$88,13,FALSE),)","v":0},null,null,null,null,null,{"$f":"IF(F72899<>\"\",'CO2 konvertering'!$C$23,)","v":0},null,null,null,null,0]
[null,null,null,"Ja",null,null,null,null,"",null,"",{"$f":"IFERROR(VLOOKUP(F72967,Biomasser!$A$3:$E$88,4,FALSE),0)","v":0},null,{"$f":"IFERROR(VLOOKUP(F72967,Biomasser!$A$3:$E$88,5,FALSE),0)","v":0},"",0,null,null,{"$f":"IFERROR(VLOOKUP(F72967,Biomasser!$A$3:$M$88,13,FALSE),)","v":0},null,null,null,null,null,{"$f":"IF(F72967<>\"\",'CO2 konvertering'!$C$23,)","v":0},null,null,null,null,0]
[null,null,null,"Ja",null,null,null,null,"",null,"",{"$f":"IFERROR(VLOOKUP(F73056,Biomasser!$A$3:$E$88,4,FALSE),0)","v":0},null,{"$f":"IFERROR(VLOOKUP(F73056,Biomasser!$A$3:$E$88,5,FALSE),0)","v":0},"",0,null,null,{"$f":"IFERROR(VLOOKUP(F73056,Biomasser!$A$3:$M$88,13,FALSE),)","v":0},null,null,null,null,null,{"$f":"IF(F73056<>\"\",'CO2 konvertering'!$C$23,)","v":0},null,null,null,null,0]
[null,null,null,"Ja",null,null,null,null,"",null,"",{"$f":"IFERROR(VLOOKUP(F73148,Biomasser!$A$3:$E$88,4,FALSE),0)","v":0},null,{"$f":"IFERROR(VLOOKUP(F73148,Biomasser!$A$3:$E$88,5,FALSE),0)","v":0},"",0,null,null,{"$f":"IFERROR(VLOOKUP(F73148,Biomasser!$A$3:$M$88,13,FALSE),)","v":0},null,null,null,null,null,{"$f":"IF(F73148<>\"\",'CO2 konvertering'!$C$23,)","v":0},null,null,null,null,0]
[null,null,null,"Ja",null,null,null,null,"",null,"",{"$f":"IFERROR(VLOOKUP(F73213,Biomasser!$A$3:$E$88,4,FALSE),0)","v":0},null,{"$f":"IFERROR(VLOOKUP(F73213,Biomasser!$A$3:$E$88,5,FALSE),0)","v":0},"",0,null,null,{"$f":"IFERROR(VLOOKUP(F73213,Biomasser!$A$3:$M$88,13,FALSE),)","v":0},null,null,null,null,null,{"$f":"IF(F73213<>\"\",'CO2 konvertering'!$C$23,)","v":0},null,null,null,null,0]
[{"$f":"B73297&C73297","v":"29. november2016"},null,null,"Ja",null,null,null,null,{"$f":"IF(AND(F73300<>\"\",ISBLANK(H73300)),\"Indtast vægt\",\"\")","v":""},null,{"$f":"IF(AND(F73300<>\"\",ISBLANK(J73300)),\"Indtast tørstof %\",\"\")","v":""},{"$f":"IFERROR(VLOOKUP(F73300,Biomasser!$A$3:$E$88,4,FALSE),)","v":0},null,{"$f":"IFERROR(VLOOKUP(F73300,Biomasser!$A$3:$E$88,5,FALSE),0)","v":0},{"$f":"IF(AND(F73300<>\"\",(N73300=0)),\"Opdater biomasseark\",\"\")","v":""},{"$f":"J73300*L73300*N73300*H73300","v":0},null,null,{"$f":"IFERROR(VLOOKUP(F73300,Biomasser!$A$3:$M$88,13,FALSE),)","v":0},null,null,null,null,null,{"$f":"IF(F73300<>\"\",'CO2 konvertering'!$C$23,)","v":0},null,null,null,null,{"$f":"SUM(S73300:AC73300)","v":0}]
["Gas","30. november",2016,null,null,{"$f":"SUM(H73405:H73505)","v":0},null,null,"m3 CH4"]
[null,null,null,"Ja",null,null,null,null,"",null,"",{"$f":"IFERROR(VLOOKUP(F73452,Biomasser!$A$3:$E$88,4,FALSE),0)","v":0},null,{"$f":"IFERROR(VLOOKUP(F73452,Biomasser!$A$3:$E$88,5,FALSE),0)","v":0},"",0,null,null,{"$f":"IFERROR(VLOOKUP(F73452,Biomasser!$A$3:$M$88,13,FALSE),)","v":0},null,null,null,null,null,{"$f":"IF(F73452<>\"\",'CO2 konvertering'!$C$23,)","v":0},null,null,null,null,0]
[null,null,null,"Ja",null,null,null,null,"",null,"",{"$f":"IFERROR(VLOOKUP(F73559,Biomasser!$A$3:$E$88,4,FALSE),0)","v":0},null,{"$f":"IFERROR(VLOOKUP(F73559,Biomasser!$A$3:$E$88,5,FALSE),0)","v":0},"",0,null,null,{"$f":"IFERROR(VLOOKUP(F73559,Biomasser!$A$3:$M$88,13,FALSE),)","v":0},null,null,null,null,null,{"$f":"IF(F73559<>\"\",'CO2 konvertering'!$C$23,)","v":0},null,null,null,null,0]
[null,null,null,"Ja",null,null,null,null,"",null,"",{"$f":"IFERROR(VLOOKUP(F73604,Biomasser!$A$3:$E$88,4,FALSE),0)","v":0},null,{"$f":"IFERROR(VLOOKUP(F73604,Biomasser!$A$3:$E$88,5,FALSE),0)","v":0},"",0,null,null,{"$f":"IFERROR(VLOOKUP(F73604,Biomasser!$A$3:$M$88,13,FALSE),)","v":0},null,null,null,null,null,{"$f":"IF(F73604<>\"\",'CO2 konvertering'!$C$23,)","v":0},null,null,null,null,0]
[null,"Dato:",null,null,null,"Mængde biomasse (Ton)",null,"Gasproduktion"]
[null,null,null,"Ja",null,null,null,null,{"$f":"IF(AND(F73785<>\"\",ISBLANK(H73785)),\"Indtast vægt\",\"\")","v":""},null,{"$f":"IF(AND(F73785<>\"\",ISBLANK(J73785)),\"Indtast tørstof %\",\"\")","v":""},{"$f":"IFERROR(VLOOKUP(F73785,Biomasser!$A$3:$E$88,4,FALSE),0)","v":0},null,{"$f":"IFERROR(VLOOKUP(F73785,Biomasser!$A$3:$E$88,5,FALSE),0)","v":0},"",0,null,null,{"$f":"IFERROR(VLOOKUP(F73785,Biomasser!$A$3:$M$88,13,FALSE),)","v":0},null,null,null,null,null,{"$f":"IF(F73785<>\"\",'CO2 konvertering'!$C$23,)","v":0},null,null,null,null,0]
[null,null,null,"Ja",null,null,null,null,"",null,"",{"$f":"IFERROR(VLOOKUP(F73797,Biomasser!$A$3:$E$88,4,FALSE),0)","v":0},null,{"$f":"IFERROR(VLOOKUP(F73797,Biomasser!$A$3:$E$88,5,FALSE),0)","v":0},"",0,null,null,{"$f":"IFERROR(VLOOKUP(F73797,Biomasser!$A$3:$M$88,13,FALSE),)","v":0},null,null,null,null,null,{"$f":"IF(F73797<>\"\",'CO2 konvertering'!$C$23,)","v":0},null,null,null,null,0]
[null,null,null,"Ja",null,null,null,null,"",null,"",{"$f":"IFERROR(VLOOKUP(F73937,Biomasser!$A$3:$E$88,4,FALSE),0)","v":0},null,{"$f":"IFERROR(VLOOKUP(F73937,Biomasser!$A$3:$E$88,5,FALSE),0)","v":0},"",0,null,null,{"$f":"IFERROR(VLOOKUP(F73937,Biomasser!$A$3:$M$88,13,FALSE),)","v":0},null,null,null,null,null,{"$f":"IF(F73937<>\"\",'CO2 konvertering'!$C$23,)","v":0},null,null,null,null,0]
[null,null,null,"Ja",null,null,null,null,"",null,"",{"$f":"IFERROR(VLOOKUP(F73986,Biomasser!$A$3:$E$88,4,FALSE),0)","v":0},null,{"$f":"IFERROR(VLOOKUP(F73986,Biomasser!$A$3:$E$88,5,FALSE),0)","v":0},"",0,null,null,{"$f":"IFERROR(VLOOKUP(F73986,Biomasser!$A$3:$M$88,13,FALSE),)","v":0},null,null,null,null,null,{"$f":"IF(F73986<>\"\",'CO2 konvertering'!$C$23,)","v":0},null,null,null,null,0]
[null,null,null,"Ja",null,null,null,null,"",null,"",{"$f":"IFERROR(VLOOKUP(F74089,Biomasser!$A$3:$E$88,4,FALSE),0)","v":0},null,{"$f":"IFERROR(VLOOKUP(F74089,Biomasser!$A$3:$E$88,5,FALSE),0)","v":0},"",0,null,null,{"$f":"IFERROR(VLOOKUP(F74089,Biomasser!$A$3:$M$88,13,FALSE),)","v":0},null,null,null,null,null,{"$f":"IF(F74089<>\"\",'CO2 konvertering'!$C$23,)","v":0},null,null,null,null,0]
[null,null,null,"Ja",null,null,null,null,"",null,"",{"$f":"IFERROR(VLOOKUP(F74143,Biomasser!$A$3:$E$88,4,FALSE),0)","v":0},null,{"$f":"IFERROR(VLOOKUP(F74143,Biomasser!$A$3:$E$88,5,FALSE),0)","v":0},{"$f":"IF(AND(F74143<>\"\",(N74143=0)),\"Opdater biomasseark\",\"\")","v":""},0,null,null,{"$f":"IFERROR(VLOOKUP(F74143,Biomasser!$A$3:$M$88,13,FALSE),)","v":0},null,null,null,null,null,{"$f":"IF(F74143<>\"\",'CO2 konvertering'!$C$23,)","v":0},null,null,null,null,0]
[null,"Dato:",null,null,null,"Mængde biomasse (Ton)",null,"Gasproduktion"]
[null,null,null,"Ja",null,null,null,null,"",null,"",{"$f":"IFERROR(VLOOKUP(F74300,Biomasser!$A$3:$E$88,4,FALSE),0)","v":0},null,{"$f":"IFERROR(VLOOKUP(F74300,Biomasser!$A$3:$E$88,5,FALSE),0)","v":0},"",0,null,null,{"$f":"IFERROR(VLOOKUP(F74300,Biomasser!$A$3:$M$88,13,FALSE),)","v":0},null,null,null,null,null,{"$f":"IF(F74300<>\"\",'CO2 konvertering'!$C$23,)","v":0},null,null,null,null,0]
["Gas","9. december",2016,null,null,{"$f":"SUM(H74350:H74450)","v":0},null,null,"m3 CH4"]
[null,null,null,"Ja",null,null,null,null,"",null,"",{"$f":"IFERROR(VLOOKUP(F74457,Biomasser!$A$3:$E$88,4,FALSE),0)","v":0},null,{"$f":"IFERROR(VLOOKUP(F74457,Biomasser!$A$3:$E$88,5,FALSE),0)","v":0},"",0,null,null,{"$f":"IFERROR(VLOOKUP(F74457,Biomasser!$A$3:$M$88,13,FALSE),)","v":0},null,null,null,null,null,{"$f":"IF(F74457<>\"\",'CO2 konvertering'!$C$23,)","v":0},null,null,null,null,0]
[null,null,null,"Ja",null,null,null,null,"",null,"",{"$f":"IFERROR(VLOOKUP(F74499,Biomasser!$A$3:$E$88,4,FALSE),0)","v":0},null,{"$f":"IFERROR(VLOOKUP(F74499,Biomasser!$A$3:$E$88,5,FALSE),0)","v":0},"",0,null,null,{"$f":"IFERROR(VLOOKUP(F74499,Biomasser!$A$3:$M$88,13,FALSE),)","v":0},null,null,null,null,null,{"$f":"IF(F74499<>\"\",'CO2 konvertering'!$C$23,)","v":0},null,null,null,null,0]
[null,null,null,"Ja",null,null,null,null,"",null,"",{"$f":"IFERROR(VLOOKUP(F74614,Biomasser!$A$3:$E$88,4,FALSE),0)","v":0},null,{"$f":"IFERROR(VLOOKUP(F74614,Biomasser!$A$3:$E$88,5,FALSE),0)","v":0},"",0,null,null,{"$f":"IFERROR(VLOOKUP(F74614,Biomasser!$A$3:$M$88,13,FALSE),)","v":0},null,null,null,null,null,{"$f":"IF(F74614<>\"\",'CO2 konvertering'!$C$23,)","v":0},null,null,null,null,0]
[null,null,null,"Ja",null,null,null,null,"",null,"",{"$f":"IFERROR(VLOOKUP(F74651,Biomasser!$A$3:$E$88,4,FALSE),0)","v":0},null,{"$f":"IFERROR(VLOOKUP(F74651,Biomasser!$A$3:$E$88,5,FALSE),0)","v":0},"",0,null,null,{"$f":"IFERROR(VLOOKUP(F74651,Biomasser!$A$3:$M$88,13,FALSE),)","v":0},null,null,null,null,null,{"$f":"IF(F74651<>\"\",'CO2 konvertering'!$C$23,)","v":0},null,null,null,null,0]
[null,null,null,"Ja",null,null,null,null,"",null,"",{"$f":"IFERROR(VLOOKUP(F74727,Biomasser!$A$3:$E$88,4,FALSE),0)","v":0},null,{"$f":"IFERROR(VLOOKUP(F74727,Biomasser!$A$3:$E$88,5,FALSE),0)","v":0},"",0,null,null,{"$f":"IFERROR(VLOOKUP(F74727,Biomasser!$A$3:$M$88,13,FALSE),)","v":0},null,null,null,null,null,{"$f":"IF(F74727<>\"\",'CO2 konvertering'!$C$23,)","v":0},null,null,null,null,0]
[null,null,null,"Ja",null,null,null,null,"",null,"",{"$f":"IFERROR(VLOOKUP(F74803,Biomasser!$A$3:$E$88,4,FALSE),0)","v":0},null,{"$f":"IFERROR(VLOOKUP(F74803,Biomasser!$A$3:$E$88,5,FALSE),0)","v":0},"",0,null,null,{"$f":"IFERROR(VLOOKUP(F74803,Biomasser!$A$3:$M$88,13,FALSE),)","v":0},null,null,null,null,null,{"$f":"IF(F74803<>\"\",'CO2 konvertering'!$C$23,)","v":0},null,null,null,null,0]
[null,null,null,"Ja",null,null,null,null,"",null,"",{"$f":"IFERROR(VLOOKUP(F74884,Biomasser!$A$3:$E$88,4,FALSE),0)","v":0},null,{"$f":"IFERROR(VLOOKUP(F74884,Biomasser!$A$3:$E$88,5,FALSE),0)","v":0},"",0,null,null,{"$f":"IFERROR(VLOOKUP(F74884,Biomasser!$A$3:$M$88,13,FALSE),)","v":0},null,null,null,null,null,{"$f":"IF(F74884<>\"\",'CO2 konvertering'!$C$23,)","v":0},null,null,null,null,0]
[null,null,null,"Ja",null,null,null,null,"",null,"",{"$f":"IFERROR(VLOOKUP(F74984,Biomasser!$A$3:$E$88,4,FALSE),0)","v":0},null,{"$f":"IFERROR(VLOOKUP(F74984,Biomasser!$A$3:$E$88,5,FALSE),0)","v":0},{"$f":"IF(AND(F74984<>\"\",(N74984=0)),\"Opdater biomasseark\",\"\")","v":""},0,null,null,{"$f":"IFERROR(VLOOKUP(F74984,Biomasser!$A$3:$M$88,13,FALSE),)","v":0},null,null,null,null,null,{"$f":"IF(F74984<>\"\",'CO2 konvertering'!$C$23,)","v":0},null,null,null,null,0]
[null,null,null,"Ja",null,null,null,null,"",null,"",{"$f":"IFERROR(VLOOKUP(F75041,Biomasser!$A$3:$E$88,4,FALSE),0)","v":0},null,{"$f":"IFERROR(VLOOKUP(F75041,Biomasser!$A$3:$E$88,5,FALSE),0)","v":0},"",0,null,null,{"$f":"IFERROR(VLOOKUP(F75041,Biomasser!$A$3:$M$88,13,FALSE),)","v":0},null,null,null,null,null,{"$f":"IF(F75041<>\"\",'CO2 konvertering'!$C$23,)","v":0},null,null,null,null,0]
[null,null,null,"Ja",null,null,null,null,"",null,"",{"$f":"IFERROR(VLOOKUP(F75136,Biomasser!$A$3:$E$88,4,FALSE),0)","v":0},null,{"$f":"IFERROR(VLOOKUP(F75136,Biomasser!$A$3:$E$88,5,FALSE),0)","v":0},"",0,null,null,{"$f":"IFERROR(VLOOKUP(F75136,Biomasser!$A$3:$M$88,13,FALSE),)","v":0},null,null,null,null,null,{"$f":"IF(F75136<>\"\",'CO2 konvertering'!$C$23,)","v":0},null,null,null,null,0]
[null,null,null,"Ja",null,null,null,null,"",null,"",{"$f":"IFERROR(VLOOKUP(F75198,Biomasser!$A$3:$E$88,4,FALSE),0)","v":0},null,{"$f":"IFERROR(VLOOKUP(F75198,Biomasser!$A$3:$E$88,5,FALSE),0)","v":0},"",0,null,null,{"$f":"IFERROR(VLOOKUP(F75198,Biomasser!$A$3:$M$88,13,FALSE),)","v":0},null,null,null,null,null,{"$f":"IF(F75198<>\"\",'CO2 konvertering'!$C$23,)","v":0},null,null,null,null,0]
[null,null,null,"Ja",null,null,null,null,"",null,"",{"$f":"IFERROR(VLOOKUP(F75288,Biomasser!$A$3:$E$88,4,FALSE),0)","v":0},null,{"$f":"IFERROR(VLOOKUP(F75288,Biomasser!$A$3:$E$88,5,FALSE),0)","v":0},"",0,null,null,{"$f":"IFERROR(VLOOKUP(F75288,Biomasser!$A$3:$M$88,13,FALSE),)","v":0},null,null,null,null,null,{"$f":"IF(F75288<>\"\",'CO2 konvertering'!$C$23,)","v":0},null,null,null,null,0]
[null,null,null,"Ja",null,null,null,null,"",null,"",{"$f":"IFERROR(VLOOKUP(F75311,Biomasser!$A$3:$E$88,4,FALSE),0)","v":0},null,{"$f":"IFERROR(VLOOKUP(F75311,Biomasser!$A$3:$E$88,5,FALSE),0)","v":0},"",0,null,null,{"$f":"IFERROR(VLOOKUP(F75311,Biomasser!$A$3:$M$88,13,FALSE),)","v":0},null,null,null,null,null,{"$f":"IF(F75311<>\"\",'CO2 konvertering'!$C$23,)","v":0},null,null,null,null,0]
[null,null,null,"Ja",null,null,null,null,"",null,"",{"$f":"IFERROR(VLOOKUP(F75440,Biomasser!$A$3:$E$88,4,FALSE),0)","v":0},null,{"$f":"IFERROR(VLOOKUP(F75440,Biomasser!$A$3:$E$88,5,FALSE),0)","v":0},"",0,null,null,{"$f":"IFERROR(VLOOKUP(F75440,Biomasser!$A$3:$M$88,13,FALSE),)","v":0},null,null,null,null,null,{"$f":"IF(F75440<>\"\",'CO2 konvertering'!$C$23,)","v":0},null,null,null,null,0]
[null,null,null,"Ja",null,null,null,null,"",null,"",{"$f":"IFERROR(VLOOKUP(F75468,Biomasser!$A$3:$E$88,4,FALSE),0)","v":0},null,{"$f":"IFERROR(VLOOKUP(F75468,Biomasser!$A$3:$E$88,5,FALSE),0)","v":0},{"$f":"IF(AND(F75468<>\"\",(N75468=0)),\"Opdater biomasseark\",\"\")","v":""},0,null,null,{"$f":"IFERROR(VLOOKUP(F75468,Biomasser!$A$3:$M$88,13,FALSE),)","v":0},null,null,null,null,null,{"$f":"IF(F75468<>\"\",'CO2 konvertering'!$C$23,)","v":0},null,null,null,null,0]
[null,null,null,"Ja",null,null,null,null,"",null,"",{"$f":"IFERROR(VLOOKUP(F75592,Biomasser!$A$3:$E$88,4,FALSE),0)","v":0},null,{"$f":"IFERROR(VLOOKUP(F75592,Biomasser!$A$3:$E$88,5,FALSE),0)","v":0},"",0,null,null,{"$f":"IFERROR(VLOOKUP(F75592,Biomasser!$A$3:$M$88,13,FALSE),)","v":0},null,null,null,null,null,{"$f":"IF(F75592<>\"\",'CO2 konvertering'!$C$23,)","v":0},null,null,null,null,0]
[null,null,null,"Ja",null,null,null,null,"",null,"",{"$f":"IFERROR(VLOOKUP(F75625,Biomasser!$A$3:$E$88,4,FALSE),0)","v":0},null,{"$f":"IFERROR(VLOOKUP(F75625,Biomasser!$A$3:$E$88,5,FALSE),0)","v":0},"",0,null,null,{"$f":"IFERROR(VLOOKUP(F75625,Biomasser!$A$3:$M$88,13,FALSE),)","v":0},null,null,null,null,null,{"$f":"IF(F75625<>\"\",'CO2 konvertering'!$C$23,)","v":0},null,null,null,null,0]
[null,null,null,"Ja",null,null,null,null,"",null,"",{"$f":"IFERROR(VLOOKUP(F75698,Biomasser!$A$3:$E$88,4,FALSE),0)","v":0},null,{"$f":"IFERROR(VLOOKUP(F75698,Biomasser!$A$3:$E$88,5,FALSE),0)","v":0},"",0,null,null,{"$f":"IFERROR(VLOOKUP(F75698,Biomasser!$A$3:$M$88,13,FALSE),)","v":0},null,null,null,null,null,{"$f":"IF(F75698<>\"\",'CO2 konvertering'!$C$23,)","v":0},null,null,null,null,0]
[null,null,null,"Ja",null,null,null,null,"",null,"",{"$f":"IFERROR(VLOOKUP(F75782,Biomasser!$A$3:$E$88,4,FALSE),0)","v":0},null,{"$f":"IFERROR(VLOOKUP(F75782,Biomasser!$A$3:$E$88,5,FALSE),0)","v":0},"",0,null,null,{"$f":"IFERROR(VLOOKUP(F75782,Biomasser!$A$3:$M$88,13,FALSE),)","v":0},null,null,null,null,null,{"$f":"IF(F75782<>\"\",'CO2 konvertering'!$C$23,)","v":0},null,null,null,null,0]
[null,null,null,"Ja",null,null,null,null,"",null,"",{"$f":"IFERROR(VLOOKUP(F75850,Biomasser!$A$3:$E$88,4,FALSE),0)","v":0},null,{"$f":"IFERROR(VLOOKUP(F75850,Biomasser!$A$3:$E$88,5,FALSE),0)","v":0},"",0,null,null,{"$f":"IFERROR(VLOOKUP(F75850,Biomasser!$A$3:$M$88,13,FALSE),)","v":0},null,null,null,null,null,{"$f":"IF(F75850<>\"\",'CO2 konvertering'!$C$23,)","v":0},null,null,null,null,0]
[null,null,null,"Ja",null,null,null,null,"",null,"",{"$f":"IFERROR(VLOOKUP(F75971,Biomasser!$A$3:$E$88,4,FALSE),0)","v":0},null,{"$f":"IFERROR(VLOOKUP(F75971,Biomasser!$A$3:$E$88,5,FALSE),0)","v":0},"",0,null,null,{"$f":"IFERROR(VLOOKUP(F75971,Biomasser!$A$3:$M$88,13,FALSE),)","v":0},null,null,null,null,null,{"$f":"IF(F75971<>\"\",'CO2 konvertering'!$C$23,)","v":0},null,null,null,null,0]
[null,null,null,"Ja",null,null,null,null,"",null,"",{"$f":"IFERROR(VLOOKUP(F76002,Biomasser!$A$3:$E$88,4,FALSE),0)","v":0},null,{"$f":"IFERROR(VLOOKUP(F76002,Biomasser!$A$3:$E$88,5,FALSE),0)","v":0},"",0,null,null,{"$f":"IFERROR(VLOOKUP(F76002,Biomasser!$A$3:$M$88,13,FALSE),)","v":0},null,null,null,null,null,{"$f":"IF(F76002<>\"\",'CO2 konvertering'!$C$23,)","v":0},null,null,null,null,0]
[null,null,null,"Ja",null,null,null,null,"",null,"",{"$f":"IFERROR(VLOOKUP(F76128,Biomasser!$A$3:$E$88,4,FALSE),0)","v":0},null,{"$f":"IFERROR(VLOOKUP(F76128,Biomasser!$A$3:$E$88,5,FALSE),0)","v":0},"",0,null,null,{"$f":"IFERROR(VLOOKUP(F76128,Biomasser!$A$3:$M$88,13,FALSE),)","v":0},null,null,null,null,null,{"$f":"IF(F76128<>\"\",'CO2 konvertering'!$C$23,)","v":0},null,null,null,null,0]
[null,null,null,"Ja",null,null,null,null,"",null,"",{"$f":"IFERROR(VLOOKUP(F76154,Biomasser!$A$3:$E$88,4,FALSE),0)","v":0},null,{"$f":"IFERROR(VLOOKUP(F76154,Biomasser!$A$3:$E$88,5,FALSE),0)","v":0},"",0,null,null,{"$f":"IFERROR(VLOOKUP(F76154,Biomasser!$A$3:$M$88,13,FALSE),)","v":0},null,null,null,null,null,{"$f":"IF(F76154<>\"\",'CO2 konvertering'!$C$23,)","v":0},null,null,null,null,0]
[null,null,null,"Ja",null,null,null,null,"",null,"",{"$f":"IFERROR(VLOOKUP(F76209,Biomasser!$A$3:$E$88,4,FALSE),0)","v":0},null,{"$f":"IFERROR(VLOOKUP(F76209,Biomasser!$A$3:$E$88,5,FALSE),0)","v":0},"",0,null,null,{"$f":"IFERROR(VLOOKUP(F76209,Biomasser!$A$3:$M$88,13,FALSE),)","v":0},null,null,null,null,null,{"$f":"IF(F76209<>\"\",'CO2 konvertering'!$C$23,)","v":0},null,null,null,null,0]
[null,null,null,"Ja",null,null,null,null,"",null,"",{"$f":"IFERROR(VLOOKUP(F76335,Biomasser!$A$3:$E$88,4,FALSE),0)","v":0},null,{"$f":"IFERROR(VLOOKUP(F76335,Biomasser!$A$3:$E$88,5,FALSE),0)","v":0},"",0,null,null,{"$f":"IFERROR(VLOOKUP(F76335,Biomasser!$A$3:$M$88,13,FALSE),)","v":0},null,null,null,null,null,{"$f":"IF(F76335<>\"\",'CO2 konvertering'!$C$23,)","v":0},null,null,null,null,0]
[null,null,null,"Ja",null,null,null,null,"",null,"",{"$f":"IFERROR(VLOOKUP(F76366,Biomasser!$A$3:$E$88,4,FALSE),0)","v":0},null,{"$f":"IFERROR(VLOOKUP(F76366,Biomasser!$A$3:$E$88,5,FALSE),0)","v":0},"",0,null,null,{"$f":"IFERROR(VLOOKUP(F76366,Biomasser!$A$3:$M$88,13,FALSE),)","v":0},null,null,null,null,null,{"$f":"IF(F76366<>\"\",'CO2 konvertering'!$C$23,)","v":0},null,null,null,null,0]
[null,null,null,"Ja",null,null,null,null,"",null,"",{"$f":"IFERROR(VLOOKUP(F76499,Biomasser!$A$3:$E$88,4,FALSE),0)","v":0},null,{"$f":"IFERROR(VLOOKUP(F76499,Biomasser!$A$3:$E$88,5,FALSE),0)","v":0},"",0,null,null,{"$f":"IFERROR(VLOOKUP(F76499,Biomasser!$A$3:$M$88,13,FALSE),)","v":0},null,null,null,null,null,{"$f":"IF(F76499<>\"\",'CO2 konvertering'!$C$23,)","v":0},null,null,null,null,0]
[null,null,null,"Ja",null,null,null,null,"",null,"",{"$f":"IFERROR(VLOOKUP(F76511,Biomasser!$A$3:$E$88,4,FALSE),0)","v":0},null,{"$f":"IFERROR(VLOOKUP(F76511,Biomasser!$A$3:$E$88,5,FALSE),0)","v":0},"",0,null,null,{"$f":"IFERROR(VLOOKUP(F76511,Biomasser!$A$3:$M$88,13,FALSE),)","v":0},null,null,null,null,null,{"$f":"IF(F76511<>\"\",'CO2 konvertering'!$C$23,)","v":0},null,null,null,null,0]
[null,null,null,"Ja",null,null,null,null,"",null,"",{"$f":"IFERROR(VLOOKUP(F76512,Biomasser!$A$3:$E$88,4,FALSE),0)","v":0},null,{"$f":"IFERROR(VLOOKUP(F76512,Biomasser!$A$3:$E$88,5,FALSE),0)","v":0},"",0,null,null,{"$f":"IFERROR(VLOOKUP(F76512,Biomasser!$A$3:$M$88,13,FALSE),)","v":0},null,null,null,null,null,{"$f":"IF(F76512<>\"\",'CO2 konvertering'!$C$23,)","v":0},null,null,null,null,0]
[null,null,null,"Ja",null,null,null,null,"",null,"",{"$f":"IFERROR(VLOOKUP(F76513,Biomasser!$A$3:$E$88,4,FALSE),0)","v":0},null,{"$f":"IFERROR(VLOOKUP(F76513,Biomasser!$A$3:$E$88,5,FALSE),0)","v":0},"",0,null,null,{"$f":"IFERROR(VLOOKUP(F76513,Biomasser!$A$3:$M$88,13,FALSE),)","v":0},null,null,null,null,null,{"$f":"IF(F76513<>\"\",'CO2 konvertering'!$C$23,)","v":0},null,null,null,null,0]
[null,null,null,"Ja",null,null,null,null,"",null,"",{"$f":"IFERROR(VLOOKUP(F76514,Biomasser!$A$3:$E$88,4,FALSE),0)","v":0},null,{"$f":"IFERROR(VLOOKUP(F76514,Biomasser!$A$3:$E$88,5,FALSE),0)","v":0},"",{"$f":"J76514*L76514*N76514*H76514","v":0},null,null,{"$f":"IFERROR(VLOOKUP(F76514,Biomasser!$A$3:$M$88,13,FALSE),)","v":0},null,null,null,null,null,{"$f":"IF(F76514<>\"\",'CO2 konvertering'!$C$23,)","v":0},null,null,null,null,{"$f":"SUM(S76514:AC76514)","v":0}]
[null,null,null,"Ja",null,null,null,null,{"$f":"IF(AND(F76515<>\"\",ISBLANK(H76515)),\"Indtast vægt\",\"\")","v":""},null,{"$f":"IF(AND(F76515<>\"\",ISBLANK(J76515)),\"Indtast tørstof %\",\"\")","v":""},{"$f":"IFERROR(VLOOKUP(F76515,Biomasser!$A$3:$E$88,4,FALSE),0)","v":0},null,{"$f":"IFERROR(VLOOKUP(F76515,Biomasser!$A$3:$E$88,5,FALSE),0)","v":0},"",0,null,null,{"$f":"IFERROR(VLOOKUP(F76515,Biomasser!$A$3:$M$88,13,FALSE),)","v":0},null,null,null,null,null,{"$f":"IF(F76515<>\"\",'CO2 konvertering'!$C$23,)","v":0},null,null,null,null,0]
[null,null,null,"Ja",null,null,null,null,"",null,"",{"$f":"IFERROR(VLOOKUP(F76516,Biomasser!$A$3:$E$88,4,FALSE),0)","v":0},null,{"$f":"IFERROR(VLOOKUP(F76516,Biomasser!$A$3:$E$88,5,FALSE),0)","v":0},"",0,null,null,{"$f":"IFERROR(VLOOKUP(F76516,Biomasser!$A$3:$M$88,13,FALSE),)","v":0},null,null,null,null,null,{"$f":"IF(F76516<>\"\",'CO2 konvertering'!$C$23,)","v":0},null,null,null,null,0]
[null,null,null,"Ja",null,null,null,null,"",null,"",{"$f":"IFERROR(VLOOKUP(F76517,Biomasser!$A$3:$E$88,4,FALSE),0)","v":0},null,{"$f":"IFERROR(VLOOKUP(F76517,Biomasser!$A$3:$E$88,5,FALSE),0)","v":0},"",0,null,null,{"$f":"IFERROR(VLOOKUP(F76517,Biomasser!$A$3:$M$88,13,FALSE),)","v":0},null,null,null,null,null,{"$f":"IF(F76517<>\"\",'CO2 konvertering'!$C$23,)","v":0},null,null,null,null,0]
[null,null,null,"Ja",null,null,null,null,"",null,"",{"$f":"IFERROR(VLOOKUP(F76518,Biomasser!$A$3:$E$88,4,FALSE),0)","v":0},null,{"$f":"IFERROR(VLOOKUP(F76518,Biomasser!$A$3:$E$88,5,FALSE),0)","v":0},{"$f":"IF(AND(F76518<>\"\",(N76518=0)),\"Opdater biomasseark\",\"\")","v":""},0,null,null,{"$f":"IFERROR(VLOOKUP(F76518,Biomasser!$A$3:$M$88,13,FALSE),)","v":0},null,null,null,null,null,{"$f":"IF(F76518<>\"\",'CO2 konvertering'!$C$23,)","v":0},null,null,null,null,0]
[null,null,null,"Ja",null,null,null,null,"",null,"",{"$f":"IFERROR(VLOOKUP(F76519,Biomasser!$A$3:$E$88,4,FALSE),0)","v":0},null,{"$f":"IFERROR(VLOOKUP(F76519,Biomasser!$A$3:$E$88,5,FALSE),0)","v":0},"",0,null,null,{"$f":"IFERROR(VLOOKUP(F76519,Biomasser!$A$3:$M$88,13,FALSE),)","v":0},null,null,null,null,null,{"$f":"IF(F76519<>\"\",'CO2 konvertering'!$C$23,)","v":0},null,null,null,null,0]
[null,null,null,"Ja",null,null,null,null,"",null,"",{"$f":"IFERROR(VLOOKUP(F76520,Biomasser!$A$3:$E$88,4,FALSE),0)","v":0},null,{"$f":"IFERROR(VLOOKUP(F76520,Biomasser!$A$3:$E$88,5,FALSE),0)","v":0},"",0,null,null,{"$f":"IFERROR(VLOOKUP(F76520,Biomasser!$A$3:$M$88,13,FALSE),)","v":0},null,null,null,null,null,{"$f":"IF(F76520<>\"\",'CO2 konvertering'!$C$23,)","v":0},null,null,null,null,0]
[null,null,null,"Ja",null,null,null,null,"",null,"",{"$f":"IFERROR(VLOOKUP(F76521,Biomasser!$A$3:$E$88,4,FALSE),0)","v":0},null,{"$f":"IFERROR(VLOOKUP(F76521,Biomasser!$A$3:$E$88,5,FALSE),0)","v":0},"",0,null,null,{"$f":"IFERROR(VLOOKUP(F76521,Biomasser!$A$3:$M$88,13,FALSE),)","v":0},null,null,null,null,null,{"$f":"IF(F76521<>\"\",'CO2 konvertering'!$C$23,)","v":0},null,null,null,null,0]
[null,null,null,"Ja",null,null,null,null,"",null,"",{"$f":"IFERROR(VLOOKUP(F76522,Biomasser!$A$3:$E$88,4,FALSE),0)","v":0},null,{"$f":"IFERROR(VLOOKUP(F76522,Biomasser!$A$3:$E$88,5,FALSE),0)","v":0},"",0,null,null,{"$f":"IFERROR(VLOOKUP(F76522,Biomasser!$A$3:$M$88,13,FALSE),)","v":0},null,null,null,null,null,{"$f":"IF(F76522<>\"\",'CO2 konvertering'!$C$23,)","v":0},null,null,null,null,0]
[null,null,null,"Ja",null,null,null,null,"",null,"",{"$f":"IFERROR(VLOOKUP(F76523,Biomasser!$A$3:$E$88,4,FALSE),0)","v":0},null,{"$f":"IFERROR(VLOOKUP(F76523,Biomasser!$A$3:$E$88,5,FALSE),0)","v":0},"",0,null,null,{"$f":"IFERROR(VLOOKUP(F76523,Biomasser!$A$3:$M$88,13,FALSE),)","v":0},null,null,null,null,null,{"$f":"IF(F76523<>\"\",'CO2 konvertering'!$C$23,)","v":0},null,null,null,null,0]
[null,null,null,"Ja",null,null,null,null,"",null,"",{"$f":"IFERROR(VLOOKUP(F76524,Biomasser!$A$3:$E$88,4,FALSE),0)","v":0},null,{"$f":"IFERROR(VLOOKUP(F76524,Biomasser!$A$3:$E$88,5,FALSE),0)","v":0},"",0,null,null,{"$f":"IFERROR(VLOOKUP(F76524,Biomasser!$A$3:$M$88,13,FALSE),)","v":0},null,null,null,null,null,{"$f":"IF(F76524<>\"\",'CO2 konvertering'!$C$23,)","v":0},null,null,null,null,0]
[null,null,null,"Ja",null,null,null,null,"",null,"",{"$f":"IFERROR(VLOOKUP(F76525,Biomasser!$A$3:$E$88,4,FALSE),0)","v":0},null,{"$f":"IFERROR(VLOOKUP(F76525,Biomasser!$A$3:$E$88,5,FALSE),0)","v":0},"",0,null,null,{"$f":"IFERROR(VLOOKUP(F76525,Biomasser!$A$3:$M$88,13,FALSE),)","v":0},null,null,null,null,null,{"$f":"IF(F76525<>\"\",'CO2 konvertering'!$C$23,)","v":0},null,null,null,null,0]
[null,null,null,"Ja",null,null,null,null,"",null,"",{"$f":"IFERROR(VLOOKUP(F76526,Biomasser!$A$3:$E$88,4,FALSE),0)","v":0},null,{"$f":"IFERROR(VLOOKUP(F76526,Biomasser!$A$3:$E$88,5,FALSE),0)","v":0},"",0,null,null,{"$f":"IFERROR(VLOOKUP(F76526,Biomasser!$A$3:$M$88,13,FALSE),)","v":0},null,null,null,null,null,{"$f":"IF(F76526<>\"\",'CO2 konvertering'!$C$23,)","v":0},null,null,null,null,0]
[null,null,null,"Ja",null,null,null,null,"",null,"",{"$f":"IFERROR(VLOOKUP(F76527,Biomasser!$A$3:$E$88,4,FALSE),0)","v":0},null,{"$f":"IFERROR(VLOOKUP(F76527,Biomasser!$A$3:$E$88,5,FALSE),0)","v":0},"",0,null,null,{"$f":"IFERROR(VLOOKUP(F76527,Biomasser!$A$3:$M$88,13,FALSE),)","v":0},null,null,null,null,null,{"$f":"IF(F76527<>\"\",'CO2 konvertering'!$C$23,)","v":0},null,null,null,null,0]
[null,null,null,"Ja",null,null,null,null,"",null,"",{"$f":"IFERROR(VLOOKUP(F76528,Biomasser!$A$3:$E$88,4,FALSE),0)","v":0},null,{"$f":"IFERROR(VLOOKUP(F76528,Biomasser!$A$3:$E$88,5,FALSE),0)","v":0},"",0,null,null,{"$f":"IFERROR(VLOOKUP(F76528,Biomasser!$A$3:$M$88,13,FALSE),)","v":0},null,null,null,null,null,{"$f":"IF(F76528<>\"\",'CO2 konvertering'!$C$23,)","v":0},null,null,null,null,0]
[null,null,null,"Ja",null,null,null,null,"",null,"",{"$f":"IFERROR(VLOOKUP(F76529,Biomasser!$A$3:$E$88,4,FALSE),0)","v":0},null,{"$f":"IFERROR(VLOOKUP(F76529,Biomasser!$A$3:$E$88,5,FALSE),0)","v":0},"",0,null,null,{"$f":"IFERROR(VLOOKUP(F76529,Biomasser!$A$3:$M$88,13,FALSE),)","v":0},null,null,null,null,null,{"$f":"IF(F76529<>\"\",'CO2 konvertering'!$C$23,)","v":0},null,null,null,null,0]
[null,null,null,"Ja",null,null,null,null,"",null,"",{"$f":"IFERROR(VLOOKUP(F76530,Biomasser!$A$3:$E$88,4,FALSE),0)","v":0},null,{"$f":"IFERROR(VLOOKUP(F76530,Biomasser!$A$3:$E$88,5,FALSE),0)","v":0},"",0,null,null,{"$f":"IFERROR(VLOOKUP(F76530,Biomasser!$A$3:$M$88,13,FALSE),)","v":0},null,null,null,null,null,{"$f":"IF(F76530<>\"\",'CO2 konvertering'!$C$23,)","v":0},null,null,null,null,0]
[null,null,null,"Ja",null,null,null,null,"",null,"",{"$f":"IFERROR(VLOOKUP(F76531,Biomasser!$A$3:$E$88,4,FALSE),0)","v":0},null,{"$f":"IFERROR(VLOOKUP(F76531,Biomasser!$A$3:$E$88,5,FALSE),0)","v":0},"",0,null,null,{"$f":"IFERROR(VLOOKUP(F76531,Biomasser!$A$3:$M$88,13,FALSE),)","v":0},null,null,null,null,null,{"$f":"IF(F76531<>\"\",'CO2 konvertering'!$C$23,)","v":0},null,null,null,null,0]
[null,null,null,"Ja",null,null,null,null,"",null,"",{"$f":"IFERROR(VLOOKUP(F76532,Biomasser!$A$3:$E$88,4,FALSE),0)","v":0},null,{"$f":"IFERROR(VLOOKUP(F76532,Biomasser!$A$3:$E$88,5,FALSE),0)","v":0},"",0,null,null,{"$f":"IFERROR(VLOOKUP(F76532,Biomasser!$A$3:$M$88,13,FALSE),)","v":0},null,null,null,null,null,{"$f":"IF(F76532<>\"\",'CO2 konvertering'!$C$23,)","v":0},null,null,null,null,0]
[null,null,null,"Ja",null,null,null,null,"",null,"",{"$f":"IFERROR(VLOOKUP(F76533,Biomasser!$A$3:$E$88,4,FALSE),0)","v":0},null,{"$f":"IFERROR(VLOOKUP(F76533,Biomasser!$A$3:$E$88,5,FALSE),0)","v":0},"",0,null,null,{"$f":"IFERROR(VLOOKUP(F76533,Biomasser!$A$3:$M$88,13,FALSE),)","v":0},null,null,null,null,null,{"$f":"IF(F76533<>\"\",'CO2 konvertering'!$C$23,)","v":0},null,null,null,null,0]
[null,null,null,"Ja",null,null,null,null,"",null,"",{"$f":"IFERROR(VLOOKUP(F76534,Biomasser!$A$3:$E$88,4,FALSE),0)","v":0},null,{"$f":"IFERROR(VLOOKUP(F76534,Biomasser!$A$3:$E$88,5,FALSE),0)","v":0},"",0,null,null,{"$f":"IFERROR(VLOOKUP(F76534,Biomasser!$A$3:$M$88,13,FALSE),)","v":0},null,null,null,null,null,{"$f":"IF(F76534<>\"\",'CO2 konvertering'!$C$23,)","v":0},null,null,null,null,0]
[null,null,null,"Ja",null,null,null,null,"",null,"",{"$f":"IFERROR(VLOOKUP(F76535,Biomasser!$A$3:$E$88,4,FALSE),0)","v":0},null,{"$f":"IFERROR(VLOOKUP(F76535,Biomasser!$A$3:$E$88,5,FALSE),0)","v":0},"",0,null,null,{"$f":"IFERROR(VLOOKUP(F76535,Biomasser!$A$3:$M$88,13,FALSE),)","v":0},null,null,null,null,null,{"$f":"IF(F76535<>\"\",'CO2 konvertering'!$C$23,)","v":0},null,null,null,null,0]
[null,null,null,"Ja",null,null,null,null,"",null,"",{"$f":"IFERROR(VLOOKUP(F76536,Biomasser!$A$3:$E$88,4,FALSE),0)","v":0},null,{"$f":"IFERROR(VLOOKUP(F76536,Biomasser!$A$3:$E$88,5,FALSE),0)","v":0},"",0,null,null,{"$f":"IFERROR(VLOOKUP(F76536,Biomasser!$A$3:$M$88,13,FALSE),)","v":0},null,null,null,null,null,{"$f":"IF(F76536<>\"\",'CO2 konvertering'!$C$23,)","v":0},null,null,null,null,0]
[null,null,null,"Ja",null,null,null,null,"",null,"",{"$f":"IFERROR(VLOOKUP(F76537,Biomasser!$A$3:$E$88,4,FALSE),0)","v":0},null,{"$f":"IFERROR(VLOOKUP(F76537,Biomasser!$A$3:$E$88,5,FALSE),0)","v":0},"",0,null,null,{"$f":"IFERROR(VLOOKUP(F76537,Biomasser!$A$3:$M$88,13,FALSE),)","v":0},null,null,null,null,null,{"$f":"IF(F76537<>\"\",'CO2 konvertering'!$C$23,)","v":0},null,null,null,null,0]
[null,null,null,"Ja",null,null,null,null,"",null,"",{"$f":"IFERROR(VLOOKUP(F76538,Biomasser!$A$3:$E$88,4,FALSE),0)","v":0},null,{"$f":"IFERROR(VLOOKUP(F76538,Biomasser!$A$3:$E$88,5,FALSE),0)","v":0},"",0,null,null,{"$f":"IFERROR(VLOOKUP(F76538,Biomasser!$A$3:$M$88,13,FALSE),)","v":0},null,null,null,null,null,{"$f":"IF(F76538<>\"\",'CO2 konvertering'!$C$23,)","v":0},null,null,null,null,0]
[null,null,null,"Ja",null,null,null,null,"",null,"",{"$f":"IFERROR(VLOOKUP(F76539,Biomasser!$A$3:$E$88,4,FALSE),0)","v":0},null,{"$f":"IFERROR(VLOOKUP(F76539,Biomasser!$A$3:$E$88,5,FALSE),0)","v":0},"",0,null,null,{"$f":"IFERROR(VLOOKUP(F76539,Biomasser!$A$3:$M$88,13,FALSE),)","v":0},null,null,null,null,null,{"$f":"IF(F76539<>\"\",'CO2 konvertering'!$C$23,)","v":0},null,null,null,null,0]
[null,null,null,"Ja",null,null,null,null,"",null,"",{"$f":"IFERROR(VLOOKUP(F76540,Biomasser!$A$3:$E$88,4,FALSE),0)","v":0},null,{"$f":"IFERROR(VLOOKUP(F76540,Biomasser!$A$3:$E$88,5,FALSE),0)","v":0},"",0,null,null,{"$f":"IFERROR(VLOOKUP(F76540,Biomasser!$A$3:$M$88,13,FALSE),)","v":0},null,null,null,null,null,{"$f":"IF(F76540<>\"\",'CO2 konvertering'!$C$23,)","v":0},null,null,null,null,0]
[null,null,null,"Ja",null,null,null,null,"",null,"",{"$f":"IFERROR(VLOOKUP(F76541,Biomasser!$A$3:$E$88,4,FALSE),0)","v":0},null,{"$f":"IFERROR(VLOOKUP(F76541,Biomasser!$A$3:$E$88,5,FALSE),0)","v":0},"",0,null,null,{"$f":"IFERROR(VLOOKUP(F76541,Biomasser!$A$3:$M$88,13,FALSE),)","v":0},null,null,null,null,null,{"$f":"IF(F76541<>\"\",'CO2 konvertering'!$C$23,)","v":0},null,null,null,null,0]
[null,null,null,"Ja",null,null,null,null,"",null,"",{"$f":"IFERROR(VLOOKUP(F76542,Biomasser!$A$3:$E$88,4,FALSE),0)","v":0},null,{"$f":"IFERROR(VLOOKUP(F76542,Biomasser!$A$3:$E$88,5,FALSE),0)","v":0},"",0,null,null,{"$f":"IFERROR(VLOOKUP(F76542,Biomasser!$A$3:$M$88,13,FALSE),)","v":0},null,null,null,null,null,{"$f":"IF(F76542<>\"\",'CO2 konvertering'!$C$23,)","v":0},null,null,null,null,0]
[null,null,null,"Ja",null,null,null,null,"",null,"",{"$f":"IFERROR(VLOOKUP(F76543,Biomasser!$A$3:$E$88,4,FALSE),0)","v":0},null,{"$f":"IFERROR(VLOOKUP(F76543,Biomasser!$A$3:$E$88,5,FALSE),0)","v":0},"",0,null,null,{"$f":"IFERROR(VLOOKUP(F76543,Biomasser!$A$3:$M$88,13,FALSE),)","v":0},null,null,null,null,null,{"$f":"IF(F76543<>\"\",'CO2 konvertering'!$C$23,)","v":0},null,null,null,null,0]
[null,null,null,"Ja",null,null,null,null,"",null,"",{"$f":"IFERROR(VLOOKUP(F76544,Biomasser!$A$3:$E$88,4,FALSE),0)","v":0},null,{"$f":"IFERROR(VLOOKUP(F76544,Biomasser!$A$3:$E$88,5,FALSE),0)","v":0},"",0,null,null,{"$f":"IFERROR(VLOOKUP(F76544,Biomasser!$A$3:$M$88,13,FALSE),)","v":0},null,null,null,null,null,{"$f":"IF(F76544<>\"\",'CO2 konvertering'!$C$23,)","v":0},null,null,null,null,0]
[null,null,null,"Ja",null,null,null,null,"",null,"",{"$f":"IFERROR(VLOOKUP(F76545,Biomasser!$A$3:$E$88,4,FALSE),0)","v":0},null,{"$f":"IFERROR(VLOOKUP(F76545,Biomasser!$A$3:$E$88,5,FALSE),0)","v":0},"",0,null,null,{"$f":"IFERROR(VLOOKUP(F76545,Biomasser!$A$3:$M$88,13,FALSE),)","v":0},null,null,null,null,null,{"$f":"IF(F76545<>\"\",'CO2 konvertering'!$C$23,)","v":0},null,null,null,null,0]
[null,null,null,"Ja",null,null,null,null,"",null,"",{"$f":"IFERROR(VLOOKUP(F76546,Biomasser!$A$3:$E$88,4,FALSE),0)","v":0},null,{"$f":"IFERROR(VLOOKUP(F76546,Biomasser!$A$3:$E$88,5,FALSE),0)","v":0},"",0,null,null,{"$f":"IFERROR(VLOOKUP(F76546,Biomasser!$A$3:$M$88,13,FALSE),)","v":0},null,null,null,null,null,{"$f":"IF(F76546<>\"\",'CO2 konvertering'!$C$23,)","v":0},null,null,null,null,{"$f":"SUM(S76546:AC76546)","v":0}]
[null,null,null,"Ja",null,null,null,null,"",null,"",{"$f":"IFERROR(VLOOKUP(F76547,Biomasser!$A$3:$E$88,4,FALSE),0)","v":0},null,{"$f":"IFERROR(VLOOKUP(F76547,Biomasser!$A$3:$E$88,5,FALSE),0)","v":0},"",0,null,null,{"$f":"IFERROR(VLOOKUP(F76547,Biomasser!$A$3:$M$88,13,FALSE),)","v":0},null,null,null,null,null,{"$f":"IF(F76547<>\"\",'CO2 konvertering'!$C$23,)","v":0},null,null,null,null,0]
[null,null,null,"Ja",null,null,null,null,"",null,"",{"$f":"IFERROR(VLOOKUP(F76548,Biomasser!$A$3:$E$88,4,FALSE),0)","v":0},null,{"$f":"IFERROR(VLOOKUP(F76548,Biomasser!$A$3:$E$88,5,FALSE),0)","v":0},"",0,null,null,{"$f":"IFERROR(VLOOKUP(F76548,Biomasser!$A$3:$M$88,13,FALSE),)","v":0},null,null,null,null,null,{"$f":"IF(F76548<>\"\",'CO2 konvertering'!$C$23,)","v":0},null,null,null,null,0]
[null,null,null,"Ja",null,null,null,null,"",null,"",{"$f":"IFERROR(VLOOKUP(F76549,Biomasser!$A$3:$E$88,4,FALSE),0)","v":0},null,{"$f":"IFERROR(VLOOKUP(F76549,Biomasser!$A$3:$E$88,5,FALSE),0)","v":0},"",0,null,null,{"$f":"IFERROR(VLOOKUP(F76549,Biomasser!$A$3:$M$88,13,FALSE),)","v":0},null,null,null,null,null,{"$f":"IF(F76549<>\"\",'CO2 konvertering'!$C$23,)","v":0},null,null,null,null,0]
[null,null,null,"Ja",null,null,null,null,"",null,"",{"$f":"IFERROR(VLOOKUP(F76550,Biomasser!$A$3:$E$88,4,FALSE),0)","v":0},null,{"$f":"IFERROR(VLOOKUP(F76550,Biomasser!$A$3:$E$88,5,FALSE),0)","v":0},"",0,null,null,{"$f":"IFERROR(VLOOKUP(F76550,Biomasser!$A$3:$M$88,13,FALSE),)","v":0},null,null,null,null,null,{"$f":"IF(F76550<>\"\",'CO2 konvertering'!$C$23,)","v":0},null,null,null,null,0]
[null,"Dato:",null,null,null,"Mængde biomasse (Ton)",null,"Gasproduktion"]
["Gas","30. december",2016,null,null,{"$f":"SUM(H76555:H76655)","v":0},null,null,"m3 CH4"]
[null,"Leverandør",null,"Certificeret",null,"Råvarer input","          Mængder                 \n      (Ton vådvægt)            ",null,null,"Tørstof\n%",null,"Omsættelig tørstof\n%",null,"Gaspotentiale\nm³ CH4/ton VS",null,"Teoretisk\ngasproduktion\nm³ CH4"]
[]
[{"$f":"B76552&C76552","v":"30. december2016"},null,null,"Ja",null,null,null,null,{"$f":"IF(AND(F76555<>\"\",ISBLANK(H76555)),\"Indtast vægt\",\"\")","v":""},null,{"$f":"IF(AND(F76555<>\"\",ISBLANK(J76555)),\"Indtast tørstof %\",\"\")","v":""},{"$f":"IFERROR(VLOOKUP(F76555,Biomasser!$A$3:$E$88,4,FALSE),)","v":0},null,{"$f":"IFERROR(VLOOKUP(F76555,Biomasser!$A$3:$E$88,5,FALSE),0)","v":0},{"$f":"IF(AND(F76555<>\"\",(N76555=0)),\"Opdater biomasseark\",\"\")","v":""},{"$f":"J76555*L76555*N76555*H76555","v":0},null,null,{"$f":"IFERROR(VLOOKUP(F76555,Biomasser!$A$3:$M$88,13,FALSE),)","v":0},null,null,null,null,null,{"$f":"IF(F76555<>\"\",'CO2 konvertering'!$C$23,)","v":0},null,null,null,null,{"$f":"SUM(S76555:AC76555)","v":0}]
[null,null,null,"Ja",null,null,null,null,{"$f":"IF(AND(F76556<>\"\",ISBLANK(H76556)),\"Indtast vægt\",\"\")","v":""},null,{"$f":"IF(AND(F76556<>\"\",ISBLANK(J76556)),\"Indtast tørstof %\",\"\")","v":""},{"$f":"IFERROR(VLOOKUP(F76556,Biomasser!$A$3:$E$88,4,FALSE),0)","v":0},null,{"$f":"IFERROR(VLOOKUP(F76556,Biomasser!$A$3:$E$88,5,FALSE),0)","v":0},"",0,null,null,{"$f":"IFERROR(VLOOKUP(F76556,Biomasser!$A$3:$M$88,13,FALSE),)","v":0},null,null,null,null,null,{"$f":"IF(F76556<>\"\",'CO2 konvertering'!$C$23,)","v":0},null,null,null,null,0]
[null,null,null,"Ja",null,null,null,null,"",null,"",{"$f":"IFERROR(VLOOKUP(F76557,Biomasser!$A$3:$E$88,4,FALSE),0)","v":0},null,{"$f":"IFERROR(VLOOKUP(F76557,Biomasser!$A$3:$E$88,5,FALSE),0)","v":0},"",0,null,null,{"$f":"IFERROR(VLOOKUP(F76557,Biomasser!$A$3:$M$88,13,FALSE),)","v":0},null,null,null,null,null,{"$f":"IF(F76557<>\"\",'CO2 konvertering'!$C$23,)","v":0},null,null,null,null,0]
[null,null,null,"Ja",null,null,null,null,"",null,"",{"$f":"IFERROR(VLOOKUP(F76558,Biomasser!$A$3:$E$88,4,FALSE),0)","v":0},null,{"$f":"IFERROR(VLOOKUP(F76558,Biomasser!$A$3:$E$88,5,FALSE),0)","v":0},{"$f":"IF(AND(F76558<>\"\",(N76558=0)),\"Opdater biomasseark\",\"\")","v":""},0,null,null,{"$f":"IFERROR(VLOOKUP(F76558,Biomasser!$A$3:$M$88,13,FALSE),)","v":0},null,null,null,null,null,{"$f":"IF(F76558<>\"\",'CO2 konvertering'!$C$23,)","v":0},null,null,null,null,0]
[null,null,null,"Ja",null,null,null,null,"",null,"",{"$f":"IFERROR(VLOOKUP(F76559,Biomasser!$A$3:$E$88,4,FALSE),0)","v":0},null,{"$f":"IFERROR(VLOOKUP(F76559,Biomasser!$A$3:$E$88,5,FALSE),0)","v":0},{"$f":"IF(AND(F76559<>\"\",(N76559=0)),\"Opdater biomasseark\",\"\")","v":""},0,null,null,{"$f":"IFERROR(VLOOKUP(F76559,Biomasser!$A$3:$M$88,13,FALSE),)","v":0},null,null,null,null,null,{"$f":"IF(F76559<>\"\",'CO2 konvertering'!$C$23,)","v":0},null,null,null,null,0]
[null,null,null,"Ja",null,null,null,null,"",null,"",{"$f":"IFERROR(VLOOKUP(F76560,Biomasser!$A$3:$E$88,4,FALSE),0)","v":0},null,{"$f":"IFERROR(VLOOKUP(F76560,Biomasser!$A$3:$E$88,5,FALSE),0)","v":0},"",0,null,null,{"$f":"IFERROR(VLOOKUP(F76560,Biomasser!$A$3:$M$88,13,FALSE),)","v":0},null,null,null,null,null,{"$f":"IF(F76560<>\"\",'CO2 konvertering'!$C$23,)","v":0},null,null,null,null,0]
[null,null,null,"Ja",null,null,null,null,"",null,"",{"$f":"IFERROR(VLOOKUP(F76561,Biomasser!$A$3:$E$88,4,FALSE),0)","v":0},null,{"$f":"IFERROR(VLOOKUP(F76561,Biomasser!$A$3:$E$88,5,FALSE),0)","v":0},"",0,null,null,{"$f":"IFERROR(VLOOKUP(F76561,Biomasser!$A$3:$M$88,13,FALSE),)","v":0},null,null,null,null,null,{"$f":"IF(F76561<>\"\",'CO2 konvertering'!$C$23,)","v":0},null,null,null,null,0]
[null,null,null,"Ja",null,null,null,null,"",null,"",{"$f":"IFERROR(VLOOKUP(F76562,Biomasser!$A$3:$E$88,4,FALSE),0)","v":0},null,{"$f":"IFERROR(VLOOKUP(F76562,Biomasser!$A$3:$E$88,5,FALSE),0)","v":0},"",0,null,null,{"$f":"IFERROR(VLOOKUP(F76562,Biomasser!$A$3:$M$88,13,FALSE),)","v":0},null,null,null,null,null,{"$f":"IF(F76562<>\"\",'CO2 konvertering'!$C$23,)","v":0},null,null,null,null,0]
[null,null,null,"Ja",null,null,null,null,"",null,"",{"$f":"IFERROR(VLOOKUP(F76563,Biomasser!$A$3:$E$88,4,FALSE),0)","v":0},null,{"$f":"IFERROR(VLOOKUP(F76563,Biomasser!$A$3:$E$88,5,FALSE),0)","v":0},"",0,null,null,{"$f":"IFERROR(VLOOKUP(F76563,Biomasser!$A$3:$M$88,13,FALSE),)","v":0},null,null,null,null,null,{"$f":"IF(F76563<>\"\",'CO2 konvertering'!$C$23,)","v":0},null,null,null,null,0]
[null,null,null,"Ja",null,null,null,null,"",null,"",{"$f":"IFERROR(VLOOKUP(F76564,Biomasser!$A$3:$E$88,4,FALSE),0)","v":0},null,{"$f":"IFERROR(VLOOKUP(F76564,Biomasser!$A$3:$E$88,5,FALSE),0)","v":0},"",0,null,null,{"$f":"IFERROR(VLOOKUP(F76564,Biomasser!$A$3:$M$88,13,FALSE),)","v":0},null,null,null,null,null,{"$f":"IF(F76564<>\"\",'CO2 konvertering'!$C$23,)","v":0},null,null,null,null,0]
[null,null,null,"Ja",null,null,null,null,"",null,"",{"$f":"IFERROR(VLOOKUP(F76565,Biomasser!$A$3:$E$88,4,FALSE),0)","v":0},null,{"$f":"IFERROR(VLOOKUP(F76565,Biomasser!$A$3:$E$88,5,FALSE),0)","v":0},"",0,null,null,{"$f":"IFERROR(VLOOKUP(F76565,Biomasser!$A$3:$M$88,13,FALSE),)","v":0},null,null,null,null,null,{"$f":"IF(F76565<>\"\",'CO2 konvertering'!$C$23,)","v":0},null,null,null,null,0]
[null,null,null,"Ja",null,null,null,null,"",null,"",{"$f":"IFERROR(VLOOKUP(F76566,Biomasser!$A$3:$E$88,4,FALSE),0)","v":0},null,{"$f":"IFERROR(VLOOKUP(F76566,Biomasser!$A$3:$E$88,5,FALSE),0)","v":0},"",0,null,null,{"$f":"IFERROR(VLOOKUP(F76566,Biomasser!$A$3:$M$88,13,FALSE),)","v":0},null,null,null,null,null,{"$f":"IF(F76566<>\"\",'CO2 konvertering'!$C$23,)","v":0},null,null,null,null,0]
[null,null,null,"Ja",null,null,null,null,"",null,"",{"$f":"IFERROR(VLOOKUP(F76567,Biomasser!$A$3:$E$88,4,FALSE),0)","v":0},null,{"$f":"IFERROR(VLOOKUP(F76567,Biomasser!$A$3:$E$88,5,FALSE),0)","v":0},"",0,null,null,{"$f":"IFERROR(VLOOKUP(F76567,Biomasser!$A$3:$M$88,13,FALSE),)","v":0},null,null,null,null,null,{"$f":"IF(F76567<>\"\",'CO2 konvertering'!$C$23,)","v":0},null,null,null,null,0]
[null,null,null,"Ja",null,null,null,null,"",null,"",{"$f":"IFERROR(VLOOKUP(F76568,Biomasser!$A$3:$E$88,4,FALSE),0)","v":0},null,{"$f":"IFERROR(VLOOKUP(F76568,Biomasser!$A$3:$E$88,5,FALSE),0)","v":0},"",0,null,null,{"$f":"IFERROR(VLOOKUP(F76568,Biomasser!$A$3:$M$88,13,FALSE),)","v":0},null,null,null,null,null,{"$f":"IF(F76568<>\"\",'CO2 konvertering'!$C$23,)","v":0},null,null,null,null,0]
[null,null,null,"Ja",null,null,null,null,"",null,"",{"$f":"IFERROR(VLOOKUP(F76569,Biomasser!$A$3:$E$88,4,FALSE),0)","v":0},null,{"$f":"IFERROR(VLOOKUP(F76569,Biomasser!$A$3:$E$88,5,FALSE),0)","v":0},"",0,null,null,{"$f":"IFERROR(VLOOKUP(F76569,Biomasser!$A$3:$M$88,13,FALSE),)","v":0},null,null,null,null,null,{"$f":"IF(F76569<>\"\",'CO2 konvertering'!$C$23,)","v":0},null,null,null,null,0]
[null,null,null,"Ja",null,null,null,null,"",null,"",{"$f":"IFERROR(VLOOKUP(F76570,Biomasser!$A$3:$E$88,4,FALSE),0)","v":0},null,{"$f":"IFERROR(VLOOKUP(F76570,Biomasser!$A$3:$E$88,5,FALSE),0)","v":0},"",0,null,null,{"$f":"IFERROR(VLOOKUP(F76570,Biomasser!$A$3:$M$88,13,FALSE),)","v":0},null,null,null,null,null,{"$f":"IF(F76570<>\"\",'CO2 konvertering'!$C$23,)","v":0},null,null,null,null,0]
[null,null,null,"Ja",null,null,null,null,"",null,"",{"$f":"IFERROR(VLOOKUP(F76571,Biomasser!$A$3:$E$88,4,FALSE),0)","v":0},null,{"$f":"IFERROR(VLOOKUP(F76571,Biomasser!$A$3:$E$88,5,FALSE),0)","v":0},"",0,null,null,{"$f":"IFERROR(VLOOKUP(F76571,Biomasser!$A$3:$M$88,13,FALSE),)","v":0},null,null,null,null,null,{"$f":"IF(F76571<>\"\",'CO2 konvertering'!$C$23,)","v":0},null,null,null,null,0]
[null,null,null,"Ja",null,null,null,null,"",null,"",{"$f":"IFERROR(VLOOKUP(F76572,Biomasser!$A$3:$E$88,4,FALSE),0)","v":0},null,{"$f":"IFERROR(VLOOKUP(F76572,Biomasser!$A$3:$E$88,5,FALSE),0)","v":0},"",0,null,null,{"$f":"IFERROR(VLOOKUP(F76572,Biomasser!$A$3:$M$88,13,FALSE),)","v":0},null,null,null,null,null,{"$f":"IF(F76572<>\"\",'CO2 konvertering'!$C$23,)","v":0},null,null,null,null,0]
[null,null,null,"Ja",null,null,null,null,"",null,"",{"$f":"IFERROR(VLOOKUP(F76573,Biomasser!$A$3:$E$88,4,FALSE),0)","v":0},null,{"$f":"IFERROR(VLOOKUP(F76573,Biomasser!$A$3:$E$88,5,FALSE),0)","v":0},"",0,null,null,{"$f":"IFERROR(VLOOKUP(F76573,Biomasser!$A$3:$M$88,13,FALSE),)","v":0},null,null,null,null,null,{"$f":"IF(F76573<>\"\",'CO2 konvertering'!$C$23,)","v":0},null,null,null,null,0]
[null,null,null,"Ja",null,null,null,null,"",null,"",{"$f":"IFERROR(VLOOKUP(F76574,Biomasser!$A$3:$E$88,4,FALSE),0)","v":0},null,{"$f":"IFERROR(VLOOKUP(F76574,Biomasser!$A$3:$E$88,5,FALSE),0)","v":0},"",0,null,null,{"$f":"IFERROR(VLOOKUP(F76574,Biomasser!$A$3:$M$88,13,FALSE),)","v":0},null,null,null,null,null,{"$f":"IF(F76574<>\"\",'CO2 konvertering'!$C$23,)","v":0},null,null,null,null,0]
[null,null,null,"Ja",null,null,null,null,"",null,"",{"$f":"IFERROR(VLOOKUP(F76575,Biomasser!$A$3:$E$88,4,FALSE),0)","v":0},null,{"$f":"IFERROR(VLOOKUP(F76575,Biomasser!$A$3:$E$88,5,FALSE),0)","v":0},"",0,null,null,{"$f":"IFERROR(VLOOKUP(F76575,Biomasser!$A$3:$M$88,13,FALSE),)","v":0},null,null,null,null,null,{"$f":"IF(F76575<>\"\",'CO2 konvertering'!$C$23,)","v":0},null,null,null,null,0]
[null,null,null,"Ja",null,null,null,null,"",null,"",{"$f":"IFERROR(VLOOKUP(F76576,Biomasser!$A$3:$E$88,4,FALSE),0)","v":0},null,{"$f":"IFERROR(VLOOKUP(F76576,Biomasser!$A$3:$E$88,5,FALSE),0)","v":0},"",0,null,null,{"$f":"IFERROR(VLOOKUP(F76576,Biomasser!$A$3:$M$88,13,FALSE),)","v":0},null,null,null,null,null,{"$f":"IF(F76576<>\"\",'CO2 konvertering'!$C$23,)","v":0},null,null,null,null,0]
[null,null,null,"Ja",null,null,null,null,"",null,"",{"$f":"IFERROR(VLOOKUP(F76577,Biomasser!$A$3:$E$88,4,FALSE),0)","v":0},null,{"$f":"IFERROR(VLOOKUP(F76577,Biomasser!$A$3:$E$88,5,FALSE),0)","v":0},"",0,null,null,{"$f":"IFERROR(VLOOKUP(F76577,Biomasser!$A$3:$M$88,13,FALSE),)","v":0},null,null,null,null,null,{"$f":"IF(F76577<>\"\",'CO2 konvertering'!$C$23,)","v":0},null,null,null,null,0]
[null,null,null,"Ja",null,null,null,null,"",null,"",{"$f":"IFERROR(VLOOKUP(F76578,Biomasser!$A$3:$E$88,4,FALSE),0)","v":0},null,{"$f":"IFERROR(VLOOKUP(F76578,Biomasser!$A$3:$E$88,5,FALSE),0)","v":0},"",0,null,null,{"$f":"IFERROR(VLOOKUP(F76578,Biomasser!$A$3:$M$88,13,FALSE),)","v":0},null,null,null,null,null,{"$f":"IF(F76578<>\"\",'CO2 konvertering'!$C$23,)","v":0},null,null,null,null,0]
[null,null,null,"Ja",null,null,null,null,"",null,"",{"$f":"IFERROR(VLOOKUP(F76579,Biomasser!$A$3:$E$88,4,FALSE),0)","v":0},null,{"$f":"IFERROR(VLOOKUP(F76579,Biomasser!$A$3:$E$88,5,FALSE),0)","v":0},"",0,null,null,{"$f":"IFERROR(VLOOKUP(F76579,Biomasser!$A$3:$M$88,13,FALSE),)","v":0},null,null,null,null,null,{"$f":"IF(F76579<>\"\",'CO2 konvertering'!$C$23,)","v":0},null,null,null,null,0]
[null,null,null,"Ja",null,null,null,null,"",null,"",{"$f":"IFERROR(VLOOKUP(F76580,Biomasser!$A$3:$E$88,4,FALSE),0)","v":0},null,{"$f":"IFERROR(VLOOKUP(F76580,Biomasser!$A$3:$E$88,5,FALSE),0)","v":0},"",0,null,null,{"$f":"IFERROR(VLOOKUP(F76580,Biomasser!$A$3:$M$88,13,FALSE),)","v":0},null,null,null,null,null,{"$f":"IF(F76580<>\"\",'CO2 konvertering'!$C$23,)","v":0},null,null,null,null,0]
[null,null,null,"Ja",null,null,null,null,"",null,"",{"$f":"IFERROR(VLOOKUP(F76581,Biomasser!$A$3:$E$88,4,FALSE),0)","v":0},null,{"$f":"IFERROR(VLOOKUP(F76581,Biomasser!$A$3:$E$88,5,FALSE),0)","v":0},"",0,null,null,{"$f":"IFERROR(VLOOKUP(F76581,Biomasser!$A$3:$M$88,13,FALSE),)","v":0},null,null,null,null,null,{"$f":"IF(F76581<>\"\",'CO2 konvertering'!$C$23,)","v":0},null,null,null,null,0]
[null,null,null,"Ja",null,null,null,null,"",null,"",{"$f":"IFERROR(VLOOKUP(F76582,Biomasser!$A$3:$E$88,4,FALSE),0)","v":0},null,{"$f":"IFERROR(VLOOKUP(F76582,Biomasser!$A$3:$E$88,5,FALSE),0)","v":0},"",0,null,null,{"$f":"IFERROR(VLOOKUP(F76582,Biomasser!$A$3:$M$88,13,FALSE),)","v":0},null,null,null,null,null,{"$f":"IF(F76582<>\"\",'CO2 konvertering'!$C$23,)","v":0},null,null,null,null,0]
[null,null,null,"Ja",null,null,null,null,"",null,"",{"$f":"IFERROR(VLOOKUP(F76583,Biomasser!$A$3:$E$88,4,FALSE),0)","v":0},null,{"$f":"IFERROR(VLOOKUP(F76583,Biomasser!$A$3:$E$88,5,FALSE),0)","v":0},"",0,null,null,{"$f":"IFERROR(VLOOKUP(F76583,Biomasser!$A$3:$M$88,13,FALSE),)","v":0},null,null,null,null,null,{"$f":"IF(F76583<>\"\",'CO2 konvertering'!$C$23,)","v":0},null,null,null,null,0]
[null,null,null,"Ja",null,null,null,null,"",null,"",{"$f":"IFERROR(VLOOKUP(F76584,Biomasser!$A$3:$E$88,4,FALSE),0)","v":0},null,{"$f":"IFERROR(VLOOKUP(F76584,Biomasser!$A$3:$E$88,5,FALSE),0)","v":0},"",0,null,null,{"$f":"IFERROR(VLOOKUP(F76584,Biomasser!$A$3:$M$88,13,FALSE),)","v":0},null,null,null,null,null,{"$f":"IF(F76584<>\"\",'CO2 konvertering'!$C$23,)","v":0},null,null,null,null,0]
[null,null,null,"Ja",null,null,null,null,"",null,"",{"$f":"IFERROR(VLOOKUP(F76585,Biomasser!$A$3:$E$88,4,FALSE),0)","v":0},null,{"$f":"IFERROR(VLOOKUP(F76585,Biomasser!$A$3:$E$88,5,FALSE),0)","v":0},"",0,null,null,{"$f":"IFERROR(VLOOKUP(F76585,Biomasser!$A$3:$M$88,13,FALSE),)","v":0},null,null,null,null,null,{"$f":"IF(F76585<>\"\",'CO2 konvertering'!$C$23,)","v":0},null,null,null,null,0]
[null,null,null,"Ja",null,null,null,null,"",null,"",{"$f":"IFERROR(VLOOKUP(F76586,Biomasser!$A$3:$E$88,4,FALSE),0)","v":0},null,{"$f":"IFERROR(VLOOKUP(F76586,Biomasser!$A$3:$E$88,5,FALSE),0)","v":0},"",0,null,null,{"$f":"IFERROR(VLOOKUP(F76586,Biomasser!$A$3:$M$88,13,FALSE),)","v":0},null,null,null,null,null,{"$f":"IF(F76586<>\"\",'CO2 konvertering'!$C$23,)","v":0},null,null,null,null,0]
[null,null,null,"Ja",null,null,null,null,"",null,"",{"$f":"IFERROR(VLOOKUP(F76587,Biomasser!$A$3:$E$88,4,FALSE),0)","v":0},null,{"$f":"IFERROR(VLOOKUP(F76587,Biomasser!$A$3:$E$88,5,FALSE),0)","v":0},"",0,null,null,{"$f":"IFERROR(VLOOKUP(F76587,Biomasser!$A$3:$M$88,13,FALSE),)","v":0},null,null,null,null,null,{"$f":"IF(F76587<>\"\",'CO2 konvertering'!$C$23,)","v":0},null,null,null,null,{"$f":"SUM(S76587:AC76587)","v":0}]
[null,null,null,"Ja",null,null,null,null,"",null,"",{"$f":"IFERROR(VLOOKUP(F76588,Biomasser!$A$3:$E$88,4,FALSE),0)","v":0},null,{"$f":"IFERROR(VLOOKUP(F76588,Biomasser!$A$3:$E$88,5,FALSE),0)","v":0},"",0,null,null,{"$f":"IFERROR(VLOOKUP(F76588,Biomasser!$A$3:$M$88,13,FALSE),)","v":0},null,null,null,null,null,{"$f":"IF(F76588<>\"\",'CO2 konvertering'!$C$23,)","v":0},null,null,null,null,0]
[null,null,null,"Ja",null,null,null,null,"",null,"",{"$f":"IFERROR(VLOOKUP(F76589,Biomasser!$A$3:$E$88,4,FALSE),0)","v":0},null,{"$f":"IFERROR(VLOOKUP(F76589,Biomasser!$A$3:$E$88,5,FALSE),0)","v":0},"",0,null,null,{"$f":"IFERROR(VLOOKUP(F76589,Biomasser!$A$3:$M$88,13,FALSE),)","v":0},null,null,null,null,null,{"$f":"IF(F76589<>\"\",'CO2 konvertering'!$C$23,)","v":0},null,null,null,null,0]
[null,null,null,"Ja",null,null,null,null,"",null,"",{"$f":"IFERROR(VLOOKUP(F76590,Biomasser!$A$3:$E$88,4,FALSE),0)","v":0},null,{"$f":"IFERROR(VLOOKUP(F76590,Biomasser!$A$3:$E$88,5,FALSE),0)","v":0},"",0,null,null,{"$f":"IFERROR(VLOOKUP(F76590,Biomasser!$A$3:$M$88,13,FALSE),)","v":0},null,null,null,null,null,{"$f":"IF(F76590<>\"\",'CO2 konvertering'!$C$23,)","v":0},null,null,null,null,0]
[null,null,null,"Ja",null,null,null,null,"",null,"",{"$f":"IFERROR(VLOOKUP(F76591,Biomasser!$A$3:$E$88,4,FALSE),0)","v":0},null,{"$f":"IFERROR(VLOOKUP(F76591,Biomasser!$A$3:$E$88,5,FALSE),0)","v":0},"",0,null,null,{"$f":"IFERROR(VLOOKUP(F76591,Biomasser!$A$3:$M$88,13,FALSE),)","v":0},null,null,null,null,null,{"$f":"IF(F76591<>\"\",'CO2 konvertering'!$C$23,)","v":0},null,null,null,null,0]
[null,null,null,"Ja",null,null,null,null,"",null,"",{"$f":"IFERROR(VLOOKUP(F76592,Biomasser!$A$3:$E$88,4,FALSE),0)","v":0},null,{"$f":"IFERROR(VLOOKUP(F76592,Biomasser!$A$3:$E$88,5,FALSE),0)","v":0},"",0,null,null,{"$f":"IFERROR(VLOOKUP(F76592,Biomasser!$A$3:$M$88,13,FALSE),)","v":0},null,null,null,null,null,{"$f":"IF(F76592<>\"\",'CO2 konvertering'!$C$23,)","v":0},null,null,null,null,0]
[null,null,null,"Ja",null,null,null,null,"",null,"",{"$f":"IFERROR(VLOOKUP(F76593,Biomasser!$A$3:$E$88,4,FALSE),0)","v":0},null,{"$f":"IFERROR(VLOOKUP(F76593,Biomasser!$A$3:$E$88,5,FALSE),0)","v":0},"",0,null,null,{"$f":"IFERROR(VLOOKUP(F76593,Biomasser!$A$3:$M$88,13,FALSE),)","v":0},null,null,null,null,null,{"$f":"IF(F76593<>\"\",'CO2 konvertering'!$C$23,)","v":0},null,null,null,null,0]
[null,null,null,"Ja",null,null,null,null,"",null,"",{"$f":"IFERROR(VLOOKUP(F76594,Biomasser!$A$3:$E$88,4,FALSE),0)","v":0},null,{"$f":"IFERROR(VLOOKUP(F76594,Biomasser!$A$3:$E$88,5,FALSE),0)","v":0},"",0,null,null,{"$f":"IFERROR(VLOOKUP(F76594,Biomasser!$A$3:$M$88,13,FALSE),)","v":0},null,null,null,null,null,{"$f":"IF(F76594<>\"\",'CO2 konvertering'!$C$23,)","v":0},null,null,null,null,0]
[null,null,null,"Ja",null,null,null,null,"",null,"",{"$f":"IFERROR(VLOOKUP(F76595,Biomasser!$A$3:$E$88,4,FALSE),0)","v":0},null,{"$f":"IFERROR(VLOOKUP(F76595,Biomasser!$A$3:$E$88,5,FALSE),0)","v":0},"",0,null,null,{"$f":"IFERROR(VLOOKUP(F76595,Biomasser!$A$3:$M$88,13,FALSE),)","v":0},null,null,null,null,null,{"$f":"IF(F76595<>\"\",'CO2 konvertering'!$C$23,)","v":0},null,null,null,null,0]
[null,null,null,"Ja",null,null,null,null,"",null,"",{"$f":"IFERROR(VLOOKUP(F76596,Biomasser!$A$3:$E$88,4,FALSE),0)","v":0},null,{"$f":"IFERROR(VLOOKUP(F76596,Biomasser!$A$3:$E$88,5,FALSE),0)","v":0},"",0,null,null,{"$f":"IFERROR(VLOOKUP(F76596,Biomasser!$A$3:$M$88,13,FALSE),)","v":0},null,null,null,null,null,{"$f":"IF(F76596<>\"\",'CO2 konvertering'!$C$23,)","v":0},null,null,null,null,0]
[null,null,null,"Ja",null,null,null,null,"",null,"",{"$f":"IFERROR(VLOOKUP(F76597,Biomasser!$A$3:$E$88,4,FALSE),0)","v":0},null,{"$f":"IFERROR(VLOOKUP(F76597,Biomasser!$A$3:$E$88,5,FALSE),0)","v":0},"",0,null,null,{"$f":"IFERROR(VLOOKUP(F76597,Biomasser!$A$3:$M$88,13,FALSE),)","v":0},null,null,null,null,null,{"$f":"IF(F76597<>\"\",'CO2 konvertering'!$C$23,)","v":0},null,null,null,null,0]
[null,null,null,"Ja",null,null,null,null,"",null,"",{"$f":"IFERROR(VLOOKUP(F76598,Biomasser!$A$3:$E$88,4,FALSE),0)","v":0},null,{"$f":"IFERROR(VLOOKUP(F76598,Biomasser!$A$3:$E$88,5,FALSE),0)","v":0},"",0,null,null,{"$f":"IFERROR(VLOOKUP(F76598,Biomasser!$A$3:$M$88,13,FALSE),)","v":0},null,null,null,null,null,{"$f":"IF(F76598<>\"\",'CO2 konvertering'!$C$23,)","v":0},null,null,null,null,0]
[null,null,null,"Ja",null,null,null,null,"",null,"",{"$f":"IFERROR(VLOOKUP(F76599,Biomasser!$A$3:$E$88,4,FALSE),0)","v":0},null,{"$f":"IFERROR(VLOOKUP(F76599,Biomasser!$A$3:$E$88,5,FALSE),0)","v":0},"",0,null,null,{"$f":"IFERROR(VLOOKUP(F76599,Biomasser!$A$3:$M$88,13,FALSE),)","v":0},null,null,null,null,null,{"$f":"IF(F76599<>\"\",'CO2 konvertering'!$C$23,)","v":0},null,null,null,null,0]
[null,null,null,"Ja",null,null,null,null,"",null,"",{"$f":"IFERROR(VLOOKUP(F76600,Biomasser!$A$3:$E$88,4,FALSE),0)","v":0},null,{"$f":"IFERROR(VLOOKUP(F76600,Biomasser!$A$3:$E$88,5,FALSE),0)","v":0},"",0,null,null,{"$f":"IFERROR(VLOOKUP(F76600,Biomasser!$A$3:$M$88,13,FALSE),)","v":0},null,null,null,null,null,{"$f":"IF(F76600<>\"\",'CO2 konvertering'!$C$23,)","v":0},null,null,null,null,0]
[null,null,null,"Ja",null,null,null,null,"",null,"",{"$f":"IFERROR(VLOOKUP(F76601,Biomasser!$A$3:$E$88,4,FALSE),0)","v":0},null,{"$f":"IFERROR(VLOOKUP(F76601,Biomasser!$A$3:$E$88,5,FALSE),0)","v":0},"",0,null,null,{"$f":"IFERROR(VLOOKUP(F76601,Biomasser!$A$3:$M$88,13,FALSE),)","v":0},null,null,null,null,null,{"$f":"IF(F76601<>\"\",'CO2 konvertering'!$C$23,)","v":0},null,null,null,null,0]
[null,null,null,"Ja",null,null,null,null,"",null,"",{"$f":"IFERROR(VLOOKUP(F76602,Biomasser!$A$3:$E$88,4,FALSE),0)","v":0},null,{"$f":"IFERROR(VLOOKUP(F76602,Biomasser!$A$3:$E$88,5,FALSE),0)","v":0},"",0,null,null,{"$f":"IFERROR(VLOOKUP(F76602,Biomasser!$A$3:$M$88,13,FALSE),)","v":0},null,null,null,null,null,{"$f":"IF(F76602<>\"\",'CO2 konvertering'!$C$23,)","v":0},null,null,null,null,0]
[null,null,null,"Ja",null,null,null,null,"",null,"",{"$f":"IFERROR(VLOOKUP(F76603,Biomasser!$A$3:$E$88,4,FALSE),0)","v":0},null,{"$f":"IFERROR(VLOOKUP(F76603,Biomasser!$A$3:$E$88,5,FALSE),0)","v":0},"",0,null,null,{"$f":"IFERROR(VLOOKUP(F76603,Biomasser!$A$3:$M$88,13,FALSE),)","v":0},null,null,null,null,null,{"$f":"IF(F76603<>\"\",'CO2 konvertering'!$C$23,)","v":0},null,null,null,null,0]
[null,null,null,"Ja",null,null,null,null,"",null,"",{"$f":"IFERROR(VLOOKUP(F76604,Biomasser!$A$3:$E$88,4,FALSE),0)","v":0},null,{"$f":"IFERROR(VLOOKUP(F76604,Biomasser!$A$3:$E$88,5,FALSE),0)","v":0},"",0,null,null,{"$f":"IFERROR(VLOOKUP(F76604,Biomasser!$A$3:$M$88,13,FALSE),)","v":0},null,null,null,null,null,{"$f":"IF(F76604<>\"\",'CO2 konvertering'!$C$23,)","v":0},null,null,null,null,0]
[null,null,null,"Ja",null,null,null,null,"",null,"",{"$f":"IFERROR(VLOOKUP(F76605,Biomasser!$A$3:$E$88,4,FALSE),0)","v":0},null,{"$f":"IFERROR(VLOOKUP(F76605,Biomasser!$A$3:$E$88,5,FALSE),0)","v":0},"",0,null,null,{"$f":"IFERROR(VLOOKUP(F76605,Biomasser!$A$3:$M$88,13,FALSE),)","v":0},null,null,null,null,null,{"$f":"IF(F76605<>\"\",'CO2 konvertering'!$C$23,)","v":0},null,null,null,null,0]
[null,null,null,"Ja",null,null,null,null,"",null,"",{"$f":"IFERROR(VLOOKUP(F76606,Biomasser!$A$3:$E$88,4,FALSE),0)","v":0},null,{"$f":"IFERROR(VLOOKUP(F76606,Biomasser!$A$3:$E$88,5,FALSE),0)","v":0},"",0,null,null,{"$f":"IFERROR(VLOOKUP(F76606,Biomasser!$A$3:$M$88,13,FALSE),)","v":0},null,null,null,null,null,{"$f":"IF(F76606<>\"\",'CO2 konvertering'!$C$23,)","v":0},null,null,null,null,0]
[null,null,null,"Ja",null,null,null,null,"",null,"",{"$f":"IFERROR(VLOOKUP(F76607,Biomasser!$A$3:$E$88,4,FALSE),0)","v":0},null,{"$f":"IFERROR(VLOOKUP(F76607,Biomasser!$A$3:$E$88,5,FALSE),0)","v":0},"",0,null,null,{"$f":"IFERROR(VLOOKUP(F76607,Biomasser!$A$3:$M$88,13,FALSE),)","v":0},null,null,null,null,null,{"$f":"IF(F76607<>\"\",'CO2 konvertering'!$C$23,)","v":0},null,null,null,null,0]
[null,null,null,"Ja",null,null,null,null,"",null,"",{"$f":"IFERROR(VLOOKUP(F76608,Biomasser!$A$3:$E$88,4,FALSE),0)","v":0},null,{"$f":"IFERROR(VLOOKUP(F76608,Biomasser!$A$3:$E$88,5,FALSE),0)","v":0},"",0,null,null,{"$f":"IFERROR(VLOOKUP(F76608,Biomasser!$A$3:$M$88,13,FALSE),)","v":0},null,null,null,null,null,{"$f":"IF(F76608<>\"\",'CO2 konvertering'!$C$23,)","v":0},null,null,null,null,0]
[null,null,null,"Ja",null,null,null,null,"",null,"",{"$f":"IFERROR(VLOOKUP(F76609,Biomasser!$A$3:$E$88,4,FALSE),0)","v":0},null,{"$f":"IFERROR(VLOOKUP(F76609,Biomasser!$A$3:$E$88,5,FALSE),0)","v":0},"",0,null,null,{"$f":"IFERROR(VLOOKUP(F76609,Biomasser!$A$3:$M$88,13,FALSE),)","v":0},null,null,null,null,null,{"$f":"IF(F76609<>\"\",'CO2 konvertering'!$C$23,)","v":0},null,null,null,null,0]
[null,null,null,"Ja",null,null,null,null,"",null,"",{"$f":"IFERROR(VLOOKUP(F76610,Biomasser!$A$3:$E$88,4,FALSE),0)","v":0},null,{"$f":"IFERROR(VLOOKUP(F76610,Biomasser!$A$3:$E$88,5,FALSE),0)","v":0},"",0,null,null,{"$f":"IFERROR(VLOOKUP(F76610,Biomasser!$A$3:$M$88,13,FALSE),)","v":0},null,null,null,null,null,{"$f":"IF(F76610<>\"\",'CO2 konvertering'!$C$23,)","v":0},null,null,null,null,0]
[null,null,null,"Ja",null,null,null,null,"",null,"",{"$f":"IFERROR(VLOOKUP(F76611,Biomasser!$A$3:$E$88,4,FALSE),0)","v":0},null,{"$f":"IFERROR(VLOOKUP(F76611,Biomasser!$A$3:$E$88,5,FALSE),0)","v":0},"",0,null,null,{"$f":"IFERROR(VLOOKUP(F76611,Biomasser!$A$3:$M$88,13,FALSE),)","v":0},null,null,null,null,null,{"$f":"IF(F76611<>\"\",'CO2 konvertering'!$C$23,)","v":0},null,null,null,null,0]
[null,null,null,"Ja",null,null,null,null,"",null,"",{"$f":"IFERROR(VLOOKUP(F76612,Biomasser!$A$3:$E$88,4,FALSE),0)","v":0},null,{"$f":"IFERROR(VLOOKUP(F76612,Biomasser!$A$3:$E$88,5,FALSE),0)","v":0},"",0,null,null,{"$f":"IFERROR(VLOOKUP(F76612,Biomasser!$A$3:$M$88,13,FALSE),)","v":0},null,null,null,null,null,{"$f":"IF(F76612<>\"\",'CO2 konvertering'!$C$23,)","v":0},null,null,null,null,0]
[null,null,null,"Ja",null,null,null,null,"",null,"",{"$f":"IFERROR(VLOOKUP(F76613,Biomasser!$A$3:$E$88,4,FALSE),0)","v":0},null,{"$f":"IFERROR(VLOOKUP(F76613,Biomasser!$A$3:$E$88,5,FALSE),0)","v":0},"",0,null,null,{"$f":"IFERROR(VLOOKUP(F76613,Biomasser!$A$3:$M$88,13,FALSE),)","v":0},null,null,null,null,null,{"$f":"IF(F76613<>\"\",'CO2 konvertering'!$C$23,)","v":0},null,null,null,null,0]
[null,null,null,"Ja",null,null,null,null,"",null,"",{"$f":"IFERROR(VLOOKUP(F76614,Biomasser!$A$3:$E$88,4,FALSE),0)","v":0},null,{"$f":"IFERROR(VLOOKUP(F76614,Biomasser!$A$3:$E$88,5,FALSE),0)","v":0},"",0,null,null,{"$f":"IFERROR(VLOOKUP(F76614,Biomasser!$A$3:$M$88,13,FALSE),)","v":0},null,null,null,null,null,{"$f":"IF(F76614<>\"\",'CO2 konvertering'!$C$23,)","v":0},null,null,null,null,0]
[null,null,null,"Ja",null,null,null,null,"",null,"",{"$f":"IFERROR(VLOOKUP(F76615,Biomasser!$A$3:$E$88,4,FALSE),0)","v":0},null,{"$f":"IFERROR(VLOOKUP(F76615,Biomasser!$A$3:$E$88,5,FALSE),0)","v":0},"",0,null,null,{"$f":"IFERROR(VLOOKUP(F76615,Biomasser!$A$3:$M$88,13,FALSE),)","v":0},null,null,null,null,null,{"$f":"IF(F76615<>\"\",'CO2 konvertering'!$C$23,)","v":0},null,null,null,null,0]
[null,null,null,"Ja",null,null,null,null,"",null,"",{"$f":"IFERROR(VLOOKUP(F76616,Biomasser!$A$3:$E$88,4,FALSE),0)","v":0},null,{"$f":"IFERROR(VLOOKUP(F76616,Biomasser!$A$3:$E$88,5,FALSE),0)","v":0},"",0,null,null,{"$f":"IFERROR(VLOOKUP(F76616,Biomasser!$A$3:$M$88,13,FALSE),)","v":0},null,null,null,null,null,{"$f":"IF(F76616<>\"\",'CO2 konvertering'!$C$23,)","v":0},null,null,null,null,0]
[null,null,null,"Ja",null,null,null,null,"",null,"",{"$f":"IFERROR(VLOOKUP(F76617,Biomasser!$A$3:$E$88,4,FALSE),0)","v":0},null,{"$f":"IFERROR(VLOOKUP(F76617,Biomasser!$A$3:$E$88,5,FALSE),0)","v":0},"",0,null,null,{"$f":"IFERROR(VLOOKUP(F76617,Biomasser!$A$3:$M$88,13,FALSE),)","v":0},null,null,null,null,null,{"$f":"IF(F76617<>\"\",'CO2 konvertering'!$C$23,)","v":0},null,null,null,null,0]
[null,null,null,"Ja",null,null,null,null,"",null,"",{"$f":"IFERROR(VLOOKUP(F76618,Biomasser!$A$3:$E$88,4,FALSE),0)","v":0},null,{"$f":"IFERROR(VLOOKUP(F76618,Biomasser!$A$3:$E$88,5,FALSE),0)","v":0},"",0,null,null,{"$f":"IFERROR(VLOOKUP(F76618,Biomasser!$A$3:$M$88,13,FALSE),)","v":0},null,null,null,null,null,{"$f":"IF(F76618<>\"\",'CO2 konvertering'!$C$23,)","v":0},null,null,null,null,0]
[null,null,null,"Ja",null,null,null,null,"",null,"",{"$f":"IFERROR(VLOOKUP(F76619,Biomasser!$A$3:$E$88,4,FALSE),0)","v":0},null,{"$f":"IFERROR(VLOOKUP(F76619,Biomasser!$A$3:$E$88,5,FALSE),0)","v":0},"",{"$f":"J76619*L76619*N76619*H76619","v":0},null,null,{"$f":"IFERROR(VLOOKUP(F76619,Biomasser!$A$3:$M$88,13,FALSE),)","v":0},null,null,null,null,null,{"$f":"IF(F76619<>\"\",'CO2 konvertering'!$C$23,)","v":0},null,null,null,null,{"$f":"SUM(S76619:AC76619)","v":0}]
[null,null,null,"Ja",null,null,null,null,{"$f":"IF(AND(F76620<>\"\",ISBLANK(H76620)),\"Indtast vægt\",\"\")","v":""},null,{"$f":"IF(AND(F76620<>\"\",ISBLANK(J76620)),\"Indtast tørstof %\",\"\")","v":""},{"$f":"IFERROR(VLOOKUP(F76620,Biomasser!$A$3:$E$88,4,FALSE),0)","v":0},null,{"$f":"IFERROR(VLOOKUP(F76620,Biomasser!$A$3:$E$88,5,FALSE),0)","v":0},"",0,null,null,{"$f":"IFERROR(VLOOKUP(F76620,Biomasser!$A$3:$M$88,13,FALSE),)","v":0},null,null,null,null,null,{"$f":"IF(F76620<>\"\",'CO2 konvertering'!$C$23,)","v":0},null,null,null,null,0]
[null,null,null,"Ja",null,null,null,null,"",null,"",{"$f":"IFERROR(VLOOKUP(F76621,Biomasser!$A$3:$E$88,4,FALSE),0)","v":0},null,{"$f":"IFERROR(VLOOKUP(F76621,Biomasser!$A$3:$E$88,5,FALSE),0)","v":0},"",0,null,null,{"$f":"IFERROR(VLOOKUP(F76621,Biomasser!$A$3:$M$88,13,FALSE),)","v":0},null,null,null,null,null,{"$f":"IF(F76621<>\"\",'CO2 konvertering'!$C$23,)","v":0},null,null,null,null,0]
[null,null,null,"Ja",null,null,null,null,"",null,"",{"$f":"IFERROR(VLOOKUP(F76622,Biomasser!$A$3:$E$88,4,FALSE),0)","v":0},null,{"$f":"IFERROR(VLOOKUP(F76622,Biomasser!$A$3:$E$88,5,FALSE),0)","v":0},"",0,null,null,{"$f":"IFERROR(VLOOKUP(F76622,Biomasser!$A$3:$M$88,13,FALSE),)","v":0},null,null,null,null,null,{"$f":"IF(F76622<>\"\",'CO2 konvertering'!$C$23,)","v":0},null,null,null,null,0]
[null,null,null,"Ja",null,null,null,null,"",null,"",{"$f":"IFERROR(VLOOKUP(F76623,Biomasser!$A$3:$E$88,4,FALSE),0)","v":0},null,{"$f":"IFERROR(VLOOKUP(F76623,Biomasser!$A$3:$E$88,5,FALSE),0)","v":0},{"$f":"IF(AND(F76623<>\"\",(N76623=0)),\"Opdater biomasseark\",\"\")","v":""},0,null,null,{"$f":"IFERROR(VLOOKUP(F76623,Biomasser!$A$3:$M$88,13,FALSE),)","v":0},null,null,null,null,null,{"$f":"IF(F76623<>\"\",'CO2 konvertering'!$C$23,)","v":0},null,null,null,null,0]
[null,null,null,"Ja",null,null,null,null,"",null,"",{"$f":"IFERROR(VLOOKUP(F76624,Biomasser!$A$3:$E$88,4,FALSE),0)","v":0},null,{"$f":"IFERROR(VLOOKUP(F76624,Biomasser!$A$3:$E$88,5,FALSE),0)","v":0},"",0,null,null,{"$f":"IFERROR(VLOOKUP(F76624,Biomasser!$A$3:$M$88,13,FALSE),)","v":0},null,null,null,null,null,{"$f":"IF(F76624<>\"\",'CO2 konvertering'!$C$23,)","v":0},null,null,null,null,0]
[null,null,null,"Ja",null,null,null,null,"",null,"",{"$f":"IFERROR(VLOOKUP(F76625,Biomasser!$A$3:$E$88,4,FALSE),0)","v":0},null,{"$f":"IFERROR(VLOOKUP(F76625,Biomasser!$A$3:$E$88,5,FALSE),0)","v":0},"",0,null,null,{"$f":"IFERROR(VLOOKUP(F76625,Biomasser!$A$3:$M$88,13,FALSE),)","v":0},null,null,null,null,null,{"$f":"IF(F76625<>\"\",'CO2 konvertering'!$C$23,)","v":0},null,null,null,null,0]
[null,null,null,"Ja",null,null,null,null,"",null,"",{"$f":"IFERROR(VLOOKUP(F76626,Biomasser!$A$3:$E$88,4,FALSE),0)","v":0},null,{"$f":"IFERROR(VLOOKUP(F76626,Biomasser!$A$3:$E$88,5,FALSE),0)","v":0},"",0,null,null,{"$f":"IFERROR(VLOOKUP(F76626,Biomasser!$A$3:$M$88,13,FALSE),)","v":0},null,null,null,null,null,{"$f":"IF(F76626<>\"\",'CO2 konvertering'!$C$23,)","v":0},null,null,null,null,0]
[null,null,null,"Ja",null,null,null,null,"",null,"",{"$f":"IFERROR(VLOOKUP(F76627,Biomasser!$A$3:$E$88,4,FALSE),0)","v":0},null,{"$f":"IFERROR(VLOOKUP(F76627,Biomasser!$A$3:$E$88,5,FALSE),0)","v":0},"",0,null,null,{"$f":"IFERROR(VLOOKUP(F76627,Biomasser!$A$3:$M$88,13,FALSE),)","v":0},null,null,null,null,null,{"$f":"IF(F76627<>\"\",'CO2 konvertering'!$C$23,)","v":0},null,null,null,null,0]
[null,null,null,"Ja",null,null,null,null,"",null,"",{"$f":"IFERROR(VLOOKUP(F76628,Biomasser!$A$3:$E$88,4,FALSE),0)","v":0},null,{"$f":"IFERROR(VLOOKUP(F76628,Biomasser!$A$3:$E$88,5,FALSE),0)","v":0},"",0,null,null,{"$f":"IFERROR(VLOOKUP(F76628,Biomasser!$A$3:$M$88,13,FALSE),)","v":0},null,null,null,null,null,{"$f":"IF(F76628<>\"\",'CO2 konvertering'!$C$23,)","v":0},null,null,null,null,0]
[null,null,null,"Ja",null,null,null,null,"",null,"",{"$f":"IFERROR(VLOOKUP(F76629,Biomasser!$A$3:$E$88,4,FALSE),0)","v":0},null,{"$f":"IFERROR(VLOOKUP(F76629,Biomasser!$A$3:$E$88,5,FALSE),0)","v":0},"",0,null,null,{"$f":"IFERROR(VLOOKUP(F76629,Biomasser!$A$3:$M$88,13,FALSE),)","v":0},null,null,null,null,null,{"$f":"IF(F76629<>\"\",'CO2 konvertering'!$C$23,)","v":0},null,null,null,null,0]
[null,null,null,"Ja",null,null,null,null,"",null,"",{"$f":"IFERROR(VLOOKUP(F76630,Biomasser!$A$3:$E$88,4,FALSE),0)","v":0},null,{"$f":"IFERROR(VLOOKUP(F76630,Biomasser!$A$3:$E$88,5,FALSE),0)","v":0},"",0,null,null,{"$f":"IFERROR(VLOOKUP(F76630,Biomasser!$A$3:$M$88,13,FALSE),)","v":0},null,null,null,null,null,{"$f":"IF(F76630<>\"\",'CO2 konvertering'!$C$23,)","v":0},null,null,null,null,0]
[null,null,null,"Ja",null,null,null,null,"",null,"",{"$f":"IFERROR(VLOOKUP(F76631,Biomasser!$A$3:$E$88,4,FALSE),0)","v":0},null,{"$f":"IFERROR(VLOOKUP(F76631,Biomasser!$A$3:$E$88,5,FALSE),0)","v":0},"",0,null,null,{"$f":"IFERROR(VLOOKUP(F76631,Biomasser!$A$3:$M$88,13,FALSE),)","v":0},null,null,null,null,null,{"$f":"IF(F76631<>\"\",'CO2 konvertering'!$C$23,)","v":0},null,null,null,null,0]
[null,null,null,"Ja",null,null,null,null,"",null,"",{"$f":"IFERROR(VLOOKUP(F76632,Biomasser!$A$3:$E$88,4,FALSE),0)","v":0},null,{"$f":"IFERROR(VLOOKUP(F76632,Biomasser!$A$3:$E$88,5,FALSE),0)","v":0},"",0,null,null,{"$f":"IFERROR(VLOOKUP(F76632,Biomasser!$A$3:$M$88,13,FALSE),)","v":0},null,null,null,null,null,{"$f":"IF(F76632<>\"\",'CO2 konvertering'!$C$23,)","v":0},null,null,null,null,0]
[null,null,null,"Ja",null,null,null,null,"",null,"",{"$f":"IFERROR(VLOOKUP(F76633,Biomasser!$A$3:$E$88,4,FALSE),0)","v":0},null,{"$f":"IFERROR(VLOOKUP(F76633,Biomasser!$A$3:$E$88,5,FALSE),0)","v":0},"",0,null,null,{"$f":"IFERROR(VLOOKUP(F76633,Biomasser!$A$3:$M$88,13,FALSE),)","v":0},null,null,null,null,null,{"$f":"IF(F76633<>\"\",'CO2 konvertering'!$C$23,)","v":0},null,null,null,null,0]
[null,null,null,"Ja",null,null,null,null,"",null,"",{"$f":"IFERROR(VLOOKUP(F76634,Biomasser!$A$3:$E$88,4,FALSE),0)","v":0},null,{"$f":"IFERROR(VLOOKUP(F76634,Biomasser!$A$3:$E$88,5,FALSE),0)","v":0},"",0,null,null,{"$f":"IFERROR(VLOOKUP(F76634,Biomasser!$A$3:$M$88,13,FALSE),)","v":0},null,null,null,null,null,{"$f":"IF(F76634<>\"\",'CO2 konvertering'!$C$23,)","v":0},null,null,null,null,0]
[null,null,null,"Ja",null,null,null,null,"",null,"",{"$f":"IFERROR(VLOOKUP(F76635,Biomasser!$A$3:$E$88,4,FALSE),0)","v":0},null,{"$f":"IFERROR(VLOOKUP(F76635,Biomasser!$A$3:$E$88,5,FALSE),0)","v":0},"",0,null,null,{"$f":"IFERROR(VLOOKUP(F76635,Biomasser!$A$3:$M$88,13,FALSE),)","v":0},null,null,null,null,null,{"$f":"IF(F76635<>\"\",'CO2 konvertering'!$C$23,)","v":0},null,null,null,null,0]
[null,null,null,"Ja",null,null,null,null,"",null,"",{"$f":"IFERROR(VLOOKUP(F76636,Biomasser!$A$3:$E$88,4,FALSE),0)","v":0},null,{"$f":"IFERROR(VLOOKUP(F76636,Biomasser!$A$3:$E$88,5,FALSE),0)","v":0},"",0,null,null,{"$f":"IFERROR(VLOOKUP(F76636,Biomasser!$A$3:$M$88,13,FALSE),)","v":0},null,null,null,null,null,{"$f":"IF(F76636<>\"\",'CO2 konvertering'!$C$23,)","v":0},null,null,null,null,0]
[null,null,null,"Ja",null,null,null,null,"",null,"",{"$f":"IFERROR(VLOOKUP(F76637,Biomasser!$A$3:$E$88,4,FALSE),0)","v":0},null,{"$f":"IFERROR(VLOOKUP(F76637,Biomasser!$A$3:$E$88,5,FALSE),0)","v":0},"",0,null,null,{"$f":"IFERROR(VLOOKUP(F76637,Biomasser!$A$3:$M$88,13,FALSE),)","v":0},null,null,null,null,null,{"$f":"IF(F76637<>\"\",'CO2 konvertering'!$C$23,)","v":0},null,null,null,null,0]
[null,null,null,"Ja",null,null,null,null,"",null,"",{"$f":"IFERROR(VLOOKUP(F76638,Biomasser!$A$3:$E$88,4,FALSE),0)","v":0},null,{"$f":"IFERROR(VLOOKUP(F76638,Biomasser!$A$3:$E$88,5,FALSE),0)","v":0},"",0,null,null,{"$f":"IFERROR(VLOOKUP(F76638,Biomasser!$A$3:$M$88,13,FALSE),)","v":0},null,null,null,null,null,{"$f":"IF(F76638<>\"\",'CO2 konvertering'!$C$23,)","v":0},null,null,null,null,0]
[null,null,null,"Ja",null,null,null,null,"",null,"",{"$f":"IFERROR(VLOOKUP(F76639,Biomasser!$A$3:$E$88,4,FALSE),0)","v":0},null,{"$f":"IFERROR(VLOOKUP(F76639,Biomasser!$A$3:$E$88,5,FALSE),0)","v":0},"",0,null,null,{"$f":"IFERROR(VLOOKUP(F76639,Biomasser!$A$3:$M$88,13,FALSE),)","v":0},null,null,null,null,null,{"$f":"IF(F76639<>\"\",'CO2 konvertering'!$C$23,)","v":0},null,null,null,null,0]
[null,null,null,"Ja",null,null,null,null,"",null,"",{"$f":"IFERROR(VLOOKUP(F76640,Biomasser!$A$3:$E$88,4,FALSE),0)","v":0},null,{"$f":"IFERROR(VLOOKUP(F76640,Biomasser!$A$3:$E$88,5,FALSE),0)","v":0},"",0,null,null,{"$f":"IFERROR(VLOOKUP(F76640,Biomasser!$A$3:$M$88,13,FALSE),)","v":0},null,null,null,null,null,{"$f":"IF(F76640<>\"\",'CO2 konvertering'!$C$23,)","v":0},null,null,null,null,0]
[null,null,null,"Ja",null,null,null,null,"",null,"",{"$f":"IFERROR(VLOOKUP(F76641,Biomasser!$A$3:$E$88,4,FALSE),0)","v":0},null,{"$f":"IFERROR(VLOOKUP(F76641,Biomasser!$A$3:$E$88,5,FALSE),0)","v":0},"",0,null,null,{"$f":"IFERROR(VLOOKUP(F76641,Biomasser!$A$3:$M$88,13,FALSE),)","v":0},null,null,null,null,null,{"$f":"IF(F76641<>\"\",'CO2 konvertering'!$C$23,)","v":0},null,null,null,null,0]
[null,null,null,"Ja",null,null,null,null,"",null,"",{"$f":"IFERROR(VLOOKUP(F76642,Biomasser!$A$3:$E$88,4,FALSE),0)","v":0},null,{"$f":"IFERROR(VLOOKUP(F76642,Biomasser!$A$3:$E$88,5,FALSE),0)","v":0},"",0,null,null,{"$f":"IFERROR(VLOOKUP(F76642,Biomasser!$A$3:$M$88,13,FALSE),)","v":0},null,null,null,null,null,{"$f":"IF(F76642<>\"\",'CO2 konvertering'!$C$23,)","v":0},null,null,null,null,0]
[null,null,null,"Ja",null,null,null,null,"",null,"",{"$f":"IFERROR(VLOOKUP(F76643,Biomasser!$A$3:$E$88,4,FALSE),0)","v":0},null,{"$f":"IFERROR(VLOOKUP(F76643,Biomasser!$A$3:$E$88,5,FALSE),0)","v":0},"",0,null,null,{"$f":"IFERROR(VLOOKUP(F76643,Biomasser!$A$3:$M$88,13,FALSE),)","v":0},null,null,null,null,null,{"$f":"IF(F76643<>\"\",'CO2 konvertering'!$C$23,)","v":0},null,null,null,null,0]
[null,null,null,"Ja",null,null,null,null,"",null,"",{"$f":"IFERROR(VLOOKUP(F76644,Biomasser!$A$3:$E$88,4,FALSE),0)","v":0},null,{"$f":"IFERROR(VLOOKUP(F76644,Biomasser!$A$3:$E$88,5,FALSE),0)","v":0},"",0,null,null,{"$f":"IFERROR(VLOOKUP(F76644,Biomasser!$A$3:$M$88,13,FALSE),)","v":0},null,null,null,null,null,{"$f":"IF(F76644<>\"\",'CO2 konvertering'!$C$23,)","v":0},null,null,null,null,0]
[null,null,null,"Ja",null,null,null,null,"",null,"",{"$f":"IFERROR(VLOOKUP(F76645,Biomasser!$A$3:$E$88,4,FALSE),0)","v":0},null,{"$f":"IFERROR(VLOOKUP(F76645,Biomasser!$A$3:$E$88,5,FALSE),0)","v":0},"",0,null,null,{"$f":"IFERROR(VLOOKUP(F76645,Biomasser!$A$3:$M$88,13,FALSE),)","v":0},null,null,null,null,null,{"$f":"IF(F76645<>\"\",'CO2 konvertering'!$C$23,)","v":0},null,null,null,null,0]
[null,null,null,"Ja",null,null,null,null,"",null,"",{"$f":"IFERROR(VLOOKUP(F76646,Biomasser!$A$3:$E$88,4,FALSE),0)","v":0},null,{"$f":"IFERROR(VLOOKUP(F76646,Biomasser!$A$3:$E$88,5,FALSE),0)","v":0},"",0,null,null,{"$f":"IFERROR(VLOOKUP(F76646,Biomasser!$A$3:$M$88,13,FALSE),)","v":0},null,null,null,null,null,{"$f":"IF(F76646<>\"\",'CO2 konvertering'!$C$23,)","v":0},null,null,null,null,0]
[null,null,null,"Ja",null,null,null,null,"",null,"",{"$f":"IFERROR(VLOOKUP(F76647,Biomasser!$A$3:$E$88,4,FALSE),0)","v":0},null,{"$f":"IFERROR(VLOOKUP(F76647,Biomasser!$A$3:$E$88,5,FALSE),0)","v":0},"",0,null,null,{"$f":"IFERROR(VLOOKUP(F76647,Biomasser!$A$3:$M$88,13,FALSE),)","v":0},null,null,null,null,null,{"$f":"IF(F76647<>\"\",'CO2 konvertering'!$C$23,)","v":0},null,null,null,null,0]
[null,null,null,"Ja",null,null,null,null,"",null,"",{"$f":"IFERROR(VLOOKUP(F76648,Biomasser!$A$3:$E$88,4,FALSE),0)","v":0},null,{"$f":"IFERROR(VLOOKUP(F76648,Biomasser!$A$3:$E$88,5,FALSE),0)","v":0},"",0,null,null,{"$f":"IFERROR(VLOOKUP(F76648,Biomasser!$A$3:$M$88,13,FALSE),)","v":0},null,null,null,null,null,{"$f":"IF(F76648<>\"\",'CO2 konvertering'!$C$23,)","v":0},null,null,null,null,0]
[null,null,null,"Ja",null,null,null,null,"",null,"",{"$f":"IFERROR(VLOOKUP(F76649,Biomasser!$A$3:$E$88,4,FALSE),0)","v":0},null,{"$f":"IFERROR(VLOOKUP(F76649,Biomasser!$A$3:$E$88,5,FALSE),0)","v":0},"",0,null,null,{"$f":"IFERROR(VLOOKUP(F76649,Biomasser!$A$3:$M$88,13,FALSE),)","v":0},null,null,null,null,null,{"$f":"IF(F76649<>\"\",'CO2 konvertering'!$C$23,)","v":0},null,null,null,null,0]
[null,null,null,"Ja",null,null,null,null,"",null,"",{"$f":"IFERROR(VLOOKUP(F76650,Biomasser!$A$3:$E$88,4,FALSE),0)","v":0},null,{"$f":"IFERROR(VLOOKUP(F76650,Biomasser!$A$3:$E$88,5,FALSE),0)","v":0},"",0,null,null,{"$f":"IFERROR(VLOOKUP(F76650,Biomasser!$A$3:$M$88,13,FALSE),)","v":0},null,null,null,null,null,{"$f":"IF(F76650<>\"\",'CO2 konvertering'!$C$23,)","v":0},null,null,null,null,0]
[null,null,null,"Ja",null,null,null,null,"",null,"",{"$f":"IFERROR(VLOOKUP(F76651,Biomasser!$A$3:$E$88,4,FALSE),0)","v":0},null,{"$f":"IFERROR(VLOOKUP(F76651,Biomasser!$A$3:$E$88,5,FALSE),0)","v":0},"",0,null,null,{"$f":"IFERROR(VLOOKUP(F76651,Biomasser!$A$3:$M$88,13,FALSE),)","v":0},null,null,null,null,null,{"$f":"IF(F76651<>\"\",'CO2 konvertering'!$C$23,)","v":0},null,null,null,null,{"$f":"SUM(S76651:AC76651)","v":0}]
[null,null,null,"Ja",null,null,null,null,"",null,"",{"$f":"IFERROR(VLOOKUP(F76652,Biomasser!$A$3:$E$88,4,FALSE),0)","v":0},null,{"$f":"IFERROR(VLOOKUP(F76652,Biomasser!$A$3:$E$88,5,FALSE),0)","v":0},"",0,null,null,{"$f":"IFERROR(VLOOKUP(F76652,Biomasser!$A$3:$M$88,13,FALSE),)","v":0},null,null,null,null,null,{"$f":"IF(F76652<>\"\",'CO2 konvertering'!$C$23,)","v":0},null,null,null,null,0]
[null,null,null,"Ja",null,null,null,null,"",null,"",{"$f":"IFERROR(VLOOKUP(F76653,Biomasser!$A$3:$E$88,4,FALSE),0)","v":0},null,{"$f":"IFERROR(VLOOKUP(F76653,Biomasser!$A$3:$E$88,5,FALSE),0)","v":0},"",0,null,null,{"$f":"IFERROR(VLOOKUP(F76653,Biomasser!$A$3:$M$88,13,FALSE),)","v":0},null,null,null,null,null,{"$f":"IF(F76653<>\"\",'CO2 konvertering'!$C$23,)","v":0},null,null,null,null,0]
[null,null,null,"Ja",null,null,null,null,"",null,"",{"$f":"IFERROR(VLOOKUP(F76654,Biomasser!$A$3:$E$88,4,FALSE),0)","v":0},null,{"$f":"IFERROR(VLOOKUP(F76654,Biomasser!$A$3:$E$88,5,FALSE),0)","v":0},"",0,null,null,{"$f":"IFERROR(VLOOKUP(F76654,Biomasser!$A$3:$M$88,13,FALSE),)","v":0},null,null,null,null,null,{"$f":"IF(F76654<>\"\",'CO2 konvertering'!$C$23,)","v":0},null,null,null,null,0]
[null,null,null,"Ja",null,null,null,null,"",null,"",{"$f":"IFERROR(VLOOKUP(F76655,Biomasser!$A$3:$E$88,4,FALSE),0)","v":0},null,{"$f":"IFERROR(VLOOKUP(F76655,Biomasser!$A$3:$E$88,5,FALSE),0)","v":0},"",0,null,null,{"$f":"IFERROR(VLOOKUP(F76655,Biomasser!$A$3:$M$88,13,FALSE),)","v":0},null,null,null,null,null,{"$f":"IF(F76655<>\"\",'CO2 konvertering'!$C$23,)","v":0},null,null,null,null,0]
[null,"Dato:",null,null,null,"Mængde biomasse (Ton)",null,"Gasproduktion"]
["Gas","31. december",2016,null,null,{"$f":"SUM(H76660:H76760)","v":0},null,null,"m3 CH4"]
[null,"Leverandør",null,"Certificeret",null,"Råvarer input","          Mængder                 \n      (Ton vådvægt)            ",null,null,"Tørstof\n%",null,"Omsættelig tørstof\n%",null,"Gaspotentiale\nm³ CH4/ton VS",null,"Teoretisk\ngasproduktion\nm³ CH4"]
[]
[{"$f":"B76657&C76657","v":"31. december2016"},null,null,"Ja",null,null,null,null,{"$f":"IF(AND(F76660<>\"\",ISBLANK(H76660)),\"Indtast vægt\",\"\")","v":""},null,{"$f":"IF(AND(F76660<>\"\",ISBLANK(J76660)),\"Indtast tørstof %\",\"\")","v":""},{"$f":"IFERROR(VLOOKUP(F76660,Biomasser!$A$3:$E$88,4,FALSE),)","v":0},null,{"$f":"IFERROR(VLOOKUP(F76660,Biomasser!$A$3:$E$88,5,FALSE),0)","v":0},{"$f":"IF(AND(F76660<>\"\",(N76660=0)),\"Opdater biomasseark\",\"\")","v":""},{"$f":"J76660*L76660*N76660*H76660","v":0},null,null,{"$f":"IFERROR(VLOOKUP(F76660,Biomasser!$A$3:$M$88,13,FALSE),)","v":0},null,null,null,null,null,{"$f":"IF(F76660<>\"\",'CO2 konvertering'!$C$23,)","v":0},null,null,null,null,{"$f":"SUM(S76660:AC76660)","v":0}]
[null,null,null,"Ja",null,null,null,null,{"$f":"IF(AND(F76661<>\"\",ISBLANK(H76661)),\"Indtast vægt\",\"\")","v":""},null,{"$f":"IF(AND(F76661<>\"\",ISBLANK(J76661)),\"Indtast tørstof %\",\"\")","v":""},{"$f":"IFERROR(VLOOKUP(F76661,Biomasser!$A$3:$E$88,4,FALSE),0)","v":0},null,{"$f":"IFERROR(VLOOKUP(F76661,Biomasser!$A$3:$E$88,5,FALSE),0)","v":0},"",0,null,null,{"$f":"IFERROR(VLOOKUP(F76661,Biomasser!$A$3:$M$88,13,FALSE),)","v":0},null,null,null,null,null,{"$f":"IF(F76661<>\"\",'CO2 konvertering'!$C$23,)","v":0},null,null,null,null,0]
[null,null,null,"Ja",null,null,null,null,"",null,"",{"$f":"IFERROR(VLOOKUP(F76662,Biomasser!$A$3:$E$88,4,FALSE),0)","v":0},null,{"$f":"IFERROR(VLOOKUP(F76662,Biomasser!$A$3:$E$88,5,FALSE),0)","v":0},"",0,null,null,{"$f":"IFERROR(VLOOKUP(F76662,Biomasser!$A$3:$M$88,13,FALSE),)","v":0},null,null,null,null,null,{"$f":"IF(F76662<>\"\",'CO2 konvertering'!$C$23,)","v":0},null,null,null,null,0]
[null,null,null,"Ja",null,null,null,null,"",null,"",{"$f":"IFERROR(VLOOKUP(F76663,Biomasser!$A$3:$E$88,4,FALSE),0)","v":0},null,{"$f":"IFERROR(VLOOKUP(F76663,Biomasser!$A$3:$E$88,5,FALSE),0)","v":0},{"$f":"IF(AND(F76663<>\"\",(N76663=0)),\"Opdater biomasseark\",\"\")","v":""},0,null,null,{"$f":"IFERROR(VLOOKUP(F76663,Biomasser!$A$3:$M$88,13,FALSE),)","v":0},null,null,null,null,null,{"$f":"IF(F76663<>\"\",'CO2 konvertering'!$C$23,)","v":0},null,null,null,null,0]
[null,null,null,"Ja",null,null,null,null,"",null,"",{"$f":"IFERROR(VLOOKUP(F76664,Biomasser!$A$3:$E$88,4,FALSE),0)","v":0},null,{"$f":"IFERROR(VLOOKUP(F76664,Biomasser!$A$3:$E$88,5,FALSE),0)","v":0},{"$f":"IF(AND(F76664<>\"\",(N76664=0)),\"Opdater biomasseark\",\"\")","v":""},0,null,null,{"$f":"IFERROR(VLOOKUP(F76664,Biomasser!$A$3:$M$88,13,FALSE),)","v":0},null,null,null,null,null,{"$f":"IF(F76664<>\"\",'CO2 konvertering'!$C$23,)","v":0},null,null,null,null,0]
[null,null,null,"Ja",null,null,null,null,"",null,"",{"$f":"IFERROR(VLOOKUP(F76665,Biomasser!$A$3:$E$88,4,FALSE),0)","v":0},null,{"$f":"IFERROR(VLOOKUP(F76665,Biomasser!$A$3:$E$88,5,FALSE),0)","v":0},"",0,null,null,{"$f":"IFERROR(VLOOKUP(F76665,Biomasser!$A$3:$M$88,13,FALSE),)","v":0},null,null,null,null,null,{"$f":"IF(F76665<>\"\",'CO2 konvertering'!$C$23,)","v":0},null,null,null,null,0]
[null,null,null,"Ja",null,null,null,null,"",null,"",{"$f":"IFERROR(VLOOKUP(F76666,Biomasser!$A$3:$E$88,4,FALSE),0)","v":0},null,{"$f":"IFERROR(VLOOKUP(F76666,Biomasser!$A$3:$E$88,5,FALSE),0)","v":0},"",0,null,null,{"$f":"IFERROR(VLOOKUP(F76666,Biomasser!$A$3:$M$88,13,FALSE),)","v":0},null,null,null,null,null,{"$f":"IF(F76666<>\"\",'CO2 konvertering'!$C$23,)","v":0},null,null,null,null,0]
[null,null,null,"Ja",null,null,null,null,"",null,"",{"$f":"IFERROR(VLOOKUP(F76667,Biomasser!$A$3:$E$88,4,FALSE),0)","v":0},null,{"$f":"IFERROR(VLOOKUP(F76667,Biomasser!$A$3:$E$88,5,FALSE),0)","v":0},"",0,null,null,{"$f":"IFERROR(VLOOKUP(F76667,Biomasser!$A$3:$M$88,13,FALSE),)","v":0},null,null,null,null,null,{"$f":"IF(F76667<>\"\",'CO2 konvertering'!$C$23,)","v":0},null,null,null,null,0]
[null,null,null,"Ja",null,null,null,null,"",null,"",{"$f":"IFERROR(VLOOKUP(F76668,Biomasser!$A$3:$E$88,4,FALSE),0)","v":0},null,{"$f":"IFERROR(VLOOKUP(F76668,Biomasser!$A$3:$E$88,5,FALSE),0)","v":0},"",0,null,null,{"$f":"IFERROR(VLOOKUP(F76668,Biomasser!$A$3:$M$88,13,FALSE),)","v":0},null,null,null,null,null,{"$f":"IF(F76668<>\"\",'CO2 konvertering'!$C$23,)","v":0},null,null,null,null,0]
[null,null,null,"Ja",null,null,null,null,"",null,"",{"$f":"IFERROR(VLOOKUP(F76669,Biomasser!$A$3:$E$88,4,FALSE),0)","v":0},null,{"$f":"IFERROR(VLOOKUP(F76669,Biomasser!$A$3:$E$88,5,FALSE),0)","v":0},"",0,null,null,{"$f":"IFERROR(VLOOKUP(F76669,Biomasser!$A$3:$M$88,13,FALSE),)","v":0},null,null,null,null,null,{"$f":"IF(F76669<>\"\",'CO2 konvertering'!$C$23,)","v":0},null,null,null,null,0]
[null,null,null,"Ja",null,null,null,null,"",null,"",{"$f":"IFERROR(VLOOKUP(F76670,Biomasser!$A$3:$E$88,4,FALSE),0)","v":0},null,{"$f":"IFERROR(VLOOKUP(F76670,Biomasser!$A$3:$E$88,5,FALSE),0)","v":0},"",0,null,null,{"$f":"IFERROR(VLOOKUP(F76670,Biomasser!$A$3:$M$88,13,FALSE),)","v":0},null,null,null,null,null,{"$f":"IF(F76670<>\"\",'CO2 konvertering'!$C$23,)","v":0},null,null,null,null,0]
[null,null,null,"Ja",null,null,null,null,"",null,"",{"$f":"IFERROR(VLOOKUP(F76671,Biomasser!$A$3:$E$88,4,FALSE),0)","v":0},null,{"$f":"IFERROR(VLOOKUP(F76671,Biomasser!$A$3:$E$88,5,FALSE),0)","v":0},"",0,null,null,{"$f":"IFERROR(VLOOKUP(F76671,Biomasser!$A$3:$M$88,13,FALSE),)","v":0},null,null,null,null,null,{"$f":"IF(F76671<>\"\",'CO2 konvertering'!$C$23,)","v":0},null,null,null,null,0]
[null,null,null,"Ja",null,null,null,null,"",null,"",{"$f":"IFERROR(VLOOKUP(F76672,Biomasser!$A$3:$E$88,4,FALSE),0)","v":0},null,{"$f":"IFERROR(VLOOKUP(F76672,Biomasser!$A$3:$E$88,5,FALSE),0)","v":0},"",0,null,null,{"$f":"IFERROR(VLOOKUP(F76672,Biomasser!$A$3:$M$88,13,FALSE),)","v":0},null,null,null,null,null,{"$f":"IF(F76672<>\"\",'CO2 konvertering'!$C$23,)","v":0},null,null,null,null,0]
[null,null,null,"Ja",null,null,null,null,"",null,"",{"$f":"IFERROR(VLOOKUP(F76673,Biomasser!$A$3:$E$88,4,FALSE),0)","v":0},null,{"$f":"IFERROR(VLOOKUP(F76673,Biomasser!$A$3:$E$88,5,FALSE),0)","v":0},"",0,null,null,{"$f":"IFERROR(VLOOKUP(F76673,Biomasser!$A$3:$M$88,13,FALSE),)","v":0},null,null,null,null,null,{"$f":"IF(F76673<>\"\",'CO2 konvertering'!$C$23,)","v":0},null,null,null,null,0]
[null,null,null,"Ja",null,null,null,null,"",null,"",{"$f":"IFERROR(VLOOKUP(F76674,Biomasser!$A$3:$E$88,4,FALSE),0)","v":0},null,{"$f":"IFERROR(VLOOKUP(F76674,Biomasser!$A$3:$E$88,5,FALSE),0)","v":0},"",0,null,null,{"$f":"IFERROR(VLOOKUP(F76674,Biomasser!$A$3:$M$88,13,FALSE),)","v":0},null,null,null,null,null,{"$f":"IF(F76674<>\"\",'CO2 konvertering'!$C$23,)","v":0},null,null,null,null,0]
[null,null,null,"Ja",null,null,null,null,"",null,"",{"$f":"IFERROR(VLOOKUP(F76675,Biomasser!$A$3:$E$88,4,FALSE),0)","v":0},null,{"$f":"IFERROR(VLOOKUP(F76675,Biomasser!$A$3:$E$88,5,FALSE),0)","v":0},"",0,null,null,{"$f":"IFERROR(VLOOKUP(F76675,Biomasser!$A$3:$M$88,13,FALSE),)","v":0},null,null,null,null,null,{"$f":"IF(F76675<>\"\",'CO2 konvertering'!$C$23,)","v":0},null,null,null,null,0]
[null,null,null,"Ja",null,null,null,null,"",null,"",{"$f":"IFERROR(VLOOKUP(F76676,Biomasser!$A$3:$E$88,4,FALSE),0)","v":0},null,{"$f":"IFERROR(VLOOKUP(F76676,Biomasser!$A$3:$E$88,5,FALSE),0)","v":0},"",0,null,null,{"$f":"IFERROR(VLOOKUP(F76676,Biomasser!$A$3:$M$88,13,FALSE),)","v":0},null,null,null,null,null,{"$f":"IF(F76676<>\"\",'CO2 konvertering'!$C$23,)","v":0},null,null,null,null,0]
[null,null,null,"Ja",null,null,null,null,"",null,"",{"$f":"IFERROR(VLOOKUP(F76677,Biomasser!$A$3:$E$88,4,FALSE),0)","v":0},null,{"$f":"IFERROR(VLOOKUP(F76677,Biomasser!$A$3:$E$88,5,FALSE),0)","v":0},"",0,null,null,{"$f":"IFERROR(VLOOKUP(F76677,Biomasser!$A$3:$M$88,13,FALSE),)","v":0},null,null,null,null,null,{"$f":"IF(F76677<>\"\",'CO2 konvertering'!$C$23,)","v":0},null,null,null,null,0]
[null,null,null,"Ja",null,null,null,null,"",null,"",{"$f":"IFERROR(VLOOKUP(F76678,Biomasser!$A$3:$E$88,4,FALSE),0)","v":0},null,{"$f":"IFERROR(VLOOKUP(F76678,Biomasser!$A$3:$E$88,5,FALSE),0)","v":0},"",0,null,null,{"$f":"IFERROR(VLOOKUP(F76678,Biomasser!$A$3:$M$88,13,FALSE),)","v":0},null,null,null,null,null,{"$f":"IF(F76678<>\"\",'CO2 konvertering'!$C$23,)","v":0},null,null,null,null,0]
[null,null,null,"Ja",null,null,null,null,"",null,"",{"$f":"IFERROR(VLOOKUP(F76679,Biomasser!$A$3:$E$88,4,FALSE),0)","v":0},null,{"$f":"IFERROR(VLOOKUP(F76679,Biomasser!$A$3:$E$88,5,FALSE),0)","v":0},"",0,null,null,{"$f":"IFERROR(VLOOKUP(F76679,Biomasser!$A$3:$M$88,13,FALSE),)","v":0},null,null,null,null,null,{"$f":"IF(F76679<>\"\",'CO2 konvertering'!$C$23,)","v":0},null,null,null,null,0]
[null,null,null,"Ja",null,null,null,null,"",null,"",{"$f":"IFERROR(VLOOKUP(F76680,Biomasser!$A$3:$E$88,4,FALSE),0)","v":0},null,{"$f":"IFERROR(VLOOKUP(F76680,Biomasser!$A$3:$E$88,5,FALSE),0)","v":0},"",0,null,null,{"$f":"IFERROR(VLOOKUP(F76680,Biomasser!$A$3:$M$88,13,FALSE),)","v":0},null,null,null,null,null,{"$f":"IF(F76680<>\"\",'CO2 konvertering'!$C$23,)","v":0},null,null,null,null,0]
[null,null,null,"Ja",null,null,null,null,"",null,"",{"$f":"IFERROR(VLOOKUP(F76681,Biomasser!$A$3:$E$88,4,FALSE),0)","v":0},null,{"$f":"IFERROR(VLOOKUP(F76681,Biomasser!$A$3:$E$88,5,FALSE),0)","v":0},"",0,null,null,{"$f":"IFERROR(VLOOKUP(F76681,Biomasser!$A$3:$M$88,13,FALSE),)","v":0},null,null,null,null,null,{"$f":"IF(F76681<>\"\",'CO2 konvertering'!$C$23,)","v":0},null,null,null,null,0]
[null,null,null,"Ja",null,null,null,null,"",null,"",{"$f":"IFERROR(VLOOKUP(F76682,Biomasser!$A$3:$E$88,4,FALSE),0)","v":0},null,{"$f":"IFERROR(VLOOKUP(F76682,Biomasser!$A$3:$E$88,5,FALSE),0)","v":0},"",0,null,null,{"$f":"IFERROR(VLOOKUP(F76682,Biomasser!$A$3:$M$88,13,FALSE),)","v":0},null,null,null,null,null,{"$f":"IF(F76682<>\"\",'CO2 konvertering'!$C$23,)","v":0},null,null,null,null,0]
[null,null,null,"Ja",null,null,null,null,"",null,"",{"$f":"IFERROR(VLOOKUP(F76683,Biomasser!$A$3:$E$88,4,FALSE),0)","v":0},null,{"$f":"IFERROR(VLOOKUP(F76683,Biomasser!$A$3:$E$88,5,FALSE),0)","v":0},"",0,null,null,{"$f":"IFERROR(VLOOKUP(F76683,Biomasser!$A$3:$M$88,13,FALSE),)","v":0},null,null,null,null,null,{"$f":"IF(F76683<>\"\",'CO2 konvertering'!$C$23,)","v":0},null,null,null,null,0]
[null,null,null,"Ja",null,null,null,null,"",null,"",{"$f":"IFERROR(VLOOKUP(F76684,Biomasser!$A$3:$E$88,4,FALSE),0)","v":0},null,{"$f":"IFERROR(VLOOKUP(F76684,Biomasser!$A$3:$E$88,5,FALSE),0)","v":0},"",0,null,null,{"$f":"IFERROR(VLOOKUP(F76684,Biomasser!$A$3:$M$88,13,FALSE),)","v":0},null,null,null,null,null,{"$f":"IF(F76684<>\"\",'CO2 konvertering'!$C$23,)","v":0},null,null,null,null,0]
[null,null,null,"Ja",null,null,null,null,"",null,"",{"$f":"IFERROR(VLOOKUP(F76685,Biomasser!$A$3:$E$88,4,FALSE),0)","v":0},null,{"$f":"IFERROR(VLOOKUP(F76685,Biomasser!$A$3:$E$88,5,FALSE),0)","v":0},"",0,null,null,{"$f":"IFERROR(VLOOKUP(F76685,Biomasser!$A$3:$M$88,13,FALSE),)","v":0},null,null,null,null,null,{"$f":"IF(F76685<>\"\",'CO2 konvertering'!$C$23,)","v":0},null,null,null,null,0]
[null,null,null,"Ja",null,null,null,null,"",null,"",{"$f":"IFERROR(VLOOKUP(F76686,Biomasser!$A$3:$E$88,4,FALSE),0)","v":0},null,{"$f":"IFERROR(VLOOKUP(F76686,Biomasser!$A$3:$E$88,5,FALSE),0)","v":0},"",0,null,null,{"$f":"IFERROR(VLOOKUP(F76686,Biomasser!$A$3:$M$88,13,FALSE),)","v":0},null,null,null,null,null,{"$f":"IF(F76686<>\"\",'CO2 konvertering'!$C$23,)","v":0},null,null,null,null,0]
[null,null,null,"Ja",null,null,null,null,"",null,"",{"$f":"IFERROR(VLOOKUP(F76687,Biomasser!$A$3:$E$88,4,FALSE),0)","v":0},null,{"$f":"IFERROR(VLOOKUP(F76687,Biomasser!$A$3:$E$88,5,FALSE),0)","v":0},"",0,null,null,{"$f":"IFERROR(VLOOKUP(F76687,Biomasser!$A$3:$M$88,13,FALSE),)","v":0},null,null,null,null,null,{"$f":"IF(F76687<>\"\",'CO2 konvertering'!$C$23,)","v":0},null,null,null,null,0]
[null,null,null,"Ja",null,null,null,null,"",null,"",{"$f":"IFERROR(VLOOKUP(F76688,Biomasser!$A$3:$E$88,4,FALSE),0)","v":0},null,{"$f":"IFERROR(VLOOKUP(F76688,Biomasser!$A$3:$E$88,5,FALSE),0)","v":0},"",0,null,null,{"$f":"IFERROR(VLOOKUP(F76688,Biomasser!$A$3:$M$88,13,FALSE),)","v":0},null,null,null,null,null,{"$f":"IF(F76688<>\"\",'CO2 konvertering'!$C$23,)","v":0},null,null,null,null,0]
[null,null,null,"Ja",null,null,null,null,"",null,"",{"$f":"IFERROR(VLOOKUP(F76689,Biomasser!$A$3:$E$88,4,FALSE),0)","v":0},null,{"$f":"IFERROR(VLOOKUP(F76689,Biomasser!$A$3:$E$88,5,FALSE),0)","v":0},"",0,null,null,{"$f":"IFERROR(VLOOKUP(F76689,Biomasser!$A$3:$M$88,13,FALSE),)","v":0},null,null,null,null,null,{"$f":"IF(F76689<>\"\",'CO2 konvertering'!$C$23,)","v":0},null,null,null,null,0]
[null,null,null,"Ja",null,null,null,null,"",null,"",{"$f":"IFERROR(VLOOKUP(F76690,Biomasser!$A$3:$E$88,4,FALSE),0)","v":0},null,{"$f":"IFERROR(VLOOKUP(F76690,Biomasser!$A$3:$E$88,5,FALSE),0)","v":0},"",0,null,null,{"$f":"IFERROR(VLOOKUP(F76690,Biomasser!$A$3:$M$88,13,FALSE),)","v":0},null,null,null,null,null,{"$f":"IF(F76690<>\"\",'CO2 konvertering'!$C$23,)","v":0},null,null,null,null,0]
[null,null,null,"Ja",null,null,null,null,"",null,"",{"$f":"IFERROR(VLOOKUP(F76691,Biomasser!$A$3:$E$88,4,FALSE),0)","v":0},null,{"$f":"IFERROR(VLOOKUP(F76691,Biomasser!$A$3:$E$88,5,FALSE),0)","v":0},"",0,null,null,{"$f":"IFERROR(VLOOKUP(F76691,Biomasser!$A$3:$M$88,13,FALSE),)","v":0},null,null,null,null,null,{"$f":"IF(F76691<>\"\",'CO2 konvertering'!$C$23,)","v":0},null,null,null,null,0]
[null,null,null,"Ja",null,null,null,null,"",null,"",{"$f":"IFERROR(VLOOKUP(F76692,Biomasser!$A$3:$E$88,4,FALSE),0)","v":0},null,{"$f":"IFERROR(VLOOKUP(F76692,Biomasser!$A$3:$E$88,5,FALSE),0)","v":0},"",0,null,null,{"$f":"IFERROR(VLOOKUP(F76692,Biomasser!$A$3:$M$88,13,FALSE),)","v":0},null,null,null,null,null,{"$f":"IF(F76692<>\"\",'CO2 konvertering'!$C$23,)","v":0},null,null,null,null,{"$f":"SUM(S76692:AC76692)","v":0}]
[null,null,null,"Ja",null,null,null,null,"",null,"",{"$f":"IFERROR(VLOOKUP(F76693,Biomasser!$A$3:$E$88,4,FALSE),0)","v":0},null,{"$f":"IFERROR(VLOOKUP(F76693,Biomasser!$A$3:$E$88,5,FALSE),0)","v":0},"",0,null,null,{"$f":"IFERROR(VLOOKUP(F76693,Biomasser!$A$3:$M$88,13,FALSE),)","v":0},null,null,null,null,null,{"$f":"IF(F76693<>\"\",'CO2 konvertering'!$C$23,)","v":0},null,null,null,null,0]
[null,null,null,"Ja",null,null,null,null,"",null,"",{"$f":"IFERROR(VLOOKUP(F76694,Biomasser!$A$3:$E$88,4,FALSE),0)","v":0},null,{"$f":"IFERROR(VLOOKUP(F76694,Biomasser!$A$3:$E$88,5,FALSE),0)","v":0},"",0,null,null,{"$f":"IFERROR(VLOOKUP(F76694,Biomasser!$A$3:$M$88,13,FALSE),)","v":0},null,null,null,null,null,{"$f":"IF(F76694<>\"\",'CO2 konvertering'!$C$23,)","v":0},null,null,null,null,0]
[null,null,null,"Ja",null,null,null,null,"",null,"",{"$f":"IFERROR(VLOOKUP(F76695,Biomasser!$A$3:$E$88,4,FALSE),0)","v":0},null,{"$f":"IFERROR(VLOOKUP(F76695,Biomasser!$A$3:$E$88,5,FALSE),0)","v":0},"",0,null,null,{"$f":"IFERROR(VLOOKUP(F76695,Biomasser!$A$3:$M$88,13,FALSE),)","v":0},null,null,null,null,null,{"$f":"IF(F76695<>\"\",'CO2 konvertering'!$C$23,)","v":0},null,null,null,null,0]
[null,null,null,"Ja",null,null,null,null,"",null,"",{"$f":"IFERROR(VLOOKUP(F76696,Biomasser!$A$3:$E$88,4,FALSE),0)","v":0},null,{"$f":"IFERROR(VLOOKUP(F76696,Biomasser!$A$3:$E$88,5,FALSE),0)","v":0},"",0,null,null,{"$f":"IFERROR(VLOOKUP(F76696,Biomasser!$A$3:$M$88,13,FALSE),)","v":0},null,null,null,null,null,{"$f":"IF(F76696<>\"\",'CO2 konvertering'!$C$23,)","v":0},null,null,null,null,0]
[null,null,null,"Ja",null,null,null,null,"",null,"",{"$f":"IFERROR(VLOOKUP(F76697,Biomasser!$A$3:$E$88,4,FALSE),0)","v":0},null,{"$f":"IFERROR(VLOOKUP(F76697,Biomasser!$A$3:$E$88,5,FALSE),0)","v":0},"",0,null,null,{"$f":"IFERROR(VLOOKUP(F76697,Biomasser!$A$3:$M$88,13,FALSE),)","v":0},null,null,null,null,null,{"$f":"IF(F76697<>\"\",'CO2 konvertering'!$C$23,)","v":0},null,null,null,null,0]
[null,null,null,"Ja",null,null,null,null,"",null,"",{"$f":"IFERROR(VLOOKUP(F76698,Biomasser!$A$3:$E$88,4,FALSE),0)","v":0},null,{"$f":"IFERROR(VLOOKUP(F76698,Biomasser!$A$3:$E$88,5,FALSE),0)","v":0},"",0,null,null,{"$f":"IFERROR(VLOOKUP(F76698,Biomasser!$A$3:$M$88,13,FALSE),)","v":0},null,null,null,null,null,{"$f":"IF(F76698<>\"\",'CO2 konvertering'!$C$23,)","v":0},null,null,null,null,0]
[null,null,null,"Ja",null,null,null,null,"",null,"",{"$f":"IFERROR(VLOOKUP(F76699,Biomasser!$A$3:$E$88,4,FALSE),0)","v":0},null,{"$f":"IFERROR(VLOOKUP(F76699,Biomasser!$A$3:$E$88,5,FALSE),0)","v":0},"",0,null,null,{"$f":"IFERROR(VLOOKUP(F76699,Biomasser!$A$3:$M$88,13,FALSE),)","v":0},null,null,null,null,null,{"$f":"IF(F76699<>\"\",'CO2 konvertering'!$C$23,)","v":0},null,null,null,null,0]
[null,null,null,"Ja",null,null,null,null,"",null,"",{"$f":"IFERROR(VLOOKUP(F76700,Biomasser!$A$3:$E$88,4,FALSE),0)","v":0},null,{"$f":"IFERROR(VLOOKUP(F76700,Biomasser!$A$3:$E$88,5,FALSE),0)","v":0},"",0,null,null,{"$f":"IFERROR(VLOOKUP(F76700,Biomasser!$A$3:$M$88,13,FALSE),)","v":0},null,null,null,null,null,{"$f":"IF(F76700<>\"\",'CO2 konvertering'!$C$23,)","v":0},null,null,null,null,0]
[null,null,null,"Ja",null,null,null,null,"",null,"",{"$f":"IFERROR(VLOOKUP(F76701,Biomasser!$A$3:$E$88,4,FALSE),0)","v":0},null,{"$f":"IFERROR(VLOOKUP(F76701,Biomasser!$A$3:$E$88,5,FALSE),0)","v":0},"",0,null,null,{"$f":"IFERROR(VLOOKUP(F76701,Biomasser!$A$3:$M$88,13,FALSE),)","v":0},null,null,null,null,null,{"$f":"IF(F76701<>\"\",'CO2 konvertering'!$C$23,)","v":0},null,null,null,null,0]
[null,null,null,"Ja",null,null,null,null,"",null,"",{"$f":"IFERROR(VLOOKUP(F76702,Biomasser!$A$3:$E$88,4,FALSE),0)","v":0},null,{"$f":"IFERROR(VLOOKUP(F76702,Biomasser!$A$3:$E$88,5,FALSE),0)","v":0},"",0,null,null,{"$f":"IFERROR(VLOOKUP(F76702,Biomasser!$A$3:$M$88,13,FALSE),)","v":0},null,null,null,null,null,{"$f":"IF(F76702<>\"\",'CO2 konvertering'!$C$23,)","v":0},null,null,null,null,0]
[null,null,null,"Ja",null,null,null,null,"",null,"",{"$f":"IFERROR(VLOOKUP(F76703,Biomasser!$A$3:$E$88,4,FALSE),0)","v":0},null,{"$f":"IFERROR(VLOOKUP(F76703,Biomasser!$A$3:$E$88,5,FALSE),0)","v":0},"",0,null,null,{"$f":"IFERROR(VLOOKUP(F76703,Biomasser!$A$3:$M$88,13,FALSE),)","v":0},null,null,null,null,null,{"$f":"IF(F76703<>\"\",'CO2 konvertering'!$C$23,)","v":0},null,null,null,null,0]
[null,null,null,"Ja",null,null,null,null,"",null,"",{"$f":"IFERROR(VLOOKUP(F76704,Biomasser!$A$3:$E$88,4,FALSE),0)","v":0},null,{"$f":"IFERROR(VLOOKUP(F76704,Biomasser!$A$3:$E$88,5,FALSE),0)","v":0},"",0,null,null,{"$f":"IFERROR(VLOOKUP(F76704,Biomasser!$A$3:$M$88,13,FALSE),)","v":0},null,null,null,null,null,{"$f":"IF(F76704<>\"\",'CO2 konvertering'!$C$23,)","v":0},null,null,null,null,0]
[null,null,null,"Ja",null,null,null,null,"",null,"",{"$f":"IFERROR(VLOOKUP(F76705,Biomasser!$A$3:$E$88,4,FALSE),0)","v":0},null,{"$f":"IFERROR(VLOOKUP(F76705,Biomasser!$A$3:$E$88,5,FALSE),0)","v":0},"",0,null,null,{"$f":"IFERROR(VLOOKUP(F76705,Biomasser!$A$3:$M$88,13,FALSE),)","v":0},null,null,null,null,null,{"$f":"IF(F76705<>\"\",'CO2 konvertering'!$C$23,)","v":0},null,null,null,null,0]
[null,null,null,"Ja",null,null,null,null,"",null,"",{"$f":"IFERROR(VLOOKUP(F76706,Biomasser!$A$3:$E$88,4,FALSE),0)","v":0},null,{"$f":"IFERROR(VLOOKUP(F76706,Biomasser!$A$3:$E$88,5,FALSE),0)","v":0},"",0,null,null,{"$f":"IFERROR(VLOOKUP(F76706,Biomasser!$A$3:$M$88,13,FALSE),)","v":0},null,null,null,null,null,{"$f":"IF(F76706<>\"\",'CO2 konvertering'!$C$23,)","v":0},null,null,null,null,0]
[null,null,null,"Ja",null,null,null,null,"",null,"",{"$f":"IFERROR(VLOOKUP(F76707,Biomasser!$A$3:$E$88,4,FALSE),0)","v":0},null,{"$f":"IFERROR(VLOOKUP(F76707,Biomasser!$A$3:$E$88,5,FALSE),0)","v":0},"",0,null,null,{"$f":"IFERROR(VLOOKUP(F76707,Biomasser!$A$3:$M$88,13,FALSE),)","v":0},null,null,null,null,null,{"$f":"IF(F76707<>\"\",'CO2 konvertering'!$C$23,)","v":0},null,null,null,null,0]
[null,null,null,"Ja",null,null,null,null,"",null,"",{"$f":"IFERROR(VLOOKUP(F76708,Biomasser!$A$3:$E$88,4,FALSE),0)","v":0},null,{"$f":"IFERROR(VLOOKUP(F76708,Biomasser!$A$3:$E$88,5,FALSE),0)","v":0},"",0,null,null,{"$f":"IFERROR(VLOOKUP(F76708,Biomasser!$A$3:$M$88,13,FALSE),)","v":0},null,null,null,null,null,{"$f":"IF(F76708<>\"\",'CO2 konvertering'!$C$23,)","v":0},null,null,null,null,0]
[null,null,null,"Ja",null,null,null,null,"",null,"",{"$f":"IFERROR(VLOOKUP(F76709,Biomasser!$A$3:$E$88,4,FALSE),0)","v":0},null,{"$f":"IFERROR(VLOOKUP(F76709,Biomasser!$A$3:$E$88,5,FALSE),0)","v":0},"",0,null,null,{"$f":"IFERROR(VLOOKUP(F76709,Biomasser!$A$3:$M$88,13,FALSE),)","v":0},null,null,null,null,null,{"$f":"IF(F76709<>\"\",'CO2 konvertering'!$C$23,)","v":0},null,null,null,null,0]
[null,null,null,"Ja",null,null,null,null,"",null,"",{"$f":"IFERROR(VLOOKUP(F76710,Biomasser!$A$3:$E$88,4,FALSE),0)","v":0},null,{"$f":"IFERROR(VLOOKUP(F76710,Biomasser!$A$3:$E$88,5,FALSE),0)","v":0},"",0,null,null,{"$f":"IFERROR(VLOOKUP(F76710,Biomasser!$A$3:$M$88,13,FALSE),)","v":0},null,null,null,null,null,{"$f":"IF(F76710<>\"\",'CO2 konvertering'!$C$23,)","v":0},null,null,null,null,0]
[null,null,null,"Ja",null,null,null,null,"",null,"",{"$f":"IFERROR(VLOOKUP(F76711,Biomasser!$A$3:$E$88,4,FALSE),0)","v":0},null,{"$f":"IFERROR(VLOOKUP(F76711,Biomasser!$A$3:$E$88,5,FALSE),0)","v":0},"",0,null,null,{"$f":"IFERROR(VLOOKUP(F76711,Biomasser!$A$3:$M$88,13,FALSE),)","v":0},null,null,null,null,null,{"$f":"IF(F76711<>\"\",'CO2 konvertering'!$C$23,)","v":0},null,null,null,null,0]
[null,null,null,"Ja",null,null,null,null,"",null,"",{"$f":"IFERROR(VLOOKUP(F76712,Biomasser!$A$3:$E$88,4,FALSE),0)","v":0},null,{"$f":"IFERROR(VLOOKUP(F76712,Biomasser!$A$3:$E$88,5,FALSE),0)","v":0},"",0,null,null,{"$f":"IFERROR(VLOOKUP(F76712,Biomasser!$A$3:$M$88,13,FALSE),)","v":0},null,null,null,null,null,{"$f":"IF(F76712<>\"\",'CO2 konvertering'!$C$23,)","v":0},null,null,null,null,0]
[null,null,null,"Ja",null,null,null,null,"",null,"",{"$f":"IFERROR(VLOOKUP(F76713,Biomasser!$A$3:$E$88,4,FALSE),0)","v":0},null,{"$f":"IFERROR(VLOOKUP(F76713,Biomasser!$A$3:$E$88,5,FALSE),0)","v":0},"",0,null,null,{"$f":"IFERROR(VLOOKUP(F76713,Biomasser!$A$3:$M$88,13,FALSE),)","v":0},null,null,null,null,null,{"$f":"IF(F76713<>\"\",'CO2 konvertering'!$C$23,)","v":0},null,null,null,null,0]
[null,null,null,"Ja",null,null,null,null,"",null,"",{"$f":"IFERROR(VLOOKUP(F76714,Biomasser!$A$3:$E$88,4,FALSE),0)","v":0},null,{"$f":"IFERROR(VLOOKUP(F76714,Biomasser!$A$3:$E$88,5,FALSE),0)","v":0},"",0,null,null,{"$f":"IFERROR(VLOOKUP(F76714,Biomasser!$A$3:$M$88,13,FALSE),)","v":0},null,null,null,null,null,{"$f":"IF(F76714<>\"\",'CO2 konvertering'!$C$23,)","v":0},null,null,null,null,0]
[null,null,null,"Ja",null,null,null,null,"",null,"",{"$f":"IFERROR(VLOOKUP(F76715,Biomasser!$A$3:$E$88,4,FALSE),0)","v":0},null,{"$f":"IFERROR(VLOOKUP(F76715,Biomasser!$A$3:$E$88,5,FALSE),0)","v":0},"",0,null,null,{"$f":"IFERROR(VLOOKUP(F76715,Biomasser!$A$3:$M$88,13,FALSE),)","v":0},null,null,null,null,null,{"$f":"IF(F76715<>\"\",'CO2 konvertering'!$C$23,)","v":0},null,null,null,null,0]
[null,null,null,"Ja",null,null,null,null,"",null,"",{"$f":"IFERROR(VLOOKUP(F76716,Biomasser!$A$3:$E$88,4,FALSE),0)","v":0},null,{"$f":"IFERROR(VLOOKUP(F76716,Biomasser!$A$3:$E$88,5,FALSE),0)","v":0},"",0,null,null,{"$f":"IFERROR(VLOOKUP(F76716,Biomasser!$A$3:$M$88,13,FALSE),)","v":0},null,null,null,null,null,{"$f":"IF(F76716<>\"\",'CO2 konvertering'!$C$23,)","v":0},null,null,null,null,0]
[null,null,null,"Ja",null,null,null,null,"",null,"",{"$f":"IFERROR(VLOOKUP(F76717,Biomasser!$A$3:$E$88,4,FALSE),0)","v":0},null,{"$f":"IFERROR(VLOOKUP(F76717,Biomasser!$A$3:$E$88,5,FALSE),0)","v":0},"",0,null,null,{"$f":"IFERROR(VLOOKUP(F76717,Biomasser!$A$3:$M$88,13,FALSE),)","v":0},null,null,null,null,null,{"$f":"IF(F76717<>\"\",'CO2 konvertering'!$C$23,)","v":0},null,null,null,null,0]
[null,null,null,"Ja",null,null,null,null,"",null,"",{"$f":"IFERROR(VLOOKUP(F76718,Biomasser!$A$3:$E$88,4,FALSE),0)","v":0},null,{"$f":"IFERROR(VLOOKUP(F76718,Biomasser!$A$3:$E$88,5,FALSE),0)","v":0},"",0,null,null,{"$f":"IFERROR(VLOOKUP(F76718,Biomasser!$A$3:$M$88,13,FALSE),)","v":0},null,null,null,null,null,{"$f":"IF(F76718<>\"\",'CO2 konvertering'!$C$23,)","v":0},null,null,null,null,0]
[null,null,null,"Ja",null,null,null,null,"",null,"",{"$f":"IFERROR(VLOOKUP(F76719,Biomasser!$A$3:$E$88,4,FALSE),0)","v":0},null,{"$f":"IFERROR(VLOOKUP(F76719,Biomasser!$A$3:$E$88,5,FALSE),0)","v":0},"",0,null,null,{"$f":"IFERROR(VLOOKUP(F76719,Biomasser!$A$3:$M$88,13,FALSE),)","v":0},null,null,null,null,null,{"$f":"IF(F76719<>\"\",'CO2 konvertering'!$C$23,)","v":0},null,null,null,null,0]
[null,null,null,"Ja",null,null,null,null,"",null,"",{"$f":"IFERROR(VLOOKUP(F76720,Biomasser!$A$3:$E$88,4,FALSE),0)","v":0},null,{"$f":"IFERROR(VLOOKUP(F76720,Biomasser!$A$3:$E$88,5,FALSE),0)","v":0},"",0,null,null,{"$f":"IFERROR(VLOOKUP(F76720,Biomasser!$A$3:$M$88,13,FALSE),)","v":0},null,null,null,null,null,{"$f":"IF(F76720<>\"\",'CO2 konvertering'!$C$23,)","v":0},null,null,null,null,0]
[null,null,null,"Ja",null,null,null,null,"",null,"",{"$f":"IFERROR(VLOOKUP(F76721,Biomasser!$A$3:$E$88,4,FALSE),0)","v":0},null,{"$f":"IFERROR(VLOOKUP(F76721,Biomasser!$A$3:$E$88,5,FALSE),0)","v":0},"",0,null,null,{"$f":"IFERROR(VLOOKUP(F76721,Biomasser!$A$3:$M$88,13,FALSE),)","v":0},null,null,null,null,null,{"$f":"IF(F76721<>\"\",'CO2 konvertering'!$C$23,)","v":0},null,null,null,null,0]
[null,null,null,"Ja",null,null,null,null,"",null,"",{"$f":"IFERROR(VLOOKUP(F76722,Biomasser!$A$3:$E$88,4,FALSE),0)","v":0},null,{"$f":"IFERROR(VLOOKUP(F76722,Biomasser!$A$3:$E$88,5,FALSE),0)","v":0},"",0,null,null,{"$f":"IFERROR(VLOOKUP(F76722,Biomasser!$A$3:$M$88,13,FALSE),)","v":0},null,null,null,null,null,{"$f":"IF(F76722<>\"\",'CO2 konvertering'!$C$23,)","v":0},null,null,null,null,0]
[null,null,null,"Ja",null,null,null,null,"",null,"",{"$f":"IFERROR(VLOOKUP(F76723,Biomasser!$A$3:$E$88,4,FALSE),0)","v":0},null,{"$f":"IFERROR(VLOOKUP(F76723,Biomasser!$A$3:$E$88,5,FALSE),0)","v":0},"",0,null,null,{"$f":"IFERROR(VLOOKUP(F76723,Biomasser!$A$3:$M$88,13,FALSE),)","v":0},null,null,null,null,null,{"$f":"IF(F76723<>\"\",'CO2 konvertering'!$C$23,)","v":0},null,null,null,null,0]
[null,null,null,"Ja",null,null,null,null,"",null,"",{"$f":"IFERROR(VLOOKUP(F76724,Biomasser!$A$3:$E$88,4,FALSE),0)","v":0},null,{"$f":"IFERROR(VLOOKUP(F76724,Biomasser!$A$3:$E$88,5,FALSE),0)","v":0},"",{"$f":"J76724*L76724*N76724*H76724","v":0},null,null,{"$f":"IFERROR(VLOOKUP(F76724,Biomasser!$A$3:$M$88,13,FALSE),)","v":0},null,null,null,null,null,{"$f":"IF(F76724<>\"\",'CO2 konvertering'!$C$23,)","v":0},null,null,null,null,{"$f":"SUM(S76724:AC76724)","v":0}]
[null,null,null,"Ja",null,null,null,null,{"$f":"IF(AND(F76725<>\"\",ISBLANK(H76725)),\"Indtast vægt\",\"\")","v":""},null,{"$f":"IF(AND(F76725<>\"\",ISBLANK(J76725)),\"Indtast tørstof %\",\"\")","v":""},{"$f":"IFERROR(VLOOKUP(F76725,Biomasser!$A$3:$E$88,4,FALSE),0)","v":0},null,{"$f":"IFERROR(VLOOKUP(F76725,Biomasser!$A$3:$E$88,5,FALSE),0)","v":0},"",0,null,null,{"$f":"IFERROR(VLOOKUP(F76725,Biomasser!$A$3:$M$88,13,FALSE),)","v":0},null,null,null,null,null,{"$f":"IF(F76725<>\"\",'CO2 konvertering'!$C$23,)","v":0},null,null,null,null,0]
[null,null,null,"Ja",null,null,null,null,"",null,"",{"$f":"IFERROR(VLOOKUP(F76726,Biomasser!$A$3:$E$88,4,FALSE),0)","v":0},null,{"$f":"IFERROR(VLOOKUP(F76726,Biomasser!$A$3:$E$88,5,FALSE),0)","v":0},"",0,null,null,{"$f":"IFERROR(VLOOKUP(F76726,Biomasser!$A$3:$M$88,13,FALSE),)","v":0},null,null,null,null,null,{"$f":"IF(F76726<>\"\",'CO2 konvertering'!$C$23,)","v":0},null,null,null,null,0]
[null,null,null,"Ja",null,null,null,null,"",null,"",{"$f":"IFERROR(VLOOKUP(F76727,Biomasser!$A$3:$E$88,4,FALSE),0)","v":0},null,{"$f":"IFERROR(VLOOKUP(F76727,Biomasser!$A$3:$E$88,5,FALSE),0)","v":0},"",0,null,null,{"$f":"IFERROR(VLOOKUP(F76727,Biomasser!$A$3:$M$88,13,FALSE),)","v":0},null,null,null,null,null,{"$f":"IF(F76727<>\"\",'CO2 konvertering'!$C$23,)","v":0},null,null,null,null,0]
[null,null,null,"Ja",null,null,null,null,"",null,"",{"$f":"IFERROR(VLOOKUP(F76728,Biomasser!$A$3:$E$88,4,FALSE),0)","v":0},null,{"$f":"IFERROR(VLOOKUP(F76728,Biomasser!$A$3:$E$88,5,FALSE),0)","v":0},{"$f":"IF(AND(F76728<>\"\",(N76728=0)),\"Opdater biomasseark\",\"\")","v":""},0,null,null,{"$f":"IFERROR(VLOOKUP(F76728,Biomasser!$A$3:$M$88,13,FALSE),)","v":0},null,null,null,null,null,{"$f":"IF(F76728<>\"\",'CO2 konvertering'!$C$23,)","v":0},null,null,null,null,0]
[null,null,null,"Ja",null,null,null,null,"",null,"",{"$f":"IFERROR(VLOOKUP(F76729,Biomasser!$A$3:$E$88,4,FALSE),0)","v":0},null,{"$f":"IFERROR(VLOOKUP(F76729,Biomasser!$A$3:$E$88,5,FALSE),0)","v":0},"",0,null,null,{"$f":"IFERROR(VLOOKUP(F76729,Biomasser!$A$3:$M$88,13,FALSE),)","v":0},null,null,null,null,null,{"$f":"IF(F76729<>\"\",'CO2 konvertering'!$C$23,)","v":0},null,null,null,null,0]
[null,null,null,"Ja",null,null,null,null,"",null,"",{"$f":"IFERROR(VLOOKUP(F76730,Biomasser!$A$3:$E$88,4,FALSE),0)","v":0},null,{"$f":"IFERROR(VLOOKUP(F76730,Biomasser!$A$3:$E$88,5,FALSE),0)","v":0},"",0,null,null,{"$f":"IFERROR(VLOOKUP(F76730,Biomasser!$A$3:$M$88,13,FALSE),)","v":0},null,null,null,null,null,{"$f":"IF(F76730<>\"\",'CO2 konvertering'!$C$23,)","v":0},null,null,null,null,0]
[null,null,null,"Ja",null,null,null,null,"",null,"",{"$f":"IFERROR(VLOOKUP(F76731,Biomasser!$A$3:$E$88,4,FALSE),0)","v":0},null,{"$f":"IFERROR(VLOOKUP(F76731,Biomasser!$A$3:$E$88,5,FALSE),0)","v":0},"",0,null,null,{"$f":"IFERROR(VLOOKUP(F76731,Biomasser!$A$3:$M$88,13,FALSE),)","v":0},null,null,null,null,null,{"$f":"IF(F76731<>\"\",'CO2 konvertering'!$C$23,)","v":0},null,null,null,null,0]
[null,null,null,"Ja",null,null,null,null,"",null,"",{"$f":"IFERROR(VLOOKUP(F76732,Biomasser!$A$3:$E$88,4,FALSE),0)","v":0},null,{"$f":"IFERROR(VLOOKUP(F76732,Biomasser!$A$3:$E$88,5,FALSE),0)","v":0},"",0,null,null,{"$f":"IFERROR(VLOOKUP(F76732,Biomasser!$A$3:$M$88,13,FALSE),)","v":0},null,null,null,null,null,{"$f":"IF(F76732<>\"\",'CO2 konvertering'!$C$23,)","v":0},null,null,null,null,0]
[null,null,null,"Ja",null,null,null,null,"",null,"",{"$f":"IFERROR(VLOOKUP(F76733,Biomasser!$A$3:$E$88,4,FALSE),0)","v":0},null,{"$f":"IFERROR(VLOOKUP(F76733,Biomasser!$A$3:$E$88,5,FALSE),0)","v":0},"",0,null,null,{"$f":"IFERROR(VLOOKUP(F76733,Biomasser!$A$3:$M$88,13,FALSE),)","v":0},null,null,null,null,null,{"$f":"IF(F76733<>\"\",'CO2 konvertering'!$C$23,)","v":0},null,null,null,null,0]
[null,null,null,"Ja",null,null,null,null,"",null,"",{"$f":"IFERROR(VLOOKUP(F76734,Biomasser!$A$3:$E$88,4,FALSE),0)","v":0},null,{"$f":"IFERROR(VLOOKUP(F76734,Biomasser!$A$3:$E$88,5,FALSE),0)","v":0},"",0,null,null,{"$f":"IFERROR(VLOOKUP(F76734,Biomasser!$A$3:$M$88,13,FALSE),)","v":0},null,null,null,null,null,{"$f":"IF(F76734<>\"\",'CO2 konvertering'!$C$23,)","v":0},null,null,null,null,0]
[null,null,null,"Ja",null,null,null,null,"",null,"",{"$f":"IFERROR(VLOOKUP(F76735,Biomasser!$A$3:$E$88,4,FALSE),0)","v":0},null,{"$f":"IFERROR(VLOOKUP(F76735,Biomasser!$A$3:$E$88,5,FALSE),0)","v":0},"",0,null,null,{"$f":"IFERROR(VLOOKUP(F76735,Biomasser!$A$3:$M$88,13,FALSE),)","v":0},null,null,null,null,null,{"$f":"IF(F76735<>\"\",'CO2 konvertering'!$C$23,)","v":0},null,null,null,null,0]
[null,null,null,"Ja",null,null,null,null,"",null,"",{"$f":"IFERROR(VLOOKUP(F76736,Biomasser!$A$3:$E$88,4,FALSE),0)","v":0},null,{"$f":"IFERROR(VLOOKUP(F76736,Biomasser!$A$3:$E$88,5,FALSE),0)","v":0},"",0,null,null,{"$f":"IFERROR(VLOOKUP(F76736,Biomasser!$A$3:$M$88,13,FALSE),)","v":0},null,null,null,null,null,{"$f":"IF(F76736<>\"\",'CO2 konvertering'!$C$23,)","v":0},null,null,null,null,0]
[null,null,null,"Ja",null,null,null,null,"",null,"",{"$f":"IFERROR(VLOOKUP(F76737,Biomasser!$A$3:$E$88,4,FALSE),0)","v":0},null,{"$f":"IFERROR(VLOOKUP(F76737,Biomasser!$A$3:$E$88,5,FALSE),0)","v":0},"",0,null,null,{"$f":"IFERROR(VLOOKUP(F76737,Biomasser!$A$3:$M$88,13,FALSE),)","v":0},null,null,null,null,null,{"$f":"IF(F76737<>\"\",'CO2 konvertering'!$C$23,)","v":0},null,null,null,null,0]
[null,null,null,"Ja",null,null,null,null,"",null,"",{"$f":"IFERROR(VLOOKUP(F76738,Biomasser!$A$3:$E$88,4,FALSE),0)","v":0},null,{"$f":"IFERROR(VLOOKUP(F76738,Biomasser!$A$3:$E$88,5,FALSE),0)","v":0},"",0,null,null,{"$f":"IFERROR(VLOOKUP(F76738,Biomasser!$A$3:$M$88,13,FALSE),)","v":0},null,null,null,null,null,{"$f":"IF(F76738<>\"\",'CO2 konvertering'!$C$23,)","v":0},null,null,null,null,0]
[null,null,null,"Ja",null,null,null,null,"",null,"",{"$f":"IFERROR(VLOOKUP(F76739,Biomasser!$A$3:$E$88,4,FALSE),0)","v":0},null,{"$f":"IFERROR(VLOOKUP(F76739,Biomasser!$A$3:$E$88,5,FALSE),0)","v":0},"",0,null,null,{"$f":"IFERROR(VLOOKUP(F76739,Biomasser!$A$3:$M$88,13,FALSE),)","v":0},null,null,null,null,null,{"$f":"IF(F76739<>\"\",'CO2 konvertering'!$C$23,)","v":0},null,null,null,null,0]
[null,null,null,"Ja",null,null,null,null,"",null,"",{"$f":"IFERROR(VLOOKUP(F76740,Biomasser!$A$3:$E$88,4,FALSE),0)","v":0},null,{"$f":"IFERROR(VLOOKUP(F76740,Biomasser!$A$3:$E$88,5,FALSE),0)","v":0},"",0,null,null,{"$f":"IFERROR(VLOOKUP(F76740,Biomasser!$A$3:$M$88,13,FALSE),)","v":0},null,null,null,null,null,{"$f":"IF(F76740<>\"\",'CO2 konvertering'!$C$23,)","v":0},null,null,null,null,0]
[null,null,null,"Ja",null,null,null,null,"",null,"",{"$f":"IFERROR(VLOOKUP(F76741,Biomasser!$A$3:$E$88,4,FALSE),0)","v":0},null,{"$f":"IFERROR(VLOOKUP(F76741,Biomasser!$A$3:$E$88,5,FALSE),0)","v":0},"",0,null,null,{"$f":"IFERROR(VLOOKUP(F76741,Biomasser!$A$3:$M$88,13,FALSE),)","v":0},null,null,null,null,null,{"$f":"IF(F76741<>\"\",'CO2 konvertering'!$C$23,)","v":0},null,null,null,null,0]
[null,null,null,"Ja",null,null,null,null,"",null,"",{"$f":"IFERROR(VLOOKUP(F76742,Biomasser!$A$3:$E$88,4,FALSE),0)","v":0},null,{"$f":"IFERROR(VLOOKUP(F76742,Biomasser!$A$3:$E$88,5,FALSE),0)","v":0},"",0,null,null,{"$f":"IFERROR(VLOOKUP(F76742,Biomasser!$A$3:$M$88,13,FALSE),)","v":0},null,null,null,null,null,{"$f":"IF(F76742<>\"\",'CO2 konvertering'!$C$23,)","v":0},null,null,null,null,0]
[null,null,null,"Ja",null,null,null,null,"",null,"",{"$f":"IFERROR(VLOOKUP(F76743,Biomasser!$A$3:$E$88,4,FALSE),0)","v":0},null,{"$f":"IFERROR(VLOOKUP(F76743,Biomasser!$A$3:$E$88,5,FALSE),0)","v":0},"",0,null,null,{"$f":"IFERROR(VLOOKUP(F76743,Biomasser!$A$3:$M$88,13,FALSE),)","v":0},null,null,null,null,null,{"$f":"IF(F76743<>\"\",'CO2 konvertering'!$C$23,)","v":0},null,null,null,null,0]
[null,null,null,"Ja",null,null,null,null,"",null,"",{"$f":"IFERROR(VLOOKUP(F76744,Biomasser!$A$3:$E$88,4,FALSE),0)","v":0},null,{"$f":"IFERROR(VLOOKUP(F76744,Biomasser!$A$3:$E$88,5,FALSE),0)","v":0},"",0,null,null,{"$f":"IFERROR(VLOOKUP(F76744,Biomasser!$A$3:$M$88,13,FALSE),)","v":0},null,null,null,null,null,{"$f":"IF(F76744<>\"\",'CO2 konvertering'!$C$23,)","v":0},null,null,null,null,{"$f":"SUM(S76744:AC76744)","v":0}]
[null,null,null,"Ja",null,null,null,null,"",null,"",{"$f":"IFERROR(VLOOKUP(F76745,Biomasser!$A$3:$E$88,4,FALSE),0)","v":0},null,{"$f":"IFERROR(VLOOKUP(F76745,Biomasser!$A$3:$E$88,5,FALSE),0)","v":0},"",0,null,null,{"$f":"IFERROR(VLOOKUP(F76745,Biomasser!$A$3:$M$88,13,FALSE),)","v":0},null,null,null,null,null,{"$f":"IF(F76745<>\"\",'CO2 konvertering'!$C$23,)","v":0},null,null,null,null,0]
[null,null,null,"Ja",null,null,null,null,"",null,"",{"$f":"IFERROR(VLOOKUP(F76746,Biomasser!$A$3:$E$88,4,FALSE),0)","v":0},null,{"$f":"IFERROR(VLOOKUP(F76746,Biomasser!$A$3:$E$88,5,FALSE),0)","v":0},"",0,null,null,{"$f":"IFERROR(VLOOKUP(F76746,Biomasser!$A$3:$M$88,13,FALSE),)","v":0},null,null,null,null,null,{"$f":"IF(F76746<>\"\",'CO2 konvertering'!$C$23,)","v":0},null,null,null,null,0]
[null,null,null,"Ja",null,null,null,null,"",null,"",{"$f":"IFERROR(VLOOKUP(F76747,Biomasser!$A$3:$E$88,4,FALSE),0)","v":0},null,{"$f":"IFERROR(VLOOKUP(F76747,Biomasser!$A$3:$E$88,5,FALSE),0)","v":0},"",0,null,null,{"$f":"IFERROR(VLOOKUP(F76747,Biomasser!$A$3:$M$88,13,FALSE),)","v":0},null,null,null,null,null,{"$f":"IF(F76747<>\"\",'CO2 konvertering'!$C$23,)","v":0},null,null,null,null,0]
[null,null,null,"Ja",null,null,null,null,"",null,"",{"$f":"IFERROR(VLOOKUP(F76748,Biomasser!$A$3:$E$88,4,FALSE),0)","v":0},null,{"$f":"IFERROR(VLOOKUP(F76748,Biomasser!$A$3:$E$88,5,FALSE),0)","v":0},"",0,null,null,{"$f":"IFERROR(VLOOKUP(F76748,Biomasser!$A$3:$M$88,13,FALSE),)","v":0},null,null,null,null,null,{"$f":"IF(F76748<>\"\",'CO2 konvertering'!$C$23,)","v":0},null,null,null,null,0]
[null,null,null,"Ja",null,null,null,null,"",null,"",{"$f":"IFERROR(VLOOKUP(F76749,Biomasser!$A$3:$E$88,4,FALSE),0)","v":0},null,{"$f":"IFERROR(VLOOKUP(F76749,Biomasser!$A$3:$E$88,5,FALSE),0)","v":0},"",0,null,null,{"$f":"IFERROR(VLOOKUP(F76749,Biomasser!$A$3:$M$88,13,FALSE),)","v":0},null,null,null,null,null,{"$f":"IF(F76749<>\"\",'CO2 konvertering'!$C$23,)","v":0},null,null,null,null,0]
[null,null,null,"Ja",null,null,null,null,"",null,"",{"$f":"IFERROR(VLOOKUP(F76750,Biomasser!$A$3:$E$88,4,FALSE),0)","v":0},null,{"$f":"IFERROR(VLOOKUP(F76750,Biomasser!$A$3:$E$88,5,FALSE),0)","v":0},"",0,null,null,{"$f":"IFERROR(VLOOKUP(F76750,Biomasser!$A$3:$M$88,13,FALSE),)","v":0},null,null,null,null,null,{"$f":"IF(F76750<>\"\",'CO2 konvertering'!$C$23,)","v":0},null,null,null,null,0]
[null,null,null,"Ja",null,null,null,null,"",null,"",{"$f":"IFERROR(VLOOKUP(F76751,Biomasser!$A$3:$E$88,4,FALSE),0)","v":0},null,{"$f":"IFERROR(VLOOKUP(F76751,Biomasser!$A$3:$E$88,5,FALSE),0)","v":0},"",0,null,null,{"$f":"IFERROR(VLOOKUP(F76751,Biomasser!$A$3:$M$88,13,FALSE),)","v":0},null,null,null,null,null,{"$f":"IF(F76751<>\"\",'CO2 konvertering'!$C$23,)","v":0},null,null,null,null,0]
[null,null,null,"Ja",null,null,null,null,"",null,"",{"$f":"IFERROR(VLOOKUP(F76752,Biomasser!$A$3:$E$88,4,FALSE),0)","v":0},null,{"$f":"IFERROR(VLOOKUP(F76752,Biomasser!$A$3:$E$88,5,FALSE),0)","v":0},"",0,null,null,{"$f":"IFERROR(VLOOKUP(F76752,Biomasser!$A$3:$M$88,13,FALSE),)","v":0},null,null,null,null,null,{"$f":"IF(F76752<>\"\",'CO2 konvertering'!$C$23,)","v":0},null,null,null,null,0]
[null,null,null,"Ja",null,null,null,null,"",null,"",{"$f":"IFERROR(VLOOKUP(F76753,Biomasser!$A$3:$E$88,4,FALSE),0)","v":0},null,{"$f":"IFERROR(VLOOKUP(F76753,Biomasser!$A$3:$E$88,5,FALSE),0)","v":0},"",0,null,null,{"$f":"IFERROR(VLOOKUP(F76753,Biomasser!$A$3:$M$88,13,FALSE),)","v":0},null,null,null,null,null,{"$f":"IF(F76753<>\"\",'CO2 konvertering'!$C$23,)","v":0},null,null,null,null,0]
[null,null,null,"Ja",null,null,null,null,"",null,"",{"$f":"IFERROR(VLOOKUP(F76754,Biomasser!$A$3:$E$88,4,FALSE),0)","v":0},null,{"$f":"IFERROR(VLOOKUP(F76754,Biomasser!$A$3:$E$88,5,FALSE),0)","v":0},"",0,null,null,{"$f":"IFERROR(VLOOKUP(F76754,Biomasser!$A$3:$M$88,13,FALSE),)","v":0},null,null,null,null,null,{"$f":"IF(F76754<>\"\",'CO2 konvertering'!$C$23,)","v":0},null,null,null,null,0]
[null,null,null,"Ja",null,null,null,null,"",null,"",{"$f":"IFERROR(VLOOKUP(F76755,Biomasser!$A$3:$E$88,4,FALSE),0)","v":0},null,{"$f":"IFERROR(VLOOKUP(F76755,Biomasser!$A$3:$E$88,5,FALSE),0)","v":0},"",0,null,null,{"$f":"IFERROR(VLOOKUP(F76755,Biomasser!$A$3:$M$88,13,FALSE),)","v":0},null,null,null,null,null,{"$f":"IF(F76755<>\"\",'CO2 konvertering'!$C$23,)","v":0},null,null,null,null,0]
[null,null,null,"Ja",null,null,null,null,"",null,"",{"$f":"IFERROR(VLOOKUP(F76756,Biomasser!$A$3:$E$88,4,FALSE),0)","v":0},null,{"$f":"IFERROR(VLOOKUP(F76756,Biomasser!$A$3:$E$88,5,FALSE),0)","v":0},"",0,null,null,{"$f":"IFERROR(VLOOKUP(F76756,Biomasser!$A$3:$M$88,13,FALSE),)","v":0},null,null,null,null,null,{"$f":"IF(F76756<>\"\",'CO2 konvertering'!$C$23,)","v":0},null,null,null,null,0]
[null,null,null,"Ja",null,null,null,null,"",null,"",{"$f":"IFERROR(VLOOKUP(F76757,Biomasser!$A$3:$E$88,4,FALSE),0)","v":0},null,{"$f":"IFERROR(VLOOKUP(F76757,Biomasser!$A$3:$E$88,5,FALSE),0)","v":0},"",0,null,null,{"$f":"IFERROR(VLOOKUP(F76757,Biomasser!$A$3:$M$88,13,FALSE),)","v":0},null,null,null,null,null,{"$f":"IF(F76757<>\"\",'CO2 konvertering'!$C$23,)","v":0},null,null,null,null,0]
[null,null,null,"Ja",null,null,null,null,"",null,"",{"$f":"IFERROR(VLOOKUP(F76758,Biomasser!$A$3:$E$88,4,FALSE),0)","v":0},null,{"$f":"IFERROR(VLOOKUP(F76758,Biomasser!$A$3:$E$88,5,FALSE),0)","v":0},"",0,null,null,{"$f":"IFERROR(VLOOKUP(F76758,Biomasser!$A$3:$M$88,13,FALSE),)","v":0},null,null,null,null,null,{"$f":"IF(F76758<>\"\",'CO2 konvertering'!$C$23,)","v":0},null,null,null,null,0]
[null,null,null,"Ja",null,null,null,null,"",null,"",{"$f":"IFERROR(VLOOKUP(F76759,Biomasser!$A$3:$E$88,4,FALSE),0)","v":0},null,{"$f":"IFERROR(VLOOKUP(F76759,Biomasser!$A$3:$E$88,5,FALSE),0)","v":0},"",0,null,null,{"$f":"IFERROR(VLOOKUP(F76759,Biomasser!$A$3:$M$88,13,FALSE),)","v":0},null,null,null,null,null,{"$f":"IF(F76759<>\"\",'CO2 konvertering'!$C$23,)","v":0},null,null,null,null,0]
[null,null,null,"Ja",null,null,null,null,"",null,"",{"$f":"IFERROR(VLOOKUP(F76760,Biomasser!$A$3:$E$88,4,FALSE),0)","v":0},null,{"$f":"IFERROR(VLOOKUP(F76760,Biomasser!$A$3:$E$88,5,FALSE),0)","v":0},"",0,null,null,{"$f":"IFERROR(VLOOKUP(F76760,Biomasser!$A$3:$M$88,13,FALSE),)","v":0},null,null,null,null,null,{"$f":"IF(F76760<>\"\",'CO2 konvertering'!$C$23,)","v":0},null,null,null,null,0]

{"sheet":"Leverandører","index":10,"n_rows":4,"n_cols":9,"rows_kept":4,"cut":false,"hidden":false,"merged":[]}
[]
[]
[]
["ID","Navn","Vejnavn","Nr","Post nr","By","Telefon","CVR nummer","Certifikations nummer"]

{"sheet":"Procentandel - mellemregning","index":11,"n_rows":0,"n_cols":0,"rows_kept":0,"cut":false,"hidden":false,"merged":[]}

{"sheet":"Dagsbasis-mellemregning","index":12,"n_rows":733,"n_cols":17,"rows_kept":733,"cut":false,"hidden":false,"merged":[]}
[null,"Teo prod.",null,null,null,"CO2e",null,null,null,"% Andel",null,null,"Faktisk produktion",null,null,null,"Biomasse (ton)"]
["Dato ","Ikke cert","Cert","Dobbelt","Total","ikke cert","cert","Dobbelt","Total","ikke cert","cert","Dobbelt","Total","ikke cert","cert","dobbelt"]
["1. januar2015"]
["2. januar2015"]
["3. januar2015"]
["4. januar2015"]
["5. januar2015"]
["6. januar2015"]
["7. januar2015"]
["8. januar2015"]
["9. januar2015"]
["10. januar2015"]
["11. januar2015"]
["12. januar2015"]
["13. januar2015"]
["14. januar2015"]
["15. januar2015"]
["16. januar2015"]
["17. januar2015"]
["18. januar2015"]
["19. januar2015"]
["20. januar2015"]
["21. januar2015"]
["22. januar2015"]
["23. januar2015"]
["24. januar2015"]
["25. januar2015"]
["26. januar2015"]
["27. januar2015"]
["28. januar2015"]
["29. januar2015"]
["30. januar2015"]
["31. januar2015"]
["1. februar2015"]
["2. februar2015"]
["3. februar2015"]
["4. februar2015"]
["5. februar2015"]
["6. februar2015"]
["7. februar2015"]
["8. februar2015"]
["9. februar2015"]
["10. februar2015"]
["11. februar2015"]
["12. februar2015"]
["13. februar2015"]
["14. februar2015"]
["15. februar2015"]
["16. februar2015"]
["17. februar2015"]
["18. februar2015"]
["19. februar2015"]
["20. februar2015"]
["21. februar2015"]
["22. februar2015"]
["23. februar2015"]
["24. februar2015"]
["25. februar2015"]
["26. februar2015"]
["27. februar2015"]
["28. februar2015"]
["1. marts2015"]
["2. marts2015"]
["3. marts2015"]
["4. marts2015"]
["5. marts2015"]
["6. marts2015"]
["7. marts2015"]
["8. marts2015"]
["9. marts2015"]
["10. marts2015"]
["11. marts2015"]
["12. marts2015"]
["13. marts2015"]
["14. marts2015"]
["15. marts2015"]
["16. marts2015"]
["17. marts2015"]
["18. marts2015"]
["19. marts2015"]
["20. marts2015"]
["21. marts2015"]
["22. marts2015"]
["23. marts2015"]
["24. marts2015"]
["25. marts2015"]
["26. marts2015"]
["27. marts2015"]
["28. marts2015"]
["29. marts2015"]
["30. marts2015"]
["31. marts2015"]
["1. april2015"]
["2. april2015"]
["3. april2015"]
["4. april2015"]
["5. april2015"]
["6. april2015"]
["7. april2015"]
["8. april2015"]
["9. april2015"]
["10. april2015"]
["11. april2015"]
["12. april2015"]
["13. april2015"]
["14. april2015"]
["15. april2015"]
["16. april2015"]
["17. april2015"]
["18. april2015"]
["19. april2015"]
["20. april2015"]
["21. april2015"]
["22. april2015"]
["23. april2015"]
["24. april2015"]
["25. april2015"]
["26. april2015"]
["27. april2015"]
["28. april2015"]
["29. april2015"]
["30. april2015"]
["1. maj2015"]
["2. maj2015"]
["3. maj2015"]
["4. maj2015"]
["5. maj2015"]
["6. maj2015"]
["7. maj2015"]
["8. maj2015"]
["9. maj2015"]
["10. maj2015"]
["11. maj2015"]
["12. maj2015"]
["13. maj2015"]
["14. maj2015"]
["15. maj2015"]
["16. maj2015"]
["17. maj2015"]
["18. maj2015"]
["19. maj2015"]
["20. maj2015"]
["21. maj2015"]
["22. maj2015"]
["23. maj2015"]
["24. maj2015"]
["25. maj2015"]
["26. maj2015"]
["27. maj2015"]
["28. maj2015"]
["29. maj2015"]
["30. maj2015"]
["31. maj2015"]
["1. juni2015"]
["2. juni2015"]
["3. juni2015"]
["4. juni2015"]
["5. juni2015"]
["6. juni2015"]
["7. juni2015"]
["8. juni2015"]
["9. juni2015"]
["10. juni2015"]
["11. juni2015"]
["12. juni2015"]
["13. juni2015"]
["14. juni2015"]
["15. juni2015"]
["16. juni2015"]
["17. juni2015"]
["18. juni2015"]
["19. juni2015"]
["20. juni2015"]
["21. juni2015"]
["22. juni2015"]
["23. juni2015"]
["24. juni2015"]
["25. juni2015"]
["26. juni2015"]
["27. juni2015"]
["28. juni2015"]
["29. juni2015"]
["30. juni2015"]
["1. juli2015"]
["2. juli2015"]
["3. juli2015"]
["4. juli2015"]
["5. juli2015"]
["6. juli2015"]
["7. juli2015"]
["8. juli2015"]
["9. juli2015"]
["10. juli2015"]
["11. juli2015"]
["12. juli2015"]
["13. juli2015"]
["14. juli2015"]
["15. juli2015"]
["16. juli2015"]
["17. juli2015"]
["18. juli2015"]
["19. juli2015"]
["20. juli2015"]
["21. juli2015"]
["22. juli2015"]
["23. juli2015"]
["24. juli2015"]
["25. juli2015"]
["26. juli2015"]
["27. juli2015"]
["28. juli2015"]
["29. juli2015"]
["30. juli2015"]
["31. juli2015"]
["1. august2015"]
["2. august2015"]
["3. august2015"]
["4. august2015"]
["5. august2015"]
["6. august2015"]
["7. august2015"]
["8. august2015"]
["9. august2015"]
["10. august2015"]
["11. august2015"]
["12. august2015"]
["13. august2015"]
["14. august2015"]
["15. august2015"]
["16. august2015"]
["17. august2015"]
["18. august2015"]
["19. august2015"]
["20. august2015"]
["21. august2015"]
["22. august2015"]
["23. august2015"]
["24. august2015"]
["25. august2015"]
["26. august2015"]
["27. august2015"]
["28. august2015"]
["29. august2015"]
["30. august2015"]
["31. august2015"]
["1. september2015"]
["2. september2015"]
["3. september2015"]
["4. september2015"]
["5. september2015"]
["6. september2015"]
["7. september2015"]
["8. september2015"]
["9. september2015"]
["10. september2015"]
["11. september2015"]
["12. september2015"]
["13. september2015"]
["14. september2015"]
["15. september2015"]
["16. september2015"]
["17. september2015"]
["18. september2015"]
["19. september2015"]
["20. september2015"]
["21. september2015"]
["22. september2015"]
["23. september2015"]
["24. september2015"]
["25. september2015"]
["26. september2015"]
["27. september2015"]
["28. september2015"]
["29. september2015"]
["30. september2015"]
["1. oktober2015"]
["2. oktober2015"]
["3. oktober2015"]
["4. oktober2015"]
["5. oktober2015"]
["6. oktober2015"]
["7. oktober2015"]
["8. oktober2015"]
["9. oktober2015"]
["10. oktober2015"]
["11. oktober2015"]
["12. oktober2015"]
["13. oktober2015"]
["14. oktober2015"]
["15. oktober2015"]
["16. oktober2015"]
["17. oktober2015"]
["18. oktober2015"]
["19. oktober2015"]
["20. oktober2015"]
["21. oktober2015"]
["22. oktober2015"]
["23. oktober2015"]
["24. oktober2015"]
["25. oktober2015"]
["26. oktober2015"]
["27. oktober2015"]
["28. oktober2015"]
["29. oktober2015"]
["30. oktober2015"]
["31. oktober2015"]
["1. november2015"]
["2. november2015"]
["3. november2015"]
["4. november2015"]
["5. november2015"]
["6. november2015"]
["7. november2015"]
["8. november2015"]
["9. november2015"]
["10. november2015"]
["11. november2015"]
["12. november2015"]
["13. november2015"]
["14. november2015"]
["15. november2015"]
["16. november2015"]
["17. november2015"]
["18. november2015"]
["19. november2015"]
["20. november2015"]
["21. november2015"]
["22. november2015"]
["23. november2015"]
["24. november2015"]
["25. november2015"]
["26. november2015"]
["27. november2015"]
["28. november2015"]
["29. november2015"]
["30. november2015"]
["1. december2015"]
["2. december2015"]
["3. december2015"]
["4. december2015"]
["5. december2015"]
["6. december2015"]
["7. december2015"]
["8. december2015"]
["9. december2015"]
["10. december2015"]
["11. december2015"]
["12. december2015"]
["13. december2015"]
["14. december2015"]
["15. december2015"]
["16. december2015"]
["17. december2015"]
["18. december2015"]
["19. december2015"]
["20. december2015"]
["21. december2015"]
["22. december2015"]
["23. december2015"]
["24. december2015"]
["25. december2015"]
["26. december2015"]
["27. december2015"]
["28. december2015"]
["29. december2015"]
["30. december2015"]
["31. december2015"]
["1. januar2016"]
["2. januar2016"]
["3. januar2016"]
["4. januar2016"]
["5. januar2016"]
["6. januar2016"]
["7. januar2016"]
["8. januar2016"]
["9. januar2016"]
["10. januar2016"]
["11. januar2016"]
["12. januar2016"]
["13. januar2016"]
["14. januar2016"]
["15. januar2016"]
["16. januar2016"]
["17. januar2016"]
["18. januar2016"]
["19. januar2016"]
["20. januar2016"]
["21. januar2016"]
["22. januar2016"]
["23. januar2016"]
["24. januar2016"]
["25. januar2016"]
["26. januar2016"]
["27. januar2016"]
["28. januar2016"]
["29. januar2016"]
["30. januar2016"]
["31. januar2016"]
["1. februar2016"]
["2. februar2016"]
["3. februar2016"]
["4. februar2016"]
["5. februar2016"]
["6. februar2016"]
["7. februar2016"]
["8. februar2016"]
["9. februar2016"]
["10. februar2016"]
["11. februar2016"]
["12. februar2016"]
["13. februar2016"]
["14. februar2016"]
["15. februar2016"]
["16. februar2016"]
["17. februar2016"]
["18. februar2016"]
["19. februar2016"]
["20. februar2016"]
["21. februar2016"]
["22. februar2016"]
["23. februar2016"]
["24. februar2016"]
["25. februar2016"]
["26. februar2016"]
["27. februar2016"]
["28. februar2016"]
["29. februar2016"]
["1. marts2016"]
["2. marts2016"]
["3. marts2016"]
["4. marts2016"]
["5. marts2016"]
["6. marts2016"]
["7. marts2016"]
["8. marts2016"]
["9. marts2016"]
["10. marts2016"]
["11. marts2016"]
["12. marts2016"]
["13. marts2016"]
["14. marts2016"]
["15. marts2016"]
["16. marts2016"]
["17. marts2016"]
["18. marts2016"]
["19. marts2016"]
["20. marts2016"]
["21. marts2016"]
["22. marts2016"]
["23. marts2016"]
["24. marts2016"]
["25. marts2016"]
["26. marts2016"]
["27. marts2016"]
["28. marts2016"]
["29. marts2016"]
["30. marts2016"]
["31. marts2016"]
["1. april2016"]
["2. april2016"]
["3. april2016"]
["4. april2016"]
["5. april2016"]
["6. april2016"]
["7. april2016"]
["8. april2016"]
["9. april2016"]
["10. april2016"]
["11. april2016"]
["12. april2016"]
["13. april2016"]
["14. april2016"]
["15. april2016"]
["16. april2016"]
["17. april2016"]
["18. april2016"]
["19. april2016"]
["20. april2016"]
["21. april2016"]
["22. april2016"]
["23. april2016"]
["24. april2016"]
["25. april2016"]
["26. april2016"]
["27. april2016"]
["28. april2016"]
["29. april2016"]
["30. april2016"]
["1. maj2016"]
["2. maj2016"]
["3. maj2016"]
["4. maj2016"]
["5. maj2016"]
["6. maj2016"]
["7. maj2016"]
["8. maj2016"]
["9. maj2016"]
["10. maj2016"]
["11. maj2016"]
["12. maj2016"]
["13. maj2016"]
["14. maj2016"]
["15. maj2016"]
["16. maj2016"]
["17. maj2016"]
["18. maj2016"]
["19. maj2016"]
["20. maj2016"]
["21. maj2016"]
["22. maj2016"]
["23. maj2016"]
["24. maj2016"]
["25. maj2016"]
["26. maj2016"]
["27. maj2016"]
["28. maj2016"]
["29. maj2016"]
["30. maj2016"]
["31. maj2016"]
["1. juni2016"]
["2. juni2016"]
["3. juni2016"]
["4. juni2016"]
["5. juni2016"]
["6. juni2016"]
["7. juni2016"]
["8. juni2016"]
["9. juni2016"]
["10. juni2016"]
["11. juni2016"]
["12. juni2016"]
["13. juni2016"]
["14. juni2016"]
["15. juni2016"]
["16. juni2016"]
["17. juni2016"]
["18. juni2016"]
["19. juni2016"]
["20. juni2016"]
["21. juni2016"]
["22. juni2016"]
["23. juni2016"]
["24. juni2016"]
["25. juni2016"]
["26. juni2016"]
["27. juni2016"]
["28. juni2016"]
["29. juni2016"]
["30. juni2016"]
["1. juli2016"]
["2. juli2016"]
["3. juli2016"]
["4. juli2016"]
["5. juli2016"]
["6. juli2016"]
["7. juli2016"]
["8. juli2016"]
["9. juli2016"]
["10. juli2016"]
["11. juli2016"]
["12. juli2016"]
["13. juli2016"]
["14. juli2016"]
["15. juli2016"]
["16. juli2016"]
["17. juli2016"]
["18. juli2016"]
["19. juli2016"]
["20. juli2016"]
["21. juli2016"]
["22. juli2016"]
["23. juli2016"]
["24. juli2016"]
["25. juli2016"]
["26. juli2016"]
["27. juli2016"]
["28. juli2016"]
["29. juli2016"]
["30. juli2016"]
["31. juli2016"]
["1. august2016"]
["2. august2016"]
["3. august2016"]
["4. august2016"]
["5. august2016"]
["6. august2016"]
["7. august2016"]
["8. august2016"]
["9. august2016"]
["10. august2016"]
["11. august2016"]
["12. august2016"]
["13. august2016"]
["14. august2016"]
["15. august2016"]
["16. august2016"]
["17. august2016"]
["18. august2016"]
["19. august2016"]
["20. august2016"]
["21. august2016"]
["22. august2016"]
["23. august2016"]
["24. august2016"]
["25. august2016"]
["26. august2016"]
["27. august2016"]
["28. august2016"]
["29. august2016"]
["30. august2016"]
["31. august2016"]
["1. september2016"]
["2. september2016"]
["3. september2016"]
["4. september2016"]
["5. september2016"]
["6. september2016"]
["7. september2016"]
["8. september2016"]
["9. september2016"]
["10. september2016"]
["11. september2016"]
["12. september2016"]
["13. september2016"]
["14. september2016"]
["15. september2016"]
["16. september2016"]
["17. september2016"]
["18. september2016"]
["19. september2016"]
["20. september2016"]
["21. september2016"]
["22. september2016"]
["23. september2016"]
["24. september2016"]
["25. september2016"]
["26. september2016"]
["27. september2016"]
["28. september2016"]
["29. september2016"]
["30. september2016"]
["1. oktober2016"]
["2. oktober2016"]
["3. oktober2016"]
["4. oktober2016"]
["5. oktober2016"]
["6. oktober2016"]
["7. oktober2016"]
["8. oktober2016"]
["9. oktober2016"]
["10. oktober2016"]
["11. oktober2016"]
["12. oktober2016"]
["13. oktober2016"]
["14. oktober2016"]
["15. oktober2016"]
["16. oktober2016"]
["17. oktober2016"]
["18. oktober2016"]
["19. oktober2016"]
["20. oktober2016"]
["21. oktober2016"]
["22. oktober2016"]
["23. oktober2016"]
["24. oktober2016"]
["25. oktober2016"]
["26. oktober2016"]
["27. oktober2016"]
["28. oktober2016"]
["29. oktober2016"]
["30. oktober2016"]
["31. oktober2016"]
["1. november2016"]
["2. november2016"]
["3. november2016"]
["4. november2016"]
["5. november2016"]
["6. november2016"]
["7. november2016"]
["8. november2016"]
["9. november2016"]
["10. november2016"]
["11. november2016"]
["12. november2016"]
["13. november2016"]
["14. november2016"]
["15. november2016"]
["16. november2016"]
["17. november2016"]
["18. november2016"]
["19. november2016"]
["20. november2016"]
["21. november2016"]
["22. november2016"]
["23. november2016"]
["24. november2016"]
["25. november2016"]
["26. november2016"]
["27. november2016"]
["28. november2016"]
["29. november2016"]
["30. november2016"]
["1. december2016"]
["2. december2016"]
["3. december2016"]
["4. december2016"]
["5. december2016"]
["6. december2016"]
["7. december2016"]
["8. december2016"]
["9. december2016"]
["10. december2016"]
["11. december2016"]
["12. december2016"]
["13. december2016"]
["14. december2016"]
["15. december2016"]
["16. december2016"]
["17. december2016"]
["18. december2016"]
["19. december2016"]
["20. december2016"]
["21. december2016"]
["22. december2016"]
["23. december2016"]
["24. december2016"]
["25. december2016"]
["26. december2016"]
["27. december2016"]
["28. december2016"]
["29. december2016"]
["30. december2016"]
["31. december2016"]

{"sheet":"Biomasser","index":13,"n_rows":78,"n_cols":14,"rows_kept":78,"cut":false,"hidden":false,"merged":[[54,0,54,12],[46,0,46,12]]}
["Biomasse","Tørstof (TS) %",null,"Omsættelig tørstof (VS) VS/TS %","Gaspotentiale \nm³ CH4/ton VS","Gasproduktion \nm³ CH4/tons ",null,"Anvendt kategori",null,"Beskrivelse","Dobbelttælling","Energinet.dk","Default gCO2/ton biomasse","Gaspotentiale \nm³ Biogas/ton VS"]
[null,"Lav","Høj",null,null,"HBK","NIRAS","HBK","NIRAS"]
["Afgrøder (Overskrift, kan ikke vælges)"]
[" -             Majs",30,45,0.95,305,172,"60-100","Majs","Majsensilage","Kolber/helsæd",null,"x",null,469.23076923076923]
[" -             Roer",20,30,0.95,357,150,78,"Sockerbeta","Sukkerroe - rod","Rod",null,"x",null,549.23076923076917]
[" -             Korn",84,88,0.98,370,550,315,"Korn","Korn, findelt","Kerner/helsæd",null,"x",null,569.23076923076917]
[" -             Græs",15,25,0.91,324,null,53,null,"Græs, frisk ubehandlet","Helsæd fra konventionelle arealer i omdrift",null,"x",null,498.46153846153845]
[" -             Kløvergræs",25,45,0.88,302,159,67,"Vallgröda","Kløvergræs, ensilage","Helsæd fra konventionelle arealer i omdrift - kløvergræs fra økologiske arealer er undtaget",null,"x",null,464.61538461538458]
[" -             Jordskokker",0,100,null,null,null,null,null,null,"Rod/helsæd",null,"x"]
[" -             Andre afgrøder",0,100,null,null,null,null,null,null,"Andre afgrøder, der er dyrket med henblik på biogasproduktion, som ikke er omfattet af begrænsningen for energiafgrøder.",null,"x"]
[" -             Hvedehelsæd",30,45,0.94,270,174,100,"Helsäd-Vete","Helsædsensilage","kerner og halm lagret som ensilage",null,null,null,415.38461538461536]
[" -             Top af foderroe",10,15,0.85,329,null,34,null,"Foderroe - top",null,null,null,null,506.15384615384613]
[" -             Foderroe - rod og top frisk",15,25,0.93,345,null,53,null,"Foderroe - rod og top frisk",null,null,null,null,530.76923076923072]
[" -             Økologisk kløvergræs",30,45,0.9,319,159,86,"Vallgröda","Kløvergræs, ensilage","Kløvergræs (helsæd) fra økologisk bedrifter er ikke omfattet af begrænsningen for energiafgrøder til biogas."]
["Husdyrgødning (Overskrift, kan ikke vælges)"]
[" -             Kvæggylle",5,10,0.85,198,24,12,"Flytgödsel","Gylle malkekvæg",null,"x","x",null,304.61538461538458]
[" -             Svinegylle",5,10,0.85,294,24,11,"Flytgödsel","Gylle slagtersvin",null,"x","x",null,452.30769230769226]
[" -             Gylle fra so",0,10,0.8,248,null,5,null,"Gylle fra so",null,"x"]
[" -             Minkgylle",5,10,0.8,356,24,18,"Flytgödsel","Gødningsrende, ugentlig tømning",null,"x","x",null,547.69230769230762]
[" -             Fjerkrægylle",5,15,0.8,290,24,28,"Flytgödsel","Gylle Høns og Høniker",null,"x","x",null,446.15384615384613]
[" -             Blandet gylle",5,10,0.85,285,24,null,"Flytgödsel",null,null,"x","x",null,438.46153846153845]
[" -             Dybstrøelse - Kvæg",15,30,0.8,248,54,59,"Fast stallgödsel","Konventionel malkekvæg",null,"x","x",null,381.53846153846155]
[" -             Dybstrøelse - Fjerkræ",60,75,0.8,252,54,127,"Fast stallgödsel","Høns og høniker",null,"x","x",null,387.69230769230768]
[" -             Dybstrøelse - Hest",25,35,0.8,180,null,37,null,"Dybstrøelse - hest","Alle heste","x"]
[" -             Dybstrøelse - Andre typer",15,25,null,null,54,null,"Fast stallgödsel",null,null,"x","x"]
[" -             Fast gødning",15,25,0.55000000000000004,250,54,null,"Fast stallgödsel",null,null,"x","x",null,384.61538461538458]
[" -             Ajle",5,10,null,null,null,null,null,null,null,"x","x"]
[" -             Fiberfraktion",0,100,null,null,null,null,null,null,"Fiberfraktion fra separeret husdyrgødning","x","x"]
[" -             Flydende fraktion fra separationsanlæg",0,100,null,null,null,null,null,null,"Væskefraktion fra separeret husdyrgødning.","x","x"]
[" -             Flydende fraktion",0,100,null,null,null,null,null,null,"Væskefraktion fra separeret husdyrgødning, hvor fiberfraktionen afbrændes","x","x"]
[" -             Anden husdyrgødning",0,100,null,null,null,null,null,null,null,"x","x"]
[" -             Forsuret svinegylle",0,10,0.8,329,null,12,null,"Forsuret svinegylle",null,"x",null,null,506.15384615384613]
[" -             Dybstrøelse - Svin",30,35,0.8,230,null,61,null,"Dybstrøelse - slagtesvin og so","Slagtesvin og so","x",null,null,353.84615384615381]
[" -             Gylle fibre - kemisk separation - Svin",25,35,0.8,170,null,41,null,"Gylle fibre kemisk separation - slagtesvin","Slagtesvin","x",null,null,261.53846153846155]
[" -             Gylle fibre - dekanter separation - Svin",25,35,0.8,150,null,36,null,"Gyllefibre dekanter separation - slagtesvin","Slagtesvin","x",null,null,230.76923076923077]
[" -             Staldgødning - Kvæg",15,25,0.8,200,null,32,null,"Staldgødning - kvæg",null,"x",null,null,307.69230769230768]
[" -             Kvæggylle - Årsopdræt 6 mdr.",10,15,0.8,203,null,20,null,"Kvæggylle - årsopdræt 6 mdr.",null,"x",null,null,312.30769230769232]
[" -             Staldgødning - Fjerkræ",35,45,0.8,146,null,47,null,"Staldgødning - høns og høniker","Høns og høniker","x",null,null,224.61538461538461]
["Slam og spildevand (Overskrift, kan ikke vælges)"]
[" -             Slam og spildevand samt uforurenede produktrester",5,15,null,null,66,null,"Flytande avfall från livsmedelsindustri och handel",null,"Slam og spildevand samt uforurenede produktrester fra forarbejdning af vegetabilske råvarer samt slam og spildevand fra mejerier.",null,"x"]
[" -             Slam fra dambrug",0,100,null,null,null,null,null,null," - Slam fra ferskvandsdambrug samt slam og spildevand fra recirkulerede anlæg til opdræt af fisk. \n - Slam fra indpumpningsdambrug.",null,"x"]
[" -             Slam fra forarbejdning af animalske råvarer",5,15,0.8,540,null,43,null,"Flotationsslam"," - Slam og flotationsfedt fra renseanlæg på slagterier, opskæringsvirksomheder og andre levnedmiddelvirksomheder.\n - Slam og flotationsfedt fra rensningsanlæg på fiskeindustrier.",null,"x",null,830.76923076923072]
[" -             Spildevandsslam",0,10,0.8,330,12,10,"Slam från kommunalt avloppsreningsverk och enskilda avlopp","Primær spildevandsslam, uafvandet"," - Slam fra offentlige spildevandsanlæg\n - Slam fra private rensningsanlæg til behandling af husspildevand",null,"x",null,507.69230769230768]
[" -             Proteolyseret processpildevand",null,null,null,null,null,null,null,null,"Proteolyseret processpildevand baseret på biologisk materiale, der har undergået en behnadling svarende til mindst kontrolleret hygiejnisering.",null,"x"]
[" -             Sekundær spildevandsslam",0,10,0.75,251,null,9,null,"Sekundær spildevandsslam","Slam efter beluftning af spildevand",null,null,null,386.15384615384613]
[" -             Sekundær spildevandsslam afvandet",15,25,0.75,200,null,28,null,"Sekundær spildevandsslam afvandet",null,null,null,null,307.69230769230768]
["Organisk affald fra husholdninger og erhverv (Overskrift, kan ikke vælges)",null,null,null,null,null,null,null,null,null,null,null,null,615.38461538461536]
[" -             Kildesorteret organisk dagrenovation",30,30,0.85,400,148,102,"Källsorterat matavfall från hushåll och verksamheter (fast form)","Organisk husholdningsaffald - forbehandling ikke kendt","Kildesorteret organisk dagrenovation og dagrenovationslignende affald herunder madaffald fra storkøkkener indsamlet med organisk dagrenovation og madaffald fra institutioner.",null,"x",null,615.38461538461536]
[" -             Organisk husholdningsaffald - Renescience",20,30,0.88,400,null,88,null,"Organisk husholdningsaffald - Renescience",null,null,null,null,615.38461538461536]
[" -             Organisk husholdningsaffald - Pulper",5,10,0.88,400,null,25,null,"Organisk husholdningsaffald - Pulper","Cellwood, Sverige",null,null,null,615.38461538461536]
[" -             Organisk husholdningsaffald - Rullesigte",25,35,0.88,400,null,99,null,"Organisk husholdningsaffald - Rullesigte",null,null,null,null,615.38461538461536]
[" -             Organisk husholdningsaffald - Skruepresse",20,30,0.88,400,null,88,null,"Organisk husholdningsaffald - Skruepresse",null,null,null,null,615.38461538461536]
[" -             Organisk husholdningsaffald - Neddeling",20,30,0.92,552,null,132,null,"Organisk husholdningsaffald - Neddeling","Storkøkkenaffald - organisk fraktion separeret ",null,null,null,849.23076923076917]
[" -             Organisk affald fra erhverv",25,35,0.9,400,148,null,"Källsorterat matavfall från hushåll och verksamheter (fast form)",null,"Organisk affald fra erhverv som ikke er animalske biprodukter.",null,"x",null,615.38461538461536]
["Rester og biprodukter fra planter og afgrøder (Overskrift, kan ikke vælges)"]
[" -             Cellulose",95,100,1,125,null,125,null,"Cellulose",null,null,null,null,192.30769230769229]
[" -             Naturpleje biomasse",45,55,0.85,150,null,64,null,"Græs - landskabspleje","Græsslet og anden biomasse fra naturarealer, der fremkommer ved naturpleje.",null,"x",null,230.76923076923077]
[" -             Halm",75,85,0.95,230,207,174,"Halm (torkad)","Hvedehalm","Halm fra korn, raps eller andre afgrøder.",null,"x",null,353.84615384615381]
[" -             Have-park affald",45,55,0.85,150,null,64,null,"Græs - landskabspleje","Have- og parkaffald omfatter græsafklip og andre plantedele fra kommunale arealer og private via genbrugsstationer.",null,"x",null,230.76923076923077]
[" -             Andre restprodukter fra produktion af primærafgrøder",20,25,null,null,70,null,"Blast från sockerbeta och potatis",null,"Ikke halm, men andre dele af afgrøder, som bliver frasorteret f.eks. roetoppe, kartoffeltoppe el. lign.",null,"x"]
[" -             Kasserede afgrøder",0,100,null,null,null,null,null,null,"Kasserede afgrøder i form af rodfrugter, majs eller korn, der er beskadiget og derfor uegnet til føde eller foder.",null,"x"]
["Rester og biprodukter fra levnesmiddel- og dyrefoderindustrien  (Overskrift, kan ikke vælges)",null,null,null,null,null,null,null,null,null,null,null,null,615.38461538461536]
[" -             Animalske biprodukter",5,15,0.85,400,88,null,"Avfall från slakteri",null,"Hele kroppe eller dele af dyr, animalske produkter eller andre produkter fra dyr, som ikke er bestemt til konsum, f.eks. Blod, fedt, mælk og valle.",null,"x",null,615.38461538461536]
[" -             Mave/tarm kvæg",10,15,0.8,400,null,38,null,"Mave/tarm kvæg",null,null,null,null,615.38461538461536]
[" -             Mave/tarm svin",10,20,0.8,460,null,55,null,"Mave/tarm svin",null,null,null,null,707.69230769230762]
[" -             Valle",0,10,0.9,330,null,15,null,"Valle",null,null,null,null,507.69230769230768]
[" -             Valle koncentrat",5,15,0.9,350,null,32,null,"Valle koncentrat",null,null,null,null,538.46153846153845]
[" -             Protein",95,100,1,302,null,302,null,"Protein",null,null,null,null,464.61538461538458]
[" -             Fedt",95,100,1,811,null,811,null,"Fedt",null,null,null,null,1247.6923076923076]
[" -             Vinasse (2,2 pct. kvælstof)",0,100,null,null,null,null,null,null,null,null,"x"]
[" -             Vinasse (3,5 pct. kvælstof)",0,100,null,null,null,null,null,null,null,null,"x"]
[" -             Kartoffelfrugtsaft",0,100,null,null,null,null,null,null,null,null,"x"]
[" -             Glukose",95,100,1,354,null,354,null,"Glukose",null,null,null,null,544.61538461538464]
[" -             Alkohol",35,45,0.95,400,null,152,null,"Alkohol",null,null,null,null,615.38461538461536]
[" -             Pressesaft fra grøntpilleproduktion",0,100,null,null,null,null,null,null,null,null,"x"]
[" -             Inaktiveret og kalkstabiliseret biomasse",0,100,null,null,null,null,null,null,"Inaktiveret og kalkstabiliseret biomasse med tørstof højere end pct. stammende fra en gæringsproduktion, der har undergået en behandling svarende til mindst kontrolleret hygiejnisering.",null,"x"]
["Anden biomasse (Overskrift)"]
[" -             Råglycerin",95,100,0.99,425,585,420,"Glycerol, oraffinerad",null,"F.eks. Fra biodieselproduktion","x",null,null,653.84615384615381]

{"sheet":"Summering","index":14,"n_rows":3202,"n_cols":4,"rows_kept":3202,"cut":false,"hidden":false,"merged":[]}
[]
[]
[]
[null,null,"Biomasse (ton)","Gasproduktion (CH4 m3)"]
[null,2015,{"$f":"SUM(C6:C127)","v":0},{"$f":"SUMIFS(Input!$H$10:$H$76760,Input!$A$10:$A$76760,\"Gas\",Input!$C$10:$C$76760,Summering!$B$5)","v":0}]
[null,{"$f":"IF(Biomasser!A3=\"\",\"\", Biomasser!A3)","v":"Afgrøder (Overskrift, kan ikke vælges)"},{"$f":"SUMIFS(Input!$H$10:$H$38330,  Input!$F$10:$F$38330,Summering!B6)","v":0}]
[null,{"$f":"IF(Biomasser!A4=\"\",\"\", Biomasser!A4)","v":" -             Majs"},{"$f":"SUMIFS(Input!$H$10:$H$38330,  Input!$F$10:$F$38330,Summering!B7)","v":0}]
[null,{"$f":"IF(Biomasser!A5=\"\",\"\", Biomasser!A5)","v":" -             Roer"},{"$f":"SUMIFS(Input!$H$10:$H$38330,  Input!$F$10:$F$38330,Summering!B8)","v":0}]
[null,{"$f":"IF(Biomasser!A6=\"\",\"\", Biomasser!A6)","v":" -             Korn"},{"$f":"SUMIFS(Input!$H$10:$H$38330,  Input!$F$10:$F$38330,Summering!B9)","v":0}]
[null,{"$f":"IF(Biomasser!A7=\"\",\"\", Biomasser!A7)","v":" -             Græs"},{"$f":"SUMIFS(Input!$H$10:$H$38330,  Input!$F$10:$F$38330,Summering!B10)","v":0}]
[null,{"$f":"IF(Biomasser!A8=\"\",\"\", Biomasser!A8)","v":" -             Kløvergræs"},{"$f":"SUMIFS(Input!$H$10:$H$38330,  Input!$F$10:$F$38330,Summering!B11)","v":0}]
[null,{"$f":"IF(Biomasser!A9=\"\",\"\", Biomasser!A9)","v":" -             Jordskokker"},{"$f":"SUMIFS(Input!$H$10:$H$38330,  Input!$F$10:$F$38330,Summering!B12)","v":0}]
[null,{"$f":"IF(Biomasser!A10=\"\",\"\", Biomasser!A10)","v":" -             Andre afgrøder"},{"$f":"SUMIFS(Input!$H$10:$H$38330,  Input!$F$10:$F$38330,Summering!B13)","v":0}]
[null,{"$f":"IF(Biomasser!A11=\"\",\"\", Biomasser!A11)","v":" -             Hvedehelsæd"},{"$f":"SUMIFS(Input!$H$10:$H$38330,  Input!$F$10:$F$38330,Summering!B14)","v":0}]
[null,{"$f":"IF(Biomasser!A12=\"\",\"\", Biomasser!A12)","v":" -             Top af foderroe"},{"$f":"SUMIFS(Input!$H$10:$H$38330,  Input!$F$10:$F$38330,Summering!B15)","v":0}]
[null,{"$f":"IF(Biomasser!A13=\"\",\"\", Biomasser!A13)","v":" -             Foderroe - rod og top frisk"},{"$f":"SUMIFS(Input!$H$10:$H$38330,  Input!$F$10:$F$38330,Summering!B16)","v":0}]
[null,{"$f":"IF(Biomasser!A14=\"\",\"\", Biomasser!A14)","v":" -             Økologisk kløvergræs"},{"$f":"SUMIFS(Input!$H$10:$H$38330,  Input!$F$10:$F$38330,Summering!B17)","v":0}]
[null,{"$f":"IF(Biomasser!A15=\"\",\"\", Biomasser!A15)","v":"Husdyrgødning (Overskrift, kan ikke vælges)"},{"$f":"SUMIFS(Input!$H$10:$H$38330,  Input!$F$10:$F$38330,Summering!B18)","v":0}]
[null,{"$f":"IF(Biomasser!A16=\"\",\"\", Biomasser!A16)","v":" -             Kvæggylle"},{"$f":"SUMIFS(Input!$H$10:$H$38330,  Input!$F$10:$F$38330,Summering!B19)","v":0}]
[null,{"$f":"IF(Biomasser!A17=\"\",\"\", Biomasser!A17)","v":" -             Svinegylle"},{"$f":"SUMIFS(Input!$H$10:$H$38330,Input!$F$10:$F$38330,Summering!B20)","v":0}]
[null,{"$f":"IF(Biomasser!A18=\"\",\"\", Biomasser!A18)","v":" -             Gylle fra so"},{"$f":"SUMIFS(Input!$H$10:$H$38330,  Input!$F$10:$F$38330,Summering!B21)","v":0}]
[null,{"$f":"IF(Biomasser!A19=\"\",\"\", Biomasser!A19)","v":" -             Minkgylle"},{"$f":"SUMIFS(Input!$H$10:$H$38330,  Input!$F$10:$F$38330,Summering!B22)","v":0}]
[null,{"$f":"IF(Biomasser!A20=\"\",\"\", Biomasser!A20)","v":" -             Fjerkrægylle"},{"$f":"SUMIFS(Input!$H$10:$H$38330,  Input!$F$10:$F$38330,Summering!B23)","v":0}]
[null,{"$f":"IF(Biomasser!A21=\"\",\"\", Biomasser!A21)","v":" -             Blandet gylle"},{"$f":"SUMIFS(Input!$H$10:$H$38330,  Input!$F$10:$F$38330,Summering!B24)","v":0}]
[null,{"$f":"IF(Biomasser!A22=\"\",\"\", Biomasser!A22)","v":" -             Dybstrøelse - Kvæg"},{"$f":"SUMIFS(Input!$H$10:$H$38330,  Input!$F$10:$F$38330,Summering!B25)","v":0}]
[null,{"$f":"IF(Biomasser!A23=\"\",\"\", Biomasser!A23)","v":" -             Dybstrøelse - Fjerkræ"},{"$f":"SUMIFS(Input!$H$10:$H$38330,  Input!$F$10:$F$38330,Summering!B26)","v":0}]
[null,{"$f":"IF(Biomasser!A24=\"\",\"\", Biomasser!A24)","v":" -             Dybstrøelse - Hest"},{"$f":"SUMIFS(Input!$H$10:$H$38330,  Input!$F$10:$F$38330,Summering!B27)","v":0}]
[null,{"$f":"IF(Biomasser!A25=\"\",\"\", Biomasser!A25)","v":" -             Dybstrøelse - Andre typer"},{"$f":"SUMIFS(Input!$H$10:$H$38330,  Input!$F$10:$F$38330,Summering!B28)","v":0}]
[null,{"$f":"IF(Biomasser!A26=\"\",\"\", Biomasser!A26)","v":" -             Fast gødning"},{"$f":"SUMIFS(Input!$H$10:$H$38330,  Input!$F$10:$F$38330,Summering!B29)","v":0}]
[null,{"$f":"IF(Biomasser!A27=\"\",\"\", Biomasser!A27)","v":" -             Ajle"},{"$f":"SUMIFS(Input!$H$10:$H$38330,  Input!$F$10:$F$38330,Summering!B30)","v":0}]
[null,{"$f":"IF(Biomasser!A28=\"\",\"\", Biomasser!A28)","v":" -             Fiberfraktion"},{"$f":"SUMIFS(Input!$H$10:$H$38330,  Input!$F$10:$F$38330,Summering!B31)","v":0}]
[null,{"$f":"IF(Biomasser!A29=\"\",\"\", Biomasser!A29)","v":" -             Flydende fraktion fra separationsanlæg"},{"$f":"SUMIFS(Input!$H$10:$H$38330,  Input!$F$10:$F$38330,Summering!B32)","v":0}]
[null,{"$f":"IF(Biomasser!A30=\"\",\"\", Biomasser!A30)","v":" -             Flydende fraktion"},{"$f":"SUMIFS(Input!$H$10:$H$38330,  Input!$F$10:$F$38330,Summering!B33)","v":0}]
[null,{"$f":"IF(Biomasser!A31=\"\",\"\", Biomasser!A31)","v":" -             Anden husdyrgødning"},{"$f":"SUMIFS(Input!$H$10:$H$38330,  Input!$F$10:$F$38330,Summering!B34)","v":0}]
[null,{"$f":"IF(Biomasser!A32=\"\",\"\", Biomasser!A32)","v":" -             Forsuret svinegylle"},{"$f":"SUMIFS(Input!$H$10:$H$38330,  Input!$F$10:$F$38330,Summering!B35)","v":0}]
[null,{"$f":"IF(Biomasser!A33=\"\",\"\", Biomasser!A33)","v":" -             Dybstrøelse - Svin"},{"$f":"SUMIFS(Input!$H$10:$H$38330,  Input!$F$10:$F$38330,Summering!B36)","v":0}]
[null,{"$f":"IF(Biomasser!A34=\"\",\"\", Biomasser!A34)","v":" -             Gylle fibre - kemisk separation - Svin"},{"$f":"SUMIFS(Input!$H$10:$H$38330,  Input!$F$10:$F$38330,Summering!B37)","v":0}]
[null,{"$f":"IF(Biomasser!A35=\"\",\"\", Biomasser!A35)","v":" -             Gylle fibre - dekanter separation - Svin"},{"$f":"SUMIFS(Input!$H$10:$H$38330,  Input!$F$10:$F$38330,Summering!B38)","v":0}]
[null,{"$f":"IF(Biomasser!A36=\"\",\"\", Biomasser!A36)","v":" -             Staldgødning - Kvæg"},{"$f":"SUMIFS(Input!$H$10:$H$38330,  Input!$F$10:$F$38330,Summering!B39)","v":0}]
[null,{"$f":"IF(Biomasser!A37=\"\",\"\", Biomasser!A37)","v":" -             Kvæggylle - Årsopdræt 6 mdr."},{"$f":"SUMIFS(Input!$H$10:$H$38330,  Input!$F$10:$F$38330,Summering!B40)","v":0}]
[null,{"$f":"IF(Biomasser!A38=\"\",\"\", Biomasser!A38)","v":" -             Staldgødning - Fjerkræ"},{"$f":"SUMIFS(Input!$H$10:$H$38330,  Input!$F$10:$F$38330,Summering!B41)","v":0}]
[null,{"$f":"IF(Biomasser!A39=\"\",\"\", Biomasser!A39)","v":"Slam og spildevand (Overskrift, kan ikke vælges)"},{"$f":"SUMIFS(Input!$H$10:$H$38330,  Input!$F$10:$F$38330,Summering!B42)","v":0}]
[null,{"$f":"IF(Biomasser!A40=\"\",\"\", Biomasser!A40)","v":" -             Slam og spildevand samt uforurenede produktrester"},{"$f":"SUMIFS(Input!$H$10:$H$38330,  Input!$F$10:$F$38330,Summering!B43)","v":0}]
[null,{"$f":"IF(Biomasser!A41=\"\",\"\", Biomasser!A41)","v":" -             Slam fra dambrug"},{"$f":"SUMIFS(Input!$H$10:$H$38330,  Input!$F$10:$F$38330,Summering!B44)","v":0}]
[null,{"$f":"IF(Biomasser!A42=\"\",\"\", Biomasser!A42)","v":" -             Slam fra forarbejdning af animalske råvarer"},{"$f":"SUMIFS(Input!$H$10:$H$38330,  Input!$F$10:$F$38330,Summering!B45)","v":0}]
[null,{"$f":"IF(Biomasser!A43=\"\",\"\", Biomasser!A43)","v":" -             Spildevandsslam"},{"$f":"SUMIFS(Input!$H$10:$H$38330,  Input!$F$10:$F$38330,Summering!B46)","v":0}]
[null,{"$f":"IF(Biomasser!A44=\"\",\"\", Biomasser!A44)","v":" -             Proteolyseret processpildevand"},{"$f":"SUMIFS(Input!$H$10:$H$38330,  Input!$F$10:$F$38330,Summering!B47)","v":0}]
[null,{"$f":"IF(Biomasser!A45=\"\",\"\", Biomasser!A45)","v":" -             Sekundær spildevandsslam"},{"$f":"SUMIFS(Input!$H$10:$H$38330,  Input!$F$10:$F$38330,Summering!B48)","v":0}]
[null,{"$f":"IF(Biomasser!A46=\"\",\"\", Biomasser!A46)","v":" -             Sekundær spildevandsslam afvandet"},{"$f":"SUMIFS(Input!$H$10:$H$38330,  Input!$F$10:$F$38330,Summering!B49)","v":0}]
[null,{"$f":"IF(Biomasser!A47=\"\",\"\", Biomasser!A47)","v":"Organisk affald fra husholdninger og erhverv (Overskrift, kan ikke vælges)"},{"$f":"SUMIFS(Input!$H$10:$H$38330,  Input!$F$10:$F$38330,Summering!B50)","v":0}]
[null,{"$f":"IF(Biomasser!A48=\"\",\"\", Biomasser!A48)","v":" -             Kildesorteret organisk dagrenovation"},{"$f":"SUMIFS(Input!$H$10:$H$38330,  Input!$F$10:$F$38330,Summering!B51)","v":0}]
[null,{"$f":"IF(Biomasser!A49=\"\",\"\", Biomasser!A49)","v":" -             Organisk husholdningsaffald - Renescience"},{"$f":"SUMIFS(Input!$H$10:$H$38330,  Input!$F$10:$F$38330,Summering!B52)","v":0}]
[null,{"$f":"IF(Biomasser!A50=\"\",\"\", Biomasser!A50)","v":" -             Organisk husholdningsaffald - Pulper"},{"$f":"SUMIFS(Input!$H$10:$H$38330,  Input!$F$10:$F$38330,Summering!B53)","v":0}]
[null,{"$f":"IF(Biomasser!A51=\"\",\"\", Biomasser!A51)","v":" -             Organisk husholdningsaffald - Rullesigte"},{"$f":"SUMIFS(Input!$H$10:$H$38330,  Input!$F$10:$F$38330,Summering!B54)","v":0}]
[null,{"$f":"IF(Biomasser!A52=\"\",\"\", Biomasser!A52)","v":" -             Organisk husholdningsaffald - Skruepresse"},{"$f":"SUMIFS(Input!$H$10:$H$38330,  Input!$F$10:$F$38330,Summering!B55)","v":0}]
[null,{"$f":"IF(Biomasser!A53=\"\",\"\", Biomasser!A53)","v":" -             Organisk husholdningsaffald - Neddeling"},{"$f":"SUMIFS(Input!$H$10:$H$38330,  Input!$F$10:$F$38330,Summering!B56)","v":0}]
[null,{"$f":"IF(Biomasser!A54=\"\",\"\", Biomasser!A54)","v":" -             Organisk affald fra erhverv"},{"$f":"SUMIFS(Input!$H$10:$H$38330,  Input!$F$10:$F$38330,Summering!B57)","v":0}]
[null,{"$f":"IF(Biomasser!A55=\"\",\"\", Biomasser!A55)","v":"Rester og biprodukter fra planter og afgrøder (Overskrift, kan ikke vælges)"},{"$f":"SUMIFS(Input!$H$10:$H$38330,  Input!$F$10:$F$38330,Summering!B58)","v":0}]
[null,{"$f":"IF(Biomasser!A56=\"\",\"\", Biomasser!A56)","v":" -             Cellulose"},{"$f":"SUMIFS(Input!$H$10:$H$38330,  Input!$F$10:$F$38330,Summering!B59)","v":0}]
[null,{"$f":"IF(Biomasser!A57=\"\",\"\", Biomasser!A57)","v":" -             Naturpleje biomasse"},{"$f":"SUMIFS(Input!$H$10:$H$38330,  Input!$F$10:$F$38330,Summering!B60)","v":0}]
[null,{"$f":"IF(Biomasser!A58=\"\",\"\", Biomasser!A58)","v":" -             Halm"},{"$f":"SUMIFS(Input!$H$10:$H$38330,  Input!$F$10:$F$38330,Summering!B61)","v":0}]
[null,{"$f":"IF(Biomasser!A59=\"\",\"\", Biomasser!A59)","v":" -             Have-park affald"},{"$f":"SUMIFS(Input!$H$10:$H$38330,  Input!$F$10:$F$38330,Summering!B62)","v":0}]
[null,{"$f":"IF(Biomasser!A60=\"\",\"\", Biomasser!A60)","v":" -             Andre restprodukter fra produktion af primærafgrøder"},{"$f":"SUMIFS(Input!$H$10:$H$38330,  Input!$F$10:$F$38330,Summering!B63)","v":0}]
[null,{"$f":"IF(Biomasser!A61=\"\",\"\", Biomasser!A61)","v":" -             Kasserede afgrøder"},{"$f":"SUMIFS(Input!$H$10:$H$38330,  Input!$F$10:$F$38330,Summering!B64)","v":0}]
[null,{"$f":"IF(Biomasser!A62=\"\",\"\", Biomasser!A62)","v":"Rester og biprodukter fra levnesmiddel- og dyrefoderindustrien  (Overskrift, kan ikke vælges)"},{"$f":"SUMIFS(Input!$H$10:$H$38330,  Input!$F$10:$F$38330,Summering!B65)","v":0}]
[null,{"$f":"IF(Biomasser!A63=\"\",\"\", Biomasser!A63)","v":" -             Animalske biprodukter"},{"$f":"SUMIFS(Input!$H$10:$H$38330,  Input!$F$10:$F$38330,Summering!B66)","v":0}]
[null,{"$f":"IF(Biomasser!A64=\"\",\"\", Biomasser!A64)","v":" -             Mave/tarm kvæg"},{"$f":"SUMIFS(Input!$H$10:$H$38330,  Input!$F$10:$F$38330,Summering!B67)","v":0}]
[null,{"$f":"IF(Biomasser!A65=\"\",\"\", Biomasser!A65)","v":" -             Mave/tarm svin"},{"$f":"SUMIFS(Input!$H$10:$H$38330,  Input!$F$10:$F$38330,Summering!B68)","v":0}]
[null,{"$f":"IF(Biomasser!A66=\"\",\"\", Biomasser!A66)","v":" -             Valle"},{"$f":"SUMIFS(Input!$H$10:$H$38330,  Input!$F$10:$F$38330,Summering!B69)","v":0}]
[null,{"$f":"IF(Biomasser!A67=\"\",\"\", Biomasser!A67)","v":" -             Valle koncentrat"},{"$f":"SUMIFS(Input!$H$10:$H$38330,  Input!$F$10:$F$38330,Summering!B70)","v":0}]
[null,{"$f":"IF(Biomasser!A68=\"\",\"\", Biomasser!A68)","v":" -             Protein"},{"$f":"SUMIFS(Input!$H$10:$H$38330,  Input!$F$10:$F$38330,Summering!B71)","v":0}]
[null,{"$f":"IF(Biomasser!A69=\"\",\"\", Biomasser!A69)","v":" -             Fedt"},{"$f":"SUMIFS(Input!$H$10:$H$38330,  Input!$F$10:$F$38330,Summering!B72)","v":0}]
[null,{"$f":"IF(Biomasser!A70=\"\",\"\", Biomasser!A70)","v":" -             Vinasse (2,2 pct. kvælstof)"},{"$f":"SUMIFS(Input!$H$10:$H$38330,  Input!$F$10:$F$38330,Summering!B73)","v":0}]
[null,{"$f":"IF(Biomasser!A71=\"\",\"\", Biomasser!A71)","v":" -             Vinasse (3,5 pct. kvælstof)"},{"$f":"SUMIFS(Input!$H$10:$H$38330,  Input!$F$10:$F$38330,Summering!B74)","v":0}]
[null,{"$f":"IF(Biomasser!A72=\"\",\"\", Biomasser!A72)","v":" -             Kartoffelfrugtsaft"},{"$f":"SUMIFS(Input!$H$10:$H$38330,  Input!$F$10:$F$38330,Summering!B75)","v":0}]
[null,{"$f":"IF(Biomasser!A73=\"\",\"\", Biomasser!A73)","v":" -             Glukose"},{"$f":"SUMIFS(Input!$H$10:$H$38330,  Input!$F$10:$F$38330,Summering!B76)","v":0}]
[null,{"$f":"IF(Biomasser!A74=\"\",\"\", Biomasser!A74)","v":" -             Alkohol"},{"$f":"SUMIFS(Input!$H$10:$H$38330,  Input!$F$10:$F$38330,Summering!B77)","v":0}]
[null,{"$f":"IF(Biomasser!A75=\"\",\"\", Biomasser!A75)","v":" -             Pressesaft fra grøntpilleproduktion"},{"$f":"SUMIFS(Input!$H$10:$H$38330,  Input!$F$10:$F$38330,Summering!B78)","v":0}]
[null,{"$f":"IF(Biomasser!A76=\"\",\"\", Biomasser!A76)","v":" -             Inaktiveret og kalkstabiliseret biomasse"},{"$f":"SUMIFS(Input!$H$10:$H$38330,  Input!$F$10:$F$38330,Summering!B79)","v":0}]
[null,{"$f":"IF(Biomasser!A77=\"\",\"\", Biomasser!A77)","v":"Anden biomasse (Overskrift)"},{"$f":"SUMIFS(Input!$H$10:$H$38330,  Input!$F$10:$F$38330,Summering!B80)","v":0}]
[null,{"$f":"IF(Biomasser!A78=\"\",\"\", Biomasser!A78)","v":" -             Råglycerin"},{"$f":"SUMIFS(Input!$H$10:$H$38330,  Input!$F$10:$F$38330,Summering!B81)","v":0}]
[null,{"$f":"IF(Biomasser!A79=\"\",\"\", Biomasser!A79)","v":""},{"$f":"SUMIFS(Input!$H$10:$H$38330,  Input!$F$10:$F$38330,Summering!B82)","v":0}]
[null,{"$f":"IF(Biomasser!A80=\"\",\"\", Biomasser!A80)","v":""},{"$f":"SUMIFS(Input!$H$10:$H$38330,  Input!$F$10:$F$38330,Summering!B83)","v":0}]
[null,{"$f":"IF(Biomasser!A81=\"\",\"\", Biomasser!A81)","v":""},{"$f":"SUMIFS(Input!$H$10:$H$38330,  Input!$F$10:$F$38330,Summering!B84)","v":0}]
[null,{"$f":"IF(Biomasser!A82=\"\",\"\", Biomasser!A82)","v":""},{"$f":"SUMIFS(Input!$H$10:$H$38330,  Input!$F$10:$F$38330,Summering!B85)","v":0}]
[null,{"$f":"IF(Biomasser!A83=\"\",\"\", Biomasser!A83)","v":""},{"$f":"SUMIFS(Input!$H$10:$H$38330,  Input!$F$10:$F$38330,Summering!B86)","v":0}]
[null,{"$f":"IF(Biomasser!A84=\"\",\"\", Biomasser!A84)","v":""},{"$f":"SUMIFS(Input!$H$10:$H$38330,  Input!$F$10:$F$38330,Summering!B87)","v":0}]
[null,{"$f":"IF(Biomasser!A85=\"\",\"\", Biomasser!A85)","v":""},{"$f":"SUMIFS(Input!$H$10:$H$38330,  Input!$F$10:$F$38330,Summering!B88)","v":0}]
[null,{"$f":"IF(Biomasser!A86=\"\",\"\", Biomasser!A86)","v":""},{"$f":"SUMIFS(Input!$H$10:$H$38330,  Input!$F$10:$F$38330,Summering!B89)","v":0}]
[null,{"$f":"IF(Biomasser!A87=\"\",\"\", Biomasser!A87)","v":""},{"$f":"SUMIFS(Input!$H$10:$H$38330,  Input!$F$10:$F$38330,Summering!B90)","v":0}]
[null,{"$f":"IF(Biomasser!A88=\"\",\"\", Biomasser!A88)","v":""},{"$f":"SUMIFS(Input!$H$10:$H$38330,  Input!$F$10:$F$38330,Summering!B91)","v":0}]
[null,{"$f":"IF(Biomasser!A89=\"\",\"\", Biomasser!A89)","v":""},{"$f":"SUMIFS(Input!$H$10:$H$38330,  Input!$F$10:$F$38330,Summering!B92)","v":0}]
[null,{"$f":"IF(Biomasser!A90=\"\",\"\", Biomasser!A90)","v":""},{"$f":"SUMIFS(Input!$H$10:$H$38330,  Input!$F$10:$F$38330,Summering!B93)","v":0}]
[null,{"$f":"IF(Biomasser!A91=\"\",\"\", Biomasser!A91)","v":""},{"$f":"SUMIFS(Input!$H$10:$H$38330,  Input!$F$10:$F$38330,Summering!B94)","v":0}]
[null,{"$f":"IF(Biomasser!A92=\"\",\"\", Biomasser!A92)","v":""},{"$f":"SUMIFS(Input!$H$10:$H$38330,  Input!$F$10:$F$38330,Summering!B95)","v":0}]
[null,{"$f":"IF(Biomasser!A93=\"\",\"\", Biomasser!A93)","v":""},{"$f":"SUMIFS(Input!$H$10:$H$38330,  Input!$F$10:$F$38330,Summering!B96)","v":0}]
[null,{"$f":"IF(Biomasser!A94=\"\",\"\", Biomasser!A94)","v":""},{"$f":"SUMIFS(Input!$H$10:$H$38330,  Input!$F$10:$F$38330,Summering!B97)","v":0}]
[null,{"$f":"IF(Biomasser!A95=\"\",\"\", Biomasser!A95)","v":""},{"$f":"SUMIFS(Input!$H$10:$H$38330,  Input!$F$10:$F$38330,Summering!B98)","v":0}]
[null,{"$f":"IF(Biomasser!A96=\"\",\"\", Biomasser!A96)","v":""},{"$f":"SUMIFS(Input!$H$10:$H$38330,  Input!$F$10:$F$38330,Summering!B99)","v":0}]
[null,{"$f":"IF(Biomasser!A97=\"\",\"\", Biomasser!A97)","v":""},{"$f":"SUMIFS(Input!$H$10:$H$38330,  Input!$F$10:$F$38330,Summering!B100)","v":0}]
[null,{"$f":"IF(Biomasser!A98=\"\",\"\", Biomasser!A98)","v":""},{"$f":"SUMIFS(Input!$H$10:$H$38330,  Input!$F$10:$F$38330,Summering!B101)","v":0}]
[null,{"$f":"IF(Biomasser!A99=\"\",\"\", Biomasser!A99)","v":""},{"$f":"SUMIFS(Input!$H$10:$H$38330,  Input!$F$10:$F$38330,Summering!B102)","v":0}]
[null,{"$f":"IF(Biomasser!A100=\"\",\"\", Biomasser!A100)","v":""},{"$f":"SUMIFS(Input!$H$10:$H$38330,  Input!$F$10:$F$38330,Summering!B103)","v":0}]
[null,{"$f":"IF(Biomasser!A101=\"\",\"\", Biomasser!A101)","v":""},{"$f":"SUMIFS(Input!$H$10:$H$38330,  Input!$F$10:$F$38330,Summering!B104)","v":0}]
[null,{"$f":"IF(Biomasser!A102=\"\",\"\", Biomasser!A102)","v":""},{"$f":"SUMIFS(Input!$H$10:$H$38330,  Input!$F$10:$F$38330,Summering!B105)","v":0}]
[null,{"$f":"IF(Biomasser!A103=\"\",\"\", Biomasser!A103)","v":""},{"$f":"SUMIFS(Input!$H$10:$H$38330,  Input!$F$10:$F$38330,Summering!B106)","v":0}]
[null,{"$f":"IF(Biomasser!A104=\"\",\"\", Biomasser!A104)","v":""},{"$f":"SUMIFS(Input!$H$10:$H$38330,  Input!$F$10:$F$38330,Summering!B107)","v":0}]
[null,{"$f":"IF(Biomasser!A105=\"\",\"\", Biomasser!A105)","v":""},{"$f":"SUMIFS(Input!$H$10:$H$38330,  Input!$F$10:$F$38330,Summering!B108)","v":0}]
[null,{"$f":"IF(Biomasser!A106=\"\",\"\", Biomasser!A106)","v":""},{"$f":"SUMIFS(Input!$H$10:$H$38330,  Input!$F$10:$F$38330,Summering!B109)","v":0}]
[null,{"$f":"IF(Biomasser!A107=\"\",\"\", Biomasser!A107)","v":""},{"$f":"SUMIFS(Input!$H$10:$H$38330,  Input!$F$10:$F$38330,Summering!B110)","v":0}]
[null,{"$f":"IF(Biomasser!A108=\"\",\"\", Biomasser!A108)","v":""},{"$f":"SUMIFS(Input!$H$10:$H$38330,  Input!$F$10:$F$38330,Summering!B111)","v":0}]
[null,{"$f":"IF(Biomasser!A109=\"\",\"\", Biomasser!A109)","v":""},{"$f":"SUMIFS(Input!$H$10:$H$38330,  Input!$F$10:$F$38330,Summering!B112)","v":0}]
[null,{"$f":"IF(Biomasser!A110=\"\",\"\", Biomasser!A110)","v":""},{"$f":"SUMIFS(Input!$H$10:$H$38330,  Input!$F$10:$F$38330,Summering!B113)","v":0}]
[null,{"$f":"IF(Biomasser!A111=\"\",\"\", Biomasser!A111)","v":""},{"$f":"SUMIFS(Input!$H$10:$H$38330,  Input!$F$10:$F$38330,Summering!B114)","v":0}]
[null,{"$f":"IF(Biomasser!A112=\"\",\"\", Biomasser!A112)","v":""},{"$f":"SUMIFS(Input!$H$10:$H$38330,  Input!$F$10:$F$38330,Summering!B115)","v":0}]
[null,{"$f":"IF(Biomasser!A113=\"\",\"\", Biomasser!A113)","v":""},{"$f":"SUMIFS(Input!$H$10:$H$38330,  Input!$F$10:$F$38330,Summering!B116)","v":0}]
[null,{"$f":"IF(Biomasser!A114=\"\",\"\", Biomasser!A114)","v":""},{"$f":"SUMIFS(Input!$H$10:$H$38330,  Input!$F$10:$F$38330,Summering!B117)","v":0}]
[null,{"$f":"IF(Biomasser!A115=\"\",\"\", Biomasser!A115)","v":""},{"$f":"IF(B118=\"\",0,SUMIFS(Input!$H$10:$H$38330,  Input!$F$10:$F$38330,Summering!B118))","v":0}]
[null,{"$f":"IF(Biomasser!A116=\"\",\"\", Biomasser!A116)","v":""},{"$f":"IF(B119=\"\",0,SUMIFS(Input!$H$10:$H$38330,  Input!$F$10:$F$38330,Summering!B119))","v":0}]
[null,{"$f":"IF(Biomasser!A117=\"\",\"\", Biomasser!A117)","v":""},{"$f":"IF(B120=\"\",0,SUMIFS(Input!$H$10:$H$38330,  Input!$F$10:$F$38330,Summering!B120))","v":0}]
[null,{"$f":"IF(Biomasser!A118=\"\",\"\", Biomasser!A118)","v":""},{"$f":"IF(B121=\"\",0,SUMIFS(Input!$H$10:$H$38330,  Input!$F$10:$F$38330,Summering!B121))","v":0}]
[null,{"$f":"IF(Biomasser!A119=\"\",\"\", Biomasser!A119)","v":""},{"$f":"IF(B122=\"\",0,SUMIFS(Input!$H$10:$H$38330,  Input!$F$10:$F$38330,Summering!B122))","v":0}]
[null,{"$f":"IF(Biomasser!A120=\"\",\"\", Biomasser!A120)","v":""},{"$f":"IF(B123=\"\",0,SUMIFS(Input!$H$10:$H$38330,  Input!$F$10:$F$38330,Summering!B123))","v":0}]
[null,{"$f":"IF(Biomasser!A121=\"\",\"\", Biomasser!A121)","v":""},{"$f":"IF(B124=\"\",0,SUMIFS(Input!$H$10:$H$38330,  Input!$F$10:$F$38330,Summering!B124))","v":0}]
[null,{"$f":"IF(Biomasser!A122=\"\",\"\", Biomasser!A122)","v":""},{"$f":"IF(B125=\"\",0,SUMIFS(Input!$H$10:$H$38330,  Input!$F$10:$F$38330,Summering!B125))","v":0}]
[null,{"$f":"IF(Biomasser!A123=\"\",\"\", Biomasser!A123)","v":""},{"$f":"IF(B126=\"\",0,SUMIFS(Input!$H$10:$H$38330,  Input!$F$10:$F$38330,Summering!B126))","v":0}]
[null,{"$f":"IF(Biomasser!A124=\"\",\"\", Biomasser!A124)","v":""},{"$f":"IF(B127=\"\",0,SUMIFS(Input!$H$10:$H$38330,  Input!$F$10:$F$38330,Summering!B127))","v":0}]
[null,"Januar",{"$f":"SUM(C129:C250)","v":0},{"$f":"SUMIFS(Input!$H$10:$H$76760,Input!$A$10:$A$76760,\"Gas\",Input!$C$10:$C$76760,Summering!$B$5,Input!$B$10:$B$76760,\"*\"&B128&\"*\")","v":0}]
[null,{"$f":"IF(Biomasser!A3=\"\",\"\", Biomasser!A3)","v":"Afgrøder (Overskrift, kan ikke vælges)"},{"$f":"IF(B129=\"\",0,SUMIFS(Input!$H$10:$H$3260,  Input!$F$10:$F$3260,Summering!B129))","v":0}]
[null,{"$f":"IF(Biomasser!A4=\"\",\"\", Biomasser!A4)","v":" -             Majs"},{"$f":"IF(B130=\"\",0,SUMIFS(Input!$H$10:$H$3260,  Input!$F$10:$F$3260,Summering!B130))","v":0}]
[null,{"$f":"IF(Biomasser!A5=\"\",\"\", Biomasser!A5)","v":" -             Roer"},{"$f":"IF(B131=\"\",0,SUMIFS(Input!$H$10:$H$3260,  Input!$F$10:$F$3260,Summering!B131))","v":0}]
[null,{"$f":"IF(Biomasser!A6=\"\",\"\", Biomasser!A6)","v":" -             Korn"},{"$f":"IF(B132=\"\",0,SUMIFS(Input!$H$10:$H$3260,  Input!$F$10:$F$3260,Summering!B132))","v":0}]
[null,{"$f":"IF(Biomasser!A7=\"\",\"\", Biomasser!A7)","v":" -             Græs"},{"$f":"IF(B133=\"\",0,SUMIFS(Input!$H$10:$H$3260,  Input!$F$10:$F$3260,Summering!B133))","v":0}]
[null,{"$f":"IF(Biomasser!A8=\"\",\"\", Biomasser!A8)","v":" -             Kløvergræs"},{"$f":"IF(B134=\"\",0,SUMIFS(Input!$H$10:$H$3260,  Input!$F$10:$F$3260,Summering!B134))","v":0}]
[null,{"$f":"IF(Biomasser!A9=\"\",\"\", Biomasser!A9)","v":" -             Jordskokker"},{"$f":"IF(B135=\"\",0,SUMIFS(Input!$H$10:$H$3260,  Input!$F$10:$F$3260,Summering!B135))","v":0}]
[null,{"$f":"IF(Biomasser!A10=\"\",\"\", Biomasser!A10)","v":" -             Andre afgrøder"},{"$f":"IF(B136=\"\",0,SUMIFS(Input!$H$10:$H$3260,  Input!$F$10:$F$3260,Summering!B136))","v":0}]
[null,{"$f":"IF(Biomasser!A11=\"\",\"\", Biomasser!A11)","v":" -             Hvedehelsæd"},{"$f":"IF(B137=\"\",0,SUMIFS(Input!$H$10:$H$3260,  Input!$F$10:$F$3260,Summering!B137))","v":0}]
[null,{"$f":"IF(Biomasser!A12=\"\",\"\", Biomasser!A12)","v":" -             Top af foderroe"},{"$f":"IF(B138=\"\",0,SUMIFS(Input!$H$10:$H$3260,  Input!$F$10:$F$3260,Summering!B138))","v":0}]
[null,{"$f":"IF(Biomasser!A13=\"\",\"\", Biomasser!A13)","v":" -             Foderroe - rod og top frisk"},{"$f":"IF(B139=\"\",0,SUMIFS(Input!$H$10:$H$3260,  Input!$F$10:$F$3260,Summering!B139))","v":0}]
[null,{"$f":"IF(Biomasser!A14=\"\",\"\", Biomasser!A14)","v":" -             Økologisk kløvergræs"},{"$f":"IF(B140=\"\",0,SUMIFS(Input!$H$10:$H$3260,  Input!$F$10:$F$3260,Summering!B140))","v":0}]
[null,{"$f":"IF(Biomasser!A15=\"\",\"\", Biomasser!A15)","v":"Husdyrgødning (Overskrift, kan ikke vælges)"},{"$f":"IF(B141=\"\",0,SUMIFS(Input!$H$10:$H$3260,  Input!$F$10:$F$3260,Summering!B141))","v":0}]
[null,{"$f":"IF(Biomasser!A16=\"\",\"\", Biomasser!A16)","v":" -             Kvæggylle"},{"$f":"IF(B142=\"\",0,SUMIFS(Input!$H$10:$H$3260,  Input!$F$10:$F$3260,Summering!B142))","v":0}]
[null,{"$f":"IF(Biomasser!A17=\"\",\"\", Biomasser!A17)","v":" -             Svinegylle"},{"$f":"IF(B143=\"\",0,SUMIFS(Input!$H$10:$H$3260,  Input!$F$10:$F$3260,Summering!B143))","v":0}]
[null,{"$f":"IF(Biomasser!A18=\"\",\"\", Biomasser!A18)","v":" -             Gylle fra so"},{"$f":"IF(B144=\"\",0,SUMIFS(Input!$H$10:$H$3260,  Input!$F$10:$F$3260,Summering!B144))","v":0}]
[null,{"$f":"IF(Biomasser!A19=\"\",\"\", Biomasser!A19)","v":" -             Minkgylle"},{"$f":"IF(B145=\"\",0,SUMIFS(Input!$H$10:$H$3260,  Input!$F$10:$F$3260,Summering!B145))","v":0}]
[null,{"$f":"IF(Biomasser!A20=\"\",\"\", Biomasser!A20)","v":" -             Fjerkrægylle"},{"$f":"IF(B146=\"\",0,SUMIFS(Input!$H$10:$H$3260,  Input!$F$10:$F$3260,Summering!B146))","v":0}]
[null,{"$f":"IF(Biomasser!A21=\"\",\"\", Biomasser!A21)","v":" -             Blandet gylle"},{"$f":"IF(B147=\"\",0,SUMIFS(Input!$H$10:$H$3260,  Input!$F$10:$F$3260,Summering!B147))","v":0}]
[null,{"$f":"IF(Biomasser!A22=\"\",\"\", Biomasser!A22)","v":" -             Dybstrøelse - Kvæg"},{"$f":"IF(B148=\"\",0,SUMIFS(Input!$H$10:$H$3260,  Input!$F$10:$F$3260,Summering!B148))","v":0}]
[null,{"$f":"IF(Biomasser!A23=\"\",\"\", Biomasser!A23)","v":" -             Dybstrøelse - Fjerkræ"},{"$f":"IF(B149=\"\",0,SUMIFS(Input!$H$10:$H$3260,  Input!$F$10:$F$3260,Summering!B149))","v":0}]
[null,{"$f":"IF(Biomasser!A24=\"\",\"\", Biomasser!A24)","v":" -             Dybstrøelse - Hest"},{"$f":"IF(B150=\"\",0,SUMIFS(Input!$H$10:$H$3260,  Input!$F$10:$F$3260,Summering!B150))","v":0}]
[null,{"$f":"IF(Biomasser!A25=\"\",\"\", Biomasser!A25)","v":" -             Dybstrøelse - Andre typer"},{"$f":"IF(B151=\"\",0,SUMIFS(Input!$H$10:$H$3260,  Input!$F$10:$F$3260,Summering!B151))","v":0}]
[null,{"$f":"IF(Biomasser!A26=\"\",\"\", Biomasser!A26)","v":" -             Fast gødning"},{"$f":"IF(B152=\"\",0,SUMIFS(Input!$H$10:$H$3260,  Input!$F$10:$F$3260,Summering!B152))","v":0}]
[null,{"$f":"IF(Biomasser!A27=\"\",\"\", Biomasser!A27)","v":" -             Ajle"},{"$f":"IF(B153=\"\",0,SUMIFS(Input!$H$10:$H$3260,  Input!$F$10:$F$3260,Summering!B153))","v":0}]
[null,{"$f":"IF(Biomasser!A28=\"\",\"\", Biomasser!A28)","v":" -             Fiberfraktion"},{"$f":"IF(B154=\"\",0,SUMIFS(Input!$H$10:$H$3260,  Input!$F$10:$F$3260,Summering!B154))","v":0}]
[null,{"$f":"IF(Biomasser!A29=\"\",\"\", Biomasser!A29)","v":" -             Flydende fraktion fra separationsanlæg"},{"$f":"IF(B155=\"\",0,SUMIFS(Input!$H$10:$H$3260,  Input!$F$10:$F$3260,Summering!B155))","v":0}]
[null,{"$f":"IF(Biomasser!A30=\"\",\"\", Biomasser!A30)","v":" -             Flydende fraktion"},{"$f":"IF(B156=\"\",0,SUMIFS(Input!$H$10:$H$3260,  Input!$F$10:$F$3260,Summering!B156))","v":0}]
[null,{"$f":"IF(Biomasser!A31=\"\",\"\", Biomasser!A31)","v":" -             Anden husdyrgødning"},{"$f":"IF(B157=\"\",0,SUMIFS(Input!$H$10:$H$3260,  Input!$F$10:$F$3260,Summering!B157))","v":0}]
[null,{"$f":"IF(Biomasser!A32=\"\",\"\", Biomasser!A32)","v":" -             Forsuret svinegylle"},{"$f":"IF(B158=\"\",0,SUMIFS(Input!$H$10:$H$3260,  Input!$F$10:$F$3260,Summering!B158))","v":0}]
[null,{"$f":"IF(Biomasser!A33=\"\",\"\", Biomasser!A33)","v":" -             Dybstrøelse - Svin"},{"$f":"IF(B159=\"\",0,SUMIFS(Input!$H$10:$H$3260,  Input!$F$10:$F$3260,Summering!B159))","v":0}]
[null,{"$f":"IF(Biomasser!A34=\"\",\"\", Biomasser!A34)","v":" -             Gylle fibre - kemisk separation - Svin"},{"$f":"IF(B160=\"\",0,SUMIFS(Input!$H$10:$H$3260,  Input!$F$10:$F$3260,Summering!B160))","v":0}]
[null,{"$f":"IF(Biomasser!A35=\"\",\"\", Biomasser!A35)","v":" -             Gylle fibre - dekanter separation - Svin"},{"$f":"IF(B161=\"\",0,SUMIFS(Input!$H$10:$H$3260,  Input!$F$10:$F$3260,Summering!B161))","v":0}]
[null,{"$f":"IF(Biomasser!A36=\"\",\"\", Biomasser!A36)","v":" -             Staldgødning - Kvæg"},{"$f":"IF(B162=\"\",0,SUMIFS(Input!$H$10:$H$3260,  Input!$F$10:$F$3260,Summering!B162))","v":0}]
[null,{"$f":"IF(Biomasser!A37=\"\",\"\", Biomasser!A37)","v":" -             Kvæggylle - Årsopdræt 6 mdr."},{"$f":"IF(B163=\"\",0,SUMIFS(Input!$H$10:$H$3260,  Input!$F$10:$F$3260,Summering!B163))","v":0}]
[null,{"$f":"IF(Biomasser!A38=\"\",\"\", Biomasser!A38)","v":" -             Staldgødning - Fjerkræ"},{"$f":"IF(B164=\"\",0,SUMIFS(Input!$H$10:$H$3260,  Input!$F$10:$F$3260,Summering!B164))","v":0}]
[null,{"$f":"IF(Biomasser!A39=\"\",\"\", Biomasser!A39)","v":"Slam og spildevand (Overskrift, kan ikke vælges)"},{"$f":"IF(B165=\"\",0,SUMIFS(Input!$H$10:$H$3260,  Input!$F$10:$F$3260,Summering!B165))","v":0}]
[null,{"$f":"IF(Biomasser!A40=\"\",\"\", Biomasser!A40)","v":" -             Slam og spildevand samt uforurenede produktrester"},{"$f":"IF(B166=\"\",0,SUMIFS(Input!$H$10:$H$3260,  Input!$F$10:$F$3260,Summering!B166))","v":0}]
[null,{"$f":"IF(Biomasser!A41=\"\",\"\", Biomasser!A41)","v":" -             Slam fra dambrug"},{"$f":"IF(B167=\"\",0,SUMIFS(Input!$H$10:$H$3260,  Input!$F$10:$F$3260,Summering!B167))","v":0}]
[null,{"$f":"IF(Biomasser!A42=\"\",\"\", Biomasser!A42)","v":" -             Slam fra forarbejdning af animalske råvarer"},{"$f":"IF(B168=\"\",0,SUMIFS(Input!$H$10:$H$3260,  Input!$F$10:$F$3260,Summering!B168))","v":0}]
[null,{"$f":"IF(Biomasser!A43=\"\",\"\", Biomasser!A43)","v":" -             Spildevandsslam"},{"$f":"IF(B169=\"\",0,SUMIFS(Input!$H$10:$H$3260,  Input!$F$10:$F$3260,Summering!B169))","v":0}]
[null,{"$f":"IF(Biomasser!A44=\"\",\"\", Biomasser!A44)","v":" -             Proteolyseret processpildevand"},{"$f":"IF(B170=\"\",0,SUMIFS(Input!$H$10:$H$3260,  Input!$F$10:$F$3260,Summering!B170))","v":0}]
[null,{"$f":"IF(Biomasser!A45=\"\",\"\", Biomasser!A45)","v":" -             Sekundær spildevandsslam"},{"$f":"IF(B171=\"\",0,SUMIFS(Input!$H$10:$H$3260,  Input!$F$10:$F$3260,Summering!B171))","v":0}]
[null,{"$f":"IF(Biomasser!A46=\"\",\"\", Biomasser!A46)","v":" -             Sekundær spildevandsslam afvandet"},{"$f":"IF(B172=\"\",0,SUMIFS(Input!$H$10:$H$3260,  Input!$F$10:$F$3260,Summering!B172))","v":0}]
[null,{"$f":"IF(Biomasser!A47=\"\",\"\", Biomasser!A47)","v":"Organisk affald fra husholdninger og erhverv (Overskrift, kan ikke vælges)"},{"$f":"IF(B173=\"\",0,SUMIFS(Input!$H$10:$H$3260,  Input!$F$10:$F$3260,Summering!B173))","v":0}]
[null,{"$f":"IF(Biomasser!A48=\"\",\"\", Biomasser!A48)","v":" -             Kildesorteret organisk dagrenovation"},{"$f":"IF(B174=\"\",0,SUMIFS(Input!$H$10:$H$3260,  Input!$F$10:$F$3260,Summering!B174))","v":0}]
[null,{"$f":"IF(Biomasser!A49=\"\",\"\", Biomasser!A49)","v":" -             Organisk husholdningsaffald - Renescience"},{"$f":"IF(B175=\"\",0,SUMIFS(Input!$H$10:$H$3260,  Input!$F$10:$F$3260,Summering!B175))","v":0}]
[null,{"$f":"IF(Biomasser!A50=\"\",\"\", Biomasser!A50)","v":" -             Organisk husholdningsaffald - Pulper"},{"$f":"IF(B176=\"\",0,SUMIFS(Input!$H$10:$H$3260,  Input!$F$10:$F$3260,Summering!B176))","v":0}]
[null,{"$f":"IF(Biomasser!A51=\"\",\"\", Biomasser!A51)","v":" -             Organisk husholdningsaffald - Rullesigte"},{"$f":"IF(B177=\"\",0,SUMIFS(Input!$H$10:$H$3260,  Input!$F$10:$F$3260,Summering!B177))","v":0}]
[null,{"$f":"IF(Biomasser!A52=\"\",\"\", Biomasser!A52)","v":" -             Organisk husholdningsaffald - Skruepresse"},{"$f":"IF(B178=\"\",0,SUMIFS(Input!$H$10:$H$3260,  Input!$F$10:$F$3260,Summering!B178))","v":0}]
[null,{"$f":"IF(Biomasser!A53=\"\",\"\", Biomasser!A53)","v":" -             Organisk husholdningsaffald - Neddeling"},{"$f":"IF(B179=\"\",0,SUMIFS(Input!$H$10:$H$3260,  Input!$F$10:$F$3260,Summering!B179))","v":0}]
[null,{"$f":"IF(Biomasser!A54=\"\",\"\", Biomasser!A54)","v":" -             Organisk affald fra erhverv"},{"$f":"IF(B180=\"\",0,SUMIFS(Input!$H$10:$H$3260,  Input!$F$10:$F$3260,Summering!B180))","v":0}]
[null,{"$f":"IF(Biomasser!A55=\"\",\"\", Biomasser!A55)","v":"Rester og biprodukter fra planter og afgrøder (Overskrift, kan ikke vælges)"},{"$f":"IF(B181=\"\",0,SUMIFS(Input!$H$10:$H$3260,  Input!$F$10:$F$3260,Summering!B181))","v":0}]
[null,{"$f":"IF(Biomasser!A56=\"\",\"\", Biomasser!A56)","v":" -             Cellulose"},{"$f":"IF(B182=\"\",0,SUMIFS(Input!$H$10:$H$3260,  Input!$F$10:$F$3260,Summering!B182))","v":0}]
[null,{"$f":"IF(Biomasser!A57=\"\",\"\", Biomasser!A57)","v":" -             Naturpleje biomasse"},{"$f":"IF(B183=\"\",0,SUMIFS(Input!$H$10:$H$3260,  Input!$F$10:$F$3260,Summering!B183))","v":0}]
[null,{"$f":"IF(Biomasser!A58=\"\",\"\", Biomasser!A58)","v":" -             Halm"},{"$f":"IF(B184=\"\",0,SUMIFS(Input!$H$10:$H$3260,  Input!$F$10:$F$3260,Summering!B184))","v":0}]
[null,{"$f":"IF(Biomasser!A59=\"\",\"\", Biomasser!A59)","v":" -             Have-park affald"},{"$f":"IF(B185=\"\",0,SUMIFS(Input!$H$10:$H$3260,  Input!$F$10:$F$3260,Summering!B185))","v":0}]
[null,{"$f":"IF(Biomasser!A60=\"\",\"\", Biomasser!A60)","v":" -             Andre restprodukter fra produktion af primærafgrøder"},{"$f":"IF(B186=\"\",0,SUMIFS(Input!$H$10:$H$3260,  Input!$F$10:$F$3260,Summering!B186))","v":0}]
[null,{"$f":"IF(Biomasser!A61=\"\",\"\", Biomasser!A61)","v":" -             Kasserede afgrøder"},{"$f":"IF(B187=\"\",0,SUMIFS(Input!$H$10:$H$3260,  Input!$F$10:$F$3260,Summering!B187))","v":0}]
[null,{"$f":"IF(Biomasser!A62=\"\",\"\", Biomasser!A62)","v":"Rester og biprodukter fra levnesmiddel- og dyrefoderindustrien  (Overskrift, kan ikke vælges)"},{"$f":"IF(B188=\"\",0,SUMIFS(Input!$H$10:$H$3260,  Input!$F$10:$F$3260,Summering!B188))","v":0}]
[null,{"$f":"IF(Biomasser!A63=\"\",\"\", Biomasser!A63)","v":" -             Animalske biprodukter"},{"$f":"IF(B189=\"\",0,SUMIFS(Input!$H$10:$H$3260,  Input!$F$10:$F$3260,Summering!B189))","v":0}]
[null,{"$f":"IF(Biomasser!A64=\"\",\"\", Biomasser!A64)","v":" -             Mave/tarm kvæg"},{"$f":"IF(B190=\"\",0,SUMIFS(Input!$H$10:$H$3260,  Input!$F$10:$F$3260,Summering!B190))","v":0}]
[null,{"$f":"IF(Biomasser!A65=\"\",\"\", Biomasser!A65)","v":" -             Mave/tarm svin"},{"$f":"IF(B191=\"\",0,SUMIFS(Input!$H$10:$H$3260,  Input!$F$10:$F$3260,Summering!B191))","v":0}]
[null,{"$f":"IF(Biomasser!A66=\"\",\"\", Biomasser!A66)","v":" -             Valle"},{"$f":"IF(B192=\"\",0,SUMIFS(Input!$H$10:$H$3260,  Input!$F$10:$F$3260,Summering!B192))","v":0}]
[null,{"$f":"IF(Biomasser!A67=\"\",\"\", Biomasser!A67)","v":" -             Valle koncentrat"},{"$f":"IF(B193=\"\",0,SUMIFS(Input!$H$10:$H$3260,  Input!$F$10:$F$3260,Summering!B193))","v":0}]
[null,{"$f":"IF(Biomasser!A68=\"\",\"\", Biomasser!A68)","v":" -             Protein"},{"$f":"IF(B194=\"\",0,SUMIFS(Input!$H$10:$H$3260,  Input!$F$10:$F$3260,Summering!B194))","v":0}]
[null,{"$f":"IF(Biomasser!A69=\"\",\"\", Biomasser!A69)","v":" -             Fedt"},{"$f":"IF(B195=\"\",0,SUMIFS(Input!$H$10:$H$3260,  Input!$F$10:$F$3260,Summering!B195))","v":0}]
[null,{"$f":"IF(Biomasser!A70=\"\",\"\", Biomasser!A70)","v":" -             Vinasse (2,2 pct. kvælstof)"},{"$f":"IF(B196=\"\",0,SUMIFS(Input!$H$10:$H$3260,  Input!$F$10:$F$3260,Summering!B196))","v":0}]
[null,{"$f":"IF(Biomasser!A71=\"\",\"\", Biomasser!A71)","v":" -             Vinasse (3,5 pct. kvælstof)"},{"$f":"IF(B197=\"\",0,SUMIFS(Input!$H$10:$H$3260,  Input!$F$10:$F$3260,Summering!B197))","v":0}]
[null,{"$f":"IF(Biomasser!A72=\"\",\"\", Biomasser!A72)","v":" -             Kartoffelfrugtsaft"},{"$f":"IF(B198=\"\",0,SUMIFS(Input!$H$10:$H$3260,  Input!$F$10:$F$3260,Summering!B198))","v":0}]
[null,{"$f":"IF(Biomasser!A73=\"\",\"\", Biomasser!A73)","v":" -             Glukose"},{"$f":"IF(B199=\"\",0,SUMIFS(Input!$H$10:$H$3260,  Input!$F$10:$F$3260,Summering!B199))","v":0}]
[null,{"$f":"IF(Biomasser!A74=\"\",\"\", Biomasser!A74)","v":" -             Alkohol"},{"$f":"IF(B200=\"\",0,SUMIFS(Input!$H$10:$H$3260,  Input!$F$10:$F$3260,Summering!B200))","v":0}]
[null,{"$f":"IF(Biomasser!A75=\"\",\"\", Biomasser!A75)","v":" -             Pressesaft fra grøntpilleproduktion"},{"$f":"IF(B201=\"\",0,SUMIFS(Input!$H$10:$H$3260,  Input!$F$10:$F$3260,Summering!B201))","v":0}]
[null,{"$f":"IF(Biomasser!A76=\"\",\"\", Biomasser!A76)","v":" -             Inaktiveret og kalkstabiliseret biomasse"},{"$f":"IF(B202=\"\",0,SUMIFS(Input!$H$10:$H$3260,  Input!$F$10:$F$3260,Summering!B202))","v":0}]
[null,{"$f":"IF(Biomasser!A77=\"\",\"\", Biomasser!A77)","v":"Anden biomasse (Overskrift)"},{"$f":"IF(B203=\"\",0,SUMIFS(Input!$H$10:$H$3260,  Input!$F$10:$F$3260,Summering!B203))","v":0}]
[null,{"$f":"IF(Biomasser!A78=\"\",\"\", Biomasser!A78)","v":" -             Råglycerin"},{"$f":"IF(B204=\"\",0,SUMIFS(Input!$H$10:$H$3260,  Input!$F$10:$F$3260,Summering!B204))","v":0}]
[null,{"$f":"IF(Biomasser!A79=\"\",\"\", Biomasser!A79)","v":""},{"$f":"IF(B205=\"\",0,SUMIFS(Input!$H$10:$H$3260,  Input!$F$10:$F$3260,Summering!B205))","v":0}]
[null,{"$f":"IF(Biomasser!A80=\"\",\"\", Biomasser!A80)","v":""},{"$f":"IF(B206=\"\",0,SUMIFS(Input!$H$10:$H$3260,  Input!$F$10:$F$3260,Summering!B206))","v":0}]
[null,{"$f":"IF(Biomasser!A81=\"\",\"\", Biomasser!A81)","v":""},{"$f":"IF(B207=\"\",0,SUMIFS(Input!$H$10:$H$3260,  Input!$F$10:$F$3260,Summering!B207))","v":0}]
[null,{"$f":"IF(Biomasser!A82=\"\",\"\", Biomasser!A82)","v":""},{"$f":"IF(B208=\"\",0,SUMIFS(Input!$H$10:$H$3260,  Input!$F$10:$F$3260,Summering!B208))","v":0}]
[null,{"$f":"IF(Biomasser!A83=\"\",\"\", Biomasser!A83)","v":""},{"$f":"IF(B209=\"\",0,SUMIFS(Input!$H$10:$H$3260,  Input!$F$10:$F$3260,Summering!B209))","v":0}]
[null,{"$f":"IF(Biomasser!A84=\"\",\"\", Biomasser!A84)","v":""},{"$f":"IF(B210=\"\",0,SUMIFS(Input!$H$10:$H$3260,  Input!$F$10:$F$3260,Summering!B210))","v":0}]
[null,{"$f":"IF(Biomasser!A85=\"\",\"\", Biomasser!A85)","v":""},{"$f":"IF(B211=\"\",0,SUMIFS(Input!$H$10:$H$3260,  Input!$F$10:$F$3260,Summering!B211))","v":0}]
[null,{"$f":"IF(Biomasser!A86=\"\",\"\", Biomasser!A86)","v":""},{"$f":"IF(B212=\"\",0,SUMIFS(Input!$H$10:$H$3260,  Input!$F$10:$F$3260,Summering!B212))","v":0}]
[null,{"$f":"IF(Biomasser!A87=\"\",\"\", Biomasser!A87)","v":""},{"$f":"IF(B213=\"\",0,SUMIFS(Input!$H$10:$H$3260,  Input!$F$10:$F$3260,Summering!B213))","v":0}]
[null,{"$f":"IF(Biomasser!A88=\"\",\"\", Biomasser!A88)","v":""},{"$f":"IF(B214=\"\",0,SUMIFS(Input!$H$10:$H$3260,  Input!$F$10:$F$3260,Summering!B214))","v":0}]
[null,{"$f":"IF(Biomasser!A89=\"\",\"\", Biomasser!A89)","v":""},{"$f":"IF(B215=\"\",0,SUMIFS(Input!$H$10:$H$3260,  Input!$F$10:$F$3260,Summering!B215))","v":0}]
[null,{"$f":"IF(Biomasser!A90=\"\",\"\", Biomasser!A90)","v":""},{"$f":"IF(B216=\"\",0,SUMIFS(Input!$H$10:$H$3260,  Input!$F$10:$F$3260,Summering!B216))","v":0}]
[null,{"$f":"IF(Biomasser!A91=\"\",\"\", Biomasser!A91)","v":""},{"$f":"IF(B217=\"\",0,SUMIFS(Input!$H$10:$H$3260,  Input!$F$10:$F$3260,Summering!B217))","v":0}]
[null,{"$f":"IF(Biomasser!A92=\"\",\"\", Biomasser!A92)","v":""},{"$f":"IF(B218=\"\",0,SUMIFS(Input!$H$10:$H$3260,  Input!$F$10:$F$3260,Summering!B218))","v":0}]
[null,{"$f":"IF(Biomasser!A93=\"\",\"\", Biomasser!A93)","v":""},{"$f":"IF(B219=\"\",0,SUMIFS(Input!$H$10:$H$3260,  Input!$F$10:$F$3260,Summering!B219))","v":0}]
[null,{"$f":"IF(Biomasser!A94=\"\",\"\", Biomasser!A94)","v":""},{"$f":"IF(B220=\"\",0,SUMIFS(Input!$H$10:$H$3260,  Input!$F$10:$F$3260,Summering!B220))","v":0}]
[null,{"$f":"IF(Biomasser!A95=\"\",\"\", Biomasser!A95)","v":""},{"$f":"IF(B221=\"\",0,SUMIFS(Input!$H$10:$H$3260,  Input!$F$10:$F$3260,Summering!B221))","v":0}]
[null,{"$f":"IF(Biomasser!A96=\"\",\"\", Biomasser!A96)","v":""},{"$f":"IF(B222=\"\",0,SUMIFS(Input!$H$10:$H$3260,  Input!$F$10:$F$3260,Summering!B222))","v":0}]
[null,{"$f":"IF(Biomasser!A97=\"\",\"\", Biomasser!A97)","v":""},{"$f":"IF(B223=\"\",0,SUMIFS(Input!$H$10:$H$3260,  Input!$F$10:$F$3260,Summering!B223))","v":0}]
[null,{"$f":"IF(Biomasser!A98=\"\",\"\", Biomasser!A98)","v":""},{"$f":"IF(B224=\"\",0,SUMIFS(Input!$H$10:$H$3260,  Input!$F$10:$F$3260,Summering!B224))","v":0}]
[null,{"$f":"IF(Biomasser!A99=\"\",\"\", Biomasser!A99)","v":""},{"$f":"IF(B225=\"\",0,SUMIFS(Input!$H$10:$H$3260,  Input!$F$10:$F$3260,Summering!B225))","v":0}]
[null,{"$f":"IF(Biomasser!A100=\"\",\"\", Biomasser!A100)","v":""},{"$f":"IF(B226=\"\",0,SUMIFS(Input!$H$10:$H$3260,  Input!$F$10:$F$3260,Summering!B226))","v":0}]
[null,{"$f":"IF(Biomasser!A101=\"\",\"\", Biomasser!A101)","v":""},{"$f":"IF(B227=\"\",0,SUMIFS(Input!$H$10:$H$3260,  Input!$F$10:$F$3260,Summering!B227))","v":0}]
[null,{"$f":"IF(Biomasser!A102=\"\",\"\", Biomasser!A102)","v":""},{"$f":"IF(B228=\"\",0,SUMIFS(Input!$H$10:$H$3260,  Input!$F$10:$F$3260,Summering!B228))","v":0}]
[null,{"$f":"IF(Biomasser!A103=\"\",\"\", Biomasser!A103)","v":""},{"$f":"IF(B229=\"\",0,SUMIFS(Input!$H$10:$H$3260,  Input!$F$10:$F$3260,Summering!B229))","v":0}]
[null,{"$f":"IF(Biomasser!A104=\"\",\"\", Biomasser!A104)","v":""},{"$f":"IF(B230=\"\",0,SUMIFS(Input!$H$10:$H$3260,  Input!$F$10:$F$3260,Summering!B230))","v":0}]
[null,{"$f":"IF(Biomasser!A105=\"\",\"\", Biomasser!A105)","v":""},{"$f":"IF(B231=\"\",0,SUMIFS(Input!$H$10:$H$3260,  Input!$F$10:$F$3260,Summering!B231))","v":0}]
[null,{"$f":"IF(Biomasser!A106=\"\",\"\", Biomasser!A106)","v":""},{"$f":"IF(B232=\"\",0,SUMIFS(Input!$H$10:$H$3260,  Input!$F$10:$F$3260,Summering!B232))","v":0}]
[null,{"$f":"IF(Biomasser!A107=\"\",\"\", Biomasser!A107)","v":""},{"$f":"IF(B233=\"\",0,SUMIFS(Input!$H$10:$H$3260,  Input!$F$10:$F$3260,Summering!B233))","v":0}]
[null,{"$f":"IF(Biomasser!A108=\"\",\"\", Biomasser!A108)","v":""},{"$f":"IF(B234=\"\",0,SUMIFS(Input!$H$10:$H$3260,  Input!$F$10:$F$3260,Summering!B234))","v":0}]
[null,{"$f":"IF(Biomasser!A109=\"\",\"\", Biomasser!A109)","v":""},{"$f":"IF(B235=\"\",0,SUMIFS(Input!$H$10:$H$3260,  Input!$F$10:$F$3260,Summering!B235))","v":0}]
[null,{"$f":"IF(Biomasser!A110=\"\",\"\", Biomasser!A110)","v":""},{"$f":"IF(B236=\"\",0,SUMIFS(Input!$H$10:$H$3260,  Input!$F$10:$F$3260,Summering!B236))","v":0}]
[null,{"$f":"IF(Biomasser!A111=\"\",\"\", Biomasser!A111)","v":""},{"$f":"IF(B237=\"\",0,SUMIFS(Input!$H$10:$H$3260,  Input!$F$10:$F$3260,Summering!B237))","v":0}]
[null,{"$f":"IF(Biomasser!A112=\"\",\"\", Biomasser!A112)","v":""},{"$f":"IF(B238=\"\",0,SUMIFS(Input!$H$10:$H$3260,  Input!$F$10:$F$3260,Summering!B238))","v":0}]
[null,{"$f":"IF(Biomasser!A113=\"\",\"\", Biomasser!A113)","v":""},{"$f":"IF(B239=\"\",0,SUMIFS(Input!$H$10:$H$3260,  Input!$F$10:$F$3260,Summering!B239))","v":0}]
[null,{"$f":"IF(Biomasser!A114=\"\",\"\", Biomasser!A114)","v":""},{"$f":"IF(B240=\"\",0,SUMIFS(Input!$H$10:$H$3260,  Input!$F$10:$F$3260,Summering!B240))","v":0}]
[null,{"$f":"IF(Biomasser!A115=\"\",\"\", Biomasser!A115)","v":""},{"$f":"IF(B241=\"\",0,SUMIFS(Input!$H$10:$H$3260,  Input!$F$10:$F$3260,Summering!B241))","v":0}]
[null,{"$f":"IF(Biomasser!A116=\"\",\"\", Biomasser!A116)","v":""},{"$f":"IF(B242=\"\",0,SUMIFS(Input!$H$10:$H$3260,  Input!$F$10:$F$3260,Summering!B242))","v":0}]
[null,{"$f":"IF(Biomasser!A117=\"\",\"\", Biomasser!A117)","v":""},{"$f":"IF(B243=\"\",0,SUMIFS(Input!$H$10:$H$3260,  Input!$F$10:$F$3260,Summering!B243))","v":0}]
[null,{"$f":"IF(Biomasser!A118=\"\",\"\", Biomasser!A118)","v":""},{"$f":"IF(B244=\"\",0,SUMIFS(Input!$H$10:$H$3260,  Input!$F$10:$F$3260,Summering!B244))","v":0}]
[null,{"$f":"IF(Biomasser!A119=\"\",\"\", Biomasser!A119)","v":""},{"$f":"IF(B245=\"\",0,SUMIFS(Input!$H$10:$H$3260,  Input!$F$10:$F$3260,Summering!B245))","v":0}]
[null,{"$f":"IF(Biomasser!A120=\"\",\"\", Biomasser!A120)","v":""},{"$f":"IF(B246=\"\",0,SUMIFS(Input!$H$10:$H$3260,  Input!$F$10:$F$3260,Summering!B246))","v":0}]
[null,{"$f":"IF(Biomasser!A121=\"\",\"\", Biomasser!A121)","v":""},{"$f":"IF(B247=\"\",0,SUMIFS(Input!$H$10:$H$3260,  Input!$F$10:$F$3260,Summering!B247))","v":0}]
[null,{"$f":"IF(Biomasser!A122=\"\",\"\", Biomasser!A122)","v":""},{"$f":"IF(B248=\"\",0,SUMIFS(Input!$H$10:$H$3260,  Input!$F$10:$F$3260,Summering!B248))","v":0}]
[null,{"$f":"IF(Biomasser!A123=\"\",\"\", Biomasser!A123)","v":""},{"$f":"IF(B249=\"\",0,SUMIFS(Input!$H$10:$H$3260,  Input!$F$10:$F$3260,Summering!B249))","v":0}]
[null,{"$f":"IF(Biomasser!A124=\"\",\"\", Biomasser!A124)","v":""},{"$f":"IF(B250=\"\",0,SUMIFS(Input!$H$10:$H$3260,  Input!$F$10:$F$3260,Summering!B250))","v":0}]
[null,"Februar",{"$f":"SUM(C252:C373)","v":0},{"$f":"SUMIFS(Input!$H$10:$H$76760,Input!$A$10:$A$76760,\"Gas\",Input!$C$10:$C$76760,Summering!$B$5,Input!$B$10:$B$76760,\"*\"&B251&\"*\")","v":0}]
[null,{"$f":"IF(Biomasser!A3=\"\",\"\", Biomasser!A3)","v":"Afgrøder (Overskrift, kan ikke vælges)"},{"$f":"IF(B252=\"\",0,SUMIFS(Input!$H$3265:$H$6200,  Input!$F$3265:$F$6200,Summering!B252))","v":0}]
[null,{"$f":"IF(Biomasser!A4=\"\",\"\", Biomasser!A4)","v":" -             Majs"},{"$f":"IF(B253=\"\",0,SUMIFS(Input!$H$3265:$H$6200,  Input!$F$3265:$F$6200,Summering!B253))","v":0}]
[null,{"$f":"IF(Biomasser!A5=\"\",\"\", Biomasser!A5)","v":" -             Roer"},{"$f":"IF(B254=\"\",0,SUMIFS(Input!$H$3265:$H$6200,  Input!$F$3265:$F$6200,Summering!B254))","v":0}]
[null,{"$f":"IF(Biomasser!A6=\"\",\"\", Biomasser!A6)","v":" -             Korn"},{"$f":"IF(B255=\"\",0,SUMIFS(Input!$H$3265:$H$6200,  Input!$F$3265:$F$6200,Summering!B255))","v":0}]
[null,{"$f":"IF(Biomasser!A7=\"\",\"\", Biomasser!A7)","v":" -             Græs"},{"$f":"IF(B256=\"\",0,SUMIFS(Input!$H$3265:$H$6200,  Input!$F$3265:$F$6200,Summering!B256))","v":0}]
[null,{"$f":"IF(Biomasser!A8=\"\",\"\", Biomasser!A8)","v":" -             Kløvergræs"},{"$f":"IF(B257=\"\",0,SUMIFS(Input!$H$3265:$H$6200,  Input!$F$3265:$F$6200,Summering!B257))","v":0}]
[null,{"$f":"IF(Biomasser!A9=\"\",\"\", Biomasser!A9)","v":" -             Jordskokker"},{"$f":"IF(B258=\"\",0,SUMIFS(Input!$H$3265:$H$6200,  Input!$F$3265:$F$6200,Summering!B258))","v":0}]
[null,{"$f":"IF(Biomasser!A10=\"\",\"\", Biomasser!A10)","v":" -             Andre afgrøder"},{"$f":"IF(B259=\"\",0,SUMIFS(Input!$H$3265:$H$6200,  Input!$F$3265:$F$6200,Summering!B259))","v":0}]
[null,{"$f":"IF(Biomasser!A11=\"\",\"\", Biomasser!A11)","v":" -             Hvedehelsæd"},{"$f":"IF(B260=\"\",0,SUMIFS(Input!$H$3265:$H$6200,  Input!$F$3265:$F$6200,Summering!B260))","v":0}]
[null,{"$f":"IF(Biomasser!A12=\"\",\"\", Biomasser!A12)","v":" -             Top af foderroe"},{"$f":"IF(B261=\"\",0,SUMIFS(Input!$H$3265:$H$6200,  Input!$F$3265:$F$6200,Summering!B261))","v":0}]
[null,{"$f":"IF(Biomasser!A13=\"\",\"\", Biomasser!A13)","v":" -             Foderroe - rod og top frisk"},{"$f":"IF(B262=\"\",0,SUMIFS(Input!$H$3265:$H$6200,  Input!$F$3265:$F$6200,Summering!B262))","v":0}]
[null,{"$f":"IF(Biomasser!A14=\"\",\"\", Biomasser!A14)","v":" -             Økologisk kløvergræs"},{"$f":"IF(B263=\"\",0,SUMIFS(Input!$H$3265:$H$6200,  Input!$F$3265:$F$6200,Summering!B263))","v":0}]
[null,{"$f":"IF(Biomasser!A15=\"\",\"\", Biomasser!A15)","v":"Husdyrgødning (Overskrift, kan ikke vælges)"},{"$f":"IF(B264=\"\",0,SUMIFS(Input!$H$3265:$H$6200,  Input!$F$3265:$F$6200,Summering!B264))","v":0}]
[null,{"$f":"IF(Biomasser!A16=\"\",\"\", Biomasser!A16)","v":" -             Kvæggylle"},{"$f":"IF(B265=\"\",0,SUMIFS(Input!$H$3265:$H$6200,  Input!$F$3265:$F$6200,Summering!B265))","v":0}]
[null,{"$f":"IF(Biomasser!A17=\"\",\"\", Biomasser!A17)","v":" -             Svinegylle"},{"$f":"IF(B266=\"\",0,SUMIFS(Input!$H$3265:$H$6200,  Input!$F$3265:$F$6200,Summering!B266))","v":0}]
[null,{"$f":"IF(Biomasser!A18=\"\",\"\", Biomasser!A18)","v":" -             Gylle fra so"},{"$f":"IF(B267=\"\",0,SUMIFS(Input!$H$3265:$H$6200,  Input!$F$3265:$F$6200,Summering!B267))","v":0}]
[null,{"$f":"IF(Biomasser!A19=\"\",\"\", Biomasser!A19)","v":" -             Minkgylle"},{"$f":"IF(B268=\"\",0,SUMIFS(Input!$H$3265:$H$6200,  Input!$F$3265:$F$6200,Summering!B268))","v":0}]
[null,{"$f":"IF(Biomasser!A20=\"\",\"\", Biomasser!A20)","v":" -             Fjerkrægylle"},{"$f":"IF(B269=\"\",0,SUMIFS(Input!$H$3265:$H$6200,  Input!$F$3265:$F$6200,Summering!B269))","v":0}]
[null,{"$f":"IF(Biomasser!A21=\"\",\"\", Biomasser!A21)","v":" -             Blandet gylle"},{"$f":"IF(B270=\"\",0,SUMIFS(Input!$H$3265:$H$6200,  Input!$F$3265:$F$6200,Summering!B270))","v":0}]
[null,{"$f":"IF(Biomasser!A22=\"\",\"\", Biomasser!A22)","v":" -             Dybstrøelse - Kvæg"},{"$f":"IF(B271=\"\",0,SUMIFS(Input!$H$3265:$H$6200,  Input!$F$3265:$F$6200,Summering!B271))","v":0}]
[null,{"$f":"IF(Biomasser!A23=\"\",\"\", Biomasser!A23)","v":" -             Dybstrøelse - Fjerkræ"},{"$f":"IF(B272=\"\",0,SUMIFS(Input!$H$3265:$H$6200,  Input!$F$3265:$F$6200,Summering!B272))","v":0}]
[null,{"$f":"IF(Biomasser!A24=\"\",\"\", Biomasser!A24)","v":" -             Dybstrøelse - Hest"},{"$f":"IF(B273=\"\",0,SUMIFS(Input!$H$3265:$H$6200,  Input!$F$3265:$F$6200,Summering!B273))","v":0}]
[null,{"$f":"IF(Biomasser!A25=\"\",\"\", Biomasser!A25)","v":" -             Dybstrøelse - Andre typer"},{"$f":"IF(B274=\"\",0,SUMIFS(Input!$H$3265:$H$6200,  Input!$F$3265:$F$6200,Summering!B274))","v":0}]
[null,{"$f":"IF(Biomasser!A26=\"\",\"\", Biomasser!A26)","v":" -             Fast gødning"},{"$f":"IF(B275=\"\",0,SUMIFS(Input!$H$3265:$H$6200,  Input!$F$3265:$F$6200,Summering!B275))","v":0}]
[null,{"$f":"IF(Biomasser!A27=\"\",\"\", Biomasser!A27)","v":" -             Ajle"},{"$f":"IF(B276=\"\",0,SUMIFS(Input!$H$3265:$H$6200,  Input!$F$3265:$F$6200,Summering!B276))","v":0}]
[null,{"$f":"IF(Biomasser!A28=\"\",\"\", Biomasser!A28)","v":" -             Fiberfraktion"},{"$f":"IF(B277=\"\",0,SUMIFS(Input!$H$3265:$H$6200,  Input!$F$3265:$F$6200,Summering!B277))","v":0}]
[null,{"$f":"IF(Biomasser!A29=\"\",\"\", Biomasser!A29)","v":" -             Flydende fraktion fra separationsanlæg"},{"$f":"IF(B278=\"\",0,SUMIFS(Input!$H$3265:$H$6200,  Input!$F$3265:$F$6200,Summering!B278))","v":0}]
[null,{"$f":"IF(Biomasser!A30=\"\",\"\", Biomasser!A30)","v":" -             Flydende fraktion"},{"$f":"IF(B279=\"\",0,SUMIFS(Input!$H$3265:$H$6200,  Input!$F$3265:$F$6200,Summering!B279))","v":0}]
[null,{"$f":"IF(Biomasser!A31=\"\",\"\", Biomasser!A31)","v":" -             Anden husdyrgødning"},{"$f":"IF(B280=\"\",0,SUMIFS(Input!$H$3265:$H$6200,  Input!$F$3265:$F$6200,Summering!B280))","v":0}]
[null,{"$f":"IF(Biomasser!A32=\"\",\"\", Biomasser!A32)","v":" -             Forsuret svinegylle"},{"$f":"IF(B281=\"\",0,SUMIFS(Input!$H$3265:$H$6200,  Input!$F$3265:$F$6200,Summering!B281))","v":0}]
[null,{"$f":"IF(Biomasser!A33=\"\",\"\", Biomasser!A33)","v":" -             Dybstrøelse - Svin"},{"$f":"IF(B282=\"\",0,SUMIFS(Input!$H$3265:$H$6200,  Input!$F$3265:$F$6200,Summering!B282))","v":0}]
[null,{"$f":"IF(Biomasser!A34=\"\",\"\", Biomasser!A34)","v":" -             Gylle fibre - kemisk separation - Svin"},{"$f":"IF(B283=\"\",0,SUMIFS(Input!$H$3265:$H$6200,  Input!$F$3265:$F$6200,Summering!B283))","v":0}]
[null,{"$f":"IF(Biomasser!A35=\"\",\"\", Biomasser!A35)","v":" -             Gylle fibre - dekanter separation - Svin"},{"$f":"IF(B284=\"\",0,SUMIFS(Input!$H$3265:$H$6200,  Input!$F$3265:$F$6200,Summering!B284))","v":0}]
[null,{"$f":"IF(Biomasser!A36=\"\",\"\", Biomasser!A36)","v":" -             Staldgødning - Kvæg"},{"$f":"IF(B285=\"\",0,SUMIFS(Input!$H$3265:$H$6200,  Input!$F$3265:$F$6200,Summering!B285))","v":0}]
[null,{"$f":"IF(Biomasser!A37=\"\",\"\", Biomasser!A37)","v":" -             Kvæggylle - Årsopdræt 6 mdr."},{"$f":"IF(B286=\"\",0,SUMIFS(Input!$H$3265:$H$6200,  Input!$F$3265:$F$6200,Summering!B286))","v":0}]
[null,{"$f":"IF(Biomasser!A38=\"\",\"\", Biomasser!A38)","v":" -             Staldgødning - Fjerkræ"},{"$f":"IF(B287=\"\",0,SUMIFS(Input!$H$3265:$H$6200,  Input!$F$3265:$F$6200,Summering!B287))","v":0}]
[null,{"$f":"IF(Biomasser!A39=\"\",\"\", Biomasser!A39)","v":"Slam og spildevand (Overskrift, kan ikke vælges)"},{"$f":"IF(B288=\"\",0,SUMIFS(Input!$H$3265:$H$6200,  Input!$F$3265:$F$6200,Summering!B288))","v":0}]
[null,{"$f":"IF(Biomasser!A40=\"\",\"\", Biomasser!A40)","v":" -             Slam og spildevand samt uforurenede produktrester"},{"$f":"IF(B289=\"\",0,SUMIFS(Input!$H$3265:$H$6200,  Input!$F$3265:$F$6200,Summering!B289))","v":0}]
[null,{"$f":"IF(Biomasser!A41=\"\",\"\", Biomasser!A41)","v":" -             Slam fra dambrug"},{"$f":"IF(B290=\"\",0,SUMIFS(Input!$H$3265:$H$6200,  Input!$F$3265:$F$6200,Summering!B290))","v":0}]
[null,{"$f":"IF(Biomasser!A42=\"\",\"\", Biomasser!A42)","v":" -             Slam fra forarbejdning af animalske råvarer"},{"$f":"IF(B291=\"\",0,SUMIFS(Input!$H$3265:$H$6200,  Input!$F$3265:$F$6200,Summering!B291))","v":0}]
[null,{"$f":"IF(Biomasser!A43=\"\",\"\", Biomasser!A43)","v":" -             Spildevandsslam"},{"$f":"IF(B292=\"\",0,SUMIFS(Input!$H$3265:$H$6200,  Input!$F$3265:$F$6200,Summering!B292))","v":0}]
[null,{"$f":"IF(Biomasser!A44=\"\",\"\", Biomasser!A44)","v":" -             Proteolyseret processpildevand"},{"$f":"IF(B293=\"\",0,SUMIFS(Input!$H$3265:$H$6200,  Input!$F$3265:$F$6200,Summering!B293))","v":0}]
[null,{"$f":"IF(Biomasser!A45=\"\",\"\", Biomasser!A45)","v":" -             Sekundær spildevandsslam"},{"$f":"IF(B294=\"\",0,SUMIFS(Input!$H$3265:$H$6200,  Input!$F$3265:$F$6200,Summering!B294))","v":0}]
[null,{"$f":"IF(Biomasser!A46=\"\",\"\", Biomasser!A46)","v":" -             Sekundær spildevandsslam afvandet"},{"$f":"IF(B295=\"\",0,SUMIFS(Input!$H$3265:$H$6200,  Input!$F$3265:$F$6200,Summering!B295))","v":0}]
[null,{"$f":"IF(Biomasser!A47=\"\",\"\", Biomasser!A47)","v":"Organisk affald fra husholdninger og erhverv (Overskrift, kan ikke vælges)"},{"$f":"IF(B296=\"\",0,SUMIFS(Input!$H$3265:$H$6200,  Input!$F$3265:$F$6200,Summering!B296))","v":0}]
[null,{"$f":"IF(Biomasser!A48=\"\",\"\", Biomasser!A48)","v":" -             Kildesorteret organisk dagrenovation"},{"$f":"IF(B297=\"\",0,SUMIFS(Input!$H$3265:$H$6200,  Input!$F$3265:$F$6200,Summering!B297))","v":0}]
[null,{"$f":"IF(Biomasser!A49=\"\",\"\", Biomasser!A49)","v":" -             Organisk husholdningsaffald - Renescience"},{"$f":"IF(B298=\"\",0,SUMIFS(Input!$H$3265:$H$6200,  Input!$F$3265:$F$6200,Summering!B298))","v":0}]
[null,{"$f":"IF(Biomasser!A50=\"\",\"\", Biomasser!A50)","v":" -             Organisk husholdningsaffald - Pulper"},{"$f":"IF(B299=\"\",0,SUMIFS(Input!$H$3265:$H$6200,  Input!$F$3265:$F$6200,Summering!B299))","v":0}]
[null,{"$f":"IF(Biomasser!A51=\"\",\"\", Biomasser!A51)","v":" -             Organisk husholdningsaffald - Rullesigte"},{"$f":"IF(B300=\"\",0,SUMIFS(Input!$H$3265:$H$6200,  Input!$F$3265:$F$6200,Summering!B300))","v":0}]
[null,{"$f":"IF(Biomasser!A52=\"\",\"\", Biomasser!A52)","v":" -             Organisk husholdningsaffald - Skruepresse"},{"$f":"IF(B301=\"\",0,SUMIFS(Input!$H$3265:$H$6200,  Input!$F$3265:$F$6200,Summering!B301))","v":0}]
[null,{"$f":"IF(Biomasser!A53=\"\",\"\", Biomasser!A53)","v":" -             Organisk husholdningsaffald - Neddeling"},{"$f":"IF(B302=\"\",0,SUMIFS(Input!$H$3265:$H$6200,  Input!$F$3265:$F$6200,Summering!B302))","v":0}]
[null,{"$f":"IF(Biomasser!A54=\"\",\"\", Biomasser!A54)","v":" -             Organisk affald fra erhverv"},{"$f":"IF(B303=\"\",0,SUMIFS(Input!$H$3265:$H$6200,  Input!$F$3265:$F$6200,Summering!B303))","v":0}]
[null,{"$f":"IF(Biomasser!A55=\"\",\"\", Biomasser!A55)","v":"Rester og biprodukter fra planter og afgrøder (Overskrift, kan ikke vælges)"},{"$f":"IF(B304=\"\",0,SUMIFS(Input!$H$3265:$H$6200,  Input!$F$3265:$F$6200,Summering!B304))","v":0}]
[null,{"$f":"IF(Biomasser!A56=\"\",\"\", Biomasser!A56)","v":" -             Cellulose"},{"$f":"IF(B305=\"\",0,SUMIFS(Input!$H$3265:$H$6200,  Input!$F$3265:$F$6200,Summering!B305))","v":0}]
[null,{"$f":"IF(Biomasser!A57=\"\",\"\", Biomasser!A57)","v":" -             Naturpleje biomasse"},{"$f":"IF(B306=\"\",0,SUMIFS(Input!$H$3265:$H$6200,  Input!$F$3265:$F$6200,Summering!B306))","v":0}]
[null,{"$f":"IF(Biomasser!A58=\"\",\"\", Biomasser!A58)","v":" -             Halm"},{"$f":"IF(B307=\"\",0,SUMIFS(Input!$H$3265:$H$6200,  Input!$F$3265:$F$6200,Summering!B307))","v":0}]
[null,{"$f":"IF(Biomasser!A59=\"\",\"\", Biomasser!A59)","v":" -             Have-park affald"},{"$f":"IF(B308=\"\",0,SUMIFS(Input!$H$3265:$H$6200,  Input!$F$3265:$F$6200,Summering!B308))","v":0}]
[null,{"$f":"IF(Biomasser!A60=\"\",\"\", Biomasser!A60)","v":" -             Andre restprodukter fra produktion af primærafgrøder"},{"$f":"IF(B309=\"\",0,SUMIFS(Input!$H$3265:$H$6200,  Input!$F$3265:$F$6200,Summering!B309))","v":0}]
[null,{"$f":"IF(Biomasser!A61=\"\",\"\", Biomasser!A61)","v":" -             Kasserede afgrøder"},{"$f":"IF(B310=\"\",0,SUMIFS(Input!$H$3265:$H$6200,  Input!$F$3265:$F$6200,Summering!B310))","v":0}]
[null,{"$f":"IF(Biomasser!A62=\"\",\"\", Biomasser!A62)","v":"Rester og biprodukter fra levnesmiddel- og dyrefoderindustrien  (Overskrift, kan ikke vælges)"},{"$f":"IF(B311=\"\",0,SUMIFS(Input!$H$3265:$H$6200,  Input!$F$3265:$F$6200,Summering!B311))","v":0}]
[null,{"$f":"IF(Biomasser!A63=\"\",\"\", Biomasser!A63)","v":" -             Animalske biprodukter"},{"$f":"IF(B312=\"\",0,SUMIFS(Input!$H$3265:$H$6200,  Input!$F$3265:$F$6200,Summering!B312))","v":0}]
[null,{"$f":"IF(Biomasser!A64=\"\",\"\", Biomasser!A64)","v":" -             Mave/tarm kvæg"},{"$f":"IF(B313=\"\",0,SUMIFS(Input!$H$3265:$H$6200,  Input!$F$3265:$F$6200,Summering!B313))","v":0}]
[null,{"$f":"IF(Biomasser!A65=\"\",\"\", Biomasser!A65)","v":" -             Mave/tarm svin"},{"$f":"IF(B314=\"\",0,SUMIFS(Input!$H$3265:$H$6200,  Input!$F$3265:$F$6200,Summering!B314))","v":0}]
[null,{"$f":"IF(Biomasser!A66=\"\",\"\", Biomasser!A66)","v":" -             Valle"},{"$f":"IF(B315=\"\",0,SUMIFS(Input!$H$3265:$H$6200,  Input!$F$3265:$F$6200,Summering!B315))","v":0}]
[null,{"$f":"IF(Biomasser!A67=\"\",\"\", Biomasser!A67)","v":" -             Valle koncentrat"},{"$f":"IF(B316=\"\",0,SUMIFS(Input!$H$3265:$H$6200,  Input!$F$3265:$F$6200,Summering!B316))","v":0}]
[null,{"$f":"IF(Biomasser!A68=\"\",\"\", Biomasser!A68)","v":" -             Protein"},{"$f":"IF(B317=\"\",0,SUMIFS(Input!$H$3265:$H$6200,  Input!$F$3265:$F$6200,Summering!B317))","v":0}]
[null,{"$f":"IF(Biomasser!A69=\"\",\"\", Biomasser!A69)","v":" -             Fedt"},{"$f":"IF(B318=\"\",0,SUMIFS(Input!$H$3265:$H$6200,  Input!$F$3265:$F$6200,Summering!B318))","v":0}]
[null,{"$f":"IF(Biomasser!A70=\"\",\"\", Biomasser!A70)","v":" -             Vinasse (2,2 pct. kvælstof)"},{"$f":"IF(B319=\"\",0,SUMIFS(Input!$H$3265:$H$6200,  Input!$F$3265:$F$6200,Summering!B319))","v":0}]
[null,{"$f":"IF(Biomasser!A71=\"\",\"\", Biomasser!A71)","v":" -             Vinasse (3,5 pct. kvælstof)"},{"$f":"IF(B320=\"\",0,SUMIFS(Input!$H$3265:$H$6200,  Input!$F$3265:$F$6200,Summering!B320))","v":0}]
[null,{"$f":"IF(Biomasser!A72=\"\",\"\", Biomasser!A72)","v":" -             Kartoffelfrugtsaft"},{"$f":"IF(B321=\"\",0,SUMIFS(Input!$H$3265:$H$6200,  Input!$F$3265:$F$6200,Summering!B321))","v":0}]
[null,{"$f":"IF(Biomasser!A73=\"\",\"\", Biomasser!A73)","v":" -             Glukose"},{"$f":"IF(B322=\"\",0,SUMIFS(Input!$H$3265:$H$6200,  Input!$F$3265:$F$6200,Summering!B322))","v":0}]
[null,{"$f":"IF(Biomasser!A74=\"\",\"\", Biomasser!A74)","v":" -             Alkohol"},{"$f":"IF(B323=\"\",0,SUMIFS(Input!$H$3265:$H$6200,  Input!$F$3265:$F$6200,Summering!B323))","v":0}]
[null,{"$f":"IF(Biomasser!A75=\"\",\"\", Biomasser!A75)","v":" -             Pressesaft fra grøntpilleproduktion"},{"$f":"IF(B324=\"\",0,SUMIFS(Input!$H$3265:$H$6200,  Input!$F$3265:$F$6200,Summering!B324))","v":0}]
[null,{"$f":"IF(Biomasser!A76=\"\",\"\", Biomasser!A76)","v":" -             Inaktiveret og kalkstabiliseret biomasse"},{"$f":"IF(B325=\"\",0,SUMIFS(Input!$H$3265:$H$6200,  Input!$F$3265:$F$6200,Summering!B325))","v":0}]
[null,{"$f":"IF(Biomasser!A77=\"\",\"\", Biomasser!A77)","v":"Anden biomasse (Overskrift)"},{"$f":"IF(B326=\"\",0,SUMIFS(Input!$H$3265:$H$6200,  Input!$F$3265:$F$6200,Summering!B326))","v":0}]
[null,{"$f":"IF(Biomasser!A78=\"\",\"\", Biomasser!A78)","v":" -             Råglycerin"},{"$f":"IF(B327=\"\",0,SUMIFS(Input!$H$3265:$H$6200,  Input!$F$3265:$F$6200,Summering!B327))","v":0}]
[null,{"$f":"IF(Biomasser!A79=\"\",\"\", Biomasser!A79)","v":""},{"$f":"IF(B328=\"\",0,SUMIFS(Input!$H$3265:$H$6200,  Input!$F$3265:$F$6200,Summering!B328))","v":0}]
[null,{"$f":"IF(Biomasser!A80=\"\",\"\", Biomasser!A80)","v":""},{"$f":"IF(B329=\"\",0,SUMIFS(Input!$H$3265:$H$6200,  Input!$F$3265:$F$6200,Summering!B329))","v":0}]
[null,{"$f":"IF(Biomasser!A81=\"\",\"\", Biomasser!A81)","v":""},{"$f":"IF(B330=\"\",0,SUMIFS(Input!$H$3265:$H$6200,  Input!$F$3265:$F$6200,Summering!B330))","v":0}]
[null,{"$f":"IF(Biomasser!A82=\"\",\"\", Biomasser!A82)","v":""},{"$f":"IF(B331=\"\",0,SUMIFS(Input!$H$3265:$H$6200,  Input!$F$3265:$F$6200,Summering!B331))","v":0}]
[null,{"$f":"IF(Biomasser!A83=\"\",\"\", Biomasser!A83)","v":""},{"$f":"IF(B332=\"\",0,SUMIFS(Input!$H$3265:$H$6200,  Input!$F$3265:$F$6200,Summering!B332))","v":0}]
[null,{"$f":"IF(Biomasser!A84=\"\",\"\", Biomasser!A84)","v":""},{"$f":"IF(B333=\"\",0,SUMIFS(Input!$H$3265:$H$6200,  Input!$F$3265:$F$6200,Summering!B333))","v":0}]
[null,{"$f":"IF(Biomasser!A85=\"\",\"\", Biomasser!A85)","v":""},{"$f":"IF(B334=\"\",0,SUMIFS(Input!$H$3265:$H$6200,  Input!$F$3265:$F$6200,Summering!B334))","v":0}]
[null,{"$f":"IF(Biomasser!A86=\"\",\"\", Biomasser!A86)","v":""},{"$f":"IF(B335=\"\",0,SUMIFS(Input!$H$3265:$H$6200,  Input!$F$3265:$F$6200,Summering!B335))","v":0}]
[null,{"$f":"IF(Biomasser!A87=\"\",\"\", Biomasser!A87)","v":""},{"$f":"IF(B336=\"\",0,SUMIFS(Input!$H$3265:$H$6200,  Input!$F$3265:$F$6200,Summering!B336))","v":0}]
[null,{"$f":"IF(Biomasser!A88=\"\",\"\", Biomasser!A88)","v":""},{"$f":"IF(B337=\"\",0,SUMIFS(Input!$H$3265:$H$6200,  Input!$F$3265:$F$6200,Summering!B337))","v":0}]
[null,{"$f":"IF(Biomasser!A89=\"\",\"\", Biomasser!A89)","v":""},{"$f":"IF(B338=\"\",0,SUMIFS(Input!$H$3265:$H$6200,  Input!$F$3265:$F$6200,Summering!B338))","v":0}]
[null,{"$f":"IF(Biomasser!A90=\"\",\"\", Biomasser!A90)","v":""},{"$f":"IF(B339=\"\",0,SUMIFS(Input!$H$3265:$H$6200,  Input!$F$3265:$F$6200,Summering!B339))","v":0}]
[null,{"$f":"IF(Biomasser!A91=\"\",\"\", Biomasser!A91)","v":""},{"$f":"IF(B340=\"\",0,SUMIFS(Input!$H$3265:$H$6200,  Input!$F$3265:$F$6200,Summering!B340))","v":0}]
[null,{"$f":"IF(Biomasser!A92=\"\",\"\", Biomasser!A92)","v":""},{"$f":"IF(B341=\"\",0,SUMIFS(Input!$H$3265:$H$6200,  Input!$F$3265:$F$6200,Summering!B341))","v":0}]
[null,{"$f":"IF(Biomasser!A93=\"\",\"\", Biomasser!A93)","v":""},{"$f":"IF(B342=\"\",0,SUMIFS(Input!$H$3265:$H$6200,  Input!$F$3265:$F$6200,Summering!B342))","v":0}]
[null,{"$f":"IF(Biomasser!A94=\"\",\"\", Biomasser!A94)","v":""},{"$f":"IF(B343=\"\",0,SUMIFS(Input!$H$3265:$H$6200,  Input!$F$3265:$F$6200,Summering!B343))","v":0}]
[null,{"$f":"IF(Biomasser!A95=\"\",\"\", Biomasser!A95)","v":""},{"$f":"IF(B344=\"\",0,SUMIFS(Input!$H$3265:$H$6200,  Input!$F$3265:$F$6200,Summering!B344))","v":0}]
[null,{"$f":"IF(Biomasser!A96=\"\",\"\", Biomasser!A96)","v":""},{"$f":"IF(B345=\"\",0,SUMIFS(Input!$H$3265:$H$6200,  Input!$F$3265:$F$6200,Summering!B345))","v":0}]
[null,{"$f":"IF(Biomasser!A97=\"\",\"\", Biomasser!A97)","v":""},{"$f":"IF(B346=\"\",0,SUMIFS(Input!$H$3265:$H$6200,  Input!$F$3265:$F$6200,Summering!B346))","v":0}]
[null,{"$f":"IF(Biomasser!A98=\"\",\"\", Biomasser!A98)","v":""},{"$f":"IF(B347=\"\",0,SUMIFS(Input!$H$3265:$H$6200,  Input!$F$3265:$F$6200,Summering!B347))","v":0}]
[null,{"$f":"IF(Biomasser!A99=\"\",\"\", Biomasser!A99)","v":""},{"$f":"IF(B348=\"\",0,SUMIFS(Input!$H$3265:$H$6200,  Input!$F$3265:$F$6200,Summering!B348))","v":0}]
[null,{"$f":"IF(Biomasser!A100=\"\",\"\", Biomasser!A100)","v":""},{"$f":"IF(B349=\"\",0,SUMIFS(Input!$H$3265:$H$6200,  Input!$F$3265:$F$6200,Summering!B349))","v":0}]
[null,{"$f":"IF(Biomasser!A101=\"\",\"\", Biomasser!A101)","v":""},{"$f":"IF(B350=\"\",0,SUMIFS(Input!$H$3265:$H$6200,  Input!$F$3265:$F$6200,Summering!B350))","v":0}]
[null,{"$f":"IF(Biomasser!A102=\"\",\"\", Biomasser!A102)","v":""},{"$f":"IF(B351=\"\",0,SUMIFS(Input!$H$3265:$H$6200,  Input!$F$3265:$F$6200,Summering!B351))","v":0}]
[null,{"$f":"IF(Biomasser!A103=\"\",\"\", Biomasser!A103)","v":""},{"$f":"IF(B352=\"\",0,SUMIFS(Input!$H$3265:$H$6200,  Input!$F$3265:$F$6200,Summering!B352))","v":0}]
[null,{"$f":"IF(Biomasser!A104=\"\",\"\", Biomasser!A104)","v":""},{"$f":"IF(B353=\"\",0,SUMIFS(Input!$H$3265:$H$6200,  Input!$F$3265:$F$6200,Summering!B353))","v":0}]
[null,{"$f":"IF(Biomasser!A105=\"\",\"\", Biomasser!A105)","v":""},{"$f":"IF(B354=\"\",0,SUMIFS(Input!$H$3265:$H$6200,  Input!$F$3265:$F$6200,Summering!B354))","v":0}]
[null,{"$f":"IF(Biomasser!A106=\"\",\"\", Biomasser!A106)","v":""},{"$f":"IF(B355=\"\",0,SUMIFS(Input!$H$3265:$H$6200,  Input!$F$3265:$F$6200,Summering!B355))","v":0}]
[null,{"$f":"IF(Biomasser!A107=\"\",\"\", Biomasser!A107)","v":""},{"$f":"IF(B356=\"\",0,SUMIFS(Input!$H$3265:$H$6200,  Input!$F$3265:$F$6200,Summering!B356))","v":0}]
[null,{"$f":"IF(Biomasser!A108=\"\",\"\", Biomasser!A108)","v":""},{"$f":"IF(B357=\"\",0,SUMIFS(Input!$H$3265:$H$6200,  Input!$F$3265:$F$6200,Summering!B357))","v":0}]
[null,{"$f":"IF(Biomasser!A109=\"\",\"\", Biomasser!A109)","v":""},{"$f":"IF(B358=\"\",0,SUMIFS(Input!$H$3265:$H$6200,  Input!$F$3265:$F$6200,Summering!B358))","v":0}]
[null,{"$f":"IF(Biomasser!A110=\"\",\"\", Biomasser!A110)","v":""},{"$f":"IF(B359=\"\",0,SUMIFS(Input!$H$3265:$H$6200,  Input!$F$3265:$F$6200,Summering!B359))","v":0}]
[null,{"$f":"IF(Biomasser!A111=\"\",\"\", Biomasser!A111)","v":""},{"$f":"IF(B360=\"\",0,SUMIFS(Input!$H$3265:$H$6200,  Input!$F$3265:$F$6200,Summering!B360))","v":0}]
[null,{"$f":"IF(Biomasser!A112=\"\",\"\", Biomasser!A112)","v":""},{"$f":"IF(B361=\"\",0,SUMIFS(Input!$H$3265:$H$6200,  Input!$F$3265:$F$6200,Summering!B361))","v":0}]
[null,{"$f":"IF(Biomasser!A113=\"\",\"\", Biomasser!A113)","v":""},{"$f":"IF(B362=\"\",0,SUMIFS(Input!$H$3265:$H$6200,  Input!$F$3265:$F$6200,Summering!B362))","v":0}]
[null,{"$f":"IF(Biomasser!A114=\"\",\"\", Biomasser!A114)","v":""},{"$f":"IF(B363=\"\",0,SUMIFS(Input!$H$3265:$H$6200,  Input!$F$3265:$F$6200,Summering!B363))","v":0}]
[null,{"$f":"IF(Biomasser!A115=\"\",\"\", Biomasser!A115)","v":""},{"$f":"IF(B364=\"\",0,SUMIFS(Input!$H$3265:$H$6200,  Input!$F$3265:$F$6200,Summering!B364))","v":0}]
[null,{"$f":"IF(Biomasser!A116=\"\",\"\", Biomasser!A116)","v":""},{"$f":"IF(B365=\"\",0,SUMIFS(Input!$H$3265:$H$6200,  Input!$F$3265:$F$6200,Summering!B365))","v":0}]
[null,{"$f":"IF(Biomasser!A117=\"\",\"\", Biomasser!A117)","v":""},{"$f":"IF(B366=\"\",0,SUMIFS(Input!$H$3265:$H$6200,  Input!$F$3265:$F$6200,Summering!B366))","v":0}]
[null,{"$f":"IF(Biomasser!A118=\"\",\"\", Biomasser!A118)","v":""},{"$f":"IF(B367=\"\",0,SUMIFS(Input!$H$3265:$H$6200,  Input!$F$3265:$F$6200,Summering!B367))","v":0}]
[null,{"$f":"IF(Biomasser!A119=\"\",\"\", Biomasser!A119)","v":""},{"$f":"IF(B368=\"\",0,SUMIFS(Input!$H$3265:$H$6200,  Input!$F$3265:$F$6200,Summering!B368))","v":0}]
[null,{"$f":"IF(Biomasser!A120=\"\",\"\", Biomasser!A120)","v":""},{"$f":"IF(B369=\"\",0,SUMIFS(Input!$H$3265:$H$6200,  Input!$F$3265:$F$6200,Summering!B369))","v":0}]
[null,{"$f":"IF(Biomasser!A121=\"\",\"\", Biomasser!A121)","v":""},{"$f":"IF(B370=\"\",0,SUMIFS(Input!$H$3265:$H$6200,  Input!$F$3265:$F$6200,Summering!B370))","v":0}]
[null,{"$f":"IF(Biomasser!A122=\"\",\"\", Biomasser!A122)","v":""},{"$f":"IF(B371=\"\",0,SUMIFS(Input!$H$3265:$H$6200,  Input!$F$3265:$F$6200,Summering!B371))","v":0}]
[null,{"$f":"IF(Biomasser!A123=\"\",\"\", Biomasser!A123)","v":""},{"$f":"IF(B372=\"\",0,SUMIFS(Input!$H$3265:$H$6200,  Input!$F$3265:$F$6200,Summering!B372))","v":0}]
[null,{"$f":"IF(Biomasser!A124=\"\",\"\", Biomasser!A124)","v":""},{"$f":"IF(B373=\"\",0,SUMIFS(Input!$H$3265:$H$6200,  Input!$F$3265:$F$6200,Summering!B373))","v":0}]
[null,"Marts",{"$f":"SUM(C375:C496)","v":0},{"$f":"SUMIFS(Input!$H$10:$H$76760,Input!$A$10:$A$76760,\"Gas\",Input!$C$10:$C$76760,Summering!$B$5,Input!$B$10:$B$76760,\"*\"&B374&\"*\")","v":0}]
[null,{"$f":"IF(Biomasser!A3=\"\",\"\", Biomasser!A3)","v":"Afgrøder (Overskrift, kan ikke vælges)"},{"$f":"IF(B375=\"\",0,SUMIFS(Input!$H$6205:$H$9455,  Input!$F$6205:$F$9455,Summering!B375))","v":0}]
[null,{"$f":"IF(Biomasser!A4=\"\",\"\", Biomasser!A4)","v":" -             Majs"},{"$f":"IF(B376=\"\",0,SUMIFS(Input!$H$6205:$H$9455,  Input!$F$6205:$F$9455,Summering!B376))","v":0}]
[null,{"$f":"IF(Biomasser!A5=\"\",\"\", Biomasser!A5)","v":" -             Roer"},{"$f":"IF(B377=\"\",0,SUMIFS(Input!$H$6205:$H$9455,  Input!$F$6205:$F$9455,Summering!B377))","v":0}]
[null,{"$f":"IF(Biomasser!A6=\"\",\"\", Biomasser!A6)","v":" -             Korn"},{"$f":"IF(B378=\"\",0,SUMIFS(Input!$H$6205:$H$9455,  Input!$F$6205:$F$9455,Summering!B378))","v":0}]
[null,{"$f":"IF(Biomasser!A7=\"\",\"\", Biomasser!A7)","v":" -             Græs"},{"$f":"IF(B379=\"\",0,SUMIFS(Input!$H$6205:$H$9455,  Input!$F$6205:$F$9455,Summering!B379))","v":0}]
[null,{"$f":"IF(Biomasser!A8=\"\",\"\", Biomasser!A8)","v":" -             Kløvergræs"},{"$f":"IF(B380=\"\",0,SUMIFS(Input!$H$6205:$H$9455,  Input!$F$6205:$F$9455,Summering!B380))","v":0}]
[null,{"$f":"IF(Biomasser!A9=\"\",\"\", Biomasser!A9)","v":" -             Jordskokker"},{"$f":"IF(B381=\"\",0,SUMIFS(Input!$H$6205:$H$9455,  Input!$F$6205:$F$9455,Summering!B381))","v":0}]
[null,{"$f":"IF(Biomasser!A10=\"\",\"\", Biomasser!A10)","v":" -             Andre afgrøder"},{"$f":"IF(B382=\"\",0,SUMIFS(Input!$H$6205:$H$9455,  Input!$F$6205:$F$9455,Summering!B382))","v":0}]
[null,{"$f":"IF(Biomasser!A11=\"\",\"\", Biomasser!A11)","v":" -             Hvedehelsæd"},{"$f":"IF(B383=\"\",0,SUMIFS(Input!$H$6205:$H$9455,  Input!$F$6205:$F$9455,Summering!B383))","v":0}]
[null,{"$f":"IF(Biomasser!A12=\"\",\"\", Biomasser!A12)","v":" -             Top af foderroe"},{"$f":"IF(B384=\"\",0,SUMIFS(Input!$H$6205:$H$9455,  Input!$F$6205:$F$9455,Summering!B384))","v":0}]
[null,{"$f":"IF(Biomasser!A13=\"\",\"\", Biomasser!A13)","v":" -             Foderroe - rod og top frisk"},{"$f":"IF(B385=\"\",0,SUMIFS(Input!$H$6205:$H$9455,  Input!$F$6205:$F$9455,Summering!B385))","v":0}]
[null,{"$f":"IF(Biomasser!A14=\"\",\"\", Biomasser!A14)","v":" -             Økologisk kløvergræs"},{"$f":"IF(B386=\"\",0,SUMIFS(Input!$H$6205:$H$9455,  Input!$F$6205:$F$9455,Summering!B386))","v":0}]
[null,{"$f":"IF(Biomasser!A15=\"\",\"\", Biomasser!A15)","v":"Husdyrgødning (Overskrift, kan ikke vælges)"},{"$f":"IF(B387=\"\",0,SUMIFS(Input!$H$6205:$H$9455,  Input!$F$6205:$F$9455,Summering!B387))","v":0}]
[null,{"$f":"IF(Biomasser!A16=\"\",\"\", Biomasser!A16)","v":" -             Kvæggylle"},{"$f":"IF(B388=\"\",0,SUMIFS(Input!$H$6205:$H$9455,  Input!$F$6205:$F$9455,Summering!B388))","v":0}]
[null,{"$f":"IF(Biomasser!A17=\"\",\"\", Biomasser!A17)","v":" -             Svinegylle"},{"$f":"IF(B389=\"\",0,SUMIFS(Input!$H$6205:$H$9455,  Input!$F$6205:$F$9455,Summering!B389))","v":0}]
[null,{"$f":"IF(Biomasser!A18=\"\",\"\", Biomasser!A18)","v":" -             Gylle fra so"},{"$f":"IF(B390=\"\",0,SUMIFS(Input!$H$6205:$H$9455,  Input!$F$6205:$F$9455,Summering!B390))","v":0}]
[null,{"$f":"IF(Biomasser!A19=\"\",\"\", Biomasser!A19)","v":" -             Minkgylle"},{"$f":"IF(B391=\"\",0,SUMIFS(Input!$H$6205:$H$9455,  Input!$F$6205:$F$9455,Summering!B391))","v":0}]
[null,{"$f":"IF(Biomasser!A20=\"\",\"\", Biomasser!A20)","v":" -             Fjerkrægylle"},{"$f":"IF(B392=\"\",0,SUMIFS(Input!$H$6205:$H$9455,  Input!$F$6205:$F$9455,Summering!B392))","v":0}]
[null,{"$f":"IF(Biomasser!A21=\"\",\"\", Biomasser!A21)","v":" -             Blandet gylle"},{"$f":"IF(B393=\"\",0,SUMIFS(Input!$H$6205:$H$9455,  Input!$F$6205:$F$9455,Summering!B393))","v":0}]
[null,{"$f":"IF(Biomasser!A22=\"\",\"\", Biomasser!A22)","v":" -             Dybstrøelse - Kvæg"},{"$f":"IF(B394=\"\",0,SUMIFS(Input!$H$6205:$H$9455,  Input!$F$6205:$F$9455,Summering!B394))","v":0}]
[null,{"$f":"IF(Biomasser!A23=\"\",\"\", Biomasser!A23)","v":" -             Dybstrøelse - Fjerkræ"},{"$f":"IF(B395=\"\",0,SUMIFS(Input!$H$6205:$H$9455,  Input!$F$6205:$F$9455,Summering!B395))","v":0}]
[null,{"$f":"IF(Biomasser!A24=\"\",\"\", Biomasser!A24)","v":" -             Dybstrøelse - Hest"},{"$f":"IF(B396=\"\",0,SUMIFS(Input!$H$6205:$H$9455,  Input!$F$6205:$F$9455,Summering!B396))","v":0}]
[null,{"$f":"IF(Biomasser!A25=\"\",\"\", Biomasser!A25)","v":" -             Dybstrøelse - Andre typer"},{"$f":"IF(B397=\"\",0,SUMIFS(Input!$H$6205:$H$9455,  Input!$F$6205:$F$9455,Summering!B397))","v":0}]
[null,{"$f":"IF(Biomasser!A26=\"\",\"\", Biomasser!A26)","v":" -             Fast gødning"},{"$f":"IF(B398=\"\",0,SUMIFS(Input!$H$6205:$H$9455,  Input!$F$6205:$F$9455,Summering!B398))","v":0}]
[null,{"$f":"IF(Biomasser!A27=\"\",\"\", Biomasser!A27)","v":" -             Ajle"},{"$f":"IF(B399=\"\",0,SUMIFS(Input!$H$6205:$H$9455,  Input!$F$6205:$F$9455,Summering!B399))","v":0}]
[null,{"$f":"IF(Biomasser!A28=\"\",\"\", Biomasser!A28)","v":" -             Fiberfraktion"},{"$f":"IF(B400=\"\",0,SUMIFS(Input!$H$6205:$H$9455,  Input!$F$6205:$F$9455,Summering!B400))","v":0}]
[null,{"$f":"IF(Biomasser!A29=\"\",\"\", Biomasser!A29)","v":" -             Flydende fraktion fra separationsanlæg"},{"$f":"IF(B401=\"\",0,SUMIFS(Input!$H$6205:$H$9455,  Input!$F$6205:$F$9455,Summering!B401))","v":0}]
[null,{"$f":"IF(Biomasser!A30=\"\",\"\", Biomasser!A30)","v":" -             Flydende fraktion"},{"$f":"IF(B402=\"\",0,SUMIFS(Input!$H$6205:$H$9455,  Input!$F$6205:$F$9455,Summering!B402))","v":0}]
[null,{"$f":"IF(Biomasser!A31=\"\",\"\", Biomasser!A31)","v":" -             Anden husdyrgødning"},{"$f":"IF(B403=\"\",0,SUMIFS(Input!$H$6205:$H$9455,  Input!$F$6205:$F$9455,Summering!B403))","v":0}]
[null,{"$f":"IF(Biomasser!A32=\"\",\"\", Biomasser!A32)","v":" -             Forsuret svinegylle"},{"$f":"IF(B404=\"\",0,SUMIFS(Input!$H$6205:$H$9455,  Input!$F$6205:$F$9455,Summering!B404))","v":0}]
[null,{"$f":"IF(Biomasser!A33=\"\",\"\", Biomasser!A33)","v":" -             Dybstrøelse - Svin"},{"$f":"IF(B405=\"\",0,SUMIFS(Input!$H$6205:$H$9455,  Input!$F$6205:$F$9455,Summering!B405))","v":0}]
[null,{"$f":"IF(Biomasser!A34=\"\",\"\", Biomasser!A34)","v":" -             Gylle fibre - kemisk separation - Svin"},{"$f":"IF(B406=\"\",0,SUMIFS(Input!$H$6205:$H$9455,  Input!$F$6205:$F$9455,Summering!B406))","v":0}]
[null,{"$f":"IF(Biomasser!A35=\"\",\"\", Biomasser!A35)","v":" -             Gylle fibre - dekanter separation - Svin"},{"$f":"IF(B407=\"\",0,SUMIFS(Input!$H$6205:$H$9455,  Input!$F$6205:$F$9455,Summering!B407))","v":0}]
[null,{"$f":"IF(Biomasser!A36=\"\",\"\", Biomasser!A36)","v":" -             Staldgødning - Kvæg"},{"$f":"IF(B408=\"\",0,SUMIFS(Input!$H$6205:$H$9455,  Input!$F$6205:$F$9455,Summering!B408))","v":0}]
[null,{"$f":"IF(Biomasser!A37=\"\",\"\", Biomasser!A37)","v":" -             Kvæggylle - Årsopdræt 6 mdr."},{"$f":"IF(B409=\"\",0,SUMIFS(Input!$H$6205:$H$9455,  Input!$F$6205:$F$9455,Summering!B409))","v":0}]
[null,{"$f":"IF(Biomasser!A38=\"\",\"\", Biomasser!A38)","v":" -             Staldgødning - Fjerkræ"},{"$f":"IF(B410=\"\",0,SUMIFS(Input!$H$6205:$H$9455,  Input!$F$6205:$F$9455,Summering!B410))","v":0}]
[null,{"$f":"IF(Biomasser!A39=\"\",\"\", Biomasser!A39)","v":"Slam og spildevand (Overskrift, kan ikke vælges)"},{"$f":"IF(B411=\"\",0,SUMIFS(Input!$H$6205:$H$9455,  Input!$F$6205:$F$9455,Summering!B411))","v":0}]
[null,{"$f":"IF(Biomasser!A40=\"\",\"\", Biomasser!A40)","v":" -             Slam og spildevand samt uforurenede produktrester"},{"$f":"IF(B412=\"\",0,SUMIFS(Input!$H$6205:$H$9455,  Input!$F$6205:$F$9455,Summering!B412))","v":0}]
[null,{"$f":"IF(Biomasser!A41=\"\",\"\", Biomasser!A41)","v":" -             Slam fra dambrug"},{"$f":"IF(B413=\"\",0,SUMIFS(Input!$H$6205:$H$9455,  Input!$F$6205:$F$9455,Summering!B413))","v":0}]
[null,{"$f":"IF(Biomasser!A42=\"\",\"\", Biomasser!A42)","v":" -             Slam fra forarbejdning af animalske råvarer"},{"$f":"IF(B414=\"\",0,SUMIFS(Input!$H$6205:$H$9455,  Input!$F$6205:$F$9455,Summering!B414))","v":0}]
[null,{"$f":"IF(Biomasser!A43=\"\",\"\", Biomasser!A43)","v":" -             Spildevandsslam"},{"$f":"IF(B415=\"\",0,SUMIFS(Input!$H$6205:$H$9455,  Input!$F$6205:$F$9455,Summering!B415))","v":0}]
[null,{"$f":"IF(Biomasser!A44=\"\",\"\", Biomasser!A44)","v":" -             Proteolyseret processpildevand"},{"$f":"IF(B416=\"\",0,SUMIFS(Input!$H$6205:$H$9455,  Input!$F$6205:$F$9455,Summering!B416))","v":0}]
[null,{"$f":"IF(Biomasser!A45=\"\",\"\", Biomasser!A45)","v":" -             Sekundær spildevandsslam"},{"$f":"IF(B417=\"\",0,SUMIFS(Input!$H$6205:$H$9455,  Input!$F$6205:$F$9455,Summering!B417))","v":0}]
[null,{"$f":"IF(Biomasser!A46=\"\",\"\", Biomasser!A46)","v":" -             Sekundær spildevandsslam afvandet"},{"$f":"IF(B418=\"\",0,SUMIFS(Input!$H$6205:$H$9455,  Input!$F$6205:$F$9455,Summering!B418))","v":0}]
[null,{"$f":"IF(Biomasser!A47=\"\",\"\", Biomasser!A47)","v":"Organisk affald fra husholdninger og erhverv (Overskrift, kan ikke vælges)"},{"$f":"IF(B419=\"\",0,SUMIFS(Input!$H$6205:$H$9455,  Input!$F$6205:$F$9455,Summering!B419))","v":0}]
[null,{"$f":"IF(Biomasser!A48=\"\",\"\", Biomasser!A48)","v":" -             Kildesorteret organisk dagrenovation"},{"$f":"IF(B420=\"\",0,SUMIFS(Input!$H$6205:$H$9455,  Input!$F$6205:$F$9455,Summering!B420))","v":0}]
[null,{"$f":"IF(Biomasser!A49=\"\",\"\", Biomasser!A49)","v":" -             Organisk husholdningsaffald - Renescience"},{"$f":"IF(B421=\"\",0,SUMIFS(Input!$H$6205:$H$9455,  Input!$F$6205:$F$9455,Summering!B421))","v":0}]
[null,{"$f":"IF(Biomasser!A50=\"\",\"\", Biomasser!A50)","v":" -             Organisk husholdningsaffald - Pulper"},{"$f":"IF(B422=\"\",0,SUMIFS(Input!$H$6205:$H$9455,  Input!$F$6205:$F$9455,Summering!B422))","v":0}]
[null,{"$f":"IF(Biomasser!A51=\"\",\"\", Biomasser!A51)","v":" -             Organisk husholdningsaffald - Rullesigte"},{"$f":"IF(B423=\"\",0,SUMIFS(Input!$H$6205:$H$9455,  Input!$F$6205:$F$9455,Summering!B423))","v":0}]
[null,{"$f":"IF(Biomasser!A52=\"\",\"\", Biomasser!A52)","v":" -             Organisk husholdningsaffald - Skruepresse"},{"$f":"IF(B424=\"\",0,SUMIFS(Input!$H$6205:$H$9455,  Input!$F$6205:$F$9455,Summering!B424))","v":0}]
[null,{"$f":"IF(Biomasser!A53=\"\",\"\", Biomasser!A53)","v":" -             Organisk husholdningsaffald - Neddeling"},{"$f":"IF(B425=\"\",0,SUMIFS(Input!$H$6205:$H$9455,  Input!$F$6205:$F$9455,Summering!B425))","v":0}]
[null,{"$f":"IF(Biomasser!A54=\"\",\"\", Biomasser!A54)","v":" -             Organisk affald fra erhverv"},{"$f":"IF(B426=\"\",0,SUMIFS(Input!$H$6205:$H$9455,  Input!$F$6205:$F$9455,Summering!B426))","v":0}]
[null,{"$f":"IF(Biomasser!A55=\"\",\"\", Biomasser!A55)","v":"Rester og biprodukter fra planter og afgrøder (Overskrift, kan ikke vælges)"},{"$f":"IF(B427=\"\",0,SUMIFS(Input!$H$6205:$H$9455,  Input!$F$6205:$F$9455,Summering!B427))","v":0}]
[null,{"$f":"IF(Biomasser!A56=\"\",\"\", Biomasser!A56)","v":" -             Cellulose"},{"$f":"IF(B428=\"\",0,SUMIFS(Input!$H$6205:$H$9455,  Input!$F$6205:$F$9455,Summering!B428))","v":0}]
[null,{"$f":"IF(Biomasser!A57=\"\",\"\", Biomasser!A57)","v":" -             Naturpleje biomasse"},{"$f":"IF(B429=\"\",0,SUMIFS(Input!$H$6205:$H$9455,  Input!$F$6205:$F$9455,Summering!B429))","v":0}]
[null,{"$f":"IF(Biomasser!A58=\"\",\"\", Biomasser!A58)","v":" -             Halm"},{"$f":"IF(B430=\"\",0,SUMIFS(Input!$H$6205:$H$9455,  Input!$F$6205:$F$9455,Summering!B430))","v":0}]
[null,{"$f":"IF(Biomasser!A59=\"\",\"\", Biomasser!A59)","v":" -             Have-park affald"},{"$f":"IF(B431=\"\",0,SUMIFS(Input!$H$6205:$H$9455,  Input!$F$6205:$F$9455,Summering!B431))","v":0}]
[null,{"$f":"IF(Biomasser!A60=\"\",\"\", Biomasser!A60)","v":" -             Andre restprodukter fra produktion af primærafgrøder"},{"$f":"IF(B432=\"\",0,SUMIFS(Input!$H$6205:$H$9455,  Input!$F$6205:$F$9455,Summering!B432))","v":0}]
[null,{"$f":"IF(Biomasser!A61=\"\",\"\", Biomasser!A61)","v":" -             Kasserede afgrøder"},{"$f":"IF(B433=\"\",0,SUMIFS(Input!$H$6205:$H$9455,  Input!$F$6205:$F$9455,Summering!B433))","v":0}]
[null,{"$f":"IF(Biomasser!A62=\"\",\"\", Biomasser!A62)","v":"Rester og biprodukter fra levnesmiddel- og dyrefoderindustrien  (Overskrift, kan ikke vælges)"},{"$f":"IF(B434=\"\",0,SUMIFS(Input!$H$6205:$H$9455,  Input!$F$6205:$F$9455,Summering!B434))","v":0}]
[null,{"$f":"IF(Biomasser!A63=\"\",\"\", Biomasser!A63)","v":" -             Animalske biprodukter"},{"$f":"IF(B435=\"\",0,SUMIFS(Input!$H$6205:$H$9455,  Input!$F$6205:$F$9455,Summering!B435))","v":0}]
[null,{"$f":"IF(Biomasser!A64=\"\",\"\", Biomasser!A64)","v":" -             Mave/tarm kvæg"},{"$f":"IF(B436=\"\",0,SUMIFS(Input!$H$6205:$H$9455,  Input!$F$6205:$F$9455,Summering!B436))","v":0}]
[null,{"$f":"IF(Biomasser!A65=\"\",\"\", Biomasser!A65)","v":" -             Mave/tarm svin"},{"$f":"IF(B437=\"\",0,SUMIFS(Input!$H$6205:$H$9455,  Input!$F$6205:$F$9455,Summering!B437))","v":0}]
[null,{"$f":"IF(Biomasser!A66=\"\",\"\", Biomasser!A66)","v":" -             Valle"},{"$f":"IF(B438=\"\",0,SUMIFS(Input!$H$6205:$H$9455,  Input!$F$6205:$F$9455,Summering!B438))","v":0}]
[null,{"$f":"IF(Biomasser!A67=\"\",\"\", Biomasser!A67)","v":" -             Valle koncentrat"},{"$f":"IF(B439=\"\",0,SUMIFS(Input!$H$6205:$H$9455,  Input!$F$6205:$F$9455,Summering!B439))","v":0}]
[null,{"$f":"IF(Biomasser!A68=\"\",\"\", Biomasser!A68)","v":" -             Protein"},{"$f":"IF(B440=\"\",0,SUMIFS(Input!$H$6205:$H$9455,  Input!$F$6205:$F$9455,Summering!B440))","v":0}]
[null,{"$f":"IF(Biomasser!A69=\"\",\"\", Biomasser!A69)","v":" -             Fedt"},{"$f":"IF(B441=\"\",0,SUMIFS(Input!$H$6205:$H$9455,  Input!$F$6205:$F$9455,Summering!B441))","v":0}]
[null,{"$f":"IF(Biomasser!A70=\"\",\"\", Biomasser!A70)","v":" -             Vinasse (2,2 pct. kvælstof)"},{"$f":"IF(B442=\"\",0,SUMIFS(Input!$H$6205:$H$9455,  Input!$F$6205:$F$9455,Summering!B442))","v":0}]
[null,{"$f":"IF(Biomasser!A71=\"\",\"\", Biomasser!A71)","v":" -             Vinasse (3,5 pct. kvælstof)"},{"$f":"IF(B443=\"\",0,SUMIFS(Input!$H$6205:$H$9455,  Input!$F$6205:$F$9455,Summering!B443))","v":0}]
[null,{"$f":"IF(Biomasser!A72=\"\",\"\", Biomasser!A72)","v":" -             Kartoffelfrugtsaft"},{"$f":"IF(B444=\"\",0,SUMIFS(Input!$H$6205:$H$9455,  Input!$F$6205:$F$9455,Summering!B444))","v":0}]
[null,{"$f":"IF(Biomasser!A73=\"\",\"\", Biomasser!A73)","v":" -             Glukose"},{"$f":"IF(B445=\"\",0,SUMIFS(Input!$H$6205:$H$9455,  Input!$F$6205:$F$9455,Summering!B445))","v":0}]
[null,{"$f":"IF(Biomasser!A74=\"\",\"\", Biomasser!A74)","v":" -             Alkohol"},{"$f":"IF(B446=\"\",0,SUMIFS(Input!$H$6205:$H$9455,  Input!$F$6205:$F$9455,Summering!B446))","v":0}]
[null,{"$f":"IF(Biomasser!A75=\"\",\"\", Biomasser!A75)","v":" -             Pressesaft fra grøntpilleproduktion"},{"$f":"IF(B447=\"\",0,SUMIFS(Input!$H$6205:$H$9455,  Input!$F$6205:$F$9455,Summering!B447))","v":0}]
[null,{"$f":"IF(Biomasser!A76=\"\",\"\", Biomasser!A76)","v":" -             Inaktiveret og kalkstabiliseret biomasse"},{"$f":"IF(B448=\"\",0,SUMIFS(Input!$H$6205:$H$9455,  Input!$F$6205:$F$9455,Summering!B448))","v":0}]
[null,{"$f":"IF(Biomasser!A77=\"\",\"\", Biomasser!A77)","v":"Anden biomasse (Overskrift)"},{"$f":"IF(B449=\"\",0,SUMIFS(Input!$H$6205:$H$9455,  Input!$F$6205:$F$9455,Summering!B449))","v":0}]
[null,{"$f":"IF(Biomasser!A78=\"\",\"\", Biomasser!A78)","v":" -             Råglycerin"},{"$f":"IF(B450=\"\",0,SUMIFS(Input!$H$6205:$H$9455,  Input!$F$6205:$F$9455,Summering!B450))","v":0}]
[null,{"$f":"IF(Biomasser!A79=\"\",\"\", Biomasser!A79)","v":""},{"$f":"IF(B451=\"\",0,SUMIFS(Input!$H$6205:$H$9455,  Input!$F$6205:$F$9455,Summering!B451))","v":0}]
[null,{"$f":"IF(Biomasser!A80=\"\",\"\", Biomasser!A80)","v":""},{"$f":"IF(B452=\"\",0,SUMIFS(Input!$H$6205:$H$9455,  Input!$F$6205:$F$9455,Summering!B452))","v":0}]
[null,{"$f":"IF(Biomasser!A81=\"\",\"\", Biomasser!A81)","v":""},{"$f":"IF(B453=\"\",0,SUMIFS(Input!$H$6205:$H$9455,  Input!$F$6205:$F$9455,Summering!B453))","v":0}]
[null,{"$f":"IF(Biomasser!A82=\"\",\"\", Biomasser!A82)","v":""},{"$f":"IF(B454=\"\",0,SUMIFS(Input!$H$6205:$H$9455,  Input!$F$6205:$F$9455,Summering!B454))","v":0}]
[null,{"$f":"IF(Biomasser!A83=\"\",\"\", Biomasser!A83)","v":""},{"$f":"IF(B455=\"\",0,SUMIFS(Input!$H$6205:$H$9455,  Input!$F$6205:$F$9455,Summering!B455))","v":0}]
[null,{"$f":"IF(Biomasser!A84=\"\",\"\", Biomasser!A84)","v":""},{"$f":"IF(B456=\"\",0,SUMIFS(Input!$H$6205:$H$9455,  Input!$F$6205:$F$9455,Summering!B456))","v":0}]
[null,{"$f":"IF(Biomasser!A85=\"\",\"\", Biomasser!A85)","v":""},{"$f":"IF(B457=\"\",0,SUMIFS(Input!$H$6205:$H$9455,  Input!$F$6205:$F$9455,Summering!B457))","v":0}]
[null,{"$f":"IF(Biomasser!A86=\"\",\"\", Biomasser!A86)","v":""},{"$f":"IF(B458=\"\",0,SUMIFS(Input!$H$6205:$H$9455,  Input!$F$6205:$F$9455,Summering!B458))","v":0}]
[null,{"$f":"IF(Biomasser!A87=\"\",\"\", Biomasser!A87)","v":""},{"$f":"IF(B459=\"\",0,SUMIFS(Input!$H$6205:$H$9455,  Input!$F$6205:$F$9455,Summering!B459))","v":0}]
[null,{"$f":"IF(Biomasser!A88=\"\",\"\", Biomasser!A88)","v":""},{"$f":"IF(B460=\"\",0,SUMIFS(Input!$H$6205:$H$9455,  Input!$F$6205:$F$9455,Summering!B460))","v":0}]
[null,{"$f":"IF(Biomasser!A89=\"\",\"\", Biomasser!A89)","v":""},{"$f":"IF(B461=\"\",0,SUMIFS(Input!$H$6205:$H$9455,  Input!$F$6205:$F$9455,Summering!B461))","v":0}]
[null,{"$f":"IF(Biomasser!A90=\"\",\"\", Biomasser!A90)","v":""},{"$f":"IF(B462=\"\",0,SUMIFS(Input!$H$6205:$H$9455,  Input!$F$6205:$F$9455,Summering!B462))","v":0}]
[null,{"$f":"IF(Biomasser!A91=\"\",\"\", Biomasser!A91)","v":""},{"$f":"IF(B463=\"\",0,SUMIFS(Input!$H$6205:$H$9455,  Input!$F$6205:$F$9455,Summering!B463))","v":0}]
[null,{"$f":"IF(Biomasser!A92=\"\",\"\", Biomasser!A92)","v":""},{"$f":"IF(B464=\"\",0,SUMIFS(Input!$H$6205:$H$9455,  Input!$F$6205:$F$9455,Summering!B464))","v":0}]
[null,{"$f":"IF(Biomasser!A93=\"\",\"\", Biomasser!A93)","v":""},{"$f":"IF(B465=\"\",0,SUMIFS(Input!$H$6205:$H$9455,  Input!$F$6205:$F$9455,Summering!B465))","v":0}]
[null,{"$f":"IF(Biomasser!A94=\"\",\"\", Biomasser!A94)","v":""},{"$f":"IF(B466=\"\",0,SUMIFS(Input!$H$6205:$H$9455,  Input!$F$6205:$F$9455,Summering!B466))","v":0}]
[null,{"$f":"IF(Biomasser!A95=\"\",\"\", Biomasser!A95)","v":""},{"$f":"IF(B467=\"\",0,SUMIFS(Input!$H$6205:$H$9455,  Input!$F$6205:$F$9455,Summering!B467))","v":0}]
[null,{"$f":"IF(Biomasser!A96=\"\",\"\", Biomasser!A96)","v":""},{"$f":"IF(B468=\"\",0,SUMIFS(Input!$H$6205:$H$9455,  Input!$F$6205:$F$9455,Summering!B468))","v":0}]
[null,{"$f":"IF(Biomasser!A97=\"\",\"\", Biomasser!A97)","v":""},{"$f":"IF(B469=\"\",0,SUMIFS(Input!$H$6205:$H$9455,  Input!$F$6205:$F$9455,Summering!B469))","v":0}]
[null,{"$f":"IF(Biomasser!A98=\"\",\"\", Biomasser!A98)","v":""},{"$f":"IF(B470=\"\",0,SUMIFS(Input!$H$6205:$H$9455,  Input!$F$6205:$F$9455,Summering!B470))","v":0}]
[null,{"$f":"IF(Biomasser!A99=\"\",\"\", Biomasser!A99)","v":""},{"$f":"IF(B471=\"\",0,SUMIFS(Input!$H$6205:$H$9455,  Input!$F$6205:$F$9455,Summering!B471))","v":0}]
[null,{"$f":"IF(Biomasser!A100=\"\",\"\", Biomasser!A100)","v":""},{"$f":"IF(B472=\"\",0,SUMIFS(Input!$H$6205:$H$9455,  Input!$F$6205:$F$9455,Summering!B472))","v":0}]
[null,{"$f":"IF(Biomasser!A101=\"\",\"\", Biomasser!A101)","v":""},{"$f":"IF(B473=\"\",0,SUMIFS(Input!$H$6205:$H$9455,  Input!$F$6205:$F$9455,Summering!B473))","v":0}]
[null,{"$f":"IF(Biomasser!A102=\"\",\"\", Biomasser!A102)","v":""},{"$f":"IF(B474=\"\",0,SUMIFS(Input!$H$6205:$H$9455,  Input!$F$6205:$F$9455,Summering!B474))","v":0}]
[null,{"$f":"IF(Biomasser!A103=\"\",\"\", Biomasser!A103)","v":""},{"$f":"IF(B475=\"\",0,SUMIFS(Input!$H$6205:$H$9455,  Input!$F$6205:$F$9455,Summering!B475))","v":0}]
[null,{"$f":"IF(Biomasser!A104=\"\",\"\", Biomasser!A104)","v":""},{"$f":"IF(B476=\"\",0,SUMIFS(Input!$H$6205:$H$9455,  Input!$F$6205:$F$9455,Summering!B476))","v":0}]
[null,{"$f":"IF(Biomasser!A105=\"\",\"\", Biomasser!A105)","v":""},{"$f":"IF(B477=\"\",0,SUMIFS(Input!$H$6205:$H$9455,  Input!$F$6205:$F$9455,Summering!B477))","v":0}]
[null,{"$f":"IF(Biomasser!A106=\"\",\"\", Biomasser!A106)","v":""},{"$f":"IF(B478=\"\",0,SUMIFS(Input!$H$6205:$H$9455,  Input!$F$6205:$F$9455,Summering!B478))","v":0}]
[null,{"$f":"IF(Biomasser!A107=\"\",\"\", Biomasser!A107)","v":""},{"$f":"IF(B479=\"\",0,SUMIFS(Input!$H$6205:$H$9455,  Input!$F$6205:$F$9455,Summering!B479))","v":0}]
[null,{"$f":"IF(Biomasser!A108=\"\",\"\", Biomasser!A108)","v":""},{"$f":"IF(B480=\"\",0,SUMIFS(Input!$H$6205:$H$9455,  Input!$F$6205:$F$9455,Summering!B480))","v":0}]
[null,{"$f":"IF(Biomasser!A109=\"\",\"\", Biomasser!A109)","v":""},{"$f":"IF(B481=\"\",0,SUMIFS(Input!$H$6205:$H$9455,  Input!$F$6205:$F$9455,Summering!B481))","v":0}]
[null,{"$f":"IF(Biomasser!A110=\"\",\"\", Biomasser!A110)","v":""},{"$f":"IF(B482=\"\",0,SUMIFS(Input!$H$6205:$H$9455,  Input!$F$6205:$F$9455,Summering!B482))","v":0}]
[null,{"$f":"IF(Biomasser!A111=\"\",\"\", Biomasser!A111)","v":""},{"$f":"IF(B483=\"\",0,SUMIFS(Input!$H$6205:$H$9455,  Input!$F$6205:$F$9455,Summering!B483))","v":0}]
[null,{"$f":"IF(Biomasser!A112=\"\",\"\", Biomasser!A112)","v":""},{"$f":"IF(B484=\"\",0,SUMIFS(Input!$H$6205:$H$9455,  Input!$F$6205:$F$9455,Summering!B484))","v":0}]
[null,{"$f":"IF(Biomasser!A113=\"\",\"\", Biomasser!A113)","v":""},{"$f":"IF(B485=\"\",0,SUMIFS(Input!$H$6205:$H$9455,  Input!$F$6205:$F$9455,Summering!B485))","v":0}]
[null,{"$f":"IF(Biomasser!A114=\"\",\"\", Biomasser!A114)","v":""},{"$f":"IF(B486=\"\",0,SUMIFS(Input!$H$6205:$H$9455,  Input!$F$6205:$F$9455,Summering!B486))","v":0}]
[null,{"$f":"IF(Biomasser!A115=\"\",\"\", Biomasser!A115)","v":""},{"$f":"IF(B487=\"\",0,SUMIFS(Input!$H$6205:$H$9455,  Input!$F$6205:$F$9455,Summering!B487))","v":0}]
[null,{"$f":"IF(Biomasser!A116=\"\",\"\", Biomasser!A116)","v":""},{"$f":"IF(B488=\"\",0,SUMIFS(Input!$H$6205:$H$9455,  Input!$F$6205:$F$9455,Summering!B488))","v":0}]
[null,{"$f":"IF(Biomasser!A117=\"\",\"\", Biomasser!A117)","v":""},{"$f":"IF(B489=\"\",0,SUMIFS(Input!$H$6205:$H$9455,  Input!$F$6205:$F$9455,Summering!B489))","v":0}]
[null,{"$f":"IF(Biomasser!A118=\"\",\"\", Biomasser!A118)","v":""},{"$f":"IF(B490=\"\",0,SUMIFS(Input!$H$6205:$H$9455,  Input!$F$6205:$F$9455,Summering!B490))","v":0}]
[null,{"$f":"IF(Biomasser!A119=\"\",\"\", Biomasser!A119)","v":""},{"$f":"IF(B491=\"\",0,SUMIFS(Input!$H$6205:$H$9455,  Input!$F$6205:$F$9455,Summering!B491))","v":0}]
[null,{"$f":"IF(Biomasser!A120=\"\",\"\", Biomasser!A120)","v":""},{"$f":"IF(B492=\"\",0,SUMIFS(Input!$H$6205:$H$9455,  Input!$F$6205:$F$9455,Summering!B492))","v":0}]
[null,{"$f":"IF(Biomasser!A121=\"\",\"\", Biomasser!A121)","v":""},{"$f":"IF(B493=\"\",0,SUMIFS(Input!$H$6205:$H$9455,  Input!$F$6205:$F$9455,Summering!B493))","v":0}]
[null,{"$f":"IF(Biomasser!A122=\"\",\"\", Biomasser!A122)","v":""},{"$f":"IF(B494=\"\",0,SUMIFS(Input!$H$6205:$H$9455,  Input!$F$6205:$F$9455,Summering!B494))","v":0}]
[null,{"$f":"IF(Biomasser!A123=\"\",\"\", Biomasser!A123)","v":""},{"$f":"IF(B495=\"\",0,SUMIFS(Input!$H$6205:$H$9455,  Input!$F$6205:$F$9455,Summering!B495))","v":0}]
[null,{"$f":"IF(Biomasser!A124=\"\",\"\", Biomasser!A124)","v":""},{"$f":"IF(B496=\"\",0,SUMIFS(Input!$H$6205:$H$9455,  Input!$F$6205:$F$9455,Summering!B496))","v":0}]
[null,"April",{"$f":"SUM(C498:C619)","v":0},{"$f":"SUMIFS(Input!$H$10:$H$76760,Input!$A$10:$A$76760,\"Gas\",Input!$C$10:$C$76760,Summering!$B$5,Input!$B$10:$B$76760,\"*\"&B497&\"*\")","v":0}]
[null,{"$f":"IF(Biomasser!A3=\"\",\"\", Biomasser!A3)","v":"Afgrøder (Overskrift, kan ikke vælges)"},{"$f":"IF(B498=\"\",0,SUMIFS(Input!$H$9460:$H$12605,  Input!$F$9460:$F$12605,Summering!B498))","v":0}]
[null,{"$f":"IF(Biomasser!A4=\"\",\"\", Biomasser!A4)","v":" -             Majs"},{"$f":"IF(B499=\"\",0,SUMIFS(Input!$H$9460:$H$12605,  Input!$F$9460:$F$12605,Summering!B499))","v":0}]
[null,{"$f":"IF(Biomasser!A5=\"\",\"\", Biomasser!A5)","v":" -             Roer"},{"$f":"IF(B500=\"\",0,SUMIFS(Input!$H$9460:$H$12605,  Input!$F$9460:$F$12605,Summering!B500))","v":0}]
[null,{"$f":"IF(Biomasser!A6=\"\",\"\", Biomasser!A6)","v":" -             Korn"},{"$f":"IF(B501=\"\",0,SUMIFS(Input!$H$9460:$H$12605,  Input!$F$9460:$F$12605,Summering!B501))","v":0}]
[null,{"$f":"IF(Biomasser!A7=\"\",\"\", Biomasser!A7)","v":" -             Græs"},{"$f":"IF(B502=\"\",0,SUMIFS(Input!$H$9460:$H$12605,  Input!$F$9460:$F$12605,Summering!B502))","v":0}]
[null,{"$f":"IF(Biomasser!A8=\"\",\"\", Biomasser!A8)","v":" -             Kløvergræs"},{"$f":"IF(B503=\"\",0,SUMIFS(Input!$H$9460:$H$12605,  Input!$F$9460:$F$12605,Summering!B503))","v":0}]
[null,{"$f":"IF(Biomasser!A9=\"\",\"\", Biomasser!A9)","v":" -             Jordskokker"},{"$f":"IF(B504=\"\",0,SUMIFS(Input!$H$9460:$H$12605,  Input!$F$9460:$F$12605,Summering!B504))","v":0}]
[null,{"$f":"IF(Biomasser!A10=\"\",\"\", Biomasser!A10)","v":" -             Andre afgrøder"},{"$f":"IF(B505=\"\",0,SUMIFS(Input!$H$9460:$H$12605,  Input!$F$9460:$F$12605,Summering!B505))","v":0}]
[null,{"$f":"IF(Biomasser!A11=\"\",\"\", Biomasser!A11)","v":" -             Hvedehelsæd"},{"$f":"IF(B506=\"\",0,SUMIFS(Input!$H$9460:$H$12605,  Input!$F$9460:$F$12605,Summering!B506))","v":0}]
[null,{"$f":"IF(Biomasser!A12=\"\",\"\", Biomasser!A12)","v":" -             Top af foderroe"},{"$f":"IF(B507=\"\",0,SUMIFS(Input!$H$9460:$H$12605,  Input!$F$9460:$F$12605,Summering!B507))","v":0}]
[null,{"$f":"IF(Biomasser!A13=\"\",\"\", Biomasser!A13)","v":" -             Foderroe - rod og top frisk"},{"$f":"IF(B508=\"\",0,SUMIFS(Input!$H$9460:$H$12605,  Input!$F$9460:$F$12605,Summering!B508))","v":0}]
[null,{"$f":"IF(Biomasser!A14=\"\",\"\", Biomasser!A14)","v":" -             Økologisk kløvergræs"},{"$f":"IF(B509=\"\",0,SUMIFS(Input!$H$9460:$H$12605,  Input!$F$9460:$F$12605,Summering!B509))","v":0}]
[null,{"$f":"IF(Biomasser!A15=\"\",\"\", Biomasser!A15)","v":"Husdyrgødning (Overskrift, kan ikke vælges)"},{"$f":"IF(B510=\"\",0,SUMIFS(Input!$H$9460:$H$12605,  Input!$F$9460:$F$12605,Summering!B510))","v":0}]
[null,{"$f":"IF(Biomasser!A16=\"\",\"\", Biomasser!A16)","v":" -             Kvæggylle"},{"$f":"IF(B511=\"\",0,SUMIFS(Input!$H$9460:$H$12605,  Input!$F$9460:$F$12605,Summering!B511))","v":0}]
[null,{"$f":"IF(Biomasser!A17=\"\",\"\", Biomasser!A17)","v":" -             Svinegylle"},{"$f":"IF(B512=\"\",0,SUMIFS(Input!$H$9460:$H$12605,  Input!$F$9460:$F$12605,Summering!B512))","v":0}]
[null,{"$f":"IF(Biomasser!A18=\"\",\"\", Biomasser!A18)","v":" -             Gylle fra so"},{"$f":"IF(B513=\"\",0,SUMIFS(Input!$H$9460:$H$12605,  Input!$F$9460:$F$12605,Summering!B513))","v":0}]
[null,{"$f":"IF(Biomasser!A19=\"\",\"\", Biomasser!A19)","v":" -             Minkgylle"},{"$f":"IF(B514=\"\",0,SUMIFS(Input!$H$9460:$H$12605,  Input!$F$9460:$F$12605,Summering!B514))","v":0}]
[null,{"$f":"IF(Biomasser!A20=\"\",\"\", Biomasser!A20)","v":" -             Fjerkrægylle"},{"$f":"IF(B515=\"\",0,SUMIFS(Input!$H$9460:$H$12605,  Input!$F$9460:$F$12605,Summering!B515))","v":0}]
[null,{"$f":"IF(Biomasser!A21=\"\",\"\", Biomasser!A21)","v":" -             Blandet gylle"},{"$f":"IF(B516=\"\",0,SUMIFS(Input!$H$9460:$H$12605,  Input!$F$9460:$F$12605,Summering!B516))","v":0}]
[null,{"$f":"IF(Biomasser!A22=\"\",\"\", Biomasser!A22)","v":" -             Dybstrøelse - Kvæg"},{"$f":"IF(B517=\"\",0,SUMIFS(Input!$H$9460:$H$12605,  Input!$F$9460:$F$12605,Summering!B517))","v":0}]
[null,{"$f":"IF(Biomasser!A23=\"\",\"\", Biomasser!A23)","v":" -             Dybstrøelse - Fjerkræ"},{"$f":"IF(B518=\"\",0,SUMIFS(Input!$H$9460:$H$12605,  Input!$F$9460:$F$12605,Summering!B518))","v":0}]
[null,{"$f":"IF(Biomasser!A24=\"\",\"\", Biomasser!A24)","v":" -             Dybstrøelse - Hest"},{"$f":"IF(B519=\"\",0,SUMIFS(Input!$H$9460:$H$12605,  Input!$F$9460:$F$12605,Summering!B519))","v":0}]
[null,{"$f":"IF(Biomasser!A25=\"\",\"\", Biomasser!A25)","v":" -             Dybstrøelse - Andre typer"},{"$f":"IF(B520=\"\",0,SUMIFS(Input!$H$9460:$H$12605,  Input!$F$9460:$F$12605,Summering!B520))","v":0}]
[null,{"$f":"IF(Biomasser!A26=\"\",\"\", Biomasser!A26)","v":" -             Fast gødning"},{"$f":"IF(B521=\"\",0,SUMIFS(Input!$H$9460:$H$12605,  Input!$F$9460:$F$12605,Summering!B521))","v":0}]
[null,{"$f":"IF(Biomasser!A27=\"\",\"\", Biomasser!A27)","v":" -             Ajle"},{"$f":"IF(B522=\"\",0,SUMIFS(Input!$H$9460:$H$12605,  Input!$F$9460:$F$12605,Summering!B522))","v":0}]
[null,{"$f":"IF(Biomasser!A28=\"\",\"\", Biomasser!A28)","v":" -             Fiberfraktion"},{"$f":"IF(B523=\"\",0,SUMIFS(Input!$H$9460:$H$12605,  Input!$F$9460:$F$12605,Summering!B523))","v":0}]
[null,{"$f":"IF(Biomasser!A29=\"\",\"\", Biomasser!A29)","v":" -             Flydende fraktion fra separationsanlæg"},{"$f":"IF(B524=\"\",0,SUMIFS(Input!$H$9460:$H$12605,  Input!$F$9460:$F$12605,Summering!B524))","v":0}]
[null,{"$f":"IF(Biomasser!A30=\"\",\"\", Biomasser!A30)","v":" -             Flydende fraktion"},{"$f":"IF(B525=\"\",0,SUMIFS(Input!$H$9460:$H$12605,  Input!$F$9460:$F$12605,Summering!B525))","v":0}]
[null,{"$f":"IF(Biomasser!A31=\"\",\"\", Biomasser!A31)","v":" -             Anden husdyrgødning"},{"$f":"IF(B526=\"\",0,SUMIFS(Input!$H$9460:$H$12605,  Input!$F$9460:$F$12605,Summering!B526))","v":0}]
[null,{"$f":"IF(Biomasser!A32=\"\",\"\", Biomasser!A32)","v":" -             Forsuret svinegylle"},{"$f":"IF(B527=\"\",0,SUMIFS(Input!$H$9460:$H$12605,  Input!$F$9460:$F$12605,Summering!B527))","v":0}]
[null,{"$f":"IF(Biomasser!A33=\"\",\"\", Biomasser!A33)","v":" -             Dybstrøelse - Svin"},{"$f":"IF(B528=\"\",0,SUMIFS(Input!$H$9460:$H$12605,  Input!$F$9460:$F$12605,Summering!B528))","v":0}]
[null,{"$f":"IF(Biomasser!A34=\"\",\"\", Biomasser!A34)","v":" -             Gylle fibre - kemisk separation - Svin"},{"$f":"IF(B529=\"\",0,SUMIFS(Input!$H$9460:$H$12605,  Input!$F$9460:$F$12605,Summering!B529))","v":0}]
[null,{"$f":"IF(Biomasser!A35=\"\",\"\", Biomasser!A35)","v":" -             Gylle fibre - dekanter separation - Svin"},{"$f":"IF(B530=\"\",0,SUMIFS(Input!$H$9460:$H$12605,  Input!$F$9460:$F$12605,Summering!B530))","v":0}]
[null,{"$f":"IF(Biomasser!A36=\"\",\"\", Biomasser!A36)","v":" -             Staldgødning - Kvæg"},{"$f":"IF(B531=\"\",0,SUMIFS(Input!$H$9460:$H$12605,  Input!$F$9460:$F$12605,Summering!B531))","v":0}]
[null,{"$f":"IF(Biomasser!A37=\"\",\"\", Biomasser!A37)","v":" -             Kvæggylle - Årsopdræt 6 mdr."},{"$f":"IF(B532=\"\",0,SUMIFS(Input!$H$9460:$H$12605,  Input!$F$9460:$F$12605,Summering!B532))","v":0}]
[null,{"$f":"IF(Biomasser!A38=\"\",\"\", Biomasser!A38)","v":" -             Staldgødning - Fjerkræ"},{"$f":"IF(B533=\"\",0,SUMIFS(Input!$H$9460:$H$12605,  Input!$F$9460:$F$12605,Summering!B533))","v":0}]
[null,{"$f":"IF(Biomasser!A39=\"\",\"\", Biomasser!A39)","v":"Slam og spildevand (Overskrift, kan ikke vælges)"},{"$f":"IF(B534=\"\",0,SUMIFS(Input!$H$9460:$H$12605,  Input!$F$9460:$F$12605,Summering!B534))","v":0}]
[null,{"$f":"IF(Biomasser!A40=\"\",\"\", Biomasser!A40)","v":" -             Slam og spildevand samt uforurenede produktrester"},{"$f":"IF(B535=\"\",0,SUMIFS(Input!$H$9460:$H$12605,  Input!$F$9460:$F$12605,Summering!B535))","v":0}]
[null,{"$f":"IF(Biomasser!A41=\"\",\"\", Biomasser!A41)","v":" -             Slam fra dambrug"},{"$f":"IF(B536=\"\",0,SUMIFS(Input!$H$9460:$H$12605,  Input!$F$9460:$F$12605,Summering!B536))","v":0}]
[null,{"$f":"IF(Biomasser!A42=\"\",\"\", Biomasser!A42)","v":" -             Slam fra forarbejdning af animalske råvarer"},{"$f":"IF(B537=\"\",0,SUMIFS(Input!$H$9460:$H$12605,  Input!$F$9460:$F$12605,Summering!B537))","v":0}]
[null,{"$f":"IF(Biomasser!A43=\"\",\"\", Biomasser!A43)","v":" -             Spildevandsslam"},{"$f":"IF(B538=\"\",0,SUMIFS(Input!$H$9460:$H$12605,  Input!$F$9460:$F$12605,Summering!B538))","v":0}]
[null,{"$f":"IF(Biomasser!A44=\"\",\"\", Biomasser!A44)","v":" -             Proteolyseret processpildevand"},{"$f":"IF(B539=\"\",0,SUMIFS(Input!$H$9460:$H$12605,  Input!$F$9460:$F$12605,Summering!B539))","v":0}]
[null,{"$f":"IF(Biomasser!A45=\"\",\"\", Biomasser!A45)","v":" -             Sekundær spildevandsslam"},{"$f":"IF(B540=\"\",0,SUMIFS(Input!$H$9460:$H$12605,  Input!$F$9460:$F$12605,Summering!B540))","v":0}]
[null,{"$f":"IF(Biomasser!A46=\"\",\"\", Biomasser!A46)","v":" -             Sekundær spildevandsslam afvandet"},{"$f":"IF(B541=\"\",0,SUMIFS(Input!$H$9460:$H$12605,  Input!$F$9460:$F$12605,Summering!B541))","v":0}]
[null,{"$f":"IF(Biomasser!A47=\"\",\"\", Biomasser!A47)","v":"Organisk affald fra husholdninger og erhverv (Overskrift, kan ikke vælges)"},{"$f":"IF(B542=\"\",0,SUMIFS(Input!$H$9460:$H$12605,  Input!$F$9460:$F$12605,Summering!B542))","v":0}]
[null,{"$f":"IF(Biomasser!A48=\"\",\"\", Biomasser!A48)","v":" -             Kildesorteret organisk dagrenovation"},{"$f":"IF(B543=\"\",0,SUMIFS(Input!$H$9460:$H$12605,  Input!$F$9460:$F$12605,Summering!B543))","v":0}]
[null,{"$f":"IF(Biomasser!A49=\"\",\"\", Biomasser!A49)","v":" -             Organisk husholdningsaffald - Renescience"},{"$f":"IF(B544=\"\",0,SUMIFS(Input!$H$9460:$H$12605,  Input!$F$9460:$F$12605,Summering!B544))","v":0}]
[null,{"$f":"IF(Biomasser!A50=\"\",\"\", Biomasser!A50)","v":" -             Organisk husholdningsaffald - Pulper"},{"$f":"IF(B545=\"\",0,SUMIFS(Input!$H$9460:$H$12605,  Input!$F$9460:$F$12605,Summering!B545))","v":0}]
[null,{"$f":"IF(Biomasser!A51=\"\",\"\", Biomasser!A51)","v":" -             Organisk husholdningsaffald - Rullesigte"},{"$f":"IF(B546=\"\",0,SUMIFS(Input!$H$9460:$H$12605,  Input!$F$9460:$F$12605,Summering!B546))","v":0}]
[null,{"$f":"IF(Biomasser!A52=\"\",\"\", Biomasser!A52)","v":" -             Organisk husholdningsaffald - Skruepresse"},{"$f":"IF(B547=\"\",0,SUMIFS(Input!$H$9460:$H$12605,  Input!$F$9460:$F$12605,Summering!B547))","v":0}]
[null,{"$f":"IF(Biomasser!A53=\"\",\"\", Biomasser!A53)","v":" -             Organisk husholdningsaffald - Neddeling"},{"$f":"IF(B548=\"\",0,SUMIFS(Input!$H$9460:$H$12605,  Input!$F$9460:$F$12605,Summering!B548))","v":0}]
[null,{"$f":"IF(Biomasser!A54=\"\",\"\", Biomasser!A54)","v":" -             Organisk affald fra erhverv"},{"$f":"IF(B549=\"\",0,SUMIFS(Input!$H$9460:$H$12605,  Input!$F$9460:$F$12605,Summering!B549))","v":0}]
[null,{"$f":"IF(Biomasser!A55=\"\",\"\", Biomasser!A55)","v":"Rester og biprodukter fra planter og afgrøder (Overskrift, kan ikke vælges)"},{"$f":"IF(B550=\"\",0,SUMIFS(Input!$H$9460:$H$12605,  Input!$F$9460:$F$12605,Summering!B550))","v":0}]
[null,{"$f":"IF(Biomasser!A56=\"\",\"\", Biomasser!A56)","v":" -             Cellulose"},{"$f":"IF(B551=\"\",0,SUMIFS(Input!$H$9460:$H$12605,  Input!$F$9460:$F$12605,Summering!B551))","v":0}]
[null,{"$f":"IF(Biomasser!A57=\"\",\"\", Biomasser!A57)","v":" -             Naturpleje biomasse"},{"$f":"IF(B552=\"\",0,SUMIFS(Input!$H$9460:$H$12605,  Input!$F$9460:$F$12605,Summering!B552))","v":0}]
[null,{"$f":"IF(Biomasser!A58=\"\",\"\", Biomasser!A58)","v":" -             Halm"},{"$f":"IF(B553=\"\",0,SUMIFS(Input!$H$9460:$H$12605,  Input!$F$9460:$F$12605,Summering!B553))","v":0}]
[null,{"$f":"IF(Biomasser!A59=\"\",\"\", Biomasser!A59)","v":" -             Have-park affald"},{"$f":"IF(B554=\"\",0,SUMIFS(Input!$H$9460:$H$12605,  Input!$F$9460:$F$12605,Summering!B554))","v":0}]
[null,{"$f":"IF(Biomasser!A60=\"\",\"\", Biomasser!A60)","v":" -             Andre restprodukter fra produktion af primærafgrøder"},{"$f":"IF(B555=\"\",0,SUMIFS(Input!$H$9460:$H$12605,  Input!$F$9460:$F$12605,Summering!B555))","v":0}]
[null,{"$f":"IF(Biomasser!A61=\"\",\"\", Biomasser!A61)","v":" -             Kasserede afgrøder"},{"$f":"IF(B556=\"\",0,SUMIFS(Input!$H$9460:$H$12605,  Input!$F$9460:$F$12605,Summering!B556))","v":0}]
[null,{"$f":"IF(Biomasser!A62=\"\",\"\", Biomasser!A62)","v":"Rester og biprodukter fra levnesmiddel- og dyrefoderindustrien  (Overskrift, kan ikke vælges)"},{"$f":"IF(B557=\"\",0,SUMIFS(Input!$H$9460:$H$12605,  Input!$F$9460:$F$12605,Summering!B557))","v":0}]
[null,{"$f":"IF(Biomasser!A63=\"\",\"\", Biomasser!A63)","v":" -             Animalske biprodukter"},{"$f":"IF(B558=\"\",0,SUMIFS(Input!$H$9460:$H$12605,  Input!$F$9460:$F$12605,Summering!B558))","v":0}]
[null,{"$f":"IF(Biomasser!A64=\"\",\"\", Biomasser!A64)","v":" -             Mave/tarm kvæg"},{"$f":"IF(B559=\"\",0,SUMIFS(Input!$H$9460:$H$12605,  Input!$F$9460:$F$12605,Summering!B559))","v":0}]
[null,{"$f":"IF(Biomasser!A65=\"\",\"\", Biomasser!A65)","v":" -             Mave/tarm svin"},{"$f":"IF(B560=\"\",0,SUMIFS(Input!$H$9460:$H$12605,  Input!$F$9460:$F$12605,Summering!B560))","v":0}]
[null,{"$f":"IF(Biomasser!A66=\"\",\"\", Biomasser!A66)","v":" -             Valle"},{"$f":"IF(B561=\"\",0,SUMIFS(Input!$H$9460:$H$12605,  Input!$F$9460:$F$12605,Summering!B561))","v":0}]
[null,{"$f":"IF(Biomasser!A67=\"\",\"\", Biomasser!A67)","v":" -             Valle koncentrat"},{"$f":"IF(B562=\"\",0,SUMIFS(Input!$H$9460:$H$12605,  Input!$F$9460:$F$12605,Summering!B562))","v":0}]
[null,{"$f":"IF(Biomasser!A68=\"\",\"\", Biomasser!A68)","v":" -             Protein"},{"$f":"IF(B563=\"\",0,SUMIFS(Input!$H$9460:$H$12605,  Input!$F$9460:$F$12605,Summering!B563))","v":0}]
[null,{"$f":"IF(Biomasser!A69=\"\",\"\", Biomasser!A69)","v":" -             Fedt"},{"$f":"IF(B564=\"\",0,SUMIFS(Input!$H$9460:$H$12605,  Input!$F$9460:$F$12605,Summering!B564))","v":0}]
[null,{"$f":"IF(Biomasser!A70=\"\",\"\", Biomasser!A70)","v":" -             Vinasse (2,2 pct. kvælstof)"},{"$f":"IF(B565=\"\",0,SUMIFS(Input!$H$9460:$H$12605,  Input!$F$9460:$F$12605,Summering!B565))","v":0}]
[null,{"$f":"IF(Biomasser!A71=\"\",\"\", Biomasser!A71)","v":" -             Vinasse (3,5 pct. kvælstof)"},{"$f":"IF(B566=\"\",0,SUMIFS(Input!$H$9460:$H$12605,  Input!$F$9460:$F$12605,Summering!B566))","v":0}]
[null,{"$f":"IF(Biomasser!A72=\"\",\"\", Biomasser!A72)","v":" -             Kartoffelfrugtsaft"},{"$f":"IF(B567=\"\",0,SUMIFS(Input!$H$9460:$H$12605,  Input!$F$9460:$F$12605,Summering!B567))","v":0}]
[null,{"$f":"IF(Biomasser!A73=\"\",\"\", Biomasser!A73)","v":" -             Glukose"},{"$f":"IF(B568=\"\",0,SUMIFS(Input!$H$9460:$H$12605,  Input!$F$9460:$F$12605,Summering!B568))","v":0}]
[null,{"$f":"IF(Biomasser!A74=\"\",\"\", Biomasser!A74)","v":" -             Alkohol"},{"$f":"IF(B569=\"\",0,SUMIFS(Input!$H$9460:$H$12605,  Input!$F$9460:$F$12605,Summering!B569))","v":0}]
[null,{"$f":"IF(Biomasser!A75=\"\",\"\", Biomasser!A75)","v":" -             Pressesaft fra grøntpilleproduktion"},{"$f":"IF(B570=\"\",0,SUMIFS(Input!$H$9460:$H$12605,  Input!$F$9460:$F$12605,Summering!B570))","v":0}]
[null,{"$f":"IF(Biomasser!A76=\"\",\"\", Biomasser!A76)","v":" -             Inaktiveret og kalkstabiliseret biomasse"},{"$f":"IF(B571=\"\",0,SUMIFS(Input!$H$9460:$H$12605,  Input!$F$9460:$F$12605,Summering!B571))","v":0}]
[null,{"$f":"IF(Biomasser!A77=\"\",\"\", Biomasser!A77)","v":"Anden biomasse (Overskrift)"},{"$f":"IF(B572=\"\",0,SUMIFS(Input!$H$9460:$H$12605,  Input!$F$9460:$F$12605,Summering!B572))","v":0}]
[null,{"$f":"IF(Biomasser!A78=\"\",\"\", Biomasser!A78)","v":" -             Råglycerin"},{"$f":"IF(B573=\"\",0,SUMIFS(Input!$H$9460:$H$12605,  Input!$F$9460:$F$12605,Summering!B573))","v":0}]
[null,{"$f":"IF(Biomasser!A79=\"\",\"\", Biomasser!A79)","v":""},{"$f":"IF(B574=\"\",0,SUMIFS(Input!$H$9460:$H$12605,  Input!$F$9460:$F$12605,Summering!B574))","v":0}]
[null,{"$f":"IF(Biomasser!A80=\"\",\"\", Biomasser!A80)","v":""},{"$f":"IF(B575=\"\",0,SUMIFS(Input!$H$9460:$H$12605,  Input!$F$9460:$F$12605,Summering!B575))","v":0}]
[null,{"$f":"IF(Biomasser!A81=\"\",\"\", Biomasser!A81)","v":""},{"$f":"IF(B576=\"\",0,SUMIFS(Input!$H$9460:$H$12605,  Input!$F$9460:$F$12605,Summering!B576))","v":0}]
[null,{"$f":"IF(Biomasser!A82=\"\",\"\", Biomasser!A82)","v":""},{"$f":"IF(B577=\"\",0,SUMIFS(Input!$H$9460:$H$12605,  Input!$F$9460:$F$12605,Summering!B577))","v":0}]
[null,{"$f":"IF(Biomasser!A83=\"\",\"\", Biomasser!A83)","v":""},{"$f":"IF(B578=\"\",0,SUMIFS(Input!$H$9460:$H$12605,  Input!$F$9460:$F$12605,Summering!B578))","v":0}]
[null,{"$f":"IF(Biomasser!A84=\"\",\"\", Biomasser!A84)","v":""},{"$f":"IF(B579=\"\",0,SUMIFS(Input!$H$9460:$H$12605,  Input!$F$9460:$F$12605,Summering!B579))","v":0}]
[null,{"$f":"IF(Biomasser!A85=\"\",\"\", Biomasser!A85)","v":""},{"$f":"IF(B580=\"\",0,SUMIFS(Input!$H$9460:$H$12605,  Input!$F$9460:$F$12605,Summering!B580))","v":0}]
[null,{"$f":"IF(Biomasser!A86=\"\",\"\", Biomasser!A86)","v":""},{"$f":"IF(B581=\"\",0,SUMIFS(Input!$H$9460:$H$12605,  Input!$F$9460:$F$12605,Summering!B581))","v":0}]
[null,{"$f":"IF(Biomasser!A87=\"\",\"\", Biomasser!A87)","v":""},{"$f":"IF(B582=\"\",0,SUMIFS(Input!$H$9460:$H$12605,  Input!$F$9460:$F$12605,Summering!B582))","v":0}]
[null,{"$f":"IF(Biomasser!A88=\"\",\"\", Biomasser!A88)","v":""},{"$f":"IF(B583=\"\",0,SUMIFS(Input!$H$9460:$H$12605,  Input!$F$9460:$F$12605,Summering!B583))","v":0}]
[null,{"$f":"IF(Biomasser!A89=\"\",\"\", Biomasser!A89)","v":""},{"$f":"IF(B584=\"\",0,SUMIFS(Input!$H$9460:$H$12605,  Input!$F$9460:$F$12605,Summering!B584))","v":0}]
[null,{"$f":"IF(Biomasser!A90=\"\",\"\", Biomasser!A90)","v":""},{"$f":"IF(B585=\"\",0,SUMIFS(Input!$H$9460:$H$12605,  Input!$F$9460:$F$12605,Summering!B585))","v":0}]
[null,{"$f":"IF(Biomasser!A91=\"\",\"\", Biomasser!A91)","v":""},{"$f":"IF(B586=\"\",0,SUMIFS(Input!$H$9460:$H$12605,  Input!$F$9460:$F$12605,Summering!B586))","v":0}]
[null,{"$f":"IF(Biomasser!A92=\"\",\"\", Biomasser!A92)","v":""},{"$f":"IF(B587=\"\",0,SUMIFS(Input!$H$9460:$H$12605,  Input!$F$9460:$F$12605,Summering!B587))","v":0}]
[null,{"$f":"IF(Biomasser!A93=\"\",\"\", Biomasser!A93)","v":""},{"$f":"IF(B588=\"\",0,SUMIFS(Input!$H$9460:$H$12605,  Input!$F$9460:$F$12605,Summering!B588))","v":0}]
[null,{"$f":"IF(Biomasser!A94=\"\",\"\", Biomasser!A94)","v":""},{"$f":"IF(B589=\"\",0,SUMIFS(Input!$H$9460:$H$12605,  Input!$F$9460:$F$12605,Summering!B589))","v":0}]
[null,{"$f":"IF(Biomasser!A95=\"\",\"\", Biomasser!A95)","v":""},{"$f":"IF(B590=\"\",0,SUMIFS(Input!$H$9460:$H$12605,  Input!$F$9460:$F$12605,Summering!B590))","v":0}]
[null,{"$f":"IF(Biomasser!A96=\"\",\"\", Biomasser!A96)","v":""},{"$f":"IF(B591=\"\",0,SUMIFS(Input!$H$9460:$H$12605,  Input!$F$9460:$F$12605,Summering!B591))","v":0}]
[null,{"$f":"IF(Biomasser!A97=\"\",\"\", Biomasser!A97)","v":""},{"$f":"IF(B592=\"\",0,SUMIFS(Input!$H$9460:$H$12605,  Input!$F$9460:$F$12605,Summering!B592))","v":0}]
[null,{"$f":"IF(Biomasser!A98=\"\",\"\", Biomasser!A98)","v":""},{"$f":"IF(B593=\"\",0,SUMIFS(Input!$H$9460:$H$12605,  Input!$F$9460:$F$12605,Summering!B593))","v":0}]
[null,{"$f":"IF(Biomasser!A99=\"\",\"\", Biomasser!A99)","v":""},{"$f":"IF(B594=\"\",0,SUMIFS(Input!$H$9460:$H$12605,  Input!$F$9460:$F$12605,Summering!B594))","v":0}]
[null,{"$f":"IF(Biomasser!A100=\"\",\"\", Biomasser!A100)","v":""},{"$f":"IF(B595=\"\",0,SUMIFS(Input!$H$9460:$H$12605,  Input!$F$9460:$F$12605,Summering!B595))","v":0}]
[null,{"$f":"IF(Biomasser!A101=\"\",\"\", Biomasser!A101)","v":""},{"$f":"IF(B596=\"\",0,SUMIFS(Input!$H$9460:$H$12605,  Input!$F$9460:$F$12605,Summering!B596))","v":0}]
[null,{"$f":"IF(Biomasser!A102=\"\",\"\", Biomasser!A102)","v":""},{"$f":"IF(B597=\"\",0,SUMIFS(Input!$H$9460:$H$12605,  Input!$F$9460:$F$12605,Summering!B597))","v":0}]
[null,{"$f":"IF(Biomasser!A103=\"\",\"\", Biomasser!A103)","v":""},{"$f":"IF(B598=\"\",0,SUMIFS(Input!$H$9460:$H$12605,  Input!$F$9460:$F$12605,Summering!B598))","v":0}]
[null,{"$f":"IF(Biomasser!A104=\"\",\"\", Biomasser!A104)","v":""},{"$f":"IF(B599=\"\",0,SUMIFS(Input!$H$9460:$H$12605,  Input!$F$9460:$F$12605,Summering!B599))","v":0}]
[null,{"$f":"IF(Biomasser!A105=\"\",\"\", Biomasser!A105)","v":""},{"$f":"IF(B600=\"\",0,SUMIFS(Input!$H$9460:$H$12605,  Input!$F$9460:$F$12605,Summering!B600))","v":0}]
[null,{"$f":"IF(Biomasser!A106=\"\",\"\", Biomasser!A106)","v":""},{"$f":"IF(B601=\"\",0,SUMIFS(Input!$H$9460:$H$12605,  Input!$F$9460:$F$12605,Summering!B601))","v":0}]
[null,{"$f":"IF(Biomasser!A107=\"\",\"\", Biomasser!A107)","v":""},{"$f":"IF(B602=\"\",0,SUMIFS(Input!$H$9460:$H$12605,  Input!$F$9460:$F$12605,Summering!B602))","v":0}]
[null,{"$f":"IF(Biomasser!A108=\"\",\"\", Biomasser!A108)","v":""},{"$f":"IF(B603=\"\",0,SUMIFS(Input!$H$9460:$H$12605,  Input!$F$9460:$F$12605,Summering!B603))","v":0}]
[null,{"$f":"IF(Biomasser!A109=\"\",\"\", Biomasser!A109)","v":""},{"$f":"IF(B604=\"\",0,SUMIFS(Input!$H$9460:$H$12605,  Input!$F$9460:$F$12605,Summering!B604))","v":0}]
[null,{"$f":"IF(Biomasser!A110=\"\",\"\", Biomasser!A110)","v":""},{"$f":"IF(B605=\"\",0,SUMIFS(Input!$H$9460:$H$12605,  Input!$F$9460:$F$12605,Summering!B605))","v":0}]
[null,{"$f":"IF(Biomasser!A111=\"\",\"\", Biomasser!A111)","v":""},{"$f":"IF(B606=\"\",0,SUMIFS(Input!$H$9460:$H$12605,  Input!$F$9460:$F$12605,Summering!B606))","v":0}]
[null,{"$f":"IF(Biomasser!A112=\"\",\"\", Biomasser!A112)","v":""},{"$f":"IF(B607=\"\",0,SUMIFS(Input!$H$9460:$H$12605,  Input!$F$9460:$F$12605,Summering!B607))","v":0}]
[null,{"$f":"IF(Biomasser!A113=\"\",\"\", Biomasser!A113)","v":""},{"$f":"IF(B608=\"\",0,SUMIFS(Input!$H$9460:$H$12605,  Input!$F$9460:$F$12605,Summering!B608))","v":0}]
[null,{"$f":"IF(Biomasser!A114=\"\",\"\", Biomasser!A114)","v":""},{"$f":"IF(B609=\"\",0,SUMIFS(Input!$H$9460:$H$12605,  Input!$F$9460:$F$12605,Summering!B609))","v":0}]
[null,{"$f":"IF(Biomasser!A115=\"\",\"\", Biomasser!A115)","v":""},{"$f":"IF(B610=\"\",0,SUMIFS(Input!$H$9460:$H$12605,  Input!$F$9460:$F$12605,Summering!B610))","v":0}]
[null,{"$f":"IF(Biomasser!A116=\"\",\"\", Biomasser!A116)","v":""},{"$f":"IF(B611=\"\",0,SUMIFS(Input!$H$9460:$H$12605,  Input!$F$9460:$F$12605,Summering!B611))","v":0}]
[null,{"$f":"IF(Biomasser!A117=\"\",\"\", Biomasser!A117)","v":""},{"$f":"IF(B612=\"\",0,SUMIFS(Input!$H$9460:$H$12605,  Input!$F$9460:$F$12605,Summering!B612))","v":0}]
[null,{"$f":"IF(Biomasser!A118=\"\",\"\", Biomasser!A118)","v":""},{"$f":"IF(B613=\"\",0,SUMIFS(Input!$H$9460:$H$12605,  Input!$F$9460:$F$12605,Summering!B613))","v":0}]
[null,{"$f":"IF(Biomasser!A119=\"\",\"\", Biomasser!A119)","v":""},{"$f":"IF(B614=\"\",0,SUMIFS(Input!$H$9460:$H$12605,  Input!$F$9460:$F$12605,Summering!B614))","v":0}]
[null,{"$f":"IF(Biomasser!A120=\"\",\"\", Biomasser!A120)","v":""},{"$f":"IF(B615=\"\",0,SUMIFS(Input!$H$9460:$H$12605,  Input!$F$9460:$F$12605,Summering!B615))","v":0}]
[null,{"$f":"IF(Biomasser!A121=\"\",\"\", Biomasser!A121)","v":""},{"$f":"IF(B616=\"\",0,SUMIFS(Input!$H$9460:$H$12605,  Input!$F$9460:$F$12605,Summering!B616))","v":0}]
[null,{"$f":"IF(Biomasser!A122=\"\",\"\", Biomasser!A122)","v":""},{"$f":"IF(B617=\"\",0,SUMIFS(Input!$H$9460:$H$12605,  Input!$F$9460:$F$12605,Summering!B617))","v":0}]
[null,{"$f":"IF(Biomasser!A123=\"\",\"\", Biomasser!A123)","v":""},{"$f":"IF(B618=\"\",0,SUMIFS(Input!$H$9460:$H$12605,  Input!$F$9460:$F$12605,Summering!B618))","v":0}]
[null,{"$f":"IF(Biomasser!A124=\"\",\"\", Biomasser!A124)","v":""},{"$f":"IF(B619=\"\",0,SUMIFS(Input!$H$9460:$H$12605,  Input!$F$9460:$F$12605,Summering!B619))","v":0}]
[null,"Maj",{"$f":"SUM(C621:C742)","v":0},{"$f":"SUMIFS(Input!$H$10:$H$76760,Input!$A$10:$A$76760,\"Gas\",Input!$C$10:$C$76760,Summering!$B$5,Input!$B$10:$B$76760,\"*\"&B620&\"*\")","v":0}]
[null,{"$f":"IF(Biomasser!A3=\"\",\"\", Biomasser!A3)","v":"Afgrøder (Overskrift, kan ikke vælges)"},{"$f":"IF(B621=\"\",0,SUMIFS(Input!$H$12610:$H$15860,  Input!$F$12610:$F$15860,Summering!B621))","v":0}]
[null,{"$f":"IF(Biomasser!A4=\"\",\"\", Biomasser!A4)","v":" -             Majs"},{"$f":"IF(B622=\"\",0,SUMIFS(Input!$H$12610:$H$15860,  Input!$F$12610:$F$15860,Summering!B622))","v":0}]
[null,{"$f":"IF(Biomasser!A5=\"\",\"\", Biomasser!A5)","v":" -             Roer"},{"$f":"IF(B623=\"\",0,SUMIFS(Input!$H$12610:$H$15860,  Input!$F$12610:$F$15860,Summering!B623))","v":0}]
[null,{"$f":"IF(Biomasser!A6=\"\",\"\", Biomasser!A6)","v":" -             Korn"},{"$f":"IF(B624=\"\",0,SUMIFS(Input!$H$12610:$H$15860,  Input!$F$12610:$F$15860,Summering!B624))","v":0}]
[null,{"$f":"IF(Biomasser!A7=\"\",\"\", Biomasser!A7)","v":" -             Græs"},{"$f":"IF(B625=\"\",0,SUMIFS(Input!$H$12610:$H$15860,  Input!$F$12610:$F$15860,Summering!B625))","v":0}]
[null,{"$f":"IF(Biomasser!A8=\"\",\"\", Biomasser!A8)","v":" -             Kløvergræs"},{"$f":"IF(B626=\"\",0,SUMIFS(Input!$H$12610:$H$15860,  Input!$F$12610:$F$15860,Summering!B626))","v":0}]
[null,{"$f":"IF(Biomasser!A9=\"\",\"\", Biomasser!A9)","v":" -             Jordskokker"},{"$f":"IF(B627=\"\",0,SUMIFS(Input!$H$12610:$H$15860,  Input!$F$12610:$F$15860,Summering!B627))","v":0}]
[null,{"$f":"IF(Biomasser!A10=\"\",\"\", Biomasser!A10)","v":" -             Andre afgrøder"},{"$f":"IF(B628=\"\",0,SUMIFS(Input!$H$12610:$H$15860,  Input!$F$12610:$F$15860,Summering!B628))","v":0}]
[null,{"$f":"IF(Biomasser!A11=\"\",\"\", Biomasser!A11)","v":" -             Hvedehelsæd"},{"$f":"IF(B629=\"\",0,SUMIFS(Input!$H$12610:$H$15860,  Input!$F$12610:$F$15860,Summering!B629))","v":0}]
[null,{"$f":"IF(Biomasser!A12=\"\",\"\", Biomasser!A12)","v":" -             Top af foderroe"},{"$f":"IF(B630=\"\",0,SUMIFS(Input!$H$12610:$H$15860,  Input!$F$12610:$F$15860,Summering!B630))","v":0}]
[null,{"$f":"IF(Biomasser!A13=\"\",\"\", Biomasser!A13)","v":" -             Foderroe - rod og top frisk"},{"$f":"IF(B631=\"\",0,SUMIFS(Input!$H$12610:$H$15860,  Input!$F$12610:$F$15860,Summering!B631))","v":0}]
[null,{"$f":"IF(Biomasser!A14=\"\",\"\", Biomasser!A14)","v":" -             Økologisk kløvergræs"},{"$f":"IF(B632=\"\",0,SUMIFS(Input!$H$12610:$H$15860,  Input!$F$12610:$F$15860,Summering!B632))","v":0}]
[null,{"$f":"IF(Biomasser!A15=\"\",\"\", Biomasser!A15)","v":"Husdyrgødning (Overskrift, kan ikke vælges)"},{"$f":"IF(B633=\"\",0,SUMIFS(Input!$H$12610:$H$15860,  Input!$F$12610:$F$15860,Summering!B633))","v":0}]
[null,{"$f":"IF(Biomasser!A16=\"\",\"\", Biomasser!A16)","v":" -             Kvæggylle"},{"$f":"IF(B634=\"\",0,SUMIFS(Input!$H$12610:$H$15860,  Input!$F$12610:$F$15860,Summering!B634))","v":0}]
[null,{"$f":"IF(Biomasser!A17=\"\",\"\", Biomasser!A17)","v":" -             Svinegylle"},{"$f":"IF(B635=\"\",0,SUMIFS(Input!$H$12610:$H$15860,  Input!$F$12610:$F$15860,Summering!B635))","v":0}]
[null,{"$f":"IF(Biomasser!A18=\"\",\"\", Biomasser!A18)","v":" -             Gylle fra so"},{"$f":"IF(B636=\"\",0,SUMIFS(Input!$H$12610:$H$15860,  Input!$F$12610:$F$15860,Summering!B636))","v":0}]
[null,{"$f":"IF(Biomasser!A19=\"\",\"\", Biomasser!A19)","v":" -             Minkgylle"},{"$f":"IF(B637=\"\",0,SUMIFS(Input!$H$12610:$H$15860,  Input!$F$12610:$F$15860,Summering!B637))","v":0}]
[null,{"$f":"IF(Biomasser!A20=\"\",\"\", Biomasser!A20)","v":" -             Fjerkrægylle"},{"$f":"IF(B638=\"\",0,SUMIFS(Input!$H$12610:$H$15860,  Input!$F$12610:$F$15860,Summering!B638))","v":0}]
[null,{"$f":"IF(Biomasser!A21=\"\",\"\", Biomasser!A21)","v":" -             Blandet gylle"},{"$f":"IF(B639=\"\",0,SUMIFS(Input!$H$12610:$H$15860,  Input!$F$12610:$F$15860,Summering!B639))","v":0}]
[null,{"$f":"IF(Biomasser!A22=\"\",\"\", Biomasser!A22)","v":" -             Dybstrøelse - Kvæg"},{"$f":"IF(B640=\"\",0,SUMIFS(Input!$H$12610:$H$15860,  Input!$F$12610:$F$15860,Summering!B640))","v":0}]
[null,{"$f":"IF(Biomasser!A23=\"\",\"\", Biomasser!A23)","v":" -             Dybstrøelse - Fjerkræ"},{"$f":"IF(B641=\"\",0,SUMIFS(Input!$H$12610:$H$15860,  Input!$F$12610:$F$15860,Summering!B641))","v":0}]
[null,{"$f":"IF(Biomasser!A24=\"\",\"\", Biomasser!A24)","v":" -             Dybstrøelse - Hest"},{"$f":"IF(B642=\"\",0,SUMIFS(Input!$H$12610:$H$15860,  Input!$F$12610:$F$15860,Summering!B642))","v":0}]
[null,{"$f":"IF(Biomasser!A25=\"\",\"\", Biomasser!A25)","v":" -             Dybstrøelse - Andre typer"},{"$f":"IF(B643=\"\",0,SUMIFS(Input!$H$12610:$H$15860,  Input!$F$12610:$F$15860,Summering!B643))","v":0}]
[null,{"$f":"IF(Biomasser!A26=\"\",\"\", Biomasser!A26)","v":" -             Fast gødning"},{"$f":"IF(B644=\"\",0,SUMIFS(Input!$H$12610:$H$15860,  Input!$F$12610:$F$15860,Summering!B644))","v":0}]
[null,{"$f":"IF(Biomasser!A27=\"\",\"\", Biomasser!A27)","v":" -             Ajle"},{"$f":"IF(B645=\"\",0,SUMIFS(Input!$H$12610:$H$15860,  Input!$F$12610:$F$15860,Summering!B645))","v":0}]
[null,{"$f":"IF(Biomasser!A28=\"\",\"\", Biomasser!A28)","v":" -             Fiberfraktion"},{"$f":"IF(B646=\"\",0,SUMIFS(Input!$H$12610:$H$15860,  Input!$F$12610:$F$15860,Summering!B646))","v":0}]
[null,{"$f":"IF(Biomasser!A29=\"\",\"\", Biomasser!A29)","v":" -             Flydende fraktion fra separationsanlæg"},{"$f":"IF(B647=\"\",0,SUMIFS(Input!$H$12610:$H$15860,  Input!$F$12610:$F$15860,Summering!B647))","v":0}]
[null,{"$f":"IF(Biomasser!A30=\"\",\"\", Biomasser!A30)","v":" -             Flydende fraktion"},{"$f":"IF(B648=\"\",0,SUMIFS(Input!$H$12610:$H$15860,  Input!$F$12610:$F$15860,Summering!B648))","v":0}]
[null,{"$f":"IF(Biomasser!A31=\"\",\"\", Biomasser!A31)","v":" -             Anden husdyrgødning"},{"$f":"IF(B649=\"\",0,SUMIFS(Input!$H$12610:$H$15860,  Input!$F$12610:$F$15860,Summering!B649))","v":0}]
[null,{"$f":"IF(Biomasser!A32=\"\",\"\", Biomasser!A32)","v":" -             Forsuret svinegylle"},{"$f":"IF(B650=\"\",0,SUMIFS(Input!$H$12610:$H$15860,  Input!$F$12610:$F$15860,Summering!B650))","v":0}]
[null,{"$f":"IF(Biomasser!A33=\"\",\"\", Biomasser!A33)","v":" -             Dybstrøelse - Svin"},{"$f":"IF(B651=\"\",0,SUMIFS(Input!$H$12610:$H$15860,  Input!$F$12610:$F$15860,Summering!B651))","v":0}]
[null,{"$f":"IF(Biomasser!A34=\"\",\"\", Biomasser!A34)","v":" -             Gylle fibre - kemisk separation - Svin"},{"$f":"IF(B652=\"\",0,SUMIFS(Input!$H$12610:$H$15860,  Input!$F$12610:$F$15860,Summering!B652))","v":0}]
[null,{"$f":"IF(Biomasser!A35=\"\",\"\", Biomasser!A35)","v":" -             Gylle fibre - dekanter separation - Svin"},{"$f":"IF(B653=\"\",0,SUMIFS(Input!$H$12610:$H$15860,  Input!$F$12610:$F$15860,Summering!B653))","v":0}]
[null,{"$f":"IF(Biomasser!A36=\"\",\"\", Biomasser!A36)","v":" -             Staldgødning - Kvæg"},{"$f":"IF(B654=\"\",0,SUMIFS(Input!$H$12610:$H$15860,  Input!$F$12610:$F$15860,Summering!B654))","v":0}]
[null,{"$f":"IF(Biomasser!A37=\"\",\"\", Biomasser!A37)","v":" -             Kvæggylle - Årsopdræt 6 mdr."},{"$f":"IF(B655=\"\",0,SUMIFS(Input!$H$12610:$H$15860,  Input!$F$12610:$F$15860,Summering!B655))","v":0}]
[null,{"$f":"IF(Biomasser!A38=\"\",\"\", Biomasser!A38)","v":" -             Staldgødning - Fjerkræ"},{"$f":"IF(B656=\"\",0,SUMIFS(Input!$H$12610:$H$15860,  Input!$F$12610:$F$15860,Summering!B656))","v":0}]
[null,{"$f":"IF(Biomasser!A39=\"\",\"\", Biomasser!A39)","v":"Slam og spildevand (Overskrift, kan ikke vælges)"},{"$f":"IF(B657=\"\",0,SUMIFS(Input!$H$12610:$H$15860,  Input!$F$12610:$F$15860,Summering!B657))","v":0}]
[null,{"$f":"IF(Biomasser!A40=\"\",\"\", Biomasser!A40)","v":" -             Slam og spildevand samt uforurenede produktrester"},{"$f":"IF(B658=\"\",0,SUMIFS(Input!$H$12610:$H$15860,  Input!$F$12610:$F$15860,Summering!B658))","v":0}]
[null,{"$f":"IF(Biomasser!A41=\"\",\"\", Biomasser!A41)","v":" -             Slam fra dambrug"},{"$f":"IF(B659=\"\",0,SUMIFS(Input!$H$12610:$H$15860,  Input!$F$12610:$F$15860,Summering!B659))","v":0}]
[null,{"$f":"IF(Biomasser!A42=\"\",\"\", Biomasser!A42)","v":" -             Slam fra forarbejdning af animalske råvarer"},{"$f":"IF(B660=\"\",0,SUMIFS(Input!$H$12610:$H$15860,  Input!$F$12610:$F$15860,Summering!B660))","v":0}]
[null,{"$f":"IF(Biomasser!A43=\"\",\"\", Biomasser!A43)","v":" -             Spildevandsslam"},{"$f":"IF(B661=\"\",0,SUMIFS(Input!$H$12610:$H$15860,  Input!$F$12610:$F$15860,Summering!B661))","v":0}]
[null,{"$f":"IF(Biomasser!A44=\"\",\"\", Biomasser!A44)","v":" -             Proteolyseret processpildevand"},{"$f":"IF(B662=\"\",0,SUMIFS(Input!$H$12610:$H$15860,  Input!$F$12610:$F$15860,Summering!B662))","v":0}]
[null,{"$f":"IF(Biomasser!A45=\"\",\"\", Biomasser!A45)","v":" -             Sekundær spildevandsslam"},{"$f":"IF(B663=\"\",0,SUMIFS(Input!$H$12610:$H$15860,  Input!$F$12610:$F$15860,Summering!B663))","v":0}]
[null,{"$f":"IF(Biomasser!A46=\"\",\"\", Biomasser!A46)","v":" -             Sekundær spildevandsslam afvandet"},{"$f":"IF(B664=\"\",0,SUMIFS(Input!$H$12610:$H$15860,  Input!$F$12610:$F$15860,Summering!B664))","v":0}]
[null,{"$f":"IF(Biomasser!A47=\"\",\"\", Biomasser!A47)","v":"Organisk affald fra husholdninger og erhverv (Overskrift, kan ikke vælges)"},{"$f":"IF(B665=\"\",0,SUMIFS(Input!$H$12610:$H$15860,  Input!$F$12610:$F$15860,Summering!B665))","v":0}]
[null,{"$f":"IF(Biomasser!A48=\"\",\"\", Biomasser!A48)","v":" -             Kildesorteret organisk dagrenovation"},{"$f":"IF(B666=\"\",0,SUMIFS(Input!$H$12610:$H$15860,  Input!$F$12610:$F$15860,Summering!B666))","v":0}]
[null,{"$f":"IF(Biomasser!A49=\"\",\"\", Biomasser!A49)","v":" -             Organisk husholdningsaffald - Renescience"},{"$f":"IF(B667=\"\",0,SUMIFS(Input!$H$12610:$H$15860,  Input!$F$12610:$F$15860,Summering!B667))","v":0}]
[null,{"$f":"IF(Biomasser!A50=\"\",\"\", Biomasser!A50)","v":" -             Organisk husholdningsaffald - Pulper"},{"$f":"IF(B668=\"\",0,SUMIFS(Input!$H$12610:$H$15860,  Input!$F$12610:$F$15860,Summering!B668))","v":0}]
[null,{"$f":"IF(Biomasser!A51=\"\",\"\", Biomasser!A51)","v":" -             Organisk husholdningsaffald - Rullesigte"},{"$f":"IF(B669=\"\",0,SUMIFS(Input!$H$12610:$H$15860,  Input!$F$12610:$F$15860,Summering!B669))","v":0}]
[null,{"$f":"IF(Biomasser!A52=\"\",\"\", Biomasser!A52)","v":" -             Organisk husholdningsaffald - Skruepresse"},{"$f":"IF(B670=\"\",0,SUMIFS(Input!$H$12610:$H$15860,  Input!$F$12610:$F$15860,Summering!B670))","v":0}]
[null,{"$f":"IF(Biomasser!A53=\"\",\"\", Biomasser!A53)","v":" -             Organisk husholdningsaffald - Neddeling"},{"$f":"IF(B671=\"\",0,SUMIFS(Input!$H$12610:$H$15860,  Input!$F$12610:$F$15860,Summering!B671))","v":0}]
[null,{"$f":"IF(Biomasser!A54=\"\",\"\", Biomasser!A54)","v":" -             Organisk affald fra erhverv"},{"$f":"IF(B672=\"\",0,SUMIFS(Input!$H$12610:$H$15860,  Input!$F$12610:$F$15860,Summering!B672))","v":0}]
[null,{"$f":"IF(Biomasser!A55=\"\",\"\", Biomasser!A55)","v":"Rester og biprodukter fra planter og afgrøder (Overskrift, kan ikke vælges)"},{"$f":"IF(B673=\"\",0,SUMIFS(Input!$H$12610:$H$15860,  Input!$F$12610:$F$15860,Summering!B673))","v":0}]
[null,{"$f":"IF(Biomasser!A56=\"\",\"\", Biomasser!A56)","v":" -             Cellulose"},{"$f":"IF(B674=\"\",0,SUMIFS(Input!$H$12610:$H$15860,  Input!$F$12610:$F$15860,Summering!B674))","v":0}]
[null,{"$f":"IF(Biomasser!A57=\"\",\"\", Biomasser!A57)","v":" -             Naturpleje biomasse"},{"$f":"IF(B675=\"\",0,SUMIFS(Input!$H$12610:$H$15860,  Input!$F$12610:$F$15860,Summering!B675))","v":0}]
[null,{"$f":"IF(Biomasser!A58=\"\",\"\", Biomasser!A58)","v":" -             Halm"},{"$f":"IF(B676=\"\",0,SUMIFS(Input!$H$12610:$H$15860,  Input!$F$12610:$F$15860,Summering!B676))","v":0}]
[null,{"$f":"IF(Biomasser!A59=\"\",\"\", Biomasser!A59)","v":" -             Have-park affald"},{"$f":"IF(B677=\"\",0,SUMIFS(Input!$H$12610:$H$15860,  Input!$F$12610:$F$15860,Summering!B677))","v":0}]
[null,{"$f":"IF(Biomasser!A60=\"\",\"\", Biomasser!A60)","v":" -             Andre restprodukter fra produktion af primærafgrøder"},{"$f":"IF(B678=\"\",0,SUMIFS(Input!$H$12610:$H$15860,  Input!$F$12610:$F$15860,Summering!B678))","v":0}]
[null,{"$f":"IF(Biomasser!A61=\"\",\"\", Biomasser!A61)","v":" -             Kasserede afgrøder"},{"$f":"IF(B679=\"\",0,SUMIFS(Input!$H$12610:$H$15860,  Input!$F$12610:$F$15860,Summering!B679))","v":0}]
[null,{"$f":"IF(Biomasser!A62=\"\",\"\", Biomasser!A62)","v":"Rester og biprodukter fra levnesmiddel- og dyrefoderindustrien  (Overskrift, kan ikke vælges)"},{"$f":"IF(B680=\"\",0,SUMIFS(Input!$H$12610:$H$15860,  Input!$F$12610:$F$15860,Summering!B680))","v":0}]
[null,{"$f":"IF(Biomasser!A63=\"\",\"\", Biomasser!A63)","v":" -             Animalske biprodukter"},{"$f":"IF(B681=\"\",0,SUMIFS(Input!$H$12610:$H$15860,  Input!$F$12610:$F$15860,Summering!B681))","v":0}]
[null,{"$f":"IF(Biomasser!A64=\"\",\"\", Biomasser!A64)","v":" -             Mave/tarm kvæg"},{"$f":"IF(B682=\"\",0,SUMIFS(Input!$H$12610:$H$15860,  Input!$F$12610:$F$15860,Summering!B682))","v":0}]
[null,{"$f":"IF(Biomasser!A65=\"\",\"\", Biomasser!A65)","v":" -             Mave/tarm svin"},{"$f":"IF(B683=\"\",0,SUMIFS(Input!$H$12610:$H$15860,  Input!$F$12610:$F$15860,Summering!B683))","v":0}]
[null,{"$f":"IF(Biomasser!A66=\"\",\"\", Biomasser!A66)","v":" -             Valle"},{"$f":"IF(B684=\"\",0,SUMIFS(Input!$H$12610:$H$15860,  Input!$F$12610:$F$15860,Summering!B684))","v":0}]
[null,{"$f":"IF(Biomasser!A67=\"\",\"\", Biomasser!A67)","v":" -             Valle koncentrat"},{"$f":"IF(B685=\"\",0,SUMIFS(Input!$H$12610:$H$15860,  Input!$F$12610:$F$15860,Summering!B685))","v":0}]
[null,{"$f":"IF(Biomasser!A68=\"\",\"\", Biomasser!A68)","v":" -             Protein"},{"$f":"IF(B686=\"\",0,SUMIFS(Input!$H$12610:$H$15860,  Input!$F$12610:$F$15860,Summering!B686))","v":0}]
[null,{"$f":"IF(Biomasser!A69=\"\",\"\", Biomasser!A69)","v":" -             Fedt"},{"$f":"IF(B687=\"\",0,SUMIFS(Input!$H$12610:$H$15860,  Input!$F$12610:$F$15860,Summering!B687))","v":0}]
[null,{"$f":"IF(Biomasser!A70=\"\",\"\", Biomasser!A70)","v":" -             Vinasse (2,2 pct. kvælstof)"},{"$f":"IF(B688=\"\",0,SUMIFS(Input!$H$12610:$H$15860,  Input!$F$12610:$F$15860,Summering!B688))","v":0}]
[null,{"$f":"IF(Biomasser!A71=\"\",\"\", Biomasser!A71)","v":" -             Vinasse (3,5 pct. kvælstof)"},{"$f":"IF(B689=\"\",0,SUMIFS(Input!$H$12610:$H$15860,  Input!$F$12610:$F$15860,Summering!B689))","v":0}]
[null,{"$f":"IF(Biomasser!A72=\"\",\"\", Biomasser!A72)","v":" -             Kartoffelfrugtsaft"},{"$f":"IF(B690=\"\",0,SUMIFS(Input!$H$12610:$H$15860,  Input!$F$12610:$F$15860,Summering!B690))","v":0}]
[null,{"$f":"IF(Biomasser!A73=\"\",\"\", Biomasser!A73)","v":" -             Glukose"},{"$f":"IF(B691=\"\",0,SUMIFS(Input!$H$12610:$H$15860,  Input!$F$12610:$F$15860,Summering!B691))","v":0}]
[null,{"$f":"IF(Biomasser!A74=\"\",\"\", Biomasser!A74)","v":" -             Alkohol"},{"$f":"IF(B692=\"\",0,SUMIFS(Input!$H$12610:$H$15860,  Input!$F$12610:$F$15860,Summering!B692))","v":0}]
[null,{"$f":"IF(Biomasser!A75=\"\",\"\", Biomasser!A75)","v":" -             Pressesaft fra grøntpilleproduktion"},{"$f":"IF(B693=\"\",0,SUMIFS(Input!$H$12610:$H$15860,  Input!$F$12610:$F$15860,Summering!B693))","v":0}]
[null,{"$f":"IF(Biomasser!A76=\"\",\"\", Biomasser!A76)","v":" -             Inaktiveret og kalkstabiliseret biomasse"},{"$f":"IF(B694=\"\",0,SUMIFS(Input!$H$12610:$H$15860,  Input!$F$12610:$F$15860,Summering!B694))","v":0}]
[null,{"$f":"IF(Biomasser!A77=\"\",\"\", Biomasser!A77)","v":"Anden biomasse (Overskrift)"},{"$f":"IF(B695=\"\",0,SUMIFS(Input!$H$12610:$H$15860,  Input!$F$12610:$F$15860,Summering!B695))","v":0}]
[null,{"$f":"IF(Biomasser!A78=\"\",\"\", Biomasser!A78)","v":" -             Råglycerin"},{"$f":"IF(B696=\"\",0,SUMIFS(Input!$H$12610:$H$15860,  Input!$F$12610:$F$15860,Summering!B696))","v":0}]
[null,{"$f":"IF(Biomasser!A79=\"\",\"\", Biomasser!A79)","v":""},{"$f":"IF(B697=\"\",0,SUMIFS(Input!$H$12610:$H$15860,  Input!$F$12610:$F$15860,Summering!B697))","v":0}]
[null,{"$f":"IF(Biomasser!A80=\"\",\"\", Biomasser!A80)","v":""},{"$f":"IF(B698=\"\",0,SUMIFS(Input!$H$12610:$H$15860,  Input!$F$12610:$F$15860,Summering!B698))","v":0}]
[null,{"$f":"IF(Biomasser!A81=\"\",\"\", Biomasser!A81)","v":""},{"$f":"IF(B699=\"\",0,SUMIFS(Input!$H$12610:$H$15860,  Input!$F$12610:$F$15860,Summering!B699))","v":0}]
[null,{"$f":"IF(Biomasser!A82=\"\",\"\", Biomasser!A82)","v":""},{"$f":"IF(B700=\"\",0,SUMIFS(Input!$H$12610:$H$15860,  Input!$F$12610:$F$15860,Summering!B700))","v":0}]
[null,{"$f":"IF(Biomasser!A83=\"\",\"\", Biomasser!A83)","v":""},{"$f":"IF(B701=\"\",0,SUMIFS(Input!$H$12610:$H$15860,  Input!$F$12610:$F$15860,Summering!B701))","v":0}]
[null,{"$f":"IF(Biomasser!A84=\"\",\"\", Biomasser!A84)","v":""},{"$f":"IF(B702=\"\",0,SUMIFS(Input!$H$12610:$H$15860,  Input!$F$12610:$F$15860,Summering!B702))","v":0}]
[null,{"$f":"IF(Biomasser!A85=\"\",\"\", Biomasser!A85)","v":""},{"$f":"IF(B703=\"\",0,SUMIFS(Input!$H$12610:$H$15860,  Input!$F$12610:$F$15860,Summering!B703))","v":0}]
[null,{"$f":"IF(Biomasser!A86=\"\",\"\", Biomasser!A86)","v":""},{"$f":"IF(B704=\"\",0,SUMIFS(Input!$H$12610:$H$15860,  Input!$F$12610:$F$15860,Summering!B704))","v":0}]
[null,{"$f":"IF(Biomasser!A87=\"\",\"\", Biomasser!A87)","v":""},{"$f":"IF(B705=\"\",0,SUMIFS(Input!$H$12610:$H$15860,  Input!$F$12610:$F$15860,Summering!B705))","v":0}]
[null,{"$f":"IF(Biomasser!A88=\"\",\"\", Biomasser!A88)","v":""},{"$f":"IF(B706=\"\",0,SUMIFS(Input!$H$12610:$H$15860,  Input!$F$12610:$F$15860,Summering!B706))","v":0}]
[null,{"$f":"IF(Biomasser!A89=\"\",\"\", Biomasser!A89)","v":""},{"$f":"IF(B707=\"\",0,SUMIFS(Input!$H$12610:$H$15860,  Input!$F$12610:$F$15860,Summering!B707))","v":0}]
[null,{"$f":"IF(Biomasser!A90=\"\",\"\", Biomasser!A90)","v":""},{"$f":"IF(B708=\"\",0,SUMIFS(Input!$H$12610:$H$15860,  Input!$F$12610:$F$15860,Summering!B708))","v":0}]
[null,{"$f":"IF(Biomasser!A91=\"\",\"\", Biomasser!A91)","v":""},{"$f":"IF(B709=\"\",0,SUMIFS(Input!$H$12610:$H$15860,  Input!$F$12610:$F$15860,Summering!B709))","v":0}]
[null,{"$f":"IF(Biomasser!A92=\"\",\"\", Biomasser!A92)","v":""},{"$f":"IF(B710=\"\",0,SUMIFS(Input!$H$12610:$H$15860,  Input!$F$12610:$F$15860,Summering!B710))","v":0}]
[null,{"$f":"IF(Biomasser!A93=\"\",\"\", Biomasser!A93)","v":""},{"$f":"IF(B711=\"\",0,SUMIFS(Input!$H$12610:$H$15860,  Input!$F$12610:$F$15860,Summering!B711))","v":0}]
[null,{"$f":"IF(Biomasser!A94=\"\",\"\", Biomasser!A94)","v":""},{"$f":"IF(B712=\"\",0,SUMIFS(Input!$H$12610:$H$15860,  Input!$F$12610:$F$15860,Summering!B712))","v":0}]
[null,{"$f":"IF(Biomasser!A95=\"\",\"\", Biomasser!A95)","v":""},{"$f":"IF(B713=\"\",0,SUMIFS(Input!$H$12610:$H$15860,  Input!$F$12610:$F$15860,Summering!B713))","v":0}]
[null,{"$f":"IF(Biomasser!A96=\"\",\"\", Biomasser!A96)","v":""},{"$f":"IF(B714=\"\",0,SUMIFS(Input!$H$12610:$H$15860,  Input!$F$12610:$F$15860,Summering!B714))","v":0}]
[null,{"$f":"IF(Biomasser!A97=\"\",\"\", Biomasser!A97)","v":""},{"$f":"IF(B715=\"\",0,SUMIFS(Input!$H$12610:$H$15860,  Input!$F$12610:$F$15860,Summering!B715))","v":0}]
[null,{"$f":"IF(Biomasser!A98=\"\",\"\", Biomasser!A98)","v":""},{"$f":"IF(B716=\"\",0,SUMIFS(Input!$H$12610:$H$15860,  Input!$F$12610:$F$15860,Summering!B716))","v":0}]
[null,{"$f":"IF(Biomasser!A99=\"\",\"\", Biomasser!A99)","v":""},{"$f":"IF(B717=\"\",0,SUMIFS(Input!$H$12610:$H$15860,  Input!$F$12610:$F$15860,Summering!B717))","v":0}]
[null,{"$f":"IF(Biomasser!A100=\"\",\"\", Biomasser!A100)","v":""},{"$f":"IF(B718=\"\",0,SUMIFS(Input!$H$12610:$H$15860,  Input!$F$12610:$F$15860,Summering!B718))","v":0}]
[null,{"$f":"IF(Biomasser!A101=\"\",\"\", Biomasser!A101)","v":""},{"$f":"IF(B719=\"\",0,SUMIFS(Input!$H$12610:$H$15860,  Input!$F$12610:$F$15860,Summering!B719))","v":0}]
[null,{"$f":"IF(Biomasser!A102=\"\",\"\", Biomasser!A102)","v":""},{"$f":"IF(B720=\"\",0,SUMIFS(Input!$H$12610:$H$15860,  Input!$F$12610:$F$15860,Summering!B720))","v":0}]
[null,{"$f":"IF(Biomasser!A103=\"\",\"\", Biomasser!A103)","v":""},{"$f":"IF(B721=\"\",0,SUMIFS(Input!$H$12610:$H$15860,  Input!$F$12610:$F$15860,Summering!B721))","v":0}]
[null,{"$f":"IF(Biomasser!A104=\"\",\"\", Biomasser!A104)","v":""},{"$f":"IF(B722=\"\",0,SUMIFS(Input!$H$12610:$H$15860,  Input!$F$12610:$F$15860,Summering!B722))","v":0}]
[null,{"$f":"IF(Biomasser!A105=\"\",\"\", Biomasser!A105)","v":""},{"$f":"IF(B723=\"\",0,SUMIFS(Input!$H$12610:$H$15860,  Input!$F$12610:$F$15860,Summering!B723))","v":0}]
[null,{"$f":"IF(Biomasser!A106=\"\",\"\", Biomasser!A106)","v":""},{"$f":"IF(B724=\"\",0,SUMIFS(Input!$H$12610:$H$15860,  Input!$F$12610:$F$15860,Summering!B724))","v":0}]
[null,{"$f":"IF(Biomasser!A107=\"\",\"\", Biomasser!A107)","v":""},{"$f":"IF(B725=\"\",0,SUMIFS(Input!$H$12610:$H$15860,  Input!$F$12610:$F$15860,Summering!B725))","v":0}]
[null,{"$f":"IF(Biomasser!A108=\"\",\"\", Biomasser!A108)","v":""},{"$f":"IF(B726=\"\",0,SUMIFS(Input!$H$12610:$H$15860,  Input!$F$12610:$F$15860,Summering!B726))","v":0}]
[null,{"$f":"IF(Biomasser!A109=\"\",\"\", Biomasser!A109)","v":""},{"$f":"IF(B727=\"\",0,SUMIFS(Input!$H$12610:$H$15860,  Input!$F$12610:$F$15860,Summering!B727))","v":0}]
[null,{"$f":"IF(Biomasser!A110=\"\",\"\", Biomasser!A110)","v":""},{"$f":"IF(B728=\"\",0,SUMIFS(Input!$H$12610:$H$15860,  Input!$F$12610:$F$15860,Summering!B728))","v":0}]
[null,{"$f":"IF(Biomasser!A111=\"\",\"\", Biomasser!A111)","v":""},{"$f":"IF(B729=\"\",0,SUMIFS(Input!$H$12610:$H$15860,  Input!$F$12610:$F$15860,Summering!B729))","v":0}]
[null,{"$f":"IF(Biomasser!A112=\"\",\"\", Biomasser!A112)","v":""},{"$f":"IF(B730=\"\",0,SUMIFS(Input!$H$12610:$H$15860,  Input!$F$12610:$F$15860,Summering!B730))","v":0}]
[null,{"$f":"IF(Biomasser!A113=\"\",\"\", Biomasser!A113)","v":""},{"$f":"IF(B731=\"\",0,SUMIFS(Input!$H$12610:$H$15860,  Input!$F$12610:$F$15860,Summering!B731))","v":0}]
[null,{"$f":"IF(Biomasser!A114=\"\",\"\", Biomasser!A114)","v":""},{"$f":"IF(B732=\"\",0,SUMIFS(Input!$H$12610:$H$15860,  Input!$F$12610:$F$15860,Summering!B732))","v":0}]
[null,{"$f":"IF(Biomasser!A115=\"\",\"\", Biomasser!A115)","v":""},{"$f":"IF(B733=\"\",0,SUMIFS(Input!$H$12610:$H$15860,  Input!$F$12610:$F$15860,Summering!B733))","v":0}]
[null,{"$f":"IF(Biomasser!A116=\"\",\"\", Biomasser!A116)","v":""},{"$f":"IF(B734=\"\",0,SUMIFS(Input!$H$12610:$H$15860,  Input!$F$12610:$F$15860,Summering!B734))","v":0}]
[null,{"$f":"IF(Biomasser!A117=\"\",\"\", Biomasser!A117)","v":""},{"$f":"IF(B735=\"\",0,SUMIFS(Input!$H$12610:$H$15860,  Input!$F$12610:$F$15860,Summering!B735))","v":0}]
[null,{"$f":"IF(Biomasser!A118=\"\",\"\", Biomasser!A118)","v":""},{"$f":"IF(B736=\"\",0,SUMIFS(Input!$H$12610:$H$15860,  Input!$F$12610:$F$15860,Summering!B736))","v":0}]
[null,{"$f":"IF(Biomasser!A119=\"\",\"\", Biomasser!A119)","v":""},{"$f":"IF(B737=\"\",0,SUMIFS(Input!$H$12610:$H$15860,  Input!$F$12610:$F$15860,Summering!B737))","v":0}]
[null,{"$f":"IF(Biomasser!A120=\"\",\"\", Biomasser!A120)","v":""},{"$f":"IF(B738=\"\",0,SUMIFS(Input!$H$12610:$H$15860,  Input!$F$12610:$F$15860,Summering!B738))","v":0}]
[null,{"$f":"IF(Biomasser!A121=\"\",\"\", Biomasser!A121)","v":""},{"$f":"IF(B739=\"\",0,SUMIFS(Input!$H$12610:$H$15860,  Input!$F$12610:$F$15860,Summering!B739))","v":0}]
[null,{"$f":"IF(Biomasser!A122=\"\",\"\", Biomasser!A122)","v":""},{"$f":"IF(B740=\"\",0,SUMIFS(Input!$H$12610:$H$15860,  Input!$F$12610:$F$15860,Summering!B740))","v":0}]
[null,{"$f":"IF(Biomasser!A123=\"\",\"\", Biomasser!A123)","v":""},{"$f":"IF(B741=\"\",0,SUMIFS(Input!$H$12610:$H$15860,  Input!$F$12610:$F$15860,Summering!B741))","v":0}]
[null,{"$f":"IF(Biomasser!A124=\"\",\"\", Biomasser!A124)","v":""},{"$f":"IF(B742=\"\",0,SUMIFS(Input!$H$12610:$H$15860,  Input!$F$12610:$F$15860,Summering!B742))","v":0}]
[null,"Juni",{"$f":"SUM(C744:C865)","v":0},{"$f":"SUMIFS(Input!$H$10:$H$76760,Input!$A$10:$A$76760,\"Gas\",Input!$C$10:$C$76760,Summering!$B$5,Input!$B$10:$B$76760,\"*\"&B743&\"*\")","v":0}]
[null,{"$f":"IF(Biomasser!A3=\"\",\"\", Biomasser!A3)","v":"Afgrøder (Overskrift, kan ikke vælges)"},{"$f":"IF(B744=\"\",0,SUMIFS(Input!$H$15865:$H$19010,  Input!$F$15865:$F$19010,Summering!B744))","v":0}]
[null,{"$f":"IF(Biomasser!A4=\"\",\"\", Biomasser!A4)","v":" -             Majs"},{"$f":"IF(B745=\"\",0,SUMIFS(Input!$H$15865:$H$19010,  Input!$F$15865:$F$19010,Summering!B745))","v":0}]
[null,{"$f":"IF(Biomasser!A5=\"\",\"\", Biomasser!A5)","v":" -             Roer"},{"$f":"IF(B746=\"\",0,SUMIFS(Input!$H$15865:$H$19010,  Input!$F$15865:$F$19010,Summering!B746))","v":0}]
[null,{"$f":"IF(Biomasser!A6=\"\",\"\", Biomasser!A6)","v":" -             Korn"},{"$f":"IF(B747=\"\",0,SUMIFS(Input!$H$15865:$H$19010,  Input!$F$15865:$F$19010,Summering!B747))","v":0}]
[null,{"$f":"IF(Biomasser!A7=\"\",\"\", Biomasser!A7)","v":" -             Græs"},{"$f":"IF(B748=\"\",0,SUMIFS(Input!$H$15865:$H$19010,  Input!$F$15865:$F$19010,Summering!B748))","v":0}]
[null,{"$f":"IF(Biomasser!A8=\"\",\"\", Biomasser!A8)","v":" -             Kløvergræs"},{"$f":"IF(B749=\"\",0,SUMIFS(Input!$H$15865:$H$19010,  Input!$F$15865:$F$19010,Summering!B749))","v":0}]
[null,{"$f":"IF(Biomasser!A9=\"\",\"\", Biomasser!A9)","v":" -             Jordskokker"},{"$f":"IF(B750=\"\",0,SUMIFS(Input!$H$15865:$H$19010,  Input!$F$15865:$F$19010,Summering!B750))","v":0}]
[null,{"$f":"IF(Biomasser!A10=\"\",\"\", Biomasser!A10)","v":" -             Andre afgrøder"},{"$f":"IF(B751=\"\",0,SUMIFS(Input!$H$15865:$H$19010,  Input!$F$15865:$F$19010,Summering!B751))","v":0}]
[null,{"$f":"IF(Biomasser!A11=\"\",\"\", Biomasser!A11)","v":" -             Hvedehelsæd"},{"$f":"IF(B752=\"\",0,SUMIFS(Input!$H$15865:$H$19010,  Input!$F$15865:$F$19010,Summering!B752))","v":0}]
[null,{"$f":"IF(Biomasser!A12=\"\",\"\", Biomasser!A12)","v":" -             Top af foderroe"},{"$f":"IF(B753=\"\",0,SUMIFS(Input!$H$15865:$H$19010,  Input!$F$15865:$F$19010,Summering!B753))","v":0}]
[null,{"$f":"IF(Biomasser!A13=\"\",\"\", Biomasser!A13)","v":" -             Foderroe - rod og top frisk"},{"$f":"IF(B754=\"\",0,SUMIFS(Input!$H$15865:$H$19010,  Input!$F$15865:$F$19010,Summering!B754))","v":0}]
[null,{"$f":"IF(Biomasser!A14=\"\",\"\", Biomasser!A14)","v":" -             Økologisk kløvergræs"},{"$f":"IF(B755=\"\",0,SUMIFS(Input!$H$15865:$H$19010,  Input!$F$15865:$F$19010,Summering!B755))","v":0}]
[null,{"$f":"IF(Biomasser!A15=\"\",\"\", Biomasser!A15)","v":"Husdyrgødning (Overskrift, kan ikke vælges)"},{"$f":"IF(B756=\"\",0,SUMIFS(Input!$H$15865:$H$19010,  Input!$F$15865:$F$19010,Summering!B756))","v":0}]
[null,{"$f":"IF(Biomasser!A16=\"\",\"\", Biomasser!A16)","v":" -             Kvæggylle"},{"$f":"IF(B757=\"\",0,SUMIFS(Input!$H$15865:$H$19010,  Input!$F$15865:$F$19010,Summering!B757))","v":0}]
[null,{"$f":"IF(Biomasser!A17=\"\",\"\", Biomasser!A17)","v":" -             Svinegylle"},{"$f":"IF(B758=\"\",0,SUMIFS(Input!$H$15865:$H$19010,  Input!$F$15865:$F$19010,Summering!B758))","v":0}]
[null,{"$f":"IF(Biomasser!A18=\"\",\"\", Biomasser!A18)","v":" -             Gylle fra so"},{"$f":"IF(B759=\"\",0,SUMIFS(Input!$H$15865:$H$19010,  Input!$F$15865:$F$19010,Summering!B759))","v":0}]
[null,{"$f":"IF(Biomasser!A19=\"\",\"\", Biomasser!A19)","v":" -             Minkgylle"},{"$f":"IF(B760=\"\",0,SUMIFS(Input!$H$15865:$H$19010,  Input!$F$15865:$F$19010,Summering!B760))","v":0}]
[null,{"$f":"IF(Biomasser!A20=\"\",\"\", Biomasser!A20)","v":" -             Fjerkrægylle"},{"$f":"IF(B761=\"\",0,SUMIFS(Input!$H$15865:$H$19010,  Input!$F$15865:$F$19010,Summering!B761))","v":0}]
[null,{"$f":"IF(Biomasser!A21=\"\",\"\", Biomasser!A21)","v":" -             Blandet gylle"},{"$f":"IF(B762=\"\",0,SUMIFS(Input!$H$15865:$H$19010,  Input!$F$15865:$F$19010,Summering!B762))","v":0}]
[null,{"$f":"IF(Biomasser!A22=\"\",\"\", Biomasser!A22)","v":" -             Dybstrøelse - Kvæg"},{"$f":"IF(B763=\"\",0,SUMIFS(Input!$H$15865:$H$19010,  Input!$F$15865:$F$19010,Summering!B763))","v":0}]
[null,{"$f":"IF(Biomasser!A23=\"\",\"\", Biomasser!A23)","v":" -             Dybstrøelse - Fjerkræ"},{"$f":"IF(B764=\"\",0,SUMIFS(Input!$H$15865:$H$19010,  Input!$F$15865:$F$19010,Summering!B764))","v":0}]
[null,{"$f":"IF(Biomasser!A24=\"\",\"\", Biomasser!A24)","v":" -             Dybstrøelse - Hest"},{"$f":"IF(B765=\"\",0,SUMIFS(Input!$H$15865:$H$19010,  Input!$F$15865:$F$19010,Summering!B765))","v":0}]
[null,{"$f":"IF(Biomasser!A25=\"\",\"\", Biomasser!A25)","v":" -             Dybstrøelse - Andre typer"},{"$f":"IF(B766=\"\",0,SUMIFS(Input!$H$15865:$H$19010,  Input!$F$15865:$F$19010,Summering!B766))","v":0}]
[null,{"$f":"IF(Biomasser!A26=\"\",\"\", Biomasser!A26)","v":" -             Fast gødning"},{"$f":"IF(B767=\"\",0,SUMIFS(Input!$H$15865:$H$19010,  Input!$F$15865:$F$19010,Summering!B767))","v":0}]
[null,{"$f":"IF(Biomasser!A27=\"\",\"\", Biomasser!A27)","v":" -             Ajle"},{"$f":"IF(B768=\"\",0,SUMIFS(Input!$H$15865:$H$19010,  Input!$F$15865:$F$19010,Summering!B768))","v":0}]
[null,{"$f":"IF(Biomasser!A28=\"\",\"\", Biomasser!A28)","v":" -             Fiberfraktion"},{"$f":"IF(B769=\"\",0,SUMIFS(Input!$H$15865:$H$19010,  Input!$F$15865:$F$19010,Summering!B769))","v":0}]
[null,{"$f":"IF(Biomasser!A29=\"\",\"\", Biomasser!A29)","v":" -             Flydende fraktion fra separationsanlæg"},{"$f":"IF(B770=\"\",0,SUMIFS(Input!$H$15865:$H$19010,  Input!$F$15865:$F$19010,Summering!B770))","v":0}]
[null,{"$f":"IF(Biomasser!A30=\"\",\"\", Biomasser!A30)","v":" -             Flydende fraktion"},{"$f":"IF(B771=\"\",0,SUMIFS(Input!$H$15865:$H$19010,  Input!$F$15865:$F$19010,Summering!B771))","v":0}]
[null,{"$f":"IF(Biomasser!A31=\"\",\"\", Biomasser!A31)","v":" -             Anden husdyrgødning"},{"$f":"IF(B772=\"\",0,SUMIFS(Input!$H$15865:$H$19010,  Input!$F$15865:$F$19010,Summering!B772))","v":0}]
[null,{"$f":"IF(Biomasser!A32=\"\",\"\", Biomasser!A32)","v":" -             Forsuret svinegylle"},{"$f":"IF(B773=\"\",0,SUMIFS(Input!$H$15865:$H$19010,  Input!$F$15865:$F$19010,Summering!B773))","v":0}]
[null,{"$f":"IF(Biomasser!A33=\"\",\"\", Biomasser!A33)","v":" -             Dybstrøelse - Svin"},{"$f":"IF(B774=\"\",0,SUMIFS(Input!$H$15865:$H$19010,  Input!$F$15865:$F$19010,Summering!B774))","v":0}]
[null,{"$f":"IF(Biomasser!A34=\"\",\"\", Biomasser!A34)","v":" -             Gylle fibre - kemisk separation - Svin"},{"$f":"IF(B775=\"\",0,SUMIFS(Input!$H$15865:$H$19010,  Input!$F$15865:$F$19010,Summering!B775))","v":0}]
[null,{"$f":"IF(Biomasser!A35=\"\",\"\", Biomasser!A35)","v":" -             Gylle fibre - dekanter separation - Svin"},{"$f":"IF(B776=\"\",0,SUMIFS(Input!$H$15865:$H$19010,  Input!$F$15865:$F$19010,Summering!B776))","v":0}]
[null,{"$f":"IF(Biomasser!A36=\"\",\"\", Biomasser!A36)","v":" -             Staldgødning - Kvæg"},{"$f":"IF(B777=\"\",0,SUMIFS(Input!$H$15865:$H$19010,  Input!$F$15865:$F$19010,Summering!B777))","v":0}]
[null,{"$f":"IF(Biomasser!A37=\"\",\"\", Biomasser!A37)","v":" -             Kvæggylle - Årsopdræt 6 mdr."},{"$f":"IF(B778=\"\",0,SUMIFS(Input!$H$15865:$H$19010,  Input!$F$15865:$F$19010,Summering!B778))","v":0}]
[null,{"$f":"IF(Biomasser!A38=\"\",\"\", Biomasser!A38)","v":" -             Staldgødning - Fjerkræ"},{"$f":"IF(B779=\"\",0,SUMIFS(Input!$H$15865:$H$19010,  Input!$F$15865:$F$19010,Summering!B779))","v":0}]
[null,{"$f":"IF(Biomasser!A39=\"\",\"\", Biomasser!A39)","v":"Slam og spildevand (Overskrift, kan ikke vælges)"},{"$f":"IF(B780=\"\",0,SUMIFS(Input!$H$15865:$H$19010,  Input!$F$15865:$F$19010,Summering!B780))","v":0}]
[null,{"$f":"IF(Biomasser!A40=\"\",\"\", Biomasser!A40)","v":" -             Slam og spildevand samt uforurenede produktrester"},{"$f":"IF(B781=\"\",0,SUMIFS(Input!$H$15865:$H$19010,  Input!$F$15865:$F$19010,Summering!B781))","v":0}]
[null,{"$f":"IF(Biomasser!A41=\"\",\"\", Biomasser!A41)","v":" -             Slam fra dambrug"},{"$f":"IF(B782=\"\",0,SUMIFS(Input!$H$15865:$H$19010,  Input!$F$15865:$F$19010,Summering!B782))","v":0}]
[null,{"$f":"IF(Biomasser!A42=\"\",\"\", Biomasser!A42)","v":" -             Slam fra forarbejdning af animalske råvarer"},{"$f":"IF(B783=\"\",0,SUMIFS(Input!$H$15865:$H$19010,  Input!$F$15865:$F$19010,Summering!B783))","v":0}]
[null,{"$f":"IF(Biomasser!A43=\"\",\"\", Biomasser!A43)","v":" -             Spildevandsslam"},{"$f":"IF(B784=\"\",0,SUMIFS(Input!$H$15865:$H$19010,  Input!$F$15865:$F$19010,Summering!B784))","v":0}]
[null,{"$f":"IF(Biomasser!A44=\"\",\"\", Biomasser!A44)","v":" -             Proteolyseret processpildevand"},{"$f":"IF(B785=\"\",0,SUMIFS(Input!$H$15865:$H$19010,  Input!$F$15865:$F$19010,Summering!B785))","v":0}]
[null,{"$f":"IF(Biomasser!A45=\"\",\"\", Biomasser!A45)","v":" -             Sekundær spildevandsslam"},{"$f":"IF(B786=\"\",0,SUMIFS(Input!$H$15865:$H$19010,  Input!$F$15865:$F$19010,Summering!B786))","v":0}]
[null,{"$f":"IF(Biomasser!A46=\"\",\"\", Biomasser!A46)","v":" -             Sekundær spildevandsslam afvandet"},{"$f":"IF(B787=\"\",0,SUMIFS(Input!$H$15865:$H$19010,  Input!$F$15865:$F$19010,Summering!B787))","v":0}]
[null,{"$f":"IF(Biomasser!A47=\"\",\"\", Biomasser!A47)","v":"Organisk affald fra husholdninger og erhverv (Overskrift, kan ikke vælges)"},{"$f":"IF(B788=\"\",0,SUMIFS(Input!$H$15865:$H$19010,  Input!$F$15865:$F$19010,Summering!B788))","v":0}]
[null,{"$f":"IF(Biomasser!A48=\"\",\"\", Biomasser!A48)","v":" -             Kildesorteret organisk dagrenovation"},{"$f":"IF(B789=\"\",0,SUMIFS(Input!$H$15865:$H$19010,  Input!$F$15865:$F$19010,Summering!B789))","v":0}]
[null,{"$f":"IF(Biomasser!A49=\"\",\"\", Biomasser!A49)","v":" -             Organisk husholdningsaffald - Renescience"},{"$f":"IF(B790=\"\",0,SUMIFS(Input!$H$15865:$H$19010,  Input!$F$15865:$F$19010,Summering!B790))","v":0}]
[null,{"$f":"IF(Biomasser!A50=\"\",\"\", Biomasser!A50)","v":" -             Organisk husholdningsaffald - Pulper"},{"$f":"IF(B791=\"\",0,SUMIFS(Input!$H$15865:$H$19010,  Input!$F$15865:$F$19010,Summering!B791))","v":0}]
[null,{"$f":"IF(Biomasser!A51=\"\",\"\", Biomasser!A51)","v":" -             Organisk husholdningsaffald - Rullesigte"},{"$f":"IF(B792=\"\",0,SUMIFS(Input!$H$15865:$H$19010,  Input!$F$15865:$F$19010,Summering!B792))","v":0}]
[null,{"$f":"IF(Biomasser!A52=\"\",\"\", Biomasser!A52)","v":" -             Organisk husholdningsaffald - Skruepresse"},{"$f":"IF(B793=\"\",0,SUMIFS(Input!$H$15865:$H$19010,  Input!$F$15865:$F$19010,Summering!B793))","v":0}]
[null,{"$f":"IF(Biomasser!A53=\"\",\"\", Biomasser!A53)","v":" -             Organisk husholdningsaffald - Neddeling"},{"$f":"IF(B794=\"\",0,SUMIFS(Input!$H$15865:$H$19010,  Input!$F$15865:$F$19010,Summering!B794))","v":0}]
[null,{"$f":"IF(Biomasser!A54=\"\",\"\", Biomasser!A54)","v":" -             Organisk affald fra erhverv"},{"$f":"IF(B795=\"\",0,SUMIFS(Input!$H$15865:$H$19010,  Input!$F$15865:$F$19010,Summering!B795))","v":0}]
[null,{"$f":"IF(Biomasser!A55=\"\",\"\", Biomasser!A55)","v":"Rester og biprodukter fra planter og afgrøder (Overskrift, kan ikke vælges)"},{"$f":"IF(B796=\"\",0,SUMIFS(Input!$H$15865:$H$19010,  Input!$F$15865:$F$19010,Summering!B796))","v":0}]
[null,{"$f":"IF(Biomasser!A56=\"\",\"\", Biomasser!A56)","v":" -             Cellulose"},{"$f":"IF(B797=\"\",0,SUMIFS(Input!$H$15865:$H$19010,  Input!$F$15865:$F$19010,Summering!B797))","v":0}]
[null,{"$f":"IF(Biomasser!A57=\"\",\"\", Biomasser!A57)","v":" -             Naturpleje biomasse"},{"$f":"IF(B798=\"\",0,SUMIFS(Input!$H$15865:$H$19010,  Input!$F$15865:$F$19010,Summering!B798))","v":0}]
[null,{"$f":"IF(Biomasser!A58=\"\",\"\", Biomasser!A58)","v":" -             Halm"},{"$f":"IF(B799=\"\",0,SUMIFS(Input!$H$15865:$H$19010,  Input!$F$15865:$F$19010,Summering!B799))","v":0}]
[null,{"$f":"IF(Biomasser!A59=\"\",\"\", Biomasser!A59)","v":" -             Have-park affald"},{"$f":"IF(B800=\"\",0,SUMIFS(Input!$H$15865:$H$19010,  Input!$F$15865:$F$19010,Summering!B800))","v":0}]
[null,{"$f":"IF(Biomasser!A60=\"\",\"\", Biomasser!A60)","v":" -             Andre restprodukter fra produktion af primærafgrøder"},{"$f":"IF(B801=\"\",0,SUMIFS(Input!$H$15865:$H$19010,  Input!$F$15865:$F$19010,Summering!B801))","v":0}]
[null,{"$f":"IF(Biomasser!A61=\"\",\"\", Biomasser!A61)","v":" -             Kasserede afgrøder"},{"$f":"IF(B802=\"\",0,SUMIFS(Input!$H$15865:$H$19010,  Input!$F$15865:$F$19010,Summering!B802))","v":0}]
[null,{"$f":"IF(Biomasser!A62=\"\",\"\", Biomasser!A62)","v":"Rester og biprodukter fra levnesmiddel- og dyrefoderindustrien  (Overskrift, kan ikke vælges)"},{"$f":"IF(B803=\"\",0,SUMIFS(Input!$H$15865:$H$19010,  Input!$F$15865:$F$19010,Summering!B803))","v":0}]
[null,{"$f":"IF(Biomasser!A63=\"\",\"\", Biomasser!A63)","v":" -             Animalske biprodukter"},{"$f":"IF(B804=\"\",0,SUMIFS(Input!$H$15865:$H$19010,  Input!$F$15865:$F$19010,Summering!B804))","v":0}]
[null,{"$f":"IF(Biomasser!A64=\"\",\"\", Biomasser!A64)","v":" -             Mave/tarm kvæg"},{"$f":"IF(B805=\"\",0,SUMIFS(Input!$H$15865:$H$19010,  Input!$F$15865:$F$19010,Summering!B805))","v":0}]
[null,{"$f":"IF(Biomasser!A65=\"\",\"\", Biomasser!A65)","v":" -             Mave/tarm svin"},{"$f":"IF(B806=\"\",0,SUMIFS(Input!$H$15865:$H$19010,  Input!$F$15865:$F$19010,Summering!B806))","v":0}]
[null,{"$f":"IF(Biomasser!A66=\"\",\"\", Biomasser!A66)","v":" -             Valle"},{"$f":"IF(B807=\"\",0,SUMIFS(Input!$H$15865:$H$19010,  Input!$F$15865:$F$19010,Summering!B807))","v":0}]
[null,{"$f":"IF(Biomasser!A67=\"\",\"\", Biomasser!A67)","v":" -             Valle koncentrat"},{"$f":"IF(B808=\"\",0,SUMIFS(Input!$H$15865:$H$19010,  Input!$F$15865:$F$19010,Summering!B808))","v":0}]
[null,{"$f":"IF(Biomasser!A68=\"\",\"\", Biomasser!A68)","v":" -             Protein"},{"$f":"IF(B809=\"\",0,SUMIFS(Input!$H$15865:$H$19010,  Input!$F$15865:$F$19010,Summering!B809))","v":0}]
[null,{"$f":"IF(Biomasser!A69=\"\",\"\", Biomasser!A69)","v":" -             Fedt"},{"$f":"IF(B810=\"\",0,SUMIFS(Input!$H$15865:$H$19010,  Input!$F$15865:$F$19010,Summering!B810))","v":0}]
[null,{"$f":"IF(Biomasser!A70=\"\",\"\", Biomasser!A70)","v":" -             Vinasse (2,2 pct. kvælstof)"},{"$f":"IF(B811=\"\",0,SUMIFS(Input!$H$15865:$H$19010,  Input!$F$15865:$F$19010,Summering!B811))","v":0}]
[null,{"$f":"IF(Biomasser!A71=\"\",\"\", Biomasser!A71)","v":" -             Vinasse (3,5 pct. kvælstof)"},{"$f":"IF(B812=\"\",0,SUMIFS(Input!$H$15865:$H$19010,  Input!$F$15865:$F$19010,Summering!B812))","v":0}]
[null,{"$f":"IF(Biomasser!A72=\"\",\"\", Biomasser!A72)","v":" -             Kartoffelfrugtsaft"},{"$f":"IF(B813=\"\",0,SUMIFS(Input!$H$15865:$H$19010,  Input!$F$15865:$F$19010,Summering!B813))","v":0}]
[null,{"$f":"IF(Biomasser!A73=\"\",\"\", Biomasser!A73)","v":" -             Glukose"},{"$f":"IF(B814=\"\",0,SUMIFS(Input!$H$15865:$H$19010,  Input!$F$15865:$F$19010,Summering!B814))","v":0}]
[null,{"$f":"IF(Biomasser!A74=\"\",\"\", Biomasser!A74)","v":" -             Alkohol"},{"$f":"IF(B815=\"\",0,SUMIFS(Input!$H$15865:$H$19010,  Input!$F$15865:$F$19010,Summering!B815))","v":0}]
[null,{"$f":"IF(Biomasser!A75=\"\",\"\", Biomasser!A75)","v":" -             Pressesaft fra grøntpilleproduktion"},{"$f":"IF(B816=\"\",0,SUMIFS(Input!$H$15865:$H$19010,  Input!$F$15865:$F$19010,Summering!B816))","v":0}]
[null,{"$f":"IF(Biomasser!A76=\"\",\"\", Biomasser!A76)","v":" -             Inaktiveret og kalkstabiliseret biomasse"},{"$f":"IF(B817=\"\",0,SUMIFS(Input!$H$15865:$H$19010,  Input!$F$15865:$F$19010,Summering!B817))","v":0}]
[null,{"$f":"IF(Biomasser!A77=\"\",\"\", Biomasser!A77)","v":"Anden biomasse (Overskrift)"},{"$f":"IF(B818=\"\",0,SUMIFS(Input!$H$15865:$H$19010,  Input!$F$15865:$F$19010,Summering!B818))","v":0}]
[null,{"$f":"IF(Biomasser!A78=\"\",\"\", Biomasser!A78)","v":" -             Råglycerin"},{"$f":"IF(B819=\"\",0,SUMIFS(Input!$H$15865:$H$19010,  Input!$F$15865:$F$19010,Summering!B819))","v":0}]
[null,{"$f":"IF(Biomasser!A79=\"\",\"\", Biomasser!A79)","v":""},{"$f":"IF(B820=\"\",0,SUMIFS(Input!$H$15865:$H$19010,  Input!$F$15865:$F$19010,Summering!B820))","v":0}]
[null,{"$f":"IF(Biomasser!A80=\"\",\"\", Biomasser!A80)","v":""},{"$f":"IF(B821=\"\",0,SUMIFS(Input!$H$15865:$H$19010,  Input!$F$15865:$F$19010,Summering!B821))","v":0}]
[null,{"$f":"IF(Biomasser!A81=\"\",\"\", Biomasser!A81)","v":""},{"$f":"IF(B822=\"\",0,SUMIFS(Input!$H$15865:$H$19010,  Input!$F$15865:$F$19010,Summering!B822))","v":0}]
[null,{"$f":"IF(Biomasser!A82=\"\",\"\", Biomasser!A82)","v":""},{"$f":"IF(B823=\"\",0,SUMIFS(Input!$H$15865:$H$19010,  Input!$F$15865:$F$19010,Summering!B823))","v":0}]
[null,{"$f":"IF(Biomasser!A83=\"\",\"\", Biomasser!A83)","v":""},{"$f":"IF(B824=\"\",0,SUMIFS(Input!$H$15865:$H$19010,  Input!$F$15865:$F$19010,Summering!B824))","v":0}]
[null,{"$f":"IF(Biomasser!A84=\"\",\"\", Biomasser!A84)","v":""},{"$f":"IF(B825=\"\",0,SUMIFS(Input!$H$15865:$H$19010,  Input!$F$15865:$F$19010,Summering!B825))","v":0}]
[null,{"$f":"IF(Biomasser!A85=\"\",\"\", Biomasser!A85)","v":""},{"$f":"IF(B826=\"\",0,SUMIFS(Input!$H$15865:$H$19010,  Input!$F$15865:$F$19010,Summering!B826))","v":0}]
[null,{"$f":"IF(Biomasser!A86=\"\",\"\", Biomasser!A86)","v":""},{"$f":"IF(B827=\"\",0,SUMIFS(Input!$H$15865:$H$19010,  Input!$F$15865:$F$19010,Summering!B827))","v":0}]
[null,{"$f":"IF(Biomasser!A87=\"\",\"\", Biomasser!A87)","v":""},{"$f":"IF(B828=\"\",0,SUMIFS(Input!$H$15865:$H$19010,  Input!$F$15865:$F$19010,Summering!B828))","v":0}]
[null,{"$f":"IF(Biomasser!A88=\"\",\"\", Biomasser!A88)","v":""},{"$f":"IF(B829=\"\",0,SUMIFS(Input!$H$15865:$H$19010,  Input!$F$15865:$F$19010,Summering!B829))","v":0}]
[null,{"$f":"IF(Biomasser!A89=\"\",\"\", Biomasser!A89)","v":""},{"$f":"IF(B830=\"\",0,SUMIFS(Input!$H$15865:$H$19010,  Input!$F$15865:$F$19010,Summering!B830))","v":0}]
[null,{"$f":"IF(Biomasser!A90=\"\",\"\", Biomasser!A90)","v":""},{"$f":"IF(B831=\"\",0,SUMIFS(Input!$H$15865:$H$19010,  Input!$F$15865:$F$19010,Summering!B831))","v":0}]
[null,{"$f":"IF(Biomasser!A91=\"\",\"\", Biomasser!A91)","v":""},{"$f":"IF(B832=\"\",0,SUMIFS(Input!$H$15865:$H$19010,  Input!$F$15865:$F$19010,Summering!B832))","v":0}]
[null,{"$f":"IF(Biomasser!A92=\"\",\"\", Biomasser!A92)","v":""},{"$f":"IF(B833=\"\",0,SUMIFS(Input!$H$15865:$H$19010,  Input!$F$15865:$F$19010,Summering!B833))","v":0}]
[null,{"$f":"IF(Biomasser!A93=\"\",\"\", Biomasser!A93)","v":""},{"$f":"IF(B834=\"\",0,SUMIFS(Input!$H$15865:$H$19010,  Input!$F$15865:$F$19010,Summering!B834))","v":0}]
[null,{"$f":"IF(Biomasser!A94=\"\",\"\", Biomasser!A94)","v":""},{"$f":"IF(B835=\"\",0,SUMIFS(Input!$H$15865:$H$19010,  Input!$F$15865:$F$19010,Summering!B835))","v":0}]
[null,{"$f":"IF(Biomasser!A95=\"\",\"\", Biomasser!A95)","v":""},{"$f":"IF(B836=\"\",0,SUMIFS(Input!$H$15865:$H$19010,  Input!$F$15865:$F$19010,Summering!B836))","v":0}]
[null,{"$f":"IF(Biomasser!A96=\"\",\"\", Biomasser!A96)","v":""},{"$f":"IF(B837=\"\",0,SUMIFS(Input!$H$15865:$H$19010,  Input!$F$15865:$F$19010,Summering!B837))","v":0}]
[null,{"$f":"IF(Biomasser!A97=\"\",\"\", Biomasser!A97)","v":""},{"$f":"IF(B838=\"\",0,SUMIFS(Input!$H$15865:$H$19010,  Input!$F$15865:$F$19010,Summering!B838))","v":0}]
[null,{"$f":"IF(Biomasser!A98=\"\",\"\", Biomasser!A98)","v":""},{"$f":"IF(B839=\"\",0,SUMIFS(Input!$H$15865:$H$19010,  Input!$F$15865:$F$19010,Summering!B839))","v":0}]
[null,{"$f":"IF(Biomasser!A99=\"\",\"\", Biomasser!A99)","v":""},{"$f":"IF(B840=\"\",0,SUMIFS(Input!$H$15865:$H$19010,  Input!$F$15865:$F$19010,Summering!B840))","v":0}]
[null,{"$f":"IF(Biomasser!A100=\"\",\"\", Biomasser!A100)","v":""},{"$f":"IF(B841=\"\",0,SUMIFS(Input!$H$15865:$H$19010,  Input!$F$15865:$F$19010,Summering!B841))","v":0}]
[null,{"$f":"IF(Biomasser!A101=\"\",\"\", Biomasser!A101)","v":""},{"$f":"IF(B842=\"\",0,SUMIFS(Input!$H$15865:$H$19010,  Input!$F$15865:$F$19010,Summering!B842))","v":0}]
[null,{"$f":"IF(Biomasser!A102=\"\",\"\", Biomasser!A102)","v":""},{"$f":"IF(B843=\"\",0,SUMIFS(Input!$H$15865:$H$19010,  Input!$F$15865:$F$19010,Summering!B843))","v":0}]
[null,{"$f":"IF(Biomasser!A103=\"\",\"\", Biomasser!A103)","v":""},{"$f":"IF(B844=\"\",0,SUMIFS(Input!$H$15865:$H$19010,  Input!$F$15865:$F$19010,Summering!B844))","v":0}]
[null,{"$f":"IF(Biomasser!A104=\"\",\"\", Biomasser!A104)","v":""},{"$f":"IF(B845=\"\",0,SUMIFS(Input!$H$15865:$H$19010,  Input!$F$15865:$F$19010,Summering!B845))","v":0}]
[null,{"$f":"IF(Biomasser!A105=\"\",\"\", Biomasser!A105)","v":""},{"$f":"IF(B846=\"\",0,SUMIFS(Input!$H$15865:$H$19010,  Input!$F$15865:$F$19010,Summering!B846))","v":0}]
[null,{"$f":"IF(Biomasser!A106=\"\",\"\", Biomasser!A106)","v":""},{"$f":"IF(B847=\"\",0,SUMIFS(Input!$H$15865:$H$19010,  Input!$F$15865:$F$19010,Summering!B847))","v":0}]
[null,{"$f":"IF(Biomasser!A107=\"\",\"\", Biomasser!A107)","v":""},{"$f":"IF(B848=\"\",0,SUMIFS(Input!$H$15865:$H$19010,  Input!$F$15865:$F$19010,Summering!B848))","v":0}]
[null,{"$f":"IF(Biomasser!A108=\"\",\"\", Biomasser!A108)","v":""},{"$f":"IF(B849=\"\",0,SUMIFS(Input!$H$15865:$H$19010,  Input!$F$15865:$F$19010,Summering!B849))","v":0}]
[null,{"$f":"IF(Biomasser!A109=\"\",\"\", Biomasser!A109)","v":""},{"$f":"IF(B850=\"\",0,SUMIFS(Input!$H$15865:$H$19010,  Input!$F$15865:$F$19010,Summering!B850))","v":0}]
[null,{"$f":"IF(Biomasser!A110=\"\",\"\", Biomasser!A110)","v":""},{"$f":"IF(B851=\"\",0,SUMIFS(Input!$H$15865:$H$19010,  Input!$F$15865:$F$19010,Summering!B851))","v":0}]
[null,{"$f":"IF(Biomasser!A111=\"\",\"\", Biomasser!A111)","v":""},{"$f":"IF(B852=\"\",0,SUMIFS(Input!$H$15865:$H$19010,  Input!$F$15865:$F$19010,Summering!B852))","v":0}]
[null,{"$f":"IF(Biomasser!A112=\"\",\"\", Biomasser!A112)","v":""},{"$f":"IF(B853=\"\",0,SUMIFS(Input!$H$15865:$H$19010,  Input!$F$15865:$F$19010,Summering!B853))","v":0}]
[null,{"$f":"IF(Biomasser!A113=\"\",\"\", Biomasser!A113)","v":""},{"$f":"IF(B854=\"\",0,SUMIFS(Input!$H$15865:$H$19010,  Input!$F$15865:$F$19010,Summering!B854))","v":0}]
[null,{"$f":"IF(Biomasser!A114=\"\",\"\", Biomasser!A114)","v":""},{"$f":"IF(B855=\"\",0,SUMIFS(Input!$H$15865:$H$19010,  Input!$F$15865:$F$19010,Summering!B855))","v":0}]
[null,{"$f":"IF(Biomasser!A115=\"\",\"\", Biomasser!A115)","v":""},{"$f":"IF(B856=\"\",0,SUMIFS(Input!$H$15865:$H$19010,  Input!$F$15865:$F$19010,Summering!B856))","v":0}]
[null,{"$f":"IF(Biomasser!A116=\"\",\"\", Biomasser!A116)","v":""},{"$f":"IF(B857=\"\",0,SUMIFS(Input!$H$15865:$H$19010,  Input!$F$15865:$F$19010,Summering!B857))","v":0}]
[null,{"$f":"IF(Biomasser!A117=\"\",\"\", Biomasser!A117)","v":""},{"$f":"IF(B858=\"\",0,SUMIFS(Input!$H$15865:$H$19010,  Input!$F$15865:$F$19010,Summering!B858))","v":0}]
[null,{"$f":"IF(Biomasser!A118=\"\",\"\", Biomasser!A118)","v":""},{"$f":"IF(B859=\"\",0,SUMIFS(Input!$H$15865:$H$19010,  Input!$F$15865:$F$19010,Summering!B859))","v":0}]
[null,{"$f":"IF(Biomasser!A119=\"\",\"\", Biomasser!A119)","v":""},{"$f":"IF(B860=\"\",0,SUMIFS(Input!$H$15865:$H$19010,  Input!$F$15865:$F$19010,Summering!B860))","v":0}]
[null,{"$f":"IF(Biomasser!A120=\"\",\"\", Biomasser!A120)","v":""},{"$f":"IF(B861=\"\",0,SUMIFS(Input!$H$15865:$H$19010,  Input!$F$15865:$F$19010,Summering!B861))","v":0}]
[null,{"$f":"IF(Biomasser!A121=\"\",\"\", Biomasser!A121)","v":""},{"$f":"IF(B862=\"\",0,SUMIFS(Input!$H$15865:$H$19010,  Input!$F$15865:$F$19010,Summering!B862))","v":0}]
[null,{"$f":"IF(Biomasser!A122=\"\",\"\", Biomasser!A122)","v":""},{"$f":"IF(B863=\"\",0,SUMIFS(Input!$H$15865:$H$19010,  Input!$F$15865:$F$19010,Summering!B863))","v":0}]
[null,{"$f":"IF(Biomasser!A123=\"\",\"\", Biomasser!A123)","v":""},{"$f":"IF(B864=\"\",0,SUMIFS(Input!$H$15865:$H$19010,  Input!$F$15865:$F$19010,Summering!B864))","v":0}]
[null,{"$f":"IF(Biomasser!A124=\"\",\"\", Biomasser!A124)","v":""},{"$f":"IF(B865=\"\",0,SUMIFS(Input!$H$15865:$H$19010,  Input!$F$15865:$F$19010,Summering!B865))","v":0}]
[null,"Juli",{"$f":"SUM(C867:C988)","v":0},{"$f":"SUMIFS(Input!$H$10:$H$76760,Input!$A$10:$A$76760,\"Gas\",Input!$C$10:$C$76760,Summering!$B$5,Input!$B$10:$B$76760,\"*\"&B866&\"*\")","v":0}]
[null,{"$f":"IF(Biomasser!A3=\"\",\"\", Biomasser!A3)","v":"Afgrøder (Overskrift, kan ikke vælges)"},{"$f":"IF(B867=\"\",0,SUMIFS(Input!$H$19015:$H$22265,Input!$F$19015:$F$22265,Summering!B867))","v":0}]
[null,{"$f":"IF(Biomasser!A4=\"\",\"\", Biomasser!A4)","v":" -             Majs"},{"$f":"IF(B868=\"\",0,SUMIFS(Input!$H$19015:$H$22265,Input!$F$19015:$F$22265,Summering!B868))","v":0}]
[null,{"$f":"IF(Biomasser!A5=\"\",\"\", Biomasser!A5)","v":" -             Roer"},{"$f":"IF(B869=\"\",0,SUMIFS(Input!$H$19015:$H$22265,Input!$F$19015:$F$22265,Summering!B869))","v":0}]
[null,{"$f":"IF(Biomasser!A6=\"\",\"\", Biomasser!A6)","v":" -             Korn"},{"$f":"IF(B870=\"\",0,SUMIFS(Input!$H$19015:$H$22265,Input!$F$19015:$F$22265,Summering!B870))","v":0}]
[null,{"$f":"IF(Biomasser!A7=\"\",\"\", Biomasser!A7)","v":" -             Græs"},{"$f":"IF(B871=\"\",0,SUMIFS(Input!$H$19015:$H$22265,Input!$F$19015:$F$22265,Summering!B871))","v":0}]
[null,{"$f":"IF(Biomasser!A8=\"\",\"\", Biomasser!A8)","v":" -             Kløvergræs"},{"$f":"IF(B872=\"\",0,SUMIFS(Input!$H$19015:$H$22265,Input!$F$19015:$F$22265,Summering!B872))","v":0}]
[null,{"$f":"IF(Biomasser!A9=\"\",\"\", Biomasser!A9)","v":" -             Jordskokker"},{"$f":"IF(B873=\"\",0,SUMIFS(Input!$H$19015:$H$22265,Input!$F$19015:$F$22265,Summering!B873))","v":0}]
[null,{"$f":"IF(Biomasser!A10=\"\",\"\", Biomasser!A10)","v":" -             Andre afgrøder"},{"$f":"IF(B874=\"\",0,SUMIFS(Input!$H$19015:$H$22265,Input!$F$19015:$F$22265,Summering!B874))","v":0}]
[null,{"$f":"IF(Biomasser!A11=\"\",\"\", Biomasser!A11)","v":" -             Hvedehelsæd"},{"$f":"IF(B875=\"\",0,SUMIFS(Input!$H$19015:$H$22265,Input!$F$19015:$F$22265,Summering!B875))","v":0}]
[null,{"$f":"IF(Biomasser!A12=\"\",\"\", Biomasser!A12)","v":" -             Top af foderroe"},{"$f":"IF(B876=\"\",0,SUMIFS(Input!$H$19015:$H$22265,Input!$F$19015:$F$22265,Summering!B876))","v":0}]
[null,{"$f":"IF(Biomasser!A13=\"\",\"\", Biomasser!A13)","v":" -             Foderroe - rod og top frisk"},{"$f":"IF(B877=\"\",0,SUMIFS(Input!$H$19015:$H$22265,Input!$F$19015:$F$22265,Summering!B877))","v":0}]
[null,{"$f":"IF(Biomasser!A14=\"\",\"\", Biomasser!A14)","v":" -             Økologisk kløvergræs"},{"$f":"IF(B878=\"\",0,SUMIFS(Input!$H$19015:$H$22265,Input!$F$19015:$F$22265,Summering!B878))","v":0}]
[null,{"$f":"IF(Biomasser!A15=\"\",\"\", Biomasser!A15)","v":"Husdyrgødning (Overskrift, kan ikke vælges)"},{"$f":"IF(B879=\"\",0,SUMIFS(Input!$H$19015:$H$22265,Input!$F$19015:$F$22265,Summering!B879))","v":0}]
[null,{"$f":"IF(Biomasser!A16=\"\",\"\", Biomasser!A16)","v":" -             Kvæggylle"},{"$f":"IF(B880=\"\",0,SUMIFS(Input!$H$19015:$H$22265,Input!$F$19015:$F$22265,Summering!B880))","v":0}]
[null,{"$f":"IF(Biomasser!A17=\"\",\"\", Biomasser!A17)","v":" -             Svinegylle"},{"$f":"IF(B881=\"\",0,SUMIFS(Input!$H$19015:$H$22265,Input!$F$19015:$F$22265,Summering!B881))","v":0}]
[null,{"$f":"IF(Biomasser!A18=\"\",\"\", Biomasser!A18)","v":" -             Gylle fra so"},{"$f":"IF(B882=\"\",0,SUMIFS(Input!$H$19015:$H$22265,Input!$F$19015:$F$22265,Summering!B882))","v":0}]
[null,{"$f":"IF(Biomasser!A19=\"\",\"\", Biomasser!A19)","v":" -             Minkgylle"},{"$f":"IF(B883=\"\",0,SUMIFS(Input!$H$19015:$H$22265,Input!$F$19015:$F$22265,Summering!B883))","v":0}]
[null,{"$f":"IF(Biomasser!A20=\"\",\"\", Biomasser!A20)","v":" -             Fjerkrægylle"},{"$f":"IF(B884=\"\",0,SUMIFS(Input!$H$19015:$H$22265,Input!$F$19015:$F$22265,Summering!B884))","v":0}]
[null,{"$f":"IF(Biomasser!A21=\"\",\"\", Biomasser!A21)","v":" -             Blandet gylle"},{"$f":"IF(B885=\"\",0,SUMIFS(Input!$H$19015:$H$22265,Input!$F$19015:$F$22265,Summering!B885))","v":0}]
[null,{"$f":"IF(Biomasser!A22=\"\",\"\", Biomasser!A22)","v":" -             Dybstrøelse - Kvæg"},{"$f":"IF(B886=\"\",0,SUMIFS(Input!$H$19015:$H$22265,Input!$F$19015:$F$22265,Summering!B886))","v":0}]
[null,{"$f":"IF(Biomasser!A23=\"\",\"\", Biomasser!A23)","v":" -             Dybstrøelse - Fjerkræ"},{"$f":"IF(B887=\"\",0,SUMIFS(Input!$H$19015:$H$22265,Input!$F$19015:$F$22265,Summering!B887))","v":0}]
[null,{"$f":"IF(Biomasser!A24=\"\",\"\", Biomasser!A24)","v":" -             Dybstrøelse - Hest"},{"$f":"IF(B888=\"\",0,SUMIFS(Input!$H$19015:$H$22265,Input!$F$19015:$F$22265,Summering!B888))","v":0}]
[null,{"$f":"IF(Biomasser!A25=\"\",\"\", Biomasser!A25)","v":" -             Dybstrøelse - Andre typer"},{"$f":"IF(B889=\"\",0,SUMIFS(Input!$H$19015:$H$22265,Input!$F$19015:$F$22265,Summering!B889))","v":0}]
[null,{"$f":"IF(Biomasser!A26=\"\",\"\", Biomasser!A26)","v":" -             Fast gødning"},{"$f":"IF(B890=\"\",0,SUMIFS(Input!$H$19015:$H$22265,Input!$F$19015:$F$22265,Summering!B890))","v":0}]
[null,{"$f":"IF(Biomasser!A27=\"\",\"\", Biomasser!A27)","v":" -             Ajle"},{"$f":"IF(B891=\"\",0,SUMIFS(Input!$H$19015:$H$22265,Input!$F$19015:$F$22265,Summering!B891))","v":0}]
[null,{"$f":"IF(Biomasser!A28=\"\",\"\", Biomasser!A28)","v":" -             Fiberfraktion"},{"$f":"IF(B892=\"\",0,SUMIFS(Input!$H$19015:$H$22265,Input!$F$19015:$F$22265,Summering!B892))","v":0}]
[null,{"$f":"IF(Biomasser!A29=\"\",\"\", Biomasser!A29)","v":" -             Flydende fraktion fra separationsanlæg"},{"$f":"IF(B893=\"\",0,SUMIFS(Input!$H$19015:$H$22265,Input!$F$19015:$F$22265,Summering!B893))","v":0}]
[null,{"$f":"IF(Biomasser!A30=\"\",\"\", Biomasser!A30)","v":" -             Flydende fraktion"},{"$f":"IF(B894=\"\",0,SUMIFS(Input!$H$19015:$H$22265,Input!$F$19015:$F$22265,Summering!B894))","v":0}]
[null,{"$f":"IF(Biomasser!A31=\"\",\"\", Biomasser!A31)","v":" -             Anden husdyrgødning"},{"$f":"IF(B895=\"\",0,SUMIFS(Input!$H$19015:$H$22265,Input!$F$19015:$F$22265,Summering!B895))","v":0}]
[null,{"$f":"IF(Biomasser!A32=\"\",\"\", Biomasser!A32)","v":" -             Forsuret svinegylle"},{"$f":"IF(B896=\"\",0,SUMIFS(Input!$H$19015:$H$22265,Input!$F$19015:$F$22265,Summering!B896))","v":0}]
[null,{"$f":"IF(Biomasser!A33=\"\",\"\", Biomasser!A33)","v":" -             Dybstrøelse - Svin"},{"$f":"IF(B897=\"\",0,SUMIFS(Input!$H$19015:$H$22265,Input!$F$19015:$F$22265,Summering!B897))","v":0}]
[null,{"$f":"IF(Biomasser!A34=\"\",\"\", Biomasser!A34)","v":" -             Gylle fibre - kemisk separation - Svin"},{"$f":"IF(B898=\"\",0,SUMIFS(Input!$H$19015:$H$22265,Input!$F$19015:$F$22265,Summering!B898))","v":0}]
[null,{"$f":"IF(Biomasser!A35=\"\",\"\", Biomasser!A35)","v":" -             Gylle fibre - dekanter separation - Svin"},{"$f":"IF(B899=\"\",0,SUMIFS(Input!$H$19015:$H$22265,Input!$F$19015:$F$22265,Summering!B899))","v":0}]
[null,{"$f":"IF(Biomasser!A36=\"\",\"\", Biomasser!A36)","v":" -             Staldgødning - Kvæg"},{"$f":"IF(B900=\"\",0,SUMIFS(Input!$H$19015:$H$22265,Input!$F$19015:$F$22265,Summering!B900))","v":0}]
[null,{"$f":"IF(Biomasser!A37=\"\",\"\", Biomasser!A37)","v":" -             Kvæggylle - Årsopdræt 6 mdr."},{"$f":"IF(B901=\"\",0,SUMIFS(Input!$H$19015:$H$22265,Input!$F$19015:$F$22265,Summering!B901))","v":0}]
[null,{"$f":"IF(Biomasser!A38=\"\",\"\", Biomasser!A38)","v":" -             Staldgødning - Fjerkræ"},{"$f":"IF(B902=\"\",0,SUMIFS(Input!$H$19015:$H$22265,Input!$F$19015:$F$22265,Summering!B902))","v":0}]
[null,{"$f":"IF(Biomasser!A39=\"\",\"\", Biomasser!A39)","v":"Slam og spildevand (Overskrift, kan ikke vælges)"},{"$f":"IF(B903=\"\",0,SUMIFS(Input!$H$19015:$H$22265,Input!$F$19015:$F$22265,Summering!B903))","v":0}]
[null,{"$f":"IF(Biomasser!A40=\"\",\"\", Biomasser!A40)","v":" -             Slam og spildevand samt uforurenede produktrester"},{"$f":"IF(B904=\"\",0,SUMIFS(Input!$H$19015:$H$22265,Input!$F$19015:$F$22265,Summering!B904))","v":0}]
[null,{"$f":"IF(Biomasser!A41=\"\",\"\", Biomasser!A41)","v":" -             Slam fra dambrug"},{"$f":"IF(B905=\"\",0,SUMIFS(Input!$H$19015:$H$22265,Input!$F$19015:$F$22265,Summering!B905))","v":0}]
[null,{"$f":"IF(Biomasser!A42=\"\",\"\", Biomasser!A42)","v":" -             Slam fra forarbejdning af animalske råvarer"},{"$f":"IF(B906=\"\",0,SUMIFS(Input!$H$19015:$H$22265,Input!$F$19015:$F$22265,Summering!B906))","v":0}]
[null,{"$f":"IF(Biomasser!A43=\"\",\"\", Biomasser!A43)","v":" -             Spildevandsslam"},{"$f":"IF(B907=\"\",0,SUMIFS(Input!$H$19015:$H$22265,Input!$F$19015:$F$22265,Summering!B907))","v":0}]
[null,{"$f":"IF(Biomasser!A44=\"\",\"\", Biomasser!A44)","v":" -             Proteolyseret processpildevand"},{"$f":"IF(B908=\"\",0,SUMIFS(Input!$H$19015:$H$22265,Input!$F$19015:$F$22265,Summering!B908))","v":0}]
[null,{"$f":"IF(Biomasser!A45=\"\",\"\", Biomasser!A45)","v":" -             Sekundær spildevandsslam"},{"$f":"IF(B909=\"\",0,SUMIFS(Input!$H$19015:$H$22265,Input!$F$19015:$F$22265,Summering!B909))","v":0}]
[null,{"$f":"IF(Biomasser!A46=\"\",\"\", Biomasser!A46)","v":" -             Sekundær spildevandsslam afvandet"},{"$f":"IF(B910=\"\",0,SUMIFS(Input!$H$19015:$H$22265,Input!$F$19015:$F$22265,Summering!B910))","v":0}]
[null,{"$f":"IF(Biomasser!A47=\"\",\"\", Biomasser!A47)","v":"Organisk affald fra husholdninger og erhverv (Overskrift, kan ikke vælges)"},{"$f":"IF(B911=\"\",0,SUMIFS(Input!$H$19015:$H$22265,Input!$F$19015:$F$22265,Summering!B911))","v":0}]
[null,{"$f":"IF(Biomasser!A48=\"\",\"\", Biomasser!A48)","v":" -             Kildesorteret organisk dagrenovation"},{"$f":"IF(B912=\"\",0,SUMIFS(Input!$H$19015:$H$22265,Input!$F$19015:$F$22265,Summering!B912))","v":0}]
[null,{"$f":"IF(Biomasser!A49=\"\",\"\", Biomasser!A49)","v":" -             Organisk husholdningsaffald - Renescience"},{"$f":"IF(B913=\"\",0,SUMIFS(Input!$H$19015:$H$22265,Input!$F$19015:$F$22265,Summering!B913))","v":0}]
[null,{"$f":"IF(Biomasser!A50=\"\",\"\", Biomasser!A50)","v":" -             Organisk husholdningsaffald - Pulper"},{"$f":"IF(B914=\"\",0,SUMIFS(Input!$H$19015:$H$22265,Input!$F$19015:$F$22265,Summering!B914))","v":0}]
[null,{"$f":"IF(Biomasser!A51=\"\",\"\", Biomasser!A51)","v":" -             Organisk husholdningsaffald - Rullesigte"},{"$f":"IF(B915=\"\",0,SUMIFS(Input!$H$19015:$H$22265,Input!$F$19015:$F$22265,Summering!B915))","v":0}]
[null,{"$f":"IF(Biomasser!A52=\"\",\"\", Biomasser!A52)","v":" -             Organisk husholdningsaffald - Skruepresse"},{"$f":"IF(B916=\"\",0,SUMIFS(Input!$H$19015:$H$22265,Input!$F$19015:$F$22265,Summering!B916))","v":0}]
[null,{"$f":"IF(Biomasser!A53=\"\",\"\", Biomasser!A53)","v":" -             Organisk husholdningsaffald - Neddeling"},{"$f":"IF(B917=\"\",0,SUMIFS(Input!$H$19015:$H$22265,Input!$F$19015:$F$22265,Summering!B917))","v":0}]
[null,{"$f":"IF(Biomasser!A54=\"\",\"\", Biomasser!A54)","v":" -             Organisk affald fra erhverv"},{"$f":"IF(B918=\"\",0,SUMIFS(Input!$H$19015:$H$22265,Input!$F$19015:$F$22265,Summering!B918))","v":0}]
[null,{"$f":"IF(Biomasser!A55=\"\",\"\", Biomasser!A55)","v":"Rester og biprodukter fra planter og afgrøder (Overskrift, kan ikke vælges)"},{"$f":"IF(B919=\"\",0,SUMIFS(Input!$H$19015:$H$22265,Input!$F$19015:$F$22265,Summering!B919))","v":0}]
[null,{"$f":"IF(Biomasser!A56=\"\",\"\", Biomasser!A56)","v":" -             Cellulose"},{"$f":"IF(B920=\"\",0,SUMIFS(Input!$H$19015:$H$22265,Input!$F$19015:$F$22265,Summering!B920))","v":0}]
[null,{"$f":"IF(Biomasser!A57=\"\",\"\", Biomasser!A57)","v":" -             Naturpleje biomasse"},{"$f":"IF(B921=\"\",0,SUMIFS(Input!$H$19015:$H$22265,Input!$F$19015:$F$22265,Summering!B921))","v":0}]
[null,{"$f":"IF(Biomasser!A58=\"\",\"\", Biomasser!A58)","v":" -             Halm"},{"$f":"IF(B922=\"\",0,SUMIFS(Input!$H$19015:$H$22265,Input!$F$19015:$F$22265,Summering!B922))","v":0}]
[null,{"$f":"IF(Biomasser!A59=\"\",\"\", Biomasser!A59)","v":" -             Have-park affald"},{"$f":"IF(B923=\"\",0,SUMIFS(Input!$H$19015:$H$22265,Input!$F$19015:$F$22265,Summering!B923))","v":0}]
[null,{"$f":"IF(Biomasser!A60=\"\",\"\", Biomasser!A60)","v":" -             Andre restprodukter fra produktion af primærafgrøder"},{"$f":"IF(B924=\"\",0,SUMIFS(Input!$H$19015:$H$22265,Input!$F$19015:$F$22265,Summering!B924))","v":0}]
[null,{"$f":"IF(Biomasser!A61=\"\",\"\", Biomasser!A61)","v":" -             Kasserede afgrøder"},{"$f":"IF(B925=\"\",0,SUMIFS(Input!$H$19015:$H$22265,Input!$F$19015:$F$22265,Summering!B925))","v":0}]
[null,{"$f":"IF(Biomasser!A62=\"\",\"\", Biomasser!A62)","v":"Rester og biprodukter fra levnesmiddel- og dyrefoderindustrien  (Overskrift, kan ikke vælges)"},{"$f":"IF(B926=\"\",0,SUMIFS(Input!$H$19015:$H$22265,Input!$F$19015:$F$22265,Summering!B926))","v":0}]
[null,{"$f":"IF(Biomasser!A63=\"\",\"\", Biomasser!A63)","v":" -             Animalske biprodukter"},{"$f":"IF(B927=\"\",0,SUMIFS(Input!$H$19015:$H$22265,Input!$F$19015:$F$22265,Summering!B927))","v":0}]
[null,{"$f":"IF(Biomasser!A64=\"\",\"\", Biomasser!A64)","v":" -             Mave/tarm kvæg"},{"$f":"IF(B928=\"\",0,SUMIFS(Input!$H$19015:$H$22265,Input!$F$19015:$F$22265,Summering!B928))","v":0}]
[null,{"$f":"IF(Biomasser!A65=\"\",\"\", Biomasser!A65)","v":" -             Mave/tarm svin"},{"$f":"IF(B929=\"\",0,SUMIFS(Input!$H$19015:$H$22265,Input!$F$19015:$F$22265,Summering!B929))","v":0}]
[null,{"$f":"IF(Biomasser!A66=\"\",\"\", Biomasser!A66)","v":" -             Valle"},{"$f":"IF(B930=\"\",0,SUMIFS(Input!$H$19015:$H$22265,Input!$F$19015:$F$22265,Summering!B930))","v":0}]
[null,{"$f":"IF(Biomasser!A67=\"\",\"\", Biomasser!A67)","v":" -             Valle koncentrat"},{"$f":"IF(B931=\"\",0,SUMIFS(Input!$H$19015:$H$22265,Input!$F$19015:$F$22265,Summering!B931))","v":0}]
[null,{"$f":"IF(Biomasser!A68=\"\",\"\", Biomasser!A68)","v":" -             Protein"},{"$f":"IF(B932=\"\",0,SUMIFS(Input!$H$19015:$H$22265,Input!$F$19015:$F$22265,Summering!B932))","v":0}]
[null,{"$f":"IF(Biomasser!A69=\"\",\"\", Biomasser!A69)","v":" -             Fedt"},{"$f":"IF(B933=\"\",0,SUMIFS(Input!$H$19015:$H$22265,Input!$F$19015:$F$22265,Summering!B933))","v":0}]
[null,{"$f":"IF(Biomasser!A70=\"\",\"\", Biomasser!A70)","v":" -             Vinasse (2,2 pct. kvælstof)"},{"$f":"IF(B934=\"\",0,SUMIFS(Input!$H$19015:$H$22265,Input!$F$19015:$F$22265,Summering!B934))","v":0}]
[null,{"$f":"IF(Biomasser!A71=\"\",\"\", Biomasser!A71)","v":" -             Vinasse (3,5 pct. kvælstof)"},{"$f":"IF(B935=\"\",0,SUMIFS(Input!$H$19015:$H$22265,Input!$F$19015:$F$22265,Summering!B935))","v":0}]
[null,{"$f":"IF(Biomasser!A72=\"\",\"\", Biomasser!A72)","v":" -             Kartoffelfrugtsaft"},{"$f":"IF(B936=\"\",0,SUMIFS(Input!$H$19015:$H$22265,Input!$F$19015:$F$22265,Summering!B936))","v":0}]
[null,{"$f":"IF(Biomasser!A73=\"\",\"\", Biomasser!A73)","v":" -             Glukose"},{"$f":"IF(B937=\"\",0,SUMIFS(Input!$H$19015:$H$22265,Input!$F$19015:$F$22265,Summering!B937))","v":0}]
[null,{"$f":"IF(Biomasser!A74=\"\",\"\", Biomasser!A74)","v":" -             Alkohol"},{"$f":"IF(B938=\"\",0,SUMIFS(Input!$H$19015:$H$22265,Input!$F$19015:$F$22265,Summering!B938))","v":0}]
[null,{"$f":"IF(Biomasser!A75=\"\",\"\", Biomasser!A75)","v":" -             Pressesaft fra grøntpilleproduktion"},{"$f":"IF(B939=\"\",0,SUMIFS(Input!$H$19015:$H$22265,Input!$F$19015:$F$22265,Summering!B939))","v":0}]
[null,{"$f":"IF(Biomasser!A76=\"\",\"\", Biomasser!A76)","v":" -             Inaktiveret og kalkstabiliseret biomasse"},{"$f":"IF(B940=\"\",0,SUMIFS(Input!$H$19015:$H$22265,Input!$F$19015:$F$22265,Summering!B940))","v":0}]
[null,{"$f":"IF(Biomasser!A77=\"\",\"\", Biomasser!A77)","v":"Anden biomasse (Overskrift)"},{"$f":"IF(B941=\"\",0,SUMIFS(Input!$H$19015:$H$22265,Input!$F$19015:$F$22265,Summering!B941))","v":0}]
[null,{"$f":"IF(Biomasser!A78=\"\",\"\", Biomasser!A78)","v":" -             Råglycerin"},{"$f":"IF(B942=\"\",0,SUMIFS(Input!$H$19015:$H$22265,Input!$F$19015:$F$22265,Summering!B942))","v":0}]
[null,{"$f":"IF(Biomasser!A79=\"\",\"\", Biomasser!A79)","v":""},{"$f":"IF(B943=\"\",0,SUMIFS(Input!$H$19015:$H$22265,Input!$F$19015:$F$22265,Summering!B943))","v":0}]
[null,{"$f":"IF(Biomasser!A80=\"\",\"\", Biomasser!A80)","v":""},{"$f":"IF(B944=\"\",0,SUMIFS(Input!$H$19015:$H$22265,Input!$F$19015:$F$22265,Summering!B944))","v":0}]
[null,{"$f":"IF(Biomasser!A81=\"\",\"\", Biomasser!A81)","v":""},{"$f":"IF(B945=\"\",0,SUMIFS(Input!$H$19015:$H$22265,Input!$F$19015:$F$22265,Summering!B945))","v":0}]
[null,{"$f":"IF(Biomasser!A82=\"\",\"\", Biomasser!A82)","v":""},{"$f":"IF(B946=\"\",0,SUMIFS(Input!$H$19015:$H$22265,Input!$F$19015:$F$22265,Summering!B946))","v":0}]
[null,{"$f":"IF(Biomasser!A83=\"\",\"\", Biomasser!A83)","v":""},{"$f":"IF(B947=\"\",0,SUMIFS(Input!$H$19015:$H$22265,Input!$F$19015:$F$22265,Summering!B947))","v":0}]
[null,{"$f":"IF(Biomasser!A84=\"\",\"\", Biomasser!A84)","v":""},{"$f":"IF(B948=\"\",0,SUMIFS(Input!$H$19015:$H$22265,Input!$F$19015:$F$22265,Summering!B948))","v":0}]
[null,{"$f":"IF(Biomasser!A85=\"\",\"\", Biomasser!A85)","v":""},{"$f":"IF(B949=\"\",0,SUMIFS(Input!$H$19015:$H$22265,Input!$F$19015:$F$22265,Summering!B949))","v":0}]
[null,{"$f":"IF(Biomasser!A86=\"\",\"\", Biomasser!A86)","v":""},{"$f":"IF(B950=\"\",0,SUMIFS(Input!$H$19015:$H$22265,Input!$F$19015:$F$22265,Summering!B950))","v":0}]
[null,{"$f":"IF(Biomasser!A87=\"\",\"\", Biomasser!A87)","v":""},{"$f":"IF(B951=\"\",0,SUMIFS(Input!$H$19015:$H$22265,Input!$F$19015:$F$22265,Summering!B951))","v":0}]
[null,{"$f":"IF(Biomasser!A88=\"\",\"\", Biomasser!A88)","v":""},{"$f":"IF(B952=\"\",0,SUMIFS(Input!$H$19015:$H$22265,Input!$F$19015:$F$22265,Summering!B952))","v":0}]
[null,{"$f":"IF(Biomasser!A89=\"\",\"\", Biomasser!A89)","v":""},{"$f":"IF(B953=\"\",0,SUMIFS(Input!$H$19015:$H$22265,Input!$F$19015:$F$22265,Summering!B953))","v":0}]
[null,{"$f":"IF(Biomasser!A90=\"\",\"\", Biomasser!A90)","v":""},{"$f":"IF(B954=\"\",0,SUMIFS(Input!$H$19015:$H$22265,Input!$F$19015:$F$22265,Summering!B954))","v":0}]
[null,{"$f":"IF(Biomasser!A91=\"\",\"\", Biomasser!A91)","v":""},{"$f":"IF(B955=\"\",0,SUMIFS(Input!$H$19015:$H$22265,Input!$F$19015:$F$22265,Summering!B955))","v":0}]
[null,{"$f":"IF(Biomasser!A92=\"\",\"\", Biomasser!A92)","v":""},{"$f":"IF(B956=\"\",0,SUMIFS(Input!$H$19015:$H$22265,Input!$F$19015:$F$22265,Summering!B956))","v":0}]
[null,{"$f":"IF(Biomasser!A93=\"\",\"\", Biomasser!A93)","v":""},{"$f":"IF(B957=\"\",0,SUMIFS(Input!$H$19015:$H$22265,Input!$F$19015:$F$22265,Summering!B957))","v":0}]
[null,{"$f":"IF(Biomasser!A94=\"\",\"\", Biomasser!A94)","v":""},{"$f":"IF(B958=\"\",0,SUMIFS(Input!$H$19015:$H$22265,Input!$F$19015:$F$22265,Summering!B958))","v":0}]
[null,{"$f":"IF(Biomasser!A95=\"\",\"\", Biomasser!A95)","v":""},{"$f":"IF(B959=\"\",0,SUMIFS(Input!$H$19015:$H$22265,Input!$F$19015:$F$22265,Summering!B959))","v":0}]
[null,{"$f":"IF(Biomasser!A96=\"\",\"\", Biomasser!A96)","v":""},{"$f":"IF(B960=\"\",0,SUMIFS(Input!$H$19015:$H$22265,Input!$F$19015:$F$22265,Summering!B960))","v":0}]
[null,{"$f":"IF(Biomasser!A97=\"\",\"\", Biomasser!A97)","v":""},{"$f":"IF(B961=\"\",0,SUMIFS(Input!$H$19015:$H$22265,Input!$F$19015:$F$22265,Summering!B961))","v":0}]
[null,{"$f":"IF(Biomasser!A98=\"\",\"\", Biomasser!A98)","v":""},{"$f":"IF(B962=\"\",0,SUMIFS(Input!$H$19015:$H$22265,Input!$F$19015:$F$22265,Summering!B962))","v":0}]
[null,{"$f":"IF(Biomasser!A99=\"\",\"\", Biomasser!A99)","v":""},{"$f":"IF(B963=\"\",0,SUMIFS(Input!$H$19015:$H$22265,Input!$F$19015:$F$22265,Summering!B963))","v":0}]
[null,{"$f":"IF(Biomasser!A100=\"\",\"\", Biomasser!A100)","v":""},{"$f":"IF(B964=\"\",0,SUMIFS(Input!$H$19015:$H$22265,Input!$F$19015:$F$22265,Summering!B964))","v":0}]
[null,{"$f":"IF(Biomasser!A101=\"\",\"\", Biomasser!A101)","v":""},{"$f":"IF(B965=\"\",0,SUMIFS(Input!$H$19015:$H$22265,Input!$F$19015:$F$22265,Summering!B965))","v":0}]
[null,{"$f":"IF(Biomasser!A102=\"\",\"\", Biomasser!A102)","v":""},{"$f":"IF(B966=\"\",0,SUMIFS(Input!$H$19015:$H$22265,Input!$F$19015:$F$22265,Summering!B966))","v":0}]
[null,{"$f":"IF(Biomasser!A103=\"\",\"\", Biomasser!A103)","v":""},{"$f":"IF(B967=\"\",0,SUMIFS(Input!$H$19015:$H$22265,Input!$F$19015:$F$22265,Summering!B967))","v":0}]
[null,{"$f":"IF(Biomasser!A104=\"\",\"\", Biomasser!A104)","v":""},{"$f":"IF(B968=\"\",0,SUMIFS(Input!$H$19015:$H$22265,Input!$F$19015:$F$22265,Summering!B968))","v":0}]
[null,{"$f":"IF(Biomasser!A105=\"\",\"\", Biomasser!A105)","v":""},{"$f":"IF(B969=\"\",0,SUMIFS(Input!$H$19015:$H$22265,Input!$F$19015:$F$22265,Summering!B969))","v":0}]
[null,{"$f":"IF(Biomasser!A106=\"\",\"\", Biomasser!A106)","v":""},{"$f":"IF(B970=\"\",0,SUMIFS(Input!$H$19015:$H$22265,Input!$F$19015:$F$22265,Summering!B970))","v":0}]
[null,{"$f":"IF(Biomasser!A107=\"\",\"\", Biomasser!A107)","v":""},{"$f":"IF(B971=\"\",0,SUMIFS(Input!$H$19015:$H$22265,Input!$F$19015:$F$22265,Summering!B971))","v":0}]
[null,{"$f":"IF(Biomasser!A108=\"\",\"\", Biomasser!A108)","v":""},{"$f":"IF(B972=\"\",0,SUMIFS(Input!$H$19015:$H$22265,Input!$F$19015:$F$22265,Summering!B972))","v":0}]
[null,{"$f":"IF(Biomasser!A109=\"\",\"\", Biomasser!A109)","v":""},{"$f":"IF(B973=\"\",0,SUMIFS(Input!$H$19015:$H$22265,Input!$F$19015:$F$22265,Summering!B973))","v":0}]
[null,{"$f":"IF(Biomasser!A110=\"\",\"\", Biomasser!A110)","v":""},{"$f":"IF(B974=\"\",0,SUMIFS(Input!$H$19015:$H$22265,Input!$F$19015:$F$22265,Summering!B974))","v":0}]
[null,{"$f":"IF(Biomasser!A111=\"\",\"\", Biomasser!A111)","v":""},{"$f":"IF(B975=\"\",0,SUMIFS(Input!$H$19015:$H$22265,Input!$F$19015:$F$22265,Summering!B975))","v":0}]
[null,{"$f":"IF(Biomasser!A112=\"\",\"\", Biomasser!A112)","v":""},{"$f":"IF(B976=\"\",0,SUMIFS(Input!$H$19015:$H$22265,Input!$F$19015:$F$22265,Summering!B976))","v":0}]
[null,{"$f":"IF(Biomasser!A113=\"\",\"\", Biomasser!A113)","v":""},{"$f":"IF(B977=\"\",0,SUMIFS(Input!$H$19015:$H$22265,Input!$F$19015:$F$22265,Summering!B977))","v":0}]
[null,{"$f":"IF(Biomasser!A114=\"\",\"\", Biomasser!A114)","v":""},{"$f":"IF(B978=\"\",0,SUMIFS(Input!$H$19015:$H$22265,Input!$F$19015:$F$22265,Summering!B978))","v":0}]
[null,{"$f":"IF(Biomasser!A115=\"\",\"\", Biomasser!A115)","v":""},{"$f":"IF(B979=\"\",0,SUMIFS(Input!$H$19015:$H$22265,Input!$F$19015:$F$22265,Summering!B979))","v":0}]
[null,{"$f":"IF(Biomasser!A116=\"\",\"\", Biomasser!A116)","v":""},{"$f":"IF(B980=\"\",0,SUMIFS(Input!$H$19015:$H$22265,Input!$F$19015:$F$22265,Summering!B980))","v":0}]
[null,{"$f":"IF(Biomasser!A117=\"\",\"\", Biomasser!A117)","v":""},{"$f":"IF(B981=\"\",0,SUMIFS(Input!$H$19015:$H$22265,Input!$F$19015:$F$22265,Summering!B981))","v":0}]
[null,{"$f":"IF(Biomasser!A118=\"\",\"\", Biomasser!A118)","v":""},{"$f":"IF(B982=\"\",0,SUMIFS(Input!$H$19015:$H$22265,Input!$F$19015:$F$22265,Summering!B982))","v":0}]
[null,{"$f":"IF(Biomasser!A119=\"\",\"\", Biomasser!A119)","v":""},{"$f":"IF(B983=\"\",0,SUMIFS(Input!$H$19015:$H$22265,Input!$F$19015:$F$22265,Summering!B983))","v":0}]
[null,{"$f":"IF(Biomasser!A120=\"\",\"\", Biomasser!A120)","v":""},{"$f":"IF(B984=\"\",0,SUMIFS(Input!$H$19015:$H$22265,Input!$F$19015:$F$22265,Summering!B984))","v":0}]
[null,{"$f":"IF(Biomasser!A121=\"\",\"\", Biomasser!A121)","v":""},{"$f":"IF(B985=\"\",0,SUMIFS(Input!$H$19015:$H$22265,Input!$F$19015:$F$22265,Summering!B985))","v":0}]
[null,{"$f":"IF(Biomasser!A122=\"\",\"\", Biomasser!A122)","v":""},{"$f":"IF(B986=\"\",0,SUMIFS(Input!$H$19015:$H$22265,Input!$F$19015:$F$22265,Summering!B986))","v":0}]
[null,{"$f":"IF(Biomasser!A123=\"\",\"\", Biomasser!A123)","v":""},{"$f":"IF(B987=\"\",0,SUMIFS(Input!$H$19015:$H$22265,Input!$F$19015:$F$22265,Summering!B987))","v":0}]
[null,{"$f":"IF(Biomasser!A124=\"\",\"\", Biomasser!A124)","v":""},{"$f":"IF(B988=\"\",0,SUMIFS(Input!$H$19015:$H$22265,Input!$F$19015:$F$22265,Summering!B988))","v":0}]
[null,"August",{"$f":"SUM(C990:C1111)","v":0},{"$f":"SUMIFS(Input!$H$10:$H$76760,Input!$A$10:$A$76760,\"Gas\",Input!$C$10:$C$76760,Summering!$B$5,Input!$B$10:$B$76760,\"*\"&B989&\"*\")","v":0}]
[null,{"$f":"IF(Biomasser!A3=\"\",\"\", Biomasser!A3)","v":"Afgrøder (Overskrift, kan ikke vælges)"},{"$f":"IF(B990=\"\",0,SUMIFS(Input!$H$22270:$H$25520,  Input!$F$22270:$F$25520,Summering!B990))","v":0}]
[null,{"$f":"IF(Biomasser!A4=\"\",\"\", Biomasser!A4)","v":" -             Majs"},{"$f":"IF(B991=\"\",0,SUMIFS(Input!$H$22270:$H$25520,  Input!$F$22270:$F$25520,Summering!B991))","v":0}]
[null,{"$f":"IF(Biomasser!A5=\"\",\"\", Biomasser!A5)","v":" -             Roer"},{"$f":"IF(B992=\"\",0,SUMIFS(Input!$H$22270:$H$25520,  Input!$F$22270:$F$25520,Summering!B992))","v":0}]
[null,{"$f":"IF(Biomasser!A6=\"\",\"\", Biomasser!A6)","v":" -             Korn"},{"$f":"IF(B993=\"\",0,SUMIFS(Input!$H$22270:$H$25520,  Input!$F$22270:$F$25520,Summering!B993))","v":0}]
[null,{"$f":"IF(Biomasser!A7=\"\",\"\", Biomasser!A7)","v":" -             Græs"},{"$f":"IF(B994=\"\",0,SUMIFS(Input!$H$22270:$H$25520,  Input!$F$22270:$F$25520,Summering!B994))","v":0}]
[null,{"$f":"IF(Biomasser!A8=\"\",\"\", Biomasser!A8)","v":" -             Kløvergræs"},{"$f":"IF(B995=\"\",0,SUMIFS(Input!$H$22270:$H$25520,  Input!$F$22270:$F$25520,Summering!B995))","v":0}]
[null,{"$f":"IF(Biomasser!A9=\"\",\"\", Biomasser!A9)","v":" -             Jordskokker"},{"$f":"IF(B996=\"\",0,SUMIFS(Input!$H$22270:$H$25520,  Input!$F$22270:$F$25520,Summering!B996))","v":0}]
[null,{"$f":"IF(Biomasser!A10=\"\",\"\", Biomasser!A10)","v":" -             Andre afgrøder"},{"$f":"IF(B997=\"\",0,SUMIFS(Input!$H$22270:$H$25520,  Input!$F$22270:$F$25520,Summering!B997))","v":0}]
[null,{"$f":"IF(Biomasser!A11=\"\",\"\", Biomasser!A11)","v":" -             Hvedehelsæd"},{"$f":"IF(B998=\"\",0,SUMIFS(Input!$H$22270:$H$25520,  Input!$F$22270:$F$25520,Summering!B998))","v":0}]
[null,{"$f":"IF(Biomasser!A12=\"\",\"\", Biomasser!A12)","v":" -             Top af foderroe"},{"$f":"IF(B999=\"\",0,SUMIFS(Input!$H$22270:$H$25520,  Input!$F$22270:$F$25520,Summering!B999))","v":0}]
[null,{"$f":"IF(Biomasser!A13=\"\",\"\", Biomasser!A13)","v":" -             Foderroe - rod og top frisk"},{"$f":"IF(B1000=\"\",0,SUMIFS(Input!$H$22270:$H$25520,  Input!$F$22270:$F$25520,Summering!B1000))","v":0}]
[null,{"$f":"IF(Biomasser!A14=\"\",\"\", Biomasser!A14)","v":" -             Økologisk kløvergræs"},{"$f":"IF(B1001=\"\",0,SUMIFS(Input!$H$22270:$H$25520,  Input!$F$22270:$F$25520,Summering!B1001))","v":0}]
[null,{"$f":"IF(Biomasser!A15=\"\",\"\", Biomasser!A15)","v":"Husdyrgødning (Overskrift, kan ikke vælges)"},{"$f":"IF(B1002=\"\",0,SUMIFS(Input!$H$22270:$H$25520,  Input!$F$22270:$F$25520,Summering!B1002))","v":0}]
[null,{"$f":"IF(Biomasser!A16=\"\",\"\", Biomasser!A16)","v":" -             Kvæggylle"},{"$f":"IF(B1003=\"\",0,SUMIFS(Input!$H$22270:$H$25520,  Input!$F$22270:$F$25520,Summering!B1003))","v":0}]
[null,{"$f":"IF(Biomasser!A17=\"\",\"\", Biomasser!A17)","v":" -             Svinegylle"},{"$f":"IF(B1004=\"\",0,SUMIFS(Input!$H$22270:$H$25520,  Input!$F$22270:$F$25520,Summering!B1004))","v":0}]
[null,{"$f":"IF(Biomasser!A18=\"\",\"\", Biomasser!A18)","v":" -             Gylle fra so"},{"$f":"IF(B1005=\"\",0,SUMIFS(Input!$H$22270:$H$25520,  Input!$F$22270:$F$25520,Summering!B1005))","v":0}]
[null,{"$f":"IF(Biomasser!A19=\"\",\"\", Biomasser!A19)","v":" -             Minkgylle"},{"$f":"IF(B1006=\"\",0,SUMIFS(Input!$H$22270:$H$25520,  Input!$F$22270:$F$25520,Summering!B1006))","v":0}]
[null,{"$f":"IF(Biomasser!A20=\"\",\"\", Biomasser!A20)","v":" -             Fjerkrægylle"},{"$f":"IF(B1007=\"\",0,SUMIFS(Input!$H$22270:$H$25520,  Input!$F$22270:$F$25520,Summering!B1007))","v":0}]
[null,{"$f":"IF(Biomasser!A21=\"\",\"\", Biomasser!A21)","v":" -             Blandet gylle"},{"$f":"IF(B1008=\"\",0,SUMIFS(Input!$H$22270:$H$25520,  Input!$F$22270:$F$25520,Summering!B1008))","v":0}]
[null,{"$f":"IF(Biomasser!A22=\"\",\"\", Biomasser!A22)","v":" -             Dybstrøelse - Kvæg"},{"$f":"IF(B1009=\"\",0,SUMIFS(Input!$H$22270:$H$25520,  Input!$F$22270:$F$25520,Summering!B1009))","v":0}]
[null,{"$f":"IF(Biomasser!A23=\"\",\"\", Biomasser!A23)","v":" -             Dybstrøelse - Fjerkræ"},{"$f":"IF(B1010=\"\",0,SUMIFS(Input!$H$22270:$H$25520,  Input!$F$22270:$F$25520,Summering!B1010))","v":0}]
[null,{"$f":"IF(Biomasser!A24=\"\",\"\", Biomasser!A24)","v":" -             Dybstrøelse - Hest"},{"$f":"IF(B1011=\"\",0,SUMIFS(Input!$H$22270:$H$25520,  Input!$F$22270:$F$25520,Summering!B1011))","v":0}]
[null,{"$f":"IF(Biomasser!A25=\"\",\"\", Biomasser!A25)","v":" -             Dybstrøelse - Andre typer"},{"$f":"IF(B1012=\"\",0,SUMIFS(Input!$H$22270:$H$25520,  Input!$F$22270:$F$25520,Summering!B1012))","v":0}]
[null,{"$f":"IF(Biomasser!A26=\"\",\"\", Biomasser!A26)","v":" -             Fast gødning"},{"$f":"IF(B1013=\"\",0,SUMIFS(Input!$H$22270:$H$25520,  Input!$F$22270:$F$25520,Summering!B1013))","v":0}]
[null,{"$f":"IF(Biomasser!A27=\"\",\"\", Biomasser!A27)","v":" -             Ajle"},{"$f":"IF(B1014=\"\",0,SUMIFS(Input!$H$22270:$H$25520,  Input!$F$22270:$F$25520,Summering!B1014))","v":0}]
[null,{"$f":"IF(Biomasser!A28=\"\",\"\", Biomasser!A28)","v":" -             Fiberfraktion"},{"$f":"IF(B1015=\"\",0,SUMIFS(Input!$H$22270:$H$25520,  Input!$F$22270:$F$25520,Summering!B1015))","v":0}]
[null,{"$f":"IF(Biomasser!A29=\"\",\"\", Biomasser!A29)","v":" -             Flydende fraktion fra separationsanlæg"},{"$f":"IF(B1016=\"\",0,SUMIFS(Input!$H$22270:$H$25520,  Input!$F$22270:$F$25520,Summering!B1016))","v":0}]
[null,{"$f":"IF(Biomasser!A30=\"\",\"\", Biomasser!A30)","v":" -             Flydende fraktion"},{"$f":"IF(B1017=\"\",0,SUMIFS(Input!$H$22270:$H$25520,  Input!$F$22270:$F$25520,Summering!B1017))","v":0}]
[null,{"$f":"IF(Biomasser!A31=\"\",\"\", Biomasser!A31)","v":" -             Anden husdyrgødning"},{"$f":"IF(B1018=\"\",0,SUMIFS(Input!$H$22270:$H$25520,  Input!$F$22270:$F$25520,Summering!B1018))","v":0}]
[null,{"$f":"IF(Biomasser!A32=\"\",\"\", Biomasser!A32)","v":" -             Forsuret svinegylle"},{"$f":"IF(B1019=\"\",0,SUMIFS(Input!$H$22270:$H$25520,  Input!$F$22270:$F$25520,Summering!B1019))","v":0}]
[null,{"$f":"IF(Biomasser!A33=\"\",\"\", Biomasser!A33)","v":" -             Dybstrøelse - Svin"},{"$f":"IF(B1020=\"\",0,SUMIFS(Input!$H$22270:$H$25520,  Input!$F$22270:$F$25520,Summering!B1020))","v":0}]
[null,{"$f":"IF(Biomasser!A34=\"\",\"\", Biomasser!A34)","v":" -             Gylle fibre - kemisk separation - Svin"},{"$f":"IF(B1021=\"\",0,SUMIFS(Input!$H$22270:$H$25520,  Input!$F$22270:$F$25520,Summering!B1021))","v":0}]
[null,{"$f":"IF(Biomasser!A35=\"\",\"\", Biomasser!A35)","v":" -             Gylle fibre - dekanter separation - Svin"},{"$f":"IF(B1022=\"\",0,SUMIFS(Input!$H$22270:$H$25520,  Input!$F$22270:$F$25520,Summering!B1022))","v":0}]
[null,{"$f":"IF(Biomasser!A36=\"\",\"\", Biomasser!A36)","v":" -             Staldgødning - Kvæg"},{"$f":"IF(B1023=\"\",0,SUMIFS(Input!$H$22270:$H$25520,  Input!$F$22270:$F$25520,Summering!B1023))","v":0}]
[null,{"$f":"IF(Biomasser!A37=\"\",\"\", Biomasser!A37)","v":" -             Kvæggylle - Årsopdræt 6 mdr."},{"$f":"IF(B1024=\"\",0,SUMIFS(Input!$H$22270:$H$25520,  Input!$F$22270:$F$25520,Summering!B1024))","v":0}]
[null,{"$f":"IF(Biomasser!A38=\"\",\"\", Biomasser!A38)","v":" -             Staldgødning - Fjerkræ"},{"$f":"IF(B1025=\"\",0,SUMIFS(Input!$H$22270:$H$25520,  Input!$F$22270:$F$25520,Summering!B1025))","v":0}]
[null,{"$f":"IF(Biomasser!A39=\"\",\"\", Biomasser!A39)","v":"Slam og spildevand (Overskrift, kan ikke vælges)"},{"$f":"IF(B1026=\"\",0,SUMIFS(Input!$H$22270:$H$25520,  Input!$F$22270:$F$25520,Summering!B1026))","v":0}]
[null,{"$f":"IF(Biomasser!A40=\"\",\"\", Biomasser!A40)","v":" -             Slam og spildevand samt uforurenede produktrester"},{"$f":"IF(B1027=\"\",0,SUMIFS(Input!$H$22270:$H$25520,  Input!$F$22270:$F$25520,Summering!B1027))","v":0}]
[null,{"$f":"IF(Biomasser!A41=\"\",\"\", Biomasser!A41)","v":" -             Slam fra dambrug"},{"$f":"IF(B1028=\"\",0,SUMIFS(Input!$H$22270:$H$25520,  Input!$F$22270:$F$25520,Summering!B1028))","v":0}]
[null,{"$f":"IF(Biomasser!A42=\"\",\"\", Biomasser!A42)","v":" -             Slam fra forarbejdning af animalske råvarer"},{"$f":"IF(B1029=\"\",0,SUMIFS(Input!$H$22270:$H$25520,  Input!$F$22270:$F$25520,Summering!B1029))","v":0}]
[null,{"$f":"IF(Biomasser!A43=\"\",\"\", Biomasser!A43)","v":" -             Spildevandsslam"},{"$f":"IF(B1030=\"\",0,SUMIFS(Input!$H$22270:$H$25520,  Input!$F$22270:$F$25520,Summering!B1030))","v":0}]
[null,{"$f":"IF(Biomasser!A44=\"\",\"\", Biomasser!A44)","v":" -             Proteolyseret processpildevand"},{"$f":"IF(B1031=\"\",0,SUMIFS(Input!$H$22270:$H$25520,  Input!$F$22270:$F$25520,Summering!B1031))","v":0}]
[null,{"$f":"IF(Biomasser!A45=\"\",\"\", Biomasser!A45)","v":" -             Sekundær spildevandsslam"},{"$f":"IF(B1032=\"\",0,SUMIFS(Input!$H$22270:$H$25520,  Input!$F$22270:$F$25520,Summering!B1032))","v":0}]
[null,{"$f":"IF(Biomasser!A46=\"\",\"\", Biomasser!A46)","v":" -             Sekundær spildevandsslam afvandet"},{"$f":"IF(B1033=\"\",0,SUMIFS(Input!$H$22270:$H$25520,  Input!$F$22270:$F$25520,Summering!B1033))","v":0}]
[null,{"$f":"IF(Biomasser!A47=\"\",\"\", Biomasser!A47)","v":"Organisk affald fra husholdninger og erhverv (Overskrift, kan ikke vælges)"},{"$f":"IF(B1034=\"\",0,SUMIFS(Input!$H$22270:$H$25520,  Input!$F$22270:$F$25520,Summering!B1034))","v":0}]
[null,{"$f":"IF(Biomasser!A48=\"\",\"\", Biomasser!A48)","v":" -             Kildesorteret organisk dagrenovation"},{"$f":"IF(B1035=\"\",0,SUMIFS(Input!$H$22270:$H$25520,  Input!$F$22270:$F$25520,Summering!B1035))","v":0}]
[null,{"$f":"IF(Biomasser!A49=\"\",\"\", Biomasser!A49)","v":" -             Organisk husholdningsaffald - Renescience"},{"$f":"IF(B1036=\"\",0,SUMIFS(Input!$H$22270:$H$25520,  Input!$F$22270:$F$25520,Summering!B1036))","v":0}]
[null,{"$f":"IF(Biomasser!A50=\"\",\"\", Biomasser!A50)","v":" -             Organisk husholdningsaffald - Pulper"},{"$f":"IF(B1037=\"\",0,SUMIFS(Input!$H$22270:$H$25520,  Input!$F$22270:$F$25520,Summering!B1037))","v":0}]
[null,{"$f":"IF(Biomasser!A51=\"\",\"\", Biomasser!A51)","v":" -             Organisk husholdningsaffald - Rullesigte"},{"$f":"IF(B1038=\"\",0,SUMIFS(Input!$H$22270:$H$25520,  Input!$F$22270:$F$25520,Summering!B1038))","v":0}]
[null,{"$f":"IF(Biomasser!A52=\"\",\"\", Biomasser!A52)","v":" -             Organisk husholdningsaffald - Skruepresse"},{"$f":"IF(B1039=\"\",0,SUMIFS(Input!$H$22270:$H$25520,  Input!$F$22270:$F$25520,Summering!B1039))","v":0}]
[null,{"$f":"IF(Biomasser!A53=\"\",\"\", Biomasser!A53)","v":" -             Organisk husholdningsaffald - Neddeling"},{"$f":"IF(B1040=\"\",0,SUMIFS(Input!$H$22270:$H$25520,  Input!$F$22270:$F$25520,Summering!B1040))","v":0}]
[null,{"$f":"IF(Biomasser!A54=\"\",\"\", Biomasser!A54)","v":" -             Organisk affald fra erhverv"},{"$f":"IF(B1041=\"\",0,SUMIFS(Input!$H$22270:$H$25520,  Input!$F$22270:$F$25520,Summering!B1041))","v":0}]
[null,{"$f":"IF(Biomasser!A55=\"\",\"\", Biomasser!A55)","v":"Rester og biprodukter fra planter og afgrøder (Overskrift, kan ikke vælges)"},{"$f":"IF(B1042=\"\",0,SUMIFS(Input!$H$22270:$H$25520,  Input!$F$22270:$F$25520,Summering!B1042))","v":0}]
[null,{"$f":"IF(Biomasser!A56=\"\",\"\", Biomasser!A56)","v":" -             Cellulose"},{"$f":"IF(B1043=\"\",0,SUMIFS(Input!$H$22270:$H$25520,  Input!$F$22270:$F$25520,Summering!B1043))","v":0}]
[null,{"$f":"IF(Biomasser!A57=\"\",\"\", Biomasser!A57)","v":" -             Naturpleje biomasse"},{"$f":"IF(B1044=\"\",0,SUMIFS(Input!$H$22270:$H$25520,  Input!$F$22270:$F$25520,Summering!B1044))","v":0}]
[null,{"$f":"IF(Biomasser!A58=\"\",\"\", Biomasser!A58)","v":" -             Halm"},{"$f":"IF(B1045=\"\",0,SUMIFS(Input!$H$22270:$H$25520,  Input!$F$22270:$F$25520,Summering!B1045))","v":0}]
[null,{"$f":"IF(Biomasser!A59=\"\",\"\", Biomasser!A59)","v":" -             Have-park affald"},{"$f":"IF(B1046=\"\",0,SUMIFS(Input!$H$22270:$H$25520,  Input!$F$22270:$F$25520,Summering!B1046))","v":0}]
[null,{"$f":"IF(Biomasser!A60=\"\",\"\", Biomasser!A60)","v":" -             Andre restprodukter fra produktion af primærafgrøder"},{"$f":"IF(B1047=\"\",0,SUMIFS(Input!$H$22270:$H$25520,  Input!$F$22270:$F$25520,Summering!B1047))","v":0}]
[null,{"$f":"IF(Biomasser!A61=\"\",\"\", Biomasser!A61)","v":" -             Kasserede afgrøder"},{"$f":"IF(B1048=\"\",0,SUMIFS(Input!$H$22270:$H$25520,  Input!$F$22270:$F$25520,Summering!B1048))","v":0}]
[null,{"$f":"IF(Biomasser!A62=\"\",\"\", Biomasser!A62)","v":"Rester og biprodukter fra levnesmiddel- og dyrefoderindustrien  (Overskrift, kan ikke vælges)"},{"$f":"IF(B1049=\"\",0,SUMIFS(Input!$H$22270:$H$25520,  Input!$F$22270:$F$25520,Summering!B1049))","v":0}]
[null,{"$f":"IF(Biomasser!A63=\"\",\"\", Biomasser!A63)","v":" -             Animalske biprodukter"},{"$f":"IF(B1050=\"\",0,SUMIFS(Input!$H$22270:$H$25520,  Input!$F$22270:$F$25520,Summering!B1050))","v":0}]
[null,{"$f":"IF(Biomasser!A64=\"\",\"\", Biomasser!A64)","v":" -             Mave/tarm kvæg"},{"$f":"IF(B1051=\"\",0,SUMIFS(Input!$H$22270:$H$25520,  Input!$F$22270:$F$25520,Summering!B1051))","v":0}]
[null,{"$f":"IF(Biomasser!A65=\"\",\"\", Biomasser!A65)","v":" -             Mave/tarm svin"},{"$f":"IF(B1052=\"\",0,SUMIFS(Input!$H$22270:$H$25520,  Input!$F$22270:$F$25520,Summering!B1052))","v":0}]
[null,{"$f":"IF(Biomasser!A66=\"\",\"\", Biomasser!A66)","v":" -             Valle"},{"$f":"IF(B1053=\"\",0,SUMIFS(Input!$H$22270:$H$25520,  Input!$F$22270:$F$25520,Summering!B1053))","v":0}]
[null,{"$f":"IF(Biomasser!A67=\"\",\"\", Biomasser!A67)","v":" -             Valle koncentrat"},{"$f":"IF(B1054=\"\",0,SUMIFS(Input!$H$22270:$H$25520,  Input!$F$22270:$F$25520,Summering!B1054))","v":0}]
[null,{"$f":"IF(Biomasser!A68=\"\",\"\", Biomasser!A68)","v":" -             Protein"},{"$f":"IF(B1055=\"\",0,SUMIFS(Input!$H$22270:$H$25520,  Input!$F$22270:$F$25520,Summering!B1055))","v":0}]
[null,{"$f":"IF(Biomasser!A69=\"\",\"\", Biomasser!A69)","v":" -             Fedt"},{"$f":"IF(B1056=\"\",0,SUMIFS(Input!$H$22270:$H$25520,  Input!$F$22270:$F$25520,Summering!B1056))","v":0}]
[null,{"$f":"IF(Biomasser!A70=\"\",\"\", Biomasser!A70)","v":" -             Vinasse (2,2 pct. kvælstof)"},{"$f":"IF(B1057=\"\",0,SUMIFS(Input!$H$22270:$H$25520,  Input!$F$22270:$F$25520,Summering!B1057))","v":0}]
[null,{"$f":"IF(Biomasser!A71=\"\",\"\", Biomasser!A71)","v":" -             Vinasse (3,5 pct. kvælstof)"},{"$f":"IF(B1058=\"\",0,SUMIFS(Input!$H$22270:$H$25520,  Input!$F$22270:$F$25520,Summering!B1058))","v":0}]
[null,{"$f":"IF(Biomasser!A72=\"\",\"\", Biomasser!A72)","v":" -             Kartoffelfrugtsaft"},{"$f":"IF(B1059=\"\",0,SUMIFS(Input!$H$22270:$H$25520,  Input!$F$22270:$F$25520,Summering!B1059))","v":0}]
[null,{"$f":"IF(Biomasser!A73=\"\",\"\", Biomasser!A73)","v":" -             Glukose"},{"$f":"IF(B1060=\"\",0,SUMIFS(Input!$H$22270:$H$25520,  Input!$F$22270:$F$25520,Summering!B1060))","v":0}]
[null,{"$f":"IF(Biomasser!A74=\"\",\"\", Biomasser!A74)","v":" -             Alkohol"},{"$f":"IF(B1061=\"\",0,SUMIFS(Input!$H$22270:$H$25520,  Input!$F$22270:$F$25520,Summering!B1061))","v":0}]
[null,{"$f":"IF(Biomasser!A75=\"\",\"\", Biomasser!A75)","v":" -             Pressesaft fra grøntpilleproduktion"},{"$f":"IF(B1062=\"\",0,SUMIFS(Input!$H$22270:$H$25520,  Input!$F$22270:$F$25520,Summering!B1062))","v":0}]
[null,{"$f":"IF(Biomasser!A76=\"\",\"\", Biomasser!A76)","v":" -             Inaktiveret og kalkstabiliseret biomasse"},{"$f":"IF(B1063=\"\",0,SUMIFS(Input!$H$22270:$H$25520,  Input!$F$22270:$F$25520,Summering!B1063))","v":0}]
[null,{"$f":"IF(Biomasser!A77=\"\",\"\", Biomasser!A77)","v":"Anden biomasse (Overskrift)"},{"$f":"IF(B1064=\"\",0,SUMIFS(Input!$H$22270:$H$25520,  Input!$F$22270:$F$25520,Summering!B1064))","v":0}]
[null,{"$f":"IF(Biomasser!A78=\"\",\"\", Biomasser!A78)","v":" -             Råglycerin"},{"$f":"IF(B1065=\"\",0,SUMIFS(Input!$H$22270:$H$25520,  Input!$F$22270:$F$25520,Summering!B1065))","v":0}]
[null,{"$f":"IF(Biomasser!A79=\"\",\"\", Biomasser!A79)","v":""},{"$f":"IF(B1066=\"\",0,SUMIFS(Input!$H$22270:$H$25520,  Input!$F$22270:$F$25520,Summering!B1066))","v":0}]
[null,{"$f":"IF(Biomasser!A80=\"\",\"\", Biomasser!A80)","v":""},{"$f":"IF(B1067=\"\",0,SUMIFS(Input!$H$22270:$H$25520,  Input!$F$22270:$F$25520,Summering!B1067))","v":0}]
[null,{"$f":"IF(Biomasser!A81=\"\",\"\", Biomasser!A81)","v":""},{"$f":"IF(B1068=\"\",0,SUMIFS(Input!$H$22270:$H$25520,  Input!$F$22270:$F$25520,Summering!B1068))","v":0}]
[null,{"$f":"IF(Biomasser!A82=\"\",\"\", Biomasser!A82)","v":""},{"$f":"IF(B1069=\"\",0,SUMIFS(Input!$H$22270:$H$25520,  Input!$F$22270:$F$25520,Summering!B1069))","v":0}]
[null,{"$f":"IF(Biomasser!A83=\"\",\"\", Biomasser!A83)","v":""},{"$f":"IF(B1070=\"\",0,SUMIFS(Input!$H$22270:$H$25520,  Input!$F$22270:$F$25520,Summering!B1070))","v":0}]
[null,{"$f":"IF(Biomasser!A84=\"\",\"\", Biomasser!A84)","v":""},{"$f":"IF(B1071=\"\",0,SUMIFS(Input!$H$22270:$H$25520,  Input!$F$22270:$F$25520,Summering!B1071))","v":0}]
[null,{"$f":"IF(Biomasser!A85=\"\",\"\", Biomasser!A85)","v":""},{"$f":"IF(B1072=\"\",0,SUMIFS(Input!$H$22270:$H$25520,  Input!$F$22270:$F$25520,Summering!B1072))","v":0}]
[null,{"$f":"IF(Biomasser!A86=\"\",\"\", Biomasser!A86)","v":""},{"$f":"IF(B1073=\"\",0,SUMIFS(Input!$H$22270:$H$25520,  Input!$F$22270:$F$25520,Summering!B1073))","v":0}]
[null,{"$f":"IF(Biomasser!A87=\"\",\"\", Biomasser!A87)","v":""},{"$f":"IF(B1074=\"\",0,SUMIFS(Input!$H$22270:$H$25520,  Input!$F$22270:$F$25520,Summering!B1074))","v":0}]
[null,{"$f":"IF(Biomasser!A88=\"\",\"\", Biomasser!A88)","v":""},{"$f":"IF(B1075=\"\",0,SUMIFS(Input!$H$22270:$H$25520,  Input!$F$22270:$F$25520,Summering!B1075))","v":0}]
[null,{"$f":"IF(Biomasser!A89=\"\",\"\", Biomasser!A89)","v":""},{"$f":"IF(B1076=\"\",0,SUMIFS(Input!$H$22270:$H$25520,  Input!$F$22270:$F$25520,Summering!B1076))","v":0}]
[null,{"$f":"IF(Biomasser!A90=\"\",\"\", Biomasser!A90)","v":""},{"$f":"IF(B1077=\"\",0,SUMIFS(Input!$H$22270:$H$25520,  Input!$F$22270:$F$25520,Summering!B1077))","v":0}]
[null,{"$f":"IF(Biomasser!A91=\"\",\"\", Biomasser!A91)","v":""},{"$f":"IF(B1078=\"\",0,SUMIFS(Input!$H$22270:$H$25520,  Input!$F$22270:$F$25520,Summering!B1078))","v":0}]
[null,{"$f":"IF(Biomasser!A92=\"\",\"\", Biomasser!A92)","v":""},{"$f":"IF(B1079=\"\",0,SUMIFS(Input!$H$22270:$H$25520,  Input!$F$22270:$F$25520,Summering!B1079))","v":0}]
[null,{"$f":"IF(Biomasser!A93=\"\",\"\", Biomasser!A93)","v":""},{"$f":"IF(B1080=\"\",0,SUMIFS(Input!$H$22270:$H$25520,  Input!$F$22270:$F$25520,Summering!B1080))","v":0}]
[null,{"$f":"IF(Biomasser!A94=\"\",\"\", Biomasser!A94)","v":""},{"$f":"IF(B1081=\"\",0,SUMIFS(Input!$H$22270:$H$25520,  Input!$F$22270:$F$25520,Summering!B1081))","v":0}]
[null,{"$f":"IF(Biomasser!A95=\"\",\"\", Biomasser!A95)","v":""},{"$f":"IF(B1082=\"\",0,SUMIFS(Input!$H$22270:$H$25520,  Input!$F$22270:$F$25520,Summering!B1082))","v":0}]
[null,{"$f":"IF(Biomasser!A96=\"\",\"\", Biomasser!A96)","v":""},{"$f":"IF(B1083=\"\",0,SUMIFS(Input!$H$22270:$H$25520,  Input!$F$22270:$F$25520,Summering!B1083))","v":0}]
[null,{"$f":"IF(Biomasser!A97=\"\",\"\", Biomasser!A97)","v":""},{"$f":"IF(B1084=\"\",0,SUMIFS(Input!$H$22270:$H$25520,  Input!$F$22270:$F$25520,Summering!B1084))","v":0}]
[null,{"$f":"IF(Biomasser!A98=\"\",\"\", Biomasser!A98)","v":""},{"$f":"IF(B1085=\"\",0,SUMIFS(Input!$H$22270:$H$25520,  Input!$F$22270:$F$25520,Summering!B1085))","v":0}]
[null,{"$f":"IF(Biomasser!A99=\"\",\"\", Biomasser!A99)","v":""},{"$f":"IF(B1086=\"\",0,SUMIFS(Input!$H$22270:$H$25520,  Input!$F$22270:$F$25520,Summering!B1086))","v":0}]
[null,{"$f":"IF(Biomasser!A100=\"\",\"\", Biomasser!A100)","v":""},{"$f":"IF(B1087=\"\",0,SUMIFS(Input!$H$22270:$H$25520,  Input!$F$22270:$F$25520,Summering!B1087))","v":0}]
[null,{"$f":"IF(Biomasser!A101=\"\",\"\", Biomasser!A101)","v":""},{"$f":"IF(B1088=\"\",0,SUMIFS(Input!$H$22270:$H$25520,  Input!$F$22270:$F$25520,Summering!B1088))","v":0}]
[null,{"$f":"IF(Biomasser!A102=\"\",\"\", Biomasser!A102)","v":""},{"$f":"IF(B1089=\"\",0,SUMIFS(Input!$H$22270:$H$25520,  Input!$F$22270:$F$25520,Summering!B1089))","v":0}]
[null,{"$f":"IF(Biomasser!A103=\"\",\"\", Biomasser!A103)","v":""},{"$f":"IF(B1090=\"\",0,SUMIFS(Input!$H$22270:$H$25520,  Input!$F$22270:$F$25520,Summering!B1090))","v":0}]
[null,{"$f":"IF(Biomasser!A104=\"\",\"\", Biomasser!A104)","v":""},{"$f":"IF(B1091=\"\",0,SUMIFS(Input!$H$22270:$H$25520,  Input!$F$22270:$F$25520,Summering!B1091))","v":0}]
[null,{"$f":"IF(Biomasser!A105=\"\",\"\", Biomasser!A105)","v":""},{"$f":"IF(B1092=\"\",0,SUMIFS(Input!$H$22270:$H$25520,  Input!$F$22270:$F$25520,Summering!B1092))","v":0}]
[null,{"$f":"IF(Biomasser!A106=\"\",\"\", Biomasser!A106)","v":""},{"$f":"IF(B1093=\"\",0,SUMIFS(Input!$H$22270:$H$25520,  Input!$F$22270:$F$25520,Summering!B1093))","v":0}]
[null,{"$f":"IF(Biomasser!A107=\"\",\"\", Biomasser!A107)","v":""},{"$f":"IF(B1094=\"\",0,SUMIFS(Input!$H$22270:$H$25520,  Input!$F$22270:$F$25520,Summering!B1094))","v":0}]
[null,{"$f":"IF(Biomasser!A108=\"\",\"\", Biomasser!A108)","v":""},{"$f":"IF(B1095=\"\",0,SUMIFS(Input!$H$22270:$H$25520,  Input!$F$22270:$F$25520,Summering!B1095))","v":0}]
[null,{"$f":"IF(Biomasser!A109=\"\",\"\", Biomasser!A109)","v":""},{"$f":"IF(B1096=\"\",0,SUMIFS(Input!$H$22270:$H$25520,  Input!$F$22270:$F$25520,Summering!B1096))","v":0}]
[null,{"$f":"IF(Biomasser!A110=\"\",\"\", Biomasser!A110)","v":""},{"$f":"IF(B1097=\"\",0,SUMIFS(Input!$H$22270:$H$25520,  Input!$F$22270:$F$25520,Summering!B1097))","v":0}]
[null,{"$f":"IF(Biomasser!A111=\"\",\"\", Biomasser!A111)","v":""},{"$f":"IF(B1098=\"\",0,SUMIFS(Input!$H$22270:$H$25520,  Input!$F$22270:$F$25520,Summering!B1098))","v":0}]
[null,{"$f":"IF(Biomasser!A112=\"\",\"\", Biomasser!A112)","v":""},{"$f":"IF(B1099=\"\",0,SUMIFS(Input!$H$22270:$H$25520,  Input!$F$22270:$F$25520,Summering!B1099))","v":0}]
[null,{"$f":"IF(Biomasser!A113=\"\",\"\", Biomasser!A113)","v":""},{"$f":"IF(B1100=\"\",0,SUMIFS(Input!$H$22270:$H$25520,  Input!$F$22270:$F$25520,Summering!B1100))","v":0}]
[null,{"$f":"IF(Biomasser!A114=\"\",\"\", Biomasser!A114)","v":""},{"$f":"IF(B1101=\"\",0,SUMIFS(Input!$H$22270:$H$25520,  Input!$F$22270:$F$25520,Summering!B1101))","v":0}]
[null,{"$f":"IF(Biomasser!A115=\"\",\"\", Biomasser!A115)","v":""},{"$f":"IF(B1102=\"\",0,SUMIFS(Input!$H$22270:$H$25520,  Input!$F$22270:$F$25520,Summering!B1102))","v":0}]
[null,{"$f":"IF(Biomasser!A116=\"\",\"\", Biomasser!A116)","v":""},{"$f":"IF(B1103=\"\",0,SUMIFS(Input!$H$22270:$H$25520,  Input!$F$22270:$F$25520,Summering!B1103))","v":0}]
[null,{"$f":"IF(Biomasser!A117=\"\",\"\", Biomasser!A117)","v":""},{"$f":"IF(B1104=\"\",0,SUMIFS(Input!$H$22270:$H$25520,  Input!$F$22270:$F$25520,Summering!B1104))","v":0}]
[null,{"$f":"IF(Biomasser!A118=\"\",\"\", Biomasser!A118)","v":""},{"$f":"IF(B1105=\"\",0,SUMIFS(Input!$H$22270:$H$25520,  Input!$F$22270:$F$25520,Summering!B1105))","v":0}]
[null,{"$f":"IF(Biomasser!A119=\"\",\"\", Biomasser!A119)","v":""},{"$f":"IF(B1106=\"\",0,SUMIFS(Input!$H$22270:$H$25520,  Input!$F$22270:$F$25520,Summering!B1106))","v":0}]
[null,{"$f":"IF(Biomasser!A120=\"\",\"\", Biomasser!A120)","v":""},{"$f":"IF(B1107=\"\",0,SUMIFS(Input!$H$22270:$H$25520,  Input!$F$22270:$F$25520,Summering!B1107))","v":0}]
[null,{"$f":"IF(Biomasser!A121=\"\",\"\", Biomasser!A121)","v":""},{"$f":"IF(B1108=\"\",0,SUMIFS(Input!$H$22270:$H$25520,  Input!$F$22270:$F$25520,Summering!B1108))","v":0}]
[null,{"$f":"IF(Biomasser!A122=\"\",\"\", Biomasser!A122)","v":""},{"$f":"IF(B1109=\"\",0,SUMIFS(Input!$H$22270:$H$25520,  Input!$F$22270:$F$25520,Summering!B1109))","v":0}]
[null,{"$f":"IF(Biomasser!A123=\"\",\"\", Biomasser!A123)","v":""},{"$f":"IF(B1110=\"\",0,SUMIFS(Input!$H$22270:$H$25520,  Input!$F$22270:$F$25520,Summering!B1110))","v":0}]
[null,{"$f":"IF(Biomasser!A124=\"\",\"\", Biomasser!A124)","v":""},{"$f":"IF(B1111=\"\",0,SUMIFS(Input!$H$22270:$H$25520,  Input!$F$22270:$F$25520,Summering!B1111))","v":0}]
[null,"September",{"$f":"SUM(C1113:C1234)","v":0},{"$f":"SUMIFS(Input!$H$10:$H$76760,Input!$A$10:$A$76760,\"Gas\",Input!$C$10:$C$76760,Summering!$B$5,Input!$B$10:$B$76760,\"*\"&B1112&\"*\")","v":0}]
[null,{"$f":"IF(Biomasser!A3=\"\",\"\", Biomasser!A3)","v":"Afgrøder (Overskrift, kan ikke vælges)"},{"$f":"IF(B1113=\"\",0,SUMIFS(Input!$H$25525:$H$28670,  Input!$F$25525:$F$28670,Summering!B1113))","v":0}]
[null,{"$f":"IF(Biomasser!A4=\"\",\"\", Biomasser!A4)","v":" -             Majs"},{"$f":"IF(B1114=\"\",0,SUMIFS(Input!$H$25525:$H$28670,  Input!$F$25525:$F$28670,Summering!B1114))","v":0}]
[null,{"$f":"IF(Biomasser!A5=\"\",\"\", Biomasser!A5)","v":" -             Roer"},{"$f":"IF(B1115=\"\",0,SUMIFS(Input!$H$25525:$H$28670,  Input!$F$25525:$F$28670,Summering!B1115))","v":0}]
[null,{"$f":"IF(Biomasser!A6=\"\",\"\", Biomasser!A6)","v":" -             Korn"},{"$f":"IF(B1116=\"\",0,SUMIFS(Input!$H$25525:$H$28670,  Input!$F$25525:$F$28670,Summering!B1116))","v":0}]
[null,{"$f":"IF(Biomasser!A7=\"\",\"\", Biomasser!A7)","v":" -             Græs"},{"$f":"IF(B1117=\"\",0,SUMIFS(Input!$H$25525:$H$28670,  Input!$F$25525:$F$28670,Summering!B1117))","v":0}]
[null,{"$f":"IF(Biomasser!A8=\"\",\"\", Biomasser!A8)","v":" -             Kløvergræs"},{"$f":"IF(B1118=\"\",0,SUMIFS(Input!$H$25525:$H$28670,  Input!$F$25525:$F$28670,Summering!B1118))","v":0}]
[null,{"$f":"IF(Biomasser!A9=\"\",\"\", Biomasser!A9)","v":" -             Jordskokker"},{"$f":"IF(B1119=\"\",0,SUMIFS(Input!$H$25525:$H$28670,  Input!$F$25525:$F$28670,Summering!B1119))","v":0}]
[null,{"$f":"IF(Biomasser!A10=\"\",\"\", Biomasser!A10)","v":" -             Andre afgrøder"},{"$f":"IF(B1120=\"\",0,SUMIFS(Input!$H$25525:$H$28670,  Input!$F$25525:$F$28670,Summering!B1120))","v":0}]
[null,{"$f":"IF(Biomasser!A11=\"\",\"\", Biomasser!A11)","v":" -             Hvedehelsæd"},{"$f":"IF(B1121=\"\",0,SUMIFS(Input!$H$25525:$H$28670,  Input!$F$25525:$F$28670,Summering!B1121))","v":0}]
[null,{"$f":"IF(Biomasser!A12=\"\",\"\", Biomasser!A12)","v":" -             Top af foderroe"},{"$f":"IF(B1122=\"\",0,SUMIFS(Input!$H$25525:$H$28670,  Input!$F$25525:$F$28670,Summering!B1122))","v":0}]
[null,{"$f":"IF(Biomasser!A13=\"\",\"\", Biomasser!A13)","v":" -             Foderroe - rod og top frisk"},{"$f":"IF(B1123=\"\",0,SUMIFS(Input!$H$25525:$H$28670,  Input!$F$25525:$F$28670,Summering!B1123))","v":0}]
[null,{"$f":"IF(Biomasser!A14=\"\",\"\", Biomasser!A14)","v":" -             Økologisk kløvergræs"},{"$f":"IF(B1124=\"\",0,SUMIFS(Input!$H$25525:$H$28670,  Input!$F$25525:$F$28670,Summering!B1124))","v":0}]
[null,{"$f":"IF(Biomasser!A15=\"\",\"\", Biomasser!A15)","v":"Husdyrgødning (Overskrift, kan ikke vælges)"},{"$f":"IF(B1125=\"\",0,SUMIFS(Input!$H$25525:$H$28670,  Input!$F$25525:$F$28670,Summering!B1125))","v":0}]
[null,{"$f":"IF(Biomasser!A16=\"\",\"\", Biomasser!A16)","v":" -             Kvæggylle"},{"$f":"IF(B1126=\"\",0,SUMIFS(Input!$H$25525:$H$28670,  Input!$F$25525:$F$28670,Summering!B1126))","v":0}]
[null,{"$f":"IF(Biomasser!A17=\"\",\"\", Biomasser!A17)","v":" -             Svinegylle"},{"$f":"IF(B1127=\"\",0,SUMIFS(Input!$H$25525:$H$28670,  Input!$F$25525:$F$28670,Summering!B1127))","v":0}]
[null,{"$f":"IF(Biomasser!A18=\"\",\"\", Biomasser!A18)","v":" -             Gylle fra so"},{"$f":"IF(B1128=\"\",0,SUMIFS(Input!$H$25525:$H$28670,  Input!$F$25525:$F$28670,Summering!B1128))","v":0}]
[null,{"$f":"IF(Biomasser!A19=\"\",\"\", Biomasser!A19)","v":" -             Minkgylle"},{"$f":"IF(B1129=\"\",0,SUMIFS(Input!$H$25525:$H$28670,  Input!$F$25525:$F$28670,Summering!B1129))","v":0}]
[null,{"$f":"IF(Biomasser!A20=\"\",\"\", Biomasser!A20)","v":" -             Fjerkrægylle"},{"$f":"IF(B1130=\"\",0,SUMIFS(Input!$H$25525:$H$28670,  Input!$F$25525:$F$28670,Summering!B1130))","v":0}]
[null,{"$f":"IF(Biomasser!A21=\"\",\"\", Biomasser!A21)","v":" -             Blandet gylle"},{"$f":"IF(B1131=\"\",0,SUMIFS(Input!$H$25525:$H$28670,  Input!$F$25525:$F$28670,Summering!B1131))","v":0}]
[null,{"$f":"IF(Biomasser!A22=\"\",\"\", Biomasser!A22)","v":" -             Dybstrøelse - Kvæg"},{"$f":"IF(B1132=\"\",0,SUMIFS(Input!$H$25525:$H$28670,  Input!$F$25525:$F$28670,Summering!B1132))","v":0}]
[null,{"$f":"IF(Biomasser!A23=\"\",\"\", Biomasser!A23)","v":" -             Dybstrøelse - Fjerkræ"},{"$f":"IF(B1133=\"\",0,SUMIFS(Input!$H$25525:$H$28670,  Input!$F$25525:$F$28670,Summering!B1133))","v":0}]
[null,{"$f":"IF(Biomasser!A24=\"\",\"\", Biomasser!A24)","v":" -             Dybstrøelse - Hest"},{"$f":"IF(B1134=\"\",0,SUMIFS(Input!$H$25525:$H$28670,  Input!$F$25525:$F$28670,Summering!B1134))","v":0}]
[null,{"$f":"IF(Biomasser!A25=\"\",\"\", Biomasser!A25)","v":" -             Dybstrøelse - Andre typer"},{"$f":"IF(B1135=\"\",0,SUMIFS(Input!$H$25525:$H$28670,  Input!$F$25525:$F$28670,Summering!B1135))","v":0}]
[null,{"$f":"IF(Biomasser!A26=\"\",\"\", Biomasser!A26)","v":" -             Fast gødning"},{"$f":"IF(B1136=\"\",0,SUMIFS(Input!$H$25525:$H$28670,  Input!$F$25525:$F$28670,Summering!B1136))","v":0}]
[null,{"$f":"IF(Biomasser!A27=\"\",\"\", Biomasser!A27)","v":" -             Ajle"},{"$f":"IF(B1137=\"\",0,SUMIFS(Input!$H$25525:$H$28670,  Input!$F$25525:$F$28670,Summering!B1137))","v":0}]
[null,{"$f":"IF(Biomasser!A28=\"\",\"\", Biomasser!A28)","v":" -             Fiberfraktion"},{"$f":"IF(B1138=\"\",0,SUMIFS(Input!$H$25525:$H$28670,  Input!$F$25525:$F$28670,Summering!B1138))","v":0}]
[null,{"$f":"IF(Biomasser!A29=\"\",\"\", Biomasser!A29)","v":" -             Flydende fraktion fra separationsanlæg"},{"$f":"IF(B1139=\"\",0,SUMIFS(Input!$H$25525:$H$28670,  Input!$F$25525:$F$28670,Summering!B1139))","v":0}]
[null,{"$f":"IF(Biomasser!A30=\"\",\"\", Biomasser!A30)","v":" -             Flydende fraktion"},{"$f":"IF(B1140=\"\",0,SUMIFS(Input!$H$25525:$H$28670,  Input!$F$25525:$F$28670,Summering!B1140))","v":0}]
[null,{"$f":"IF(Biomasser!A31=\"\",\"\", Biomasser!A31)","v":" -             Anden husdyrgødning"},{"$f":"IF(B1141=\"\",0,SUMIFS(Input!$H$25525:$H$28670,  Input!$F$25525:$F$28670,Summering!B1141))","v":0}]
[null,{"$f":"IF(Biomasser!A32=\"\",\"\", Biomasser!A32)","v":" -             Forsuret svinegylle"},{"$f":"IF(B1142=\"\",0,SUMIFS(Input!$H$25525:$H$28670,  Input!$F$25525:$F$28670,Summering!B1142))","v":0}]
[null,{"$f":"IF(Biomasser!A33=\"\",\"\", Biomasser!A33)","v":" -             Dybstrøelse - Svin"},{"$f":"IF(B1143=\"\",0,SUMIFS(Input!$H$25525:$H$28670,  Input!$F$25525:$F$28670,Summering!B1143))","v":0}]
[null,{"$f":"IF(Biomasser!A34=\"\",\"\", Biomasser!A34)","v":" -             Gylle fibre - kemisk separation - Svin"},{"$f":"IF(B1144=\"\",0,SUMIFS(Input!$H$25525:$H$28670,  Input!$F$25525:$F$28670,Summering!B1144))","v":0}]
[null,{"$f":"IF(Biomasser!A35=\"\",\"\", Biomasser!A35)","v":" -             Gylle fibre - dekanter separation - Svin"},{"$f":"IF(B1145=\"\",0,SUMIFS(Input!$H$25525:$H$28670,  Input!$F$25525:$F$28670,Summering!B1145))","v":0}]
[null,{"$f":"IF(Biomasser!A36=\"\",\"\", Biomasser!A36)","v":" -             Staldgødning - Kvæg"},{"$f":"IF(B1146=\"\",0,SUMIFS(Input!$H$25525:$H$28670,  Input!$F$25525:$F$28670,Summering!B1146))","v":0}]
[null,{"$f":"IF(Biomasser!A37=\"\",\"\", Biomasser!A37)","v":" -             Kvæggylle - Årsopdræt 6 mdr."},{"$f":"IF(B1147=\"\",0,SUMIFS(Input!$H$25525:$H$28670,  Input!$F$25525:$F$28670,Summering!B1147))","v":0}]
[null,{"$f":"IF(Biomasser!A38=\"\",\"\", Biomasser!A38)","v":" -             Staldgødning - Fjerkræ"},{"$f":"IF(B1148=\"\",0,SUMIFS(Input!$H$25525:$H$28670,  Input!$F$25525:$F$28670,Summering!B1148))","v":0}]
[null,{"$f":"IF(Biomasser!A39=\"\",\"\", Biomasser!A39)","v":"Slam og spildevand (Overskrift, kan ikke vælges)"},{"$f":"IF(B1149=\"\",0,SUMIFS(Input!$H$25525:$H$28670,  Input!$F$25525:$F$28670,Summering!B1149))","v":0}]
[null,{"$f":"IF(Biomasser!A40=\"\",\"\", Biomasser!A40)","v":" -             Slam og spildevand samt uforurenede produktrester"},{"$f":"IF(B1150=\"\",0,SUMIFS(Input!$H$25525:$H$28670,  Input!$F$25525:$F$28670,Summering!B1150))","v":0}]
[null,{"$f":"IF(Biomasser!A41=\"\",\"\", Biomasser!A41)","v":" -             Slam fra dambrug"},{"$f":"IF(B1151=\"\",0,SUMIFS(Input!$H$25525:$H$28670,  Input!$F$25525:$F$28670,Summering!B1151))","v":0}]
[null,{"$f":"IF(Biomasser!A42=\"\",\"\", Biomasser!A42)","v":" -             Slam fra forarbejdning af animalske råvarer"},{"$f":"IF(B1152=\"\",0,SUMIFS(Input!$H$25525:$H$28670,  Input!$F$25525:$F$28670,Summering!B1152))","v":0}]
[null,{"$f":"IF(Biomasser!A43=\"\",\"\", Biomasser!A43)","v":" -             Spildevandsslam"},{"$f":"IF(B1153=\"\",0,SUMIFS(Input!$H$25525:$H$28670,  Input!$F$25525:$F$28670,Summering!B1153))","v":0}]
[null,{"$f":"IF(Biomasser!A44=\"\",\"\", Biomasser!A44)","v":" -             Proteolyseret processpildevand"},{"$f":"IF(B1154=\"\",0,SUMIFS(Input!$H$25525:$H$28670,  Input!$F$25525:$F$28670,Summering!B1154))","v":0}]
[null,{"$f":"IF(Biomasser!A45=\"\",\"\", Biomasser!A45)","v":" -             Sekundær spildevandsslam"},{"$f":"IF(B1155=\"\",0,SUMIFS(Input!$H$25525:$H$28670,  Input!$F$25525:$F$28670,Summering!B1155))","v":0}]
[null,{"$f":"IF(Biomasser!A46=\"\",\"\", Biomasser!A46)","v":" -             Sekundær spildevandsslam afvandet"},{"$f":"IF(B1156=\"\",0,SUMIFS(Input!$H$25525:$H$28670,  Input!$F$25525:$F$28670,Summering!B1156))","v":0}]
[null,{"$f":"IF(Biomasser!A47=\"\",\"\", Biomasser!A47)","v":"Organisk affald fra husholdninger og erhverv (Overskrift, kan ikke vælges)"},{"$f":"IF(B1157=\"\",0,SUMIFS(Input!$H$25525:$H$28670,  Input!$F$25525:$F$28670,Summering!B1157))","v":0}]
[null,{"$f":"IF(Biomasser!A48=\"\",\"\", Biomasser!A48)","v":" -             Kildesorteret organisk dagrenovation"},{"$f":"IF(B1158=\"\",0,SUMIFS(Input!$H$25525:$H$28670,  Input!$F$25525:$F$28670,Summering!B1158))","v":0}]
[null,{"$f":"IF(Biomasser!A49=\"\",\"\", Biomasser!A49)","v":" -             Organisk husholdningsaffald - Renescience"},{"$f":"IF(B1159=\"\",0,SUMIFS(Input!$H$25525:$H$28670,  Input!$F$25525:$F$28670,Summering!B1159))","v":0}]
[null,{"$f":"IF(Biomasser!A50=\"\",\"\", Biomasser!A50)","v":" -             Organisk husholdningsaffald - Pulper"},{"$f":"IF(B1160=\"\",0,SUMIFS(Input!$H$25525:$H$28670,  Input!$F$25525:$F$28670,Summering!B1160))","v":0}]
[null,{"$f":"IF(Biomasser!A51=\"\",\"\", Biomasser!A51)","v":" -             Organisk husholdningsaffald - Rullesigte"},{"$f":"IF(B1161=\"\",0,SUMIFS(Input!$H$25525:$H$28670,  Input!$F$25525:$F$28670,Summering!B1161))","v":0}]
[null,{"$f":"IF(Biomasser!A52=\"\",\"\", Biomasser!A52)","v":" -             Organisk husholdningsaffald - Skruepresse"},{"$f":"IF(B1162=\"\",0,SUMIFS(Input!$H$25525:$H$28670,  Input!$F$25525:$F$28670,Summering!B1162))","v":0}]
[null,{"$f":"IF(Biomasser!A53=\"\",\"\", Biomasser!A53)","v":" -             Organisk husholdningsaffald - Neddeling"},{"$f":"IF(B1163=\"\",0,SUMIFS(Input!$H$25525:$H$28670,  Input!$F$25525:$F$28670,Summering!B1163))","v":0}]
[null,{"$f":"IF(Biomasser!A54=\"\",\"\", Biomasser!A54)","v":" -             Organisk affald fra erhverv"},{"$f":"IF(B1164=\"\",0,SUMIFS(Input!$H$25525:$H$28670,  Input!$F$25525:$F$28670,Summering!B1164))","v":0}]
[null,{"$f":"IF(Biomasser!A55=\"\",\"\", Biomasser!A55)","v":"Rester og biprodukter fra planter og afgrøder (Overskrift, kan ikke vælges)"},{"$f":"IF(B1165=\"\",0,SUMIFS(Input!$H$25525:$H$28670,  Input!$F$25525:$F$28670,Summering!B1165))","v":0}]
[null,{"$f":"IF(Biomasser!A56=\"\",\"\", Biomasser!A56)","v":" -             Cellulose"},{"$f":"IF(B1166=\"\",0,SUMIFS(Input!$H$25525:$H$28670,  Input!$F$25525:$F$28670,Summering!B1166))","v":0}]
[null,{"$f":"IF(Biomasser!A57=\"\",\"\", Biomasser!A57)","v":" -             Naturpleje biomasse"},{"$f":"IF(B1167=\"\",0,SUMIFS(Input!$H$25525:$H$28670,  Input!$F$25525:$F$28670,Summering!B1167))","v":0}]
[null,{"$f":"IF(Biomasser!A58=\"\",\"\", Biomasser!A58)","v":" -             Halm"},{"$f":"IF(B1168=\"\",0,SUMIFS(Input!$H$25525:$H$28670,  Input!$F$25525:$F$28670,Summering!B1168))","v":0}]
[null,{"$f":"IF(Biomasser!A59=\"\",\"\", Biomasser!A59)","v":" -             Have-park affald"},{"$f":"IF(B1169=\"\",0,SUMIFS(Input!$H$25525:$H$28670,  Input!$F$25525:$F$28670,Summering!B1169))","v":0}]
[null,{"$f":"IF(Biomasser!A60=\"\",\"\", Biomasser!A60)","v":" -             Andre restprodukter fra produktion af primærafgrøder"},{"$f":"IF(B1170=\"\",0,SUMIFS(Input!$H$25525:$H$28670,  Input!$F$25525:$F$28670,Summering!B1170))","v":0}]
[null,{"$f":"IF(Biomasser!A61=\"\",\"\", Biomasser!A61)","v":" -             Kasserede afgrøder"},{"$f":"IF(B1171=\"\",0,SUMIFS(Input!$H$25525:$H$28670,  Input!$F$25525:$F$28670,Summering!B1171))","v":0}]
[null,{"$f":"IF(Biomasser!A62=\"\",\"\", Biomasser!A62)","v":"Rester og biprodukter fra levnesmiddel- og dyrefoderindustrien  (Overskrift, kan ikke vælges)"},{"$f":"IF(B1172=\"\",0,SUMIFS(Input!$H$25525:$H$28670,  Input!$F$25525:$F$28670,Summering!B1172))","v":0}]
[null,{"$f":"IF(Biomasser!A63=\"\",\"\", Biomasser!A63)","v":" -             Animalske biprodukter"},{"$f":"IF(B1173=\"\",0,SUMIFS(Input!$H$25525:$H$28670,  Input!$F$25525:$F$28670,Summering!B1173))","v":0}]
[null,{"$f":"IF(Biomasser!A64=\"\",\"\", Biomasser!A64)","v":" -             Mave/tarm kvæg"},{"$f":"IF(B1174=\"\",0,SUMIFS(Input!$H$25525:$H$28670,  Input!$F$25525:$F$28670,Summering!B1174))","v":0}]
[null,{"$f":"IF(Biomasser!A65=\"\",\"\", Biomasser!A65)","v":" -             Mave/tarm svin"},{"$f":"IF(B1175=\"\",0,SUMIFS(Input!$H$25525:$H$28670,  Input!$F$25525:$F$28670,Summering!B1175))","v":0}]
[null,{"$f":"IF(Biomasser!A66=\"\",\"\", Biomasser!A66)","v":" -             Valle"},{"$f":"IF(B1176=\"\",0,SUMIFS(Input!$H$25525:$H$28670,  Input!$F$25525:$F$28670,Summering!B1176))","v":0}]
[null,{"$f":"IF(Biomasser!A67=\"\",\"\", Biomasser!A67)","v":" -             Valle koncentrat"},{"$f":"IF(B1177=\"\",0,SUMIFS(Input!$H$25525:$H$28670,  Input!$F$25525:$F$28670,Summering!B1177))","v":0}]
[null,{"$f":"IF(Biomasser!A68=\"\",\"\", Biomasser!A68)","v":" -             Protein"},{"$f":"IF(B1178=\"\",0,SUMIFS(Input!$H$25525:$H$28670,  Input!$F$25525:$F$28670,Summering!B1178))","v":0}]
[null,{"$f":"IF(Biomasser!A69=\"\",\"\", Biomasser!A69)","v":" -             Fedt"},{"$f":"IF(B1179=\"\",0,SUMIFS(Input!$H$25525:$H$28670,  Input!$F$25525:$F$28670,Summering!B1179))","v":0}]
[null,{"$f":"IF(Biomasser!A70=\"\",\"\", Biomasser!A70)","v":" -             Vinasse (2,2 pct. kvælstof)"},{"$f":"IF(B1180=\"\",0,SUMIFS(Input!$H$25525:$H$28670,  Input!$F$25525:$F$28670,Summering!B1180))","v":0}]
[null,{"$f":"IF(Biomasser!A71=\"\",\"\", Biomasser!A71)","v":" -             Vinasse (3,5 pct. kvælstof)"},{"$f":"IF(B1181=\"\",0,SUMIFS(Input!$H$25525:$H$28670,  Input!$F$25525:$F$28670,Summering!B1181))","v":0}]
[null,{"$f":"IF(Biomasser!A72=\"\",\"\", Biomasser!A72)","v":" -             Kartoffelfrugtsaft"},{"$f":"IF(B1182=\"\",0,SUMIFS(Input!$H$25525:$H$28670,  Input!$F$25525:$F$28670,Summering!B1182))","v":0}]
[null,{"$f":"IF(Biomasser!A73=\"\",\"\", Biomasser!A73)","v":" -             Glukose"},{"$f":"IF(B1183=\"\",0,SUMIFS(Input!$H$25525:$H$28670,  Input!$F$25525:$F$28670,Summering!B1183))","v":0}]
[null,{"$f":"IF(Biomasser!A74=\"\",\"\", Biomasser!A74)","v":" -             Alkohol"},{"$f":"IF(B1184=\"\",0,SUMIFS(Input!$H$25525:$H$28670,  Input!$F$25525:$F$28670,Summering!B1184))","v":0}]
[null,{"$f":"IF(Biomasser!A75=\"\",\"\", Biomasser!A75)","v":" -             Pressesaft fra grøntpilleproduktion"},{"$f":"IF(B1185=\"\",0,SUMIFS(Input!$H$25525:$H$28670,  Input!$F$25525:$F$28670,Summering!B1185))","v":0}]
[null,{"$f":"IF(Biomasser!A76=\"\",\"\", Biomasser!A76)","v":" -             Inaktiveret og kalkstabiliseret biomasse"},{"$f":"IF(B1186=\"\",0,SUMIFS(Input!$H$25525:$H$28670,  Input!$F$25525:$F$28670,Summering!B1186))","v":0}]
[null,{"$f":"IF(Biomasser!A77=\"\",\"\", Biomasser!A77)","v":"Anden biomasse (Overskrift)"},{"$f":"IF(B1187=\"\",0,SUMIFS(Input!$H$25525:$H$28670,  Input!$F$25525:$F$28670,Summering!B1187))","v":0}]
[null,{"$f":"IF(Biomasser!A78=\"\",\"\", Biomasser!A78)","v":" -             Råglycerin"},{"$f":"IF(B1188=\"\",0,SUMIFS(Input!$H$25525:$H$28670,  Input!$F$25525:$F$28670,Summering!B1188))","v":0}]
[null,{"$f":"IF(Biomasser!A79=\"\",\"\", Biomasser!A79)","v":""},{"$f":"IF(B1189=\"\",0,SUMIFS(Input!$H$25525:$H$28670,  Input!$F$25525:$F$28670,Summering!B1189))","v":0}]
[null,{"$f":"IF(Biomasser!A80=\"\",\"\", Biomasser!A80)","v":""},{"$f":"IF(B1190=\"\",0,SUMIFS(Input!$H$25525:$H$28670,  Input!$F$25525:$F$28670,Summering!B1190))","v":0}]
[null,{"$f":"IF(Biomasser!A81=\"\",\"\", Biomasser!A81)","v":""},{"$f":"IF(B1191=\"\",0,SUMIFS(Input!$H$25525:$H$28670,  Input!$F$25525:$F$28670,Summering!B1191))","v":0}]
[null,{"$f":"IF(Biomasser!A82=\"\",\"\", Biomasser!A82)","v":""},{"$f":"IF(B1192=\"\",0,SUMIFS(Input!$H$25525:$H$28670,  Input!$F$25525:$F$28670,Summering!B1192))","v":0}]
[null,{"$f":"IF(Biomasser!A83=\"\",\"\", Biomasser!A83)","v":""},{"$f":"IF(B1193=\"\",0,SUMIFS(Input!$H$25525:$H$28670,  Input!$F$25525:$F$28670,Summering!B1193))","v":0}]
[null,{"$f":"IF(Biomasser!A84=\"\",\"\", Biomasser!A84)","v":""},{"$f":"IF(B1194=\"\",0,SUMIFS(Input!$H$25525:$H$28670,  Input!$F$25525:$F$28670,Summering!B1194))","v":0}]
[null,{"$f":"IF(Biomasser!A85=\"\",\"\", Biomasser!A85)","v":""},{"$f":"IF(B1195=\"\",0,SUMIFS(Input!$H$25525:$H$28670,  Input!$F$25525:$F$28670,Summering!B1195))","v":0}]
[null,{"$f":"IF(Biomasser!A86=\"\",\"\", Biomasser!A86)","v":""},{"$f":"IF(B1196=\"\",0,SUMIFS(Input!$H$25525:$H$28670,  Input!$F$25525:$F$28670,Summering!B1196))","v":0}]
[null,{"$f":"IF(Biomasser!A87=\"\",\"\", Biomasser!A87)","v":""},{"$f":"IF(B1197=\"\",0,SUMIFS(Input!$H$25525:$H$28670,  Input!$F$25525:$F$28670,Summering!B1197))","v":0}]
[null,{"$f":"IF(Biomasser!A88=\"\",\"\", Biomasser!A88)","v":""},{"$f":"IF(B1198=\"\",0,SUMIFS(Input!$H$25525:$H$28670,  Input!$F$25525:$F$28670,Summering!B1198))","v":0}]
[null,{"$f":"IF(Biomasser!A89=\"\",\"\", Biomasser!A89)","v":""},{"$f":"IF(B1199=\"\",0,SUMIFS(Input!$H$25525:$H$28670,  Input!$F$25525:$F$28670,Summering!B1199))","v":0}]
[null,{"$f":"IF(Biomasser!A90=\"\",\"\", Biomasser!A90)","v":""},{"$f":"IF(B1200=\"\",0,SUMIFS(Input!$H$25525:$H$28670,  Input!$F$25525:$F$28670,Summering!B1200))","v":0}]
[null,{"$f":"IF(Biomasser!A91=\"\",\"\", Biomasser!A91)","v":""},{"$f":"IF(B1201=\"\",0,SUMIFS(Input!$H$25525:$H$28670,  Input!$F$25525:$F$28670,Summering!B1201))","v":0}]
[null,{"$f":"IF(Biomasser!A92=\"\",\"\", Biomasser!A92)","v":""},{"$f":"IF(B1202=\"\",0,SUMIFS(Input!$H$25525:$H$28670,  Input!$F$25525:$F$28670,Summering!B1202))","v":0}]
[null,{"$f":"IF(Biomasser!A93=\"\",\"\", Biomasser!A93)","v":""},{"$f":"IF(B1203=\"\",0,SUMIFS(Input!$H$25525:$H$28670,  Input!$F$25525:$F$28670,Summering!B1203))","v":0}]
[null,{"$f":"IF(Biomasser!A94=\"\",\"\", Biomasser!A94)","v":""},{"$f":"IF(B1204=\"\",0,SUMIFS(Input!$H$25525:$H$28670,  Input!$F$25525:$F$28670,Summering!B1204))","v":0}]
[null,{"$f":"IF(Biomasser!A95=\"\",\"\", Biomasser!A95)","v":""},{"$f":"IF(B1205=\"\",0,SUMIFS(Input!$H$25525:$H$28670,  Input!$F$25525:$F$28670,Summering!B1205))","v":0}]
[null,{"$f":"IF(Biomasser!A96=\"\",\"\", Biomasser!A96)","v":""},{"$f":"IF(B1206=\"\",0,SUMIFS(Input!$H$25525:$H$28670,  Input!$F$25525:$F$28670,Summering!B1206))","v":0}]
[null,{"$f":"IF(Biomasser!A97=\"\",\"\", Biomasser!A97)","v":""},{"$f":"IF(B1207=\"\",0,SUMIFS(Input!$H$25525:$H$28670,  Input!$F$25525:$F$28670,Summering!B1207))","v":0}]
[null,{"$f":"IF(Biomasser!A98=\"\",\"\", Biomasser!A98)","v":""},{"$f":"IF(B1208=\"\",0,SUMIFS(Input!$H$25525:$H$28670,  Input!$F$25525:$F$28670,Summering!B1208))","v":0}]
[null,{"$f":"IF(Biomasser!A99=\"\",\"\", Biomasser!A99)","v":""},{"$f":"IF(B1209=\"\",0,SUMIFS(Input!$H$25525:$H$28670,  Input!$F$25525:$F$28670,Summering!B1209))","v":0}]
[null,{"$f":"IF(Biomasser!A100=\"\",\"\", Biomasser!A100)","v":""},{"$f":"IF(B1210=\"\",0,SUMIFS(Input!$H$25525:$H$28670,  Input!$F$25525:$F$28670,Summering!B1210))","v":0}]
[null,{"$f":"IF(Biomasser!A101=\"\",\"\", Biomasser!A101)","v":""},{"$f":"IF(B1211=\"\",0,SUMIFS(Input!$H$25525:$H$28670,  Input!$F$25525:$F$28670,Summering!B1211))","v":0}]
[null,{"$f":"IF(Biomasser!A102=\"\",\"\", Biomasser!A102)","v":""},{"$f":"IF(B1212=\"\",0,SUMIFS(Input!$H$25525:$H$28670,  Input!$F$25525:$F$28670,Summering!B1212))","v":0}]
[null,{"$f":"IF(Biomasser!A103=\"\",\"\", Biomasser!A103)","v":""},{"$f":"IF(B1213=\"\",0,SUMIFS(Input!$H$25525:$H$28670,  Input!$F$25525:$F$28670,Summering!B1213))","v":0}]
[null,{"$f":"IF(Biomasser!A104=\"\",\"\", Biomasser!A104)","v":""},{"$f":"IF(B1214=\"\",0,SUMIFS(Input!$H$25525:$H$28670,  Input!$F$25525:$F$28670,Summering!B1214))","v":0}]
[null,{"$f":"IF(Biomasser!A105=\"\",\"\", Biomasser!A105)","v":""},{"$f":"IF(B1215=\"\",0,SUMIFS(Input!$H$25525:$H$28670,  Input!$F$25525:$F$28670,Summering!B1215))","v":0}]
[null,{"$f":"IF(Biomasser!A106=\"\",\"\", Biomasser!A106)","v":""},{"$f":"IF(B1216=\"\",0,SUMIFS(Input!$H$25525:$H$28670,  Input!$F$25525:$F$28670,Summering!B1216))","v":0}]
[null,{"$f":"IF(Biomasser!A107=\"\",\"\", Biomasser!A107)","v":""},{"$f":"IF(B1217=\"\",0,SUMIFS(Input!$H$25525:$H$28670,  Input!$F$25525:$F$28670,Summering!B1217))","v":0}]
[null,{"$f":"IF(Biomasser!A108=\"\",\"\", Biomasser!A108)","v":""},{"$f":"IF(B1218=\"\",0,SUMIFS(Input!$H$25525:$H$28670,  Input!$F$25525:$F$28670,Summering!B1218))","v":0}]
[null,{"$f":"IF(Biomasser!A109=\"\",\"\", Biomasser!A109)","v":""},{"$f":"IF(B1219=\"\",0,SUMIFS(Input!$H$25525:$H$28670,  Input!$F$25525:$F$28670,Summering!B1219))","v":0}]
[null,{"$f":"IF(Biomasser!A110=\"\",\"\", Biomasser!A110)","v":""},{"$f":"IF(B1220=\"\",0,SUMIFS(Input!$H$25525:$H$28670,  Input!$F$25525:$F$28670,Summering!B1220))","v":0}]
[null,{"$f":"IF(Biomasser!A111=\"\",\"\", Biomasser!A111)","v":""},{"$f":"IF(B1221=\"\",0,SUMIFS(Input!$H$25525:$H$28670,  Input!$F$25525:$F$28670,Summering!B1221))","v":0}]
[null,{"$f":"IF(Biomasser!A112=\"\",\"\", Biomasser!A112)","v":""},{"$f":"IF(B1222=\"\",0,SUMIFS(Input!$H$25525:$H$28670,  Input!$F$25525:$F$28670,Summering!B1222))","v":0}]
[null,{"$f":"IF(Biomasser!A113=\"\",\"\", Biomasser!A113)","v":""},{"$f":"IF(B1223=\"\",0,SUMIFS(Input!$H$25525:$H$28670,  Input!$F$25525:$F$28670,Summering!B1223))","v":0}]
[null,{"$f":"IF(Biomasser!A114=\"\",\"\", Biomasser!A114)","v":""},{"$f":"IF(B1224=\"\",0,SUMIFS(Input!$H$25525:$H$28670,  Input!$F$25525:$F$28670,Summering!B1224))","v":0}]
[null,{"$f":"IF(Biomasser!A115=\"\",\"\", Biomasser!A115)","v":""},{"$f":"IF(B1225=\"\",0,SUMIFS(Input!$H$25525:$H$28670,  Input!$F$25525:$F$28670,Summering!B1225))","v":0}]
[null,{"$f":"IF(Biomasser!A116=\"\",\"\", Biomasser!A116)","v":""},{"$f":"IF(B1226=\"\",0,SUMIFS(Input!$H$25525:$H$28670,  Input!$F$25525:$F$28670,Summering!B1226))","v":0}]
[null,{"$f":"IF(Biomasser!A117=\"\",\"\", Biomasser!A117)","v":""},{"$f":"IF(B1227=\"\",0,SUMIFS(Input!$H$25525:$H$28670,  Input!$F$25525:$F$28670,Summering!B1227))","v":0}]
[null,{"$f":"IF(Biomasser!A118=\"\",\"\", Biomasser!A118)","v":""},{"$f":"IF(B1228=\"\",0,SUMIFS(Input!$H$25525:$H$28670,  Input!$F$25525:$F$28670,Summering!B1228))","v":0}]
[null,{"$f":"IF(Biomasser!A119=\"\",\"\", Biomasser!A119)","v":""},{"$f":"IF(B1229=\"\",0,SUMIFS(Input!$H$25525:$H$28670,  Input!$F$25525:$F$28670,Summering!B1229))","v":0}]
[null,{"$f":"IF(Biomasser!A120=\"\",\"\", Biomasser!A120)","v":""},{"$f":"IF(B1230=\"\",0,SUMIFS(Input!$H$25525:$H$28670,  Input!$F$25525:$F$28670,Summering!B1230))","v":0}]
[null,{"$f":"IF(Biomasser!A121=\"\",\"\", Biomasser!A121)","v":""},{"$f":"IF(B1231=\"\",0,SUMIFS(Input!$H$25525:$H$28670,  Input!$F$25525:$F$28670,Summering!B1231))","v":0}]
[null,{"$f":"IF(Biomasser!A122=\"\",\"\", Biomasser!A122)","v":""},{"$f":"IF(B1232=\"\",0,SUMIFS(Input!$H$25525:$H$28670,  Input!$F$25525:$F$28670,Summering!B1232))","v":0}]
[null,{"$f":"IF(Biomasser!A123=\"\",\"\", Biomasser!A123)","v":""},{"$f":"IF(B1233=\"\",0,SUMIFS(Input!$H$25525:$H$28670,  Input!$F$25525:$F$28670,Summering!B1233))","v":0}]
[null,{"$f":"IF(Biomasser!A124=\"\",\"\", Biomasser!A124)","v":""},{"$f":"IF(B1234=\"\",0,SUMIFS(Input!$H$25525:$H$28670,  Input!$F$25525:$F$28670,Summering!B1234))","v":0}]
[null,"Oktober",{"$f":"SUM(C1236:C1357)","v":0},{"$f":"SUMIFS(Input!$H$10:$H$76760,Input!$A$10:$A$76760,\"Gas\",Input!$C$10:$C$76760,Summering!$B$5,Input!$B$10:$B$76760,\"*\"&B1235&\"*\")","v":0}]
[null,{"$f":"IF(Biomasser!A3=\"\",\"\", Biomasser!A3)","v":"Afgrøder (Overskrift, kan ikke vælges)"},{"$f":"IF(B1236=\"\",0,SUMIFS(Input!$H$28675:$H$31925,  Input!$F$28675:$F$31925,Summering!B1236))","v":0}]
[null,{"$f":"IF(Biomasser!A4=\"\",\"\", Biomasser!A4)","v":" -             Majs"},{"$f":"IF(B1237=\"\",0,SUMIFS(Input!$H$28675:$H$31925,  Input!$F$28675:$F$31925,Summering!B1237))","v":0}]
[null,{"$f":"IF(Biomasser!A5=\"\",\"\", Biomasser!A5)","v":" -             Roer"},{"$f":"IF(B1238=\"\",0,SUMIFS(Input!$H$28675:$H$31925,  Input!$F$28675:$F$31925,Summering!B1238))","v":0}]
[null,{"$f":"IF(Biomasser!A6=\"\",\"\", Biomasser!A6)","v":" -             Korn"},{"$f":"IF(B1239=\"\",0,SUMIFS(Input!$H$28675:$H$31925,  Input!$F$28675:$F$31925,Summering!B1239))","v":0}]
[null,{"$f":"IF(Biomasser!A7=\"\",\"\", Biomasser!A7)","v":" -             Græs"},{"$f":"IF(B1240=\"\",0,SUMIFS(Input!$H$28675:$H$31925,  Input!$F$28675:$F$31925,Summering!B1240))","v":0}]
[null,{"$f":"IF(Biomasser!A8=\"\",\"\", Biomasser!A8)","v":" -             Kløvergræs"},{"$f":"IF(B1241=\"\",0,SUMIFS(Input!$H$28675:$H$31925,  Input!$F$28675:$F$31925,Summering!B1241))","v":0}]
[null,{"$f":"IF(Biomasser!A9=\"\",\"\", Biomasser!A9)","v":" -             Jordskokker"},{"$f":"IF(B1242=\"\",0,SUMIFS(Input!$H$28675:$H$31925,  Input!$F$28675:$F$31925,Summering!B1242))","v":0}]
[null,{"$f":"IF(Biomasser!A10=\"\",\"\", Biomasser!A10)","v":" -             Andre afgrøder"},{"$f":"IF(B1243=\"\",0,SUMIFS(Input!$H$28675:$H$31925,  Input!$F$28675:$F$31925,Summering!B1243))","v":0}]
[null,{"$f":"IF(Biomasser!A11=\"\",\"\", Biomasser!A11)","v":" -             Hvedehelsæd"},{"$f":"IF(B1244=\"\",0,SUMIFS(Input!$H$28675:$H$31925,  Input!$F$28675:$F$31925,Summering!B1244))","v":0}]
[null,{"$f":"IF(Biomasser!A12=\"\",\"\", Biomasser!A12)","v":" -             Top af foderroe"},{"$f":"IF(B1245=\"\",0,SUMIFS(Input!$H$28675:$H$31925,  Input!$F$28675:$F$31925,Summering!B1245))","v":0}]
[null,{"$f":"IF(Biomasser!A13=\"\",\"\", Biomasser!A13)","v":" -             Foderroe - rod og top frisk"},{"$f":"IF(B1246=\"\",0,SUMIFS(Input!$H$28675:$H$31925,  Input!$F$28675:$F$31925,Summering!B1246))","v":0}]
[null,{"$f":"IF(Biomasser!A14=\"\",\"\", Biomasser!A14)","v":" -             Økologisk kløvergræs"},{"$f":"IF(B1247=\"\",0,SUMIFS(Input!$H$28675:$H$31925,  Input!$F$28675:$F$31925,Summering!B1247))","v":0}]
[null,{"$f":"IF(Biomasser!A15=\"\",\"\", Biomasser!A15)","v":"Husdyrgødning (Overskrift, kan ikke vælges)"},{"$f":"IF(B1248=\"\",0,SUMIFS(Input!$H$28675:$H$31925,  Input!$F$28675:$F$31925,Summering!B1248))","v":0}]
[null,{"$f":"IF(Biomasser!A16=\"\",\"\", Biomasser!A16)","v":" -             Kvæggylle"},{"$f":"IF(B1249=\"\",0,SUMIFS(Input!$H$28675:$H$31925,  Input!$F$28675:$F$31925,Summering!B1249))","v":0}]
[null,{"$f":"IF(Biomasser!A17=\"\",\"\", Biomasser!A17)","v":" -             Svinegylle"},{"$f":"IF(B1250=\"\",0,SUMIFS(Input!$H$28675:$H$31925,  Input!$F$28675:$F$31925,Summering!B1250))","v":0}]
[null,{"$f":"IF(Biomasser!A18=\"\",\"\", Biomasser!A18)","v":" -             Gylle fra so"},{"$f":"IF(B1251=\"\",0,SUMIFS(Input!$H$28675:$H$31925,  Input!$F$28675:$F$31925,Summering!B1251))","v":0}]
[null,{"$f":"IF(Biomasser!A19=\"\",\"\", Biomasser!A19)","v":" -             Minkgylle"},{"$f":"IF(B1252=\"\",0,SUMIFS(Input!$H$28675:$H$31925,  Input!$F$28675:$F$31925,Summering!B1252))","v":0}]
[null,{"$f":"IF(Biomasser!A20=\"\",\"\", Biomasser!A20)","v":" -             Fjerkrægylle"},{"$f":"IF(B1253=\"\",0,SUMIFS(Input!$H$28675:$H$31925,  Input!$F$28675:$F$31925,Summering!B1253))","v":0}]
[null,{"$f":"IF(Biomasser!A21=\"\",\"\", Biomasser!A21)","v":" -             Blandet gylle"},{"$f":"IF(B1254=\"\",0,SUMIFS(Input!$H$28675:$H$31925,  Input!$F$28675:$F$31925,Summering!B1254))","v":0}]
[null,{"$f":"IF(Biomasser!A22=\"\",\"\", Biomasser!A22)","v":" -             Dybstrøelse - Kvæg"},{"$f":"IF(B1255=\"\",0,SUMIFS(Input!$H$28675:$H$31925,  Input!$F$28675:$F$31925,Summering!B1255))","v":0}]
[null,{"$f":"IF(Biomasser!A23=\"\",\"\", Biomasser!A23)","v":" -             Dybstrøelse - Fjerkræ"},{"$f":"IF(B1256=\"\",0,SUMIFS(Input!$H$28675:$H$31925,  Input!$F$28675:$F$31925,Summering!B1256))","v":0}]
[null,{"$f":"IF(Biomasser!A24=\"\",\"\", Biomasser!A24)","v":" -             Dybstrøelse - Hest"},{"$f":"IF(B1257=\"\",0,SUMIFS(Input!$H$28675:$H$31925,  Input!$F$28675:$F$31925,Summering!B1257))","v":0}]
[null,{"$f":"IF(Biomasser!A25=\"\",\"\", Biomasser!A25)","v":" -             Dybstrøelse - Andre typer"},{"$f":"IF(B1258=\"\",0,SUMIFS(Input!$H$28675:$H$31925,  Input!$F$28675:$F$31925,Summering!B1258))","v":0}]
[null,{"$f":"IF(Biomasser!A26=\"\",\"\", Biomasser!A26)","v":" -             Fast gødning"},{"$f":"IF(B1259=\"\",0,SUMIFS(Input!$H$28675:$H$31925,  Input!$F$28675:$F$31925,Summering!B1259))","v":0}]
[null,{"$f":"IF(Biomasser!A27=\"\",\"\", Biomasser!A27)","v":" -             Ajle"},{"$f":"IF(B1260=\"\",0,SUMIFS(Input!$H$28675:$H$31925,  Input!$F$28675:$F$31925,Summering!B1260))","v":0}]
[null,{"$f":"IF(Biomasser!A28=\"\",\"\", Biomasser!A28)","v":" -             Fiberfraktion"},{"$f":"IF(B1261=\"\",0,SUMIFS(Input!$H$28675:$H$31925,  Input!$F$28675:$F$31925,Summering!B1261))","v":0}]
[null,{"$f":"IF(Biomasser!A29=\"\",\"\", Biomasser!A29)","v":" -             Flydende fraktion fra separationsanlæg"},{"$f":"IF(B1262=\"\",0,SUMIFS(Input!$H$28675:$H$31925,  Input!$F$28675:$F$31925,Summering!B1262))","v":0}]
[null,{"$f":"IF(Biomasser!A30=\"\",\"\", Biomasser!A30)","v":" -             Flydende fraktion"},{"$f":"IF(B1263=\"\",0,SUMIFS(Input!$H$28675:$H$31925,  Input!$F$28675:$F$31925,Summering!B1263))","v":0}]
[null,{"$f":"IF(Biomasser!A31=\"\",\"\", Biomasser!A31)","v":" -             Anden husdyrgødning"},{"$f":"IF(B1264=\"\",0,SUMIFS(Input!$H$28675:$H$31925,  Input!$F$28675:$F$31925,Summering!B1264))","v":0}]
[null,{"$f":"IF(Biomasser!A32=\"\",\"\", Biomasser!A32)","v":" -             Forsuret svinegylle"},{"$f":"IF(B1265=\"\",0,SUMIFS(Input!$H$28675:$H$31925,  Input!$F$28675:$F$31925,Summering!B1265))","v":0}]
[null,{"$f":"IF(Biomasser!A33=\"\",\"\", Biomasser!A33)","v":" -             Dybstrøelse - Svin"},{"$f":"IF(B1266=\"\",0,SUMIFS(Input!$H$28675:$H$31925,  Input!$F$28675:$F$31925,Summering!B1266))","v":0}]
[null,{"$f":"IF(Biomasser!A34=\"\",\"\", Biomasser!A34)","v":" -             Gylle fibre - kemisk separation - Svin"},{"$f":"IF(B1267=\"\",0,SUMIFS(Input!$H$28675:$H$31925,  Input!$F$28675:$F$31925,Summering!B1267))","v":0}]
[null,{"$f":"IF(Biomasser!A35=\"\",\"\", Biomasser!A35)","v":" -             Gylle fibre - dekanter separation - Svin"},{"$f":"IF(B1268=\"\",0,SUMIFS(Input!$H$28675:$H$31925,  Input!$F$28675:$F$31925,Summering!B1268))","v":0}]
[null,{"$f":"IF(Biomasser!A36=\"\",\"\", Biomasser!A36)","v":" -             Staldgødning - Kvæg"},{"$f":"IF(B1269=\"\",0,SUMIFS(Input!$H$28675:$H$31925,  Input!$F$28675:$F$31925,Summering!B1269))","v":0}]
[null,{"$f":"IF(Biomasser!A37=\"\",\"\", Biomasser!A37)","v":" -             Kvæggylle - Årsopdræt 6 mdr."},{"$f":"IF(B1270=\"\",0,SUMIFS(Input!$H$28675:$H$31925,  Input!$F$28675:$F$31925,Summering!B1270))","v":0}]
[null,{"$f":"IF(Biomasser!A38=\"\",\"\", Biomasser!A38)","v":" -             Staldgødning - Fjerkræ"},{"$f":"IF(B1271=\"\",0,SUMIFS(Input!$H$28675:$H$31925,  Input!$F$28675:$F$31925,Summering!B1271))","v":0}]
[null,{"$f":"IF(Biomasser!A39=\"\",\"\", Biomasser!A39)","v":"Slam og spildevand (Overskrift, kan ikke vælges)"},{"$f":"IF(B1272=\"\",0,SUMIFS(Input!$H$28675:$H$31925,  Input!$F$28675:$F$31925,Summering!B1272))","v":0}]
[null,{"$f":"IF(Biomasser!A40=\"\",\"\", Biomasser!A40)","v":" -             Slam og spildevand samt uforurenede produktrester"},{"$f":"IF(B1273=\"\",0,SUMIFS(Input!$H$28675:$H$31925,  Input!$F$28675:$F$31925,Summering!B1273))","v":0}]
[null,{"$f":"IF(Biomasser!A41=\"\",\"\", Biomasser!A41)","v":" -             Slam fra dambrug"},{"$f":"IF(B1274=\"\",0,SUMIFS(Input!$H$28675:$H$31925,  Input!$F$28675:$F$31925,Summering!B1274))","v":0}]
[null,{"$f":"IF(Biomasser!A42=\"\",\"\", Biomasser!A42)","v":" -             Slam fra forarbejdning af animalske råvarer"},{"$f":"IF(B1275=\"\",0,SUMIFS(Input!$H$28675:$H$31925,  Input!$F$28675:$F$31925,Summering!B1275))","v":0}]
[null,{"$f":"IF(Biomasser!A43=\"\",\"\", Biomasser!A43)","v":" -             Spildevandsslam"},{"$f":"IF(B1276=\"\",0,SUMIFS(Input!$H$28675:$H$31925,  Input!$F$28675:$F$31925,Summering!B1276))","v":0}]
[null,{"$f":"IF(Biomasser!A44=\"\",\"\", Biomasser!A44)","v":" -             Proteolyseret processpildevand"},{"$f":"IF(B1277=\"\",0,SUMIFS(Input!$H$28675:$H$31925,  Input!$F$28675:$F$31925,Summering!B1277))","v":0}]
[null,{"$f":"IF(Biomasser!A45=\"\",\"\", Biomasser!A45)","v":" -             Sekundær spildevandsslam"},{"$f":"IF(B1278=\"\",0,SUMIFS(Input!$H$28675:$H$31925,  Input!$F$28675:$F$31925,Summering!B1278))","v":0}]
[null,{"$f":"IF(Biomasser!A46=\"\",\"\", Biomasser!A46)","v":" -             Sekundær spildevandsslam afvandet"},{"$f":"IF(B1279=\"\",0,SUMIFS(Input!$H$28675:$H$31925,  Input!$F$28675:$F$31925,Summering!B1279))","v":0}]
[null,{"$f":"IF(Biomasser!A47=\"\",\"\", Biomasser!A47)","v":"Organisk affald fra husholdninger og erhverv (Overskrift, kan ikke vælges)"},{"$f":"IF(B1280=\"\",0,SUMIFS(Input!$H$28675:$H$31925,  Input!$F$28675:$F$31925,Summering!B1280))","v":0}]
[null,{"$f":"IF(Biomasser!A48=\"\",\"\", Biomasser!A48)","v":" -             Kildesorteret organisk dagrenovation"},{"$f":"IF(B1281=\"\",0,SUMIFS(Input!$H$28675:$H$31925,  Input!$F$28675:$F$31925,Summering!B1281))","v":0}]
[null,{"$f":"IF(Biomasser!A49=\"\",\"\", Biomasser!A49)","v":" -             Organisk husholdningsaffald - Renescience"},{"$f":"IF(B1282=\"\",0,SUMIFS(Input!$H$28675:$H$31925,  Input!$F$28675:$F$31925,Summering!B1282))","v":0}]
[null,{"$f":"IF(Biomasser!A50=\"\",\"\", Biomasser!A50)","v":" -             Organisk husholdningsaffald - Pulper"},{"$f":"IF(B1283=\"\",0,SUMIFS(Input!$H$28675:$H$31925,  Input!$F$28675:$F$31925,Summering!B1283))","v":0}]
[null,{"$f":"IF(Biomasser!A51=\"\",\"\", Biomasser!A51)","v":" -             Organisk husholdningsaffald - Rullesigte"},{"$f":"IF(B1284=\"\",0,SUMIFS(Input!$H$28675:$H$31925,  Input!$F$28675:$F$31925,Summering!B1284))","v":0}]
[null,{"$f":"IF(Biomasser!A52=\"\",\"\", Biomasser!A52)","v":" -             Organisk husholdningsaffald - Skruepresse"},{"$f":"IF(B1285=\"\",0,SUMIFS(Input!$H$28675:$H$31925,  Input!$F$28675:$F$31925,Summering!B1285))","v":0}]
[null,{"$f":"IF(Biomasser!A53=\"\",\"\", Biomasser!A53)","v":" -             Organisk husholdningsaffald - Neddeling"},{"$f":"IF(B1286=\"\",0,SUMIFS(Input!$H$28675:$H$31925,  Input!$F$28675:$F$31925,Summering!B1286))","v":0}]
[null,{"$f":"IF(Biomasser!A54=\"\",\"\", Biomasser!A54)","v":" -             Organisk affald fra erhverv"},{"$f":"IF(B1287=\"\",0,SUMIFS(Input!$H$28675:$H$31925,  Input!$F$28675:$F$31925,Summering!B1287))","v":0}]
[null,{"$f":"IF(Biomasser!A55=\"\",\"\", Biomasser!A55)","v":"Rester og biprodukter fra planter og afgrøder (Overskrift, kan ikke vælges)"},{"$f":"IF(B1288=\"\",0,SUMIFS(Input!$H$28675:$H$31925,  Input!$F$28675:$F$31925,Summering!B1288))","v":0}]
[null,{"$f":"IF(Biomasser!A56=\"\",\"\", Biomasser!A56)","v":" -             Cellulose"},{"$f":"IF(B1289=\"\",0,SUMIFS(Input!$H$28675:$H$31925,  Input!$F$28675:$F$31925,Summering!B1289))","v":0}]
[null,{"$f":"IF(Biomasser!A57=\"\",\"\", Biomasser!A57)","v":" -             Naturpleje biomasse"},{"$f":"IF(B1290=\"\",0,SUMIFS(Input!$H$28675:$H$31925,  Input!$F$28675:$F$31925,Summering!B1290))","v":0}]
[null,{"$f":"IF(Biomasser!A58=\"\",\"\", Biomasser!A58)","v":" -             Halm"},{"$f":"IF(B1291=\"\",0,SUMIFS(Input!$H$28675:$H$31925,  Input!$F$28675:$F$31925,Summering!B1291))","v":0}]
[null,{"$f":"IF(Biomasser!A59=\"\",\"\", Biomasser!A59)","v":" -             Have-park affald"},{"$f":"IF(B1292=\"\",0,SUMIFS(Input!$H$28675:$H$31925,  Input!$F$28675:$F$31925,Summering!B1292))","v":0}]
[null,{"$f":"IF(Biomasser!A60=\"\",\"\", Biomasser!A60)","v":" -             Andre restprodukter fra produktion af primærafgrøder"},{"$f":"IF(B1293=\"\",0,SUMIFS(Input!$H$28675:$H$31925,  Input!$F$28675:$F$31925,Summering!B1293))","v":0}]
[null,{"$f":"IF(Biomasser!A61=\"\",\"\", Biomasser!A61)","v":" -             Kasserede afgrøder"},{"$f":"IF(B1294=\"\",0,SUMIFS(Input!$H$28675:$H$31925,  Input!$F$28675:$F$31925,Summering!B1294))","v":0}]
[null,{"$f":"IF(Biomasser!A62=\"\",\"\", Biomasser!A62)","v":"Rester og biprodukter fra levnesmiddel- og dyrefoderindustrien  (Overskrift, kan ikke vælges)"},{"$f":"IF(B1295=\"\",0,SUMIFS(Input!$H$28675:$H$31925,  Input!$F$28675:$F$31925,Summering!B1295))","v":0}]
[null,{"$f":"IF(Biomasser!A63=\"\",\"\", Biomasser!A63)","v":" -             Animalske biprodukter"},{"$f":"IF(B1296=\"\",0,SUMIFS(Input!$H$28675:$H$31925,  Input!$F$28675:$F$31925,Summering!B1296))","v":0}]
[null,{"$f":"IF(Biomasser!A64=\"\",\"\", Biomasser!A64)","v":" -             Mave/tarm kvæg"},{"$f":"IF(B1297=\"\",0,SUMIFS(Input!$H$28675:$H$31925,  Input!$F$28675:$F$31925,Summering!B1297))","v":0}]
[null,{"$f":"IF(Biomasser!A65=\"\",\"\", Biomasser!A65)","v":" -             Mave/tarm svin"},{"$f":"IF(B1298=\"\",0,SUMIFS(Input!$H$28675:$H$31925,  Input!$F$28675:$F$31925,Summering!B1298))","v":0}]
[null,{"$f":"IF(Biomasser!A66=\"\",\"\", Biomasser!A66)","v":" -             Valle"},{"$f":"IF(B1299=\"\",0,SUMIFS(Input!$H$28675:$H$31925,  Input!$F$28675:$F$31925,Summering!B1299))","v":0}]
[null,{"$f":"IF(Biomasser!A67=\"\",\"\", Biomasser!A67)","v":" -             Valle koncentrat"},{"$f":"IF(B1300=\"\",0,SUMIFS(Input!$H$28675:$H$31925,  Input!$F$28675:$F$31925,Summering!B1300))","v":0}]
[null,{"$f":"IF(Biomasser!A68=\"\",\"\", Biomasser!A68)","v":" -             Protein"},{"$f":"IF(B1301=\"\",0,SUMIFS(Input!$H$28675:$H$31925,  Input!$F$28675:$F$31925,Summering!B1301))","v":0}]
[null,{"$f":"IF(Biomasser!A69=\"\",\"\", Biomasser!A69)","v":" -             Fedt"},{"$f":"IF(B1302=\"\",0,SUMIFS(Input!$H$28675:$H$31925,  Input!$F$28675:$F$31925,Summering!B1302))","v":0}]
[null,{"$f":"IF(Biomasser!A70=\"\",\"\", Biomasser!A70)","v":" -             Vinasse (2,2 pct. kvælstof)"},{"$f":"IF(B1303=\"\",0,SUMIFS(Input!$H$28675:$H$31925,  Input!$F$28675:$F$31925,Summering!B1303))","v":0}]
[null,{"$f":"IF(Biomasser!A71=\"\",\"\", Biomasser!A71)","v":" -             Vinasse (3,5 pct. kvælstof)"},{"$f":"IF(B1304=\"\",0,SUMIFS(Input!$H$28675:$H$31925,  Input!$F$28675:$F$31925,Summering!B1304))","v":0}]
[null,{"$f":"IF(Biomasser!A72=\"\",\"\", Biomasser!A72)","v":" -             Kartoffelfrugtsaft"},{"$f":"IF(B1305=\"\",0,SUMIFS(Input!$H$28675:$H$31925,  Input!$F$28675:$F$31925,Summering!B1305))","v":0}]
[null,{"$f":"IF(Biomasser!A73=\"\",\"\", Biomasser!A73)","v":" -             Glukose"},{"$f":"IF(B1306=\"\",0,SUMIFS(Input!$H$28675:$H$31925,  Input!$F$28675:$F$31925,Summering!B1306))","v":0}]
[null,{"$f":"IF(Biomasser!A74=\"\",\"\", Biomasser!A74)","v":" -             Alkohol"},{"$f":"IF(B1307=\"\",0,SUMIFS(Input!$H$28675:$H$31925,  Input!$F$28675:$F$31925,Summering!B1307))","v":0}]
[null,{"$f":"IF(Biomasser!A75=\"\",\"\", Biomasser!A75)","v":" -             Pressesaft fra grøntpilleproduktion"},{"$f":"IF(B1308=\"\",0,SUMIFS(Input!$H$28675:$H$31925,  Input!$F$28675:$F$31925,Summering!B1308))","v":0}]
[null,{"$f":"IF(Biomasser!A76=\"\",\"\", Biomasser!A76)","v":" -             Inaktiveret og kalkstabiliseret biomasse"},{"$f":"IF(B1309=\"\",0,SUMIFS(Input!$H$28675:$H$31925,  Input!$F$28675:$F$31925,Summering!B1309))","v":0}]
[null,{"$f":"IF(Biomasser!A77=\"\",\"\", Biomasser!A77)","v":"Anden biomasse (Overskrift)"},{"$f":"IF(B1310=\"\",0,SUMIFS(Input!$H$28675:$H$31925,  Input!$F$28675:$F$31925,Summering!B1310))","v":0}]
[null,{"$f":"IF(Biomasser!A78=\"\",\"\", Biomasser!A78)","v":" -             Råglycerin"},{"$f":"IF(B1311=\"\",0,SUMIFS(Input!$H$28675:$H$31925,  Input!$F$28675:$F$31925,Summering!B1311))","v":0}]
[null,{"$f":"IF(Biomasser!A79=\"\",\"\", Biomasser!A79)","v":""},{"$f":"IF(B1312=\"\",0,SUMIFS(Input!$H$28675:$H$31925,  Input!$F$28675:$F$31925,Summering!B1312))","v":0}]
[null,{"$f":"IF(Biomasser!A80=\"\",\"\", Biomasser!A80)","v":""},{"$f":"IF(B1313=\"\",0,SUMIFS(Input!$H$28675:$H$31925,  Input!$F$28675:$F$31925,Summering!B1313))","v":0}]
[null,{"$f":"IF(Biomasser!A81=\"\",\"\", Biomasser!A81)","v":""},{"$f":"IF(B1314=\"\",0,SUMIFS(Input!$H$28675:$H$31925,  Input!$F$28675:$F$31925,Summering!B1314))","v":0}]
[null,{"$f":"IF(Biomasser!A82=\"\",\"\", Biomasser!A82)","v":""},{"$f":"IF(B1315=\"\",0,SUMIFS(Input!$H$28675:$H$31925,  Input!$F$28675:$F$31925,Summering!B1315))","v":0}]
[null,{"$f":"IF(Biomasser!A83=\"\",\"\", Biomasser!A83)","v":""},{"$f":"IF(B1316=\"\",0,SUMIFS(Input!$H$28675:$H$31925,  Input!$F$28675:$F$31925,Summering!B1316))","v":0}]
[null,{"$f":"IF(Biomasser!A84=\"\",\"\", Biomasser!A84)","v":""},{"$f":"IF(B1317=\"\",0,SUMIFS(Input!$H$28675:$H$31925,  Input!$F$28675:$F$31925,Summering!B1317))","v":0}]
[null,{"$f":"IF(Biomasser!A85=\"\",\"\", Biomasser!A85)","v":""},{"$f":"IF(B1318=\"\",0,SUMIFS(Input!$H$28675:$H$31925,  Input!$F$28675:$F$31925,Summering!B1318))","v":0}]
[null,{"$f":"IF(Biomasser!A86=\"\",\"\", Biomasser!A86)","v":""},{"$f":"IF(B1319=\"\",0,SUMIFS(Input!$H$28675:$H$31925,  Input!$F$28675:$F$31925,Summering!B1319))","v":0}]
[null,{"$f":"IF(Biomasser!A87=\"\",\"\", Biomasser!A87)","v":""},{"$f":"IF(B1320=\"\",0,SUMIFS(Input!$H$28675:$H$31925,  Input!$F$28675:$F$31925,Summering!B1320))","v":0}]
[null,{"$f":"IF(Biomasser!A88=\"\",\"\", Biomasser!A88)","v":""},{"$f":"IF(B1321=\"\",0,SUMIFS(Input!$H$28675:$H$31925,  Input!$F$28675:$F$31925,Summering!B1321))","v":0}]
[null,{"$f":"IF(Biomasser!A89=\"\",\"\", Biomasser!A89)","v":""},{"$f":"IF(B1322=\"\",0,SUMIFS(Input!$H$28675:$H$31925,  Input!$F$28675:$F$31925,Summering!B1322))","v":0}]
[null,{"$f":"IF(Biomasser!A90=\"\",\"\", Biomasser!A90)","v":""},{"$f":"IF(B1323=\"\",0,SUMIFS(Input!$H$28675:$H$31925,  Input!$F$28675:$F$31925,Summering!B1323))","v":0}]
[null,{"$f":"IF(Biomasser!A91=\"\",\"\", Biomasser!A91)","v":""},{"$f":"IF(B1324=\"\",0,SUMIFS(Input!$H$28675:$H$31925,  Input!$F$28675:$F$31925,Summering!B1324))","v":0}]
[null,{"$f":"IF(Biomasser!A92=\"\",\"\", Biomasser!A92)","v":""},{"$f":"IF(B1325=\"\",0,SUMIFS(Input!$H$28675:$H$31925,  Input!$F$28675:$F$31925,Summering!B1325))","v":0}]
[null,{"$f":"IF(Biomasser!A93=\"\",\"\", Biomasser!A93)","v":""},{"$f":"IF(B1326=\"\",0,SUMIFS(Input!$H$28675:$H$31925,  Input!$F$28675:$F$31925,Summering!B1326))","v":0}]
[null,{"$f":"IF(Biomasser!A94=\"\",\"\", Biomasser!A94)","v":""},{"$f":"IF(B1327=\"\",0,SUMIFS(Input!$H$28675:$H$31925,  Input!$F$28675:$F$31925,Summering!B1327))","v":0}]
[null,{"$f":"IF(Biomasser!A95=\"\",\"\", Biomasser!A95)","v":""},{"$f":"IF(B1328=\"\",0,SUMIFS(Input!$H$28675:$H$31925,  Input!$F$28675:$F$31925,Summering!B1328))","v":0}]
[null,{"$f":"IF(Biomasser!A96=\"\",\"\", Biomasser!A96)","v":""},{"$f":"IF(B1329=\"\",0,SUMIFS(Input!$H$28675:$H$31925,  Input!$F$28675:$F$31925,Summering!B1329))","v":0}]
[null,{"$f":"IF(Biomasser!A97=\"\",\"\", Biomasser!A97)","v":""},{"$f":"IF(B1330=\"\",0,SUMIFS(Input!$H$28675:$H$31925,  Input!$F$28675:$F$31925,Summering!B1330))","v":0}]
[null,{"$f":"IF(Biomasser!A98=\"\",\"\", Biomasser!A98)","v":""},{"$f":"IF(B1331=\"\",0,SUMIFS(Input!$H$28675:$H$31925,  Input!$F$28675:$F$31925,Summering!B1331))","v":0}]
[null,{"$f":"IF(Biomasser!A99=\"\",\"\", Biomasser!A99)","v":""},{"$f":"IF(B1332=\"\",0,SUMIFS(Input!$H$28675:$H$31925,  Input!$F$28675:$F$31925,Summering!B1332))","v":0}]
[null,{"$f":"IF(Biomasser!A100=\"\",\"\", Biomasser!A100)","v":""},{"$f":"IF(B1333=\"\",0,SUMIFS(Input!$H$28675:$H$31925,  Input!$F$28675:$F$31925,Summering!B1333))","v":0}]
[null,{"$f":"IF(Biomasser!A101=\"\",\"\", Biomasser!A101)","v":""},{"$f":"IF(B1334=\"\",0,SUMIFS(Input!$H$28675:$H$31925,  Input!$F$28675:$F$31925,Summering!B1334))","v":0}]
[null,{"$f":"IF(Biomasser!A102=\"\",\"\", Biomasser!A102)","v":""},{"$f":"IF(B1335=\"\",0,SUMIFS(Input!$H$28675:$H$31925,  Input!$F$28675:$F$31925,Summering!B1335))","v":0}]
[null,{"$f":"IF(Biomasser!A103=\"\",\"\", Biomasser!A103)","v":""},{"$f":"IF(B1336=\"\",0,SUMIFS(Input!$H$28675:$H$31925,  Input!$F$28675:$F$31925,Summering!B1336))","v":0}]
[null,{"$f":"IF(Biomasser!A104=\"\",\"\", Biomasser!A104)","v":""},{"$f":"IF(B1337=\"\",0,SUMIFS(Input!$H$28675:$H$31925,  Input!$F$28675:$F$31925,Summering!B1337))","v":0}]
[null,{"$f":"IF(Biomasser!A105=\"\",\"\", Biomasser!A105)","v":""},{"$f":"IF(B1338=\"\",0,SUMIFS(Input!$H$28675:$H$31925,  Input!$F$28675:$F$31925,Summering!B1338))","v":0}]
[null,{"$f":"IF(Biomasser!A106=\"\",\"\", Biomasser!A106)","v":""},{"$f":"IF(B1339=\"\",0,SUMIFS(Input!$H$28675:$H$31925,  Input!$F$28675:$F$31925,Summering!B1339))","v":0}]
[null,{"$f":"IF(Biomasser!A107=\"\",\"\", Biomasser!A107)","v":""},{"$f":"IF(B1340=\"\",0,SUMIFS(Input!$H$28675:$H$31925,  Input!$F$28675:$F$31925,Summering!B1340))","v":0}]
[null,{"$f":"IF(Biomasser!A108=\"\",\"\", Biomasser!A108)","v":""},{"$f":"IF(B1341=\"\",0,SUMIFS(Input!$H$28675:$H$31925,  Input!$F$28675:$F$31925,Summering!B1341))","v":0}]
[null,{"$f":"IF(Biomasser!A109=\"\",\"\", Biomasser!A109)","v":""},{"$f":"IF(B1342=\"\",0,SUMIFS(Input!$H$28675:$H$31925,  Input!$F$28675:$F$31925,Summering!B1342))","v":0}]
[null,{"$f":"IF(Biomasser!A110=\"\",\"\", Biomasser!A110)","v":""},{"$f":"IF(B1343=\"\",0,SUMIFS(Input!$H$28675:$H$31925,  Input!$F$28675:$F$31925,Summering!B1343))","v":0}]
[null,{"$f":"IF(Biomasser!A111=\"\",\"\", Biomasser!A111)","v":""},{"$f":"IF(B1344=\"\",0,SUMIFS(Input!$H$28675:$H$31925,  Input!$F$28675:$F$31925,Summering!B1344))","v":0}]
[null,{"$f":"IF(Biomasser!A112=\"\",\"\", Biomasser!A112)","v":""},{"$f":"IF(B1345=\"\",0,SUMIFS(Input!$H$28675:$H$31925,  Input!$F$28675:$F$31925,Summering!B1345))","v":0}]
[null,{"$f":"IF(Biomasser!A113=\"\",\"\", Biomasser!A113)","v":""},{"$f":"IF(B1346=\"\",0,SUMIFS(Input!$H$28675:$H$31925,  Input!$F$28675:$F$31925,Summering!B1346))","v":0}]
[null,{"$f":"IF(Biomasser!A114=\"\",\"\", Biomasser!A114)","v":""},{"$f":"IF(B1347=\"\",0,SUMIFS(Input!$H$28675:$H$31925,  Input!$F$28675:$F$31925,Summering!B1347))","v":0}]
[null,{"$f":"IF(Biomasser!A115=\"\",\"\", Biomasser!A115)","v":""},{"$f":"IF(B1348=\"\",0,SUMIFS(Input!$H$28675:$H$31925,  Input!$F$28675:$F$31925,Summering!B1348))","v":0}]
[null,{"$f":"IF(Biomasser!A116=\"\",\"\", Biomasser!A116)","v":""},{"$f":"IF(B1349=\"\",0,SUMIFS(Input!$H$28675:$H$31925,  Input!$F$28675:$F$31925,Summering!B1349))","v":0}]
[null,{"$f":"IF(Biomasser!A117=\"\",\"\", Biomasser!A117)","v":""},{"$f":"IF(B1350=\"\",0,SUMIFS(Input!$H$28675:$H$31925,  Input!$F$28675:$F$31925,Summering!B1350))","v":0}]
[null,{"$f":"IF(Biomasser!A118=\"\",\"\", Biomasser!A118)","v":""},{"$f":"IF(B1351=\"\",0,SUMIFS(Input!$H$28675:$H$31925,  Input!$F$28675:$F$31925,Summering!B1351))","v":0}]
[null,{"$f":"IF(Biomasser!A119=\"\",\"\", Biomasser!A119)","v":""},{"$f":"IF(B1352=\"\",0,SUMIFS(Input!$H$28675:$H$31925,  Input!$F$28675:$F$31925,Summering!B1352))","v":0}]
[null,{"$f":"IF(Biomasser!A120=\"\",\"\", Biomasser!A120)","v":""},{"$f":"IF(B1353=\"\",0,SUMIFS(Input!$H$28675:$H$31925,  Input!$F$28675:$F$31925,Summering!B1353))","v":0}]
[null,{"$f":"IF(Biomasser!A121=\"\",\"\", Biomasser!A121)","v":""},{"$f":"IF(B1354=\"\",0,SUMIFS(Input!$H$28675:$H$31925,  Input!$F$28675:$F$31925,Summering!B1354))","v":0}]
[null,{"$f":"IF(Biomasser!A122=\"\",\"\", Biomasser!A122)","v":""},{"$f":"IF(B1355=\"\",0,SUMIFS(Input!$H$28675:$H$31925,  Input!$F$28675:$F$31925,Summering!B1355))","v":0}]
[null,{"$f":"IF(Biomasser!A123=\"\",\"\", Biomasser!A123)","v":""},{"$f":"IF(B1356=\"\",0,SUMIFS(Input!$H$28675:$H$31925,  Input!$F$28675:$F$31925,Summering!B1356))","v":0}]
[null,{"$f":"IF(Biomasser!A124=\"\",\"\", Biomasser!A124)","v":""},{"$f":"IF(B1357=\"\",0,SUMIFS(Input!$H$28675:$H$31925,  Input!$F$28675:$F$31925,Summering!B1357))","v":0}]
[null,"November",{"$f":"SUM(C1359:C1480)","v":0},{"$f":"SUMIFS(Input!$H$10:$H$76760,Input!$A$10:$A$76760,\"Gas\",Input!$C$10:$C$76760,Summering!$B$5,Input!$B$10:$B$76760,\"*\"&B1358&\"*\")","v":0}]
[null,{"$f":"IF(Biomasser!A3=\"\",\"\", Biomasser!A3)","v":"Afgrøder (Overskrift, kan ikke vælges)"},{"$f":"IF(B1359=\"\",0,SUMIFS(Input!$H$31930:$H$35075,  Input!$F$31930:$F$35075,Summering!B1359))","v":0}]
[null,{"$f":"IF(Biomasser!A4=\"\",\"\", Biomasser!A4)","v":" -             Majs"},{"$f":"IF(B1360=\"\",0,SUMIFS(Input!$H$31930:$H$35075,  Input!$F$31930:$F$35075,Summering!B1360))","v":0}]
[null,{"$f":"IF(Biomasser!A5=\"\",\"\", Biomasser!A5)","v":" -             Roer"},{"$f":"IF(B1361=\"\",0,SUMIFS(Input!$H$31930:$H$35075,  Input!$F$31930:$F$35075,Summering!B1361))","v":0}]
[null,{"$f":"IF(Biomasser!A6=\"\",\"\", Biomasser!A6)","v":" -             Korn"},{"$f":"IF(B1362=\"\",0,SUMIFS(Input!$H$31930:$H$35075,  Input!$F$31930:$F$35075,Summering!B1362))","v":0}]
[null,{"$f":"IF(Biomasser!A7=\"\",\"\", Biomasser!A7)","v":" -             Græs"},{"$f":"IF(B1363=\"\",0,SUMIFS(Input!$H$31930:$H$35075,  Input!$F$31930:$F$35075,Summering!B1363))","v":0}]
[null,{"$f":"IF(Biomasser!A8=\"\",\"\", Biomasser!A8)","v":" -             Kløvergræs"},{"$f":"IF(B1364=\"\",0,SUMIFS(Input!$H$31930:$H$35075,  Input!$F$31930:$F$35075,Summering!B1364))","v":0}]
[null,{"$f":"IF(Biomasser!A9=\"\",\"\", Biomasser!A9)","v":" -             Jordskokker"},{"$f":"IF(B1365=\"\",0,SUMIFS(Input!$H$31930:$H$35075,  Input!$F$31930:$F$35075,Summering!B1365))","v":0}]
[null,{"$f":"IF(Biomasser!A10=\"\",\"\", Biomasser!A10)","v":" -             Andre afgrøder"},{"$f":"IF(B1366=\"\",0,SUMIFS(Input!$H$31930:$H$35075,  Input!$F$31930:$F$35075,Summering!B1366))","v":0}]
[null,{"$f":"IF(Biomasser!A11=\"\",\"\", Biomasser!A11)","v":" -             Hvedehelsæd"},{"$f":"IF(B1367=\"\",0,SUMIFS(Input!$H$31930:$H$35075,  Input!$F$31930:$F$35075,Summering!B1367))","v":0}]
[null,{"$f":"IF(Biomasser!A12=\"\",\"\", Biomasser!A12)","v":" -             Top af foderroe"},{"$f":"IF(B1368=\"\",0,SUMIFS(Input!$H$31930:$H$35075,  Input!$F$31930:$F$35075,Summering!B1368))","v":0}]
[null,{"$f":"IF(Biomasser!A13=\"\",\"\", Biomasser!A13)","v":" -             Foderroe - rod og top frisk"},{"$f":"IF(B1369=\"\",0,SUMIFS(Input!$H$31930:$H$35075,  Input!$F$31930:$F$35075,Summering!B1369))","v":0}]
[null,{"$f":"IF(Biomasser!A14=\"\",\"\", Biomasser!A14)","v":" -             Økologisk kløvergræs"},{"$f":"IF(B1370=\"\",0,SUMIFS(Input!$H$31930:$H$35075,  Input!$F$31930:$F$35075,Summering!B1370))","v":0}]
[null,{"$f":"IF(Biomasser!A15=\"\",\"\", Biomasser!A15)","v":"Husdyrgødning (Overskrift, kan ikke vælges)"},{"$f":"IF(B1371=\"\",0,SUMIFS(Input!$H$31930:$H$35075,  Input!$F$31930:$F$35075,Summering!B1371))","v":0}]
[null,{"$f":"IF(Biomasser!A16=\"\",\"\", Biomasser!A16)","v":" -             Kvæggylle"},{"$f":"IF(B1372=\"\",0,SUMIFS(Input!$H$31930:$H$35075,  Input!$F$31930:$F$35075,Summering!B1372))","v":0}]
[null,{"$f":"IF(Biomasser!A17=\"\",\"\", Biomasser!A17)","v":" -             Svinegylle"},{"$f":"IF(B1373=\"\",0,SUMIFS(Input!$H$31930:$H$35075,  Input!$F$31930:$F$35075,Summering!B1373))","v":0}]
[null,{"$f":"IF(Biomasser!A18=\"\",\"\", Biomasser!A18)","v":" -             Gylle fra so"},{"$f":"IF(B1374=\"\",0,SUMIFS(Input!$H$31930:$H$35075,  Input!$F$31930:$F$35075,Summering!B1374))","v":0}]
[null,{"$f":"IF(Biomasser!A19=\"\",\"\", Biomasser!A19)","v":" -             Minkgylle"},{"$f":"IF(B1375=\"\",0,SUMIFS(Input!$H$31930:$H$35075,  Input!$F$31930:$F$35075,Summering!B1375))","v":0}]
[null,{"$f":"IF(Biomasser!A20=\"\",\"\", Biomasser!A20)","v":" -             Fjerkrægylle"},{"$f":"IF(B1376=\"\",0,SUMIFS(Input!$H$31930:$H$35075,  Input!$F$31930:$F$35075,Summering!B1376))","v":0}]
[null,{"$f":"IF(Biomasser!A21=\"\",\"\", Biomasser!A21)","v":" -             Blandet gylle"},{"$f":"IF(B1377=\"\",0,SUMIFS(Input!$H$31930:$H$35075,  Input!$F$31930:$F$35075,Summering!B1377))","v":0}]
[null,{"$f":"IF(Biomasser!A22=\"\",\"\", Biomasser!A22)","v":" -             Dybstrøelse - Kvæg"},{"$f":"IF(B1378=\"\",0,SUMIFS(Input!$H$31930:$H$35075,  Input!$F$31930:$F$35075,Summering!B1378))","v":0}]
[null,{"$f":"IF(Biomasser!A23=\"\",\"\", Biomasser!A23)","v":" -             Dybstrøelse - Fjerkræ"},{"$f":"IF(B1379=\"\",0,SUMIFS(Input!$H$31930:$H$35075,  Input!$F$31930:$F$35075,Summering!B1379))","v":0}]
[null,{"$f":"IF(Biomasser!A24=\"\",\"\", Biomasser!A24)","v":" -             Dybstrøelse - Hest"},{"$f":"IF(B1380=\"\",0,SUMIFS(Input!$H$31930:$H$35075,  Input!$F$31930:$F$35075,Summering!B1380))","v":0}]
[null,{"$f":"IF(Biomasser!A25=\"\",\"\", Biomasser!A25)","v":" -             Dybstrøelse - Andre typer"},{"$f":"IF(B1381=\"\",0,SUMIFS(Input!$H$31930:$H$35075,  Input!$F$31930:$F$35075,Summering!B1381))","v":0}]
[null,{"$f":"IF(Biomasser!A26=\"\",\"\", Biomasser!A26)","v":" -             Fast gødning"},{"$f":"IF(B1382=\"\",0,SUMIFS(Input!$H$31930:$H$35075,  Input!$F$31930:$F$35075,Summering!B1382))","v":0}]
[null,{"$f":"IF(Biomasser!A27=\"\",\"\", Biomasser!A27)","v":" -             Ajle"},{"$f":"IF(B1383=\"\",0,SUMIFS(Input!$H$31930:$H$35075,  Input!$F$31930:$F$35075,Summering!B1383))","v":0}]
[null,{"$f":"IF(Biomasser!A28=\"\",\"\", Biomasser!A28)","v":" -             Fiberfraktion"},{"$f":"IF(B1384=\"\",0,SUMIFS(Input!$H$31930:$H$35075,  Input!$F$31930:$F$35075,Summering!B1384))","v":0}]
[null,{"$f":"IF(Biomasser!A29=\"\",\"\", Biomasser!A29)","v":" -             Flydende fraktion fra separationsanlæg"},{"$f":"IF(B1385=\"\",0,SUMIFS(Input!$H$31930:$H$35075,  Input!$F$31930:$F$35075,Summering!B1385))","v":0}]
[null,{"$f":"IF(Biomasser!A30=\"\",\"\", Biomasser!A30)","v":" -             Flydende fraktion"},{"$f":"IF(B1386=\"\",0,SUMIFS(Input!$H$31930:$H$35075,  Input!$F$31930:$F$35075,Summering!B1386))","v":0}]
[null,{"$f":"IF(Biomasser!A31=\"\",\"\", Biomasser!A31)","v":" -             Anden husdyrgødning"},{"$f":"IF(B1387=\"\",0,SUMIFS(Input!$H$31930:$H$35075,  Input!$F$31930:$F$35075,Summering!B1387))","v":0}]
[null,{"$f":"IF(Biomasser!A32=\"\",\"\", Biomasser!A32)","v":" -             Forsuret svinegylle"},{"$f":"IF(B1388=\"\",0,SUMIFS(Input!$H$31930:$H$35075,  Input!$F$31930:$F$35075,Summering!B1388))","v":0}]
[null,{"$f":"IF(Biomasser!A33=\"\",\"\", Biomasser!A33)","v":" -             Dybstrøelse - Svin"},{"$f":"IF(B1389=\"\",0,SUMIFS(Input!$H$31930:$H$35075,  Input!$F$31930:$F$35075,Summering!B1389))","v":0}]
[null,{"$f":"IF(Biomasser!A34=\"\",\"\", Biomasser!A34)","v":" -             Gylle fibre - kemisk separation - Svin"},{"$f":"IF(B1390=\"\",0,SUMIFS(Input!$H$31930:$H$35075,  Input!$F$31930:$F$35075,Summering!B1390))","v":0}]
[null,{"$f":"IF(Biomasser!A35=\"\",\"\", Biomasser!A35)","v":" -             Gylle fibre - dekanter separation - Svin"},{"$f":"IF(B1391=\"\",0,SUMIFS(Input!$H$31930:$H$35075,  Input!$F$31930:$F$35075,Summering!B1391))","v":0}]
[null,{"$f":"IF(Biomasser!A36=\"\",\"\", Biomasser!A36)","v":" -             Staldgødning - Kvæg"},{"$f":"IF(B1392=\"\",0,SUMIFS(Input!$H$31930:$H$35075,  Input!$F$31930:$F$35075,Summering!B1392))","v":0}]
[null,{"$f":"IF(Biomasser!A37=\"\",\"\", Biomasser!A37)","v":" -             Kvæggylle - Årsopdræt 6 mdr."},{"$f":"IF(B1393=\"\",0,SUMIFS(Input!$H$31930:$H$35075,  Input!$F$31930:$F$35075,Summering!B1393))","v":0}]
[null,{"$f":"IF(Biomasser!A38=\"\",\"\", Biomasser!A38)","v":" -             Staldgødning - Fjerkræ"},{"$f":"IF(B1394=\"\",0,SUMIFS(Input!$H$31930:$H$35075,  Input!$F$31930:$F$35075,Summering!B1394))","v":0}]
[null,{"$f":"IF(Biomasser!A39=\"\",\"\", Biomasser!A39)","v":"Slam og spildevand (Overskrift, kan ikke vælges)"},{"$f":"IF(B1395=\"\",0,SUMIFS(Input!$H$31930:$H$35075,  Input!$F$31930:$F$35075,Summering!B1395))","v":0}]
[null,{"$f":"IF(Biomasser!A40=\"\",\"\", Biomasser!A40)","v":" -             Slam og spildevand samt uforurenede produktrester"},{"$f":"IF(B1396=\"\",0,SUMIFS(Input!$H$31930:$H$35075,  Input!$F$31930:$F$35075,Summering!B1396))","v":0}]
[null,{"$f":"IF(Biomasser!A41=\"\",\"\", Biomasser!A41)","v":" -             Slam fra dambrug"},{"$f":"IF(B1397=\"\",0,SUMIFS(Input!$H$31930:$H$35075,  Input!$F$31930:$F$35075,Summering!B1397))","v":0}]
[null,{"$f":"IF(Biomasser!A42=\"\",\"\", Biomasser!A42)","v":" -             Slam fra forarbejdning af animalske råvarer"},{"$f":"IF(B1398=\"\",0,SUMIFS(Input!$H$31930:$H$35075,  Input!$F$31930:$F$35075,Summering!B1398))","v":0}]
[null,{"$f":"IF(Biomasser!A43=\"\",\"\", Biomasser!A43)","v":" -             Spildevandsslam"},{"$f":"IF(B1399=\"\",0,SUMIFS(Input!$H$31930:$H$35075,  Input!$F$31930:$F$35075,Summering!B1399))","v":0}]
[null,{"$f":"IF(Biomasser!A44=\"\",\"\", Biomasser!A44)","v":" -             Proteolyseret processpildevand"},{"$f":"IF(B1400=\"\",0,SUMIFS(Input!$H$31930:$H$35075,  Input!$F$31930:$F$35075,Summering!B1400))","v":0}]
[null,{"$f":"IF(Biomasser!A45=\"\",\"\", Biomasser!A45)","v":" -             Sekundær spildevandsslam"},{"$f":"IF(B1401=\"\",0,SUMIFS(Input!$H$31930:$H$35075,  Input!$F$31930:$F$35075,Summering!B1401))","v":0}]
[null,{"$f":"IF(Biomasser!A46=\"\",\"\", Biomasser!A46)","v":" -             Sekundær spildevandsslam afvandet"},{"$f":"IF(B1402=\"\",0,SUMIFS(Input!$H$31930:$H$35075,  Input!$F$31930:$F$35075,Summering!B1402))","v":0}]
[null,{"$f":"IF(Biomasser!A47=\"\",\"\", Biomasser!A47)","v":"Organisk affald fra husholdninger og erhverv (Overskrift, kan ikke vælges)"},{"$f":"IF(B1403=\"\",0,SUMIFS(Input!$H$31930:$H$35075,  Input!$F$31930:$F$35075,Summering!B1403))","v":0}]
[null,{"$f":"IF(Biomasser!A48=\"\",\"\", Biomasser!A48)","v":" -             Kildesorteret organisk dagrenovation"},{"$f":"IF(B1404=\"\",0,SUMIFS(Input!$H$31930:$H$35075,  Input!$F$31930:$F$35075,Summering!B1404))","v":0}]
[null,{"$f":"IF(Biomasser!A49=\"\",\"\", Biomasser!A49)","v":" -             Organisk husholdningsaffald - Renescience"},{"$f":"IF(B1405=\"\",0,SUMIFS(Input!$H$31930:$H$35075,  Input!$F$31930:$F$35075,Summering!B1405))","v":0}]
[null,{"$f":"IF(Biomasser!A50=\"\",\"\", Biomasser!A50)","v":" -             Organisk husholdningsaffald - Pulper"},{"$f":"IF(B1406=\"\",0,SUMIFS(Input!$H$31930:$H$35075,  Input!$F$31930:$F$35075,Summering!B1406))","v":0}]
[null,{"$f":"IF(Biomasser!A51=\"\",\"\", Biomasser!A51)","v":" -             Organisk husholdningsaffald - Rullesigte"},{"$f":"IF(B1407=\"\",0,SUMIFS(Input!$H$31930:$H$35075,  Input!$F$31930:$F$35075,Summering!B1407))","v":0}]
[null,{"$f":"IF(Biomasser!A52=\"\",\"\", Biomasser!A52)","v":" -             Organisk husholdningsaffald - Skruepresse"},{"$f":"IF(B1408=\"\",0,SUMIFS(Input!$H$31930:$H$35075,  Input!$F$31930:$F$35075,Summering!B1408))","v":0}]
[null,{"$f":"IF(Biomasser!A53=\"\",\"\", Biomasser!A53)","v":" -             Organisk husholdningsaffald - Neddeling"},{"$f":"IF(B1409=\"\",0,SUMIFS(Input!$H$31930:$H$35075,  Input!$F$31930:$F$35075,Summering!B1409))","v":0}]
[null,{"$f":"IF(Biomasser!A54=\"\",\"\", Biomasser!A54)","v":" -             Organisk affald fra erhverv"},{"$f":"IF(B1410=\"\",0,SUMIFS(Input!$H$31930:$H$35075,  Input!$F$31930:$F$35075,Summering!B1410))","v":0}]
[null,{"$f":"IF(Biomasser!A55=\"\",\"\", Biomasser!A55)","v":"Rester og biprodukter fra planter og afgrøder (Overskrift, kan ikke vælges)"},{"$f":"IF(B1411=\"\",0,SUMIFS(Input!$H$31930:$H$35075,  Input!$F$31930:$F$35075,Summering!B1411))","v":0}]
[null,{"$f":"IF(Biomasser!A56=\"\",\"\", Biomasser!A56)","v":" -             Cellulose"},{"$f":"IF(B1412=\"\",0,SUMIFS(Input!$H$31930:$H$35075,  Input!$F$31930:$F$35075,Summering!B1412))","v":0}]
[null,{"$f":"IF(Biomasser!A57=\"\",\"\", Biomasser!A57)","v":" -             Naturpleje biomasse"},{"$f":"IF(B1413=\"\",0,SUMIFS(Input!$H$31930:$H$35075,  Input!$F$31930:$F$35075,Summering!B1413))","v":0}]
[null,{"$f":"IF(Biomasser!A58=\"\",\"\", Biomasser!A58)","v":" -             Halm"},{"$f":"IF(B1414=\"\",0,SUMIFS(Input!$H$31930:$H$35075,  Input!$F$31930:$F$35075,Summering!B1414))","v":0}]
[null,{"$f":"IF(Biomasser!A59=\"\",\"\", Biomasser!A59)","v":" -             Have-park affald"},{"$f":"IF(B1415=\"\",0,SUMIFS(Input!$H$31930:$H$35075,  Input!$F$31930:$F$35075,Summering!B1415))","v":0}]
[null,{"$f":"IF(Biomasser!A60=\"\",\"\", Biomasser!A60)","v":" -             Andre restprodukter fra produktion af primærafgrøder"},{"$f":"IF(B1416=\"\",0,SUMIFS(Input!$H$31930:$H$35075,  Input!$F$31930:$F$35075,Summering!B1416))","v":0}]
[null,{"$f":"IF(Biomasser!A61=\"\",\"\", Biomasser!A61)","v":" -             Kasserede afgrøder"},{"$f":"IF(B1417=\"\",0,SUMIFS(Input!$H$31930:$H$35075,  Input!$F$31930:$F$35075,Summering!B1417))","v":0}]
[null,{"$f":"IF(Biomasser!A62=\"\",\"\", Biomasser!A62)","v":"Rester og biprodukter fra levnesmiddel- og dyrefoderindustrien  (Overskrift, kan ikke vælges)"},{"$f":"IF(B1418=\"\",0,SUMIFS(Input!$H$31930:$H$35075,  Input!$F$31930:$F$35075,Summering!B1418))","v":0}]
[null,{"$f":"IF(Biomasser!A63=\"\",\"\", Biomasser!A63)","v":" -             Animalske biprodukter"},{"$f":"IF(B1419=\"\",0,SUMIFS(Input!$H$31930:$H$35075,  Input!$F$31930:$F$35075,Summering!B1419))","v":0}]
[null,{"$f":"IF(Biomasser!A64=\"\",\"\", Biomasser!A64)","v":" -             Mave/tarm kvæg"},{"$f":"IF(B1420=\"\",0,SUMIFS(Input!$H$31930:$H$35075,  Input!$F$31930:$F$35075,Summering!B1420))","v":0}]
[null,{"$f":"IF(Biomasser!A65=\"\",\"\", Biomasser!A65)","v":" -             Mave/tarm svin"},{"$f":"IF(B1421=\"\",0,SUMIFS(Input!$H$31930:$H$35075,  Input!$F$31930:$F$35075,Summering!B1421))","v":0}]
[null,{"$f":"IF(Biomasser!A66=\"\",\"\", Biomasser!A66)","v":" -             Valle"},{"$f":"IF(B1422=\"\",0,SUMIFS(Input!$H$31930:$H$35075,  Input!$F$31930:$F$35075,Summering!B1422))","v":0}]
[null,{"$f":"IF(Biomasser!A67=\"\",\"\", Biomasser!A67)","v":" -             Valle koncentrat"},{"$f":"IF(B1423=\"\",0,SUMIFS(Input!$H$31930:$H$35075,  Input!$F$31930:$F$35075,Summering!B1423))","v":0}]
[null,{"$f":"IF(Biomasser!A68=\"\",\"\", Biomasser!A68)","v":" -             Protein"},{"$f":"IF(B1424=\"\",0,SUMIFS(Input!$H$31930:$H$35075,  Input!$F$31930:$F$35075,Summering!B1424))","v":0}]
[null,{"$f":"IF(Biomasser!A69=\"\",\"\", Biomasser!A69)","v":" -             Fedt"},{"$f":"IF(B1425=\"\",0,SUMIFS(Input!$H$31930:$H$35075,  Input!$F$31930:$F$35075,Summering!B1425))","v":0}]
[null,{"$f":"IF(Biomasser!A70=\"\",\"\", Biomasser!A70)","v":" -             Vinasse (2,2 pct. kvælstof)"},{"$f":"IF(B1426=\"\",0,SUMIFS(Input!$H$31930:$H$35075,  Input!$F$31930:$F$35075,Summering!B1426))","v":0}]
[null,{"$f":"IF(Biomasser!A71=\"\",\"\", Biomasser!A71)","v":" -             Vinasse (3,5 pct. kvælstof)"},{"$f":"IF(B1427=\"\",0,SUMIFS(Input!$H$31930:$H$35075,  Input!$F$31930:$F$35075,Summering!B1427))","v":0}]
[null,{"$f":"IF(Biomasser!A72=\"\",\"\", Biomasser!A72)","v":" -             Kartoffelfrugtsaft"},{"$f":"IF(B1428=\"\",0,SUMIFS(Input!$H$31930:$H$35075,  Input!$F$31930:$F$35075,Summering!B1428))","v":0}]
[null,{"$f":"IF(Biomasser!A73=\"\",\"\", Biomasser!A73)","v":" -             Glukose"},{"$f":"IF(B1429=\"\",0,SUMIFS(Input!$H$31930:$H$35075,  Input!$F$31930:$F$35075,Summering!B1429))","v":0}]
[null,{"$f":"IF(Biomasser!A74=\"\",\"\", Biomasser!A74)","v":" -             Alkohol"},{"$f":"IF(B1430=\"\",0,SUMIFS(Input!$H$31930:$H$35075,  Input!$F$31930:$F$35075,Summering!B1430))","v":0}]
[null,{"$f":"IF(Biomasser!A75=\"\",\"\", Biomasser!A75)","v":" -             Pressesaft fra grøntpilleproduktion"},{"$f":"IF(B1431=\"\",0,SUMIFS(Input!$H$31930:$H$35075,  Input!$F$31930:$F$35075,Summering!B1431))","v":0}]
[null,{"$f":"IF(Biomasser!A76=\"\",\"\", Biomasser!A76)","v":" -             Inaktiveret og kalkstabiliseret biomasse"},{"$f":"IF(B1432=\"\",0,SUMIFS(Input!$H$31930:$H$35075,  Input!$F$31930:$F$35075,Summering!B1432))","v":0}]
[null,{"$f":"IF(Biomasser!A77=\"\",\"\", Biomasser!A77)","v":"Anden biomasse (Overskrift)"},{"$f":"IF(B1433=\"\",0,SUMIFS(Input!$H$31930:$H$35075,  Input!$F$31930:$F$35075,Summering!B1433))","v":0}]
[null,{"$f":"IF(Biomasser!A78=\"\",\"\", Biomasser!A78)","v":" -             Råglycerin"},{"$f":"IF(B1434=\"\",0,SUMIFS(Input!$H$31930:$H$35075,  Input!$F$31930:$F$35075,Summering!B1434))","v":0}]
[null,{"$f":"IF(Biomasser!A79=\"\",\"\", Biomasser!A79)","v":""},{"$f":"IF(B1435=\"\",0,SUMIFS(Input!$H$31930:$H$35075,  Input!$F$31930:$F$35075,Summering!B1435))","v":0}]
[null,{"$f":"IF(Biomasser!A80=\"\",\"\", Biomasser!A80)","v":""},{"$f":"IF(B1436=\"\",0,SUMIFS(Input!$H$31930:$H$35075,  Input!$F$31930:$F$35075,Summering!B1436))","v":0}]
[null,{"$f":"IF(Biomasser!A81=\"\",\"\", Biomasser!A81)","v":""},{"$f":"IF(B1437=\"\",0,SUMIFS(Input!$H$31930:$H$35075,  Input!$F$31930:$F$35075,Summering!B1437))","v":0}]
[null,{"$f":"IF(Biomasser!A82=\"\",\"\", Biomasser!A82)","v":""},{"$f":"IF(B1438=\"\",0,SUMIFS(Input!$H$31930:$H$35075,  Input!$F$31930:$F$35075,Summering!B1438))","v":0}]
[null,{"$f":"IF(Biomasser!A83=\"\",\"\", Biomasser!A83)","v":""},{"$f":"IF(B1439=\"\",0,SUMIFS(Input!$H$31930:$H$35075,  Input!$F$31930:$F$35075,Summering!B1439))","v":0}]
[null,{"$f":"IF(Biomasser!A84=\"\",\"\", Biomasser!A84)","v":""},{"$f":"IF(B1440=\"\",0,SUMIFS(Input!$H$31930:$H$35075,  Input!$F$31930:$F$35075,Summering!B1440))","v":0}]
[null,{"$f":"IF(Biomasser!A85=\"\",\"\", Biomasser!A85)","v":""},{"$f":"IF(B1441=\"\",0,SUMIFS(Input!$H$31930:$H$35075,  Input!$F$31930:$F$35075,Summering!B1441))","v":0}]
[null,{"$f":"IF(Biomasser!A86=\"\",\"\", Biomasser!A86)","v":""},{"$f":"IF(B1442=\"\",0,SUMIFS(Input!$H$31930:$H$35075,  Input!$F$31930:$F$35075,Summering!B1442))","v":0}]
[null,{"$f":"IF(Biomasser!A87=\"\",\"\", Biomasser!A87)","v":""},{"$f":"IF(B1443=\"\",0,SUMIFS(Input!$H$31930:$H$35075,  Input!$F$31930:$F$35075,Summering!B1443))","v":0}]
[null,{"$f":"IF(Biomasser!A88=\"\",\"\", Biomasser!A88)","v":""},{"$f":"IF(B1444=\"\",0,SUMIFS(Input!$H$31930:$H$35075,  Input!$F$31930:$F$35075,Summering!B1444))","v":0}]
[null,{"$f":"IF(Biomasser!A89=\"\",\"\", Biomasser!A89)","v":""},{"$f":"IF(B1445=\"\",0,SUMIFS(Input!$H$31930:$H$35075,  Input!$F$31930:$F$35075,Summering!B1445))","v":0}]
[null,{"$f":"IF(Biomasser!A90=\"\",\"\", Biomasser!A90)","v":""},{"$f":"IF(B1446=\"\",0,SUMIFS(Input!$H$31930:$H$35075,  Input!$F$31930:$F$35075,Summering!B1446))","v":0}]
[null,{"$f":"IF(Biomasser!A91=\"\",\"\", Biomasser!A91)","v":""},{"$f":"IF(B1447=\"\",0,SUMIFS(Input!$H$31930:$H$35075,  Input!$F$31930:$F$35075,Summering!B1447))","v":0}]
[null,{"$f":"IF(Biomasser!A92=\"\",\"\", Biomasser!A92)","v":""},{"$f":"IF(B1448=\"\",0,SUMIFS(Input!$H$31930:$H$35075,  Input!$F$31930:$F$35075,Summering!B1448))","v":0}]
[null,{"$f":"IF(Biomasser!A93=\"\",\"\", Biomasser!A93)","v":""},{"$f":"IF(B1449=\"\",0,SUMIFS(Input!$H$31930:$H$35075,  Input!$F$31930:$F$35075,Summering!B1449))","v":0}]
[null,{"$f":"IF(Biomasser!A94=\"\",\"\", Biomasser!A94)","v":""},{"$f":"IF(B1450=\"\",0,SUMIFS(Input!$H$31930:$H$35075,  Input!$F$31930:$F$35075,Summering!B1450))","v":0}]
[null,{"$f":"IF(Biomasser!A95=\"\",\"\", Biomasser!A95)","v":""},{"$f":"IF(B1451=\"\",0,SUMIFS(Input!$H$31930:$H$35075,  Input!$F$31930:$F$35075,Summering!B1451))","v":0}]
[null,{"$f":"IF(Biomasser!A96=\"\",\"\", Biomasser!A96)","v":""},{"$f":"IF(B1452=\"\",0,SUMIFS(Input!$H$31930:$H$35075,  Input!$F$31930:$F$35075,Summering!B1452))","v":0}]
[null,{"$f":"IF(Biomasser!A97=\"\",\"\", Biomasser!A97)","v":""},{"$f":"IF(B1453=\"\",0,SUMIFS(Input!$H$31930:$H$35075,  Input!$F$31930:$F$35075,Summering!B1453))","v":0}]
[null,{"$f":"IF(Biomasser!A98=\"\",\"\", Biomasser!A98)","v":""},{"$f":"IF(B1454=\"\",0,SUMIFS(Input!$H$31930:$H$35075,  Input!$F$31930:$F$35075,Summering!B1454))","v":0}]
[null,{"$f":"IF(Biomasser!A99=\"\",\"\", Biomasser!A99)","v":""},{"$f":"IF(B1455=\"\",0,SUMIFS(Input!$H$31930:$H$35075,  Input!$F$31930:$F$35075,Summering!B1455))","v":0}]
[null,{"$f":"IF(Biomasser!A100=\"\",\"\", Biomasser!A100)","v":""},{"$f":"IF(B1456=\"\",0,SUMIFS(Input!$H$31930:$H$35075,  Input!$F$31930:$F$35075,Summering!B1456))","v":0}]
[null,{"$f":"IF(Biomasser!A101=\"\",\"\", Biomasser!A101)","v":""},{"$f":"IF(B1457=\"\",0,SUMIFS(Input!$H$31930:$H$35075,  Input!$F$31930:$F$35075,Summering!B1457))","v":0}]
[null,{"$f":"IF(Biomasser!A102=\"\",\"\", Biomasser!A102)","v":""},{"$f":"IF(B1458=\"\",0,SUMIFS(Input!$H$31930:$H$35075,  Input!$F$31930:$F$35075,Summering!B1458))","v":0}]
[null,{"$f":"IF(Biomasser!A103=\"\",\"\", Biomasser!A103)","v":""},{"$f":"IF(B1459=\"\",0,SUMIFS(Input!$H$31930:$H$35075,  Input!$F$31930:$F$35075,Summering!B1459))","v":0}]
[null,{"$f":"IF(Biomasser!A104=\"\",\"\", Biomasser!A104)","v":""},{"$f":"IF(B1460=\"\",0,SUMIFS(Input!$H$31930:$H$35075,  Input!$F$31930:$F$35075,Summering!B1460))","v":0}]
[null,{"$f":"IF(Biomasser!A105=\"\",\"\", Biomasser!A105)","v":""},{"$f":"IF(B1461=\"\",0,SUMIFS(Input!$H$31930:$H$35075,  Input!$F$31930:$F$35075,Summering!B1461))","v":0}]
[null,{"$f":"IF(Biomasser!A106=\"\",\"\", Biomasser!A106)","v":""},{"$f":"IF(B1462=\"\",0,SUMIFS(Input!$H$31930:$H$35075,  Input!$F$31930:$F$35075,Summering!B1462))","v":0}]
[null,{"$f":"IF(Biomasser!A107=\"\",\"\", Biomasser!A107)","v":""},{"$f":"IF(B1463=\"\",0,SUMIFS(Input!$H$31930:$H$35075,  Input!$F$31930:$F$35075,Summering!B1463))","v":0}]
[null,{"$f":"IF(Biomasser!A108=\"\",\"\", Biomasser!A108)","v":""},{"$f":"IF(B1464=\"\",0,SUMIFS(Input!$H$31930:$H$35075,  Input!$F$31930:$F$35075,Summering!B1464))","v":0}]
[null,{"$f":"IF(Biomasser!A109=\"\",\"\", Biomasser!A109)","v":""},{"$f":"IF(B1465=\"\",0,SUMIFS(Input!$H$31930:$H$35075,  Input!$F$31930:$F$35075,Summering!B1465))","v":0}]
[null,{"$f":"IF(Biomasser!A110=\"\",\"\", Biomasser!A110)","v":""},{"$f":"IF(B1466=\"\",0,SUMIFS(Input!$H$31930:$H$35075,  Input!$F$31930:$F$35075,Summering!B1466))","v":0}]
[null,{"$f":"IF(Biomasser!A111=\"\",\"\", Biomasser!A111)","v":""},{"$f":"IF(B1467=\"\",0,SUMIFS(Input!$H$31930:$H$35075,  Input!$F$31930:$F$35075,Summering!B1467))","v":0}]
[null,{"$f":"IF(Biomasser!A112=\"\",\"\", Biomasser!A112)","v":""},{"$f":"IF(B1468=\"\",0,SUMIFS(Input!$H$31930:$H$35075,  Input!$F$31930:$F$35075,Summering!B1468))","v":0}]
[null,{"$f":"IF(Biomasser!A113=\"\",\"\", Biomasser!A113)","v":""},{"$f":"IF(B1469=\"\",0,SUMIFS(Input!$H$31930:$H$35075,  Input!$F$31930:$F$35075,Summering!B1469))","v":0}]
[null,{"$f":"IF(Biomasser!A114=\"\",\"\", Biomasser!A114)","v":""},{"$f":"IF(B1470=\"\",0,SUMIFS(Input!$H$31930:$H$35075,  Input!$F$31930:$F$35075,Summering!B1470))","v":0}]
[null,{"$f":"IF(Biomasser!A115=\"\",\"\", Biomasser!A115)","v":""},{"$f":"IF(B1471=\"\",0,SUMIFS(Input!$H$31930:$H$35075,  Input!$F$31930:$F$35075,Summering!B1471))","v":0}]
[null,{"$f":"IF(Biomasser!A116=\"\",\"\", Biomasser!A116)","v":""},{"$f":"IF(B1472=\"\",0,SUMIFS(Input!$H$31930:$H$35075,  Input!$F$31930:$F$35075,Summering!B1472))","v":0}]
[null,{"$f":"IF(Biomasser!A117=\"\",\"\", Biomasser!A117)","v":""},{"$f":"IF(B1473=\"\",0,SUMIFS(Input!$H$31930:$H$35075,  Input!$F$31930:$F$35075,Summering!B1473))","v":0}]
[null,{"$f":"IF(Biomasser!A118=\"\",\"\", Biomasser!A118)","v":""},{"$f":"IF(B1474=\"\",0,SUMIFS(Input!$H$31930:$H$35075,  Input!$F$31930:$F$35075,Summering!B1474))","v":0}]
[null,{"$f":"IF(Biomasser!A119=\"\",\"\", Biomasser!A119)","v":""},{"$f":"IF(B1475=\"\",0,SUMIFS(Input!$H$31930:$H$35075,  Input!$F$31930:$F$35075,Summering!B1475))","v":0}]
[null,{"$f":"IF(Biomasser!A120=\"\",\"\", Biomasser!A120)","v":""},{"$f":"IF(B1476=\"\",0,SUMIFS(Input!$H$31930:$H$35075,  Input!$F$31930:$F$35075,Summering!B1476))","v":0}]
[null,{"$f":"IF(Biomasser!A121=\"\",\"\", Biomasser!A121)","v":""},{"$f":"IF(B1477=\"\",0,SUMIFS(Input!$H$31930:$H$35075,  Input!$F$31930:$F$35075,Summering!B1477))","v":0}]
[null,{"$f":"IF(Biomasser!A122=\"\",\"\", Biomasser!A122)","v":""},{"$f":"IF(B1478=\"\",0,SUMIFS(Input!$H$31930:$H$35075,  Input!$F$31930:$F$35075,Summering!B1478))","v":0}]
[null,{"$f":"IF(Biomasser!A123=\"\",\"\", Biomasser!A123)","v":""},{"$f":"IF(B1479=\"\",0,SUMIFS(Input!$H$31930:$H$35075,  Input!$F$31930:$F$35075,Summering!B1479))","v":0}]
[null,{"$f":"IF(Biomasser!A124=\"\",\"\", Biomasser!A124)","v":""},{"$f":"IF(B1480=\"\",0,SUMIFS(Input!$H$31930:$H$35075,  Input!$F$31930:$F$35075,Summering!B1480))","v":0}]
[null,"December",{"$f":"SUM(C1482:C1603)","v":0},{"$f":"SUMIFS(Input!$H$10:$H$76760,Input!$A$10:$A$76760,\"Gas\",Input!$C$10:$C$76760,Summering!$B$5,Input!$B$10:$B$76760,\"*\"&B1481&\"*\")","v":0}]
[null,{"$f":"IF(Biomasser!A3=\"\",\"\", Biomasser!A3)","v":"Afgrøder (Overskrift, kan ikke vælges)"},{"$f":"IF(B1482=\"\",0,SUMIFS(Input!$H$35080:$H$38330,  Input!$F$35080:$F$38330,Summering!B1482))","v":0}]
[null,{"$f":"IF(Biomasser!A4=\"\",\"\", Biomasser!A4)","v":" -             Majs"},{"$f":"IF(B1483=\"\",0,SUMIFS(Input!$H$35080:$H$38330,  Input!$F$35080:$F$38330,Summering!B1483))","v":0}]
[null,{"$f":"IF(Biomasser!A5=\"\",\"\", Biomasser!A5)","v":" -             Roer"},{"$f":"IF(B1484=\"\",0,SUMIFS(Input!$H$35080:$H$38330,  Input!$F$35080:$F$38330,Summering!B1484))","v":0}]
[null,{"$f":"IF(Biomasser!A6=\"\",\"\", Biomasser!A6)","v":" -             Korn"},{"$f":"IF(B1485=\"\",0,SUMIFS(Input!$H$35080:$H$38330,  Input!$F$35080:$F$38330,Summering!B1485))","v":0}]
[null,{"$f":"IF(Biomasser!A7=\"\",\"\", Biomasser!A7)","v":" -             Græs"},{"$f":"IF(B1486=\"\",0,SUMIFS(Input!$H$35080:$H$38330,  Input!$F$35080:$F$38330,Summering!B1486))","v":0}]
[null,{"$f":"IF(Biomasser!A8=\"\",\"\", Biomasser!A8)","v":" -             Kløvergræs"},{"$f":"IF(B1487=\"\",0,SUMIFS(Input!$H$35080:$H$38330,  Input!$F$35080:$F$38330,Summering!B1487))","v":0}]
[null,{"$f":"IF(Biomasser!A9=\"\",\"\", Biomasser!A9)","v":" -             Jordskokker"},{"$f":"IF(B1488=\"\",0,SUMIFS(Input!$H$35080:$H$38330,  Input!$F$35080:$F$38330,Summering!B1488))","v":0}]
[null,{"$f":"IF(Biomasser!A10=\"\",\"\", Biomasser!A10)","v":" -             Andre afgrøder"},{"$f":"IF(B1489=\"\",0,SUMIFS(Input!$H$35080:$H$38330,  Input!$F$35080:$F$38330,Summering!B1489))","v":0}]
[null,{"$f":"IF(Biomasser!A11=\"\",\"\", Biomasser!A11)","v":" -             Hvedehelsæd"},{"$f":"IF(B1490=\"\",0,SUMIFS(Input!$H$35080:$H$38330,  Input!$F$35080:$F$38330,Summering!B1490))","v":0}]
[null,{"$f":"IF(Biomasser!A12=\"\",\"\", Biomasser!A12)","v":" -             Top af foderroe"},{"$f":"IF(B1491=\"\",0,SUMIFS(Input!$H$35080:$H$38330,  Input!$F$35080:$F$38330,Summering!B1491))","v":0}]
[null,{"$f":"IF(Biomasser!A13=\"\",\"\", Biomasser!A13)","v":" -             Foderroe - rod og top frisk"},{"$f":"IF(B1492=\"\",0,SUMIFS(Input!$H$35080:$H$38330,  Input!$F$35080:$F$38330,Summering!B1492))","v":0}]
[null,{"$f":"IF(Biomasser!A14=\"\",\"\", Biomasser!A14)","v":" -             Økologisk kløvergræs"},{"$f":"IF(B1493=\"\",0,SUMIFS(Input!$H$35080:$H$38330,  Input!$F$35080:$F$38330,Summering!B1493))","v":0}]
[null,{"$f":"IF(Biomasser!A15=\"\",\"\", Biomasser!A15)","v":"Husdyrgødning (Overskrift, kan ikke vælges)"},{"$f":"IF(B1494=\"\",0,SUMIFS(Input!$H$35080:$H$38330,  Input!$F$35080:$F$38330,Summering!B1494))","v":0}]
[null,{"$f":"IF(Biomasser!A16=\"\",\"\", Biomasser!A16)","v":" -             Kvæggylle"},{"$f":"IF(B1495=\"\",0,SUMIFS(Input!$H$35080:$H$38330,  Input!$F$35080:$F$38330,Summering!B1495))","v":0}]
[null,{"$f":"IF(Biomasser!A17=\"\",\"\", Biomasser!A17)","v":" -             Svinegylle"},{"$f":"IF(B1496=\"\",0,SUMIFS(Input!$H$35080:$H$38330,  Input!$F$35080:$F$38330,Summering!B1496))","v":0}]
[null,{"$f":"IF(Biomasser!A18=\"\",\"\", Biomasser!A18)","v":" -             Gylle fra so"},{"$f":"IF(B1497=\"\",0,SUMIFS(Input!$H$35080:$H$38330,  Input!$F$35080:$F$38330,Summering!B1497))","v":0}]
[null,{"$f":"IF(Biomasser!A19=\"\",\"\", Biomasser!A19)","v":" -             Minkgylle"},{"$f":"IF(B1498=\"\",0,SUMIFS(Input!$H$35080:$H$38330,  Input!$F$35080:$F$38330,Summering!B1498))","v":0}]
[null,{"$f":"IF(Biomasser!A20=\"\",\"\", Biomasser!A20)","v":" -             Fjerkrægylle"},{"$f":"IF(B1499=\"\",0,SUMIFS(Input!$H$35080:$H$38330,  Input!$F$35080:$F$38330,Summering!B1499))","v":0}]
[null,{"$f":"IF(Biomasser!A21=\"\",\"\", Biomasser!A21)","v":" -             Blandet gylle"},{"$f":"IF(B1500=\"\",0,SUMIFS(Input!$H$35080:$H$38330,  Input!$F$35080:$F$38330,Summering!B1500))","v":0}]
[null,{"$f":"IF(Biomasser!A22=\"\",\"\", Biomasser!A22)","v":" -             Dybstrøelse - Kvæg"},{"$f":"IF(B1501=\"\",0,SUMIFS(Input!$H$35080:$H$38330,  Input!$F$35080:$F$38330,Summering!B1501))","v":0}]
[null,{"$f":"IF(Biomasser!A23=\"\",\"\", Biomasser!A23)","v":" -             Dybstrøelse - Fjerkræ"},{"$f":"IF(B1502=\"\",0,SUMIFS(Input!$H$35080:$H$38330,  Input!$F$35080:$F$38330,Summering!B1502))","v":0}]
[null,{"$f":"IF(Biomasser!A24=\"\",\"\", Biomasser!A24)","v":" -             Dybstrøelse - Hest"},{"$f":"IF(B1503=\"\",0,SUMIFS(Input!$H$35080:$H$38330,  Input!$F$35080:$F$38330,Summering!B1503))","v":0}]
[null,{"$f":"IF(Biomasser!A25=\"\",\"\", Biomasser!A25)","v":" -             Dybstrøelse - Andre typer"},{"$f":"IF(B1504=\"\",0,SUMIFS(Input!$H$35080:$H$38330,  Input!$F$35080:$F$38330,Summering!B1504))","v":0}]
[null,{"$f":"IF(Biomasser!A26=\"\",\"\", Biomasser!A26)","v":" -             Fast gødning"},{"$f":"IF(B1505=\"\",0,SUMIFS(Input!$H$35080:$H$38330,  Input!$F$35080:$F$38330,Summering!B1505))","v":0}]
[null,{"$f":"IF(Biomasser!A27=\"\",\"\", Biomasser!A27)","v":" -             Ajle"},{"$f":"IF(B1506=\"\",0,SUMIFS(Input!$H$35080:$H$38330,  Input!$F$35080:$F$38330,Summering!B1506))","v":0}]
[null,{"$f":"IF(Biomasser!A28=\"\",\"\", Biomasser!A28)","v":" -             Fiberfraktion"},{"$f":"IF(B1507=\"\",0,SUMIFS(Input!$H$35080:$H$38330,  Input!$F$35080:$F$38330,Summering!B1507))","v":0}]
[null,{"$f":"IF(Biomasser!A29=\"\",\"\", Biomasser!A29)","v":" -             Flydende fraktion fra separationsanlæg"},{"$f":"IF(B1508=\"\",0,SUMIFS(Input!$H$35080:$H$38330,  Input!$F$35080:$F$38330,Summering!B1508))","v":0}]
[null,{"$f":"IF(Biomasser!A30=\"\",\"\", Biomasser!A30)","v":" -             Flydende fraktion"},{"$f":"IF(B1509=\"\",0,SUMIFS(Input!$H$35080:$H$38330,  Input!$F$35080:$F$38330,Summering!B1509))","v":0}]
[null,{"$f":"IF(Biomasser!A31=\"\",\"\", Biomasser!A31)","v":" -             Anden husdyrgødning"},{"$f":"IF(B1510=\"\",0,SUMIFS(Input!$H$35080:$H$38330,  Input!$F$35080:$F$38330,Summering!B1510))","v":0}]
[null,{"$f":"IF(Biomasser!A32=\"\",\"\", Biomasser!A32)","v":" -             Forsuret svinegylle"},{"$f":"IF(B1511=\"\",0,SUMIFS(Input!$H$35080:$H$38330,  Input!$F$35080:$F$38330,Summering!B1511))","v":0}]
[null,{"$f":"IF(Biomasser!A33=\"\",\"\", Biomasser!A33)","v":" -             Dybstrøelse - Svin"},{"$f":"IF(B1512=\"\",0,SUMIFS(Input!$H$35080:$H$38330,  Input!$F$35080:$F$38330,Summering!B1512))","v":0}]
[null,{"$f":"IF(Biomasser!A34=\"\",\"\", Biomasser!A34)","v":" -             Gylle fibre - kemisk separation - Svin"},{"$f":"IF(B1513=\"\",0,SUMIFS(Input!$H$35080:$H$38330,  Input!$F$35080:$F$38330,Summering!B1513))","v":0}]
[null,{"$f":"IF(Biomasser!A35=\"\",\"\", Biomasser!A35)","v":" -             Gylle fibre - dekanter separation - Svin"},{"$f":"IF(B1514=\"\",0,SUMIFS(Input!$H$35080:$H$38330,  Input!$F$35080:$F$38330,Summering!B1514))","v":0}]
[null,{"$f":"IF(Biomasser!A36=\"\",\"\", Biomasser!A36)","v":" -             Staldgødning - Kvæg"},{"$f":"IF(B1515=\"\",0,SUMIFS(Input!$H$35080:$H$38330,  Input!$F$35080:$F$38330,Summering!B1515))","v":0}]
[null,{"$f":"IF(Biomasser!A37=\"\",\"\", Biomasser!A37)","v":" -             Kvæggylle - Årsopdræt 6 mdr."},{"$f":"IF(B1516=\"\",0,SUMIFS(Input!$H$35080:$H$38330,  Input!$F$35080:$F$38330,Summering!B1516))","v":0}]
[null,{"$f":"IF(Biomasser!A38=\"\",\"\", Biomasser!A38)","v":" -             Staldgødning - Fjerkræ"},{"$f":"IF(B1517=\"\",0,SUMIFS(Input!$H$35080:$H$38330,  Input!$F$35080:$F$38330,Summering!B1517))","v":0}]
[null,{"$f":"IF(Biomasser!A39=\"\",\"\", Biomasser!A39)","v":"Slam og spildevand (Overskrift, kan ikke vælges)"},{"$f":"IF(B1518=\"\",0,SUMIFS(Input!$H$35080:$H$38330,  Input!$F$35080:$F$38330,Summering!B1518))","v":0}]
[null,{"$f":"IF(Biomasser!A40=\"\",\"\", Biomasser!A40)","v":" -             Slam og spildevand samt uforurenede produktrester"},{"$f":"IF(B1519=\"\",0,SUMIFS(Input!$H$35080:$H$38330,  Input!$F$35080:$F$38330,Summering!B1519))","v":0}]
[null,{"$f":"IF(Biomasser!A41=\"\",\"\", Biomasser!A41)","v":" -             Slam fra dambrug"},{"$f":"IF(B1520=\"\",0,SUMIFS(Input!$H$35080:$H$38330,  Input!$F$35080:$F$38330,Summering!B1520))","v":0}]
[null,{"$f":"IF(Biomasser!A42=\"\",\"\", Biomasser!A42)","v":" -             Slam fra forarbejdning af animalske råvarer"},{"$f":"IF(B1521=\"\",0,SUMIFS(Input!$H$35080:$H$38330,  Input!$F$35080:$F$38330,Summering!B1521))","v":0}]
[null,{"$f":"IF(Biomasser!A43=\"\",\"\", Biomasser!A43)","v":" -             Spildevandsslam"},{"$f":"IF(B1522=\"\",0,SUMIFS(Input!$H$35080:$H$38330,  Input!$F$35080:$F$38330,Summering!B1522))","v":0}]
[null,{"$f":"IF(Biomasser!A44=\"\",\"\", Biomasser!A44)","v":" -             Proteolyseret processpildevand"},{"$f":"IF(B1523=\"\",0,SUMIFS(Input!$H$35080:$H$38330,  Input!$F$35080:$F$38330,Summering!B1523))","v":0}]
[null,{"$f":"IF(Biomasser!A45=\"\",\"\", Biomasser!A45)","v":" -             Sekundær spildevandsslam"},{"$f":"IF(B1524=\"\",0,SUMIFS(Input!$H$35080:$H$38330,  Input!$F$35080:$F$38330,Summering!B1524))","v":0}]
[null,{"$f":"IF(Biomasser!A46=\"\",\"\", Biomasser!A46)","v":" -             Sekundær spildevandsslam afvandet"},{"$f":"IF(B1525=\"\",0,SUMIFS(Input!$H$35080:$H$38330,  Input!$F$35080:$F$38330,Summering!B1525))","v":0}]
[null,{"$f":"IF(Biomasser!A47=\"\",\"\", Biomasser!A47)","v":"Organisk affald fra husholdninger og erhverv (Overskrift, kan ikke vælges)"},{"$f":"IF(B1526=\"\",0,SUMIFS(Input!$H$35080:$H$38330,  Input!$F$35080:$F$38330,Summering!B1526))","v":0}]
[null,{"$f":"IF(Biomasser!A48=\"\",\"\", Biomasser!A48)","v":" -             Kildesorteret organisk dagrenovation"},{"$f":"IF(B1527=\"\",0,SUMIFS(Input!$H$35080:$H$38330,  Input!$F$35080:$F$38330,Summering!B1527))","v":0}]
[null,{"$f":"IF(Biomasser!A49=\"\",\"\", Biomasser!A49)","v":" -             Organisk husholdningsaffald - Renescience"},{"$f":"IF(B1528=\"\",0,SUMIFS(Input!$H$35080:$H$38330,  Input!$F$35080:$F$38330,Summering!B1528))","v":0}]
[null,{"$f":"IF(Biomasser!A50=\"\",\"\", Biomasser!A50)","v":" -             Organisk husholdningsaffald - Pulper"},{"$f":"IF(B1529=\"\",0,SUMIFS(Input!$H$35080:$H$38330,  Input!$F$35080:$F$38330,Summering!B1529))","v":0}]
[null,{"$f":"IF(Biomasser!A51=\"\",\"\", Biomasser!A51)","v":" -             Organisk husholdningsaffald - Rullesigte"},{"$f":"IF(B1530=\"\",0,SUMIFS(Input!$H$35080:$H$38330,  Input!$F$35080:$F$38330,Summering!B1530))","v":0}]
[null,{"$f":"IF(Biomasser!A52=\"\",\"\", Biomasser!A52)","v":" -             Organisk husholdningsaffald - Skruepresse"},{"$f":"IF(B1531=\"\",0,SUMIFS(Input!$H$35080:$H$38330,  Input!$F$35080:$F$38330,Summering!B1531))","v":0}]
[null,{"$f":"IF(Biomasser!A53=\"\",\"\", Biomasser!A53)","v":" -             Organisk husholdningsaffald - Neddeling"},{"$f":"IF(B1532=\"\",0,SUMIFS(Input!$H$35080:$H$38330,  Input!$F$35080:$F$38330,Summering!B1532))","v":0}]
[null,{"$f":"IF(Biomasser!A54=\"\",\"\", Biomasser!A54)","v":" -             Organisk affald fra erhverv"},{"$f":"IF(B1533=\"\",0,SUMIFS(Input!$H$35080:$H$38330,  Input!$F$35080:$F$38330,Summering!B1533))","v":0}]
[null,{"$f":"IF(Biomasser!A55=\"\",\"\", Biomasser!A55)","v":"Rester og biprodukter fra planter og afgrøder (Overskrift, kan ikke vælges)"},{"$f":"IF(B1534=\"\",0,SUMIFS(Input!$H$35080:$H$38330,  Input!$F$35080:$F$38330,Summering!B1534))","v":0}]
[null,{"$f":"IF(Biomasser!A56=\"\",\"\", Biomasser!A56)","v":" -             Cellulose"},{"$f":"IF(B1535=\"\",0,SUMIFS(Input!$H$35080:$H$38330,  Input!$F$35080:$F$38330,Summering!B1535))","v":0}]
[null,{"$f":"IF(Biomasser!A57=\"\",\"\", Biomasser!A57)","v":" -             Naturpleje biomasse"},{"$f":"IF(B1536=\"\",0,SUMIFS(Input!$H$35080:$H$38330,  Input!$F$35080:$F$38330,Summering!B1536))","v":0}]
[null,{"$f":"IF(Biomasser!A58=\"\",\"\", Biomasser!A58)","v":" -             Halm"},{"$f":"IF(B1537=\"\",0,SUMIFS(Input!$H$35080:$H$38330,  Input!$F$35080:$F$38330,Summering!B1537))","v":0}]
[null,{"$f":"IF(Biomasser!A59=\"\",\"\", Biomasser!A59)","v":" -             Have-park affald"},{"$f":"IF(B1538=\"\",0,SUMIFS(Input!$H$35080:$H$38330,  Input!$F$35080:$F$38330,Summering!B1538))","v":0}]
[null,{"$f":"IF(Biomasser!A60=\"\",\"\", Biomasser!A60)","v":" -             Andre restprodukter fra produktion af primærafgrøder"},{"$f":"IF(B1539=\"\",0,SUMIFS(Input!$H$35080:$H$38330,  Input!$F$35080:$F$38330,Summering!B1539))","v":0}]
[null,{"$f":"IF(Biomasser!A61=\"\",\"\", Biomasser!A61)","v":" -             Kasserede afgrøder"},{"$f":"IF(B1540=\"\",0,SUMIFS(Input!$H$35080:$H$38330,  Input!$F$35080:$F$38330,Summering!B1540))","v":0}]
[null,{"$f":"IF(Biomasser!A62=\"\",\"\", Biomasser!A62)","v":"Rester og biprodukter fra levnesmiddel- og dyrefoderindustrien  (Overskrift, kan ikke vælges)"},{"$f":"IF(B1541=\"\",0,SUMIFS(Input!$H$35080:$H$38330,  Input!$F$35080:$F$38330,Summering!B1541))","v":0}]
[null,{"$f":"IF(Biomasser!A63=\"\",\"\", Biomasser!A63)","v":" -             Animalske biprodukter"},{"$f":"IF(B1542=\"\",0,SUMIFS(Input!$H$35080:$H$38330,  Input!$F$35080:$F$38330,Summering!B1542))","v":0}]
[null,{"$f":"IF(Biomasser!A64=\"\",\"\", Biomasser!A64)","v":" -             Mave/tarm kvæg"},{"$f":"IF(B1543=\"\",0,SUMIFS(Input!$H$35080:$H$38330,  Input!$F$35080:$F$38330,Summering!B1543))","v":0}]
[null,{"$f":"IF(Biomasser!A65=\"\",\"\", Biomasser!A65)","v":" -             Mave/tarm svin"},{"$f":"IF(B1544=\"\",0,SUMIFS(Input!$H$35080:$H$38330,  Input!$F$35080:$F$38330,Summering!B1544))","v":0}]
[null,{"$f":"IF(Biomasser!A66=\"\",\"\", Biomasser!A66)","v":" -             Valle"},{"$f":"IF(B1545=\"\",0,SUMIFS(Input!$H$35080:$H$38330,  Input!$F$35080:$F$38330,Summering!B1545))","v":0}]
[null,{"$f":"IF(Biomasser!A67=\"\",\"\", Biomasser!A67)","v":" -             Valle koncentrat"},{"$f":"IF(B1546=\"\",0,SUMIFS(Input!$H$35080:$H$38330,  Input!$F$35080:$F$38330,Summering!B1546))","v":0}]
[null,{"$f":"IF(Biomasser!A68=\"\",\"\", Biomasser!A68)","v":" -             Protein"},{"$f":"IF(B1547=\"\",0,SUMIFS(Input!$H$35080:$H$38330,  Input!$F$35080:$F$38330,Summering!B1547))","v":0}]
[null,{"$f":"IF(Biomasser!A69=\"\",\"\", Biomasser!A69)","v":" -             Fedt"},{"$f":"IF(B1548=\"\",0,SUMIFS(Input!$H$35080:$H$38330,  Input!$F$35080:$F$38330,Summering!B1548))","v":0}]
[null,{"$f":"IF(Biomasser!A70=\"\",\"\", Biomasser!A70)","v":" -             Vinasse (2,2 pct. kvælstof)"},{"$f":"IF(B1549=\"\",0,SUMIFS(Input!$H$35080:$H$38330,  Input!$F$35080:$F$38330,Summering!B1549))","v":0}]
[null,{"$f":"IF(Biomasser!A71=\"\",\"\", Biomasser!A71)","v":" -             Vinasse (3,5 pct. kvælstof)"},{"$f":"IF(B1550=\"\",0,SUMIFS(Input!$H$35080:$H$38330,  Input!$F$35080:$F$38330,Summering!B1550))","v":0}]
[null,{"$f":"IF(Biomasser!A72=\"\",\"\", Biomasser!A72)","v":" -             Kartoffelfrugtsaft"},{"$f":"IF(B1551=\"\",0,SUMIFS(Input!$H$35080:$H$38330,  Input!$F$35080:$F$38330,Summering!B1551))","v":0}]
[null,{"$f":"IF(Biomasser!A73=\"\",\"\", Biomasser!A73)","v":" -             Glukose"},{"$f":"IF(B1552=\"\",0,SUMIFS(Input!$H$35080:$H$38330,  Input!$F$35080:$F$38330,Summering!B1552))","v":0}]
[null,{"$f":"IF(Biomasser!A74=\"\",\"\", Biomasser!A74)","v":" -             Alkohol"},{"$f":"IF(B1553=\"\",0,SUMIFS(Input!$H$35080:$H$38330,  Input!$F$35080:$F$38330,Summering!B1553))","v":0}]
[null,{"$f":"IF(Biomasser!A75=\"\",\"\", Biomasser!A75)","v":" -             Pressesaft fra grøntpilleproduktion"},{"$f":"IF(B1554=\"\",0,SUMIFS(Input!$H$35080:$H$38330,  Input!$F$35080:$F$38330,Summering!B1554))","v":0}]
[null,{"$f":"IF(Biomasser!A76=\"\",\"\", Biomasser!A76)","v":" -             Inaktiveret og kalkstabiliseret biomasse"},{"$f":"IF(B1555=\"\",0,SUMIFS(Input!$H$35080:$H$38330,  Input!$F$35080:$F$38330,Summering!B1555))","v":0}]
[null,{"$f":"IF(Biomasser!A77=\"\",\"\", Biomasser!A77)","v":"Anden biomasse (Overskrift)"},{"$f":"IF(B1556=\"\",0,SUMIFS(Input!$H$35080:$H$38330,  Input!$F$35080:$F$38330,Summering!B1556))","v":0}]
[null,{"$f":"IF(Biomasser!A78=\"\",\"\", Biomasser!A78)","v":" -             Råglycerin"},{"$f":"IF(B1557=\"\",0,SUMIFS(Input!$H$35080:$H$38330,  Input!$F$35080:$F$38330,Summering!B1557))","v":0}]
[null,{"$f":"IF(Biomasser!A79=\"\",\"\", Biomasser!A79)","v":""},{"$f":"IF(B1558=\"\",0,SUMIFS(Input!$H$35080:$H$38330,  Input!$F$35080:$F$38330,Summering!B1558))","v":0}]
[null,{"$f":"IF(Biomasser!A80=\"\",\"\", Biomasser!A80)","v":""},{"$f":"IF(B1559=\"\",0,SUMIFS(Input!$H$35080:$H$38330,  Input!$F$35080:$F$38330,Summering!B1559))","v":0}]
[null,{"$f":"IF(Biomasser!A81=\"\",\"\", Biomasser!A81)","v":""},{"$f":"IF(B1560=\"\",0,SUMIFS(Input!$H$35080:$H$38330,  Input!$F$35080:$F$38330,Summering!B1560))","v":0}]
[null,{"$f":"IF(Biomasser!A82=\"\",\"\", Biomasser!A82)","v":""},{"$f":"IF(B1561=\"\",0,SUMIFS(Input!$H$35080:$H$38330,  Input!$F$35080:$F$38330,Summering!B1561))","v":0}]
[null,{"$f":"IF(Biomasser!A83=\"\",\"\", Biomasser!A83)","v":""},{"$f":"IF(B1562=\"\",0,SUMIFS(Input!$H$35080:$H$38330,  Input!$F$35080:$F$38330,Summering!B1562))","v":0}]
[null,{"$f":"IF(Biomasser!A84=\"\",\"\", Biomasser!A84)","v":""},{"$f":"IF(B1563=\"\",0,SUMIFS(Input!$H$35080:$H$38330,  Input!$F$35080:$F$38330,Summering!B1563))","v":0}]
[null,{"$f":"IF(Biomasser!A85=\"\",\"\", Biomasser!A85)","v":""},{"$f":"IF(B1564=\"\",0,SUMIFS(Input!$H$35080:$H$38330,  Input!$F$35080:$F$38330,Summering!B1564))","v":0}]
[null,{"$f":"IF(Biomasser!A86=\"\",\"\", Biomasser!A86)","v":""},{"$f":"IF(B1565=\"\",0,SUMIFS(Input!$H$35080:$H$38330,  Input!$F$35080:$F$38330,Summering!B1565))","v":0}]
[null,{"$f":"IF(Biomasser!A87=\"\",\"\", Biomasser!A87)","v":""},{"$f":"IF(B1566=\"\",0,SUMIFS(Input!$H$35080:$H$38330,  Input!$F$35080:$F$38330,Summering!B1566))","v":0}]
[null,{"$f":"IF(Biomasser!A88=\"\",\"\", Biomasser!A88)","v":""},{"$f":"IF(B1567=\"\",0,SUMIFS(Input!$H$35080:$H$38330,  Input!$F$35080:$F$38330,Summering!B1567))","v":0}]
[null,{"$f":"IF(Biomasser!A89=\"\",\"\", Biomasser!A89)","v":""},{"$f":"IF(B1568=\"\",0,SUMIFS(Input!$H$35080:$H$38330,  Input!$F$35080:$F$38330,Summering!B1568))","v":0}]
[null,{"$f":"IF(Biomasser!A90=\"\",\"\", Biomasser!A90)","v":""},{"$f":"IF(B1569=\"\",0,SUMIFS(Input!$H$35080:$H$38330,  Input!$F$35080:$F$38330,Summering!B1569))","v":0}]
[null,{"$f":"IF(Biomasser!A91=\"\",\"\", Biomasser!A91)","v":""},{"$f":"IF(B1570=\"\",0,SUMIFS(Input!$H$35080:$H$38330,  Input!$F$35080:$F$38330,Summering!B1570))","v":0}]
[null,{"$f":"IF(Biomasser!A92=\"\",\"\", Biomasser!A92)","v":""},{"$f":"IF(B1571=\"\",0,SUMIFS(Input!$H$35080:$H$38330,  Input!$F$35080:$F$38330,Summering!B1571))","v":0}]
[null,{"$f":"IF(Biomasser!A93=\"\",\"\", Biomasser!A93)","v":""},{"$f":"IF(B1572=\"\",0,SUMIFS(Input!$H$35080:$H$38330,  Input!$F$35080:$F$38330,Summering!B1572))","v":0}]
[null,{"$f":"IF(Biomasser!A94=\"\",\"\", Biomasser!A94)","v":""},{"$f":"IF(B1573=\"\",0,SUMIFS(Input!$H$35080:$H$38330,  Input!$F$35080:$F$38330,Summering!B1573))","v":0}]
[null,{"$f":"IF(Biomasser!A95=\"\",\"\", Biomasser!A95)","v":""},{"$f":"IF(B1574=\"\",0,SUMIFS(Input!$H$35080:$H$38330,  Input!$F$35080:$F$38330,Summering!B1574))","v":0}]
[null,{"$f":"IF(Biomasser!A96=\"\",\"\", Biomasser!A96)","v":""},{"$f":"IF(B1575=\"\",0,SUMIFS(Input!$H$35080:$H$38330,  Input!$F$35080:$F$38330,Summering!B1575))","v":0}]
[null,{"$f":"IF(Biomasser!A97=\"\",\"\", Biomasser!A97)","v":""},{"$f":"IF(B1576=\"\",0,SUMIFS(Input!$H$35080:$H$38330,  Input!$F$35080:$F$38330,Summering!B1576))","v":0}]
[null,{"$f":"IF(Biomasser!A98=\"\",\"\", Biomasser!A98)","v":""},{"$f":"IF(B1577=\"\",0,SUMIFS(Input!$H$35080:$H$38330,  Input!$F$35080:$F$38330,Summering!B1577))","v":0}]
[null,{"$f":"IF(Biomasser!A99=\"\",\"\", Biomasser!A99)","v":""},{"$f":"IF(B1578=\"\",0,SUMIFS(Input!$H$35080:$H$38330,  Input!$F$35080:$F$38330,Summering!B1578))","v":0}]
[null,{"$f":"IF(Biomasser!A100=\"\",\"\", Biomasser!A100)","v":""},{"$f":"IF(B1579=\"\",0,SUMIFS(Input!$H$35080:$H$38330,  Input!$F$35080:$F$38330,Summering!B1579))","v":0}]
[null,{"$f":"IF(Biomasser!A101=\"\",\"\", Biomasser!A101)","v":""},{"$f":"IF(B1580=\"\",0,SUMIFS(Input!$H$35080:$H$38330,  Input!$F$35080:$F$38330,Summering!B1580))","v":0}]
[null,{"$f":"IF(Biomasser!A102=\"\",\"\", Biomasser!A102)","v":""},{"$f":"IF(B1581=\"\",0,SUMIFS(Input!$H$35080:$H$38330,  Input!$F$35080:$F$38330,Summering!B1581))","v":0}]
[null,{"$f":"IF(Biomasser!A103=\"\",\"\", Biomasser!A103)","v":""},{"$f":"IF(B1582=\"\",0,SUMIFS(Input!$H$35080:$H$38330,  Input!$F$35080:$F$38330,Summering!B1582))","v":0}]
[null,{"$f":"IF(Biomasser!A104=\"\",\"\", Biomasser!A104)","v":""},{"$f":"IF(B1583=\"\",0,SUMIFS(Input!$H$35080:$H$38330,  Input!$F$35080:$F$38330,Summering!B1583))","v":0}]
[null,{"$f":"IF(Biomasser!A105=\"\",\"\", Biomasser!A105)","v":""},{"$f":"IF(B1584=\"\",0,SUMIFS(Input!$H$35080:$H$38330,  Input!$F$35080:$F$38330,Summering!B1584))","v":0}]
[null,{"$f":"IF(Biomasser!A106=\"\",\"\", Biomasser!A106)","v":""},{"$f":"IF(B1585=\"\",0,SUMIFS(Input!$H$35080:$H$38330,  Input!$F$35080:$F$38330,Summering!B1585))","v":0}]
[null,{"$f":"IF(Biomasser!A107=\"\",\"\", Biomasser!A107)","v":""},{"$f":"IF(B1586=\"\",0,SUMIFS(Input!$H$35080:$H$38330,  Input!$F$35080:$F$38330,Summering!B1586))","v":0}]
[null,{"$f":"IF(Biomasser!A108=\"\",\"\", Biomasser!A108)","v":""},{"$f":"IF(B1587=\"\",0,SUMIFS(Input!$H$35080:$H$38330,  Input!$F$35080:$F$38330,Summering!B1587))","v":0}]
[null,{"$f":"IF(Biomasser!A109=\"\",\"\", Biomasser!A109)","v":""},{"$f":"IF(B1588=\"\",0,SUMIFS(Input!$H$35080:$H$38330,  Input!$F$35080:$F$38330,Summering!B1588))","v":0}]
[null,{"$f":"IF(Biomasser!A110=\"\",\"\", Biomasser!A110)","v":""},{"$f":"IF(B1589=\"\",0,SUMIFS(Input!$H$35080:$H$38330,  Input!$F$35080:$F$38330,Summering!B1589))","v":0}]
[null,{"$f":"IF(Biomasser!A111=\"\",\"\", Biomasser!A111)","v":""},{"$f":"IF(B1590=\"\",0,SUMIFS(Input!$H$35080:$H$38330,  Input!$F$35080:$F$38330,Summering!B1590))","v":0}]
[null,{"$f":"IF(Biomasser!A112=\"\",\"\", Biomasser!A112)","v":""},{"$f":"IF(B1591=\"\",0,SUMIFS(Input!$H$35080:$H$38330,  Input!$F$35080:$F$38330,Summering!B1591))","v":0}]
[null,{"$f":"IF(Biomasser!A113=\"\",\"\", Biomasser!A113)","v":""},{"$f":"IF(B1592=\"\",0,SUMIFS(Input!$H$35080:$H$38330,  Input!$F$35080:$F$38330,Summering!B1592))","v":0}]
[null,{"$f":"IF(Biomasser!A114=\"\",\"\", Biomasser!A114)","v":""},{"$f":"IF(B1593=\"\",0,SUMIFS(Input!$H$35080:$H$38330,  Input!$F$35080:$F$38330,Summering!B1593))","v":0}]
[null,{"$f":"IF(Biomasser!A115=\"\",\"\", Biomasser!A115)","v":""},{"$f":"IF(B1594=\"\",0,SUMIFS(Input!$H$35080:$H$38330,  Input!$F$35080:$F$38330,Summering!B1594))","v":0}]
[null,{"$f":"IF(Biomasser!A116=\"\",\"\", Biomasser!A116)","v":""},{"$f":"IF(B1595=\"\",0,SUMIFS(Input!$H$35080:$H$38330,  Input!$F$35080:$F$38330,Summering!B1595))","v":0}]
[null,{"$f":"IF(Biomasser!A117=\"\",\"\", Biomasser!A117)","v":""},{"$f":"IF(B1596=\"\",0,SUMIFS(Input!$H$35080:$H$38330,  Input!$F$35080:$F$38330,Summering!B1596))","v":0}]
[null,{"$f":"IF(Biomasser!A118=\"\",\"\", Biomasser!A118)","v":""},{"$f":"IF(B1597=\"\",0,SUMIFS(Input!$H$35080:$H$38330,  Input!$F$35080:$F$38330,Summering!B1597))","v":0}]
[null,{"$f":"IF(Biomasser!A119=\"\",\"\", Biomasser!A119)","v":""},{"$f":"IF(B1598=\"\",0,SUMIFS(Input!$H$35080:$H$38330,  Input!$F$35080:$F$38330,Summering!B1598))","v":0}]
[null,{"$f":"IF(Biomasser!A120=\"\",\"\", Biomasser!A120)","v":""},{"$f":"IF(B1599=\"\",0,SUMIFS(Input!$H$35080:$H$38330,  Input!$F$35080:$F$38330,Summering!B1599))","v":0}]
[null,{"$f":"IF(Biomasser!A121=\"\",\"\", Biomasser!A121)","v":""},{"$f":"IF(B1600=\"\",0,SUMIFS(Input!$H$35080:$H$38330,  Input!$F$35080:$F$38330,Summering!B1600))","v":0}]
[null,{"$f":"IF(Biomasser!A122=\"\",\"\", Biomasser!A122)","v":""},{"$f":"IF(B1601=\"\",0,SUMIFS(Input!$H$35080:$H$38330,  Input!$F$35080:$F$38330,Summering!B1601))","v":0}]
[null,{"$f":"IF(Biomasser!A123=\"\",\"\", Biomasser!A123)","v":""},{"$f":"IF(B1602=\"\",0,SUMIFS(Input!$H$35080:$H$38330,  Input!$F$35080:$F$38330,Summering!B1602))","v":0}]
[null,{"$f":"IF(Biomasser!A124=\"\",\"\", Biomasser!A124)","v":""},{"$f":"IF(B1603=\"\",0,SUMIFS(Input!$H$35080:$H$38330,  Input!$F$35080:$F$38330,Summering!B1603))","v":0}]
[null,2016,{"$f":"SUM(C1605:C1726)","v":0},{"$f":"SUMIFS(Input!$H$10:$H$76760,Input!$A$10:$A$76760,\"Gas\",Input!$C$10:$C$76760,Summering!$B$1604)","v":0}]
[null,{"$f":"IF(Biomasser!A3=\"\",\"\", Biomasser!A3)","v":"Afgrøder (Overskrift, kan ikke vælges)"},{"$f":"IF(B1605=\"\",0,SUMIFS(Input!$H$38335:$H$76760,  Input!$F$38335:$F$76760,Summering!B1605))","v":0}]
[null,{"$f":"IF(Biomasser!A4=\"\",\"\", Biomasser!A4)","v":" -             Majs"},{"$f":"IF(B1606=\"\",0,SUMIFS(Input!$H$38335:$H$76760,  Input!$F$38335:$F$76760,Summering!B1606))","v":0}]
[null,{"$f":"IF(Biomasser!A5=\"\",\"\", Biomasser!A5)","v":" -             Roer"},{"$f":"IF(B1607=\"\",0,SUMIFS(Input!$H$38335:$H$76760,  Input!$F$38335:$F$76760,Summering!B1607))","v":0}]
[null,{"$f":"IF(Biomasser!A6=\"\",\"\", Biomasser!A6)","v":" -             Korn"},{"$f":"IF(B1608=\"\",0,SUMIFS(Input!$H$38335:$H$76760,  Input!$F$38335:$F$76760,Summering!B1608))","v":0}]
[null,{"$f":"IF(Biomasser!A7=\"\",\"\", Biomasser!A7)","v":" -             Græs"},{"$f":"IF(B1609=\"\",0,SUMIFS(Input!$H$38335:$H$76760,  Input!$F$38335:$F$76760,Summering!B1609))","v":0}]
[null,{"$f":"IF(Biomasser!A8=\"\",\"\", Biomasser!A8)","v":" -             Kløvergræs"},{"$f":"IF(B1610=\"\",0,SUMIFS(Input!$H$38335:$H$76760,  Input!$F$38335:$F$76760,Summering!B1610))","v":0}]
[null,{"$f":"IF(Biomasser!A9=\"\",\"\", Biomasser!A9)","v":" -             Jordskokker"},{"$f":"IF(B1611=\"\",0,SUMIFS(Input!$H$38335:$H$76760,  Input!$F$38335:$F$76760,Summering!B1611))","v":0}]
[null,{"$f":"IF(Biomasser!A10=\"\",\"\", Biomasser!A10)","v":" -             Andre afgrøder"},{"$f":"IF(B1612=\"\",0,SUMIFS(Input!$H$38335:$H$76760,  Input!$F$38335:$F$76760,Summering!B1612))","v":0}]
[null,{"$f":"IF(Biomasser!A11=\"\",\"\", Biomasser!A11)","v":" -             Hvedehelsæd"},{"$f":"IF(B1613=\"\",0,SUMIFS(Input!$H$38335:$H$76760,  Input!$F$38335:$F$76760,Summering!B1613))","v":0}]
[null,{"$f":"IF(Biomasser!A12=\"\",\"\", Biomasser!A12)","v":" -             Top af foderroe"},{"$f":"IF(B1614=\"\",0,SUMIFS(Input!$H$38335:$H$76760,  Input!$F$38335:$F$76760,Summering!B1614))","v":0}]
[null,{"$f":"IF(Biomasser!A13=\"\",\"\", Biomasser!A13)","v":" -             Foderroe - rod og top frisk"},{"$f":"IF(B1615=\"\",0,SUMIFS(Input!$H$38335:$H$76760,  Input!$F$38335:$F$76760,Summering!B1615))","v":0}]
[null,{"$f":"IF(Biomasser!A14=\"\",\"\", Biomasser!A14)","v":" -             Økologisk kløvergræs"},{"$f":"IF(B1616=\"\",0,SUMIFS(Input!$H$38335:$H$76760,  Input!$F$38335:$F$76760,Summering!B1616))","v":0}]
[null,{"$f":"IF(Biomasser!A15=\"\",\"\", Biomasser!A15)","v":"Husdyrgødning (Overskrift, kan ikke vælges)"},{"$f":"IF(B1617=\"\",0,SUMIFS(Input!$H$38335:$H$76760,  Input!$F$38335:$F$76760,Summering!B1617))","v":0}]
[null,{"$f":"IF(Biomasser!A16=\"\",\"\", Biomasser!A16)","v":" -             Kvæggylle"},{"$f":"IF(B1618=\"\",0,SUMIFS(Input!$H$38335:$H$76760,  Input!$F$38335:$F$76760,Summering!B1618))","v":0}]
[null,{"$f":"IF(Biomasser!A17=\"\",\"\", Biomasser!A17)","v":" -             Svinegylle"},{"$f":"IF(B1619=\"\",0,SUMIFS(Input!$H$38335:$H$76760,  Input!$F$38335:$F$76760,Summering!B1619))","v":0}]
[null,{"$f":"IF(Biomasser!A18=\"\",\"\", Biomasser!A18)","v":" -             Gylle fra so"},{"$f":"IF(B1620=\"\",0,SUMIFS(Input!$H$38335:$H$76760,  Input!$F$38335:$F$76760,Summering!B1620))","v":0}]
[null,{"$f":"IF(Biomasser!A19=\"\",\"\", Biomasser!A19)","v":" -             Minkgylle"},{"$f":"IF(B1621=\"\",0,SUMIFS(Input!$H$38335:$H$76760,  Input!$F$38335:$F$76760,Summering!B1621))","v":0}]
[null,{"$f":"IF(Biomasser!A20=\"\",\"\", Biomasser!A20)","v":" -             Fjerkrægylle"},{"$f":"IF(B1622=\"\",0,SUMIFS(Input!$H$38335:$H$76760,  Input!$F$38335:$F$76760,Summering!B1622))","v":0}]
[null,{"$f":"IF(Biomasser!A21=\"\",\"\", Biomasser!A21)","v":" -             Blandet gylle"},{"$f":"IF(B1623=\"\",0,SUMIFS(Input!$H$38335:$H$76760,  Input!$F$38335:$F$76760,Summering!B1623))","v":0}]
[null,{"$f":"IF(Biomasser!A22=\"\",\"\", Biomasser!A22)","v":" -             Dybstrøelse - Kvæg"},{"$f":"IF(B1624=\"\",0,SUMIFS(Input!$H$38335:$H$76760,  Input!$F$38335:$F$76760,Summering!B1624))","v":0}]
[null,{"$f":"IF(Biomasser!A23=\"\",\"\", Biomasser!A23)","v":" -             Dybstrøelse - Fjerkræ"},{"$f":"IF(B1625=\"\",0,SUMIFS(Input!$H$38335:$H$76760,  Input!$F$38335:$F$76760,Summering!B1625))","v":0}]
[null,{"$f":"IF(Biomasser!A24=\"\",\"\", Biomasser!A24)","v":" -             Dybstrøelse - Hest"},{"$f":"IF(B1626=\"\",0,SUMIFS(Input!$H$38335:$H$76760,  Input!$F$38335:$F$76760,Summering!B1626))","v":0}]
[null,{"$f":"IF(Biomasser!A25=\"\",\"\", Biomasser!A25)","v":" -             Dybstrøelse - Andre typer"},{"$f":"IF(B1627=\"\",0,SUMIFS(Input!$H$38335:$H$76760,  Input!$F$38335:$F$76760,Summering!B1627))","v":0}]
[null,{"$f":"IF(Biomasser!A26=\"\",\"\", Biomasser!A26)","v":" -             Fast gødning"},{"$f":"IF(B1628=\"\",0,SUMIFS(Input!$H$38335:$H$76760,  Input!$F$38335:$F$76760,Summering!B1628))","v":0}]
[null,{"$f":"IF(Biomasser!A27=\"\",\"\", Biomasser!A27)","v":" -             Ajle"},{"$f":"IF(B1629=\"\",0,SUMIFS(Input!$H$38335:$H$76760,  Input!$F$38335:$F$76760,Summering!B1629))","v":0}]
[null,{"$f":"IF(Biomasser!A28=\"\",\"\", Biomasser!A28)","v":" -             Fiberfraktion"},{"$f":"IF(B1630=\"\",0,SUMIFS(Input!$H$38335:$H$76760,  Input!$F$38335:$F$76760,Summering!B1630))","v":0}]
[null,{"$f":"IF(Biomasser!A29=\"\",\"\", Biomasser!A29)","v":" -             Flydende fraktion fra separationsanlæg"},{"$f":"IF(B1631=\"\",0,SUMIFS(Input!$H$38335:$H$76760,  Input!$F$38335:$F$76760,Summering!B1631))","v":0}]
[null,{"$f":"IF(Biomasser!A30=\"\",\"\", Biomasser!A30)","v":" -             Flydende fraktion"},{"$f":"IF(B1632=\"\",0,SUMIFS(Input!$H$38335:$H$76760,  Input!$F$38335:$F$76760,Summering!B1632))","v":0}]
[null,{"$f":"IF(Biomasser!A31=\"\",\"\", Biomasser!A31)","v":" -             Anden husdyrgødning"},{"$f":"IF(B1633=\"\",0,SUMIFS(Input!$H$38335:$H$76760,  Input!$F$38335:$F$76760,Summering!B1633))","v":0}]
[null,{"$f":"IF(Biomasser!A32=\"\",\"\", Biomasser!A32)","v":" -             Forsuret svinegylle"},{"$f":"IF(B1634=\"\",0,SUMIFS(Input!$H$38335:$H$76760,  Input!$F$38335:$F$76760,Summering!B1634))","v":0}]
[null,{"$f":"IF(Biomasser!A33=\"\",\"\", Biomasser!A33)","v":" -             Dybstrøelse - Svin"},{"$f":"IF(B1635=\"\",0,SUMIFS(Input!$H$38335:$H$76760,  Input!$F$38335:$F$76760,Summering!B1635))","v":0}]
[null,{"$f":"IF(Biomasser!A34=\"\",\"\", Biomasser!A34)","v":" -             Gylle fibre - kemisk separation - Svin"},{"$f":"IF(B1636=\"\",0,SUMIFS(Input!$H$38335:$H$76760,  Input!$F$38335:$F$76760,Summering!B1636))","v":0}]
[null,{"$f":"IF(Biomasser!A35=\"\",\"\", Biomasser!A35)","v":" -             Gylle fibre - dekanter separation - Svin"},{"$f":"IF(B1637=\"\",0,SUMIFS(Input!$H$38335:$H$76760,  Input!$F$38335:$F$76760,Summering!B1637))","v":0}]
[null,{"$f":"IF(Biomasser!A36=\"\",\"\", Biomasser!A36)","v":" -             Staldgødning - Kvæg"},{"$f":"IF(B1638=\"\",0,SUMIFS(Input!$H$38335:$H$76760,  Input!$F$38335:$F$76760,Summering!B1638))","v":0}]
[null,{"$f":"IF(Biomasser!A37=\"\",\"\", Biomasser!A37)","v":" -             Kvæggylle - Årsopdræt 6 mdr."},{"$f":"IF(B1639=\"\",0,SUMIFS(Input!$H$38335:$H$76760,  Input!$F$38335:$F$76760,Summering!B1639))","v":0}]
[null,{"$f":"IF(Biomasser!A38=\"\",\"\", Biomasser!A38)","v":" -             Staldgødning - Fjerkræ"},{"$f":"IF(B1640=\"\",0,SUMIFS(Input!$H$38335:$H$76760,  Input!$F$38335:$F$76760,Summering!B1640))","v":0}]
[null,{"$f":"IF(Biomasser!A39=\"\",\"\", Biomasser!A39)","v":"Slam og spildevand (Overskrift, kan ikke vælges)"},{"$f":"IF(B1641=\"\",0,SUMIFS(Input!$H$38335:$H$76760,  Input!$F$38335:$F$76760,Summering!B1641))","v":0}]
[null,{"$f":"IF(Biomasser!A40=\"\",\"\", Biomasser!A40)","v":" -             Slam og spildevand samt uforurenede produktrester"},{"$f":"IF(B1642=\"\",0,SUMIFS(Input!$H$38335:$H$76760,  Input!$F$38335:$F$76760,Summering!B1642))","v":0}]
[null,{"$f":"IF(Biomasser!A41=\"\",\"\", Biomasser!A41)","v":" -             Slam fra dambrug"},{"$f":"IF(B1643=\"\",0,SUMIFS(Input!$H$38335:$H$76760,  Input!$F$38335:$F$76760,Summering!B1643))","v":0}]
[null,{"$f":"IF(Biomasser!A42=\"\",\"\", Biomasser!A42)","v":" -             Slam fra forarbejdning af animalske råvarer"},{"$f":"IF(B1644=\"\",0,SUMIFS(Input!$H$38335:$H$76760,  Input!$F$38335:$F$76760,Summering!B1644))","v":0}]
[null,{"$f":"IF(Biomasser!A43=\"\",\"\", Biomasser!A43)","v":" -             Spildevandsslam"},{"$f":"IF(B1645=\"\",0,SUMIFS(Input!$H$38335:$H$76760,  Input!$F$38335:$F$76760,Summering!B1645))","v":0}]
[null,{"$f":"IF(Biomasser!A44=\"\",\"\", Biomasser!A44)","v":" -             Proteolyseret processpildevand"},{"$f":"IF(B1646=\"\",0,SUMIFS(Input!$H$38335:$H$76760,  Input!$F$38335:$F$76760,Summering!B1646))","v":0}]
[null,{"$f":"IF(Biomasser!A45=\"\",\"\", Biomasser!A45)","v":" -             Sekundær spildevandsslam"},{"$f":"IF(B1647=\"\",0,SUMIFS(Input!$H$38335:$H$76760,  Input!$F$38335:$F$76760,Summering!B1647))","v":0}]
[null,{"$f":"IF(Biomasser!A46=\"\",\"\", Biomasser!A46)","v":" -             Sekundær spildevandsslam afvandet"},{"$f":"IF(B1648=\"\",0,SUMIFS(Input!$H$38335:$H$76760,  Input!$F$38335:$F$76760,Summering!B1648))","v":0}]
[null,{"$f":"IF(Biomasser!A47=\"\",\"\", Biomasser!A47)","v":"Organisk affald fra husholdninger og erhverv (Overskrift, kan ikke vælges)"},{"$f":"IF(B1649=\"\",0,SUMIFS(Input!$H$38335:$H$76760,  Input!$F$38335:$F$76760,Summering!B1649))","v":0}]
[null,{"$f":"IF(Biomasser!A48=\"\",\"\", Biomasser!A48)","v":" -             Kildesorteret organisk dagrenovation"},{"$f":"IF(B1650=\"\",0,SUMIFS(Input!$H$38335:$H$76760,  Input!$F$38335:$F$76760,Summering!B1650))","v":0}]
[null,{"$f":"IF(Biomasser!A49=\"\",\"\", Biomasser!A49)","v":" -             Organisk husholdningsaffald - Renescience"},{"$f":"IF(B1651=\"\",0,SUMIFS(Input!$H$38335:$H$76760,  Input!$F$38335:$F$76760,Summering!B1651))","v":0}]
[null,{"$f":"IF(Biomasser!A50=\"\",\"\", Biomasser!A50)","v":" -             Organisk husholdningsaffald - Pulper"},{"$f":"IF(B1652=\"\",0,SUMIFS(Input!$H$38335:$H$76760,  Input!$F$38335:$F$76760,Summering!B1652))","v":0}]
[null,{"$f":"IF(Biomasser!A51=\"\",\"\", Biomasser!A51)","v":" -             Organisk husholdningsaffald - Rullesigte"},{"$f":"IF(B1653=\"\",0,SUMIFS(Input!$H$38335:$H$76760,  Input!$F$38335:$F$76760,Summering!B1653))","v":0}]
[null,{"$f":"IF(Biomasser!A52=\"\",\"\", Biomasser!A52)","v":" -             Organisk husholdningsaffald - Skruepresse"},{"$f":"IF(B1654=\"\",0,SUMIFS(Input!$H$38335:$H$76760,  Input!$F$38335:$F$76760,Summering!B1654))","v":0}]
[null,{"$f":"IF(Biomasser!A53=\"\",\"\", Biomasser!A53)","v":" -             Organisk husholdningsaffald - Neddeling"},{"$f":"IF(B1655=\"\",0,SUMIFS(Input!$H$38335:$H$76760,  Input!$F$38335:$F$76760,Summering!B1655))","v":0}]
[null,{"$f":"IF(Biomasser!A54=\"\",\"\", Biomasser!A54)","v":" -             Organisk affald fra erhverv"},{"$f":"IF(B1656=\"\",0,SUMIFS(Input!$H$38335:$H$76760,  Input!$F$38335:$F$76760,Summering!B1656))","v":0}]
[null,{"$f":"IF(Biomasser!A55=\"\",\"\", Biomasser!A55)","v":"Rester og biprodukter fra planter og afgrøder (Overskrift, kan ikke vælges)"},{"$f":"IF(B1657=\"\",0,SUMIFS(Input!$H$38335:$H$76760,  Input!$F$38335:$F$76760,Summering!B1657))","v":0}]
[null,{"$f":"IF(Biomasser!A56=\"\",\"\", Biomasser!A56)","v":" -             Cellulose"},{"$f":"IF(B1658=\"\",0,SUMIFS(Input!$H$38335:$H$76760,  Input!$F$38335:$F$76760,Summering!B1658))","v":0}]
[null,{"$f":"IF(Biomasser!A57=\"\",\"\", Biomasser!A57)","v":" -             Naturpleje biomasse"},{"$f":"IF(B1659=\"\",0,SUMIFS(Input!$H$38335:$H$76760,  Input!$F$38335:$F$76760,Summering!B1659))","v":0}]
[null,{"$f":"IF(Biomasser!A58=\"\",\"\", Biomasser!A58)","v":" -             Halm"},{"$f":"IF(B1660=\"\",0,SUMIFS(Input!$H$38335:$H$76760,  Input!$F$38335:$F$76760,Summering!B1660))","v":0}]
[null,{"$f":"IF(Biomasser!A59=\"\",\"\", Biomasser!A59)","v":" -             Have-park affald"},{"$f":"IF(B1661=\"\",0,SUMIFS(Input!$H$38335:$H$76760,  Input!$F$38335:$F$76760,Summering!B1661))","v":0}]
[null,{"$f":"IF(Biomasser!A60=\"\",\"\", Biomasser!A60)","v":" -             Andre restprodukter fra produktion af primærafgrøder"},{"$f":"IF(B1662=\"\",0,SUMIFS(Input!$H$38335:$H$76760,  Input!$F$38335:$F$76760,Summering!B1662))","v":0}]
[null,{"$f":"IF(Biomasser!A61=\"\",\"\", Biomasser!A61)","v":" -             Kasserede afgrøder"},{"$f":"IF(B1663=\"\",0,SUMIFS(Input!$H$38335:$H$76760,  Input!$F$38335:$F$76760,Summering!B1663))","v":0}]
[null,{"$f":"IF(Biomasser!A62=\"\",\"\", Biomasser!A62)","v":"Rester og biprodukter fra levnesmiddel- og dyrefoderindustrien  (Overskrift, kan ikke vælges)"},{"$f":"IF(B1664=\"\",0,SUMIFS(Input!$H$38335:$H$76760,  Input!$F$38335:$F$76760,Summering!B1664))","v":0}]
[null,{"$f":"IF(Biomasser!A63=\"\",\"\", Biomasser!A63)","v":" -             Animalske biprodukter"},{"$f":"IF(B1665=\"\",0,SUMIFS(Input!$H$38335:$H$76760,  Input!$F$38335:$F$76760,Summering!B1665))","v":0}]
[null,{"$f":"IF(Biomasser!A64=\"\",\"\", Biomasser!A64)","v":" -             Mave/tarm kvæg"},{"$f":"IF(B1666=\"\",0,SUMIFS(Input!$H$38335:$H$76760,  Input!$F$38335:$F$76760,Summering!B1666))","v":0}]
[null,{"$f":"IF(Biomasser!A65=\"\",\"\", Biomasser!A65)","v":" -             Mave/tarm svin"},{"$f":"IF(B1667=\"\",0,SUMIFS(Input!$H$38335:$H$76760,  Input!$F$38335:$F$76760,Summering!B1667))","v":0}]
[null,{"$f":"IF(Biomasser!A66=\"\",\"\", Biomasser!A66)","v":" -             Valle"},{"$f":"IF(B1668=\"\",0,SUMIFS(Input!$H$38335:$H$76760,  Input!$F$38335:$F$76760,Summering!B1668))","v":0}]
[null,{"$f":"IF(Biomasser!A67=\"\",\"\", Biomasser!A67)","v":" -             Valle koncentrat"},{"$f":"IF(B1669=\"\",0,SUMIFS(Input!$H$38335:$H$76760,  Input!$F$38335:$F$76760,Summering!B1669))","v":0}]
[null,{"$f":"IF(Biomasser!A68=\"\",\"\", Biomasser!A68)","v":" -             Protein"},{"$f":"IF(B1670=\"\",0,SUMIFS(Input!$H$38335:$H$76760,  Input!$F$38335:$F$76760,Summering!B1670))","v":0}]
[null,{"$f":"IF(Biomasser!A69=\"\",\"\", Biomasser!A69)","v":" -             Fedt"},{"$f":"IF(B1671=\"\",0,SUMIFS(Input!$H$38335:$H$76760,  Input!$F$38335:$F$76760,Summering!B1671))","v":0}]
[null,{"$f":"IF(Biomasser!A70=\"\",\"\", Biomasser!A70)","v":" -             Vinasse (2,2 pct. kvælstof)"},{"$f":"IF(B1672=\"\",0,SUMIFS(Input!$H$38335:$H$76760,  Input!$F$38335:$F$76760,Summering!B1672))","v":0}]
[null,{"$f":"IF(Biomasser!A71=\"\",\"\", Biomasser!A71)","v":" -             Vinasse (3,5 pct. kvælstof)"},{"$f":"IF(B1673=\"\",0,SUMIFS(Input!$H$38335:$H$76760,  Input!$F$38335:$F$76760,Summering!B1673))","v":0}]
[null,{"$f":"IF(Biomasser!A72=\"\",\"\", Biomasser!A72)","v":" -             Kartoffelfrugtsaft"},{"$f":"IF(B1674=\"\",0,SUMIFS(Input!$H$38335:$H$76760,  Input!$F$38335:$F$76760,Summering!B1674))","v":0}]
[null,{"$f":"IF(Biomasser!A73=\"\",\"\", Biomasser!A73)","v":" -             Glukose"},{"$f":"IF(B1675=\"\",0,SUMIFS(Input!$H$38335:$H$76760,  Input!$F$38335:$F$76760,Summering!B1675))","v":0}]
[null,{"$f":"IF(Biomasser!A74=\"\",\"\", Biomasser!A74)","v":" -             Alkohol"},{"$f":"IF(B1676=\"\",0,SUMIFS(Input!$H$38335:$H$76760,  Input!$F$38335:$F$76760,Summering!B1676))","v":0}]
[null,{"$f":"IF(Biomasser!A75=\"\",\"\", Biomasser!A75)","v":" -             Pressesaft fra grøntpilleproduktion"},{"$f":"IF(B1677=\"\",0,SUMIFS(Input!$H$38335:$H$76760,  Input!$F$38335:$F$76760,Summering!B1677))","v":0}]
[null,{"$f":"IF(Biomasser!A76=\"\",\"\", Biomasser!A76)","v":" -             Inaktiveret og kalkstabiliseret biomasse"},{"$f":"IF(B1678=\"\",0,SUMIFS(Input!$H$38335:$H$76760,  Input!$F$38335:$F$76760,Summering!B1678))","v":0}]
[null,{"$f":"IF(Biomasser!A77=\"\",\"\", Biomasser!A77)","v":"Anden biomasse (Overskrift)"},{"$f":"IF(B1679=\"\",0,SUMIFS(Input!$H$38335:$H$76760,  Input!$F$38335:$F$76760,Summering!B1679))","v":0}]
[null,{"$f":"IF(Biomasser!A78=\"\",\"\", Biomasser!A78)","v":" -             Råglycerin"},{"$f":"IF(B1680=\"\",0,SUMIFS(Input!$H$38335:$H$76760,  Input!$F$38335:$F$76760,Summering!B1680))","v":0}]
[null,{"$f":"IF(Biomasser!A79=\"\",\"\", Biomasser!A79)","v":""},{"$f":"IF(B1681=\"\",0,SUMIFS(Input!$H$38335:$H$76760,  Input!$F$38335:$F$76760,Summering!B1681))","v":0}]
[null,{"$f":"IF(Biomasser!A80=\"\",\"\", Biomasser!A80)","v":""},{"$f":"IF(B1682=\"\",0,SUMIFS(Input!$H$38335:$H$76760,  Input!$F$38335:$F$76760,Summering!B1682))","v":0}]
[null,{"$f":"IF(Biomasser!A81=\"\",\"\", Biomasser!A81)","v":""},{"$f":"IF(B1683=\"\",0,SUMIFS(Input!$H$38335:$H$76760,  Input!$F$38335:$F$76760,Summering!B1683))","v":0}]
[null,{"$f":"IF(Biomasser!A82=\"\",\"\", Biomasser!A82)","v":""},{"$f":"IF(B1684=\"\",0,SUMIFS(Input!$H$38335:$H$76760,  Input!$F$38335:$F$76760,Summering!B1684))","v":0}]
[null,{"$f":"IF(Biomasser!A83=\"\",\"\", Biomasser!A83)","v":""},{"$f":"IF(B1685=\"\",0,SUMIFS(Input!$H$38335:$H$76760,  Input!$F$38335:$F$76760,Summering!B1685))","v":0}]
[null,{"$f":"IF(Biomasser!A84=\"\",\"\", Biomasser!A84)","v":""},{"$f":"IF(B1686=\"\",0,SUMIFS(Input!$H$38335:$H$76760,  Input!$F$38335:$F$76760,Summering!B1686))","v":0}]
[null,{"$f":"IF(Biomasser!A85=\"\",\"\", Biomasser!A85)","v":""},{"$f":"IF(B1687=\"\",0,SUMIFS(Input!$H$38335:$H$76760,  Input!$F$38335:$F$76760,Summering!B1687))","v":0}]
[null,{"$f":"IF(Biomasser!A86=\"\",\"\", Biomasser!A86)","v":""},{"$f":"IF(B1688=\"\",0,SUMIFS(Input!$H$38335:$H$76760,  Input!$F$38335:$F$76760,Summering!B1688))","v":0}]
[null,{"$f":"IF(Biomasser!A87=\"\",\"\", Biomasser!A87)","v":""},{"$f":"IF(B1689=\"\",0,SUMIFS(Input!$H$38335:$H$76760,  Input!$F$38335:$F$76760,Summering!B1689))","v":0}]
[null,{"$f":"IF(Biomasser!A88=\"\",\"\", Biomasser!A88)","v":""},{"$f":"IF(B1690=\"\",0,SUMIFS(Input!$H$38335:$H$76760,  Input!$F$38335:$F$76760,Summering!B1690))","v":0}]
[null,{"$f":"IF(Biomasser!A89=\"\",\"\", Biomasser!A89)","v":""},{"$f":"IF(B1691=\"\",0,SUMIFS(Input!$H$38335:$H$76760,  Input!$F$38335:$F$76760,Summering!B1691))","v":0}]
[null,{"$f":"IF(Biomasser!A90=\"\",\"\", Biomasser!A90)","v":""},{"$f":"IF(B1692=\"\",0,SUMIFS(Input!$H$38335:$H$76760,  Input!$F$38335:$F$76760,Summering!B1692))","v":0}]
[null,{"$f":"IF(Biomasser!A91=\"\",\"\", Biomasser!A91)","v":""},{"$f":"IF(B1693=\"\",0,SUMIFS(Input!$H$38335:$H$76760,  Input!$F$38335:$F$76760,Summering!B1693))","v":0}]
[null,{"$f":"IF(Biomasser!A92=\"\",\"\", Biomasser!A92)","v":""},{"$f":"IF(B1694=\"\",0,SUMIFS(Input!$H$38335:$H$76760,  Input!$F$38335:$F$76760,Summering!B1694))","v":0}]
[null,{"$f":"IF(Biomasser!A93=\"\",\"\", Biomasser!A93)","v":""},{"$f":"IF(B1695=\"\",0,SUMIFS(Input!$H$38335:$H$76760,  Input!$F$38335:$F$76760,Summering!B1695))","v":0}]
[null,{"$f":"IF(Biomasser!A94=\"\",\"\", Biomasser!A94)","v":""},{"$f":"IF(B1696=\"\",0,SUMIFS(Input!$H$38335:$H$76760,  Input!$F$38335:$F$76760,Summering!B1696))","v":0}]
[null,{"$f":"IF(Biomasser!A95=\"\",\"\", Biomasser!A95)","v":""},{"$f":"IF(B1697=\"\",0,SUMIFS(Input!$H$38335:$H$76760,  Input!$F$38335:$F$76760,Summering!B1697))","v":0}]
[null,{"$f":"IF(Biomasser!A96=\"\",\"\", Biomasser!A96)","v":""},{"$f":"IF(B1698=\"\",0,SUMIFS(Input!$H$38335:$H$76760,  Input!$F$38335:$F$76760,Summering!B1698))","v":0}]
[null,{"$f":"IF(Biomasser!A97=\"\",\"\", Biomasser!A97)","v":""},{"$f":"IF(B1699=\"\",0,SUMIFS(Input!$H$38335:$H$76760,  Input!$F$38335:$F$76760,Summering!B1699))","v":0}]
[null,{"$f":"IF(Biomasser!A98=\"\",\"\", Biomasser!A98)","v":""},{"$f":"IF(B1700=\"\",0,SUMIFS(Input!$H$38335:$H$76760,  Input!$F$38335:$F$76760,Summering!B1700))","v":0}]
[null,{"$f":"IF(Biomasser!A99=\"\",\"\", Biomasser!A99)","v":""},{"$f":"IF(B1701=\"\",0,SUMIFS(Input!$H$38335:$H$76760,  Input!$F$38335:$F$76760,Summering!B1701))","v":0}]
[null,{"$f":"IF(Biomasser!A100=\"\",\"\", Biomasser!A100)","v":""},{"$f":"IF(B1702=\"\",0,SUMIFS(Input!$H$38335:$H$76760,  Input!$F$38335:$F$76760,Summering!B1702))","v":0}]
[null,{"$f":"IF(Biomasser!A101=\"\",\"\", Biomasser!A101)","v":""},{"$f":"IF(B1703=\"\",0,SUMIFS(Input!$H$38335:$H$76760,  Input!$F$38335:$F$76760,Summering!B1703))","v":0}]
[null,{"$f":"IF(Biomasser!A102=\"\",\"\", Biomasser!A102)","v":""},{"$f":"IF(B1704=\"\",0,SUMIFS(Input!$H$38335:$H$76760,  Input!$F$38335:$F$76760,Summering!B1704))","v":0}]
[null,{"$f":"IF(Biomasser!A103=\"\",\"\", Biomasser!A103)","v":""},{"$f":"IF(B1705=\"\",0,SUMIFS(Input!$H$38335:$H$76760,  Input!$F$38335:$F$76760,Summering!B1705))","v":0}]
[null,{"$f":"IF(Biomasser!A104=\"\",\"\", Biomasser!A104)","v":""},{"$f":"IF(B1706=\"\",0,SUMIFS(Input!$H$38335:$H$76760,  Input!$F$38335:$F$76760,Summering!B1706))","v":0}]
[null,{"$f":"IF(Biomasser!A105=\"\",\"\", Biomasser!A105)","v":""},{"$f":"IF(B1707=\"\",0,SUMIFS(Input!$H$38335:$H$76760,  Input!$F$38335:$F$76760,Summering!B1707))","v":0}]
[null,{"$f":"IF(Biomasser!A106=\"\",\"\", Biomasser!A106)","v":""},{"$f":"IF(B1708=\"\",0,SUMIFS(Input!$H$38335:$H$76760,  Input!$F$38335:$F$76760,Summering!B1708))","v":0}]
[null,{"$f":"IF(Biomasser!A107=\"\",\"\", Biomasser!A107)","v":""},{"$f":"IF(B1709=\"\",0,SUMIFS(Input!$H$38335:$H$76760,  Input!$F$38335:$F$76760,Summering!B1709))","v":0}]
[null,{"$f":"IF(Biomasser!A108=\"\",\"\", Biomasser!A108)","v":""},{"$f":"IF(B1710=\"\",0,SUMIFS(Input!$H$38335:$H$76760,  Input!$F$38335:$F$76760,Summering!B1710))","v":0}]
[null,{"$f":"IF(Biomasser!A109=\"\",\"\", Biomasser!A109)","v":""},{"$f":"IF(B1711=\"\",0,SUMIFS(Input!$H$38335:$H$76760,  Input!$F$38335:$F$76760,Summering!B1711))","v":0}]
[null,{"$f":"IF(Biomasser!A110=\"\",\"\", Biomasser!A110)","v":""},{"$f":"IF(B1712=\"\",0,SUMIFS(Input!$H$38335:$H$76760,  Input!$F$38335:$F$76760,Summering!B1712))","v":0}]
[null,{"$f":"IF(Biomasser!A111=\"\",\"\", Biomasser!A111)","v":""},{"$f":"IF(B1713=\"\",0,SUMIFS(Input!$H$38335:$H$76760,  Input!$F$38335:$F$76760,Summering!B1713))","v":0}]
[null,{"$f":"IF(Biomasser!A112=\"\",\"\", Biomasser!A112)","v":""},{"$f":"IF(B1714=\"\",0,SUMIFS(Input!$H$38335:$H$76760,  Input!$F$38335:$F$76760,Summering!B1714))","v":0}]
[null,{"$f":"IF(Biomasser!A113=\"\",\"\", Biomasser!A113)","v":""},{"$f":"IF(B1715=\"\",0,SUMIFS(Input!$H$38335:$H$76760,  Input!$F$38335:$F$76760,Summering!B1715))","v":0}]
[null,{"$f":"IF(Biomasser!A114=\"\",\"\", Biomasser!A114)","v":""},{"$f":"IF(B1716=\"\",0,SUMIFS(Input!$H$38335:$H$76760,  Input!$F$38335:$F$76760,Summering!B1716))","v":0}]
[null,{"$f":"IF(Biomasser!A115=\"\",\"\", Biomasser!A115)","v":""},{"$f":"IF(B1717=\"\",0,SUMIFS(Input!$H$38335:$H$76760,  Input!$F$38335:$F$76760,Summering!B1717))","v":0}]
[null,{"$f":"IF(Biomasser!A116=\"\",\"\", Biomasser!A116)","v":""},{"$f":"IF(B1718=\"\",0,SUMIFS(Input!$H$38335:$H$76760,  Input!$F$38335:$F$76760,Summering!B1718))","v":0}]
[null,{"$f":"IF(Biomasser!A117=\"\",\"\", Biomasser!A117)","v":""},{"$f":"IF(B1719=\"\",0,SUMIFS(Input!$H$38335:$H$76760,  Input!$F$38335:$F$76760,Summering!B1719))","v":0}]
[null,{"$f":"IF(Biomasser!A118=\"\",\"\", Biomasser!A118)","v":""},{"$f":"IF(B1720=\"\",0,SUMIFS(Input!$H$38335:$H$76760,  Input!$F$38335:$F$76760,Summering!B1720))","v":0}]
[null,{"$f":"IF(Biomasser!A119=\"\",\"\", Biomasser!A119)","v":""},{"$f":"IF(B1721=\"\",0,SUMIFS(Input!$H$38335:$H$76760,  Input!$F$38335:$F$76760,Summering!B1721))","v":0}]
[null,{"$f":"IF(Biomasser!A120=\"\",\"\", Biomasser!A120)","v":""},{"$f":"IF(B1722=\"\",0,SUMIFS(Input!$H$38335:$H$76760,  Input!$F$38335:$F$76760,Summering!B1722))","v":0}]
[null,{"$f":"IF(Biomasser!A121=\"\",\"\", Biomasser!A121)","v":""},{"$f":"IF(B1723=\"\",0,SUMIFS(Input!$H$38335:$H$76760,  Input!$F$38335:$F$76760,Summering!B1723))","v":0}]
[null,{"$f":"IF(Biomasser!A122=\"\",\"\", Biomasser!A122)","v":""},{"$f":"IF(B1724=\"\",0,SUMIFS(Input!$H$38335:$H$76760,  Input!$F$38335:$F$76760,Summering!B1724))","v":0}]
[null,{"$f":"IF(Biomasser!A123=\"\",\"\", Biomasser!A123)","v":""},{"$f":"IF(B1725=\"\",0,SUMIFS(Input!$H$38335:$H$76760,  Input!$F$38335:$F$76760,Summering!B1725))","v":0}]
[null,{"$f":"IF(Biomasser!A124=\"\",\"\", Biomasser!A124)","v":""},{"$f":"IF(B1726=\"\",0,SUMIFS(Input!$H$38335:$H$76760,  Input!$F$38335:$F$76760,Summering!B1726))","v":0}]
[null,"Januar",{"$f":"SUM(C1728:C1849)","v":0},{"$f":"SUMIFS(Input!$H$10:$H$76760,Input!$A$10:$A$76760,\"Gas\",Input!$C$10:$C$76760,Summering!$B$1604,Input!$B$10:$B$76760,\"*\"&B1727&\"*\")","v":0}]
[null,{"$f":"IF(Biomasser!A3=\"\",\"\", Biomasser!A3)","v":"Afgrøder (Overskrift, kan ikke vælges)"},{"$f":"IF(B1728=\"\",0,SUMIFS(Input!$H$38335:$H$41585,  Input!$F$38335:$F$41585,Summering!B1728))","v":0}]
[null,{"$f":"IF(Biomasser!A4=\"\",\"\", Biomasser!A4)","v":" -             Majs"},{"$f":"IF(B1729=\"\",0,SUMIFS(Input!$H$38335:$H$41585,  Input!$F$38335:$F$41585,Summering!B1729))","v":0}]
[null,{"$f":"IF(Biomasser!A5=\"\",\"\", Biomasser!A5)","v":" -             Roer"},{"$f":"IF(B1730=\"\",0,SUMIFS(Input!$H$38335:$H$41585,  Input!$F$38335:$F$41585,Summering!B1730))","v":0}]
[null,{"$f":"IF(Biomasser!A6=\"\",\"\", Biomasser!A6)","v":" -             Korn"},{"$f":"IF(B1731=\"\",0,SUMIFS(Input!$H$38335:$H$41585,  Input!$F$38335:$F$41585,Summering!B1731))","v":0}]
[null,{"$f":"IF(Biomasser!A7=\"\",\"\", Biomasser!A7)","v":" -             Græs"},{"$f":"IF(B1732=\"\",0,SUMIFS(Input!$H$38335:$H$41585,  Input!$F$38335:$F$41585,Summering!B1732))","v":0}]
[null,{"$f":"IF(Biomasser!A8=\"\",\"\", Biomasser!A8)","v":" -             Kløvergræs"},{"$f":"IF(B1733=\"\",0,SUMIFS(Input!$H$38335:$H$41585,  Input!$F$38335:$F$41585,Summering!B1733))","v":0}]
[null,{"$f":"IF(Biomasser!A9=\"\",\"\", Biomasser!A9)","v":" -             Jordskokker"},{"$f":"IF(B1734=\"\",0,SUMIFS(Input!$H$38335:$H$41585,  Input!$F$38335:$F$41585,Summering!B1734))","v":0}]
[null,{"$f":"IF(Biomasser!A10=\"\",\"\", Biomasser!A10)","v":" -             Andre afgrøder"},{"$f":"IF(B1735=\"\",0,SUMIFS(Input!$H$38335:$H$41585,  Input!$F$38335:$F$41585,Summering!B1735))","v":0}]
[null,{"$f":"IF(Biomasser!A11=\"\",\"\", Biomasser!A11)","v":" -             Hvedehelsæd"},{"$f":"IF(B1736=\"\",0,SUMIFS(Input!$H$38335:$H$41585,  Input!$F$38335:$F$41585,Summering!B1736))","v":0}]
[null,{"$f":"IF(Biomasser!A12=\"\",\"\", Biomasser!A12)","v":" -             Top af foderroe"},{"$f":"IF(B1737=\"\",0,SUMIFS(Input!$H$38335:$H$41585,  Input!$F$38335:$F$41585,Summering!B1737))","v":0}]
[null,{"$f":"IF(Biomasser!A13=\"\",\"\", Biomasser!A13)","v":" -             Foderroe - rod og top frisk"},{"$f":"IF(B1738=\"\",0,SUMIFS(Input!$H$38335:$H$41585,  Input!$F$38335:$F$41585,Summering!B1738))","v":0}]
[null,{"$f":"IF(Biomasser!A14=\"\",\"\", Biomasser!A14)","v":" -             Økologisk kløvergræs"},{"$f":"IF(B1739=\"\",0,SUMIFS(Input!$H$38335:$H$41585,  Input!$F$38335:$F$41585,Summering!B1739))","v":0}]
[null,{"$f":"IF(Biomasser!A15=\"\",\"\", Biomasser!A15)","v":"Husdyrgødning (Overskrift, kan ikke vælges)"},{"$f":"IF(B1740=\"\",0,SUMIFS(Input!$H$38335:$H$41585,  Input!$F$38335:$F$41585,Summering!B1740))","v":0}]
[null,{"$f":"IF(Biomasser!A16=\"\",\"\", Biomasser!A16)","v":" -             Kvæggylle"},{"$f":"IF(B1741=\"\",0,SUMIFS(Input!$H$38335:$H$41585,  Input!$F$38335:$F$41585,Summering!B1741))","v":0}]
[null,{"$f":"IF(Biomasser!A17=\"\",\"\", Biomasser!A17)","v":" -             Svinegylle"},{"$f":"IF(B1742=\"\",0,SUMIFS(Input!$H$38335:$H$41585,  Input!$F$38335:$F$41585,Summering!B1742))","v":0}]
[null,{"$f":"IF(Biomasser!A18=\"\",\"\", Biomasser!A18)","v":" -             Gylle fra so"},{"$f":"IF(B1743=\"\",0,SUMIFS(Input!$H$38335:$H$41585,  Input!$F$38335:$F$41585,Summering!B1743))","v":0}]
[null,{"$f":"IF(Biomasser!A19=\"\",\"\", Biomasser!A19)","v":" -             Minkgylle"},{"$f":"IF(B1744=\"\",0,SUMIFS(Input!$H$38335:$H$41585,  Input!$F$38335:$F$41585,Summering!B1744))","v":0}]
[null,{"$f":"IF(Biomasser!A20=\"\",\"\", Biomasser!A20)","v":" -             Fjerkrægylle"},{"$f":"IF(B1745=\"\",0,SUMIFS(Input!$H$38335:$H$41585,  Input!$F$38335:$F$41585,Summering!B1745))","v":0}]
[null,{"$f":"IF(Biomasser!A21=\"\",\"\", Biomasser!A21)","v":" -             Blandet gylle"},{"$f":"IF(B1746=\"\",0,SUMIFS(Input!$H$38335:$H$41585,  Input!$F$38335:$F$41585,Summering!B1746))","v":0}]
[null,{"$f":"IF(Biomasser!A22=\"\",\"\", Biomasser!A22)","v":" -             Dybstrøelse - Kvæg"},{"$f":"IF(B1747=\"\",0,SUMIFS(Input!$H$38335:$H$41585,  Input!$F$38335:$F$41585,Summering!B1747))","v":0}]
[null,{"$f":"IF(Biomasser!A23=\"\",\"\", Biomasser!A23)","v":" -             Dybstrøelse - Fjerkræ"},{"$f":"IF(B1748=\"\",0,SUMIFS(Input!$H$38335:$H$41585,  Input!$F$38335:$F$41585,Summering!B1748))","v":0}]
[null,{"$f":"IF(Biomasser!A24=\"\",\"\", Biomasser!A24)","v":" -             Dybstrøelse - Hest"},{"$f":"IF(B1749=\"\",0,SUMIFS(Input!$H$38335:$H$41585,  Input!$F$38335:$F$41585,Summering!B1749))","v":0}]
[null,{"$f":"IF(Biomasser!A25=\"\",\"\", Biomasser!A25)","v":" -             Dybstrøelse - Andre typer"},{"$f":"IF(B1750=\"\",0,SUMIFS(Input!$H$38335:$H$41585,  Input!$F$38335:$F$41585,Summering!B1750))","v":0}]
[null,{"$f":"IF(Biomasser!A26=\"\",\"\", Biomasser!A26)","v":" -             Fast gødning"},{"$f":"IF(B1751=\"\",0,SUMIFS(Input!$H$38335:$H$41585,  Input!$F$38335:$F$41585,Summering!B1751))","v":0}]
[null,{"$f":"IF(Biomasser!A27=\"\",\"\", Biomasser!A27)","v":" -             Ajle"},{"$f":"IF(B1752=\"\",0,SUMIFS(Input!$H$38335:$H$41585,  Input!$F$38335:$F$41585,Summering!B1752))","v":0}]
[null,{"$f":"IF(Biomasser!A28=\"\",\"\", Biomasser!A28)","v":" -             Fiberfraktion"},{"$f":"IF(B1753=\"\",0,SUMIFS(Input!$H$38335:$H$41585,  Input!$F$38335:$F$41585,Summering!B1753))","v":0}]
[null,{"$f":"IF(Biomasser!A29=\"\",\"\", Biomasser!A29)","v":" -             Flydende fraktion fra separationsanlæg"},{"$f":"IF(B1754=\"\",0,SUMIFS(Input!$H$38335:$H$41585,  Input!$F$38335:$F$41585,Summering!B1754))","v":0}]
[null,{"$f":"IF(Biomasser!A30=\"\",\"\", Biomasser!A30)","v":" -             Flydende fraktion"},{"$f":"IF(B1755=\"\",0,SUMIFS(Input!$H$38335:$H$41585,  Input!$F$38335:$F$41585,Summering!B1755))","v":0}]
[null,{"$f":"IF(Biomasser!A31=\"\",\"\", Biomasser!A31)","v":" -             Anden husdyrgødning"},{"$f":"IF(B1756=\"\",0,SUMIFS(Input!$H$38335:$H$41585,  Input!$F$38335:$F$41585,Summering!B1756))","v":0}]
[null,{"$f":"IF(Biomasser!A32=\"\",\"\", Biomasser!A32)","v":" -             Forsuret svinegylle"},{"$f":"IF(B1757=\"\",0,SUMIFS(Input!$H$38335:$H$41585,  Input!$F$38335:$F$41585,Summering!B1757))","v":0}]
[null,{"$f":"IF(Biomasser!A33=\"\",\"\", Biomasser!A33)","v":" -             Dybstrøelse - Svin"},{"$f":"IF(B1758=\"\",0,SUMIFS(Input!$H$38335:$H$41585,  Input!$F$38335:$F$41585,Summering!B1758))","v":0}]
[null,{"$f":"IF(Biomasser!A34=\"\",\"\", Biomasser!A34)","v":" -             Gylle fibre - kemisk separation - Svin"},{"$f":"IF(B1759=\"\",0,SUMIFS(Input!$H$38335:$H$41585,  Input!$F$38335:$F$41585,Summering!B1759))","v":0}]
[null,{"$f":"IF(Biomasser!A35=\"\",\"\", Biomasser!A35)","v":" -             Gylle fibre - dekanter separation - Svin"},{"$f":"IF(B1760=\"\",0,SUMIFS(Input!$H$38335:$H$41585,  Input!$F$38335:$F$41585,Summering!B1760))","v":0}]
[null,{"$f":"IF(Biomasser!A36=\"\",\"\", Biomasser!A36)","v":" -             Staldgødning - Kvæg"},{"$f":"IF(B1761=\"\",0,SUMIFS(Input!$H$38335:$H$41585,  Input!$F$38335:$F$41585,Summering!B1761))","v":0}]
[null,{"$f":"IF(Biomasser!A37=\"\",\"\", Biomasser!A37)","v":" -             Kvæggylle - Årsopdræt 6 mdr."},{"$f":"IF(B1762=\"\",0,SUMIFS(Input!$H$38335:$H$41585,  Input!$F$38335:$F$41585,Summering!B1762))","v":0}]
[null,{"$f":"IF(Biomasser!A38=\"\",\"\", Biomasser!A38)","v":" -             Staldgødning - Fjerkræ"},{"$f":"IF(B1763=\"\",0,SUMIFS(Input!$H$38335:$H$41585,  Input!$F$38335:$F$41585,Summering!B1763))","v":0}]
[null,{"$f":"IF(Biomasser!A39=\"\",\"\", Biomasser!A39)","v":"Slam og spildevand (Overskrift, kan ikke vælges)"},{"$f":"IF(B1764=\"\",0,SUMIFS(Input!$H$38335:$H$41585,  Input!$F$38335:$F$41585,Summering!B1764))","v":0}]
[null,{"$f":"IF(Biomasser!A40=\"\",\"\", Biomasser!A40)","v":" -             Slam og spildevand samt uforurenede produktrester"},{"$f":"IF(B1765=\"\",0,SUMIFS(Input!$H$38335:$H$41585,  Input!$F$38335:$F$41585,Summering!B1765))","v":0}]
[null,{"$f":"IF(Biomasser!A41=\"\",\"\", Biomasser!A41)","v":" -             Slam fra dambrug"},{"$f":"IF(B1766=\"\",0,SUMIFS(Input!$H$38335:$H$41585,  Input!$F$38335:$F$41585,Summering!B1766))","v":0}]
[null,{"$f":"IF(Biomasser!A42=\"\",\"\", Biomasser!A42)","v":" -             Slam fra forarbejdning af animalske råvarer"},{"$f":"IF(B1767=\"\",0,SUMIFS(Input!$H$38335:$H$41585,  Input!$F$38335:$F$41585,Summering!B1767))","v":0}]
[null,{"$f":"IF(Biomasser!A43=\"\",\"\", Biomasser!A43)","v":" -             Spildevandsslam"},{"$f":"IF(B1768=\"\",0,SUMIFS(Input!$H$38335:$H$41585,  Input!$F$38335:$F$41585,Summering!B1768))","v":0}]
[null,{"$f":"IF(Biomasser!A44=\"\",\"\", Biomasser!A44)","v":" -             Proteolyseret processpildevand"},{"$f":"IF(B1769=\"\",0,SUMIFS(Input!$H$38335:$H$41585,  Input!$F$38335:$F$41585,Summering!B1769))","v":0}]
[null,{"$f":"IF(Biomasser!A45=\"\",\"\", Biomasser!A45)","v":" -             Sekundær spildevandsslam"},{"$f":"IF(B1770=\"\",0,SUMIFS(Input!$H$38335:$H$41585,  Input!$F$38335:$F$41585,Summering!B1770))","v":0}]
[null,{"$f":"IF(Biomasser!A46=\"\",\"\", Biomasser!A46)","v":" -             Sekundær spildevandsslam afvandet"},{"$f":"IF(B1771=\"\",0,SUMIFS(Input!$H$38335:$H$41585,  Input!$F$38335:$F$41585,Summering!B1771))","v":0}]
[null,{"$f":"IF(Biomasser!A47=\"\",\"\", Biomasser!A47)","v":"Organisk affald fra husholdninger og erhverv (Overskrift, kan ikke vælges)"},{"$f":"IF(B1772=\"\",0,SUMIFS(Input!$H$38335:$H$41585,  Input!$F$38335:$F$41585,Summering!B1772))","v":0}]
[null,{"$f":"IF(Biomasser!A48=\"\",\"\", Biomasser!A48)","v":" -             Kildesorteret organisk dagrenovation"},{"$f":"IF(B1773=\"\",0,SUMIFS(Input!$H$38335:$H$41585,  Input!$F$38335:$F$41585,Summering!B1773))","v":0}]
[null,{"$f":"IF(Biomasser!A49=\"\",\"\", Biomasser!A49)","v":" -             Organisk husholdningsaffald - Renescience"},{"$f":"IF(B1774=\"\",0,SUMIFS(Input!$H$38335:$H$41585,  Input!$F$38335:$F$41585,Summering!B1774))","v":0}]
[null,{"$f":"IF(Biomasser!A50=\"\",\"\", Biomasser!A50)","v":" -             Organisk husholdningsaffald - Pulper"},{"$f":"IF(B1775=\"\",0,SUMIFS(Input!$H$38335:$H$41585,  Input!$F$38335:$F$41585,Summering!B1775))","v":0}]
[null,{"$f":"IF(Biomasser!A51=\"\",\"\", Biomasser!A51)","v":" -             Organisk husholdningsaffald - Rullesigte"},{"$f":"IF(B1776=\"\",0,SUMIFS(Input!$H$38335:$H$41585,  Input!$F$38335:$F$41585,Summering!B1776))","v":0}]
[null,{"$f":"IF(Biomasser!A52=\"\",\"\", Biomasser!A52)","v":" -             Organisk husholdningsaffald - Skruepresse"},{"$f":"IF(B1777=\"\",0,SUMIFS(Input!$H$38335:$H$41585,  Input!$F$38335:$F$41585,Summering!B1777))","v":0}]
[null,{"$f":"IF(Biomasser!A53=\"\",\"\", Biomasser!A53)","v":" -             Organisk husholdningsaffald - Neddeling"},{"$f":"IF(B1778=\"\",0,SUMIFS(Input!$H$38335:$H$41585,  Input!$F$38335:$F$41585,Summering!B1778))","v":0}]
[null,{"$f":"IF(Biomasser!A54=\"\",\"\", Biomasser!A54)","v":" -             Organisk affald fra erhverv"},{"$f":"IF(B1779=\"\",0,SUMIFS(Input!$H$38335:$H$41585,  Input!$F$38335:$F$41585,Summering!B1779))","v":0}]
[null,{"$f":"IF(Biomasser!A55=\"\",\"\", Biomasser!A55)","v":"Rester og biprodukter fra planter og afgrøder (Overskrift, kan ikke vælges)"},{"$f":"IF(B1780=\"\",0,SUMIFS(Input!$H$38335:$H$41585,  Input!$F$38335:$F$41585,Summering!B1780))","v":0}]
[null,{"$f":"IF(Biomasser!A56=\"\",\"\", Biomasser!A56)","v":" -             Cellulose"},{"$f":"IF(B1781=\"\",0,SUMIFS(Input!$H$38335:$H$41585,  Input!$F$38335:$F$41585,Summering!B1781))","v":0}]
[null,{"$f":"IF(Biomasser!A57=\"\",\"\", Biomasser!A57)","v":" -             Naturpleje biomasse"},{"$f":"IF(B1782=\"\",0,SUMIFS(Input!$H$38335:$H$41585,  Input!$F$38335:$F$41585,Summering!B1782))","v":0}]
[null,{"$f":"IF(Biomasser!A58=\"\",\"\", Biomasser!A58)","v":" -             Halm"},{"$f":"IF(B1783=\"\",0,SUMIFS(Input!$H$38335:$H$41585,  Input!$F$38335:$F$41585,Summering!B1783))","v":0}]
[null,{"$f":"IF(Biomasser!A59=\"\",\"\", Biomasser!A59)","v":" -             Have-park affald"},{"$f":"IF(B1784=\"\",0,SUMIFS(Input!$H$38335:$H$41585,  Input!$F$38335:$F$41585,Summering!B1784))","v":0}]
[null,{"$f":"IF(Biomasser!A60=\"\",\"\", Biomasser!A60)","v":" -             Andre restprodukter fra produktion af primærafgrøder"},{"$f":"IF(B1785=\"\",0,SUMIFS(Input!$H$38335:$H$41585,  Input!$F$38335:$F$41585,Summering!B1785))","v":0}]
[null,{"$f":"IF(Biomasser!A61=\"\",\"\", Biomasser!A61)","v":" -             Kasserede afgrøder"},{"$f":"IF(B1786=\"\",0,SUMIFS(Input!$H$38335:$H$41585,  Input!$F$38335:$F$41585,Summering!B1786))","v":0}]
[null,{"$f":"IF(Biomasser!A62=\"\",\"\", Biomasser!A62)","v":"Rester og biprodukter fra levnesmiddel- og dyrefoderindustrien  (Overskrift, kan ikke vælges)"},{"$f":"IF(B1787=\"\",0,SUMIFS(Input!$H$38335:$H$41585,  Input!$F$38335:$F$41585,Summering!B1787))","v":0}]
[null,{"$f":"IF(Biomasser!A63=\"\",\"\", Biomasser!A63)","v":" -             Animalske biprodukter"},{"$f":"IF(B1788=\"\",0,SUMIFS(Input!$H$38335:$H$41585,  Input!$F$38335:$F$41585,Summering!B1788))","v":0}]
[null,{"$f":"IF(Biomasser!A64=\"\",\"\", Biomasser!A64)","v":" -             Mave/tarm kvæg"},{"$f":"IF(B1789=\"\",0,SUMIFS(Input!$H$38335:$H$41585,  Input!$F$38335:$F$41585,Summering!B1789))","v":0}]
[null,{"$f":"IF(Biomasser!A65=\"\",\"\", Biomasser!A65)","v":" -             Mave/tarm svin"},{"$f":"IF(B1790=\"\",0,SUMIFS(Input!$H$38335:$H$41585,  Input!$F$38335:$F$41585,Summering!B1790))","v":0}]
[null,{"$f":"IF(Biomasser!A66=\"\",\"\", Biomasser!A66)","v":" -             Valle"},{"$f":"IF(B1791=\"\",0,SUMIFS(Input!$H$38335:$H$41585,  Input!$F$38335:$F$41585,Summering!B1791))","v":0}]
[null,{"$f":"IF(Biomasser!A67=\"\",\"\", Biomasser!A67)","v":" -             Valle koncentrat"},{"$f":"IF(B1792=\"\",0,SUMIFS(Input!$H$38335:$H$41585,  Input!$F$38335:$F$41585,Summering!B1792))","v":0}]
[null,{"$f":"IF(Biomasser!A68=\"\",\"\", Biomasser!A68)","v":" -             Protein"},{"$f":"IF(B1793=\"\",0,SUMIFS(Input!$H$38335:$H$41585,  Input!$F$38335:$F$41585,Summering!B1793))","v":0}]
[null,{"$f":"IF(Biomasser!A69=\"\",\"\", Biomasser!A69)","v":" -             Fedt"},{"$f":"IF(B1794=\"\",0,SUMIFS(Input!$H$38335:$H$41585,  Input!$F$38335:$F$41585,Summering!B1794))","v":0}]
[null,{"$f":"IF(Biomasser!A70=\"\",\"\", Biomasser!A70)","v":" -             Vinasse (2,2 pct. kvælstof)"},{"$f":"IF(B1795=\"\",0,SUMIFS(Input!$H$38335:$H$41585,  Input!$F$38335:$F$41585,Summering!B1795))","v":0}]
[null,{"$f":"IF(Biomasser!A71=\"\",\"\", Biomasser!A71)","v":" -             Vinasse (3,5 pct. kvælstof)"},{"$f":"IF(B1796=\"\",0,SUMIFS(Input!$H$38335:$H$41585,  Input!$F$38335:$F$41585,Summering!B1796))","v":0}]
[null,{"$f":"IF(Biomasser!A72=\"\",\"\", Biomasser!A72)","v":" -             Kartoffelfrugtsaft"},{"$f":"IF(B1797=\"\",0,SUMIFS(Input!$H$38335:$H$41585,  Input!$F$38335:$F$41585,Summering!B1797))","v":0}]
[null,{"$f":"IF(Biomasser!A73=\"\",\"\", Biomasser!A73)","v":" -             Glukose"},{"$f":"IF(B1798=\"\",0,SUMIFS(Input!$H$38335:$H$41585,  Input!$F$38335:$F$41585,Summering!B1798))","v":0}]
[null,{"$f":"IF(Biomasser!A74=\"\",\"\", Biomasser!A74)","v":" -             Alkohol"},{"$f":"IF(B1799=\"\",0,SUMIFS(Input!$H$38335:$H$41585,  Input!$F$38335:$F$41585,Summering!B1799))","v":0}]
[null,{"$f":"IF(Biomasser!A75=\"\",\"\", Biomasser!A75)","v":" -             Pressesaft fra grøntpilleproduktion"},{"$f":"IF(B1800=\"\",0,SUMIFS(Input!$H$38335:$H$41585,  Input!$F$38335:$F$41585,Summering!B1800))","v":0}]
[null,{"$f":"IF(Biomasser!A76=\"\",\"\", Biomasser!A76)","v":" -             Inaktiveret og kalkstabiliseret biomasse"},{"$f":"IF(B1801=\"\",0,SUMIFS(Input!$H$38335:$H$41585,  Input!$F$38335:$F$41585,Summering!B1801))","v":0}]
[null,{"$f":"IF(Biomasser!A77=\"\",\"\", Biomasser!A77)","v":"Anden biomasse (Overskrift)"},{"$f":"IF(B1802=\"\",0,SUMIFS(Input!$H$38335:$H$41585,  Input!$F$38335:$F$41585,Summering!B1802))","v":0}]
[null,{"$f":"IF(Biomasser!A78=\"\",\"\", Biomasser!A78)","v":" -             Råglycerin"},{"$f":"IF(B1803=\"\",0,SUMIFS(Input!$H$38335:$H$41585,  Input!$F$38335:$F$41585,Summering!B1803))","v":0}]
[null,{"$f":"IF(Biomasser!A79=\"\",\"\", Biomasser!A79)","v":""},{"$f":"IF(B1804=\"\",0,SUMIFS(Input!$H$38335:$H$41585,  Input!$F$38335:$F$41585,Summering!B1804))","v":0}]
[null,{"$f":"IF(Biomasser!A80=\"\",\"\", Biomasser!A80)","v":""},{"$f":"IF(B1805=\"\",0,SUMIFS(Input!$H$38335:$H$41585,  Input!$F$38335:$F$41585,Summering!B1805))","v":0}]
[null,{"$f":"IF(Biomasser!A81=\"\",\"\", Biomasser!A81)","v":""},{"$f":"IF(B1806=\"\",0,SUMIFS(Input!$H$38335:$H$41585,  Input!$F$38335:$F$41585,Summering!B1806))","v":0}]
[null,{"$f":"IF(Biomasser!A82=\"\",\"\", Biomasser!A82)","v":""},{"$f":"IF(B1807=\"\",0,SUMIFS(Input!$H$38335:$H$41585,  Input!$F$38335:$F$41585,Summering!B1807))","v":0}]
[null,{"$f":"IF(Biomasser!A83=\"\",\"\", Biomasser!A83)","v":""},{"$f":"IF(B1808=\"\",0,SUMIFS(Input!$H$38335:$H$41585,  Input!$F$38335:$F$41585,Summering!B1808))","v":0}]
[null,{"$f":"IF(Biomasser!A84=\"\",\"\", Biomasser!A84)","v":""},{"$f":"IF(B1809=\"\",0,SUMIFS(Input!$H$38335:$H$41585,  Input!$F$38335:$F$41585,Summering!B1809))","v":0}]
[null,{"$f":"IF(Biomasser!A85=\"\",\"\", Biomasser!A85)","v":""},{"$f":"IF(B1810=\"\",0,SUMIFS(Input!$H$38335:$H$41585,  Input!$F$38335:$F$41585,Summering!B1810))","v":0}]
[null,{"$f":"IF(Biomasser!A86=\"\",\"\", Biomasser!A86)","v":""},{"$f":"IF(B1811=\"\",0,SUMIFS(Input!$H$38335:$H$41585,  Input!$F$38335:$F$41585,Summering!B1811))","v":0}]
[null,{"$f":"IF(Biomasser!A87=\"\",\"\", Biomasser!A87)","v":""},{"$f":"IF(B1812=\"\",0,SUMIFS(Input!$H$38335:$H$41585,  Input!$F$38335:$F$41585,Summering!B1812))","v":0}]
[null,{"$f":"IF(Biomasser!A88=\"\",\"\", Biomasser!A88)","v":""},{"$f":"IF(B1813=\"\",0,SUMIFS(Input!$H$38335:$H$41585,  Input!$F$38335:$F$41585,Summering!B1813))","v":0}]
[null,{"$f":"IF(Biomasser!A89=\"\",\"\", Biomasser!A89)","v":""},{"$f":"IF(B1814=\"\",0,SUMIFS(Input!$H$38335:$H$41585,  Input!$F$38335:$F$41585,Summering!B1814))","v":0}]
[null,{"$f":"IF(Biomasser!A90=\"\",\"\", Biomasser!A90)","v":""},{"$f":"IF(B1815=\"\",0,SUMIFS(Input!$H$38335:$H$41585,  Input!$F$38335:$F$41585,Summering!B1815))","v":0}]
[null,{"$f":"IF(Biomasser!A91=\"\",\"\", Biomasser!A91)","v":""},{"$f":"IF(B1816=\"\",0,SUMIFS(Input!$H$38335:$H$41585,  Input!$F$38335:$F$41585,Summering!B1816))","v":0}]
[null,{"$f":"IF(Biomasser!A92=\"\",\"\", Biomasser!A92)","v":""},{"$f":"IF(B1817=\"\",0,SUMIFS(Input!$H$38335:$H$41585,  Input!$F$38335:$F$41585,Summering!B1817))","v":0}]
[null,{"$f":"IF(Biomasser!A93=\"\",\"\", Biomasser!A93)","v":""},{"$f":"IF(B1818=\"\",0,SUMIFS(Input!$H$38335:$H$41585,  Input!$F$38335:$F$41585,Summering!B1818))","v":0}]
[null,{"$f":"IF(Biomasser!A94=\"\",\"\", Biomasser!A94)","v":""},{"$f":"IF(B1819=\"\",0,SUMIFS(Input!$H$38335:$H$41585,  Input!$F$38335:$F$41585,Summering!B1819))","v":0}]
[null,{"$f":"IF(Biomasser!A95=\"\",\"\", Biomasser!A95)","v":""},{"$f":"IF(B1820=\"\",0,SUMIFS(Input!$H$38335:$H$41585,  Input!$F$38335:$F$41585,Summering!B1820))","v":0}]
[null,{"$f":"IF(Biomasser!A96=\"\",\"\", Biomasser!A96)","v":""},{"$f":"IF(B1821=\"\",0,SUMIFS(Input!$H$38335:$H$41585,  Input!$F$38335:$F$41585,Summering!B1821))","v":0}]
[null,{"$f":"IF(Biomasser!A97=\"\",\"\", Biomasser!A97)","v":""},{"$f":"IF(B1822=\"\",0,SUMIFS(Input!$H$38335:$H$41585,  Input!$F$38335:$F$41585,Summering!B1822))","v":0}]
[null,{"$f":"IF(Biomasser!A98=\"\",\"\", Biomasser!A98)","v":""},{"$f":"IF(B1823=\"\",0,SUMIFS(Input!$H$38335:$H$41585,  Input!$F$38335:$F$41585,Summering!B1823))","v":0}]
[null,{"$f":"IF(Biomasser!A99=\"\",\"\", Biomasser!A99)","v":""},{"$f":"IF(B1824=\"\",0,SUMIFS(Input!$H$38335:$H$41585,  Input!$F$38335:$F$41585,Summering!B1824))","v":0}]
[null,{"$f":"IF(Biomasser!A100=\"\",\"\", Biomasser!A100)","v":""},{"$f":"IF(B1825=\"\",0,SUMIFS(Input!$H$38335:$H$41585,  Input!$F$38335:$F$41585,Summering!B1825))","v":0}]
[null,{"$f":"IF(Biomasser!A101=\"\",\"\", Biomasser!A101)","v":""},{"$f":"IF(B1826=\"\",0,SUMIFS(Input!$H$38335:$H$41585,  Input!$F$38335:$F$41585,Summering!B1826))","v":0}]
[null,{"$f":"IF(Biomasser!A102=\"\",\"\", Biomasser!A102)","v":""},{"$f":"IF(B1827=\"\",0,SUMIFS(Input!$H$38335:$H$41585,  Input!$F$38335:$F$41585,Summering!B1827))","v":0}]
[null,{"$f":"IF(Biomasser!A103=\"\",\"\", Biomasser!A103)","v":""},{"$f":"IF(B1828=\"\",0,SUMIFS(Input!$H$38335:$H$41585,  Input!$F$38335:$F$41585,Summering!B1828))","v":0}]
[null,{"$f":"IF(Biomasser!A104=\"\",\"\", Biomasser!A104)","v":""},{"$f":"IF(B1829=\"\",0,SUMIFS(Input!$H$38335:$H$41585,  Input!$F$38335:$F$41585,Summering!B1829))","v":0}]
[null,{"$f":"IF(Biomasser!A105=\"\",\"\", Biomasser!A105)","v":""},{"$f":"IF(B1830=\"\",0,SUMIFS(Input!$H$38335:$H$41585,  Input!$F$38335:$F$41585,Summering!B1830))","v":0}]
[null,{"$f":"IF(Biomasser!A106=\"\",\"\", Biomasser!A106)","v":""},{"$f":"IF(B1831=\"\",0,SUMIFS(Input!$H$38335:$H$41585,  Input!$F$38335:$F$41585,Summering!B1831))","v":0}]
[null,{"$f":"IF(Biomasser!A107=\"\",\"\", Biomasser!A107)","v":""},{"$f":"IF(B1832=\"\",0,SUMIFS(Input!$H$38335:$H$41585,  Input!$F$38335:$F$41585,Summering!B1832))","v":0}]
[null,{"$f":"IF(Biomasser!A108=\"\",\"\", Biomasser!A108)","v":""},{"$f":"IF(B1833=\"\",0,SUMIFS(Input!$H$38335:$H$41585,  Input!$F$38335:$F$41585,Summering!B1833))","v":0}]
[null,{"$f":"IF(Biomasser!A109=\"\",\"\", Biomasser!A109)","v":""},{"$f":"IF(B1834=\"\",0,SUMIFS(Input!$H$38335:$H$41585,  Input!$F$38335:$F$41585,Summering!B1834))","v":0}]
[null,{"$f":"IF(Biomasser!A110=\"\",\"\", Biomasser!A110)","v":""},{"$f":"IF(B1835=\"\",0,SUMIFS(Input!$H$38335:$H$41585,  Input!$F$38335:$F$41585,Summering!B1835))","v":0}]
[null,{"$f":"IF(Biomasser!A111=\"\",\"\", Biomasser!A111)","v":""},{"$f":"IF(B1836=\"\",0,SUMIFS(Input!$H$38335:$H$41585,  Input!$F$38335:$F$41585,Summering!B1836))","v":0}]
[null,{"$f":"IF(Biomasser!A112=\"\",\"\", Biomasser!A112)","v":""},{"$f":"IF(B1837=\"\",0,SUMIFS(Input!$H$38335:$H$41585,  Input!$F$38335:$F$41585,Summering!B1837))","v":0}]
[null,{"$f":"IF(Biomasser!A113=\"\",\"\", Biomasser!A113)","v":""},{"$f":"IF(B1838=\"\",0,SUMIFS(Input!$H$38335:$H$41585,  Input!$F$38335:$F$41585,Summering!B1838))","v":0}]
[null,{"$f":"IF(Biomasser!A114=\"\",\"\", Biomasser!A114)","v":""},{"$f":"IF(B1839=\"\",0,SUMIFS(Input!$H$38335:$H$41585,  Input!$F$38335:$F$41585,Summering!B1839))","v":0}]
[null,{"$f":"IF(Biomasser!A115=\"\",\"\", Biomasser!A115)","v":""},{"$f":"IF(B1840=\"\",0,SUMIFS(Input!$H$38335:$H$41585,  Input!$F$38335:$F$41585,Summering!B1840))","v":0}]
[null,{"$f":"IF(Biomasser!A116=\"\",\"\", Biomasser!A116)","v":""},{"$f":"IF(B1841=\"\",0,SUMIFS(Input!$H$38335:$H$41585,  Input!$F$38335:$F$41585,Summering!B1841))","v":0}]
[null,{"$f":"IF(Biomasser!A117=\"\",\"\", Biomasser!A117)","v":""},{"$f":"IF(B1842=\"\",0,SUMIFS(Input!$H$38335:$H$41585,  Input!$F$38335:$F$41585,Summering!B1842))","v":0}]
[null,{"$f":"IF(Biomasser!A118=\"\",\"\", Biomasser!A118)","v":""},{"$f":"IF(B1843=\"\",0,SUMIFS(Input!$H$38335:$H$41585,  Input!$F$38335:$F$41585,Summering!B1843))","v":0}]
[null,{"$f":"IF(Biomasser!A119=\"\",\"\", Biomasser!A119)","v":""},{"$f":"IF(B1844=\"\",0,SUMIFS(Input!$H$38335:$H$41585,  Input!$F$38335:$F$41585,Summering!B1844))","v":0}]
[null,{"$f":"IF(Biomasser!A120=\"\",\"\", Biomasser!A120)","v":""},{"$f":"IF(B1845=\"\",0,SUMIFS(Input!$H$38335:$H$41585,  Input!$F$38335:$F$41585,Summering!B1845))","v":0}]
[null,{"$f":"IF(Biomasser!A121=\"\",\"\", Biomasser!A121)","v":""},{"$f":"IF(B1846=\"\",0,SUMIFS(Input!$H$38335:$H$41585,  Input!$F$38335:$F$41585,Summering!B1846))","v":0}]
[null,{"$f":"IF(Biomasser!A122=\"\",\"\", Biomasser!A122)","v":""},{"$f":"IF(B1847=\"\",0,SUMIFS(Input!$H$38335:$H$41585,  Input!$F$38335:$F$41585,Summering!B1847))","v":0}]
[null,{"$f":"IF(Biomasser!A123=\"\",\"\", Biomasser!A123)","v":""},{"$f":"IF(B1848=\"\",0,SUMIFS(Input!$H$38335:$H$41585,  Input!$F$38335:$F$41585,Summering!B1848))","v":0}]
[null,{"$f":"IF(Biomasser!A124=\"\",\"\", Biomasser!A124)","v":""},{"$f":"IF(B1849=\"\",0,SUMIFS(Input!$H$38335:$H$41585,  Input!$F$38335:$F$41585,Summering!B1849))","v":0}]
[null,"Februar",{"$f":"SUM(C1851:C1972)","v":0},{"$f":"SUMIFS(Input!$H$10:$H$76760,Input!$A$10:$A$76760,\"Gas\",Input!$C$10:$C$76760,Summering!$B$1604,Input!$B$10:$B$76760,\"*\"&B1850&\"*\")","v":0}]
[null,{"$f":"IF(Biomasser!A3=\"\",\"\", Biomasser!A3)","v":"Afgrøder (Overskrift, kan ikke vælges)"},{"$f":"IF(B1851=\"\",0,SUMIFS(Input!$H$41590:$H$44630,  Input!$F$41590:$F$44630,Summering!B1851))","v":0}]
[null,{"$f":"IF(Biomasser!A4=\"\",\"\", Biomasser!A4)","v":" -             Majs"},{"$f":"IF(B1852=\"\",0,SUMIFS(Input!$H$41590:$H$44630,  Input!$F$41590:$F$44630,Summering!B1852))","v":0}]
[null,{"$f":"IF(Biomasser!A5=\"\",\"\", Biomasser!A5)","v":" -             Roer"},{"$f":"IF(B1853=\"\",0,SUMIFS(Input!$H$41590:$H$44630,  Input!$F$41590:$F$44630,Summering!B1853))","v":0}]
[null,{"$f":"IF(Biomasser!A6=\"\",\"\", Biomasser!A6)","v":" -             Korn"},{"$f":"IF(B1854=\"\",0,SUMIFS(Input!$H$41590:$H$44630,  Input!$F$41590:$F$44630,Summering!B1854))","v":0}]
[null,{"$f":"IF(Biomasser!A7=\"\",\"\", Biomasser!A7)","v":" -             Græs"},{"$f":"IF(B1855=\"\",0,SUMIFS(Input!$H$41590:$H$44630,  Input!$F$41590:$F$44630,Summering!B1855))","v":0}]
[null,{"$f":"IF(Biomasser!A8=\"\",\"\", Biomasser!A8)","v":" -             Kløvergræs"},{"$f":"IF(B1856=\"\",0,SUMIFS(Input!$H$41590:$H$44630,  Input!$F$41590:$F$44630,Summering!B1856))","v":0}]
[null,{"$f":"IF(Biomasser!A9=\"\",\"\", Biomasser!A9)","v":" -             Jordskokker"},{"$f":"IF(B1857=\"\",0,SUMIFS(Input!$H$41590:$H$44630,  Input!$F$41590:$F$44630,Summering!B1857))","v":0}]
[null,{"$f":"IF(Biomasser!A10=\"\",\"\", Biomasser!A10)","v":" -             Andre afgrøder"},{"$f":"IF(B1858=\"\",0,SUMIFS(Input!$H$41590:$H$44630,  Input!$F$41590:$F$44630,Summering!B1858))","v":0}]
[null,{"$f":"IF(Biomasser!A11=\"\",\"\", Biomasser!A11)","v":" -             Hvedehelsæd"},{"$f":"IF(B1859=\"\",0,SUMIFS(Input!$H$41590:$H$44630,  Input!$F$41590:$F$44630,Summering!B1859))","v":0}]
[null,{"$f":"IF(Biomasser!A12=\"\",\"\", Biomasser!A12)","v":" -             Top af foderroe"},{"$f":"IF(B1860=\"\",0,SUMIFS(Input!$H$41590:$H$44630,  Input!$F$41590:$F$44630,Summering!B1860))","v":0}]
[null,{"$f":"IF(Biomasser!A13=\"\",\"\", Biomasser!A13)","v":" -             Foderroe - rod og top frisk"},{"$f":"IF(B1861=\"\",0,SUMIFS(Input!$H$41590:$H$44630,  Input!$F$41590:$F$44630,Summering!B1861))","v":0}]
[null,{"$f":"IF(Biomasser!A14=\"\",\"\", Biomasser!A14)","v":" -             Økologisk kløvergræs"},{"$f":"IF(B1862=\"\",0,SUMIFS(Input!$H$41590:$H$44630,  Input!$F$41590:$F$44630,Summering!B1862))","v":0}]
[null,{"$f":"IF(Biomasser!A15=\"\",\"\", Biomasser!A15)","v":"Husdyrgødning (Overskrift, kan ikke vælges)"},{"$f":"IF(B1863=\"\",0,SUMIFS(Input!$H$41590:$H$44630,  Input!$F$41590:$F$44630,Summering!B1863))","v":0}]
[null,{"$f":"IF(Biomasser!A16=\"\",\"\", Biomasser!A16)","v":" -             Kvæggylle"},{"$f":"IF(B1864=\"\",0,SUMIFS(Input!$H$41590:$H$44630,  Input!$F$41590:$F$44630,Summering!B1864))","v":0}]
[null,{"$f":"IF(Biomasser!A17=\"\",\"\", Biomasser!A17)","v":" -             Svinegylle"},{"$f":"IF(B1865=\"\",0,SUMIFS(Input!$H$41590:$H$44630,  Input!$F$41590:$F$44630,Summering!B1865))","v":0}]
[null,{"$f":"IF(Biomasser!A18=\"\",\"\", Biomasser!A18)","v":" -             Gylle fra so"},{"$f":"IF(B1866=\"\",0,SUMIFS(Input!$H$41590:$H$44630,  Input!$F$41590:$F$44630,Summering!B1866))","v":0}]
[null,{"$f":"IF(Biomasser!A19=\"\",\"\", Biomasser!A19)","v":" -             Minkgylle"},{"$f":"IF(B1867=\"\",0,SUMIFS(Input!$H$41590:$H$44630,  Input!$F$41590:$F$44630,Summering!B1867))","v":0}]
[null,{"$f":"IF(Biomasser!A20=\"\",\"\", Biomasser!A20)","v":" -             Fjerkrægylle"},{"$f":"IF(B1868=\"\",0,SUMIFS(Input!$H$41590:$H$44630,  Input!$F$41590:$F$44630,Summering!B1868))","v":0}]
[null,{"$f":"IF(Biomasser!A21=\"\",\"\", Biomasser!A21)","v":" -             Blandet gylle"},{"$f":"IF(B1869=\"\",0,SUMIFS(Input!$H$41590:$H$44630,  Input!$F$41590:$F$44630,Summering!B1869))","v":0}]
[null,{"$f":"IF(Biomasser!A22=\"\",\"\", Biomasser!A22)","v":" -             Dybstrøelse - Kvæg"},{"$f":"IF(B1870=\"\",0,SUMIFS(Input!$H$41590:$H$44630,  Input!$F$41590:$F$44630,Summering!B1870))","v":0}]
[null,{"$f":"IF(Biomasser!A23=\"\",\"\", Biomasser!A23)","v":" -             Dybstrøelse - Fjerkræ"},{"$f":"IF(B1871=\"\",0,SUMIFS(Input!$H$41590:$H$44630,  Input!$F$41590:$F$44630,Summering!B1871))","v":0}]
[null,{"$f":"IF(Biomasser!A24=\"\",\"\", Biomasser!A24)","v":" -             Dybstrøelse - Hest"},{"$f":"IF(B1872=\"\",0,SUMIFS(Input!$H$41590:$H$44630,  Input!$F$41590:$F$44630,Summering!B1872))","v":0}]
[null,{"$f":"IF(Biomasser!A25=\"\",\"\", Biomasser!A25)","v":" -             Dybstrøelse - Andre typer"},{"$f":"IF(B1873=\"\",0,SUMIFS(Input!$H$41590:$H$44630,  Input!$F$41590:$F$44630,Summering!B1873))","v":0}]
[null,{"$f":"IF(Biomasser!A26=\"\",\"\", Biomasser!A26)","v":" -             Fast gødning"},{"$f":"IF(B1874=\"\",0,SUMIFS(Input!$H$41590:$H$44630,  Input!$F$41590:$F$44630,Summering!B1874))","v":0}]
[null,{"$f":"IF(Biomasser!A27=\"\",\"\", Biomasser!A27)","v":" -             Ajle"},{"$f":"IF(B1875=\"\",0,SUMIFS(Input!$H$41590:$H$44630,  Input!$F$41590:$F$44630,Summering!B1875))","v":0}]
[null,{"$f":"IF(Biomasser!A28=\"\",\"\", Biomasser!A28)","v":" -             Fiberfraktion"},{"$f":"IF(B1876=\"\",0,SUMIFS(Input!$H$41590:$H$44630,  Input!$F$41590:$F$44630,Summering!B1876))","v":0}]
[null,{"$f":"IF(Biomasser!A29=\"\",\"\", Biomasser!A29)","v":" -             Flydende fraktion fra separationsanlæg"},{"$f":"IF(B1877=\"\",0,SUMIFS(Input!$H$41590:$H$44630,  Input!$F$41590:$F$44630,Summering!B1877))","v":0}]
[null,{"$f":"IF(Biomasser!A30=\"\",\"\", Biomasser!A30)","v":" -             Flydende fraktion"},{"$f":"IF(B1878=\"\",0,SUMIFS(Input!$H$41590:$H$44630,  Input!$F$41590:$F$44630,Summering!B1878))","v":0}]
[null,{"$f":"IF(Biomasser!A31=\"\",\"\", Biomasser!A31)","v":" -             Anden husdyrgødning"},{"$f":"IF(B1879=\"\",0,SUMIFS(Input!$H$41590:$H$44630,  Input!$F$41590:$F$44630,Summering!B1879))","v":0}]
[null,{"$f":"IF(Biomasser!A32=\"\",\"\", Biomasser!A32)","v":" -             Forsuret svinegylle"},{"$f":"IF(B1880=\"\",0,SUMIFS(Input!$H$41590:$H$44630,  Input!$F$41590:$F$44630,Summering!B1880))","v":0}]
[null,{"$f":"IF(Biomasser!A33=\"\",\"\", Biomasser!A33)","v":" -             Dybstrøelse - Svin"},{"$f":"IF(B1881=\"\",0,SUMIFS(Input!$H$41590:$H$44630,  Input!$F$41590:$F$44630,Summering!B1881))","v":0}]
[null,{"$f":"IF(Biomasser!A34=\"\",\"\", Biomasser!A34)","v":" -             Gylle fibre - kemisk separation - Svin"},{"$f":"IF(B1882=\"\",0,SUMIFS(Input!$H$41590:$H$44630,  Input!$F$41590:$F$44630,Summering!B1882))","v":0}]
[null,{"$f":"IF(Biomasser!A35=\"\",\"\", Biomasser!A35)","v":" -             Gylle fibre - dekanter separation - Svin"},{"$f":"IF(B1883=\"\",0,SUMIFS(Input!$H$41590:$H$44630,  Input!$F$41590:$F$44630,Summering!B1883))","v":0}]
[null,{"$f":"IF(Biomasser!A36=\"\",\"\", Biomasser!A36)","v":" -             Staldgødning - Kvæg"},{"$f":"IF(B1884=\"\",0,SUMIFS(Input!$H$41590:$H$44630,  Input!$F$41590:$F$44630,Summering!B1884))","v":0}]
[null,{"$f":"IF(Biomasser!A37=\"\",\"\", Biomasser!A37)","v":" -             Kvæggylle - Årsopdræt 6 mdr."},{"$f":"IF(B1885=\"\",0,SUMIFS(Input!$H$41590:$H$44630,  Input!$F$41590:$F$44630,Summering!B1885))","v":0}]
[null,{"$f":"IF(Biomasser!A38=\"\",\"\", Biomasser!A38)","v":" -             Staldgødning - Fjerkræ"},{"$f":"IF(B1886=\"\",0,SUMIFS(Input!$H$41590:$H$44630,  Input!$F$41590:$F$44630,Summering!B1886))","v":0}]
[null,{"$f":"IF(Biomasser!A39=\"\",\"\", Biomasser!A39)","v":"Slam og spildevand (Overskrift, kan ikke vælges)"},{"$f":"IF(B1887=\"\",0,SUMIFS(Input!$H$41590:$H$44630,  Input!$F$41590:$F$44630,Summering!B1887))","v":0}]
[null,{"$f":"IF(Biomasser!A40=\"\",\"\", Biomasser!A40)","v":" -             Slam og spildevand samt uforurenede produktrester"},{"$f":"IF(B1888=\"\",0,SUMIFS(Input!$H$41590:$H$44630,  Input!$F$41590:$F$44630,Summering!B1888))","v":0}]
[null,{"$f":"IF(Biomasser!A41=\"\",\"\", Biomasser!A41)","v":" -             Slam fra dambrug"},{"$f":"IF(B1889=\"\",0,SUMIFS(Input!$H$41590:$H$44630,  Input!$F$41590:$F$44630,Summering!B1889))","v":0}]
[null,{"$f":"IF(Biomasser!A42=\"\",\"\", Biomasser!A42)","v":" -             Slam fra forarbejdning af animalske råvarer"},{"$f":"IF(B1890=\"\",0,SUMIFS(Input!$H$41590:$H$44630,  Input!$F$41590:$F$44630,Summering!B1890))","v":0}]
[null,{"$f":"IF(Biomasser!A43=\"\",\"\", Biomasser!A43)","v":" -             Spildevandsslam"},{"$f":"IF(B1891=\"\",0,SUMIFS(Input!$H$41590:$H$44630,  Input!$F$41590:$F$44630,Summering!B1891))","v":0}]
[null,{"$f":"IF(Biomasser!A44=\"\",\"\", Biomasser!A44)","v":" -             Proteolyseret processpildevand"},{"$f":"IF(B1892=\"\",0,SUMIFS(Input!$H$41590:$H$44630,  Input!$F$41590:$F$44630,Summering!B1892))","v":0}]
[null,{"$f":"IF(Biomasser!A45=\"\",\"\", Biomasser!A45)","v":" -             Sekundær spildevandsslam"},{"$f":"IF(B1893=\"\",0,SUMIFS(Input!$H$41590:$H$44630,  Input!$F$41590:$F$44630,Summering!B1893))","v":0}]
[null,{"$f":"IF(Biomasser!A46=\"\",\"\", Biomasser!A46)","v":" -             Sekundær spildevandsslam afvandet"},{"$f":"IF(B1894=\"\",0,SUMIFS(Input!$H$41590:$H$44630,  Input!$F$41590:$F$44630,Summering!B1894))","v":0}]
[null,{"$f":"IF(Biomasser!A47=\"\",\"\", Biomasser!A47)","v":"Organisk affald fra husholdninger og erhverv (Overskrift, kan ikke vælges)"},{"$f":"IF(B1895=\"\",0,SUMIFS(Input!$H$41590:$H$44630,  Input!$F$41590:$F$44630,Summering!B1895))","v":0}]
[null,{"$f":"IF(Biomasser!A48=\"\",\"\", Biomasser!A48)","v":" -             Kildesorteret organisk dagrenovation"},{"$f":"IF(B1896=\"\",0,SUMIFS(Input!$H$41590:$H$44630,  Input!$F$41590:$F$44630,Summering!B1896))","v":0}]
[null,{"$f":"IF(Biomasser!A49=\"\",\"\", Biomasser!A49)","v":" -             Organisk husholdningsaffald - Renescience"},{"$f":"IF(B1897=\"\",0,SUMIFS(Input!$H$41590:$H$44630,  Input!$F$41590:$F$44630,Summering!B1897))","v":0}]
[null,{"$f":"IF(Biomasser!A50=\"\",\"\", Biomasser!A50)","v":" -             Organisk husholdningsaffald - Pulper"},{"$f":"IF(B1898=\"\",0,SUMIFS(Input!$H$41590:$H$44630,  Input!$F$41590:$F$44630,Summering!B1898))","v":0}]
[null,{"$f":"IF(Biomasser!A51=\"\",\"\", Biomasser!A51)","v":" -             Organisk husholdningsaffald - Rullesigte"},{"$f":"IF(B1899=\"\",0,SUMIFS(Input!$H$41590:$H$44630,  Input!$F$41590:$F$44630,Summering!B1899))","v":0}]
[null,{"$f":"IF(Biomasser!A52=\"\",\"\", Biomasser!A52)","v":" -             Organisk husholdningsaffald - Skruepresse"},{"$f":"IF(B1900=\"\",0,SUMIFS(Input!$H$41590:$H$44630,  Input!$F$41590:$F$44630,Summering!B1900))","v":0}]
[null,{"$f":"IF(Biomasser!A53=\"\",\"\", Biomasser!A53)","v":" -             Organisk husholdningsaffald - Neddeling"},{"$f":"IF(B1901=\"\",0,SUMIFS(Input!$H$41590:$H$44630,  Input!$F$41590:$F$44630,Summering!B1901))","v":0}]
[null,{"$f":"IF(Biomasser!A54=\"\",\"\", Biomasser!A54)","v":" -             Organisk affald fra erhverv"},{"$f":"IF(B1902=\"\",0,SUMIFS(Input!$H$41590:$H$44630,  Input!$F$41590:$F$44630,Summering!B1902))","v":0}]
[null,{"$f":"IF(Biomasser!A55=\"\",\"\", Biomasser!A55)","v":"Rester og biprodukter fra planter og afgrøder (Overskrift, kan ikke vælges)"},{"$f":"IF(B1903=\"\",0,SUMIFS(Input!$H$41590:$H$44630,  Input!$F$41590:$F$44630,Summering!B1903))","v":0}]
[null,{"$f":"IF(Biomasser!A56=\"\",\"\", Biomasser!A56)","v":" -             Cellulose"},{"$f":"IF(B1904=\"\",0,SUMIFS(Input!$H$41590:$H$44630,  Input!$F$41590:$F$44630,Summering!B1904))","v":0}]
[null,{"$f":"IF(Biomasser!A57=\"\",\"\", Biomasser!A57)","v":" -             Naturpleje biomasse"},{"$f":"IF(B1905=\"\",0,SUMIFS(Input!$H$41590:$H$44630,  Input!$F$41590:$F$44630,Summering!B1905))","v":0}]
[null,{"$f":"IF(Biomasser!A58=\"\",\"\", Biomasser!A58)","v":" -             Halm"},{"$f":"IF(B1906=\"\",0,SUMIFS(Input!$H$41590:$H$44630,  Input!$F$41590:$F$44630,Summering!B1906))","v":0}]
[null,{"$f":"IF(Biomasser!A59=\"\",\"\", Biomasser!A59)","v":" -             Have-park affald"},{"$f":"IF(B1907=\"\",0,SUMIFS(Input!$H$41590:$H$44630,  Input!$F$41590:$F$44630,Summering!B1907))","v":0}]
[null,{"$f":"IF(Biomasser!A60=\"\",\"\", Biomasser!A60)","v":" -             Andre restprodukter fra produktion af primærafgrøder"},{"$f":"IF(B1908=\"\",0,SUMIFS(Input!$H$41590:$H$44630,  Input!$F$41590:$F$44630,Summering!B1908))","v":0}]
[null,{"$f":"IF(Biomasser!A61=\"\",\"\", Biomasser!A61)","v":" -             Kasserede afgrøder"},{"$f":"IF(B1909=\"\",0,SUMIFS(Input!$H$41590:$H$44630,  Input!$F$41590:$F$44630,Summering!B1909))","v":0}]
[null,{"$f":"IF(Biomasser!A62=\"\",\"\", Biomasser!A62)","v":"Rester og biprodukter fra levnesmiddel- og dyrefoderindustrien  (Overskrift, kan ikke vælges)"},{"$f":"IF(B1910=\"\",0,SUMIFS(Input!$H$41590:$H$44630,  Input!$F$41590:$F$44630,Summering!B1910))","v":0}]
[null,{"$f":"IF(Biomasser!A63=\"\",\"\", Biomasser!A63)","v":" -             Animalske biprodukter"},{"$f":"IF(B1911=\"\",0,SUMIFS(Input!$H$41590:$H$44630,  Input!$F$41590:$F$44630,Summering!B1911))","v":0}]
[null,{"$f":"IF(Biomasser!A64=\"\",\"\", Biomasser!A64)","v":" -             Mave/tarm kvæg"},{"$f":"IF(B1912=\"\",0,SUMIFS(Input!$H$41590:$H$44630,  Input!$F$41590:$F$44630,Summering!B1912))","v":0}]
[null,{"$f":"IF(Biomasser!A65=\"\",\"\", Biomasser!A65)","v":" -             Mave/tarm svin"},{"$f":"IF(B1913=\"\",0,SUMIFS(Input!$H$41590:$H$44630,  Input!$F$41590:$F$44630,Summering!B1913))","v":0}]
[null,{"$f":"IF(Biomasser!A66=\"\",\"\", Biomasser!A66)","v":" -             Valle"},{"$f":"IF(B1914=\"\",0,SUMIFS(Input!$H$41590:$H$44630,  Input!$F$41590:$F$44630,Summering!B1914))","v":0}]
[null,{"$f":"IF(Biomasser!A67=\"\",\"\", Biomasser!A67)","v":" -             Valle koncentrat"},{"$f":"IF(B1915=\"\",0,SUMIFS(Input!$H$41590:$H$44630,  Input!$F$41590:$F$44630,Summering!B1915))","v":0}]
[null,{"$f":"IF(Biomasser!A68=\"\",\"\", Biomasser!A68)","v":" -             Protein"},{"$f":"IF(B1916=\"\",0,SUMIFS(Input!$H$41590:$H$44630,  Input!$F$41590:$F$44630,Summering!B1916))","v":0}]
[null,{"$f":"IF(Biomasser!A69=\"\",\"\", Biomasser!A69)","v":" -             Fedt"},{"$f":"IF(B1917=\"\",0,SUMIFS(Input!$H$41590:$H$44630,  Input!$F$41590:$F$44630,Summering!B1917))","v":0}]
[null,{"$f":"IF(Biomasser!A70=\"\",\"\", Biomasser!A70)","v":" -             Vinasse (2,2 pct. kvælstof)"},{"$f":"IF(B1918=\"\",0,SUMIFS(Input!$H$41590:$H$44630,  Input!$F$41590:$F$44630,Summering!B1918))","v":0}]
[null,{"$f":"IF(Biomasser!A71=\"\",\"\", Biomasser!A71)","v":" -             Vinasse (3,5 pct. kvælstof)"},{"$f":"IF(B1919=\"\",0,SUMIFS(Input!$H$41590:$H$44630,  Input!$F$41590:$F$44630,Summering!B1919))","v":0}]
[null,{"$f":"IF(Biomasser!A72=\"\",\"\", Biomasser!A72)","v":" -             Kartoffelfrugtsaft"},{"$f":"IF(B1920=\"\",0,SUMIFS(Input!$H$41590:$H$44630,  Input!$F$41590:$F$44630,Summering!B1920))","v":0}]
[null,{"$f":"IF(Biomasser!A73=\"\",\"\", Biomasser!A73)","v":" -             Glukose"},{"$f":"IF(B1921=\"\",0,SUMIFS(Input!$H$41590:$H$44630,  Input!$F$41590:$F$44630,Summering!B1921))","v":0}]
[null,{"$f":"IF(Biomasser!A74=\"\",\"\", Biomasser!A74)","v":" -             Alkohol"},{"$f":"IF(B1922=\"\",0,SUMIFS(Input!$H$41590:$H$44630,  Input!$F$41590:$F$44630,Summering!B1922))","v":0}]
[null,{"$f":"IF(Biomasser!A75=\"\",\"\", Biomasser!A75)","v":" -             Pressesaft fra grøntpilleproduktion"},{"$f":"IF(B1923=\"\",0,SUMIFS(Input!$H$41590:$H$44630,  Input!$F$41590:$F$44630,Summering!B1923))","v":0}]
[null,{"$f":"IF(Biomasser!A76=\"\",\"\", Biomasser!A76)","v":" -             Inaktiveret og kalkstabiliseret biomasse"},{"$f":"IF(B1924=\"\",0,SUMIFS(Input!$H$41590:$H$44630,  Input!$F$41590:$F$44630,Summering!B1924))","v":0}]
[null,{"$f":"IF(Biomasser!A77=\"\",\"\", Biomasser!A77)","v":"Anden biomasse (Overskrift)"},{"$f":"IF(B1925=\"\",0,SUMIFS(Input!$H$41590:$H$44630,  Input!$F$41590:$F$44630,Summering!B1925))","v":0}]
[null,{"$f":"IF(Biomasser!A78=\"\",\"\", Biomasser!A78)","v":" -             Råglycerin"},{"$f":"IF(B1926=\"\",0,SUMIFS(Input!$H$41590:$H$44630,  Input!$F$41590:$F$44630,Summering!B1926))","v":0}]
[null,{"$f":"IF(Biomasser!A79=\"\",\"\", Biomasser!A79)","v":""},{"$f":"IF(B1927=\"\",0,SUMIFS(Input!$H$41590:$H$44630,  Input!$F$41590:$F$44630,Summering!B1927))","v":0}]
[null,{"$f":"IF(Biomasser!A80=\"\",\"\", Biomasser!A80)","v":""},{"$f":"IF(B1928=\"\",0,SUMIFS(Input!$H$41590:$H$44630,  Input!$F$41590:$F$44630,Summering!B1928))","v":0}]
[null,{"$f":"IF(Biomasser!A81=\"\",\"\", Biomasser!A81)","v":""},{"$f":"IF(B1929=\"\",0,SUMIFS(Input!$H$41590:$H$44630,  Input!$F$41590:$F$44630,Summering!B1929))","v":0}]
[null,{"$f":"IF(Biomasser!A82=\"\",\"\", Biomasser!A82)","v":""},{"$f":"IF(B1930=\"\",0,SUMIFS(Input!$H$41590:$H$44630,  Input!$F$41590:$F$44630,Summering!B1930))","v":0}]
[null,{"$f":"IF(Biomasser!A83=\"\",\"\", Biomasser!A83)","v":""},{"$f":"IF(B1931=\"\",0,SUMIFS(Input!$H$41590:$H$44630,  Input!$F$41590:$F$44630,Summering!B1931))","v":0}]
[null,{"$f":"IF(Biomasser!A84=\"\",\"\", Biomasser!A84)","v":""},{"$f":"IF(B1932=\"\",0,SUMIFS(Input!$H$41590:$H$44630,  Input!$F$41590:$F$44630,Summering!B1932))","v":0}]
[null,{"$f":"IF(Biomasser!A85=\"\",\"\", Biomasser!A85)","v":""},{"$f":"IF(B1933=\"\",0,SUMIFS(Input!$H$41590:$H$44630,  Input!$F$41590:$F$44630,Summering!B1933))","v":0}]
[null,{"$f":"IF(Biomasser!A86=\"\",\"\", Biomasser!A86)","v":""},{"$f":"IF(B1934=\"\",0,SUMIFS(Input!$H$41590:$H$44630,  Input!$F$41590:$F$44630,Summering!B1934))","v":0}]
[null,{"$f":"IF(Biomasser!A87=\"\",\"\", Biomasser!A87)","v":""},{"$f":"IF(B1935=\"\",0,SUMIFS(Input!$H$41590:$H$44630,  Input!$F$41590:$F$44630,Summering!B1935))","v":0}]
[null,{"$f":"IF(Biomasser!A88=\"\",\"\", Biomasser!A88)","v":""},{"$f":"IF(B1936=\"\",0,SUMIFS(Input!$H$41590:$H$44630,  Input!$F$41590:$F$44630,Summering!B1936))","v":0}]
[null,{"$f":"IF(Biomasser!A89=\"\",\"\", Biomasser!A89)","v":""},{"$f":"IF(B1937=\"\",0,SUMIFS(Input!$H$41590:$H$44630,  Input!$F$41590:$F$44630,Summering!B1937))","v":0}]
[null,{"$f":"IF(Biomasser!A90=\"\",\"\", Biomasser!A90)","v":""},{"$f":"IF(B1938=\"\",0,SUMIFS(Input!$H$41590:$H$44630,  Input!$F$41590:$F$44630,Summering!B1938))","v":0}]
[null,{"$f":"IF(Biomasser!A91=\"\",\"\", Biomasser!A91)","v":""},{"$f":"IF(B1939=\"\",0,SUMIFS(Input!$H$41590:$H$44630,  Input!$F$41590:$F$44630,Summering!B1939))","v":0}]
[null,{"$f":"IF(Biomasser!A92=\"\",\"\", Biomasser!A92)","v":""},{"$f":"IF(B1940=\"\",0,SUMIFS(Input!$H$41590:$H$44630,  Input!$F$41590:$F$44630,Summering!B1940))","v":0}]
[null,{"$f":"IF(Biomasser!A93=\"\",\"\", Biomasser!A93)","v":""},{"$f":"IF(B1941=\"\",0,SUMIFS(Input!$H$41590:$H$44630,  Input!$F$41590:$F$44630,Summering!B1941))","v":0}]
[null,{"$f":"IF(Biomasser!A94=\"\",\"\", Biomasser!A94)","v":""},{"$f":"IF(B1942=\"\",0,SUMIFS(Input!$H$41590:$H$44630,  Input!$F$41590:$F$44630,Summering!B1942))","v":0}]
[null,{"$f":"IF(Biomasser!A95=\"\",\"\", Biomasser!A95)","v":""},{"$f":"IF(B1943=\"\",0,SUMIFS(Input!$H$41590:$H$44630,  Input!$F$41590:$F$44630,Summering!B1943))","v":0}]
[null,{"$f":"IF(Biomasser!A96=\"\",\"\", Biomasser!A96)","v":""},{"$f":"IF(B1944=\"\",0,SUMIFS(Input!$H$41590:$H$44630,  Input!$F$41590:$F$44630,Summering!B1944))","v":0}]
[null,{"$f":"IF(Biomasser!A97=\"\",\"\", Biomasser!A97)","v":""},{"$f":"IF(B1945=\"\",0,SUMIFS(Input!$H$41590:$H$44630,  Input!$F$41590:$F$44630,Summering!B1945))","v":0}]
[null,{"$f":"IF(Biomasser!A98=\"\",\"\", Biomasser!A98)","v":""},{"$f":"IF(B1946=\"\",0,SUMIFS(Input!$H$41590:$H$44630,  Input!$F$41590:$F$44630,Summering!B1946))","v":0}]
[null,{"$f":"IF(Biomasser!A99=\"\",\"\", Biomasser!A99)","v":""},{"$f":"IF(B1947=\"\",0,SUMIFS(Input!$H$41590:$H$44630,  Input!$F$41590:$F$44630,Summering!B1947))","v":0}]
[null,{"$f":"IF(Biomasser!A100=\"\",\"\", Biomasser!A100)","v":""},{"$f":"IF(B1948=\"\",0,SUMIFS(Input!$H$41590:$H$44630,  Input!$F$41590:$F$44630,Summering!B1948))","v":0}]
[null,{"$f":"IF(Biomasser!A101=\"\",\"\", Biomasser!A101)","v":""},{"$f":"IF(B1949=\"\",0,SUMIFS(Input!$H$41590:$H$44630,  Input!$F$41590:$F$44630,Summering!B1949))","v":0}]
[null,{"$f":"IF(Biomasser!A102=\"\",\"\", Biomasser!A102)","v":""},{"$f":"IF(B1950=\"\",0,SUMIFS(Input!$H$41590:$H$44630,  Input!$F$41590:$F$44630,Summering!B1950))","v":0}]
[null,{"$f":"IF(Biomasser!A103=\"\",\"\", Biomasser!A103)","v":""},{"$f":"IF(B1951=\"\",0,SUMIFS(Input!$H$41590:$H$44630,  Input!$F$41590:$F$44630,Summering!B1951))","v":0}]
[null,{"$f":"IF(Biomasser!A104=\"\",\"\", Biomasser!A104)","v":""},{"$f":"IF(B1952=\"\",0,SUMIFS(Input!$H$41590:$H$44630,  Input!$F$41590:$F$44630,Summering!B1952))","v":0}]
[null,{"$f":"IF(Biomasser!A105=\"\",\"\", Biomasser!A105)","v":""},{"$f":"IF(B1953=\"\",0,SUMIFS(Input!$H$41590:$H$44630,  Input!$F$41590:$F$44630,Summering!B1953))","v":0}]
[null,{"$f":"IF(Biomasser!A106=\"\",\"\", Biomasser!A106)","v":""},{"$f":"IF(B1954=\"\",0,SUMIFS(Input!$H$41590:$H$44630,  Input!$F$41590:$F$44630,Summering!B1954))","v":0}]
[null,{"$f":"IF(Biomasser!A107=\"\",\"\", Biomasser!A107)","v":""},{"$f":"IF(B1955=\"\",0,SUMIFS(Input!$H$41590:$H$44630,  Input!$F$41590:$F$44630,Summering!B1955))","v":0}]
[null,{"$f":"IF(Biomasser!A108=\"\",\"\", Biomasser!A108)","v":""},{"$f":"IF(B1956=\"\",0,SUMIFS(Input!$H$41590:$H$44630,  Input!$F$41590:$F$44630,Summering!B1956))","v":0}]
[null,{"$f":"IF(Biomasser!A109=\"\",\"\", Biomasser!A109)","v":""},{"$f":"IF(B1957=\"\",0,SUMIFS(Input!$H$41590:$H$44630,  Input!$F$41590:$F$44630,Summering!B1957))","v":0}]
[null,{"$f":"IF(Biomasser!A110=\"\",\"\", Biomasser!A110)","v":""},{"$f":"IF(B1958=\"\",0,SUMIFS(Input!$H$41590:$H$44630,  Input!$F$41590:$F$44630,Summering!B1958))","v":0}]
[null,{"$f":"IF(Biomasser!A111=\"\",\"\", Biomasser!A111)","v":""},{"$f":"IF(B1959=\"\",0,SUMIFS(Input!$H$41590:$H$44630,  Input!$F$41590:$F$44630,Summering!B1959))","v":0}]
[null,{"$f":"IF(Biomasser!A112=\"\",\"\", Biomasser!A112)","v":""},{"$f":"IF(B1960=\"\",0,SUMIFS(Input!$H$41590:$H$44630,  Input!$F$41590:$F$44630,Summering!B1960))","v":0}]
[null,{"$f":"IF(Biomasser!A113=\"\",\"\", Biomasser!A113)","v":""},{"$f":"IF(B1961=\"\",0,SUMIFS(Input!$H$41590:$H$44630,  Input!$F$41590:$F$44630,Summering!B1961))","v":0}]
[null,{"$f":"IF(Biomasser!A114=\"\",\"\", Biomasser!A114)","v":""},{"$f":"IF(B1962=\"\",0,SUMIFS(Input!$H$41590:$H$44630,  Input!$F$41590:$F$44630,Summering!B1962))","v":0}]
[null,{"$f":"IF(Biomasser!A115=\"\",\"\", Biomasser!A115)","v":""},{"$f":"IF(B1963=\"\",0,SUMIFS(Input!$H$41590:$H$44630,  Input!$F$41590:$F$44630,Summering!B1963))","v":0}]
[null,{"$f":"IF(Biomasser!A116=\"\",\"\", Biomasser!A116)","v":""},{"$f":"IF(B1964=\"\",0,SUMIFS(Input!$H$41590:$H$44630,  Input!$F$41590:$F$44630,Summering!B1964))","v":0}]
[null,{"$f":"IF(Biomasser!A117=\"\",\"\", Biomasser!A117)","v":""},{"$f":"IF(B1965=\"\",0,SUMIFS(Input!$H$41590:$H$44630,  Input!$F$41590:$F$44630,Summering!B1965))","v":0}]
[null,{"$f":"IF(Biomasser!A118=\"\",\"\", Biomasser!A118)","v":""},{"$f":"IF(B1966=\"\",0,SUMIFS(Input!$H$41590:$H$44630,  Input!$F$41590:$F$44630,Summering!B1966))","v":0}]
[null,{"$f":"IF(Biomasser!A119=\"\",\"\", Biomasser!A119)","v":""},{"$f":"IF(B1967=\"\",0,SUMIFS(Input!$H$41590:$H$44630,  Input!$F$41590:$F$44630,Summering!B1967))","v":0}]
[null,{"$f":"IF(Biomasser!A120=\"\",\"\", Biomasser!A120)","v":""},{"$f":"IF(B1968=\"\",0,SUMIFS(Input!$H$41590:$H$44630,  Input!$F$41590:$F$44630,Summering!B1968))","v":0}]
[null,{"$f":"IF(Biomasser!A121=\"\",\"\", Biomasser!A121)","v":""},{"$f":"IF(B1969=\"\",0,SUMIFS(Input!$H$41590:$H$44630,  Input!$F$41590:$F$44630,Summering!B1969))","v":0}]
[null,{"$f":"IF(Biomasser!A122=\"\",\"\", Biomasser!A122)","v":""},{"$f":"IF(B1970=\"\",0,SUMIFS(Input!$H$41590:$H$44630,  Input!$F$41590:$F$44630,Summering!B1970))","v":0}]
[null,{"$f":"IF(Biomasser!A123=\"\",\"\", Biomasser!A123)","v":""},{"$f":"IF(B1971=\"\",0,SUMIFS(Input!$H$41590:$H$44630,  Input!$F$41590:$F$44630,Summering!B1971))","v":0}]
[null,{"$f":"IF(Biomasser!A124=\"\",\"\", Biomasser!A124)","v":""},{"$f":"IF(B1972=\"\",0,SUMIFS(Input!$H$41590:$H$44630,  Input!$F$41590:$F$44630,Summering!B1972))","v":0}]
[null,"Marts",{"$f":"SUM(C1974:C2095)","v":0},{"$f":"SUMIFS(Input!$H$10:$H$76760,Input!$A$10:$A$76760,\"Gas\",Input!$C$10:$C$76760,Summering!$B$1604,Input!$B$10:$B$76760,\"*\"&B1973&\"*\")","v":0}]
[null,{"$f":"IF(Biomasser!A3=\"\",\"\", Biomasser!A3)","v":"Afgrøder (Overskrift, kan ikke vælges)"},{"$f":"IF(B1974=\"\",0,SUMIFS(Input!$H$44635:$H$47885,  Input!$F$44635:$F$47885,Summering!B1974))","v":0}]
[null,{"$f":"IF(Biomasser!A4=\"\",\"\", Biomasser!A4)","v":" -             Majs"},{"$f":"IF(B1975=\"\",0,SUMIFS(Input!$H$44635:$H$47885,  Input!$F$44635:$F$47885,Summering!B1975))","v":0}]
[null,{"$f":"IF(Biomasser!A5=\"\",\"\", Biomasser!A5)","v":" -             Roer"},{"$f":"IF(B1976=\"\",0,SUMIFS(Input!$H$44635:$H$47885,  Input!$F$44635:$F$47885,Summering!B1976))","v":0}]
[null,{"$f":"IF(Biomasser!A6=\"\",\"\", Biomasser!A6)","v":" -             Korn"},{"$f":"IF(B1977=\"\",0,SUMIFS(Input!$H$44635:$H$47885,  Input!$F$44635:$F$47885,Summering!B1977))","v":0}]
[null,{"$f":"IF(Biomasser!A7=\"\",\"\", Biomasser!A7)","v":" -             Græs"},{"$f":"IF(B1978=\"\",0,SUMIFS(Input!$H$44635:$H$47885,  Input!$F$44635:$F$47885,Summering!B1978))","v":0}]
[null,{"$f":"IF(Biomasser!A8=\"\",\"\", Biomasser!A8)","v":" -             Kløvergræs"},{"$f":"IF(B1979=\"\",0,SUMIFS(Input!$H$44635:$H$47885,  Input!$F$44635:$F$47885,Summering!B1979))","v":0}]
[null,{"$f":"IF(Biomasser!A9=\"\",\"\", Biomasser!A9)","v":" -             Jordskokker"},{"$f":"IF(B1980=\"\",0,SUMIFS(Input!$H$44635:$H$47885,  Input!$F$44635:$F$47885,Summering!B1980))","v":0}]
[null,{"$f":"IF(Biomasser!A10=\"\",\"\", Biomasser!A10)","v":" -             Andre afgrøder"},{"$f":"IF(B1981=\"\",0,SUMIFS(Input!$H$44635:$H$47885,  Input!$F$44635:$F$47885,Summering!B1981))","v":0}]
[null,{"$f":"IF(Biomasser!A11=\"\",\"\", Biomasser!A11)","v":" -             Hvedehelsæd"},{"$f":"IF(B1982=\"\",0,SUMIFS(Input!$H$44635:$H$47885,  Input!$F$44635:$F$47885,Summering!B1982))","v":0}]
[null,{"$f":"IF(Biomasser!A12=\"\",\"\", Biomasser!A12)","v":" -             Top af foderroe"},{"$f":"IF(B1983=\"\",0,SUMIFS(Input!$H$44635:$H$47885,  Input!$F$44635:$F$47885,Summering!B1983))","v":0}]
[null,{"$f":"IF(Biomasser!A13=\"\",\"\", Biomasser!A13)","v":" -             Foderroe - rod og top frisk"},{"$f":"IF(B1984=\"\",0,SUMIFS(Input!$H$44635:$H$47885,  Input!$F$44635:$F$47885,Summering!B1984))","v":0}]
[null,{"$f":"IF(Biomasser!A14=\"\",\"\", Biomasser!A14)","v":" -             Økologisk kløvergræs"},{"$f":"IF(B1985=\"\",0,SUMIFS(Input!$H$44635:$H$47885,  Input!$F$44635:$F$47885,Summering!B1985))","v":0}]
[null,{"$f":"IF(Biomasser!A15=\"\",\"\", Biomasser!A15)","v":"Husdyrgødning (Overskrift, kan ikke vælges)"},{"$f":"IF(B1986=\"\",0,SUMIFS(Input!$H$44635:$H$47885,  Input!$F$44635:$F$47885,Summering!B1986))","v":0}]
[null,{"$f":"IF(Biomasser!A16=\"\",\"\", Biomasser!A16)","v":" -             Kvæggylle"},{"$f":"IF(B1987=\"\",0,SUMIFS(Input!$H$44635:$H$47885,  Input!$F$44635:$F$47885,Summering!B1987))","v":0}]
[null,{"$f":"IF(Biomasser!A17=\"\",\"\", Biomasser!A17)","v":" -             Svinegylle"},{"$f":"IF(B1988=\"\",0,SUMIFS(Input!$H$44635:$H$47885,  Input!$F$44635:$F$47885,Summering!B1988))","v":0}]
[null,{"$f":"IF(Biomasser!A18=\"\",\"\", Biomasser!A18)","v":" -             Gylle fra so"},{"$f":"IF(B1989=\"\",0,SUMIFS(Input!$H$44635:$H$47885,  Input!$F$44635:$F$47885,Summering!B1989))","v":0}]
[null,{"$f":"IF(Biomasser!A19=\"\",\"\", Biomasser!A19)","v":" -             Minkgylle"},{"$f":"IF(B1990=\"\",0,SUMIFS(Input!$H$44635:$H$47885,  Input!$F$44635:$F$47885,Summering!B1990))","v":0}]
[null,{"$f":"IF(Biomasser!A20=\"\",\"\", Biomasser!A20)","v":" -             Fjerkrægylle"},{"$f":"IF(B1991=\"\",0,SUMIFS(Input!$H$44635:$H$47885,  Input!$F$44635:$F$47885,Summering!B1991))","v":0}]
[null,{"$f":"IF(Biomasser!A21=\"\",\"\", Biomasser!A21)","v":" -             Blandet gylle"},{"$f":"IF(B1992=\"\",0,SUMIFS(Input!$H$44635:$H$47885,  Input!$F$44635:$F$47885,Summering!B1992))","v":0}]
[null,{"$f":"IF(Biomasser!A22=\"\",\"\", Biomasser!A22)","v":" -             Dybstrøelse - Kvæg"},{"$f":"IF(B1993=\"\",0,SUMIFS(Input!$H$44635:$H$47885,  Input!$F$44635:$F$47885,Summering!B1993))","v":0}]
[null,{"$f":"IF(Biomasser!A23=\"\",\"\", Biomasser!A23)","v":" -             Dybstrøelse - Fjerkræ"},{"$f":"IF(B1994=\"\",0,SUMIFS(Input!$H$44635:$H$47885,  Input!$F$44635:$F$47885,Summering!B1994))","v":0}]
[null,{"$f":"IF(Biomasser!A24=\"\",\"\", Biomasser!A24)","v":" -             Dybstrøelse - Hest"},{"$f":"IF(B1995=\"\",0,SUMIFS(Input!$H$44635:$H$47885,  Input!$F$44635:$F$47885,Summering!B1995))","v":0}]
[null,{"$f":"IF(Biomasser!A25=\"\",\"\", Biomasser!A25)","v":" -             Dybstrøelse - Andre typer"},{"$f":"IF(B1996=\"\",0,SUMIFS(Input!$H$44635:$H$47885,  Input!$F$44635:$F$47885,Summering!B1996))","v":0}]
[null,{"$f":"IF(Biomasser!A26=\"\",\"\", Biomasser!A26)","v":" -             Fast gødning"},{"$f":"IF(B1997=\"\",0,SUMIFS(Input!$H$44635:$H$47885,  Input!$F$44635:$F$47885,Summering!B1997))","v":0}]
[null,{"$f":"IF(Biomasser!A27=\"\",\"\", Biomasser!A27)","v":" -             Ajle"},{"$f":"IF(B1998=\"\",0,SUMIFS(Input!$H$44635:$H$47885,  Input!$F$44635:$F$47885,Summering!B1998))","v":0}]
[null,{"$f":"IF(Biomasser!A28=\"\",\"\", Biomasser!A28)","v":" -             Fiberfraktion"},{"$f":"IF(B1999=\"\",0,SUMIFS(Input!$H$44635:$H$47885,  Input!$F$44635:$F$47885,Summering!B1999))","v":0}]
[null,{"$f":"IF(Biomasser!A29=\"\",\"\", Biomasser!A29)","v":" -             Flydende fraktion fra separationsanlæg"},{"$f":"IF(B2000=\"\",0,SUMIFS(Input!$H$44635:$H$47885,  Input!$F$44635:$F$47885,Summering!B2000))","v":0}]
[null,{"$f":"IF(Biomasser!A30=\"\",\"\", Biomasser!A30)","v":" -             Flydende fraktion"},{"$f":"IF(B2001=\"\",0,SUMIFS(Input!$H$44635:$H$47885,  Input!$F$44635:$F$47885,Summering!B2001))","v":0}]
[null,{"$f":"IF(Biomasser!A31=\"\",\"\", Biomasser!A31)","v":" -             Anden husdyrgødning"},{"$f":"IF(B2002=\"\",0,SUMIFS(Input!$H$44635:$H$47885,  Input!$F$44635:$F$47885,Summering!B2002))","v":0}]
[null,{"$f":"IF(Biomasser!A32=\"\",\"\", Biomasser!A32)","v":" -             Forsuret svinegylle"},{"$f":"IF(B2003=\"\",0,SUMIFS(Input!$H$44635:$H$47885,  Input!$F$44635:$F$47885,Summering!B2003))","v":0}]
[null,{"$f":"IF(Biomasser!A33=\"\",\"\", Biomasser!A33)","v":" -             Dybstrøelse - Svin"},{"$f":"IF(B2004=\"\",0,SUMIFS(Input!$H$44635:$H$47885,  Input!$F$44635:$F$47885,Summering!B2004))","v":0}]
[null,{"$f":"IF(Biomasser!A34=\"\",\"\", Biomasser!A34)","v":" -             Gylle fibre - kemisk separation - Svin"},{"$f":"IF(B2005=\"\",0,SUMIFS(Input!$H$44635:$H$47885,  Input!$F$44635:$F$47885,Summering!B2005))","v":0}]
[null,{"$f":"IF(Biomasser!A35=\"\",\"\", Biomasser!A35)","v":" -             Gylle fibre - dekanter separation - Svin"},{"$f":"IF(B2006=\"\",0,SUMIFS(Input!$H$44635:$H$47885,  Input!$F$44635:$F$47885,Summering!B2006))","v":0}]
[null,{"$f":"IF(Biomasser!A36=\"\",\"\", Biomasser!A36)","v":" -             Staldgødning - Kvæg"},{"$f":"IF(B2007=\"\",0,SUMIFS(Input!$H$44635:$H$47885,  Input!$F$44635:$F$47885,Summering!B2007))","v":0}]
[null,{"$f":"IF(Biomasser!A37=\"\",\"\", Biomasser!A37)","v":" -             Kvæggylle - Årsopdræt 6 mdr."},{"$f":"IF(B2008=\"\",0,SUMIFS(Input!$H$44635:$H$47885,  Input!$F$44635:$F$47885,Summering!B2008))","v":0}]
[null,{"$f":"IF(Biomasser!A38=\"\",\"\", Biomasser!A38)","v":" -             Staldgødning - Fjerkræ"},{"$f":"IF(B2009=\"\",0,SUMIFS(Input!$H$44635:$H$47885,  Input!$F$44635:$F$47885,Summering!B2009))","v":0}]
[null,{"$f":"IF(Biomasser!A39=\"\",\"\", Biomasser!A39)","v":"Slam og spildevand (Overskrift, kan ikke vælges)"},{"$f":"IF(B2010=\"\",0,SUMIFS(Input!$H$44635:$H$47885,  Input!$F$44635:$F$47885,Summering!B2010))","v":0}]
[null,{"$f":"IF(Biomasser!A40=\"\",\"\", Biomasser!A40)","v":" -             Slam og spildevand samt uforurenede produktrester"},{"$f":"IF(B2011=\"\",0,SUMIFS(Input!$H$44635:$H$47885,  Input!$F$44635:$F$47885,Summering!B2011))","v":0}]
[null,{"$f":"IF(Biomasser!A41=\"\",\"\", Biomasser!A41)","v":" -             Slam fra dambrug"},{"$f":"IF(B2012=\"\",0,SUMIFS(Input!$H$44635:$H$47885,  Input!$F$44635:$F$47885,Summering!B2012))","v":0}]
[null,{"$f":"IF(Biomasser!A42=\"\",\"\", Biomasser!A42)","v":" -             Slam fra forarbejdning af animalske råvarer"},{"$f":"IF(B2013=\"\",0,SUMIFS(Input!$H$44635:$H$47885,  Input!$F$44635:$F$47885,Summering!B2013))","v":0}]
[null,{"$f":"IF(Biomasser!A43=\"\",\"\", Biomasser!A43)","v":" -             Spildevandsslam"},{"$f":"IF(B2014=\"\",0,SUMIFS(Input!$H$44635:$H$47885,  Input!$F$44635:$F$47885,Summering!B2014))","v":0}]
[null,{"$f":"IF(Biomasser!A44=\"\",\"\", Biomasser!A44)","v":" -             Proteolyseret processpildevand"},{"$f":"IF(B2015=\"\",0,SUMIFS(Input!$H$44635:$H$47885,  Input!$F$44635:$F$47885,Summering!B2015))","v":0}]
[null,{"$f":"IF(Biomasser!A45=\"\",\"\", Biomasser!A45)","v":" -             Sekundær spildevandsslam"},{"$f":"IF(B2016=\"\",0,SUMIFS(Input!$H$44635:$H$47885,  Input!$F$44635:$F$47885,Summering!B2016))","v":0}]
[null,{"$f":"IF(Biomasser!A46=\"\",\"\", Biomasser!A46)","v":" -             Sekundær spildevandsslam afvandet"},{"$f":"IF(B2017=\"\",0,SUMIFS(Input!$H$44635:$H$47885,  Input!$F$44635:$F$47885,Summering!B2017))","v":0}]
[null,{"$f":"IF(Biomasser!A47=\"\",\"\", Biomasser!A47)","v":"Organisk affald fra husholdninger og erhverv (Overskrift, kan ikke vælges)"},{"$f":"IF(B2018=\"\",0,SUMIFS(Input!$H$44635:$H$47885,  Input!$F$44635:$F$47885,Summering!B2018))","v":0}]
[null,{"$f":"IF(Biomasser!A48=\"\",\"\", Biomasser!A48)","v":" -             Kildesorteret organisk dagrenovation"},{"$f":"IF(B2019=\"\",0,SUMIFS(Input!$H$44635:$H$47885,  Input!$F$44635:$F$47885,Summering!B2019))","v":0}]
[null,{"$f":"IF(Biomasser!A49=\"\",\"\", Biomasser!A49)","v":" -             Organisk husholdningsaffald - Renescience"},{"$f":"IF(B2020=\"\",0,SUMIFS(Input!$H$44635:$H$47885,  Input!$F$44635:$F$47885,Summering!B2020))","v":0}]
[null,{"$f":"IF(Biomasser!A50=\"\",\"\", Biomasser!A50)","v":" -             Organisk husholdningsaffald - Pulper"},{"$f":"IF(B2021=\"\",0,SUMIFS(Input!$H$44635:$H$47885,  Input!$F$44635:$F$47885,Summering!B2021))","v":0}]
[null,{"$f":"IF(Biomasser!A51=\"\",\"\", Biomasser!A51)","v":" -             Organisk husholdningsaffald - Rullesigte"},{"$f":"IF(B2022=\"\",0,SUMIFS(Input!$H$44635:$H$47885,  Input!$F$44635:$F$47885,Summering!B2022))","v":0}]
[null,{"$f":"IF(Biomasser!A52=\"\",\"\", Biomasser!A52)","v":" -             Organisk husholdningsaffald - Skruepresse"},{"$f":"IF(B2023=\"\",0,SUMIFS(Input!$H$44635:$H$47885,  Input!$F$44635:$F$47885,Summering!B2023))","v":0}]
[null,{"$f":"IF(Biomasser!A53=\"\",\"\", Biomasser!A53)","v":" -             Organisk husholdningsaffald - Neddeling"},{"$f":"IF(B2024=\"\",0,SUMIFS(Input!$H$44635:$H$47885,  Input!$F$44635:$F$47885,Summering!B2024))","v":0}]
[null,{"$f":"IF(Biomasser!A54=\"\",\"\", Biomasser!A54)","v":" -             Organisk affald fra erhverv"},{"$f":"IF(B2025=\"\",0,SUMIFS(Input!$H$44635:$H$47885,  Input!$F$44635:$F$47885,Summering!B2025))","v":0}]
[null,{"$f":"IF(Biomasser!A55=\"\",\"\", Biomasser!A55)","v":"Rester og biprodukter fra planter og afgrøder (Overskrift, kan ikke vælges)"},{"$f":"IF(B2026=\"\",0,SUMIFS(Input!$H$44635:$H$47885,  Input!$F$44635:$F$47885,Summering!B2026))","v":0}]
[null,{"$f":"IF(Biomasser!A56=\"\",\"\", Biomasser!A56)","v":" -             Cellulose"},{"$f":"IF(B2027=\"\",0,SUMIFS(Input!$H$44635:$H$47885,  Input!$F$44635:$F$47885,Summering!B2027))","v":0}]
[null,{"$f":"IF(Biomasser!A57=\"\",\"\", Biomasser!A57)","v":" -             Naturpleje biomasse"},{"$f":"IF(B2028=\"\",0,SUMIFS(Input!$H$44635:$H$47885,  Input!$F$44635:$F$47885,Summering!B2028))","v":0}]
[null,{"$f":"IF(Biomasser!A58=\"\",\"\", Biomasser!A58)","v":" -             Halm"},{"$f":"IF(B2029=\"\",0,SUMIFS(Input!$H$44635:$H$47885,  Input!$F$44635:$F$47885,Summering!B2029))","v":0}]
[null,{"$f":"IF(Biomasser!A59=\"\",\"\", Biomasser!A59)","v":" -             Have-park affald"},{"$f":"IF(B2030=\"\",0,SUMIFS(Input!$H$44635:$H$47885,  Input!$F$44635:$F$47885,Summering!B2030))","v":0}]
[null,{"$f":"IF(Biomasser!A60=\"\",\"\", Biomasser!A60)","v":" -             Andre restprodukter fra produktion af primærafgrøder"},{"$f":"IF(B2031=\"\",0,SUMIFS(Input!$H$44635:$H$47885,  Input!$F$44635:$F$47885,Summering!B2031))","v":0}]
[null,{"$f":"IF(Biomasser!A61=\"\",\"\", Biomasser!A61)","v":" -             Kasserede afgrøder"},{"$f":"IF(B2032=\"\",0,SUMIFS(Input!$H$44635:$H$47885,  Input!$F$44635:$F$47885,Summering!B2032))","v":0}]
[null,{"$f":"IF(Biomasser!A62=\"\",\"\", Biomasser!A62)","v":"Rester og biprodukter fra levnesmiddel- og dyrefoderindustrien  (Overskrift, kan ikke vælges)"},{"$f":"IF(B2033=\"\",0,SUMIFS(Input!$H$44635:$H$47885,  Input!$F$44635:$F$47885,Summering!B2033))","v":0}]
[null,{"$f":"IF(Biomasser!A63=\"\",\"\", Biomasser!A63)","v":" -             Animalske biprodukter"},{"$f":"IF(B2034=\"\",0,SUMIFS(Input!$H$44635:$H$47885,  Input!$F$44635:$F$47885,Summering!B2034))","v":0}]
[null,{"$f":"IF(Biomasser!A64=\"\",\"\", Biomasser!A64)","v":" -             Mave/tarm kvæg"},{"$f":"IF(B2035=\"\",0,SUMIFS(Input!$H$44635:$H$47885,  Input!$F$44635:$F$47885,Summering!B2035))","v":0}]
[null,{"$f":"IF(Biomasser!A65=\"\",\"\", Biomasser!A65)","v":" -             Mave/tarm svin"},{"$f":"IF(B2036=\"\",0,SUMIFS(Input!$H$44635:$H$47885,  Input!$F$44635:$F$47885,Summering!B2036))","v":0}]
[null,{"$f":"IF(Biomasser!A66=\"\",\"\", Biomasser!A66)","v":" -             Valle"},{"$f":"IF(B2037=\"\",0,SUMIFS(Input!$H$44635:$H$47885,  Input!$F$44635:$F$47885,Summering!B2037))","v":0}]
[null,{"$f":"IF(Biomasser!A67=\"\",\"\", Biomasser!A67)","v":" -             Valle koncentrat"},{"$f":"IF(B2038=\"\",0,SUMIFS(Input!$H$44635:$H$47885,  Input!$F$44635:$F$47885,Summering!B2038))","v":0}]
[null,{"$f":"IF(Biomasser!A68=\"\",\"\", Biomasser!A68)","v":" -             Protein"},{"$f":"IF(B2039=\"\",0,SUMIFS(Input!$H$44635:$H$47885,  Input!$F$44635:$F$47885,Summering!B2039))","v":0}]
[null,{"$f":"IF(Biomasser!A69=\"\",\"\", Biomasser!A69)","v":" -             Fedt"},{"$f":"IF(B2040=\"\",0,SUMIFS(Input!$H$44635:$H$47885,  Input!$F$44635:$F$47885,Summering!B2040))","v":0}]
[null,{"$f":"IF(Biomasser!A70=\"\",\"\", Biomasser!A70)","v":" -             Vinasse (2,2 pct. kvælstof)"},{"$f":"IF(B2041=\"\",0,SUMIFS(Input!$H$44635:$H$47885,  Input!$F$44635:$F$47885,Summering!B2041))","v":0}]
[null,{"$f":"IF(Biomasser!A71=\"\",\"\", Biomasser!A71)","v":" -             Vinasse (3,5 pct. kvælstof)"},{"$f":"IF(B2042=\"\",0,SUMIFS(Input!$H$44635:$H$47885,  Input!$F$44635:$F$47885,Summering!B2042))","v":0}]
[null,{"$f":"IF(Biomasser!A72=\"\",\"\", Biomasser!A72)","v":" -             Kartoffelfrugtsaft"},{"$f":"IF(B2043=\"\",0,SUMIFS(Input!$H$44635:$H$47885,  Input!$F$44635:$F$47885,Summering!B2043))","v":0}]
[null,{"$f":"IF(Biomasser!A73=\"\",\"\", Biomasser!A73)","v":" -             Glukose"},{"$f":"IF(B2044=\"\",0,SUMIFS(Input!$H$44635:$H$47885,  Input!$F$44635:$F$47885,Summering!B2044))","v":0}]
[null,{"$f":"IF(Biomasser!A74=\"\",\"\", Biomasser!A74)","v":" -             Alkohol"},{"$f":"IF(B2045=\"\",0,SUMIFS(Input!$H$44635:$H$47885,  Input!$F$44635:$F$47885,Summering!B2045))","v":0}]
[null,{"$f":"IF(Biomasser!A75=\"\",\"\", Biomasser!A75)","v":" -             Pressesaft fra grøntpilleproduktion"},{"$f":"IF(B2046=\"\",0,SUMIFS(Input!$H$44635:$H$47885,  Input!$F$44635:$F$47885,Summering!B2046))","v":0}]
[null,{"$f":"IF(Biomasser!A76=\"\",\"\", Biomasser!A76)","v":" -             Inaktiveret og kalkstabiliseret biomasse"},{"$f":"IF(B2047=\"\",0,SUMIFS(Input!$H$44635:$H$47885,  Input!$F$44635:$F$47885,Summering!B2047))","v":0}]
[null,{"$f":"IF(Biomasser!A77=\"\",\"\", Biomasser!A77)","v":"Anden biomasse (Overskrift)"},{"$f":"IF(B2048=\"\",0,SUMIFS(Input!$H$44635:$H$47885,  Input!$F$44635:$F$47885,Summering!B2048))","v":0}]
[null,{"$f":"IF(Biomasser!A78=\"\",\"\", Biomasser!A78)","v":" -             Råglycerin"},{"$f":"IF(B2049=\"\",0,SUMIFS(Input!$H$44635:$H$47885,  Input!$F$44635:$F$47885,Summering!B2049))","v":0}]
[null,{"$f":"IF(Biomasser!A79=\"\",\"\", Biomasser!A79)","v":""},{"$f":"IF(B2050=\"\",0,SUMIFS(Input!$H$44635:$H$47885,  Input!$F$44635:$F$47885,Summering!B2050))","v":0}]
[null,{"$f":"IF(Biomasser!A80=\"\",\"\", Biomasser!A80)","v":""},{"$f":"IF(B2051=\"\",0,SUMIFS(Input!$H$44635:$H$47885,  Input!$F$44635:$F$47885,Summering!B2051))","v":0}]
[null,{"$f":"IF(Biomasser!A81=\"\",\"\", Biomasser!A81)","v":""},{"$f":"IF(B2052=\"\",0,SUMIFS(Input!$H$44635:$H$47885,  Input!$F$44635:$F$47885,Summering!B2052))","v":0}]
[null,{"$f":"IF(Biomasser!A82=\"\",\"\", Biomasser!A82)","v":""},{"$f":"IF(B2053=\"\",0,SUMIFS(Input!$H$44635:$H$47885,  Input!$F$44635:$F$47885,Summering!B2053))","v":0}]
[null,{"$f":"IF(Biomasser!A83=\"\",\"\", Biomasser!A83)","v":""},{"$f":"IF(B2054=\"\",0,SUMIFS(Input!$H$44635:$H$47885,  Input!$F$44635:$F$47885,Summering!B2054))","v":0}]
[null,{"$f":"IF(Biomasser!A84=\"\",\"\", Biomasser!A84)","v":""},{"$f":"IF(B2055=\"\",0,SUMIFS(Input!$H$44635:$H$47885,  Input!$F$44635:$F$47885,Summering!B2055))","v":0}]
[null,{"$f":"IF(Biomasser!A85=\"\",\"\", Biomasser!A85)","v":""},{"$f":"IF(B2056=\"\",0,SUMIFS(Input!$H$44635:$H$47885,  Input!$F$44635:$F$47885,Summering!B2056))","v":0}]
[null,{"$f":"IF(Biomasser!A86=\"\",\"\", Biomasser!A86)","v":""},{"$f":"IF(B2057=\"\",0,SUMIFS(Input!$H$44635:$H$47885,  Input!$F$44635:$F$47885,Summering!B2057))","v":0}]
[null,{"$f":"IF(Biomasser!A87=\"\",\"\", Biomasser!A87)","v":""},{"$f":"IF(B2058=\"\",0,SUMIFS(Input!$H$44635:$H$47885,  Input!$F$44635:$F$47885,Summering!B2058))","v":0}]
[null,{"$f":"IF(Biomasser!A88=\"\",\"\", Biomasser!A88)","v":""},{"$f":"IF(B2059=\"\",0,SUMIFS(Input!$H$44635:$H$47885,  Input!$F$44635:$F$47885,Summering!B2059))","v":0}]
[null,{"$f":"IF(Biomasser!A89=\"\",\"\", Biomasser!A89)","v":""},{"$f":"IF(B2060=\"\",0,SUMIFS(Input!$H$44635:$H$47885,  Input!$F$44635:$F$47885,Summering!B2060))","v":0}]
[null,{"$f":"IF(Biomasser!A90=\"\",\"\", Biomasser!A90)","v":""},{"$f":"IF(B2061=\"\",0,SUMIFS(Input!$H$44635:$H$47885,  Input!$F$44635:$F$47885,Summering!B2061))","v":0}]
[null,{"$f":"IF(Biomasser!A91=\"\",\"\", Biomasser!A91)","v":""},{"$f":"IF(B2062=\"\",0,SUMIFS(Input!$H$44635:$H$47885,  Input!$F$44635:$F$47885,Summering!B2062))","v":0}]
[null,{"$f":"IF(Biomasser!A92=\"\",\"\", Biomasser!A92)","v":""},{"$f":"IF(B2063=\"\",0,SUMIFS(Input!$H$44635:$H$47885,  Input!$F$44635:$F$47885,Summering!B2063))","v":0}]
[null,{"$f":"IF(Biomasser!A93=\"\",\"\", Biomasser!A93)","v":""},{"$f":"IF(B2064=\"\",0,SUMIFS(Input!$H$44635:$H$47885,  Input!$F$44635:$F$47885,Summering!B2064))","v":0}]
[null,{"$f":"IF(Biomasser!A94=\"\",\"\", Biomasser!A94)","v":""},{"$f":"IF(B2065=\"\",0,SUMIFS(Input!$H$44635:$H$47885,  Input!$F$44635:$F$47885,Summering!B2065))","v":0}]
[null,{"$f":"IF(Biomasser!A95=\"\",\"\", Biomasser!A95)","v":""},{"$f":"IF(B2066=\"\",0,SUMIFS(Input!$H$44635:$H$47885,  Input!$F$44635:$F$47885,Summering!B2066))","v":0}]
[null,{"$f":"IF(Biomasser!A96=\"\",\"\", Biomasser!A96)","v":""},{"$f":"IF(B2067=\"\",0,SUMIFS(Input!$H$44635:$H$47885,  Input!$F$44635:$F$47885,Summering!B2067))","v":0}]
[null,{"$f":"IF(Biomasser!A97=\"\",\"\", Biomasser!A97)","v":""},{"$f":"IF(B2068=\"\",0,SUMIFS(Input!$H$44635:$H$47885,  Input!$F$44635:$F$47885,Summering!B2068))","v":0}]
[null,{"$f":"IF(Biomasser!A98=\"\",\"\", Biomasser!A98)","v":""},{"$f":"IF(B2069=\"\",0,SUMIFS(Input!$H$44635:$H$47885,  Input!$F$44635:$F$47885,Summering!B2069))","v":0}]
[null,{"$f":"IF(Biomasser!A99=\"\",\"\", Biomasser!A99)","v":""},{"$f":"IF(B2070=\"\",0,SUMIFS(Input!$H$44635:$H$47885,  Input!$F$44635:$F$47885,Summering!B2070))","v":0}]
[null,{"$f":"IF(Biomasser!A100=\"\",\"\", Biomasser!A100)","v":""},{"$f":"IF(B2071=\"\",0,SUMIFS(Input!$H$44635:$H$47885,  Input!$F$44635:$F$47885,Summering!B2071))","v":0}]
[null,{"$f":"IF(Biomasser!A101=\"\",\"\", Biomasser!A101)","v":""},{"$f":"IF(B2072=\"\",0,SUMIFS(Input!$H$44635:$H$47885,  Input!$F$44635:$F$47885,Summering!B2072))","v":0}]
[null,{"$f":"IF(Biomasser!A102=\"\",\"\", Biomasser!A102)","v":""},{"$f":"IF(B2073=\"\",0,SUMIFS(Input!$H$44635:$H$47885,  Input!$F$44635:$F$47885,Summering!B2073))","v":0}]
[null,{"$f":"IF(Biomasser!A103=\"\",\"\", Biomasser!A103)","v":""},{"$f":"IF(B2074=\"\",0,SUMIFS(Input!$H$44635:$H$47885,  Input!$F$44635:$F$47885,Summering!B2074))","v":0}]
[null,{"$f":"IF(Biomasser!A104=\"\",\"\", Biomasser!A104)","v":""},{"$f":"IF(B2075=\"\",0,SUMIFS(Input!$H$44635:$H$47885,  Input!$F$44635:$F$47885,Summering!B2075))","v":0}]
[null,{"$f":"IF(Biomasser!A105=\"\",\"\", Biomasser!A105)","v":""},{"$f":"IF(B2076=\"\",0,SUMIFS(Input!$H$44635:$H$47885,  Input!$F$44635:$F$47885,Summering!B2076))","v":0}]
[null,{"$f":"IF(Biomasser!A106=\"\",\"\", Biomasser!A106)","v":""},{"$f":"IF(B2077=\"\",0,SUMIFS(Input!$H$44635:$H$47885,  Input!$F$44635:$F$47885,Summering!B2077))","v":0}]
[null,{"$f":"IF(Biomasser!A107=\"\",\"\", Biomasser!A107)","v":""},{"$f":"IF(B2078=\"\",0,SUMIFS(Input!$H$44635:$H$47885,  Input!$F$44635:$F$47885,Summering!B2078))","v":0}]
[null,{"$f":"IF(Biomasser!A108=\"\",\"\", Biomasser!A108)","v":""},{"$f":"IF(B2079=\"\",0,SUMIFS(Input!$H$44635:$H$47885,  Input!$F$44635:$F$47885,Summering!B2079))","v":0}]
[null,{"$f":"IF(Biomasser!A109=\"\",\"\", Biomasser!A109)","v":""},{"$f":"IF(B2080=\"\",0,SUMIFS(Input!$H$44635:$H$47885,  Input!$F$44635:$F$47885,Summering!B2080))","v":0}]
[null,{"$f":"IF(Biomasser!A110=\"\",\"\", Biomasser!A110)","v":""},{"$f":"IF(B2081=\"\",0,SUMIFS(Input!$H$44635:$H$47885,  Input!$F$44635:$F$47885,Summering!B2081))","v":0}]
[null,{"$f":"IF(Biomasser!A111=\"\",\"\", Biomasser!A111)","v":""},{"$f":"IF(B2082=\"\",0,SUMIFS(Input!$H$44635:$H$47885,  Input!$F$44635:$F$47885,Summering!B2082))","v":0}]
[null,{"$f":"IF(Biomasser!A112=\"\",\"\", Biomasser!A112)","v":""},{"$f":"IF(B2083=\"\",0,SUMIFS(Input!$H$44635:$H$47885,  Input!$F$44635:$F$47885,Summering!B2083))","v":0}]
[null,{"$f":"IF(Biomasser!A113=\"\",\"\", Biomasser!A113)","v":""},{"$f":"IF(B2084=\"\",0,SUMIFS(Input!$H$44635:$H$47885,  Input!$F$44635:$F$47885,Summering!B2084))","v":0}]
[null,{"$f":"IF(Biomasser!A114=\"\",\"\", Biomasser!A114)","v":""},{"$f":"IF(B2085=\"\",0,SUMIFS(Input!$H$44635:$H$47885,  Input!$F$44635:$F$47885,Summering!B2085))","v":0}]
[null,{"$f":"IF(Biomasser!A115=\"\",\"\", Biomasser!A115)","v":""},{"$f":"IF(B2086=\"\",0,SUMIFS(Input!$H$44635:$H$47885,  Input!$F$44635:$F$47885,Summering!B2086))","v":0}]
[null,{"$f":"IF(Biomasser!A116=\"\",\"\", Biomasser!A116)","v":""},{"$f":"IF(B2087=\"\",0,SUMIFS(Input!$H$44635:$H$47885,  Input!$F$44635:$F$47885,Summering!B2087))","v":0}]
[null,{"$f":"IF(Biomasser!A117=\"\",\"\", Biomasser!A117)","v":""},{"$f":"IF(B2088=\"\",0,SUMIFS(Input!$H$44635:$H$47885,  Input!$F$44635:$F$47885,Summering!B2088))","v":0}]
[null,{"$f":"IF(Biomasser!A118=\"\",\"\", Biomasser!A118)","v":""},{"$f":"IF(B2089=\"\",0,SUMIFS(Input!$H$44635:$H$47885,  Input!$F$44635:$F$47885,Summering!B2089))","v":0}]
[null,{"$f":"IF(Biomasser!A119=\"\",\"\", Biomasser!A119)","v":""},{"$f":"IF(B2090=\"\",0,SUMIFS(Input!$H$44635:$H$47885,  Input!$F$44635:$F$47885,Summering!B2090))","v":0}]
[null,{"$f":"IF(Biomasser!A120=\"\",\"\", Biomasser!A120)","v":""},{"$f":"IF(B2091=\"\",0,SUMIFS(Input!$H$44635:$H$47885,  Input!$F$44635:$F$47885,Summering!B2091))","v":0}]
[null,{"$f":"IF(Biomasser!A121=\"\",\"\", Biomasser!A121)","v":""},{"$f":"IF(B2092=\"\",0,SUMIFS(Input!$H$44635:$H$47885,  Input!$F$44635:$F$47885,Summering!B2092))","v":0}]
[null,{"$f":"IF(Biomasser!A122=\"\",\"\", Biomasser!A122)","v":""},{"$f":"IF(B2093=\"\",0,SUMIFS(Input!$H$44635:$H$47885,  Input!$F$44635:$F$47885,Summering!B2093))","v":0}]
[null,{"$f":"IF(Biomasser!A123=\"\",\"\", Biomasser!A123)","v":""},{"$f":"IF(B2094=\"\",0,SUMIFS(Input!$H$44635:$H$47885,  Input!$F$44635:$F$47885,Summering!B2094))","v":0}]
[null,{"$f":"IF(Biomasser!A124=\"\",\"\", Biomasser!A124)","v":""},{"$f":"IF(B2095=\"\",0,SUMIFS(Input!$H$44635:$H$47885,  Input!$F$44635:$F$47885,Summering!B2095))","v":0}]
[null,"April",{"$f":"SUM(C2097:C2218)","v":0},{"$f":"SUMIFS(Input!$H$10:$H$76760,Input!$A$10:$A$76760,\"Gas\",Input!$C$10:$C$76760,Summering!$B$1604,Input!$B$10:$B$76760,\"*\"&B2096&\"*\")","v":0}]
[null,{"$f":"IF(Biomasser!A3=\"\",\"\", Biomasser!A3)","v":"Afgrøder (Overskrift, kan ikke vælges)"},{"$f":"IF(B2097=\"\",0,SUMIFS(Input!$H$47890:$H$51035,  Input!$F$47890:$F$51035,Summering!B2097))","v":0}]
[null,{"$f":"IF(Biomasser!A4=\"\",\"\", Biomasser!A4)","v":" -             Majs"},{"$f":"IF(B2098=\"\",0,SUMIFS(Input!$H$47890:$H$51035,  Input!$F$47890:$F$51035,Summering!B2098))","v":0}]
[null,{"$f":"IF(Biomasser!A5=\"\",\"\", Biomasser!A5)","v":" -             Roer"},{"$f":"IF(B2099=\"\",0,SUMIFS(Input!$H$47890:$H$51035,  Input!$F$47890:$F$51035,Summering!B2099))","v":0}]
[null,{"$f":"IF(Biomasser!A6=\"\",\"\", Biomasser!A6)","v":" -             Korn"},{"$f":"IF(B2100=\"\",0,SUMIFS(Input!$H$47890:$H$51035,  Input!$F$47890:$F$51035,Summering!B2100))","v":0}]
[null,{"$f":"IF(Biomasser!A7=\"\",\"\", Biomasser!A7)","v":" -             Græs"},{"$f":"IF(B2101=\"\",0,SUMIFS(Input!$H$47890:$H$51035,  Input!$F$47890:$F$51035,Summering!B2101))","v":0}]
[null,{"$f":"IF(Biomasser!A8=\"\",\"\", Biomasser!A8)","v":" -             Kløvergræs"},{"$f":"IF(B2102=\"\",0,SUMIFS(Input!$H$47890:$H$51035,  Input!$F$47890:$F$51035,Summering!B2102))","v":0}]
[null,{"$f":"IF(Biomasser!A9=\"\",\"\", Biomasser!A9)","v":" -             Jordskokker"},{"$f":"IF(B2103=\"\",0,SUMIFS(Input!$H$47890:$H$51035,  Input!$F$47890:$F$51035,Summering!B2103))","v":0}]
[null,{"$f":"IF(Biomasser!A10=\"\",\"\", Biomasser!A10)","v":" -             Andre afgrøder"},{"$f":"IF(B2104=\"\",0,SUMIFS(Input!$H$47890:$H$51035,  Input!$F$47890:$F$51035,Summering!B2104))","v":0}]
[null,{"$f":"IF(Biomasser!A11=\"\",\"\", Biomasser!A11)","v":" -             Hvedehelsæd"},{"$f":"IF(B2105=\"\",0,SUMIFS(Input!$H$47890:$H$51035,  Input!$F$47890:$F$51035,Summering!B2105))","v":0}]
[null,{"$f":"IF(Biomasser!A12=\"\",\"\", Biomasser!A12)","v":" -             Top af foderroe"},{"$f":"IF(B2106=\"\",0,SUMIFS(Input!$H$47890:$H$51035,  Input!$F$47890:$F$51035,Summering!B2106))","v":0}]
[null,{"$f":"IF(Biomasser!A13=\"\",\"\", Biomasser!A13)","v":" -             Foderroe - rod og top frisk"},{"$f":"IF(B2107=\"\",0,SUMIFS(Input!$H$47890:$H$51035,  Input!$F$47890:$F$51035,Summering!B2107))","v":0}]
[null,{"$f":"IF(Biomasser!A14=\"\",\"\", Biomasser!A14)","v":" -             Økologisk kløvergræs"},{"$f":"IF(B2108=\"\",0,SUMIFS(Input!$H$47890:$H$51035,  Input!$F$47890:$F$51035,Summering!B2108))","v":0}]
[null,{"$f":"IF(Biomasser!A15=\"\",\"\", Biomasser!A15)","v":"Husdyrgødning (Overskrift, kan ikke vælges)"},{"$f":"IF(B2109=\"\",0,SUMIFS(Input!$H$47890:$H$51035,  Input!$F$47890:$F$51035,Summering!B2109))","v":0}]
[null,{"$f":"IF(Biomasser!A16=\"\",\"\", Biomasser!A16)","v":" -             Kvæggylle"},{"$f":"IF(B2110=\"\",0,SUMIFS(Input!$H$47890:$H$51035,  Input!$F$47890:$F$51035,Summering!B2110))","v":0}]
[null,{"$f":"IF(Biomasser!A17=\"\",\"\", Biomasser!A17)","v":" -             Svinegylle"},{"$f":"IF(B2111=\"\",0,SUMIFS(Input!$H$47890:$H$51035,  Input!$F$47890:$F$51035,Summering!B2111))","v":0}]
[null,{"$f":"IF(Biomasser!A18=\"\",\"\", Biomasser!A18)","v":" -             Gylle fra so"},{"$f":"IF(B2112=\"\",0,SUMIFS(Input!$H$47890:$H$51035,  Input!$F$47890:$F$51035,Summering!B2112))","v":0}]
[null,{"$f":"IF(Biomasser!A19=\"\",\"\", Biomasser!A19)","v":" -             Minkgylle"},{"$f":"IF(B2113=\"\",0,SUMIFS(Input!$H$47890:$H$51035,  Input!$F$47890:$F$51035,Summering!B2113))","v":0}]
[null,{"$f":"IF(Biomasser!A20=\"\",\"\", Biomasser!A20)","v":" -             Fjerkrægylle"},{"$f":"IF(B2114=\"\",0,SUMIFS(Input!$H$47890:$H$51035,  Input!$F$47890:$F$51035,Summering!B2114))","v":0}]
[null,{"$f":"IF(Biomasser!A21=\"\",\"\", Biomasser!A21)","v":" -             Blandet gylle"},{"$f":"IF(B2115=\"\",0,SUMIFS(Input!$H$47890:$H$51035,  Input!$F$47890:$F$51035,Summering!B2115))","v":0}]
[null,{"$f":"IF(Biomasser!A22=\"\",\"\", Biomasser!A22)","v":" -             Dybstrøelse - Kvæg"},{"$f":"IF(B2116=\"\",0,SUMIFS(Input!$H$47890:$H$51035,  Input!$F$47890:$F$51035,Summering!B2116))","v":0}]
[null,{"$f":"IF(Biomasser!A23=\"\",\"\", Biomasser!A23)","v":" -             Dybstrøelse - Fjerkræ"},{"$f":"IF(B2117=\"\",0,SUMIFS(Input!$H$47890:$H$51035,  Input!$F$47890:$F$51035,Summering!B2117))","v":0}]
[null,{"$f":"IF(Biomasser!A24=\"\",\"\", Biomasser!A24)","v":" -             Dybstrøelse - Hest"},{"$f":"IF(B2118=\"\",0,SUMIFS(Input!$H$47890:$H$51035,  Input!$F$47890:$F$51035,Summering!B2118))","v":0}]
[null,{"$f":"IF(Biomasser!A25=\"\",\"\", Biomasser!A25)","v":" -             Dybstrøelse - Andre typer"},{"$f":"IF(B2119=\"\",0,SUMIFS(Input!$H$47890:$H$51035,  Input!$F$47890:$F$51035,Summering!B2119))","v":0}]
[null,{"$f":"IF(Biomasser!A26=\"\",\"\", Biomasser!A26)","v":" -             Fast gødning"},{"$f":"IF(B2120=\"\",0,SUMIFS(Input!$H$47890:$H$51035,  Input!$F$47890:$F$51035,Summering!B2120))","v":0}]
[null,{"$f":"IF(Biomasser!A27=\"\",\"\", Biomasser!A27)","v":" -             Ajle"},{"$f":"IF(B2121=\"\",0,SUMIFS(Input!$H$47890:$H$51035,  Input!$F$47890:$F$51035,Summering!B2121))","v":0}]
[null,{"$f":"IF(Biomasser!A28=\"\",\"\", Biomasser!A28)","v":" -             Fiberfraktion"},{"$f":"IF(B2122=\"\",0,SUMIFS(Input!$H$47890:$H$51035,  Input!$F$47890:$F$51035,Summering!B2122))","v":0}]
[null,{"$f":"IF(Biomasser!A29=\"\",\"\", Biomasser!A29)","v":" -             Flydende fraktion fra separationsanlæg"},{"$f":"IF(B2123=\"\",0,SUMIFS(Input!$H$47890:$H$51035,  Input!$F$47890:$F$51035,Summering!B2123))","v":0}]
[null,{"$f":"IF(Biomasser!A30=\"\",\"\", Biomasser!A30)","v":" -             Flydende fraktion"},{"$f":"IF(B2124=\"\",0,SUMIFS(Input!$H$47890:$H$51035,  Input!$F$47890:$F$51035,Summering!B2124))","v":0}]
[null,{"$f":"IF(Biomasser!A31=\"\",\"\", Biomasser!A31)","v":" -             Anden husdyrgødning"},{"$f":"IF(B2125=\"\",0,SUMIFS(Input!$H$47890:$H$51035,  Input!$F$47890:$F$51035,Summering!B2125))","v":0}]
[null,{"$f":"IF(Biomasser!A32=\"\",\"\", Biomasser!A32)","v":" -             Forsuret svinegylle"},{"$f":"IF(B2126=\"\",0,SUMIFS(Input!$H$47890:$H$51035,  Input!$F$47890:$F$51035,Summering!B2126))","v":0}]
[null,{"$f":"IF(Biomasser!A33=\"\",\"\", Biomasser!A33)","v":" -             Dybstrøelse - Svin"},{"$f":"IF(B2127=\"\",0,SUMIFS(Input!$H$47890:$H$51035,  Input!$F$47890:$F$51035,Summering!B2127))","v":0}]
[null,{"$f":"IF(Biomasser!A34=\"\",\"\", Biomasser!A34)","v":" -             Gylle fibre - kemisk separation - Svin"},{"$f":"IF(B2128=\"\",0,SUMIFS(Input!$H$47890:$H$51035,  Input!$F$47890:$F$51035,Summering!B2128))","v":0}]
[null,{"$f":"IF(Biomasser!A35=\"\",\"\", Biomasser!A35)","v":" -             Gylle fibre - dekanter separation - Svin"},{"$f":"IF(B2129=\"\",0,SUMIFS(Input!$H$47890:$H$51035,  Input!$F$47890:$F$51035,Summering!B2129))","v":0}]
[null,{"$f":"IF(Biomasser!A36=\"\",\"\", Biomasser!A36)","v":" -             Staldgødning - Kvæg"},{"$f":"IF(B2130=\"\",0,SUMIFS(Input!$H$47890:$H$51035,  Input!$F$47890:$F$51035,Summering!B2130))","v":0}]
[null,{"$f":"IF(Biomasser!A37=\"\",\"\", Biomasser!A37)","v":" -             Kvæggylle - Årsopdræt 6 mdr."},{"$f":"IF(B2131=\"\",0,SUMIFS(Input!$H$47890:$H$51035,  Input!$F$47890:$F$51035,Summering!B2131))","v":0}]
[null,{"$f":"IF(Biomasser!A38=\"\",\"\", Biomasser!A38)","v":" -             Staldgødning - Fjerkræ"},{"$f":"IF(B2132=\"\",0,SUMIFS(Input!$H$47890:$H$51035,  Input!$F$47890:$F$51035,Summering!B2132))","v":0}]
[null,{"$f":"IF(Biomasser!A39=\"\",\"\", Biomasser!A39)","v":"Slam og spildevand (Overskrift, kan ikke vælges)"},{"$f":"IF(B2133=\"\",0,SUMIFS(Input!$H$47890:$H$51035,  Input!$F$47890:$F$51035,Summering!B2133))","v":0}]
[null,{"$f":"IF(Biomasser!A40=\"\",\"\", Biomasser!A40)","v":" -             Slam og spildevand samt uforurenede produktrester"},{"$f":"IF(B2134=\"\",0,SUMIFS(Input!$H$47890:$H$51035,  Input!$F$47890:$F$51035,Summering!B2134))","v":0}]
[null,{"$f":"IF(Biomasser!A41=\"\",\"\", Biomasser!A41)","v":" -             Slam fra dambrug"},{"$f":"IF(B2135=\"\",0,SUMIFS(Input!$H$47890:$H$51035,  Input!$F$47890:$F$51035,Summering!B2135))","v":0}]
[null,{"$f":"IF(Biomasser!A42=\"\",\"\", Biomasser!A42)","v":" -             Slam fra forarbejdning af animalske råvarer"},{"$f":"IF(B2136=\"\",0,SUMIFS(Input!$H$47890:$H$51035,  Input!$F$47890:$F$51035,Summering!B2136))","v":0}]
[null,{"$f":"IF(Biomasser!A43=\"\",\"\", Biomasser!A43)","v":" -             Spildevandsslam"},{"$f":"IF(B2137=\"\",0,SUMIFS(Input!$H$47890:$H$51035,  Input!$F$47890:$F$51035,Summering!B2137))","v":0}]
[null,{"$f":"IF(Biomasser!A44=\"\",\"\", Biomasser!A44)","v":" -             Proteolyseret processpildevand"},{"$f":"IF(B2138=\"\",0,SUMIFS(Input!$H$47890:$H$51035,  Input!$F$47890:$F$51035,Summering!B2138))","v":0}]
[null,{"$f":"IF(Biomasser!A45=\"\",\"\", Biomasser!A45)","v":" -             Sekundær spildevandsslam"},{"$f":"IF(B2139=\"\",0,SUMIFS(Input!$H$47890:$H$51035,  Input!$F$47890:$F$51035,Summering!B2139))","v":0}]
[null,{"$f":"IF(Biomasser!A46=\"\",\"\", Biomasser!A46)","v":" -             Sekundær spildevandsslam afvandet"},{"$f":"IF(B2140=\"\",0,SUMIFS(Input!$H$47890:$H$51035,  Input!$F$47890:$F$51035,Summering!B2140))","v":0}]
[null,{"$f":"IF(Biomasser!A47=\"\",\"\", Biomasser!A47)","v":"Organisk affald fra husholdninger og erhverv (Overskrift, kan ikke vælges)"},{"$f":"IF(B2141=\"\",0,SUMIFS(Input!$H$47890:$H$51035,  Input!$F$47890:$F$51035,Summering!B2141))","v":0}]
[null,{"$f":"IF(Biomasser!A48=\"\",\"\", Biomasser!A48)","v":" -             Kildesorteret organisk dagrenovation"},{"$f":"IF(B2142=\"\",0,SUMIFS(Input!$H$47890:$H$51035,  Input!$F$47890:$F$51035,Summering!B2142))","v":0}]
[null,{"$f":"IF(Biomasser!A49=\"\",\"\", Biomasser!A49)","v":" -             Organisk husholdningsaffald - Renescience"},{"$f":"IF(B2143=\"\",0,SUMIFS(Input!$H$47890:$H$51035,  Input!$F$47890:$F$51035,Summering!B2143))","v":0}]
[null,{"$f":"IF(Biomasser!A50=\"\",\"\", Biomasser!A50)","v":" -             Organisk husholdningsaffald - Pulper"},{"$f":"IF(B2144=\"\",0,SUMIFS(Input!$H$47890:$H$51035,  Input!$F$47890:$F$51035,Summering!B2144))","v":0}]
[null,{"$f":"IF(Biomasser!A51=\"\",\"\", Biomasser!A51)","v":" -             Organisk husholdningsaffald - Rullesigte"},{"$f":"IF(B2145=\"\",0,SUMIFS(Input!$H$47890:$H$51035,  Input!$F$47890:$F$51035,Summering!B2145))","v":0}]
[null,{"$f":"IF(Biomasser!A52=\"\",\"\", Biomasser!A52)","v":" -             Organisk husholdningsaffald - Skruepresse"},{"$f":"IF(B2146=\"\",0,SUMIFS(Input!$H$47890:$H$51035,  Input!$F$47890:$F$51035,Summering!B2146))","v":0}]
[null,{"$f":"IF(Biomasser!A53=\"\",\"\", Biomasser!A53)","v":" -             Organisk husholdningsaffald - Neddeling"},{"$f":"IF(B2147=\"\",0,SUMIFS(Input!$H$47890:$H$51035,  Input!$F$47890:$F$51035,Summering!B2147))","v":0}]
[null,{"$f":"IF(Biomasser!A54=\"\",\"\", Biomasser!A54)","v":" -             Organisk affald fra erhverv"},{"$f":"IF(B2148=\"\",0,SUMIFS(Input!$H$47890:$H$51035,  Input!$F$47890:$F$51035,Summering!B2148))","v":0}]
[null,{"$f":"IF(Biomasser!A55=\"\",\"\", Biomasser!A55)","v":"Rester og biprodukter fra planter og afgrøder (Overskrift, kan ikke vælges)"},{"$f":"IF(B2149=\"\",0,SUMIFS(Input!$H$47890:$H$51035,  Input!$F$47890:$F$51035,Summering!B2149))","v":0}]
[null,{"$f":"IF(Biomasser!A56=\"\",\"\", Biomasser!A56)","v":" -             Cellulose"},{"$f":"IF(B2150=\"\",0,SUMIFS(Input!$H$47890:$H$51035,  Input!$F$47890:$F$51035,Summering!B2150))","v":0}]
[null,{"$f":"IF(Biomasser!A57=\"\",\"\", Biomasser!A57)","v":" -             Naturpleje biomasse"},{"$f":"IF(B2151=\"\",0,SUMIFS(Input!$H$47890:$H$51035,  Input!$F$47890:$F$51035,Summering!B2151))","v":0}]
[null,{"$f":"IF(Biomasser!A58=\"\",\"\", Biomasser!A58)","v":" -             Halm"},{"$f":"IF(B2152=\"\",0,SUMIFS(Input!$H$47890:$H$51035,  Input!$F$47890:$F$51035,Summering!B2152))","v":0}]
[null,{"$f":"IF(Biomasser!A59=\"\",\"\", Biomasser!A59)","v":" -             Have-park affald"},{"$f":"IF(B2153=\"\",0,SUMIFS(Input!$H$47890:$H$51035,  Input!$F$47890:$F$51035,Summering!B2153))","v":0}]
[null,{"$f":"IF(Biomasser!A60=\"\",\"\", Biomasser!A60)","v":" -             Andre restprodukter fra produktion af primærafgrøder"},{"$f":"IF(B2154=\"\",0,SUMIFS(Input!$H$47890:$H$51035,  Input!$F$47890:$F$51035,Summering!B2154))","v":0}]
[null,{"$f":"IF(Biomasser!A61=\"\",\"\", Biomasser!A61)","v":" -             Kasserede afgrøder"},{"$f":"IF(B2155=\"\",0,SUMIFS(Input!$H$47890:$H$51035,  Input!$F$47890:$F$51035,Summering!B2155))","v":0}]
[null,{"$f":"IF(Biomasser!A62=\"\",\"\", Biomasser!A62)","v":"Rester og biprodukter fra levnesmiddel- og dyrefoderindustrien  (Overskrift, kan ikke vælges)"},{"$f":"IF(B2156=\"\",0,SUMIFS(Input!$H$47890:$H$51035,  Input!$F$47890:$F$51035,Summering!B2156))","v":0}]
[null,{"$f":"IF(Biomasser!A63=\"\",\"\", Biomasser!A63)","v":" -             Animalske biprodukter"},{"$f":"IF(B2157=\"\",0,SUMIFS(Input!$H$47890:$H$51035,  Input!$F$47890:$F$51035,Summering!B2157))","v":0}]
[null,{"$f":"IF(Biomasser!A64=\"\",\"\", Biomasser!A64)","v":" -             Mave/tarm kvæg"},{"$f":"IF(B2158=\"\",0,SUMIFS(Input!$H$47890:$H$51035,  Input!$F$47890:$F$51035,Summering!B2158))","v":0}]
[null,{"$f":"IF(Biomasser!A65=\"\",\"\", Biomasser!A65)","v":" -             Mave/tarm svin"},{"$f":"IF(B2159=\"\",0,SUMIFS(Input!$H$47890:$H$51035,  Input!$F$47890:$F$51035,Summering!B2159))","v":0}]
[null,{"$f":"IF(Biomasser!A66=\"\",\"\", Biomasser!A66)","v":" -             Valle"},{"$f":"IF(B2160=\"\",0,SUMIFS(Input!$H$47890:$H$51035,  Input!$F$47890:$F$51035,Summering!B2160))","v":0}]
[null,{"$f":"IF(Biomasser!A67=\"\",\"\", Biomasser!A67)","v":" -             Valle koncentrat"},{"$f":"IF(B2161=\"\",0,SUMIFS(Input!$H$47890:$H$51035,  Input!$F$47890:$F$51035,Summering!B2161))","v":0}]
[null,{"$f":"IF(Biomasser!A68=\"\",\"\", Biomasser!A68)","v":" -             Protein"},{"$f":"IF(B2162=\"\",0,SUMIFS(Input!$H$47890:$H$51035,  Input!$F$47890:$F$51035,Summering!B2162))","v":0}]
[null,{"$f":"IF(Biomasser!A69=\"\",\"\", Biomasser!A69)","v":" -             Fedt"},{"$f":"IF(B2163=\"\",0,SUMIFS(Input!$H$47890:$H$51035,  Input!$F$47890:$F$51035,Summering!B2163))","v":0}]
[null,{"$f":"IF(Biomasser!A70=\"\",\"\", Biomasser!A70)","v":" -             Vinasse (2,2 pct. kvælstof)"},{"$f":"IF(B2164=\"\",0,SUMIFS(Input!$H$47890:$H$51035,  Input!$F$47890:$F$51035,Summering!B2164))","v":0}]
[null,{"$f":"IF(Biomasser!A71=\"\",\"\", Biomasser!A71)","v":" -             Vinasse (3,5 pct. kvælstof)"},{"$f":"IF(B2165=\"\",0,SUMIFS(Input!$H$47890:$H$51035,  Input!$F$47890:$F$51035,Summering!B2165))","v":0}]
[null,{"$f":"IF(Biomasser!A72=\"\",\"\", Biomasser!A72)","v":" -             Kartoffelfrugtsaft"},{"$f":"IF(B2166=\"\",0,SUMIFS(Input!$H$47890:$H$51035,  Input!$F$47890:$F$51035,Summering!B2166))","v":0}]
[null,{"$f":"IF(Biomasser!A73=\"\",\"\", Biomasser!A73)","v":" -             Glukose"},{"$f":"IF(B2167=\"\",0,SUMIFS(Input!$H$47890:$H$51035,  Input!$F$47890:$F$51035,Summering!B2167))","v":0}]
[null,{"$f":"IF(Biomasser!A74=\"\",\"\", Biomasser!A74)","v":" -             Alkohol"},{"$f":"IF(B2168=\"\",0,SUMIFS(Input!$H$47890:$H$51035,  Input!$F$47890:$F$51035,Summering!B2168))","v":0}]
[null,{"$f":"IF(Biomasser!A75=\"\",\"\", Biomasser!A75)","v":" -             Pressesaft fra grøntpilleproduktion"},{"$f":"IF(B2169=\"\",0,SUMIFS(Input!$H$47890:$H$51035,  Input!$F$47890:$F$51035,Summering!B2169))","v":0}]
[null,{"$f":"IF(Biomasser!A76=\"\",\"\", Biomasser!A76)","v":" -             Inaktiveret og kalkstabiliseret biomasse"},{"$f":"IF(B2170=\"\",0,SUMIFS(Input!$H$47890:$H$51035,  Input!$F$47890:$F$51035,Summering!B2170))","v":0}]
[null,{"$f":"IF(Biomasser!A77=\"\",\"\", Biomasser!A77)","v":"Anden biomasse (Overskrift)"},{"$f":"IF(B2171=\"\",0,SUMIFS(Input!$H$47890:$H$51035,  Input!$F$47890:$F$51035,Summering!B2171))","v":0}]
[null,{"$f":"IF(Biomasser!A78=\"\",\"\", Biomasser!A78)","v":" -             Råglycerin"},{"$f":"IF(B2172=\"\",0,SUMIFS(Input!$H$47890:$H$51035,  Input!$F$47890:$F$51035,Summering!B2172))","v":0}]
[null,{"$f":"IF(Biomasser!A79=\"\",\"\", Biomasser!A79)","v":""},{"$f":"IF(B2173=\"\",0,SUMIFS(Input!$H$47890:$H$51035,  Input!$F$47890:$F$51035,Summering!B2173))","v":0}]
[null,{"$f":"IF(Biomasser!A80=\"\",\"\", Biomasser!A80)","v":""},{"$f":"IF(B2174=\"\",0,SUMIFS(Input!$H$47890:$H$51035,  Input!$F$47890:$F$51035,Summering!B2174))","v":0}]
[null,{"$f":"IF(Biomasser!A81=\"\",\"\", Biomasser!A81)","v":""},{"$f":"IF(B2175=\"\",0,SUMIFS(Input!$H$47890:$H$51035,  Input!$F$47890:$F$51035,Summering!B2175))","v":0}]
[null,{"$f":"IF(Biomasser!A82=\"\",\"\", Biomasser!A82)","v":""},{"$f":"IF(B2176=\"\",0,SUMIFS(Input!$H$47890:$H$51035,  Input!$F$47890:$F$51035,Summering!B2176))","v":0}]
[null,{"$f":"IF(Biomasser!A83=\"\",\"\", Biomasser!A83)","v":""},{"$f":"IF(B2177=\"\",0,SUMIFS(Input!$H$47890:$H$51035,  Input!$F$47890:$F$51035,Summering!B2177))","v":0}]
[null,{"$f":"IF(Biomasser!A84=\"\",\"\", Biomasser!A84)","v":""},{"$f":"IF(B2178=\"\",0,SUMIFS(Input!$H$47890:$H$51035,  Input!$F$47890:$F$51035,Summering!B2178))","v":0}]
[null,{"$f":"IF(Biomasser!A85=\"\",\"\", Biomasser!A85)","v":""},{"$f":"IF(B2179=\"\",0,SUMIFS(Input!$H$47890:$H$51035,  Input!$F$47890:$F$51035,Summering!B2179))","v":0}]
[null,{"$f":"IF(Biomasser!A86=\"\",\"\", Biomasser!A86)","v":""},{"$f":"IF(B2180=\"\",0,SUMIFS(Input!$H$47890:$H$51035,  Input!$F$47890:$F$51035,Summering!B2180))","v":0}]
[null,{"$f":"IF(Biomasser!A87=\"\",\"\", Biomasser!A87)","v":""},{"$f":"IF(B2181=\"\",0,SUMIFS(Input!$H$47890:$H$51035,  Input!$F$47890:$F$51035,Summering!B2181))","v":0}]
[null,{"$f":"IF(Biomasser!A88=\"\",\"\", Biomasser!A88)","v":""},{"$f":"IF(B2182=\"\",0,SUMIFS(Input!$H$47890:$H$51035,  Input!$F$47890:$F$51035,Summering!B2182))","v":0}]
[null,{"$f":"IF(Biomasser!A89=\"\",\"\", Biomasser!A89)","v":""},{"$f":"IF(B2183=\"\",0,SUMIFS(Input!$H$47890:$H$51035,  Input!$F$47890:$F$51035,Summering!B2183))","v":0}]
[null,{"$f":"IF(Biomasser!A90=\"\",\"\", Biomasser!A90)","v":""},{"$f":"IF(B2184=\"\",0,SUMIFS(Input!$H$47890:$H$51035,  Input!$F$47890:$F$51035,Summering!B2184))","v":0}]
[null,{"$f":"IF(Biomasser!A91=\"\",\"\", Biomasser!A91)","v":""},{"$f":"IF(B2185=\"\",0,SUMIFS(Input!$H$47890:$H$51035,  Input!$F$47890:$F$51035,Summering!B2185))","v":0}]
[null,{"$f":"IF(Biomasser!A92=\"\",\"\", Biomasser!A92)","v":""},{"$f":"IF(B2186=\"\",0,SUMIFS(Input!$H$47890:$H$51035,  Input!$F$47890:$F$51035,Summering!B2186))","v":0}]
[null,{"$f":"IF(Biomasser!A93=\"\",\"\", Biomasser!A93)","v":""},{"$f":"IF(B2187=\"\",0,SUMIFS(Input!$H$47890:$H$51035,  Input!$F$47890:$F$51035,Summering!B2187))","v":0}]
[null,{"$f":"IF(Biomasser!A94=\"\",\"\", Biomasser!A94)","v":""},{"$f":"IF(B2188=\"\",0,SUMIFS(Input!$H$47890:$H$51035,  Input!$F$47890:$F$51035,Summering!B2188))","v":0}]
[null,{"$f":"IF(Biomasser!A95=\"\",\"\", Biomasser!A95)","v":""},{"$f":"IF(B2189=\"\",0,SUMIFS(Input!$H$47890:$H$51035,  Input!$F$47890:$F$51035,Summering!B2189))","v":0}]
[null,{"$f":"IF(Biomasser!A96=\"\",\"\", Biomasser!A96)","v":""},{"$f":"IF(B2190=\"\",0,SUMIFS(Input!$H$47890:$H$51035,  Input!$F$47890:$F$51035,Summering!B2190))","v":0}]
[null,{"$f":"IF(Biomasser!A97=\"\",\"\", Biomasser!A97)","v":""},{"$f":"IF(B2191=\"\",0,SUMIFS(Input!$H$47890:$H$51035,  Input!$F$47890:$F$51035,Summering!B2191))","v":0}]
[null,{"$f":"IF(Biomasser!A98=\"\",\"\", Biomasser!A98)","v":""},{"$f":"IF(B2192=\"\",0,SUMIFS(Input!$H$47890:$H$51035,  Input!$F$47890:$F$51035,Summering!B2192))","v":0}]
[null,{"$f":"IF(Biomasser!A99=\"\",\"\", Biomasser!A99)","v":""},{"$f":"IF(B2193=\"\",0,SUMIFS(Input!$H$47890:$H$51035,  Input!$F$47890:$F$51035,Summering!B2193))","v":0}]
[null,{"$f":"IF(Biomasser!A100=\"\",\"\", Biomasser!A100)","v":""},{"$f":"IF(B2194=\"\",0,SUMIFS(Input!$H$47890:$H$51035,  Input!$F$47890:$F$51035,Summering!B2194))","v":0}]
[null,{"$f":"IF(Biomasser!A101=\"\",\"\", Biomasser!A101)","v":""},{"$f":"IF(B2195=\"\",0,SUMIFS(Input!$H$47890:$H$51035,  Input!$F$47890:$F$51035,Summering!B2195))","v":0}]
[null,{"$f":"IF(Biomasser!A102=\"\",\"\", Biomasser!A102)","v":""},{"$f":"IF(B2196=\"\",0,SUMIFS(Input!$H$47890:$H$51035,  Input!$F$47890:$F$51035,Summering!B2196))","v":0}]
[null,{"$f":"IF(Biomasser!A103=\"\",\"\", Biomasser!A103)","v":""},{"$f":"IF(B2197=\"\",0,SUMIFS(Input!$H$47890:$H$51035,  Input!$F$47890:$F$51035,Summering!B2197))","v":0}]
[null,{"$f":"IF(Biomasser!A104=\"\",\"\", Biomasser!A104)","v":""},{"$f":"IF(B2198=\"\",0,SUMIFS(Input!$H$47890:$H$51035,  Input!$F$47890:$F$51035,Summering!B2198))","v":0}]
[null,{"$f":"IF(Biomasser!A105=\"\",\"\", Biomasser!A105)","v":""},{"$f":"IF(B2199=\"\",0,SUMIFS(Input!$H$47890:$H$51035,  Input!$F$47890:$F$51035,Summering!B2199))","v":0}]
[null,{"$f":"IF(Biomasser!A106=\"\",\"\", Biomasser!A106)","v":""},{"$f":"IF(B2200=\"\",0,SUMIFS(Input!$H$47890:$H$51035,  Input!$F$47890:$F$51035,Summering!B2200))","v":0}]
[null,{"$f":"IF(Biomasser!A107=\"\",\"\", Biomasser!A107)","v":""},{"$f":"IF(B2201=\"\",0,SUMIFS(Input!$H$47890:$H$51035,  Input!$F$47890:$F$51035,Summering!B2201))","v":0}]
[null,{"$f":"IF(Biomasser!A108=\"\",\"\", Biomasser!A108)","v":""},{"$f":"IF(B2202=\"\",0,SUMIFS(Input!$H$47890:$H$51035,  Input!$F$47890:$F$51035,Summering!B2202))","v":0}]
[null,{"$f":"IF(Biomasser!A109=\"\",\"\", Biomasser!A109)","v":""},{"$f":"IF(B2203=\"\",0,SUMIFS(Input!$H$47890:$H$51035,  Input!$F$47890:$F$51035,Summering!B2203))","v":0}]
[null,{"$f":"IF(Biomasser!A110=\"\",\"\", Biomasser!A110)","v":""},{"$f":"IF(B2204=\"\",0,SUMIFS(Input!$H$47890:$H$51035,  Input!$F$47890:$F$51035,Summering!B2204))","v":0}]
[null,{"$f":"IF(Biomasser!A111=\"\",\"\", Biomasser!A111)","v":""},{"$f":"IF(B2205=\"\",0,SUMIFS(Input!$H$47890:$H$51035,  Input!$F$47890:$F$51035,Summering!B2205))","v":0}]
[null,{"$f":"IF(Biomasser!A112=\"\",\"\", Biomasser!A112)","v":""},{"$f":"IF(B2206=\"\",0,SUMIFS(Input!$H$47890:$H$51035,  Input!$F$47890:$F$51035,Summering!B2206))","v":0}]
[null,{"$f":"IF(Biomasser!A113=\"\",\"\", Biomasser!A113)","v":""},{"$f":"IF(B2207=\"\",0,SUMIFS(Input!$H$47890:$H$51035,  Input!$F$47890:$F$51035,Summering!B2207))","v":0}]
[null,{"$f":"IF(Biomasser!A114=\"\",\"\", Biomasser!A114)","v":""},{"$f":"IF(B2208=\"\",0,SUMIFS(Input!$H$47890:$H$51035,  Input!$F$47890:$F$51035,Summering!B2208))","v":0}]
[null,{"$f":"IF(Biomasser!A115=\"\",\"\", Biomasser!A115)","v":""},{"$f":"IF(B2209=\"\",0,SUMIFS(Input!$H$47890:$H$51035,  Input!$F$47890:$F$51035,Summering!B2209))","v":0}]
[null,{"$f":"IF(Biomasser!A116=\"\",\"\", Biomasser!A116)","v":""},{"$f":"IF(B2210=\"\",0,SUMIFS(Input!$H$47890:$H$51035,  Input!$F$47890:$F$51035,Summering!B2210))","v":0}]
[null,{"$f":"IF(Biomasser!A117=\"\",\"\", Biomasser!A117)","v":""},{"$f":"IF(B2211=\"\",0,SUMIFS(Input!$H$47890:$H$51035,  Input!$F$47890:$F$51035,Summering!B2211))","v":0}]
[null,{"$f":"IF(Biomasser!A118=\"\",\"\", Biomasser!A118)","v":""},{"$f":"IF(B2212=\"\",0,SUMIFS(Input!$H$47890:$H$51035,  Input!$F$47890:$F$51035,Summering!B2212))","v":0}]
[null,{"$f":"IF(Biomasser!A119=\"\",\"\", Biomasser!A119)","v":""},{"$f":"IF(B2213=\"\",0,SUMIFS(Input!$H$47890:$H$51035,  Input!$F$47890:$F$51035,Summering!B2213))","v":0}]
[null,{"$f":"IF(Biomasser!A120=\"\",\"\", Biomasser!A120)","v":""},{"$f":"IF(B2214=\"\",0,SUMIFS(Input!$H$47890:$H$51035,  Input!$F$47890:$F$51035,Summering!B2214))","v":0}]
[null,{"$f":"IF(Biomasser!A121=\"\",\"\", Biomasser!A121)","v":""},{"$f":"IF(B2215=\"\",0,SUMIFS(Input!$H$47890:$H$51035,  Input!$F$47890:$F$51035,Summering!B2215))","v":0}]
[null,{"$f":"IF(Biomasser!A122=\"\",\"\", Biomasser!A122)","v":""},{"$f":"IF(B2216=\"\",0,SUMIFS(Input!$H$47890:$H$51035,  Input!$F$47890:$F$51035,Summering!B2216))","v":0}]
[null,{"$f":"IF(Biomasser!A123=\"\",\"\", Biomasser!A123)","v":""},{"$f":"IF(B2217=\"\",0,SUMIFS(Input!$H$47890:$H$51035,  Input!$F$47890:$F$51035,Summering!B2217))","v":0}]
[null,{"$f":"IF(Biomasser!A124=\"\",\"\", Biomasser!A124)","v":""},{"$f":"IF(B2218=\"\",0,SUMIFS(Input!$H$47890:$H$51035,  Input!$F$47890:$F$51035,Summering!B2218))","v":0}]
[null,"Maj",{"$f":"SUM(C2220:C2341)","v":0},{"$f":"SUMIFS(Input!$H$10:$H$76760,Input!$A$10:$A$76760,\"Gas\",Input!$C$10:$C$76760,Summering!$B$1604,Input!$B$10:$B$76760,\"*\"&B2219&\"*\")","v":0}]
[null,{"$f":"IF(Biomasser!A3=\"\",\"\", Biomasser!A3)","v":"Afgrøder (Overskrift, kan ikke vælges)"},{"$f":"IF(B2220=\"\",0,SUMIFS(Input!$H$51040:$H$54290,  Input!$F$51040:$F$54290,Summering!B2220))","v":0}]
[null,{"$f":"IF(Biomasser!A4=\"\",\"\", Biomasser!A4)","v":" -             Majs"},{"$f":"IF(B2221=\"\",0,SUMIFS(Input!$H$51040:$H$54290,  Input!$F$51040:$F$54290,Summering!B2221))","v":0}]
[null,{"$f":"IF(Biomasser!A5=\"\",\"\", Biomasser!A5)","v":" -             Roer"},{"$f":"IF(B2222=\"\",0,SUMIFS(Input!$H$51040:$H$54290,  Input!$F$51040:$F$54290,Summering!B2222))","v":0}]
[null,{"$f":"IF(Biomasser!A6=\"\",\"\", Biomasser!A6)","v":" -             Korn"},{"$f":"IF(B2223=\"\",0,SUMIFS(Input!$H$51040:$H$54290,  Input!$F$51040:$F$54290,Summering!B2223))","v":0}]
[null,{"$f":"IF(Biomasser!A7=\"\",\"\", Biomasser!A7)","v":" -             Græs"},{"$f":"IF(B2224=\"\",0,SUMIFS(Input!$H$51040:$H$54290,  Input!$F$51040:$F$54290,Summering!B2224))","v":0}]
[null,{"$f":"IF(Biomasser!A8=\"\",\"\", Biomasser!A8)","v":" -             Kløvergræs"},{"$f":"IF(B2225=\"\",0,SUMIFS(Input!$H$51040:$H$54290,  Input!$F$51040:$F$54290,Summering!B2225))","v":0}]
[null,{"$f":"IF(Biomasser!A9=\"\",\"\", Biomasser!A9)","v":" -             Jordskokker"},{"$f":"IF(B2226=\"\",0,SUMIFS(Input!$H$51040:$H$54290,  Input!$F$51040:$F$54290,Summering!B2226))","v":0}]
[null,{"$f":"IF(Biomasser!A10=\"\",\"\", Biomasser!A10)","v":" -             Andre afgrøder"},{"$f":"IF(B2227=\"\",0,SUMIFS(Input!$H$51040:$H$54290,  Input!$F$51040:$F$54290,Summering!B2227))","v":0}]
[null,{"$f":"IF(Biomasser!A11=\"\",\"\", Biomasser!A11)","v":" -             Hvedehelsæd"},{"$f":"IF(B2228=\"\",0,SUMIFS(Input!$H$51040:$H$54290,  Input!$F$51040:$F$54290,Summering!B2228))","v":0}]
[null,{"$f":"IF(Biomasser!A12=\"\",\"\", Biomasser!A12)","v":" -             Top af foderroe"},{"$f":"IF(B2229=\"\",0,SUMIFS(Input!$H$51040:$H$54290,  Input!$F$51040:$F$54290,Summering!B2229))","v":0}]
[null,{"$f":"IF(Biomasser!A13=\"\",\"\", Biomasser!A13)","v":" -             Foderroe - rod og top frisk"},{"$f":"IF(B2230=\"\",0,SUMIFS(Input!$H$51040:$H$54290,  Input!$F$51040:$F$54290,Summering!B2230))","v":0}]
[null,{"$f":"IF(Biomasser!A14=\"\",\"\", Biomasser!A14)","v":" -             Økologisk kløvergræs"},{"$f":"IF(B2231=\"\",0,SUMIFS(Input!$H$51040:$H$54290,  Input!$F$51040:$F$54290,Summering!B2231))","v":0}]
[null,{"$f":"IF(Biomasser!A15=\"\",\"\", Biomasser!A15)","v":"Husdyrgødning (Overskrift, kan ikke vælges)"},{"$f":"IF(B2232=\"\",0,SUMIFS(Input!$H$51040:$H$54290,  Input!$F$51040:$F$54290,Summering!B2232))","v":0}]
[null,{"$f":"IF(Biomasser!A16=\"\",\"\", Biomasser!A16)","v":" -             Kvæggylle"},{"$f":"IF(B2233=\"\",0,SUMIFS(Input!$H$51040:$H$54290,  Input!$F$51040:$F$54290,Summering!B2233))","v":0}]
[null,{"$f":"IF(Biomasser!A17=\"\",\"\", Biomasser!A17)","v":" -             Svinegylle"},{"$f":"IF(B2234=\"\",0,SUMIFS(Input!$H$51040:$H$54290,  Input!$F$51040:$F$54290,Summering!B2234))","v":0}]
[null,{"$f":"IF(Biomasser!A18=\"\",\"\", Biomasser!A18)","v":" -             Gylle fra so"},{"$f":"IF(B2235=\"\",0,SUMIFS(Input!$H$51040:$H$54290,  Input!$F$51040:$F$54290,Summering!B2235))","v":0}]
[null,{"$f":"IF(Biomasser!A19=\"\",\"\", Biomasser!A19)","v":" -             Minkgylle"},{"$f":"IF(B2236=\"\",0,SUMIFS(Input!$H$51040:$H$54290,  Input!$F$51040:$F$54290,Summering!B2236))","v":0}]
[null,{"$f":"IF(Biomasser!A20=\"\",\"\", Biomasser!A20)","v":" -             Fjerkrægylle"},{"$f":"IF(B2237=\"\",0,SUMIFS(Input!$H$51040:$H$54290,  Input!$F$51040:$F$54290,Summering!B2237))","v":0}]
[null,{"$f":"IF(Biomasser!A21=\"\",\"\", Biomasser!A21)","v":" -             Blandet gylle"},{"$f":"IF(B2238=\"\",0,SUMIFS(Input!$H$51040:$H$54290,  Input!$F$51040:$F$54290,Summering!B2238))","v":0}]
[null,{"$f":"IF(Biomasser!A22=\"\",\"\", Biomasser!A22)","v":" -             Dybstrøelse - Kvæg"},{"$f":"IF(B2239=\"\",0,SUMIFS(Input!$H$51040:$H$54290,  Input!$F$51040:$F$54290,Summering!B2239))","v":0}]
[null,{"$f":"IF(Biomasser!A23=\"\",\"\", Biomasser!A23)","v":" -             Dybstrøelse - Fjerkræ"},{"$f":"IF(B2240=\"\",0,SUMIFS(Input!$H$51040:$H$54290,  Input!$F$51040:$F$54290,Summering!B2240))","v":0}]
[null,{"$f":"IF(Biomasser!A24=\"\",\"\", Biomasser!A24)","v":" -             Dybstrøelse - Hest"},{"$f":"IF(B2241=\"\",0,SUMIFS(Input!$H$51040:$H$54290,  Input!$F$51040:$F$54290,Summering!B2241))","v":0}]
[null,{"$f":"IF(Biomasser!A25=\"\",\"\", Biomasser!A25)","v":" -             Dybstrøelse - Andre typer"},{"$f":"IF(B2242=\"\",0,SUMIFS(Input!$H$51040:$H$54290,  Input!$F$51040:$F$54290,Summering!B2242))","v":0}]
[null,{"$f":"IF(Biomasser!A26=\"\",\"\", Biomasser!A26)","v":" -             Fast gødning"},{"$f":"IF(B2243=\"\",0,SUMIFS(Input!$H$51040:$H$54290,  Input!$F$51040:$F$54290,Summering!B2243))","v":0}]
[null,{"$f":"IF(Biomasser!A27=\"\",\"\", Biomasser!A27)","v":" -             Ajle"},{"$f":"IF(B2244=\"\",0,SUMIFS(Input!$H$51040:$H$54290,  Input!$F$51040:$F$54290,Summering!B2244))","v":0}]
[null,{"$f":"IF(Biomasser!A28=\"\",\"\", Biomasser!A28)","v":" -             Fiberfraktion"},{"$f":"IF(B2245=\"\",0,SUMIFS(Input!$H$51040:$H$54290,  Input!$F$51040:$F$54290,Summering!B2245))","v":0}]
[null,{"$f":"IF(Biomasser!A29=\"\",\"\", Biomasser!A29)","v":" -             Flydende fraktion fra separationsanlæg"},{"$f":"IF(B2246=\"\",0,SUMIFS(Input!$H$51040:$H$54290,  Input!$F$51040:$F$54290,Summering!B2246))","v":0}]
[null,{"$f":"IF(Biomasser!A30=\"\",\"\", Biomasser!A30)","v":" -             Flydende fraktion"},{"$f":"IF(B2247=\"\",0,SUMIFS(Input!$H$51040:$H$54290,  Input!$F$51040:$F$54290,Summering!B2247))","v":0}]
[null,{"$f":"IF(Biomasser!A31=\"\",\"\", Biomasser!A31)","v":" -             Anden husdyrgødning"},{"$f":"IF(B2248=\"\",0,SUMIFS(Input!$H$51040:$H$54290,  Input!$F$51040:$F$54290,Summering!B2248))","v":0}]
[null,{"$f":"IF(Biomasser!A32=\"\",\"\", Biomasser!A32)","v":" -             Forsuret svinegylle"},{"$f":"IF(B2249=\"\",0,SUMIFS(Input!$H$51040:$H$54290,  Input!$F$51040:$F$54290,Summering!B2249))","v":0}]
[null,{"$f":"IF(Biomasser!A33=\"\",\"\", Biomasser!A33)","v":" -             Dybstrøelse - Svin"},{"$f":"IF(B2250=\"\",0,SUMIFS(Input!$H$51040:$H$54290,  Input!$F$51040:$F$54290,Summering!B2250))","v":0}]
[null,{"$f":"IF(Biomasser!A34=\"\",\"\", Biomasser!A34)","v":" -             Gylle fibre - kemisk separation - Svin"},{"$f":"IF(B2251=\"\",0,SUMIFS(Input!$H$51040:$H$54290,  Input!$F$51040:$F$54290,Summering!B2251))","v":0}]
[null,{"$f":"IF(Biomasser!A35=\"\",\"\", Biomasser!A35)","v":" -             Gylle fibre - dekanter separation - Svin"},{"$f":"IF(B2252=\"\",0,SUMIFS(Input!$H$51040:$H$54290,  Input!$F$51040:$F$54290,Summering!B2252))","v":0}]
[null,{"$f":"IF(Biomasser!A36=\"\",\"\", Biomasser!A36)","v":" -             Staldgødning - Kvæg"},{"$f":"IF(B2253=\"\",0,SUMIFS(Input!$H$51040:$H$54290,  Input!$F$51040:$F$54290,Summering!B2253))","v":0}]
[null,{"$f":"IF(Biomasser!A37=\"\",\"\", Biomasser!A37)","v":" -             Kvæggylle - Årsopdræt 6 mdr."},{"$f":"IF(B2254=\"\",0,SUMIFS(Input!$H$51040:$H$54290,  Input!$F$51040:$F$54290,Summering!B2254))","v":0}]
[null,{"$f":"IF(Biomasser!A38=\"\",\"\", Biomasser!A38)","v":" -             Staldgødning - Fjerkræ"},{"$f":"IF(B2255=\"\",0,SUMIFS(Input!$H$51040:$H$54290,  Input!$F$51040:$F$54290,Summering!B2255))","v":0}]
[null,{"$f":"IF(Biomasser!A39=\"\",\"\", Biomasser!A39)","v":"Slam og spildevand (Overskrift, kan ikke vælges)"},{"$f":"IF(B2256=\"\",0,SUMIFS(Input!$H$51040:$H$54290,  Input!$F$51040:$F$54290,Summering!B2256))","v":0}]
[null,{"$f":"IF(Biomasser!A40=\"\",\"\", Biomasser!A40)","v":" -             Slam og spildevand samt uforurenede produktrester"},{"$f":"IF(B2257=\"\",0,SUMIFS(Input!$H$51040:$H$54290,  Input!$F$51040:$F$54290,Summering!B2257))","v":0}]
[null,{"$f":"IF(Biomasser!A41=\"\",\"\", Biomasser!A41)","v":" -             Slam fra dambrug"},{"$f":"IF(B2258=\"\",0,SUMIFS(Input!$H$51040:$H$54290,  Input!$F$51040:$F$54290,Summering!B2258))","v":0}]
[null,{"$f":"IF(Biomasser!A42=\"\",\"\", Biomasser!A42)","v":" -             Slam fra forarbejdning af animalske råvarer"},{"$f":"IF(B2259=\"\",0,SUMIFS(Input!$H$51040:$H$54290,  Input!$F$51040:$F$54290,Summering!B2259))","v":0}]
[null,{"$f":"IF(Biomasser!A43=\"\",\"\", Biomasser!A43)","v":" -             Spildevandsslam"},{"$f":"IF(B2260=\"\",0,SUMIFS(Input!$H$51040:$H$54290,  Input!$F$51040:$F$54290,Summering!B2260))","v":0}]
[null,{"$f":"IF(Biomasser!A44=\"\",\"\", Biomasser!A44)","v":" -             Proteolyseret processpildevand"},{"$f":"IF(B2261=\"\",0,SUMIFS(Input!$H$51040:$H$54290,  Input!$F$51040:$F$54290,Summering!B2261))","v":0}]
[null,{"$f":"IF(Biomasser!A45=\"\",\"\", Biomasser!A45)","v":" -             Sekundær spildevandsslam"},{"$f":"IF(B2262=\"\",0,SUMIFS(Input!$H$51040:$H$54290,  Input!$F$51040:$F$54290,Summering!B2262))","v":0}]
[null,{"$f":"IF(Biomasser!A46=\"\",\"\", Biomasser!A46)","v":" -             Sekundær spildevandsslam afvandet"},{"$f":"IF(B2263=\"\",0,SUMIFS(Input!$H$51040:$H$54290,  Input!$F$51040:$F$54290,Summering!B2263))","v":0}]
[null,{"$f":"IF(Biomasser!A47=\"\",\"\", Biomasser!A47)","v":"Organisk affald fra husholdninger og erhverv (Overskrift, kan ikke vælges)"},{"$f":"IF(B2264=\"\",0,SUMIFS(Input!$H$51040:$H$54290,  Input!$F$51040:$F$54290,Summering!B2264))","v":0}]
[null,{"$f":"IF(Biomasser!A48=\"\",\"\", Biomasser!A48)","v":" -             Kildesorteret organisk dagrenovation"},{"$f":"IF(B2265=\"\",0,SUMIFS(Input!$H$51040:$H$54290,  Input!$F$51040:$F$54290,Summering!B2265))","v":0}]
[null,{"$f":"IF(Biomasser!A49=\"\",\"\", Biomasser!A49)","v":" -             Organisk husholdningsaffald - Renescience"},{"$f":"IF(B2266=\"\",0,SUMIFS(Input!$H$51040:$H$54290,  Input!$F$51040:$F$54290,Summering!B2266))","v":0}]
[null,{"$f":"IF(Biomasser!A50=\"\",\"\", Biomasser!A50)","v":" -             Organisk husholdningsaffald - Pulper"},{"$f":"IF(B2267=\"\",0,SUMIFS(Input!$H$51040:$H$54290,  Input!$F$51040:$F$54290,Summering!B2267))","v":0}]
[null,{"$f":"IF(Biomasser!A51=\"\",\"\", Biomasser!A51)","v":" -             Organisk husholdningsaffald - Rullesigte"},{"$f":"IF(B2268=\"\",0,SUMIFS(Input!$H$51040:$H$54290,  Input!$F$51040:$F$54290,Summering!B2268))","v":0}]
[null,{"$f":"IF(Biomasser!A52=\"\",\"\", Biomasser!A52)","v":" -             Organisk husholdningsaffald - Skruepresse"},{"$f":"IF(B2269=\"\",0,SUMIFS(Input!$H$51040:$H$54290,  Input!$F$51040:$F$54290,Summering!B2269))","v":0}]
[null,{"$f":"IF(Biomasser!A53=\"\",\"\", Biomasser!A53)","v":" -             Organisk husholdningsaffald - Neddeling"},{"$f":"IF(B2270=\"\",0,SUMIFS(Input!$H$51040:$H$54290,  Input!$F$51040:$F$54290,Summering!B2270))","v":0}]
[null,{"$f":"IF(Biomasser!A54=\"\",\"\", Biomasser!A54)","v":" -             Organisk affald fra erhverv"},{"$f":"IF(B2271=\"\",0,SUMIFS(Input!$H$51040:$H$54290,  Input!$F$51040:$F$54290,Summering!B2271))","v":0}]
[null,{"$f":"IF(Biomasser!A55=\"\",\"\", Biomasser!A55)","v":"Rester og biprodukter fra planter og afgrøder (Overskrift, kan ikke vælges)"},{"$f":"IF(B2272=\"\",0,SUMIFS(Input!$H$51040:$H$54290,  Input!$F$51040:$F$54290,Summering!B2272))","v":0}]
[null,{"$f":"IF(Biomasser!A56=\"\",\"\", Biomasser!A56)","v":" -             Cellulose"},{"$f":"IF(B2273=\"\",0,SUMIFS(Input!$H$51040:$H$54290,  Input!$F$51040:$F$54290,Summering!B2273))","v":0}]
[null,{"$f":"IF(Biomasser!A57=\"\",\"\", Biomasser!A57)","v":" -             Naturpleje biomasse"},{"$f":"IF(B2274=\"\",0,SUMIFS(Input!$H$51040:$H$54290,  Input!$F$51040:$F$54290,Summering!B2274))","v":0}]
[null,{"$f":"IF(Biomasser!A58=\"\",\"\", Biomasser!A58)","v":" -             Halm"},{"$f":"IF(B2275=\"\",0,SUMIFS(Input!$H$51040:$H$54290,  Input!$F$51040:$F$54290,Summering!B2275))","v":0}]
[null,{"$f":"IF(Biomasser!A59=\"\",\"\", Biomasser!A59)","v":" -             Have-park affald"},{"$f":"IF(B2276=\"\",0,SUMIFS(Input!$H$51040:$H$54290,  Input!$F$51040:$F$54290,Summering!B2276))","v":0}]
[null,{"$f":"IF(Biomasser!A60=\"\",\"\", Biomasser!A60)","v":" -             Andre restprodukter fra produktion af primærafgrøder"},{"$f":"IF(B2277=\"\",0,SUMIFS(Input!$H$51040:$H$54290,  Input!$F$51040:$F$54290,Summering!B2277))","v":0}]
[null,{"$f":"IF(Biomasser!A61=\"\",\"\", Biomasser!A61)","v":" -             Kasserede afgrøder"},{"$f":"IF(B2278=\"\",0,SUMIFS(Input!$H$51040:$H$54290,  Input!$F$51040:$F$54290,Summering!B2278))","v":0}]
[null,{"$f":"IF(Biomasser!A62=\"\",\"\", Biomasser!A62)","v":"Rester og biprodukter fra levnesmiddel- og dyrefoderindustrien  (Overskrift, kan ikke vælges)"},{"$f":"IF(B2279=\"\",0,SUMIFS(Input!$H$51040:$H$54290,  Input!$F$51040:$F$54290,Summering!B2279))","v":0}]
[null,{"$f":"IF(Biomasser!A63=\"\",\"\", Biomasser!A63)","v":" -             Animalske biprodukter"},{"$f":"IF(B2280=\"\",0,SUMIFS(Input!$H$51040:$H$54290,  Input!$F$51040:$F$54290,Summering!B2280))","v":0}]
[null,{"$f":"IF(Biomasser!A64=\"\",\"\", Biomasser!A64)","v":" -             Mave/tarm kvæg"},{"$f":"IF(B2281=\"\",0,SUMIFS(Input!$H$51040:$H$54290,  Input!$F$51040:$F$54290,Summering!B2281))","v":0}]
[null,{"$f":"IF(Biomasser!A65=\"\",\"\", Biomasser!A65)","v":" -             Mave/tarm svin"},{"$f":"IF(B2282=\"\",0,SUMIFS(Input!$H$51040:$H$54290,  Input!$F$51040:$F$54290,Summering!B2282))","v":0}]
[null,{"$f":"IF(Biomasser!A66=\"\",\"\", Biomasser!A66)","v":" -             Valle"},{"$f":"IF(B2283=\"\",0,SUMIFS(Input!$H$51040:$H$54290,  Input!$F$51040:$F$54290,Summering!B2283))","v":0}]
[null,{"$f":"IF(Biomasser!A67=\"\",\"\", Biomasser!A67)","v":" -             Valle koncentrat"},{"$f":"IF(B2284=\"\",0,SUMIFS(Input!$H$51040:$H$54290,  Input!$F$51040:$F$54290,Summering!B2284))","v":0}]
[null,{"$f":"IF(Biomasser!A68=\"\",\"\", Biomasser!A68)","v":" -             Protein"},{"$f":"IF(B2285=\"\",0,SUMIFS(Input!$H$51040:$H$54290,  Input!$F$51040:$F$54290,Summering!B2285))","v":0}]
[null,{"$f":"IF(Biomasser!A69=\"\",\"\", Biomasser!A69)","v":" -             Fedt"},{"$f":"IF(B2286=\"\",0,SUMIFS(Input!$H$51040:$H$54290,  Input!$F$51040:$F$54290,Summering!B2286))","v":0}]
[null,{"$f":"IF(Biomasser!A70=\"\",\"\", Biomasser!A70)","v":" -             Vinasse (2,2 pct. kvælstof)"},{"$f":"IF(B2287=\"\",0,SUMIFS(Input!$H$51040:$H$54290,  Input!$F$51040:$F$54290,Summering!B2287))","v":0}]
[null,{"$f":"IF(Biomasser!A71=\"\",\"\", Biomasser!A71)","v":" -             Vinasse (3,5 pct. kvælstof)"},{"$f":"IF(B2288=\"\",0,SUMIFS(Input!$H$51040:$H$54290,  Input!$F$51040:$F$54290,Summering!B2288))","v":0}]
[null,{"$f":"IF(Biomasser!A72=\"\",\"\", Biomasser!A72)","v":" -             Kartoffelfrugtsaft"},{"$f":"IF(B2289=\"\",0,SUMIFS(Input!$H$51040:$H$54290,  Input!$F$51040:$F$54290,Summering!B2289))","v":0}]
[null,{"$f":"IF(Biomasser!A73=\"\",\"\", Biomasser!A73)","v":" -             Glukose"},{"$f":"IF(B2290=\"\",0,SUMIFS(Input!$H$51040:$H$54290,  Input!$F$51040:$F$54290,Summering!B2290))","v":0}]
[null,{"$f":"IF(Biomasser!A74=\"\",\"\", Biomasser!A74)","v":" -             Alkohol"},{"$f":"IF(B2291=\"\",0,SUMIFS(Input!$H$51040:$H$54290,  Input!$F$51040:$F$54290,Summering!B2291))","v":0}]
[null,{"$f":"IF(Biomasser!A75=\"\",\"\", Biomasser!A75)","v":" -             Pressesaft fra grøntpilleproduktion"},{"$f":"IF(B2292=\"\",0,SUMIFS(Input!$H$51040:$H$54290,  Input!$F$51040:$F$54290,Summering!B2292))","v":0}]
[null,{"$f":"IF(Biomasser!A76=\"\",\"\", Biomasser!A76)","v":" -             Inaktiveret og kalkstabiliseret biomasse"},{"$f":"IF(B2293=\"\",0,SUMIFS(Input!$H$51040:$H$54290,  Input!$F$51040:$F$54290,Summering!B2293))","v":0}]
[null,{"$f":"IF(Biomasser!A77=\"\",\"\", Biomasser!A77)","v":"Anden biomasse (Overskrift)"},{"$f":"IF(B2294=\"\",0,SUMIFS(Input!$H$51040:$H$54290,  Input!$F$51040:$F$54290,Summering!B2294))","v":0}]
[null,{"$f":"IF(Biomasser!A78=\"\",\"\", Biomasser!A78)","v":" -             Råglycerin"},{"$f":"IF(B2295=\"\",0,SUMIFS(Input!$H$51040:$H$54290,  Input!$F$51040:$F$54290,Summering!B2295))","v":0}]
[null,{"$f":"IF(Biomasser!A79=\"\",\"\", Biomasser!A79)","v":""},{"$f":"IF(B2296=\"\",0,SUMIFS(Input!$H$51040:$H$54290,  Input!$F$51040:$F$54290,Summering!B2296))","v":0}]
[null,{"$f":"IF(Biomasser!A80=\"\",\"\", Biomasser!A80)","v":""},{"$f":"IF(B2297=\"\",0,SUMIFS(Input!$H$51040:$H$54290,  Input!$F$51040:$F$54290,Summering!B2297))","v":0}]
[null,{"$f":"IF(Biomasser!A81=\"\",\"\", Biomasser!A81)","v":""},{"$f":"IF(B2298=\"\",0,SUMIFS(Input!$H$51040:$H$54290,  Input!$F$51040:$F$54290,Summering!B2298))","v":0}]
[null,{"$f":"IF(Biomasser!A82=\"\",\"\", Biomasser!A82)","v":""},{"$f":"IF(B2299=\"\",0,SUMIFS(Input!$H$51040:$H$54290,  Input!$F$51040:$F$54290,Summering!B2299))","v":0}]
[null,{"$f":"IF(Biomasser!A83=\"\",\"\", Biomasser!A83)","v":""},{"$f":"IF(B2300=\"\",0,SUMIFS(Input!$H$51040:$H$54290,  Input!$F$51040:$F$54290,Summering!B2300))","v":0}]
[null,{"$f":"IF(Biomasser!A84=\"\",\"\", Biomasser!A84)","v":""},{"$f":"IF(B2301=\"\",0,SUMIFS(Input!$H$51040:$H$54290,  Input!$F$51040:$F$54290,Summering!B2301))","v":0}]
[null,{"$f":"IF(Biomasser!A85=\"\",\"\", Biomasser!A85)","v":""},{"$f":"IF(B2302=\"\",0,SUMIFS(Input!$H$51040:$H$54290,  Input!$F$51040:$F$54290,Summering!B2302))","v":0}]
[null,{"$f":"IF(Biomasser!A86=\"\",\"\", Biomasser!A86)","v":""},{"$f":"IF(B2303=\"\",0,SUMIFS(Input!$H$51040:$H$54290,  Input!$F$51040:$F$54290,Summering!B2303))","v":0}]
[null,{"$f":"IF(Biomasser!A87=\"\",\"\", Biomasser!A87)","v":""},{"$f":"IF(B2304=\"\",0,SUMIFS(Input!$H$51040:$H$54290,  Input!$F$51040:$F$54290,Summering!B2304))","v":0}]
[null,{"$f":"IF(Biomasser!A88=\"\",\"\", Biomasser!A88)","v":""},{"$f":"IF(B2305=\"\",0,SUMIFS(Input!$H$51040:$H$54290,  Input!$F$51040:$F$54290,Summering!B2305))","v":0}]
[null,{"$f":"IF(Biomasser!A89=\"\",\"\", Biomasser!A89)","v":""},{"$f":"IF(B2306=\"\",0,SUMIFS(Input!$H$51040:$H$54290,  Input!$F$51040:$F$54290,Summering!B2306))","v":0}]
[null,{"$f":"IF(Biomasser!A90=\"\",\"\", Biomasser!A90)","v":""},{"$f":"IF(B2307=\"\",0,SUMIFS(Input!$H$51040:$H$54290,  Input!$F$51040:$F$54290,Summering!B2307))","v":0}]
[null,{"$f":"IF(Biomasser!A91=\"\",\"\", Biomasser!A91)","v":""},{"$f":"IF(B2308=\"\",0,SUMIFS(Input!$H$51040:$H$54290,  Input!$F$51040:$F$54290,Summering!B2308))","v":0}]
[null,{"$f":"IF(Biomasser!A92=\"\",\"\", Biomasser!A92)","v":""},{"$f":"IF(B2309=\"\",0,SUMIFS(Input!$H$51040:$H$54290,  Input!$F$51040:$F$54290,Summering!B2309))","v":0}]
[null,{"$f":"IF(Biomasser!A93=\"\",\"\", Biomasser!A93)","v":""},{"$f":"IF(B2310=\"\",0,SUMIFS(Input!$H$51040:$H$54290,  Input!$F$51040:$F$54290,Summering!B2310))","v":0}]
[null,{"$f":"IF(Biomasser!A94=\"\",\"\", Biomasser!A94)","v":""},{"$f":"IF(B2311=\"\",0,SUMIFS(Input!$H$51040:$H$54290,  Input!$F$51040:$F$54290,Summering!B2311))","v":0}]
[null,{"$f":"IF(Biomasser!A95=\"\",\"\", Biomasser!A95)","v":""},{"$f":"IF(B2312=\"\",0,SUMIFS(Input!$H$51040:$H$54290,  Input!$F$51040:$F$54290,Summering!B2312))","v":0}]
[null,{"$f":"IF(Biomasser!A96=\"\",\"\", Biomasser!A96)","v":""},{"$f":"IF(B2313=\"\",0,SUMIFS(Input!$H$51040:$H$54290,  Input!$F$51040:$F$54290,Summering!B2313))","v":0}]
[null,{"$f":"IF(Biomasser!A97=\"\",\"\", Biomasser!A97)","v":""},{"$f":"IF(B2314=\"\",0,SUMIFS(Input!$H$51040:$H$54290,  Input!$F$51040:$F$54290,Summering!B2314))","v":0}]
[null,{"$f":"IF(Biomasser!A98=\"\",\"\", Biomasser!A98)","v":""},{"$f":"IF(B2315=\"\",0,SUMIFS(Input!$H$51040:$H$54290,  Input!$F$51040:$F$54290,Summering!B2315))","v":0}]
[null,{"$f":"IF(Biomasser!A99=\"\",\"\", Biomasser!A99)","v":""},{"$f":"IF(B2316=\"\",0,SUMIFS(Input!$H$51040:$H$54290,  Input!$F$51040:$F$54290,Summering!B2316))","v":0}]
[null,{"$f":"IF(Biomasser!A100=\"\",\"\", Biomasser!A100)","v":""},{"$f":"IF(B2317=\"\",0,SUMIFS(Input!$H$51040:$H$54290,  Input!$F$51040:$F$54290,Summering!B2317))","v":0}]
[null,{"$f":"IF(Biomasser!A101=\"\",\"\", Biomasser!A101)","v":""},{"$f":"IF(B2318=\"\",0,SUMIFS(Input!$H$51040:$H$54290,  Input!$F$51040:$F$54290,Summering!B2318))","v":0}]
[null,{"$f":"IF(Biomasser!A102=\"\",\"\", Biomasser!A102)","v":""},{"$f":"IF(B2319=\"\",0,SUMIFS(Input!$H$51040:$H$54290,  Input!$F$51040:$F$54290,Summering!B2319))","v":0}]
[null,{"$f":"IF(Biomasser!A103=\"\",\"\", Biomasser!A103)","v":""},{"$f":"IF(B2320=\"\",0,SUMIFS(Input!$H$51040:$H$54290,  Input!$F$51040:$F$54290,Summering!B2320))","v":0}]
[null,{"$f":"IF(Biomasser!A104=\"\",\"\", Biomasser!A104)","v":""},{"$f":"IF(B2321=\"\",0,SUMIFS(Input!$H$51040:$H$54290,  Input!$F$51040:$F$54290,Summering!B2321))","v":0}]
[null,{"$f":"IF(Biomasser!A105=\"\",\"\", Biomasser!A105)","v":""},{"$f":"IF(B2322=\"\",0,SUMIFS(Input!$H$51040:$H$54290,  Input!$F$51040:$F$54290,Summering!B2322))","v":0}]
[null,{"$f":"IF(Biomasser!A106=\"\",\"\", Biomasser!A106)","v":""},{"$f":"IF(B2323=\"\",0,SUMIFS(Input!$H$51040:$H$54290,  Input!$F$51040:$F$54290,Summering!B2323))","v":0}]
[null,{"$f":"IF(Biomasser!A107=\"\",\"\", Biomasser!A107)","v":""},{"$f":"IF(B2324=\"\",0,SUMIFS(Input!$H$51040:$H$54290,  Input!$F$51040:$F$54290,Summering!B2324))","v":0}]
[null,{"$f":"IF(Biomasser!A108=\"\",\"\", Biomasser!A108)","v":""},{"$f":"IF(B2325=\"\",0,SUMIFS(Input!$H$51040:$H$54290,  Input!$F$51040:$F$54290,Summering!B2325))","v":0}]
[null,{"$f":"IF(Biomasser!A109=\"\",\"\", Biomasser!A109)","v":""},{"$f":"IF(B2326=\"\",0,SUMIFS(Input!$H$51040:$H$54290,  Input!$F$51040:$F$54290,Summering!B2326))","v":0}]
[null,{"$f":"IF(Biomasser!A110=\"\",\"\", Biomasser!A110)","v":""},{"$f":"IF(B2327=\"\",0,SUMIFS(Input!$H$51040:$H$54290,  Input!$F$51040:$F$54290,Summering!B2327))","v":0}]
[null,{"$f":"IF(Biomasser!A111=\"\",\"\", Biomasser!A111)","v":""},{"$f":"IF(B2328=\"\",0,SUMIFS(Input!$H$51040:$H$54290,  Input!$F$51040:$F$54290,Summering!B2328))","v":0}]
[null,{"$f":"IF(Biomasser!A112=\"\",\"\", Biomasser!A112)","v":""},{"$f":"IF(B2329=\"\",0,SUMIFS(Input!$H$51040:$H$54290,  Input!$F$51040:$F$54290,Summering!B2329))","v":0}]
[null,{"$f":"IF(Biomasser!A113=\"\",\"\", Biomasser!A113)","v":""},{"$f":"IF(B2330=\"\",0,SUMIFS(Input!$H$51040:$H$54290,  Input!$F$51040:$F$54290,Summering!B2330))","v":0}]
[null,{"$f":"IF(Biomasser!A114=\"\",\"\", Biomasser!A114)","v":""},{"$f":"IF(B2331=\"\",0,SUMIFS(Input!$H$51040:$H$54290,  Input!$F$51040:$F$54290,Summering!B2331))","v":0}]
[null,{"$f":"IF(Biomasser!A115=\"\",\"\", Biomasser!A115)","v":""},{"$f":"IF(B2332=\"\",0,SUMIFS(Input!$H$51040:$H$54290,  Input!$F$51040:$F$54290,Summering!B2332))","v":0}]
[null,{"$f":"IF(Biomasser!A116=\"\",\"\", Biomasser!A116)","v":""},{"$f":"IF(B2333=\"\",0,SUMIFS(Input!$H$51040:$H$54290,  Input!$F$51040:$F$54290,Summering!B2333))","v":0}]
[null,{"$f":"IF(Biomasser!A117=\"\",\"\", Biomasser!A117)","v":""},{"$f":"IF(B2334=\"\",0,SUMIFS(Input!$H$51040:$H$54290,  Input!$F$51040:$F$54290,Summering!B2334))","v":0}]
[null,{"$f":"IF(Biomasser!A118=\"\",\"\", Biomasser!A118)","v":""},{"$f":"IF(B2335=\"\",0,SUMIFS(Input!$H$51040:$H$54290,  Input!$F$51040:$F$54290,Summering!B2335))","v":0}]
[null,{"$f":"IF(Biomasser!A119=\"\",\"\", Biomasser!A119)","v":""},{"$f":"IF(B2336=\"\",0,SUMIFS(Input!$H$51040:$H$54290,  Input!$F$51040:$F$54290,Summering!B2336))","v":0}]
[null,{"$f":"IF(Biomasser!A120=\"\",\"\", Biomasser!A120)","v":""},{"$f":"IF(B2337=\"\",0,SUMIFS(Input!$H$51040:$H$54290,  Input!$F$51040:$F$54290,Summering!B2337))","v":0}]
[null,{"$f":"IF(Biomasser!A121=\"\",\"\", Biomasser!A121)","v":""},{"$f":"IF(B2338=\"\",0,SUMIFS(Input!$H$51040:$H$54290,  Input!$F$51040:$F$54290,Summering!B2338))","v":0}]
[null,{"$f":"IF(Biomasser!A122=\"\",\"\", Biomasser!A122)","v":""},{"$f":"IF(B2339=\"\",0,SUMIFS(Input!$H$51040:$H$54290,  Input!$F$51040:$F$54290,Summering!B2339))","v":0}]
[null,{"$f":"IF(Biomasser!A123=\"\",\"\", Biomasser!A123)","v":""},{"$f":"IF(B2340=\"\",0,SUMIFS(Input!$H$51040:$H$54290,  Input!$F$51040:$F$54290,Summering!B2340))","v":0}]
[null,{"$f":"IF(Biomasser!A124=\"\",\"\", Biomasser!A124)","v":""},{"$f":"IF(B2341=\"\",0,SUMIFS(Input!$H$51040:$H$54290,  Input!$F$51040:$F$54290,Summering!B2341))","v":0}]
[null,"Juni",{"$f":"SUM(C2343:C2464)","v":0},{"$f":"SUMIFS(Input!$H$10:$H$76760,Input!$A$10:$A$76760,\"Gas\",Input!$C$10:$C$76760,Summering!$B$1604,Input!$B$10:$B$76760,\"*\"&B2342&\"*\")","v":0}]
[null,{"$f":"IF(Biomasser!A3=\"\",\"\", Biomasser!A3)","v":"Afgrøder (Overskrift, kan ikke vælges)"},{"$f":"IF(B2343=\"\",0,SUMIFS(Input!$H$54295:$H$57440,  Input!$F$54295:$F$57440,Summering!B2343))","v":0}]
[null,{"$f":"IF(Biomasser!A4=\"\",\"\", Biomasser!A4)","v":" -             Majs"},{"$f":"IF(B2344=\"\",0,SUMIFS(Input!$H$54295:$H$57440,  Input!$F$54295:$F$57440,Summering!B2344))","v":0}]
[null,{"$f":"IF(Biomasser!A5=\"\",\"\", Biomasser!A5)","v":" -             Roer"},{"$f":"IF(B2345=\"\",0,SUMIFS(Input!$H$54295:$H$57440,  Input!$F$54295:$F$57440,Summering!B2345))","v":0}]
[null,{"$f":"IF(Biomasser!A6=\"\",\"\", Biomasser!A6)","v":" -             Korn"},{"$f":"IF(B2346=\"\",0,SUMIFS(Input!$H$54295:$H$57440,  Input!$F$54295:$F$57440,Summering!B2346))","v":0}]
[null,{"$f":"IF(Biomasser!A7=\"\",\"\", Biomasser!A7)","v":" -             Græs"},{"$f":"IF(B2347=\"\",0,SUMIFS(Input!$H$54295:$H$57440,  Input!$F$54295:$F$57440,Summering!B2347))","v":0}]
[null,{"$f":"IF(Biomasser!A8=\"\",\"\", Biomasser!A8)","v":" -             Kløvergræs"},{"$f":"IF(B2348=\"\",0,SUMIFS(Input!$H$54295:$H$57440,  Input!$F$54295:$F$57440,Summering!B2348))","v":0}]
[null,{"$f":"IF(Biomasser!A9=\"\",\"\", Biomasser!A9)","v":" -             Jordskokker"},{"$f":"IF(B2349=\"\",0,SUMIFS(Input!$H$54295:$H$57440,  Input!$F$54295:$F$57440,Summering!B2349))","v":0}]
[null,{"$f":"IF(Biomasser!A10=\"\",\"\", Biomasser!A10)","v":" -             Andre afgrøder"},{"$f":"IF(B2350=\"\",0,SUMIFS(Input!$H$54295:$H$57440,  Input!$F$54295:$F$57440,Summering!B2350))","v":0}]
[null,{"$f":"IF(Biomasser!A11=\"\",\"\", Biomasser!A11)","v":" -             Hvedehelsæd"},{"$f":"IF(B2351=\"\",0,SUMIFS(Input!$H$54295:$H$57440,  Input!$F$54295:$F$57440,Summering!B2351))","v":0}]
[null,{"$f":"IF(Biomasser!A12=\"\",\"\", Biomasser!A12)","v":" -             Top af foderroe"},{"$f":"IF(B2352=\"\",0,SUMIFS(Input!$H$54295:$H$57440,  Input!$F$54295:$F$57440,Summering!B2352))","v":0}]
[null,{"$f":"IF(Biomasser!A13=\"\",\"\", Biomasser!A13)","v":" -             Foderroe - rod og top frisk"},{"$f":"IF(B2353=\"\",0,SUMIFS(Input!$H$54295:$H$57440,  Input!$F$54295:$F$57440,Summering!B2353))","v":0}]
[null,{"$f":"IF(Biomasser!A14=\"\",\"\", Biomasser!A14)","v":" -             Økologisk kløvergræs"},{"$f":"IF(B2354=\"\",0,SUMIFS(Input!$H$54295:$H$57440,  Input!$F$54295:$F$57440,Summering!B2354))","v":0}]
[null,{"$f":"IF(Biomasser!A15=\"\",\"\", Biomasser!A15)","v":"Husdyrgødning (Overskrift, kan ikke vælges)"},{"$f":"IF(B2355=\"\",0,SUMIFS(Input!$H$54295:$H$57440,  Input!$F$54295:$F$57440,Summering!B2355))","v":0}]
[null,{"$f":"IF(Biomasser!A16=\"\",\"\", Biomasser!A16)","v":" -             Kvæggylle"},{"$f":"IF(B2356=\"\",0,SUMIFS(Input!$H$54295:$H$57440,  Input!$F$54295:$F$57440,Summering!B2356))","v":0}]
[null,{"$f":"IF(Biomasser!A17=\"\",\"\", Biomasser!A17)","v":" -             Svinegylle"},{"$f":"IF(B2357=\"\",0,SUMIFS(Input!$H$54295:$H$57440,  Input!$F$54295:$F$57440,Summering!B2357))","v":0}]
[null,{"$f":"IF(Biomasser!A18=\"\",\"\", Biomasser!A18)","v":" -             Gylle fra so"},{"$f":"IF(B2358=\"\",0,SUMIFS(Input!$H$54295:$H$57440,  Input!$F$54295:$F$57440,Summering!B2358))","v":0}]
[null,{"$f":"IF(Biomasser!A19=\"\",\"\", Biomasser!A19)","v":" -             Minkgylle"},{"$f":"IF(B2359=\"\",0,SUMIFS(Input!$H$54295:$H$57440,  Input!$F$54295:$F$57440,Summering!B2359))","v":0}]
[null,{"$f":"IF(Biomasser!A20=\"\",\"\", Biomasser!A20)","v":" -             Fjerkrægylle"},{"$f":"IF(B2360=\"\",0,SUMIFS(Input!$H$54295:$H$57440,  Input!$F$54295:$F$57440,Summering!B2360))","v":0}]
[null,{"$f":"IF(Biomasser!A21=\"\",\"\", Biomasser!A21)","v":" -             Blandet gylle"},{"$f":"IF(B2361=\"\",0,SUMIFS(Input!$H$54295:$H$57440,  Input!$F$54295:$F$57440,Summering!B2361))","v":0}]
[null,{"$f":"IF(Biomasser!A22=\"\",\"\", Biomasser!A22)","v":" -             Dybstrøelse - Kvæg"},{"$f":"IF(B2362=\"\",0,SUMIFS(Input!$H$54295:$H$57440,  Input!$F$54295:$F$57440,Summering!B2362))","v":0}]
[null,{"$f":"IF(Biomasser!A23=\"\",\"\", Biomasser!A23)","v":" -             Dybstrøelse - Fjerkræ"},{"$f":"IF(B2363=\"\",0,SUMIFS(Input!$H$54295:$H$57440,  Input!$F$54295:$F$57440,Summering!B2363))","v":0}]
[null,{"$f":"IF(Biomasser!A24=\"\",\"\", Biomasser!A24)","v":" -             Dybstrøelse - Hest"},{"$f":"IF(B2364=\"\",0,SUMIFS(Input!$H$54295:$H$57440,  Input!$F$54295:$F$57440,Summering!B2364))","v":0}]
[null,{"$f":"IF(Biomasser!A25=\"\",\"\", Biomasser!A25)","v":" -             Dybstrøelse - Andre typer"},{"$f":"IF(B2365=\"\",0,SUMIFS(Input!$H$54295:$H$57440,  Input!$F$54295:$F$57440,Summering!B2365))","v":0}]
[null,{"$f":"IF(Biomasser!A26=\"\",\"\", Biomasser!A26)","v":" -             Fast gødning"},{"$f":"IF(B2366=\"\",0,SUMIFS(Input!$H$54295:$H$57440,  Input!$F$54295:$F$57440,Summering!B2366))","v":0}]
[null,{"$f":"IF(Biomasser!A27=\"\",\"\", Biomasser!A27)","v":" -             Ajle"},{"$f":"IF(B2367=\"\",0,SUMIFS(Input!$H$54295:$H$57440,  Input!$F$54295:$F$57440,Summering!B2367))","v":0}]
[null,{"$f":"IF(Biomasser!A28=\"\",\"\", Biomasser!A28)","v":" -             Fiberfraktion"},{"$f":"IF(B2368=\"\",0,SUMIFS(Input!$H$54295:$H$57440,  Input!$F$54295:$F$57440,Summering!B2368))","v":0}]
[null,{"$f":"IF(Biomasser!A29=\"\",\"\", Biomasser!A29)","v":" -             Flydende fraktion fra separationsanlæg"},{"$f":"IF(B2369=\"\",0,SUMIFS(Input!$H$54295:$H$57440,  Input!$F$54295:$F$57440,Summering!B2369))","v":0}]
[null,{"$f":"IF(Biomasser!A30=\"\",\"\", Biomasser!A30)","v":" -             Flydende fraktion"},{"$f":"IF(B2370=\"\",0,SUMIFS(Input!$H$54295:$H$57440,  Input!$F$54295:$F$57440,Summering!B2370))","v":0}]
[null,{"$f":"IF(Biomasser!A31=\"\",\"\", Biomasser!A31)","v":" -             Anden husdyrgødning"},{"$f":"IF(B2371=\"\",0,SUMIFS(Input!$H$54295:$H$57440,  Input!$F$54295:$F$57440,Summering!B2371))","v":0}]
[null,{"$f":"IF(Biomasser!A32=\"\",\"\", Biomasser!A32)","v":" -             Forsuret svinegylle"},{"$f":"IF(B2372=\"\",0,SUMIFS(Input!$H$54295:$H$57440,  Input!$F$54295:$F$57440,Summering!B2372))","v":0}]
[null,{"$f":"IF(Biomasser!A33=\"\",\"\", Biomasser!A33)","v":" -             Dybstrøelse - Svin"},{"$f":"IF(B2373=\"\",0,SUMIFS(Input!$H$54295:$H$57440,  Input!$F$54295:$F$57440,Summering!B2373))","v":0}]
[null,{"$f":"IF(Biomasser!A34=\"\",\"\", Biomasser!A34)","v":" -             Gylle fibre - kemisk separation - Svin"},{"$f":"IF(B2374=\"\",0,SUMIFS(Input!$H$54295:$H$57440,  Input!$F$54295:$F$57440,Summering!B2374))","v":0}]
[null,{"$f":"IF(Biomasser!A35=\"\",\"\", Biomasser!A35)","v":" -             Gylle fibre - dekanter separation - Svin"},{"$f":"IF(B2375=\"\",0,SUMIFS(Input!$H$54295:$H$57440,  Input!$F$54295:$F$57440,Summering!B2375))","v":0}]
[null,{"$f":"IF(Biomasser!A36=\"\",\"\", Biomasser!A36)","v":" -             Staldgødning - Kvæg"},{"$f":"IF(B2376=\"\",0,SUMIFS(Input!$H$54295:$H$57440,  Input!$F$54295:$F$57440,Summering!B2376))","v":0}]
[null,{"$f":"IF(Biomasser!A37=\"\",\"\", Biomasser!A37)","v":" -             Kvæggylle - Årsopdræt 6 mdr."},{"$f":"IF(B2377=\"\",0,SUMIFS(Input!$H$54295:$H$57440,  Input!$F$54295:$F$57440,Summering!B2377))","v":0}]
[null,{"$f":"IF(Biomasser!A38=\"\",\"\", Biomasser!A38)","v":" -             Staldgødning - Fjerkræ"},{"$f":"IF(B2378=\"\",0,SUMIFS(Input!$H$54295:$H$57440,  Input!$F$54295:$F$57440,Summering!B2378))","v":0}]
[null,{"$f":"IF(Biomasser!A39=\"\",\"\", Biomasser!A39)","v":"Slam og spildevand (Overskrift, kan ikke vælges)"},{"$f":"IF(B2379=\"\",0,SUMIFS(Input!$H$54295:$H$57440,  Input!$F$54295:$F$57440,Summering!B2379))","v":0}]
[null,{"$f":"IF(Biomasser!A40=\"\",\"\", Biomasser!A40)","v":" -             Slam og spildevand samt uforurenede produktrester"},{"$f":"IF(B2380=\"\",0,SUMIFS(Input!$H$54295:$H$57440,  Input!$F$54295:$F$57440,Summering!B2380))","v":0}]
[null,{"$f":"IF(Biomasser!A41=\"\",\"\", Biomasser!A41)","v":" -             Slam fra dambrug"},{"$f":"IF(B2381=\"\",0,SUMIFS(Input!$H$54295:$H$57440,  Input!$F$54295:$F$57440,Summering!B2381))","v":0}]
[null,{"$f":"IF(Biomasser!A42=\"\",\"\", Biomasser!A42)","v":" -             Slam fra forarbejdning af animalske råvarer"},{"$f":"IF(B2382=\"\",0,SUMIFS(Input!$H$54295:$H$57440,  Input!$F$54295:$F$57440,Summering!B2382))","v":0}]
[null,{"$f":"IF(Biomasser!A43=\"\",\"\", Biomasser!A43)","v":" -             Spildevandsslam"},{"$f":"IF(B2383=\"\",0,SUMIFS(Input!$H$54295:$H$57440,  Input!$F$54295:$F$57440,Summering!B2383))","v":0}]
[null,{"$f":"IF(Biomasser!A44=\"\",\"\", Biomasser!A44)","v":" -             Proteolyseret processpildevand"},{"$f":"IF(B2384=\"\",0,SUMIFS(Input!$H$54295:$H$57440,  Input!$F$54295:$F$57440,Summering!B2384))","v":0}]
[null,{"$f":"IF(Biomasser!A45=\"\",\"\", Biomasser!A45)","v":" -             Sekundær spildevandsslam"},{"$f":"IF(B2385=\"\",0,SUMIFS(Input!$H$54295:$H$57440,  Input!$F$54295:$F$57440,Summering!B2385))","v":0}]
[null,{"$f":"IF(Biomasser!A46=\"\",\"\", Biomasser!A46)","v":" -             Sekundær spildevandsslam afvandet"},{"$f":"IF(B2386=\"\",0,SUMIFS(Input!$H$54295:$H$57440,  Input!$F$54295:$F$57440,Summering!B2386))","v":0}]
[null,{"$f":"IF(Biomasser!A47=\"\",\"\", Biomasser!A47)","v":"Organisk affald fra husholdninger og erhverv (Overskrift, kan ikke vælges)"},{"$f":"IF(B2387=\"\",0,SUMIFS(Input!$H$54295:$H$57440,  Input!$F$54295:$F$57440,Summering!B2387))","v":0}]
[null,{"$f":"IF(Biomasser!A48=\"\",\"\", Biomasser!A48)","v":" -             Kildesorteret organisk dagrenovation"},{"$f":"IF(B2388=\"\",0,SUMIFS(Input!$H$54295:$H$57440,  Input!$F$54295:$F$57440,Summering!B2388))","v":0}]
[null,{"$f":"IF(Biomasser!A49=\"\",\"\", Biomasser!A49)","v":" -             Organisk husholdningsaffald - Renescience"},{"$f":"IF(B2389=\"\",0,SUMIFS(Input!$H$54295:$H$57440,  Input!$F$54295:$F$57440,Summering!B2389))","v":0}]
[null,{"$f":"IF(Biomasser!A50=\"\",\"\", Biomasser!A50)","v":" -             Organisk husholdningsaffald - Pulper"},{"$f":"IF(B2390=\"\",0,SUMIFS(Input!$H$54295:$H$57440,  Input!$F$54295:$F$57440,Summering!B2390))","v":0}]
[null,{"$f":"IF(Biomasser!A51=\"\",\"\", Biomasser!A51)","v":" -             Organisk husholdningsaffald - Rullesigte"},{"$f":"IF(B2391=\"\",0,SUMIFS(Input!$H$54295:$H$57440,  Input!$F$54295:$F$57440,Summering!B2391))","v":0}]
[null,{"$f":"IF(Biomasser!A52=\"\",\"\", Biomasser!A52)","v":" -             Organisk husholdningsaffald - Skruepresse"},{"$f":"IF(B2392=\"\",0,SUMIFS(Input!$H$54295:$H$57440,  Input!$F$54295:$F$57440,Summering!B2392))","v":0}]
[null,{"$f":"IF(Biomasser!A53=\"\",\"\", Biomasser!A53)","v":" -             Organisk husholdningsaffald - Neddeling"},{"$f":"IF(B2393=\"\",0,SUMIFS(Input!$H$54295:$H$57440,  Input!$F$54295:$F$57440,Summering!B2393))","v":0}]
[null,{"$f":"IF(Biomasser!A54=\"\",\"\", Biomasser!A54)","v":" -             Organisk affald fra erhverv"},{"$f":"IF(B2394=\"\",0,SUMIFS(Input!$H$54295:$H$57440,  Input!$F$54295:$F$57440,Summering!B2394))","v":0}]
[null,{"$f":"IF(Biomasser!A55=\"\",\"\", Biomasser!A55)","v":"Rester og biprodukter fra planter og afgrøder (Overskrift, kan ikke vælges)"},{"$f":"IF(B2395=\"\",0,SUMIFS(Input!$H$54295:$H$57440,  Input!$F$54295:$F$57440,Summering!B2395))","v":0}]
[null,{"$f":"IF(Biomasser!A56=\"\",\"\", Biomasser!A56)","v":" -             Cellulose"},{"$f":"IF(B2396=\"\",0,SUMIFS(Input!$H$54295:$H$57440,  Input!$F$54295:$F$57440,Summering!B2396))","v":0}]
[null,{"$f":"IF(Biomasser!A57=\"\",\"\", Biomasser!A57)","v":" -             Naturpleje biomasse"},{"$f":"IF(B2397=\"\",0,SUMIFS(Input!$H$54295:$H$57440,  Input!$F$54295:$F$57440,Summering!B2397))","v":0}]
[null,{"$f":"IF(Biomasser!A58=\"\",\"\", Biomasser!A58)","v":" -             Halm"},{"$f":"IF(B2398=\"\",0,SUMIFS(Input!$H$54295:$H$57440,  Input!$F$54295:$F$57440,Summering!B2398))","v":0}]
[null,{"$f":"IF(Biomasser!A59=\"\",\"\", Biomasser!A59)","v":" -             Have-park affald"},{"$f":"IF(B2399=\"\",0,SUMIFS(Input!$H$54295:$H$57440,  Input!$F$54295:$F$57440,Summering!B2399))","v":0}]
[null,{"$f":"IF(Biomasser!A60=\"\",\"\", Biomasser!A60)","v":" -             Andre restprodukter fra produktion af primærafgrøder"},{"$f":"IF(B2400=\"\",0,SUMIFS(Input!$H$54295:$H$57440,  Input!$F$54295:$F$57440,Summering!B2400))","v":0}]
[null,{"$f":"IF(Biomasser!A61=\"\",\"\", Biomasser!A61)","v":" -             Kasserede afgrøder"},{"$f":"IF(B2401=\"\",0,SUMIFS(Input!$H$54295:$H$57440,  Input!$F$54295:$F$57440,Summering!B2401))","v":0}]
[null,{"$f":"IF(Biomasser!A62=\"\",\"\", Biomasser!A62)","v":"Rester og biprodukter fra levnesmiddel- og dyrefoderindustrien  (Overskrift, kan ikke vælges)"},{"$f":"IF(B2402=\"\",0,SUMIFS(Input!$H$54295:$H$57440,  Input!$F$54295:$F$57440,Summering!B2402))","v":0}]
[null,{"$f":"IF(Biomasser!A63=\"\",\"\", Biomasser!A63)","v":" -             Animalske biprodukter"},{"$f":"IF(B2403=\"\",0,SUMIFS(Input!$H$54295:$H$57440,  Input!$F$54295:$F$57440,Summering!B2403))","v":0}]
[null,{"$f":"IF(Biomasser!A64=\"\",\"\", Biomasser!A64)","v":" -             Mave/tarm kvæg"},{"$f":"IF(B2404=\"\",0,SUMIFS(Input!$H$54295:$H$57440,  Input!$F$54295:$F$57440,Summering!B2404))","v":0}]
[null,{"$f":"IF(Biomasser!A65=\"\",\"\", Biomasser!A65)","v":" -             Mave/tarm svin"},{"$f":"IF(B2405=\"\",0,SUMIFS(Input!$H$54295:$H$57440,  Input!$F$54295:$F$57440,Summering!B2405))","v":0}]
[null,{"$f":"IF(Biomasser!A66=\"\",\"\", Biomasser!A66)","v":" -             Valle"},{"$f":"IF(B2406=\"\",0,SUMIFS(Input!$H$54295:$H$57440,  Input!$F$54295:$F$57440,Summering!B2406))","v":0}]
[null,{"$f":"IF(Biomasser!A67=\"\",\"\", Biomasser!A67)","v":" -             Valle koncentrat"},{"$f":"IF(B2407=\"\",0,SUMIFS(Input!$H$54295:$H$57440,  Input!$F$54295:$F$57440,Summering!B2407))","v":0}]
[null,{"$f":"IF(Biomasser!A68=\"\",\"\", Biomasser!A68)","v":" -             Protein"},{"$f":"IF(B2408=\"\",0,SUMIFS(Input!$H$54295:$H$57440,  Input!$F$54295:$F$57440,Summering!B2408))","v":0}]
[null,{"$f":"IF(Biomasser!A69=\"\",\"\", Biomasser!A69)","v":" -             Fedt"},{"$f":"IF(B2409=\"\",0,SUMIFS(Input!$H$54295:$H$57440,  Input!$F$54295:$F$57440,Summering!B2409))","v":0}]
[null,{"$f":"IF(Biomasser!A70=\"\",\"\", Biomasser!A70)","v":" -             Vinasse (2,2 pct. kvælstof)"},{"$f":"IF(B2410=\"\",0,SUMIFS(Input!$H$54295:$H$57440,  Input!$F$54295:$F$57440,Summering!B2410))","v":0}]
[null,{"$f":"IF(Biomasser!A71=\"\",\"\", Biomasser!A71)","v":" -             Vinasse (3,5 pct. kvælstof)"},{"$f":"IF(B2411=\"\",0,SUMIFS(Input!$H$54295:$H$57440,  Input!$F$54295:$F$57440,Summering!B2411))","v":0}]
[null,{"$f":"IF(Biomasser!A72=\"\",\"\", Biomasser!A72)","v":" -             Kartoffelfrugtsaft"},{"$f":"IF(B2412=\"\",0,SUMIFS(Input!$H$54295:$H$57440,  Input!$F$54295:$F$57440,Summering!B2412))","v":0}]
[null,{"$f":"IF(Biomasser!A73=\"\",\"\", Biomasser!A73)","v":" -             Glukose"},{"$f":"IF(B2413=\"\",0,SUMIFS(Input!$H$54295:$H$57440,  Input!$F$54295:$F$57440,Summering!B2413))","v":0}]
[null,{"$f":"IF(Biomasser!A74=\"\",\"\", Biomasser!A74)","v":" -             Alkohol"},{"$f":"IF(B2414=\"\",0,SUMIFS(Input!$H$54295:$H$57440,  Input!$F$54295:$F$57440,Summering!B2414))","v":0}]
[null,{"$f":"IF(Biomasser!A75=\"\",\"\", Biomasser!A75)","v":" -             Pressesaft fra grøntpilleproduktion"},{"$f":"IF(B2415=\"\",0,SUMIFS(Input!$H$54295:$H$57440,  Input!$F$54295:$F$57440,Summering!B2415))","v":0}]
[null,{"$f":"IF(Biomasser!A76=\"\",\"\", Biomasser!A76)","v":" -             Inaktiveret og kalkstabiliseret biomasse"},{"$f":"IF(B2416=\"\",0,SUMIFS(Input!$H$54295:$H$57440,  Input!$F$54295:$F$57440,Summering!B2416))","v":0}]
[null,{"$f":"IF(Biomasser!A77=\"\",\"\", Biomasser!A77)","v":"Anden biomasse (Overskrift)"},{"$f":"IF(B2417=\"\",0,SUMIFS(Input!$H$54295:$H$57440,  Input!$F$54295:$F$57440,Summering!B2417))","v":0}]
[null,{"$f":"IF(Biomasser!A78=\"\",\"\", Biomasser!A78)","v":" -             Råglycerin"},{"$f":"IF(B2418=\"\",0,SUMIFS(Input!$H$54295:$H$57440,  Input!$F$54295:$F$57440,Summering!B2418))","v":0}]
[null,{"$f":"IF(Biomasser!A79=\"\",\"\", Biomasser!A79)","v":""},{"$f":"IF(B2419=\"\",0,SUMIFS(Input!$H$54295:$H$57440,  Input!$F$54295:$F$57440,Summering!B2419))","v":0}]
[null,{"$f":"IF(Biomasser!A80=\"\",\"\", Biomasser!A80)","v":""},{"$f":"IF(B2420=\"\",0,SUMIFS(Input!$H$54295:$H$57440,  Input!$F$54295:$F$57440,Summering!B2420))","v":0}]
[null,{"$f":"IF(Biomasser!A81=\"\",\"\", Biomasser!A81)","v":""},{"$f":"IF(B2421=\"\",0,SUMIFS(Input!$H$54295:$H$57440,  Input!$F$54295:$F$57440,Summering!B2421))","v":0}]
[null,{"$f":"IF(Biomasser!A82=\"\",\"\", Biomasser!A82)","v":""},{"$f":"IF(B2422=\"\",0,SUMIFS(Input!$H$54295:$H$57440,  Input!$F$54295:$F$57440,Summering!B2422))","v":0}]
[null,{"$f":"IF(Biomasser!A83=\"\",\"\", Biomasser!A83)","v":""},{"$f":"IF(B2423=\"\",0,SUMIFS(Input!$H$54295:$H$57440,  Input!$F$54295:$F$57440,Summering!B2423))","v":0}]
[null,{"$f":"IF(Biomasser!A84=\"\",\"\", Biomasser!A84)","v":""},{"$f":"IF(B2424=\"\",0,SUMIFS(Input!$H$54295:$H$57440,  Input!$F$54295:$F$57440,Summering!B2424))","v":0}]
[null,{"$f":"IF(Biomasser!A85=\"\",\"\", Biomasser!A85)","v":""},{"$f":"IF(B2425=\"\",0,SUMIFS(Input!$H$54295:$H$57440,  Input!$F$54295:$F$57440,Summering!B2425))","v":0}]
[null,{"$f":"IF(Biomasser!A86=\"\",\"\", Biomasser!A86)","v":""},{"$f":"IF(B2426=\"\",0,SUMIFS(Input!$H$54295:$H$57440,  Input!$F$54295:$F$57440,Summering!B2426))","v":0}]
[null,{"$f":"IF(Biomasser!A87=\"\",\"\", Biomasser!A87)","v":""},{"$f":"IF(B2427=\"\",0,SUMIFS(Input!$H$54295:$H$57440,  Input!$F$54295:$F$57440,Summering!B2427))","v":0}]
[null,{"$f":"IF(Biomasser!A88=\"\",\"\", Biomasser!A88)","v":""},{"$f":"IF(B2428=\"\",0,SUMIFS(Input!$H$54295:$H$57440,  Input!$F$54295:$F$57440,Summering!B2428))","v":0}]
[null,{"$f":"IF(Biomasser!A89=\"\",\"\", Biomasser!A89)","v":""},{"$f":"IF(B2429=\"\",0,SUMIFS(Input!$H$54295:$H$57440,  Input!$F$54295:$F$57440,Summering!B2429))","v":0}]
[null,{"$f":"IF(Biomasser!A90=\"\",\"\", Biomasser!A90)","v":""},{"$f":"IF(B2430=\"\",0,SUMIFS(Input!$H$54295:$H$57440,  Input!$F$54295:$F$57440,Summering!B2430))","v":0}]
[null,{"$f":"IF(Biomasser!A91=\"\",\"\", Biomasser!A91)","v":""},{"$f":"IF(B2431=\"\",0,SUMIFS(Input!$H$54295:$H$57440,  Input!$F$54295:$F$57440,Summering!B2431))","v":0}]
[null,{"$f":"IF(Biomasser!A92=\"\",\"\", Biomasser!A92)","v":""},{"$f":"IF(B2432=\"\",0,SUMIFS(Input!$H$54295:$H$57440,  Input!$F$54295:$F$57440,Summering!B2432))","v":0}]
[null,{"$f":"IF(Biomasser!A93=\"\",\"\", Biomasser!A93)","v":""},{"$f":"IF(B2433=\"\",0,SUMIFS(Input!$H$54295:$H$57440,  Input!$F$54295:$F$57440,Summering!B2433))","v":0}]
[null,{"$f":"IF(Biomasser!A94=\"\",\"\", Biomasser!A94)","v":""},{"$f":"IF(B2434=\"\",0,SUMIFS(Input!$H$54295:$H$57440,  Input!$F$54295:$F$57440,Summering!B2434))","v":0}]
[null,{"$f":"IF(Biomasser!A95=\"\",\"\", Biomasser!A95)","v":""},{"$f":"IF(B2435=\"\",0,SUMIFS(Input!$H$54295:$H$57440,  Input!$F$54295:$F$57440,Summering!B2435))","v":0}]
[null,{"$f":"IF(Biomasser!A96=\"\",\"\", Biomasser!A96)","v":""},{"$f":"IF(B2436=\"\",0,SUMIFS(Input!$H$54295:$H$57440,  Input!$F$54295:$F$57440,Summering!B2436))","v":0}]
[null,{"$f":"IF(Biomasser!A97=\"\",\"\", Biomasser!A97)","v":""},{"$f":"IF(B2437=\"\",0,SUMIFS(Input!$H$54295:$H$57440,  Input!$F$54295:$F$57440,Summering!B2437))","v":0}]
[null,{"$f":"IF(Biomasser!A98=\"\",\"\", Biomasser!A98)","v":""},{"$f":"IF(B2438=\"\",0,SUMIFS(Input!$H$54295:$H$57440,  Input!$F$54295:$F$57440,Summering!B2438))","v":0}]
[null,{"$f":"IF(Biomasser!A99=\"\",\"\", Biomasser!A99)","v":""},{"$f":"IF(B2439=\"\",0,SUMIFS(Input!$H$54295:$H$57440,  Input!$F$54295:$F$57440,Summering!B2439))","v":0}]
[null,{"$f":"IF(Biomasser!A100=\"\",\"\", Biomasser!A100)","v":""},{"$f":"IF(B2440=\"\",0,SUMIFS(Input!$H$54295:$H$57440,  Input!$F$54295:$F$57440,Summering!B2440))","v":0}]
[null,{"$f":"IF(Biomasser!A101=\"\",\"\", Biomasser!A101)","v":""},{"$f":"IF(B2441=\"\",0,SUMIFS(Input!$H$54295:$H$57440,  Input!$F$54295:$F$57440,Summering!B2441))","v":0}]
[null,{"$f":"IF(Biomasser!A102=\"\",\"\", Biomasser!A102)","v":""},{"$f":"IF(B2442=\"\",0,SUMIFS(Input!$H$54295:$H$57440,  Input!$F$54295:$F$57440,Summering!B2442))","v":0}]
[null,{"$f":"IF(Biomasser!A103=\"\",\"\", Biomasser!A103)","v":""},{"$f":"IF(B2443=\"\",0,SUMIFS(Input!$H$54295:$H$57440,  Input!$F$54295:$F$57440,Summering!B2443))","v":0}]
[null,{"$f":"IF(Biomasser!A104=\"\",\"\", Biomasser!A104)","v":""},{"$f":"IF(B2444=\"\",0,SUMIFS(Input!$H$54295:$H$57440,  Input!$F$54295:$F$57440,Summering!B2444))","v":0}]
[null,{"$f":"IF(Biomasser!A105=\"\",\"\", Biomasser!A105)","v":""},{"$f":"IF(B2445=\"\",0,SUMIFS(Input!$H$54295:$H$57440,  Input!$F$54295:$F$57440,Summering!B2445))","v":0}]
[null,{"$f":"IF(Biomasser!A106=\"\",\"\", Biomasser!A106)","v":""},{"$f":"IF(B2446=\"\",0,SUMIFS(Input!$H$54295:$H$57440,  Input!$F$54295:$F$57440,Summering!B2446))","v":0}]
[null,{"$f":"IF(Biomasser!A107=\"\",\"\", Biomasser!A107)","v":""},{"$f":"IF(B2447=\"\",0,SUMIFS(Input!$H$54295:$H$57440,  Input!$F$54295:$F$57440,Summering!B2447))","v":0}]
[null,{"$f":"IF(Biomasser!A108=\"\",\"\", Biomasser!A108)","v":""},{"$f":"IF(B2448=\"\",0,SUMIFS(Input!$H$54295:$H$57440,  Input!$F$54295:$F$57440,Summering!B2448))","v":0}]
[null,{"$f":"IF(Biomasser!A109=\"\",\"\", Biomasser!A109)","v":""},{"$f":"IF(B2449=\"\",0,SUMIFS(Input!$H$54295:$H$57440,  Input!$F$54295:$F$57440,Summering!B2449))","v":0}]
[null,{"$f":"IF(Biomasser!A110=\"\",\"\", Biomasser!A110)","v":""},{"$f":"IF(B2450=\"\",0,SUMIFS(Input!$H$54295:$H$57440,  Input!$F$54295:$F$57440,Summering!B2450))","v":0}]
[null,{"$f":"IF(Biomasser!A111=\"\",\"\", Biomasser!A111)","v":""},{"$f":"IF(B2451=\"\",0,SUMIFS(Input!$H$54295:$H$57440,  Input!$F$54295:$F$57440,Summering!B2451))","v":0}]
[null,{"$f":"IF(Biomasser!A112=\"\",\"\", Biomasser!A112)","v":""},{"$f":"IF(B2452=\"\",0,SUMIFS(Input!$H$54295:$H$57440,  Input!$F$54295:$F$57440,Summering!B2452))","v":0}]
[null,{"$f":"IF(Biomasser!A113=\"\",\"\", Biomasser!A113)","v":""},{"$f":"IF(B2453=\"\",0,SUMIFS(Input!$H$54295:$H$57440,  Input!$F$54295:$F$57440,Summering!B2453))","v":0}]
[null,{"$f":"IF(Biomasser!A114=\"\",\"\", Biomasser!A114)","v":""},{"$f":"IF(B2454=\"\",0,SUMIFS(Input!$H$54295:$H$57440,  Input!$F$54295:$F$57440,Summering!B2454))","v":0}]
[null,{"$f":"IF(Biomasser!A115=\"\",\"\", Biomasser!A115)","v":""},{"$f":"IF(B2455=\"\",0,SUMIFS(Input!$H$54295:$H$57440,  Input!$F$54295:$F$57440,Summering!B2455))","v":0}]
[null,{"$f":"IF(Biomasser!A116=\"\",\"\", Biomasser!A116)","v":""},{"$f":"IF(B2456=\"\",0,SUMIFS(Input!$H$54295:$H$57440,  Input!$F$54295:$F$57440,Summering!B2456))","v":0}]
[null,{"$f":"IF(Biomasser!A117=\"\",\"\", Biomasser!A117)","v":""},{"$f":"IF(B2457=\"\",0,SUMIFS(Input!$H$54295:$H$57440,  Input!$F$54295:$F$57440,Summering!B2457))","v":0}]
[null,{"$f":"IF(Biomasser!A118=\"\",\"\", Biomasser!A118)","v":""},{"$f":"IF(B2458=\"\",0,SUMIFS(Input!$H$54295:$H$57440,  Input!$F$54295:$F$57440,Summering!B2458))","v":0}]
[null,{"$f":"IF(Biomasser!A119=\"\",\"\", Biomasser!A119)","v":""},{"$f":"IF(B2459=\"\",0,SUMIFS(Input!$H$54295:$H$57440,  Input!$F$54295:$F$57440,Summering!B2459))","v":0}]
[null,{"$f":"IF(Biomasser!A120=\"\",\"\", Biomasser!A120)","v":""},{"$f":"IF(B2460=\"\",0,SUMIFS(Input!$H$54295:$H$57440,  Input!$F$54295:$F$57440,Summering!B2460))","v":0}]
[null,{"$f":"IF(Biomasser!A121=\"\",\"\", Biomasser!A121)","v":""},{"$f":"IF(B2461=\"\",0,SUMIFS(Input!$H$54295:$H$57440,  Input!$F$54295:$F$57440,Summering!B2461))","v":0}]
[null,{"$f":"IF(Biomasser!A122=\"\",\"\", Biomasser!A122)","v":""},{"$f":"IF(B2462=\"\",0,SUMIFS(Input!$H$54295:$H$57440,  Input!$F$54295:$F$57440,Summering!B2462))","v":0}]
[null,{"$f":"IF(Biomasser!A123=\"\",\"\", Biomasser!A123)","v":""},{"$f":"IF(B2463=\"\",0,SUMIFS(Input!$H$54295:$H$57440,  Input!$F$54295:$F$57440,Summering!B2463))","v":0}]
[null,{"$f":"IF(Biomasser!A124=\"\",\"\", Biomasser!A124)","v":""},{"$f":"IF(B2464=\"\",0,SUMIFS(Input!$H$54295:$H$57440,  Input!$F$54295:$F$57440,Summering!B2464))","v":0}]
[null,"Juli",{"$f":"SUM(C2466:C2587)","v":0},{"$f":"SUMIFS(Input!$H$10:$H$76760,Input!$A$10:$A$76760,\"Gas\",Input!$C$10:$C$76760,Summering!$B$1604,Input!$B$10:$B$76760,\"*\"&B2465&\"*\")","v":0}]
[null,{"$f":"IF(Biomasser!A3=\"\",\"\", Biomasser!A3)","v":"Afgrøder (Overskrift, kan ikke vælges)"},{"$f":"IF(B2466=\"\",0,SUMIFS(Input!$H$57445:$H$60695,  Input!$F$57445:$F$60695,Summering!B2466))","v":0}]
[null,{"$f":"IF(Biomasser!A4=\"\",\"\", Biomasser!A4)","v":" -             Majs"},{"$f":"IF(B2467=\"\",0,SUMIFS(Input!$H$57445:$H$60695,  Input!$F$57445:$F$60695,Summering!B2467))","v":0}]
[null,{"$f":"IF(Biomasser!A5=\"\",\"\", Biomasser!A5)","v":" -             Roer"},{"$f":"IF(B2468=\"\",0,SUMIFS(Input!$H$57445:$H$60695,  Input!$F$57445:$F$60695,Summering!B2468))","v":0}]
[null,{"$f":"IF(Biomasser!A6=\"\",\"\", Biomasser!A6)","v":" -             Korn"},{"$f":"IF(B2469=\"\",0,SUMIFS(Input!$H$57445:$H$60695,  Input!$F$57445:$F$60695,Summering!B2469))","v":0}]
[null,{"$f":"IF(Biomasser!A7=\"\",\"\", Biomasser!A7)","v":" -             Græs"},{"$f":"IF(B2470=\"\",0,SUMIFS(Input!$H$57445:$H$60695,  Input!$F$57445:$F$60695,Summering!B2470))","v":0}]
[null,{"$f":"IF(Biomasser!A8=\"\",\"\", Biomasser!A8)","v":" -             Kløvergræs"},{"$f":"IF(B2471=\"\",0,SUMIFS(Input!$H$57445:$H$60695,  Input!$F$57445:$F$60695,Summering!B2471))","v":0}]
[null,{"$f":"IF(Biomasser!A9=\"\",\"\", Biomasser!A9)","v":" -             Jordskokker"},{"$f":"IF(B2472=\"\",0,SUMIFS(Input!$H$57445:$H$60695,  Input!$F$57445:$F$60695,Summering!B2472))","v":0}]
[null,{"$f":"IF(Biomasser!A10=\"\",\"\", Biomasser!A10)","v":" -             Andre afgrøder"},{"$f":"IF(B2473=\"\",0,SUMIFS(Input!$H$57445:$H$60695,  Input!$F$57445:$F$60695,Summering!B2473))","v":0}]
[null,{"$f":"IF(Biomasser!A11=\"\",\"\", Biomasser!A11)","v":" -             Hvedehelsæd"},{"$f":"IF(B2474=\"\",0,SUMIFS(Input!$H$57445:$H$60695,  Input!$F$57445:$F$60695,Summering!B2474))","v":0}]
[null,{"$f":"IF(Biomasser!A12=\"\",\"\", Biomasser!A12)","v":" -             Top af foderroe"},{"$f":"IF(B2475=\"\",0,SUMIFS(Input!$H$57445:$H$60695,  Input!$F$57445:$F$60695,Summering!B2475))","v":0}]
[null,{"$f":"IF(Biomasser!A13=\"\",\"\", Biomasser!A13)","v":" -             Foderroe - rod og top frisk"},{"$f":"IF(B2476=\"\",0,SUMIFS(Input!$H$57445:$H$60695,  Input!$F$57445:$F$60695,Summering!B2476))","v":0}]
[null,{"$f":"IF(Biomasser!A14=\"\",\"\", Biomasser!A14)","v":" -             Økologisk kløvergræs"},{"$f":"IF(B2477=\"\",0,SUMIFS(Input!$H$57445:$H$60695,  Input!$F$57445:$F$60695,Summering!B2477))","v":0}]
[null,{"$f":"IF(Biomasser!A15=\"\",\"\", Biomasser!A15)","v":"Husdyrgødning (Overskrift, kan ikke vælges)"},{"$f":"IF(B2478=\"\",0,SUMIFS(Input!$H$57445:$H$60695,  Input!$F$57445:$F$60695,Summering!B2478))","v":0}]
[null,{"$f":"IF(Biomasser!A16=\"\",\"\", Biomasser!A16)","v":" -             Kvæggylle"},{"$f":"IF(B2479=\"\",0,SUMIFS(Input!$H$57445:$H$60695,  Input!$F$57445:$F$60695,Summering!B2479))","v":0}]
[null,{"$f":"IF(Biomasser!A17=\"\",\"\", Biomasser!A17)","v":" -             Svinegylle"},{"$f":"IF(B2480=\"\",0,SUMIFS(Input!$H$57445:$H$60695,  Input!$F$57445:$F$60695,Summering!B2480))","v":0}]
[null,{"$f":"IF(Biomasser!A18=\"\",\"\", Biomasser!A18)","v":" -             Gylle fra so"},{"$f":"IF(B2481=\"\",0,SUMIFS(Input!$H$57445:$H$60695,  Input!$F$57445:$F$60695,Summering!B2481))","v":0}]
[null,{"$f":"IF(Biomasser!A19=\"\",\"\", Biomasser!A19)","v":" -             Minkgylle"},{"$f":"IF(B2482=\"\",0,SUMIFS(Input!$H$57445:$H$60695,  Input!$F$57445:$F$60695,Summering!B2482))","v":0}]
[null,{"$f":"IF(Biomasser!A20=\"\",\"\", Biomasser!A20)","v":" -             Fjerkrægylle"},{"$f":"IF(B2483=\"\",0,SUMIFS(Input!$H$57445:$H$60695,  Input!$F$57445:$F$60695,Summering!B2483))","v":0}]
[null,{"$f":"IF(Biomasser!A21=\"\",\"\", Biomasser!A21)","v":" -             Blandet gylle"},{"$f":"IF(B2484=\"\",0,SUMIFS(Input!$H$57445:$H$60695,  Input!$F$57445:$F$60695,Summering!B2484))","v":0}]
[null,{"$f":"IF(Biomasser!A22=\"\",\"\", Biomasser!A22)","v":" -             Dybstrøelse - Kvæg"},{"$f":"IF(B2485=\"\",0,SUMIFS(Input!$H$57445:$H$60695,  Input!$F$57445:$F$60695,Summering!B2485))","v":0}]
[null,{"$f":"IF(Biomasser!A23=\"\",\"\", Biomasser!A23)","v":" -             Dybstrøelse - Fjerkræ"},{"$f":"IF(B2486=\"\",0,SUMIFS(Input!$H$57445:$H$60695,  Input!$F$57445:$F$60695,Summering!B2486))","v":0}]
[null,{"$f":"IF(Biomasser!A24=\"\",\"\", Biomasser!A24)","v":" -             Dybstrøelse - Hest"},{"$f":"IF(B2487=\"\",0,SUMIFS(Input!$H$57445:$H$60695,  Input!$F$57445:$F$60695,Summering!B2487))","v":0}]
[null,{"$f":"IF(Biomasser!A25=\"\",\"\", Biomasser!A25)","v":" -             Dybstrøelse - Andre typer"},{"$f":"IF(B2488=\"\",0,SUMIFS(Input!$H$57445:$H$60695,  Input!$F$57445:$F$60695,Summering!B2488))","v":0}]
[null,{"$f":"IF(Biomasser!A26=\"\",\"\", Biomasser!A26)","v":" -             Fast gødning"},{"$f":"IF(B2489=\"\",0,SUMIFS(Input!$H$57445:$H$60695,  Input!$F$57445:$F$60695,Summering!B2489))","v":0}]
[null,{"$f":"IF(Biomasser!A27=\"\",\"\", Biomasser!A27)","v":" -             Ajle"},{"$f":"IF(B2490=\"\",0,SUMIFS(Input!$H$57445:$H$60695,  Input!$F$57445:$F$60695,Summering!B2490))","v":0}]
[null,{"$f":"IF(Biomasser!A28=\"\",\"\", Biomasser!A28)","v":" -             Fiberfraktion"},{"$f":"IF(B2491=\"\",0,SUMIFS(Input!$H$57445:$H$60695,  Input!$F$57445:$F$60695,Summering!B2491))","v":0}]
[null,{"$f":"IF(Biomasser!A29=\"\",\"\", Biomasser!A29)","v":" -             Flydende fraktion fra separationsanlæg"},{"$f":"IF(B2492=\"\",0,SUMIFS(Input!$H$57445:$H$60695,  Input!$F$57445:$F$60695,Summering!B2492))","v":0}]
[null,{"$f":"IF(Biomasser!A30=\"\",\"\", Biomasser!A30)","v":" -             Flydende fraktion"},{"$f":"IF(B2493=\"\",0,SUMIFS(Input!$H$57445:$H$60695,  Input!$F$57445:$F$60695,Summering!B2493))","v":0}]
[null,{"$f":"IF(Biomasser!A31=\"\",\"\", Biomasser!A31)","v":" -             Anden husdyrgødning"},{"$f":"IF(B2494=\"\",0,SUMIFS(Input!$H$57445:$H$60695,  Input!$F$57445:$F$60695,Summering!B2494))","v":0}]
[null,{"$f":"IF(Biomasser!A32=\"\",\"\", Biomasser!A32)","v":" -             Forsuret svinegylle"},{"$f":"IF(B2495=\"\",0,SUMIFS(Input!$H$57445:$H$60695,  Input!$F$57445:$F$60695,Summering!B2495))","v":0}]
[null,{"$f":"IF(Biomasser!A33=\"\",\"\", Biomasser!A33)","v":" -             Dybstrøelse - Svin"},{"$f":"IF(B2496=\"\",0,SUMIFS(Input!$H$57445:$H$60695,  Input!$F$57445:$F$60695,Summering!B2496))","v":0}]
[null,{"$f":"IF(Biomasser!A34=\"\",\"\", Biomasser!A34)","v":" -             Gylle fibre - kemisk separation - Svin"},{"$f":"IF(B2497=\"\",0,SUMIFS(Input!$H$57445:$H$60695,  Input!$F$57445:$F$60695,Summering!B2497))","v":0}]
[null,{"$f":"IF(Biomasser!A35=\"\",\"\", Biomasser!A35)","v":" -             Gylle fibre - dekanter separation - Svin"},{"$f":"IF(B2498=\"\",0,SUMIFS(Input!$H$57445:$H$60695,  Input!$F$57445:$F$60695,Summering!B2498))","v":0}]
[null,{"$f":"IF(Biomasser!A36=\"\",\"\", Biomasser!A36)","v":" -             Staldgødning - Kvæg"},{"$f":"IF(B2499=\"\",0,SUMIFS(Input!$H$57445:$H$60695,  Input!$F$57445:$F$60695,Summering!B2499))","v":0}]
[null,{"$f":"IF(Biomasser!A37=\"\",\"\", Biomasser!A37)","v":" -             Kvæggylle - Årsopdræt 6 mdr."},{"$f":"IF(B2500=\"\",0,SUMIFS(Input!$H$57445:$H$60695,  Input!$F$57445:$F$60695,Summering!B2500))","v":0}]
[null,{"$f":"IF(Biomasser!A38=\"\",\"\", Biomasser!A38)","v":" -             Staldgødning - Fjerkræ"},{"$f":"IF(B2501=\"\",0,SUMIFS(Input!$H$57445:$H$60695,  Input!$F$57445:$F$60695,Summering!B2501))","v":0}]
[null,{"$f":"IF(Biomasser!A39=\"\",\"\", Biomasser!A39)","v":"Slam og spildevand (Overskrift, kan ikke vælges)"},{"$f":"IF(B2502=\"\",0,SUMIFS(Input!$H$57445:$H$60695,  Input!$F$57445:$F$60695,Summering!B2502))","v":0}]
[null,{"$f":"IF(Biomasser!A40=\"\",\"\", Biomasser!A40)","v":" -             Slam og spildevand samt uforurenede produktrester"},{"$f":"IF(B2503=\"\",0,SUMIFS(Input!$H$57445:$H$60695,  Input!$F$57445:$F$60695,Summering!B2503))","v":0}]
[null,{"$f":"IF(Biomasser!A41=\"\",\"\", Biomasser!A41)","v":" -             Slam fra dambrug"},{"$f":"IF(B2504=\"\",0,SUMIFS(Input!$H$57445:$H$60695,  Input!$F$57445:$F$60695,Summering!B2504))","v":0}]
[null,{"$f":"IF(Biomasser!A42=\"\",\"\", Biomasser!A42)","v":" -             Slam fra forarbejdning af animalske råvarer"},{"$f":"IF(B2505=\"\",0,SUMIFS(Input!$H$57445:$H$60695,  Input!$F$57445:$F$60695,Summering!B2505))","v":0}]
[null,{"$f":"IF(Biomasser!A43=\"\",\"\", Biomasser!A43)","v":" -             Spildevandsslam"},{"$f":"IF(B2506=\"\",0,SUMIFS(Input!$H$57445:$H$60695,  Input!$F$57445:$F$60695,Summering!B2506))","v":0}]
[null,{"$f":"IF(Biomasser!A44=\"\",\"\", Biomasser!A44)","v":" -             Proteolyseret processpildevand"},{"$f":"IF(B2507=\"\",0,SUMIFS(Input!$H$57445:$H$60695,  Input!$F$57445:$F$60695,Summering!B2507))","v":0}]
[null,{"$f":"IF(Biomasser!A45=\"\",\"\", Biomasser!A45)","v":" -             Sekundær spildevandsslam"},{"$f":"IF(B2508=\"\",0,SUMIFS(Input!$H$57445:$H$60695,  Input!$F$57445:$F$60695,Summering!B2508))","v":0}]
[null,{"$f":"IF(Biomasser!A46=\"\",\"\", Biomasser!A46)","v":" -             Sekundær spildevandsslam afvandet"},{"$f":"IF(B2509=\"\",0,SUMIFS(Input!$H$57445:$H$60695,  Input!$F$57445:$F$60695,Summering!B2509))","v":0}]
[null,{"$f":"IF(Biomasser!A47=\"\",\"\", Biomasser!A47)","v":"Organisk affald fra husholdninger og erhverv (Overskrift, kan ikke vælges)"},{"$f":"IF(B2510=\"\",0,SUMIFS(Input!$H$57445:$H$60695,  Input!$F$57445:$F$60695,Summering!B2510))","v":0}]
[null,{"$f":"IF(Biomasser!A48=\"\",\"\", Biomasser!A48)","v":" -             Kildesorteret organisk dagrenovation"},{"$f":"IF(B2511=\"\",0,SUMIFS(Input!$H$57445:$H$60695,  Input!$F$57445:$F$60695,Summering!B2511))","v":0}]
[null,{"$f":"IF(Biomasser!A49=\"\",\"\", Biomasser!A49)","v":" -             Organisk husholdningsaffald - Renescience"},{"$f":"IF(B2512=\"\",0,SUMIFS(Input!$H$57445:$H$60695,  Input!$F$57445:$F$60695,Summering!B2512))","v":0}]
[null,{"$f":"IF(Biomasser!A50=\"\",\"\", Biomasser!A50)","v":" -             Organisk husholdningsaffald - Pulper"},{"$f":"IF(B2513=\"\",0,SUMIFS(Input!$H$57445:$H$60695,  Input!$F$57445:$F$60695,Summering!B2513))","v":0}]
[null,{"$f":"IF(Biomasser!A51=\"\",\"\", Biomasser!A51)","v":" -             Organisk husholdningsaffald - Rullesigte"},{"$f":"IF(B2514=\"\",0,SUMIFS(Input!$H$57445:$H$60695,  Input!$F$57445:$F$60695,Summering!B2514))","v":0}]
[null,{"$f":"IF(Biomasser!A52=\"\",\"\", Biomasser!A52)","v":" -             Organisk husholdningsaffald - Skruepresse"},{"$f":"IF(B2515=\"\",0,SUMIFS(Input!$H$57445:$H$60695,  Input!$F$57445:$F$60695,Summering!B2515))","v":0}]
[null,{"$f":"IF(Biomasser!A53=\"\",\"\", Biomasser!A53)","v":" -             Organisk husholdningsaffald - Neddeling"},{"$f":"IF(B2516=\"\",0,SUMIFS(Input!$H$57445:$H$60695,  Input!$F$57445:$F$60695,Summering!B2516))","v":0}]
[null,{"$f":"IF(Biomasser!A54=\"\",\"\", Biomasser!A54)","v":" -             Organisk affald fra erhverv"},{"$f":"IF(B2517=\"\",0,SUMIFS(Input!$H$57445:$H$60695,  Input!$F$57445:$F$60695,Summering!B2517))","v":0}]
[null,{"$f":"IF(Biomasser!A55=\"\",\"\", Biomasser!A55)","v":"Rester og biprodukter fra planter og afgrøder (Overskrift, kan ikke vælges)"},{"$f":"IF(B2518=\"\",0,SUMIFS(Input!$H$57445:$H$60695,  Input!$F$57445:$F$60695,Summering!B2518))","v":0}]
[null,{"$f":"IF(Biomasser!A56=\"\",\"\", Biomasser!A56)","v":" -             Cellulose"},{"$f":"IF(B2519=\"\",0,SUMIFS(Input!$H$57445:$H$60695,  Input!$F$57445:$F$60695,Summering!B2519))","v":0}]
[null,{"$f":"IF(Biomasser!A57=\"\",\"\", Biomasser!A57)","v":" -             Naturpleje biomasse"},{"$f":"IF(B2520=\"\",0,SUMIFS(Input!$H$57445:$H$60695,  Input!$F$57445:$F$60695,Summering!B2520))","v":0}]
[null,{"$f":"IF(Biomasser!A58=\"\",\"\", Biomasser!A58)","v":" -             Halm"},{"$f":"IF(B2521=\"\",0,SUMIFS(Input!$H$57445:$H$60695,  Input!$F$57445:$F$60695,Summering!B2521))","v":0}]
[null,{"$f":"IF(Biomasser!A59=\"\",\"\", Biomasser!A59)","v":" -             Have-park affald"},{"$f":"IF(B2522=\"\",0,SUMIFS(Input!$H$57445:$H$60695,  Input!$F$57445:$F$60695,Summering!B2522))","v":0}]
[null,{"$f":"IF(Biomasser!A60=\"\",\"\", Biomasser!A60)","v":" -             Andre restprodukter fra produktion af primærafgrøder"},{"$f":"IF(B2523=\"\",0,SUMIFS(Input!$H$57445:$H$60695,  Input!$F$57445:$F$60695,Summering!B2523))","v":0}]
[null,{"$f":"IF(Biomasser!A61=\"\",\"\", Biomasser!A61)","v":" -             Kasserede afgrøder"},{"$f":"IF(B2524=\"\",0,SUMIFS(Input!$H$57445:$H$60695,  Input!$F$57445:$F$60695,Summering!B2524))","v":0}]
[null,{"$f":"IF(Biomasser!A62=\"\",\"\", Biomasser!A62)","v":"Rester og biprodukter fra levnesmiddel- og dyrefoderindustrien  (Overskrift, kan ikke vælges)"},{"$f":"IF(B2525=\"\",0,SUMIFS(Input!$H$57445:$H$60695,  Input!$F$57445:$F$60695,Summering!B2525))","v":0}]
[null,{"$f":"IF(Biomasser!A63=\"\",\"\", Biomasser!A63)","v":" -             Animalske biprodukter"},{"$f":"IF(B2526=\"\",0,SUMIFS(Input!$H$57445:$H$60695,  Input!$F$57445:$F$60695,Summering!B2526))","v":0}]
[null,{"$f":"IF(Biomasser!A64=\"\",\"\", Biomasser!A64)","v":" -             Mave/tarm kvæg"},{"$f":"IF(B2527=\"\",0,SUMIFS(Input!$H$57445:$H$60695,  Input!$F$57445:$F$60695,Summering!B2527))","v":0}]
[null,{"$f":"IF(Biomasser!A65=\"\",\"\", Biomasser!A65)","v":" -             Mave/tarm svin"},{"$f":"IF(B2528=\"\",0,SUMIFS(Input!$H$57445:$H$60695,  Input!$F$57445:$F$60695,Summering!B2528))","v":0}]
[null,{"$f":"IF(Biomasser!A66=\"\",\"\", Biomasser!A66)","v":" -             Valle"},{"$f":"IF(B2529=\"\",0,SUMIFS(Input!$H$57445:$H$60695,  Input!$F$57445:$F$60695,Summering!B2529))","v":0}]
[null,{"$f":"IF(Biomasser!A67=\"\",\"\", Biomasser!A67)","v":" -             Valle koncentrat"},{"$f":"IF(B2530=\"\",0,SUMIFS(Input!$H$57445:$H$60695,  Input!$F$57445:$F$60695,Summering!B2530))","v":0}]
[null,{"$f":"IF(Biomasser!A68=\"\",\"\", Biomasser!A68)","v":" -             Protein"},{"$f":"IF(B2531=\"\",0,SUMIFS(Input!$H$57445:$H$60695,  Input!$F$57445:$F$60695,Summering!B2531))","v":0}]
[null,{"$f":"IF(Biomasser!A69=\"\",\"\", Biomasser!A69)","v":" -             Fedt"},{"$f":"IF(B2532=\"\",0,SUMIFS(Input!$H$57445:$H$60695,  Input!$F$57445:$F$60695,Summering!B2532))","v":0}]
[null,{"$f":"IF(Biomasser!A70=\"\",\"\", Biomasser!A70)","v":" -             Vinasse (2,2 pct. kvælstof)"},{"$f":"IF(B2533=\"\",0,SUMIFS(Input!$H$57445:$H$60695,  Input!$F$57445:$F$60695,Summering!B2533))","v":0}]
[null,{"$f":"IF(Biomasser!A71=\"\",\"\", Biomasser!A71)","v":" -             Vinasse (3,5 pct. kvælstof)"},{"$f":"IF(B2534=\"\",0,SUMIFS(Input!$H$57445:$H$60695,  Input!$F$57445:$F$60695,Summering!B2534))","v":0}]
[null,{"$f":"IF(Biomasser!A72=\"\",\"\", Biomasser!A72)","v":" -             Kartoffelfrugtsaft"},{"$f":"IF(B2535=\"\",0,SUMIFS(Input!$H$57445:$H$60695,  Input!$F$57445:$F$60695,Summering!B2535))","v":0}]
[null,{"$f":"IF(Biomasser!A73=\"\",\"\", Biomasser!A73)","v":" -             Glukose"},{"$f":"IF(B2536=\"\",0,SUMIFS(Input!$H$57445:$H$60695,  Input!$F$57445:$F$60695,Summering!B2536))","v":0}]
[null,{"$f":"IF(Biomasser!A74=\"\",\"\", Biomasser!A74)","v":" -             Alkohol"},{"$f":"IF(B2537=\"\",0,SUMIFS(Input!$H$57445:$H$60695,  Input!$F$57445:$F$60695,Summering!B2537))","v":0}]
[null,{"$f":"IF(Biomasser!A75=\"\",\"\", Biomasser!A75)","v":" -             Pressesaft fra grøntpilleproduktion"},{"$f":"IF(B2538=\"\",0,SUMIFS(Input!$H$57445:$H$60695,  Input!$F$57445:$F$60695,Summering!B2538))","v":0}]
[null,{"$f":"IF(Biomasser!A76=\"\",\"\", Biomasser!A76)","v":" -             Inaktiveret og kalkstabiliseret biomasse"},{"$f":"IF(B2539=\"\",0,SUMIFS(Input!$H$57445:$H$60695,  Input!$F$57445:$F$60695,Summering!B2539))","v":0}]
[null,{"$f":"IF(Biomasser!A77=\"\",\"\", Biomasser!A77)","v":"Anden biomasse (Overskrift)"},{"$f":"IF(B2540=\"\",0,SUMIFS(Input!$H$57445:$H$60695,  Input!$F$57445:$F$60695,Summering!B2540))","v":0}]
[null,{"$f":"IF(Biomasser!A78=\"\",\"\", Biomasser!A78)","v":" -             Råglycerin"},{"$f":"IF(B2541=\"\",0,SUMIFS(Input!$H$57445:$H$60695,  Input!$F$57445:$F$60695,Summering!B2541))","v":0}]
[null,{"$f":"IF(Biomasser!A79=\"\",\"\", Biomasser!A79)","v":""},{"$f":"IF(B2542=\"\",0,SUMIFS(Input!$H$57445:$H$60695,  Input!$F$57445:$F$60695,Summering!B2542))","v":0}]
[null,{"$f":"IF(Biomasser!A80=\"\",\"\", Biomasser!A80)","v":""},{"$f":"IF(B2543=\"\",0,SUMIFS(Input!$H$57445:$H$60695,  Input!$F$57445:$F$60695,Summering!B2543))","v":0}]
[null,{"$f":"IF(Biomasser!A81=\"\",\"\", Biomasser!A81)","v":""},{"$f":"IF(B2544=\"\",0,SUMIFS(Input!$H$57445:$H$60695,  Input!$F$57445:$F$60695,Summering!B2544))","v":0}]
[null,{"$f":"IF(Biomasser!A82=\"\",\"\", Biomasser!A82)","v":""},{"$f":"IF(B2545=\"\",0,SUMIFS(Input!$H$57445:$H$60695,  Input!$F$57445:$F$60695,Summering!B2545))","v":0}]
[null,{"$f":"IF(Biomasser!A83=\"\",\"\", Biomasser!A83)","v":""},{"$f":"IF(B2546=\"\",0,SUMIFS(Input!$H$57445:$H$60695,  Input!$F$57445:$F$60695,Summering!B2546))","v":0}]
[null,{"$f":"IF(Biomasser!A84=\"\",\"\", Biomasser!A84)","v":""},{"$f":"IF(B2547=\"\",0,SUMIFS(Input!$H$57445:$H$60695,  Input!$F$57445:$F$60695,Summering!B2547))","v":0}]
[null,{"$f":"IF(Biomasser!A85=\"\",\"\", Biomasser!A85)","v":""},{"$f":"IF(B2548=\"\",0,SUMIFS(Input!$H$57445:$H$60695,  Input!$F$57445:$F$60695,Summering!B2548))","v":0}]
[null,{"$f":"IF(Biomasser!A86=\"\",\"\", Biomasser!A86)","v":""},{"$f":"IF(B2549=\"\",0,SUMIFS(Input!$H$57445:$H$60695,  Input!$F$57445:$F$60695,Summering!B2549))","v":0}]
[null,{"$f":"IF(Biomasser!A87=\"\",\"\", Biomasser!A87)","v":""},{"$f":"IF(B2550=\"\",0,SUMIFS(Input!$H$57445:$H$60695,  Input!$F$57445:$F$60695,Summering!B2550))","v":0}]
[null,{"$f":"IF(Biomasser!A88=\"\",\"\", Biomasser!A88)","v":""},{"$f":"IF(B2551=\"\",0,SUMIFS(Input!$H$57445:$H$60695,  Input!$F$57445:$F$60695,Summering!B2551))","v":0}]
[null,{"$f":"IF(Biomasser!A89=\"\",\"\", Biomasser!A89)","v":""},{"$f":"IF(B2552=\"\",0,SUMIFS(Input!$H$57445:$H$60695,  Input!$F$57445:$F$60695,Summering!B2552))","v":0}]
[null,{"$f":"IF(Biomasser!A90=\"\",\"\", Biomasser!A90)","v":""},{"$f":"IF(B2553=\"\",0,SUMIFS(Input!$H$57445:$H$60695,  Input!$F$57445:$F$60695,Summering!B2553))","v":0}]
[null,{"$f":"IF(Biomasser!A91=\"\",\"\", Biomasser!A91)","v":""},{"$f":"IF(B2554=\"\",0,SUMIFS(Input!$H$57445:$H$60695,  Input!$F$57445:$F$60695,Summering!B2554))","v":0}]
[null,{"$f":"IF(Biomasser!A92=\"\",\"\", Biomasser!A92)","v":""},{"$f":"IF(B2555=\"\",0,SUMIFS(Input!$H$57445:$H$60695,  Input!$F$57445:$F$60695,Summering!B2555))","v":0}]
[null,{"$f":"IF(Biomasser!A93=\"\",\"\", Biomasser!A93)","v":""},{"$f":"IF(B2556=\"\",0,SUMIFS(Input!$H$57445:$H$60695,  Input!$F$57445:$F$60695,Summering!B2556))","v":0}]
[null,{"$f":"IF(Biomasser!A94=\"\",\"\", Biomasser!A94)","v":""},{"$f":"IF(B2557=\"\",0,SUMIFS(Input!$H$57445:$H$60695,  Input!$F$57445:$F$60695,Summering!B2557))","v":0}]
[null,{"$f":"IF(Biomasser!A95=\"\",\"\", Biomasser!A95)","v":""},{"$f":"IF(B2558=\"\",0,SUMIFS(Input!$H$57445:$H$60695,  Input!$F$57445:$F$60695,Summering!B2558))","v":0}]
[null,{"$f":"IF(Biomasser!A96=\"\",\"\", Biomasser!A96)","v":""},{"$f":"IF(B2559=\"\",0,SUMIFS(Input!$H$57445:$H$60695,  Input!$F$57445:$F$60695,Summering!B2559))","v":0}]
[null,{"$f":"IF(Biomasser!A97=\"\",\"\", Biomasser!A97)","v":""},{"$f":"IF(B2560=\"\",0,SUMIFS(Input!$H$57445:$H$60695,  Input!$F$57445:$F$60695,Summering!B2560))","v":0}]
[null,{"$f":"IF(Biomasser!A98=\"\",\"\", Biomasser!A98)","v":""},{"$f":"IF(B2561=\"\",0,SUMIFS(Input!$H$57445:$H$60695,  Input!$F$57445:$F$60695,Summering!B2561))","v":0}]
[null,{"$f":"IF(Biomasser!A99=\"\",\"\", Biomasser!A99)","v":""},{"$f":"IF(B2562=\"\",0,SUMIFS(Input!$H$57445:$H$60695,  Input!$F$57445:$F$60695,Summering!B2562))","v":0}]
[null,{"$f":"IF(Biomasser!A100=\"\",\"\", Biomasser!A100)","v":""},{"$f":"IF(B2563=\"\",0,SUMIFS(Input!$H$57445:$H$60695,  Input!$F$57445:$F$60695,Summering!B2563))","v":0}]
[null,{"$f":"IF(Biomasser!A101=\"\",\"\", Biomasser!A101)","v":""},{"$f":"IF(B2564=\"\",0,SUMIFS(Input!$H$57445:$H$60695,  Input!$F$57445:$F$60695,Summering!B2564))","v":0}]
[null,{"$f":"IF(Biomasser!A102=\"\",\"\", Biomasser!A102)","v":""},{"$f":"IF(B2565=\"\",0,SUMIFS(Input!$H$57445:$H$60695,  Input!$F$57445:$F$60695,Summering!B2565))","v":0}]
[null,{"$f":"IF(Biomasser!A103=\"\",\"\", Biomasser!A103)","v":""},{"$f":"IF(B2566=\"\",0,SUMIFS(Input!$H$57445:$H$60695,  Input!$F$57445:$F$60695,Summering!B2566))","v":0}]
[null,{"$f":"IF(Biomasser!A104=\"\",\"\", Biomasser!A104)","v":""},{"$f":"IF(B2567=\"\",0,SUMIFS(Input!$H$57445:$H$60695,  Input!$F$57445:$F$60695,Summering!B2567))","v":0}]
[null,{"$f":"IF(Biomasser!A105=\"\",\"\", Biomasser!A105)","v":""},{"$f":"IF(B2568=\"\",0,SUMIFS(Input!$H$57445:$H$60695,  Input!$F$57445:$F$60695,Summering!B2568))","v":0}]
[null,{"$f":"IF(Biomasser!A106=\"\",\"\", Biomasser!A106)","v":""},{"$f":"IF(B2569=\"\",0,SUMIFS(Input!$H$57445:$H$60695,  Input!$F$57445:$F$60695,Summering!B2569))","v":0}]
[null,{"$f":"IF(Biomasser!A107=\"\",\"\", Biomasser!A107)","v":""},{"$f":"IF(B2570=\"\",0,SUMIFS(Input!$H$57445:$H$60695,  Input!$F$57445:$F$60695,Summering!B2570))","v":0}]
[null,{"$f":"IF(Biomasser!A108=\"\",\"\", Biomasser!A108)","v":""},{"$f":"IF(B2571=\"\",0,SUMIFS(Input!$H$57445:$H$60695,  Input!$F$57445:$F$60695,Summering!B2571))","v":0}]
[null,{"$f":"IF(Biomasser!A109=\"\",\"\", Biomasser!A109)","v":""},{"$f":"IF(B2572=\"\",0,SUMIFS(Input!$H$57445:$H$60695,  Input!$F$57445:$F$60695,Summering!B2572))","v":0}]
[null,{"$f":"IF(Biomasser!A110=\"\",\"\", Biomasser!A110)","v":""},{"$f":"IF(B2573=\"\",0,SUMIFS(Input!$H$57445:$H$60695,  Input!$F$57445:$F$60695,Summering!B2573))","v":0}]
[null,{"$f":"IF(Biomasser!A111=\"\",\"\", Biomasser!A111)","v":""},{"$f":"IF(B2574=\"\",0,SUMIFS(Input!$H$57445:$H$60695,  Input!$F$57445:$F$60695,Summering!B2574))","v":0}]
[null,{"$f":"IF(Biomasser!A112=\"\",\"\", Biomasser!A112)","v":""},{"$f":"IF(B2575=\"\",0,SUMIFS(Input!$H$57445:$H$60695,  Input!$F$57445:$F$60695,Summering!B2575))","v":0}]
[null,{"$f":"IF(Biomasser!A113=\"\",\"\", Biomasser!A113)","v":""},{"$f":"IF(B2576=\"\",0,SUMIFS(Input!$H$57445:$H$60695,  Input!$F$57445:$F$60695,Summering!B2576))","v":0}]
[null,{"$f":"IF(Biomasser!A114=\"\",\"\", Biomasser!A114)","v":""},{"$f":"IF(B2577=\"\",0,SUMIFS(Input!$H$57445:$H$60695,  Input!$F$57445:$F$60695,Summering!B2577))","v":0}]
[null,{"$f":"IF(Biomasser!A115=\"\",\"\", Biomasser!A115)","v":""},{"$f":"IF(B2578=\"\",0,SUMIFS(Input!$H$57445:$H$60695,  Input!$F$57445:$F$60695,Summering!B2578))","v":0}]
[null,{"$f":"IF(Biomasser!A116=\"\",\"\", Biomasser!A116)","v":""},{"$f":"IF(B2579=\"\",0,SUMIFS(Input!$H$57445:$H$60695,  Input!$F$57445:$F$60695,Summering!B2579))","v":0}]
[null,{"$f":"IF(Biomasser!A117=\"\",\"\", Biomasser!A117)","v":""},{"$f":"IF(B2580=\"\",0,SUMIFS(Input!$H$57445:$H$60695,  Input!$F$57445:$F$60695,Summering!B2580))","v":0}]
[null,{"$f":"IF(Biomasser!A118=\"\",\"\", Biomasser!A118)","v":""},{"$f":"IF(B2581=\"\",0,SUMIFS(Input!$H$57445:$H$60695,  Input!$F$57445:$F$60695,Summering!B2581))","v":0}]
[null,{"$f":"IF(Biomasser!A119=\"\",\"\", Biomasser!A119)","v":""},{"$f":"IF(B2582=\"\",0,SUMIFS(Input!$H$57445:$H$60695,  Input!$F$57445:$F$60695,Summering!B2582))","v":0}]
[null,{"$f":"IF(Biomasser!A120=\"\",\"\", Biomasser!A120)","v":""},{"$f":"IF(B2583=\"\",0,SUMIFS(Input!$H$57445:$H$60695,  Input!$F$57445:$F$60695,Summering!B2583))","v":0}]
[null,{"$f":"IF(Biomasser!A121=\"\",\"\", Biomasser!A121)","v":""},{"$f":"IF(B2584=\"\",0,SUMIFS(Input!$H$57445:$H$60695,  Input!$F$57445:$F$60695,Summering!B2584))","v":0}]
[null,{"$f":"IF(Biomasser!A122=\"\",\"\", Biomasser!A122)","v":""},{"$f":"IF(B2585=\"\",0,SUMIFS(Input!$H$57445:$H$60695,  Input!$F$57445:$F$60695,Summering!B2585))","v":0}]
[null,{"$f":"IF(Biomasser!A123=\"\",\"\", Biomasser!A123)","v":""},{"$f":"IF(B2586=\"\",0,SUMIFS(Input!$H$57445:$H$60695,  Input!$F$57445:$F$60695,Summering!B2586))","v":0}]
[null,{"$f":"IF(Biomasser!A124=\"\",\"\", Biomasser!A124)","v":""},{"$f":"IF(B2587=\"\",0,SUMIFS(Input!$H$57445:$H$60695,  Input!$F$57445:$F$60695,Summering!B2587))","v":0}]
[null,"August",{"$f":"SUM(C2589:C2710)","v":0},{"$f":"SUMIFS(Input!$H$10:$H$76760,Input!$A$10:$A$76760,\"Gas\",Input!$C$10:$C$76760,Summering!$B$1604,Input!$B$10:$B$76760,\"*\"&B2588&\"*\")","v":0}]
[null,{"$f":"IF(Biomasser!A3=\"\",\"\", Biomasser!A3)","v":"Afgrøder (Overskrift, kan ikke vælges)"},{"$f":"IF(B2589=\"\",0,SUMIFS(Input!$H$60700:$H$63950,  Input!$F$60700:$F$63950,Summering!B2589))","v":0}]
[null,{"$f":"IF(Biomasser!A4=\"\",\"\", Biomasser!A4)","v":" -             Majs"},{"$f":"IF(B2590=\"\",0,SUMIFS(Input!$H$60700:$H$63950,  Input!$F$60700:$F$63950,Summering!B2590))","v":0}]
[null,{"$f":"IF(Biomasser!A5=\"\",\"\", Biomasser!A5)","v":" -             Roer"},{"$f":"IF(B2591=\"\",0,SUMIFS(Input!$H$60700:$H$63950,  Input!$F$60700:$F$63950,Summering!B2591))","v":0}]
[null,{"$f":"IF(Biomasser!A6=\"\",\"\", Biomasser!A6)","v":" -             Korn"},{"$f":"IF(B2592=\"\",0,SUMIFS(Input!$H$60700:$H$63950,  Input!$F$60700:$F$63950,Summering!B2592))","v":0}]
[null,{"$f":"IF(Biomasser!A7=\"\",\"\", Biomasser!A7)","v":" -             Græs"},{"$f":"IF(B2593=\"\",0,SUMIFS(Input!$H$60700:$H$63950,  Input!$F$60700:$F$63950,Summering!B2593))","v":0}]
[null,{"$f":"IF(Biomasser!A8=\"\",\"\", Biomasser!A8)","v":" -             Kløvergræs"},{"$f":"IF(B2594=\"\",0,SUMIFS(Input!$H$60700:$H$63950,  Input!$F$60700:$F$63950,Summering!B2594))","v":0}]
[null,{"$f":"IF(Biomasser!A9=\"\",\"\", Biomasser!A9)","v":" -             Jordskokker"},{"$f":"IF(B2595=\"\",0,SUMIFS(Input!$H$60700:$H$63950,  Input!$F$60700:$F$63950,Summering!B2595))","v":0}]
[null,{"$f":"IF(Biomasser!A10=\"\",\"\", Biomasser!A10)","v":" -             Andre afgrøder"},{"$f":"IF(B2596=\"\",0,SUMIFS(Input!$H$60700:$H$63950,  Input!$F$60700:$F$63950,Summering!B2596))","v":0}]
[null,{"$f":"IF(Biomasser!A11=\"\",\"\", Biomasser!A11)","v":" -             Hvedehelsæd"},{"$f":"IF(B2597=\"\",0,SUMIFS(Input!$H$60700:$H$63950,  Input!$F$60700:$F$63950,Summering!B2597))","v":0}]
[null,{"$f":"IF(Biomasser!A12=\"\",\"\", Biomasser!A12)","v":" -             Top af foderroe"},{"$f":"IF(B2598=\"\",0,SUMIFS(Input!$H$60700:$H$63950,  Input!$F$60700:$F$63950,Summering!B2598))","v":0}]
[null,{"$f":"IF(Biomasser!A13=\"\",\"\", Biomasser!A13)","v":" -             Foderroe - rod og top frisk"},{"$f":"IF(B2599=\"\",0,SUMIFS(Input!$H$60700:$H$63950,  Input!$F$60700:$F$63950,Summering!B2599))","v":0}]
[null,{"$f":"IF(Biomasser!A14=\"\",\"\", Biomasser!A14)","v":" -             Økologisk kløvergræs"},{"$f":"IF(B2600=\"\",0,SUMIFS(Input!$H$60700:$H$63950,  Input!$F$60700:$F$63950,Summering!B2600))","v":0}]
[null,{"$f":"IF(Biomasser!A15=\"\",\"\", Biomasser!A15)","v":"Husdyrgødning (Overskrift, kan ikke vælges)"},{"$f":"IF(B2601=\"\",0,SUMIFS(Input!$H$60700:$H$63950,  Input!$F$60700:$F$63950,Summering!B2601))","v":0}]
[null,{"$f":"IF(Biomasser!A16=\"\",\"\", Biomasser!A16)","v":" -             Kvæggylle"},{"$f":"IF(B2602=\"\",0,SUMIFS(Input!$H$60700:$H$63950,  Input!$F$60700:$F$63950,Summering!B2602))","v":0}]
[null,{"$f":"IF(Biomasser!A17=\"\",\"\", Biomasser!A17)","v":" -             Svinegylle"},{"$f":"IF(B2603=\"\",0,SUMIFS(Input!$H$60700:$H$63950,  Input!$F$60700:$F$63950,Summering!B2603))","v":0}]
[null,{"$f":"IF(Biomasser!A18=\"\",\"\", Biomasser!A18)","v":" -             Gylle fra so"},{"$f":"IF(B2604=\"\",0,SUMIFS(Input!$H$60700:$H$63950,  Input!$F$60700:$F$63950,Summering!B2604))","v":0}]
[null,{"$f":"IF(Biomasser!A19=\"\",\"\", Biomasser!A19)","v":" -             Minkgylle"},{"$f":"IF(B2605=\"\",0,SUMIFS(Input!$H$60700:$H$63950,  Input!$F$60700:$F$63950,Summering!B2605))","v":0}]
[null,{"$f":"IF(Biomasser!A20=\"\",\"\", Biomasser!A20)","v":" -             Fjerkrægylle"},{"$f":"IF(B2606=\"\",0,SUMIFS(Input!$H$60700:$H$63950,  Input!$F$60700:$F$63950,Summering!B2606))","v":0}]
[null,{"$f":"IF(Biomasser!A21=\"\",\"\", Biomasser!A21)","v":" -             Blandet gylle"},{"$f":"IF(B2607=\"\",0,SUMIFS(Input!$H$60700:$H$63950,  Input!$F$60700:$F$63950,Summering!B2607))","v":0}]
[null,{"$f":"IF(Biomasser!A22=\"\",\"\", Biomasser!A22)","v":" -             Dybstrøelse - Kvæg"},{"$f":"IF(B2608=\"\",0,SUMIFS(Input!$H$60700:$H$63950,  Input!$F$60700:$F$63950,Summering!B2608))","v":0}]
[null,{"$f":"IF(Biomasser!A23=\"\",\"\", Biomasser!A23)","v":" -             Dybstrøelse - Fjerkræ"},{"$f":"IF(B2609=\"\",0,SUMIFS(Input!$H$60700:$H$63950,  Input!$F$60700:$F$63950,Summering!B2609))","v":0}]
[null,{"$f":"IF(Biomasser!A24=\"\",\"\", Biomasser!A24)","v":" -             Dybstrøelse - Hest"},{"$f":"IF(B2610=\"\",0,SUMIFS(Input!$H$60700:$H$63950,  Input!$F$60700:$F$63950,Summering!B2610))","v":0}]
[null,{"$f":"IF(Biomasser!A25=\"\",\"\", Biomasser!A25)","v":" -             Dybstrøelse - Andre typer"},{"$f":"IF(B2611=\"\",0,SUMIFS(Input!$H$60700:$H$63950,  Input!$F$60700:$F$63950,Summering!B2611))","v":0}]
[null,{"$f":"IF(Biomasser!A26=\"\",\"\", Biomasser!A26)","v":" -             Fast gødning"},{"$f":"IF(B2612=\"\",0,SUMIFS(Input!$H$60700:$H$63950,  Input!$F$60700:$F$63950,Summering!B2612))","v":0}]
[null,{"$f":"IF(Biomasser!A27=\"\",\"\", Biomasser!A27)","v":" -             Ajle"},{"$f":"IF(B2613=\"\",0,SUMIFS(Input!$H$60700:$H$63950,  Input!$F$60700:$F$63950,Summering!B2613))","v":0}]
[null,{"$f":"IF(Biomasser!A28=\"\",\"\", Biomasser!A28)","v":" -             Fiberfraktion"},{"$f":"IF(B2614=\"\",0,SUMIFS(Input!$H$60700:$H$63950,  Input!$F$60700:$F$63950,Summering!B2614))","v":0}]
[null,{"$f":"IF(Biomasser!A29=\"\",\"\", Biomasser!A29)","v":" -             Flydende fraktion fra separationsanlæg"},{"$f":"IF(B2615=\"\",0,SUMIFS(Input!$H$60700:$H$63950,  Input!$F$60700:$F$63950,Summering!B2615))","v":0}]
[null,{"$f":"IF(Biomasser!A30=\"\",\"\", Biomasser!A30)","v":" -             Flydende fraktion"},{"$f":"IF(B2616=\"\",0,SUMIFS(Input!$H$60700:$H$63950,  Input!$F$60700:$F$63950,Summering!B2616))","v":0}]
[null,{"$f":"IF(Biomasser!A31=\"\",\"\", Biomasser!A31)","v":" -             Anden husdyrgødning"},{"$f":"IF(B2617=\"\",0,SUMIFS(Input!$H$60700:$H$63950,  Input!$F$60700:$F$63950,Summering!B2617))","v":0}]
[null,{"$f":"IF(Biomasser!A32=\"\",\"\", Biomasser!A32)","v":" -             Forsuret svinegylle"},{"$f":"IF(B2618=\"\",0,SUMIFS(Input!$H$60700:$H$63950,  Input!$F$60700:$F$63950,Summering!B2618))","v":0}]
[null,{"$f":"IF(Biomasser!A33=\"\",\"\", Biomasser!A33)","v":" -             Dybstrøelse - Svin"},{"$f":"IF(B2619=\"\",0,SUMIFS(Input!$H$60700:$H$63950,  Input!$F$60700:$F$63950,Summering!B2619))","v":0}]
[null,{"$f":"IF(Biomasser!A34=\"\",\"\", Biomasser!A34)","v":" -             Gylle fibre - kemisk separation - Svin"},{"$f":"IF(B2620=\"\",0,SUMIFS(Input!$H$60700:$H$63950,  Input!$F$60700:$F$63950,Summering!B2620))","v":0}]
[null,{"$f":"IF(Biomasser!A35=\"\",\"\", Biomasser!A35)","v":" -             Gylle fibre - dekanter separation - Svin"},{"$f":"IF(B2621=\"\",0,SUMIFS(Input!$H$60700:$H$63950,  Input!$F$60700:$F$63950,Summering!B2621))","v":0}]
[null,{"$f":"IF(Biomasser!A36=\"\",\"\", Biomasser!A36)","v":" -             Staldgødning - Kvæg"},{"$f":"IF(B2622=\"\",0,SUMIFS(Input!$H$60700:$H$63950,  Input!$F$60700:$F$63950,Summering!B2622))","v":0}]
[null,{"$f":"IF(Biomasser!A37=\"\",\"\", Biomasser!A37)","v":" -             Kvæggylle - Årsopdræt 6 mdr."},{"$f":"IF(B2623=\"\",0,SUMIFS(Input!$H$60700:$H$63950,  Input!$F$60700:$F$63950,Summering!B2623))","v":0}]
[null,{"$f":"IF(Biomasser!A38=\"\",\"\", Biomasser!A38)","v":" -             Staldgødning - Fjerkræ"},{"$f":"IF(B2624=\"\",0,SUMIFS(Input!$H$60700:$H$63950,  Input!$F$60700:$F$63950,Summering!B2624))","v":0}]
[null,{"$f":"IF(Biomasser!A39=\"\",\"\", Biomasser!A39)","v":"Slam og spildevand (Overskrift, kan ikke vælges)"},{"$f":"IF(B2625=\"\",0,SUMIFS(Input!$H$60700:$H$63950,  Input!$F$60700:$F$63950,Summering!B2625))","v":0}]
[null,{"$f":"IF(Biomasser!A40=\"\",\"\", Biomasser!A40)","v":" -             Slam og spildevand samt uforurenede produktrester"},{"$f":"IF(B2626=\"\",0,SUMIFS(Input!$H$60700:$H$63950,  Input!$F$60700:$F$63950,Summering!B2626))","v":0}]
[null,{"$f":"IF(Biomasser!A41=\"\",\"\", Biomasser!A41)","v":" -             Slam fra dambrug"},{"$f":"IF(B2627=\"\",0,SUMIFS(Input!$H$60700:$H$63950,  Input!$F$60700:$F$63950,Summering!B2627))","v":0}]
[null,{"$f":"IF(Biomasser!A42=\"\",\"\", Biomasser!A42)","v":" -             Slam fra forarbejdning af animalske råvarer"},{"$f":"IF(B2628=\"\",0,SUMIFS(Input!$H$60700:$H$63950,  Input!$F$60700:$F$63950,Summering!B2628))","v":0}]
[null,{"$f":"IF(Biomasser!A43=\"\",\"\", Biomasser!A43)","v":" -             Spildevandsslam"},{"$f":"IF(B2629=\"\",0,SUMIFS(Input!$H$60700:$H$63950,  Input!$F$60700:$F$63950,Summering!B2629))","v":0}]
[null,{"$f":"IF(Biomasser!A44=\"\",\"\", Biomasser!A44)","v":" -             Proteolyseret processpildevand"},{"$f":"IF(B2630=\"\",0,SUMIFS(Input!$H$60700:$H$63950,  Input!$F$60700:$F$63950,Summering!B2630))","v":0}]
[null,{"$f":"IF(Biomasser!A45=\"\",\"\", Biomasser!A45)","v":" -             Sekundær spildevandsslam"},{"$f":"IF(B2631=\"\",0,SUMIFS(Input!$H$60700:$H$63950,  Input!$F$60700:$F$63950,Summering!B2631))","v":0}]
[null,{"$f":"IF(Biomasser!A46=\"\",\"\", Biomasser!A46)","v":" -             Sekundær spildevandsslam afvandet"},{"$f":"IF(B2632=\"\",0,SUMIFS(Input!$H$60700:$H$63950,  Input!$F$60700:$F$63950,Summering!B2632))","v":0}]
[null,{"$f":"IF(Biomasser!A47=\"\",\"\", Biomasser!A47)","v":"Organisk affald fra husholdninger og erhverv (Overskrift, kan ikke vælges)"},{"$f":"IF(B2633=\"\",0,SUMIFS(Input!$H$60700:$H$63950,  Input!$F$60700:$F$63950,Summering!B2633))","v":0}]
[null,{"$f":"IF(Biomasser!A48=\"\",\"\", Biomasser!A48)","v":" -             Kildesorteret organisk dagrenovation"},{"$f":"IF(B2634=\"\",0,SUMIFS(Input!$H$60700:$H$63950,  Input!$F$60700:$F$63950,Summering!B2634))","v":0}]
[null,{"$f":"IF(Biomasser!A49=\"\",\"\", Biomasser!A49)","v":" -             Organisk husholdningsaffald - Renescience"},{"$f":"IF(B2635=\"\",0,SUMIFS(Input!$H$60700:$H$63950,  Input!$F$60700:$F$63950,Summering!B2635))","v":0}]
[null,{"$f":"IF(Biomasser!A50=\"\",\"\", Biomasser!A50)","v":" -             Organisk husholdningsaffald - Pulper"},{"$f":"IF(B2636=\"\",0,SUMIFS(Input!$H$60700:$H$63950,  Input!$F$60700:$F$63950,Summering!B2636))","v":0}]
[null,{"$f":"IF(Biomasser!A51=\"\",\"\", Biomasser!A51)","v":" -             Organisk husholdningsaffald - Rullesigte"},{"$f":"IF(B2637=\"\",0,SUMIFS(Input!$H$60700:$H$63950,  Input!$F$60700:$F$63950,Summering!B2637))","v":0}]
[null,{"$f":"IF(Biomasser!A52=\"\",\"\", Biomasser!A52)","v":" -             Organisk husholdningsaffald - Skruepresse"},{"$f":"IF(B2638=\"\",0,SUMIFS(Input!$H$60700:$H$63950,  Input!$F$60700:$F$63950,Summering!B2638))","v":0}]
[null,{"$f":"IF(Biomasser!A53=\"\",\"\", Biomasser!A53)","v":" -             Organisk husholdningsaffald - Neddeling"},{"$f":"IF(B2639=\"\",0,SUMIFS(Input!$H$60700:$H$63950,  Input!$F$60700:$F$63950,Summering!B2639))","v":0}]
[null,{"$f":"IF(Biomasser!A54=\"\",\"\", Biomasser!A54)","v":" -             Organisk affald fra erhverv"},{"$f":"IF(B2640=\"\",0,SUMIFS(Input!$H$60700:$H$63950,  Input!$F$60700:$F$63950,Summering!B2640))","v":0}]
[null,{"$f":"IF(Biomasser!A55=\"\",\"\", Biomasser!A55)","v":"Rester og biprodukter fra planter og afgrøder (Overskrift, kan ikke vælges)"},{"$f":"IF(B2641=\"\",0,SUMIFS(Input!$H$60700:$H$63950,  Input!$F$60700:$F$63950,Summering!B2641))","v":0}]
[null,{"$f":"IF(Biomasser!A56=\"\",\"\", Biomasser!A56)","v":" -             Cellulose"},{"$f":"IF(B2642=\"\",0,SUMIFS(Input!$H$60700:$H$63950,  Input!$F$60700:$F$63950,Summering!B2642))","v":0}]
[null,{"$f":"IF(Biomasser!A57=\"\",\"\", Biomasser!A57)","v":" -             Naturpleje biomasse"},{"$f":"IF(B2643=\"\",0,SUMIFS(Input!$H$60700:$H$63950,  Input!$F$60700:$F$63950,Summering!B2643))","v":0}]
[null,{"$f":"IF(Biomasser!A58=\"\",\"\", Biomasser!A58)","v":" -             Halm"},{"$f":"IF(B2644=\"\",0,SUMIFS(Input!$H$60700:$H$63950,  Input!$F$60700:$F$63950,Summering!B2644))","v":0}]
[null,{"$f":"IF(Biomasser!A59=\"\",\"\", Biomasser!A59)","v":" -             Have-park affald"},{"$f":"IF(B2645=\"\",0,SUMIFS(Input!$H$60700:$H$63950,  Input!$F$60700:$F$63950,Summering!B2645))","v":0}]
[null,{"$f":"IF(Biomasser!A60=\"\",\"\", Biomasser!A60)","v":" -             Andre restprodukter fra produktion af primærafgrøder"},{"$f":"IF(B2646=\"\",0,SUMIFS(Input!$H$60700:$H$63950,  Input!$F$60700:$F$63950,Summering!B2646))","v":0}]
[null,{"$f":"IF(Biomasser!A61=\"\",\"\", Biomasser!A61)","v":" -             Kasserede afgrøder"},{"$f":"IF(B2647=\"\",0,SUMIFS(Input!$H$60700:$H$63950,  Input!$F$60700:$F$63950,Summering!B2647))","v":0}]
[null,{"$f":"IF(Biomasser!A62=\"\",\"\", Biomasser!A62)","v":"Rester og biprodukter fra levnesmiddel- og dyrefoderindustrien  (Overskrift, kan ikke vælges)"},{"$f":"IF(B2648=\"\",0,SUMIFS(Input!$H$60700:$H$63950,  Input!$F$60700:$F$63950,Summering!B2648))","v":0}]
[null,{"$f":"IF(Biomasser!A63=\"\",\"\", Biomasser!A63)","v":" -             Animalske biprodukter"},{"$f":"IF(B2649=\"\",0,SUMIFS(Input!$H$60700:$H$63950,  Input!$F$60700:$F$63950,Summering!B2649))","v":0}]
[null,{"$f":"IF(Biomasser!A64=\"\",\"\", Biomasser!A64)","v":" -             Mave/tarm kvæg"},{"$f":"IF(B2650=\"\",0,SUMIFS(Input!$H$60700:$H$63950,  Input!$F$60700:$F$63950,Summering!B2650))","v":0}]
[null,{"$f":"IF(Biomasser!A65=\"\",\"\", Biomasser!A65)","v":" -             Mave/tarm svin"},{"$f":"IF(B2651=\"\",0,SUMIFS(Input!$H$60700:$H$63950,  Input!$F$60700:$F$63950,Summering!B2651))","v":0}]
[null,{"$f":"IF(Biomasser!A66=\"\",\"\", Biomasser!A66)","v":" -             Valle"},{"$f":"IF(B2652=\"\",0,SUMIFS(Input!$H$60700:$H$63950,  Input!$F$60700:$F$63950,Summering!B2652))","v":0}]
[null,{"$f":"IF(Biomasser!A67=\"\",\"\", Biomasser!A67)","v":" -             Valle koncentrat"},{"$f":"IF(B2653=\"\",0,SUMIFS(Input!$H$60700:$H$63950,  Input!$F$60700:$F$63950,Summering!B2653))","v":0}]
[null,{"$f":"IF(Biomasser!A68=\"\",\"\", Biomasser!A68)","v":" -             Protein"},{"$f":"IF(B2654=\"\",0,SUMIFS(Input!$H$60700:$H$63950,  Input!$F$60700:$F$63950,Summering!B2654))","v":0}]
[null,{"$f":"IF(Biomasser!A69=\"\",\"\", Biomasser!A69)","v":" -             Fedt"},{"$f":"IF(B2655=\"\",0,SUMIFS(Input!$H$60700:$H$63950,  Input!$F$60700:$F$63950,Summering!B2655))","v":0}]
[null,{"$f":"IF(Biomasser!A70=\"\",\"\", Biomasser!A70)","v":" -             Vinasse (2,2 pct. kvælstof)"},{"$f":"IF(B2656=\"\",0,SUMIFS(Input!$H$60700:$H$63950,  Input!$F$60700:$F$63950,Summering!B2656))","v":0}]
[null,{"$f":"IF(Biomasser!A71=\"\",\"\", Biomasser!A71)","v":" -             Vinasse (3,5 pct. kvælstof)"},{"$f":"IF(B2657=\"\",0,SUMIFS(Input!$H$60700:$H$63950,  Input!$F$60700:$F$63950,Summering!B2657))","v":0}]
[null,{"$f":"IF(Biomasser!A72=\"\",\"\", Biomasser!A72)","v":" -             Kartoffelfrugtsaft"},{"$f":"IF(B2658=\"\",0,SUMIFS(Input!$H$60700:$H$63950,  Input!$F$60700:$F$63950,Summering!B2658))","v":0}]
[null,{"$f":"IF(Biomasser!A73=\"\",\"\", Biomasser!A73)","v":" -             Glukose"},{"$f":"IF(B2659=\"\",0,SUMIFS(Input!$H$60700:$H$63950,  Input!$F$60700:$F$63950,Summering!B2659))","v":0}]
[null,{"$f":"IF(Biomasser!A74=\"\",\"\", Biomasser!A74)","v":" -             Alkohol"},{"$f":"IF(B2660=\"\",0,SUMIFS(Input!$H$60700:$H$63950,  Input!$F$60700:$F$63950,Summering!B2660))","v":0}]
[null,{"$f":"IF(Biomasser!A75=\"\",\"\", Biomasser!A75)","v":" -             Pressesaft fra grøntpilleproduktion"},{"$f":"IF(B2661=\"\",0,SUMIFS(Input!$H$60700:$H$63950,  Input!$F$60700:$F$63950,Summering!B2661))","v":0}]
[null,{"$f":"IF(Biomasser!A76=\"\",\"\", Biomasser!A76)","v":" -             Inaktiveret og kalkstabiliseret biomasse"},{"$f":"IF(B2662=\"\",0,SUMIFS(Input!$H$60700:$H$63950,  Input!$F$60700:$F$63950,Summering!B2662))","v":0}]
[null,{"$f":"IF(Biomasser!A77=\"\",\"\", Biomasser!A77)","v":"Anden biomasse (Overskrift)"},{"$f":"IF(B2663=\"\",0,SUMIFS(Input!$H$60700:$H$63950,  Input!$F$60700:$F$63950,Summering!B2663))","v":0}]
[null,{"$f":"IF(Biomasser!A78=\"\",\"\", Biomasser!A78)","v":" -             Råglycerin"},{"$f":"IF(B2664=\"\",0,SUMIFS(Input!$H$60700:$H$63950,  Input!$F$60700:$F$63950,Summering!B2664))","v":0}]
[null,{"$f":"IF(Biomasser!A79=\"\",\"\", Biomasser!A79)","v":""},{"$f":"IF(B2665=\"\",0,SUMIFS(Input!$H$60700:$H$63950,  Input!$F$60700:$F$63950,Summering!B2665))","v":0}]
[null,{"$f":"IF(Biomasser!A80=\"\",\"\", Biomasser!A80)","v":""},{"$f":"IF(B2666=\"\",0,SUMIFS(Input!$H$60700:$H$63950,  Input!$F$60700:$F$63950,Summering!B2666))","v":0}]
[null,{"$f":"IF(Biomasser!A81=\"\",\"\", Biomasser!A81)","v":""},{"$f":"IF(B2667=\"\",0,SUMIFS(Input!$H$60700:$H$63950,  Input!$F$60700:$F$63950,Summering!B2667))","v":0}]
[null,{"$f":"IF(Biomasser!A82=\"\",\"\", Biomasser!A82)","v":""},{"$f":"IF(B2668=\"\",0,SUMIFS(Input!$H$60700:$H$63950,  Input!$F$60700:$F$63950,Summering!B2668))","v":0}]
[null,{"$f":"IF(Biomasser!A83=\"\",\"\", Biomasser!A83)","v":""},{"$f":"IF(B2669=\"\",0,SUMIFS(Input!$H$60700:$H$63950,  Input!$F$60700:$F$63950,Summering!B2669))","v":0}]
[null,{"$f":"IF(Biomasser!A84=\"\",\"\", Biomasser!A84)","v":""},{"$f":"IF(B2670=\"\",0,SUMIFS(Input!$H$60700:$H$63950,  Input!$F$60700:$F$63950,Summering!B2670))","v":0}]
[null,{"$f":"IF(Biomasser!A85=\"\",\"\", Biomasser!A85)","v":""},{"$f":"IF(B2671=\"\",0,SUMIFS(Input!$H$60700:$H$63950,  Input!$F$60700:$F$63950,Summering!B2671))","v":0}]
[null,{"$f":"IF(Biomasser!A86=\"\",\"\", Biomasser!A86)","v":""},{"$f":"IF(B2672=\"\",0,SUMIFS(Input!$H$60700:$H$63950,  Input!$F$60700:$F$63950,Summering!B2672))","v":0}]
[null,{"$f":"IF(Biomasser!A87=\"\",\"\", Biomasser!A87)","v":""},{"$f":"IF(B2673=\"\",0,SUMIFS(Input!$H$60700:$H$63950,  Input!$F$60700:$F$63950,Summering!B2673))","v":0}]
[null,{"$f":"IF(Biomasser!A88=\"\",\"\", Biomasser!A88)","v":""},{"$f":"IF(B2674=\"\",0,SUMIFS(Input!$H$60700:$H$63950,  Input!$F$60700:$F$63950,Summering!B2674))","v":0}]
[null,{"$f":"IF(Biomasser!A89=\"\",\"\", Biomasser!A89)","v":""},{"$f":"IF(B2675=\"\",0,SUMIFS(Input!$H$60700:$H$63950,  Input!$F$60700:$F$63950,Summering!B2675))","v":0}]
[null,{"$f":"IF(Biomasser!A90=\"\",\"\", Biomasser!A90)","v":""},{"$f":"IF(B2676=\"\",0,SUMIFS(Input!$H$60700:$H$63950,  Input!$F$60700:$F$63950,Summering!B2676))","v":0}]
[null,{"$f":"IF(Biomasser!A91=\"\",\"\", Biomasser!A91)","v":""},{"$f":"IF(B2677=\"\",0,SUMIFS(Input!$H$60700:$H$63950,  Input!$F$60700:$F$63950,Summering!B2677))","v":0}]
[null,{"$f":"IF(Biomasser!A92=\"\",\"\", Biomasser!A92)","v":""},{"$f":"IF(B2678=\"\",0,SUMIFS(Input!$H$60700:$H$63950,  Input!$F$60700:$F$63950,Summering!B2678))","v":0}]
[null,{"$f":"IF(Biomasser!A93=\"\",\"\", Biomasser!A93)","v":""},{"$f":"IF(B2679=\"\",0,SUMIFS(Input!$H$60700:$H$63950,  Input!$F$60700:$F$63950,Summering!B2679))","v":0}]
[null,{"$f":"IF(Biomasser!A94=\"\",\"\", Biomasser!A94)","v":""},{"$f":"IF(B2680=\"\",0,SUMIFS(Input!$H$60700:$H$63950,  Input!$F$60700:$F$63950,Summering!B2680))","v":0}]
[null,{"$f":"IF(Biomasser!A95=\"\",\"\", Biomasser!A95)","v":""},{"$f":"IF(B2681=\"\",0,SUMIFS(Input!$H$60700:$H$63950,  Input!$F$60700:$F$63950,Summering!B2681))","v":0}]
[null,{"$f":"IF(Biomasser!A96=\"\",\"\", Biomasser!A96)","v":""},{"$f":"IF(B2682=\"\",0,SUMIFS(Input!$H$60700:$H$63950,  Input!$F$60700:$F$63950,Summering!B2682))","v":0}]
[null,{"$f":"IF(Biomasser!A97=\"\",\"\", Biomasser!A97)","v":""},{"$f":"IF(B2683=\"\",0,SUMIFS(Input!$H$60700:$H$63950,  Input!$F$60700:$F$63950,Summering!B2683))","v":0}]
[null,{"$f":"IF(Biomasser!A98=\"\",\"\", Biomasser!A98)","v":""},{"$f":"IF(B2684=\"\",0,SUMIFS(Input!$H$60700:$H$63950,  Input!$F$60700:$F$63950,Summering!B2684))","v":0}]
[null,{"$f":"IF(Biomasser!A99=\"\",\"\", Biomasser!A99)","v":""},{"$f":"IF(B2685=\"\",0,SUMIFS(Input!$H$60700:$H$63950,  Input!$F$60700:$F$63950,Summering!B2685))","v":0}]
[null,{"$f":"IF(Biomasser!A100=\"\",\"\", Biomasser!A100)","v":""},{"$f":"IF(B2686=\"\",0,SUMIFS(Input!$H$60700:$H$63950,  Input!$F$60700:$F$63950,Summering!B2686))","v":0}]
[null,{"$f":"IF(Biomasser!A101=\"\",\"\", Biomasser!A101)","v":""},{"$f":"IF(B2687=\"\",0,SUMIFS(Input!$H$60700:$H$63950,  Input!$F$60700:$F$63950,Summering!B2687))","v":0}]
[null,{"$f":"IF(Biomasser!A102=\"\",\"\", Biomasser!A102)","v":""},{"$f":"IF(B2688=\"\",0,SUMIFS(Input!$H$60700:$H$63950,  Input!$F$60700:$F$63950,Summering!B2688))","v":0}]
[null,{"$f":"IF(Biomasser!A103=\"\",\"\", Biomasser!A103)","v":""},{"$f":"IF(B2689=\"\",0,SUMIFS(Input!$H$60700:$H$63950,  Input!$F$60700:$F$63950,Summering!B2689))","v":0}]
[null,{"$f":"IF(Biomasser!A104=\"\",\"\", Biomasser!A104)","v":""},{"$f":"IF(B2690=\"\",0,SUMIFS(Input!$H$60700:$H$63950,  Input!$F$60700:$F$63950,Summering!B2690))","v":0}]
[null,{"$f":"IF(Biomasser!A105=\"\",\"\", Biomasser!A105)","v":""},{"$f":"IF(B2691=\"\",0,SUMIFS(Input!$H$60700:$H$63950,  Input!$F$60700:$F$63950,Summering!B2691))","v":0}]
[null,{"$f":"IF(Biomasser!A106=\"\",\"\", Biomasser!A106)","v":""},{"$f":"IF(B2692=\"\",0,SUMIFS(Input!$H$60700:$H$63950,  Input!$F$60700:$F$63950,Summering!B2692))","v":0}]
[null,{"$f":"IF(Biomasser!A107=\"\",\"\", Biomasser!A107)","v":""},{"$f":"IF(B2693=\"\",0,SUMIFS(Input!$H$60700:$H$63950,  Input!$F$60700:$F$63950,Summering!B2693))","v":0}]
[null,{"$f":"IF(Biomasser!A108=\"\",\"\", Biomasser!A108)","v":""},{"$f":"IF(B2694=\"\",0,SUMIFS(Input!$H$60700:$H$63950,  Input!$F$60700:$F$63950,Summering!B2694))","v":0}]
[null,{"$f":"IF(Biomasser!A109=\"\",\"\", Biomasser!A109)","v":""},{"$f":"IF(B2695=\"\",0,SUMIFS(Input!$H$60700:$H$63950,  Input!$F$60700:$F$63950,Summering!B2695))","v":0}]
[null,{"$f":"IF(Biomasser!A110=\"\",\"\", Biomasser!A110)","v":""},{"$f":"IF(B2696=\"\",0,SUMIFS(Input!$H$60700:$H$63950,  Input!$F$60700:$F$63950,Summering!B2696))","v":0}]
[null,{"$f":"IF(Biomasser!A111=\"\",\"\", Biomasser!A111)","v":""},{"$f":"IF(B2697=\"\",0,SUMIFS(Input!$H$60700:$H$63950,  Input!$F$60700:$F$63950,Summering!B2697))","v":0}]
[null,{"$f":"IF(Biomasser!A112=\"\",\"\", Biomasser!A112)","v":""},{"$f":"IF(B2698=\"\",0,SUMIFS(Input!$H$60700:$H$63950,  Input!$F$60700:$F$63950,Summering!B2698))","v":0}]
[null,{"$f":"IF(Biomasser!A113=\"\",\"\", Biomasser!A113)","v":""},{"$f":"IF(B2699=\"\",0,SUMIFS(Input!$H$60700:$H$63950,  Input!$F$60700:$F$63950,Summering!B2699))","v":0}]
[null,{"$f":"IF(Biomasser!A114=\"\",\"\", Biomasser!A114)","v":""},{"$f":"IF(B2700=\"\",0,SUMIFS(Input!$H$60700:$H$63950,  Input!$F$60700:$F$63950,Summering!B2700))","v":0}]
[null,{"$f":"IF(Biomasser!A115=\"\",\"\", Biomasser!A115)","v":""},{"$f":"IF(B2701=\"\",0,SUMIFS(Input!$H$60700:$H$63950,  Input!$F$60700:$F$63950,Summering!B2701))","v":0}]
[null,{"$f":"IF(Biomasser!A116=\"\",\"\", Biomasser!A116)","v":""},{"$f":"IF(B2702=\"\",0,SUMIFS(Input!$H$60700:$H$63950,  Input!$F$60700:$F$63950,Summering!B2702))","v":0}]
[null,{"$f":"IF(Biomasser!A117=\"\",\"\", Biomasser!A117)","v":""},{"$f":"IF(B2703=\"\",0,SUMIFS(Input!$H$60700:$H$63950,  Input!$F$60700:$F$63950,Summering!B2703))","v":0}]
[null,{"$f":"IF(Biomasser!A118=\"\",\"\", Biomasser!A118)","v":""},{"$f":"IF(B2704=\"\",0,SUMIFS(Input!$H$60700:$H$63950,  Input!$F$60700:$F$63950,Summering!B2704))","v":0}]
[null,{"$f":"IF(Biomasser!A119=\"\",\"\", Biomasser!A119)","v":""},{"$f":"IF(B2705=\"\",0,SUMIFS(Input!$H$60700:$H$63950,  Input!$F$60700:$F$63950,Summering!B2705))","v":0}]
[null,{"$f":"IF(Biomasser!A120=\"\",\"\", Biomasser!A120)","v":""},{"$f":"IF(B2706=\"\",0,SUMIFS(Input!$H$60700:$H$63950,  Input!$F$60700:$F$63950,Summering!B2706))","v":0}]
[null,{"$f":"IF(Biomasser!A121=\"\",\"\", Biomasser!A121)","v":""},{"$f":"IF(B2707=\"\",0,SUMIFS(Input!$H$60700:$H$63950,  Input!$F$60700:$F$63950,Summering!B2707))","v":0}]
[null,{"$f":"IF(Biomasser!A122=\"\",\"\", Biomasser!A122)","v":""},{"$f":"IF(B2708=\"\",0,SUMIFS(Input!$H$60700:$H$63950,  Input!$F$60700:$F$63950,Summering!B2708))","v":0}]
[null,{"$f":"IF(Biomasser!A123=\"\",\"\", Biomasser!A123)","v":""},{"$f":"IF(B2709=\"\",0,SUMIFS(Input!$H$60700:$H$63950,  Input!$F$60700:$F$63950,Summering!B2709))","v":0}]
[null,{"$f":"IF(Biomasser!A124=\"\",\"\", Biomasser!A124)","v":""},{"$f":"IF(B2710=\"\",0,SUMIFS(Input!$H$60700:$H$63950,  Input!$F$60700:$F$63950,Summering!B2710))","v":0}]
[null,"September",{"$f":"SUM(C2712:C2833)","v":0},{"$f":"SUMIFS(Input!$H$10:$H$76760,Input!$A$10:$A$76760,\"Gas\",Input!$C$10:$C$76760,Summering!$B$1604,Input!$B$10:$B$76760,\"*\"&B2711&\"*\")","v":0}]
[null,{"$f":"IF(Biomasser!A3=\"\",\"\", Biomasser!A3)","v":"Afgrøder (Overskrift, kan ikke vælges)"},{"$f":"IF(B2712=\"\",0,SUMIFS(Input!$H$63955:$H$67100,  Input!$F$63955:$F$67100,Summering!B2712))","v":0}]
[null,{"$f":"IF(Biomasser!A4=\"\",\"\", Biomasser!A4)","v":" -             Majs"},{"$f":"IF(B2713=\"\",0,SUMIFS(Input!$H$63955:$H$67100,  Input!$F$63955:$F$67100,Summering!B2713))","v":0}]
[null,{"$f":"IF(Biomasser!A5=\"\",\"\", Biomasser!A5)","v":" -             Roer"},{"$f":"IF(B2714=\"\",0,SUMIFS(Input!$H$63955:$H$67100,  Input!$F$63955:$F$67100,Summering!B2714))","v":0}]
[null,{"$f":"IF(Biomasser!A6=\"\",\"\", Biomasser!A6)","v":" -             Korn"},{"$f":"IF(B2715=\"\",0,SUMIFS(Input!$H$63955:$H$67100,  Input!$F$63955:$F$67100,Summering!B2715))","v":0}]
[null,{"$f":"IF(Biomasser!A7=\"\",\"\", Biomasser!A7)","v":" -             Græs"},{"$f":"IF(B2716=\"\",0,SUMIFS(Input!$H$63955:$H$67100,  Input!$F$63955:$F$67100,Summering!B2716))","v":0}]
[null,{"$f":"IF(Biomasser!A8=\"\",\"\", Biomasser!A8)","v":" -             Kløvergræs"},{"$f":"IF(B2717=\"\",0,SUMIFS(Input!$H$63955:$H$67100,  Input!$F$63955:$F$67100,Summering!B2717))","v":0}]
[null,{"$f":"IF(Biomasser!A9=\"\",\"\", Biomasser!A9)","v":" -             Jordskokker"},{"$f":"IF(B2718=\"\",0,SUMIFS(Input!$H$63955:$H$67100,  Input!$F$63955:$F$67100,Summering!B2718))","v":0}]
[null,{"$f":"IF(Biomasser!A10=\"\",\"\", Biomasser!A10)","v":" -             Andre afgrøder"},{"$f":"IF(B2719=\"\",0,SUMIFS(Input!$H$63955:$H$67100,  Input!$F$63955:$F$67100,Summering!B2719))","v":0}]
[null,{"$f":"IF(Biomasser!A11=\"\",\"\", Biomasser!A11)","v":" -             Hvedehelsæd"},{"$f":"IF(B2720=\"\",0,SUMIFS(Input!$H$63955:$H$67100,  Input!$F$63955:$F$67100,Summering!B2720))","v":0}]
[null,{"$f":"IF(Biomasser!A12=\"\",\"\", Biomasser!A12)","v":" -             Top af foderroe"},{"$f":"IF(B2721=\"\",0,SUMIFS(Input!$H$63955:$H$67100,  Input!$F$63955:$F$67100,Summering!B2721))","v":0}]
[null,{"$f":"IF(Biomasser!A13=\"\",\"\", Biomasser!A13)","v":" -             Foderroe - rod og top frisk"},{"$f":"IF(B2722=\"\",0,SUMIFS(Input!$H$63955:$H$67100,  Input!$F$63955:$F$67100,Summering!B2722))","v":0}]
[null,{"$f":"IF(Biomasser!A14=\"\",\"\", Biomasser!A14)","v":" -             Økologisk kløvergræs"},{"$f":"IF(B2723=\"\",0,SUMIFS(Input!$H$63955:$H$67100,  Input!$F$63955:$F$67100,Summering!B2723))","v":0}]
[null,{"$f":"IF(Biomasser!A15=\"\",\"\", Biomasser!A15)","v":"Husdyrgødning (Overskrift, kan ikke vælges)"},{"$f":"IF(B2724=\"\",0,SUMIFS(Input!$H$63955:$H$67100,  Input!$F$63955:$F$67100,Summering!B2724))","v":0}]
[null,{"$f":"IF(Biomasser!A16=\"\",\"\", Biomasser!A16)","v":" -             Kvæggylle"},{"$f":"IF(B2725=\"\",0,SUMIFS(Input!$H$63955:$H$67100,  Input!$F$63955:$F$67100,Summering!B2725))","v":0}]
[null,{"$f":"IF(Biomasser!A17=\"\",\"\", Biomasser!A17)","v":" -             Svinegylle"},{"$f":"IF(B2726=\"\",0,SUMIFS(Input!$H$63955:$H$67100,  Input!$F$63955:$F$67100,Summering!B2726))","v":0}]
[null,{"$f":"IF(Biomasser!A18=\"\",\"\", Biomasser!A18)","v":" -             Gylle fra so"},{"$f":"IF(B2727=\"\",0,SUMIFS(Input!$H$63955:$H$67100,  Input!$F$63955:$F$67100,Summering!B2727))","v":0}]
[null,{"$f":"IF(Biomasser!A19=\"\",\"\", Biomasser!A19)","v":" -             Minkgylle"},{"$f":"IF(B2728=\"\",0,SUMIFS(Input!$H$63955:$H$67100,  Input!$F$63955:$F$67100,Summering!B2728))","v":0}]
[null,{"$f":"IF(Biomasser!A20=\"\",\"\", Biomasser!A20)","v":" -             Fjerkrægylle"},{"$f":"IF(B2729=\"\",0,SUMIFS(Input!$H$63955:$H$67100,  Input!$F$63955:$F$67100,Summering!B2729))","v":0}]
[null,{"$f":"IF(Biomasser!A21=\"\",\"\", Biomasser!A21)","v":" -             Blandet gylle"},{"$f":"IF(B2730=\"\",0,SUMIFS(Input!$H$63955:$H$67100,  Input!$F$63955:$F$67100,Summering!B2730))","v":0}]
[null,{"$f":"IF(Biomasser!A22=\"\",\"\", Biomasser!A22)","v":" -             Dybstrøelse - Kvæg"},{"$f":"IF(B2731=\"\",0,SUMIFS(Input!$H$63955:$H$67100,  Input!$F$63955:$F$67100,Summering!B2731))","v":0}]
[null,{"$f":"IF(Biomasser!A23=\"\",\"\", Biomasser!A23)","v":" -             Dybstrøelse - Fjerkræ"},{"$f":"IF(B2732=\"\",0,SUMIFS(Input!$H$63955:$H$67100,  Input!$F$63955:$F$67100,Summering!B2732))","v":0}]
[null,{"$f":"IF(Biomasser!A24=\"\",\"\", Biomasser!A24)","v":" -             Dybstrøelse - Hest"},{"$f":"IF(B2733=\"\",0,SUMIFS(Input!$H$63955:$H$67100,  Input!$F$63955:$F$67100,Summering!B2733))","v":0}]
[null,{"$f":"IF(Biomasser!A25=\"\",\"\", Biomasser!A25)","v":" -             Dybstrøelse - Andre typer"},{"$f":"IF(B2734=\"\",0,SUMIFS(Input!$H$63955:$H$67100,  Input!$F$63955:$F$67100,Summering!B2734))","v":0}]
[null,{"$f":"IF(Biomasser!A26=\"\",\"\", Biomasser!A26)","v":" -             Fast gødning"},{"$f":"IF(B2735=\"\",0,SUMIFS(Input!$H$63955:$H$67100,  Input!$F$63955:$F$67100,Summering!B2735))","v":0}]
[null,{"$f":"IF(Biomasser!A27=\"\",\"\", Biomasser!A27)","v":" -             Ajle"},{"$f":"IF(B2736=\"\",0,SUMIFS(Input!$H$63955:$H$67100,  Input!$F$63955:$F$67100,Summering!B2736))","v":0}]
[null,{"$f":"IF(Biomasser!A28=\"\",\"\", Biomasser!A28)","v":" -             Fiberfraktion"},{"$f":"IF(B2737=\"\",0,SUMIFS(Input!$H$63955:$H$67100,  Input!$F$63955:$F$67100,Summering!B2737))","v":0}]
[null,{"$f":"IF(Biomasser!A29=\"\",\"\", Biomasser!A29)","v":" -             Flydende fraktion fra separationsanlæg"},{"$f":"IF(B2738=\"\",0,SUMIFS(Input!$H$63955:$H$67100,  Input!$F$63955:$F$67100,Summering!B2738))","v":0}]
[null,{"$f":"IF(Biomasser!A30=\"\",\"\", Biomasser!A30)","v":" -             Flydende fraktion"},{"$f":"IF(B2739=\"\",0,SUMIFS(Input!$H$63955:$H$67100,  Input!$F$63955:$F$67100,Summering!B2739))","v":0}]
[null,{"$f":"IF(Biomasser!A31=\"\",\"\", Biomasser!A31)","v":" -             Anden husdyrgødning"},{"$f":"IF(B2740=\"\",0,SUMIFS(Input!$H$63955:$H$67100,  Input!$F$63955:$F$67100,Summering!B2740))","v":0}]
[null,{"$f":"IF(Biomasser!A32=\"\",\"\", Biomasser!A32)","v":" -             Forsuret svinegylle"},{"$f":"IF(B2741=\"\",0,SUMIFS(Input!$H$63955:$H$67100,  Input!$F$63955:$F$67100,Summering!B2741))","v":0}]
[null,{"$f":"IF(Biomasser!A33=\"\",\"\", Biomasser!A33)","v":" -             Dybstrøelse - Svin"},{"$f":"IF(B2742=\"\",0,SUMIFS(Input!$H$63955:$H$67100,  Input!$F$63955:$F$67100,Summering!B2742))","v":0}]
[null,{"$f":"IF(Biomasser!A34=\"\",\"\", Biomasser!A34)","v":" -             Gylle fibre - kemisk separation - Svin"},{"$f":"IF(B2743=\"\",0,SUMIFS(Input!$H$63955:$H$67100,  Input!$F$63955:$F$67100,Summering!B2743))","v":0}]
[null,{"$f":"IF(Biomasser!A35=\"\",\"\", Biomasser!A35)","v":" -             Gylle fibre - dekanter separation - Svin"},{"$f":"IF(B2744=\"\",0,SUMIFS(Input!$H$63955:$H$67100,  Input!$F$63955:$F$67100,Summering!B2744))","v":0}]
[null,{"$f":"IF(Biomasser!A36=\"\",\"\", Biomasser!A36)","v":" -             Staldgødning - Kvæg"},{"$f":"IF(B2745=\"\",0,SUMIFS(Input!$H$63955:$H$67100,  Input!$F$63955:$F$67100,Summering!B2745))","v":0}]
[null,{"$f":"IF(Biomasser!A37=\"\",\"\", Biomasser!A37)","v":" -             Kvæggylle - Årsopdræt 6 mdr."},{"$f":"IF(B2746=\"\",0,SUMIFS(Input!$H$63955:$H$67100,  Input!$F$63955:$F$67100,Summering!B2746))","v":0}]
[null,{"$f":"IF(Biomasser!A38=\"\",\"\", Biomasser!A38)","v":" -             Staldgødning - Fjerkræ"},{"$f":"IF(B2747=\"\",0,SUMIFS(Input!$H$63955:$H$67100,  Input!$F$63955:$F$67100,Summering!B2747))","v":0}]
[null,{"$f":"IF(Biomasser!A39=\"\",\"\", Biomasser!A39)","v":"Slam og spildevand (Overskrift, kan ikke vælges)"},{"$f":"IF(B2748=\"\",0,SUMIFS(Input!$H$63955:$H$67100,  Input!$F$63955:$F$67100,Summering!B2748))","v":0}]
[null,{"$f":"IF(Biomasser!A40=\"\",\"\", Biomasser!A40)","v":" -             Slam og spildevand samt uforurenede produktrester"},{"$f":"IF(B2749=\"\",0,SUMIFS(Input!$H$63955:$H$67100,  Input!$F$63955:$F$67100,Summering!B2749))","v":0}]
[null,{"$f":"IF(Biomasser!A41=\"\",\"\", Biomasser!A41)","v":" -             Slam fra dambrug"},{"$f":"IF(B2750=\"\",0,SUMIFS(Input!$H$63955:$H$67100,  Input!$F$63955:$F$67100,Summering!B2750))","v":0}]
[null,{"$f":"IF(Biomasser!A42=\"\",\"\", Biomasser!A42)","v":" -             Slam fra forarbejdning af animalske råvarer"},{"$f":"IF(B2751=\"\",0,SUMIFS(Input!$H$63955:$H$67100,  Input!$F$63955:$F$67100,Summering!B2751))","v":0}]
[null,{"$f":"IF(Biomasser!A43=\"\",\"\", Biomasser!A43)","v":" -             Spildevandsslam"},{"$f":"IF(B2752=\"\",0,SUMIFS(Input!$H$63955:$H$67100,  Input!$F$63955:$F$67100,Summering!B2752))","v":0}]
[null,{"$f":"IF(Biomasser!A44=\"\",\"\", Biomasser!A44)","v":" -             Proteolyseret processpildevand"},{"$f":"IF(B2753=\"\",0,SUMIFS(Input!$H$63955:$H$67100,  Input!$F$63955:$F$67100,Summering!B2753))","v":0}]
[null,{"$f":"IF(Biomasser!A45=\"\",\"\", Biomasser!A45)","v":" -             Sekundær spildevandsslam"},{"$f":"IF(B2754=\"\",0,SUMIFS(Input!$H$63955:$H$67100,  Input!$F$63955:$F$67100,Summering!B2754))","v":0}]
[null,{"$f":"IF(Biomasser!A46=\"\",\"\", Biomasser!A46)","v":" -             Sekundær spildevandsslam afvandet"},{"$f":"IF(B2755=\"\",0,SUMIFS(Input!$H$63955:$H$67100,  Input!$F$63955:$F$67100,Summering!B2755))","v":0}]
[null,{"$f":"IF(Biomasser!A47=\"\",\"\", Biomasser!A47)","v":"Organisk affald fra husholdninger og erhverv (Overskrift, kan ikke vælges)"},{"$f":"IF(B2756=\"\",0,SUMIFS(Input!$H$63955:$H$67100,  Input!$F$63955:$F$67100,Summering!B2756))","v":0}]
[null,{"$f":"IF(Biomasser!A48=\"\",\"\", Biomasser!A48)","v":" -             Kildesorteret organisk dagrenovation"},{"$f":"IF(B2757=\"\",0,SUMIFS(Input!$H$63955:$H$67100,  Input!$F$63955:$F$67100,Summering!B2757))","v":0}]
[null,{"$f":"IF(Biomasser!A49=\"\",\"\", Biomasser!A49)","v":" -             Organisk husholdningsaffald - Renescience"},{"$f":"IF(B2758=\"\",0,SUMIFS(Input!$H$63955:$H$67100,  Input!$F$63955:$F$67100,Summering!B2758))","v":0}]
[null,{"$f":"IF(Biomasser!A50=\"\",\"\", Biomasser!A50)","v":" -             Organisk husholdningsaffald - Pulper"},{"$f":"IF(B2759=\"\",0,SUMIFS(Input!$H$63955:$H$67100,  Input!$F$63955:$F$67100,Summering!B2759))","v":0}]
[null,{"$f":"IF(Biomasser!A51=\"\",\"\", Biomasser!A51)","v":" -             Organisk husholdningsaffald - Rullesigte"},{"$f":"IF(B2760=\"\",0,SUMIFS(Input!$H$63955:$H$67100,  Input!$F$63955:$F$67100,Summering!B2760))","v":0}]
[null,{"$f":"IF(Biomasser!A52=\"\",\"\", Biomasser!A52)","v":" -             Organisk husholdningsaffald - Skruepresse"},{"$f":"IF(B2761=\"\",0,SUMIFS(Input!$H$63955:$H$67100,  Input!$F$63955:$F$67100,Summering!B2761))","v":0}]
[null,{"$f":"IF(Biomasser!A53=\"\",\"\", Biomasser!A53)","v":" -             Organisk husholdningsaffald - Neddeling"},{"$f":"IF(B2762=\"\",0,SUMIFS(Input!$H$63955:$H$67100,  Input!$F$63955:$F$67100,Summering!B2762))","v":0}]
[null,{"$f":"IF(Biomasser!A54=\"\",\"\", Biomasser!A54)","v":" -             Organisk affald fra erhverv"},{"$f":"IF(B2763=\"\",0,SUMIFS(Input!$H$63955:$H$67100,  Input!$F$63955:$F$67100,Summering!B2763))","v":0}]
[null,{"$f":"IF(Biomasser!A55=\"\",\"\", Biomasser!A55)","v":"Rester og biprodukter fra planter og afgrøder (Overskrift, kan ikke vælges)"},{"$f":"IF(B2764=\"\",0,SUMIFS(Input!$H$63955:$H$67100,  Input!$F$63955:$F$67100,Summering!B2764))","v":0}]
[null,{"$f":"IF(Biomasser!A56=\"\",\"\", Biomasser!A56)","v":" -             Cellulose"},{"$f":"IF(B2765=\"\",0,SUMIFS(Input!$H$63955:$H$67100,  Input!$F$63955:$F$67100,Summering!B2765))","v":0}]
[null,{"$f":"IF(Biomasser!A57=\"\",\"\", Biomasser!A57)","v":" -             Naturpleje biomasse"},{"$f":"IF(B2766=\"\",0,SUMIFS(Input!$H$63955:$H$67100,  Input!$F$63955:$F$67100,Summering!B2766))","v":0}]
[null,{"$f":"IF(Biomasser!A58=\"\",\"\", Biomasser!A58)","v":" -             Halm"},{"$f":"IF(B2767=\"\",0,SUMIFS(Input!$H$63955:$H$67100,  Input!$F$63955:$F$67100,Summering!B2767))","v":0}]
[null,{"$f":"IF(Biomasser!A59=\"\",\"\", Biomasser!A59)","v":" -             Have-park affald"},{"$f":"IF(B2768=\"\",0,SUMIFS(Input!$H$63955:$H$67100,  Input!$F$63955:$F$67100,Summering!B2768))","v":0}]
[null,{"$f":"IF(Biomasser!A60=\"\",\"\", Biomasser!A60)","v":" -             Andre restprodukter fra produktion af primærafgrøder"},{"$f":"IF(B2769=\"\",0,SUMIFS(Input!$H$63955:$H$67100,  Input!$F$63955:$F$67100,Summering!B2769))","v":0}]
[null,{"$f":"IF(Biomasser!A61=\"\",\"\", Biomasser!A61)","v":" -             Kasserede afgrøder"},{"$f":"IF(B2770=\"\",0,SUMIFS(Input!$H$63955:$H$67100,  Input!$F$63955:$F$67100,Summering!B2770))","v":0}]
[null,{"$f":"IF(Biomasser!A62=\"\",\"\", Biomasser!A62)","v":"Rester og biprodukter fra levnesmiddel- og dyrefoderindustrien  (Overskrift, kan ikke vælges)"},{"$f":"IF(B2771=\"\",0,SUMIFS(Input!$H$63955:$H$67100,  Input!$F$63955:$F$67100,Summering!B2771))","v":0}]
[null,{"$f":"IF(Biomasser!A63=\"\",\"\", Biomasser!A63)","v":" -             Animalske biprodukter"},{"$f":"IF(B2772=\"\",0,SUMIFS(Input!$H$63955:$H$67100,  Input!$F$63955:$F$67100,Summering!B2772))","v":0}]
[null,{"$f":"IF(Biomasser!A64=\"\",\"\", Biomasser!A64)","v":" -             Mave/tarm kvæg"},{"$f":"IF(B2773=\"\",0,SUMIFS(Input!$H$63955:$H$67100,  Input!$F$63955:$F$67100,Summering!B2773))","v":0}]
[null,{"$f":"IF(Biomasser!A65=\"\",\"\", Biomasser!A65)","v":" -             Mave/tarm svin"},{"$f":"IF(B2774=\"\",0,SUMIFS(Input!$H$63955:$H$67100,  Input!$F$63955:$F$67100,Summering!B2774))","v":0}]
[null,{"$f":"IF(Biomasser!A66=\"\",\"\", Biomasser!A66)","v":" -             Valle"},{"$f":"IF(B2775=\"\",0,SUMIFS(Input!$H$63955:$H$67100,  Input!$F$63955:$F$67100,Summering!B2775))","v":0}]
[null,{"$f":"IF(Biomasser!A67=\"\",\"\", Biomasser!A67)","v":" -             Valle koncentrat"},{"$f":"IF(B2776=\"\",0,SUMIFS(Input!$H$63955:$H$67100,  Input!$F$63955:$F$67100,Summering!B2776))","v":0}]
[null,{"$f":"IF(Biomasser!A68=\"\",\"\", Biomasser!A68)","v":" -             Protein"},{"$f":"IF(B2777=\"\",0,SUMIFS(Input!$H$63955:$H$67100,  Input!$F$63955:$F$67100,Summering!B2777))","v":0}]
[null,{"$f":"IF(Biomasser!A69=\"\",\"\", Biomasser!A69)","v":" -             Fedt"},{"$f":"IF(B2778=\"\",0,SUMIFS(Input!$H$63955:$H$67100,  Input!$F$63955:$F$67100,Summering!B2778))","v":0}]
[null,{"$f":"IF(Biomasser!A70=\"\",\"\", Biomasser!A70)","v":" -             Vinasse (2,2 pct. kvælstof)"},{"$f":"IF(B2779=\"\",0,SUMIFS(Input!$H$63955:$H$67100,  Input!$F$63955:$F$67100,Summering!B2779))","v":0}]
[null,{"$f":"IF(Biomasser!A71=\"\",\"\", Biomasser!A71)","v":" -             Vinasse (3,5 pct. kvælstof)"},{"$f":"IF(B2780=\"\",0,SUMIFS(Input!$H$63955:$H$67100,  Input!$F$63955:$F$67100,Summering!B2780))","v":0}]
[null,{"$f":"IF(Biomasser!A72=\"\",\"\", Biomasser!A72)","v":" -             Kartoffelfrugtsaft"},{"$f":"IF(B2781=\"\",0,SUMIFS(Input!$H$63955:$H$67100,  Input!$F$63955:$F$67100,Summering!B2781))","v":0}]
[null,{"$f":"IF(Biomasser!A73=\"\",\"\", Biomasser!A73)","v":" -             Glukose"},{"$f":"IF(B2782=\"\",0,SUMIFS(Input!$H$63955:$H$67100,  Input!$F$63955:$F$67100,Summering!B2782))","v":0}]
[null,{"$f":"IF(Biomasser!A74=\"\",\"\", Biomasser!A74)","v":" -             Alkohol"},{"$f":"IF(B2783=\"\",0,SUMIFS(Input!$H$63955:$H$67100,  Input!$F$63955:$F$67100,Summering!B2783))","v":0}]
[null,{"$f":"IF(Biomasser!A75=\"\",\"\", Biomasser!A75)","v":" -             Pressesaft fra grøntpilleproduktion"},{"$f":"IF(B2784=\"\",0,SUMIFS(Input!$H$63955:$H$67100,  Input!$F$63955:$F$67100,Summering!B2784))","v":0}]
[null,{"$f":"IF(Biomasser!A76=\"\",\"\", Biomasser!A76)","v":" -             Inaktiveret og kalkstabiliseret biomasse"},{"$f":"IF(B2785=\"\",0,SUMIFS(Input!$H$63955:$H$67100,  Input!$F$63955:$F$67100,Summering!B2785))","v":0}]
[null,{"$f":"IF(Biomasser!A77=\"\",\"\", Biomasser!A77)","v":"Anden biomasse (Overskrift)"},{"$f":"IF(B2786=\"\",0,SUMIFS(Input!$H$63955:$H$67100,  Input!$F$63955:$F$67100,Summering!B2786))","v":0}]
[null,{"$f":"IF(Biomasser!A78=\"\",\"\", Biomasser!A78)","v":" -             Råglycerin"},{"$f":"IF(B2787=\"\",0,SUMIFS(Input!$H$63955:$H$67100,  Input!$F$63955:$F$67100,Summering!B2787))","v":0}]
[null,{"$f":"IF(Biomasser!A79=\"\",\"\", Biomasser!A79)","v":""},{"$f":"IF(B2788=\"\",0,SUMIFS(Input!$H$63955:$H$67100,  Input!$F$63955:$F$67100,Summering!B2788))","v":0}]
[null,{"$f":"IF(Biomasser!A80=\"\",\"\", Biomasser!A80)","v":""},{"$f":"IF(B2789=\"\",0,SUMIFS(Input!$H$63955:$H$67100,  Input!$F$63955:$F$67100,Summering!B2789))","v":0}]
[null,{"$f":"IF(Biomasser!A81=\"\",\"\", Biomasser!A81)","v":""},{"$f":"IF(B2790=\"\",0,SUMIFS(Input!$H$63955:$H$67100,  Input!$F$63955:$F$67100,Summering!B2790))","v":0}]
[null,{"$f":"IF(Biomasser!A82=\"\",\"\", Biomasser!A82)","v":""},{"$f":"IF(B2791=\"\",0,SUMIFS(Input!$H$63955:$H$67100,  Input!$F$63955:$F$67100,Summering!B2791))","v":0}]
[null,{"$f":"IF(Biomasser!A83=\"\",\"\", Biomasser!A83)","v":""},{"$f":"IF(B2792=\"\",0,SUMIFS(Input!$H$63955:$H$67100,  Input!$F$63955:$F$67100,Summering!B2792))","v":0}]
[null,{"$f":"IF(Biomasser!A84=\"\",\"\", Biomasser!A84)","v":""},{"$f":"IF(B2793=\"\",0,SUMIFS(Input!$H$63955:$H$67100,  Input!$F$63955:$F$67100,Summering!B2793))","v":0}]
[null,{"$f":"IF(Biomasser!A85=\"\",\"\", Biomasser!A85)","v":""},{"$f":"IF(B2794=\"\",0,SUMIFS(Input!$H$63955:$H$67100,  Input!$F$63955:$F$67100,Summering!B2794))","v":0}]
[null,{"$f":"IF(Biomasser!A86=\"\",\"\", Biomasser!A86)","v":""},{"$f":"IF(B2795=\"\",0,SUMIFS(Input!$H$63955:$H$67100,  Input!$F$63955:$F$67100,Summering!B2795))","v":0}]
[null,{"$f":"IF(Biomasser!A87=\"\",\"\", Biomasser!A87)","v":""},{"$f":"IF(B2796=\"\",0,SUMIFS(Input!$H$63955:$H$67100,  Input!$F$63955:$F$67100,Summering!B2796))","v":0}]
[null,{"$f":"IF(Biomasser!A88=\"\",\"\", Biomasser!A88)","v":""},{"$f":"IF(B2797=\"\",0,SUMIFS(Input!$H$63955:$H$67100,  Input!$F$63955:$F$67100,Summering!B2797))","v":0}]
[null,{"$f":"IF(Biomasser!A89=\"\",\"\", Biomasser!A89)","v":""},{"$f":"IF(B2798=\"\",0,SUMIFS(Input!$H$63955:$H$67100,  Input!$F$63955:$F$67100,Summering!B2798))","v":0}]
[null,{"$f":"IF(Biomasser!A90=\"\",\"\", Biomasser!A90)","v":""},{"$f":"IF(B2799=\"\",0,SUMIFS(Input!$H$63955:$H$67100,  Input!$F$63955:$F$67100,Summering!B2799))","v":0}]
[null,{"$f":"IF(Biomasser!A91=\"\",\"\", Biomasser!A91)","v":""},{"$f":"IF(B2800=\"\",0,SUMIFS(Input!$H$63955:$H$67100,  Input!$F$63955:$F$67100,Summering!B2800))","v":0}]
[null,{"$f":"IF(Biomasser!A92=\"\",\"\", Biomasser!A92)","v":""},{"$f":"IF(B2801=\"\",0,SUMIFS(Input!$H$63955:$H$67100,  Input!$F$63955:$F$67100,Summering!B2801))","v":0}]
[null,{"$f":"IF(Biomasser!A93=\"\",\"\", Biomasser!A93)","v":""},{"$f":"IF(B2802=\"\",0,SUMIFS(Input!$H$63955:$H$67100,  Input!$F$63955:$F$67100,Summering!B2802))","v":0}]
[null,{"$f":"IF(Biomasser!A94=\"\",\"\", Biomasser!A94)","v":""},{"$f":"IF(B2803=\"\",0,SUMIFS(Input!$H$63955:$H$67100,  Input!$F$63955:$F$67100,Summering!B2803))","v":0}]
[null,{"$f":"IF(Biomasser!A95=\"\",\"\", Biomasser!A95)","v":""},{"$f":"IF(B2804=\"\",0,SUMIFS(Input!$H$63955:$H$67100,  Input!$F$63955:$F$67100,Summering!B2804))","v":0}]
[null,{"$f":"IF(Biomasser!A96=\"\",\"\", Biomasser!A96)","v":""},{"$f":"IF(B2805=\"\",0,SUMIFS(Input!$H$63955:$H$67100,  Input!$F$63955:$F$67100,Summering!B2805))","v":0}]
[null,{"$f":"IF(Biomasser!A97=\"\",\"\", Biomasser!A97)","v":""},{"$f":"IF(B2806=\"\",0,SUMIFS(Input!$H$63955:$H$67100,  Input!$F$63955:$F$67100,Summering!B2806))","v":0}]
[null,{"$f":"IF(Biomasser!A98=\"\",\"\", Biomasser!A98)","v":""},{"$f":"IF(B2807=\"\",0,SUMIFS(Input!$H$63955:$H$67100,  Input!$F$63955:$F$67100,Summering!B2807))","v":0}]
[null,{"$f":"IF(Biomasser!A99=\"\",\"\", Biomasser!A99)","v":""},{"$f":"IF(B2808=\"\",0,SUMIFS(Input!$H$63955:$H$67100,  Input!$F$63955:$F$67100,Summering!B2808))","v":0}]
[null,{"$f":"IF(Biomasser!A100=\"\",\"\", Biomasser!A100)","v":""},{"$f":"IF(B2809=\"\",0,SUMIFS(Input!$H$63955:$H$67100,  Input!$F$63955:$F$67100,Summering!B2809))","v":0}]
[null,{"$f":"IF(Biomasser!A101=\"\",\"\", Biomasser!A101)","v":""},{"$f":"IF(B2810=\"\",0,SUMIFS(Input!$H$63955:$H$67100,  Input!$F$63955:$F$67100,Summering!B2810))","v":0}]
[null,{"$f":"IF(Biomasser!A102=\"\",\"\", Biomasser!A102)","v":""},{"$f":"IF(B2811=\"\",0,SUMIFS(Input!$H$63955:$H$67100,  Input!$F$63955:$F$67100,Summering!B2811))","v":0}]
[null,{"$f":"IF(Biomasser!A103=\"\",\"\", Biomasser!A103)","v":""},{"$f":"IF(B2812=\"\",0,SUMIFS(Input!$H$63955:$H$67100,  Input!$F$63955:$F$67100,Summering!B2812))","v":0}]
[null,{"$f":"IF(Biomasser!A104=\"\",\"\", Biomasser!A104)","v":""},{"$f":"IF(B2813=\"\",0,SUMIFS(Input!$H$63955:$H$67100,  Input!$F$63955:$F$67100,Summering!B2813))","v":0}]
[null,{"$f":"IF(Biomasser!A105=\"\",\"\", Biomasser!A105)","v":""},{"$f":"IF(B2814=\"\",0,SUMIFS(Input!$H$63955:$H$67100,  Input!$F$63955:$F$67100,Summering!B2814))","v":0}]
[null,{"$f":"IF(Biomasser!A106=\"\",\"\", Biomasser!A106)","v":""},{"$f":"IF(B2815=\"\",0,SUMIFS(Input!$H$63955:$H$67100,  Input!$F$63955:$F$67100,Summering!B2815))","v":0}]
[null,{"$f":"IF(Biomasser!A107=\"\",\"\", Biomasser!A107)","v":""},{"$f":"IF(B2816=\"\",0,SUMIFS(Input!$H$63955:$H$67100,  Input!$F$63955:$F$67100,Summering!B2816))","v":0}]
[null,{"$f":"IF(Biomasser!A108=\"\",\"\", Biomasser!A108)","v":""},{"$f":"IF(B2817=\"\",0,SUMIFS(Input!$H$63955:$H$67100,  Input!$F$63955:$F$67100,Summering!B2817))","v":0}]
[null,{"$f":"IF(Biomasser!A109=\"\",\"\", Biomasser!A109)","v":""},{"$f":"IF(B2818=\"\",0,SUMIFS(Input!$H$63955:$H$67100,  Input!$F$63955:$F$67100,Summering!B2818))","v":0}]
[null,{"$f":"IF(Biomasser!A110=\"\",\"\", Biomasser!A110)","v":""},{"$f":"IF(B2819=\"\",0,SUMIFS(Input!$H$63955:$H$67100,  Input!$F$63955:$F$67100,Summering!B2819))","v":0}]
[null,{"$f":"IF(Biomasser!A111=\"\",\"\", Biomasser!A111)","v":""},{"$f":"IF(B2820=\"\",0,SUMIFS(Input!$H$63955:$H$67100,  Input!$F$63955:$F$67100,Summering!B2820))","v":0}]
[null,{"$f":"IF(Biomasser!A112=\"\",\"\", Biomasser!A112)","v":""},{"$f":"IF(B2821=\"\",0,SUMIFS(Input!$H$63955:$H$67100,  Input!$F$63955:$F$67100,Summering!B2821))","v":0}]
[null,{"$f":"IF(Biomasser!A113=\"\",\"\", Biomasser!A113)","v":""},{"$f":"IF(B2822=\"\",0,SUMIFS(Input!$H$63955:$H$67100,  Input!$F$63955:$F$67100,Summering!B2822))","v":0}]
[null,{"$f":"IF(Biomasser!A114=\"\",\"\", Biomasser!A114)","v":""},{"$f":"IF(B2823=\"\",0,SUMIFS(Input!$H$63955:$H$67100,  Input!$F$63955:$F$67100,Summering!B2823))","v":0}]
[null,{"$f":"IF(Biomasser!A115=\"\",\"\", Biomasser!A115)","v":""},{"$f":"IF(B2824=\"\",0,SUMIFS(Input!$H$63955:$H$67100,  Input!$F$63955:$F$67100,Summering!B2824))","v":0}]
[null,{"$f":"IF(Biomasser!A116=\"\",\"\", Biomasser!A116)","v":""},{"$f":"IF(B2825=\"\",0,SUMIFS(Input!$H$63955:$H$67100,  Input!$F$63955:$F$67100,Summering!B2825))","v":0}]
[null,{"$f":"IF(Biomasser!A117=\"\",\"\", Biomasser!A117)","v":""},{"$f":"IF(B2826=\"\",0,SUMIFS(Input!$H$63955:$H$67100,  Input!$F$63955:$F$67100,Summering!B2826))","v":0}]
[null,{"$f":"IF(Biomasser!A118=\"\",\"\", Biomasser!A118)","v":""},{"$f":"IF(B2827=\"\",0,SUMIFS(Input!$H$63955:$H$67100,  Input!$F$63955:$F$67100,Summering!B2827))","v":0}]
[null,{"$f":"IF(Biomasser!A119=\"\",\"\", Biomasser!A119)","v":""},{"$f":"IF(B2828=\"\",0,SUMIFS(Input!$H$63955:$H$67100,  Input!$F$63955:$F$67100,Summering!B2828))","v":0}]
[null,{"$f":"IF(Biomasser!A120=\"\",\"\", Biomasser!A120)","v":""},{"$f":"IF(B2829=\"\",0,SUMIFS(Input!$H$63955:$H$67100,  Input!$F$63955:$F$67100,Summering!B2829))","v":0}]
[null,{"$f":"IF(Biomasser!A121=\"\",\"\", Biomasser!A121)","v":""},{"$f":"IF(B2830=\"\",0,SUMIFS(Input!$H$63955:$H$67100,  Input!$F$63955:$F$67100,Summering!B2830))","v":0}]
[null,{"$f":"IF(Biomasser!A122=\"\",\"\", Biomasser!A122)","v":""},{"$f":"IF(B2831=\"\",0,SUMIFS(Input!$H$63955:$H$67100,  Input!$F$63955:$F$67100,Summering!B2831))","v":0}]
[null,{"$f":"IF(Biomasser!A123=\"\",\"\", Biomasser!A123)","v":""},{"$f":"IF(B2832=\"\",0,SUMIFS(Input!$H$63955:$H$67100,  Input!$F$63955:$F$67100,Summering!B2832))","v":0}]
[null,{"$f":"IF(Biomasser!A124=\"\",\"\", Biomasser!A124)","v":""},{"$f":"IF(B2833=\"\",0,SUMIFS(Input!$H$63955:$H$67100,  Input!$F$63955:$F$67100,Summering!B2833))","v":0}]
[null,"Oktober",{"$f":"SUM(C2835:C2956)","v":0},{"$f":"SUMIFS(Input!$H$10:$H$76760,Input!$A$10:$A$76760,\"Gas\",Input!$C$10:$C$76760,Summering!$B$1604,Input!$B$10:$B$76760,\"*\"&B2834&\"*\")","v":0}]
[null,{"$f":"IF(Biomasser!A3=\"\",\"\", Biomasser!A3)","v":"Afgrøder (Overskrift, kan ikke vælges)"},{"$f":"IF(B2835=\"\",0,SUMIFS(Input!$H$67105:$H$70355,  Input!$F$67105:$F$70355,Summering!B2835))","v":0}]
[null,{"$f":"IF(Biomasser!A4=\"\",\"\", Biomasser!A4)","v":" -             Majs"},{"$f":"IF(B2836=\"\",0,SUMIFS(Input!$H$67105:$H$70355,  Input!$F$67105:$F$70355,Summering!B2836))","v":0}]
[null,{"$f":"IF(Biomasser!A5=\"\",\"\", Biomasser!A5)","v":" -             Roer"},{"$f":"IF(B2837=\"\",0,SUMIFS(Input!$H$67105:$H$70355,  Input!$F$67105:$F$70355,Summering!B2837))","v":0}]
[null,{"$f":"IF(Biomasser!A6=\"\",\"\", Biomasser!A6)","v":" -             Korn"},{"$f":"IF(B2838=\"\",0,SUMIFS(Input!$H$67105:$H$70355,  Input!$F$67105:$F$70355,Summering!B2838))","v":0}]
[null,{"$f":"IF(Biomasser!A7=\"\",\"\", Biomasser!A7)","v":" -             Græs"},{"$f":"IF(B2839=\"\",0,SUMIFS(Input!$H$67105:$H$70355,  Input!$F$67105:$F$70355,Summering!B2839))","v":0}]
[null,{"$f":"IF(Biomasser!A8=\"\",\"\", Biomasser!A8)","v":" -             Kløvergræs"},{"$f":"IF(B2840=\"\",0,SUMIFS(Input!$H$67105:$H$70355,  Input!$F$67105:$F$70355,Summering!B2840))","v":0}]
[null,{"$f":"IF(Biomasser!A9=\"\",\"\", Biomasser!A9)","v":" -             Jordskokker"},{"$f":"IF(B2841=\"\",0,SUMIFS(Input!$H$67105:$H$70355,  Input!$F$67105:$F$70355,Summering!B2841))","v":0}]
[null,{"$f":"IF(Biomasser!A10=\"\",\"\", Biomasser!A10)","v":" -             Andre afgrøder"},{"$f":"IF(B2842=\"\",0,SUMIFS(Input!$H$67105:$H$70355,  Input!$F$67105:$F$70355,Summering!B2842))","v":0}]
[null,{"$f":"IF(Biomasser!A11=\"\",\"\", Biomasser!A11)","v":" -             Hvedehelsæd"},{"$f":"IF(B2843=\"\",0,SUMIFS(Input!$H$67105:$H$70355,  Input!$F$67105:$F$70355,Summering!B2843))","v":0}]
[null,{"$f":"IF(Biomasser!A12=\"\",\"\", Biomasser!A12)","v":" -             Top af foderroe"},{"$f":"IF(B2844=\"\",0,SUMIFS(Input!$H$67105:$H$70355,  Input!$F$67105:$F$70355,Summering!B2844))","v":0}]
[null,{"$f":"IF(Biomasser!A13=\"\",\"\", Biomasser!A13)","v":" -             Foderroe - rod og top frisk"},{"$f":"IF(B2845=\"\",0,SUMIFS(Input!$H$67105:$H$70355,  Input!$F$67105:$F$70355,Summering!B2845))","v":0}]
[null,{"$f":"IF(Biomasser!A14=\"\",\"\", Biomasser!A14)","v":" -             Økologisk kløvergræs"},{"$f":"IF(B2846=\"\",0,SUMIFS(Input!$H$67105:$H$70355,  Input!$F$67105:$F$70355,Summering!B2846))","v":0}]
[null,{"$f":"IF(Biomasser!A15=\"\",\"\", Biomasser!A15)","v":"Husdyrgødning (Overskrift, kan ikke vælges)"},{"$f":"IF(B2847=\"\",0,SUMIFS(Input!$H$67105:$H$70355,  Input!$F$67105:$F$70355,Summering!B2847))","v":0}]
[null,{"$f":"IF(Biomasser!A16=\"\",\"\", Biomasser!A16)","v":" -             Kvæggylle"},{"$f":"IF(B2848=\"\",0,SUMIFS(Input!$H$67105:$H$70355,  Input!$F$67105:$F$70355,Summering!B2848))","v":0}]
[null,{"$f":"IF(Biomasser!A17=\"\",\"\", Biomasser!A17)","v":" -             Svinegylle"},{"$f":"IF(B2849=\"\",0,SUMIFS(Input!$H$67105:$H$70355,  Input!$F$67105:$F$70355,Summering!B2849))","v":0}]
[null,{"$f":"IF(Biomasser!A18=\"\",\"\", Biomasser!A18)","v":" -             Gylle fra so"},{"$f":"IF(B2850=\"\",0,SUMIFS(Input!$H$67105:$H$70355,  Input!$F$67105:$F$70355,Summering!B2850))","v":0}]
[null,{"$f":"IF(Biomasser!A19=\"\",\"\", Biomasser!A19)","v":" -             Minkgylle"},{"$f":"IF(B2851=\"\",0,SUMIFS(Input!$H$67105:$H$70355,  Input!$F$67105:$F$70355,Summering!B2851))","v":0}]
[null,{"$f":"IF(Biomasser!A20=\"\",\"\", Biomasser!A20)","v":" -             Fjerkrægylle"},{"$f":"IF(B2852=\"\",0,SUMIFS(Input!$H$67105:$H$70355,  Input!$F$67105:$F$70355,Summering!B2852))","v":0}]
[null,{"$f":"IF(Biomasser!A21=\"\",\"\", Biomasser!A21)","v":" -             Blandet gylle"},{"$f":"IF(B2853=\"\",0,SUMIFS(Input!$H$67105:$H$70355,  Input!$F$67105:$F$70355,Summering!B2853))","v":0}]
[null,{"$f":"IF(Biomasser!A22=\"\",\"\", Biomasser!A22)","v":" -             Dybstrøelse - Kvæg"},{"$f":"IF(B2854=\"\",0,SUMIFS(Input!$H$67105:$H$70355,  Input!$F$67105:$F$70355,Summering!B2854))","v":0}]
[null,{"$f":"IF(Biomasser!A23=\"\",\"\", Biomasser!A23)","v":" -             Dybstrøelse - Fjerkræ"},{"$f":"IF(B2855=\"\",0,SUMIFS(Input!$H$67105:$H$70355,  Input!$F$67105:$F$70355,Summering!B2855))","v":0}]
[null,{"$f":"IF(Biomasser!A24=\"\",\"\", Biomasser!A24)","v":" -             Dybstrøelse - Hest"},{"$f":"IF(B2856=\"\",0,SUMIFS(Input!$H$67105:$H$70355,  Input!$F$67105:$F$70355,Summering!B2856))","v":0}]
[null,{"$f":"IF(Biomasser!A25=\"\",\"\", Biomasser!A25)","v":" -             Dybstrøelse - Andre typer"},{"$f":"IF(B2857=\"\",0,SUMIFS(Input!$H$67105:$H$70355,  Input!$F$67105:$F$70355,Summering!B2857))","v":0}]
[null,{"$f":"IF(Biomasser!A26=\"\",\"\", Biomasser!A26)","v":" -             Fast gødning"},{"$f":"IF(B2858=\"\",0,SUMIFS(Input!$H$67105:$H$70355,  Input!$F$67105:$F$70355,Summering!B2858))","v":0}]
[null,{"$f":"IF(Biomasser!A27=\"\",\"\", Biomasser!A27)","v":" -             Ajle"},{"$f":"IF(B2859=\"\",0,SUMIFS(Input!$H$67105:$H$70355,  Input!$F$67105:$F$70355,Summering!B2859))","v":0}]
[null,{"$f":"IF(Biomasser!A28=\"\",\"\", Biomasser!A28)","v":" -             Fiberfraktion"},{"$f":"IF(B2860=\"\",0,SUMIFS(Input!$H$67105:$H$70355,  Input!$F$67105:$F$70355,Summering!B2860))","v":0}]
[null,{"$f":"IF(Biomasser!A29=\"\",\"\", Biomasser!A29)","v":" -             Flydende fraktion fra separationsanlæg"},{"$f":"IF(B2861=\"\",0,SUMIFS(Input!$H$67105:$H$70355,  Input!$F$67105:$F$70355,Summering!B2861))","v":0}]
[null,{"$f":"IF(Biomasser!A30=\"\",\"\", Biomasser!A30)","v":" -             Flydende fraktion"},{"$f":"IF(B2862=\"\",0,SUMIFS(Input!$H$67105:$H$70355,  Input!$F$67105:$F$70355,Summering!B2862))","v":0}]
[null,{"$f":"IF(Biomasser!A31=\"\",\"\", Biomasser!A31)","v":" -             Anden husdyrgødning"},{"$f":"IF(B2863=\"\",0,SUMIFS(Input!$H$67105:$H$70355,  Input!$F$67105:$F$70355,Summering!B2863))","v":0}]
[null,{"$f":"IF(Biomasser!A32=\"\",\"\", Biomasser!A32)","v":" -             Forsuret svinegylle"},{"$f":"IF(B2864=\"\",0,SUMIFS(Input!$H$67105:$H$70355,  Input!$F$67105:$F$70355,Summering!B2864))","v":0}]
[null,{"$f":"IF(Biomasser!A33=\"\",\"\", Biomasser!A33)","v":" -             Dybstrøelse - Svin"},{"$f":"IF(B2865=\"\",0,SUMIFS(Input!$H$67105:$H$70355,  Input!$F$67105:$F$70355,Summering!B2865))","v":0}]
[null,{"$f":"IF(Biomasser!A34=\"\",\"\", Biomasser!A34)","v":" -             Gylle fibre - kemisk separation - Svin"},{"$f":"IF(B2866=\"\",0,SUMIFS(Input!$H$67105:$H$70355,  Input!$F$67105:$F$70355,Summering!B2866))","v":0}]
[null,{"$f":"IF(Biomasser!A35=\"\",\"\", Biomasser!A35)","v":" -             Gylle fibre - dekanter separation - Svin"},{"$f":"IF(B2867=\"\",0,SUMIFS(Input!$H$67105:$H$70355,  Input!$F$67105:$F$70355,Summering!B2867))","v":0}]
[null,{"$f":"IF(Biomasser!A36=\"\",\"\", Biomasser!A36)","v":" -             Staldgødning - Kvæg"},{"$f":"IF(B2868=\"\",0,SUMIFS(Input!$H$67105:$H$70355,  Input!$F$67105:$F$70355,Summering!B2868))","v":0}]
[null,{"$f":"IF(Biomasser!A37=\"\",\"\", Biomasser!A37)","v":" -             Kvæggylle - Årsopdræt 6 mdr."},{"$f":"IF(B2869=\"\",0,SUMIFS(Input!$H$67105:$H$70355,  Input!$F$67105:$F$70355,Summering!B2869))","v":0}]
[null,{"$f":"IF(Biomasser!A38=\"\",\"\", Biomasser!A38)","v":" -             Staldgødning - Fjerkræ"},{"$f":"IF(B2870=\"\",0,SUMIFS(Input!$H$67105:$H$70355,  Input!$F$67105:$F$70355,Summering!B2870))","v":0}]
[null,{"$f":"IF(Biomasser!A39=\"\",\"\", Biomasser!A39)","v":"Slam og spildevand (Overskrift, kan ikke vælges)"},{"$f":"IF(B2871=\"\",0,SUMIFS(Input!$H$67105:$H$70355,  Input!$F$67105:$F$70355,Summering!B2871))","v":0}]
[null,{"$f":"IF(Biomasser!A40=\"\",\"\", Biomasser!A40)","v":" -             Slam og spildevand samt uforurenede produktrester"},{"$f":"IF(B2872=\"\",0,SUMIFS(Input!$H$67105:$H$70355,  Input!$F$67105:$F$70355,Summering!B2872))","v":0}]
[null,{"$f":"IF(Biomasser!A41=\"\",\"\", Biomasser!A41)","v":" -             Slam fra dambrug"},{"$f":"IF(B2873=\"\",0,SUMIFS(Input!$H$67105:$H$70355,  Input!$F$67105:$F$70355,Summering!B2873))","v":0}]
[null,{"$f":"IF(Biomasser!A42=\"\",\"\", Biomasser!A42)","v":" -             Slam fra forarbejdning af animalske råvarer"},{"$f":"IF(B2874=\"\",0,SUMIFS(Input!$H$67105:$H$70355,  Input!$F$67105:$F$70355,Summering!B2874))","v":0}]
[null,{"$f":"IF(Biomasser!A43=\"\",\"\", Biomasser!A43)","v":" -             Spildevandsslam"},{"$f":"IF(B2875=\"\",0,SUMIFS(Input!$H$67105:$H$70355,  Input!$F$67105:$F$70355,Summering!B2875))","v":0}]
[null,{"$f":"IF(Biomasser!A44=\"\",\"\", Biomasser!A44)","v":" -             Proteolyseret processpildevand"},{"$f":"IF(B2876=\"\",0,SUMIFS(Input!$H$67105:$H$70355,  Input!$F$67105:$F$70355,Summering!B2876))","v":0}]
[null,{"$f":"IF(Biomasser!A45=\"\",\"\", Biomasser!A45)","v":" -             Sekundær spildevandsslam"},{"$f":"IF(B2877=\"\",0,SUMIFS(Input!$H$67105:$H$70355,  Input!$F$67105:$F$70355,Summering!B2877))","v":0}]
[null,{"$f":"IF(Biomasser!A46=\"\",\"\", Biomasser!A46)","v":" -             Sekundær spildevandsslam afvandet"},{"$f":"IF(B2878=\"\",0,SUMIFS(Input!$H$67105:$H$70355,  Input!$F$67105:$F$70355,Summering!B2878))","v":0}]
[null,{"$f":"IF(Biomasser!A47=\"\",\"\", Biomasser!A47)","v":"Organisk affald fra husholdninger og erhverv (Overskrift, kan ikke vælges)"},{"$f":"IF(B2879=\"\",0,SUMIFS(Input!$H$67105:$H$70355,  Input!$F$67105:$F$70355,Summering!B2879))","v":0}]
[null,{"$f":"IF(Biomasser!A48=\"\",\"\", Biomasser!A48)","v":" -             Kildesorteret organisk dagrenovation"},{"$f":"IF(B2880=\"\",0,SUMIFS(Input!$H$67105:$H$70355,  Input!$F$67105:$F$70355,Summering!B2880))","v":0}]
[null,{"$f":"IF(Biomasser!A49=\"\",\"\", Biomasser!A49)","v":" -             Organisk husholdningsaffald - Renescience"},{"$f":"IF(B2881=\"\",0,SUMIFS(Input!$H$67105:$H$70355,  Input!$F$67105:$F$70355,Summering!B2881))","v":0}]
[null,{"$f":"IF(Biomasser!A50=\"\",\"\", Biomasser!A50)","v":" -             Organisk husholdningsaffald - Pulper"},{"$f":"IF(B2882=\"\",0,SUMIFS(Input!$H$67105:$H$70355,  Input!$F$67105:$F$70355,Summering!B2882))","v":0}]
[null,{"$f":"IF(Biomasser!A51=\"\",\"\", Biomasser!A51)","v":" -             Organisk husholdningsaffald - Rullesigte"},{"$f":"IF(B2883=\"\",0,SUMIFS(Input!$H$67105:$H$70355,  Input!$F$67105:$F$70355,Summering!B2883))","v":0}]
[null,{"$f":"IF(Biomasser!A52=\"\",\"\", Biomasser!A52)","v":" -             Organisk husholdningsaffald - Skruepresse"},{"$f":"IF(B2884=\"\",0,SUMIFS(Input!$H$67105:$H$70355,  Input!$F$67105:$F$70355,Summering!B2884))","v":0}]
[null,{"$f":"IF(Biomasser!A53=\"\",\"\", Biomasser!A53)","v":" -             Organisk husholdningsaffald - Neddeling"},{"$f":"IF(B2885=\"\",0,SUMIFS(Input!$H$67105:$H$70355,  Input!$F$67105:$F$70355,Summering!B2885))","v":0}]
[null,{"$f":"IF(Biomasser!A54=\"\",\"\", Biomasser!A54)","v":" -             Organisk affald fra erhverv"},{"$f":"IF(B2886=\"\",0,SUMIFS(Input!$H$67105:$H$70355,  Input!$F$67105:$F$70355,Summering!B2886))","v":0}]
[null,{"$f":"IF(Biomasser!A55=\"\",\"\", Biomasser!A55)","v":"Rester og biprodukter fra planter og afgrøder (Overskrift, kan ikke vælges)"},{"$f":"IF(B2887=\"\",0,SUMIFS(Input!$H$67105:$H$70355,  Input!$F$67105:$F$70355,Summering!B2887))","v":0}]
[null,{"$f":"IF(Biomasser!A56=\"\",\"\", Biomasser!A56)","v":" -             Cellulose"},{"$f":"IF(B2888=\"\",0,SUMIFS(Input!$H$67105:$H$70355,  Input!$F$67105:$F$70355,Summering!B2888))","v":0}]
[null,{"$f":"IF(Biomasser!A57=\"\",\"\", Biomasser!A57)","v":" -             Naturpleje biomasse"},{"$f":"IF(B2889=\"\",0,SUMIFS(Input!$H$67105:$H$70355,  Input!$F$67105:$F$70355,Summering!B2889))","v":0}]
[null,{"$f":"IF(Biomasser!A58=\"\",\"\", Biomasser!A58)","v":" -             Halm"},{"$f":"IF(B2890=\"\",0,SUMIFS(Input!$H$67105:$H$70355,  Input!$F$67105:$F$70355,Summering!B2890))","v":0}]
[null,{"$f":"IF(Biomasser!A59=\"\",\"\", Biomasser!A59)","v":" -             Have-park affald"},{"$f":"IF(B2891=\"\",0,SUMIFS(Input!$H$67105:$H$70355,  Input!$F$67105:$F$70355,Summering!B2891))","v":0}]
[null,{"$f":"IF(Biomasser!A60=\"\",\"\", Biomasser!A60)","v":" -             Andre restprodukter fra produktion af primærafgrøder"},{"$f":"IF(B2892=\"\",0,SUMIFS(Input!$H$67105:$H$70355,  Input!$F$67105:$F$70355,Summering!B2892))","v":0}]
[null,{"$f":"IF(Biomasser!A61=\"\",\"\", Biomasser!A61)","v":" -             Kasserede afgrøder"},{"$f":"IF(B2893=\"\",0,SUMIFS(Input!$H$67105:$H$70355,  Input!$F$67105:$F$70355,Summering!B2893))","v":0}]
[null,{"$f":"IF(Biomasser!A62=\"\",\"\", Biomasser!A62)","v":"Rester og biprodukter fra levnesmiddel- og dyrefoderindustrien  (Overskrift, kan ikke vælges)"},{"$f":"IF(B2894=\"\",0,SUMIFS(Input!$H$67105:$H$70355,  Input!$F$67105:$F$70355,Summering!B2894))","v":0}]
[null,{"$f":"IF(Biomasser!A63=\"\",\"\", Biomasser!A63)","v":" -             Animalske biprodukter"},{"$f":"IF(B2895=\"\",0,SUMIFS(Input!$H$67105:$H$70355,  Input!$F$67105:$F$70355,Summering!B2895))","v":0}]
[null,{"$f":"IF(Biomasser!A64=\"\",\"\", Biomasser!A64)","v":" -             Mave/tarm kvæg"},{"$f":"IF(B2896=\"\",0,SUMIFS(Input!$H$67105:$H$70355,  Input!$F$67105:$F$70355,Summering!B2896))","v":0}]
[null,{"$f":"IF(Biomasser!A65=\"\",\"\", Biomasser!A65)","v":" -             Mave/tarm svin"},{"$f":"IF(B2897=\"\",0,SUMIFS(Input!$H$67105:$H$70355,  Input!$F$67105:$F$70355,Summering!B2897))","v":0}]
[null,{"$f":"IF(Biomasser!A66=\"\",\"\", Biomasser!A66)","v":" -             Valle"},{"$f":"IF(B2898=\"\",0,SUMIFS(Input!$H$67105:$H$70355,  Input!$F$67105:$F$70355,Summering!B2898))","v":0}]
[null,{"$f":"IF(Biomasser!A67=\"\",\"\", Biomasser!A67)","v":" -             Valle koncentrat"},{"$f":"IF(B2899=\"\",0,SUMIFS(Input!$H$67105:$H$70355,  Input!$F$67105:$F$70355,Summering!B2899))","v":0}]
[null,{"$f":"IF(Biomasser!A68=\"\",\"\", Biomasser!A68)","v":" -             Protein"},{"$f":"IF(B2900=\"\",0,SUMIFS(Input!$H$67105:$H$70355,  Input!$F$67105:$F$70355,Summering!B2900))","v":0}]
[null,{"$f":"IF(Biomasser!A69=\"\",\"\", Biomasser!A69)","v":" -             Fedt"},{"$f":"IF(B2901=\"\",0,SUMIFS(Input!$H$67105:$H$70355,  Input!$F$67105:$F$70355,Summering!B2901))","v":0}]
[null,{"$f":"IF(Biomasser!A70=\"\",\"\", Biomasser!A70)","v":" -             Vinasse (2,2 pct. kvælstof)"},{"$f":"IF(B2902=\"\",0,SUMIFS(Input!$H$67105:$H$70355,  Input!$F$67105:$F$70355,Summering!B2902))","v":0}]
[null,{"$f":"IF(Biomasser!A71=\"\",\"\", Biomasser!A71)","v":" -             Vinasse (3,5 pct. kvælstof)"},{"$f":"IF(B2903=\"\",0,SUMIFS(Input!$H$67105:$H$70355,  Input!$F$67105:$F$70355,Summering!B2903))","v":0}]
[null,{"$f":"IF(Biomasser!A72=\"\",\"\", Biomasser!A72)","v":" -             Kartoffelfrugtsaft"},{"$f":"IF(B2904=\"\",0,SUMIFS(Input!$H$67105:$H$70355,  Input!$F$67105:$F$70355,Summering!B2904))","v":0}]
[null,{"$f":"IF(Biomasser!A73=\"\",\"\", Biomasser!A73)","v":" -             Glukose"},{"$f":"IF(B2905=\"\",0,SUMIFS(Input!$H$67105:$H$70355,  Input!$F$67105:$F$70355,Summering!B2905))","v":0}]
[null,{"$f":"IF(Biomasser!A74=\"\",\"\", Biomasser!A74)","v":" -             Alkohol"},{"$f":"IF(B2906=\"\",0,SUMIFS(Input!$H$67105:$H$70355,  Input!$F$67105:$F$70355,Summering!B2906))","v":0}]
[null,{"$f":"IF(Biomasser!A75=\"\",\"\", Biomasser!A75)","v":" -             Pressesaft fra grøntpilleproduktion"},{"$f":"IF(B2907=\"\",0,SUMIFS(Input!$H$67105:$H$70355,  Input!$F$67105:$F$70355,Summering!B2907))","v":0}]
[null,{"$f":"IF(Biomasser!A76=\"\",\"\", Biomasser!A76)","v":" -             Inaktiveret og kalkstabiliseret biomasse"},{"$f":"IF(B2908=\"\",0,SUMIFS(Input!$H$67105:$H$70355,  Input!$F$67105:$F$70355,Summering!B2908))","v":0}]
[null,{"$f":"IF(Biomasser!A77=\"\",\"\", Biomasser!A77)","v":"Anden biomasse (Overskrift)"},{"$f":"IF(B2909=\"\",0,SUMIFS(Input!$H$67105:$H$70355,  Input!$F$67105:$F$70355,Summering!B2909))","v":0}]
[null,{"$f":"IF(Biomasser!A78=\"\",\"\", Biomasser!A78)","v":" -             Råglycerin"},{"$f":"IF(B2910=\"\",0,SUMIFS(Input!$H$67105:$H$70355,  Input!$F$67105:$F$70355,Summering!B2910))","v":0}]
[null,{"$f":"IF(Biomasser!A79=\"\",\"\", Biomasser!A79)","v":""},{"$f":"IF(B2911=\"\",0,SUMIFS(Input!$H$67105:$H$70355,  Input!$F$67105:$F$70355,Summering!B2911))","v":0}]
[null,{"$f":"IF(Biomasser!A80=\"\",\"\", Biomasser!A80)","v":""},{"$f":"IF(B2912=\"\",0,SUMIFS(Input!$H$67105:$H$70355,  Input!$F$67105:$F$70355,Summering!B2912))","v":0}]
[null,{"$f":"IF(Biomasser!A81=\"\",\"\", Biomasser!A81)","v":""},{"$f":"IF(B2913=\"\",0,SUMIFS(Input!$H$67105:$H$70355,  Input!$F$67105:$F$70355,Summering!B2913))","v":0}]
[null,{"$f":"IF(Biomasser!A82=\"\",\"\", Biomasser!A82)","v":""},{"$f":"IF(B2914=\"\",0,SUMIFS(Input!$H$67105:$H$70355,  Input!$F$67105:$F$70355,Summering!B2914))","v":0}]
[null,{"$f":"IF(Biomasser!A83=\"\",\"\", Biomasser!A83)","v":""},{"$f":"IF(B2915=\"\",0,SUMIFS(Input!$H$67105:$H$70355,  Input!$F$67105:$F$70355,Summering!B2915))","v":0}]
[null,{"$f":"IF(Biomasser!A84=\"\",\"\", Biomasser!A84)","v":""},{"$f":"IF(B2916=\"\",0,SUMIFS(Input!$H$67105:$H$70355,  Input!$F$67105:$F$70355,Summering!B2916))","v":0}]
[null,{"$f":"IF(Biomasser!A85=\"\",\"\", Biomasser!A85)","v":""},{"$f":"IF(B2917=\"\",0,SUMIFS(Input!$H$67105:$H$70355,  Input!$F$67105:$F$70355,Summering!B2917))","v":0}]
[null,{"$f":"IF(Biomasser!A86=\"\",\"\", Biomasser!A86)","v":""},{"$f":"IF(B2918=\"\",0,SUMIFS(Input!$H$67105:$H$70355,  Input!$F$67105:$F$70355,Summering!B2918))","v":0}]
[null,{"$f":"IF(Biomasser!A87=\"\",\"\", Biomasser!A87)","v":""},{"$f":"IF(B2919=\"\",0,SUMIFS(Input!$H$67105:$H$70355,  Input!$F$67105:$F$70355,Summering!B2919))","v":0}]
[null,{"$f":"IF(Biomasser!A88=\"\",\"\", Biomasser!A88)","v":""},{"$f":"IF(B2920=\"\",0,SUMIFS(Input!$H$67105:$H$70355,  Input!$F$67105:$F$70355,Summering!B2920))","v":0}]
[null,{"$f":"IF(Biomasser!A89=\"\",\"\", Biomasser!A89)","v":""},{"$f":"IF(B2921=\"\",0,SUMIFS(Input!$H$67105:$H$70355,  Input!$F$67105:$F$70355,Summering!B2921))","v":0}]
[null,{"$f":"IF(Biomasser!A90=\"\",\"\", Biomasser!A90)","v":""},{"$f":"IF(B2922=\"\",0,SUMIFS(Input!$H$67105:$H$70355,  Input!$F$67105:$F$70355,Summering!B2922))","v":0}]
[null,{"$f":"IF(Biomasser!A91=\"\",\"\", Biomasser!A91)","v":""},{"$f":"IF(B2923=\"\",0,SUMIFS(Input!$H$67105:$H$70355,  Input!$F$67105:$F$70355,Summering!B2923))","v":0}]
[null,{"$f":"IF(Biomasser!A92=\"\",\"\", Biomasser!A92)","v":""},{"$f":"IF(B2924=\"\",0,SUMIFS(Input!$H$67105:$H$70355,  Input!$F$67105:$F$70355,Summering!B2924))","v":0}]
[null,{"$f":"IF(Biomasser!A93=\"\",\"\", Biomasser!A93)","v":""},{"$f":"IF(B2925=\"\",0,SUMIFS(Input!$H$67105:$H$70355,  Input!$F$67105:$F$70355,Summering!B2925))","v":0}]
[null,{"$f":"IF(Biomasser!A94=\"\",\"\", Biomasser!A94)","v":""},{"$f":"IF(B2926=\"\",0,SUMIFS(Input!$H$67105:$H$70355,  Input!$F$67105:$F$70355,Summering!B2926))","v":0}]
[null,{"$f":"IF(Biomasser!A95=\"\",\"\", Biomasser!A95)","v":""},{"$f":"IF(B2927=\"\",0,SUMIFS(Input!$H$67105:$H$70355,  Input!$F$67105:$F$70355,Summering!B2927))","v":0}]
[null,{"$f":"IF(Biomasser!A96=\"\",\"\", Biomasser!A96)","v":""},{"$f":"IF(B2928=\"\",0,SUMIFS(Input!$H$67105:$H$70355,  Input!$F$67105:$F$70355,Summering!B2928))","v":0}]
[null,{"$f":"IF(Biomasser!A97=\"\",\"\", Biomasser!A97)","v":""},{"$f":"IF(B2929=\"\",0,SUMIFS(Input!$H$67105:$H$70355,  Input!$F$67105:$F$70355,Summering!B2929))","v":0}]
[null,{"$f":"IF(Biomasser!A98=\"\",\"\", Biomasser!A98)","v":""},{"$f":"IF(B2930=\"\",0,SUMIFS(Input!$H$67105:$H$70355,  Input!$F$67105:$F$70355,Summering!B2930))","v":0}]
[null,{"$f":"IF(Biomasser!A99=\"\",\"\", Biomasser!A99)","v":""},{"$f":"IF(B2931=\"\",0,SUMIFS(Input!$H$67105:$H$70355,  Input!$F$67105:$F$70355,Summering!B2931))","v":0}]
[null,{"$f":"IF(Biomasser!A100=\"\",\"\", Biomasser!A100)","v":""},{"$f":"IF(B2932=\"\",0,SUMIFS(Input!$H$67105:$H$70355,  Input!$F$67105:$F$70355,Summering!B2932))","v":0}]
[null,{"$f":"IF(Biomasser!A101=\"\",\"\", Biomasser!A101)","v":""},{"$f":"IF(B2933=\"\",0,SUMIFS(Input!$H$67105:$H$70355,  Input!$F$67105:$F$70355,Summering!B2933))","v":0}]
[null,{"$f":"IF(Biomasser!A102=\"\",\"\", Biomasser!A102)","v":""},{"$f":"IF(B2934=\"\",0,SUMIFS(Input!$H$67105:$H$70355,  Input!$F$67105:$F$70355,Summering!B2934))","v":0}]
[null,{"$f":"IF(Biomasser!A103=\"\",\"\", Biomasser!A103)","v":""},{"$f":"IF(B2935=\"\",0,SUMIFS(Input!$H$67105:$H$70355,  Input!$F$67105:$F$70355,Summering!B2935))","v":0}]
[null,{"$f":"IF(Biomasser!A104=\"\",\"\", Biomasser!A104)","v":""},{"$f":"IF(B2936=\"\",0,SUMIFS(Input!$H$67105:$H$70355,  Input!$F$67105:$F$70355,Summering!B2936))","v":0}]
[null,{"$f":"IF(Biomasser!A105=\"\",\"\", Biomasser!A105)","v":""},{"$f":"IF(B2937=\"\",0,SUMIFS(Input!$H$67105:$H$70355,  Input!$F$67105:$F$70355,Summering!B2937))","v":0}]
[null,{"$f":"IF(Biomasser!A106=\"\",\"\", Biomasser!A106)","v":""},{"$f":"IF(B2938=\"\",0,SUMIFS(Input!$H$67105:$H$70355,  Input!$F$67105:$F$70355,Summering!B2938))","v":0}]
[null,{"$f":"IF(Biomasser!A107=\"\",\"\", Biomasser!A107)","v":""},{"$f":"IF(B2939=\"\",0,SUMIFS(Input!$H$67105:$H$70355,  Input!$F$67105:$F$70355,Summering!B2939))","v":0}]
[null,{"$f":"IF(Biomasser!A108=\"\",\"\", Biomasser!A108)","v":""},{"$f":"IF(B2940=\"\",0,SUMIFS(Input!$H$67105:$H$70355,  Input!$F$67105:$F$70355,Summering!B2940))","v":0}]
[null,{"$f":"IF(Biomasser!A109=\"\",\"\", Biomasser!A109)","v":""},{"$f":"IF(B2941=\"\",0,SUMIFS(Input!$H$67105:$H$70355,  Input!$F$67105:$F$70355,Summering!B2941))","v":0}]
[null,{"$f":"IF(Biomasser!A110=\"\",\"\", Biomasser!A110)","v":""},{"$f":"IF(B2942=\"\",0,SUMIFS(Input!$H$67105:$H$70355,  Input!$F$67105:$F$70355,Summering!B2942))","v":0}]
[null,{"$f":"IF(Biomasser!A111=\"\",\"\", Biomasser!A111)","v":""},{"$f":"IF(B2943=\"\",0,SUMIFS(Input!$H$67105:$H$70355,  Input!$F$67105:$F$70355,Summering!B2943))","v":0}]
[null,{"$f":"IF(Biomasser!A112=\"\",\"\", Biomasser!A112)","v":""},{"$f":"IF(B2944=\"\",0,SUMIFS(Input!$H$67105:$H$70355,  Input!$F$67105:$F$70355,Summering!B2944))","v":0}]
[null,{"$f":"IF(Biomasser!A113=\"\",\"\", Biomasser!A113)","v":""},{"$f":"IF(B2945=\"\",0,SUMIFS(Input!$H$67105:$H$70355,  Input!$F$67105:$F$70355,Summering!B2945))","v":0}]
[null,{"$f":"IF(Biomasser!A114=\"\",\"\", Biomasser!A114)","v":""},{"$f":"IF(B2946=\"\",0,SUMIFS(Input!$H$67105:$H$70355,  Input!$F$67105:$F$70355,Summering!B2946))","v":0}]
[null,{"$f":"IF(Biomasser!A115=\"\",\"\", Biomasser!A115)","v":""},{"$f":"IF(B2947=\"\",0,SUMIFS(Input!$H$67105:$H$70355,  Input!$F$67105:$F$70355,Summering!B2947))","v":0}]
[null,{"$f":"IF(Biomasser!A116=\"\",\"\", Biomasser!A116)","v":""},{"$f":"IF(B2948=\"\",0,SUMIFS(Input!$H$67105:$H$70355,  Input!$F$67105:$F$70355,Summering!B2948))","v":0}]
[null,{"$f":"IF(Biomasser!A117=\"\",\"\", Biomasser!A117)","v":""},{"$f":"IF(B2949=\"\",0,SUMIFS(Input!$H$67105:$H$70355,  Input!$F$67105:$F$70355,Summering!B2949))","v":0}]
[null,{"$f":"IF(Biomasser!A118=\"\",\"\", Biomasser!A118)","v":""},{"$f":"IF(B2950=\"\",0,SUMIFS(Input!$H$67105:$H$70355,  Input!$F$67105:$F$70355,Summering!B2950))","v":0}]
[null,{"$f":"IF(Biomasser!A119=\"\",\"\", Biomasser!A119)","v":""},{"$f":"IF(B2951=\"\",0,SUMIFS(Input!$H$67105:$H$70355,  Input!$F$67105:$F$70355,Summering!B2951))","v":0}]
[null,{"$f":"IF(Biomasser!A120=\"\",\"\", Biomasser!A120)","v":""},{"$f":"IF(B2952=\"\",0,SUMIFS(Input!$H$67105:$H$70355,  Input!$F$67105:$F$70355,Summering!B2952))","v":0}]
[null,{"$f":"IF(Biomasser!A121=\"\",\"\", Biomasser!A121)","v":""},{"$f":"IF(B2953=\"\",0,SUMIFS(Input!$H$67105:$H$70355,  Input!$F$67105:$F$70355,Summering!B2953))","v":0}]
[null,{"$f":"IF(Biomasser!A122=\"\",\"\", Biomasser!A122)","v":""},{"$f":"IF(B2954=\"\",0,SUMIFS(Input!$H$67105:$H$70355,  Input!$F$67105:$F$70355,Summering!B2954))","v":0}]
[null,{"$f":"IF(Biomasser!A123=\"\",\"\", Biomasser!A123)","v":""},{"$f":"IF(B2955=\"\",0,SUMIFS(Input!$H$67105:$H$70355,  Input!$F$67105:$F$70355,Summering!B2955))","v":0}]
[null,{"$f":"IF(Biomasser!A124=\"\",\"\", Biomasser!A124)","v":""},{"$f":"IF(B2956=\"\",0,SUMIFS(Input!$H$67105:$H$70355,  Input!$F$67105:$F$70355,Summering!B2956))","v":0}]
[null,"November",{"$f":"SUM(C2958:C3079)","v":0},{"$f":"SUMIFS(Input!$H$10:$H$76760,Input!$A$10:$A$76760,\"Gas\",Input!$C$10:$C$76760,Summering!$B$1604,Input!$B$10:$B$76760,\"*\"&B2957&\"*\")","v":0}]
[null,{"$f":"IF(Biomasser!A3=\"\",\"\", Biomasser!A3)","v":"Afgrøder (Overskrift, kan ikke vælges)"},{"$f":"IF(B2958=\"\",0,SUMIFS(Input!$H$70360:$H$73505,  Input!$F$70360:$F$73505,Summering!B2958))","v":0}]
[null,{"$f":"IF(Biomasser!A4=\"\",\"\", Biomasser!A4)","v":" -             Majs"},{"$f":"IF(B2959=\"\",0,SUMIFS(Input!$H$70360:$H$73505,  Input!$F$70360:$F$73505,Summering!B2959))","v":0}]
[null,{"$f":"IF(Biomasser!A5=\"\",\"\", Biomasser!A5)","v":" -             Roer"},{"$f":"IF(B2960=\"\",0,SUMIFS(Input!$H$70360:$H$73505,  Input!$F$70360:$F$73505,Summering!B2960))","v":0}]
[null,{"$f":"IF(Biomasser!A6=\"\",\"\", Biomasser!A6)","v":" -             Korn"},{"$f":"IF(B2961=\"\",0,SUMIFS(Input!$H$70360:$H$73505,  Input!$F$70360:$F$73505,Summering!B2961))","v":0}]
[null,{"$f":"IF(Biomasser!A7=\"\",\"\", Biomasser!A7)","v":" -             Græs"},{"$f":"IF(B2962=\"\",0,SUMIFS(Input!$H$70360:$H$73505,  Input!$F$70360:$F$73505,Summering!B2962))","v":0}]
[null,{"$f":"IF(Biomasser!A8=\"\",\"\", Biomasser!A8)","v":" -             Kløvergræs"},{"$f":"IF(B2963=\"\",0,SUMIFS(Input!$H$70360:$H$73505,  Input!$F$70360:$F$73505,Summering!B2963))","v":0}]
[null,{"$f":"IF(Biomasser!A9=\"\",\"\", Biomasser!A9)","v":" -             Jordskokker"},{"$f":"IF(B2964=\"\",0,SUMIFS(Input!$H$70360:$H$73505,  Input!$F$70360:$F$73505,Summering!B2964))","v":0}]
[null,{"$f":"IF(Biomasser!A10=\"\",\"\", Biomasser!A10)","v":" -             Andre afgrøder"},{"$f":"IF(B2965=\"\",0,SUMIFS(Input!$H$70360:$H$73505,  Input!$F$70360:$F$73505,Summering!B2965))","v":0}]
[null,{"$f":"IF(Biomasser!A11=\"\",\"\", Biomasser!A11)","v":" -             Hvedehelsæd"},{"$f":"IF(B2966=\"\",0,SUMIFS(Input!$H$70360:$H$73505,  Input!$F$70360:$F$73505,Summering!B2966))","v":0}]
[null,{"$f":"IF(Biomasser!A12=\"\",\"\", Biomasser!A12)","v":" -             Top af foderroe"},{"$f":"IF(B2967=\"\",0,SUMIFS(Input!$H$70360:$H$73505,  Input!$F$70360:$F$73505,Summering!B2967))","v":0}]
[null,{"$f":"IF(Biomasser!A13=\"\",\"\", Biomasser!A13)","v":" -             Foderroe - rod og top frisk"},{"$f":"IF(B2968=\"\",0,SUMIFS(Input!$H$70360:$H$73505,  Input!$F$70360:$F$73505,Summering!B2968))","v":0}]
[null,{"$f":"IF(Biomasser!A14=\"\",\"\", Biomasser!A14)","v":" -             Økologisk kløvergræs"},{"$f":"IF(B2969=\"\",0,SUMIFS(Input!$H$70360:$H$73505,  Input!$F$70360:$F$73505,Summering!B2969))","v":0}]
[null,{"$f":"IF(Biomasser!A15=\"\",\"\", Biomasser!A15)","v":"Husdyrgødning (Overskrift, kan ikke vælges)"},{"$f":"IF(B2970=\"\",0,SUMIFS(Input!$H$70360:$H$73505,  Input!$F$70360:$F$73505,Summering!B2970))","v":0}]
[null,{"$f":"IF(Biomasser!A16=\"\",\"\", Biomasser!A16)","v":" -             Kvæggylle"},{"$f":"IF(B2971=\"\",0,SUMIFS(Input!$H$70360:$H$73505,  Input!$F$70360:$F$73505,Summering!B2971))","v":0}]
[null,{"$f":"IF(Biomasser!A17=\"\",\"\", Biomasser!A17)","v":" -             Svinegylle"},{"$f":"IF(B2972=\"\",0,SUMIFS(Input!$H$70360:$H$73505,  Input!$F$70360:$F$73505,Summering!B2972))","v":0}]
[null,{"$f":"IF(Biomasser!A18=\"\",\"\", Biomasser!A18)","v":" -             Gylle fra so"},{"$f":"IF(B2973=\"\",0,SUMIFS(Input!$H$70360:$H$73505,  Input!$F$70360:$F$73505,Summering!B2973))","v":0}]
[null,{"$f":"IF(Biomasser!A19=\"\",\"\", Biomasser!A19)","v":" -             Minkgylle"},{"$f":"IF(B2974=\"\",0,SUMIFS(Input!$H$70360:$H$73505,  Input!$F$70360:$F$73505,Summering!B2974))","v":0}]
[null,{"$f":"IF(Biomasser!A20=\"\",\"\", Biomasser!A20)","v":" -             Fjerkrægylle"},{"$f":"IF(B2975=\"\",0,SUMIFS(Input!$H$70360:$H$73505,  Input!$F$70360:$F$73505,Summering!B2975))","v":0}]
[null,{"$f":"IF(Biomasser!A21=\"\",\"\", Biomasser!A21)","v":" -             Blandet gylle"},{"$f":"IF(B2976=\"\",0,SUMIFS(Input!$H$70360:$H$73505,  Input!$F$70360:$F$73505,Summering!B2976))","v":0}]
[null,{"$f":"IF(Biomasser!A22=\"\",\"\", Biomasser!A22)","v":" -             Dybstrøelse - Kvæg"},{"$f":"IF(B2977=\"\",0,SUMIFS(Input!$H$70360:$H$73505,  Input!$F$70360:$F$73505,Summering!B2977))","v":0}]
[null,{"$f":"IF(Biomasser!A23=\"\",\"\", Biomasser!A23)","v":" -             Dybstrøelse - Fjerkræ"},{"$f":"IF(B2978=\"\",0,SUMIFS(Input!$H$70360:$H$73505,  Input!$F$70360:$F$73505,Summering!B2978))","v":0}]
[null,{"$f":"IF(Biomasser!A24=\"\",\"\", Biomasser!A24)","v":" -             Dybstrøelse - Hest"},{"$f":"IF(B2979=\"\",0,SUMIFS(Input!$H$70360:$H$73505,  Input!$F$70360:$F$73505,Summering!B2979))","v":0}]
[null,{"$f":"IF(Biomasser!A25=\"\",\"\", Biomasser!A25)","v":" -             Dybstrøelse - Andre typer"},{"$f":"IF(B2980=\"\",0,SUMIFS(Input!$H$70360:$H$73505,  Input!$F$70360:$F$73505,Summering!B2980))","v":0}]
[null,{"$f":"IF(Biomasser!A26=\"\",\"\", Biomasser!A26)","v":" -             Fast gødning"},{"$f":"IF(B2981=\"\",0,SUMIFS(Input!$H$70360:$H$73505,  Input!$F$70360:$F$73505,Summering!B2981))","v":0}]
[null,{"$f":"IF(Biomasser!A27=\"\",\"\", Biomasser!A27)","v":" -             Ajle"},{"$f":"IF(B2982=\"\",0,SUMIFS(Input!$H$70360:$H$73505,  Input!$F$70360:$F$73505,Summering!B2982))","v":0}]
[null,{"$f":"IF(Biomasser!A28=\"\",\"\", Biomasser!A28)","v":" -             Fiberfraktion"},{"$f":"IF(B2983=\"\",0,SUMIFS(Input!$H$70360:$H$73505,  Input!$F$70360:$F$73505,Summering!B2983))","v":0}]
[null,{"$f":"IF(Biomasser!A29=\"\",\"\", Biomasser!A29)","v":" -             Flydende fraktion fra separationsanlæg"},{"$f":"IF(B2984=\"\",0,SUMIFS(Input!$H$70360:$H$73505,  Input!$F$70360:$F$73505,Summering!B2984))","v":0}]
[null,{"$f":"IF(Biomasser!A30=\"\",\"\", Biomasser!A30)","v":" -             Flydende fraktion"},{"$f":"IF(B2985=\"\",0,SUMIFS(Input!$H$70360:$H$73505,  Input!$F$70360:$F$73505,Summering!B2985))","v":0}]
[null,{"$f":"IF(Biomasser!A31=\"\",\"\", Biomasser!A31)","v":" -             Anden husdyrgødning"},{"$f":"IF(B2986=\"\",0,SUMIFS(Input!$H$70360:$H$73505,  Input!$F$70360:$F$73505,Summering!B2986))","v":0}]
[null,{"$f":"IF(Biomasser!A32=\"\",\"\", Biomasser!A32)","v":" -             Forsuret svinegylle"},{"$f":"IF(B2987=\"\",0,SUMIFS(Input!$H$70360:$H$73505,  Input!$F$70360:$F$73505,Summering!B2987))","v":0}]
[null,{"$f":"IF(Biomasser!A33=\"\",\"\", Biomasser!A33)","v":" -             Dybstrøelse - Svin"},{"$f":"IF(B2988=\"\",0,SUMIFS(Input!$H$70360:$H$73505,  Input!$F$70360:$F$73505,Summering!B2988))","v":0}]
[null,{"$f":"IF(Biomasser!A34=\"\",\"\", Biomasser!A34)","v":" -             Gylle fibre - kemisk separation - Svin"},{"$f":"IF(B2989=\"\",0,SUMIFS(Input!$H$70360:$H$73505,  Input!$F$70360:$F$73505,Summering!B2989))","v":0}]
[null,{"$f":"IF(Biomasser!A35=\"\",\"\", Biomasser!A35)","v":" -             Gylle fibre - dekanter separation - Svin"},{"$f":"IF(B2990=\"\",0,SUMIFS(Input!$H$70360:$H$73505,  Input!$F$70360:$F$73505,Summering!B2990))","v":0}]
[null,{"$f":"IF(Biomasser!A36=\"\",\"\", Biomasser!A36)","v":" -             Staldgødning - Kvæg"},{"$f":"IF(B2991=\"\",0,SUMIFS(Input!$H$70360:$H$73505,  Input!$F$70360:$F$73505,Summering!B2991))","v":0}]
[null,{"$f":"IF(Biomasser!A37=\"\",\"\", Biomasser!A37)","v":" -             Kvæggylle - Årsopdræt 6 mdr."},{"$f":"IF(B2992=\"\",0,SUMIFS(Input!$H$70360:$H$73505,  Input!$F$70360:$F$73505,Summering!B2992))","v":0}]
[null,{"$f":"IF(Biomasser!A38=\"\",\"\", Biomasser!A38)","v":" -             Staldgødning - Fjerkræ"},{"$f":"IF(B2993=\"\",0,SUMIFS(Input!$H$70360:$H$73505,  Input!$F$70360:$F$73505,Summering!B2993))","v":0}]
[null,{"$f":"IF(Biomasser!A39=\"\",\"\", Biomasser!A39)","v":"Slam og spildevand (Overskrift, kan ikke vælges)"},{"$f":"IF(B2994=\"\",0,SUMIFS(Input!$H$70360:$H$73505,  Input!$F$70360:$F$73505,Summering!B2994))","v":0}]
[null,{"$f":"IF(Biomasser!A40=\"\",\"\", Biomasser!A40)","v":" -             Slam og spildevand samt uforurenede produktrester"},{"$f":"IF(B2995=\"\",0,SUMIFS(Input!$H$70360:$H$73505,  Input!$F$70360:$F$73505,Summering!B2995))","v":0}]
[null,{"$f":"IF(Biomasser!A41=\"\",\"\", Biomasser!A41)","v":" -             Slam fra dambrug"},{"$f":"IF(B2996=\"\",0,SUMIFS(Input!$H$70360:$H$73505,  Input!$F$70360:$F$73505,Summering!B2996))","v":0}]
[null,{"$f":"IF(Biomasser!A42=\"\",\"\", Biomasser!A42)","v":" -             Slam fra forarbejdning af animalske råvarer"},{"$f":"IF(B2997=\"\",0,SUMIFS(Input!$H$70360:$H$73505,  Input!$F$70360:$F$73505,Summering!B2997))","v":0}]
[null,{"$f":"IF(Biomasser!A43=\"\",\"\", Biomasser!A43)","v":" -             Spildevandsslam"},{"$f":"IF(B2998=\"\",0,SUMIFS(Input!$H$70360:$H$73505,  Input!$F$70360:$F$73505,Summering!B2998))","v":0}]
[null,{"$f":"IF(Biomasser!A44=\"\",\"\", Biomasser!A44)","v":" -             Proteolyseret processpildevand"},{"$f":"IF(B2999=\"\",0,SUMIFS(Input!$H$70360:$H$73505,  Input!$F$70360:$F$73505,Summering!B2999))","v":0}]
[null,{"$f":"IF(Biomasser!A45=\"\",\"\", Biomasser!A45)","v":" -             Sekundær spildevandsslam"},{"$f":"IF(B3000=\"\",0,SUMIFS(Input!$H$70360:$H$73505,  Input!$F$70360:$F$73505,Summering!B3000))","v":0}]
[null,{"$f":"IF(Biomasser!A46=\"\",\"\", Biomasser!A46)","v":" -             Sekundær spildevandsslam afvandet"},{"$f":"IF(B3001=\"\",0,SUMIFS(Input!$H$70360:$H$73505,  Input!$F$70360:$F$73505,Summering!B3001))","v":0}]
[null,{"$f":"IF(Biomasser!A47=\"\",\"\", Biomasser!A47)","v":"Organisk affald fra husholdninger og erhverv (Overskrift, kan ikke vælges)"},{"$f":"IF(B3002=\"\",0,SUMIFS(Input!$H$70360:$H$73505,  Input!$F$70360:$F$73505,Summering!B3002))","v":0}]
[null,{"$f":"IF(Biomasser!A48=\"\",\"\", Biomasser!A48)","v":" -             Kildesorteret organisk dagrenovation"},{"$f":"IF(B3003=\"\",0,SUMIFS(Input!$H$70360:$H$73505,  Input!$F$70360:$F$73505,Summering!B3003))","v":0}]
[null,{"$f":"IF(Biomasser!A49=\"\",\"\", Biomasser!A49)","v":" -             Organisk husholdningsaffald - Renescience"},{"$f":"IF(B3004=\"\",0,SUMIFS(Input!$H$70360:$H$73505,  Input!$F$70360:$F$73505,Summering!B3004))","v":0}]
[null,{"$f":"IF(Biomasser!A50=\"\",\"\", Biomasser!A50)","v":" -             Organisk husholdningsaffald - Pulper"},{"$f":"IF(B3005=\"\",0,SUMIFS(Input!$H$70360:$H$73505,  Input!$F$70360:$F$73505,Summering!B3005))","v":0}]
[null,{"$f":"IF(Biomasser!A51=\"\",\"\", Biomasser!A51)","v":" -             Organisk husholdningsaffald - Rullesigte"},{"$f":"IF(B3006=\"\",0,SUMIFS(Input!$H$70360:$H$73505,  Input!$F$70360:$F$73505,Summering!B3006))","v":0}]
[null,{"$f":"IF(Biomasser!A52=\"\",\"\", Biomasser!A52)","v":" -             Organisk husholdningsaffald - Skruepresse"},{"$f":"IF(B3007=\"\",0,SUMIFS(Input!$H$70360:$H$73505,  Input!$F$70360:$F$73505,Summering!B3007))","v":0}]
[null,{"$f":"IF(Biomasser!A53=\"\",\"\", Biomasser!A53)","v":" -             Organisk husholdningsaffald - Neddeling"},{"$f":"IF(B3008=\"\",0,SUMIFS(Input!$H$70360:$H$73505,  Input!$F$70360:$F$73505,Summering!B3008))","v":0}]
[null,{"$f":"IF(Biomasser!A54=\"\",\"\", Biomasser!A54)","v":" -             Organisk affald fra erhverv"},{"$f":"IF(B3009=\"\",0,SUMIFS(Input!$H$70360:$H$73505,  Input!$F$70360:$F$73505,Summering!B3009))","v":0}]
[null,{"$f":"IF(Biomasser!A55=\"\",\"\", Biomasser!A55)","v":"Rester og biprodukter fra planter og afgrøder (Overskrift, kan ikke vælges)"},{"$f":"IF(B3010=\"\",0,SUMIFS(Input!$H$70360:$H$73505,  Input!$F$70360:$F$73505,Summering!B3010))","v":0}]
[null,{"$f":"IF(Biomasser!A56=\"\",\"\", Biomasser!A56)","v":" -             Cellulose"},{"$f":"IF(B3011=\"\",0,SUMIFS(Input!$H$70360:$H$73505,  Input!$F$70360:$F$73505,Summering!B3011))","v":0}]
[null,{"$f":"IF(Biomasser!A57=\"\",\"\", Biomasser!A57)","v":" -             Naturpleje biomasse"},{"$f":"IF(B3012=\"\",0,SUMIFS(Input!$H$70360:$H$73505,  Input!$F$70360:$F$73505,Summering!B3012))","v":0}]
[null,{"$f":"IF(Biomasser!A58=\"\",\"\", Biomasser!A58)","v":" -             Halm"},{"$f":"IF(B3013=\"\",0,SUMIFS(Input!$H$70360:$H$73505,  Input!$F$70360:$F$73505,Summering!B3013))","v":0}]
[null,{"$f":"IF(Biomasser!A59=\"\",\"\", Biomasser!A59)","v":" -             Have-park affald"},{"$f":"IF(B3014=\"\",0,SUMIFS(Input!$H$70360:$H$73505,  Input!$F$70360:$F$73505,Summering!B3014))","v":0}]
[null,{"$f":"IF(Biomasser!A60=\"\",\"\", Biomasser!A60)","v":" -             Andre restprodukter fra produktion af primærafgrøder"},{"$f":"IF(B3015=\"\",0,SUMIFS(Input!$H$70360:$H$73505,  Input!$F$70360:$F$73505,Summering!B3015))","v":0}]
[null,{"$f":"IF(Biomasser!A61=\"\",\"\", Biomasser!A61)","v":" -             Kasserede afgrøder"},{"$f":"IF(B3016=\"\",0,SUMIFS(Input!$H$70360:$H$73505,  Input!$F$70360:$F$73505,Summering!B3016))","v":0}]
[null,{"$f":"IF(Biomasser!A62=\"\",\"\", Biomasser!A62)","v":"Rester og biprodukter fra levnesmiddel- og dyrefoderindustrien  (Overskrift, kan ikke vælges)"},{"$f":"IF(B3017=\"\",0,SUMIFS(Input!$H$70360:$H$73505,  Input!$F$70360:$F$73505,Summering!B3017))","v":0}]
[null,{"$f":"IF(Biomasser!A63=\"\",\"\", Biomasser!A63)","v":" -             Animalske biprodukter"},{"$f":"IF(B3018=\"\",0,SUMIFS(Input!$H$70360:$H$73505,  Input!$F$70360:$F$73505,Summering!B3018))","v":0}]
[null,{"$f":"IF(Biomasser!A64=\"\",\"\", Biomasser!A64)","v":" -             Mave/tarm kvæg"},{"$f":"IF(B3019=\"\",0,SUMIFS(Input!$H$70360:$H$73505,  Input!$F$70360:$F$73505,Summering!B3019))","v":0}]
[null,{"$f":"IF(Biomasser!A65=\"\",\"\", Biomasser!A65)","v":" -             Mave/tarm svin"},{"$f":"IF(B3020=\"\",0,SUMIFS(Input!$H$70360:$H$73505,  Input!$F$70360:$F$73505,Summering!B3020))","v":0}]
[null,{"$f":"IF(Biomasser!A66=\"\",\"\", Biomasser!A66)","v":" -             Valle"},{"$f":"IF(B3021=\"\",0,SUMIFS(Input!$H$70360:$H$73505,  Input!$F$70360:$F$73505,Summering!B3021))","v":0}]
[null,{"$f":"IF(Biomasser!A67=\"\",\"\", Biomasser!A67)","v":" -             Valle koncentrat"},{"$f":"IF(B3022=\"\",0,SUMIFS(Input!$H$70360:$H$73505,  Input!$F$70360:$F$73505,Summering!B3022))","v":0}]
[null,{"$f":"IF(Biomasser!A68=\"\",\"\", Biomasser!A68)","v":" -             Protein"},{"$f":"IF(B3023=\"\",0,SUMIFS(Input!$H$70360:$H$73505,  Input!$F$70360:$F$73505,Summering!B3023))","v":0}]
[null,{"$f":"IF(Biomasser!A69=\"\",\"\", Biomasser!A69)","v":" -             Fedt"},{"$f":"IF(B3024=\"\",0,SUMIFS(Input!$H$70360:$H$73505,  Input!$F$70360:$F$73505,Summering!B3024))","v":0}]
[null,{"$f":"IF(Biomasser!A70=\"\",\"\", Biomasser!A70)","v":" -             Vinasse (2,2 pct. kvælstof)"},{"$f":"IF(B3025=\"\",0,SUMIFS(Input!$H$70360:$H$73505,  Input!$F$70360:$F$73505,Summering!B3025))","v":0}]
[null,{"$f":"IF(Biomasser!A71=\"\",\"\", Biomasser!A71)","v":" -             Vinasse (3,5 pct. kvælstof)"},{"$f":"IF(B3026=\"\",0,SUMIFS(Input!$H$70360:$H$73505,  Input!$F$70360:$F$73505,Summering!B3026))","v":0}]
[null,{"$f":"IF(Biomasser!A72=\"\",\"\", Biomasser!A72)","v":" -             Kartoffelfrugtsaft"},{"$f":"IF(B3027=\"\",0,SUMIFS(Input!$H$70360:$H$73505,  Input!$F$70360:$F$73505,Summering!B3027))","v":0}]
[null,{"$f":"IF(Biomasser!A73=\"\",\"\", Biomasser!A73)","v":" -             Glukose"},{"$f":"IF(B3028=\"\",0,SUMIFS(Input!$H$70360:$H$73505,  Input!$F$70360:$F$73505,Summering!B3028))","v":0}]
[null,{"$f":"IF(Biomasser!A74=\"\",\"\", Biomasser!A74)","v":" -             Alkohol"},{"$f":"IF(B3029=\"\",0,SUMIFS(Input!$H$70360:$H$73505,  Input!$F$70360:$F$73505,Summering!B3029))","v":0}]
[null,{"$f":"IF(Biomasser!A75=\"\",\"\", Biomasser!A75)","v":" -             Pressesaft fra grøntpilleproduktion"},{"$f":"IF(B3030=\"\",0,SUMIFS(Input!$H$70360:$H$73505,  Input!$F$70360:$F$73505,Summering!B3030))","v":0}]
[null,{"$f":"IF(Biomasser!A76=\"\",\"\", Biomasser!A76)","v":" -             Inaktiveret og kalkstabiliseret biomasse"},{"$f":"IF(B3031=\"\",0,SUMIFS(Input!$H$70360:$H$73505,  Input!$F$70360:$F$73505,Summering!B3031))","v":0}]
[null,{"$f":"IF(Biomasser!A77=\"\",\"\", Biomasser!A77)","v":"Anden biomasse (Overskrift)"},{"$f":"IF(B3032=\"\",0,SUMIFS(Input!$H$70360:$H$73505,  Input!$F$70360:$F$73505,Summering!B3032))","v":0}]
[null,{"$f":"IF(Biomasser!A78=\"\",\"\", Biomasser!A78)","v":" -             Råglycerin"},{"$f":"IF(B3033=\"\",0,SUMIFS(Input!$H$70360:$H$73505,  Input!$F$70360:$F$73505,Summering!B3033))","v":0}]
[null,{"$f":"IF(Biomasser!A79=\"\",\"\", Biomasser!A79)","v":""},{"$f":"IF(B3034=\"\",0,SUMIFS(Input!$H$70360:$H$73505,  Input!$F$70360:$F$73505,Summering!B3034))","v":0}]
[null,{"$f":"IF(Biomasser!A80=\"\",\"\", Biomasser!A80)","v":""},{"$f":"IF(B3035=\"\",0,SUMIFS(Input!$H$70360:$H$73505,  Input!$F$70360:$F$73505,Summering!B3035))","v":0}]
[null,{"$f":"IF(Biomasser!A81=\"\",\"\", Biomasser!A81)","v":""},{"$f":"IF(B3036=\"\",0,SUMIFS(Input!$H$70360:$H$73505,  Input!$F$70360:$F$73505,Summering!B3036))","v":0}]
[null,{"$f":"IF(Biomasser!A82=\"\",\"\", Biomasser!A82)","v":""},{"$f":"IF(B3037=\"\",0,SUMIFS(Input!$H$70360:$H$73505,  Input!$F$70360:$F$73505,Summering!B3037))","v":0}]
[null,{"$f":"IF(Biomasser!A83=\"\",\"\", Biomasser!A83)","v":""},{"$f":"IF(B3038=\"\",0,SUMIFS(Input!$H$70360:$H$73505,  Input!$F$70360:$F$73505,Summering!B3038))","v":0}]
[null,{"$f":"IF(Biomasser!A84=\"\",\"\", Biomasser!A84)","v":""},{"$f":"IF(B3039=\"\",0,SUMIFS(Input!$H$70360:$H$73505,  Input!$F$70360:$F$73505,Summering!B3039))","v":0}]
[null,{"$f":"IF(Biomasser!A85=\"\",\"\", Biomasser!A85)","v":""},{"$f":"IF(B3040=\"\",0,SUMIFS(Input!$H$70360:$H$73505,  Input!$F$70360:$F$73505,Summering!B3040))","v":0}]
[null,{"$f":"IF(Biomasser!A86=\"\",\"\", Biomasser!A86)","v":""},{"$f":"IF(B3041=\"\",0,SUMIFS(Input!$H$70360:$H$73505,  Input!$F$70360:$F$73505,Summering!B3041))","v":0}]
[null,{"$f":"IF(Biomasser!A87=\"\",\"\", Biomasser!A87)","v":""},{"$f":"IF(B3042=\"\",0,SUMIFS(Input!$H$70360:$H$73505,  Input!$F$70360:$F$73505,Summering!B3042))","v":0}]
[null,{"$f":"IF(Biomasser!A88=\"\",\"\", Biomasser!A88)","v":""},{"$f":"IF(B3043=\"\",0,SUMIFS(Input!$H$70360:$H$73505,  Input!$F$70360:$F$73505,Summering!B3043))","v":0}]
[null,{"$f":"IF(Biomasser!A89=\"\",\"\", Biomasser!A89)","v":""},{"$f":"IF(B3044=\"\",0,SUMIFS(Input!$H$70360:$H$73505,  Input!$F$70360:$F$73505,Summering!B3044))","v":0}]
[null,{"$f":"IF(Biomasser!A90=\"\",\"\", Biomasser!A90)","v":""},{"$f":"IF(B3045=\"\",0,SUMIFS(Input!$H$70360:$H$73505,  Input!$F$70360:$F$73505,Summering!B3045))","v":0}]
[null,{"$f":"IF(Biomasser!A91=\"\",\"\", Biomasser!A91)","v":""},{"$f":"IF(B3046=\"\",0,SUMIFS(Input!$H$70360:$H$73505,  Input!$F$70360:$F$73505,Summering!B3046))","v":0}]
[null,{"$f":"IF(Biomasser!A92=\"\",\"\", Biomasser!A92)","v":""},{"$f":"IF(B3047=\"\",0,SUMIFS(Input!$H$70360:$H$73505,  Input!$F$70360:$F$73505,Summering!B3047))","v":0}]
[null,{"$f":"IF(Biomasser!A93=\"\",\"\", Biomasser!A93)","v":""},{"$f":"IF(B3048=\"\",0,SUMIFS(Input!$H$70360:$H$73505,  Input!$F$70360:$F$73505,Summering!B3048))","v":0}]
[null,{"$f":"IF(Biomasser!A94=\"\",\"\", Biomasser!A94)","v":""},{"$f":"IF(B3049=\"\",0,SUMIFS(Input!$H$70360:$H$73505,  Input!$F$70360:$F$73505,Summering!B3049))","v":0}]
[null,{"$f":"IF(Biomasser!A95=\"\",\"\", Biomasser!A95)","v":""},{"$f":"IF(B3050=\"\",0,SUMIFS(Input!$H$70360:$H$73505,  Input!$F$70360:$F$73505,Summering!B3050))","v":0}]
[null,{"$f":"IF(Biomasser!A96=\"\",\"\", Biomasser!A96)","v":""},{"$f":"IF(B3051=\"\",0,SUMIFS(Input!$H$70360:$H$73505,  Input!$F$70360:$F$73505,Summering!B3051))","v":0}]
[null,{"$f":"IF(Biomasser!A97=\"\",\"\", Biomasser!A97)","v":""},{"$f":"IF(B3052=\"\",0,SUMIFS(Input!$H$70360:$H$73505,  Input!$F$70360:$F$73505,Summering!B3052))","v":0}]
[null,{"$f":"IF(Biomasser!A98=\"\",\"\", Biomasser!A98)","v":""},{"$f":"IF(B3053=\"\",0,SUMIFS(Input!$H$70360:$H$73505,  Input!$F$70360:$F$73505,Summering!B3053))","v":0}]
[null,{"$f":"IF(Biomasser!A99=\"\",\"\", Biomasser!A99)","v":""},{"$f":"IF(B3054=\"\",0,SUMIFS(Input!$H$70360:$H$73505,  Input!$F$70360:$F$73505,Summering!B3054))","v":0}]
[null,{"$f":"IF(Biomasser!A100=\"\",\"\", Biomasser!A100)","v":""},{"$f":"IF(B3055=\"\",0,SUMIFS(Input!$H$70360:$H$73505,  Input!$F$70360:$F$73505,Summering!B3055))","v":0}]
[null,{"$f":"IF(Biomasser!A101=\"\",\"\", Biomasser!A101)","v":""},{"$f":"IF(B3056=\"\",0,SUMIFS(Input!$H$70360:$H$73505,  Input!$F$70360:$F$73505,Summering!B3056))","v":0}]
[null,{"$f":"IF(Biomasser!A102=\"\",\"\", Biomasser!A102)","v":""},{"$f":"IF(B3057=\"\",0,SUMIFS(Input!$H$70360:$H$73505,  Input!$F$70360:$F$73505,Summering!B3057))","v":0}]
[null,{"$f":"IF(Biomasser!A103=\"\",\"\", Biomasser!A103)","v":""},{"$f":"IF(B3058=\"\",0,SUMIFS(Input!$H$70360:$H$73505,  Input!$F$70360:$F$73505,Summering!B3058))","v":0}]
[null,{"$f":"IF(Biomasser!A104=\"\",\"\", Biomasser!A104)","v":""},{"$f":"IF(B3059=\"\",0,SUMIFS(Input!$H$70360:$H$73505,  Input!$F$70360:$F$73505,Summering!B3059))","v":0}]
[null,{"$f":"IF(Biomasser!A105=\"\",\"\", Biomasser!A105)","v":""},{"$f":"IF(B3060=\"\",0,SUMIFS(Input!$H$70360:$H$73505,  Input!$F$70360:$F$73505,Summering!B3060))","v":0}]
[null,{"$f":"IF(Biomasser!A106=\"\",\"\", Biomasser!A106)","v":""},{"$f":"IF(B3061=\"\",0,SUMIFS(Input!$H$70360:$H$73505,  Input!$F$70360:$F$73505,Summering!B3061))","v":0}]
[null,{"$f":"IF(Biomasser!A107=\"\",\"\", Biomasser!A107)","v":""},{"$f":"IF(B3062=\"\",0,SUMIFS(Input!$H$70360:$H$73505,  Input!$F$70360:$F$73505,Summering!B3062))","v":0}]
[null,{"$f":"IF(Biomasser!A108=\"\",\"\", Biomasser!A108)","v":""},{"$f":"IF(B3063=\"\",0,SUMIFS(Input!$H$70360:$H$73505,  Input!$F$70360:$F$73505,Summering!B3063))","v":0}]
[null,{"$f":"IF(Biomasser!A109=\"\",\"\", Biomasser!A109)","v":""},{"$f":"IF(B3064=\"\",0,SUMIFS(Input!$H$70360:$H$73505,  Input!$F$70360:$F$73505,Summering!B3064))","v":0}]
[null,{"$f":"IF(Biomasser!A110=\"\",\"\", Biomasser!A110)","v":""},{"$f":"IF(B3065=\"\",0,SUMIFS(Input!$H$70360:$H$73505,  Input!$F$70360:$F$73505,Summering!B3065))","v":0}]
[null,{"$f":"IF(Biomasser!A111=\"\",\"\", Biomasser!A111)","v":""},{"$f":"IF(B3066=\"\",0,SUMIFS(Input!$H$70360:$H$73505,  Input!$F$70360:$F$73505,Summering!B3066))","v":0}]
[null,{"$f":"IF(Biomasser!A112=\"\",\"\", Biomasser!A112)","v":""},{"$f":"IF(B3067=\"\",0,SUMIFS(Input!$H$70360:$H$73505,  Input!$F$70360:$F$73505,Summering!B3067))","v":0}]
[null,{"$f":"IF(Biomasser!A113=\"\",\"\", Biomasser!A113)","v":""},{"$f":"IF(B3068=\"\",0,SUMIFS(Input!$H$70360:$H$73505,  Input!$F$70360:$F$73505,Summering!B3068))","v":0}]
[null,{"$f":"IF(Biomasser!A114=\"\",\"\", Biomasser!A114)","v":""},{"$f":"IF(B3069=\"\",0,SUMIFS(Input!$H$70360:$H$73505,  Input!$F$70360:$F$73505,Summering!B3069))","v":0}]
[null,{"$f":"IF(Biomasser!A115=\"\",\"\", Biomasser!A115)","v":""},{"$f":"IF(B3070=\"\",0,SUMIFS(Input!$H$70360:$H$73505,  Input!$F$70360:$F$73505,Summering!B3070))","v":0}]
[null,{"$f":"IF(Biomasser!A116=\"\",\"\", Biomasser!A116)","v":""},{"$f":"IF(B3071=\"\",0,SUMIFS(Input!$H$70360:$H$73505,  Input!$F$70360:$F$73505,Summering!B3071))","v":0}]
[null,{"$f":"IF(Biomasser!A117=\"\",\"\", Biomasser!A117)","v":""},{"$f":"IF(B3072=\"\",0,SUMIFS(Input!$H$70360:$H$73505,  Input!$F$70360:$F$73505,Summering!B3072))","v":0}]
[null,{"$f":"IF(Biomasser!A118=\"\",\"\", Biomasser!A118)","v":""},{"$f":"IF(B3073=\"\",0,SUMIFS(Input!$H$70360:$H$73505,  Input!$F$70360:$F$73505,Summering!B3073))","v":0}]
[null,{"$f":"IF(Biomasser!A119=\"\",\"\", Biomasser!A119)","v":""},{"$f":"IF(B3074=\"\",0,SUMIFS(Input!$H$70360:$H$73505,  Input!$F$70360:$F$73505,Summering!B3074))","v":0}]
[null,{"$f":"IF(Biomasser!A120=\"\",\"\", Biomasser!A120)","v":""},{"$f":"IF(B3075=\"\",0,SUMIFS(Input!$H$70360:$H$73505,  Input!$F$70360:$F$73505,Summering!B3075))","v":0}]
[null,{"$f":"IF(Biomasser!A121=\"\",\"\", Biomasser!A121)","v":""},{"$f":"IF(B3076=\"\",0,SUMIFS(Input!$H$70360:$H$73505,  Input!$F$70360:$F$73505,Summering!B3076))","v":0}]
[null,{"$f":"IF(Biomasser!A122=\"\",\"\", Biomasser!A122)","v":""},{"$f":"IF(B3077=\"\",0,SUMIFS(Input!$H$70360:$H$73505,  Input!$F$70360:$F$73505,Summering!B3077))","v":0}]
[null,{"$f":"IF(Biomasser!A123=\"\",\"\", Biomasser!A123)","v":""},{"$f":"IF(B3078=\"\",0,SUMIFS(Input!$H$70360:$H$73505,  Input!$F$70360:$F$73505,Summering!B3078))","v":0}]
[null,{"$f":"IF(Biomasser!A124=\"\",\"\", Biomasser!A124)","v":""},{"$f":"IF(B3079=\"\",0,SUMIFS(Input!$H$70360:$H$73505,  Input!$F$70360:$F$73505,Summering!B3079))","v":0}]
[null,"December",{"$f":"SUM(C3081:C3202)","v":0},{"$f":"SUMIFS(Input!$H$10:$H$76760,Input!$A$10:$A$76760,\"Gas\",Input!$C$10:$C$76760,Summering!$B$1604,Input!$B$10:$B$76760,\"*\"&B3080&\"*\")","v":0}]
[null,{"$f":"IF(Biomasser!A3=\"\",\"\", Biomasser!A3)","v":"Afgrøder (Overskrift, kan ikke vælges)"},{"$f":"IF(B3081=\"\",0,SUMIFS(Input!$H$73510:$H$76760,  Input!$F$73510:$F$76760,Summering!B3081))","v":0}]
[null,{"$f":"IF(Biomasser!A4=\"\",\"\", Biomasser!A4)","v":" -             Majs"},{"$f":"IF(B3082=\"\",0,SUMIFS(Input!$H$73510:$H$76760,  Input!$F$73510:$F$76760,Summering!B3082))","v":0}]
[null,{"$f":"IF(Biomasser!A5=\"\",\"\", Biomasser!A5)","v":" -             Roer"},{"$f":"IF(B3083=\"\",0,SUMIFS(Input!$H$73510:$H$76760,  Input!$F$73510:$F$76760,Summering!B3083))","v":0}]
[null,{"$f":"IF(Biomasser!A6=\"\",\"\", Biomasser!A6)","v":" -             Korn"},{"$f":"IF(B3084=\"\",0,SUMIFS(Input!$H$73510:$H$76760,  Input!$F$73510:$F$76760,Summering!B3084))","v":0}]
[null,{"$f":"IF(Biomasser!A7=\"\",\"\", Biomasser!A7)","v":" -             Græs"},{"$f":"IF(B3085=\"\",0,SUMIFS(Input!$H$73510:$H$76760,  Input!$F$73510:$F$76760,Summering!B3085))","v":0}]
[null,{"$f":"IF(Biomasser!A8=\"\",\"\", Biomasser!A8)","v":" -             Kløvergræs"},{"$f":"IF(B3086=\"\",0,SUMIFS(Input!$H$73510:$H$76760,  Input!$F$73510:$F$76760,Summering!B3086))","v":0}]
[null,{"$f":"IF(Biomasser!A9=\"\",\"\", Biomasser!A9)","v":" -             Jordskokker"},{"$f":"IF(B3087=\"\",0,SUMIFS(Input!$H$73510:$H$76760,  Input!$F$73510:$F$76760,Summering!B3087))","v":0}]
[null,{"$f":"IF(Biomasser!A10=\"\",\"\", Biomasser!A10)","v":" -             Andre afgrøder"},{"$f":"IF(B3088=\"\",0,SUMIFS(Input!$H$73510:$H$76760,  Input!$F$73510:$F$76760,Summering!B3088))","v":0}]
[null,{"$f":"IF(Biomasser!A11=\"\",\"\", Biomasser!A11)","v":" -             Hvedehelsæd"},{"$f":"IF(B3089=\"\",0,SUMIFS(Input!$H$73510:$H$76760,  Input!$F$73510:$F$76760,Summering!B3089))","v":0}]
[null,{"$f":"IF(Biomasser!A12=\"\",\"\", Biomasser!A12)","v":" -             Top af foderroe"},{"$f":"IF(B3090=\"\",0,SUMIFS(Input!$H$73510:$H$76760,  Input!$F$73510:$F$76760,Summering!B3090))","v":0}]
[null,{"$f":"IF(Biomasser!A13=\"\",\"\", Biomasser!A13)","v":" -             Foderroe - rod og top frisk"},{"$f":"IF(B3091=\"\",0,SUMIFS(Input!$H$73510:$H$76760,  Input!$F$73510:$F$76760,Summering!B3091))","v":0}]
[null,{"$f":"IF(Biomasser!A14=\"\",\"\", Biomasser!A14)","v":" -             Økologisk kløvergræs"},{"$f":"IF(B3092=\"\",0,SUMIFS(Input!$H$73510:$H$76760,  Input!$F$73510:$F$76760,Summering!B3092))","v":0}]
[null,{"$f":"IF(Biomasser!A15=\"\",\"\", Biomasser!A15)","v":"Husdyrgødning (Overskrift, kan ikke vælges)"},{"$f":"IF(B3093=\"\",0,SUMIFS(Input!$H$73510:$H$76760,  Input!$F$73510:$F$76760,Summering!B3093))","v":0}]
[null,{"$f":"IF(Biomasser!A16=\"\",\"\", Biomasser!A16)","v":" -             Kvæggylle"},{"$f":"IF(B3094=\"\",0,SUMIFS(Input!$H$73510:$H$76760,  Input!$F$73510:$F$76760,Summering!B3094))","v":0}]
[null,{"$f":"IF(Biomasser!A17=\"\",\"\", Biomasser!A17)","v":" -             Svinegylle"},{"$f":"IF(B3095=\"\",0,SUMIFS(Input!$H$73510:$H$76760,  Input!$F$73510:$F$76760,Summering!B3095))","v":0}]
[null,{"$f":"IF(Biomasser!A18=\"\",\"\", Biomasser!A18)","v":" -             Gylle fra so"},{"$f":"IF(B3096=\"\",0,SUMIFS(Input!$H$73510:$H$76760,  Input!$F$73510:$F$76760,Summering!B3096))","v":0}]
[null,{"$f":"IF(Biomasser!A19=\"\",\"\", Biomasser!A19)","v":" -             Minkgylle"},{"$f":"IF(B3097=\"\",0,SUMIFS(Input!$H$73510:$H$76760,  Input!$F$73510:$F$76760,Summering!B3097))","v":0}]
[null,{"$f":"IF(Biomasser!A20=\"\",\"\", Biomasser!A20)","v":" -             Fjerkrægylle"},{"$f":"IF(B3098=\"\",0,SUMIFS(Input!$H$73510:$H$76760,  Input!$F$73510:$F$76760,Summering!B3098))","v":0}]
[null,{"$f":"IF(Biomasser!A21=\"\",\"\", Biomasser!A21)","v":" -             Blandet gylle"},{"$f":"IF(B3099=\"\",0,SUMIFS(Input!$H$73510:$H$76760,  Input!$F$73510:$F$76760,Summering!B3099))","v":0}]
[null,{"$f":"IF(Biomasser!A22=\"\",\"\", Biomasser!A22)","v":" -             Dybstrøelse - Kvæg"},{"$f":"IF(B3100=\"\",0,SUMIFS(Input!$H$73510:$H$76760,  Input!$F$73510:$F$76760,Summering!B3100))","v":0}]
[null,{"$f":"IF(Biomasser!A23=\"\",\"\", Biomasser!A23)","v":" -             Dybstrøelse - Fjerkræ"},{"$f":"IF(B3101=\"\",0,SUMIFS(Input!$H$73510:$H$76760,  Input!$F$73510:$F$76760,Summering!B3101))","v":0}]
[null,{"$f":"IF(Biomasser!A24=\"\",\"\", Biomasser!A24)","v":" -             Dybstrøelse - Hest"},{"$f":"IF(B3102=\"\",0,SUMIFS(Input!$H$73510:$H$76760,  Input!$F$73510:$F$76760,Summering!B3102))","v":0}]
[null,{"$f":"IF(Biomasser!A25=\"\",\"\", Biomasser!A25)","v":" -             Dybstrøelse - Andre typer"},{"$f":"IF(B3103=\"\",0,SUMIFS(Input!$H$73510:$H$76760,  Input!$F$73510:$F$76760,Summering!B3103))","v":0}]
[null,{"$f":"IF(Biomasser!A26=\"\",\"\", Biomasser!A26)","v":" -             Fast gødning"},{"$f":"IF(B3104=\"\",0,SUMIFS(Input!$H$73510:$H$76760,  Input!$F$73510:$F$76760,Summering!B3104))","v":0}]
[null,{"$f":"IF(Biomasser!A27=\"\",\"\", Biomasser!A27)","v":" -             Ajle"},{"$f":"IF(B3105=\"\",0,SUMIFS(Input!$H$73510:$H$76760,  Input!$F$73510:$F$76760,Summering!B3105))","v":0}]
[null,{"$f":"IF(Biomasser!A28=\"\",\"\", Biomasser!A28)","v":" -             Fiberfraktion"},{"$f":"IF(B3106=\"\",0,SUMIFS(Input!$H$73510:$H$76760,  Input!$F$73510:$F$76760,Summering!B3106))","v":0}]
[null,{"$f":"IF(Biomasser!A29=\"\",\"\", Biomasser!A29)","v":" -             Flydende fraktion fra separationsanlæg"},{"$f":"IF(B3107=\"\",0,SUMIFS(Input!$H$73510:$H$76760,  Input!$F$73510:$F$76760,Summering!B3107))","v":0}]
[null,{"$f":"IF(Biomasser!A30=\"\",\"\", Biomasser!A30)","v":" -             Flydende fraktion"},{"$f":"IF(B3108=\"\",0,SUMIFS(Input!$H$73510:$H$76760,  Input!$F$73510:$F$76760,Summering!B3108))","v":0}]
[null,{"$f":"IF(Biomasser!A31=\"\",\"\", Biomasser!A31)","v":" -             Anden husdyrgødning"},{"$f":"IF(B3109=\"\",0,SUMIFS(Input!$H$73510:$H$76760,  Input!$F$73510:$F$76760,Summering!B3109))","v":0}]
[null,{"$f":"IF(Biomasser!A32=\"\",\"\", Biomasser!A32)","v":" -             Forsuret svinegylle"},{"$f":"IF(B3110=\"\",0,SUMIFS(Input!$H$73510:$H$76760,  Input!$F$73510:$F$76760,Summering!B3110))","v":0}]
[null,{"$f":"IF(Biomasser!A33=\"\",\"\", Biomasser!A33)","v":" -             Dybstrøelse - Svin"},{"$f":"IF(B3111=\"\",0,SUMIFS(Input!$H$73510:$H$76760,  Input!$F$73510:$F$76760,Summering!B3111))","v":0}]
[null,{"$f":"IF(Biomasser!A34=\"\",\"\", Biomasser!A34)","v":" -             Gylle fibre - kemisk separation - Svin"},{"$f":"IF(B3112=\"\",0,SUMIFS(Input!$H$73510:$H$76760,  Input!$F$73510:$F$76760,Summering!B3112))","v":0}]
[null,{"$f":"IF(Biomasser!A35=\"\",\"\", Biomasser!A35)","v":" -             Gylle fibre - dekanter separation - Svin"},{"$f":"IF(B3113=\"\",0,SUMIFS(Input!$H$73510:$H$76760,  Input!$F$73510:$F$76760,Summering!B3113))","v":0}]
[null,{"$f":"IF(Biomasser!A36=\"\",\"\", Biomasser!A36)","v":" -             Staldgødning - Kvæg"},{"$f":"IF(B3114=\"\",0,SUMIFS(Input!$H$73510:$H$76760,  Input!$F$73510:$F$76760,Summering!B3114))","v":0}]
[null,{"$f":"IF(Biomasser!A37=\"\",\"\", Biomasser!A37)","v":" -             Kvæggylle - Årsopdræt 6 mdr."},{"$f":"IF(B3115=\"\",0,SUMIFS(Input!$H$73510:$H$76760,  Input!$F$73510:$F$76760,Summering!B3115))","v":0}]
[null,{"$f":"IF(Biomasser!A38=\"\",\"\", Biomasser!A38)","v":" -             Staldgødning - Fjerkræ"},{"$f":"IF(B3116=\"\",0,SUMIFS(Input!$H$73510:$H$76760,  Input!$F$73510:$F$76760,Summering!B3116))","v":0}]
[null,{"$f":"IF(Biomasser!A39=\"\",\"\", Biomasser!A39)","v":"Slam og spildevand (Overskrift, kan ikke vælges)"},{"$f":"IF(B3117=\"\",0,SUMIFS(Input!$H$73510:$H$76760,  Input!$F$73510:$F$76760,Summering!B3117))","v":0}]
[null,{"$f":"IF(Biomasser!A40=\"\",\"\", Biomasser!A40)","v":" -             Slam og spildevand samt uforurenede produktrester"},{"$f":"IF(B3118=\"\",0,SUMIFS(Input!$H$73510:$H$76760,  Input!$F$73510:$F$76760,Summering!B3118))","v":0}]
[null,{"$f":"IF(Biomasser!A41=\"\",\"\", Biomasser!A41)","v":" -             Slam fra dambrug"},{"$f":"IF(B3119=\"\",0,SUMIFS(Input!$H$73510:$H$76760,  Input!$F$73510:$F$76760,Summering!B3119))","v":0}]
[null,{"$f":"IF(Biomasser!A42=\"\",\"\", Biomasser!A42)","v":" -             Slam fra forarbejdning af animalske råvarer"},{"$f":"IF(B3120=\"\",0,SUMIFS(Input!$H$73510:$H$76760,  Input!$F$73510:$F$76760,Summering!B3120))","v":0}]
[null,{"$f":"IF(Biomasser!A43=\"\",\"\", Biomasser!A43)","v":" -             Spildevandsslam"},{"$f":"IF(B3121=\"\",0,SUMIFS(Input!$H$73510:$H$76760,  Input!$F$73510:$F$76760,Summering!B3121))","v":0}]
[null,{"$f":"IF(Biomasser!A44=\"\",\"\", Biomasser!A44)","v":" -             Proteolyseret processpildevand"},{"$f":"IF(B3122=\"\",0,SUMIFS(Input!$H$73510:$H$76760,  Input!$F$73510:$F$76760,Summering!B3122))","v":0}]
[null,{"$f":"IF(Biomasser!A45=\"\",\"\", Biomasser!A45)","v":" -             Sekundær spildevandsslam"},{"$f":"IF(B3123=\"\",0,SUMIFS(Input!$H$73510:$H$76760,  Input!$F$73510:$F$76760,Summering!B3123))","v":0}]
[null,{"$f":"IF(Biomasser!A46=\"\",\"\", Biomasser!A46)","v":" -             Sekundær spildevandsslam afvandet"},{"$f":"IF(B3124=\"\",0,SUMIFS(Input!$H$73510:$H$76760,  Input!$F$73510:$F$76760,Summering!B3124))","v":0}]
[null,{"$f":"IF(Biomasser!A47=\"\",\"\", Biomasser!A47)","v":"Organisk affald fra husholdninger og erhverv (Overskrift, kan ikke vælges)"},{"$f":"IF(B3125=\"\",0,SUMIFS(Input!$H$73510:$H$76760,  Input!$F$73510:$F$76760,Summering!B3125))","v":0}]
[null,{"$f":"IF(Biomasser!A48=\"\",\"\", Biomasser!A48)","v":" -             Kildesorteret organisk dagrenovation"},{"$f":"IF(B3126=\"\",0,SUMIFS(Input!$H$73510:$H$76760,  Input!$F$73510:$F$76760,Summering!B3126))","v":0}]
[null,{"$f":"IF(Biomasser!A49=\"\",\"\", Biomasser!A49)","v":" -             Organisk husholdningsaffald - Renescience"},{"$f":"IF(B3127=\"\",0,SUMIFS(Input!$H$73510:$H$76760,  Input!$F$73510:$F$76760,Summering!B3127))","v":0}]
[null,{"$f":"IF(Biomasser!A50=\"\",\"\", Biomasser!A50)","v":" -             Organisk husholdningsaffald - Pulper"},{"$f":"IF(B3128=\"\",0,SUMIFS(Input!$H$73510:$H$76760,  Input!$F$73510:$F$76760,Summering!B3128))","v":0}]
[null,{"$f":"IF(Biomasser!A51=\"\",\"\", Biomasser!A51)","v":" -             Organisk husholdningsaffald - Rullesigte"},{"$f":"IF(B3129=\"\",0,SUMIFS(Input!$H$73510:$H$76760,  Input!$F$73510:$F$76760,Summering!B3129))","v":0}]
[null,{"$f":"IF(Biomasser!A52=\"\",\"\", Biomasser!A52)","v":" -             Organisk husholdningsaffald - Skruepresse"},{"$f":"IF(B3130=\"\",0,SUMIFS(Input!$H$73510:$H$76760,  Input!$F$73510:$F$76760,Summering!B3130))","v":0}]
[null,{"$f":"IF(Biomasser!A53=\"\",\"\", Biomasser!A53)","v":" -             Organisk husholdningsaffald - Neddeling"},{"$f":"IF(B3131=\"\",0,SUMIFS(Input!$H$73510:$H$76760,  Input!$F$73510:$F$76760,Summering!B3131))","v":0}]
[null,{"$f":"IF(Biomasser!A54=\"\",\"\", Biomasser!A54)","v":" -             Organisk affald fra erhverv"},{"$f":"IF(B3132=\"\",0,SUMIFS(Input!$H$73510:$H$76760,  Input!$F$73510:$F$76760,Summering!B3132))","v":0}]
[null,{"$f":"IF(Biomasser!A55=\"\",\"\", Biomasser!A55)","v":"Rester og biprodukter fra planter og afgrøder (Overskrift, kan ikke vælges)"},{"$f":"IF(B3133=\"\",0,SUMIFS(Input!$H$73510:$H$76760,  Input!$F$73510:$F$76760,Summering!B3133))","v":0}]
[null,{"$f":"IF(Biomasser!A56=\"\",\"\", Biomasser!A56)","v":" -             Cellulose"},{"$f":"IF(B3134=\"\",0,SUMIFS(Input!$H$73510:$H$76760,  Input!$F$73510:$F$76760,Summering!B3134))","v":0}]
[null,{"$f":"IF(Biomasser!A57=\"\",\"\", Biomasser!A57)","v":" -             Naturpleje biomasse"},{"$f":"IF(B3135=\"\",0,SUMIFS(Input!$H$73510:$H$76760,  Input!$F$73510:$F$76760,Summering!B3135))","v":0}]
[null,{"$f":"IF(Biomasser!A58=\"\",\"\", Biomasser!A58)","v":" -             Halm"},{"$f":"IF(B3136=\"\",0,SUMIFS(Input!$H$73510:$H$76760,  Input!$F$73510:$F$76760,Summering!B3136))","v":0}]
[null,{"$f":"IF(Biomasser!A59=\"\",\"\", Biomasser!A59)","v":" -             Have-park affald"},{"$f":"IF(B3137=\"\",0,SUMIFS(Input!$H$73510:$H$76760,  Input!$F$73510:$F$76760,Summering!B3137))","v":0}]
[null,{"$f":"IF(Biomasser!A60=\"\",\"\", Biomasser!A60)","v":" -             Andre restprodukter fra produktion af primærafgrøder"},{"$f":"IF(B3138=\"\",0,SUMIFS(Input!$H$73510:$H$76760,  Input!$F$73510:$F$76760,Summering!B3138))","v":0}]
[null,{"$f":"IF(Biomasser!A61=\"\",\"\", Biomasser!A61)","v":" -             Kasserede afgrøder"},{"$f":"IF(B3139=\"\",0,SUMIFS(Input!$H$73510:$H$76760,  Input!$F$73510:$F$76760,Summering!B3139))","v":0}]
[null,{"$f":"IF(Biomasser!A62=\"\",\"\", Biomasser!A62)","v":"Rester og biprodukter fra levnesmiddel- og dyrefoderindustrien  (Overskrift, kan ikke vælges)"},{"$f":"IF(B3140=\"\",0,SUMIFS(Input!$H$73510:$H$76760,  Input!$F$73510:$F$76760,Summering!B3140))","v":0}]
[null,{"$f":"IF(Biomasser!A63=\"\",\"\", Biomasser!A63)","v":" -             Animalske biprodukter"},{"$f":"IF(B3141=\"\",0,SUMIFS(Input!$H$73510:$H$76760,  Input!$F$73510:$F$76760,Summering!B3141))","v":0}]
[null,{"$f":"IF(Biomasser!A64=\"\",\"\", Biomasser!A64)","v":" -             Mave/tarm kvæg"},{"$f":"IF(B3142=\"\",0,SUMIFS(Input!$H$73510:$H$76760,  Input!$F$73510:$F$76760,Summering!B3142))","v":0}]
[null,{"$f":"IF(Biomasser!A65=\"\",\"\", Biomasser!A65)","v":" -             Mave/tarm svin"},{"$f":"IF(B3143=\"\",0,SUMIFS(Input!$H$73510:$H$76760,  Input!$F$73510:$F$76760,Summering!B3143))","v":0}]
[null,{"$f":"IF(Biomasser!A66=\"\",\"\", Biomasser!A66)","v":" -             Valle"},{"$f":"IF(B3144=\"\",0,SUMIFS(Input!$H$73510:$H$76760,  Input!$F$73510:$F$76760,Summering!B3144))","v":0}]
[null,{"$f":"IF(Biomasser!A67=\"\",\"\", Biomasser!A67)","v":" -             Valle koncentrat"},{"$f":"IF(B3145=\"\",0,SUMIFS(Input!$H$73510:$H$76760,  Input!$F$73510:$F$76760,Summering!B3145))","v":0}]
[null,{"$f":"IF(Biomasser!A68=\"\",\"\", Biomasser!A68)","v":" -             Protein"},{"$f":"IF(B3146=\"\",0,SUMIFS(Input!$H$73510:$H$76760,  Input!$F$73510:$F$76760,Summering!B3146))","v":0}]
[null,{"$f":"IF(Biomasser!A69=\"\",\"\", Biomasser!A69)","v":" -             Fedt"},{"$f":"IF(B3147=\"\",0,SUMIFS(Input!$H$73510:$H$76760,  Input!$F$73510:$F$76760,Summering!B3147))","v":0}]
[null,{"$f":"IF(Biomasser!A70=\"\",\"\", Biomasser!A70)","v":" -             Vinasse (2,2 pct. kvælstof)"},{"$f":"IF(B3148=\"\",0,SUMIFS(Input!$H$73510:$H$76760,  Input!$F$73510:$F$76760,Summering!B3148))","v":0}]
[null,{"$f":"IF(Biomasser!A71=\"\",\"\", Biomasser!A71)","v":" -             Vinasse (3,5 pct. kvælstof)"},{"$f":"IF(B3149=\"\",0,SUMIFS(Input!$H$73510:$H$76760,  Input!$F$73510:$F$76760,Summering!B3149))","v":0}]
[null,{"$f":"IF(Biomasser!A72=\"\",\"\", Biomasser!A72)","v":" -             Kartoffelfrugtsaft"},{"$f":"IF(B3150=\"\",0,SUMIFS(Input!$H$73510:$H$76760,  Input!$F$73510:$F$76760,Summering!B3150))","v":0}]
[null,{"$f":"IF(Biomasser!A73=\"\",\"\", Biomasser!A73)","v":" -             Glukose"},{"$f":"IF(B3151=\"\",0,SUMIFS(Input!$H$73510:$H$76760,  Input!$F$73510:$F$76760,Summering!B3151))","v":0}]
[null,{"$f":"IF(Biomasser!A74=\"\",\"\", Biomasser!A74)","v":" -             Alkohol"},{"$f":"IF(B3152=\"\",0,SUMIFS(Input!$H$73510:$H$76760,  Input!$F$73510:$F$76760,Summering!B3152))","v":0}]
[null,{"$f":"IF(Biomasser!A75=\"\",\"\", Biomasser!A75)","v":" -             Pressesaft fra grøntpilleproduktion"},{"$f":"IF(B3153=\"\",0,SUMIFS(Input!$H$73510:$H$76760,  Input!$F$73510:$F$76760,Summering!B3153))","v":0}]
[null,{"$f":"IF(Biomasser!A76=\"\",\"\", Biomasser!A76)","v":" -             Inaktiveret og kalkstabiliseret biomasse"},{"$f":"IF(B3154=\"\",0,SUMIFS(Input!$H$73510:$H$76760,  Input!$F$73510:$F$76760,Summering!B3154))","v":0}]
[null,{"$f":"IF(Biomasser!A77=\"\",\"\", Biomasser!A77)","v":"Anden biomasse (Overskrift)"},{"$f":"IF(B3155=\"\",0,SUMIFS(Input!$H$73510:$H$76760,  Input!$F$73510:$F$76760,Summering!B3155))","v":0}]
[null,{"$f":"IF(Biomasser!A78=\"\",\"\", Biomasser!A78)","v":" -             Råglycerin"},{"$f":"IF(B3156=\"\",0,SUMIFS(Input!$H$73510:$H$76760,  Input!$F$73510:$F$76760,Summering!B3156))","v":0}]
[null,{"$f":"IF(Biomasser!A79=\"\",\"\", Biomasser!A79)","v":""},{"$f":"IF(B3157=\"\",0,SUMIFS(Input!$H$73510:$H$76760,  Input!$F$73510:$F$76760,Summering!B3157))","v":0}]
[null,{"$f":"IF(Biomasser!A80=\"\",\"\", Biomasser!A80)","v":""},{"$f":"IF(B3158=\"\",0,SUMIFS(Input!$H$73510:$H$76760,  Input!$F$73510:$F$76760,Summering!B3158))","v":0}]
[null,{"$f":"IF(Biomasser!A81=\"\",\"\", Biomasser!A81)","v":""},{"$f":"IF(B3159=\"\",0,SUMIFS(Input!$H$73510:$H$76760,  Input!$F$73510:$F$76760,Summering!B3159))","v":0}]
[null,{"$f":"IF(Biomasser!A82=\"\",\"\", Biomasser!A82)","v":""},{"$f":"IF(B3160=\"\",0,SUMIFS(Input!$H$73510:$H$76760,  Input!$F$73510:$F$76760,Summering!B3160))","v":0}]
[null,{"$f":"IF(Biomasser!A83=\"\",\"\", Biomasser!A83)","v":""},{"$f":"IF(B3161=\"\",0,SUMIFS(Input!$H$73510:$H$76760,  Input!$F$73510:$F$76760,Summering!B3161))","v":0}]
[null,{"$f":"IF(Biomasser!A84=\"\",\"\", Biomasser!A84)","v":""},{"$f":"IF(B3162=\"\",0,SUMIFS(Input!$H$73510:$H$76760,  Input!$F$73510:$F$76760,Summering!B3162))","v":0}]
[null,{"$f":"IF(Biomasser!A85=\"\",\"\", Biomasser!A85)","v":""},{"$f":"IF(B3163=\"\",0,SUMIFS(Input!$H$73510:$H$76760,  Input!$F$73510:$F$76760,Summering!B3163))","v":0}]
[null,{"$f":"IF(Biomasser!A86=\"\",\"\", Biomasser!A86)","v":""},{"$f":"IF(B3164=\"\",0,SUMIFS(Input!$H$73510:$H$76760,  Input!$F$73510:$F$76760,Summering!B3164))","v":0}]
[null,{"$f":"IF(Biomasser!A87=\"\",\"\", Biomasser!A87)","v":""},{"$f":"IF(B3165=\"\",0,SUMIFS(Input!$H$73510:$H$76760,  Input!$F$73510:$F$76760,Summering!B3165))","v":0}]
[null,{"$f":"IF(Biomasser!A88=\"\",\"\", Biomasser!A88)","v":""},{"$f":"IF(B3166=\"\",0,SUMIFS(Input!$H$73510:$H$76760,  Input!$F$73510:$F$76760,Summering!B3166))","v":0}]
[null,{"$f":"IF(Biomasser!A89=\"\",\"\", Biomasser!A89)","v":""},{"$f":"IF(B3167=\"\",0,SUMIFS(Input!$H$73510:$H$76760,  Input!$F$73510:$F$76760,Summering!B3167))","v":0}]
[null,{"$f":"IF(Biomasser!A90=\"\",\"\", Biomasser!A90)","v":""},{"$f":"IF(B3168=\"\",0,SUMIFS(Input!$H$73510:$H$76760,  Input!$F$73510:$F$76760,Summering!B3168))","v":0}]
[null,{"$f":"IF(Biomasser!A91=\"\",\"\", Biomasser!A91)","v":""},{"$f":"IF(B3169=\"\",0,SUMIFS(Input!$H$73510:$H$76760,  Input!$F$73510:$F$76760,Summering!B3169))","v":0}]
[null,{"$f":"IF(Biomasser!A92=\"\",\"\", Biomasser!A92)","v":""},{"$f":"IF(B3170=\"\",0,SUMIFS(Input!$H$73510:$H$76760,  Input!$F$73510:$F$76760,Summering!B3170))","v":0}]
[null,{"$f":"IF(Biomasser!A93=\"\",\"\", Biomasser!A93)","v":""},{"$f":"IF(B3171=\"\",0,SUMIFS(Input!$H$73510:$H$76760,  Input!$F$73510:$F$76760,Summering!B3171))","v":0}]
[null,{"$f":"IF(Biomasser!A94=\"\",\"\", Biomasser!A94)","v":""},{"$f":"IF(B3172=\"\",0,SUMIFS(Input!$H$73510:$H$76760,  Input!$F$73510:$F$76760,Summering!B3172))","v":0}]
[null,{"$f":"IF(Biomasser!A95=\"\",\"\", Biomasser!A95)","v":""},{"$f":"IF(B3173=\"\",0,SUMIFS(Input!$H$73510:$H$76760,  Input!$F$73510:$F$76760,Summering!B3173))","v":0}]
[null,{"$f":"IF(Biomasser!A96=\"\",\"\", Biomasser!A96)","v":""},{"$f":"IF(B3174=\"\",0,SUMIFS(Input!$H$73510:$H$76760,  Input!$F$73510:$F$76760,Summering!B3174))","v":0}]
[null,{"$f":"IF(Biomasser!A97=\"\",\"\", Biomasser!A97)","v":""},{"$f":"IF(B3175=\"\",0,SUMIFS(Input!$H$73510:$H$76760,  Input!$F$73510:$F$76760,Summering!B3175))","v":0}]
[null,{"$f":"IF(Biomasser!A98=\"\",\"\", Biomasser!A98)","v":""},{"$f":"IF(B3176=\"\",0,SUMIFS(Input!$H$73510:$H$76760,  Input!$F$73510:$F$76760,Summering!B3176))","v":0}]
[null,{"$f":"IF(Biomasser!A99=\"\",\"\", Biomasser!A99)","v":""},{"$f":"IF(B3177=\"\",0,SUMIFS(Input!$H$73510:$H$76760,  Input!$F$73510:$F$76760,Summering!B3177))","v":0}]
[null,{"$f":"IF(Biomasser!A100=\"\",\"\", Biomasser!A100)","v":""},{"$f":"IF(B3178=\"\",0,SUMIFS(Input!$H$73510:$H$76760,  Input!$F$73510:$F$76760,Summering!B3178))","v":0}]
[null,{"$f":"IF(Biomasser!A101=\"\",\"\", Biomasser!A101)","v":""},{"$f":"IF(B3179=\"\",0,SUMIFS(Input!$H$73510:$H$76760,  Input!$F$73510:$F$76760,Summering!B3179))","v":0}]
[null,{"$f":"IF(Biomasser!A102=\"\",\"\", Biomasser!A102)","v":""},{"$f":"IF(B3180=\"\",0,SUMIFS(Input!$H$73510:$H$76760,  Input!$F$73510:$F$76760,Summering!B3180))","v":0}]
[null,{"$f":"IF(Biomasser!A103=\"\",\"\", Biomasser!A103)","v":""},{"$f":"IF(B3181=\"\",0,SUMIFS(Input!$H$73510:$H$76760,  Input!$F$73510:$F$76760,Summering!B3181))","v":0}]
[null,{"$f":"IF(Biomasser!A104=\"\",\"\", Biomasser!A104)","v":""},{"$f":"IF(B3182=\"\",0,SUMIFS(Input!$H$73510:$H$76760,  Input!$F$73510:$F$76760,Summering!B3182))","v":0}]
[null,{"$f":"IF(Biomasser!A105=\"\",\"\", Biomasser!A105)","v":""},{"$f":"IF(B3183=\"\",0,SUMIFS(Input!$H$73510:$H$76760,  Input!$F$73510:$F$76760,Summering!B3183))","v":0}]
[null,{"$f":"IF(Biomasser!A106=\"\",\"\", Biomasser!A106)","v":""},{"$f":"IF(B3184=\"\",0,SUMIFS(Input!$H$73510:$H$76760,  Input!$F$73510:$F$76760,Summering!B3184))","v":0}]
[null,{"$f":"IF(Biomasser!A107=\"\",\"\", Biomasser!A107)","v":""},{"$f":"IF(B3185=\"\",0,SUMIFS(Input!$H$73510:$H$76760,  Input!$F$73510:$F$76760,Summering!B3185))","v":0}]
[null,{"$f":"IF(Biomasser!A108=\"\",\"\", Biomasser!A108)","v":""},{"$f":"IF(B3186=\"\",0,SUMIFS(Input!$H$73510:$H$76760,  Input!$F$73510:$F$76760,Summering!B3186))","v":0}]
[null,{"$f":"IF(Biomasser!A109=\"\",\"\", Biomasser!A109)","v":""},{"$f":"IF(B3187=\"\",0,SUMIFS(Input!$H$73510:$H$76760,  Input!$F$73510:$F$76760,Summering!B3187))","v":0}]
[null,{"$f":"IF(Biomasser!A110=\"\",\"\", Biomasser!A110)","v":""},{"$f":"IF(B3188=\"\",0,SUMIFS(Input!$H$73510:$H$76760,  Input!$F$73510:$F$76760,Summering!B3188))","v":0}]
[null,{"$f":"IF(Biomasser!A111=\"\",\"\", Biomasser!A111)","v":""},{"$f":"IF(B3189=\"\",0,SUMIFS(Input!$H$73510:$H$76760,  Input!$F$73510:$F$76760,Summering!B3189))","v":0}]
[null,{"$f":"IF(Biomasser!A112=\"\",\"\", Biomasser!A112)","v":""},{"$f":"IF(B3190=\"\",0,SUMIFS(Input!$H$73510:$H$76760,  Input!$F$73510:$F$76760,Summering!B3190))","v":0}]
[null,{"$f":"IF(Biomasser!A113=\"\",\"\", Biomasser!A113)","v":""},{"$f":"IF(B3191=\"\",0,SUMIFS(Input!$H$73510:$H$76760,  Input!$F$73510:$F$76760,Summering!B3191))","v":0}]
[null,{"$f":"IF(Biomasser!A114=\"\",\"\", Biomasser!A114)","v":""},{"$f":"IF(B3192=\"\",0,SUMIFS(Input!$H$73510:$H$76760,  Input!$F$73510:$F$76760,Summering!B3192))","v":0}]
[null,{"$f":"IF(Biomasser!A115=\"\",\"\", Biomasser!A115)","v":""},{"$f":"IF(B3193=\"\",0,SUMIFS(Input!$H$73510:$H$76760,  Input!$F$73510:$F$76760,Summering!B3193))","v":0}]
[null,{"$f":"IF(Biomasser!A116=\"\",\"\", Biomasser!A116)","v":""},{"$f":"IF(B3194=\"\",0,SUMIFS(Input!$H$73510:$H$76760,  Input!$F$73510:$F$76760,Summering!B3194))","v":0}]
[null,{"$f":"IF(Biomasser!A117=\"\",\"\", Biomasser!A117)","v":""},{"$f":"IF(B3195=\"\",0,SUMIFS(Input!$H$73510:$H$76760,  Input!$F$73510:$F$76760,Summering!B3195))","v":0}]
[null,{"$f":"IF(Biomasser!A118=\"\",\"\", Biomasser!A118)","v":""},{"$f":"IF(B3196=\"\",0,SUMIFS(Input!$H$73510:$H$76760,  Input!$F$73510:$F$76760,Summering!B3196))","v":0}]
[null,{"$f":"IF(Biomasser!A119=\"\",\"\", Biomasser!A119)","v":""},{"$f":"IF(B3197=\"\",0,SUMIFS(Input!$H$73510:$H$76760,  Input!$F$73510:$F$76760,Summering!B3197))","v":0}]
[null,{"$f":"IF(Biomasser!A120=\"\",\"\", Biomasser!A120)","v":""},{"$f":"IF(B3198=\"\",0,SUMIFS(Input!$H$73510:$H$76760,  Input!$F$73510:$F$76760,Summering!B3198))","v":0}]
[null,{"$f":"IF(Biomasser!A121=\"\",\"\", Biomasser!A121)","v":""},{"$f":"IF(B3199=\"\",0,SUMIFS(Input!$H$73510:$H$76760,  Input!$F$73510:$F$76760,Summering!B3199))","v":0}]
[null,{"$f":"IF(Biomasser!A122=\"\",\"\", Biomasser!A122)","v":""},{"$f":"IF(B3200=\"\",0,SUMIFS(Input!$H$73510:$H$76760,  Input!$F$73510:$F$76760,Summering!B3200))","v":0}]
[null,{"$f":"IF(Biomasser!A123=\"\",\"\", Biomasser!A123)","v":""},{"$f":"IF(B3201=\"\",0,SUMIFS(Input!$H$73510:$H$76760,  Input!$F$73510:$F$76760,Summering!B3201))","v":0}]
[null,{"$f":"IF(Biomasser!A124=\"\",\"\", Biomasser!A124)","v":""},{"$f":"IF(B3202=\"\",0,SUMIFS(Input!$H$73510:$H$76760,  Input!$F$73510:$F$76760,Summering!B3202))","v":0}]

{"sheet":"Faktor ark","index":15,"n_rows":22,"n_cols":6,"rows_kept":22,"cut":false,"hidden":false,"merged":[]}
[]
[]
[]
[]
[]
[]
[]
[]
[]
[]
[]
[]
[null,null,null,"Enher","Kilde","Kommentar"]
[null,"Fossil reference",56.79,"gCO2/MJ"]
[null,"MJ/m3 CH4",35.9,"MJ"]
[null,"Opholdstid (dage)",{"$f":"Forside!C11","v":1}]
[null,"MJ/m3 biogas",{"$f":"C15*0.65","v":23.335000000000001},null,null,"1 m3 biogas indeholder 65 % methan"]
[null,"gCO2/MJ CH4",56.79]
[null,"gCO2/m3 CH4",{"$f":"C15*C18","v":2038.761}]
[null,"Metanudslip",{"$f":"Forside!C12","v":0.05}]
[null,"kg CH4/ m3",0.75]
[null,"GWP CH4",25,null,"Energistyrelsens anbefaling"]

{"sheet":"Resultatark","index":16,"n_rows":30,"n_cols":13,"rows_kept":30,"cut":false,"hidden":false,"merged":[[2,10,2,12],[2,3,2,6],[2,7,2,9],[0,10,1,11],[0,7,1,8]]}
[null,null,null,null,null,null,null,"Det er brugerens eget ansvar at sikre at der er indtastet CO2e data for alle certificerede biomasser",null,"Fossil reference (gCO2/MJ)","Her antages det at der er indtastet CO2e data for alle ikke-certificerede biomasser. Dette er dog ikke nødvendigt ift. certificering.",null,"Fossil reference (gCO2/MJ)"]
[null,null,null,null,null,null,null,null,null,{"$f":"'Faktor ark'!C14","v":56.79},null,null,{"$f":"'Faktor ark'!C14","v":56.79}]
[null,null,null,"Gasproduktion (CH4 m3)",null,null,null,"CO2e fra certificeret gas",null,null,"CO2e fra total gasproduktion"]
[null,null,"Biomasse (ton)","Total","Certificeret","Ikke-certificeret","Certificeret Dobbelttællende","Udledning (g)","gCO2e/MJ gas","Fortrængning","Udledning (g)","gCO2e/MJ gas","Fortrængning"]
[null,2015]
[null,"Januar"]
[null,"Februar"]
[null,"Marts"]
[null,"April"]
[null,"Maj"]
[null,"Juni"]
[null,"Juli"]
[null,"August"]
[null,"September"]
[null,"Oktober"]
[null,"November"]
[null,"December"]
[null,2016]
[null,"Januar"]
[null,"Februar"]
[null,"Marts"]
[null,"April"]
[null,"Maj"]
[null,"Juni"]
[null,"Juli"]
[null,"August"]
[null,"September"]
[null,"Oktober"]
[null,"November"]
[null,"December"]

{"sheet":"Energinetdk rapport","index":17,"n_rows":129,"n_cols":12,"rows_kept":129,"cut":false,"hidden":false,"merged":[]}
[null,null,"INDBERETNINGSBLANKET TIL ANVENDT BIOMASSE",null,null,null,null,2015,2016,2016,"Start","Slut"]
[null,null,{"$f":"\"Navn på biogasanlæg:  \"&  Forside!C7","v":"Navn på biogasanlæg:  "},null,null,null,null,null,2015,"2015/2016",22267,60695]
[null,null,null,null,null,null,null,"2015/2016","2015/2016","2016/2017"]
[null,null,{"$f":"\"Anvendte biomasser fra 1. august\" & \" \" & I2 & \" \" & \"til 31. juli\" & \" \" & J1","v":"Anvendte biomasser fra 1. august 2015 til 31. juli 2016"},"Nærmere angivelse af biomasse","Evt. gennemsnit tørstof procent","Anvendt mængde i ton","Procent af samlet mængde",null,null,"2017/2018"]
[null,null,null,"Afgrøder",null,null,null,null,null,"2018/2019"]
[null," -             Majs","Majs","Kolber/helsæd. Omfattet af begrænsningen for energiafgrøder til biogas.",{"$f":"IFERROR(AVERAGEIF(INDIRECT(\"'Input'!F\"&INDEX('Energinetdk rapport'!$K$1:$K$5,MATCH('Energinetdk rapport'!$I$3,'Energinetdk rapport'!$J$1:$J$5,0))):INDIRECT(\"'Input'!F\"&INDEX('Energinetdk rapport'!$L$1:$L$5,MATCH('Energinetdk rapport'!$I$3,'Energinetdk rapport'!$J$1:$J$5,0))),B6,INDIRECT(\"'Input'!J\"&INDEX('Energinetdk rapport'!$K$1:$K$5,MATCH('Energinetdk rapport'!$I$3,'Energinetdk rapport'!$J$1:$J$5,0))):INDIRECT(\"'Input'!J\"&INDEX('Energinetdk rapport'!$L$1:$L$5,MATCH('Energinetdk rapport'!$I$3,'Energinetdk rapport'!$J$1:$J$5,0)))),0)","v":0},{"$f":"SUMIFS(INDIRECT(\"'Input'!H\"&INDEX('Energinetdk rapport'!$K$1:$K$5,MATCH('Energinetdk rapport'!$I$3,'Energinetdk rapport'!$J$1:$J$5,0))):INDIRECT(\"'Input'!H\"&INDEX('Energinetdk rapport'!$L$1:$L$5,MATCH('Energinetdk rapport'!$I$3,'Energinetdk rapport'!$J$1:$J$5,0))), INDIRECT(\"'Input'!F\"&INDEX('Energinetdk rapport'!$K$1:$K$5,MATCH('Energinetdk rapport'!$I$3,'Energinetdk rapport'!$J$1:$J$5,0))):INDIRECT(\"'Input'!F\"&INDEX('Energinetdk rapport'!$L$1:$L$5,MATCH('Energinetdk rapport'!$I$3,'Energinetdk rapport'!$J$1:$J$5,0))), B6)","v":0},{"$f":"IFERROR(F6/SUM($F$6:$F$128),0)","v":0}]
[null," -             Roer","Roer","Rod. Omfattet af begrænsningen for energiafgrøder.",{"$f":"IFERROR(AVERAGEIF(INDIRECT(\"'Input'!F\"&INDEX('Energinetdk rapport'!$K$1:$K$5,MATCH('Energinetdk rapport'!$I$3,'Energinetdk rapport'!$J$1:$J$5,0))):INDIRECT(\"'Input'!F\"&INDEX('Energinetdk rapport'!$L$1:$L$5,MATCH('Energinetdk rapport'!$I$3,'Energinetdk rapport'!$J$1:$J$5,0))),B7,INDIRECT(\"'Input'!J\"&INDEX('Energinetdk rapport'!$K$1:$K$5,MATCH('Energinetdk rapport'!$I$3,'Energinetdk rapport'!$J$1:$J$5,0))):INDIRECT(\"'Input'!J\"&INDEX('Energinetdk rapport'!$L$1:$L$5,MATCH('Energinetdk rapport'!$I$3,'Energinetdk rapport'!$J$1:$J$5,0)))),0)","v":0},{"$f":"SUMIFS(INDIRECT(\"'Input'!H\"&INDEX('Energinetdk rapport'!$K$1:$K$5,MATCH('Energinetdk rapport'!$I$3,'Energinetdk rapport'!$J$1:$J$5,0))):INDIRECT(\"'Input'!H\"&INDEX('Energinetdk rapport'!$L$1:$L$5,MATCH('Energinetdk rapport'!$I$3,'Energinetdk rapport'!$J$1:$J$5,0))), INDIRECT(\"'Input'!F\"&INDEX('Energinetdk rapport'!$K$1:$K$5,MATCH('Energinetdk rapport'!$I$3,'Energinetdk rapport'!$J$1:$J$5,0))):INDIRECT(\"'Input'!F\"&INDEX('Energinetdk rapport'!$L$1:$L$5,MATCH('Energinetdk rapport'!$I$3,'Energinetdk rapport'!$J$1:$J$5,0))), B7)","v":0},0]
[null," -             Korn","Korn","Kerner/helsæd. Omfattet af begrænsningen for energiafgrøder.",{"$f":"IFERROR(AVERAGEIF(INDIRECT(\"'Input'!F\"&INDEX('Energinetdk rapport'!$K$1:$K$5,MATCH('Energinetdk rapport'!$I$3,'Energinetdk rapport'!$J$1:$J$5,0))):INDIRECT(\"'Input'!F\"&INDEX('Energinetdk rapport'!$L$1:$L$5,MATCH('Energinetdk rapport'!$I$3,'Energinetdk rapport'!$J$1:$J$5,0))),B8,INDIRECT(\"'Input'!J\"&INDEX('Energinetdk rapport'!$K$1:$K$5,MATCH('Energinetdk rapport'!$I$3,'Energinetdk rapport'!$J$1:$J$5,0))):INDIRECT(\"'Input'!J\"&INDEX('Energinetdk rapport'!$L$1:$L$5,MATCH('Energinetdk rapport'!$I$3,'Energinetdk rapport'!$J$1:$J$5,0)))),0)","v":0},{"$f":"SUMIFS(INDIRECT(\"'Input'!H\"&INDEX('Energinetdk rapport'!$K$1:$K$5,MATCH('Energinetdk rapport'!$I$3,'Energinetdk rapport'!$J$1:$J$5,0))):INDIRECT(\"'Input'!H\"&INDEX('Energinetdk rapport'!$L$1:$L$5,MATCH('Energinetdk rapport'!$I$3,'Energinetdk rapport'!$J$1:$J$5,0))), INDIRECT(\"'Input'!F\"&INDEX('Energinetdk rapport'!$K$1:$K$5,MATCH('Energinetdk rapport'!$I$3,'Energinetdk rapport'!$J$1:$J$5,0))):INDIRECT(\"'Input'!F\"&INDEX('Energinetdk rapport'!$L$1:$L$5,MATCH('Energinetdk rapport'!$I$3,'Energinetdk rapport'!$J$1:$J$5,0))), B8)","v":0},0]
[null," -             Græs","Græs","Helsæd fra konventionelle arealer i omdrift.\nOmfattet af begrænsningen for energiafgrøder, hvis afgrøden er etableret for mindre end 5 år siden.",{"$f":"IFERROR(AVERAGEIF(INDIRECT(\"'Input'!F\"&INDEX('Energinetdk rapport'!$K$1:$K$5,MATCH('Energinetdk rapport'!$I$3,'Energinetdk rapport'!$J$1:$J$5,0))):INDIRECT(\"'Input'!F\"&INDEX('Energinetdk rapport'!$L$1:$L$5,MATCH('Energinetdk rapport'!$I$3,'Energinetdk rapport'!$J$1:$J$5,0))),B9,INDIRECT(\"'Input'!J\"&INDEX('Energinetdk rapport'!$K$1:$K$5,MATCH('Energinetdk rapport'!$I$3,'Energinetdk rapport'!$J$1:$J$5,0))):INDIRECT(\"'Input'!J\"&INDEX('Energinetdk rapport'!$L$1:$L$5,MATCH('Energinetdk rapport'!$I$3,'Energinetdk rapport'!$J$1:$J$5,0)))),0)","v":0},{"$f":"SUMIFS(INDIRECT(\"'Input'!H\"&INDEX('Energinetdk rapport'!$K$1:$K$5,MATCH('Energinetdk rapport'!$I$3,'Energinetdk rapport'!$J$1:$J$5,0))):INDIRECT(\"'Input'!H\"&INDEX('Energinetdk rapport'!$L$1:$L$5,MATCH('Energinetdk rapport'!$I$3,'Energinetdk rapport'!$J$1:$J$5,0))), INDIRECT(\"'Input'!F\"&INDEX('Energinetdk rapport'!$K$1:$K$5,MATCH('Energinetdk rapport'!$I$3,'Energinetdk rapport'!$J$1:$J$5,0))):INDIRECT(\"'Input'!F\"&INDEX('Energinetdk rapport'!$L$1:$L$5,MATCH('Energinetdk rapport'!$I$3,'Energinetdk rapport'!$J$1:$J$5,0))), B9)","v":0},0]
[null," -             Kløvergræs","Kløvergræs","Helsæd fra konventionelle arealer i omdrift.\nOmfattet af begrænsningen for energiafgrøder, hvis afgrøden er etableret for mindre end 5 år siden.",{"$f":"IFERROR(AVERAGEIF(INDIRECT(\"'Input'!F\"&INDEX('Energinetdk rapport'!$K$1:$K$5,MATCH('Energinetdk rapport'!$I$3,'Energinetdk rapport'!$J$1:$J$5,0))):INDIRECT(\"'Input'!F\"&INDEX('Energinetdk rapport'!$L$1:$L$5,MATCH('Energinetdk rapport'!$I$3,'Energinetdk rapport'!$J$1:$J$5,0))),B10,INDIRECT(\"'Input'!J\"&INDEX('Energinetdk rapport'!$K$1:$K$5,MATCH('Energinetdk rapport'!$I$3,'Energinetdk rapport'!$J$1:$J$5,0))):INDIRECT(\"'Input'!J\"&INDEX('Energinetdk rapport'!$L$1:$L$5,MATCH('Energinetdk rapport'!$I$3,'Energinetdk rapport'!$J$1:$J$5,0)))),0)","v":0},{"$f":"SUMIFS(INDIRECT(\"'Input'!H\"&INDEX('Energinetdk rapport'!$K$1:$K$5,MATCH('Energinetdk rapport'!$I$3,'Energinetdk rapport'!$J$1:$J$5,0))):INDIRECT(\"'Input'!H\"&INDEX('Energinetdk rapport'!$L$1:$L$5,MATCH('Energinetdk rapport'!$I$3,'Energinetdk rapport'!$J$1:$J$5,0))), INDIRECT(\"'Input'!F\"&INDEX('Energinetdk rapport'!$K$1:$K$5,MATCH('Energinetdk rapport'!$I$3,'Energinetdk rapport'!$J$1:$J$5,0))):INDIRECT(\"'Input'!F\"&INDEX('Energinetdk rapport'!$L$1:$L$5,MATCH('Energinetdk rapport'!$I$3,'Energinetdk rapport'!$J$1:$J$5,0))), B10)","v":0},0]
[null," -             Jordskokker","Jordskokker","Rod. Omfattet af begrænsningen for energiafgrøder.",{"$f":"IFERROR(AVERAGEIF(INDIRECT(\"'Input'!F\"&INDEX('Energinetdk rapport'!$K$1:$K$5,MATCH('Energinetdk rapport'!$I$3,'Energinetdk rapport'!$J$1:$J$5,0))):INDIRECT(\"'Input'!F\"&INDEX('Energinetdk rapport'!$L$1:$L$5,MATCH('Energinetdk rapport'!$I$3,'Energinetdk rapport'!$J$1:$J$5,0))),B11,INDIRECT(\"'Input'!J\"&INDEX('Energinetdk rapport'!$K$1:$K$5,MATCH('Energinetdk rapport'!$I$3,'Energinetdk rapport'!$J$1:$J$5,0))):INDIRECT(\"'Input'!J\"&INDEX('Energinetdk rapport'!$L$1:$L$5,MATCH('Energinetdk rapport'!$I$3,'Energinetdk rapport'!$J$1:$J$5,0)))),0)","v":0},{"$f":"SUMIFS(INDIRECT(\"'Input'!H\"&INDEX('Energinetdk rapport'!$K$1:$K$5,MATCH('Energinetdk rapport'!$I$3,'Energinetdk rapport'!$J$1:$J$5,0))):INDIRECT(\"'Input'!H\"&INDEX('Energinetdk rapport'!$L$1:$L$5,MATCH('Energinetdk rapport'!$I$3,'Energinetdk rapport'!$J$1:$J$5,0))), INDIRECT(\"'Input'!F\"&INDEX('Energinetdk rapport'!$K$1:$K$5,MATCH('Energinetdk rapport'!$I$3,'Energinetdk rapport'!$J$1:$J$5,0))):INDIRECT(\"'Input'!F\"&INDEX('Energinetdk rapport'!$L$1:$L$5,MATCH('Energinetdk rapport'!$I$3,'Energinetdk rapport'!$J$1:$J$5,0))), B11)","v":0},0]
[null,null,null,"Husdyrgødning"]
[null," -             Kvæggylle","Kvæggylle",null,{"$f":"IFERROR(AVERAGEIF(INDIRECT(\"'Input'!F\"&INDEX('Energinetdk rapport'!$K$1:$K$5,MATCH('Energinetdk rapport'!$I$3,'Energinetdk rapport'!$J$1:$J$5,0))):INDIRECT(\"'Input'!F\"&INDEX('Energinetdk rapport'!$L$1:$L$5,MATCH('Energinetdk rapport'!$I$3,'Energinetdk rapport'!$J$1:$J$5,0))),B13,INDIRECT(\"'Input'!J\"&INDEX('Energinetdk rapport'!$K$1:$K$5,MATCH('Energinetdk rapport'!$I$3,'Energinetdk rapport'!$J$1:$J$5,0))):INDIRECT(\"'Input'!J\"&INDEX('Energinetdk rapport'!$L$1:$L$5,MATCH('Energinetdk rapport'!$I$3,'Energinetdk rapport'!$J$1:$J$5,0)))),0)","v":0},{"$f":"SUMIFS(INDIRECT(\"'Input'!H\"&INDEX('Energinetdk rapport'!$K$1:$K$5,MATCH('Energinetdk rapport'!$I$3,'Energinetdk rapport'!$J$1:$J$5,0))):INDIRECT(\"'Input'!H\"&INDEX('Energinetdk rapport'!$L$1:$L$5,MATCH('Energinetdk rapport'!$I$3,'Energinetdk rapport'!$J$1:$J$5,0))), INDIRECT(\"'Input'!F\"&INDEX('Energinetdk rapport'!$K$1:$K$5,MATCH('Energinetdk rapport'!$I$3,'Energinetdk rapport'!$J$1:$J$5,0))):INDIRECT(\"'Input'!F\"&INDEX('Energinetdk rapport'!$L$1:$L$5,MATCH('Energinetdk rapport'!$I$3,'Energinetdk rapport'!$J$1:$J$5,0))), B13)","v":0},{"$f":"IFERROR(F13/SUM($F$6:$F$128),0)","v":0}]
[null," -             Svinegylle","Svinegylle",null,{"$f":"IFERROR(AVERAGEIF(INDIRECT(\"'Input'!F\"&INDEX('Energinetdk rapport'!$K$1:$K$5,MATCH('Energinetdk rapport'!$I$3,'Energinetdk rapport'!$J$1:$J$5,0))):INDIRECT(\"'Input'!F\"&INDEX('Energinetdk rapport'!$L$1:$L$5,MATCH('Energinetdk rapport'!$I$3,'Energinetdk rapport'!$J$1:$J$5,0))),B14,INDIRECT(\"'Input'!J\"&INDEX('Energinetdk rapport'!$K$1:$K$5,MATCH('Energinetdk rapport'!$I$3,'Energinetdk rapport'!$J$1:$J$5,0))):INDIRECT(\"'Input'!J\"&INDEX('Energinetdk rapport'!$L$1:$L$5,MATCH('Energinetdk rapport'!$I$3,'Energinetdk rapport'!$J$1:$J$5,0)))),0)","v":0},{"$f":"SUMIFS(INDIRECT(\"'Input'!H\"&INDEX('Energinetdk rapport'!$K$1:$K$5,MATCH('Energinetdk rapport'!$I$3,'Energinetdk rapport'!$J$1:$J$5,0))):INDIRECT(\"'Input'!H\"&INDEX('Energinetdk rapport'!$L$1:$L$5,MATCH('Energinetdk rapport'!$I$3,'Energinetdk rapport'!$J$1:$J$5,0))), INDIRECT(\"'Input'!F\"&INDEX('Energinetdk rapport'!$K$1:$K$5,MATCH('Energinetdk rapport'!$I$3,'Energinetdk rapport'!$J$1:$J$5,0))):INDIRECT(\"'Input'!F\"&INDEX('Energinetdk rapport'!$L$1:$L$5,MATCH('Energinetdk rapport'!$I$3,'Energinetdk rapport'!$J$1:$J$5,0))), B14)","v":0},0]
[null," -             Minkgylle","Minkgylle",null,{"$f":"IFERROR(AVERAGEIF(INDIRECT(\"'Input'!F\"&INDEX('Energinetdk rapport'!$K$1:$K$5,MATCH('Energinetdk rapport'!$I$3,'Energinetdk rapport'!$J$1:$J$5,0))):INDIRECT(\"'Input'!F\"&INDEX('Energinetdk rapport'!$L$1:$L$5,MATCH('Energinetdk rapport'!$I$3,'Energinetdk rapport'!$J$1:$J$5,0))),B15,INDIRECT(\"'Input'!J\"&INDEX('Energinetdk rapport'!$K$1:$K$5,MATCH('Energinetdk rapport'!$I$3,'Energinetdk rapport'!$J$1:$J$5,0))):INDIRECT(\"'Input'!J\"&INDEX('Energinetdk rapport'!$L$1:$L$5,MATCH('Energinetdk rapport'!$I$3,'Energinetdk rapport'!$J$1:$J$5,0)))),0)","v":0},{"$f":"SUMIFS(INDIRECT(\"'Input'!H\"&INDEX('Energinetdk rapport'!$K$1:$K$5,MATCH('Energinetdk rapport'!$I$3,'Energinetdk rapport'!$J$1:$J$5,0))):INDIRECT(\"'Input'!H\"&INDEX('Energinetdk rapport'!$L$1:$L$5,MATCH('Energinetdk rapport'!$I$3,'Energinetdk rapport'!$J$1:$J$5,0))), INDIRECT(\"'Input'!F\"&INDEX('Energinetdk rapport'!$K$1:$K$5,MATCH('Energinetdk rapport'!$I$3,'Energinetdk rapport'!$J$1:$J$5,0))):INDIRECT(\"'Input'!F\"&INDEX('Energinetdk rapport'!$L$1:$L$5,MATCH('Energinetdk rapport'!$I$3,'Energinetdk rapport'!$J$1:$J$5,0))), B15)","v":0},0]
[null," -             Fjerkrægylle","Fjerkrægylle",null,{"$f":"IFERROR(AVERAGEIF(INDIRECT(\"'Input'!F\"&INDEX('Energinetdk rapport'!$K$1:$K$5,MATCH('Energinetdk rapport'!$I$3,'Energinetdk rapport'!$J$1:$J$5,0))):INDIRECT(\"'Input'!F\"&INDEX('Energinetdk rapport'!$L$1:$L$5,MATCH('Energinetdk rapport'!$I$3,'Energinetdk rapport'!$J$1:$J$5,0))),B16,INDIRECT(\"'Input'!J\"&INDEX('Energinetdk rapport'!$K$1:$K$5,MATCH('Energinetdk rapport'!$I$3,'Energinetdk rapport'!$J$1:$J$5,0))):INDIRECT(\"'Input'!J\"&INDEX('Energinetdk rapport'!$L$1:$L$5,MATCH('Energinetdk rapport'!$I$3,'Energinetdk rapport'!$J$1:$J$5,0)))),0)","v":0},{"$f":"SUMIFS(INDIRECT(\"'Input'!H\"&INDEX('Energinetdk rapport'!$K$1:$K$5,MATCH('Energinetdk rapport'!$I$3,'Energinetdk rapport'!$J$1:$J$5,0))):INDIRECT(\"'Input'!H\"&INDEX('Energinetdk rapport'!$L$1:$L$5,MATCH('Energinetdk rapport'!$I$3,'Energinetdk rapport'!$J$1:$J$5,0))), INDIRECT(\"'Input'!F\"&INDEX('Energinetdk rapport'!$K$1:$K$5,MATCH('Energinetdk rapport'!$I$3,'Energinetdk rapport'!$J$1:$J$5,0))):INDIRECT(\"'Input'!F\"&INDEX('Energinetdk rapport'!$L$1:$L$5,MATCH('Energinetdk rapport'!$I$3,'Energinetdk rapport'!$J$1:$J$5,0))), B16)","v":0},0]
[null," -             Blandet gylle","Blandet gylle",null,{"$f":"IFERROR(AVERAGEIF(INDIRECT(\"'Input'!F\"&INDEX('Energinetdk rapport'!$K$1:$K$5,MATCH('Energinetdk rapport'!$I$3,'Energinetdk rapport'!$J$1:$J$5,0))):INDIRECT(\"'Input'!F\"&INDEX('Energinetdk rapport'!$L$1:$L$5,MATCH('Energinetdk rapport'!$I$3,'Energinetdk rapport'!$J$1:$J$5,0))),B17,INDIRECT(\"'Input'!J\"&INDEX('Energinetdk rapport'!$K$1:$K$5,MATCH('Energinetdk rapport'!$I$3,'Energinetdk rapport'!$J$1:$J$5,0))):INDIRECT(\"'Input'!J\"&INDEX('Energinetdk rapport'!$L$1:$L$5,MATCH('Energinetdk rapport'!$I$3,'Energinetdk rapport'!$J$1:$J$5,0)))),0)","v":0},{"$f":"SUMIFS(INDIRECT(\"'Input'!H\"&INDEX('Energinetdk rapport'!$K$1:$K$5,MATCH('Energinetdk rapport'!$I$3,'Energinetdk rapport'!$J$1:$J$5,0))):INDIRECT(\"'Input'!H\"&INDEX('Energinetdk rapport'!$L$1:$L$5,MATCH('Energinetdk rapport'!$I$3,'Energinetdk rapport'!$J$1:$J$5,0))), INDIRECT(\"'Input'!F\"&INDEX('Energinetdk rapport'!$K$1:$K$5,MATCH('Energinetdk rapport'!$I$3,'Energinetdk rapport'!$J$1:$J$5,0))):INDIRECT(\"'Input'!F\"&INDEX('Energinetdk rapport'!$L$1:$L$5,MATCH('Energinetdk rapport'!$I$3,'Energinetdk rapport'!$J$1:$J$5,0))), B17)","v":0},0]
[null," -             Dybstrøelse - Kvæg","Dybstrøelse - Kvæg",null,{"$f":"IFERROR(AVERAGEIF(INDIRECT(\"'Input'!F\"&INDEX('Energinetdk rapport'!$K$1:$K$5,MATCH('Energinetdk rapport'!$I$3,'Energinetdk rapport'!$J$1:$J$5,0))):INDIRECT(\"'Input'!F\"&INDEX('Energinetdk rapport'!$L$1:$L$5,MATCH('Energinetdk rapport'!$I$3,'Energinetdk rapport'!$J$1:$J$5,0))),B18,INDIRECT(\"'Input'!J\"&INDEX('Energinetdk rapport'!$K$1:$K$5,MATCH('Energinetdk rapport'!$I$3,'Energinetdk rapport'!$J$1:$J$5,0))):INDIRECT(\"'Input'!J\"&INDEX('Energinetdk rapport'!$L$1:$L$5,MATCH('Energinetdk rapport'!$I$3,'Energinetdk rapport'!$J$1:$J$5,0)))),0)","v":0},{"$f":"SUMIFS(INDIRECT(\"'Input'!H\"&INDEX('Energinetdk rapport'!$K$1:$K$5,MATCH('Energinetdk rapport'!$I$3,'Energinetdk rapport'!$J$1:$J$5,0))):INDIRECT(\"'Input'!H\"&INDEX('Energinetdk rapport'!$L$1:$L$5,MATCH('Energinetdk rapport'!$I$3,'Energinetdk rapport'!$J$1:$J$5,0))), INDIRECT(\"'Input'!F\"&INDEX('Energinetdk rapport'!$K$1:$K$5,MATCH('Energinetdk rapport'!$I$3,'Energinetdk rapport'!$J$1:$J$5,0))):INDIRECT(\"'Input'!F\"&INDEX('Energinetdk rapport'!$L$1:$L$5,MATCH('Energinetdk rapport'!$I$3,'Energinetdk rapport'!$J$1:$J$5,0))), B18)","v":0},0]
[null," -             Dybstrøelse - Fjerkræ","Dybstrøelse - Fjerkræ",null,{"$f":"IFERROR(AVERAGEIF(INDIRECT(\"'Input'!F\"&INDEX('Energinetdk rapport'!$K$1:$K$5,MATCH('Energinetdk rapport'!$I$3,'Energinetdk rapport'!$J$1:$J$5,0))):INDIRECT(\"'Input'!F\"&INDEX('Energinetdk rapport'!$L$1:$L$5,MATCH('Energinetdk rapport'!$I$3,'Energinetdk rapport'!$J$1:$J$5,0))),B19,INDIRECT(\"'Input'!J\"&INDEX('Energinetdk rapport'!$K$1:$K$5,MATCH('Energinetdk rapport'!$I$3,'Energinetdk rapport'!$J$1:$J$5,0))):INDIRECT(\"'Input'!J\"&INDEX('Energinetdk rapport'!$L$1:$L$5,MATCH('Energinetdk rapport'!$I$3,'Energinetdk rapport'!$J$1:$J$5,0)))),0)","v":0},{"$f":"SUMIFS(INDIRECT(\"'Input'!H\"&INDEX('Energinetdk rapport'!$K$1:$K$5,MATCH('Energinetdk rapport'!$I$3,'Energinetdk rapport'!$J$1:$J$5,0))):INDIRECT(\"'Input'!H\"&INDEX('Energinetdk rapport'!$L$1:$L$5,MATCH('Energinetdk rapport'!$I$3,'Energinetdk rapport'!$J$1:$J$5,0))), INDIRECT(\"'Input'!F\"&INDEX('Energinetdk rapport'!$K$1:$K$5,MATCH('Energinetdk rapport'!$I$3,'Energinetdk rapport'!$J$1:$J$5,0))):INDIRECT(\"'Input'!F\"&INDEX('Energinetdk rapport'!$L$1:$L$5,MATCH('Energinetdk rapport'!$I$3,'Energinetdk rapport'!$J$1:$J$5,0))), B19)","v":0},0]
[null," -             Dybstrøelse - Andre typer","Dybstrøelse - Andre typer",null,{"$f":"IFERROR(AVERAGEIF(INDIRECT(\"'Input'!F\"&INDEX('Energinetdk rapport'!$K$1:$K$5,MATCH('Energinetdk rapport'!$I$3,'Energinetdk rapport'!$J$1:$J$5,0))):INDIRECT(\"'Input'!F\"&INDEX('Energinetdk rapport'!$L$1:$L$5,MATCH('Energinetdk rapport'!$I$3,'Energinetdk rapport'!$J$1:$J$5,0))),B20,INDIRECT(\"'Input'!J\"&INDEX('Energinetdk rapport'!$K$1:$K$5,MATCH('Energinetdk rapport'!$I$3,'Energinetdk rapport'!$J$1:$J$5,0))):INDIRECT(\"'Input'!J\"&INDEX('Energinetdk rapport'!$L$1:$L$5,MATCH('Energinetdk rapport'!$I$3,'Energinetdk rapport'!$J$1:$J$5,0)))),0)","v":0},{"$f":"SUMIFS(INDIRECT(\"'Input'!H\"&INDEX('Energinetdk rapport'!$K$1:$K$5,MATCH('Energinetdk rapport'!$I$3,'Energinetdk rapport'!$J$1:$J$5,0))):INDIRECT(\"'Input'!H\"&INDEX('Energinetdk rapport'!$L$1:$L$5,MATCH('Energinetdk rapport'!$I$3,'Energinetdk rapport'!$J$1:$J$5,0))), INDIRECT(\"'Input'!F\"&INDEX('Energinetdk rapport'!$K$1:$K$5,MATCH('Energinetdk rapport'!$I$3,'Energinetdk rapport'!$J$1:$J$5,0))):INDIRECT(\"'Input'!F\"&INDEX('Energinetdk rapport'!$L$1:$L$5,MATCH('Energinetdk rapport'!$I$3,'Energinetdk rapport'!$J$1:$J$5,0))), B20)","v":0},0]
[null," -             Fast gødning","Fast gødning",null,{"$f":"IFERROR(AVERAGEIF(INDIRECT(\"'Input'!F\"&INDEX('Energinetdk rapport'!$K$1:$K$5,MATCH('Energinetdk rapport'!$I$3,'Energinetdk rapport'!$J$1:$J$5,0))):INDIRECT(\"'Input'!F\"&INDEX('Energinetdk rapport'!$L$1:$L$5,MATCH('Energinetdk rapport'!$I$3,'Energinetdk rapport'!$J$1:$J$5,0))),B21,INDIRECT(\"'Input'!J\"&INDEX('Energinetdk rapport'!$K$1:$K$5,MATCH('Energinetdk rapport'!$I$3,'Energinetdk rapport'!$J$1:$J$5,0))):INDIRECT(\"'Input'!J\"&INDEX('Energinetdk rapport'!$L$1:$L$5,MATCH('Energinetdk rapport'!$I$3,'Energinetdk rapport'!$J$1:$J$5,0)))),0)","v":0},{"$f":"SUMIFS(INDIRECT(\"'Input'!H\"&INDEX('Energinetdk rapport'!$K$1:$K$5,MATCH('Energinetdk rapport'!$I$3,'Energinetdk rapport'!$J$1:$J$5,0))):INDIRECT(\"'Input'!H\"&INDEX('Energinetdk rapport'!$L$1:$L$5,MATCH('Energinetdk rapport'!$I$3,'Energinetdk rapport'!$J$1:$J$5,0))), INDIRECT(\"'Input'!F\"&INDEX('Energinetdk rapport'!$K$1:$K$5,MATCH('Energinetdk rapport'!$I$3,'Energinetdk rapport'!$J$1:$J$5,0))):INDIRECT(\"'Input'!F\"&INDEX('Energinetdk rapport'!$L$1:$L$5,MATCH('Energinetdk rapport'!$I$3,'Energinetdk rapport'!$J$1:$J$5,0))), B21)","v":0},0]
[null," -             Ajle","Ajle",null,{"$f":"IFERROR(AVERAGEIF(INDIRECT(\"'Input'!F\"&INDEX('Energinetdk rapport'!$K$1:$K$5,MATCH('Energinetdk rapport'!$I$3,'Energinetdk rapport'!$J$1:$J$5,0))):INDIRECT(\"'Input'!F\"&INDEX('Energinetdk rapport'!$L$1:$L$5,MATCH('Energinetdk rapport'!$I$3,'Energinetdk rapport'!$J$1:$J$5,0))),B22,INDIRECT(\"'Input'!J\"&INDEX('Energinetdk rapport'!$K$1:$K$5,MATCH('Energinetdk rapport'!$I$3,'Energinetdk rapport'!$J$1:$J$5,0))):INDIRECT(\"'Input'!J\"&INDEX('Energinetdk rapport'!$L$1:$L$5,MATCH('Energinetdk rapport'!$I$3,'Energinetdk rapport'!$J$1:$J$5,0)))),0)","v":0},{"$f":"SUMIFS(INDIRECT(\"'Input'!H\"&INDEX('Energinetdk rapport'!$K$1:$K$5,MATCH('Energinetdk rapport'!$I$3,'Energinetdk rapport'!$J$1:$J$5,0))):INDIRECT(\"'Input'!H\"&INDEX('Energinetdk rapport'!$L$1:$L$5,MATCH('Energinetdk rapport'!$I$3,'Energinetdk rapport'!$J$1:$J$5,0))), INDIRECT(\"'Input'!F\"&INDEX('Energinetdk rapport'!$K$1:$K$5,MATCH('Energinetdk rapport'!$I$3,'Energinetdk rapport'!$J$1:$J$5,0))):INDIRECT(\"'Input'!F\"&INDEX('Energinetdk rapport'!$L$1:$L$5,MATCH('Energinetdk rapport'!$I$3,'Energinetdk rapport'!$J$1:$J$5,0))), B22)","v":0},0]
[null," -             Fiberfraktion","Fiberfraktion","Fiberfraktion fra separeret husdyrgødning",{"$f":"IFERROR(AVERAGEIF(INDIRECT(\"'Input'!F\"&INDEX('Energinetdk rapport'!$K$1:$K$5,MATCH('Energinetdk rapport'!$I$3,'Energinetdk rapport'!$J$1:$J$5,0))):INDIRECT(\"'Input'!F\"&INDEX('Energinetdk rapport'!$L$1:$L$5,MATCH('Energinetdk rapport'!$I$3,'Energinetdk rapport'!$J$1:$J$5,0))),B23,INDIRECT(\"'Input'!J\"&INDEX('Energinetdk rapport'!$K$1:$K$5,MATCH('Energinetdk rapport'!$I$3,'Energinetdk rapport'!$J$1:$J$5,0))):INDIRECT(\"'Input'!J\"&INDEX('Energinetdk rapport'!$L$1:$L$5,MATCH('Energinetdk rapport'!$I$3,'Energinetdk rapport'!$J$1:$J$5,0)))),0)","v":0},{"$f":"SUMIFS(INDIRECT(\"'Input'!H\"&INDEX('Energinetdk rapport'!$K$1:$K$5,MATCH('Energinetdk rapport'!$I$3,'Energinetdk rapport'!$J$1:$J$5,0))):INDIRECT(\"'Input'!H\"&INDEX('Energinetdk rapport'!$L$1:$L$5,MATCH('Energinetdk rapport'!$I$3,'Energinetdk rapport'!$J$1:$J$5,0))), INDIRECT(\"'Input'!F\"&INDEX('Energinetdk rapport'!$K$1:$K$5,MATCH('Energinetdk rapport'!$I$3,'Energinetdk rapport'!$J$1:$J$5,0))):INDIRECT(\"'Input'!F\"&INDEX('Energinetdk rapport'!$L$1:$L$5,MATCH('Energinetdk rapport'!$I$3,'Energinetdk rapport'!$J$1:$J$5,0))), B23)","v":0},0]
[null," -             Flydende fraktion fra separationsanlæg eller biogasanlæg","Flydende fraktion fra separationsanlæg eller biogasanlæg","Væskefraktion fra separeret husdyrgødning.",{"$f":"IFERROR(AVERAGEIF(INDIRECT(\"'Input'!F\"&INDEX('Energinetdk rapport'!$K$1:$K$5,MATCH('Energinetdk rapport'!$I$3,'Energinetdk rapport'!$J$1:$J$5,0))):INDIRECT(\"'Input'!F\"&INDEX('Energinetdk rapport'!$L$1:$L$5,MATCH('Energinetdk rapport'!$I$3,'Energinetdk rapport'!$J$1:$J$5,0))),B24,INDIRECT(\"'Input'!J\"&INDEX('Energinetdk rapport'!$K$1:$K$5,MATCH('Energinetdk rapport'!$I$3,'Energinetdk rapport'!$J$1:$J$5,0))):INDIRECT(\"'Input'!J\"&INDEX('Energinetdk rapport'!$L$1:$L$5,MATCH('Energinetdk rapport'!$I$3,'Energinetdk rapport'!$J$1:$J$5,0)))),0)","v":0},{"$f":"SUMIFS(INDIRECT(\"'Input'!H\"&INDEX('Energinetdk rapport'!$K$1:$K$5,MATCH('Energinetdk rapport'!$I$3,'Energinetdk rapport'!$J$1:$J$5,0))):INDIRECT(\"'Input'!H\"&INDEX('Energinetdk rapport'!$L$1:$L$5,MATCH('Energinetdk rapport'!$I$3,'Energinetdk rapport'!$J$1:$J$5,0))), INDIRECT(\"'Input'!F\"&INDEX('Energinetdk rapport'!$K$1:$K$5,MATCH('Energinetdk rapport'!$I$3,'Energinetdk rapport'!$J$1:$J$5,0))):INDIRECT(\"'Input'!F\"&INDEX('Energinetdk rapport'!$L$1:$L$5,MATCH('Energinetdk rapport'!$I$3,'Energinetdk rapport'!$J$1:$J$5,0))), B24)","v":0},0]
[null," -             Flydende fraktion","Flydende fraktion","Væskefraktion fra separeret husdyrgødning, hvor fiberfraktionen afbrændes",{"$f":"IFERROR(AVERAGEIF(INDIRECT(\"'Input'!F\"&INDEX('Energinetdk rapport'!$K$1:$K$5,MATCH('Energinetdk rapport'!$I$3,'Energinetdk rapport'!$J$1:$J$5,0))):INDIRECT(\"'Input'!F\"&INDEX('Energinetdk rapport'!$L$1:$L$5,MATCH('Energinetdk rapport'!$I$3,'Energinetdk rapport'!$J$1:$J$5,0))),B25,INDIRECT(\"'Input'!J\"&INDEX('Energinetdk rapport'!$K$1:$K$5,MATCH('Energinetdk rapport'!$I$3,'Energinetdk rapport'!$J$1:$J$5,0))):INDIRECT(\"'Input'!J\"&INDEX('Energinetdk rapport'!$L$1:$L$5,MATCH('Energinetdk rapport'!$I$3,'Energinetdk rapport'!$J$1:$J$5,0)))),0)","v":0},{"$f":"SUMIFS(INDIRECT(\"'Input'!H\"&INDEX('Energinetdk rapport'!$K$1:$K$5,MATCH('Energinetdk rapport'!$I$3,'Energinetdk rapport'!$J$1:$J$5,0))):INDIRECT(\"'Input'!H\"&INDEX('Energinetdk rapport'!$L$1:$L$5,MATCH('Energinetdk rapport'!$I$3,'Energinetdk rapport'!$J$1:$J$5,0))), INDIRECT(\"'Input'!F\"&INDEX('Energinetdk rapport'!$K$1:$K$5,MATCH('Energinetdk rapport'!$I$3,'Energinetdk rapport'!$J$1:$J$5,0))):INDIRECT(\"'Input'!F\"&INDEX('Energinetdk rapport'!$L$1:$L$5,MATCH('Energinetdk rapport'!$I$3,'Energinetdk rapport'!$J$1:$J$5,0))), B25)","v":0},0]
[null,null,"Husdyrsgødning til forbrændinganlæg",null,{"$f":"IFERROR(AVERAGEIF(INDIRECT(\"'Input'!F\"&INDEX('Energinetdk rapport'!$K$1:$K$5,MATCH('Energinetdk rapport'!$I$3,'Energinetdk rapport'!$J$1:$J$5,0))):INDIRECT(\"'Input'!F\"&INDEX('Energinetdk rapport'!$L$1:$L$5,MATCH('Energinetdk rapport'!$I$3,'Energinetdk rapport'!$J$1:$J$5,0))),B26,INDIRECT(\"'Input'!J\"&INDEX('Energinetdk rapport'!$K$1:$K$5,MATCH('Energinetdk rapport'!$I$3,'Energinetdk rapport'!$J$1:$J$5,0))):INDIRECT(\"'Input'!J\"&INDEX('Energinetdk rapport'!$L$1:$L$5,MATCH('Energinetdk rapport'!$I$3,'Energinetdk rapport'!$J$1:$J$5,0)))),0)","v":0},{"$f":"SUMIFS(INDIRECT(\"'Input'!H\"&INDEX('Energinetdk rapport'!$K$1:$K$5,MATCH('Energinetdk rapport'!$I$3,'Energinetdk rapport'!$J$1:$J$5,0))):INDIRECT(\"'Input'!H\"&INDEX('Energinetdk rapport'!$L$1:$L$5,MATCH('Energinetdk rapport'!$I$3,'Energinetdk rapport'!$J$1:$J$5,0))), INDIRECT(\"'Input'!F\"&INDEX('Energinetdk rapport'!$K$1:$K$5,MATCH('Energinetdk rapport'!$I$3,'Energinetdk rapport'!$J$1:$J$5,0))):INDIRECT(\"'Input'!F\"&INDEX('Energinetdk rapport'!$L$1:$L$5,MATCH('Energinetdk rapport'!$I$3,'Energinetdk rapport'!$J$1:$J$5,0))), B26)","v":0},0]
[null,null,null,"Andre biomasser"]
[null," -             Slam og spildevand samt uforurenede produktrester","Slam og spildevand samt uforurenede produktrester","Slam og spildevand samt uforurenede produktrester fra forarbejdning af vegetabilske råvarer samt slam og spildevand fra mejerier.",{"$f":"IFERROR(AVERAGEIF(INDIRECT(\"'Input'!F\"&INDEX('Energinetdk rapport'!$K$1:$K$5,MATCH('Energinetdk rapport'!$I$3,'Energinetdk rapport'!$J$1:$J$5,0))):INDIRECT(\"'Input'!F\"&INDEX('Energinetdk rapport'!$L$1:$L$5,MATCH('Energinetdk rapport'!$I$3,'Energinetdk rapport'!$J$1:$J$5,0))),B28,INDIRECT(\"'Input'!J\"&INDEX('Energinetdk rapport'!$K$1:$K$5,MATCH('Energinetdk rapport'!$I$3,'Energinetdk rapport'!$J$1:$J$5,0))):INDIRECT(\"'Input'!J\"&INDEX('Energinetdk rapport'!$L$1:$L$5,MATCH('Energinetdk rapport'!$I$3,'Energinetdk rapport'!$J$1:$J$5,0)))),0)","v":0},{"$f":"SUMIFS(INDIRECT(\"'Input'!H\"&INDEX('Energinetdk rapport'!$K$1:$K$5,MATCH('Energinetdk rapport'!$I$3,'Energinetdk rapport'!$J$1:$J$5,0))):INDIRECT(\"'Input'!H\"&INDEX('Energinetdk rapport'!$L$1:$L$5,MATCH('Energinetdk rapport'!$I$3,'Energinetdk rapport'!$J$1:$J$5,0))), INDIRECT(\"'Input'!F\"&INDEX('Energinetdk rapport'!$K$1:$K$5,MATCH('Energinetdk rapport'!$I$3,'Energinetdk rapport'!$J$1:$J$5,0))):INDIRECT(\"'Input'!F\"&INDEX('Energinetdk rapport'!$L$1:$L$5,MATCH('Energinetdk rapport'!$I$3,'Energinetdk rapport'!$J$1:$J$5,0))), B28)","v":0},{"$f":"IFERROR(F28/SUM($F$6:$F$128),0)","v":0}]
[null," -             Slam fra dambrug","Slam fra dambrug"," - Slam fra ferskvandsdambrug samt slam og spildevand fra recirkulerede anlæg til opdræt af fisk. \n - Slam fra indpumpningsdambrug.",{"$f":"IFERROR(AVERAGEIF(INDIRECT(\"'Input'!F\"&INDEX('Energinetdk rapport'!$K$1:$K$5,MATCH('Energinetdk rapport'!$I$3,'Energinetdk rapport'!$J$1:$J$5,0))):INDIRECT(\"'Input'!F\"&INDEX('Energinetdk rapport'!$L$1:$L$5,MATCH('Energinetdk rapport'!$I$3,'Energinetdk rapport'!$J$1:$J$5,0))),B29,INDIRECT(\"'Input'!J\"&INDEX('Energinetdk rapport'!$K$1:$K$5,MATCH('Energinetdk rapport'!$I$3,'Energinetdk rapport'!$J$1:$J$5,0))):INDIRECT(\"'Input'!J\"&INDEX('Energinetdk rapport'!$L$1:$L$5,MATCH('Energinetdk rapport'!$I$3,'Energinetdk rapport'!$J$1:$J$5,0)))),0)","v":0},{"$f":"SUMIFS(INDIRECT(\"'Input'!H\"&INDEX('Energinetdk rapport'!$K$1:$K$5,MATCH('Energinetdk rapport'!$I$3,'Energinetdk rapport'!$J$1:$J$5,0))):INDIRECT(\"'Input'!H\"&INDEX('Energinetdk rapport'!$L$1:$L$5,MATCH('Energinetdk rapport'!$I$3,'Energinetdk rapport'!$J$1:$J$5,0))), INDIRECT(\"'Input'!F\"&INDEX('Energinetdk rapport'!$K$1:$K$5,MATCH('Energinetdk rapport'!$I$3,'Energinetdk rapport'!$J$1:$J$5,0))):INDIRECT(\"'Input'!F\"&INDEX('Energinetdk rapport'!$L$1:$L$5,MATCH('Energinetdk rapport'!$I$3,'Energinetdk rapport'!$J$1:$J$5,0))), B29)","v":0},{"$f":"IFERROR(F29/SUM($F$6:$F$128),0)","v":0}]
[]
[]
[null," -             Slam fra forarbejdning af animalske råvarer","Slam fra forarbejdning af animalske råvarer"," - Slam og flotationsfedt fra renseanlæg på slagterier, opskæringsvirksomheder og andre levnedmiddelvirksomheder.\n - Slam og flotationsfedt fra rensningsanlæg på fiskeindustrier.",{"$f":"IFERROR(AVERAGEIF(INDIRECT(\"'Input'!F\"&INDEX('Energinetdk rapport'!$K$1:$K$5,MATCH('Energinetdk rapport'!$I$3,'Energinetdk rapport'!$J$1:$J$5,0))):INDIRECT(\"'Input'!F\"&INDEX('Energinetdk rapport'!$L$1:$L$5,MATCH('Energinetdk rapport'!$I$3,'Energinetdk rapport'!$J$1:$J$5,0))),B32,INDIRECT(\"'Input'!J\"&INDEX('Energinetdk rapport'!$K$1:$K$5,MATCH('Energinetdk rapport'!$I$3,'Energinetdk rapport'!$J$1:$J$5,0))):INDIRECT(\"'Input'!J\"&INDEX('Energinetdk rapport'!$L$1:$L$5,MATCH('Energinetdk rapport'!$I$3,'Energinetdk rapport'!$J$1:$J$5,0)))),0)","v":0},{"$f":"SUMIFS(INDIRECT(\"'Input'!H\"&INDEX('Energinetdk rapport'!$K$1:$K$5,MATCH('Energinetdk rapport'!$I$3,'Energinetdk rapport'!$J$1:$J$5,0))):INDIRECT(\"'Input'!H\"&INDEX('Energinetdk rapport'!$L$1:$L$5,MATCH('Energinetdk rapport'!$I$3,'Energinetdk rapport'!$J$1:$J$5,0))), INDIRECT(\"'Input'!F\"&INDEX('Energinetdk rapport'!$K$1:$K$5,MATCH('Energinetdk rapport'!$I$3,'Energinetdk rapport'!$J$1:$J$5,0))):INDIRECT(\"'Input'!F\"&INDEX('Energinetdk rapport'!$L$1:$L$5,MATCH('Energinetdk rapport'!$I$3,'Energinetdk rapport'!$J$1:$J$5,0))), B32)","v":0},{"$f":"IFERROR(F32/SUM($F$6:$F$128),0)","v":0}]
[null," -             Spildevandsslam","Spildevandsslam"," - Slam fra offentlige spildevandsanlæg\n - Slam fra private rensningsanlæg til behandling af husspildevand",{"$f":"IFERROR(AVERAGEIF(INDIRECT(\"'Input'!F\"&INDEX('Energinetdk rapport'!$K$1:$K$5,MATCH('Energinetdk rapport'!$I$3,'Energinetdk rapport'!$J$1:$J$5,0))):INDIRECT(\"'Input'!F\"&INDEX('Energinetdk rapport'!$L$1:$L$5,MATCH('Energinetdk rapport'!$I$3,'Energinetdk rapport'!$J$1:$J$5,0))),B33,INDIRECT(\"'Input'!J\"&INDEX('Energinetdk rapport'!$K$1:$K$5,MATCH('Energinetdk rapport'!$I$3,'Energinetdk rapport'!$J$1:$J$5,0))):INDIRECT(\"'Input'!J\"&INDEX('Energinetdk rapport'!$L$1:$L$5,MATCH('Energinetdk rapport'!$I$3,'Energinetdk rapport'!$J$1:$J$5,0)))),0)","v":0},{"$f":"SUMIFS(INDIRECT(\"'Input'!H\"&INDEX('Energinetdk rapport'!$K$1:$K$5,MATCH('Energinetdk rapport'!$I$3,'Energinetdk rapport'!$J$1:$J$5,0))):INDIRECT(\"'Input'!H\"&INDEX('Energinetdk rapport'!$L$1:$L$5,MATCH('Energinetdk rapport'!$I$3,'Energinetdk rapport'!$J$1:$J$5,0))), INDIRECT(\"'Input'!F\"&INDEX('Energinetdk rapport'!$K$1:$K$5,MATCH('Energinetdk rapport'!$I$3,'Energinetdk rapport'!$J$1:$J$5,0))):INDIRECT(\"'Input'!F\"&INDEX('Energinetdk rapport'!$L$1:$L$5,MATCH('Energinetdk rapport'!$I$3,'Energinetdk rapport'!$J$1:$J$5,0))), B33)","v":0},0]
[null," -             Kildesorteret organisk dagrenovation og renovationslignende affald","Kildesorteret organisk dagrenovation og renovationslignende affald.","Kildesorteret organisk dagrenovation og dagrenovationslignende affald herunder madaffald fra storkøkkener indsamlet med organisk dagrenovation og madaffald fra institutioner.",{"$f":"IFERROR(AVERAGEIF(INDIRECT(\"'Input'!F\"&INDEX('Energinetdk rapport'!$K$1:$K$5,MATCH('Energinetdk rapport'!$I$3,'Energinetdk rapport'!$J$1:$J$5,0))):INDIRECT(\"'Input'!F\"&INDEX('Energinetdk rapport'!$L$1:$L$5,MATCH('Energinetdk rapport'!$I$3,'Energinetdk rapport'!$J$1:$J$5,0))),B34,INDIRECT(\"'Input'!J\"&INDEX('Energinetdk rapport'!$K$1:$K$5,MATCH('Energinetdk rapport'!$I$3,'Energinetdk rapport'!$J$1:$J$5,0))):INDIRECT(\"'Input'!J\"&INDEX('Energinetdk rapport'!$L$1:$L$5,MATCH('Energinetdk rapport'!$I$3,'Energinetdk rapport'!$J$1:$J$5,0)))),0)","v":0},{"$f":"SUMIFS(INDIRECT(\"'Input'!H\"&INDEX('Energinetdk rapport'!$K$1:$K$5,MATCH('Energinetdk rapport'!$I$3,'Energinetdk rapport'!$J$1:$J$5,0))):INDIRECT(\"'Input'!H\"&INDEX('Energinetdk rapport'!$L$1:$L$5,MATCH('Energinetdk rapport'!$I$3,'Energinetdk rapport'!$J$1:$J$5,0))), INDIRECT(\"'Input'!F\"&INDEX('Energinetdk rapport'!$K$1:$K$5,MATCH('Energinetdk rapport'!$I$3,'Energinetdk rapport'!$J$1:$J$5,0))):INDIRECT(\"'Input'!F\"&INDEX('Energinetdk rapport'!$L$1:$L$5,MATCH('Energinetdk rapport'!$I$3,'Energinetdk rapport'!$J$1:$J$5,0))), B34)","v":0},0]
[null," -             Vinasse (2,2 pct. kvælstof)","Vinasse (2,2 pct. kvælstof)",null,{"$f":"IFERROR(AVERAGEIF(INDIRECT(\"'Input'!F\"&INDEX('Energinetdk rapport'!$K$1:$K$5,MATCH('Energinetdk rapport'!$I$3,'Energinetdk rapport'!$J$1:$J$5,0))):INDIRECT(\"'Input'!F\"&INDEX('Energinetdk rapport'!$L$1:$L$5,MATCH('Energinetdk rapport'!$I$3,'Energinetdk rapport'!$J$1:$J$5,0))),B35,INDIRECT(\"'Input'!J\"&INDEX('Energinetdk rapport'!$K$1:$K$5,MATCH('Energinetdk rapport'!$I$3,'Energinetdk rapport'!$J$1:$J$5,0))):INDIRECT(\"'Input'!J\"&INDEX('Energinetdk rapport'!$L$1:$L$5,MATCH('Energinetdk rapport'!$I$3,'Energinetdk rapport'!$J$1:$J$5,0)))),0)","v":0},{"$f":"SUMIFS(INDIRECT(\"'Input'!H\"&INDEX('Energinetdk rapport'!$K$1:$K$5,MATCH('Energinetdk rapport'!$I$3,'Energinetdk rapport'!$J$1:$J$5,0))):INDIRECT(\"'Input'!H\"&INDEX('Energinetdk rapport'!$L$1:$L$5,MATCH('Energinetdk rapport'!$I$3,'Energinetdk rapport'!$J$1:$J$5,0))), INDIRECT(\"'Input'!F\"&INDEX('Energinetdk rapport'!$K$1:$K$5,MATCH('Energinetdk rapport'!$I$3,'Energinetdk rapport'!$J$1:$J$5,0))):INDIRECT(\"'Input'!F\"&INDEX('Energinetdk rapport'!$L$1:$L$5,MATCH('Energinetdk rapport'!$I$3,'Energinetdk rapport'!$J$1:$J$5,0))), B35)","v":0},0]
[null," -             Vinasse (3,5 pct. kvælstof)","Vinasse (3,5 pct. kvælstof)",null,{"$f":"IFERROR(AVERAGEIF(INDIRECT(\"'Input'!F\"&INDEX('Energinetdk rapport'!$K$1:$K$5,MATCH('Energinetdk rapport'!$I$3,'Energinetdk rapport'!$J$1:$J$5,0))):INDIRECT(\"'Input'!F\"&INDEX('Energinetdk rapport'!$L$1:$L$5,MATCH('Energinetdk rapport'!$I$3,'Energinetdk rapport'!$J$1:$J$5,0))),B36,INDIRECT(\"'Input'!J\"&INDEX('Energinetdk rapport'!$K$1:$K$5,MATCH('Energinetdk rapport'!$I$3,'Energinetdk rapport'!$J$1:$J$5,0))):INDIRECT(\"'Input'!J\"&INDEX('Energinetdk rapport'!$L$1:$L$5,MATCH('Energinetdk rapport'!$I$3,'Energinetdk rapport'!$J$1:$J$5,0)))),0)","v":0},{"$f":"SUMIFS(INDIRECT(\"'Input'!H\"&INDEX('Energinetdk rapport'!$K$1:$K$5,MATCH('Energinetdk rapport'!$I$3,'Energinetdk rapport'!$J$1:$J$5,0))):INDIRECT(\"'Input'!H\"&INDEX('Energinetdk rapport'!$L$1:$L$5,MATCH('Energinetdk rapport'!$I$3,'Energinetdk rapport'!$J$1:$J$5,0))), INDIRECT(\"'Input'!F\"&INDEX('Energinetdk rapport'!$K$1:$K$5,MATCH('Energinetdk rapport'!$I$3,'Energinetdk rapport'!$J$1:$J$5,0))):INDIRECT(\"'Input'!F\"&INDEX('Energinetdk rapport'!$L$1:$L$5,MATCH('Energinetdk rapport'!$I$3,'Energinetdk rapport'!$J$1:$J$5,0))), B36)","v":0},0]
[null," -             Kartoffelfrugtsaft","Kartoffelfrugtsaft","Græsslet og anden biomasse fra naturarealer, der fremkommer ved naturpleje.",{"$f":"IFERROR(AVERAGEIF(INDIRECT(\"'Input'!F\"&INDEX('Energinetdk rapport'!$K$1:$K$5,MATCH('Energinetdk rapport'!$I$3,'Energinetdk rapport'!$J$1:$J$5,0))):INDIRECT(\"'Input'!F\"&INDEX('Energinetdk rapport'!$L$1:$L$5,MATCH('Energinetdk rapport'!$I$3,'Energinetdk rapport'!$J$1:$J$5,0))),B37,INDIRECT(\"'Input'!J\"&INDEX('Energinetdk rapport'!$K$1:$K$5,MATCH('Energinetdk rapport'!$I$3,'Energinetdk rapport'!$J$1:$J$5,0))):INDIRECT(\"'Input'!J\"&INDEX('Energinetdk rapport'!$L$1:$L$5,MATCH('Energinetdk rapport'!$I$3,'Energinetdk rapport'!$J$1:$J$5,0)))),0)","v":0},{"$f":"SUMIFS(INDIRECT(\"'Input'!H\"&INDEX('Energinetdk rapport'!$K$1:$K$5,MATCH('Energinetdk rapport'!$I$3,'Energinetdk rapport'!$J$1:$J$5,0))):INDIRECT(\"'Input'!H\"&INDEX('Energinetdk rapport'!$L$1:$L$5,MATCH('Energinetdk rapport'!$I$3,'Energinetdk rapport'!$J$1:$J$5,0))), INDIRECT(\"'Input'!F\"&INDEX('Energinetdk rapport'!$K$1:$K$5,MATCH('Energinetdk rapport'!$I$3,'Energinetdk rapport'!$J$1:$J$5,0))):INDIRECT(\"'Input'!F\"&INDEX('Energinetdk rapport'!$L$1:$L$5,MATCH('Energinetdk rapport'!$I$3,'Energinetdk rapport'!$J$1:$J$5,0))), B37)","v":0},0]
[null," -             Pressesaft fra grøntpilleproduktion","Pressesaft fra grøntpilleproduktion",null,{"$f":"IFERROR(AVERAGEIF(INDIRECT(\"'Input'!F\"&INDEX('Energinetdk rapport'!$K$1:$K$5,MATCH('Energinetdk rapport'!$I$3,'Energinetdk rapport'!$J$1:$J$5,0))):INDIRECT(\"'Input'!F\"&INDEX('Energinetdk rapport'!$L$1:$L$5,MATCH('Energinetdk rapport'!$I$3,'Energinetdk rapport'!$J$1:$J$5,0))),B38,INDIRECT(\"'Input'!J\"&INDEX('Energinetdk rapport'!$K$1:$K$5,MATCH('Energinetdk rapport'!$I$3,'Energinetdk rapport'!$J$1:$J$5,0))):INDIRECT(\"'Input'!J\"&INDEX('Energinetdk rapport'!$L$1:$L$5,MATCH('Energinetdk rapport'!$I$3,'Energinetdk rapport'!$J$1:$J$5,0)))),0)","v":0},{"$f":"SUMIFS(INDIRECT(\"'Input'!H\"&INDEX('Energinetdk rapport'!$K$1:$K$5,MATCH('Energinetdk rapport'!$I$3,'Energinetdk rapport'!$J$1:$J$5,0))):INDIRECT(\"'Input'!H\"&INDEX('Energinetdk rapport'!$L$1:$L$5,MATCH('Energinetdk rapport'!$I$3,'Energinetdk rapport'!$J$1:$J$5,0))), INDIRECT(\"'Input'!F\"&INDEX('Energinetdk rapport'!$K$1:$K$5,MATCH('Energinetdk rapport'!$I$3,'Energinetdk rapport'!$J$1:$J$5,0))):INDIRECT(\"'Input'!F\"&INDEX('Energinetdk rapport'!$L$1:$L$5,MATCH('Energinetdk rapport'!$I$3,'Energinetdk rapport'!$J$1:$J$5,0))), B38)","v":0},0]
[null," -             Økologisk kløvergræs","Økologisk kløvergræs","Kløvergræs (helsæd) fra økologisk bedrifter er ikke omfattet af begrænsningen for energiafgrøder til biogas.",{"$f":"IFERROR(AVERAGEIF(INDIRECT(\"'Input'!F\"&INDEX('Energinetdk rapport'!$K$1:$K$5,MATCH('Energinetdk rapport'!$I$3,'Energinetdk rapport'!$J$1:$J$5,0))):INDIRECT(\"'Input'!F\"&INDEX('Energinetdk rapport'!$L$1:$L$5,MATCH('Energinetdk rapport'!$I$3,'Energinetdk rapport'!$J$1:$J$5,0))),B39,INDIRECT(\"'Input'!J\"&INDEX('Energinetdk rapport'!$K$1:$K$5,MATCH('Energinetdk rapport'!$I$3,'Energinetdk rapport'!$J$1:$J$5,0))):INDIRECT(\"'Input'!J\"&INDEX('Energinetdk rapport'!$L$1:$L$5,MATCH('Energinetdk rapport'!$I$3,'Energinetdk rapport'!$J$1:$J$5,0)))),0)","v":0},{"$f":"SUMIFS(INDIRECT(\"'Input'!H\"&INDEX('Energinetdk rapport'!$K$1:$K$5,MATCH('Energinetdk rapport'!$I$3,'Energinetdk rapport'!$J$1:$J$5,0))):INDIRECT(\"'Input'!H\"&INDEX('Energinetdk rapport'!$L$1:$L$5,MATCH('Energinetdk rapport'!$I$3,'Energinetdk rapport'!$J$1:$J$5,0))), INDIRECT(\"'Input'!F\"&INDEX('Energinetdk rapport'!$K$1:$K$5,MATCH('Energinetdk rapport'!$I$3,'Energinetdk rapport'!$J$1:$J$5,0))):INDIRECT(\"'Input'!F\"&INDEX('Energinetdk rapport'!$L$1:$L$5,MATCH('Energinetdk rapport'!$I$3,'Energinetdk rapport'!$J$1:$J$5,0))), B39)","v":0},0]
[null," -             Naturpleje biomasse","Naturpleje biomasse",null,{"$f":"IFERROR(AVERAGEIF(INDIRECT(\"'Input'!F\"&INDEX('Energinetdk rapport'!$K$1:$K$5,MATCH('Energinetdk rapport'!$I$3,'Energinetdk rapport'!$J$1:$J$5,0))):INDIRECT(\"'Input'!F\"&INDEX('Energinetdk rapport'!$L$1:$L$5,MATCH('Energinetdk rapport'!$I$3,'Energinetdk rapport'!$J$1:$J$5,0))),B40,INDIRECT(\"'Input'!J\"&INDEX('Energinetdk rapport'!$K$1:$K$5,MATCH('Energinetdk rapport'!$I$3,'Energinetdk rapport'!$J$1:$J$5,0))):INDIRECT(\"'Input'!J\"&INDEX('Energinetdk rapport'!$L$1:$L$5,MATCH('Energinetdk rapport'!$I$3,'Energinetdk rapport'!$J$1:$J$5,0)))),0)","v":0},{"$f":"SUMIFS(INDIRECT(\"'Input'!H\"&INDEX('Energinetdk rapport'!$K$1:$K$5,MATCH('Energinetdk rapport'!$I$3,'Energinetdk rapport'!$J$1:$J$5,0))):INDIRECT(\"'Input'!H\"&INDEX('Energinetdk rapport'!$L$1:$L$5,MATCH('Energinetdk rapport'!$I$3,'Energinetdk rapport'!$J$1:$J$5,0))), INDIRECT(\"'Input'!F\"&INDEX('Energinetdk rapport'!$K$1:$K$5,MATCH('Energinetdk rapport'!$I$3,'Energinetdk rapport'!$J$1:$J$5,0))):INDIRECT(\"'Input'!F\"&INDEX('Energinetdk rapport'!$L$1:$L$5,MATCH('Energinetdk rapport'!$I$3,'Energinetdk rapport'!$J$1:$J$5,0))), B40)","v":0},{"$f":"IFERROR(F40/SUM($F$6:$F$128),0)","v":0}]
[null," -             Halm","Halm","Halm fra korn, raps eller andre afgrøder.",{"$f":"IFERROR(AVERAGEIF(INDIRECT(\"'Input'!F\"&INDEX('Energinetdk rapport'!$K$1:$K$5,MATCH('Energinetdk rapport'!$I$3,'Energinetdk rapport'!$J$1:$J$5,0))):INDIRECT(\"'Input'!F\"&INDEX('Energinetdk rapport'!$L$1:$L$5,MATCH('Energinetdk rapport'!$I$3,'Energinetdk rapport'!$J$1:$J$5,0))),B41,INDIRECT(\"'Input'!J\"&INDEX('Energinetdk rapport'!$K$1:$K$5,MATCH('Energinetdk rapport'!$I$3,'Energinetdk rapport'!$J$1:$J$5,0))):INDIRECT(\"'Input'!J\"&INDEX('Energinetdk rapport'!$L$1:$L$5,MATCH('Energinetdk rapport'!$I$3,'Energinetdk rapport'!$J$1:$J$5,0)))),0)","v":0},{"$f":"SUMIFS(INDIRECT(\"'Input'!H\"&INDEX('Energinetdk rapport'!$K$1:$K$5,MATCH('Energinetdk rapport'!$I$3,'Energinetdk rapport'!$J$1:$J$5,0))):INDIRECT(\"'Input'!H\"&INDEX('Energinetdk rapport'!$L$1:$L$5,MATCH('Energinetdk rapport'!$I$3,'Energinetdk rapport'!$J$1:$J$5,0))), INDIRECT(\"'Input'!F\"&INDEX('Energinetdk rapport'!$K$1:$K$5,MATCH('Energinetdk rapport'!$I$3,'Energinetdk rapport'!$J$1:$J$5,0))):INDIRECT(\"'Input'!F\"&INDEX('Energinetdk rapport'!$L$1:$L$5,MATCH('Energinetdk rapport'!$I$3,'Energinetdk rapport'!$J$1:$J$5,0))), B41)","v":0},0]
[null," -             Have-park affald","Have-park affald","Have- og parkaffald omfatter græsafklip og andre plantedele fra kommunale arealer og private via genbrugsstationer.",{"$f":"IFERROR(AVERAGEIF(INDIRECT(\"'Input'!F\"&INDEX('Energinetdk rapport'!$K$1:$K$5,MATCH('Energinetdk rapport'!$I$3,'Energinetdk rapport'!$J$1:$J$5,0))):INDIRECT(\"'Input'!F\"&INDEX('Energinetdk rapport'!$L$1:$L$5,MATCH('Energinetdk rapport'!$I$3,'Energinetdk rapport'!$J$1:$J$5,0))),B42,INDIRECT(\"'Input'!J\"&INDEX('Energinetdk rapport'!$K$1:$K$5,MATCH('Energinetdk rapport'!$I$3,'Energinetdk rapport'!$J$1:$J$5,0))):INDIRECT(\"'Input'!J\"&INDEX('Energinetdk rapport'!$L$1:$L$5,MATCH('Energinetdk rapport'!$I$3,'Energinetdk rapport'!$J$1:$J$5,0)))),0)","v":0},{"$f":"SUMIFS(INDIRECT(\"'Input'!H\"&INDEX('Energinetdk rapport'!$K$1:$K$5,MATCH('Energinetdk rapport'!$I$3,'Energinetdk rapport'!$J$1:$J$5,0))):INDIRECT(\"'Input'!H\"&INDEX('Energinetdk rapport'!$L$1:$L$5,MATCH('Energinetdk rapport'!$I$3,'Energinetdk rapport'!$J$1:$J$5,0))), INDIRECT(\"'Input'!F\"&INDEX('Energinetdk rapport'!$K$1:$K$5,MATCH('Energinetdk rapport'!$I$3,'Energinetdk rapport'!$J$1:$J$5,0))):INDIRECT(\"'Input'!F\"&INDEX('Energinetdk rapport'!$L$1:$L$5,MATCH('Energinetdk rapport'!$I$3,'Energinetdk rapport'!$J$1:$J$5,0))), B42)","v":0},0]
[null," -             Andre restprodukter fra produktion af primærafgrøder","Andre restprodukter fra produktion af primærafgrøder","Ikke halm, men andre dele af afgrøder, som bliver frasorteret f.eks. roetoppe, kartoffeltoppe el. lign.",{"$f":"IFERROR(AVERAGEIF(INDIRECT(\"'Input'!F\"&INDEX('Energinetdk rapport'!$K$1:$K$5,MATCH('Energinetdk rapport'!$I$3,'Energinetdk rapport'!$J$1:$J$5,0))):INDIRECT(\"'Input'!F\"&INDEX('Energinetdk rapport'!$L$1:$L$5,MATCH('Energinetdk rapport'!$I$3,'Energinetdk rapport'!$J$1:$J$5,0))),B43,INDIRECT(\"'Input'!J\"&INDEX('Energinetdk rapport'!$K$1:$K$5,MATCH('Energinetdk rapport'!$I$3,'Energinetdk rapport'!$J$1:$J$5,0))):INDIRECT(\"'Input'!J\"&INDEX('Energinetdk rapport'!$L$1:$L$5,MATCH('Energinetdk rapport'!$I$3,'Energinetdk rapport'!$J$1:$J$5,0)))),0)","v":0},{"$f":"SUMIFS(INDIRECT(\"'Input'!H\"&INDEX('Energinetdk rapport'!$K$1:$K$5,MATCH('Energinetdk rapport'!$I$3,'Energinetdk rapport'!$J$1:$J$5,0))):INDIRECT(\"'Input'!H\"&INDEX('Energinetdk rapport'!$L$1:$L$5,MATCH('Energinetdk rapport'!$I$3,'Energinetdk rapport'!$J$1:$J$5,0))), INDIRECT(\"'Input'!F\"&INDEX('Energinetdk rapport'!$K$1:$K$5,MATCH('Energinetdk rapport'!$I$3,'Energinetdk rapport'!$J$1:$J$5,0))):INDIRECT(\"'Input'!F\"&INDEX('Energinetdk rapport'!$L$1:$L$5,MATCH('Energinetdk rapport'!$I$3,'Energinetdk rapport'!$J$1:$J$5,0))), B43)","v":0},0]
[null," -             Kasserede afgrøder","Kasserede afgrøder","Kasserede afgrøder i form af rodfrugter, majs eller korn, der er beskadiget og derfor uegnet til føde eller foder.",{"$f":"IFERROR(AVERAGEIF(INDIRECT(\"'Input'!F\"&INDEX('Energinetdk rapport'!$K$1:$K$5,MATCH('Energinetdk rapport'!$I$3,'Energinetdk rapport'!$J$1:$J$5,0))):INDIRECT(\"'Input'!F\"&INDEX('Energinetdk rapport'!$L$1:$L$5,MATCH('Energinetdk rapport'!$I$3,'Energinetdk rapport'!$J$1:$J$5,0))),B44,INDIRECT(\"'Input'!J\"&INDEX('Energinetdk rapport'!$K$1:$K$5,MATCH('Energinetdk rapport'!$I$3,'Energinetdk rapport'!$J$1:$J$5,0))):INDIRECT(\"'Input'!J\"&INDEX('Energinetdk rapport'!$L$1:$L$5,MATCH('Energinetdk rapport'!$I$3,'Energinetdk rapport'!$J$1:$J$5,0)))),0)","v":0},{"$f":"SUMIFS(INDIRECT(\"'Input'!H\"&INDEX('Energinetdk rapport'!$K$1:$K$5,MATCH('Energinetdk rapport'!$I$3,'Energinetdk rapport'!$J$1:$J$5,0))):INDIRECT(\"'Input'!H\"&INDEX('Energinetdk rapport'!$L$1:$L$5,MATCH('Energinetdk rapport'!$I$3,'Energinetdk rapport'!$J$1:$J$5,0))), INDIRECT(\"'Input'!F\"&INDEX('Energinetdk rapport'!$K$1:$K$5,MATCH('Energinetdk rapport'!$I$3,'Energinetdk rapport'!$J$1:$J$5,0))):INDIRECT(\"'Input'!F\"&INDEX('Energinetdk rapport'!$L$1:$L$5,MATCH('Energinetdk rapport'!$I$3,'Energinetdk rapport'!$J$1:$J$5,0))), B44)","v":0},0]
[null," -             Animalske biprodukter","Animalske biprodukter","Hele kroppe eller dele af dyr, animalske produkter eller andre produkter fra dyr, som ikke er bestemt til konsum, f.eks. Blod, fedt, mælk og valle.",{"$f":"IFERROR(AVERAGEIF(INDIRECT(\"'Input'!F\"&INDEX('Energinetdk rapport'!$K$1:$K$5,MATCH('Energinetdk rapport'!$I$3,'Energinetdk rapport'!$J$1:$J$5,0))):INDIRECT(\"'Input'!F\"&INDEX('Energinetdk rapport'!$L$1:$L$5,MATCH('Energinetdk rapport'!$I$3,'Energinetdk rapport'!$J$1:$J$5,0))),B45,INDIRECT(\"'Input'!J\"&INDEX('Energinetdk rapport'!$K$1:$K$5,MATCH('Energinetdk rapport'!$I$3,'Energinetdk rapport'!$J$1:$J$5,0))):INDIRECT(\"'Input'!J\"&INDEX('Energinetdk rapport'!$L$1:$L$5,MATCH('Energinetdk rapport'!$I$3,'Energinetdk rapport'!$J$1:$J$5,0)))),0)","v":0},{"$f":"SUMIFS(INDIRECT(\"'Input'!H\"&INDEX('Energinetdk rapport'!$K$1:$K$5,MATCH('Energinetdk rapport'!$I$3,'Energinetdk rapport'!$J$1:$J$5,0))):INDIRECT(\"'Input'!H\"&INDEX('Energinetdk rapport'!$L$1:$L$5,MATCH('Energinetdk rapport'!$I$3,'Energinetdk rapport'!$J$1:$J$5,0))), INDIRECT(\"'Input'!F\"&INDEX('Energinetdk rapport'!$K$1:$K$5,MATCH('Energinetdk rapport'!$I$3,'Energinetdk rapport'!$J$1:$J$5,0))):INDIRECT(\"'Input'!F\"&INDEX('Energinetdk rapport'!$L$1:$L$5,MATCH('Energinetdk rapport'!$I$3,'Energinetdk rapport'!$J$1:$J$5,0))), B45)","v":0},0]
[null," -             Inaktiveret og kalkstabiliseret biomasse","Inaktiveret og kalkstabiliseret biomasse","Inaktiveret og kalkstabiliseret biomasse med tørstof højere end pct. stammende fra en gæringsproduktion, der har undergået en behandling svarende til mindst kontrolleret hygiejnisering.",{"$f":"IFERROR(AVERAGEIF(INDIRECT(\"'Input'!F\"&INDEX('Energinetdk rapport'!$K$1:$K$5,MATCH('Energinetdk rapport'!$I$3,'Energinetdk rapport'!$J$1:$J$5,0))):INDIRECT(\"'Input'!F\"&INDEX('Energinetdk rapport'!$L$1:$L$5,MATCH('Energinetdk rapport'!$I$3,'Energinetdk rapport'!$J$1:$J$5,0))),B46,INDIRECT(\"'Input'!J\"&INDEX('Energinetdk rapport'!$K$1:$K$5,MATCH('Energinetdk rapport'!$I$3,'Energinetdk rapport'!$J$1:$J$5,0))):INDIRECT(\"'Input'!J\"&INDEX('Energinetdk rapport'!$L$1:$L$5,MATCH('Energinetdk rapport'!$I$3,'Energinetdk rapport'!$J$1:$J$5,0)))),0)","v":0},{"$f":"SUMIFS(INDIRECT(\"'Input'!H\"&INDEX('Energinetdk rapport'!$K$1:$K$5,MATCH('Energinetdk rapport'!$I$3,'Energinetdk rapport'!$J$1:$J$5,0))):INDIRECT(\"'Input'!H\"&INDEX('Energinetdk rapport'!$L$1:$L$5,MATCH('Energinetdk rapport'!$I$3,'Energinetdk rapport'!$J$1:$J$5,0))), INDIRECT(\"'Input'!F\"&INDEX('Energinetdk rapport'!$K$1:$K$5,MATCH('Energinetdk rapport'!$I$3,'Energinetdk rapport'!$J$1:$J$5,0))):INDIRECT(\"'Input'!F\"&INDEX('Energinetdk rapport'!$L$1:$L$5,MATCH('Energinetdk rapport'!$I$3,'Energinetdk rapport'!$J$1:$J$5,0))), B46)","v":0},0]
[null," -             Proteolyseret processpildevand","Proteolyseret processpildevand","Proteolyseret processpildevand baseret på biologisk materiale, der har undergået en behnadling svarende til mindst kontrolleret hygiejnisering.",{"$f":"IFERROR(AVERAGEIF(INDIRECT(\"'Input'!F\"&INDEX('Energinetdk rapport'!$K$1:$K$5,MATCH('Energinetdk rapport'!$I$3,'Energinetdk rapport'!$J$1:$J$5,0))):INDIRECT(\"'Input'!F\"&INDEX('Energinetdk rapport'!$L$1:$L$5,MATCH('Energinetdk rapport'!$I$3,'Energinetdk rapport'!$J$1:$J$5,0))),B47,INDIRECT(\"'Input'!J\"&INDEX('Energinetdk rapport'!$K$1:$K$5,MATCH('Energinetdk rapport'!$I$3,'Energinetdk rapport'!$J$1:$J$5,0))):INDIRECT(\"'Input'!J\"&INDEX('Energinetdk rapport'!$L$1:$L$5,MATCH('Energinetdk rapport'!$I$3,'Energinetdk rapport'!$J$1:$J$5,0)))),0)","v":0},{"$f":"SUMIFS(INDIRECT(\"'Input'!H\"&INDEX('Energinetdk rapport'!$K$1:$K$5,MATCH('Energinetdk rapport'!$I$3,'Energinetdk rapport'!$J$1:$J$5,0))):INDIRECT(\"'Input'!H\"&INDEX('Energinetdk rapport'!$L$1:$L$5,MATCH('Energinetdk rapport'!$I$3,'Energinetdk rapport'!$J$1:$J$5,0))), INDIRECT(\"'Input'!F\"&INDEX('Energinetdk rapport'!$K$1:$K$5,MATCH('Energinetdk rapport'!$I$3,'Energinetdk rapport'!$J$1:$J$5,0))):INDIRECT(\"'Input'!F\"&INDEX('Energinetdk rapport'!$L$1:$L$5,MATCH('Energinetdk rapport'!$I$3,'Energinetdk rapport'!$J$1:$J$5,0))), B47)","v":0},0]
[null," -             Organisk affald fra erhverv","Organisk affald fra erhverv","Organisk affald fra erhverv som ikke er animalske biprodukter.",{"$f":"IFERROR(AVERAGEIF(INDIRECT(\"'Input'!F\"&INDEX('Energinetdk rapport'!$K$1:$K$5,MATCH('Energinetdk rapport'!$I$3,'Energinetdk rapport'!$J$1:$J$5,0))):INDIRECT(\"'Input'!F\"&INDEX('Energinetdk rapport'!$L$1:$L$5,MATCH('Energinetdk rapport'!$I$3,'Energinetdk rapport'!$J$1:$J$5,0))),B48,INDIRECT(\"'Input'!J\"&INDEX('Energinetdk rapport'!$K$1:$K$5,MATCH('Energinetdk rapport'!$I$3,'Energinetdk rapport'!$J$1:$J$5,0))):INDIRECT(\"'Input'!J\"&INDEX('Energinetdk rapport'!$L$1:$L$5,MATCH('Energinetdk rapport'!$I$3,'Energinetdk rapport'!$J$1:$J$5,0)))),0)","v":0},{"$f":"SUMIFS(INDIRECT(\"'Input'!H\"&INDEX('Energinetdk rapport'!$K$1:$K$5,MATCH('Energinetdk rapport'!$I$3,'Energinetdk rapport'!$J$1:$J$5,0))):INDIRECT(\"'Input'!H\"&INDEX('Energinetdk rapport'!$L$1:$L$5,MATCH('Energinetdk rapport'!$I$3,'Energinetdk rapport'!$J$1:$J$5,0))), INDIRECT(\"'Input'!F\"&INDEX('Energinetdk rapport'!$K$1:$K$5,MATCH('Energinetdk rapport'!$I$3,'Energinetdk rapport'!$J$1:$J$5,0))):INDIRECT(\"'Input'!F\"&INDEX('Energinetdk rapport'!$L$1:$L$5,MATCH('Energinetdk rapport'!$I$3,'Energinetdk rapport'!$J$1:$J$5,0))), B48)","v":0},0]
[null," -             Hvedehelsæd","Hvedehelsæd","Kerner og halm lagret som ensilage",{"$f":"IFERROR(AVERAGEIF(INDIRECT(\"'Input'!F\"&INDEX('Energinetdk rapport'!$K$1:$K$5,MATCH('Energinetdk rapport'!$I$3,'Energinetdk rapport'!$J$1:$J$5,0))):INDIRECT(\"'Input'!F\"&INDEX('Energinetdk rapport'!$L$1:$L$5,MATCH('Energinetdk rapport'!$I$3,'Energinetdk rapport'!$J$1:$J$5,0))),B49,INDIRECT(\"'Input'!J\"&INDEX('Energinetdk rapport'!$K$1:$K$5,MATCH('Energinetdk rapport'!$I$3,'Energinetdk rapport'!$J$1:$J$5,0))):INDIRECT(\"'Input'!J\"&INDEX('Energinetdk rapport'!$L$1:$L$5,MATCH('Energinetdk rapport'!$I$3,'Energinetdk rapport'!$J$1:$J$5,0)))),0)","v":0},{"$f":"SUMIFS(INDIRECT(\"'Input'!H\"&INDEX('Energinetdk rapport'!$K$1:$K$5,MATCH('Energinetdk rapport'!$I$3,'Energinetdk rapport'!$J$1:$J$5,0))):INDIRECT(\"'Input'!H\"&INDEX('Energinetdk rapport'!$L$1:$L$5,MATCH('Energinetdk rapport'!$I$3,'Energinetdk rapport'!$J$1:$J$5,0))), INDIRECT(\"'Input'!F\"&INDEX('Energinetdk rapport'!$K$1:$K$5,MATCH('Energinetdk rapport'!$I$3,'Energinetdk rapport'!$J$1:$J$5,0))):INDIRECT(\"'Input'!F\"&INDEX('Energinetdk rapport'!$L$1:$L$5,MATCH('Energinetdk rapport'!$I$3,'Energinetdk rapport'!$J$1:$J$5,0))), B49)","v":0},0]
[null,null,"Top af sukkerroe og kartoffel","Enten frisk eller som ensilage",{"$f":"IFERROR(AVERAGEIF(INDIRECT(\"'Input'!F\"&INDEX('Energinetdk rapport'!$K$1:$K$5,MATCH('Energinetdk rapport'!$I$3,'Energinetdk rapport'!$J$1:$J$5,0))):INDIRECT(\"'Input'!F\"&INDEX('Energinetdk rapport'!$L$1:$L$5,MATCH('Energinetdk rapport'!$I$3,'Energinetdk rapport'!$J$1:$J$5,0))),B50,INDIRECT(\"'Input'!J\"&INDEX('Energinetdk rapport'!$K$1:$K$5,MATCH('Energinetdk rapport'!$I$3,'Energinetdk rapport'!$J$1:$J$5,0))):INDIRECT(\"'Input'!J\"&INDEX('Energinetdk rapport'!$L$1:$L$5,MATCH('Energinetdk rapport'!$I$3,'Energinetdk rapport'!$J$1:$J$5,0)))),0)","v":0},{"$f":"SUMIFS(INDIRECT(\"'Input'!H\"&INDEX('Energinetdk rapport'!$K$1:$K$5,MATCH('Energinetdk rapport'!$I$3,'Energinetdk rapport'!$J$1:$J$5,0))):INDIRECT(\"'Input'!H\"&INDEX('Energinetdk rapport'!$L$1:$L$5,MATCH('Energinetdk rapport'!$I$3,'Energinetdk rapport'!$J$1:$J$5,0))), INDIRECT(\"'Input'!F\"&INDEX('Energinetdk rapport'!$K$1:$K$5,MATCH('Energinetdk rapport'!$I$3,'Energinetdk rapport'!$J$1:$J$5,0))):INDIRECT(\"'Input'!F\"&INDEX('Energinetdk rapport'!$L$1:$L$5,MATCH('Energinetdk rapport'!$I$3,'Energinetdk rapport'!$J$1:$J$5,0))), B50)","v":0},0]
[null,null,"Rod af foderroe",null,{"$f":"IFERROR(AVERAGEIF(INDIRECT(\"'Input'!F\"&INDEX('Energinetdk rapport'!$K$1:$K$5,MATCH('Energinetdk rapport'!$I$3,'Energinetdk rapport'!$J$1:$J$5,0))):INDIRECT(\"'Input'!F\"&INDEX('Energinetdk rapport'!$L$1:$L$5,MATCH('Energinetdk rapport'!$I$3,'Energinetdk rapport'!$J$1:$J$5,0))),B51,INDIRECT(\"'Input'!J\"&INDEX('Energinetdk rapport'!$K$1:$K$5,MATCH('Energinetdk rapport'!$I$3,'Energinetdk rapport'!$J$1:$J$5,0))):INDIRECT(\"'Input'!J\"&INDEX('Energinetdk rapport'!$L$1:$L$5,MATCH('Energinetdk rapport'!$I$3,'Energinetdk rapport'!$J$1:$J$5,0)))),0)","v":0},{"$f":"SUMIFS(INDIRECT(\"'Input'!H\"&INDEX('Energinetdk rapport'!$K$1:$K$5,MATCH('Energinetdk rapport'!$I$3,'Energinetdk rapport'!$J$1:$J$5,0))):INDIRECT(\"'Input'!H\"&INDEX('Energinetdk rapport'!$L$1:$L$5,MATCH('Energinetdk rapport'!$I$3,'Energinetdk rapport'!$J$1:$J$5,0))), INDIRECT(\"'Input'!F\"&INDEX('Energinetdk rapport'!$K$1:$K$5,MATCH('Energinetdk rapport'!$I$3,'Energinetdk rapport'!$J$1:$J$5,0))):INDIRECT(\"'Input'!F\"&INDEX('Energinetdk rapport'!$L$1:$L$5,MATCH('Energinetdk rapport'!$I$3,'Energinetdk rapport'!$J$1:$J$5,0))), B51)","v":0},0]
[null," -             Top af foderroe","Top af foderroe",null,{"$f":"IFERROR(AVERAGEIF(INDIRECT(\"'Input'!F\"&INDEX('Energinetdk rapport'!$K$1:$K$5,MATCH('Energinetdk rapport'!$I$3,'Energinetdk rapport'!$J$1:$J$5,0))):INDIRECT(\"'Input'!F\"&INDEX('Energinetdk rapport'!$L$1:$L$5,MATCH('Energinetdk rapport'!$I$3,'Energinetdk rapport'!$J$1:$J$5,0))),B52,INDIRECT(\"'Input'!J\"&INDEX('Energinetdk rapport'!$K$1:$K$5,MATCH('Energinetdk rapport'!$I$3,'Energinetdk rapport'!$J$1:$J$5,0))):INDIRECT(\"'Input'!J\"&INDEX('Energinetdk rapport'!$L$1:$L$5,MATCH('Energinetdk rapport'!$I$3,'Energinetdk rapport'!$J$1:$J$5,0)))),0)","v":0},{"$f":"SUMIFS(INDIRECT(\"'Input'!H\"&INDEX('Energinetdk rapport'!$K$1:$K$5,MATCH('Energinetdk rapport'!$I$3,'Energinetdk rapport'!$J$1:$J$5,0))):INDIRECT(\"'Input'!H\"&INDEX('Energinetdk rapport'!$L$1:$L$5,MATCH('Energinetdk rapport'!$I$3,'Energinetdk rapport'!$J$1:$J$5,0))), INDIRECT(\"'Input'!F\"&INDEX('Energinetdk rapport'!$K$1:$K$5,MATCH('Energinetdk rapport'!$I$3,'Energinetdk rapport'!$J$1:$J$5,0))):INDIRECT(\"'Input'!F\"&INDEX('Energinetdk rapport'!$L$1:$L$5,MATCH('Energinetdk rapport'!$I$3,'Energinetdk rapport'!$J$1:$J$5,0))), B52)","v":0},0]
[null," -             Foderroe - rod og top frisk","Foderroe - rod og top frisk",null,{"$f":"IFERROR(AVERAGEIF(INDIRECT(\"'Input'!F\"&INDEX('Energinetdk rapport'!$K$1:$K$5,MATCH('Energinetdk rapport'!$I$3,'Energinetdk rapport'!$J$1:$J$5,0))):INDIRECT(\"'Input'!F\"&INDEX('Energinetdk rapport'!$L$1:$L$5,MATCH('Energinetdk rapport'!$I$3,'Energinetdk rapport'!$J$1:$J$5,0))),B53,INDIRECT(\"'Input'!J\"&INDEX('Energinetdk rapport'!$K$1:$K$5,MATCH('Energinetdk rapport'!$I$3,'Energinetdk rapport'!$J$1:$J$5,0))):INDIRECT(\"'Input'!J\"&INDEX('Energinetdk rapport'!$L$1:$L$5,MATCH('Energinetdk rapport'!$I$3,'Energinetdk rapport'!$J$1:$J$5,0)))),0)","v":0},{"$f":"SUMIFS(INDIRECT(\"'Input'!H\"&INDEX('Energinetdk rapport'!$K$1:$K$5,MATCH('Energinetdk rapport'!$I$3,'Energinetdk rapport'!$J$1:$J$5,0))):INDIRECT(\"'Input'!H\"&INDEX('Energinetdk rapport'!$L$1:$L$5,MATCH('Energinetdk rapport'!$I$3,'Energinetdk rapport'!$J$1:$J$5,0))), INDIRECT(\"'Input'!F\"&INDEX('Energinetdk rapport'!$K$1:$K$5,MATCH('Energinetdk rapport'!$I$3,'Energinetdk rapport'!$J$1:$J$5,0))):INDIRECT(\"'Input'!F\"&INDEX('Energinetdk rapport'!$L$1:$L$5,MATCH('Energinetdk rapport'!$I$3,'Energinetdk rapport'!$J$1:$J$5,0))), B53)","v":0},0]
[null," -             Forsuret svinegylle","Forsuret svinegylle",null,{"$f":"IFERROR(AVERAGEIF(INDIRECT(\"'Input'!F\"&INDEX('Energinetdk rapport'!$K$1:$K$5,MATCH('Energinetdk rapport'!$I$3,'Energinetdk rapport'!$J$1:$J$5,0))):INDIRECT(\"'Input'!F\"&INDEX('Energinetdk rapport'!$L$1:$L$5,MATCH('Energinetdk rapport'!$I$3,'Energinetdk rapport'!$J$1:$J$5,0))),B54,INDIRECT(\"'Input'!J\"&INDEX('Energinetdk rapport'!$K$1:$K$5,MATCH('Energinetdk rapport'!$I$3,'Energinetdk rapport'!$J$1:$J$5,0))):INDIRECT(\"'Input'!J\"&INDEX('Energinetdk rapport'!$L$1:$L$5,MATCH('Energinetdk rapport'!$I$3,'Energinetdk rapport'!$J$1:$J$5,0)))),0)","v":0},{"$f":"SUMIFS(INDIRECT(\"'Input'!H\"&INDEX('Energinetdk rapport'!$K$1:$K$5,MATCH('Energinetdk rapport'!$I$3,'Energinetdk rapport'!$J$1:$J$5,0))):INDIRECT(\"'Input'!H\"&INDEX('Energinetdk rapport'!$L$1:$L$5,MATCH('Energinetdk rapport'!$I$3,'Energinetdk rapport'!$J$1:$J$5,0))), INDIRECT(\"'Input'!F\"&INDEX('Energinetdk rapport'!$K$1:$K$5,MATCH('Energinetdk rapport'!$I$3,'Energinetdk rapport'!$J$1:$J$5,0))):INDIRECT(\"'Input'!F\"&INDEX('Energinetdk rapport'!$L$1:$L$5,MATCH('Energinetdk rapport'!$I$3,'Energinetdk rapport'!$J$1:$J$5,0))), B54)","v":0},0]
[null," -             Gylle fra so","Gylle fra so",null,{"$f":"IFERROR(AVERAGEIF(INDIRECT(\"'Input'!F\"&INDEX('Energinetdk rapport'!$K$1:$K$5,MATCH('Energinetdk rapport'!$I$3,'Energinetdk rapport'!$J$1:$J$5,0))):INDIRECT(\"'Input'!F\"&INDEX('Energinetdk rapport'!$L$1:$L$5,MATCH('Energinetdk rapport'!$I$3,'Energinetdk rapport'!$J$1:$J$5,0))),B55,INDIRECT(\"'Input'!J\"&INDEX('Energinetdk rapport'!$K$1:$K$5,MATCH('Energinetdk rapport'!$I$3,'Energinetdk rapport'!$J$1:$J$5,0))):INDIRECT(\"'Input'!J\"&INDEX('Energinetdk rapport'!$L$1:$L$5,MATCH('Energinetdk rapport'!$I$3,'Energinetdk rapport'!$J$1:$J$5,0)))),0)","v":0},{"$f":"SUMIFS(INDIRECT(\"'Input'!H\"&INDEX('Energinetdk rapport'!$K$1:$K$5,MATCH('Energinetdk rapport'!$I$3,'Energinetdk rapport'!$J$1:$J$5,0))):INDIRECT(\"'Input'!H\"&INDEX('Energinetdk rapport'!$L$1:$L$5,MATCH('Energinetdk rapport'!$I$3,'Energinetdk rapport'!$J$1:$J$5,0))), INDIRECT(\"'Input'!F\"&INDEX('Energinetdk rapport'!$K$1:$K$5,MATCH('Energinetdk rapport'!$I$3,'Energinetdk rapport'!$J$1:$J$5,0))):INDIRECT(\"'Input'!F\"&INDEX('Energinetdk rapport'!$L$1:$L$5,MATCH('Energinetdk rapport'!$I$3,'Energinetdk rapport'!$J$1:$J$5,0))), B55)","v":0},0]
[null," -             Dybstrøelse - Svin","Dybstrøelse - Svin","Slagtesvin og so",{"$f":"IFERROR(AVERAGEIF(INDIRECT(\"'Input'!F\"&INDEX('Energinetdk rapport'!$K$1:$K$5,MATCH('Energinetdk rapport'!$I$3,'Energinetdk rapport'!$J$1:$J$5,0))):INDIRECT(\"'Input'!F\"&INDEX('Energinetdk rapport'!$L$1:$L$5,MATCH('Energinetdk rapport'!$I$3,'Energinetdk rapport'!$J$1:$J$5,0))),B56,INDIRECT(\"'Input'!J\"&INDEX('Energinetdk rapport'!$K$1:$K$5,MATCH('Energinetdk rapport'!$I$3,'Energinetdk rapport'!$J$1:$J$5,0))):INDIRECT(\"'Input'!J\"&INDEX('Energinetdk rapport'!$L$1:$L$5,MATCH('Energinetdk rapport'!$I$3,'Energinetdk rapport'!$J$1:$J$5,0)))),0)","v":0},{"$f":"SUMIFS(INDIRECT(\"'Input'!H\"&INDEX('Energinetdk rapport'!$K$1:$K$5,MATCH('Energinetdk rapport'!$I$3,'Energinetdk rapport'!$J$1:$J$5,0))):INDIRECT(\"'Input'!H\"&INDEX('Energinetdk rapport'!$L$1:$L$5,MATCH('Energinetdk rapport'!$I$3,'Energinetdk rapport'!$J$1:$J$5,0))), INDIRECT(\"'Input'!F\"&INDEX('Energinetdk rapport'!$K$1:$K$5,MATCH('Energinetdk rapport'!$I$3,'Energinetdk rapport'!$J$1:$J$5,0))):INDIRECT(\"'Input'!F\"&INDEX('Energinetdk rapport'!$L$1:$L$5,MATCH('Energinetdk rapport'!$I$3,'Energinetdk rapport'!$J$1:$J$5,0))), B56)","v":0},0]
[null," -             Gylle fibre - kemisk separation - Svin","Gylle fibre - kemisk separation - Svin","Slagtesvin",{"$f":"IFERROR(AVERAGEIF(INDIRECT(\"'Input'!F\"&INDEX('Energinetdk rapport'!$K$1:$K$5,MATCH('Energinetdk rapport'!$I$3,'Energinetdk rapport'!$J$1:$J$5,0))):INDIRECT(\"'Input'!F\"&INDEX('Energinetdk rapport'!$L$1:$L$5,MATCH('Energinetdk rapport'!$I$3,'Energinetdk rapport'!$J$1:$J$5,0))),B57,INDIRECT(\"'Input'!J\"&INDEX('Energinetdk rapport'!$K$1:$K$5,MATCH('Energinetdk rapport'!$I$3,'Energinetdk rapport'!$J$1:$J$5,0))):INDIRECT(\"'Input'!J\"&INDEX('Energinetdk rapport'!$L$1:$L$5,MATCH('Energinetdk rapport'!$I$3,'Energinetdk rapport'!$J$1:$J$5,0)))),0)","v":0},{"$f":"SUMIFS(INDIRECT(\"'Input'!H\"&INDEX('Energinetdk rapport'!$K$1:$K$5,MATCH('Energinetdk rapport'!$I$3,'Energinetdk rapport'!$J$1:$J$5,0))):INDIRECT(\"'Input'!H\"&INDEX('Energinetdk rapport'!$L$1:$L$5,MATCH('Energinetdk rapport'!$I$3,'Energinetdk rapport'!$J$1:$J$5,0))), INDIRECT(\"'Input'!F\"&INDEX('Energinetdk rapport'!$K$1:$K$5,MATCH('Energinetdk rapport'!$I$3,'Energinetdk rapport'!$J$1:$J$5,0))):INDIRECT(\"'Input'!F\"&INDEX('Energinetdk rapport'!$L$1:$L$5,MATCH('Energinetdk rapport'!$I$3,'Energinetdk rapport'!$J$1:$J$5,0))), B57)","v":0},0]
[null," -             Gylle fibre - dekanter separation - Svin","Gylle fibre - dekanter separation - Svin","Slagtesvin",{"$f":"IFERROR(AVERAGEIF(INDIRECT(\"'Input'!F\"&INDEX('Energinetdk rapport'!$K$1:$K$5,MATCH('Energinetdk rapport'!$I$3,'Energinetdk rapport'!$J$1:$J$5,0))):INDIRECT(\"'Input'!F\"&INDEX('Energinetdk rapport'!$L$1:$L$5,MATCH('Energinetdk rapport'!$I$3,'Energinetdk rapport'!$J$1:$J$5,0))),B58,INDIRECT(\"'Input'!J\"&INDEX('Energinetdk rapport'!$K$1:$K$5,MATCH('Energinetdk rapport'!$I$3,'Energinetdk rapport'!$J$1:$J$5,0))):INDIRECT(\"'Input'!J\"&INDEX('Energinetdk rapport'!$L$1:$L$5,MATCH('Energinetdk rapport'!$I$3,'Energinetdk rapport'!$J$1:$J$5,0)))),0)","v":0},{"$f":"SUMIFS(INDIRECT(\"'Input'!H\"&INDEX('Energinetdk rapport'!$K$1:$K$5,MATCH('Energinetdk rapport'!$I$3,'Energinetdk rapport'!$J$1:$J$5,0))):INDIRECT(\"'Input'!H\"&INDEX('Energinetdk rapport'!$L$1:$L$5,MATCH('Energinetdk rapport'!$I$3,'Energinetdk rapport'!$J$1:$J$5,0))), INDIRECT(\"'Input'!F\"&INDEX('Energinetdk rapport'!$K$1:$K$5,MATCH('Energinetdk rapport'!$I$3,'Energinetdk rapport'!$J$1:$J$5,0))):INDIRECT(\"'Input'!F\"&INDEX('Energinetdk rapport'!$L$1:$L$5,MATCH('Energinetdk rapport'!$I$3,'Energinetdk rapport'!$J$1:$J$5,0))), B58)","v":0},0]
[null," -             Staldgødning - Kvæg","Staldgødning - Kvæg",null,{"$f":"IFERROR(AVERAGEIF(INDIRECT(\"'Input'!F\"&INDEX('Energinetdk rapport'!$K$1:$K$5,MATCH('Energinetdk rapport'!$I$3,'Energinetdk rapport'!$J$1:$J$5,0))):INDIRECT(\"'Input'!F\"&INDEX('Energinetdk rapport'!$L$1:$L$5,MATCH('Energinetdk rapport'!$I$3,'Energinetdk rapport'!$J$1:$J$5,0))),B59,INDIRECT(\"'Input'!J\"&INDEX('Energinetdk rapport'!$K$1:$K$5,MATCH('Energinetdk rapport'!$I$3,'Energinetdk rapport'!$J$1:$J$5,0))):INDIRECT(\"'Input'!J\"&INDEX('Energinetdk rapport'!$L$1:$L$5,MATCH('Energinetdk rapport'!$I$3,'Energinetdk rapport'!$J$1:$J$5,0)))),0)","v":0},{"$f":"SUMIFS(INDIRECT(\"'Input'!H\"&INDEX('Energinetdk rapport'!$K$1:$K$5,MATCH('Energinetdk rapport'!$I$3,'Energinetdk rapport'!$J$1:$J$5,0))):INDIRECT(\"'Input'!H\"&INDEX('Energinetdk rapport'!$L$1:$L$5,MATCH('Energinetdk rapport'!$I$3,'Energinetdk rapport'!$J$1:$J$5,0))), INDIRECT(\"'Input'!F\"&INDEX('Energinetdk rapport'!$K$1:$K$5,MATCH('Energinetdk rapport'!$I$3,'Energinetdk rapport'!$J$1:$J$5,0))):INDIRECT(\"'Input'!F\"&INDEX('Energinetdk rapport'!$L$1:$L$5,MATCH('Energinetdk rapport'!$I$3,'Energinetdk rapport'!$J$1:$J$5,0))), B59)","v":0},0]
[null," -             Kvæggylle - Årsopdræt 6 mdr.","Kvæggylle - Årsopdræt 6 mdr.",null,{"$f":"IFERROR(AVERAGEIF(INDIRECT(\"'Input'!F\"&INDEX('Energinetdk rapport'!$K$1:$K$5,MATCH('Energinetdk rapport'!$I$3,'Energinetdk rapport'!$J$1:$J$5,0))):INDIRECT(\"'Input'!F\"&INDEX('Energinetdk rapport'!$L$1:$L$5,MATCH('Energinetdk rapport'!$I$3,'Energinetdk rapport'!$J$1:$J$5,0))),B60,INDIRECT(\"'Input'!J\"&INDEX('Energinetdk rapport'!$K$1:$K$5,MATCH('Energinetdk rapport'!$I$3,'Energinetdk rapport'!$J$1:$J$5,0))):INDIRECT(\"'Input'!J\"&INDEX('Energinetdk rapport'!$L$1:$L$5,MATCH('Energinetdk rapport'!$I$3,'Energinetdk rapport'!$J$1:$J$5,0)))),0)","v":0},{"$f":"SUMIFS(INDIRECT(\"'Input'!H\"&INDEX('Energinetdk rapport'!$K$1:$K$5,MATCH('Energinetdk rapport'!$I$3,'Energinetdk rapport'!$J$1:$J$5,0))):INDIRECT(\"'Input'!H\"&INDEX('Energinetdk rapport'!$L$1:$L$5,MATCH('Energinetdk rapport'!$I$3,'Energinetdk rapport'!$J$1:$J$5,0))), INDIRECT(\"'Input'!F\"&INDEX('Energinetdk rapport'!$K$1:$K$5,MATCH('Energinetdk rapport'!$I$3,'Energinetdk rapport'!$J$1:$J$5,0))):INDIRECT(\"'Input'!F\"&INDEX('Energinetdk rapport'!$L$1:$L$5,MATCH('Energinetdk rapport'!$I$3,'Energinetdk rapport'!$J$1:$J$5,0))), B60)","v":0},0]
[null," -             Staldgødning - Fjerkræ","Staldgødning - Fjerkræ","Høns og høniker",{"$f":"IFERROR(AVERAGEIF(INDIRECT(\"'Input'!F\"&INDEX('Energinetdk rapport'!$K$1:$K$5,MATCH('Energinetdk rapport'!$I$3,'Energinetdk rapport'!$J$1:$J$5,0))):INDIRECT(\"'Input'!F\"&INDEX('Energinetdk rapport'!$L$1:$L$5,MATCH('Energinetdk rapport'!$I$3,'Energinetdk rapport'!$J$1:$J$5,0))),B61,INDIRECT(\"'Input'!J\"&INDEX('Energinetdk rapport'!$K$1:$K$5,MATCH('Energinetdk rapport'!$I$3,'Energinetdk rapport'!$J$1:$J$5,0))):INDIRECT(\"'Input'!J\"&INDEX('Energinetdk rapport'!$L$1:$L$5,MATCH('Energinetdk rapport'!$I$3,'Energinetdk rapport'!$J$1:$J$5,0)))),0)","v":0},{"$f":"SUMIFS(INDIRECT(\"'Input'!H\"&INDEX('Energinetdk rapport'!$K$1:$K$5,MATCH('Energinetdk rapport'!$I$3,'Energinetdk rapport'!$J$1:$J$5,0))):INDIRECT(\"'Input'!H\"&INDEX('Energinetdk rapport'!$L$1:$L$5,MATCH('Energinetdk rapport'!$I$3,'Energinetdk rapport'!$J$1:$J$5,0))), INDIRECT(\"'Input'!F\"&INDEX('Energinetdk rapport'!$K$1:$K$5,MATCH('Energinetdk rapport'!$I$3,'Energinetdk rapport'!$J$1:$J$5,0))):INDIRECT(\"'Input'!F\"&INDEX('Energinetdk rapport'!$L$1:$L$5,MATCH('Energinetdk rapport'!$I$3,'Energinetdk rapport'!$J$1:$J$5,0))), B61)","v":0},0]
[null," -             Dybstrøelse - Hest","Dybstrøelse - Hest","Alle heste",{"$f":"IFERROR(AVERAGEIF(INDIRECT(\"'Input'!F\"&INDEX('Energinetdk rapport'!$K$1:$K$5,MATCH('Energinetdk rapport'!$I$3,'Energinetdk rapport'!$J$1:$J$5,0))):INDIRECT(\"'Input'!F\"&INDEX('Energinetdk rapport'!$L$1:$L$5,MATCH('Energinetdk rapport'!$I$3,'Energinetdk rapport'!$J$1:$J$5,0))),B62,INDIRECT(\"'Input'!J\"&INDEX('Energinetdk rapport'!$K$1:$K$5,MATCH('Energinetdk rapport'!$I$3,'Energinetdk rapport'!$J$1:$J$5,0))):INDIRECT(\"'Input'!J\"&INDEX('Energinetdk rapport'!$L$1:$L$5,MATCH('Energinetdk rapport'!$I$3,'Energinetdk rapport'!$J$1:$J$5,0)))),0)","v":0},{"$f":"SUMIFS(INDIRECT(\"'Input'!H\"&INDEX('Energinetdk rapport'!$K$1:$K$5,MATCH('Energinetdk rapport'!$I$3,'Energinetdk rapport'!$J$1:$J$5,0))):INDIRECT(\"'Input'!H\"&INDEX('Energinetdk rapport'!$L$1:$L$5,MATCH('Energinetdk rapport'!$I$3,'Energinetdk rapport'!$J$1:$J$5,0))), INDIRECT(\"'Input'!F\"&INDEX('Energinetdk rapport'!$K$1:$K$5,MATCH('Energinetdk rapport'!$I$3,'Energinetdk rapport'!$J$1:$J$5,0))):INDIRECT(\"'Input'!F\"&INDEX('Energinetdk rapport'!$L$1:$L$5,MATCH('Energinetdk rapport'!$I$3,'Energinetdk rapport'!$J$1:$J$5,0))), B62)","v":0},{"$f":"IFERROR(F62/SUM($F$6:$F$128),0)","v":0}]
[null," -             Sekundær spildevandsslam","Sekundær spildevandsslam","Slam efter beluftning af spildevand",{"$f":"IFERROR(AVERAGEIF(INDIRECT(\"'Input'!F\"&INDEX('Energinetdk rapport'!$K$1:$K$5,MATCH('Energinetdk rapport'!$I$3,'Energinetdk rapport'!$J$1:$J$5,0))):INDIRECT(\"'Input'!F\"&INDEX('Energinetdk rapport'!$L$1:$L$5,MATCH('Energinetdk rapport'!$I$3,'Energinetdk rapport'!$J$1:$J$5,0))),B63,INDIRECT(\"'Input'!J\"&INDEX('Energinetdk rapport'!$K$1:$K$5,MATCH('Energinetdk rapport'!$I$3,'Energinetdk rapport'!$J$1:$J$5,0))):INDIRECT(\"'Input'!J\"&INDEX('Energinetdk rapport'!$L$1:$L$5,MATCH('Energinetdk rapport'!$I$3,'Energinetdk rapport'!$J$1:$J$5,0)))),0)","v":0},{"$f":"SUMIFS(INDIRECT(\"'Input'!H\"&INDEX('Energinetdk rapport'!$K$1:$K$5,MATCH('Energinetdk rapport'!$I$3,'Energinetdk rapport'!$J$1:$J$5,0))):INDIRECT(\"'Input'!H\"&INDEX('Energinetdk rapport'!$L$1:$L$5,MATCH('Energinetdk rapport'!$I$3,'Energinetdk rapport'!$J$1:$J$5,0))), INDIRECT(\"'Input'!F\"&INDEX('Energinetdk rapport'!$K$1:$K$5,MATCH('Energinetdk rapport'!$I$3,'Energinetdk rapport'!$J$1:$J$5,0))):INDIRECT(\"'Input'!F\"&INDEX('Energinetdk rapport'!$L$1:$L$5,MATCH('Energinetdk rapport'!$I$3,'Energinetdk rapport'!$J$1:$J$5,0))), B63)","v":0},0]
[null," -             Sekundær spildevandsslam afvandet","Sekundær spildevandsslam afvandet",null,{"$f":"IFERROR(AVERAGEIF(INDIRECT(\"'Input'!F\"&INDEX('Energinetdk rapport'!$K$1:$K$5,MATCH('Energinetdk rapport'!$I$3,'Energinetdk rapport'!$J$1:$J$5,0))):INDIRECT(\"'Input'!F\"&INDEX('Energinetdk rapport'!$L$1:$L$5,MATCH('Energinetdk rapport'!$I$3,'Energinetdk rapport'!$J$1:$J$5,0))),B64,INDIRECT(\"'Input'!J\"&INDEX('Energinetdk rapport'!$K$1:$K$5,MATCH('Energinetdk rapport'!$I$3,'Energinetdk rapport'!$J$1:$J$5,0))):INDIRECT(\"'Input'!J\"&INDEX('Energinetdk rapport'!$L$1:$L$5,MATCH('Energinetdk rapport'!$I$3,'Energinetdk rapport'!$J$1:$J$5,0)))),0)","v":0},{"$f":"SUMIFS(INDIRECT(\"'Input'!H\"&INDEX('Energinetdk rapport'!$K$1:$K$5,MATCH('Energinetdk rapport'!$I$3,'Energinetdk rapport'!$J$1:$J$5,0))):INDIRECT(\"'Input'!H\"&INDEX('Energinetdk rapport'!$L$1:$L$5,MATCH('Energinetdk rapport'!$I$3,'Energinetdk rapport'!$J$1:$J$5,0))), INDIRECT(\"'Input'!F\"&INDEX('Energinetdk rapport'!$K$1:$K$5,MATCH('Energinetdk rapport'!$I$3,'Energinetdk rapport'!$J$1:$J$5,0))):INDIRECT(\"'Input'!F\"&INDEX('Energinetdk rapport'!$L$1:$L$5,MATCH('Energinetdk rapport'!$I$3,'Energinetdk rapport'!$J$1:$J$5,0))), B64)","v":0},0]
[null," -             Organisk husholdningsaffald - Renescience","Organisk husholdningsaffald - Renescience",null,{"$f":"IFERROR(AVERAGEIF(INDIRECT(\"'Input'!F\"&INDEX('Energinetdk rapport'!$K$1:$K$5,MATCH('Energinetdk rapport'!$I$3,'Energinetdk rapport'!$J$1:$J$5,0))):INDIRECT(\"'Input'!F\"&INDEX('Energinetdk rapport'!$L$1:$L$5,MATCH('Energinetdk rapport'!$I$3,'Energinetdk rapport'!$J$1:$J$5,0))),B65,INDIRECT(\"'Input'!J\"&INDEX('Energinetdk rapport'!$K$1:$K$5,MATCH('Energinetdk rapport'!$I$3,'Energinetdk rapport'!$J$1:$J$5,0))):INDIRECT(\"'Input'!J\"&INDEX('Energinetdk rapport'!$L$1:$L$5,MATCH('Energinetdk rapport'!$I$3,'Energinetdk rapport'!$J$1:$J$5,0)))),0)","v":0},{"$f":"SUMIFS(INDIRECT(\"'Input'!H\"&INDEX('Energinetdk rapport'!$K$1:$K$5,MATCH('Energinetdk rapport'!$I$3,'Energinetdk rapport'!$J$1:$J$5,0))):INDIRECT(\"'Input'!H\"&INDEX('Energinetdk rapport'!$L$1:$L$5,MATCH('Energinetdk rapport'!$I$3,'Energinetdk rapport'!$J$1:$J$5,0))), INDIRECT(\"'Input'!F\"&INDEX('Energinetdk rapport'!$K$1:$K$5,MATCH('Energinetdk rapport'!$I$3,'Energinetdk rapport'!$J$1:$J$5,0))):INDIRECT(\"'Input'!F\"&INDEX('Energinetdk rapport'!$L$1:$L$5,MATCH('Energinetdk rapport'!$I$3,'Energinetdk rapport'!$J$1:$J$5,0))), B65)","v":0},0]
[null," -             Organisk husholdningsaffald - Pulper","Organisk husholdningsaffald - Pulper","Cellwood, Sverige",{"$f":"IFERROR(AVERAGEIF(INDIRECT(\"'Input'!F\"&INDEX('Energinetdk rapport'!$K$1:$K$5,MATCH('Energinetdk rapport'!$I$3,'Energinetdk rapport'!$J$1:$J$5,0))):INDIRECT(\"'Input'!F\"&INDEX('Energinetdk rapport'!$L$1:$L$5,MATCH('Energinetdk rapport'!$I$3,'Energinetdk rapport'!$J$1:$J$5,0))),B66,INDIRECT(\"'Input'!J\"&INDEX('Energinetdk rapport'!$K$1:$K$5,MATCH('Energinetdk rapport'!$I$3,'Energinetdk rapport'!$J$1:$J$5,0))):INDIRECT(\"'Input'!J\"&INDEX('Energinetdk rapport'!$L$1:$L$5,MATCH('Energinetdk rapport'!$I$3,'Energinetdk rapport'!$J$1:$J$5,0)))),0)","v":0},{"$f":"SUMIFS(INDIRECT(\"'Input'!H\"&INDEX('Energinetdk rapport'!$K$1:$K$5,MATCH('Energinetdk rapport'!$I$3,'Energinetdk rapport'!$J$1:$J$5,0))):INDIRECT(\"'Input'!H\"&INDEX('Energinetdk rapport'!$L$1:$L$5,MATCH('Energinetdk rapport'!$I$3,'Energinetdk rapport'!$J$1:$J$5,0))), INDIRECT(\"'Input'!F\"&INDEX('Energinetdk rapport'!$K$1:$K$5,MATCH('Energinetdk rapport'!$I$3,'Energinetdk rapport'!$J$1:$J$5,0))):INDIRECT(\"'Input'!F\"&INDEX('Energinetdk rapport'!$L$1:$L$5,MATCH('Energinetdk rapport'!$I$3,'Energinetdk rapport'!$J$1:$J$5,0))), B66)","v":0},0]
[null," -             Organisk husholdningsaffald - Rullesigte","Organisk husholdningsaffald - Rullesigte",null,{"$f":"IFERROR(AVERAGEIF(INDIRECT(\"'Input'!F\"&INDEX('Energinetdk rapport'!$K$1:$K$5,MATCH('Energinetdk rapport'!$I$3,'Energinetdk rapport'!$J$1:$J$5,0))):INDIRECT(\"'Input'!F\"&INDEX('Energinetdk rapport'!$L$1:$L$5,MATCH('Energinetdk rapport'!$I$3,'Energinetdk rapport'!$J$1:$J$5,0))),B67,INDIRECT(\"'Input'!J\"&INDEX('Energinetdk rapport'!$K$1:$K$5,MATCH('Energinetdk rapport'!$I$3,'Energinetdk rapport'!$J$1:$J$5,0))):INDIRECT(\"'Input'!J\"&INDEX('Energinetdk rapport'!$L$1:$L$5,MATCH('Energinetdk rapport'!$I$3,'Energinetdk rapport'!$J$1:$J$5,0)))),0)","v":0},{"$f":"SUMIFS(INDIRECT(\"'Input'!H\"&INDEX('Energinetdk rapport'!$K$1:$K$5,MATCH('Energinetdk rapport'!$I$3,'Energinetdk rapport'!$J$1:$J$5,0))):INDIRECT(\"'Input'!H\"&INDEX('Energinetdk rapport'!$L$1:$L$5,MATCH('Energinetdk rapport'!$I$3,'Energinetdk rapport'!$J$1:$J$5,0))), INDIRECT(\"'Input'!F\"&INDEX('Energinetdk rapport'!$K$1:$K$5,MATCH('Energinetdk rapport'!$I$3,'Energinetdk rapport'!$J$1:$J$5,0))):INDIRECT(\"'Input'!F\"&INDEX('Energinetdk rapport'!$L$1:$L$5,MATCH('Energinetdk rapport'!$I$3,'Energinetdk rapport'!$J$1:$J$5,0))), B67)","v":0},0]
[null," -             Organisk husholdningsaffald - Skruepresse","Organisk husholdningsaffald - Skruepresse",null,{"$f":"IFERROR(AVERAGEIF(INDIRECT(\"'Input'!F\"&INDEX('Energinetdk rapport'!$K$1:$K$5,MATCH('Energinetdk rapport'!$I$3,'Energinetdk rapport'!$J$1:$J$5,0))):INDIRECT(\"'Input'!F\"&INDEX('Energinetdk rapport'!$L$1:$L$5,MATCH('Energinetdk rapport'!$I$3,'Energinetdk rapport'!$J$1:$J$5,0))),B68,INDIRECT(\"'Input'!J\"&INDEX('Energinetdk rapport'!$K$1:$K$5,MATCH('Energinetdk rapport'!$I$3,'Energinetdk rapport'!$J$1:$J$5,0))):INDIRECT(\"'Input'!J\"&INDEX('Energinetdk rapport'!$L$1:$L$5,MATCH('Energinetdk rapport'!$I$3,'Energinetdk rapport'!$J$1:$J$5,0)))),0)","v":0},{"$f":"SUMIFS(INDIRECT(\"'Input'!H\"&INDEX('Energinetdk rapport'!$K$1:$K$5,MATCH('Energinetdk rapport'!$I$3,'Energinetdk rapport'!$J$1:$J$5,0))):INDIRECT(\"'Input'!H\"&INDEX('Energinetdk rapport'!$L$1:$L$5,MATCH('Energinetdk rapport'!$I$3,'Energinetdk rapport'!$J$1:$J$5,0))), INDIRECT(\"'Input'!F\"&INDEX('Energinetdk rapport'!$K$1:$K$5,MATCH('Energinetdk rapport'!$I$3,'Energinetdk rapport'!$J$1:$J$5,0))):INDIRECT(\"'Input'!F\"&INDEX('Energinetdk rapport'!$L$1:$L$5,MATCH('Energinetdk rapport'!$I$3,'Energinetdk rapport'!$J$1:$J$5,0))), B68)","v":0},0]
[null," -             Organisk husholdningsaffald - Neddeling","Organisk husholdningsaffald - Neddeling","Storkøkkenaffald - organisk fraktion separeret ",{"$f":"IFERROR(AVERAGEIF(INDIRECT(\"'Input'!F\"&INDEX('Energinetdk rapport'!$K$1:$K$5,MATCH('Energinetdk rapport'!$I$3,'Energinetdk rapport'!$J$1:$J$5,0))):INDIRECT(\"'Input'!F\"&INDEX('Energinetdk rapport'!$L$1:$L$5,MATCH('Energinetdk rapport'!$I$3,'Energinetdk rapport'!$J$1:$J$5,0))),B69,INDIRECT(\"'Input'!J\"&INDEX('Energinetdk rapport'!$K$1:$K$5,MATCH('Energinetdk rapport'!$I$3,'Energinetdk rapport'!$J$1:$J$5,0))):INDIRECT(\"'Input'!J\"&INDEX('Energinetdk rapport'!$L$1:$L$5,MATCH('Energinetdk rapport'!$I$3,'Energinetdk rapport'!$J$1:$J$5,0)))),0)","v":0},{"$f":"SUMIFS(INDIRECT(\"'Input'!H\"&INDEX('Energinetdk rapport'!$K$1:$K$5,MATCH('Energinetdk rapport'!$I$3,'Energinetdk rapport'!$J$1:$J$5,0))):INDIRECT(\"'Input'!H\"&INDEX('Energinetdk rapport'!$L$1:$L$5,MATCH('Energinetdk rapport'!$I$3,'Energinetdk rapport'!$J$1:$J$5,0))), INDIRECT(\"'Input'!F\"&INDEX('Energinetdk rapport'!$K$1:$K$5,MATCH('Energinetdk rapport'!$I$3,'Energinetdk rapport'!$J$1:$J$5,0))):INDIRECT(\"'Input'!F\"&INDEX('Energinetdk rapport'!$L$1:$L$5,MATCH('Energinetdk rapport'!$I$3,'Energinetdk rapport'!$J$1:$J$5,0))), B69)","v":0},0]
[null," -             Mave/tarm kvæg","Mave/tarm kvæg",null,{"$f":"IFERROR(AVERAGEIF(INDIRECT(\"'Input'!F\"&INDEX('Energinetdk rapport'!$K$1:$K$5,MATCH('Energinetdk rapport'!$I$3,'Energinetdk rapport'!$J$1:$J$5,0))):INDIRECT(\"'Input'!F\"&INDEX('Energinetdk rapport'!$L$1:$L$5,MATCH('Energinetdk rapport'!$I$3,'Energinetdk rapport'!$J$1:$J$5,0))),B70,INDIRECT(\"'Input'!J\"&INDEX('Energinetdk rapport'!$K$1:$K$5,MATCH('Energinetdk rapport'!$I$3,'Energinetdk rapport'!$J$1:$J$5,0))):INDIRECT(\"'Input'!J\"&INDEX('Energinetdk rapport'!$L$1:$L$5,MATCH('Energinetdk rapport'!$I$3,'Energinetdk rapport'!$J$1:$J$5,0)))),0)","v":0},{"$f":"SUMIFS(INDIRECT(\"'Input'!H\"&INDEX('Energinetdk rapport'!$K$1:$K$5,MATCH('Energinetdk rapport'!$I$3,'Energinetdk rapport'!$J$1:$J$5,0))):INDIRECT(\"'Input'!H\"&INDEX('Energinetdk rapport'!$L$1:$L$5,MATCH('Energinetdk rapport'!$I$3,'Energinetdk rapport'!$J$1:$J$5,0))), INDIRECT(\"'Input'!F\"&INDEX('Energinetdk rapport'!$K$1:$K$5,MATCH('Energinetdk rapport'!$I$3,'Energinetdk rapport'!$J$1:$J$5,0))):INDIRECT(\"'Input'!F\"&INDEX('Energinetdk rapport'!$L$1:$L$5,MATCH('Energinetdk rapport'!$I$3,'Energinetdk rapport'!$J$1:$J$5,0))), B70)","v":0},0]
[null," -             Mave/tarm svin","Mave/tarm svin",null,{"$f":"IFERROR(AVERAGEIF(INDIRECT(\"'Input'!F\"&INDEX('Energinetdk rapport'!$K$1:$K$5,MATCH('Energinetdk rapport'!$I$3,'Energinetdk rapport'!$J$1:$J$5,0))):INDIRECT(\"'Input'!F\"&INDEX('Energinetdk rapport'!$L$1:$L$5,MATCH('Energinetdk rapport'!$I$3,'Energinetdk rapport'!$J$1:$J$5,0))),B71,INDIRECT(\"'Input'!J\"&INDEX('Energinetdk rapport'!$K$1:$K$5,MATCH('Energinetdk rapport'!$I$3,'Energinetdk rapport'!$J$1:$J$5,0))):INDIRECT(\"'Input'!J\"&INDEX('Energinetdk rapport'!$L$1:$L$5,MATCH('Energinetdk rapport'!$I$3,'Energinetdk rapport'!$J$1:$J$5,0)))),0)","v":0},{"$f":"SUMIFS(INDIRECT(\"'Input'!H\"&INDEX('Energinetdk rapport'!$K$1:$K$5,MATCH('Energinetdk rapport'!$I$3,'Energinetdk rapport'!$J$1:$J$5,0))):INDIRECT(\"'Input'!H\"&INDEX('Energinetdk rapport'!$L$1:$L$5,MATCH('Energinetdk rapport'!$I$3,'Energinetdk rapport'!$J$1:$J$5,0))), INDIRECT(\"'Input'!F\"&INDEX('Energinetdk rapport'!$K$1:$K$5,MATCH('Energinetdk rapport'!$I$3,'Energinetdk rapport'!$J$1:$J$5,0))):INDIRECT(\"'Input'!F\"&INDEX('Energinetdk rapport'!$L$1:$L$5,MATCH('Energinetdk rapport'!$I$3,'Energinetdk rapport'!$J$1:$J$5,0))), B71)","v":0},0]
[null," -             Valle","Valle",null,{"$f":"IFERROR(AVERAGEIF(INDIRECT(\"'Input'!F\"&INDEX('Energinetdk rapport'!$K$1:$K$5,MATCH('Energinetdk rapport'!$I$3,'Energinetdk rapport'!$J$1:$J$5,0))):INDIRECT(\"'Input'!F\"&INDEX('Energinetdk rapport'!$L$1:$L$5,MATCH('Energinetdk rapport'!$I$3,'Energinetdk rapport'!$J$1:$J$5,0))),B72,INDIRECT(\"'Input'!J\"&INDEX('Energinetdk rapport'!$K$1:$K$5,MATCH('Energinetdk rapport'!$I$3,'Energinetdk rapport'!$J$1:$J$5,0))):INDIRECT(\"'Input'!J\"&INDEX('Energinetdk rapport'!$L$1:$L$5,MATCH('Energinetdk rapport'!$I$3,'Energinetdk rapport'!$J$1:$J$5,0)))),0)","v":0},{"$f":"SUMIFS(INDIRECT(\"'Input'!H\"&INDEX('Energinetdk rapport'!$K$1:$K$5,MATCH('Energinetdk rapport'!$I$3,'Energinetdk rapport'!$J$1:$J$5,0))):INDIRECT(\"'Input'!H\"&INDEX('Energinetdk rapport'!$L$1:$L$5,MATCH('Energinetdk rapport'!$I$3,'Energinetdk rapport'!$J$1:$J$5,0))), INDIRECT(\"'Input'!F\"&INDEX('Energinetdk rapport'!$K$1:$K$5,MATCH('Energinetdk rapport'!$I$3,'Energinetdk rapport'!$J$1:$J$5,0))):INDIRECT(\"'Input'!F\"&INDEX('Energinetdk rapport'!$L$1:$L$5,MATCH('Energinetdk rapport'!$I$3,'Energinetdk rapport'!$J$1:$J$5,0))), B72)","v":0},0]
[null," -             Valle koncentrat","Valle koncentrat",null,{"$f":"IFERROR(AVERAGEIF(INDIRECT(\"'Input'!F\"&INDEX('Energinetdk rapport'!$K$1:$K$5,MATCH('Energinetdk rapport'!$I$3,'Energinetdk rapport'!$J$1:$J$5,0))):INDIRECT(\"'Input'!F\"&INDEX('Energinetdk rapport'!$L$1:$L$5,MATCH('Energinetdk rapport'!$I$3,'Energinetdk rapport'!$J$1:$J$5,0))),B73,INDIRECT(\"'Input'!J\"&INDEX('Energinetdk rapport'!$K$1:$K$5,MATCH('Energinetdk rapport'!$I$3,'Energinetdk rapport'!$J$1:$J$5,0))):INDIRECT(\"'Input'!J\"&INDEX('Energinetdk rapport'!$L$1:$L$5,MATCH('Energinetdk rapport'!$I$3,'Energinetdk rapport'!$J$1:$J$5,0)))),0)","v":0},{"$f":"SUMIFS(INDIRECT(\"'Input'!H\"&INDEX('Energinetdk rapport'!$K$1:$K$5,MATCH('Energinetdk rapport'!$I$3,'Energinetdk rapport'!$J$1:$J$5,0))):INDIRECT(\"'Input'!H\"&INDEX('Energinetdk rapport'!$L$1:$L$5,MATCH('Energinetdk rapport'!$I$3,'Energinetdk rapport'!$J$1:$J$5,0))), INDIRECT(\"'Input'!F\"&INDEX('Energinetdk rapport'!$K$1:$K$5,MATCH('Energinetdk rapport'!$I$3,'Energinetdk rapport'!$J$1:$J$5,0))):INDIRECT(\"'Input'!F\"&INDEX('Energinetdk rapport'!$L$1:$L$5,MATCH('Energinetdk rapport'!$I$3,'Energinetdk rapport'!$J$1:$J$5,0))), B73)","v":0},0]
[null," -             Protein","Protein",null,{"$f":"IFERROR(AVERAGEIF(INDIRECT(\"'Input'!F\"&INDEX('Energinetdk rapport'!$K$1:$K$5,MATCH('Energinetdk rapport'!$I$3,'Energinetdk rapport'!$J$1:$J$5,0))):INDIRECT(\"'Input'!F\"&INDEX('Energinetdk rapport'!$L$1:$L$5,MATCH('Energinetdk rapport'!$I$3,'Energinetdk rapport'!$J$1:$J$5,0))),B74,INDIRECT(\"'Input'!J\"&INDEX('Energinetdk rapport'!$K$1:$K$5,MATCH('Energinetdk rapport'!$I$3,'Energinetdk rapport'!$J$1:$J$5,0))):INDIRECT(\"'Input'!J\"&INDEX('Energinetdk rapport'!$L$1:$L$5,MATCH('Energinetdk rapport'!$I$3,'Energinetdk rapport'!$J$1:$J$5,0)))),0)","v":0},{"$f":"SUMIFS(INDIRECT(\"'Input'!H\"&INDEX('Energinetdk rapport'!$K$1:$K$5,MATCH('Energinetdk rapport'!$I$3,'Energinetdk rapport'!$J$1:$J$5,0))):INDIRECT(\"'Input'!H\"&INDEX('Energinetdk rapport'!$L$1:$L$5,MATCH('Energinetdk rapport'!$I$3,'Energinetdk rapport'!$J$1:$J$5,0))), INDIRECT(\"'Input'!F\"&INDEX('Energinetdk rapport'!$K$1:$K$5,MATCH('Energinetdk rapport'!$I$3,'Energinetdk rapport'!$J$1:$J$5,0))):INDIRECT(\"'Input'!F\"&INDEX('Energinetdk rapport'!$L$1:$L$5,MATCH('Energinetdk rapport'!$I$3,'Energinetdk rapport'!$J$1:$J$5,0))), B74)","v":0},0]
[null," -             Fedt","Fedt",null,{"$f":"IFERROR(AVERAGEIF(INDIRECT(\"'Input'!F\"&INDEX('Energinetdk rapport'!$K$1:$K$5,MATCH('Energinetdk rapport'!$I$3,'Energinetdk rapport'!$J$1:$J$5,0))):INDIRECT(\"'Input'!F\"&INDEX('Energinetdk rapport'!$L$1:$L$5,MATCH('Energinetdk rapport'!$I$3,'Energinetdk rapport'!$J$1:$J$5,0))),B75,INDIRECT(\"'Input'!J\"&INDEX('Energinetdk rapport'!$K$1:$K$5,MATCH('Energinetdk rapport'!$I$3,'Energinetdk rapport'!$J$1:$J$5,0))):INDIRECT(\"'Input'!J\"&INDEX('Energinetdk rapport'!$L$1:$L$5,MATCH('Energinetdk rapport'!$I$3,'Energinetdk rapport'!$J$1:$J$5,0)))),0)","v":0},{"$f":"SUMIFS(INDIRECT(\"'Input'!H\"&INDEX('Energinetdk rapport'!$K$1:$K$5,MATCH('Energinetdk rapport'!$I$3,'Energinetdk rapport'!$J$1:$J$5,0))):INDIRECT(\"'Input'!H\"&INDEX('Energinetdk rapport'!$L$1:$L$5,MATCH('Energinetdk rapport'!$I$3,'Energinetdk rapport'!$J$1:$J$5,0))), INDIRECT(\"'Input'!F\"&INDEX('Energinetdk rapport'!$K$1:$K$5,MATCH('Energinetdk rapport'!$I$3,'Energinetdk rapport'!$J$1:$J$5,0))):INDIRECT(\"'Input'!F\"&INDEX('Energinetdk rapport'!$L$1:$L$5,MATCH('Energinetdk rapport'!$I$3,'Energinetdk rapport'!$J$1:$J$5,0))), B75)","v":0},0]
[null," -             Glukose","Glukose",null,{"$f":"IFERROR(AVERAGEIF(INDIRECT(\"'Input'!F\"&INDEX('Energinetdk rapport'!$K$1:$K$5,MATCH('Energinetdk rapport'!$I$3,'Energinetdk rapport'!$J$1:$J$5,0))):INDIRECT(\"'Input'!F\"&INDEX('Energinetdk rapport'!$L$1:$L$5,MATCH('Energinetdk rapport'!$I$3,'Energinetdk rapport'!$J$1:$J$5,0))),B76,INDIRECT(\"'Input'!J\"&INDEX('Energinetdk rapport'!$K$1:$K$5,MATCH('Energinetdk rapport'!$I$3,'Energinetdk rapport'!$J$1:$J$5,0))):INDIRECT(\"'Input'!J\"&INDEX('Energinetdk rapport'!$L$1:$L$5,MATCH('Energinetdk rapport'!$I$3,'Energinetdk rapport'!$J$1:$J$5,0)))),0)","v":0},{"$f":"SUMIFS(INDIRECT(\"'Input'!H\"&INDEX('Energinetdk rapport'!$K$1:$K$5,MATCH('Energinetdk rapport'!$I$3,'Energinetdk rapport'!$J$1:$J$5,0))):INDIRECT(\"'Input'!H\"&INDEX('Energinetdk rapport'!$L$1:$L$5,MATCH('Energinetdk rapport'!$I$3,'Energinetdk rapport'!$J$1:$J$5,0))), INDIRECT(\"'Input'!F\"&INDEX('Energinetdk rapport'!$K$1:$K$5,MATCH('Energinetdk rapport'!$I$3,'Energinetdk rapport'!$J$1:$J$5,0))):INDIRECT(\"'Input'!F\"&INDEX('Energinetdk rapport'!$L$1:$L$5,MATCH('Energinetdk rapport'!$I$3,'Energinetdk rapport'!$J$1:$J$5,0))), B76)","v":0},0]
[null," -             Alkohol","Alkohol",null,{"$f":"IFERROR(AVERAGEIF(INDIRECT(\"'Input'!F\"&INDEX('Energinetdk rapport'!$K$1:$K$5,MATCH('Energinetdk rapport'!$I$3,'Energinetdk rapport'!$J$1:$J$5,0))):INDIRECT(\"'Input'!F\"&INDEX('Energinetdk rapport'!$L$1:$L$5,MATCH('Energinetdk rapport'!$I$3,'Energinetdk rapport'!$J$1:$J$5,0))),B77,INDIRECT(\"'Input'!J\"&INDEX('Energinetdk rapport'!$K$1:$K$5,MATCH('Energinetdk rapport'!$I$3,'Energinetdk rapport'!$J$1:$J$5,0))):INDIRECT(\"'Input'!J\"&INDEX('Energinetdk rapport'!$L$1:$L$5,MATCH('Energinetdk rapport'!$I$3,'Energinetdk rapport'!$J$1:$J$5,0)))),0)","v":0},{"$f":"SUMIFS(INDIRECT(\"'Input'!H\"&INDEX('Energinetdk rapport'!$K$1:$K$5,MATCH('Energinetdk rapport'!$I$3,'Energinetdk rapport'!$J$1:$J$5,0))):INDIRECT(\"'Input'!H\"&INDEX('Energinetdk rapport'!$L$1:$L$5,MATCH('Energinetdk rapport'!$I$3,'Energinetdk rapport'!$J$1:$J$5,0))), INDIRECT(\"'Input'!F\"&INDEX('Energinetdk rapport'!$K$1:$K$5,MATCH('Energinetdk rapport'!$I$3,'Energinetdk rapport'!$J$1:$J$5,0))):INDIRECT(\"'Input'!F\"&INDEX('Energinetdk rapport'!$L$1:$L$5,MATCH('Energinetdk rapport'!$I$3,'Energinetdk rapport'!$J$1:$J$5,0))), B77)","v":0},0]
[null," -             Råglycerin","Råglycerin","F.eks. Fra biodieselproduktion",{"$f":"IFERROR(AVERAGEIF(INDIRECT(\"'Input'!F\"&INDEX('Energinetdk rapport'!$K$1:$K$5,MATCH('Energinetdk rapport'!$I$3,'Energinetdk rapport'!$J$1:$J$5,0))):INDIRECT(\"'Input'!F\"&INDEX('Energinetdk rapport'!$L$1:$L$5,MATCH('Energinetdk rapport'!$I$3,'Energinetdk rapport'!$J$1:$J$5,0))),B78,INDIRECT(\"'Input'!J\"&INDEX('Energinetdk rapport'!$K$1:$K$5,MATCH('Energinetdk rapport'!$I$3,'Energinetdk rapport'!$J$1:$J$5,0))):INDIRECT(\"'Input'!J\"&INDEX('Energinetdk rapport'!$L$1:$L$5,MATCH('Energinetdk rapport'!$I$3,'Energinetdk rapport'!$J$1:$J$5,0)))),0)","v":0},{"$f":"SUMIFS(INDIRECT(\"'Input'!H\"&INDEX('Energinetdk rapport'!$K$1:$K$5,MATCH('Energinetdk rapport'!$I$3,'Energinetdk rapport'!$J$1:$J$5,0))):INDIRECT(\"'Input'!H\"&INDEX('Energinetdk rapport'!$L$1:$L$5,MATCH('Energinetdk rapport'!$I$3,'Energinetdk rapport'!$J$1:$J$5,0))), INDIRECT(\"'Input'!F\"&INDEX('Energinetdk rapport'!$K$1:$K$5,MATCH('Energinetdk rapport'!$I$3,'Energinetdk rapport'!$J$1:$J$5,0))):INDIRECT(\"'Input'!F\"&INDEX('Energinetdk rapport'!$L$1:$L$5,MATCH('Energinetdk rapport'!$I$3,'Energinetdk rapport'!$J$1:$J$5,0))), B78)","v":0},0]
[null," -             Cellulose","Cellulose",null,{"$f":"IFERROR(AVERAGEIF(INDIRECT(\"'Input'!F\"&INDEX('Energinetdk rapport'!$K$1:$K$5,MATCH('Energinetdk rapport'!$I$3,'Energinetdk rapport'!$J$1:$J$5,0))):INDIRECT(\"'Input'!F\"&INDEX('Energinetdk rapport'!$L$1:$L$5,MATCH('Energinetdk rapport'!$I$3,'Energinetdk rapport'!$J$1:$J$5,0))),B79,INDIRECT(\"'Input'!J\"&INDEX('Energinetdk rapport'!$K$1:$K$5,MATCH('Energinetdk rapport'!$I$3,'Energinetdk rapport'!$J$1:$J$5,0))):INDIRECT(\"'Input'!J\"&INDEX('Energinetdk rapport'!$L$1:$L$5,MATCH('Energinetdk rapport'!$I$3,'Energinetdk rapport'!$J$1:$J$5,0)))),0)","v":0},{"$f":"SUMIFS(INDIRECT(\"'Input'!H\"&INDEX('Energinetdk rapport'!$K$1:$K$5,MATCH('Energinetdk rapport'!$I$3,'Energinetdk rapport'!$J$1:$J$5,0))):INDIRECT(\"'Input'!H\"&INDEX('Energinetdk rapport'!$L$1:$L$5,MATCH('Energinetdk rapport'!$I$3,'Energinetdk rapport'!$J$1:$J$5,0))), INDIRECT(\"'Input'!F\"&INDEX('Energinetdk rapport'!$K$1:$K$5,MATCH('Energinetdk rapport'!$I$3,'Energinetdk rapport'!$J$1:$J$5,0))):INDIRECT(\"'Input'!F\"&INDEX('Energinetdk rapport'!$L$1:$L$5,MATCH('Energinetdk rapport'!$I$3,'Energinetdk rapport'!$J$1:$J$5,0))), B79)","v":0},0]
[null," -             Andre afgrøder","Andre energiafgrøder",null,{"$f":"IFERROR(AVERAGEIF(INDIRECT(\"'Input'!F\"&INDEX('Energinetdk rapport'!$K$1:$K$5,MATCH('Energinetdk rapport'!$I$3,'Energinetdk rapport'!$J$1:$J$5,0))):INDIRECT(\"'Input'!F\"&INDEX('Energinetdk rapport'!$L$1:$L$5,MATCH('Energinetdk rapport'!$I$3,'Energinetdk rapport'!$J$1:$J$5,0))),B80,INDIRECT(\"'Input'!J\"&INDEX('Energinetdk rapport'!$K$1:$K$5,MATCH('Energinetdk rapport'!$I$3,'Energinetdk rapport'!$J$1:$J$5,0))):INDIRECT(\"'Input'!J\"&INDEX('Energinetdk rapport'!$L$1:$L$5,MATCH('Energinetdk rapport'!$I$3,'Energinetdk rapport'!$J$1:$J$5,0)))),0)","v":0},{"$f":"SUMIFS(INDIRECT(\"'Input'!H\"&INDEX('Energinetdk rapport'!$K$1:$K$5,MATCH('Energinetdk rapport'!$I$3,'Energinetdk rapport'!$J$1:$J$5,0))):INDIRECT(\"'Input'!H\"&INDEX('Energinetdk rapport'!$L$1:$L$5,MATCH('Energinetdk rapport'!$I$3,'Energinetdk rapport'!$J$1:$J$5,0))), INDIRECT(\"'Input'!F\"&INDEX('Energinetdk rapport'!$K$1:$K$5,MATCH('Energinetdk rapport'!$I$3,'Energinetdk rapport'!$J$1:$J$5,0))):INDIRECT(\"'Input'!F\"&INDEX('Energinetdk rapport'!$L$1:$L$5,MATCH('Energinetdk rapport'!$I$3,'Energinetdk rapport'!$J$1:$J$5,0))), B80)","v":0},0]
[null," -             Anden husdyrgødning","Anden husdyrgødning",null,{"$f":"IFERROR(AVERAGEIF(INDIRECT(\"'Input'!F\"&INDEX('Energinetdk rapport'!$K$1:$K$5,MATCH('Energinetdk rapport'!$I$3,'Energinetdk rapport'!$J$1:$J$5,0))):INDIRECT(\"'Input'!F\"&INDEX('Energinetdk rapport'!$L$1:$L$5,MATCH('Energinetdk rapport'!$I$3,'Energinetdk rapport'!$J$1:$J$5,0))),B81,INDIRECT(\"'Input'!J\"&INDEX('Energinetdk rapport'!$K$1:$K$5,MATCH('Energinetdk rapport'!$I$3,'Energinetdk rapport'!$J$1:$J$5,0))):INDIRECT(\"'Input'!J\"&INDEX('Energinetdk rapport'!$L$1:$L$5,MATCH('Energinetdk rapport'!$I$3,'Energinetdk rapport'!$J$1:$J$5,0)))),0)","v":0},{"$f":"SUMIFS(INDIRECT(\"'Input'!H\"&INDEX('Energinetdk rapport'!$K$1:$K$5,MATCH('Energinetdk rapport'!$I$3,'Energinetdk rapport'!$J$1:$J$5,0))):INDIRECT(\"'Input'!H\"&INDEX('Energinetdk rapport'!$L$1:$L$5,MATCH('Energinetdk rapport'!$I$3,'Energinetdk rapport'!$J$1:$J$5,0))), INDIRECT(\"'Input'!F\"&INDEX('Energinetdk rapport'!$K$1:$K$5,MATCH('Energinetdk rapport'!$I$3,'Energinetdk rapport'!$J$1:$J$5,0))):INDIRECT(\"'Input'!F\"&INDEX('Energinetdk rapport'!$L$1:$L$5,MATCH('Energinetdk rapport'!$I$3,'Energinetdk rapport'!$J$1:$J$5,0))), B81)","v":0},0]
[null,null,"Anden biomasse",null,{"$f":"IFERROR(AVERAGEIF(INDIRECT(\"'Input'!F\"&INDEX('Energinetdk rapport'!$K$1:$K$5,MATCH('Energinetdk rapport'!$I$3,'Energinetdk rapport'!$J$1:$J$5,0))):INDIRECT(\"'Input'!F\"&INDEX('Energinetdk rapport'!$L$1:$L$5,MATCH('Energinetdk rapport'!$I$3,'Energinetdk rapport'!$J$1:$J$5,0))),C82,INDIRECT(\"'Input'!J\"&INDEX('Energinetdk rapport'!$K$1:$K$5,MATCH('Energinetdk rapport'!$I$3,'Energinetdk rapport'!$J$1:$J$5,0))):INDIRECT(\"'Input'!J\"&INDEX('Energinetdk rapport'!$L$1:$L$5,MATCH('Energinetdk rapport'!$I$3,'Energinetdk rapport'!$J$1:$J$5,0)))),0)","v":0},{"$f":"SUMIFS(INDIRECT(\"'Input'!H\"&INDEX('Energinetdk rapport'!$K$1:$K$5,MATCH('Energinetdk rapport'!$I$3,'Energinetdk rapport'!$J$1:$J$5,0))):INDIRECT(\"'Input'!H\"&INDEX('Energinetdk rapport'!$L$1:$L$5,MATCH('Energinetdk rapport'!$I$3,'Energinetdk rapport'!$J$1:$J$5,0))), INDIRECT(\"'Input'!F\"&INDEX('Energinetdk rapport'!$K$1:$K$5,MATCH('Energinetdk rapport'!$I$3,'Energinetdk rapport'!$J$1:$J$5,0))):INDIRECT(\"'Input'!F\"&INDEX('Energinetdk rapport'!$L$1:$L$5,MATCH('Energinetdk rapport'!$I$3,'Energinetdk rapport'!$J$1:$J$5,0))), C82)","v":0},{"$f":"IFERROR(F82/SUM($F$6:$F$128),0)","v":0}]
[null,null,{"$f":"IF(Biomasser!A79=\"\",\"\", Biomasser!A79)","v":""},{"$f":"IF(Biomasser!J79=\"\",\"\", Biomasser!J79)","v":""},{"$f":"IFERROR(AVERAGEIF(INDIRECT(\"'Input'!F\"&INDEX('Energinetdk rapport'!$K$1:$K$5,MATCH('Energinetdk rapport'!$I$3,'Energinetdk rapport'!$J$1:$J$5,0))):INDIRECT(\"'Input'!F\"&INDEX('Energinetdk rapport'!$L$1:$L$5,MATCH('Energinetdk rapport'!$I$3,'Energinetdk rapport'!$J$1:$J$5,0))),C83,INDIRECT(\"'Input'!J\"&INDEX('Energinetdk rapport'!$K$1:$K$5,MATCH('Energinetdk rapport'!$I$3,'Energinetdk rapport'!$J$1:$J$5,0))):INDIRECT(\"'Input'!J\"&INDEX('Energinetdk rapport'!$L$1:$L$5,MATCH('Energinetdk rapport'!$I$3,'Energinetdk rapport'!$J$1:$J$5,0)))),0)","v":0},{"$f":"SUMIFS(INDIRECT(\"'Input'!H\"&INDEX('Energinetdk rapport'!$K$1:$K$5,MATCH('Energinetdk rapport'!$I$3,'Energinetdk rapport'!$J$1:$J$5,0))):INDIRECT(\"'Input'!H\"&INDEX('Energinetdk rapport'!$L$1:$L$5,MATCH('Energinetdk rapport'!$I$3,'Energinetdk rapport'!$J$1:$J$5,0))), INDIRECT(\"'Input'!F\"&INDEX('Energinetdk rapport'!$K$1:$K$5,MATCH('Energinetdk rapport'!$I$3,'Energinetdk rapport'!$J$1:$J$5,0))):INDIRECT(\"'Input'!F\"&INDEX('Energinetdk rapport'!$L$1:$L$5,MATCH('Energinetdk rapport'!$I$3,'Energinetdk rapport'!$J$1:$J$5,0))), C83)","v":0},0]
[null,null,{"$f":"IF(Biomasser!A80=\"\",\"\", Biomasser!A80)","v":""},{"$f":"IF(Biomasser!J80=\"\",\"\", Biomasser!J80)","v":""},{"$f":"IFERROR(AVERAGEIF(INDIRECT(\"'Input'!F\"&INDEX('Energinetdk rapport'!$K$1:$K$5,MATCH('Energinetdk rapport'!$I$3,'Energinetdk rapport'!$J$1:$J$5,0))):INDIRECT(\"'Input'!F\"&INDEX('Energinetdk rapport'!$L$1:$L$5,MATCH('Energinetdk rapport'!$I$3,'Energinetdk rapport'!$J$1:$J$5,0))),C84,INDIRECT(\"'Input'!J\"&INDEX('Energinetdk rapport'!$K$1:$K$5,MATCH('Energinetdk rapport'!$I$3,'Energinetdk rapport'!$J$1:$J$5,0))):INDIRECT(\"'Input'!J\"&INDEX('Energinetdk rapport'!$L$1:$L$5,MATCH('Energinetdk rapport'!$I$3,'Energinetdk rapport'!$J$1:$J$5,0)))),0)","v":0},{"$f":"SUMIFS(INDIRECT(\"'Input'!H\"&INDEX('Energinetdk rapport'!$K$1:$K$5,MATCH('Energinetdk rapport'!$I$3,'Energinetdk rapport'!$J$1:$J$5,0))):INDIRECT(\"'Input'!H\"&INDEX('Energinetdk rapport'!$L$1:$L$5,MATCH('Energinetdk rapport'!$I$3,'Energinetdk rapport'!$J$1:$J$5,0))), INDIRECT(\"'Input'!F\"&INDEX('Energinetdk rapport'!$K$1:$K$5,MATCH('Energinetdk rapport'!$I$3,'Energinetdk rapport'!$J$1:$J$5,0))):INDIRECT(\"'Input'!F\"&INDEX('Energinetdk rapport'!$L$1:$L$5,MATCH('Energinetdk rapport'!$I$3,'Energinetdk rapport'!$J$1:$J$5,0))), C84)","v":0},0]
[null,null,{"$f":"IF(Biomasser!A81=\"\",\"\", Biomasser!A81)","v":""},{"$f":"IF(Biomasser!J81=\"\",\"\", Biomasser!J81)","v":""},{"$f":"IFERROR(AVERAGEIF(INDIRECT(\"'Input'!F\"&INDEX('Energinetdk rapport'!$K$1:$K$5,MATCH('Energinetdk rapport'!$I$3,'Energinetdk rapport'!$J$1:$J$5,0))):INDIRECT(\"'Input'!F\"&INDEX('Energinetdk rapport'!$L$1:$L$5,MATCH('Energinetdk rapport'!$I$3,'Energinetdk rapport'!$J$1:$J$5,0))),C85,INDIRECT(\"'Input'!J\"&INDEX('Energinetdk rapport'!$K$1:$K$5,MATCH('Energinetdk rapport'!$I$3,'Energinetdk rapport'!$J$1:$J$5,0))):INDIRECT(\"'Input'!J\"&INDEX('Energinetdk rapport'!$L$1:$L$5,MATCH('Energinetdk rapport'!$I$3,'Energinetdk rapport'!$J$1:$J$5,0)))),0)","v":0},{"$f":"SUMIFS(INDIRECT(\"'Input'!H\"&INDEX('Energinetdk rapport'!$K$1:$K$5,MATCH('Energinetdk rapport'!$I$3,'Energinetdk rapport'!$J$1:$J$5,0))):INDIRECT(\"'Input'!H\"&INDEX('Energinetdk rapport'!$L$1:$L$5,MATCH('Energinetdk rapport'!$I$3,'Energinetdk rapport'!$J$1:$J$5,0))), INDIRECT(\"'Input'!F\"&INDEX('Energinetdk rapport'!$K$1:$K$5,MATCH('Energinetdk rapport'!$I$3,'Energinetdk rapport'!$J$1:$J$5,0))):INDIRECT(\"'Input'!F\"&INDEX('Energinetdk rapport'!$L$1:$L$5,MATCH('Energinetdk rapport'!$I$3,'Energinetdk rapport'!$J$1:$J$5,0))), C85)","v":0},0]
[null,null,{"$f":"IF(Biomasser!A82=\"\",\"\", Biomasser!A82)","v":""},{"$f":"IF(Biomasser!J82=\"\",\"\", Biomasser!J82)","v":""},{"$f":"IFERROR(AVERAGEIF(INDIRECT(\"'Input'!F\"&INDEX('Energinetdk rapport'!$K$1:$K$5,MATCH('Energinetdk rapport'!$I$3,'Energinetdk rapport'!$J$1:$J$5,0))):INDIRECT(\"'Input'!F\"&INDEX('Energinetdk rapport'!$L$1:$L$5,MATCH('Energinetdk rapport'!$I$3,'Energinetdk rapport'!$J$1:$J$5,0))),C83,INDIRECT(\"'Input'!J\"&INDEX('Energinetdk rapport'!$K$1:$K$5,MATCH('Energinetdk rapport'!$I$3,'Energinetdk rapport'!$J$1:$J$5,0))):INDIRECT(\"'Input'!J\"&INDEX('Energinetdk rapport'!$L$1:$L$5,MATCH('Energinetdk rapport'!$I$3,'Energinetdk rapport'!$J$1:$J$5,0)))),0)","v":0},{"$f":"SUMIFS(INDIRECT(\"'Input'!H\"&INDEX('Energinetdk rapport'!$K$1:$K$5,MATCH('Energinetdk rapport'!$I$3,'Energinetdk rapport'!$J$1:$J$5,0))):INDIRECT(\"'Input'!H\"&INDEX('Energinetdk rapport'!$L$1:$L$5,MATCH('Energinetdk rapport'!$I$3,'Energinetdk rapport'!$J$1:$J$5,0))), INDIRECT(\"'Input'!F\"&INDEX('Energinetdk rapport'!$K$1:$K$5,MATCH('Energinetdk rapport'!$I$3,'Energinetdk rapport'!$J$1:$J$5,0))):INDIRECT(\"'Input'!F\"&INDEX('Energinetdk rapport'!$L$1:$L$5,MATCH('Energinetdk rapport'!$I$3,'Energinetdk rapport'!$J$1:$J$5,0))), C86)","v":0},0]
[null,null,{"$f":"IF(Biomasser!A83=\"\",\"\", Biomasser!A83)","v":""},{"$f":"IF(Biomasser!J83=\"\",\"\", Biomasser!J83)","v":""},{"$f":"IFERROR(AVERAGEIF(INDIRECT(\"'Input'!F\"&INDEX('Energinetdk rapport'!$K$1:$K$5,MATCH('Energinetdk rapport'!$I$3,'Energinetdk rapport'!$J$1:$J$5,0))):INDIRECT(\"'Input'!F\"&INDEX('Energinetdk rapport'!$L$1:$L$5,MATCH('Energinetdk rapport'!$I$3,'Energinetdk rapport'!$J$1:$J$5,0))),C87,INDIRECT(\"'Input'!J\"&INDEX('Energinetdk rapport'!$K$1:$K$5,MATCH('Energinetdk rapport'!$I$3,'Energinetdk rapport'!$J$1:$J$5,0))):INDIRECT(\"'Input'!J\"&INDEX('Energinetdk rapport'!$L$1:$L$5,MATCH('Energinetdk rapport'!$I$3,'Energinetdk rapport'!$J$1:$J$5,0)))),0)","v":0},{"$f":"SUMIFS(INDIRECT(\"'Input'!H\"&INDEX('Energinetdk rapport'!$K$1:$K$5,MATCH('Energinetdk rapport'!$I$3,'Energinetdk rapport'!$J$1:$J$5,0))):INDIRECT(\"'Input'!H\"&INDEX('Energinetdk rapport'!$L$1:$L$5,MATCH('Energinetdk rapport'!$I$3,'Energinetdk rapport'!$J$1:$J$5,0))), INDIRECT(\"'Input'!F\"&INDEX('Energinetdk rapport'!$K$1:$K$5,MATCH('Energinetdk rapport'!$I$3,'Energinetdk rapport'!$J$1:$J$5,0))):INDIRECT(\"'Input'!F\"&INDEX('Energinetdk rapport'!$L$1:$L$5,MATCH('Energinetdk rapport'!$I$3,'Energinetdk rapport'!$J$1:$J$5,0))), C87)","v":0},0]
[null,null,{"$f":"IF(Biomasser!A84=\"\",\"\", Biomasser!A84)","v":""},{"$f":"IF(Biomasser!J84=\"\",\"\", Biomasser!J84)","v":""},{"$f":"IFERROR(AVERAGEIF(INDIRECT(\"'Input'!F\"&INDEX('Energinetdk rapport'!$K$1:$K$5,MATCH('Energinetdk rapport'!$I$3,'Energinetdk rapport'!$J$1:$J$5,0))):INDIRECT(\"'Input'!F\"&INDEX('Energinetdk rapport'!$L$1:$L$5,MATCH('Energinetdk rapport'!$I$3,'Energinetdk rapport'!$J$1:$J$5,0))),C88,INDIRECT(\"'Input'!J\"&INDEX('Energinetdk rapport'!$K$1:$K$5,MATCH('Energinetdk rapport'!$I$3,'Energinetdk rapport'!$J$1:$J$5,0))):INDIRECT(\"'Input'!J\"&INDEX('Energinetdk rapport'!$L$1:$L$5,MATCH('Energinetdk rapport'!$I$3,'Energinetdk rapport'!$J$1:$J$5,0)))),0)","v":0},{"$f":"SUMIFS(INDIRECT(\"'Input'!H\"&INDEX('Energinetdk rapport'!$K$1:$K$5,MATCH('Energinetdk rapport'!$I$3,'Energinetdk rapport'!$J$1:$J$5,0))):INDIRECT(\"'Input'!H\"&INDEX('Energinetdk rapport'!$L$1:$L$5,MATCH('Energinetdk rapport'!$I$3,'Energinetdk rapport'!$J$1:$J$5,0))), INDIRECT(\"'Input'!F\"&INDEX('Energinetdk rapport'!$K$1:$K$5,MATCH('Energinetdk rapport'!$I$3,'Energinetdk rapport'!$J$1:$J$5,0))):INDIRECT(\"'Input'!F\"&INDEX('Energinetdk rapport'!$L$1:$L$5,MATCH('Energinetdk rapport'!$I$3,'Energinetdk rapport'!$J$1:$J$5,0))), C88)","v":0},0]
[null,null,{"$f":"IF(Biomasser!A85=\"\",\"\", Biomasser!A85)","v":""},{"$f":"IF(Biomasser!J85=\"\",\"\", Biomasser!J85)","v":""},{"$f":"IFERROR(AVERAGEIF(INDIRECT(\"'Input'!F\"&INDEX('Energinetdk rapport'!$K$1:$K$5,MATCH('Energinetdk rapport'!$I$3,'Energinetdk rapport'!$J$1:$J$5,0))):INDIRECT(\"'Input'!F\"&INDEX('Energinetdk rapport'!$L$1:$L$5,MATCH('Energinetdk rapport'!$I$3,'Energinetdk rapport'!$J$1:$J$5,0))),C89,INDIRECT(\"'Input'!J\"&INDEX('Energinetdk rapport'!$K$1:$K$5,MATCH('Energinetdk rapport'!$I$3,'Energinetdk rapport'!$J$1:$J$5,0))):INDIRECT(\"'Input'!J\"&INDEX('Energinetdk rapport'!$L$1:$L$5,MATCH('Energinetdk rapport'!$I$3,'Energinetdk rapport'!$J$1:$J$5,0)))),0)","v":0},{"$f":"SUMIFS(INDIRECT(\"'Input'!H\"&INDEX('Energinetdk rapport'!$K$1:$K$5,MATCH('Energinetdk rapport'!$I$3,'Energinetdk rapport'!$J$1:$J$5,0))):INDIRECT(\"'Input'!H\"&INDEX('Energinetdk rapport'!$L$1:$L$5,MATCH('Energinetdk rapport'!$I$3,'Energinetdk rapport'!$J$1:$J$5,0))), INDIRECT(\"'Input'!F\"&INDEX('Energinetdk rapport'!$K$1:$K$5,MATCH('Energinetdk rapport'!$I$3,'Energinetdk rapport'!$J$1:$J$5,0))):INDIRECT(\"'Input'!F\"&INDEX('Energinetdk rapport'!$L$1:$L$5,MATCH('Energinetdk rapport'!$I$3,'Energinetdk rapport'!$J$1:$J$5,0))), C89)","v":0},0]
[null,null,{"$f":"IF(Biomasser!A86=\"\",\"\", Biomasser!A86)","v":""},{"$f":"IF(Biomasser!J86=\"\",\"\", Biomasser!J86)","v":""},{"$f":"IFERROR(AVERAGEIF(INDIRECT(\"'Input'!F\"&INDEX('Energinetdk rapport'!$K$1:$K$5,MATCH('Energinetdk rapport'!$I$3,'Energinetdk rapport'!$J$1:$J$5,0))):INDIRECT(\"'Input'!F\"&INDEX('Energinetdk rapport'!$L$1:$L$5,MATCH('Energinetdk rapport'!$I$3,'Energinetdk rapport'!$J$1:$J$5,0))),C90,INDIRECT(\"'Input'!J\"&INDEX('Energinetdk rapport'!$K$1:$K$5,MATCH('Energinetdk rapport'!$I$3,'Energinetdk rapport'!$J$1:$J$5,0))):INDIRECT(\"'Input'!J\"&INDEX('Energinetdk rapport'!$L$1:$L$5,MATCH('Energinetdk rapport'!$I$3,'Energinetdk rapport'!$J$1:$J$5,0)))),0)","v":0},{"$f":"SUMIFS(INDIRECT(\"'Input'!H\"&INDEX('Energinetdk rapport'!$K$1:$K$5,MATCH('Energinetdk rapport'!$I$3,'Energinetdk rapport'!$J$1:$J$5,0))):INDIRECT(\"'Input'!H\"&INDEX('Energinetdk rapport'!$L$1:$L$5,MATCH('Energinetdk rapport'!$I$3,'Energinetdk rapport'!$J$1:$J$5,0))), INDIRECT(\"'Input'!F\"&INDEX('Energinetdk rapport'!$K$1:$K$5,MATCH('Energinetdk rapport'!$I$3,'Energinetdk rapport'!$J$1:$J$5,0))):INDIRECT(\"'Input'!F\"&INDEX('Energinetdk rapport'!$L$1:$L$5,MATCH('Energinetdk rapport'!$I$3,'Energinetdk rapport'!$J$1:$J$5,0))), C90)","v":0},0]
[null,null,{"$f":"IF(Biomasser!A87=\"\",\"\", Biomasser!A87)","v":""},{"$f":"IF(Biomasser!J87=\"\",\"\", Biomasser!J87)","v":""},{"$f":"IFERROR(AVERAGEIF(INDIRECT(\"'Input'!F\"&INDEX('Energinetdk rapport'!$K$1:$K$5,MATCH('Energinetdk rapport'!$I$3,'Energinetdk rapport'!$J$1:$J$5,0))):INDIRECT(\"'Input'!F\"&INDEX('Energinetdk rapport'!$L$1:$L$5,MATCH('Energinetdk rapport'!$I$3,'Energinetdk rapport'!$J$1:$J$5,0))),C91,INDIRECT(\"'Input'!J\"&INDEX('Energinetdk rapport'!$K$1:$K$5,MATCH('Energinetdk rapport'!$I$3,'Energinetdk rapport'!$J$1:$J$5,0))):INDIRECT(\"'Input'!J\"&INDEX('Energinetdk rapport'!$L$1:$L$5,MATCH('Energinetdk rapport'!$I$3,'Energinetdk rapport'!$J$1:$J$5,0)))),0)","v":0},{"$f":"SUMIFS(INDIRECT(\"'Input'!H\"&INDEX('Energinetdk rapport'!$K$1:$K$5,MATCH('Energinetdk rapport'!$I$3,'Energinetdk rapport'!$J$1:$J$5,0))):INDIRECT(\"'Input'!H\"&INDEX('Energinetdk rapport'!$L$1:$L$5,MATCH('Energinetdk rapport'!$I$3,'Energinetdk rapport'!$J$1:$J$5,0))), INDIRECT(\"'Input'!F\"&INDEX('Energinetdk rapport'!$K$1:$K$5,MATCH('Energinetdk rapport'!$I$3,'Energinetdk rapport'!$J$1:$J$5,0))):INDIRECT(\"'Input'!F\"&INDEX('Energinetdk rapport'!$L$1:$L$5,MATCH('Energinetdk rapport'!$I$3,'Energinetdk rapport'!$J$1:$J$5,0))), C91)","v":0},0]
[null,null,{"$f":"IF(Biomasser!A88=\"\",\"\", Biomasser!A88)","v":""},{"$f":"IF(Biomasser!J88=\"\",\"\", Biomasser!J88)","v":""},{"$f":"IFERROR(AVERAGEIF(INDIRECT(\"'Input'!F\"&INDEX('Energinetdk rapport'!$K$1:$K$5,MATCH('Energinetdk rapport'!$I$3,'Energinetdk rapport'!$J$1:$J$5,0))):INDIRECT(\"'Input'!F\"&INDEX('Energinetdk rapport'!$L$1:$L$5,MATCH('Energinetdk rapport'!$I$3,'Energinetdk rapport'!$J$1:$J$5,0))),C92,INDIRECT(\"'Input'!J\"&INDEX('Energinetdk rapport'!$K$1:$K$5,MATCH('Energinetdk rapport'!$I$3,'Energinetdk rapport'!$J$1:$J$5,0))):INDIRECT(\"'Input'!J\"&INDEX('Energinetdk rapport'!$L$1:$L$5,MATCH('Energinetdk rapport'!$I$3,'Energinetdk rapport'!$J$1:$J$5,0)))),0)","v":0},{"$f":"SUMIFS(INDIRECT(\"'Input'!H\"&INDEX('Energinetdk rapport'!$K$1:$K$5,MATCH('Energinetdk rapport'!$I$3,'Energinetdk rapport'!$J$1:$J$5,0))):INDIRECT(\"'Input'!H\"&INDEX('Energinetdk rapport'!$L$1:$L$5,MATCH('Energinetdk rapport'!$I$3,'Energinetdk rapport'!$J$1:$J$5,0))), INDIRECT(\"'Input'!F\"&INDEX('Energinetdk rapport'!$K$1:$K$5,MATCH('Energinetdk rapport'!$I$3,'Energinetdk rapport'!$J$1:$J$5,0))):INDIRECT(\"'Input'!F\"&INDEX('Energinetdk rapport'!$L$1:$L$5,MATCH('Energinetdk rapport'!$I$3,'Energinetdk rapport'!$J$1:$J$5,0))), C92)","v":0},0]
[null,null,{"$f":"IF(Biomasser!A89=\"\",\"\", Biomasser!A89)","v":""},{"$f":"IF(Biomasser!J89=\"\",\"\", Biomasser!J89)","v":""},{"$f":"IFERROR(AVERAGEIF(INDIRECT(\"'Input'!F\"&INDEX('Energinetdk rapport'!$K$1:$K$5,MATCH('Energinetdk rapport'!$I$3,'Energinetdk rapport'!$J$1:$J$5,0))):INDIRECT(\"'Input'!F\"&INDEX('Energinetdk rapport'!$L$1:$L$5,MATCH('Energinetdk rapport'!$I$3,'Energinetdk rapport'!$J$1:$J$5,0))),C93,INDIRECT(\"'Input'!J\"&INDEX('Energinetdk rapport'!$K$1:$K$5,MATCH('Energinetdk rapport'!$I$3,'Energinetdk rapport'!$J$1:$J$5,0))):INDIRECT(\"'Input'!J\"&INDEX('Energinetdk rapport'!$L$1:$L$5,MATCH('Energinetdk rapport'!$I$3,'Energinetdk rapport'!$J$1:$J$5,0)))),0)","v":0},{"$f":"SUMIFS(INDIRECT(\"'Input'!H\"&INDEX('Energinetdk rapport'!$K$1:$K$5,MATCH('Energinetdk rapport'!$I$3,'Energinetdk rapport'!$J$1:$J$5,0))):INDIRECT(\"'Input'!H\"&INDEX('Energinetdk rapport'!$L$1:$L$5,MATCH('Energinetdk rapport'!$I$3,'Energinetdk rapport'!$J$1:$J$5,0))), INDIRECT(\"'Input'!F\"&INDEX('Energinetdk rapport'!$K$1:$K$5,MATCH('Energinetdk rapport'!$I$3,'Energinetdk rapport'!$J$1:$J$5,0))):INDIRECT(\"'Input'!F\"&INDEX('Energinetdk rapport'!$L$1:$L$5,MATCH('Energinetdk rapport'!$I$3,'Energinetdk rapport'!$J$1:$J$5,0))), C93)","v":0},0]
[null,null,{"$f":"IF(Biomasser!A90=\"\",\"\", Biomasser!A90)","v":""},{"$f":"IF(Biomasser!J90=\"\",\"\", Biomasser!J90)","v":""},{"$f":"IFERROR(AVERAGEIF(INDIRECT(\"'Input'!F\"&INDEX('Energinetdk rapport'!$K$1:$K$5,MATCH('Energinetdk rapport'!$I$3,'Energinetdk rapport'!$J$1:$J$5,0))):INDIRECT(\"'Input'!F\"&INDEX('Energinetdk rapport'!$L$1:$L$5,MATCH('Energinetdk rapport'!$I$3,'Energinetdk rapport'!$J$1:$J$5,0))),C94,INDIRECT(\"'Input'!J\"&INDEX('Energinetdk rapport'!$K$1:$K$5,MATCH('Energinetdk rapport'!$I$3,'Energinetdk rapport'!$J$1:$J$5,0))):INDIRECT(\"'Input'!J\"&INDEX('Energinetdk rapport'!$L$1:$L$5,MATCH('Energinetdk rapport'!$I$3,'Energinetdk rapport'!$J$1:$J$5,0)))),0)","v":0},{"$f":"SUMIFS(INDIRECT(\"'Input'!H\"&INDEX('Energinetdk rapport'!$K$1:$K$5,MATCH('Energinetdk rapport'!$I$3,'Energinetdk rapport'!$J$1:$J$5,0))):INDIRECT(\"'Input'!H\"&INDEX('Energinetdk rapport'!$L$1:$L$5,MATCH('Energinetdk rapport'!$I$3,'Energinetdk rapport'!$J$1:$J$5,0))), INDIRECT(\"'Input'!F\"&INDEX('Energinetdk rapport'!$K$1:$K$5,MATCH('Energinetdk rapport'!$I$3,'Energinetdk rapport'!$J$1:$J$5,0))):INDIRECT(\"'Input'!F\"&INDEX('Energinetdk rapport'!$L$1:$L$5,MATCH('Energinetdk rapport'!$I$3,'Energinetdk rapport'!$J$1:$J$5,0))), C94)","v":0},0]
[null,null,{"$f":"IF(Biomasser!A91=\"\",\"\", Biomasser!A91)","v":""},{"$f":"IF(Biomasser!J91=\"\",\"\", Biomasser!J91)","v":""},{"$f":"IFERROR(AVERAGEIF(INDIRECT(\"'Input'!F\"&INDEX('Energinetdk rapport'!$K$1:$K$5,MATCH('Energinetdk rapport'!$I$3,'Energinetdk rapport'!$J$1:$J$5,0))):INDIRECT(\"'Input'!F\"&INDEX('Energinetdk rapport'!$L$1:$L$5,MATCH('Energinetdk rapport'!$I$3,'Energinetdk rapport'!$J$1:$J$5,0))),C95,INDIRECT(\"'Input'!J\"&INDEX('Energinetdk rapport'!$K$1:$K$5,MATCH('Energinetdk rapport'!$I$3,'Energinetdk rapport'!$J$1:$J$5,0))):INDIRECT(\"'Input'!J\"&INDEX('Energinetdk rapport'!$L$1:$L$5,MATCH('Energinetdk rapport'!$I$3,'Energinetdk rapport'!$J$1:$J$5,0)))),0)","v":0},{"$f":"SUMIFS(INDIRECT(\"'Input'!H\"&INDEX('Energinetdk rapport'!$K$1:$K$5,MATCH('Energinetdk rapport'!$I$3,'Energinetdk rapport'!$J$1:$J$5,0))):INDIRECT(\"'Input'!H\"&INDEX('Energinetdk rapport'!$L$1:$L$5,MATCH('Energinetdk rapport'!$I$3,'Energinetdk rapport'!$J$1:$J$5,0))), INDIRECT(\"'Input'!F\"&INDEX('Energinetdk rapport'!$K$1:$K$5,MATCH('Energinetdk rapport'!$I$3,'Energinetdk rapport'!$J$1:$J$5,0))):INDIRECT(\"'Input'!F\"&INDEX('Energinetdk rapport'!$L$1:$L$5,MATCH('Energinetdk rapport'!$I$3,'Energinetdk rapport'!$J$1:$J$5,0))), C95)","v":0},0]
[null,null,{"$f":"IF(Biomasser!A92=\"\",\"\", Biomasser!A92)","v":""},{"$f":"IF(Biomasser!J92=\"\",\"\", Biomasser!J92)","v":""},{"$f":"IFERROR(AVERAGEIF(INDIRECT(\"'Input'!F\"&INDEX('Energinetdk rapport'!$K$1:$K$5,MATCH('Energinetdk rapport'!$I$3,'Energinetdk rapport'!$J$1:$J$5,0))):INDIRECT(\"'Input'!F\"&INDEX('Energinetdk rapport'!$L$1:$L$5,MATCH('Energinetdk rapport'!$I$3,'Energinetdk rapport'!$J$1:$J$5,0))),C96,INDIRECT(\"'Input'!J\"&INDEX('Energinetdk rapport'!$K$1:$K$5,MATCH('Energinetdk rapport'!$I$3,'Energinetdk rapport'!$J$1:$J$5,0))):INDIRECT(\"'Input'!J\"&INDEX('Energinetdk rapport'!$L$1:$L$5,MATCH('Energinetdk rapport'!$I$3,'Energinetdk rapport'!$J$1:$J$5,0)))),0)","v":0},{"$f":"SUMIFS(INDIRECT(\"'Input'!H\"&INDEX('Energinetdk rapport'!$K$1:$K$5,MATCH('Energinetdk rapport'!$I$3,'Energinetdk rapport'!$J$1:$J$5,0))):INDIRECT(\"'Input'!H\"&INDEX('Energinetdk rapport'!$L$1:$L$5,MATCH('Energinetdk rapport'!$I$3,'Energinetdk rapport'!$J$1:$J$5,0))), INDIRECT(\"'Input'!F\"&INDEX('Energinetdk rapport'!$K$1:$K$5,MATCH('Energinetdk rapport'!$I$3,'Energinetdk rapport'!$J$1:$J$5,0))):INDIRECT(\"'Input'!F\"&INDEX('Energinetdk rapport'!$L$1:$L$5,MATCH('Energinetdk rapport'!$I$3,'Energinetdk rapport'!$J$1:$J$5,0))), C96)","v":0},0]
[null,null,{"$f":"IF(Biomasser!A93=\"\",\"\", Biomasser!A93)","v":""},{"$f":"IF(Biomasser!J93=\"\",\"\", Biomasser!J93)","v":""},{"$f":"IFERROR(AVERAGEIF(INDIRECT(\"'Input'!F\"&INDEX('Energinetdk rapport'!$K$1:$K$5,MATCH('Energinetdk rapport'!$I$3,'Energinetdk rapport'!$J$1:$J$5,0))):INDIRECT(\"'Input'!F\"&INDEX('Energinetdk rapport'!$L$1:$L$5,MATCH('Energinetdk rapport'!$I$3,'Energinetdk rapport'!$J$1:$J$5,0))),C97,INDIRECT(\"'Input'!J\"&INDEX('Energinetdk rapport'!$K$1:$K$5,MATCH('Energinetdk rapport'!$I$3,'Energinetdk rapport'!$J$1:$J$5,0))):INDIRECT(\"'Input'!J\"&INDEX('Energinetdk rapport'!$L$1:$L$5,MATCH('Energinetdk rapport'!$I$3,'Energinetdk rapport'!$J$1:$J$5,0)))),0)","v":0},{"$f":"SUMIFS(INDIRECT(\"'Input'!H\"&INDEX('Energinetdk rapport'!$K$1:$K$5,MATCH('Energinetdk rapport'!$I$3,'Energinetdk rapport'!$J$1:$J$5,0))):INDIRECT(\"'Input'!H\"&INDEX('Energinetdk rapport'!$L$1:$L$5,MATCH('Energinetdk rapport'!$I$3,'Energinetdk rapport'!$J$1:$J$5,0))), INDIRECT(\"'Input'!F\"&INDEX('Energinetdk rapport'!$K$1:$K$5,MATCH('Energinetdk rapport'!$I$3,'Energinetdk rapport'!$J$1:$J$5,0))):INDIRECT(\"'Input'!F\"&INDEX('Energinetdk rapport'!$L$1:$L$5,MATCH('Energinetdk rapport'!$I$3,'Energinetdk rapport'!$J$1:$J$5,0))), C97)","v":0},0]
[null,null,{"$f":"IF(Biomasser!A94=\"\",\"\", Biomasser!A94)","v":""},{"$f":"IF(Biomasser!J94=\"\",\"\", Biomasser!J94)","v":""},{"$f":"IFERROR(AVERAGEIF(INDIRECT(\"'Input'!F\"&INDEX('Energinetdk rapport'!$K$1:$K$5,MATCH('Energinetdk rapport'!$I$3,'Energinetdk rapport'!$J$1:$J$5,0))):INDIRECT(\"'Input'!F\"&INDEX('Energinetdk rapport'!$L$1:$L$5,MATCH('Energinetdk rapport'!$I$3,'Energinetdk rapport'!$J$1:$J$5,0))),C98,INDIRECT(\"'Input'!J\"&INDEX('Energinetdk rapport'!$K$1:$K$5,MATCH('Energinetdk rapport'!$I$3,'Energinetdk rapport'!$J$1:$J$5,0))):INDIRECT(\"'Input'!J\"&INDEX('Energinetdk rapport'!$L$1:$L$5,MATCH('Energinetdk rapport'!$I$3,'Energinetdk rapport'!$J$1:$J$5,0)))),0)","v":0},{"$f":"SUMIFS(INDIRECT(\"'Input'!H\"&INDEX('Energinetdk rapport'!$K$1:$K$5,MATCH('Energinetdk rapport'!$I$3,'Energinetdk rapport'!$J$1:$J$5,0))):INDIRECT(\"'Input'!H\"&INDEX('Energinetdk rapport'!$L$1:$L$5,MATCH('Energinetdk rapport'!$I$3,'Energinetdk rapport'!$J$1:$J$5,0))), INDIRECT(\"'Input'!F\"&INDEX('Energinetdk rapport'!$K$1:$K$5,MATCH('Energinetdk rapport'!$I$3,'Energinetdk rapport'!$J$1:$J$5,0))):INDIRECT(\"'Input'!F\"&INDEX('Energinetdk rapport'!$L$1:$L$5,MATCH('Energinetdk rapport'!$I$3,'Energinetdk rapport'!$J$1:$J$5,0))), C98)","v":0},0]
[null,null,{"$f":"IF(Biomasser!A95=\"\",\"\", Biomasser!A95)","v":""},{"$f":"IF(Biomasser!J95=\"\",\"\", Biomasser!J95)","v":""},{"$f":"IFERROR(AVERAGEIF(INDIRECT(\"'Input'!F\"&INDEX('Energinetdk rapport'!$K$1:$K$5,MATCH('Energinetdk rapport'!$I$3,'Energinetdk rapport'!$J$1:$J$5,0))):INDIRECT(\"'Input'!F\"&INDEX('Energinetdk rapport'!$L$1:$L$5,MATCH('Energinetdk rapport'!$I$3,'Energinetdk rapport'!$J$1:$J$5,0))),C99,INDIRECT(\"'Input'!J\"&INDEX('Energinetdk rapport'!$K$1:$K$5,MATCH('Energinetdk rapport'!$I$3,'Energinetdk rapport'!$J$1:$J$5,0))):INDIRECT(\"'Input'!J\"&INDEX('Energinetdk rapport'!$L$1:$L$5,MATCH('Energinetdk rapport'!$I$3,'Energinetdk rapport'!$J$1:$J$5,0)))),0)","v":0},{"$f":"SUMIFS(INDIRECT(\"'Input'!H\"&INDEX('Energinetdk rapport'!$K$1:$K$5,MATCH('Energinetdk rapport'!$I$3,'Energinetdk rapport'!$J$1:$J$5,0))):INDIRECT(\"'Input'!H\"&INDEX('Energinetdk rapport'!$L$1:$L$5,MATCH('Energinetdk rapport'!$I$3,'Energinetdk rapport'!$J$1:$J$5,0))), INDIRECT(\"'Input'!F\"&INDEX('Energinetdk rapport'!$K$1:$K$5,MATCH('Energinetdk rapport'!$I$3,'Energinetdk rapport'!$J$1:$J$5,0))):INDIRECT(\"'Input'!F\"&INDEX('Energinetdk rapport'!$L$1:$L$5,MATCH('Energinetdk rapport'!$I$3,'Energinetdk rapport'!$J$1:$J$5,0))), C99)","v":0},0]
[null,null,{"$f":"IF(Biomasser!A96=\"\",\"\", Biomasser!A96)","v":""},{"$f":"IF(Biomasser!J96=\"\",\"\", Biomasser!J96)","v":""},{"$f":"IFERROR(AVERAGEIF(INDIRECT(\"'Input'!F\"&INDEX('Energinetdk rapport'!$K$1:$K$5,MATCH('Energinetdk rapport'!$I$3,'Energinetdk rapport'!$J$1:$J$5,0))):INDIRECT(\"'Input'!F\"&INDEX('Energinetdk rapport'!$L$1:$L$5,MATCH('Energinetdk rapport'!$I$3,'Energinetdk rapport'!$J$1:$J$5,0))),C100,INDIRECT(\"'Input'!J\"&INDEX('Energinetdk rapport'!$K$1:$K$5,MATCH('Energinetdk rapport'!$I$3,'Energinetdk rapport'!$J$1:$J$5,0))):INDIRECT(\"'Input'!J\"&INDEX('Energinetdk rapport'!$L$1:$L$5,MATCH('Energinetdk rapport'!$I$3,'Energinetdk rapport'!$J$1:$J$5,0)))),0)","v":0},{"$f":"SUMIFS(INDIRECT(\"'Input'!H\"&INDEX('Energinetdk rapport'!$K$1:$K$5,MATCH('Energinetdk rapport'!$I$3,'Energinetdk rapport'!$J$1:$J$5,0))):INDIRECT(\"'Input'!H\"&INDEX('Energinetdk rapport'!$L$1:$L$5,MATCH('Energinetdk rapport'!$I$3,'Energinetdk rapport'!$J$1:$J$5,0))), INDIRECT(\"'Input'!F\"&INDEX('Energinetdk rapport'!$K$1:$K$5,MATCH('Energinetdk rapport'!$I$3,'Energinetdk rapport'!$J$1:$J$5,0))):INDIRECT(\"'Input'!F\"&INDEX('Energinetdk rapport'!$L$1:$L$5,MATCH('Energinetdk rapport'!$I$3,'Energinetdk rapport'!$J$1:$J$5,0))), C100)","v":0},0]
[null,null,{"$f":"IF(Biomasser!A97=\"\",\"\", Biomasser!A97)","v":""},{"$f":"IF(Biomasser!J97=\"\",\"\", Biomasser!J97)","v":""},{"$f":"IFERROR(AVERAGEIF(INDIRECT(\"'Input'!F\"&INDEX('Energinetdk rapport'!$K$1:$K$5,MATCH('Energinetdk rapport'!$I$3,'Energinetdk rapport'!$J$1:$J$5,0))):INDIRECT(\"'Input'!F\"&INDEX('Energinetdk rapport'!$L$1:$L$5,MATCH('Energinetdk rapport'!$I$3,'Energinetdk rapport'!$J$1:$J$5,0))),C101,INDIRECT(\"'Input'!J\"&INDEX('Energinetdk rapport'!$K$1:$K$5,MATCH('Energinetdk rapport'!$I$3,'Energinetdk rapport'!$J$1:$J$5,0))):INDIRECT(\"'Input'!J\"&INDEX('Energinetdk rapport'!$L$1:$L$5,MATCH('Energinetdk rapport'!$I$3,'Energinetdk rapport'!$J$1:$J$5,0)))),0)","v":0},{"$f":"SUMIFS(INDIRECT(\"'Input'!H\"&INDEX('Energinetdk rapport'!$K$1:$K$5,MATCH('Energinetdk rapport'!$I$3,'Energinetdk rapport'!$J$1:$J$5,0))):INDIRECT(\"'Input'!H\"&INDEX('Energinetdk rapport'!$L$1:$L$5,MATCH('Energinetdk rapport'!$I$3,'Energinetdk rapport'!$J$1:$J$5,0))), INDIRECT(\"'Input'!F\"&INDEX('Energinetdk rapport'!$K$1:$K$5,MATCH('Energinetdk rapport'!$I$3,'Energinetdk rapport'!$J$1:$J$5,0))):INDIRECT(\"'Input'!F\"&INDEX('Energinetdk rapport'!$L$1:$L$5,MATCH('Energinetdk rapport'!$I$3,'Energinetdk rapport'!$J$1:$J$5,0))), C101)","v":0},0]
[null,null,{"$f":"IF(Biomasser!A98=\"\",\"\", Biomasser!A98)","v":""},{"$f":"IF(Biomasser!J98=\"\",\"\", Biomasser!J98)","v":""},{"$f":"IFERROR(AVERAGEIF(INDIRECT(\"'Input'!F\"&INDEX('Energinetdk rapport'!$K$1:$K$5,MATCH('Energinetdk rapport'!$I$3,'Energinetdk rapport'!$J$1:$J$5,0))):INDIRECT(\"'Input'!F\"&INDEX('Energinetdk rapport'!$L$1:$L$5,MATCH('Energinetdk rapport'!$I$3,'Energinetdk rapport'!$J$1:$J$5,0))),C102,INDIRECT(\"'Input'!J\"&INDEX('Energinetdk rapport'!$K$1:$K$5,MATCH('Energinetdk rapport'!$I$3,'Energinetdk rapport'!$J$1:$J$5,0))):INDIRECT(\"'Input'!J\"&INDEX('Energinetdk rapport'!$L$1:$L$5,MATCH('Energinetdk rapport'!$I$3,'Energinetdk rapport'!$J$1:$J$5,0)))),0)","v":0},{"$f":"SUMIFS(INDIRECT(\"'Input'!H\"&INDEX('Energinetdk rapport'!$K$1:$K$5,MATCH('Energinetdk rapport'!$I$3,'Energinetdk rapport'!$J$1:$J$5,0))):INDIRECT(\"'Input'!H\"&INDEX('Energinetdk rapport'!$L$1:$L$5,MATCH('Energinetdk rapport'!$I$3,'Energinetdk rapport'!$J$1:$J$5,0))), INDIRECT(\"'Input'!F\"&INDEX('Energinetdk rapport'!$K$1:$K$5,MATCH('Energinetdk rapport'!$I$3,'Energinetdk rapport'!$J$1:$J$5,0))):INDIRECT(\"'Input'!F\"&INDEX('Energinetdk rapport'!$L$1:$L$5,MATCH('Energinetdk rapport'!$I$3,'Energinetdk rapport'!$J$1:$J$5,0))), C102)","v":0},0]
[null,null,{"$f":"IF(Biomasser!A99=\"\",\"\", Biomasser!A99)","v":""},{"$f":"IF(Biomasser!J99=\"\",\"\", Biomasser!J99)","v":""},{"$f":"IFERROR(AVERAGEIF(INDIRECT(\"'Input'!F\"&INDEX('Energinetdk rapport'!$K$1:$K$5,MATCH('Energinetdk rapport'!$I$3,'Energinetdk rapport'!$J$1:$J$5,0))):INDIRECT(\"'Input'!F\"&INDEX('Energinetdk rapport'!$L$1:$L$5,MATCH('Energinetdk rapport'!$I$3,'Energinetdk rapport'!$J$1:$J$5,0))),C103,INDIRECT(\"'Input'!J\"&INDEX('Energinetdk rapport'!$K$1:$K$5,MATCH('Energinetdk rapport'!$I$3,'Energinetdk rapport'!$J$1:$J$5,0))):INDIRECT(\"'Input'!J\"&INDEX('Energinetdk rapport'!$L$1:$L$5,MATCH('Energinetdk rapport'!$I$3,'Energinetdk rapport'!$J$1:$J$5,0)))),0)","v":0},{"$f":"SUMIFS(INDIRECT(\"'Input'!H\"&INDEX('Energinetdk rapport'!$K$1:$K$5,MATCH('Energinetdk rapport'!$I$3,'Energinetdk rapport'!$J$1:$J$5,0))):INDIRECT(\"'Input'!H\"&INDEX('Energinetdk rapport'!$L$1:$L$5,MATCH('Energinetdk rapport'!$I$3,'Energinetdk rapport'!$J$1:$J$5,0))), INDIRECT(\"'Input'!F\"&INDEX('Energinetdk rapport'!$K$1:$K$5,MATCH('Energinetdk rapport'!$I$3,'Energinetdk rapport'!$J$1:$J$5,0))):INDIRECT(\"'Input'!F\"&INDEX('Energinetdk rapport'!$L$1:$L$5,MATCH('Energinetdk rapport'!$I$3,'Energinetdk rapport'!$J$1:$J$5,0))), C103)","v":0},0]
[null,null,{"$f":"IF(Biomasser!A100=\"\",\"\", Biomasser!A100)","v":""},{"$f":"IF(Biomasser!J100=\"\",\"\", Biomasser!J100)","v":""},{"$f":"IFERROR(AVERAGEIF(INDIRECT(\"'Input'!F\"&INDEX('Energinetdk rapport'!$K$1:$K$5,MATCH('Energinetdk rapport'!$I$3,'Energinetdk rapport'!$J$1:$J$5,0))):INDIRECT(\"'Input'!F\"&INDEX('Energinetdk rapport'!$L$1:$L$5,MATCH('Energinetdk rapport'!$I$3,'Energinetdk rapport'!$J$1:$J$5,0))),C104,INDIRECT(\"'Input'!J\"&INDEX('Energinetdk rapport'!$K$1:$K$5,MATCH('Energinetdk rapport'!$I$3,'Energinetdk rapport'!$J$1:$J$5,0))):INDIRECT(\"'Input'!J\"&INDEX('Energinetdk rapport'!$L$1:$L$5,MATCH('Energinetdk rapport'!$I$3,'Energinetdk rapport'!$J$1:$J$5,0)))),0)","v":0},{"$f":"SUMIFS(INDIRECT(\"'Input'!H\"&INDEX('Energinetdk rapport'!$K$1:$K$5,MATCH('Energinetdk rapport'!$I$3,'Energinetdk rapport'!$J$1:$J$5,0))):INDIRECT(\"'Input'!H\"&INDEX('Energinetdk rapport'!$L$1:$L$5,MATCH('Energinetdk rapport'!$I$3,'Energinetdk rapport'!$J$1:$J$5,0))), INDIRECT(\"'Input'!F\"&INDEX('Energinetdk rapport'!$K$1:$K$5,MATCH('Energinetdk rapport'!$I$3,'Energinetdk rapport'!$J$1:$J$5,0))):INDIRECT(\"'Input'!F\"&INDEX('Energinetdk rapport'!$L$1:$L$5,MATCH('Energinetdk rapport'!$I$3,'Energinetdk rapport'!$J$1:$J$5,0))), C104)","v":0},0]
[null,null,{"$f":"IF(Biomasser!A101=\"\",\"\", Biomasser!A101)","v":""},{"$f":"IF(Biomasser!J101=\"\",\"\", Biomasser!J101)","v":""},{"$f":"IFERROR(AVERAGEIF(INDIRECT(\"'Input'!F\"&INDEX('Energinetdk rapport'!$K$1:$K$5,MATCH('Energinetdk rapport'!$I$3,'Energinetdk rapport'!$J$1:$J$5,0))):INDIRECT(\"'Input'!F\"&INDEX('Energinetdk rapport'!$L$1:$L$5,MATCH('Energinetdk rapport'!$I$3,'Energinetdk rapport'!$J$1:$J$5,0))),C105,INDIRECT(\"'Input'!J\"&INDEX('Energinetdk rapport'!$K$1:$K$5,MATCH('Energinetdk rapport'!$I$3,'Energinetdk rapport'!$J$1:$J$5,0))):INDIRECT(\"'Input'!J\"&INDEX('Energinetdk rapport'!$L$1:$L$5,MATCH('Energinetdk rapport'!$I$3,'Energinetdk rapport'!$J$1:$J$5,0)))),0)","v":0},{"$f":"SUMIFS(INDIRECT(\"'Input'!H\"&INDEX('Energinetdk rapport'!$K$1:$K$5,MATCH('Energinetdk rapport'!$I$3,'Energinetdk rapport'!$J$1:$J$5,0))):INDIRECT(\"'Input'!H\"&INDEX('Energinetdk rapport'!$L$1:$L$5,MATCH('Energinetdk rapport'!$I$3,'Energinetdk rapport'!$J$1:$J$5,0))), INDIRECT(\"'Input'!F\"&INDEX('Energinetdk rapport'!$K$1:$K$5,MATCH('Energinetdk rapport'!$I$3,'Energinetdk rapport'!$J$1:$J$5,0))):INDIRECT(\"'Input'!F\"&INDEX('Energinetdk rapport'!$L$1:$L$5,MATCH('Energinetdk rapport'!$I$3,'Energinetdk rapport'!$J$1:$J$5,0))), C105)","v":0},0]
[null,null,{"$f":"IF(Biomasser!A102=\"\",\"\", Biomasser!A102)","v":""},{"$f":"IF(Biomasser!J102=\"\",\"\", Biomasser!J102)","v":""},{"$f":"IFERROR(AVERAGEIF(INDIRECT(\"'Input'!F\"&INDEX('Energinetdk rapport'!$K$1:$K$5,MATCH('Energinetdk rapport'!$I$3,'Energinetdk rapport'!$J$1:$J$5,0))):INDIRECT(\"'Input'!F\"&INDEX('Energinetdk rapport'!$L$1:$L$5,MATCH('Energinetdk rapport'!$I$3,'Energinetdk rapport'!$J$1:$J$5,0))),C106,INDIRECT(\"'Input'!J\"&INDEX('Energinetdk rapport'!$K$1:$K$5,MATCH('Energinetdk rapport'!$I$3,'Energinetdk rapport'!$J$1:$J$5,0))):INDIRECT(\"'Input'!J\"&INDEX('Energinetdk rapport'!$L$1:$L$5,MATCH('Energinetdk rapport'!$I$3,'Energinetdk rapport'!$J$1:$J$5,0)))),0)","v":0},{"$f":"SUMIFS(INDIRECT(\"'Input'!H\"&INDEX('Energinetdk rapport'!$K$1:$K$5,MATCH('Energinetdk rapport'!$I$3,'Energinetdk rapport'!$J$1:$J$5,0))):INDIRECT(\"'Input'!H\"&INDEX('Energinetdk rapport'!$L$1:$L$5,MATCH('Energinetdk rapport'!$I$3,'Energinetdk rapport'!$J$1:$J$5,0))), INDIRECT(\"'Input'!F\"&INDEX('Energinetdk rapport'!$K$1:$K$5,MATCH('Energinetdk rapport'!$I$3,'Energinetdk rapport'!$J$1:$J$5,0))):INDIRECT(\"'Input'!F\"&INDEX('Energinetdk rapport'!$L$1:$L$5,MATCH('Energinetdk rapport'!$I$3,'Energinetdk rapport'!$J$1:$J$5,0))), C106)","v":0},0]
[null,null,{"$f":"IF(Biomasser!A103=\"\",\"\", Biomasser!A103)","v":""},{"$f":"IF(Biomasser!J103=\"\",\"\", Biomasser!J103)","v":""},{"$f":"IFERROR(AVERAGEIF(INDIRECT(\"'Input'!F\"&INDEX('Energinetdk rapport'!$K$1:$K$5,MATCH('Energinetdk rapport'!$I$3,'Energinetdk rapport'!$J$1:$J$5,0))):INDIRECT(\"'Input'!F\"&INDEX('Energinetdk rapport'!$L$1:$L$5,MATCH('Energinetdk rapport'!$I$3,'Energinetdk rapport'!$J$1:$J$5,0))),C107,INDIRECT(\"'Input'!J\"&INDEX('Energinetdk rapport'!$K$1:$K$5,MATCH('Energinetdk rapport'!$I$3,'Energinetdk rapport'!$J$1:$J$5,0))):INDIRECT(\"'Input'!J\"&INDEX('Energinetdk rapport'!$L$1:$L$5,MATCH('Energinetdk rapport'!$I$3,'Energinetdk rapport'!$J$1:$J$5,0)))),0)","v":0},{"$f":"SUMIFS(INDIRECT(\"'Input'!H\"&INDEX('Energinetdk rapport'!$K$1:$K$5,MATCH('Energinetdk rapport'!$I$3,'Energinetdk rapport'!$J$1:$J$5,0))):INDIRECT(\"'Input'!H\"&INDEX('Energinetdk rapport'!$L$1:$L$5,MATCH('Energinetdk rapport'!$I$3,'Energinetdk rapport'!$J$1:$J$5,0))), INDIRECT(\"'Input'!F\"&INDEX('Energinetdk rapport'!$K$1:$K$5,MATCH('Energinetdk rapport'!$I$3,'Energinetdk rapport'!$J$1:$J$5,0))):INDIRECT(\"'Input'!F\"&INDEX('Energinetdk rapport'!$L$1:$L$5,MATCH('Energinetdk rapport'!$I$3,'Energinetdk rapport'!$J$1:$J$5,0))), C107)","v":0},0]
[null,null,{"$f":"IF(Biomasser!A104=\"\",\"\", Biomasser!A104)","v":""},{"$f":"IF(Biomasser!J104=\"\",\"\", Biomasser!J104)","v":""},{"$f":"IFERROR(AVERAGEIF(INDIRECT(\"'Input'!F\"&INDEX('Energinetdk rapport'!$K$1:$K$5,MATCH('Energinetdk rapport'!$I$3,'Energinetdk rapport'!$J$1:$J$5,0))):INDIRECT(\"'Input'!F\"&INDEX('Energinetdk rapport'!$L$1:$L$5,MATCH('Energinetdk rapport'!$I$3,'Energinetdk rapport'!$J$1:$J$5,0))),C108,INDIRECT(\"'Input'!J\"&INDEX('Energinetdk rapport'!$K$1:$K$5,MATCH('Energinetdk rapport'!$I$3,'Energinetdk rapport'!$J$1:$J$5,0))):INDIRECT(\"'Input'!J\"&INDEX('Energinetdk rapport'!$L$1:$L$5,MATCH('Energinetdk rapport'!$I$3,'Energinetdk rapport'!$J$1:$J$5,0)))),0)","v":0},{"$f":"SUMIFS(INDIRECT(\"'Input'!H\"&INDEX('Energinetdk rapport'!$K$1:$K$5,MATCH('Energinetdk rapport'!$I$3,'Energinetdk rapport'!$J$1:$J$5,0))):INDIRECT(\"'Input'!H\"&INDEX('Energinetdk rapport'!$L$1:$L$5,MATCH('Energinetdk rapport'!$I$3,'Energinetdk rapport'!$J$1:$J$5,0))), INDIRECT(\"'Input'!F\"&INDEX('Energinetdk rapport'!$K$1:$K$5,MATCH('Energinetdk rapport'!$I$3,'Energinetdk rapport'!$J$1:$J$5,0))):INDIRECT(\"'Input'!F\"&INDEX('Energinetdk rapport'!$L$1:$L$5,MATCH('Energinetdk rapport'!$I$3,'Energinetdk rapport'!$J$1:$J$5,0))), C108)","v":0},0]
[null,null,{"$f":"IF(Biomasser!A105=\"\",\"\", Biomasser!A105)","v":""},{"$f":"IF(Biomasser!J105=\"\",\"\", Biomasser!J105)","v":""},{"$f":"IFERROR(AVERAGEIF(INDIRECT(\"'Input'!F\"&INDEX('Energinetdk rapport'!$K$1:$K$5,MATCH('Energinetdk rapport'!$I$3,'Energinetdk rapport'!$J$1:$J$5,0))):INDIRECT(\"'Input'!F\"&INDEX('Energinetdk rapport'!$L$1:$L$5,MATCH('Energinetdk rapport'!$I$3,'Energinetdk rapport'!$J$1:$J$5,0))),C109,INDIRECT(\"'Input'!J\"&INDEX('Energinetdk rapport'!$K$1:$K$5,MATCH('Energinetdk rapport'!$I$3,'Energinetdk rapport'!$J$1:$J$5,0))):INDIRECT(\"'Input'!J\"&INDEX('Energinetdk rapport'!$L$1:$L$5,MATCH('Energinetdk rapport'!$I$3,'Energinetdk rapport'!$J$1:$J$5,0)))),0)","v":0},{"$f":"SUMIFS(INDIRECT(\"'Input'!H\"&INDEX('Energinetdk rapport'!$K$1:$K$5,MATCH('Energinetdk rapport'!$I$3,'Energinetdk rapport'!$J$1:$J$5,0))):INDIRECT(\"'Input'!H\"&INDEX('Energinetdk rapport'!$L$1:$L$5,MATCH('Energinetdk rapport'!$I$3,'Energinetdk rapport'!$J$1:$J$5,0))), INDIRECT(\"'Input'!F\"&INDEX('Energinetdk rapport'!$K$1:$K$5,MATCH('Energinetdk rapport'!$I$3,'Energinetdk rapport'!$J$1:$J$5,0))):INDIRECT(\"'Input'!F\"&INDEX('Energinetdk rapport'!$L$1:$L$5,MATCH('Energinetdk rapport'!$I$3,'Energinetdk rapport'!$J$1:$J$5,0))), C109)","v":0},0]
[null,null,{"$f":"IF(Biomasser!A106=\"\",\"\", Biomasser!A106)","v":""},{"$f":"IF(Biomasser!J106=\"\",\"\", Biomasser!J106)","v":""},{"$f":"IFERROR(AVERAGEIF(INDIRECT(\"'Input'!F\"&INDEX('Energinetdk rapport'!$K$1:$K$5,MATCH('Energinetdk rapport'!$I$3,'Energinetdk rapport'!$J$1:$J$5,0))):INDIRECT(\"'Input'!F\"&INDEX('Energinetdk rapport'!$L$1:$L$5,MATCH('Energinetdk rapport'!$I$3,'Energinetdk rapport'!$J$1:$J$5,0))),C110,INDIRECT(\"'Input'!J\"&INDEX('Energinetdk rapport'!$K$1:$K$5,MATCH('Energinetdk rapport'!$I$3,'Energinetdk rapport'!$J$1:$J$5,0))):INDIRECT(\"'Input'!J\"&INDEX('Energinetdk rapport'!$L$1:$L$5,MATCH('Energinetdk rapport'!$I$3,'Energinetdk rapport'!$J$1:$J$5,0)))),0)","v":0},{"$f":"SUMIFS(INDIRECT(\"'Input'!H\"&INDEX('Energinetdk rapport'!$K$1:$K$5,MATCH('Energinetdk rapport'!$I$3,'Energinetdk rapport'!$J$1:$J$5,0))):INDIRECT(\"'Input'!H\"&INDEX('Energinetdk rapport'!$L$1:$L$5,MATCH('Energinetdk rapport'!$I$3,'Energinetdk rapport'!$J$1:$J$5,0))), INDIRECT(\"'Input'!F\"&INDEX('Energinetdk rapport'!$K$1:$K$5,MATCH('Energinetdk rapport'!$I$3,'Energinetdk rapport'!$J$1:$J$5,0))):INDIRECT(\"'Input'!F\"&INDEX('Energinetdk rapport'!$L$1:$L$5,MATCH('Energinetdk rapport'!$I$3,'Energinetdk rapport'!$J$1:$J$5,0))), C110)","v":0},0]
[null,null,{"$f":"IF(Biomasser!A107=\"\",\"\", Biomasser!A107)","v":""},{"$f":"IF(Biomasser!J107=\"\",\"\", Biomasser!J107)","v":""},{"$f":"IFERROR(AVERAGEIF(INDIRECT(\"'Input'!F\"&INDEX('Energinetdk rapport'!$K$1:$K$5,MATCH('Energinetdk rapport'!$I$3,'Energinetdk rapport'!$J$1:$J$5,0))):INDIRECT(\"'Input'!F\"&INDEX('Energinetdk rapport'!$L$1:$L$5,MATCH('Energinetdk rapport'!$I$3,'Energinetdk rapport'!$J$1:$J$5,0))),C111,INDIRECT(\"'Input'!J\"&INDEX('Energinetdk rapport'!$K$1:$K$5,MATCH('Energinetdk rapport'!$I$3,'Energinetdk rapport'!$J$1:$J$5,0))):INDIRECT(\"'Input'!J\"&INDEX('Energinetdk rapport'!$L$1:$L$5,MATCH('Energinetdk rapport'!$I$3,'Energinetdk rapport'!$J$1:$J$5,0)))),0)","v":0},{"$f":"SUMIFS(INDIRECT(\"'Input'!H\"&INDEX('Energinetdk rapport'!$K$1:$K$5,MATCH('Energinetdk rapport'!$I$3,'Energinetdk rapport'!$J$1:$J$5,0))):INDIRECT(\"'Input'!H\"&INDEX('Energinetdk rapport'!$L$1:$L$5,MATCH('Energinetdk rapport'!$I$3,'Energinetdk rapport'!$J$1:$J$5,0))), INDIRECT(\"'Input'!F\"&INDEX('Energinetdk rapport'!$K$1:$K$5,MATCH('Energinetdk rapport'!$I$3,'Energinetdk rapport'!$J$1:$J$5,0))):INDIRECT(\"'Input'!F\"&INDEX('Energinetdk rapport'!$L$1:$L$5,MATCH('Energinetdk rapport'!$I$3,'Energinetdk rapport'!$J$1:$J$5,0))), C111)","v":0},0]
[null,null,{"$f":"IF(Biomasser!A108=\"\",\"\", Biomasser!A108)","v":""},{"$f":"IF(Biomasser!J108=\"\",\"\", Biomasser!J108)","v":""},{"$f":"IFERROR(AVERAGEIF(INDIRECT(\"'Input'!F\"&INDEX('Energinetdk rapport'!$K$1:$K$5,MATCH('Energinetdk rapport'!$I$3,'Energinetdk rapport'!$J$1:$J$5,0))):INDIRECT(\"'Input'!F\"&INDEX('Energinetdk rapport'!$L$1:$L$5,MATCH('Energinetdk rapport'!$I$3,'Energinetdk rapport'!$J$1:$J$5,0))),C112,INDIRECT(\"'Input'!J\"&INDEX('Energinetdk rapport'!$K$1:$K$5,MATCH('Energinetdk rapport'!$I$3,'Energinetdk rapport'!$J$1:$J$5,0))):INDIRECT(\"'Input'!J\"&INDEX('Energinetdk rapport'!$L$1:$L$5,MATCH('Energinetdk rapport'!$I$3,'Energinetdk rapport'!$J$1:$J$5,0)))),0)","v":0},{"$f":"SUMIFS(INDIRECT(\"'Input'!H\"&INDEX('Energinetdk rapport'!$K$1:$K$5,MATCH('Energinetdk rapport'!$I$3,'Energinetdk rapport'!$J$1:$J$5,0))):INDIRECT(\"'Input'!H\"&INDEX('Energinetdk rapport'!$L$1:$L$5,MATCH('Energinetdk rapport'!$I$3,'Energinetdk rapport'!$J$1:$J$5,0))), INDIRECT(\"'Input'!F\"&INDEX('Energinetdk rapport'!$K$1:$K$5,MATCH('Energinetdk rapport'!$I$3,'Energinetdk rapport'!$J$1:$J$5,0))):INDIRECT(\"'Input'!F\"&INDEX('Energinetdk rapport'!$L$1:$L$5,MATCH('Energinetdk rapport'!$I$3,'Energinetdk rapport'!$J$1:$J$5,0))), C112)","v":0},0]
[null,null,{"$f":"IF(Biomasser!A109=\"\",\"\", Biomasser!A109)","v":""},{"$f":"IF(Biomasser!J109=\"\",\"\", Biomasser!J109)","v":""},{"$f":"IFERROR(AVERAGEIF(INDIRECT(\"'Input'!F\"&INDEX('Energinetdk rapport'!$K$1:$K$5,MATCH('Energinetdk rapport'!$I$3,'Energinetdk rapport'!$J$1:$J$5,0))):INDIRECT(\"'Input'!F\"&INDEX('Energinetdk rapport'!$L$1:$L$5,MATCH('Energinetdk rapport'!$I$3,'Energinetdk rapport'!$J$1:$J$5,0))),C113,INDIRECT(\"'Input'!J\"&INDEX('Energinetdk rapport'!$K$1:$K$5,MATCH('Energinetdk rapport'!$I$3,'Energinetdk rapport'!$J$1:$J$5,0))):INDIRECT(\"'Input'!J\"&INDEX('Energinetdk rapport'!$L$1:$L$5,MATCH('Energinetdk rapport'!$I$3,'Energinetdk rapport'!$J$1:$J$5,0)))),0)","v":0},{"$f":"SUMIFS(INDIRECT(\"'Input'!H\"&INDEX('Energinetdk rapport'!$K$1:$K$5,MATCH('Energinetdk rapport'!$I$3,'Energinetdk rapport'!$J$1:$J$5,0))):INDIRECT(\"'Input'!H\"&INDEX('Energinetdk rapport'!$L$1:$L$5,MATCH('Energinetdk rapport'!$I$3,'Energinetdk rapport'!$J$1:$J$5,0))), INDIRECT(\"'Input'!F\"&INDEX('Energinetdk rapport'!$K$1:$K$5,MATCH('Energinetdk rapport'!$I$3,'Energinetdk rapport'!$J$1:$J$5,0))):INDIRECT(\"'Input'!F\"&INDEX('Energinetdk rapport'!$L$1:$L$5,MATCH('Energinetdk rapport'!$I$3,'Energinetdk rapport'!$J$1:$J$5,0))), C113)","v":0},0]
[null,null,{"$f":"IF(Biomasser!A110=\"\",\"\", Biomasser!A110)","v":""},{"$f":"IF(Biomasser!J110=\"\",\"\", Biomasser!J110)","v":""},{"$f":"IFERROR(AVERAGEIF(INDIRECT(\"'Input'!F\"&INDEX('Energinetdk rapport'!$K$1:$K$5,MATCH('Energinetdk rapport'!$I$3,'Energinetdk rapport'!$J$1:$J$5,0))):INDIRECT(\"'Input'!F\"&INDEX('Energinetdk rapport'!$L$1:$L$5,MATCH('Energinetdk rapport'!$I$3,'Energinetdk rapport'!$J$1:$J$5,0))),C114,INDIRECT(\"'Input'!J\"&INDEX('Energinetdk rapport'!$K$1:$K$5,MATCH('Energinetdk rapport'!$I$3,'Energinetdk rapport'!$J$1:$J$5,0))):INDIRECT(\"'Input'!J\"&INDEX('Energinetdk rapport'!$L$1:$L$5,MATCH('Energinetdk rapport'!$I$3,'Energinetdk rapport'!$J$1:$J$5,0)))),0)","v":0},{"$f":"SUMIFS(INDIRECT(\"'Input'!H\"&INDEX('Energinetdk rapport'!$K$1:$K$5,MATCH('Energinetdk rapport'!$I$3,'Energinetdk rapport'!$J$1:$J$5,0))):INDIRECT(\"'Input'!H\"&INDEX('Energinetdk rapport'!$L$1:$L$5,MATCH('Energinetdk rapport'!$I$3,'Energinetdk rapport'!$J$1:$J$5,0))), INDIRECT(\"'Input'!F\"&INDEX('Energinetdk rapport'!$K$1:$K$5,MATCH('Energinetdk rapport'!$I$3,'Energinetdk rapport'!$J$1:$J$5,0))):INDIRECT(\"'Input'!F\"&INDEX('Energinetdk rapport'!$L$1:$L$5,MATCH('Energinetdk rapport'!$I$3,'Energinetdk rapport'!$J$1:$J$5,0))), C114)","v":0},0]
[null,null,{"$f":"IF(Biomasser!A111=\"\",\"\", Biomasser!A111)","v":""},{"$f":"IF(Biomasser!J111=\"\",\"\", Biomasser!J111)","v":""},{"$f":"IFERROR(AVERAGEIF(INDIRECT(\"'Input'!F\"&INDEX('Energinetdk rapport'!$K$1:$K$5,MATCH('Energinetdk rapport'!$I$3,'Energinetdk rapport'!$J$1:$J$5,0))):INDIRECT(\"'Input'!F\"&INDEX('Energinetdk rapport'!$L$1:$L$5,MATCH('Energinetdk rapport'!$I$3,'Energinetdk rapport'!$J$1:$J$5,0))),C115,INDIRECT(\"'Input'!J\"&INDEX('Energinetdk rapport'!$K$1:$K$5,MATCH('Energinetdk rapport'!$I$3,'Energinetdk rapport'!$J$1:$J$5,0))):INDIRECT(\"'Input'!J\"&INDEX('Energinetdk rapport'!$L$1:$L$5,MATCH('Energinetdk rapport'!$I$3,'Energinetdk rapport'!$J$1:$J$5,0)))),0)","v":0},{"$f":"SUMIFS(INDIRECT(\"'Input'!H\"&INDEX('Energinetdk rapport'!$K$1:$K$5,MATCH('Energinetdk rapport'!$I$3,'Energinetdk rapport'!$J$1:$J$5,0))):INDIRECT(\"'Input'!H\"&INDEX('Energinetdk rapport'!$L$1:$L$5,MATCH('Energinetdk rapport'!$I$3,'Energinetdk rapport'!$J$1:$J$5,0))), INDIRECT(\"'Input'!F\"&INDEX('Energinetdk rapport'!$K$1:$K$5,MATCH('Energinetdk rapport'!$I$3,'Energinetdk rapport'!$J$1:$J$5,0))):INDIRECT(\"'Input'!F\"&INDEX('Energinetdk rapport'!$L$1:$L$5,MATCH('Energinetdk rapport'!$I$3,'Energinetdk rapport'!$J$1:$J$5,0))), C115)","v":0},0]
[null,null,{"$f":"IF(Biomasser!A112=\"\",\"\", Biomasser!A112)","v":""},{"$f":"IF(Biomasser!J112=\"\",\"\", Biomasser!J112)","v":""},{"$f":"IFERROR(AVERAGEIF(INDIRECT(\"'Input'!F\"&INDEX('Energinetdk rapport'!$K$1:$K$5,MATCH('Energinetdk rapport'!$I$3,'Energinetdk rapport'!$J$1:$J$5,0))):INDIRECT(\"'Input'!F\"&INDEX('Energinetdk rapport'!$L$1:$L$5,MATCH('Energinetdk rapport'!$I$3,'Energinetdk rapport'!$J$1:$J$5,0))),C116,INDIRECT(\"'Input'!J\"&INDEX('Energinetdk rapport'!$K$1:$K$5,MATCH('Energinetdk rapport'!$I$3,'Energinetdk rapport'!$J$1:$J$5,0))):INDIRECT(\"'Input'!J\"&INDEX('Energinetdk rapport'!$L$1:$L$5,MATCH('Energinetdk rapport'!$I$3,'Energinetdk rapport'!$J$1:$J$5,0)))),0)","v":0},{"$f":"SUMIFS(INDIRECT(\"'Input'!H\"&INDEX('Energinetdk rapport'!$K$1:$K$5,MATCH('Energinetdk rapport'!$I$3,'Energinetdk rapport'!$J$1:$J$5,0))):INDIRECT(\"'Input'!H\"&INDEX('Energinetdk rapport'!$L$1:$L$5,MATCH('Energinetdk rapport'!$I$3,'Energinetdk rapport'!$J$1:$J$5,0))), INDIRECT(\"'Input'!F\"&INDEX('Energinetdk rapport'!$K$1:$K$5,MATCH('Energinetdk rapport'!$I$3,'Energinetdk rapport'!$J$1:$J$5,0))):INDIRECT(\"'Input'!F\"&INDEX('Energinetdk rapport'!$L$1:$L$5,MATCH('Energinetdk rapport'!$I$3,'Energinetdk rapport'!$J$1:$J$5,0))), C116)","v":0},0]
[null,null,{"$f":"IF(Biomasser!A113=\"\",\"\", Biomasser!A113)","v":""},{"$f":"IF(Biomasser!J113=\"\",\"\", Biomasser!J113)","v":""},{"$f":"IFERROR(AVERAGEIF(INDIRECT(\"'Input'!F\"&INDEX('Energinetdk rapport'!$K$1:$K$5,MATCH('Energinetdk rapport'!$I$3,'Energinetdk rapport'!$J$1:$J$5,0))):INDIRECT(\"'Input'!F\"&INDEX('Energinetdk rapport'!$L$1:$L$5,MATCH('Energinetdk rapport'!$I$3,'Energinetdk rapport'!$J$1:$J$5,0))),C117,INDIRECT(\"'Input'!J\"&INDEX('Energinetdk rapport'!$K$1:$K$5,MATCH('Energinetdk rapport'!$I$3,'Energinetdk rapport'!$J$1:$J$5,0))):INDIRECT(\"'Input'!J\"&INDEX('Energinetdk rapport'!$L$1:$L$5,MATCH('Energinetdk rapport'!$I$3,'Energinetdk rapport'!$J$1:$J$5,0)))),0)","v":0},{"$f":"SUMIFS(INDIRECT(\"'Input'!H\"&INDEX('Energinetdk rapport'!$K$1:$K$5,MATCH('Energinetdk rapport'!$I$3,'Energinetdk rapport'!$J$1:$J$5,0))):INDIRECT(\"'Input'!H\"&INDEX('Energinetdk rapport'!$L$1:$L$5,MATCH('Energinetdk rapport'!$I$3,'Energinetdk rapport'!$J$1:$J$5,0))), INDIRECT(\"'Input'!F\"&INDEX('Energinetdk rapport'!$K$1:$K$5,MATCH('Energinetdk rapport'!$I$3,'Energinetdk rapport'!$J$1:$J$5,0))):INDIRECT(\"'Input'!F\"&INDEX('Energinetdk rapport'!$L$1:$L$5,MATCH('Energinetdk rapport'!$I$3,'Energinetdk rapport'!$J$1:$J$5,0))), C117)","v":0},0]
[null,null,{"$f":"IF(Biomasser!A114=\"\",\"\", Biomasser!A114)","v":""},{"$f":"IF(Biomasser!J114=\"\",\"\", Biomasser!J114)","v":""},{"$f":"IFERROR(AVERAGEIF(INDIRECT(\"'Input'!F\"&INDEX('Energinetdk rapport'!$K$1:$K$5,MATCH('Energinetdk rapport'!$I$3,'Energinetdk rapport'!$J$1:$J$5,0))):INDIRECT(\"'Input'!F\"&INDEX('Energinetdk rapport'!$L$1:$L$5,MATCH('Energinetdk rapport'!$I$3,'Energinetdk rapport'!$J$1:$J$5,0))),C118,INDIRECT(\"'Input'!J\"&INDEX('Energinetdk rapport'!$K$1:$K$5,MATCH('Energinetdk rapport'!$I$3,'Energinetdk rapport'!$J$1:$J$5,0))):INDIRECT(\"'Input'!J\"&INDEX('Energinetdk rapport'!$L$1:$L$5,MATCH('Energinetdk rapport'!$I$3,'Energinetdk rapport'!$J$1:$J$5,0)))),0)","v":0},{"$f":"SUMIFS(INDIRECT(\"'Input'!H\"&INDEX('Energinetdk rapport'!$K$1:$K$5,MATCH('Energinetdk rapport'!$I$3,'Energinetdk rapport'!$J$1:$J$5,0))):INDIRECT(\"'Input'!H\"&INDEX('Energinetdk rapport'!$L$1:$L$5,MATCH('Energinetdk rapport'!$I$3,'Energinetdk rapport'!$J$1:$J$5,0))), INDIRECT(\"'Input'!F\"&INDEX('Energinetdk rapport'!$K$1:$K$5,MATCH('Energinetdk rapport'!$I$3,'Energinetdk rapport'!$J$1:$J$5,0))):INDIRECT(\"'Input'!F\"&INDEX('Energinetdk rapport'!$L$1:$L$5,MATCH('Energinetdk rapport'!$I$3,'Energinetdk rapport'!$J$1:$J$5,0))), C118)","v":0},{"$f":"IFERROR(F118/SUM($F$6:$F$128),0)","v":0}]
[null,null,{"$f":"IF(Biomasser!A115=\"\",\"\", Biomasser!A115)","v":""},{"$f":"IF(Biomasser!J115=\"\",\"\", Biomasser!J115)","v":""},{"$f":"IFERROR(AVERAGEIF(INDIRECT(\"'Input'!F\"&INDEX('Energinetdk rapport'!$K$1:$K$5,MATCH('Energinetdk rapport'!$I$3,'Energinetdk rapport'!$J$1:$J$5,0))):INDIRECT(\"'Input'!F\"&INDEX('Energinetdk rapport'!$L$1:$L$5,MATCH('Energinetdk rapport'!$I$3,'Energinetdk rapport'!$J$1:$J$5,0))),C119,INDIRECT(\"'Input'!J\"&INDEX('Energinetdk rapport'!$K$1:$K$5,MATCH('Energinetdk rapport'!$I$3,'Energinetdk rapport'!$J$1:$J$5,0))):INDIRECT(\"'Input'!J\"&INDEX('Energinetdk rapport'!$L$1:$L$5,MATCH('Energinetdk rapport'!$I$3,'Energinetdk rapport'!$J$1:$J$5,0)))),0)","v":0},{"$f":"SUMIFS(INDIRECT(\"'Input'!H\"&INDEX('Energinetdk rapport'!$K$1:$K$5,MATCH('Energinetdk rapport'!$I$3,'Energinetdk rapport'!$J$1:$J$5,0))):INDIRECT(\"'Input'!H\"&INDEX('Energinetdk rapport'!$L$1:$L$5,MATCH('Energinetdk rapport'!$I$3,'Energinetdk rapport'!$J$1:$J$5,0))), INDIRECT(\"'Input'!F\"&INDEX('Energinetdk rapport'!$K$1:$K$5,MATCH('Energinetdk rapport'!$I$3,'Energinetdk rapport'!$J$1:$J$5,0))):INDIRECT(\"'Input'!F\"&INDEX('Energinetdk rapport'!$L$1:$L$5,MATCH('Energinetdk rapport'!$I$3,'Energinetdk rapport'!$J$1:$J$5,0))), C119)","v":0},0]
[null,null,{"$f":"IF(Biomasser!A116=\"\",\"\", Biomasser!A116)","v":""},{"$f":"IF(Biomasser!J116=\"\",\"\", Biomasser!J116)","v":""},{"$f":"IFERROR(AVERAGEIF(INDIRECT(\"'Input'!F\"&INDEX('Energinetdk rapport'!$K$1:$K$5,MATCH('Energinetdk rapport'!$I$3,'Energinetdk rapport'!$J$1:$J$5,0))):INDIRECT(\"'Input'!F\"&INDEX('Energinetdk rapport'!$L$1:$L$5,MATCH('Energinetdk rapport'!$I$3,'Energinetdk rapport'!$J$1:$J$5,0))),C120,INDIRECT(\"'Input'!J\"&INDEX('Energinetdk rapport'!$K$1:$K$5,MATCH('Energinetdk rapport'!$I$3,'Energinetdk rapport'!$J$1:$J$5,0))):INDIRECT(\"'Input'!J\"&INDEX('Energinetdk rapport'!$L$1:$L$5,MATCH('Energinetdk rapport'!$I$3,'Energinetdk rapport'!$J$1:$J$5,0)))),0)","v":0},{"$f":"SUMIFS(INDIRECT(\"'Input'!H\"&INDEX('Energinetdk rapport'!$K$1:$K$5,MATCH('Energinetdk rapport'!$I$3,'Energinetdk rapport'!$J$1:$J$5,0))):INDIRECT(\"'Input'!H\"&INDEX('Energinetdk rapport'!$L$1:$L$5,MATCH('Energinetdk rapport'!$I$3,'Energinetdk rapport'!$J$1:$J$5,0))), INDIRECT(\"'Input'!F\"&INDEX('Energinetdk rapport'!$K$1:$K$5,MATCH('Energinetdk rapport'!$I$3,'Energinetdk rapport'!$J$1:$J$5,0))):INDIRECT(\"'Input'!F\"&INDEX('Energinetdk rapport'!$L$1:$L$5,MATCH('Energinetdk rapport'!$I$3,'Energinetdk rapport'!$J$1:$J$5,0))), C120)","v":0},0]
[null,null,{"$f":"IF(Biomasser!A117=\"\",\"\", Biomasser!A117)","v":""},{"$f":"IF(Biomasser!J117=\"\",\"\", Biomasser!J117)","v":""},{"$f":"IFERROR(AVERAGEIF(INDIRECT(\"'Input'!F\"&INDEX('Energinetdk rapport'!$K$1:$K$5,MATCH('Energinetdk rapport'!$I$3,'Energinetdk rapport'!$J$1:$J$5,0))):INDIRECT(\"'Input'!F\"&INDEX('Energinetdk rapport'!$L$1:$L$5,MATCH('Energinetdk rapport'!$I$3,'Energinetdk rapport'!$J$1:$J$5,0))),C121,INDIRECT(\"'Input'!J\"&INDEX('Energinetdk rapport'!$K$1:$K$5,MATCH('Energinetdk rapport'!$I$3,'Energinetdk rapport'!$J$1:$J$5,0))):INDIRECT(\"'Input'!J\"&INDEX('Energinetdk rapport'!$L$1:$L$5,MATCH('Energinetdk rapport'!$I$3,'Energinetdk rapport'!$J$1:$J$5,0)))),0)","v":0},{"$f":"SUMIFS(INDIRECT(\"'Input'!H\"&INDEX('Energinetdk rapport'!$K$1:$K$5,MATCH('Energinetdk rapport'!$I$3,'Energinetdk rapport'!$J$1:$J$5,0))):INDIRECT(\"'Input'!H\"&INDEX('Energinetdk rapport'!$L$1:$L$5,MATCH('Energinetdk rapport'!$I$3,'Energinetdk rapport'!$J$1:$J$5,0))), INDIRECT(\"'Input'!F\"&INDEX('Energinetdk rapport'!$K$1:$K$5,MATCH('Energinetdk rapport'!$I$3,'Energinetdk rapport'!$J$1:$J$5,0))):INDIRECT(\"'Input'!F\"&INDEX('Energinetdk rapport'!$L$1:$L$5,MATCH('Energinetdk rapport'!$I$3,'Energinetdk rapport'!$J$1:$J$5,0))), C121)","v":0},0]
[null,null,{"$f":"IF(Biomasser!A118=\"\",\"\", Biomasser!A118)","v":""},{"$f":"IF(Biomasser!J118=\"\",\"\", Biomasser!J118)","v":""},{"$f":"IFERROR(AVERAGEIF(INDIRECT(\"'Input'!F\"&INDEX('Energinetdk rapport'!$K$1:$K$5,MATCH('Energinetdk rapport'!$I$3,'Energinetdk rapport'!$J$1:$J$5,0))):INDIRECT(\"'Input'!F\"&INDEX('Energinetdk rapport'!$L$1:$L$5,MATCH('Energinetdk rapport'!$I$3,'Energinetdk rapport'!$J$1:$J$5,0))),C122,INDIRECT(\"'Input'!J\"&INDEX('Energinetdk rapport'!$K$1:$K$5,MATCH('Energinetdk rapport'!$I$3,'Energinetdk rapport'!$J$1:$J$5,0))):INDIRECT(\"'Input'!J\"&INDEX('Energinetdk rapport'!$L$1:$L$5,MATCH('Energinetdk rapport'!$I$3,'Energinetdk rapport'!$J$1:$J$5,0)))),0)","v":0},{"$f":"SUMIFS(INDIRECT(\"'Input'!H\"&INDEX('Energinetdk rapport'!$K$1:$K$5,MATCH('Energinetdk rapport'!$I$3,'Energinetdk rapport'!$J$1:$J$5,0))):INDIRECT(\"'Input'!H\"&INDEX('Energinetdk rapport'!$L$1:$L$5,MATCH('Energinetdk rapport'!$I$3,'Energinetdk rapport'!$J$1:$J$5,0))), INDIRECT(\"'Input'!F\"&INDEX('Energinetdk rapport'!$K$1:$K$5,MATCH('Energinetdk rapport'!$I$3,'Energinetdk rapport'!$J$1:$J$5,0))):INDIRECT(\"'Input'!F\"&INDEX('Energinetdk rapport'!$L$1:$L$5,MATCH('Energinetdk rapport'!$I$3,'Energinetdk rapport'!$J$1:$J$5,0))), C122)","v":0},0]
[null,null,{"$f":"IF(Biomasser!A119=\"\",\"\", Biomasser!A119)","v":""},{"$f":"IF(Biomasser!J119=\"\",\"\", Biomasser!J119)","v":""},{"$f":"IFERROR(AVERAGEIF(INDIRECT(\"'Input'!F\"&INDEX('Energinetdk rapport'!$K$1:$K$5,MATCH('Energinetdk rapport'!$I$3,'Energinetdk rapport'!$J$1:$J$5,0))):INDIRECT(\"'Input'!F\"&INDEX('Energinetdk rapport'!$L$1:$L$5,MATCH('Energinetdk rapport'!$I$3,'Energinetdk rapport'!$J$1:$J$5,0))),C123,INDIRECT(\"'Input'!J\"&INDEX('Energinetdk rapport'!$K$1:$K$5,MATCH('Energinetdk rapport'!$I$3,'Energinetdk rapport'!$J$1:$J$5,0))):INDIRECT(\"'Input'!J\"&INDEX('Energinetdk rapport'!$L$1:$L$5,MATCH('Energinetdk rapport'!$I$3,'Energinetdk rapport'!$J$1:$J$5,0)))),0)","v":0},{"$f":"SUMIFS(INDIRECT(\"'Input'!H\"&INDEX('Energinetdk rapport'!$K$1:$K$5,MATCH('Energinetdk rapport'!$I$3,'Energinetdk rapport'!$J$1:$J$5,0))):INDIRECT(\"'Input'!H\"&INDEX('Energinetdk rapport'!$L$1:$L$5,MATCH('Energinetdk rapport'!$I$3,'Energinetdk rapport'!$J$1:$J$5,0))), INDIRECT(\"'Input'!F\"&INDEX('Energinetdk rapport'!$K$1:$K$5,MATCH('Energinetdk rapport'!$I$3,'Energinetdk rapport'!$J$1:$J$5,0))):INDIRECT(\"'Input'!F\"&INDEX('Energinetdk rapport'!$L$1:$L$5,MATCH('Energinetdk rapport'!$I$3,'Energinetdk rapport'!$J$1:$J$5,0))), C123)","v":0},0]
[null,null,{"$f":"IF(Biomasser!A120=\"\",\"\", Biomasser!A120)","v":""},{"$f":"IF(Biomasser!J120=\"\",\"\", Biomasser!J120)","v":""},{"$f":"IFERROR(AVERAGEIF(INDIRECT(\"'Input'!F\"&INDEX('Energinetdk rapport'!$K$1:$K$5,MATCH('Energinetdk rapport'!$I$3,'Energinetdk rapport'!$J$1:$J$5,0))):INDIRECT(\"'Input'!F\"&INDEX('Energinetdk rapport'!$L$1:$L$5,MATCH('Energinetdk rapport'!$I$3,'Energinetdk rapport'!$J$1:$J$5,0))),C124,INDIRECT(\"'Input'!J\"&INDEX('Energinetdk rapport'!$K$1:$K$5,MATCH('Energinetdk rapport'!$I$3,'Energinetdk rapport'!$J$1:$J$5,0))):INDIRECT(\"'Input'!J\"&INDEX('Energinetdk rapport'!$L$1:$L$5,MATCH('Energinetdk rapport'!$I$3,'Energinetdk rapport'!$J$1:$J$5,0)))),0)","v":0},{"$f":"SUMIFS(INDIRECT(\"'Input'!H\"&INDEX('Energinetdk rapport'!$K$1:$K$5,MATCH('Energinetdk rapport'!$I$3,'Energinetdk rapport'!$J$1:$J$5,0))):INDIRECT(\"'Input'!H\"&INDEX('Energinetdk rapport'!$L$1:$L$5,MATCH('Energinetdk rapport'!$I$3,'Energinetdk rapport'!$J$1:$J$5,0))), INDIRECT(\"'Input'!F\"&INDEX('Energinetdk rapport'!$K$1:$K$5,MATCH('Energinetdk rapport'!$I$3,'Energinetdk rapport'!$J$1:$J$5,0))):INDIRECT(\"'Input'!F\"&INDEX('Energinetdk rapport'!$L$1:$L$5,MATCH('Energinetdk rapport'!$I$3,'Energinetdk rapport'!$J$1:$J$5,0))), C124)","v":0},0]
[null,null,{"$f":"IF(Biomasser!A121=\"\",\"\", Biomasser!A121)","v":""},{"$f":"IF(Biomasser!J121=\"\",\"\", Biomasser!J121)","v":""},{"$f":"IFERROR(AVERAGEIF(INDIRECT(\"'Input'!F\"&INDEX('Energinetdk rapport'!$K$1:$K$5,MATCH('Energinetdk rapport'!$I$3,'Energinetdk rapport'!$J$1:$J$5,0))):INDIRECT(\"'Input'!F\"&INDEX('Energinetdk rapport'!$L$1:$L$5,MATCH('Energinetdk rapport'!$I$3,'Energinetdk rapport'!$J$1:$J$5,0))),C125,INDIRECT(\"'Input'!J\"&INDEX('Energinetdk rapport'!$K$1:$K$5,MATCH('Energinetdk rapport'!$I$3,'Energinetdk rapport'!$J$1:$J$5,0))):INDIRECT(\"'Input'!J\"&INDEX('Energinetdk rapport'!$L$1:$L$5,MATCH('Energinetdk rapport'!$I$3,'Energinetdk rapport'!$J$1:$J$5,0)))),0)","v":0},{"$f":"SUMIFS(INDIRECT(\"'Input'!H\"&INDEX('Energinetdk rapport'!$K$1:$K$5,MATCH('Energinetdk rapport'!$I$3,'Energinetdk rapport'!$J$1:$J$5,0))):INDIRECT(\"'Input'!H\"&INDEX('Energinetdk rapport'!$L$1:$L$5,MATCH('Energinetdk rapport'!$I$3,'Energinetdk rapport'!$J$1:$J$5,0))), INDIRECT(\"'Input'!F\"&INDEX('Energinetdk rapport'!$K$1:$K$5,MATCH('Energinetdk rapport'!$I$3,'Energinetdk rapport'!$J$1:$J$5,0))):INDIRECT(\"'Input'!F\"&INDEX('Energinetdk rapport'!$L$1:$L$5,MATCH('Energinetdk rapport'!$I$3,'Energinetdk rapport'!$J$1:$J$5,0))), C125)","v":0},0]
[null,null,{"$f":"IF(Biomasser!A122=\"\",\"\", Biomasser!A122)","v":""},{"$f":"IF(Biomasser!J122=\"\",\"\", Biomasser!J122)","v":""},{"$f":"IFERROR(AVERAGEIF(INDIRECT(\"'Input'!F\"&INDEX('Energinetdk rapport'!$K$1:$K$5,MATCH('Energinetdk rapport'!$I$3,'Energinetdk rapport'!$J$1:$J$5,0))):INDIRECT(\"'Input'!F\"&INDEX('Energinetdk rapport'!$L$1:$L$5,MATCH('Energinetdk rapport'!$I$3,'Energinetdk rapport'!$J$1:$J$5,0))),C126,INDIRECT(\"'Input'!J\"&INDEX('Energinetdk rapport'!$K$1:$K$5,MATCH('Energinetdk rapport'!$I$3,'Energinetdk rapport'!$J$1:$J$5,0))):INDIRECT(\"'Input'!J\"&INDEX('Energinetdk rapport'!$L$1:$L$5,MATCH('Energinetdk rapport'!$I$3,'Energinetdk rapport'!$J$1:$J$5,0)))),0)","v":0},{"$f":"SUMIFS(INDIRECT(\"'Input'!H\"&INDEX('Energinetdk rapport'!$K$1:$K$5,MATCH('Energinetdk rapport'!$I$3,'Energinetdk rapport'!$J$1:$J$5,0))):INDIRECT(\"'Input'!H\"&INDEX('Energinetdk rapport'!$L$1:$L$5,MATCH('Energinetdk rapport'!$I$3,'Energinetdk rapport'!$J$1:$J$5,0))), INDIRECT(\"'Input'!F\"&INDEX('Energinetdk rapport'!$K$1:$K$5,MATCH('Energinetdk rapport'!$I$3,'Energinetdk rapport'!$J$1:$J$5,0))):INDIRECT(\"'Input'!F\"&INDEX('Energinetdk rapport'!$L$1:$L$5,MATCH('Energinetdk rapport'!$I$3,'Energinetdk rapport'!$J$1:$J$5,0))), C126)","v":0},0]
[null,null,{"$f":"IF(Biomasser!A123=\"\",\"\", Biomasser!A123)","v":""},{"$f":"IF(Biomasser!J123=\"\",\"\", Biomasser!J123)","v":""},{"$f":"IFERROR(AVERAGEIF(INDIRECT(\"'Input'!F\"&INDEX('Energinetdk rapport'!$K$1:$K$5,MATCH('Energinetdk rapport'!$I$3,'Energinetdk rapport'!$J$1:$J$5,0))):INDIRECT(\"'Input'!F\"&INDEX('Energinetdk rapport'!$L$1:$L$5,MATCH('Energinetdk rapport'!$I$3,'Energinetdk rapport'!$J$1:$J$5,0))),C127,INDIRECT(\"'Input'!J\"&INDEX('Energinetdk rapport'!$K$1:$K$5,MATCH('Energinetdk rapport'!$I$3,'Energinetdk rapport'!$J$1:$J$5,0))):INDIRECT(\"'Input'!J\"&INDEX('Energinetdk rapport'!$L$1:$L$5,MATCH('Energinetdk rapport'!$I$3,'Energinetdk rapport'!$J$1:$J$5,0)))),0)","v":0},{"$f":"SUMIFS(INDIRECT(\"'Input'!H\"&INDEX('Energinetdk rapport'!$K$1:$K$5,MATCH('Energinetdk rapport'!$I$3,'Energinetdk rapport'!$J$1:$J$5,0))):INDIRECT(\"'Input'!H\"&INDEX('Energinetdk rapport'!$L$1:$L$5,MATCH('Energinetdk rapport'!$I$3,'Energinetdk rapport'!$J$1:$J$5,0))), INDIRECT(\"'Input'!F\"&INDEX('Energinetdk rapport'!$K$1:$K$5,MATCH('Energinetdk rapport'!$I$3,'Energinetdk rapport'!$J$1:$J$5,0))):INDIRECT(\"'Input'!F\"&INDEX('Energinetdk rapport'!$L$1:$L$5,MATCH('Energinetdk rapport'!$I$3,'Energinetdk rapport'!$J$1:$J$5,0))), C127)","v":0},0]
[null,null,{"$f":"IF(Biomasser!A124=\"\",\"\", Biomasser!A124)","v":""},{"$f":"IF(Biomasser!J124=\"\",\"\", Biomasser!J124)","v":""},{"$f":"IFERROR(AVERAGEIF(INDIRECT(\"'Input'!F\"&INDEX('Energinetdk rapport'!$K$1:$K$5,MATCH('Energinetdk rapport'!$I$3,'Energinetdk rapport'!$J$1:$J$5,0))):INDIRECT(\"'Input'!F\"&INDEX('Energinetdk rapport'!$L$1:$L$5,MATCH('Energinetdk rapport'!$I$3,'Energinetdk rapport'!$J$1:$J$5,0))),C128,INDIRECT(\"'Input'!J\"&INDEX('Energinetdk rapport'!$K$1:$K$5,MATCH('Energinetdk rapport'!$I$3,'Energinetdk rapport'!$J$1:$J$5,0))):INDIRECT(\"'Input'!J\"&INDEX('Energinetdk rapport'!$L$1:$L$5,MATCH('Energinetdk rapport'!$I$3,'Energinetdk rapport'!$J$1:$J$5,0)))),0)","v":0},{"$f":"SUMIFS(INDIRECT(\"'Input'!H\"&INDEX('Energinetdk rapport'!$K$1:$K$5,MATCH('Energinetdk rapport'!$I$3,'Energinetdk rapport'!$J$1:$J$5,0))):INDIRECT(\"'Input'!H\"&INDEX('Energinetdk rapport'!$L$1:$L$5,MATCH('Energinetdk rapport'!$I$3,'Energinetdk rapport'!$J$1:$J$5,0))), INDIRECT(\"'Input'!F\"&INDEX('Energinetdk rapport'!$K$1:$K$5,MATCH('Energinetdk rapport'!$I$3,'Energinetdk rapport'!$J$1:$J$5,0))):INDIRECT(\"'Input'!F\"&INDEX('Energinetdk rapport'!$L$1:$L$5,MATCH('Energinetdk rapport'!$I$3,'Energinetdk rapport'!$J$1:$J$5,0))), C128)","v":0},{"$f":"IFERROR(F128/SUM($F$6:$F$128),0)","v":0}]
[null,null,"Total",null,null,{"$f":"SUM(F6:F128)","v":0},{"$f":"SUM(G6:G128)","v":0}]

{"sheet":"Unik liste","index":18,"n_rows":0,"n_cols":0,"rows_kept":0,"cut":false,"hidden":false,"merged":[]}

{"sheet":"Datoark","index":19,"n_rows":734,"n_cols":8,"rows_kept":734,"cut":false,"hidden":false,"merged":[]}
[null,null,null,null,null,null,"Tekst dato"]
[null,null,null,null,"Start","Slut"]
[2015,"Januar",1,null,6,{"$f":"E3+104","v":110},"1. januar2015"]
[null,null,2,null,{"$f":"F3+1","v":111},{"$f":"E4+104","v":215},"2. januar2015"]
[null,null,3,null,{"$f":"F4+1","v":216},320,"3. januar2015"]
[null,null,4,null,321,425,"4. januar2015"]
[null,null,5,null,426,530,"5. januar2015",1]
[null,null,6,null,531,635,"6. januar2015",2]
[null,null,7,null,636,740,"7. januar2015",3]
[null,null,8,null,741,845,"8. januar2015",4]
[null,null,9,null,846,950,"9. januar2015",5]
[null,null,10,null,951,1055,"10. januar2015",6]
[null,null,11,null,1056,1160,"11. januar2015",7]
[null,null,12,null,1161,1265,"12. januar2015",8]
[null,null,13,null,1266,1370,"13. januar2015",9]
[null,null,14,null,1371,1475,"14. januar2015",10]
[null,null,15,null,1476,1580,"15. januar2015",11]
[null,null,16,null,1581,1685,"16. januar2015",12]
[null,null,17,null,1686,1790,"17. januar2015",13]
[null,null,18,null,1791,1895,"18. januar2015",14]
[null,null,19,null,1896,2000,"19. januar2015",15]
[null,null,20,null,2001,2105,"20. januar2015",16]
[null,null,21,null,2106,2210,"21. januar2015",17]
[null,null,22,null,{"$f":"F23+1","v":2211},2315,"22. januar2015",18]
[null,null,23,null,2316,2420,"23. januar2015",19]
[null,null,24,null,2421,2525,"24. januar2015",20]
[null,null,25,null,2526,2630,"25. januar2015",21]
[null,null,26,null,2631,2735,"26. januar2015",22]
[null,null,27,null,2736,2840,"27. januar2015",23]
[null,null,28,null,2841,2945,"28. januar2015",24]
[null,null,29,null,2946,3050,"29. januar2015",25]
[null,null,30,null,3051,3155,"30. januar2015",26]
[null,null,31,null,3156,3260,"31. januar2015",27]
[null,"Februar",1,null,3261,3365,"1. februar2015",28]
[null,null,2,null,{"$f":"F34+1","v":3366},3470,"2. februar2015",29]
[null,null,3,null,3471,3575,"3. februar2015",30]
[null,null,4,null,3576,3680,"4. februar2015",31]
[null,null,5,null,3681,3785,"5. februar2015",32]
[null,null,6,null,3786,3890,"6. februar2015",33]
[null,null,7,null,3891,3995,"7. februar2015",34]
[null,null,8,null,3996,4100,"8. februar2015",35]
[null,null,9,null,4101,4205,"9. februar2015",36]
[null,null,10,null,4206,4310,"10. februar2015",37]
[null,null,11,null,4311,4415,"11. februar2015",38]
[null,null,12,null,4416,4520,"12. februar2015",39]
[null,null,13,null,{"$f":"F45+1","v":4521},{"$f":"E46+104","v":4625},"13. februar2015",40]
[null,null,14,null,{"$f":"F46+1","v":4626},{"$f":"E47+104","v":4730},"14. februar2015",41]
[null,null,15,null,{"$f":"F47+1","v":4731},4835,"15. februar2015",42]
[null,null,16,null,4836,4940,"16. februar2015",43]
[null,null,17,null,4941,5045,"17. februar2015",44]
[null,null,18,null,5046,5150,"18. februar2015",45]
[null,null,19,null,5151,5255,"19. februar2015",46]
[null,null,20,null,5256,5360,"20. februar2015",47]
[null,null,21,null,5361,5465,"21. februar2015",48]
[null,null,22,null,5466,5570,"22. februar2015",49]
[null,null,23,null,5571,5675,"23. februar2015",50]
[null,null,24,null,5676,5780,"24. februar2015",51]
[null,null,25,null,5781,5885,"25. februar2015",52]
[null,null,26,null,5886,5990,"26. februar2015",53]
[null,null,27,null,5991,6095,"27. februar2015",54]
[null,null,28,null,6096,6200,"28. februar2015",55]
[null,"Marts",1,null,6201,6305,"1. marts2015",56]
[null,null,2,null,6306,6410,"2. marts2015",57]
[null,null,3,null,6411,6515,"3. marts2015",58]
[null,null,4,null,6516,6620,"4. marts2015",59]
[null,null,5,null,6621,6725,"5. marts2015",60]
[null,null,6,null,6726,6830,"6. marts2015",61]
[null,null,7,null,6831,{"$f":"E68+104","v":6935},"7. marts2015",62]
[null,null,8,null,{"$f":"F68+1","v":6936},7040,"8. marts2015",63]
[null,null,9,null,7041,7145,"9. marts2015",64]
[null,null,10,null,7146,7250,"10. marts2015",65]
[null,null,11,null,7251,7355,"11. marts2015",66]
[null,null,12,null,7356,7460,"12. marts2015",67]
[null,null,13,null,7461,7565,"13. marts2015",68]
[null,null,14,null,7566,7670,"14. marts2015",69]
[null,null,15,null,7671,7775,"15. marts2015",70]
[null,null,16,null,7776,7880,"16. marts2015",71]
[null,null,17,null,7881,7985,"17. marts2015",72]
[null,null,18,null,7986,8090,"18. marts2015",73]
[null,null,19,null,8091,8195,"19. marts2015",74]
[null,null,20,null,8196,8300,"20. marts2015",75]
[null,null,21,null,8301,8405,"21. marts2015",76]
[null,null,22,null,8406,8510,"22. marts2015",77]
[null,null,23,null,8511,8615,"23. marts2015",78]
[null,null,24,null,8616,8720,"24. marts2015",79]
[null,null,25,null,8721,8825,"25. marts2015",80]
[null,null,26,null,8826,8930,"26. marts2015",81]
[null,null,27,null,8931,9035,"27. marts2015",82]
[null,null,28,null,9036,9140,"28. marts2015",83]
[null,null,29,null,9141,9245,"29. marts2015",84]
[null,null,30,null,9246,9350,"30. marts2015",85]
[null,null,31,null,9351,9455,"31. marts2015",86]
[null,"April",1,null,9456,9560,"1. april2015",87]
[null,null,2,null,9561,9665,"2. april2015",88]
[null,null,3,null,9666,9770,"3. april2015",89]
[null,null,4,null,9771,9875,"4. april2015",90]
[null,null,5,null,9876,9980,"5. april2015",91]
[null,null,6,null,9981,10085,"6. april2015",92]
[null,null,7,null,10086,10190,"7. april2015",93]
[null,null,8,null,10191,10295,"8. april2015",94]
[null,null,9,null,10296,10400,"9. april2015",95]
[null,null,10,null,10401,10505,"10. april2015",96]
[null,null,11,null,10506,10610,"11. april2015",97]
[null,null,12,null,10611,10715,"12. april2015",98]
[null,null,13,null,10716,10820,"13. april2015",99]
[null,null,14,null,10821,10925,"14. april2015",100]
[null,null,15,null,10926,11030,"15. april2015",101]
[null,null,16,null,11031,11135,"16. april2015",102]
[null,null,17,null,11136,11240,"17. april2015",103]
[null,null,18,null,11241,11345,"18. april2015",104]
[null,null,19,null,11346,11450,"19. april2015",105]
[null,null,20,null,11451,11555,"20. april2015",106]
[null,null,21,null,11556,11660,"21. april2015",107]
[null,null,22,null,11661,11765,"22. april2015",108]
[null,null,23,null,11766,11870,"23. april2015",109]
[null,null,24,null,11871,11975,"24. april2015",110]
[null,null,25,null,11976,12080,"25. april2015",111]
[null,null,26,null,12081,12185,"26. april2015",112]
[null,null,27,null,12186,12290,"27. april2015",113]
[null,null,28,null,12291,12395,"28. april2015",114]
[null,null,29,null,12396,12500,"29. april2015",115]
[null,null,30,null,12501,12605,"30. april2015",116]
[null,"Maj",1,null,12606,12710,"1. maj2015",117]
[null,null,2,null,12711,12815,"2. maj2015",118]
[null,null,3,null,12816,12920,"3. maj2015",119]
[null,null,4,null,12921,13025,"4. maj2015",120]
[null,null,5,null,13026,13130,"5. maj2015",121]
[null,null,6,null,13131,13235,"6. maj2015",122]
[null,null,7,null,13236,13340,"7. maj2015",123]
[null,null,8,null,13341,13445,"8. maj2015",124]
[null,null,9,null,13446,13550,"9. maj2015",125]
[null,null,10,null,13551,{"$f":"E132+104","v":13655},"10. maj2015",126]
[null,null,11,null,{"$f":"F132+1","v":13656},13760,"11. maj2015",127]
[null,null,12,null,13761,13865,"12. maj2015",128]
[null,null,13,null,13866,13970,"13. maj2015",129]
[null,null,14,null,13971,14075,"14. maj2015",130]
[null,null,15,null,14076,14180,"15. maj2015",131]
[null,null,16,null,14181,14285,"16. maj2015",132]
[null,null,17,null,14286,14390,"17. maj2015",133]
[null,null,18,null,14391,14495,"18. maj2015",134]
[null,null,19,null,14496,14600,"19. maj2015",135]
[null,null,20,null,14601,14705,"20. maj2015",136]
[null,null,21,null,14706,14810,"21. maj2015",137]
[null,null,22,null,14811,14915,"22. maj2015",138]
[null,null,23,null,14916,15020,"23. maj2015",139]
[null,null,24,null,15021,15125,"24. maj2015",140]
[null,null,25,null,15126,15230,"25. maj2015",141]
[null,null,26,null,15231,15335,"26. maj2015",142]
[null,null,27,null,15336,15440,"27. maj2015",143]
[null,null,28,null,15441,15545,"28. maj2015",144]
[null,null,29,null,15546,15650,"29. maj2015",145]
[null,null,30,null,15651,15755,"30. maj2015",146]
[null,null,31,null,15756,15860,"31. maj2015",147]
[null,"Juni",1,null,15861,15965,"1. juni2015",148]
[null,null,2,null,15966,16070,"2. juni2015",149]
[null,null,3,null,16071,16175,"3. juni2015",150]
[null,null,4,null,16176,16280,"4. juni2015",151]
[null,null,5,null,16281,16385,"5. juni2015",152]
[null,null,6,null,16386,16490,"6. juni2015",153]
[null,null,7,null,16491,16595,"7. juni2015",154]
[null,null,8,null,16596,16700,"8. juni2015",155]
[null,null,9,null,16701,16805,"9. juni2015",156]
[null,null,10,null,16806,16910,"10. juni2015",157]
[null,null,11,null,16911,17015,"11. juni2015",158]
[null,null,12,null,17016,17120,"12. juni2015",159]
[null,null,13,null,17121,17225,"13. juni2015",160]
[null,null,14,null,17226,17330,"14. juni2015",161]
[null,null,15,null,17331,17435,"15. juni2015",162]
[null,null,16,null,17436,17540,"16. juni2015",163]
[null,null,17,null,17541,17645,"17. juni2015",164]
[null,null,18,null,17646,17750,"18. juni2015",165]
[null,null,19,null,17751,17855,"19. juni2015",166]
[null,null,20,null,17856,17960,"20. juni2015",167]
[null,null,21,null,17961,18065,"21. juni2015",168]
[null,null,22,null,18066,18170,"22. juni2015",169]
[null,null,23,null,18171,18275,"23. juni2015",170]
[null,null,24,null,18276,18380,"24. juni2015",171]
[null,null,25,null,18381,18485,"25. juni2015",172]
[null,null,26,null,18486,18590,"26. juni2015",173]
[null,null,27,null,18591,18695,"27. juni2015",174]
[null,null,28,null,18696,18800,"28. juni2015",175]
[null,null,29,null,18801,18905,"29. juni2015",176]
[null,null,30,null,18906,19010,"30. juni2015",177]
[null,"Juli",1,null,19011,19115,"1. juli2015",178]
[null,null,2,null,19116,19220,"2. juli2015",179]
[null,null,3,null,19221,19325,"3. juli2015",180]
[null,null,4,null,19326,19430,"4. juli2015",181]
[null,null,5,null,19431,19535,"5. juli2015",182]
[null,null,6,null,19536,19640,"6. juli2015",183]
[null,null,7,null,19641,19745,"7. juli2015",184]
[null,null,8,null,19746,19850,"8. juli2015",185]
[null,null,9,null,19851,19955,"9. juli2015",186]
[null,null,10,null,19956,20060,"10. juli2015",187]
[null,null,11,null,20061,20165,"11. juli2015",188]
[null,null,12,null,20166,20270,"12. juli2015",189]
[null,null,13,null,20271,{"$f":"E196+104","v":20375},"13. juli2015",190]
[null,null,14,null,{"$f":"F196+1","v":20376},20480,"14. juli2015",191]
[null,null,15,null,20481,20585,"15. juli2015",192]
[null,null,16,null,20586,20690,"16. juli2015",193]
[null,null,17,null,20691,20795,"17. juli2015",194]
[null,null,18,null,20796,20900,"18. juli2015",195]
[null,null,19,null,20901,21005,"19. juli2015",196]
[null,null,20,null,21006,21110,"20. juli2015",197]
[null,null,21,null,21111,21215,"21. juli2015",198]
[null,null,22,null,21216,21320,"22. juli2015",199]
[null,null,23,null,21321,21425,"23. juli2015",200]
[null,null,24,null,21426,21530,"24. juli2015",201]
[null,null,25,null,21531,21635,"25. juli2015",202]
[null,null,26,null,21636,21740,"26. juli2015",203]
[null,null,27,null,21741,21845,"27. juli2015",204]
[null,null,28,null,21846,21950,"28. juli2015",205]
[null,null,29,null,21951,22055,"29. juli2015",206]
[null,null,30,null,22056,22160,"30. juli2015",207]
[null,null,31,null,22161,22265,"31. juli2015",208]
[null,"August",1,null,22266,22370,"1. august2015",209]
[null,null,2,null,22371,22475,"2. august2015",210]
[null,null,3,null,22476,22580,"3. august2015",211]
[null,null,4,null,22581,22685,"4. august2015",212]
[null,null,5,null,22686,22790,"5. august2015",213]
[null,null,6,null,22791,22895,"6. august2015",214]
[null,null,7,null,22896,23000,"7. august2015",215]
[null,null,8,null,23001,23105,"8. august2015",216]
[null,null,9,null,23106,23210,"9. august2015",217]
[null,null,10,null,23211,23315,"10. august2015",218]
[null,null,11,null,23316,23420,"11. august2015",219]
[null,null,12,null,23421,23525,"12. august2015",220]
[null,null,13,null,23526,23630,"13. august2015",221]
[null,null,14,null,23631,23735,"14. august2015",222]
[null,null,15,null,23736,23840,"15. august2015",223]
[null,null,16,null,23841,23945,"16. august2015",224]
[null,null,17,null,23946,24050,"17. august2015",225]
[null,null,18,null,24051,24155,"18. august2015",226]
[null,null,19,null,24156,24260,"19. august2015",227]
[null,null,20,null,24261,24365,"20. august2015",228]
[null,null,21,null,24366,24470,"21. august2015",229]
[null,null,22,null,24471,24575,"22. august2015",230]
[null,null,23,null,24576,24680,"23. august2015",231]
[null,null,24,null,24681,24785,"24. august2015",232]
[null,null,25,null,24786,24890,"25. august2015",233]
[null,null,26,null,24891,24995,"26. august2015",234]
[null,null,27,null,24996,25100,"27. august2015",235]
[null,null,28,null,25101,25205,"28. august2015",236]
[null,null,29,null,25206,25310,"29. august2015",237]
[null,null,30,null,25311,25415,"30. august2015",238]
[null,null,31,null,25416,25520,"31. august2015",239]
[null,"September",1,null,25521,25625,"1. september2015",240]
[null,null,2,null,25626,25730,"2. september2015",241]
[null,null,3,null,25731,25835,"3. september2015",242]
[null,null,4,null,25836,25940,"4. september2015",243]
[null,null,5,null,25941,26045,"5. september2015",244]
[null,null,6,null,26046,26150,"6. september2015",245]
[null,null,7,null,26151,26255,"7. september2015",246]
[null,null,8,null,26256,26360,"8. september2015",247]
[null,null,9,null,26361,26465,"9. september2015",248]
[null,null,10,null,26466,26570,"10. september2015",249]
[null,null,11,null,26571,26675,"11. september2015",250]
[null,null,12,null,26676,26780,"12. september2015",251]
[null,null,13,null,26781,26885,"13. september2015",252]
[null,null,14,null,26886,26990,"14. september2015",253]
[null,null,15,null,26991,{"$f":"E260+104","v":27095},"15. september2015",254]
[null,null,16,null,{"$f":"F260+1","v":27096},27200,"16. september2015",255]
[null,null,17,null,27201,27305,"17. september2015",256]
[null,null,18,null,27306,27410,"18. september2015",257]
[null,null,19,null,27411,27515,"19. september2015",258]
[null,null,20,null,27516,27620,"20. september2015",259]
[null,null,21,null,27621,27725,"21. september2015",260]
[null,null,22,null,27726,27830,"22. september2015",261]
[null,null,23,null,27831,27935,"23. september2015",262]
[null,null,24,null,27936,28040,"24. september2015",263]
[null,null,25,null,28041,28145,"25. september2015",264]
[null,null,26,null,28146,28250,"26. september2015",265]
[null,null,27,null,28251,28355,"27. september2015",266]
[null,null,28,null,28356,28460,"28. september2015",267]
[null,null,29,null,28461,28565,"29. september2015",268]
[null,null,30,null,28566,28670,"30. september2015",269]
[null,"Oktober",1,null,28671,28775,"1. oktober2015",270]
[null,null,2,null,28776,28880,"2. oktober2015",271]
[null,null,3,null,28881,28985,"3. oktober2015",272]
[null,null,4,null,28986,29090,"4. oktober2015",273]
[null,null,5,null,29091,29195,"5. oktober2015",274]
[null,null,6,null,29196,29300,"6. oktober2015",275]
[null,null,7,null,29301,29405,"7. oktober2015",276]
[null,null,8,null,29406,29510,"8. oktober2015",277]
[null,null,9,null,29511,29615,"9. oktober2015",278]
[null,null,10,null,29616,29720,"10. oktober2015",279]
[null,null,11,null,29721,29825,"11. oktober2015",280]
[null,null,12,null,29826,29930,"12. oktober2015",281]
[null,null,13,null,29931,30035,"13. oktober2015",282]
[null,null,14,null,30036,30140,"14. oktober2015",283]
[null,null,15,null,30141,30245,"15. oktober2015",284]
[null,null,16,null,30246,30350,"16. oktober2015",285]
[null,null,17,null,30351,30455,"17. oktober2015",286]
[null,null,18,null,30456,30560,"18. oktober2015",287]
[null,null,19,null,30561,30665,"19. oktober2015",288]
[null,null,20,null,30666,30770,"20. oktober2015",289]
[null,null,21,null,30771,30875,"21. oktober2015",290]
[null,null,22,null,30876,30980,"22. oktober2015",291]
[null,null,23,null,30981,31085,"23. oktober2015",292]
[null,null,24,null,31086,31190,"24. oktober2015",293]
[null,null,25,null,31191,31295,"25. oktober2015",294]
[null,null,26,null,31296,31400,"26. oktober2015",295]
[null,null,27,null,31401,31505,"27. oktober2015",296]
[null,null,28,null,31506,31610,"28. oktober2015",297]
[null,null,29,null,31611,31715,"29. oktober2015",298]
[null,null,30,null,31716,31820,"30. oktober2015",299]
[null,null,31,null,31821,31925,"31. oktober2015",300]
[null,"November",1,null,31926,32030,"1. november2015",301]
[null,null,2,null,32031,32135,"2. november2015",302]
[null,null,3,null,32136,32240,"3. november2015",303]
[null,null,4,null,32241,32345,"4. november2015",304]
[null,null,5,null,32346,32450,"5. november2015",305]
[null,null,6,null,32451,32555,"6. november2015",306]
[null,null,7,null,32556,32660,"7. november2015",307]
[null,null,8,null,32661,32765,"8. november2015",308]
[null,null,9,null,32766,32870,"9. november2015",309]
[null,null,10,null,32871,32975,"10. november2015",310]
[null,null,11,null,32976,33080,"11. november2015",311]
[null,null,12,null,33081,33185,"12. november2015",312]
[null,null,13,null,33186,33290,"13. november2015",313]
[null,null,14,null,33291,33395,"14. november2015",314]
[null,null,15,null,33396,33500,"15. november2015",315]
[null,null,16,null,33501,33605,"16. november2015",316]
[null,null,17,null,33606,33710,"17. november2015",317]
[null,null,18,null,33711,{"$f":"E324+104","v":33815},"18. november2015",318]
[null,null,19,null,{"$f":"F324+1","v":33816},33920,"19. november2015",319]
[null,null,20,null,33921,34025,"20. november2015",320]
[null,null,21,null,34026,34130,"21. november2015",321]
[null,null,22,null,34131,34235,"22. november2015",322]
[null,null,23,null,34236,34340,"23. november2015",323]
[null,null,24,null,34341,34445,"24. november2015",324]
[null,null,25,null,34446,34550,"25. november2015",325]
[null,null,26,null,34551,34655,"26. november2015",326]
[null,null,27,null,34656,34760,"27. november2015",327]
[null,null,28,null,34761,34865,"28. november2015",328]
[null,null,29,null,34866,34970,"29. november2015",329]
[null,null,30,null,34971,35075,"30. november2015",330]
[null,"December",1,null,35076,35180,"1. december2015",331]
[null,null,2,null,35181,35285,"2. december2015",332]
[null,null,3,null,35286,35390,"3. december2015",333]
[null,null,4,null,35391,35495,"4. december2015",334]
[null,null,5,null,35496,35600,"5. december2015",335]
[null,null,6,null,35601,35705,"6. december2015",336]
[null,null,7,null,35706,35810,"7. december2015",337]
[null,null,8,null,35811,35915,"8. december2015",338]
[null,null,9,null,35916,36020,"9. december2015",339]
[null,null,10,null,36021,36125,"10. december2015",340]
[null,null,11,null,36126,36230,"11. december2015",341]
[null,null,12,null,36231,36335,"12. december2015",342]
[null,null,13,null,36336,36440,"13. december2015",343]
[null,null,14,null,36441,36545,"14. december2015",344]
[null,null,15,null,36546,36650,"15. december2015",345]
[null,null,16,null,36651,36755,"16. december2015",346]
[null,null,17,null,36756,36860,"17. december2015",347]
[null,null,18,null,36861,36965,"18. december2015",348]
[null,null,19,null,36966,37070,"19. december2015",349]
[null,null,20,null,37071,37175,"20. december2015",350]
[null,null,21,null,37176,37280,"21. december2015",351]
[null,null,22,null,37281,37385,"22. december2015",352]
[null,null,23,null,37386,37490,"23. december2015",353]
[null,null,24,null,37491,37595,"24. december2015",354]
[null,null,25,null,37596,37700,"25. december2015",355]
[null,null,26,null,37701,37805,"26. december2015",356]
[null,null,27,null,37806,37910,"27. december2015",357]
[null,null,28,null,37911,38015,"28. december2015",358]
[null,null,29,null,38016,38120,"29. december2015",359]
[null,null,30,null,38121,38225,"30. december2015",360]
[null,null,31,null,38226,38330,"31. december2015",361]
[2016,"Januar",1,null,38331,38435,"1. januar2016",362]
[null,null,2,null,38436,38540,"2. januar2016",363]
[null,null,3,null,38541,38645,"3. januar2016",364]
[null,null,4,null,38646,38750,"4. januar2016",365]
[null,null,5,null,38751,38855,"5. januar2016",366]
[null,null,6,null,38856,38960,"6. januar2016",367]
[null,null,7,null,38961,39065,"7. januar2016",368]
[null,null,8,null,39066,39170,"8. januar2016",369]
[null,null,9,null,39171,39275,"9. januar2016",370]
[null,null,10,null,39276,39380,"10. januar2016",371]
[null,null,11,null,39381,39485,"11. januar2016",372]
[null,null,12,null,39486,39590,"12. januar2016",373]
[null,null,13,null,39591,39695,"13. januar2016",374]
[null,null,14,null,39696,39800,"14. januar2016",375]
[null,null,15,null,39801,39905,"15. januar2016",376]
[null,null,16,null,39906,40010,"16. januar2016",377]
[null,null,17,null,40011,40115,"17. januar2016",378]
[null,null,18,null,40116,40220,"18. januar2016",379]
[null,null,19,null,40221,40325,"19. januar2016",380]
[null,null,20,null,40326,40430,"20. januar2016",381]
[null,null,21,null,40431,{"$f":"E388+104","v":40535},"21. januar2016",382]
[null,null,22,null,{"$f":"F388+1","v":40536},40640,"22. januar2016",383]
[null,null,23,null,40641,40745,"23. januar2016",384]
[null,null,24,null,40746,40850,"24. januar2016",385]
[null,null,25,null,40851,40955,"25. januar2016",386]
[null,null,26,null,40956,41060,"26. januar2016",387]
[null,null,27,null,41061,41165,"27. januar2016",388]
[null,null,28,null,41166,41270,"28. januar2016",389]
[null,null,29,null,41271,41375,"29. januar2016",390]
[null,null,30,null,41376,41480,"30. januar2016",391]
[null,null,31,null,41481,41585,"31. januar2016",392]
[null,"Februar",1,null,41586,41690,"1. februar2016",393]
[null,null,2,null,41691,41795,"2. februar2016",394]
[null,null,3,null,41796,41900,"3. februar2016",395]
[null,null,4,null,41901,42005,"4. februar2016",396]
[null,null,5,null,42006,42110,"5. februar2016",397]
[null,null,6,null,42111,42215,"6. februar2016",398]
[null,null,7,null,42216,42320,"7. februar2016",399]
[null,null,8,null,42321,42425,"8. februar2016",400]
[null,null,9,null,42426,42530,"9. februar2016",401]
[null,null,10,null,42531,42635,"10. februar2016",402]
[null,null,11,null,42636,42740,"11. februar2016",403]
[null,null,12,null,42741,42845,"12. februar2016",404]
[null,null,13,null,42846,42950,"13. februar2016",405]
[null,null,14,null,42951,43055,"14. februar2016",406]
[null,null,15,null,43056,43160,"15. februar2016",407]
[null,null,16,null,43161,43265,"16. februar2016",408]
[null,null,17,null,43266,43370,"17. februar2016",409]
[null,null,18,null,43371,43475,"18. februar2016",410]
[null,null,19,null,43476,43580,"19. februar2016",411]
[null,null,20,null,43581,43685,"20. februar2016",412]
[null,null,21,null,43686,43790,"21. februar2016",413]
[null,null,22,null,43791,43895,"22. februar2016",414]
[null,null,23,null,43896,44000,"23. februar2016",415]
[null,null,24,null,44001,44105,"24. februar2016",416]
[null,null,25,null,44106,44210,"25. februar2016",417]
[null,null,26,null,44211,44315,"26. februar2016",418]
[null,null,27,null,44316,44420,"27. februar2016",419]
[null,null,28,null,44421,44525,"28. februar2016",420]
[null,null,29,null,44526,44630,"29. februar2016",421]
[null,"Marts",1,null,44631,44735,"1. marts2016",422]
[null,null,2,null,44736,44840,"2. marts2016",423]
[null,null,3,null,44841,44945,"3. marts2016",424]
[null,null,4,null,44946,45050,"4. marts2016",425]
[null,null,5,null,45051,45155,"5. marts2016",426]
[null,null,6,null,45156,45260,"6. marts2016",427]
[null,null,7,null,45261,45365,"7. marts2016",428]
[null,null,8,null,45366,45470,"8. marts2016",429]
[null,null,9,null,45471,45575,"9. marts2016",430]
[null,null,10,null,45576,45680,"10. marts2016",431]
[null,null,11,null,45681,45785,"11. marts2016",432]
[null,null,12,null,45786,45890,"12. marts2016",433]
[null,null,13,null,45891,45995,"13. marts2016",434]
[null,null,14,null,45996,46100,"14. marts2016",435]
[null,null,15,null,46101,46205,"15. marts2016",436]
[null,null,16,null,46206,46310,"16. marts2016",437]
[null,null,17,null,46311,46415,"17. marts2016",438]
[null,null,18,null,46416,46520,"18. marts2016",439]
[null,null,19,null,46521,46625,"19. marts2016",440]
[null,null,20,null,46626,46730,"20. marts2016",441]
[null,null,21,null,46731,46835,"21. marts2016",442]
[null,null,22,null,46836,46940,"22. marts2016",443]
[null,null,23,null,46941,47045,"23. marts2016",444]
[null,null,24,null,47046,47150,"24. marts2016",445]
[null,null,25,null,47151,{"$f":"E452+104","v":47255},"25. marts2016",446]
[null,null,26,null,{"$f":"F452+1","v":47256},47360,"26. marts2016",447]
[null,null,27,null,47361,47465,"27. marts2016",448]
[null,null,28,null,47466,47570,"28. marts2016",449]
[null,null,29,null,47571,47675,"29. marts2016",450]
[null,null,30,null,47676,47780,"30. marts2016",451]
[null,null,31,null,47781,47885,"31. marts2016",452]
[null,"April",1,null,47886,47990,"1. april2016",453]
[null,null,2,null,47991,48095,"2. april2016",454]
[null,null,3,null,48096,48200,"3. april2016",455]
[null,null,4,null,48201,48305,"4. april2016",456]
[null,null,5,null,48306,48410,"5. april2016",457]
[null,null,6,null,48411,48515,"6. april2016",458]
[null,null,7,null,48516,48620,"7. april2016",459]
[null,null,8,null,48621,48725,"8. april2016",460]
[null,null,9,null,48726,48830,"9. april2016",461]
[null,null,10,null,48831,48935,"10. april2016",462]
[null,null,11,null,48936,49040,"11. april2016",463]
[null,null,12,null,49041,49145,"12. april2016",464]
[null,null,13,null,49146,49250,"13. april2016",465]
[null,null,14,null,49251,49355,"14. april2016",466]
[null,null,15,null,49356,49460,"15. april2016",467]
[null,null,16,null,49461,49565,"16. april2016",468]
[null,null,17,null,49566,49670,"17. april2016",469]
[null,null,18,null,49671,49775,"18. april2016",470]
[null,null,19,null,49776,49880,"19. april2016",471]
[null,null,20,null,49881,49985,"20. april2016",472]
[null,null,21,null,49986,50090,"21. april2016",473]
[null,null,22,null,50091,50195,"22. april2016",474]
[null,null,23,null,50196,50300,"23. april2016",475]
[null,null,24,null,50301,50405,"24. april2016",476]
[null,null,25,null,50406,50510,"25. april2016",477]
[null,null,26,null,50511,50615,"26. april2016",478]
[null,null,27,null,50616,50720,"27. april2016",479]
[null,null,28,null,50721,50825,"28. april2016",480]
[null,null,29,null,50826,50930,"29. april2016",481]
[null,null,30,null,50931,51035,"30. april2016",482]
[null,"Maj",1,null,51036,51140,"1. maj2016",483]
[null,null,2,null,51141,51245,"2. maj2016",484]
[null,null,3,null,51246,51350,"3. maj2016",485]
[null,null,4,null,51351,51455,"4. maj2016",486]
[null,null,5,null,51456,51560,"5. maj2016",487]
[null,null,6,null,51561,51665,"6. maj2016",488]
[null,null,7,null,51666,51770,"7. maj2016",489]
[null,null,8,null,51771,51875,"8. maj2016",490]
[null,null,9,null,51876,51980,"9. maj2016",491]
[null,null,10,null,51981,52085,"10. maj2016",492]
[null,null,11,null,52086,52190,"11. maj2016",493]
[null,null,12,null,52191,52295,"12. maj2016",494]
[null,null,13,null,52296,52400,"13. maj2016",495]
[null,null,14,null,52401,52505,"14. maj2016",496]
[null,null,15,null,52506,52610,"15. maj2016",497]
[null,null,16,null,52611,52715,"16. maj2016",498]
[null,null,17,null,52716,52820,"17. maj2016",499]
[null,null,18,null,52821,52925,"18. maj2016",500]
[null,null,19,null,52926,53030,"19. maj2016",501]
[null,null,20,null,53031,53135,"20. maj2016",502]
[null,null,21,null,53136,53240,"21. maj2016",503]
[null,null,22,null,53241,53345,"22. maj2016",504]
[null,null,23,null,53346,53450,"23. maj2016",505]
[null,null,24,null,53451,53555,"24. maj2016",506]
[null,null,25,null,53556,53660,"25. maj2016",507]
[null,null,26,null,53661,53765,"26. maj2016",508]
[null,null,27,null,53766,53870,"27. maj2016",509]
[null,null,28,null,53871,{"$f":"E516+104","v":53975},"28. maj2016",510]
[null,null,29,null,{"$f":"F516+1","v":53976},54080,"29. maj2016",511]
[null,null,30,null,54081,54185,"30. maj2016",512]
[null,null,31,null,54186,54290,"31. maj2016",513]
[null,"Juni",1,null,54291,54395,"1. juni2016",514]
[null,null,2,null,54396,54500,"2. juni2016",515]
[null,null,3,null,54501,54605,"3. juni2016",516]
[null,null,4,null,54606,54710,"4. juni2016",517]
[null,null,5,null,54711,54815,"5. juni2016",518]
[null,null,6,null,54816,54920,"6. juni2016",519]
[null,null,7,null,54921,55025,"7. juni2016",520]
[null,null,8,null,55026,55130,"8. juni2016",521]
[null,null,9,null,55131,55235,"9. juni2016",522]
[null,null,10,null,55236,55340,"10. juni2016",523]
[null,null,11,null,55341,55445,"11. juni2016",524]
[null,null,12,null,55446,55550,"12. juni2016",525]
[null,null,13,null,55551,55655,"13. juni2016",526]
[null,null,14,null,55656,55760,"14. juni2016",527]
[null,null,15,null,55761,55865,"15. juni2016",528]
[null,null,16,null,55866,55970,"16. juni2016",529]
[null,null,17,null,55971,56075,"17. juni2016",530]
[null,null,18,null,56076,56180,"18. juni2016",531]
[null,null,19,null,56181,56285,"19. juni2016",532]
[null,null,20,null,56286,56390,"20. juni2016",533]
[null,null,21,null,56391,56495,"21. juni2016",534]
[null,null,22,null,56496,56600,"22. juni2016",535]
[null,null,23,null,56601,56705,"23. juni2016",536]
[null,null,24,null,56706,56810,"24. juni2016",537]
[null,null,25,null,56811,56915,"25. juni2016",538]
[null,null,26,null,56916,57020,"26. juni2016",539]
[null,null,27,null,57021,57125,"27. juni2016",540]
[null,null,28,null,57126,57230,"28. juni2016",541]
[null,null,29,null,57231,57335,"29. juni2016",542]
[null,null,30,null,57336,57440,"30. juni2016",543]
[null,"Juli",1,null,57441,57545,"1. juli2016",544]
[null,null,2,null,57546,57650,"2. juli2016",545]
[null,null,3,null,57651,57755,"3. juli2016",546]
[null,null,4,null,57756,57860,"4. juli2016",547]
[null,null,5,null,57861,57965,"5. juli2016",548]
[null,null,6,null,57966,58070,"6. juli2016",549]
[null,null,7,null,58071,58175,"7. juli2016",550]
[null,null,8,null,58176,58280,"8. juli2016",551]
[null,null,9,null,58281,58385,"9. juli2016",552]
[null,null,10,null,58386,58490,"10. juli2016",553]
[null,null,11,null,58491,58595,"11. juli2016",554]
[null,null,12,null,58596,58700,"12. juli2016",555]
[null,null,13,null,58701,58805,"13. juli2016",556]
[null,null,14,null,58806,58910,"14. juli2016",557]
[null,null,15,null,58911,59015,"15. juli2016",558]
[null,null,16,null,59016,59120,"16. juli2016",559]
[null,null,17,null,59121,59225,"17. juli2016",560]
[null,null,18,null,59226,59330,"18. juli2016",561]
[null,null,19,null,59331,59435,"19. juli2016",562]
[null,null,20,null,59436,59540,"20. juli2016",563]
[null,null,21,null,59541,59645,"21. juli2016",564]
[null,null,22,null,59646,59750,"22. juli2016",565]
[null,null,23,null,59751,59855,"23. juli2016",566]
[null,null,24,null,59856,59960,"24. juli2016",567]
[null,null,25,null,59961,60065,"25. juli2016",568]
[null,null,26,null,60066,60170,"26. juli2016",569]
[null,null,27,null,60171,60275,"27. juli2016",570]
[null,null,28,null,60276,60380,"28. juli2016",571]
[null,null,29,null,60381,60485,"29. juli2016",572]
[null,null,30,null,60486,60590,"30. juli2016",573]
[null,null,31,null,60591,{"$f":"E580+104","v":60695},"31. juli2016",574]
[null,"August",1,null,{"$f":"F580+1","v":60696},60800,"1. august2016",575]
[null,null,2,null,60801,60905,"2. august2016",576]
[null,null,3,null,60906,61010,"3. august2016",577]
[null,null,4,null,61011,61115,"4. august2016",578]
[null,null,5,null,61116,61220,"5. august2016",579]
[null,null,6,null,61221,61325,"6. august2016",580]
[null,null,7,null,61326,61430,"7. august2016",581]
[null,null,8,null,61431,61535,"8. august2016",582]
[null,null,9,null,61536,61640,"9. august2016",583]
[null,null,10,null,61641,61745,"10. august2016",584]
[null,null,11,null,61746,61850,"11. august2016",585]
[null,null,12,null,61851,61955,"12. august2016",586]
[null,null,13,null,61956,62060,"13. august2016",587]
[null,null,14,null,62061,62165,"14. august2016",588]
[null,null,15,null,62166,62270,"15. august2016",589]
[null,null,16,null,62271,62375,"16. august2016",590]
[null,null,17,null,62376,62480,"17. august2016",591]
[null,null,18,null,62481,62585,"18. august2016",592]
[null,null,19,null,62586,62690,"19. august2016",593]
[null,null,20,null,62691,62795,"20. august2016",594]
[null,null,21,null,62796,62900,"21. august2016",595]
[null,null,22,null,62901,63005,"22. august2016",596]
[null,null,23,null,63006,63110,"23. august2016",597]
[null,null,24,null,63111,63215,"24. august2016",598]
[null,null,25,null,63216,63320,"25. august2016",599]
[null,null,26,null,63321,63425,"26. august2016",600]
[null,null,27,null,63426,63530,"27. august2016",601]
[null,null,28,null,63531,63635,"28. august2016",602]
[null,null,29,null,63636,63740,"29. august2016",603]
[null,null,30,null,63741,63845,"30. august2016",604]
[null,null,31,null,63846,63950,"31. august2016",605]
[null,"September",1,null,63951,64055,"1. september2016",606]
[null,null,2,null,64056,64160,"2. september2016",607]
[null,null,3,null,64161,64265,"3. september2016",608]
[null,null,4,null,64266,64370,"4. september2016",609]
[null,null,5,null,64371,64475,"5. september2016",610]
[null,null,6,null,64476,64580,"6. september2016",611]
[null,null,7,null,64581,64685,"7. september2016",612]
[null,null,8,null,64686,64790,"8. september2016",613]
[null,null,9,null,64791,64895,"9. september2016",614]
[null,null,10,null,64896,65000,"10. september2016",615]
[null,null,11,null,65001,65105,"11. september2016",616]
[null,null,12,null,65106,65210,"12. september2016",617]
[null,null,13,null,65211,65315,"13. september2016",618]
[null,null,14,null,65316,65420,"14. september2016",619]
[null,null,15,null,65421,65525,"15. september2016",620]
[null,null,16,null,65526,65630,"16. september2016",621]
[null,null,17,null,65631,65735,"17. september2016",622]
[null,null,18,null,65736,65840,"18. september2016",623]
[null,null,19,null,65841,65945,"19. september2016",624]
[null,null,20,null,65946,66050,"20. september2016",625]
[null,null,21,null,66051,66155,"21. september2016",626]
[null,null,22,null,66156,66260,"22. september2016",627]
[null,null,23,null,66261,66365,"23. september2016",628]
[null,null,24,null,66366,66470,"24. september2016",629]
[null,null,25,null,66471,66575,"25. september2016",630]
[null,null,26,null,66576,66680,"26. september2016",631]
[null,null,27,null,66681,66785,"27. september2016",632]
[null,null,28,null,66786,66890,"28. september2016",633]
[null,null,29,null,66891,66995,"29. september2016",634]
[null,null,30,null,66996,67100,"30. september2016",635]
[null,"Oktober",1,null,67101,67205,"1. oktober2016",636]
[null,null,2,null,67206,67310,"2. oktober2016",637]
[null,null,3,null,67311,{"$f":"E644+104","v":67415},"3. oktober2016",638]
[null,null,4,null,{"$f":"F644+1","v":67416},67520,"4. oktober2016",639]
[null,null,5,null,67521,67625,"5. oktober2016",640]
[null,null,6,null,67626,67730,"6. oktober2016",641]
[null,null,7,null,67731,67835,"7. oktober2016",642]
[null,null,8,null,67836,67940,"8. oktober2016",643]
[null,null,9,null,67941,68045,"9. oktober2016",644]
[null,null,10,null,68046,68150,"10. oktober2016",645]
[null,null,11,null,68151,68255,"11. oktober2016",646]
[null,null,12,null,68256,68360,"12. oktober2016",647]
[null,null,13,null,68361,68465,"13. oktober2016",648]
[null,null,14,null,68466,68570,"14. oktober2016",649]
[null,null,15,null,68571,68675,"15. oktober2016",650]
[null,null,16,null,68676,68780,"16. oktober2016",651]
[null,null,17,null,68781,68885,"17. oktober2016",652]
[null,null,18,null,68886,68990,"18. oktober2016",653]
[null,null,19,null,68991,69095,"19. oktober2016",654]
[null,null,20,null,69096,69200,"20. oktober2016",655]
[null,null,21,null,69201,69305,"21. oktober2016",656]
[null,null,22,null,69306,69410,"22. oktober2016",657]
[null,null,23,null,69411,69515,"23. oktober2016",658]
[null,null,24,null,69516,69620,"24. oktober2016",659]
[null,null,25,null,69621,69725,"25. oktober2016",660]
[null,null,26,null,69726,69830,"26. oktober2016",661]
[null,null,27,null,69831,69935,"27. oktober2016",662]
[null,null,28,null,69936,70040,"28. oktober2016",663]
[null,null,29,null,70041,70145,"29. oktober2016",664]
[null,null,30,null,70146,70250,"30. oktober2016",665]
[null,null,31,null,70251,70355,"31. oktober2016",666]
[null,"November",1,null,70356,70460,"1. november2016",667]
[null,null,2,null,70461,70565,"2. november2016",668]
[null,null,3,null,70566,70670,"3. november2016",669]
[null,null,4,null,70671,70775,"4. november2016",670]
[null,null,5,null,70776,70880,"5. november2016",671]
[null,null,6,null,70881,70985,"6. november2016",672]
[null,null,7,null,70986,71090,"7. november2016",673]
[null,null,8,null,71091,71195,"8. november2016",674]
[null,null,9,null,71196,71300,"9. november2016",675]
[null,null,10,null,71301,71405,"10. november2016",676]
[null,null,11,null,71406,71510,"11. november2016",677]
[null,null,12,null,71511,71615,"12. november2016",678]
[null,null,13,null,71616,71720,"13. november2016",679]
[null,null,14,null,71721,71825,"14. november2016",680]
[null,null,15,null,71826,71930,"15. november2016",681]
[null,null,16,null,71931,72035,"16. november2016",682]
[null,null,17,null,72036,72140,"17. november2016",683]
[null,null,18,null,72141,72245,"18. november2016",684]
[null,null,19,null,72246,72350,"19. november2016",685]
[null,null,20,null,72351,72455,"20. november2016",686]
[null,null,21,null,72456,72560,"21. november2016",687]
[null,null,22,null,72561,72665,"22. november2016",688]
[null,null,23,null,72666,72770,"23. november2016",689]
[null,null,24,null,72771,72875,"24. november2016",690]
[null,null,25,null,72876,72980,"25. november2016",691]
[null,null,26,null,72981,73085,"26. november2016",692]
[null,null,27,null,73086,73190,"27. november2016",693]
[null,null,28,null,73191,73295,"28. november2016",694]
[null,null,29,null,73296,73400,"29. november2016",695]
[null,null,30,null,73401,73505,"30. november2016",696]
[null,"December",1,null,73506,73610,"1. december2016",697]
[null,null,2,null,73611,73715,"2. december2016",698]
[null,null,3,null,73716,73820,"3. december2016",699]
[null,null,4,null,73821,73925,"4. december2016",700]
[null,null,5,null,73926,74030,"5. december2016",701]
[null,null,6,null,74031,{"$f":"E708+104","v":74135},"6. december2016",702]
[null,null,7,null,{"$f":"F708+1","v":74136},74240,"7. december2016",703]
[null,null,8,null,74241,74345,"8. december2016",704]
[null,null,9,null,74346,74450,"9. december2016",705]
[null,null,10,null,74451,74555,"10. december2016",706]
[null,null,11,null,74556,74660,"11. december2016",707]
[null,null,12,null,74661,74765,"12. december2016",708]
[null,null,13,null,74766,74870,"13. december2016",709]
[null,null,14,null,74871,74975,"14. december2016",710]
[null,null,15,null,74976,75080,"15. december2016",711]
[null,null,16,null,75081,75185,"16. december2016",712]
[null,null,17,null,75186,75290,"17. december2016",713]
[null,null,18,null,75291,75395,"18. december2016",714]
[null,null,19,null,75396,75500,"19. december2016",715]
[null,null,20,null,75501,75605,"20. december2016",716]
[null,null,21,null,75606,75710,"21. december2016",717]
[null,null,22,null,75711,75815,"22. december2016",718]
[null,null,23,null,75816,75920,"23. december2016",719]
[null,null,24,null,75921,76025,"24. december2016",720]
[null,null,25,null,76026,76130,"25. december2016",721]
[null,null,26,null,76131,76235,"26. december2016",722]
[null,null,27,null,76236,76340,"27. december2016",723]
[null,null,28,null,76341,76445,"28. december2016",724]
[null,null,29,null,76446,76550,"29. december2016",725]
[null,null,30,null,76551,76655,"30. december2016",726]
[null,null,31,null,76656,76760,"31. december2016",727]
[null,null,null,null,76761,76865]

{"sheet":"ja-nej","index":20,"n_rows":2,"n_cols":1,"rows_kept":2,"cut":false,"hidden":false,"merged":[]}
["Ja"]
["Nej"]

{"sheet":"Default biomasser","index":21,"n_rows":114,"n_cols":8,"rows_kept":114,"cut":false,"hidden":false,"merged":[[0,1,0,2]]}
["Biomasse","Tørstof (TS) %",null,"Omsættelig tørstof (VS) VS/TS %","Gaspotentiale \nm³ CH4/ton VS","Beskrivelse","Dobbelttælling","Gaspotentiale \nm³ Biogas/ton VS"]
[null,"Lav","Høj"]
[" -                                    Energiafgrøder"]
["Majs",30,45,0.95,305,"Kolber/helsæd",null,469.23076923076923]
["Roer",20,30,0.95,357,"Rod",null,549.23076923076917]
["Korn",84,88,0.98,370,"Kerner/helsæd",null,569.23076923076917]
["Græs",15,25,0.91,324,"Helsæd fra konventionelle arealer i omdrift",null,498.46153846153845]
["Kløvergræs",25,45,0.88,302,"Helsæd fra konventionelle arealer i omdrift - kløvergræs fra økologiske arealer er undtaget",null,464.61538461538458]
["Jordskokker",0,100,null,null,"Rod/helsæd"]
["Andre afgrøder",0,100,null,null,"Andre afgrøder, der er dyrket med henblik på biogasproduktion, som ikke er omfattet af begrænsningen for energiafgrøder."]
["Vinterhvede",84,88]
["Vårhvede",84,88]
["Rug",84,88]
["Rughvede",84,88]
["Havre",84,88]
["Hvedehelsæd",30,45,0.94,270,"kerner og halm lagret som ensilage",null,415.38461538461536]
["Top af sukkerroe og kartoffel",15,35,0.8,324,"Enten frisk eller som ensilage",null,498.46153846153845]
["Rod af foderroe",15,25,0.95,374,null,null,575.38461538461536]
["Top af foderroe",10,15,0.85,329,null,null,506.15384615384613]
["Foderroe - rod og top frisk",15,25,0.93,345,null,null,530.76923076923072]
[" -                                      Husdyrgødning",null,null,null,null,null,"x"]
["Kvæggylle",5,10,0.85,198,null,"x",304.61538461538458]
["Svinegylle",5,10,0.85,294,null,"x",452.30769230769226]
["Minkgylle",5,10,0.8,356,null,"x",547.69230769230762]
["Fjerkrægylle",5,15,0.8,290,null,"x",446.15384615384613]
["Blandet gylle",5,10,0.85,285,null,"x",438.46153846153845]
["Dybstrøelse - Kvæg",15,30,0.8,248,null,"x",381.53846153846155]
["Dybstrøelse - Fjerkræ",60,75,0.8,252,null,"x",387.69230769230768]
["Dybstrøelse - Andre typer",15,25,null,null,null,"x"]
["Fast gødning",15,25,0.55000000000000004,250,null,"x",384.61538461538458]
["Ajle",5,10,null,null,null,"x"]
["Fiberfraktion",0,100,null,null,"Fiberfraktion fra separeret husdyrgødning","x"]
["Flydende fraktion fra separationsanlæg eller biogasanlæg",0,100,null,null,"Væskefraktion fra separeret husdyrgødning.","x"]
["Flydende fraktion",0,100,null,null,"Væskefraktion fra separeret husdyrgødning, hvor fiberfraktionen afbrændes","x"]
["Anden husdyrgødning",0,100,null,null,null,"x"]
["Forsuret svinegylle",0,10,0.8,329,null,"x",506.15384615384613]
["Gylle fra so",0,10,0.8,248,null,"x",381.53846153846155]
["Dybstrøelse - Svin",30,35,0.8,230,"Slagtesvin og so","x",353.84615384615381]
["Gylle fibre - kemisk separation - Svin",25,35,0.8,170,"Slagtesvin","x",261.53846153846155]
["Gylle fibre - dekanter separation - Svin",25,35,0.8,150,"Slagtesvin","x",230.76923076923077]
["Staldgødning - Kvæg",15,25,0.8,200,null,"x",307.69230769230768]
["Kvæggylle - Årsopdræt 6 mdr.",10,15,0.8,203,null,"x",312.30769230769232]
["Staldgødning - Fjerkræ",35,45,0.8,146,"Høns og høniker","x",224.61538461538461]
["Dybstrøelse - Fjerkræ - Slagtekyllinger og høns",45,55,0.8,252,null,"x",387.69230769230768]
["Minkgylle - Fast gødning",5,15,0.8,365,"Fast gødning i gødningsrende","x",561.53846153846155]
["Dybstrøelse - Hest",25,35,0.8,180,"Alle heste","x",276.92307692307691]
[" -                                Slam og spildevand"]
["Slam og spildevand samt uforurenede produktrester",5,15,null,null,"Slam og spildevand samt uforurenede produktrester fra forarbejdning af vegetabilske råvarer samt slam og spildevand fra mejerier."]
["Slam fra dambrug",0,100,null,null," - Slam fra ferskvandsdambrug samt slam og spildevand fra recirkulerede anlæg til opdræt af fisk. \n - Slam fra indpumpningsdambrug."]
["Slam fra forarbejdning af animalske råvarer",5,15,0.8,540," - Slam og flotationsfedt fra renseanlæg på slagterier, opskæringsvirksomheder og andre levnedmiddelvirksomheder.\n - Slam og flotationsfedt fra rensningsanlæg på fiskeindustrier.",null,830.76923076923072]
["Spildevandsslam",0,10,0.8,330," - Slam fra offentlige spildevandsanlæg\n - Slam fra private rensningsanlæg til behandling af husspildevand",null,507.69230769230768]
["Proteolyseret processpildevand",null,null,null,null,"Proteolyseret processpildevand baseret på biologisk materiale, der har undergået en behnadling svarende til mindst kontrolleret hygiejnisering."]
["Sekundær spildevandsslam",0,10,0.75,251,"Slam efter beluftning af spildevand",null,386.15384615384613]
["Sekundær spildevandsslam afvandet",15,25,0.75,200,null,null,307.69230769230768]
[" -                     Organisk affald fra husholdninger og erhverv",null,null,0.9,400,null,null,615.38461538461536]
["Kildesorteret organisk dagrenovation og renovationslignende affald",30,30,0.85,400,"Kildesorteret organisk dagrenovation og dagrenovationslignende affald herunder madaffald fra storkøkkener indsamlet med organisk dagrenovation og madaffald fra institutioner.",null,615.38461538461536]
["Organisk husholdningsaffald - Renescience",20,30,0.88,400,null,null,615.38461538461536]
["Organisk husholdningsaffald - Pulper",5,10,0.88,400,"Cellwood, Sverige",null,615.38461538461536]
["Organisk husholdningsaffald - Rullesigte",25,35,0.88,400,null,null,615.38461538461536]
["Organisk husholdningsaffald - Skruepresse",20,30,0.88,400,null,null,615.38461538461536]
["Organisk husholdningsaffald - Neddeling",20,30,0.92,552,"Storkøkkenaffald - organisk fraktion separeret ",null,849.23076923076917]
["Organisk affald fra erhverv",25,35,0.9,400,"Organisk affald fra erhverv som ikke er animalske biprodukter.",null,615.38461538461536]
[" -            Rester og biprodukter fra planter og afgrøder"]
["Cellulose",95,100,1,125,null,null,192.30769230769229]
["Naturpleje biomasse",45,55,0.85,150,"Græsslet og anden biomasse fra naturarealer, der fremkommer ved naturpleje.",null,230.76923076923077]
["Halm",75,85,0.95,230,"Halm fra korn, raps eller andre afgrøder.",null,353.84615384615381]
["Have-park affald",45,55,0.85,150,"Have- og parkaffald omfatter græsafklip og andre plantedele fra kommunale arealer og private via genbrugsstationer.",null,230.76923076923077]
["Andre restprodukter fra produktion af primærafgrøder",20,25,null,null,"Ikke halm, men andre dele af afgrøder, som bliver frasorteret f.eks. roetoppe, kartoffeltoppe el. lign."]
["Kasserede afgrøder",0,100,null,null,"Kasserede afgrøder i form af rodfrugter, majs eller korn, der er beskadiget og derfor uegnet til føde eller foder."]
["Økologisk kløvergræs",30,45,0.9,319,"Kløvergræs (helsæd) fra økologisk bedrifter er ikke omfattet af begrænsningen for energiafgrøder til biogas.",null,490.76923076923077]
["Rester fra forarbejdning af korn",80,85,null,null,"F.eks. sekunda korn og kornrester fra ethanolproduktion."]
["Slam fra papir- og cellulose industrien",5,10]
["Avner",0,100,null,null,null,"x"]
["Bælge",0,100,null,null,null,"x"]
["Den ikke spiselige del af majskolber",0,100,null,null,null,"x"]
["Nøddeskaller",0,100,null,null,null,"x"]
["Talloliebeg",0,100,null,null,null,"x"]
[" -    Rester og biprodukter fra levnesmiddel- og dyrefoderindustrien",null,null,0.85,400,null,null,615.38461538461536]
["Animalske biprodukter",5,15,0.85,400,"Hele kroppe eller dele af dyr, animalske produkter eller andre produkter fra dyr, som ikke er bestemt til konsum, f.eks. Blod, fedt, mælk og valle.",null,615.38461538461536]
["Fedtslam og fedt fra restauranter og storkøkkener",5,10,null,null,"Inklusiv friturefedt"]
["Mave/tarm kvæg",10,15,0.8,400,null,null,615.38461538461536]
["Mave/tarm svin",10,20,0.8,460,null,null,707.69230769230762]
["Valle",0,10,0.9,330,null,null,507.69230769230768]
["Valle koncentrat",5,15,0.9,350,null,null,538.46153846153845]
["Protein",95,100,1,302,null,null,464.61538461538458]
["Fedt",95,100,1,811,null,null,1247.6923076923076]
["Animalsk fedt kategori 1",95,100,null,null,null,"x"]
["Animalsk fedt kategori 2",95,100,null,null,null,"x"]
["Vinasse (2,2 pct. kvælstof)",0,100]
["Vinasse (3,5 pct. kvælstof)",0,100]
["Kartoffelfrugtsaft",0,100]
["Fast affald fra levnedsmiddelindustrien og handel",40,50,null,null,"F.eks. Brød, dej, grøntsager, rester fra forarbejdning af kød og pålæg og færdig mad."]
["Mask fra ølproduktion",20,30,null,null,"Restprodukt fra ølbrygning."]
["Glukose",95,100,1,354,null,null,544.61538461538464]
["Alkohol",35,45,0.95,400,null,null,615.38461538461536]
["Pressesaft fra grøntpilleproduktion",0,100]
["Rester fra dyrefoderproduktion",80,85,null,null,"Rester fra produktion af foder til husdyr som kvæg, svin, fjerkræ, hund og kat."]
["Inaktiveret og kalkstabiliseret biomasse",0,100,null,null,"Inaktiveret og kalkstabiliseret biomasse med tørstof højere end pct. stammende fra en gæringsproduktion, der har undergået en behandling svarende til mindst kontrolleret hygiejnisering."]
["Bagasse",0,100]
["Blegejord",0,100,null,null,"Fra spiseolie raffinering"]
["Shea mel",0,100,null,null,"Fra udtræk af olie fra shea nødder"]
["Palmeolie skaller",0,100,null,null,"Palmeolie produktion"]
[" -                                           Anden biomasse"]
["Råglycerin",95,100,0.99,425,"F.eks. Fra biodieselproduktion","x",653.84615384615381]
["Glycol",15,20,null,null,"Til afisning af fly."]
["Fedtsyre methylester",0,100,null,null,"Fra biodieselproduktion"]
["Molasse",0,100,null,null,"Fra bioethanolproduktion"]
["Pektin rest",0,100,null,null,"Fra pektin produktion"]
["Gærfløde",0,100,null,null,"Fra fermentering"]
["Eluat",0,100,null,null,"Fra spildevandsanlæg fra fødevareindustrien"]
["Limlæder",0,100,null,null,"Fra læderproduktion på huder"]
["Carrageenan restprodukt",0,100]
["Limvand",0,100]
["Mucosa",0,100]

{"sheet":"Biograce 1","index":22,"n_rows":151,"n_cols":22,"rows_kept":151,"cut":false,"hidden":false,"merged":[[142,1,142,2],[3,1,3,2],[3,17,3,19],[4,4,4,11],[4,12,4,13],[4,17,4,19]]}
[]
[null,"Version 4d"]
[]
[null,"ADDITIONAL STANDARD VALUES",null,null,null,null,null,null,null,null,null,null,null,null,null,"LHV","Fuel","Transport exhaust"]
[null,null,"parameter: ","GWP","GHG emission coefficient",null,null,null,null,null,null,null,"Fossil energy input",null,"Density","MJ/kg","efficiency","gas emissions",null,null,"Source","Remark"]
[null,null,"unit: ","gCO2,eq / g","gCO2/kg","gCH4/kg","gN2O/kg","gCO2-eq/kg","gCO2/MJ","gCH4/MJ","gN2O/MJ","gCO2-eq/MJ","MJfossil/kg","MJfossil/MJ","kg/m3"," (at 0% water)","MJ/t.km","gCH4/t.km","gN2O/t.km","gCO2-eq/t.km"]
[]
[null,"Global Warming Potentials (GWP's)"]
[null,null,"CO2",1]
[null,null,"CH4",23]
[null,null,"N2O",296]
[]
[null,"Agro inputs "]
[null,"N-fertiliser (kg N)"]
[null,null,"Ammonium nitrate (AN)",null,2670.8656716417909,6.937313432835821,2.0951617750175293,{"$f":"+E15+F15*$D$10+G15*$D$11","v":3450.5917660022037},null,null,null,null,null,null,null,null,null,null,null,null,"F. Brentrup and C. Pallière (2014), Energy efficiency and GHG emissions in European nitrogen fertiliser production and use.","33.5% N, European average 2011"]
[null,null,"Ammonium sulphate (AS)",null,2560.3809523809523,6.5371428571428556,0,2710.7352380952379,null,null,null,null,null,null,null,null,null,null,null,null,"F. Brentrup and C. Pallière (2014), Energy efficiency and GHG emissions in European nitrogen fertiliser production and use.","21% N, 24% S, European average 2011"]
[null,null,"Ammonium nitrate sulphate (ANS)",null,2560.8461538461534,8.85230769230769,1.2731027361899843,3141.2876406814657,null,null,null,null,null,null,null,null,null,null,null,null,"F. Brentrup and C. Pallière (2014), Energy efficiency and GHG emissions in European nitrogen fertiliser production and use.","26% N, 14% S, European average 2011"]
[null,null,"Anhydrous ammonia",null,2661.8048780487807,6.7960975609756105,0,2818.1151219512199,null,null,null,null,null,null,null,null,null,null,null,null,"F. Brentrup and C. Pallière (2014), Energy efficiency and GHG emissions in European nitrogen fertiliser production and use.","waterfree, 82% N, European average 2011"]
[null,null,"Calcium ammonium nitrate (CAN)",null,2862.8888888888887,7.340740740740741,2.0938354461844395,3651.5012179965197,null,null,null,null,null,null,null,null,null,null,null,null,"F. Brentrup and C. Pallière (2014), Energy efficiency and GHG emissions in European nitrogen fertiliser production and use.","27% N, European average 2011"]
[null,null,"Calcium nitrate (CN)",null,2652.5161290322585,6.9574193548387093,5.1071660532582808,4324.2579259579998,null,null,null,null,null,null,null,null,null,null,null,null,"F. Brentrup and C. Pallière (2014), Energy efficiency and GHG emissions in European nitrogen fertiliser production and use.","15.5% N, European average 2011"]
[null,null,"Urea",null,1702.608695652174,9.2869565217391301,0,1916.2086956521739,null,null,null,null,null,null,null,null,null,null,null,null,"F. Brentrup and C. Pallière (2014), Energy efficiency and GHG emissions in European nitrogen fertiliser production and use.","46% N, European average 2011"]
[null,null,"Urea ammonium nitrate (UAN)",null,2181.6000000000004,7.5413333333333341,1.084563758389262,2676.0815391498886,null,null,null,null,null,null,null,null,null,null,null,null,"F. Brentrup and C. Pallière (2014), Energy efficiency and GHG emissions in European nitrogen fertiliser production and use.","30% N, European average 2011"]
[]
[null,"P2O5-fertiliser (kg P2O5)"]
[null,null,"Triple superphosphate (TSP) ",null,516.5625,0.87,1.8246644295302015E-2,{"$f":"+E25+F25*$D$10+G25*$D$11","v":541.97350671140941},null,null,null,null,null,null,null,null,null,null,null,null,"F. Brentrup and C. Pallière (2014), Energy efficiency and GHG emissions in European nitrogen fertiliser production and use.","48% P2O5 European average 2011"]
[null,null,"Rock phosphate 21%P2O5 23%SO3",null,95,0,0,{"$f":"+E26+F26*$D$10+G26*$D$11","v":95},null,null,null,null,null,null,null,null,null,null,null,null,"Jenssen, T.K. et Kongshaug G., 2003, Energy Consumption and Greenhouse Gas Emissions in Fertiliser Production, Proceedings No. 509. International Fertiliser Society York, UK. www.fertiliser-society.org","21%P2O5, 28% SO3 "]
[null,null,"Mono ammonium phosphate (MAP) 11%N 52%P2O5",null,967.11538461538464,2.4692307692307689,0,{"$f":"+E27+F27*$D$10+G27*$D$11","v":1023.9076923076923},null,null,null,null,null,null,null,null,null,null,null,null,"F. Brentrup and C. Pallière (2014), Energy efficiency and GHG emissions in European nitrogen fertiliser production and use.","11% N, 52% P2O5, European average 2011"]
[null,null,"Di-Ammonium-Phosphate (DAP) 18%N 46%P2O5",null,1459.0434782608695,3.72521739130435,{"$f":"0/296/0.46","v":0},{"$f":"+E28+F28*$D$10+G28*$D$11","v":1544.7234782608696},null,null,null,null,null,null,null,null,null,null,null,null,"F. Brentrup and C. Pallière (2014), Energy efficiency and GHG emissions in European nitrogen fertiliser production and use.","18% N, 46% P2O5, European average 2011"]
[]
[null,"K2O-fertiliser (kg K2O)"]
[null,null,"Muriate of Potash (MOP) 60%K2O",null,409.2,0.16533333333333333,0,{"$f":"+E31+F31*$D$10+G31*$D$11","v":413.00266666666664},null,null,null,null,null,null,null,null,null,null,null,null,"F. Brentrup and C. Pallière (2014), Energy efficiency and GHG emissions in European nitrogen fertiliser production and use.","60% K2O, European average 2011"]
[]
[null,"Other fertilisers"]
[null,null,"NPK 15-15-15",null,4261.3333333333339,10.026666666666666,1.682326621923937,{"$f":"+E34+F34*$D$10+G34*$D$11","v":4989.9153467561528},null,null,null,null,null,null,null,null,null,null,null,null,"F. Brentrup and C. Pallière (2014), Energy efficiency and GHG emissions in European nitrogen fertiliser production and use.","15% N, 15% P2O5,15%K2O, European average 2011"]
[null,null,"MgO (kg MgO)",null,769,0,0,{"$f":"+E35+F35*$D$10+G35*$D$11","v":769},null,null,null,null,null,null,null,null,null,null,null,null,"(assuming CO2 emissions are similar to those for potassium chloride) Jenssen, T.K. et Kongshaug G., 2003, Energy Consumption and Greenhouse Gas Emissions in Fertiliser Production, Proceedings No. 509. International Fertiliser Society York, UK. www.fertiliser-society.org"]
[null,null,"Sodium (Na) fertiliser (kg Na)",null,1620,0,0,{"$f":"+E36+F36*$D$10+G36*$D$11","v":1620},null,null,null,null,null,null,null,null,null,null,null,null,"Jenssen, T.K. et Kongshaug G., 2003, Energy Consumption and Greenhouse Gas Emissions in Fertiliser Production, Proceedings No. 509. International Fertiliser Society York, UK. www.fertiliser-society.org"]
[]
[null,"Seeds"]
[null,null,"maize/corn (non GMO)",null,350,0,0,{"$f":"+E39+F39*$D$10+G39*$D$11","v":350},null,null,null,null,null,null,null,null,null,null,null,null,"based on disaggregated default values (see step cultivation maize/corn)"]
[null,null,"soybean (non GMO)",null,400,0,0,{"$f":"+E40+F40*$D$10+G40*$D$11","v":400},null,null,null,null,null,null,null,null,null,null,null,null,"based on disaggregated default values (see step cultivation soybean)"]
[null,null,"Seeds- corn",null,0,0,0,{"$f":"E41*$D$10+F41*$D$11+G41*$D$12","v":0},null,null,null,null,0,null,null,null,null,null,null,null,"JEC E3-database (version 31-7-2008)"]
[null,null,"Seeds- rapeseed",null,412.08109999999999,0.91269999999999996,1.0027999999999999,9748.0244999999995,null,null,null,null,7.86564,null,null,null,null,null,null,null,"JEC E3-database (version 31-7-2008)"]
[null,null,"Seeds- soy bean",null,0,0,0,0,null,null,null,null,0,null,null,null,null,null,null,null,"JEC E3-database (version 31-7-2008)"]
[null,null,"Seeds- sugarbeet",null,2187.7141000000001,4.6003999999999996,4.2119999999999997,{"$f":"E44*$D$10+F44*$D$11+G44*$D$12","v":51679.142700000004},null,null,null,null,36.294119999999999,null,null,null,null,null,null,null,"JEC E3-database (version 31-7-2008)"]
[null,null,"Seeds- sugarcane",null,1.6397999999999999,1E-4,0,{"$f":"E45*$D$10+F45*$D$11+G45*$D$12","v":37.744999999999997},null,null,null,null,2.1600000000000001E-2,null,null,null,null,null,null,null,"JEC E3-database (version 31-7-2008)"]
[null,null,"Seeds- sunflower",null,412.08109999999999,0.91269999999999996,1.0027999999999999,{"$f":"E46*$D$10+F46*$D$11+G46*$D$12","v":9748.0244999999995},null,null,null,null,7.86564,null,null,null,null,null,null,null,"JEC E3-database (version 31-7-2008)"]
[null,null,"Seeds- wheat",null,151.0557,0.27710000000000001,0.40029999999999999,{"$f":"E47*$D$10+F47*$D$11+G47*$D$12","v":3556.3027000000002},null,null,null,null,2.6074799999999998,null,null,null,null,null,null,null,"JEC E3-database (version 31-7-2008)"]
[null,"Pesticides",null,null,9886.5020000000004,25.527100000000001,1.6814,{"$f":"E48*$D$10+F48*$D$11+G48*$D$12","v":234945.56760000001},null,null,null,null,268.39980000000003,null,null,null,null,null,null,null,"JEC E3-database (version 31-7-2008)"]
[]
[null,"Conversion inputs "]
[null,null,"Acetic acid",null,1570.2,0,0,{"$f":"+E51+F51*$D$10+G51*$D$11","v":1570.2},null,null,null,null,null,null,null,null,null,null,null,null,"ecoinvent Centre (2007) ecoinvent data v2.0. ecoinvent reports No. 1-25,"]
[null,null,"Citric acid",null,963.1,0,0,963.1,null,null,null,null,null,null,null,null,null,null,null,null,"Assessing the GHG emissions of rapeseed and soybean biodiesel, May 2010, Biomass Reasearch center, University of Perugia"]
[null,null,"Potassium hydroxide (KOH)",null,{"$f":"997+76+751","v":1824},3.76,{"$f":"(1.24+1.27+2.83)*0.00001*1000","v":5.3400000000000003E-2},1926.2864]
[null,null,"Sodium methylate",null,4885.3999999999996,0,0,4885.3999999999996,null,null,null,null,null,null,null,null,null,null,null,null,"Ecoinvent Centre (2007) ecoinvent data v2.0. ecoinvent reports No. 1-25,"]
[null,null,"Sodium silicate (37% in water)",null,1145,0,0,1145,null,null,null,null,null,null,null,null,null,null,null,null,"Ecoinvent Centre (2007) ecoinvent data v2.0. ecoinvent reports No. 1-25,"]
[null,null,"Zeolith",null,4000,0,0,4000,null,null,null,null,null,null,null,null,null,null,null,null,"Ecoinvent Centre (2007) ecoinvent data v2.0. ecoinvent reports No. 1-25,"]
[null,null,"Antioxidant BHT (butylated hydroxytoluene)",null,10000,0,0,10000,null,null,null,null,null,null,null,null,null,null,null,null,"Estimation based on data for precursors (phenol, isobutene)"]
[null,null,"Isobutene",null,1501,0,0,1501,null,null,null,null,null,null,null,null,null,null,null,null,"Ecoinvent Centre (2007) ecoinvent data v2.0. ecoinvent reports No. 1-25,"]
[null,null,"Isobutene",null,500000,null,null,500000,null,null,null,null,null,null,null,null,null,null,null,null,"ecoinvent Centre (2007) ecoinvent data v2.0. ecoinvent reports No. 1-25,"]
[null,null,"Isobutene (byproduct of petrol refinery)",null,855,null,null,855,null,null,null,null,null,null,null,null,null,null,null,null,"ecoinvent Centre (2007) ecoinvent data v2.0. ecoinvent reports No. 1-25,"]
[null,null,"Nitrogen",null,434,0,0,434,null,null,null,null,null,null,null,null,null,null,null,null,"Ecoinvent Centre (2007) ecoinvent data v2.0. ecoinvent reports No. 1-25,"]
[null,null,"n-Hexane",null,null,null,null,null,80.083333333333329,1.4555555555555556E-2,2.7777777777777778E-4,{"$f":"I62*$D$10+J62*$D$11+K62*$D$12","v":1846.2251111111109},null,0.32036111111111115,null,45.107999999999997,null,null,null,null,"JEC E3-database (version 31-7-2008)"]
[null,null,"Phosphoric acid (H3PO4)",null,2776,8.9268000000000001,0.1028,{"$f":"E63*$D$10+F63*$D$11+G63*$D$12","v":66490.332800000004},null,null,null,null,28.570320000000002,null,null,null,null,null,null,null,"JEC E3-database (version 31-7-2008)"]
[null,null,"Fuller's earth",null,197,3.73E-2,6.3E-3,4542.0407999999998,null,null,null,null,2.5405200000000003,null,null,null,null,null,null,null,"JEC E3-database (version 31-7-2008)"]
[null,null,"Hydrochloric acid (HCl)",null,717.37800000000004,1.129,2.5399999999999999E-2,16833.878000000001,null,null,null,null,15.433495199999999,null,null,null,null,null,null,null,"JEC E3-database (version 31-7-2008)"]
[null,null,"Sodium carbonate (Na2CO3)",null,1046,6.2,5.4999999999999997E-3,25893.200000000001,null,null,null,null,13.785480000000002,null,null,null,null,null,null,null,"JEC E3-database (version 31-7-2008)"]
[null,null,"Sodium hydroxide (NaOH)",null,438.4932,1.0301,2.4E-2,10390.253200000001,null,null,null,null,10.2204,null,null,null,null,null,null,null,"JEC E3-database (version 31-7-2008)"]
[null,null,"Hydrogen (for HVO)",null,null,null,null,null,80.868472222222223,0.27647222222222223,3.0555555555555555E-4,{"$f":"I68*$D$10+J68*$D$11+K68*$D$12","v":1941.8106388888889},null,1.4835,null,null,null,null,null,null,"JEC E3-database (version 31-7-2008)"]
[null,null,"Pure CaO for processes",null,1013,0.64900000000000002,7.6E-3,{"$f":"E69*$D$10+F69*$D$11+G69*$D$12","v":23491.103999999999},null,null,null,null,4.5979199999999993,null,null,null,null,null,null,null,"JEC E3-database (version 31-7-2008)"]
[null,null,"Sulphuric acid (H2SO4)",null,193.8502,0.54569999999999996,4.4999999999999997E-3,{"$f":"E70*$D$10+F70*$D$11+G70*$D$12","v":4620.0817999999999},null,null,null,null,3.8959200000000003,null,null,null,null,null,null,null,"JEC E3-database (version 31-7-2008)"]
[null,null,"Ammonia",null,2478.0410000000002,7.8360000000000003,8.6999999999999994E-3,{"$f":"E71*$D$10+F71*$D$11+G71*$D$12","v":59314.399000000005},null,null,null,null,44.388359999999999,null,null,null,null,null,null,null,"JEC E3-database (version 31-7-2008)"]
[null,null,"Cycle-hexane",null,723,0,0,{"$f":"E72*$D$10+F72*$D$11+G72*$D$12","v":16629},null,null,null,null,53.1,null,null,null,null,null,null,null,"JEC E3-database (version 31-7-2008)"]
[null,null,"Lubricants",null,947,0,0,{"$f":"E73*$D$10+F73*$D$11+G73*$D$12","v":21781},null,null,null,null,53.28,null,null,null,null,null,null,null,"JEC E3-database (version 31-7-2008)"]
[]
[null,"Residues (feedstock or input)"]
[null,null,"EFB compost (palm oil)",null,0,0,0,{"$f":"E76*$D$10+F76*$D$11+G76*$D$12","v":0},null,null,null,null,0]
[null,null,"Filter mud cake",null,0,0,0,{"$f":"E77*$D$10+F77*$D$11+G77*$D$12","v":0},null,null,null,null,0]
[null,null,"Manure",null,0,0,0,{"$f":"E78*$D$10+F78*$D$11+G78*$D$12","v":0},null,null,null,null,0,null,null,10,null,null,null,null,"JEC E3-database (version 31-7-2008)","No GHG emissions or fossil energy input because it is a residue"]
[null,null,"Vinasse",null,0,0,0,{"$f":"E79*$D$10+F79*$D$11+G79*$D$12","v":0},null,null,null,null,0]
[]
[null,"Fuels- gasses "]
[null,null,"Natural gas (4000 km, Russian NG quality)",null,null,null,null,null,61.575111111111113,0.19813888888888889,2.2222222222222223E-4,{"$f":"I82*$D$10+J82*$D$11+K82*$D$12","v":1474.8766666666668},null,1.1281000000000001,null,null,null,null,null,null,"JEC E3-database (version 31-7-2008)"]
[null,null,"Natural gas (4000 km, EU Mix qualilty)",null,null,null,null,null,62.963999999999999,0.19813888888888889,2.2222222222222223E-4,{"$f":"I83*$D$10+J83*$D$11+K83*$D$12","v":1506.8211111111111},null,1.1281000000000001,null,null,null,null,null,null,"JEC E3-database (version 31-7-2008)"]
[null,null,"Methane",null,null,null,null,null,null,null,null,null,null,null,null,50,null,null,null,null,"JEC E3-database (version 31-7-2008)"]
[]
[null,"Fuels- liquids (also conversion inputs)"]
[null,null,"Diesel",null,null,null,null,null,87.638888888888886,0,0,{"$f":"I87*$D$10+J87*$D$11+K87*$D$12","v":2015.6944444444443},null,1.1599999999999999,832,43.1,null,null,null,null,"JEC E3-database (version 31-7-2008)"]
[null,null,"Gasoline",null,null,null,null,null,null,null,null,null,null,null,745,43.2,null,null,null,null,"JEC E3-database (version 31-7-2008)"]
[null,null,"HFO",null,null,null,null,null,84.977777777777774,0,0,{"$f":"I89*$D$10+J89*$D$11+K89*$D$12","v":1954.4888888888888},null,1.0880000000000001,970,40.5,null,null,null,null,"JEC E3-database (version 31-7-2008)"]
[null,null,"HFO for maritime transport",null,null,null,null,null,87.2,0,0,87.2,null,1.0880000000000001,970,40.5,null,null,null,null,"JEC E3-database (version 31-7-2008)"]
[null,null,"Ethanol",null,null,null,null,null,null,null,null,null,null,null,794,26.81,null,null,null,null,"JEC E3-database (version 31-7-2008)"]
[null,null,"Methanol",null,null,null,null,null,92.797444444444452,0.29002777777777777,3.3333333333333332E-4,{"$f":"I92*$D$10+J92*$D$11+K92*$D$12","v":2220.1894444444447},null,1.6594,793,19.899999999999999,null,null,null,null,"JEC E3-database (version 31-7-2008)"]
[null,null,"FAME",null,null,null,null,null,null,null,null,null,null,null,890,37.200000000000003,null,null,null,null,"JEC E3-database (version 31-7-2008)","or \"XME\" which is RME, PME, SME etc"]
[null,null,"Syn diesel (BtL)",null,null,null,null,null,null,null,null,null,null,null,780,44,null,null,null,null,"JEC E3-database (version 31-7-2008)"]
[null,null,"HVO",null,null,null,null,null,null,null,null,null,null,null,780,44,null,null,null,null,"JEC E3-database (version 31-7-2008)"]
[null,null,"PVO",null,null,null,null,null,null,null,null,null,null,null,null,37]
[]
[null,"Fuels / feedstock / co-products - solids"]
[null,null,"Hard coal",null,null,null,null,null,102.38424999999999,0.3835277777777778,2.5000000000000001E-4,{"$f":"I99*$D$10+J99*$D$11+K99*$D$12","v":2468.361972222222},null,1.0885999999999998,null,26.532,null,null,null,null,"JEC E3-database (version 31-7-2008)"]
[null,null,"Lignite",null,null,null,null,null,116.75711111111112,9.0555555555555545E-3,5.5555555555555558E-5,{"$f":"I100*$D$10+J100*$D$11+K100*$D$12","v":2688.0940000000001},null,1.0155999999999998,null,9.234,null,null,null,null,"JEC E3-database (version 31-7-2008)"]
[null,null,"Corn",null,null,null,null,null,null,null,null,null,null,null,null,18.5,null,null,null,null,"JEC E3-database (version 31-7-2008)"]
[null,null,"FFB",null,null,null,null,null,null,null,null,null,null,null,null,24,null,null,null,null,"JEC E3-database (version 31-7-2008)"]
[null,null,"Rapeseed",null,null,null,null,null,null,null,null,null,null,null,null,26.4,null,null,null,null,"JEC E3-database (version 31-7-2008)"]
[null,null,"Soybeans",null,null,null,null,null,null,null,null,null,null,null,null,23.529411764705884,null,null,null,null,"JEC E3-database (version 31-7-2008)"]
[null,null,"Sugar beet",null,null,null,null,null,null,null,null,null,null,null,null,16.3,null,null,null,null,"JEC E3-database (version 31-7-2008)"]
[null,null,"Sugar cane",null,null,null,null,null,null,null,null,null,null,null,null,19.600000000000001,null,null,null,null,"JEC E3-database (version 31-7-2008)"]
[null,null,"Sunflowerseed",null,null,null,null,null,null,null,null,null,null,null,null,26.4,null,null,null,null,"JEC E3-database (version 31-7-2008)"]
[null,null,"Wheat",null,null,null,null,null,null,null,null,null,null,null,null,17,null,null,null,null,"JEC E3-database (version 31-7-2008)"]
[null,null,"Waste vegetable / animal oil",null,null,null,null,null,null,null,null,null,null,null,null,37.1,null,null,null,null,"JEC E3-database (version 31-7-2008)"]
[null,null,"BioOil (co-product FAME from waste oil)",null,null,null,null,null,null,null,null,null,null,null,null,21.8,null,null,null,null,"JEC E3-database (version 31-7-2008)"]
[null,null,"Crude vegetable oil",null,null,null,null,null,null,null,null,null,null,null,null,37,null,null,null,null,"JEC E3-database (version 31-7-2008)"]
[null,null,"DDGS (10 wt% moisture)",null,null,null,null,null,null,null,null,null,null,null,null,16,null,null,null,null,"JEC E3-database (version 31-7-2008)"]
[null,null,"Glycerol",null,null,null,null,null,null,null,null,null,null,null,null,16,null,null,null,null,"JEC E3-database (version 31-7-2008)"]
[null,null,"Palm kernel meal",null,null,null,null,null,null,null,null,null,null,null,null,17,null,null,null,null,"JEC E3-database (version 31-7-2008)"]
[null,null,"Palm oil",null,null,null,null,null,null,null,null,null,null,null,null,37,null,null,null,null,"JEC E3-database (version 31-7-2008)"]
[null,null,"Rapeseed meal",null,null,null,null,null,null,null,null,null,null,null,null,18.649999999999999,null,null,null,null,"JEC E3-database (version 31-7-2008)"]
[null,null,"Refined vegetable oil",null,null,null,null,null,null,null,null,null,null,null,null,37,null,null,null,null,"JEC E3-database (version 31-7-2008)"]
[null,null,"Soybean oil",null,null,null,null,null,null,null,null,null,null,null,null,37,null,null,null,null,"JEC E3-database (version 31-7-2008)"]
[null,null,"Soy bean meal",null,null,null,null,null,null,null,null,null,null,null,null,"-",null,null,null,null,"JEC E3-database (version 31-7-2008)","No LHV given in the E3 database. Allocation to soy bean meal should be performed in same way as done by JEC consortium"]
[null,null,"Sugar beet pulp",null,null,null,null,null,null,null,null,null,null,null,null,15.6,null,null,null,null,"JEC E3-database (version 31-7-2008)"]
[null,null,"Sugar beet slops",null,null,null,null,null,null,null,null,null,null,null,null,15.6,null,null,null,null,"JEC E3-database (version 31-7-2008)"]
[null,null,"Wheat straw",null,null,null,null,null,1.7515833333333333,1.3333333333333333E-3,5.5555555555555558E-5,{"$f":"I122*$D$10+J122*$D$11+K122*$D$12","v":40.681083333333333},null,2.5400000000000002E-2,null,17.2,null,null,null,null,"JEC E3-database (version 31-7-2008)","Transport plus fertiliser debit because more fertiliser is required at the cultivation stage if the straw is removed"]
[]
[null,"Transport efficiencies "]
[null,null,"Truck for dry product (Diesel)",null,null,null,null,null,null,null,null,null,null,null,null,null,0.93600000000000005,5.0000000000000001E-3,0,null,"JEC E3-database (version 31-7-2008)"]
[null,null,"Truck for liquids (Diesel)",null,null,null,null,null,null,null,null,null,null,null,null,null,1.008,5.0000000000000001E-3,0,null,null,"Calculated from value above, correction for weight of liquid container (2 ton) in comparison to loaded truck weight (26 ton)"]
[null,null,"Truck for FFB transport (Diesel)",null,null,null,null,null,null,null,null,null,null,null,null,null,2.0122857142857145,5.0000000000000001E-3,0,null,"JEC E3-database (version 31-7-2008)"]
[null,null,"Tanker truck MB2218 for vinasse transport",null,null,null,null,null,null,null,null,null,null,null,null,null,2.16,0,0,null,"JEC E3-database (version 31-7-2008)"]
[null,null,"Tanker truck with water cannons for vinasse transport",null,null,null,null,null,null,null,null,null,null,null,null,null,0.94,0,0,null,"JEC E3-database (version 31-7-2008)"]
[null,null,"Dumpster truck MB2213 for filter mud transport",null,null,null,null,null,null,null,null,null,null,null,null,null,3.6,0,0,null,"JEC E3-database (version 31-7-2008)"]
[null,null,"Ocean bulk carrier (Fuel oil)",null,null,null,null,null,null,null,null,null,null,null,null,null,0.20358000000000001,2.9999999999999997E-4,7.2000000000000005E-4,null,"JEC E3-database (version 31-7-2008)"]
[null,null,"Ship /product tanker 50kt (Fuel oil)",null,null,null,null,null,null,null,null,null,null,null,null,null,0.12384000000000001,0,0,null,"JEC E3-database (version 31-7-2008)"]
[null,null,"Local (10 km) pipeline",null,null,null,null,null,null,null,null,null,null,null,null,null,0,0,0,null,"JEC E3-database (version 31-7-2008)"]
[null,null,"Rail (Electric, MV)",null,null,null,null,null,null,null,null,null,null,null,null,null,0.21,0,0,null,"JEC E3-database (version 31-7-2008)"]
[]
[null,"Emissions from steam production (per MJ steam or heat)"]
[null,null,"CH4 and N2O emissions from NG boiler",null,null,null,null,null,null,2.7777777777777779E-3,1.1111111111111111E-3,{"$f":"I137*$D$10+J137*$D$11+K137*$D$12","v":0.8222222222222223},null,null,null,null,null,null,null,null,"JEC E3-database (version 31-7-2008)"]
[null,null,"CH4 and N2O emissions from NG CHP",null,null,null,null,null,null,0,0,{"$f":"I138*$D$10+J138*$D$11+K138*$D$12","v":0},null,null,null,null,null,null,null,null,"JEC E3-database (version 31-7-2008)"]
[null,null,"CH4 and N2O emissions from Lignite CHP",null,null,null,null,null,null,2.3055555555555555E-3,1.2611111111111111E-2,{"$f":"I139*$D$10+J139*$D$11+K139*$D$12","v":0.68244444444444441},null,null,null,null,null,null,null,null,"JEC E3-database (version 31-7-2008)"]
[null,null,"CH4 and N2O emissions from Straw CHP",null,null,null,null,null,null,0,0,{"$f":"I140*$D$10+J140*$D$11+K140*$D$12","v":0},null,null,null,null,null,null,null,null,"JEC E3-database (version 31-7-2008)"]
[null,null,"CH4 and N2O emissions from NG gas engine",null,null,null,null,null,null,{"$f":"0.192/3.6","v":5.333333333333333E-2},0,{"$f":"I141*$D$10+J141*$D$11+K141*$D$12","v":15.786666666666665},null,null,null,null,null,null,null,null,"JEC E3-database (version 31-7-2008)"]
[]
[null,"Electricity production (reference for credit calculation)"]
[null,null,"Electricity (NG CCGT)",null,null,null,null,null,114.48,0.36788585858585898,4.9845959595959596E-3,{"$f":"I144*$D$10+J144*$D$11+K144*$D$12","v":2741.934214141414},null,2.0510909090909091,null,null,null,null,null,null,"JEC E3-database (version 31-7-2008)"]
[null,null,"Electricity credit (NG CCGT)",null,null,null,null,null,-114.48,-0.36788585858585898,-4.9845959595959596E-3,{"$f":"I145*$D$10+J145*$D$11+K145*$D$12","v":-2741.934214141414},null,2.0510909090909091,null,null,null,null,null,null,"JEC E3-database (version 31-7-2008)"]
[null,null,"Electricity credit (Lignite ST)",null,null,null,null,null,-284.77059400000002,-2.5857055555555598E-2,-7.7782777777777798E-3,{"$f":"I146*$D$10+J146*$D$11+K146*$D$12","v":-6557.3773504444443},null,2.4770483999999997,null,null,null,null,null,null,"JEC E3-database (version 31-7-2008)"]
[null,null,"Electricity credit (Straw ST)",null,null,null,null,null,-5.5605764500000001,-4.2328000000000001E-3,-1.7636666666666701E-4,{"$f":"I147*$D$10+J147*$D$11+K147*$D$12","v":-129.14616715},null,8.0634839999999999E-2,null,null,null,null,null,null,"JEC E3-database (version 31-7-2008)"]
[null,null,"Electricity surplus from CHP",null,null,null,null,null,0,0,0,{"$f":"I148*$D$10+J148*$D$11+K148*$D$12","v":0}]
[]
[null,"Transport"]
[null,null,"pipeline (oil, liquids), onshore",null,null,null,null,null,null,null,null,null,null,null,null,null,null,null,null,15.74,"Ecoinvent Centre (2007) ecoinvent data v2.0. ecoinvent reports No. 1-25,"]

{"sheet":"LogDetails","index":23,"n_rows":3,"n_cols":4,"rows_kept":3,"cut":false,"hidden":false,"merged":[]}
[]
["Biomasser - A29"," -             Flydende fraktion fra separationsanlæg","LSN","2016-12-06T10:19:04"]
["Biomasser - A48"," -             Kildesorteret organisk dagrenovation","LSN","2016-12-06T10:19:18"]

{"sheet":"Logbog","index":24,"n_rows":0,"n_cols":0,"rows_kept":0,"cut":false,"hidden":false,"merged":[]}