{"text_format":"1","workbook":"xlsx","n_sheets":11,"sheets":["Forside","Udvalgte lande, 10 års oversigt","Alle lande, valgt år","Baggrundstabeller for alle land","Baggrundsdata - HICP - deflator","Level 1","Level 2","Level 3","Afgifter og Moms","Oversættelse af landenavne","Sådan opdateres arket"],"not_rendered":{"charts":30,"images":0,"macros":1,"external_links":0,"defined_names":1,"comments":0,"pivot_tables":0},"unopened":[],"bounds":{"document_bytes":16777216,"sheet_cells":100000,"rows_first":2000,"rows_last":500,"rows_between":2000,"halvings":0,"cell_chars":16384,"cell_head_chars":4096},"cells_cut":0,"cells_raw":0,"read":"whole","date_system":"1900"}

{"sheet":"Forside","index":0,"n_rows":57,"n_cols":15,"rows_kept":57,"cut":false,"hidden":false,"merged":[[30,1,30,2]]}
[null,"Navn på filen:","EU - Elpriser - forbrugere (2007-2017) "]
[]
[null,"Sidst opdateret","2016-12-08"]
[null,"Opdateret af","b014318"]
[]
[null,"Datakilder:",{"$f":"LEFT(B55,34)","v":"Danmarks Statistik, DNVALA: Valuta"}]
[null,null,{"$f":"\"Eurostat: \"&RIGHT('Baggrundsdata - HICP - deflator'!A59,15)","v":"Eurostat: [prc_hicp_aind]"}]
[null,null,{"$f":"\"Eurostat: \"&RIGHT('Level 1'!A40,12)","v":"Eurostat: [nrg_pc_204]"}]
[]
[]
[null,"Kode til at låse arkene op:"," ens1256"]
[]
[]
[null,"Oversigt over ark:"]
[null,"Forside","Formål, oversigt og smådata"]
[null,{"$f":"'Udvalgte lande, 10 års oversigt'!E1","v":"Udvalgte lande, 10 års oversigt"},"Her findes sammenligning af relevante lande for en 10 års periode."]
[null,{"$f":"'Alle lande, valgt år'!F1","v":"Alle lande, valgt år"},"Her findes resultattabellerne for alle EU lande i de enheder du vælger."]
[null,{"$f":"'Baggrundstabeller for alle land'!E1","v":"Baggrundstabeller for alle lande, valgt år"},"Her findes baggrundstabeller for resultattabellerne."]
[null,{"$f":"'Baggrundsdata - HICP - deflator'!C2","v":"Baggrundsdata - HICP deflator"},"HICP deflatorerne der bruges i til beregning af priser i det valte år for resultattabellerne. Og kontrol af at man har hentet korrekt data"]
[null,"Level 1","Rådata fra Eurostat og samling af dette"]
[null,"Level 2","Rådata fra Eurostat og samling af dette"]
[null,"Level 3","Rådata fra Eurostat og samling af dette"]
[null,"Afgifter og moms","Bearbejelse af rådata fra Eurostat. Dette ark opdateres automatisk når level 1, 2 og 3 er opdateret. Tallene danner baggrund for figurer og tabeller resultatark."]
[]
[]
[null,"Arkene har farvekoder, de er opdelt således:"]
[null,"Beskrivelser og forklaringer"]
[null,"Resultattabeller"]
[null,"Baggrundstabeller og rådata"]
[]
[null,"Formålet med dette ark er at give et overblik over elprisen for forbrugere i de europæiske lande. Særligt at kunne sammenligne den danske elpris med de øvrige elpriser.\n\nFor at gøre det mere overskueligt træffes valg omkring enheder en rullemenuer øverst i de to ark med resultattabeller. Når man vælger tilpasses tabeller og figurer til valgene.\n\nRådata opdateres halvårligt, når eurostat opdaterer deres databank.\n\nPå forsiden findes også tabeller med grundlæggende oplysninger, der bruges til enhedsomregning. Det drejer sig om de udvalgte sammenligningslande og valutakursomregning.\n\nDet er vigigt kun at hente data 10 år tilbage, dvs. at man skal have hele år, og således 20xx S1 som det første data, for halvårsopdateringer har man således kun data for fx 6,5 år mens man for årsopdateringerne har data for 7 år.\n\nOBS: På nogle ark står der at data trækkes fra BVT-baggrundssata, dette ark er skjult for overskuelighedens skyld, da al vigtig information fra det trækkes ud i de to B tabeller som er synlige."]
[]
[]
[null,"Tabel 1"]
[null,"Sammenligningslande"]
[null,"Disse lande bruges til grundlag for sammenligning over tid. De er taget fra det effektive kronekurs indeks og udgøres af de europæiske lande som danmark har mest samhandel med."]
[null,"EU-28"]
[null,"Belgien"]
[null,"Danmark"]
[null,"Tyskland"]
[null,"Frankrig"]
[null,"Italien"]
[null,"Holland"]
[null,"Sverige"]
[null,"UK"]
[null,"Norge"]
[]
[]
[]
[null,"Tabel 2"]
[null,"Valutakurser efter opgørelsesmetode, kurstype, valuta og tid"]
[null,"Enhed: DKK pr. 100 enheder valuta og indekstal"]
[null,null,null,null,2007,2008,2009,2010,2011,2012,2013,2014,2015,2016,2017]
[null,"Årsgennemsnit","Valutakurser (DKK pr. 100 enheder valuta)","Euro  (Jan. 1999-)",745.59739999999999,744.62509999999997,744.62509999999997,744.73659999999995,745.05290000000002,744.37509999999997,745.79819999999995,745.47410000000002,745.61029999999994,744.74884444444444]
[null,"Danmarks Statistik, DNVALA: Valutakurser efter valuta, kurstype og opgørelsesmetode (årsobservationer) "]
[null,"OBS! Årstallene skal være formateret som tal!"]
[null,"Bemærk: Når der ikke er data for året bruges gennemsnit for de tilgængelige måneder."]

{"sheet":"Udvalgte lande, 10 års oversigt","index":1,"n_rows":149,"n_cols":69,"rows_kept":149,"cut":false,"hidden":false,"merged":[[96,68,127,68],[96,42,96,53],[96,29,96,40],[96,16,96,27],[96,3,96,14],[96,55,96,66],[4,3,4,10],[5,3,5,10],[25,3,25,14],[25,16,25,27],[25,29,25,40],[26,68,57,68],[61,1,92,1],[61,68,92,68],[26,1,57,1],[26,55,26,66],[61,55,61,66],[61,3,61,14],[61,16,61,27],[61,29,61,40],[61,42,61,53],[26,3,26,14],[26,16,26,27],[26,29,26,40],[26,42,26,53],[96,1,127,1],[212,30,212,31],[212,43,212,45],[213,3,213,5],[213,12,213,14],[213,21,213,23],[213,30,213,32],[213,43,213,50],[136,3,136,10],[136,16,136,23],[212,3,212,4],[212,12,212,13],[212,21,212,22],[214,3,214,6],[214,12,214,16],[214,21,214,25],[214,30,214,37],[214,43,214,51],[228,3,228,9],[228,12,228,19],[228,21,228,28],[228,30,228,41],[228,43,228,54],[264,3,264,4],[264,12,264,13],[264,21,264,22],[264,30,264,31],[264,43,264,45],[265,3,265,5],[265,12,265,14],[265,21,265,23],[265,30,265,32],[265,43,265,50],[266,3,266,6],[266,12,266,16],[266,21,266,25],[266,30,266,37],[266,43,266,51],[25,42,25,53],[25,55,25,66],[23,51,23,54],[23,3,23,9],[23,11,23,17],[23,19,23,25],[23,27,23,37],[23,39,23,45]]}
[null,null,null,"NAVN PÅ ARK:","Udvalgte lande, 10 års oversigt"]
[null,null,null,"Data hentes fra:","'Forside', 'Level 1', 'Level 2', Level 3', 'Afgifter og moms' og 'Baggrindsdata -BVT-deflator'"]
[]
[null,null,null,"Sådan bruges arket:"]
[null,null,null,{"$f":"\"Arket 'Udvalgte lande, 10 års oversigt' viser figurer og tabeller (de grå-blå) for elsprisen for private forbrugere på level 1, 2 og 3 for hvert interval. Prisen vises for udvalgte lande for årene \"&E47&\" til \"&M47&\".\nLandene er valgt på baggrund af Nationalbankens effektive kronekursindeks og udgøres af de europæiske lande Danmark har mest samhandel med.\"","v":"Arket 'Udvalgte lande, 10 års oversigt' viser figurer og tabeller (de grå-blå) for elsprisen for private forbrugere på level 1, 2 og 3 for hvert interval. Prisen vises for udvalgte lande for årene 2007 til 2015.\nLandene er valgt på baggrund af Nationalbankens effektive kronekursindeks og udgøres af de europæiske lande Danmark har mest samhandel med."}]
[null,null,null,"Pristypen, basisået og valuta kan ændres. Dette gøres i de farvede rullemenuer nedenfor. \nRent teknisk styrer hver menu en tabel længere nede i tilsvarende farve. Disse tabeller ganges på rådata (arkene level1, 2 og 3) for hvert level, heraf fremkommer resultattabellerne med som følge af de valg man traf i rullemenuerne.\n\nTil hver resultattabel er tilkoblet en figur der viser prisudviklingen grafisk. \n\n"]
[]
[]
[]
[]
[]
[null,null,null,"Vælg",null,"Vises i"]
[null,null,null,"Vælg pristype","faste priser","Tabel B"]
[null,null,null,"Vælg Basisår (kun ved fast pris)",2016,"Tabel B"]
[null,null,null,"Vælg valuta","DKK øre","Tabel C"]
[]
[]
[]
[null,null,null,"Resultattabeller:"]
[null,null,null,"Valgene truffet ovenfor giver tabeller og figurer der er:"]
[null,null,null,{"$f":"\"Oppgjort i \"&$E$13&\" med basisår \"&$E$14","v":"Oppgjort i faste priser med basisår 2016"}]
[null,null,null,{"$f":"\"Vist i \"&E15&\" / kWh\"","v":"Vist i DKK øre / kWh"}]
[]
[]
[]
[null,null,null,"IA: < 1000 kWh",null,null,null,null,null,null,null,null,null,null,null,null,"IB: 1000 < 2500 kWh",null,null,null,null,null,null,null,null,null,null,null,null,"IC: 2500 < 5 000 kWh",null,null,null,null,null,null,null,null,null,null,null,null,"ID: 5 000 < 15 000 kWh",null,null,null,null,null,null,null,null,null,null,null,null,"IE: > 15 000 kWh"]
[null,"Level 1: Elspris ekskl. PSO og afgifter",null,{"$f":"\"Figur XX:\n\"&$B$27&\" for intervalet \"&D26&\". \nPriserne er vist i \"&$E$15&\" / kWh i \"&$E$13&\" med basisår \"&$E$14&\". \"","v":"Figur XX:\nLevel 1: Elspris ekskl. PSO og afgifter for intervalet IA: < 1000 kWh. \nPriserne er vist i DKK øre / kWh i faste priser med basisår 2016. "},null,null,null,null,null,null,null,null,null,null,null,null,{"$f":"\"Figur XX:\n\"&$B$27&\" for intervalet \"&Q26&\". \nPriserne er vist i \"&$E$15&\" / kWh i \"&$E$13&\" med basisår \"&$E$14&\". \"","v":"Figur XX:\nLevel 1: Elspris ekskl. PSO og afgifter for intervalet IB: 1000 < 2500 kWh. \nPriserne er vist i DKK øre / kWh i faste priser med basisår 2016. "},null,null,null,null,null,null,null,null,null,null,null,null,{"$f":"\"Figur XX:\n\"&$B$27&\" for intervalet \"&AD26&\". \nPriserne er vist i \"&$E$15&\" / kWh i \"&$E$13&\" med basisår \"&$E$14&\". \"","v":"Figur XX:\nLevel 1: Elspris ekskl. PSO og afgifter for intervalet IC: 2500 < 5 000 kWh. \nPriserne er vist i DKK øre / kWh i faste priser med basisår 2016. "},null,null,null,null,null,null,null,null,null,null,null,null,{"$f":"\"Figur XX:\n\"&$B$27&\" for intervalet \"&AQ26&\". \nPriserne er vist i \"&$E$15&\" / kWh i \"&$E$13&\" med basisår \"&$E$14&\". \"","v":"Figur XX:\nLevel 1: Elspris ekskl. PSO og afgifter for intervalet ID: 5 000 < 15 000 kWh. \nPriserne er vist i DKK øre / kWh i faste priser med basisår 2016. "},null,null,null,null,null,null,null,null,null,null,null,null,{"$f":"\"Figur XX:\n\"&$B$27&\" for intervalet \"&BD26&\". \nPriserne er vist i \"&$E$15&\" / kWh i \"&$E$13&\" med basisår \"&$E$14&\". \"","v":"Figur XX:\nLevel 1: Elspris ekskl. PSO og afgifter for intervalet IE: > 15 000 kWh. \nPriserne er vist i DKK øre / kWh i faste priser med basisår 2016. "},null,null,null,null,null,null,null,null,null,null,null,null,{"$f":"B27","v":"Level 1: Elspris ekskl. PSO og afgifter"}]
[]
[]
[]
[]
[]
[]
[]
[]
[]
[]
[]
[]
[]
[]
[]
[]
[]
[]
[null,null,null,"Kilde: Eurostat",null,null,null,null,null,null,null,null,null,null,null,null,"Kilde: Eurostat",null,null,null,null,null,null,null,null,null,null,null,null,"Kilde: Eurostat",null,null,null,null,null,null,null,null,null,null,null,null,"Kilde: Eurostat",null,null,null,null,null,null,null,null,null,null,null,null,"Kilde: Eurostat"]
[null,null,null,{"$f":"$E$15&\"/kWh\"","v":"DKK øre/kWh"},{"$f":"'Level 1'!B$5","v":2007},{"$f":"'Level 1'!C$5","v":2008},{"$f":"'Level 1'!D$5","v":2009},{"$f":"'Level 1'!E$5","v":2010},{"$f":"'Level 1'!F$5","v":2011},{"$f":"'Level 1'!G$5","v":2012},{"$f":"'Level 1'!H$5","v":2013},{"$f":"'Level 1'!I$5","v":2014},{"$f":"'Level 1'!J$5","v":2015},{"$f":"'Level 1'!K$5","v":2016},{"$f":"'Level 1'!L$5","v":2017},null,{"$f":"$E$15&\"/kWh\"","v":"DKK øre/kWh"},{"$f":"'Level 1'!O$5","v":2007},{"$f":"'Level 1'!P$5","v":2008},{"$f":"'Level 1'!Q$5","v":2009},{"$f":"'Level 1'!R$5","v":2010},{"$f":"'Level 1'!S$5","v":2011},{"$f":"'Level 1'!T$5","v":2012},{"$f":"'Level 1'!U$5","v":2013},{"$f":"'Level 1'!V$5","v":2014},{"$f":"'Level 1'!W$5","v":2015},{"$f":"'Level 1'!X$5","v":2016},{"$f":"'Level 1'!Y$5","v":2017},null,{"$f":"$E$15&\"/kWh\"","v":"DKK øre/kWh"},{"$f":"'Level 1'!AB$5","v":2007},{"$f":"'Level 1'!AC$5","v":2008},{"$f":"'Level 1'!AD$5","v":2009},{"$f":"'Level 1'!AE$5","v":2010},{"$f":"'Level 1'!AF$5","v":2011},{"$f":"'Level 1'!AG$5","v":2012},{"$f":"'Level 1'!AH$5","v":2013},{"$f":"'Level 1'!AI$5","v":2014},{"$f":"'Level 1'!AJ$5","v":2015},{"$f":"'Level 1'!AK$5","v":2016},{"$f":"'Level 1'!AL$5","v":2017},null,{"$f":"$E$15&\"/kWh\"","v":"DKK øre/kWh"},{"$f":"'Level 1'!AO$5","v":2007},{"$f":"'Level 1'!AP$5","v":2008},{"$f":"'Level 1'!AQ$5","v":2009},{"$f":"'Level 1'!AR$5","v":2010},{"$f":"'Level 1'!AS$5","v":2011},{"$f":"'Level 1'!AT$5","v":2012},{"$f":"'Level 1'!AU$5","v":2013},{"$f":"'Level 1'!AV$5","v":2014},{"$f":"'Level 1'!AW$5","v":2015},{"$f":"'Level 1'!AX$5","v":2016},{"$f":"'Level 1'!AY$5","v":2017},null,{"$f":"$E$15&\"/kWh\"","v":"DKK øre/kWh"},{"$f":"'Level 1'!BB$5","v":2007},{"$f":"'Level 1'!BC$5","v":2008},{"$f":"'Level 1'!BD$5","v":2009},{"$f":"'Level 1'!BE$5","v":2010},{"$f":"'Level 1'!BF$5","v":2011},{"$f":"'Level 1'!BG$5","v":2012},{"$f":"'Level 1'!BH$5","v":2013},{"$f":"'Level 1'!BI$5","v":2014},{"$f":"'Level 1'!BJ$5","v":2015},{"$f":"'Level 1'!BK$5","v":2016},{"$f":"'Level 1'!BL$5","v":2017}]
[null,null,null,{"$f":"'Oversættelse af landenavne'!$B$6","v":"EU-28"},{"$f":"IFERROR('Level 1'!B6/E141*R$141,\"*\")","v":162.52656195430657},{"$f":"IFERROR('Level 1'!C6/F141*S$141,\"*\")","v":164.25374114225181},{"$f":"IFERROR('Level 1'!D6/G141*T$141,\"*\")","v":164.09666364124337},{"$f":"IFERROR('Level 1'!E6/H141*U$141,\"*\")","v":164.75217421556255},{"$f":"IFERROR('Level 1'!F6/I141*V$141,\"*\")","v":164.43216984607847},{"$f":"IFERROR('Level 1'!G6/J141*W$141,\"*\")","v":163.8388146796097},{"$f":"IFERROR('Level 1'!H6/K141*X$141,\"*\")","v":169.95631485408811},{"$f":"IFERROR('Level 1'!I6/L141*Y$141,\"*\")","v":172.31914636753504},{"$f":"IFERROR('Level 1'!J6/M141*Z$141,\"*\")","v":176.91563262673733},{"$f":"IFERROR('Level 1'!K6/N141*AA$141,\"*\")","v":179.40999662666667},{"$f":"IFERROR('Level 1'!L6/O141*AB$141,\"*\")","v":"*"},null,{"$f":"'Oversættelse af landenavne'!$B$6","v":"EU-28"},{"$f":"IFERROR('Level 1'!O6/E141*R$141,\"*\")","v":110.38728374133156},{"$f":"IFERROR('Level 1'!P6/F141*S$141,\"*\")","v":109.9584090967434},{"$f":"IFERROR('Level 1'!Q6/G141*T$141,\"*\")","v":110.45125609269283},{"$f":"IFERROR('Level 1'!R6/H141*U$141,\"*\")","v":109.94201716020208},{"$f":"IFERROR('Level 1'!S6/I141*V$141,\"*\")","v":112.22280979528277},{"$f":"IFERROR('Level 1'!T6/J141*W$141,\"*\")","v":114.92263635152965},{"$f":"IFERROR('Level 1'!U6/K141*X$141,\"*\")","v":115.37837166318555},{"$f":"IFERROR('Level 1'!V6/L141*Y$141,\"*\")","v":116.34523679918779},{"$f":"IFERROR('Level 1'!W6/M141*Z$141,\"*\")","v":118.76384440555944},{"$f":"IFERROR('Level 1'!X6/N141*AA$141,\"*\")","v":115.88292019555554},{"$f":"IFERROR('Level 1'!Y6/O141*AB$141,\"*\")","v":"*"},null,{"$f":"'Oversættelse af landenavne'!$B$6","v":"EU-28"},{"$f":"IFERROR('Level 1'!AB6/E141*R$141,\"*\")","v":100.14871260710049},{"$f":"IFERROR('Level 1'!AC6/F141*S$141,\"*\")","v":100.21840678323616},{"$f":"IFERROR('Level 1'!AD6/G141*T$141,\"*\")","v":99.779637146538917},{"$f":"IFERROR('Level 1'!AE6/H141*U$141,\"*\")","v":99.004113477841088},{"$f":"IFERROR('Level 1'!AF6/I141*V$141,\"*\")","v":101.21904332717786},{"$f":"IFERROR('Level 1'!AG6/J141*W$141,\"*\")","v":103.11135416206311},{"$f":"IFERROR('Level 1'!AH6/K141*X$141,\"*\")","v":103.233279909166},{"$f":"IFERROR('Level 1'!AI6/L141*Y$141,\"*\")","v":103.22751631446194},{"$f":"IFERROR('Level 1'!AJ6/M141*Z$141,\"*\")","v":105.15781703329667},{"$f":"IFERROR('Level 1'!AK6/N141*AA$141,\"*\")","v":100.76451865333334},{"$f":"IFERROR('Level 1'!AL6/O141*AB$141,\"*\")","v":"*"},null,{"$f":"'Oversættelse af landenavne'!$B$6","v":"EU-28"},{"$f":"IFERROR('Level 1'!AO6/E141*R$141,\"*\")","v":92.491293859650369},{"$f":"IFERROR('Level 1'!AP6/F141*S$141,\"*\")","v":92.633639024207127},{"$f":"IFERROR('Level 1'!AQ6/G141*T$141,\"*\")","v":94.156514855680896},{"$f":"IFERROR('Level 1'!AR6/H141*U$141,\"*\")","v":92.811329775327877},{"$f":"IFERROR('Level 1'!AS6/I141*V$141,\"*\")","v":94.74164888141398},{"$f":"IFERROR('Level 1'!AT6/J141*W$141,\"*\")","v":95.667587894746603},{"$f":"IFERROR('Level 1'!AU6/K141*X$141,\"*\")","v":96.14864305265462},{"$f":"IFERROR('Level 1'!AV6/L141*Y$141,\"*\")","v":95.66246728491835},{"$f":"IFERROR('Level 1'!AW6/M141*Z$141,\"*\")","v":97.665182781721811},{"$f":"IFERROR('Level 1'!AX6/N141*AA$141,\"*\")","v":92.125432057777786},{"$f":"IFERROR('Level 1'!AY6/O141*AB$141,\"*\")","v":"*"},null,{"$f":"'Oversættelse af landenavne'!$B$6","v":"EU-28"},{"$f":"IFERROR('Level 1'!BB6/E141*R$141,\"*\")","v":85.952374479805329},{"$f":"IFERROR('Level 1'!BC6/F141*S$141,\"*\")","v":89.276446737423782},{"$f":"IFERROR('Level 1'!BD6/G141*T$141,\"*\")","v":93.089352961065515},{"$f":"IFERROR('Level 1'!BE6/H141*U$141,\"*\")","v":90.478982666589133},{"$f":"IFERROR('Level 1'!BF6/I141*V$141,\"*\")","v":91.034706276910555},{"$f":"IFERROR('Level 1'!BG6/J141*W$141,\"*\")","v":91.527942368534852},{"$f":"IFERROR('Level 1'!BH6/K141*X$141,\"*\")","v":90.22603658001546},{"$f":"IFERROR('Level 1'!BI6/L141*Y$141,\"*\")","v":90.556990846260831},{"$f":"IFERROR('Level 1'!BJ6/M141*Z$141,\"*\")","v":93.341075452454746},{"$f":"IFERROR('Level 1'!BK6/N141*AA$141,\"*\")","v":86.986665031111116},{"$f":"IFERROR('Level 1'!BL6/O141*AB$141,\"*\")","v":"*"}]
[null,null,null,{"$f":"'Oversættelse af landenavne'!$B$7","v":"Belgien"},{"$f":"IFERROR('Level 1'!B7/E142*R$141,\"*\")","v":163.15061779643568},{"$f":"IFERROR('Level 1'!C7/F142*S$141,\"*\")","v":206.54892255316292},{"$f":"IFERROR('Level 1'!D7/G142*T$141,\"*\")","v":173.10073683641556},{"$f":"IFERROR('Level 1'!E7/H142*U$141,\"*\")","v":179.71678299473459},{"$f":"IFERROR('Level 1'!F7/I142*V$141,\"*\")","v":180.73009573095572},{"$f":"IFERROR('Level 1'!G7/J142*W$141,\"*\")","v":177.89968484373796},{"$f":"IFERROR('Level 1'!H7/K142*X$141,\"*\")","v":167.39078842921157},{"$f":"IFERROR('Level 1'!I7/L142*Y$141,\"*\")","v":167.15149265048859},{"$f":"IFERROR('Level 1'!J7/M142*Z$141,\"*\")","v":178.03715454819886},{"$f":"IFERROR('Level 1'!K7/N142*AA$141,\"*\")","v":187.60223391555556},{"$f":"IFERROR('Level 1'!L7/O142*AB$141,\"*\")","v":"*"},null,{"$f":"'Oversættelse af landenavne'!$B$7","v":"Belgien"},{"$f":"IFERROR('Level 1'!O7/E142*R$141,\"*\")","v":124.03976494507444},{"$f":"IFERROR('Level 1'!P7/F142*S$141,\"*\")","v":147.43979921066168},{"$f":"IFERROR('Level 1'!Q7/G142*T$141,\"*\")","v":133.42661413196535},{"$f":"IFERROR('Level 1'!R7/H142*U$141,\"*\")","v":134.02469621567937},{"$f":"IFERROR('Level 1'!S7/I142*V$141,\"*\")","v":140.59848371312094},{"$f":"IFERROR('Level 1'!T7/J142*W$141,\"*\")","v":138.75408608825168},{"$f":"IFERROR('Level 1'!U7/K142*X$141,\"*\")","v":134.72454435905036},{"$f":"IFERROR('Level 1'!V7/L142*Y$141,\"*\")","v":136.84608542575563},{"$f":"IFERROR('Level 1'!W7/M142*Z$141,\"*\")","v":147.38895495572552},{"$f":"IFERROR('Level 1'!X7/N142*AA$141,\"*\")","v":132.04397012000001},{"$f":"IFERROR('Level 1'!Y7/O142*AB$141,\"*\")","v":"*"},null,{"$f":"'Oversættelse af landenavne'!$B$7","v":"Belgien"},{"$f":"IFERROR('Level 1'!AB7/E142*R$141,\"*\")","v":112.01905738719502},{"$f":"IFERROR('Level 1'!AC7/F142*S$141,\"*\")","v":129.8319406375081},{"$f":"IFERROR('Level 1'!AD7/G142*T$141,\"*\")","v":117.44039889743347},{"$f":"IFERROR('Level 1'!AE7/H142*U$141,\"*\")","v":118.36000039204954},{"$f":"IFERROR('Level 1'!AF7/I142*V$141,\"*\")","v":124.72700221833446},{"$f":"IFERROR('Level 1'!AG7/J142*W$141,\"*\")","v":125.52663107293066},{"$f":"IFERROR('Level 1'!AH7/K142*X$141,\"*\")","v":122.31820079233412},{"$f":"IFERROR('Level 1'!AI7/L142*Y$141,\"*\")","v":126.46752130769639},{"$f":"IFERROR('Level 1'!AJ7/M142*Z$141,\"*\")","v":137.2604189826927},{"$f":"IFERROR('Level 1'!AK7/N142*AA$141,\"*\")","v":116.70214392444444},{"$f":"IFERROR('Level 1'!AL7/O142*AB$141,\"*\")","v":"*"},null,{"$f":"'Oversættelse af landenavne'!$B$7","v":"Belgien"},{"$f":"IFERROR('Level 1'!AO7/E142*R$141,\"*\")","v":98.343324875694535},{"$f":"IFERROR('Level 1'!AP7/F142*S$141,\"*\")","v":115.63742580666805},{"$f":"IFERROR('Level 1'!AQ7/G142*T$141,\"*\")","v":102.61984519041953},{"$f":"IFERROR('Level 1'!AR7/H142*U$141,\"*\")","v":103.6718050872954},{"$f":"IFERROR('Level 1'!AS7/I142*V$141,\"*\")","v":109.72195395651399},{"$f":"IFERROR('Level 1'!AT7/J142*W$141,\"*\")","v":110.61219628753967},{"$f":"IFERROR('Level 1'!AU7/K142*X$141,\"*\")","v":109.22893923111968},{"$f":"IFERROR('Level 1'!AV7/L142*Y$141,\"*\")","v":111.97527177557002},{"$f":"IFERROR('Level 1'!AW7/M142*Z$141,\"*\")","v":122.25518050412558},{"$f":"IFERROR('Level 1'!AX7/N142*AA$141,\"*\")","v":107.46725825333334},{"$f":"IFERROR('Level 1'!AY7/O142*AB$141,\"*\")","v":"*"},null,{"$f":"'Oversættelse af landenavne'!$B$7","v":"Belgien"},{"$f":"IFERROR('Level 1'!BB7/E142*R$141,\"*\")","v":84.144952905155833},{"$f":"IFERROR('Level 1'!BC7/F142*S$141,\"*\")","v":102.60844298539837},{"$f":"IFERROR('Level 1'!BD7/G142*T$141,\"*\")","v":84.801876126930864},{"$f":"IFERROR('Level 1'!BE7/H142*U$141,\"*\")","v":85.443795401617066},{"$f":"IFERROR('Level 1'!BF7/I142*V$141,\"*\")","v":91.841922694397212},{"$f":"IFERROR('Level 1'!BG7/J142*W$141,\"*\")","v":93.282313195003141},{"$f":"IFERROR('Level 1'!BH7/K142*X$141,\"*\")","v":93.370065803329467},{"$f":"IFERROR('Level 1'!BI7/L142*Y$141,\"*\")","v":97.030139445564728},{"$f":"IFERROR('Level 1'!BJ7/M142*Z$141,\"*\")","v":101.02276805695311},{"$f":"IFERROR('Level 1'!BK7/N142*AA$141,\"*\")","v":76.709130977777775},{"$f":"IFERROR('Level 1'!BL7/O142*AB$141,\"*\")","v":"*"}]
[null,null,null,{"$f":"'Oversættelse af landenavne'!$B$10","v":"Danmark"},{"$f":"IFERROR('Level 1'!B10/E143*R$141,\"*\")","v":105.86627320550191},{"$f":"IFERROR('Level 1'!C10/F143*S$141,\"*\")","v":116.25358909705376},{"$f":"IFERROR('Level 1'!D10/G143*T$141,\"*\")","v":103.12783572574031},{"$f":"IFERROR('Level 1'!E10/H143*U$141,\"*\")","v":103.88523550821093},{"$f":"IFERROR('Level 1'!F10/I143*V$141,\"*\")","v":110.70674260010706},{"$f":"IFERROR('Level 1'!G10/J143*W$141,\"*\")","v":101.28404020376446},{"$f":"IFERROR('Level 1'!H10/K143*X$141,\"*\")","v":95.930140280561119},{"$f":"IFERROR('Level 1'!I10/L143*Y$141,\"*\")","v":93.445851005618493},{"$f":"IFERROR('Level 1'!J10/M143*Z$141,\"*\")","v":88.68130522044089},{"$f":"IFERROR('Level 1'!K10/N143*AA$141,\"*\")","v":115.1381713511111},{"$f":"IFERROR('Level 1'!L10/O143*AB$141,\"*\")","v":"*"},null,{"$f":"'Oversættelse af landenavne'!$B$10","v":"Danmark"},{"$f":"IFERROR('Level 1'!O10/E143*R$141,\"*\")","v":105.86627320550191},{"$f":"IFERROR('Level 1'!P10/F143*S$141,\"*\")","v":116.25358909705376},{"$f":"IFERROR('Level 1'!Q10/G143*T$141,\"*\")","v":103.12783572574031},{"$f":"IFERROR('Level 1'!R10/H143*U$141,\"*\")","v":103.88523550821093},{"$f":"IFERROR('Level 1'!S10/I143*V$141,\"*\")","v":110.70674260010706},{"$f":"IFERROR('Level 1'!T10/J143*W$141,\"*\")","v":101.28404020376446},{"$f":"IFERROR('Level 1'!U10/K143*X$141,\"*\")","v":95.930140280561119},{"$f":"IFERROR('Level 1'!V10/L143*Y$141,\"*\")","v":93.445851005618493},{"$f":"IFERROR('Level 1'!W10/M143*Z$141,\"*\")","v":88.68130522044089},{"$f":"IFERROR('Level 1'!X10/N143*AA$141,\"*\")","v":85.124792920000004},{"$f":"IFERROR('Level 1'!Y10/O143*AB$141,\"*\")","v":"*"},null,{"$f":"'Oversættelse af landenavne'!$B$10","v":"Danmark"},{"$f":"IFERROR('Level 1'!AB10/E143*R$141,\"*\")","v":87.1889836263436},{"$f":"IFERROR('Level 1'!AC10/F143*S$141,\"*\")","v":97.600655730320298},{"$f":"IFERROR('Level 1'!AD10/G143*T$141,\"*\")","v":84.171108655965568},{"$f":"IFERROR('Level 1'!AE10/H143*U$141,\"*\")","v":84.733873389712485},{"$f":"IFERROR('Level 1'!AF10/I143*V$141,\"*\")","v":91.733964025359228},{"$f":"IFERROR('Level 1'!AG10/J143*W$141,\"*\")","v":82.693931558769719},{"$f":"IFERROR('Level 1'!AH10/K143*X$141,\"*\")","v":78.337935871743483},{"$f":"IFERROR('Level 1'!AI10/L143*Y$141,\"*\")","v":76.642812518825252},{"$f":"IFERROR('Level 1'!AJ10/M143*Z$141,\"*\")","v":72.170295571142276},{"$f":"IFERROR('Level 1'!AK10/N143*AA$141,\"*\")","v":70.155341146666672},{"$f":"IFERROR('Level 1'!AL10/O143*AB$141,\"*\")","v":"*"},null,{"$f":"'Oversættelse af landenavne'!$B$10","v":"Danmark"},{"$f":"IFERROR('Level 1'!AO10/E143*R$141,\"*\")","v":73.860190608489702},{"$f":"IFERROR('Level 1'!AP10/F143*S$141,\"*\")","v":83.938200150300617},{"$f":"IFERROR('Level 1'!AQ10/G143*T$141,\"*\")","v":70.318115797284051},{"$f":"IFERROR('Level 1'!AR10/H143*U$141,\"*\")","v":70.6578204868824},{"$f":"IFERROR('Level 1'!AS10/I143*V$141,\"*\")","v":77.745886949883214},{"$f":"IFERROR('Level 1'!AT10/J143*W$141,\"*\")","v":69.043588091248225},{"$f":"IFERROR('Level 1'!AU10/K143*X$141,\"*\")","v":65.482094188376763},{"$f":"IFERROR('Level 1'!AV10/L143*Y$141,\"*\")","v":63.507252365452366},{"$f":"IFERROR('Level 1'!AW10/M143*Z$141,\"*\")","v":59.880426397795588},{"$f":"IFERROR('Level 1'!AX10/N143*AA$141,\"*\")","v":61.143880128888895},{"$f":"IFERROR('Level 1'!AY10/O143*AB$141,\"*\")","v":"*"},null,{"$f":"'Oversættelse af landenavne'!$B$10","v":"Danmark"},{"$f":"IFERROR('Level 1'!BB10/E143*R$141,\"*\")","v":73.860190608489702},{"$f":"IFERROR('Level 1'!BC10/F143*S$141,\"*\")","v":83.938200150300617},{"$f":"IFERROR('Level 1'!BD10/G143*T$141,\"*\")","v":70.318115797284051},{"$f":"IFERROR('Level 1'!BE10/H143*U$141,\"*\")","v":70.6578204868824},{"$f":"IFERROR('Level 1'!BF10/I143*V$141,\"*\")","v":77.745886949883214},{"$f":"IFERROR('Level 1'!BG10/J143*W$141,\"*\")","v":69.043588091248225},{"$f":"IFERROR('Level 1'!BH10/K143*X$141,\"*\")","v":65.482094188376763},{"$f":"IFERROR('Level 1'!BI10/L143*Y$141,\"*\")","v":63.507252365452366},{"$f":"IFERROR('Level 1'!BJ10/M143*Z$141,\"*\")","v":59.880426397795588},{"$f":"IFERROR('Level 1'!BK10/N143*AA$141,\"*\")","v":58.16488475111111},{"$f":"IFERROR('Level 1'!BL10/O143*AB$141,\"*\")","v":"*"}]
[null,null,null,{"$f":"'Oversættelse af landenavne'!$B$11","v":"Tyskland"},{"$f":"IFERROR('Level 1'!B11/E144*R$141,\"*\")","v":188.62899981545792},{"$f":"IFERROR('Level 1'!C11/F144*S$141,\"*\")","v":192.91225941392966},{"$f":"IFERROR('Level 1'!D11/G144*T$141,\"*\")","v":198.7249935114267},{"$f":"IFERROR('Level 1'!E11/H144*U$141,\"*\")","v":196.68888839483259},{"$f":"IFERROR('Level 1'!F11/I144*V$141,\"*\")","v":192.97053240675228},{"$f":"IFERROR('Level 1'!G11/J144*W$141,\"*\")","v":193.42556691050024},{"$f":"IFERROR('Level 1'!H11/K144*X$141,\"*\")","v":195.78908088714343},{"$f":"IFERROR('Level 1'!I11/L144*Y$141,\"*\")","v":191.93324455085715},{"$f":"IFERROR('Level 1'!J11/M144*Z$141,\"*\")","v":194.79908738738737},{"$f":"IFERROR('Level 1'!K11/N144*AA$141,\"*\")","v":198.02871773777778},{"$f":"IFERROR('Level 1'!L11/O144*AB$141,\"*\")","v":"*"},null,{"$f":"'Oversættelse af landenavne'!$B$11","v":"Tyskland"},{"$f":"IFERROR('Level 1'!O11/E144*R$141,\"*\")","v":120.58246407301155},{"$f":"IFERROR('Level 1'!P11/F144*S$141,\"*\")","v":123.07940031979747},{"$f":"IFERROR('Level 1'!Q11/G144*T$141,\"*\")","v":128.23447453425194},{"$f":"IFERROR('Level 1'!R11/H144*U$141,\"*\")","v":126.49999064515157},{"$f":"IFERROR('Level 1'!S11/I144*V$141,\"*\")","v":125.18484963497528},{"$f":"IFERROR('Level 1'!T11/J144*W$141,\"*\")","v":125.56230993044325},{"$f":"IFERROR('Level 1'!U11/K144*X$141,\"*\")","v":128.2911907467508},{"$f":"IFERROR('Level 1'!V11/L144*Y$141,\"*\")","v":123.02551226902578},{"$f":"IFERROR('Level 1'!W11/M144*Z$141,\"*\")","v":122.73835218718716},{"$f":"IFERROR('Level 1'!X11/N144*AA$141,\"*\")","v":120.6493128},{"$f":"IFERROR('Level 1'!Y11/O144*AB$141,\"*\")","v":"*"},null,{"$f":"'Oversættelse af landenavne'!$B$11","v":"Tyskland"},{"$f":"IFERROR('Level 1'!AB11/E144*R$141,\"*\")","v":104.48812412412413},{"$f":"IFERROR('Level 1'!AC11/F144*S$141,\"*\")","v":107.06082927323405},{"$f":"IFERROR('Level 1'!AD11/G144*T$141,\"*\")","v":111.6841747284744},{"$f":"IFERROR('Level 1'!AE11/H144*U$141,\"*\")","v":110.02259698539739},{"$f":"IFERROR('Level 1'!AF11/I144*V$141,\"*\")","v":109.37079345837985},{"$f":"IFERROR('Level 1'!AG11/J144*W$141,\"*\")","v":109.78104577911245},{"$f":"IFERROR('Level 1'!AH11/K144*X$141,\"*\")","v":112.32070781174717},{"$f":"IFERROR('Level 1'!AI11/L144*Y$141,\"*\")","v":107.37654759363967},{"$f":"IFERROR('Level 1'!AJ11/M144*Z$141,\"*\")","v":106.65436623623621},{"$f":"IFERROR('Level 1'!AK11/N144*AA$141,\"*\")","v":103.3711396088889},{"$f":"IFERROR('Level 1'!AL11/O144*AB$141,\"*\")","v":"*"},null,{"$f":"'Oversættelse af landenavne'!$B$11","v":"Tyskland"},{"$f":"IFERROR('Level 1'!AO11/E144*R$141,\"*\")","v":95.85722161267411},{"$f":"IFERROR('Level 1'!AP11/F144*S$141,\"*\")","v":96.638619756862397},{"$f":"IFERROR('Level 1'!AQ11/G144*T$141,\"*\")","v":101.36552815030015},{"$f":"IFERROR('Level 1'!AR11/H144*U$141,\"*\")","v":100.90403932902856},{"$f":"IFERROR('Level 1'!AS11/I144*V$141,\"*\")","v":102.30327699427177},{"$f":"IFERROR('Level 1'!AT11/J144*W$141,\"*\")","v":100.87781442981444},{"$f":"IFERROR('Level 1'!AU11/K144*X$141,\"*\")","v":103.24314557746445},{"$f":"IFERROR('Level 1'!AV11/L144*Y$141,\"*\")","v":98.263546684822956},{"$f":"IFERROR('Level 1'!AW11/M144*Z$141,\"*\")","v":97.324908028028034},{"$f":"IFERROR('Level 1'!AX11/N144*AA$141,\"*\")","v":93.8383544},{"$f":"IFERROR('Level 1'!AY11/O144*AB$141,\"*\")","v":"*"},null,{"$f":"'Oversættelse af landenavne'!$B$11","v":"Tyskland"},{"$f":"IFERROR('Level 1'!BB11/E144*R$141,\"*\")","v":92.104655303348025},{"$f":"IFERROR('Level 1'!BC11/F144*S$141,\"*\")","v":93.759332302923141},{"$f":"IFERROR('Level 1'!BD11/G144*T$141,\"*\")","v":99.018541869774225},{"$f":"IFERROR('Level 1'!BE11/H144*U$141,\"*\")","v":98.384437871347714},{"$f":"IFERROR('Level 1'!BF11/I144*V$141,\"*\")","v":98.437618817770641},{"$f":"IFERROR('Level 1'!BG11/J144*W$141,\"*\")","v":97.782699668899667},{"$f":"IFERROR('Level 1'!BH11/K144*X$141,\"*\")","v":100.26751314381988},{"$f":"IFERROR('Level 1'!BI11/L144*Y$141,\"*\")","v":95.126284076869666},{"$f":"IFERROR('Level 1'!BJ11/M144*Z$141,\"*\")","v":93.817031741741715},{"$f":"IFERROR('Level 1'!BK11/N144*AA$141,\"*\")","v":90.635934368888897},{"$f":"IFERROR('Level 1'!BL11/O144*AB$141,\"*\")","v":"*"}]
[null,null,null,{"$f":"'Oversættelse af landenavne'!$B$16","v":"Frankrig"},{"$f":"IFERROR('Level 1'!B16/E145*R$141,\"*\")","v":154.1389029170042},{"$f":"IFERROR('Level 1'!C16/F145*S$141,\"*\")","v":148.83317927438571},{"$f":"IFERROR('Level 1'!D16/G145*T$141,\"*\")","v":145.48749358520462},{"$f":"IFERROR('Level 1'!E16/H145*U$141,\"*\")","v":145.47532218656542},{"$f":"IFERROR('Level 1'!F16/I145*V$141,\"*\")","v":154.06720921490461},{"$f":"IFERROR('Level 1'!G16/J145*W$141,\"*\")","v":153.62351645312265},{"$f":"IFERROR('Level 1'!H16/K145*X$141,\"*\")","v":170.02468956528702},{"$f":"IFERROR('Level 1'!I16/L145*Y$141,\"*\")","v":156.60768575212836},{"$f":"IFERROR('Level 1'!J16/M145*Z$141,\"*\")","v":162.01781216094483},{"$f":"IFERROR('Level 1'!K16/N145*AA$141,\"*\")","v":160.71680063111111},{"$f":"IFERROR('Level 1'!L16/O145*AB$141,\"*\")","v":"*"},null,{"$f":"'Oversættelse af landenavne'!$B$16","v":"Frankrig"},{"$f":"IFERROR('Level 1'!O16/E145*R$141,\"*\")","v":91.5329991362199},{"$f":"IFERROR('Level 1'!P16/F145*S$141,\"*\")","v":87.048038962811802},{"$f":"IFERROR('Level 1'!Q16/G145*T$141,\"*\")","v":86.510435365433395},{"$f":"IFERROR('Level 1'!R16/H145*U$141,\"*\")","v":89.322085592078054},{"$f":"IFERROR('Level 1'!S16/I145*V$141,\"*\")","v":91.161276999611488},{"$f":"IFERROR('Level 1'!T16/J145*W$141,\"*\")","v":91.530065536558396},{"$f":"IFERROR('Level 1'!U16/K145*X$141,\"*\")","v":96.324774393419659},{"$f":"IFERROR('Level 1'!V16/L145*Y$141,\"*\")","v":93.501584435700877},{"$f":"IFERROR('Level 1'!W16/M145*Z$141,\"*\")","v":94.665865834250823},{"$f":"IFERROR('Level 1'!X16/N145*AA$141,\"*\")","v":93.242555324444453},{"$f":"IFERROR('Level 1'!Y16/O145*AB$141,\"*\")","v":"*"},null,{"$f":"'Oversættelse af landenavne'!$B$16","v":"Frankrig"},{"$f":"IFERROR('Level 1'!AB16/E145*R$141,\"*\")","v":77.027769764906367},{"$f":"IFERROR('Level 1'!AC16/F145*S$141,\"*\")","v":73.609468274533484},{"$f":"IFERROR('Level 1'!AD16/G145*T$141,\"*\")","v":73.207339526387258},{"$f":"IFERROR('Level 1'!AE16/H145*U$141,\"*\")","v":76.680672413784833},{"$f":"IFERROR('Level 1'!AF16/I145*V$141,\"*\")","v":77.94444219652155},{"$f":"IFERROR('Level 1'!AG16/J145*W$141,\"*\")","v":77.891479612236793},{"$f":"IFERROR('Level 1'!AH16/K145*X$141,\"*\")","v":81.028565584164184},{"$f":"IFERROR('Level 1'!AI16/L145*Y$141,\"*\")","v":80.581637065592034},{"$f":"IFERROR('Level 1'!AJ16/M145*Z$141,\"*\")","v":81.120848373536177},{"$f":"IFERROR('Level 1'!AK16/N145*AA$141,\"*\")","v":80.954199391111118},{"$f":"IFERROR('Level 1'!AL16/O145*AB$141,\"*\")","v":"*"},null,{"$f":"'Oversættelse af landenavne'!$B$16","v":"Frankrig"},{"$f":"IFERROR('Level 1'!AO16/E145*R$141,\"*\")","v":67.107526689122977},{"$f":"IFERROR('Level 1'!AP16/F145*S$141,\"*\")","v":63.681875513823378},{"$f":"IFERROR('Level 1'!AQ16/G145*T$141,\"*\")","v":65.991417843995549},{"$f":"IFERROR('Level 1'!AR16/H145*U$141,\"*\")","v":68.081341192187267},{"$f":"IFERROR('Level 1'!AS16/I145*V$141,\"*\")","v":69.456211047323038},{"$f":"IFERROR('Level 1'!AT16/J145*W$141,\"*\")","v":69.36736340953577},{"$f":"IFERROR('Level 1'!AU16/K145*X$141,\"*\")","v":72.008688153644982},{"$f":"IFERROR('Level 1'!AV16/L145*Y$141,\"*\")","v":71.582482972539353},{"$f":"IFERROR('Level 1'!AW16/M145*Z$141,\"*\")","v":72.799804589130204},{"$f":"IFERROR('Level 1'!AX16/N145*AA$141,\"*\")","v":72.985386755555552},{"$f":"IFERROR('Level 1'!AY16/O145*AB$141,\"*\")","v":"*"},null,{"$f":"'Oversættelse af landenavne'!$B$16","v":"Frankrig"},{"$f":"IFERROR('Level 1'!BB16/E145*R$141,\"*\")","v":61.438816360103893},{"$f":"IFERROR('Level 1'!BC16/F145*S$141,\"*\")","v":61.260511425845301},{"$f":"IFERROR('Level 1'!BD16/G145*T$141,\"*\")","v":63.169549029652437},{"$f":"IFERROR('Level 1'!BE16/H145*U$141,\"*\")","v":65.545132905633125},{"$f":"IFERROR('Level 1'!BF16/I145*V$141,\"*\")","v":67.130668266720704},{"$f":"IFERROR('Level 1'!BG16/J145*W$141,\"*\")","v":67.170035677283963},{"$f":"IFERROR('Level 1'!BH16/K145*X$141,\"*\")","v":63.552553062533228},{"$f":"IFERROR('Level 1'!BI16/L145*Y$141,\"*\")","v":65.08516839913203},{"$f":"IFERROR('Level 1'!BJ16/M145*Z$141,\"*\")","v":70.449016434791304},{"$f":"IFERROR('Level 1'!BK16/N145*AA$141,\"*\")","v":70.900089991111116},{"$f":"IFERROR('Level 1'!BL16/O145*AB$141,\"*\")","v":"*"}]
[null,null,null,{"$f":"'Oversættelse af landenavne'!$B$18","v":"Italien"},{"$f":"IFERROR('Level 1'!B18/E146*R$141,\"*\")","v":"*"},{"$f":"IFERROR('Level 1'!C18/F146*S$141,\"*\")","v":"*"},{"$f":"IFERROR('Level 1'!D18/G146*T$141,\"*\")","v":"*"},{"$f":"IFERROR('Level 1'!E18/H146*U$141,\"*\")","v":175.82428372216708},{"$f":"IFERROR('Level 1'!F18/I146*V$141,\"*\")","v":159.60718216117479},{"$f":"IFERROR('Level 1'!G18/J146*W$141,\"*\")","v":143.98842466958826},{"$f":"IFERROR('Level 1'!H18/K146*X$141,\"*\")","v":149.53358628437863},{"$f":"IFERROR('Level 1'!I18/L146*Y$141,\"*\")","v":154.62222853484113},{"$f":"IFERROR('Level 1'!J18/M146*Z$141,\"*\")","v":152.14480445945941},{"$f":"IFERROR('Level 1'!K18/N146*AA$141,\"*\")","v":163.09999693333333},{"$f":"IFERROR('Level 1'!L18/O146*AB$141,\"*\")","v":"*"},null,{"$f":"'Oversættelse af landenavne'!$B$18","v":"Italien"},{"$f":"IFERROR('Level 1'!O18/E146*R$141,\"*\")","v":"*"},{"$f":"IFERROR('Level 1'!P18/F146*S$141,\"*\")","v":"*"},{"$f":"IFERROR('Level 1'!Q18/G146*T$141,\"*\")","v":"*"},{"$f":"IFERROR('Level 1'!R18/H146*U$141,\"*\")","v":100.8735473918843},{"$f":"IFERROR('Level 1'!S18/I146*V$141,\"*\")","v":99.270267502549743},{"$f":"IFERROR('Level 1'!T18/J146*W$141,\"*\")","v":106.20234846126613},{"$f":"IFERROR('Level 1'!U18/K146*X$141,\"*\")","v":104.04452585986186},{"$f":"IFERROR('Level 1'!V18/L146*Y$141,\"*\")","v":106.59223194165133},{"$f":"IFERROR('Level 1'!W18/M146*Z$141,\"*\")","v":103.37039694694693},{"$f":"IFERROR('Level 1'!X18/N146*AA$141,\"*\")","v":105.7543359111111},{"$f":"IFERROR('Level 1'!Y18/O146*AB$141,\"*\")","v":"*"},null,{"$f":"'Oversættelse af landenavne'!$B$18","v":"Italien"},{"$f":"IFERROR('Level 1'!AB18/E146*R$141,\"*\")","v":"*"},{"$f":"IFERROR('Level 1'!AC18/F146*S$141,\"*\")","v":"*"},{"$f":"IFERROR('Level 1'!AD18/G146*T$141,\"*\")","v":"*"},{"$f":"IFERROR('Level 1'!AE18/H146*U$141,\"*\")","v":111.66130106348247},{"$f":"IFERROR('Level 1'!AF18/I146*V$141,\"*\")","v":109.91335491315029},{"$f":"IFERROR('Level 1'!AG18/J146*W$141,\"*\")","v":112.44954542957589},{"$f":"IFERROR('Level 1'!AH18/K146*X$141,\"*\")","v":112.28122815895132},{"$f":"IFERROR('Level 1'!AI18/L146*Y$141,\"*\")","v":112.30653169185202},{"$f":"IFERROR('Level 1'!AJ18/M146*Z$141,\"*\")","v":111.43104883883882},{"$f":"IFERROR('Level 1'!AK18/N146*AA$141,\"*\")","v":107.39278336888889},{"$f":"IFERROR('Level 1'!AL18/O146*AB$141,\"*\")","v":"*"},null,{"$f":"'Oversættelse af landenavne'!$B$18","v":"Italien"},{"$f":"IFERROR('Level 1'!AO18/E146*R$141,\"*\")","v":"*"},{"$f":"IFERROR('Level 1'!AP18/F146*S$141,\"*\")","v":"*"},{"$f":"IFERROR('Level 1'!AQ18/G146*T$141,\"*\")","v":"*"},{"$f":"IFERROR('Level 1'!AR18/H146*U$141,\"*\")","v":139.75776398428664},{"$f":"IFERROR('Level 1'!AS18/I146*V$141,\"*\")","v":135.30807450682582},{"$f":"IFERROR('Level 1'!AT18/J146*W$141,\"*\")","v":135.58310511222601},{"$f":"IFERROR('Level 1'!AU18/K146*X$141,\"*\")","v":137.29085150345932},{"$f":"IFERROR('Level 1'!AV18/L146*Y$141,\"*\")","v":135.61191106521935},{"$f":"IFERROR('Level 1'!AW18/M146*Z$141,\"*\")","v":136.8818108308308},{"$f":"IFERROR('Level 1'!AX18/N146*AA$141,\"*\")","v":118.93639045777779},{"$f":"IFERROR('Level 1'!AY18/O146*AB$141,\"*\")","v":"*"},null,{"$f":"'Oversættelse af landenavne'!$B$18","v":"Italien"},{"$f":"IFERROR('Level 1'!BB18/E146*R$141,\"*\")","v":"*"},{"$f":"IFERROR('Level 1'!BC18/F146*S$141,\"*\")","v":"*"},{"$f":"IFERROR('Level 1'!BD18/G146*T$141,\"*\")","v":"*"},{"$f":"IFERROR('Level 1'!BE18/H146*U$141,\"*\")","v":167.61271003184606},{"$f":"IFERROR('Level 1'!BF18/I146*V$141,\"*\")","v":154.28563845587453},{"$f":"IFERROR('Level 1'!BG18/J146*W$141,\"*\")","v":154.77903761485061},{"$f":"IFERROR('Level 1'!BH18/K146*X$141,\"*\")","v":150.6567729615272},{"$f":"IFERROR('Level 1'!BI18/L146*Y$141,\"*\")","v":155.78002783063343},{"$f":"IFERROR('Level 1'!BJ18/M146*Z$141,\"*\")","v":154.01069610110108},{"$f":"IFERROR('Level 1'!BK18/N146*AA$141,\"*\")","v":117.44689276888889},{"$f":"IFERROR('Level 1'!BL18/O146*AB$141,\"*\")","v":"*"}]
[null,null,null,{"$f":"'Oversættelse af landenavne'!$B$25","v":"Holland"},{"$f":"IFERROR('Level 1'!B25/E147*R$141,\"*\")","v":205.18327182193514},{"$f":"IFERROR('Level 1'!C25/F147*S$141,\"*\")","v":203.73225498524758},{"$f":"IFERROR('Level 1'!D25/G147*T$141,\"*\")","v":283.70845598673878},{"$f":"IFERROR('Level 1'!E25/H147*U$141,\"*\")","v":261.75360577691146},{"$f":"IFERROR('Level 1'!F25/I147*V$141,\"*\")","v":267.91116519096386},{"$f":"IFERROR('Level 1'!G25/J147*W$141,\"*\")","v":281.60275134850923},{"$f":"IFERROR('Level 1'!H25/K147*X$141,\"*\")","v":286.15158130455376},{"$f":"IFERROR('Level 1'!I25/L147*Y$141,\"*\")","v":280.9177718192671},{"$f":"IFERROR('Level 1'!J25/M147*Z$141,\"*\")","v":269.47024220362761},{"$f":"IFERROR('Level 1'!K25/N147*AA$141,\"*\")","v":265.80086258222224},{"$f":"IFERROR('Level 1'!L25/O147*AB$141,\"*\")","v":"*"},null,{"$f":"'Oversættelse af landenavne'!$B$25","v":"Holland"},{"$f":"IFERROR('Level 1'!O25/E147*R$141,\"*\")","v":127.1349883306324},{"$f":"IFERROR('Level 1'!P25/F147*S$141,\"*\")","v":126.89892281319557},{"$f":"IFERROR('Level 1'!Q25/G147*T$141,\"*\")","v":154.6794047708521},{"$f":"IFERROR('Level 1'!R25/H147*U$141,\"*\")","v":138.27498053353648},{"$f":"IFERROR('Level 1'!S25/I147*V$141,\"*\")","v":139.19981799034122},{"$f":"IFERROR('Level 1'!T25/J147*W$141,\"*\")","v":142.93560381843628},{"$f":"IFERROR('Level 1'!U25/K147*X$141,\"*\")","v":142.26808958912233},{"$f":"IFERROR('Level 1'!V25/L147*Y$141,\"*\")","v":138.60606383034593},{"$f":"IFERROR('Level 1'!W25/M147*Z$141,\"*\")","v":132.13867276781238},{"$f":"IFERROR('Level 1'!X25/N147*AA$141,\"*\")","v":128.09680124444444},{"$f":"IFERROR('Level 1'!Y25/O147*AB$141,\"*\")","v":"*"},null,{"$f":"'Oversættelse af landenavne'!$B$25","v":"Holland"},{"$f":"IFERROR('Level 1'!AB25/E147*R$141,\"*\")","v":109.41980372453494},{"$f":"IFERROR('Level 1'!AC25/F147*S$141,\"*\")","v":109.1776865218997},{"$f":"IFERROR('Level 1'!AD25/G147*T$141,\"*\")","v":118.67890855335676},{"$f":"IFERROR('Level 1'!AE25/H147*U$141,\"*\")","v":103.93932866842202},{"$f":"IFERROR('Level 1'!AF25/I147*V$141,\"*\")","v":103.22238422485356},{"$f":"IFERROR('Level 1'!AG25/J147*W$141,\"*\")","v":104.51949722316648},{"$f":"IFERROR('Level 1'!AH25/K147*X$141,\"*\")","v":102.10844137925392},{"$f":"IFERROR('Level 1'!AI25/L147*Y$141,\"*\")","v":99.228915801849055},{"$f":"IFERROR('Level 1'!AJ25/M147*Z$141,\"*\")","v":94.256678369576093},{"$f":"IFERROR('Level 1'!AK25/N147*AA$141,\"*\")","v":89.816710639999997},{"$f":"IFERROR('Level 1'!AL25/O147*AB$141,\"*\")","v":"*"},null,{"$f":"'Oversættelse af landenavne'!$B$25","v":"Holland"},{"$f":"IFERROR('Level 1'!AO25/E147*R$141,\"*\")","v":100.54107158305415},{"$f":"IFERROR('Level 1'!AP25/F147*S$141,\"*\")","v":100.13118128228713},{"$f":"IFERROR('Level 1'!AQ25/G147*T$141,\"*\")","v":94.010386713413951},{"$f":"IFERROR('Level 1'!AR25/H147*U$141,\"*\")","v":79.940856526571068},{"$f":"IFERROR('Level 1'!AS25/I147*V$141,\"*\")","v":77.812579519195566},{"$f":"IFERROR('Level 1'!AT25/J147*W$141,\"*\")","v":77.947395464075953},{"$f":"IFERROR('Level 1'!AU25/K147*X$141,\"*\")","v":74.646605232000553},{"$f":"IFERROR('Level 1'!AV25/L147*Y$141,\"*\")","v":72.278776466756142},{"$f":"IFERROR('Level 1'!AW25/M147*Z$141,\"*\")","v":68.441630904900279},{"$f":"IFERROR('Level 1'!AX25/N147*AA$141,\"*\")","v":63.750501084444444},{"$f":"IFERROR('Level 1'!AY25/O147*AB$141,\"*\")","v":"*"},null,{"$f":"'Oversættelse af landenavne'!$B$25","v":"Holland"},{"$f":"IFERROR('Level 1'!BB25/E147*R$141,\"*\")","v":90.478508489375898},{"$f":"IFERROR('Level 1'!BC25/F147*S$141,\"*\")","v":"*"},{"$f":"IFERROR('Level 1'!BD25/G147*T$141,\"*\")","v":118.06526373146762},{"$f":"IFERROR('Level 1'!BE25/H147*U$141,\"*\")","v":103.33125927293595},{"$f":"IFERROR('Level 1'!BF25/I147*V$141,\"*\")","v":104.09312519607546},{"$f":"IFERROR('Level 1'!BG25/J147*W$141,\"*\")","v":107.90349860493198},{"$f":"IFERROR('Level 1'!BH25/K147*X$141,\"*\")","v":104.66303078830072},{"$f":"IFERROR('Level 1'!BI25/L147*Y$141,\"*\")","v":100.87586876121586},{"$f":"IFERROR('Level 1'!BJ25/M147*Z$141,\"*\")","v":94.667627026756151},{"$f":"IFERROR('Level 1'!BK25/N147*AA$141,\"*\")","v":90.78488413777778},{"$f":"IFERROR('Level 1'!BL25/O147*AB$141,\"*\")","v":"*"}]
[null,null,null,{"$f":"'Oversættelse af landenavne'!$B$33","v":"Sverige"},{"$f":"IFERROR('Level 1'!B33/E148*R$141,\"*\")","v":164.80821933673769},{"$f":"IFERROR('Level 1'!C33/F148*S$141,\"*\")","v":167.33431495964587},{"$f":"IFERROR('Level 1'!D33/G148*T$141,\"*\")","v":147.78774378485178},{"$f":"IFERROR('Level 1'!E33/H148*U$141,\"*\")","v":188.52714813087022},{"$f":"IFERROR('Level 1'!F33/I148*V$141,\"*\")","v":192.6614463907197},{"$f":"IFERROR('Level 1'!G33/J148*W$141,\"*\")","v":192.87620186531751},{"$f":"IFERROR('Level 1'!H33/K148*X$141,\"*\")","v":195.00161764033396},{"$f":"IFERROR('Level 1'!I33/L148*Y$141,\"*\")","v":192.06722496042286},{"$f":"IFERROR('Level 1'!J33/M148*Z$141,\"*\")","v":183.47419617824772},{"$f":"IFERROR('Level 1'!K33/N148*AA$141,\"*\")","v":194.82629770666668},{"$f":"IFERROR('Level 1'!L33/O148*AB$141,\"*\")","v":"*"},null,{"$f":"'Oversættelse af landenavne'!$B$33","v":"Sverige"},{"$f":"IFERROR('Level 1'!O33/E148*R$141,\"*\")","v":87.231740744552766},{"$f":"IFERROR('Level 1'!P33/F148*S$141,\"*\")","v":101.98386320857007},{"$f":"IFERROR('Level 1'!Q33/G148*T$141,\"*\")","v":94.378124851345021},{"$f":"IFERROR('Level 1'!R33/H148*U$141,\"*\")","v":106.0465208236145},{"$f":"IFERROR('Level 1'!S33/I148*V$141,\"*\")","v":115.32821641516189},{"$f":"IFERROR('Level 1'!T33/J148*W$141,\"*\")","v":112.10905489551939},{"$f":"IFERROR('Level 1'!U33/K148*X$141,\"*\")","v":113.64357778922691},{"$f":"IFERROR('Level 1'!V33/L148*Y$141,\"*\")","v":108.37566108276563},{"$f":"IFERROR('Level 1'!W33/M148*Z$141,\"*\")","v":102.4557154431017},{"$f":"IFERROR('Level 1'!X33/N148*AA$141,\"*\")","v":105.38196148888888},{"$f":"IFERROR('Level 1'!Y33/O148*AB$141,\"*\")","v":"*"},null,{"$f":"'Oversættelse af landenavne'!$B$33","v":"Sverige"},{"$f":"IFERROR('Level 1'!AB33/E148*R$141,\"*\")","v":82.801187549093925},{"$f":"IFERROR('Level 1'!AC33/F148*S$141,\"*\")","v":89.745799623541672},{"$f":"IFERROR('Level 1'!AD33/G148*T$141,\"*\")","v":83.165274585631053},{"$f":"IFERROR('Level 1'!AE33/H148*U$141,\"*\")","v":96.246842331663316},{"$f":"IFERROR('Level 1'!AF33/I148*V$141,\"*\")","v":104.236750676732},{"$f":"IFERROR('Level 1'!AG33/J148*W$141,\"*\")","v":100.93993861653509},{"$f":"IFERROR('Level 1'!AH33/K148*X$141,\"*\")","v":101.55544797436748},{"$f":"IFERROR('Level 1'!AI33/L148*Y$141,\"*\")","v":92.915024395339387},{"$f":"IFERROR('Level 1'!AJ33/M148*Z$141,\"*\")","v":89.540813972809644},{"$f":"IFERROR('Level 1'!AK33/N148*AA$141,\"*\")","v":90.710409253333339},{"$f":"IFERROR('Level 1'!AL33/O148*AB$141,\"*\")","v":"*"},null,{"$f":"'Oversættelse af landenavne'!$B$33","v":"Sverige"},{"$f":"IFERROR('Level 1'!AO33/E148*R$141,\"*\")","v":72.393567306931189},{"$f":"IFERROR('Level 1'!AP33/F148*S$141,\"*\")","v":75.407474301148653},{"$f":"IFERROR('Level 1'!AQ33/G148*T$141,\"*\")","v":68.663849860361424},{"$f":"IFERROR('Level 1'!AR33/H148*U$141,\"*\")","v":80.769572332470588},{"$f":"IFERROR('Level 1'!AS33/I148*V$141,\"*\")","v":86.582514553279609},{"$f":"IFERROR('Level 1'!AT33/J148*W$141,\"*\")","v":81.944842903976721},{"$f":"IFERROR('Level 1'!AU33/K148*X$141,\"*\")","v":82.494854567238065},{"$f":"IFERROR('Level 1'!AV33/L148*Y$141,\"*\")","v":74.770511901538356},{"$f":"IFERROR('Level 1'!AW33/M148*Z$141,\"*\")","v":70.018288494461217},{"$f":"IFERROR('Level 1'!AX33/N148*AA$141,\"*\")","v":69.112692764444446},{"$f":"IFERROR('Level 1'!AY33/O148*AB$141,\"*\")","v":"*"},null,{"$f":"'Oversættelse af landenavne'!$B$33","v":"Sverige"},{"$f":"IFERROR('Level 1'!BB33/E148*R$141,\"*\")","v":62.111340079734276},{"$f":"IFERROR('Level 1'!BC33/F148*S$141,\"*\")","v":66.52175156614453},{"$f":"IFERROR('Level 1'!BD33/G148*T$141,\"*\")","v":62.284807836404021},{"$f":"IFERROR('Level 1'!BE33/H148*U$141,\"*\")","v":71.786533714848673},{"$f":"IFERROR('Level 1'!BF33/I148*V$141,\"*\")","v":75.721321459938238},{"$f":"IFERROR('Level 1'!BG33/J148*W$141,\"*\")","v":70.889697199267758},{"$f":"IFERROR('Level 1'!BH33/K148*X$141,\"*\")","v":70.785662991088969},{"$f":"IFERROR('Level 1'!BI33/L148*Y$141,\"*\")","v":62.1827563589639},{"$f":"IFERROR('Level 1'!BJ33/M148*Z$141,\"*\")","v":58.117056616314187},{"$f":"IFERROR('Level 1'!BK33/N148*AA$141,\"*\")","v":57.494610791111114},{"$f":"IFERROR('Level 1'!BL33/O148*AB$141,\"*\")","v":"*"}]
[null,null,null,{"$f":"'Oversættelse af landenavne'!$B$34","v":"UK"},{"$f":"IFERROR('Level 1'!B34/E149*R$141,\"*\")","v":146.74961051344744},{"$f":"IFERROR('Level 1'!C34/F149*S$141,\"*\")","v":137.40838622195986},{"$f":"IFERROR('Level 1'!D34/G149*T$141,\"*\")","v":135.72641112586604},{"$f":"IFERROR('Level 1'!E34/H149*U$141,\"*\")","v":120.70730798657718},{"$f":"IFERROR('Level 1'!F34/I149*V$141,\"*\")","v":124.00264807815847},{"$f":"IFERROR('Level 1'!G34/J149*W$141,\"*\")","v":141.67139},{"$f":"IFERROR('Level 1'!H34/K149*X$141,\"*\")","v":153.7404309746193},{"$f":"IFERROR('Level 1'!I34/L149*Y$141,\"*\")","v":174.14274976000002},{"$f":"IFERROR('Level 1'!J34/M149*Z$141,\"*\")","v":185.80608675999997},{"$f":"IFERROR('Level 1'!K34/N149*AA$141,\"*\")","v":175.90967705777777},{"$f":"IFERROR('Level 1'!L34/O149*AB$141,\"*\")","v":"*"},null,{"$f":"'Oversættelse af landenavne'!$B$34","v":"UK"},{"$f":"IFERROR('Level 1'!O34/E149*R$141,\"*\")","v":141.46297858190709},{"$f":"IFERROR('Level 1'!P34/F149*S$141,\"*\")","v":133.4962472668241},{"$f":"IFERROR('Level 1'!Q34/G149*T$141,\"*\")","v":126.09615579099308},{"$f":"IFERROR('Level 1'!R34/H149*U$141,\"*\")","v":121.16547927293064},{"$f":"IFERROR('Level 1'!S34/I149*V$141,\"*\")","v":123.84310784261241},{"$f":"IFERROR('Level 1'!T34/J149*W$141,\"*\")","v":139.8511179032258},{"$f":"IFERROR('Level 1'!U34/K149*X$141,\"*\")","v":138.90018252791879},{"$f":"IFERROR('Level 1'!V34/L149*Y$141,\"*\")","v":154.68587575000001},{"$f":"IFERROR('Level 1'!W34/M149*Z$141,\"*\")","v":169.55178221999998},{"$f":"IFERROR('Level 1'!X34/N149*AA$141,\"*\")","v":157.43990571555557},{"$f":"IFERROR('Level 1'!Y34/O149*AB$141,\"*\")","v":"*"},null,{"$f":"'Oversættelse af landenavne'!$B$34","v":"UK"},{"$f":"IFERROR('Level 1'!AB34/E149*R$141,\"*\")","v":128.61099405867972},{"$f":"IFERROR('Level 1'!AC34/F149*S$141,\"*\")","v":128.52914949232587},{"$f":"IFERROR('Level 1'!AD34/G149*T$141,\"*\")","v":117.79865900692842},{"$f":"IFERROR('Level 1'!AE34/H149*U$141,\"*\")","v":112.50187676733779},{"$f":"IFERROR('Level 1'!AF34/I149*V$141,\"*\")","v":114.6296592398287},{"$f":"IFERROR('Level 1'!AG34/J149*W$141,\"*\")","v":127.96125548387099},{"$f":"IFERROR('Level 1'!AH34/K149*X$141,\"*\")","v":127.58070730964467},{"$f":"IFERROR('Level 1'!AI34/L149*Y$141,\"*\")","v":139.51547781500003},{"$f":"IFERROR('Level 1'!AJ34/M149*Z$141,\"*\")","v":152.96195304499997},{"$f":"IFERROR('Level 1'!AK34/N149*AA$141,\"*\")","v":138.44881018222222},{"$f":"IFERROR('Level 1'!AL34/O149*AB$141,\"*\")","v":"*"},null,{"$f":"'Oversættelse af landenavne'!$B$34","v":"UK"},{"$f":"IFERROR('Level 1'!AO34/E149*R$141,\"*\")","v":116.39705132029341},{"$f":"IFERROR('Level 1'!AP34/F149*S$141,\"*\")","v":115.34216425029514},{"$f":"IFERROR('Level 1'!AQ34/G149*T$141,\"*\")","v":105.07296445727484},{"$f":"IFERROR('Level 1'!AR34/H149*U$141,\"*\")","v":101.00594267337806},{"$f":"IFERROR('Level 1'!AS34/I149*V$141,\"*\")","v":101.82655533725908},{"$f":"IFERROR('Level 1'!AT34/J149*W$141,\"*\")","v":114.48349612903225},{"$f":"IFERROR('Level 1'!AU34/K149*X$141,\"*\")","v":116.26123209137056},{"$f":"IFERROR('Level 1'!AV34/L149*Y$141,\"*\")","v":125.83602808000001},{"$f":"IFERROR('Level 1'!AW34/M149*Z$141,\"*\")","v":139.50368712999997},{"$f":"IFERROR('Level 1'!AX34/N149*AA$141,\"*\")","v":127.50100216888889},{"$f":"IFERROR('Level 1'!AY34/O149*AB$141,\"*\")","v":"*"},null,{"$f":"'Oversættelse af landenavne'!$B$34","v":"UK"},{"$f":"IFERROR('Level 1'!BB34/E149*R$141,\"*\")","v":97.711541907090464},{"$f":"IFERROR('Level 1'!BC34/F149*S$141,\"*\")","v":113.27620322904367},{"$f":"IFERROR('Level 1'!BD34/G149*T$141,\"*\")","v":102.14949408775982},{"$f":"IFERROR('Level 1'!BE34/H149*U$141,\"*\")","v":92.467295973154364},{"$f":"IFERROR('Level 1'!BF34/I149*V$141,\"*\")","v":93.96919873661669},{"$f":"IFERROR('Level 1'!BG34/J149*W$141,\"*\")","v":105.49832322580643},{"$f":"IFERROR('Level 1'!BH34/K149*X$141,\"*\")","v":106.68321459898479},{"$f":"IFERROR('Level 1'!BI34/L149*Y$141,\"*\")","v":115.92122255},{"$f":"IFERROR('Level 1'!BJ34/M149*Z$141,\"*\")","v":127.87216644999998},{"$f":"IFERROR('Level 1'!BK34/N149*AA$141,\"*\")","v":115.36159600444445},{"$f":"IFERROR('Level 1'!BL34/O149*AB$141,\"*\")","v":"*"}]
[null,null,null,"Kilde: Eurostat",null,null,null,null,null,null,null,null,null,null,null,null,"Kilde: Eurostat",null,null,null,null,null,null,null,null,null,null,null,null,"Kilde: Eurostat",null,null,null,null,null,null,null,null,null,null,null,null,"Kilde: Eurostat",null,null,null,null,null,null,null,null,null,null,null,null,"Kilde: Eurostat"]
[]
[]
[]
[]
[null,"Level 2: Elpris inkl. PSO og afgifter",null,{"$f":"\"Figur XX:\n\"&$B$62&\" for forbrugsinterval \"&D26&\". \nPriserne er vist i \"&$E$15&\" / kWh i \"&$E$13&\" med basisår \"&$E$14&\". \"","v":"Figur XX:\nLevel 2: Elpris inkl. PSO og afgifter for forbrugsinterval IA: < 1000 kWh. \nPriserne er vist i DKK øre / kWh i faste priser med basisår 2016. "},null,null,null,null,null,null,null,null,null,null,null,null,{"$f":"\"Figur XX:\n\"&$B$62&\" for forbrugsinterval \"&Q26&\". \nPriserne er vist i \"&$E$15&\" / kWh i \"&$E$13&\" med basisår \"&$E$14&\". \"","v":"Figur XX:\nLevel 2: Elpris inkl. PSO og afgifter for forbrugsinterval IB: 1000 < 2500 kWh. \nPriserne er vist i DKK øre / kWh i faste priser med basisår 2016. "},null,null,null,null,null,null,null,null,null,null,null,null,{"$f":"\"Figur XX:\n\"&$B$62&\" for forbrugsinterval \"&AD26&\". \nPriserne er vist i \"&$E$15&\" / kWh i \"&$E$13&\" med basisår \"&$E$14&\". \"","v":"Figur XX:\nLevel 2: Elpris inkl. PSO og afgifter for forbrugsinterval IC: 2500 < 5 000 kWh. \nPriserne er vist i DKK øre / kWh i faste priser med basisår 2016. "},null,null,null,null,null,null,null,null,null,null,null,null,{"$f":"\"Figur XX:\n\"&$B$62&\" for forbrugsinterval \"&AQ26&\". \nPriserne er vist i \"&$E$15&\" / kWh i \"&$E$13&\" med basisår \"&$E$14&\". \"","v":"Figur XX:\nLevel 2: Elpris inkl. PSO og afgifter for forbrugsinterval ID: 5 000 < 15 000 kWh. \nPriserne er vist i DKK øre / kWh i faste priser med basisår 2016. "},null,null,null,null,null,null,null,null,null,null,null,null,{"$f":"\"Figur XX:\n\"&$B$62&\" for forbrugsinterval \"&BD26&\". \nPriserne er vist i \"&$E$15&\" / kWh i \"&$E$13&\" med basisår \"&$E$14&\". \"","v":"Figur XX:\nLevel 2: Elpris inkl. PSO og afgifter for forbrugsinterval IE: > 15 000 kWh. \nPriserne er vist i DKK øre / kWh i faste priser med basisår 2016. "},null,null,null,null,null,null,null,null,null,null,null,null,{"$f":"B62","v":"Level 2: Elpris inkl. PSO og afgifter"}]
[]
[]
[]
[]
[]
[]
[]
[]
[]
[]
[]
[]
[]
[]
[]
[]
[]
[]
[null,null,null,"Kilde: Eurostat",null,null,null,null,null,null,null,null,null,null,null,null,"Kilde: Eurostat",null,null,null,null,null,null,null,null,null,null,null,null,"Kilde: Eurostat",null,null,null,null,null,null,null,null,null,null,null,null,"Kilde: Eurostat",null,null,null,null,null,null,null,null,null,null,null,null,"Kilde: Eurostat"]
[null,null,null,{"$f":"$E$15&\"/kWh\"","v":"DKK øre/kWh"},{"$f":"'Level 1'!B$5","v":2007},{"$f":"'Level 1'!C$5","v":2008},{"$f":"'Level 1'!D$5","v":2009},{"$f":"'Level 1'!E$5","v":2010},{"$f":"'Level 1'!F$5","v":2011},{"$f":"'Level 1'!G$5","v":2012},{"$f":"'Level 1'!H$5","v":2013},{"$f":"'Level 1'!I$5","v":2014},{"$f":"'Level 1'!J$5","v":2015},{"$f":"'Level 1'!K$5","v":2016},{"$f":"'Level 1'!L$5","v":2017},null,{"$f":"$E$15&\"/kWh\"","v":"DKK øre/kWh"},{"$f":"'Level 1'!O5","v":2007},{"$f":"'Level 1'!P5","v":2008},{"$f":"'Level 1'!Q5","v":2009},{"$f":"'Level 1'!R5","v":2010},{"$f":"'Level 1'!S5","v":2011},{"$f":"'Level 1'!T5","v":2012},{"$f":"'Level 1'!U5","v":2013},{"$f":"'Level 1'!V5","v":2014},{"$f":"'Level 1'!W5","v":2015},{"$f":"'Level 1'!X5","v":2016},{"$f":"'Level 1'!Y5","v":2017},null,{"$f":"$E$15&\"/kWh\"","v":"DKK øre/kWh"},{"$f":"'Level 1'!AB5","v":2007},{"$f":"'Level 1'!AC5","v":2008},{"$f":"'Level 1'!AD5","v":2009},{"$f":"'Level 1'!AE5","v":2010},{"$f":"'Level 1'!AF5","v":2011},{"$f":"'Level 1'!AG5","v":2012},{"$f":"'Level 1'!AH5","v":2013},{"$f":"'Level 1'!AI5","v":2014},{"$f":"'Level 1'!AJ5","v":2015},{"$f":"'Level 1'!AK5","v":2016},{"$f":"'Level 1'!AL5","v":2017},null,{"$f":"$E$15&\"/kWh\"","v":"DKK øre/kWh"},{"$f":"'Level 1'!AO5","v":2007},{"$f":"'Level 1'!AP5","v":2008},{"$f":"'Level 1'!AQ5","v":2009},{"$f":"'Level 1'!AR5","v":2010},{"$f":"'Level 1'!AS5","v":2011},{"$f":"'Level 1'!AT5","v":2012},{"$f":"'Level 1'!AU5","v":2013},{"$f":"'Level 1'!AV5","v":2014},{"$f":"'Level 1'!AW5","v":2015},{"$f":"'Level 1'!AX5","v":2016},{"$f":"'Level 1'!AY5","v":2017},null,{"$f":"$E$15&\"/kWh\"","v":"DKK øre/kWh"},{"$f":"'Level 1'!BB5","v":2007},{"$f":"'Level 1'!BC5","v":2008},{"$f":"'Level 1'!BD5","v":2009},{"$f":"'Level 1'!BE5","v":2010},{"$f":"'Level 1'!BF5","v":2011},{"$f":"'Level 1'!BG5","v":2012},{"$f":"'Level 1'!BH5","v":2013},{"$f":"'Level 1'!BI5","v":2014},{"$f":"'Level 1'!BJ5","v":2015},{"$f":"'Level 1'!BK5","v":2016},{"$f":"'Level 1'!BL5","v":2017}]
[null,null,null,{"$f":"'Oversættelse af landenavne'!$B$6","v":"EU-28"},{"$f":"IFERROR('Level 2'!B6/E141*R$141,\"*\")","v":179.99235977152426},{"$f":"IFERROR('Level 2'!C6/F141*S$141,\"*\")","v":181.70285166985417},{"$f":"IFERROR('Level 2'!D6/G141*T$141,\"*\")","v":179.93991330745646},{"$f":"IFERROR('Level 2'!E6/H141*U$141,\"*\")","v":184.73797616458248},{"$f":"IFERROR('Level 2'!F6/I141*V$141,\"*\")","v":185.30810977670305},{"$f":"IFERROR('Level 2'!G6/J141*W$141,\"*\")","v":185.44852389442147},{"$f":"IFERROR('Level 2'!H6/K141*X$141,\"*\")","v":195.7458924058333},{"$f":"IFERROR('Level 2'!I6/L141*Y$141,\"*\")","v":202.16941372056175},{"$f":"IFERROR('Level 2'!J6/M141*Z$141,\"*\")","v":209.01094651034893},{"$f":"IFERROR('Level 2'!K6/N141*AA$141,\"*\")","v":212.10447089777779},{"$f":"IFERROR('Level 2'!L6/O141*AB$141,\"*\")","v":"*"},null,{"$f":"'Oversættelse af landenavne'!$B$6","v":"EU-28"},{"$f":"IFERROR('Level 2'!O6/E141*R$141,\"*\")","v":125.01381393309023},{"$f":"IFERROR('Level 2'!P6/F141*S$141,\"*\")","v":124.29900824769449},{"$f":"IFERROR('Level 2'!Q6/G141*T$141,\"*\")","v":124.24227134618398},{"$f":"IFERROR('Level 2'!R6/H141*U$141,\"*\")","v":126.30865980255844},{"$f":"IFERROR('Level 2'!S6/I141*V$141,\"*\")","v":130.28927743617845},{"$f":"IFERROR('Level 2'!T6/J141*W$141,\"*\")","v":134.1776848083127},{"$f":"IFERROR('Level 2'!U6/K141*X$141,\"*\")","v":138.20664597861114},{"$f":"IFERROR('Level 2'!V6/L141*Y$141,\"*\")","v":141.23909271906524},{"$f":"IFERROR('Level 2'!W6/M141*Z$141,\"*\")","v":145.45402412758725},{"$f":"IFERROR('Level 2'!X6/N141*AA$141,\"*\")","v":144.18337628444445},{"$f":"IFERROR('Level 2'!Y6/O141*AB$141,\"*\")","v":"*"},null,{"$f":"'Oversættelse af landenavne'!$B$6","v":"EU-28"},{"$f":"IFERROR('Level 2'!AB6/E141*R$141,\"*\")","v":116.58204946960583},{"$f":"IFERROR('Level 2'!AC6/F141*S$141,\"*\")","v":116.50700639688871},{"$f":"IFERROR('Level 2'!AD6/G141*T$141,\"*\")","v":116.27960182482302},{"$f":"IFERROR('Level 2'!AE6/H141*U$141,\"*\")","v":117.74331611012134},{"$f":"IFERROR('Level 2'!AF6/I141*V$141,\"*\")","v":122.1340037062709},{"$f":"IFERROR('Level 2'!AG6/J141*W$141,\"*\")","v":125.21478256807445},{"$f":"IFERROR('Level 2'!AH6/K141*X$141,\"*\")","v":128.87291805654056},{"$f":"IFERROR('Level 2'!AI6/L141*Y$141,\"*\")","v":130.99087359037318},{"$f":"IFERROR('Level 2'!AJ6/M141*Z$141,\"*\")","v":134.30826471852811},{"$f":"IFERROR('Level 2'!AK6/N141*AA$141,\"*\")","v":131.44817104444445},{"$f":"IFERROR('Level 2'!AL6/O141*AB$141,\"*\")","v":"*"},null,{"$f":"'Oversættelse af landenavne'!$B$6","v":"EU-28"},{"$f":"IFERROR('Level 2'!AO6/E141*R$141,\"*\")","v":109.52689961240459},{"$f":"IFERROR('Level 2'!AP6/F141*S$141,\"*\")","v":109.46104727647919},{"$f":"IFERROR('Level 2'!AQ6/G141*T$141,\"*\")","v":112.05199893461591},{"$f":"IFERROR('Level 2'!AR6/H141*U$141,\"*\")","v":112.67649308079234},{"$f":"IFERROR('Level 2'!AS6/I141*V$141,\"*\")","v":116.82722271456075},{"$f":"IFERROR('Level 2'!AT6/J141*W$141,\"*\")","v":119.74589306555619},{"$f":"IFERROR('Level 2'!AU6/K141*X$141,\"*\")","v":123.55006920138386},{"$f":"IFERROR('Level 2'!AV6/L141*Y$141,\"*\")","v":125.40093588381389},{"$f":"IFERROR('Level 2'!AW6/M141*Z$141,\"*\")","v":128.41853232176783},{"$f":"IFERROR('Level 2'!AX6/N141*AA$141,\"*\")","v":124.5220067911111},{"$f":"IFERROR('Level 2'!AY6/O141*AB$141,\"*\")","v":"*"},null,{"$f":"'Oversættelse af landenavne'!$B$6","v":"EU-28"},{"$f":"IFERROR('Level 2'!BB6/E141*R$141,\"*\")","v":101.95551927784715},{"$f":"IFERROR('Level 2'!BC6/F141*S$141,\"*\")","v":104.40453543712653},{"$f":"IFERROR('Level 2'!BD6/G141*T$141,\"*\")","v":109.34304950982299},{"$f":"IFERROR('Level 2'!BE6/H141*U$141,\"*\")","v":108.89648224938816},{"$f":"IFERROR('Level 2'!BF6/I141*V$141,\"*\")","v":112.06672800140898},{"$f":"IFERROR('Level 2'!BG6/J141*W$141,\"*\")","v":115.11252834814488},{"$f":"IFERROR('Level 2'!BH6/K141*X$141,\"*\")","v":116.87776570689167},{"$f":"IFERROR('Level 2'!BI6/L141*Y$141,\"*\")","v":119.40106941210688},{"$f":"IFERROR('Level 2'!BJ6/M141*Z$141,\"*\")","v":123.27433567143285},{"$f":"IFERROR('Level 2'!BK6/N141*AA$141,\"*\")","v":118.93639045777779},{"$f":"IFERROR('Level 2'!BL6/O141*AB$141,\"*\")","v":"*"}]
[null,null,null,{"$f":"'Oversættelse af landenavne'!$B$7","v":"Belgien"},{"$f":"IFERROR('Level 2'!B7/E142*R$141,\"*\")","v":175.95528454287245},{"$f":"IFERROR('Level 2'!C7/F142*S$141,\"*\")","v":219.45302694483576},{"$f":"IFERROR('Level 2'!D7/G142*T$141,\"*\")","v":186.04790594563278},{"$f":"IFERROR('Level 2'!E7/H142*U$141,\"*\")","v":194.36429077786894},{"$f":"IFERROR('Level 2'!F7/I142*V$141,\"*\")","v":195.49884402014911},{"$f":"IFERROR('Level 2'!G7/J142*W$141,\"*\")","v":190.82041626450086},{"$f":"IFERROR('Level 2'!H7/K142*X$141,\"*\")","v":182.07352531092164},{"$f":"IFERROR('Level 2'!I7/L142*Y$141,\"*\")","v":181.19085938473597},{"$f":"IFERROR('Level 2'!J7/M142*Z$141,\"*\")","v":193.22995850774805},{"$f":"IFERROR('Level 2'!K7/N142*AA$141,\"*\")","v":253.06565734222221},{"$f":"IFERROR('Level 2'!L7/O142*AB$141,\"*\")","v":"*"},null,{"$f":"'Oversættelse af landenavne'!$B$7","v":"Belgien"},{"$f":"IFERROR('Level 2'!O7/E142*R$141,\"*\")","v":144.94534330660383},{"$f":"IFERROR('Level 2'!P7/F142*S$141,\"*\")","v":159.59463302475348},{"$f":"IFERROR('Level 2'!Q7/G142*T$141,\"*\")","v":146.04073709046315},{"$f":"IFERROR('Level 2'!R7/H142*U$141,\"*\")","v":147.93982860965698},{"$f":"IFERROR('Level 2'!S7/I142*V$141,\"*\")","v":154.50079876934831},{"$f":"IFERROR('Level 2'!T7/J142*W$141,\"*\")","v":150.94634897193887},{"$f":"IFERROR('Level 2'!U7/K142*X$141,\"*\")","v":147.88968569743125},{"$f":"IFERROR('Level 2'!V7/L142*Y$141,\"*\")","v":150.5835302947504},{"$f":"IFERROR('Level 2'!W7/M142*Z$141,\"*\")","v":162.01906247232844},{"$f":"IFERROR('Level 2'!X7/N142*AA$141,\"*\")","v":174.42017936888888},{"$f":"IFERROR('Level 2'!Y7/O142*AB$141,\"*\")","v":"*"},null,{"$f":"'Oversættelse af landenavne'!$B$7","v":"Belgien"},{"$f":"IFERROR('Level 2'!AB7/E142*R$141,\"*\")","v":123.95265836856807},{"$f":"IFERROR('Level 2'!AC7/F142*S$141,\"*\")","v":141.90352216520205},{"$f":"IFERROR('Level 2'!AD7/G142*T$141,\"*\")","v":130.05452185593128},{"$f":"IFERROR('Level 2'!AE7/H142*U$141,\"*\")","v":132.23444526440736},{"$f":"IFERROR('Level 2'!AF7/I142*V$141,\"*\")","v":138.82623391841773},{"$f":"IFERROR('Level 2'!AG7/J142*W$141,\"*\")","v":144.23677034097892},{"$f":"IFERROR('Level 2'!AH7/K142*X$141,\"*\")","v":136.92505789687772},{"$f":"IFERROR('Level 2'!AI7/L142*Y$141,\"*\")","v":141.26169270507535},{"$f":"IFERROR('Level 2'!AJ7/M142*Z$141,\"*\")","v":152.52824913463473},{"$f":"IFERROR('Level 2'!AK7/N142*AA$141,\"*\")","v":156.99305640888889},{"$f":"IFERROR('Level 2'!AL7/O142*AB$141,\"*\")","v":"*"},null,{"$f":"'Oversættelse af landenavne'!$B$7","v":"Belgien"},{"$f":"IFERROR('Level 2'!AO7/E142*R$141,\"*\")","v":113.93540207033523},{"$f":"IFERROR('Level 2'!AP7/F142*S$141,\"*\")","v":127.7506334775609},{"$f":"IFERROR('Level 2'!AQ7/G142*T$141,\"*\")","v":115.15070661123747},{"$f":"IFERROR('Level 2'!AR7/H142*U$141,\"*\")","v":117.58693748127303},{"$f":"IFERROR('Level 2'!AS7/I142*V$141,\"*\")","v":123.89995231413964},{"$f":"IFERROR('Level 2'!AT7/J142*W$141,\"*\")","v":123.22620411374437},{"$f":"IFERROR('Level 2'!AU7/K142*X$141,\"*\")","v":124.10137555574593},{"$f":"IFERROR('Level 2'!AV7/L142*Y$141,\"*\")","v":126.84492363926218},{"$f":"IFERROR('Level 2'!AW7/M142*Z$141,\"*\")","v":137.29793207888912},{"$f":"IFERROR('Level 2'!AX7/N142*AA$141,\"*\")","v":143.73652697777777},{"$f":"IFERROR('Level 2'!AY7/O142*AB$141,\"*\")","v":"*"},null,{"$f":"'Oversættelse af landenavne'!$B$7","v":"Belgien"},{"$f":"IFERROR('Level 2'!BB7/E142*R$141,\"*\")","v":100.52098928835387},{"$f":"IFERROR('Level 2'!BC7/F142*S$141,\"*\")","v":114.92978137228597},{"$f":"IFERROR('Level 2'!BD7/G142*T$141,\"*\")","v":97.124583703549192},{"$f":"IFERROR('Level 2'!BE7/H142*U$141,\"*\")","v":99.399615317214526},{"$f":"IFERROR('Level 2'!BF7/I142*V$141,\"*\")","v":105.82300440816695},{"$f":"IFERROR('Level 2'!BG7/J142*W$141,\"*\")","v":109.42364235862676},{"$f":"IFERROR('Level 2'!BH7/K142*X$141,\"*\")","v":106.68696669604329},{"$f":"IFERROR('Level 2'!BI7/L142*Y$141,\"*\")","v":108.76735195726081},{"$f":"IFERROR('Level 2'!BJ7/M142*Z$141,\"*\")","v":113.62716837894949},{"$f":"IFERROR('Level 2'!BK7/N142*AA$141,\"*\")","v":110.22282897777777},{"$f":"IFERROR('Level 2'!BL7/O142*AB$141,\"*\")","v":"*"}]
[null,null,null,{"$f":"'Oversættelse af landenavne'!$B$10","v":"Danmark"},{"$f":"IFERROR('Level 2'!B10/E143*R$141,\"*\")","v":181.67908954272184},{"$f":"IFERROR('Level 2'!C10/F143*S$141,\"*\")","v":196.01942257321662},{"$f":"IFERROR('Level 2'!D10/G143*T$141,\"*\")","v":189.20271825409782},{"$f":"IFERROR('Level 2'!E10/H143*U$141,\"*\")","v":189.80863449534567},{"$f":"IFERROR('Level 2'!F10/I143*V$141,\"*\")","v":200.89506274972308},{"$f":"IFERROR('Level 2'!G10/J143*W$141,\"*\")","v":198.68414290157665},{"$f":"IFERROR('Level 2'!H10/K143*X$141,\"*\")","v":196.07038076152304},{"$f":"IFERROR('Level 2'!I10/L143*Y$141,\"*\")","v":198.75487172240275},{"$f":"IFERROR('Level 2'!J10/M143*Z$141,\"*\")","v":199.14070687875753},{"$f":"IFERROR('Level 2'!K10/N143*AA$141,\"*\")","v":229.01026966666666},{"$f":"IFERROR('Level 2'!L10/O143*AB$141,\"*\")","v":"*"},null,{"$f":"'Oversættelse af landenavne'!$B$10","v":"Danmark"},{"$f":"IFERROR('Level 2'!O10/E143*R$141,\"*\")","v":181.67908954272184},{"$f":"IFERROR('Level 2'!P10/F143*S$141,\"*\")","v":196.01942257321662},{"$f":"IFERROR('Level 2'!Q10/G143*T$141,\"*\")","v":189.20271825409782},{"$f":"IFERROR('Level 2'!R10/H143*U$141,\"*\")","v":189.80863449534567},{"$f":"IFERROR('Level 2'!S10/I143*V$141,\"*\")","v":200.89506274972308},{"$f":"IFERROR('Level 2'!T10/J143*W$141,\"*\")","v":198.68414290157665},{"$f":"IFERROR('Level 2'!U10/K143*X$141,\"*\")","v":196.07038076152304},{"$f":"IFERROR('Level 2'!V10/L143*Y$141,\"*\")","v":198.75487172240275},{"$f":"IFERROR('Level 2'!W10/M143*Z$141,\"*\")","v":199.14070687875753},{"$f":"IFERROR('Level 2'!X10/N143*AA$141,\"*\")","v":198.99689123555555},{"$f":"IFERROR('Level 2'!Y10/O143*AB$141,\"*\")","v":"*"},null,{"$f":"'Oversættelse af landenavne'!$B$10","v":"Danmark"},{"$f":"IFERROR('Level 2'!AB10/E143*R$141,\"*\")","v":163.08669673437785},{"$f":"IFERROR('Level 2'!AC10/F143*S$141,\"*\")","v":177.36648920648315},{"$f":"IFERROR('Level 2'!AD10/G143*T$141,\"*\")","v":170.24599118432309},{"$f":"IFERROR('Level 2'!AE10/H143*U$141,\"*\")","v":170.57797067035241},{"$f":"IFERROR('Level 2'!AF10/I143*V$141,\"*\")","v":181.92228417497523},{"$f":"IFERROR('Level 2'!AG10/J143*W$141,\"*\")","v":180.0563261254562},{"$f":"IFERROR('Level 2'!AH10/K143*X$141,\"*\")","v":178.47817635270542},{"$f":"IFERROR('Level 2'!AI10/L143*Y$141,\"*\")","v":181.91440998730931},{"$f":"IFERROR('Level 2'!AJ10/M143*Z$141,\"*\")","v":182.55498677855712},{"$f":"IFERROR('Level 2'!AK10/N143*AA$141,\"*\")","v":183.95296457777778},{"$f":"IFERROR('Level 2'!AL10/O143*AB$141,\"*\")","v":"*"},null,{"$f":"'Oversættelse af landenavne'!$B$10","v":"Danmark"},{"$f":"IFERROR('Level 2'!AO10/E143*R$141,\"*\")","v":144.32451038440522},{"$f":"IFERROR('Level 2'!AP10/F143*S$141,\"*\")","v":158.30450028346169},{"$f":"IFERROR('Level 2'!AQ10/G143*T$141,\"*\")","v":151.04622915211533},{"$f":"IFERROR('Level 2'!AR10/H143*U$141,\"*\")","v":147.65977749335016},{"$f":"IFERROR('Level 2'!AS10/I143*V$141,\"*\")","v":159.12403700776298},{"$f":"IFERROR('Level 2'!AT10/J143*W$141,\"*\")","v":157.6576962367607},{"$f":"IFERROR('Level 2'!AU10/K143*X$141,\"*\")","v":135.02392785571141},{"$f":"IFERROR('Level 2'!AV10/L143*Y$141,\"*\")","v":137.6052839998635},{"$f":"IFERROR('Level 2'!AW10/M143*Z$141,\"*\")","v":133.73170711422844},{"$f":"IFERROR('Level 2'!AX10/N143*AA$141,\"*\")","v":144.85365024444445},{"$f":"IFERROR('Level 2'!AY10/O143*AB$141,\"*\")","v":"*"},null,{"$f":"'Oversættelse af landenavne'!$B$10","v":"Danmark"},{"$f":"IFERROR('Level 2'!BB10/E143*R$141,\"*\")","v":144.32451038440522},{"$f":"IFERROR('Level 2'!BC10/F143*S$141,\"*\")","v":158.30450028346169},{"$f":"IFERROR('Level 2'!BD10/G143*T$141,\"*\")","v":151.04622915211533},{"$f":"IFERROR('Level 2'!BE10/H143*U$141,\"*\")","v":147.65977749335016},{"$f":"IFERROR('Level 2'!BF10/I143*V$141,\"*\")","v":159.12403700776298},{"$f":"IFERROR('Level 2'!BG10/J143*W$141,\"*\")","v":157.6576962367607},{"$f":"IFERROR('Level 2'!BH10/K143*X$141,\"*\")","v":135.02392785571141},{"$f":"IFERROR('Level 2'!BI10/L143*Y$141,\"*\")","v":137.6052839998635},{"$f":"IFERROR('Level 2'!BJ10/M143*Z$141,\"*\")","v":133.73170711422844},{"$f":"IFERROR('Level 2'!BK10/N143*AA$141,\"*\")","v":131.82054546666666},{"$f":"IFERROR('Level 2'!BL10/O143*AB$141,\"*\")","v":"*"}]
[null,null,null,{"$f":"'Oversættelse af landenavne'!$B$11","v":"Tyskland"},{"$f":"IFERROR('Level 2'!B11/E144*R$141,\"*\")","v":230.24079066776272},{"$f":"IFERROR('Level 2'!C11/F144*S$141,\"*\")","v":235.12829095689807},{"$f":"IFERROR('Level 2'!D11/G144*T$141,\"*\")","v":243.15587171862416},{"$f":"IFERROR('Level 2'!E11/H144*U$141,\"*\")","v":248.32072144032441},{"$f":"IFERROR('Level 2'!F11/I144*V$141,\"*\")","v":251.54111083858729},{"$f":"IFERROR('Level 2'!G11/J144*W$141,\"*\")","v":255.13680566207231},{"$f":"IFERROR('Level 2'!H11/K144*X$141,\"*\")","v":269.80322939488423},{"$f":"IFERROR('Level 2'!I11/L144*Y$141,\"*\")","v":271.97078941804659},{"$f":"IFERROR('Level 2'!J11/M144*Z$141,\"*\")","v":273.5770324974975},{"$f":"IFERROR('Level 2'!K11/N144*AA$141,\"*\")","v":285.0898576533333},{"$f":"IFERROR('Level 2'!L11/O144*AB$141,\"*\")","v":"*"},null,{"$f":"'Oversættelse af landenavne'!$B$11","v":"Tyskland"},{"$f":"IFERROR('Level 2'!O11/E144*R$141,\"*\")","v":161.11018021373326},{"$f":"IFERROR('Level 2'!P11/F144*S$141,\"*\")","v":164.28159825222392},{"$f":"IFERROR('Level 2'!Q11/G144*T$141,\"*\")","v":172.22023465376341},{"$f":"IFERROR('Level 2'!R11/H144*U$141,\"*\")","v":178.69173512568358},{"$f":"IFERROR('Level 2'!S11/I144*V$141,\"*\")","v":182.1544989230068},{"$f":"IFERROR('Level 2'!T11/J144*W$141,\"*\")","v":185.32477272143936},{"$f":"IFERROR('Level 2'!U11/K144*X$141,\"*\")","v":200.83635615433795},{"$f":"IFERROR('Level 2'!V11/L144*Y$141,\"*\")","v":202.68957349241128},{"$f":"IFERROR('Level 2'!W11/M144*Z$141,\"*\")","v":201.29239030030024},{"$f":"IFERROR('Level 2'!X11/N144*AA$141,\"*\")","v":204.21013314666666},{"$f":"IFERROR('Level 2'!Y11/O144*AB$141,\"*\")","v":"*"},null,{"$f":"'Oversættelse af landenavne'!$B$11","v":"Tyskland"},{"$f":"IFERROR('Level 2'!AB11/E144*R$141,\"*\")","v":144.51549809026903},{"$f":"IFERROR('Level 2'!AC11/F144*S$141,\"*\")","v":147.73583372817862},{"$f":"IFERROR('Level 2'!AD11/G144*T$141,\"*\")","v":155.62946956728715},{"$f":"IFERROR('Level 2'!AE11/H144*U$141,\"*\")","v":161.77441105268355},{"$f":"IFERROR('Level 2'!AF11/I144*V$141,\"*\")","v":165.98901927582034},{"$f":"IFERROR('Level 2'!AG11/J144*W$141,\"*\")","v":169.27602951669616},{"$f":"IFERROR('Level 2'!AH11/K144*X$141,\"*\")","v":184.86587321933436},{"$f":"IFERROR('Level 2'!AI11/L144*Y$141,\"*\")","v":186.8912153595036},{"$f":"IFERROR('Level 2'!AJ11/M144*Z$141,\"*\")","v":184.94717951951947},{"$f":"IFERROR('Level 2'!AK11/N144*AA$141,\"*\")","v":185.81483668888887},{"$f":"IFERROR('Level 2'!AL11/O144*AB$141,\"*\")","v":"*"},null,{"$f":"'Oversættelse af landenavne'!$B$11","v":"Tyskland"},{"$f":"IFERROR('Level 2'!AO11/E144*R$141,\"*\")","v":135.71781485396011},{"$f":"IFERROR('Level 2'!AP11/F144*S$141,\"*\")","v":137.19196417854198},{"$f":"IFERROR('Level 2'!AQ11/G144*T$141,\"*\")","v":144.98710074352311},{"$f":"IFERROR('Level 2'!AR11/H144*U$141,\"*\")","v":152.33590400486321},{"$f":"IFERROR('Level 2'!AS11/I144*V$141,\"*\")","v":158.17960881824234},{"$f":"IFERROR('Level 2'!AT11/J144*W$141,\"*\")","v":160.79312239418906},{"$f":"IFERROR('Level 2'!AU11/K144*X$141,\"*\")","v":175.97664215173799},{"$f":"IFERROR('Level 2'!AV11/L144*Y$141,\"*\")","v":177.51677590002413},{"$f":"IFERROR('Level 2'!AW11/M144*Z$141,\"*\")","v":175.54308564564562},{"$f":"IFERROR('Level 2'!AX11/N144*AA$141,\"*\")","v":175.98415194222224},{"$f":"IFERROR('Level 2'!AY11/O144*AB$141,\"*\")","v":"*"},null,{"$f":"'Oversættelse af landenavne'!$B$11","v":"Tyskland"},{"$f":"IFERROR('Level 2'!BB11/E144*R$141,\"*\")","v":129.71370875903835},{"$f":"IFERROR('Level 2'!BC11/F144*S$141,\"*\")","v":132.08224278141034},{"$f":"IFERROR('Level 2'!BD11/G144*T$141,\"*\")","v":140.45498930526617},{"$f":"IFERROR('Level 2'!BE11/H144*U$141,\"*\")","v":147.49666945915871},{"$f":"IFERROR('Level 2'!BF11/I144*V$141,\"*\")","v":152.40064507963461},{"$f":"IFERROR('Level 2'!BG11/J144*W$141,\"*\")","v":154.64110416570418},{"$f":"IFERROR('Level 2'!BH11/K144*X$141,\"*\")","v":170.28904091780981},{"$f":"IFERROR('Level 2'!BI11/L144*Y$141,\"*\")","v":169.63627101576049},{"$f":"IFERROR('Level 2'!BJ11/M144*Z$141,\"*\")","v":167.9302477477477},{"$f":"IFERROR('Level 2'!BK11/N144*AA$141,\"*\")","v":167.71743976888891},{"$f":"IFERROR('Level 2'!BL11/O144*AB$141,\"*\")","v":"*"}]
[null,null,null,{"$f":"'Oversættelse af landenavne'!$B$16","v":"Frankrig"},{"$f":"IFERROR('Level 2'!B16/E145*R$141,\"*\")","v":171.72857761440164},{"$f":"IFERROR('Level 2'!C16/F145*S$141,\"*\")","v":165.74237182209924},{"$f":"IFERROR('Level 2'!D16/G145*T$141,\"*\")","v":162.41870647126333},{"$f":"IFERROR('Level 2'!E16/H145*U$141,\"*\")","v":164.49688433572138},{"$f":"IFERROR('Level 2'!F16/I145*V$141,\"*\")","v":169.76462298397038},{"$f":"IFERROR('Level 2'!G16/J145*W$141,\"*\")","v":170.21712932771396},{"$f":"IFERROR('Level 2'!H16/K145*X$141,\"*\")","v":189.90600273505646},{"$f":"IFERROR('Level 2'!I16/L145*Y$141,\"*\")","v":179.31094587070109},{"$f":"IFERROR('Level 2'!J16/M145*Z$141,\"*\")","v":187.31677039335398},{"$f":"IFERROR('Level 2'!K16/N145*AA$141,\"*\")","v":188.19803299111109},{"$f":"IFERROR('Level 2'!L16/O145*AB$141,\"*\")","v":"*"},null,{"$f":"'Oversættelse af landenavne'!$B$16","v":"Frankrig"},{"$f":"IFERROR('Level 2'!O16/E145*R$141,\"*\")","v":103.45396350459826},{"$f":"IFERROR('Level 2'!P16/F145*S$141,\"*\")","v":98.347738040042813},{"$f":"IFERROR('Level 2'!Q16/G145*T$141,\"*\")","v":97.959160269339748},{"$f":"IFERROR('Level 2'!R16/H145*U$141,\"*\")","v":102.95420513230647},{"$f":"IFERROR('Level 2'!S16/I145*V$141,\"*\")","v":106.43234125890015},{"$f":"IFERROR('Level 2'!T16/J145*W$141,\"*\")","v":107.6311739194381},{"$f":"IFERROR('Level 2'!U16/K145*X$141,\"*\")","v":115.49201393327299},{"$f":"IFERROR('Level 2'!V16/L145*Y$141,\"*\")","v":115.19664056874487},{"$f":"IFERROR('Level 2'!W16/M145*Z$141,\"*\")","v":118.77077294064658},{"$f":"IFERROR('Level 2'!X16/N145*AA$141,\"*\")","v":119.45771464888888},{"$f":"IFERROR('Level 2'!Y16/O145*AB$141,\"*\")","v":"*"},null,{"$f":"'Oversættelse af landenavne'!$B$16","v":"Frankrig"},{"$f":"IFERROR('Level 2'!AB16/E145*R$141,\"*\")","v":87.448193163838496},{"$f":"IFERROR('Level 2'!AC16/F145*S$141,\"*\")","v":83.577417103376575},{"$f":"IFERROR('Level 2'!AD16/G145*T$141,\"*\")","v":83.285442434755538},{"$f":"IFERROR('Level 2'!AE16/H145*U$141,\"*\")","v":89.163572574168413},{"$f":"IFERROR('Level 2'!AF16/I145*V$141,\"*\")","v":93.099229316780097},{"$f":"IFERROR('Level 2'!AG16/J145*W$141,\"*\")","v":93.87893311241379},{"$f":"IFERROR('Level 2'!AH16/K145*X$141,\"*\")","v":100.04547383350885},{"$f":"IFERROR('Level 2'!AI16/L145*Y$141,\"*\")","v":101.94062520345982},{"$f":"IFERROR('Level 2'!AJ16/M145*Z$141,\"*\")","v":104.92724269842857},{"$f":"IFERROR('Level 2'!AK16/N145*AA$141,\"*\")","v":107.02040894666666},{"$f":"IFERROR('Level 2'!AL16/O145*AB$141,\"*\")","v":"*"},null,{"$f":"'Oversættelse af landenavne'!$B$16","v":"Frankrig"},{"$f":"IFERROR('Level 2'!AO16/E145*R$141,\"*\")","v":76.527589441757627},{"$f":"IFERROR('Level 2'!AP16/F145*S$141,\"*\")","v":72.681278707475215},{"$f":"IFERROR('Level 2'!AQ16/G145*T$141,\"*\")","v":75.343897342961327},{"$f":"IFERROR('Level 2'!AR16/H145*U$141,\"*\")","v":79.771676263022684},{"$f":"IFERROR('Level 2'!AS16/I145*V$141,\"*\")","v":84.649757213924957},{"$f":"IFERROR('Level 2'!AT16/J145*W$141,\"*\")","v":85.354816909712781},{"$f":"IFERROR('Level 2'!AU16/K145*X$141,\"*\")","v":91.025596402989649},{"$f":"IFERROR('Level 2'!AV16/L145*Y$141,\"*\")","v":92.904130222054221},{"$f":"IFERROR('Level 2'!AW16/M145*Z$141,\"*\")","v":96.419628425583014},{"$f":"IFERROR('Level 2'!AX16/N145*AA$141,\"*\")","v":98.828171657777787},{"$f":"IFERROR('Level 2'!AY16/O145*AB$141,\"*\")","v":"*"},null,{"$f":"'Oversættelse af landenavne'!$B$16","v":"Frankrig"},{"$f":"IFERROR('Level 2'!BB16/E145*R$141,\"*\")","v":70.358698789589809},{"$f":"IFERROR('Level 2'!BC16/F145*S$141,\"*\")","v":69.977422142566368},{"$f":"IFERROR('Level 2'!BD16/G145*T$141,\"*\")","v":72.11890441228347},{"$f":"IFERROR('Level 2'!BE16/H145*U$141,\"*\")","v":77.037326704081508},{"$f":"IFERROR('Level 2'!BF16/I145*V$141,\"*\")","v":82.362973479665996},{"$f":"IFERROR('Level 2'!BG16/J145*W$141,\"*\")","v":83.157489177460974},{"$f":"IFERROR('Level 2'!BH16/K145*X$141,\"*\")","v":82.644626957132203},{"$f":"IFERROR('Level 2'!BI16/L145*Y$141,\"*\")","v":86.444156536999799},{"$f":"IFERROR('Level 2'!BJ16/M145*Z$141,\"*\")","v":94.143468466619936},{"$f":"IFERROR('Level 2'!BK16/N145*AA$141,\"*\")","v":96.742874893333322},{"$f":"IFERROR('Level 2'!BL16/O145*AB$141,\"*\")","v":"*"}]
[null,null,null,{"$f":"'Oversættelse af landenavne'!$B$18","v":"Italien"},{"$f":"IFERROR('Level 2'!B18/E146*R$141,\"*\")","v":"*"},{"$f":"IFERROR('Level 2'!C18/F146*S$141,\"*\")","v":206.54347660713807},{"$f":"IFERROR('Level 2'!D18/G146*T$141,\"*\")","v":212.15649066190227},{"$f":"IFERROR('Level 2'!E18/H146*U$141,\"*\")","v":204.76605569932778},{"$f":"IFERROR('Level 2'!F18/I146*V$141,\"*\")","v":185.04103075268341},{"$f":"IFERROR('Level 2'!G18/J146*W$141,\"*\")","v":179.69210188847384},{"$f":"IFERROR('Level 2'!H18/K146*X$141,\"*\")","v":188.69536176095852},{"$f":"IFERROR('Level 2'!I18/L146*Y$141,\"*\")","v":198.35716322428533},{"$f":"IFERROR('Level 2'!J18/M146*Z$141,\"*\")","v":199.35186299299295},{"$f":"IFERROR('Level 2'!K18/N146*AA$141,\"*\")","v":213.37054393333332},{"$f":"IFERROR('Level 2'!L18/O146*AB$141,\"*\")","v":"*"},null,{"$f":"'Oversættelse af landenavne'!$B$18","v":"Italien"},{"$f":"IFERROR('Level 2'!O18/E146*R$141,\"*\")","v":"*"},{"$f":"IFERROR('Level 2'!P18/F146*S$141,\"*\")","v":125.8637193775634},{"$f":"IFERROR('Level 2'!Q18/G146*T$141,\"*\")","v":125.87842687363541},{"$f":"IFERROR('Level 2'!R18/H146*U$141,\"*\")","v":118.90680726082452},{"$f":"IFERROR('Level 2'!S18/I146*V$141,\"*\")","v":119.85212036275519},{"$f":"IFERROR('Level 2'!T18/J146*W$141,\"*\")","v":132.97064092547831},{"$f":"IFERROR('Level 2'!U18/K146*X$141,\"*\")","v":134.85728036963741},{"$f":"IFERROR('Level 2'!V18/L146*Y$141,\"*\")","v":142.93219048377705},{"$f":"IFERROR('Level 2'!W18/M146*Z$141,\"*\")","v":142.92729974974972},{"$f":"IFERROR('Level 2'!X18/N146*AA$141,\"*\")","v":146.04524839555555},{"$f":"IFERROR('Level 2'!Y18/O146*AB$141,\"*\")","v":"*"},null,{"$f":"'Oversættelse af landenavne'!$B$18","v":"Italien"},{"$f":"IFERROR('Level 2'!AB18/E146*R$141,\"*\")","v":"*"},{"$f":"IFERROR('Level 2'!AC18/F146*S$141,\"*\")","v":159.66923850288339},{"$f":"IFERROR('Level 2'!AD18/G146*T$141,\"*\")","v":152.38776083987389},{"$f":"IFERROR('Level 2'!AE18/H146*U$141,\"*\")","v":142.53520802660108},{"$f":"IFERROR('Level 2'!AF18/I146*V$141,\"*\")","v":144.503388997602},{"$f":"IFERROR('Level 2'!AG18/J146*W$141,\"*\")","v":152.31802062733462},{"$f":"IFERROR('Level 2'!AH18/K146*X$141,\"*\")","v":157.02149746536904},{"$f":"IFERROR('Level 2'!AI18/L146*Y$141,\"*\")","v":162.42803669034396},{"$f":"IFERROR('Level 2'!AJ18/M146*Z$141,\"*\")","v":165.46727078078075},{"$f":"IFERROR('Level 2'!AK18/N146*AA$141,\"*\")","v":163.39789647111112},{"$f":"IFERROR('Level 2'!AL18/O146*AB$141,\"*\")","v":"*"},null,{"$f":"'Oversættelse af landenavne'!$B$18","v":"Italien"},{"$f":"IFERROR('Level 2'!AO18/E146*R$141,\"*\")","v":"*"},{"$f":"IFERROR('Level 2'!AP18/F146*S$141,\"*\")","v":176.73690303688639},{"$f":"IFERROR('Level 2'!AQ18/G146*T$141,\"*\")","v":194.40178241908208},{"$f":"IFERROR('Level 2'!AR18/H146*U$141,\"*\")","v":180.05082900394996},{"$f":"IFERROR('Level 2'!AS18/I146*V$141,\"*\")","v":177.01958619689995},{"$f":"IFERROR('Level 2'!AT18/J146*W$141,\"*\")","v":188.02169784622015},{"$f":"IFERROR('Level 2'!AU18/K146*X$141,\"*\")","v":195.8088773828994},{"$f":"IFERROR('Level 2'!AV18/L146*Y$141,\"*\")","v":201.64381928976022},{"$f":"IFERROR('Level 2'!AW18/M146*Z$141,\"*\")","v":206.51688689689684},{"$f":"IFERROR('Level 2'!AX18/N146*AA$141,\"*\")","v":191.62387767555555},{"$f":"IFERROR('Level 2'!AY18/O146*AB$141,\"*\")","v":"*"},null,{"$f":"'Oversættelse af landenavne'!$B$18","v":"Italien"},{"$f":"IFERROR('Level 2'!BB18/E146*R$141,\"*\")","v":"*"},{"$f":"IFERROR('Level 2'!BC18/F146*S$141,\"*\")","v":168.98636938376427},{"$f":"IFERROR('Level 2'!BD18/G146*T$141,\"*\")","v":224.87933458705686},{"$f":"IFERROR('Level 2'!BE18/H146*U$141,\"*\")","v":204.88681413595012},{"$f":"IFERROR('Level 2'!BF18/I146*V$141,\"*\")","v":197.4840520636061},{"$f":"IFERROR('Level 2'!BG18/J146*W$141,\"*\")","v":210.36015973290358},{"$f":"IFERROR('Level 2'!BH18/K146*X$141,\"*\")","v":209.69895262363667},{"$f":"IFERROR('Level 2'!BI18/L146*Y$141,\"*\")","v":224.31427646866084},{"$f":"IFERROR('Level 2'!BJ18/M146*Z$141,\"*\")","v":226.81778795795793},{"$f":"IFERROR('Level 2'!BK18/N146*AA$141,\"*\")","v":194.15602374666665},{"$f":"IFERROR('Level 2'!BL18/O146*AB$141,\"*\")","v":"*"}]
[null,null,null,{"$f":"'Oversættelse af landenavne'!$B$25","v":"Holland"},{"$f":"IFERROR('Level 2'!B25/E147*R$141,\"*\")","v":"*"},{"$f":"IFERROR('Level 2'!C25/F147*S$141,\"*\")","v":"*"},{"$f":"IFERROR('Level 2'!D25/G147*T$141,\"*\")","v":"*"},{"$f":"IFERROR('Level 2'!E25/H147*U$141,\"*\")","v":"*"},{"$f":"IFERROR('Level 2'!F25/I147*V$141,\"*\")","v":"*"},{"$f":"IFERROR('Level 2'!G25/J147*W$141,\"*\")","v":"*"},{"$f":"IFERROR('Level 2'!H25/K147*X$141,\"*\")","v":"*"},{"$f":"IFERROR('Level 2'!I25/L147*Y$141,\"*\")","v":"*"},{"$f":"IFERROR('Level 2'!J25/M147*Z$141,\"*\")","v":"*"},{"$f":"IFERROR('Level 2'!K25/N147*AA$141,\"*\")","v":"*"},{"$f":"IFERROR('Level 2'!L25/O147*AB$141,\"*\")","v":"*"},null,{"$f":"'Oversættelse af landenavne'!$B$25","v":"Holland"},{"$f":"IFERROR('Level 2'!O25/E147*R$141,\"*\")","v":97.200977110782802},{"$f":"IFERROR('Level 2'!P25/F147*S$141,\"*\")","v":94.926342651277153},{"$f":"IFERROR('Level 2'!Q25/G147*T$141,\"*\")","v":96.71042392972609},{"$f":"IFERROR('Level 2'!R25/H147*U$141,\"*\")","v":83.548734939788545},{"$f":"IFERROR('Level 2'!S25/I147*V$141,\"*\")","v":84.976402964248678},{"$f":"IFERROR('Level 2'!T25/J147*W$141,\"*\")","v":86.176671551551166},{"$f":"IFERROR('Level 2'!U25/K147*X$141,\"*\")","v":86.480364994496881},{"$f":"IFERROR('Level 2'!V25/L147*Y$141,\"*\")","v":75.797266879948836},{"$f":"IFERROR('Level 2'!W25/M147*Z$141,\"*\")","v":89.848320047098895},{"$f":"IFERROR('Level 2'!X25/N147*AA$141,\"*\")","v":70.229816031111113},{"$f":"IFERROR('Level 2'!Y25/O147*AB$141,\"*\")","v":"*"},null,{"$f":"'Oversættelse af landenavne'!$B$25","v":"Holland"},{"$f":"IFERROR('Level 2'!AB25/E147*R$141,\"*\")","v":124.34452965759559},{"$f":"IFERROR('Level 2'!AC25/F147*S$141,\"*\")","v":123.84211282355479},{"$f":"IFERROR('Level 2'!AD25/G147*T$141,\"*\")","v":133.57002289786621},{"$f":"IFERROR('Level 2'!AE25/H147*U$141,\"*\")","v":121.12742358082876},{"$f":"IFERROR('Level 2'!AF25/I147*V$141,\"*\")","v":119.84562094818118},{"$f":"IFERROR('Level 2'!AG25/J147*W$141,\"*\")","v":119.47832151301627},{"$f":"IFERROR('Level 2'!AH25/K147*X$141,\"*\")","v":118.07462518579655},{"$f":"IFERROR('Level 2'!AI25/L147*Y$141,\"*\")","v":112.62912397124248},{"$f":"IFERROR('Level 2'!AJ25/M147*Z$141,\"*\")","v":118.31585429902792},{"$f":"IFERROR('Level 2'!AK25/N147*AA$141,\"*\")","v":99.721870271111101},{"$f":"IFERROR('Level 2'!AL25/O147*AB$141,\"*\")","v":"*"},null,{"$f":"'Oversættelse af landenavne'!$B$25","v":"Holland"},{"$f":"IFERROR('Level 2'!AO25/E147*R$141,\"*\")","v":136.94387336312548},{"$f":"IFERROR('Level 2'!AP25/F147*S$141,\"*\")","v":134.87141373212356},{"$f":"IFERROR('Level 2'!AQ25/G147*T$141,\"*\")","v":146.12928691919694},{"$f":"IFERROR('Level 2'!AR25/H147*U$141,\"*\")","v":133.93741884573575},{"$f":"IFERROR('Level 2'!AS25/I147*V$141,\"*\")","v":130.53198741317752},{"$f":"IFERROR('Level 2'!AT25/J147*W$141,\"*\")","v":129.24578004674854},{"$f":"IFERROR('Level 2'!AU25/K147*X$141,\"*\")","v":126.71514818698434},{"$f":"IFERROR('Level 2'!AV25/L147*Y$141,\"*\")","v":124.04550243958046},{"$f":"IFERROR('Level 2'!AW25/M147*Z$141,\"*\")","v":125.97444291011122},{"$f":"IFERROR('Level 2'!AX25/N147*AA$141,\"*\")","v":108.21200709777779},{"$f":"IFERROR('Level 2'!AY25/O147*AB$141,\"*\")","v":"*"},null,{"$f":"'Oversættelse af landenavne'!$B$25","v":"Holland"},{"$f":"IFERROR('Level 2'!BB25/E147*R$141,\"*\")","v":125.99343705529914},{"$f":"IFERROR('Level 2'!BC25/F147*S$141,\"*\")","v":"*"},{"$f":"IFERROR('Level 2'!BD25/G147*T$141,\"*\")","v":159.17946679803902},{"$f":"IFERROR('Level 2'!BE25/H147*U$141,\"*\")","v":145.32858552117511},{"$f":"IFERROR('Level 2'!BF25/I147*V$141,\"*\")","v":145.80953354461673},{"$f":"IFERROR('Level 2'!BG25/J147*W$141,\"*\")","v":149.01142448115161},{"$f":"IFERROR('Level 2'!BH25/K147*X$141,\"*\")","v":147.15186345935896},{"$f":"IFERROR('Level 2'!BI25/L147*Y$141,\"*\")","v":146.42909038733819},{"$f":"IFERROR('Level 2'!BJ25/M147*Z$141,\"*\")","v":142.30031229081067},{"$f":"IFERROR('Level 2'!BK25/N147*AA$141,\"*\")","v":149.69451773333336},{"$f":"IFERROR('Level 2'!BL25/O147*AB$141,\"*\")","v":"*"}]
[null,null,null,{"$f":"'Oversættelse af landenavne'!$B$33","v":"Sverige"},{"$f":"IFERROR('Level 2'!B33/E148*R$141,\"*\")","v":188.00592710541369},{"$f":"IFERROR('Level 2'!C33/F148*S$141,\"*\")","v":188.66004952365574},{"$f":"IFERROR('Level 2'!D33/G148*T$141,\"*\")","v":167.59843330024745},{"$f":"IFERROR('Level 2'!E33/H148*U$141,\"*\")","v":210.57642473776033},{"$f":"IFERROR('Level 2'!F33/I148*V$141,\"*\")","v":215.68871089957068},{"$f":"IFERROR('Level 2'!G33/J148*W$141,\"*\")","v":216.84801265456613},{"$f":"IFERROR('Level 2'!H33/K148*X$141,\"*\")","v":219.17787727005282},{"$f":"IFERROR('Level 2'!I33/L148*Y$141,\"*\")","v":215.12587625462828},{"$f":"IFERROR('Level 2'!J33/M148*Z$141,\"*\")","v":205.81247052366564},{"$f":"IFERROR('Level 2'!K33/N148*AA$141,\"*\")","v":216.94533838666666},{"$f":"IFERROR('Level 2'!L33/O148*AB$141,\"*\")","v":"*"},null,{"$f":"'Oversættelse af landenavne'!$B$33","v":"Sverige"},{"$f":"IFERROR('Level 2'!O33/E148*R$141,\"*\")","v":110.34585316991823},{"$f":"IFERROR('Level 2'!P33/F148*S$141,\"*\")","v":123.71349426053472},{"$f":"IFERROR('Level 2'!Q33/G148*T$141,\"*\")","v":114.50578539898704},{"$f":"IFERROR('Level 2'!R33/H148*U$141,\"*\")","v":127.66803368680834},{"$f":"IFERROR('Level 2'!S33/I148*V$141,\"*\")","v":138.27872337565},{"$f":"IFERROR('Level 2'!T33/J148*W$141,\"*\")","v":136.08086568476804},{"$f":"IFERROR('Level 2'!U33/K148*X$141,\"*\")","v":137.81983741894572},{"$f":"IFERROR('Level 2'!V33/L148*Y$141,\"*\")","v":131.43431237697112},{"$f":"IFERROR('Level 2'!W33/M148*Z$141,\"*\")","v":124.75644647029203},{"$f":"IFERROR('Level 2'!X33/N148*AA$141,\"*\")","v":127.50100216888889},{"$f":"IFERROR('Level 2'!Y33/O148*AB$141,\"*\")","v":"*"},null,{"$f":"'Oversættelse af landenavne'!$B$33","v":"Sverige"},{"$f":"IFERROR('Level 2'!AB33/E148*R$141,\"*\")","v":105.99889531776991},{"$f":"IFERROR('Level 2'!AC33/F148*S$141,\"*\")","v":111.43504102671085},{"$f":"IFERROR('Level 2'!AD33/G148*T$141,\"*\")","v":103.33255651230385},{"$f":"IFERROR('Level 2'!AE33/H148*U$141,\"*\")","v":117.8683551948572},{"$f":"IFERROR('Level 2'!AF33/I148*V$141,\"*\")","v":127.18725763722013},{"$f":"IFERROR('Level 2'!AG33/J148*W$141,\"*\")","v":124.8737592143586},{"$f":"IFERROR('Level 2'!AH33/K148*X$141,\"*\")","v":125.73170760408631},{"$f":"IFERROR('Level 2'!AI33/L148*Y$141,\"*\")","v":115.93587462184941},{"$f":"IFERROR('Level 2'!AJ33/M148*Z$141,\"*\")","v":111.8790883182276},{"$f":"IFERROR('Level 2'!AK33/N148*AA$141,\"*\")","v":112.82944993333334},{"$f":"IFERROR('Level 2'!AL33/O148*AB$141,\"*\")","v":"*"},null,{"$f":"'Oversættelse af landenavne'!$B$33","v":"Sverige"},{"$f":"IFERROR('Level 2'!AO33/E148*R$141,\"*\")","v":95.507679732296623},{"$f":"IFERROR('Level 2'!AP33/F148*S$141,\"*\")","v":96.773598513954028},{"$f":"IFERROR('Level 2'!AQ33/G148*T$141,\"*\")","v":88.434917996726313},{"$f":"IFERROR('Level 2'!AR33/H148*U$141,\"*\")","v":102.77996132629742},{"$f":"IFERROR('Level 2'!AS33/I148*V$141,\"*\")","v":109.49464273958631},{"$f":"IFERROR('Level 2'!AT33/J148*W$141,\"*\")","v":105.91665369322536},{"$f":"IFERROR('Level 2'!AU33/K148*X$141,\"*\")","v":106.67111419695688},{"$f":"IFERROR('Level 2'!AV33/L148*Y$141,\"*\")","v":97.829163195743831},{"$f":"IFERROR('Level 2'!AW33/M148*Z$141,\"*\")","v":92.356562839879132},{"$f":"IFERROR('Level 2'!AX33/N148*AA$141,\"*\")","v":91.231733444444444},{"$f":"IFERROR('Level 2'!AY33/O148*AB$141,\"*\")","v":"*"},null,{"$f":"'Oversættelse af landenavne'!$B$33","v":"Sverige"},{"$f":"IFERROR('Level 2'!BB33/E148*R$141,\"*\")","v":85.350845520065519},{"$f":"IFERROR('Level 2'!BC33/F148*S$141,\"*\")","v":88.251382618109147},{"$f":"IFERROR('Level 2'!BD33/G148*T$141,\"*\")","v":82.055875972768902},{"$f":"IFERROR('Level 2'!BE33/H148*U$141,\"*\")","v":93.408046578042544},{"$f":"IFERROR('Level 2'!BF33/I148*V$141,\"*\")","v":98.249661904430766},{"$f":"IFERROR('Level 2'!BG33/J148*W$141,\"*\")","v":94.861507988516408},{"$f":"IFERROR('Level 2'!BH33/K148*X$141,\"*\")","v":94.961922620807798},{"$f":"IFERROR('Level 2'!BI33/L148*Y$141,\"*\")","v":85.241407653169375},{"$f":"IFERROR('Level 2'!BJ33/M148*Z$141,\"*\")","v":80.417787643504511},{"$f":"IFERROR('Level 2'!BK33/N148*AA$141,\"*\")","v":79.613651471111112},{"$f":"IFERROR('Level 2'!BL33/O148*AB$141,\"*\")","v":"*"}]
[null,null,null,{"$f":"'Oversættelse af landenavne'!$B$34","v":"UK"},{"$f":"IFERROR('Level 2'!B34/E149*R$141,\"*\")","v":146.74961051344744},{"$f":"IFERROR('Level 2'!C34/F149*S$141,\"*\")","v":137.40838622195986},{"$f":"IFERROR('Level 2'!D34/G149*T$141,\"*\")","v":135.72641112586604},{"$f":"IFERROR('Level 2'!E34/H149*U$141,\"*\")","v":120.70730798657718},{"$f":"IFERROR('Level 2'!F34/I149*V$141,\"*\")","v":124.00264807815847},{"$f":"IFERROR('Level 2'!G34/J149*W$141,\"*\")","v":141.67139},{"$f":"IFERROR('Level 2'!H34/K149*X$141,\"*\")","v":153.7404309746193},{"$f":"IFERROR('Level 2'!I34/L149*Y$141,\"*\")","v":174.14274976000002},{"$f":"IFERROR('Level 2'!J34/M149*Z$141,\"*\")","v":185.80608675999997},{"$f":"IFERROR('Level 2'!K34/N149*AA$141,\"*\")","v":175.90967705777777},{"$f":"IFERROR('Level 2'!L34/O149*AB$141,\"*\")","v":"*"},null,{"$f":"'Oversættelse af landenavne'!$B$34","v":"UK"},{"$f":"IFERROR('Level 2'!O34/E149*R$141,\"*\")","v":141.46297858190709},{"$f":"IFERROR('Level 2'!P34/F149*S$141,\"*\")","v":133.4962472668241},{"$f":"IFERROR('Level 2'!Q34/G149*T$141,\"*\")","v":126.09615579099308},{"$f":"IFERROR('Level 2'!R34/H149*U$141,\"*\")","v":121.16547927293064},{"$f":"IFERROR('Level 2'!S34/I149*V$141,\"*\")","v":123.84310784261241},{"$f":"IFERROR('Level 2'!T34/J149*W$141,\"*\")","v":139.8511179032258},{"$f":"IFERROR('Level 2'!U34/K149*X$141,\"*\")","v":138.90018252791879},{"$f":"IFERROR('Level 2'!V34/L149*Y$141,\"*\")","v":154.68587575000001},{"$f":"IFERROR('Level 2'!W34/M149*Z$141,\"*\")","v":169.55178221999998},{"$f":"IFERROR('Level 2'!X34/N149*AA$141,\"*\")","v":157.43990571555557},{"$f":"IFERROR('Level 2'!Y34/O149*AB$141,\"*\")","v":"*"},null,{"$f":"'Oversættelse af landenavne'!$B$34","v":"UK"},{"$f":"IFERROR('Level 2'!AB34/E149*R$141,\"*\")","v":128.61099405867972},{"$f":"IFERROR('Level 2'!AC34/F149*S$141,\"*\")","v":128.52914949232587},{"$f":"IFERROR('Level 2'!AD34/G149*T$141,\"*\")","v":117.79865900692842},{"$f":"IFERROR('Level 2'!AE34/H149*U$141,\"*\")","v":112.50187676733779},{"$f":"IFERROR('Level 2'!AF34/I149*V$141,\"*\")","v":114.6296592398287},{"$f":"IFERROR('Level 2'!AG34/J149*W$141,\"*\")","v":127.96125548387099},{"$f":"IFERROR('Level 2'!AH34/K149*X$141,\"*\")","v":127.58070730964467},{"$f":"IFERROR('Level 2'!AI34/L149*Y$141,\"*\")","v":139.51547781500003},{"$f":"IFERROR('Level 2'!AJ34/M149*Z$141,\"*\")","v":152.96195304499997},{"$f":"IFERROR('Level 2'!AK34/N149*AA$141,\"*\")","v":138.44881018222222},{"$f":"IFERROR('Level 2'!AL34/O149*AB$141,\"*\")","v":"*"},null,{"$f":"'Oversættelse af landenavne'!$B$34","v":"UK"},{"$f":"IFERROR('Level 2'!AO34/E149*R$141,\"*\")","v":116.39705132029341},{"$f":"IFERROR('Level 2'!AP34/F149*S$141,\"*\")","v":115.34216425029514},{"$f":"IFERROR('Level 2'!AQ34/G149*T$141,\"*\")","v":105.07296445727484},{"$f":"IFERROR('Level 2'!AR34/H149*U$141,\"*\")","v":101.00594267337806},{"$f":"IFERROR('Level 2'!AS34/I149*V$141,\"*\")","v":101.82655533725908},{"$f":"IFERROR('Level 2'!AT34/J149*W$141,\"*\")","v":114.48349612903225},{"$f":"IFERROR('Level 2'!AU34/K149*X$141,\"*\")","v":116.26123209137056},{"$f":"IFERROR('Level 2'!AV34/L149*Y$141,\"*\")","v":125.83602808000001},{"$f":"IFERROR('Level 2'!AW34/M149*Z$141,\"*\")","v":139.50368712999997},{"$f":"IFERROR('Level 2'!AX34/N149*AA$141,\"*\")","v":127.50100216888889},{"$f":"IFERROR('Level 2'!AY34/O149*AB$141,\"*\")","v":"*"},null,{"$f":"'Oversættelse af landenavne'!$B$34","v":"UK"},{"$f":"IFERROR('Level 2'!BB34/E149*R$141,\"*\")","v":97.711541907090464},{"$f":"IFERROR('Level 2'!BC34/F149*S$141,\"*\")","v":113.27620322904367},{"$f":"IFERROR('Level 2'!BD34/G149*T$141,\"*\")","v":102.14949408775982},{"$f":"IFERROR('Level 2'!BE34/H149*U$141,\"*\")","v":92.467295973154364},{"$f":"IFERROR('Level 2'!BF34/I149*V$141,\"*\")","v":93.96919873661669},{"$f":"IFERROR('Level 2'!BG34/J149*W$141,\"*\")","v":105.49832322580643},{"$f":"IFERROR('Level 2'!BH34/K149*X$141,\"*\")","v":106.68321459898479},{"$f":"IFERROR('Level 2'!BI34/L149*Y$141,\"*\")","v":115.92122255},{"$f":"IFERROR('Level 2'!BJ34/M149*Z$141,\"*\")","v":127.87216644999998},{"$f":"IFERROR('Level 2'!BK34/N149*AA$141,\"*\")","v":115.36159600444445},{"$f":"IFERROR('Level 2'!BL34/O149*AB$141,\"*\")","v":"*"}]
[null,null,null,"Kilde: Eurostat",null,null,null,null,null,null,null,null,null,null,null,null,"Kilde: Eurostat",null,null,null,null,null,null,null,null,null,null,null,null,"Kilde: Eurostat",null,null,null,null,null,null,null,null,null,null,null,null,"Kilde: Eurostat",null,null,null,null,null,null,null,null,null,null,null,null,"Kilde: Eurostat"]
[]
[]
[]
[]
[null,"Level 3: Elpris inkl. PSO afgifter og moms",null,{"$f":"\"Figur XX:\n\"&$B$97&\" for forbrugsinterval \"&D26&\". \nPriserne er vist i \"&$E$15&\" / kWh i \"&$E$13&\" med basisår \"&$E$14&\". \"","v":"Figur XX:\nLevel 3: Elpris inkl. PSO afgifter og moms for forbrugsinterval IA: < 1000 kWh. \nPriserne er vist i DKK øre / kWh i faste priser med basisår 2016. "},null,null,null,null,null,null,null,null,null,null,null,null,{"$f":"\"Figur XX:\n\"&$B$97&\" for forbrugsinterval \"&Q26&\". \nPriserne er vist i \"&$E$15&\" / kWh i \"&$E$13&\" med basisår \"&$E$14&\". \"","v":"Figur XX:\nLevel 3: Elpris inkl. PSO afgifter og moms for forbrugsinterval IB: 1000 < 2500 kWh. \nPriserne er vist i DKK øre / kWh i faste priser med basisår 2016. "},null,null,null,null,null,null,null,null,null,null,null,null,{"$f":"\"Figur XX:\n\"&$B$97&\" for forbrugsinterval \"&AD26&\". \nPriserne er vist i \"&$E$15&\" / kWh i \"&$E$13&\" med basisår \"&$E$14&\". \"","v":"Figur XX:\nLevel 3: Elpris inkl. PSO afgifter og moms for forbrugsinterval IC: 2500 < 5 000 kWh. \nPriserne er vist i DKK øre / kWh i faste priser med basisår 2016. "},null,null,null,null,null,null,null,null,null,null,null,null,{"$f":"\"Figur XX:\n\"&$B$97&\" for forbrugsinterval \"&AQ26&\". \nPriserne er vist i \"&$E$15&\" / kWh i \"&$E$13&\" med basisår \"&$E$14&\". \"","v":"Figur XX:\nLevel 3: Elpris inkl. PSO afgifter og moms for forbrugsinterval ID: 5 000 < 15 000 kWh. \nPriserne er vist i DKK øre / kWh i faste priser med basisår 2016. "},null,null,null,null,null,null,null,null,null,null,null,null,{"$f":"\"Figur XX:\n\"&$B$97&\" for forbrugsinterval \"&BD26&\". \nPriserne er vist i \"&$E$15&\" / kWh i \"&$E$13&\" med basisår \"&$E$14&\". \"","v":"Figur XX:\nLevel 3: Elpris inkl. PSO afgifter og moms for forbrugsinterval IE: > 15 000 kWh. \nPriserne er vist i DKK øre / kWh i faste priser med basisår 2016. "},null,null,null,null,null,null,null,null,null,null,null,null,{"$f":"B97","v":"Level 3: Elpris inkl. PSO afgifter og moms"}]
[]
[]
[]
[]
[]
[]
[]
[]
[]
[]
[]
[]
[]
[]
[]
[]
[]
[]
[]
[null,null,null,{"$f":"$E$15&\"/kWh\"","v":"DKK øre/kWh"},{"$f":"'Level 1'!B$5","v":2007},{"$f":"'Level 1'!C$5","v":2008},{"$f":"'Level 1'!D$5","v":2009},{"$f":"'Level 1'!E$5","v":2010},{"$f":"'Level 1'!F$5","v":2011},{"$f":"'Level 1'!G$5","v":2012},{"$f":"'Level 1'!H$5","v":2013},{"$f":"'Level 1'!I$5","v":2014},{"$f":"'Level 1'!J$5","v":2015},{"$f":"'Level 1'!K$5","v":2016},{"$f":"'Level 1'!L$5","v":2017},null,{"$f":"$E$15&\"/kWh\"","v":"DKK øre/kWh"},{"$f":"'Level 1'!O$5","v":2007},{"$f":"'Level 1'!P$5","v":2008},{"$f":"'Level 1'!Q$5","v":2009},{"$f":"'Level 1'!R$5","v":2010},{"$f":"'Level 1'!S$5","v":2011},{"$f":"'Level 1'!T$5","v":2012},{"$f":"'Level 1'!U$5","v":2013},{"$f":"'Level 1'!V$5","v":2014},{"$f":"'Level 1'!W$5","v":2015},{"$f":"'Level 1'!X$5","v":2016},{"$f":"'Level 1'!Y$5","v":2017},null,{"$f":"$E$15&\"/kWh\"","v":"DKK øre/kWh"},{"$f":"'Level 1'!AB$5","v":2007},{"$f":"'Level 1'!AC$5","v":2008},{"$f":"'Level 1'!AD$5","v":2009},{"$f":"'Level 1'!AE$5","v":2010},{"$f":"'Level 1'!AF$5","v":2011},{"$f":"'Level 1'!AG$5","v":2012},{"$f":"'Level 1'!AH$5","v":2013},{"$f":"'Level 1'!AI$5","v":2014},{"$f":"'Level 1'!AJ$5","v":2015},{"$f":"'Level 1'!AK$5","v":2016},{"$f":"'Level 1'!AL$5","v":2017},null,{"$f":"$E$15&\"/kWh\"","v":"DKK øre/kWh"},{"$f":"'Level 1'!AO$5","v":2007},{"$f":"'Level 1'!AP$5","v":2008},{"$f":"'Level 1'!AQ$5","v":2009},{"$f":"'Level 1'!AR$5","v":2010},{"$f":"'Level 1'!AS$5","v":2011},{"$f":"'Level 1'!AT$5","v":2012},{"$f":"'Level 1'!AU$5","v":2013},{"$f":"'Level 1'!AV$5","v":2014},{"$f":"'Level 1'!AW$5","v":2015},{"$f":"'Level 1'!AX$5","v":2016},{"$f":"'Level 1'!AY$5","v":2017},null,{"$f":"$E$15&\"/kWh\"","v":"DKK øre/kWh"},{"$f":"'Level 1'!BB$5","v":2007},{"$f":"'Level 1'!BC$5","v":2008},{"$f":"'Level 1'!BD$5","v":2009},{"$f":"'Level 1'!BE$5","v":2010},{"$f":"'Level 1'!BF$5","v":2011},{"$f":"'Level 1'!BG$5","v":2012},{"$f":"'Level 1'!BH$5","v":2013},{"$f":"'Level 1'!BI$5","v":2014},{"$f":"'Level 1'!BJ$5","v":2015},{"$f":"'Level 1'!BK$5","v":2016},{"$f":"'Level 1'!BL$5","v":2017}]
[null,null,null,{"$f":"'Oversættelse af landenavne'!$B$6","v":"EU-28"},{"$f":"IFERROR('Level 3'!B$6/E141*R$141,\"*\")","v":207.35257507140224},{"$f":"IFERROR('Level 3'!C$6/F141*S$141,\"*\")","v":209.14064542109583},{"$f":"IFERROR('Level 3'!D$6/G141*T$141,\"*\")","v":207.35776506142108},{"$f":"IFERROR('Level 3'!E$6/H141*U$141,\"*\")","v":213.77167638026125},{"$f":"IFERROR('Level 3'!F$6/I141*V$141,\"*\")","v":214.96365061273048},{"$f":"IFERROR('Level 3'!G$6/J141*W$141,\"*\")","v":215.56539455759494},{"$f":"IFERROR('Level 3'!H$6/K141*X$141,\"*\")","v":227.38310672803232},{"$f":"IFERROR('Level 3'!I$6/L141*Y$141,\"*\")","v":234.29292240758926},{"$f":"IFERROR('Level 3'!J$6/M141*Z$141,\"*\")","v":242.29911758824113},{"$f":"IFERROR('Level 3'!K$6/N141*AA$141,\"*\")","v":246.43739262666668},{"$f":"IFERROR('Level 3'!L$6/O141*AB$141,\"*\")","v":"*"},null,{"$f":"'Oversættelse af landenavne'!$B$6","v":"EU-28"},{"$f":"IFERROR('Level 3'!O$6/E141*R$141,\"*\")","v":144.02830318237648},{"$f":"IFERROR('Level 3'!P$6/F141*S$141,\"*\")","v":143.73756605635361},{"$f":"IFERROR('Level 3'!Q$6/G141*T$141,\"*\")","v":143.65640889053319},{"$f":"IFERROR('Level 3'!R$6/H141*U$141,\"*\")","v":146.65637768224474},{"$f":"IFERROR('Level 3'!S$6/I141*V$141,\"*\")","v":151.71150364536146},{"$f":"IFERROR('Level 3'!T$6/J141*W$141,\"*\")","v":156.39504841229316},{"$f":"IFERROR('Level 3'!U$6/K141*X$141,\"*\")","v":161.44725365605589},{"$f":"IFERROR('Level 3'!V$6/L141*Y$141,\"*\")","v":164.23236981871253},{"$f":"IFERROR('Level 3'!W$6/M141*Z$141,\"*\")","v":168.93840013998599},{"$f":"IFERROR('Level 3'!X$6/N141*AA$141,\"*\")","v":167.94086442222223},{"$f":"IFERROR('Level 3'!Y$6/O141*AB$141,\"*\")","v":"*"},null,{"$f":"'Oversættelse af landenavne'!$B$6","v":"EU-28"},{"$f":"IFERROR('Level 3'!AB6/E141*R$141,\"*\")","v":134.39200093839432},{"$f":"IFERROR('Level 3'!AC6/F141*S$141,\"*\")","v":134.41203192639989},{"$f":"IFERROR('Level 3'!AD6/G141*T$141,\"*\")","v":134.33926465677578},{"$f":"IFERROR('Level 3'!AE6/H141*U$141,\"*\")","v":136.76400891069761},{"$f":"IFERROR('Level 3'!AF6/I141*V$141,\"*\")","v":142.19051421905786},{"$f":"IFERROR('Level 3'!AG6/J141*W$141,\"*\")","v":146.06492379642535},{"$f":"IFERROR('Level 3'!AH6/K141*X$141,\"*\")","v":150.68910139246455},{"$f":"IFERROR('Level 3'!AI6/L141*Y$141,\"*\")","v":152.49350063493799},{"$f":"IFERROR('Level 3'!AJ6/M141*Z$141,\"*\")","v":156.07790851414856},{"$f":"IFERROR('Level 3'!AK6/N141*AA$141,\"*\")","v":153.26931218666667},{"$f":"IFERROR('Level 3'!AL6/O141*AB$141,\"*\")","v":"*"},null,{"$f":"'Oversættelse af landenavne'!$B$6","v":"EU-28"},{"$f":"IFERROR('Level 3'!AO6/E141*R$141,\"*\")","v":126.3904285393734},{"$f":"IFERROR('Level 3'!AP6/F141*S$141,\"*\")","v":126.20556189204058},{"$f":"IFERROR('Level 3'!AQ6/G141*T$141,\"*\")","v":129.37285737798877},{"$f":"IFERROR('Level 3'!AR6/H141*U$141,\"*\")","v":130.73207673292501},{"$f":"IFERROR('Level 3'!AS6/I141*V$141,\"*\")","v":136.02528336104169},{"$f":"IFERROR('Level 3'!AT6/J141*W$141,\"*\")","v":139.64657431083097},{"$f":"IFERROR('Level 3'!AU6/K141*X$141,\"*\")","v":144.35416155780621},{"$f":"IFERROR('Level 3'!AV6/L141*Y$141,\"*\")","v":145.86010788982094},{"$f":"IFERROR('Level 3'!AW6/M141*Z$141,\"*\")","v":149.18170285971402},{"$f":"IFERROR('Level 3'!AX6/N141*AA$141,\"*\")","v":145.07707489777778},{"$f":"IFERROR('Level 3'!AY6/O141*AB$141,\"*\")","v":"*"},null,{"$f":"'Oversættelse af landenavne'!$B$6","v":"EU-28"},{"$f":"IFERROR('Level 3'!BB6/E141*R$141,\"*\")","v":118.04470248878167},{"$f":"IFERROR('Level 3'!BC6/F141*S$141,\"*\")","v":120.32011368558089},{"$f":"IFERROR('Level 3'!BD6/G141*T$141,\"*\")","v":125.88405887636152},{"$f":"IFERROR('Level 3'!BE6/H141*U$141,\"*\")","v":125.94674387189208},{"$f":"IFERROR('Level 3'!BF6/I141*V$141,\"*\")","v":130.95262506014222},{"$f":"IFERROR('Level 3'!BG6/J141*W$141,\"*\")","v":134.13970640898967},{"$f":"IFERROR('Level 3'!BH6/K141*X$141,\"*\")","v":136.51982767944176},{"$f":"IFERROR('Level 3'!BI6/L141*Y$141,\"*\")","v":138.85405263093327},{"$f":"IFERROR('Level 3'!BJ6/M141*Z$141,\"*\")","v":143.21741688831113},{"$f":"IFERROR('Level 3'!BK6/N141*AA$141,\"*\")","v":138.67223483555557},{"$f":"IFERROR('Level 3'!BL6/O141*AB$141,\"*\")","v":"*"}]
[null,null,null,{"$f":"'Oversættelse af landenavne'!$B$7","v":"Belgien"},{"$f":"IFERROR('Level 3'!B$7/E142*R$141,\"*\")","v":212.80136640506799},{"$f":"IFERROR('Level 3'!C$7/F142*S$141,\"*\")","v":265.4915413228685},{"$f":"IFERROR('Level 3'!D$7/G142*T$141,\"*\")","v":225.13919788632401},{"$f":"IFERROR('Level 3'!E$7/H142*U$141,\"*\")","v":235.25525000578571},{"$f":"IFERROR('Level 3'!F$7/I142*V$141,\"*\")","v":236.26058929832286},{"$f":"IFERROR('Level 3'!G$7/J142*W$141,\"*\")","v":230.92452625298145},{"$f":"IFERROR('Level 3'!H$7/K142*X$141,\"*\")","v":221.41718977173136},{"$f":"IFERROR('Level 3'!I$7/L142*Y$141,\"*\")","v":198.36266547097949},{"$f":"IFERROR('Level 3'!J$7/M142*Z$141,\"*\")","v":214.68744953209904},{"$f":"IFERROR('Level 3'!K$7/N142*AA$141,\"*\")","v":304.45332760888891},{"$f":"IFERROR('Level 3'!L$7/O142*AB$141,\"*\")","v":"*"},null,{"$f":"'Oversættelse af landenavne'!$B$7","v":"Belgien"},{"$f":"IFERROR('Level 3'!O$7/E142*R$141,\"*\")","v":162.62797833739745},{"$f":"IFERROR('Level 3'!P$7/F142*S$141,\"*\")","v":193.10367829990386},{"$f":"IFERROR('Level 3'!Q$7/G142*T$141,\"*\")","v":176.68098295664927},{"$f":"IFERROR('Level 3'!R$7/H142*U$141,\"*\")","v":179.06578264881753},{"$f":"IFERROR('Level 3'!S$7/I142*V$141,\"*\")","v":186.4800617315484},{"$f":"IFERROR('Level 3'!T$7/J142*W$141,\"*\")","v":182.61556011006982},{"$f":"IFERROR('Level 3'!U$7/K142*X$141,\"*\")","v":179.94889155026075},{"$f":"IFERROR('Level 3'!V$7/L142*Y$141,\"*\")","v":166.13250635526097},{"$f":"IFERROR('Level 3'!W$7/M142*Z$141,\"*\")","v":179.2000605302878},{"$f":"IFERROR('Level 3'!X$7/N142*AA$141,\"*\")","v":210.24259878666666},{"$f":"IFERROR('Level 3'!Y$7/O142*AB$141,\"*\")","v":"*"},null,{"$f":"'Oversættelse af landenavne'!$B$7","v":"Belgien"},{"$f":"IFERROR('Level 3'!AB7/E142*R$141,\"*\")","v":146.60036826022491},{"$f":"IFERROR('Level 3'!AC7/F142*S$141,\"*\")","v":171.6662145524474},{"$f":"IFERROR('Level 3'!AD7/G142*T$141,\"*\")","v":157.36430621492323},{"$f":"IFERROR('Level 3'!AE7/H142*U$141,\"*\")","v":160.02402253074283},{"$f":"IFERROR('Level 3'!AF7/I142*V$141,\"*\")","v":167.57606392138086},{"$f":"IFERROR('Level 3'!AG7/J142*W$141,\"*\")","v":174.44904440495856},{"$f":"IFERROR('Level 3'!AH7/K142*X$141,\"*\")","v":166.48023110321401},{"$f":"IFERROR('Level 3'!AI7/L142*Y$141,\"*\")","v":156.24456526823727},{"$f":"IFERROR('Level 3'!AJ7/M142*Z$141,\"*\")","v":167.98364476755887},{"$f":"IFERROR('Level 3'!AK7/N142*AA$141,\"*\")","v":189.46410602666668},{"$f":"IFERROR('Level 3'!AL7/O142*AB$141,\"*\")","v":"*"},null,{"$f":"'Oversættelse af landenavne'!$B$7","v":"Belgien"},{"$f":"IFERROR('Level 3'!AO7/E142*R$141,\"*\")","v":141.1997605168298},{"$f":"IFERROR('Level 3'!AP7/F142*S$141,\"*\")","v":154.55786969768121},{"$f":"IFERROR('Level 3'!AQ7/G142*T$141,\"*\")","v":139.33818330723494},{"$f":"IFERROR('Level 3'!AR7/H142*U$141,\"*\")","v":142.28426310450234},{"$f":"IFERROR('Level 3'!AS7/I142*V$141,\"*\")","v":149.65664933049291},{"$f":"IFERROR('Level 3'!AT7/J142*W$141,\"*\")","v":149.10600740458989},{"$f":"IFERROR('Level 3'!AU7/K142*X$141,\"*\")","v":150.77311722975674},{"$f":"IFERROR('Level 3'!AV7/L142*Y$141,\"*\")","v":138.7330970835846},{"$f":"IFERROR('Level 3'!AW7/M142*Z$141,\"*\")","v":151.21529076776014},{"$f":"IFERROR('Level 3'!AX7/N142*AA$141,\"*\")","v":173.52648075555555},{"$f":"IFERROR('Level 3'!AY7/O142*AB$141,\"*\")","v":"*"},null,{"$f":"'Oversættelse af landenavne'!$B$7","v":"Belgien"},{"$f":"IFERROR('Level 3'!BB7/E142*R$141,\"*\")","v":136.06047250295384},{"$f":"IFERROR('Level 3'!BC7/F142*S$141,\"*\")","v":138.94806599807697},{"$f":"IFERROR('Level 3'!BD7/G142*T$141,\"*\")","v":117.56529120395322},{"$f":"IFERROR('Level 3'!BE7/H142*U$141,\"*\")","v":120.27231390818098},{"$f":"IFERROR('Level 3'!BF7/I142*V$141,\"*\")","v":127.91705184880021},{"$f":"IFERROR('Level 3'!BG7/J142*W$141,\"*\")","v":132.42791195048943},{"$f":"IFERROR('Level 3'!BH7/K142*X$141,\"*\")","v":129.83029873181368},{"$f":"IFERROR('Level 3'!BI7/L142*Y$141,\"*\")","v":120.20264260370426},{"$f":"IFERROR('Level 3'!BJ7/M142*Z$141,\"*\")","v":127.13188300965987},{"$f":"IFERROR('Level 3'!BK7/N142*AA$141,\"*\")","v":133.31004315555555},{"$f":"IFERROR('Level 3'!BL7/O142*AB$141,\"*\")","v":"*"}]
[null,null,null,{"$f":"'Oversættelse af landenavne'!$B$10","v":"Danmark"},{"$f":"IFERROR('Level 3'!B$10/E143*R$141,\"*\")","v":227.18375869921664},{"$f":"IFERROR('Level 3'!C$10/F143*S$141,\"*\")","v":245.0242782165208},{"$f":"IFERROR('Level 3'!D$10/G143*T$141,\"*\")","v":236.47301844731814},{"$f":"IFERROR('Level 3'!E$10/H143*U$141,\"*\")","v":237.23105497924655},{"$f":"IFERROR('Level 3'!F$10/I143*V$141,\"*\")","v":251.08984761448363},{"$f":"IFERROR('Level 3'!G$10/J143*W$141,\"*\")","v":248.34575159418941},{"$f":"IFERROR('Level 3'!H$10/K143*X$141,\"*\")","v":245.12556613226454},{"$f":"IFERROR('Level 3'!I$10/L143*Y$141,\"*\")","v":248.4529454650785},{"$f":"IFERROR('Level 3'!J$10/M143*Z$141,\"*\")","v":248.89786717935874},{"$f":"IFERROR('Level 3'!K$10/N143*AA$141,\"*\")","v":286.20698091999998},{"$f":"IFERROR('Level 3'!L$10/O143*AB$141,\"*\")","v":"*"},null,{"$f":"'Oversættelse af landenavne'!$B$10","v":"Danmark"},{"$f":"IFERROR('Level 3'!O$10/E143*R$141,\"*\")","v":227.18375869921664},{"$f":"IFERROR('Level 3'!P$10/F143*S$141,\"*\")","v":245.0242782165208},{"$f":"IFERROR('Level 3'!Q$10/G143*T$141,\"*\")","v":236.47301844731814},{"$f":"IFERROR('Level 3'!R$10/H143*U$141,\"*\")","v":237.23105497924655},{"$f":"IFERROR('Level 3'!S$10/I143*V$141,\"*\")","v":251.08984761448363},{"$f":"IFERROR('Level 3'!T$10/J143*W$141,\"*\")","v":248.34575159418941},{"$f":"IFERROR('Level 3'!U$10/K143*X$141,\"*\")","v":245.12556613226454},{"$f":"IFERROR('Level 3'!V$10/L143*Y$141,\"*\")","v":248.4529454650785},{"$f":"IFERROR('Level 3'!W$10/M143*Z$141,\"*\")","v":248.89786717935874},{"$f":"IFERROR('Level 3'!X$10/N143*AA$141,\"*\")","v":248.74611404444445},{"$f":"IFERROR('Level 3'!Y$10/O143*AB$141,\"*\")","v":"*"},null,{"$f":"'Oversættelse af landenavne'!$B$10","v":"Danmark"},{"$f":"IFERROR('Level 3'!AB10/E143*R$141,\"*\")","v":203.83714672526875},{"$f":"IFERROR('Level 3'!AC10/F143*S$141,\"*\")","v":221.70811150810397},{"$f":"IFERROR('Level 3'!AD10/G143*T$141,\"*\")","v":212.8176154371719},{"$f":"IFERROR('Level 3'!AE10/H143*U$141,\"*\")","v":213.24228876456425},{"$f":"IFERROR('Level 3'!AF10/I143*V$141,\"*\")","v":227.36421412182548},{"$f":"IFERROR('Level 3'!AG10/J143*W$141,\"*\")","v":225.07983468960165},{"$f":"IFERROR('Level 3'!AH10/K143*X$141,\"*\")","v":223.13531062124252},{"$f":"IFERROR('Level 3'!AI10/L143*Y$141,\"*\")","v":227.42107992036185},{"$f":"IFERROR('Level 3'!AJ10/M143*Z$141,\"*\")","v":228.24042750501005},{"$f":"IFERROR('Level 3'!AK10/N143*AA$141,\"*\")","v":229.97844316444446},{"$f":"IFERROR('Level 3'!AL10/O143*AB$141,\"*\")","v":"*"},null,{"$f":"'Oversættelse af landenavne'!$B$10","v":"Danmark"},{"$f":"IFERROR('Level 3'!AO10/E143*R$141,\"*\")","v":180.32074120969213},{"$f":"IFERROR('Level 3'!AP10/F143*S$141,\"*\")","v":197.90107813214149},{"$f":"IFERROR('Level 3'!AQ10/G143*T$141,\"*\")","v":188.83816581044829},{"$f":"IFERROR('Level 3'!AR10/H143*U$141,\"*\")","v":184.5350710134403},{"$f":"IFERROR('Level 3'!AS10/I143*V$141,\"*\")","v":198.92436680815047},{"$f":"IFERROR('Level 3'!AT10/J143*W$141,\"*\")","v":197.06269326316939},{"$f":"IFERROR('Level 3'!AU10/K143*X$141,\"*\")","v":168.77990981963927},{"$f":"IFERROR('Level 3'!AV10/L143*Y$141,\"*\")","v":171.99724918775433},{"$f":"IFERROR('Level 3'!AW10/M143*Z$141,\"*\")","v":167.35141002004008},{"$f":"IFERROR('Level 3'!AX10/N143*AA$141,\"*\")","v":181.12291896888888},{"$f":"IFERROR('Level 3'!AY10/O143*AB$141,\"*\")","v":"*"},null,{"$f":"'Oversættelse af landenavne'!$B$10","v":"Danmark"},{"$f":"IFERROR('Level 3'!BB10/E143*R$141,\"*\")","v":180.32074120969213},{"$f":"IFERROR('Level 3'!BC10/F143*S$141,\"*\")","v":197.90107813214149},{"$f":"IFERROR('Level 3'!BD10/G143*T$141,\"*\")","v":188.83816581044829},{"$f":"IFERROR('Level 3'!BE10/H143*U$141,\"*\")","v":184.5350710134403},{"$f":"IFERROR('Level 3'!BF10/I143*V$141,\"*\")","v":198.92436680815047},{"$f":"IFERROR('Level 3'!BG10/J143*W$141,\"*\")","v":197.06269326316939},{"$f":"IFERROR('Level 3'!BH10/K143*X$141,\"*\")","v":168.77990981963927},{"$f":"IFERROR('Level 3'!BI10/L143*Y$141,\"*\")","v":171.99724918775433},{"$f":"IFERROR('Level 3'!BJ10/M143*Z$141,\"*\")","v":167.35141002004008},{"$f":"IFERROR('Level 3'!BK10/N143*AA$141,\"*\")","v":164.81291927555554},{"$f":"IFERROR('Level 3'!BL10/O143*AB$141,\"*\")","v":"*"}]
[null,null,null,{"$f":"'Oversættelse af landenavne'!$B$11","v":"Tyskland"},{"$f":"IFERROR('Level 3'!B$11/E144*R$141,\"*\")","v":274.31259721173683},{"$f":"IFERROR('Level 3'!C$11/F144*S$141,\"*\")","v":279.61530978748056},{"$f":"IFERROR('Level 3'!D$11/G144*T$141,\"*\")","v":289.97420148704623},{"$f":"IFERROR('Level 3'!E$11/H144*U$141,\"*\")","v":295.51325667942615},{"$f":"IFERROR('Level 3'!F$11/I144*V$141,\"*\")","v":299.33470283896457},{"$f":"IFERROR('Level 3'!G$11/J144*W$141,\"*\")","v":303.58872562305896},{"$f":"IFERROR('Level 3'!H$11/K144*X$141,\"*\")","v":321.06697296691237},{"$f":"IFERROR('Level 3'!I$11/L144*Y$141,\"*\")","v":323.62357735613489},{"$f":"IFERROR('Level 3'!J$11/M144*Z$141,\"*\")","v":325.56077363363357},{"$f":"IFERROR('Level 3'!K$11/N144*AA$141,\"*\")","v":339.23309864444445},{"$f":"IFERROR('Level 3'!L$11/O144*AB$141,\"*\")","v":"*"},null,{"$f":"'Oversættelse af landenavne'!$B$11","v":"Tyskland"},{"$f":"IFERROR('Level 3'!O$11/E144*R$141,\"*\")","v":191.71444322534822},{"$f":"IFERROR('Level 3'!P$11/F144*S$141,\"*\")","v":195.79154686786893},{"$f":"IFERROR('Level 3'!Q$11/G144*T$141,\"*\")","v":204.83525089693387},{"$f":"IFERROR('Level 3'!R$11/H144*U$141,\"*\")","v":212.646364293478},{"$f":"IFERROR('Level 3'!S$11/I144*V$141,\"*\")","v":216.75018725007726},{"$f":"IFERROR('Level 3'!T$11/J144*W$141,\"*\")","v":220.51737389184052},{"$f":"IFERROR('Level 3'!U$11/K144*X$141,\"*\")","v":238.99225052499523},{"$f":"IFERROR('Level 3'!V$11/L144*Y$141,\"*\")","v":241.19573716859998},{"$f":"IFERROR('Level 3'!W$11/M144*Z$141,\"*\")","v":239.54316895395388},{"$f":"IFERROR('Level 3'!X$11/N144*AA$141,\"*\")","v":243.01154794222219},{"$f":"IFERROR('Level 3'!Y$11/O144*AB$141,\"*\")","v":"*"},null,{"$f":"'Oversættelse af landenavne'!$B$11","v":"Tyskland"},{"$f":"IFERROR('Level 3'!AB11/E144*R$141,\"*\")","v":172.2010984168526},{"$f":"IFERROR('Level 3'!AC11/F144*S$141,\"*\")","v":176.12317482335436},{"$f":"IFERROR('Level 3'!AD11/G144*T$141,\"*\")","v":185.16912447735467},{"$f":"IFERROR('Level 3'!AE11/H144*U$141,\"*\")","v":192.48955263203115},{"$f":"IFERROR('Level 3'!AF11/I144*V$141,\"*\")","v":197.53903752443543},{"$f":"IFERROR('Level 3'!AG11/J144*W$141,\"*\")","v":201.41172721952719},{"$f":"IFERROR('Level 3'!AH11/K144*X$141,\"*\")","v":219.97080268967255},{"$f":"IFERROR('Level 3'!AI11/L144*Y$141,\"*\")","v":222.40950988526058},{"$f":"IFERROR('Level 3'!AJ11/M144*Z$141,\"*\")","v":220.06326021521514},{"$f":"IFERROR('Level 3'!AK11/N144*AA$141,\"*\")","v":221.11593191555556},{"$f":"IFERROR('Level 3'!AL11/O144*AB$141,\"*\")","v":"*"},null,{"$f":"'Oversættelse af landenavne'!$B$11","v":"Tyskland"},{"$f":"IFERROR('Level 3'!AO11/E144*R$141,\"*\")","v":161.77730311316904},{"$f":"IFERROR('Level 3'!AP11/F144*S$141,\"*\")","v":163.30831798610359},{"$f":"IFERROR('Level 3'!AQ11/G144*T$141,\"*\")","v":172.38209577655829},{"$f":"IFERROR('Level 3'!AR11/H144*U$141,\"*\")","v":181.25133025729588},{"$f":"IFERROR('Level 3'!AS11/I144*V$141,\"*\")","v":188.28488613220551},{"$f":"IFERROR('Level 3'!AT11/J144*W$141,\"*\")","v":191.3621570698904},{"$f":"IFERROR('Level 3'!AU11/K144*X$141,\"*\")","v":209.3865911218989},{"$f":"IFERROR('Level 3'!AV11/L144*Y$141,\"*\")","v":211.24234893552207},{"$f":"IFERROR('Level 3'!AW11/M144*Z$141,\"*\")","v":208.90522819819819},{"$f":"IFERROR('Level 3'!AX11/N144*AA$141,\"*\")","v":209.42337505777778},{"$f":"IFERROR('Level 3'!AY11/O144*AB$141,\"*\")","v":"*"},null,{"$f":"'Oversættelse af landenavne'!$B$11","v":"Tyskland"},{"$f":"IFERROR('Level 3'!BB11/E144*R$141,\"*\")","v":154.60573194423475},{"$f":"IFERROR('Level 3'!BC11/F144*S$141,\"*\")","v":157.22531632285165},{"$f":"IFERROR('Level 3'!BD11/G144*T$141,\"*\")","v":166.91928288223076},{"$f":"IFERROR('Level 3'!BE11/H144*U$141,\"*\")","v":175.53223488509963},{"$f":"IFERROR('Level 3'!BF11/I144*V$141,\"*\")","v":181.33451082496109},{"$f":"IFERROR('Level 3'!BG11/J144*W$141,\"*\")","v":184.02558874772208},{"$f":"IFERROR('Level 3'!BH11/K144*X$141,\"*\")","v":202.64433535452707},{"$f":"IFERROR('Level 3'!BI11/L144*Y$141,\"*\")","v":201.8679094760426},{"$f":"IFERROR('Level 3'!BJ11/M144*Z$141,\"*\")","v":199.83699481981984},{"$f":"IFERROR('Level 3'!BK11/N144*AA$141,\"*\")","v":199.59269031111111},{"$f":"IFERROR('Level 3'!BL11/O144*AB$141,\"*\")","v":"*"}]
[null,null,null,{"$f":"'Oversættelse af landenavne'!$B$16","v":"Frankrig"},{"$f":"IFERROR('Level 3'!B$16/E145*R$141,\"*\")","v":192.73615118664884},{"$f":"IFERROR('Level 3'!C$16/F145*S$141,\"*\")","v":186.04147409298213},{"$f":"IFERROR('Level 3'!D$16/G145*T$141,\"*\")","v":182.61522469963339},{"$f":"IFERROR('Level 3'!E$16/H145*U$141,\"*\")","v":185.18283317292844},{"$f":"IFERROR('Level 3'!F$16/I145*V$141,\"*\")","v":189.41545948006012},{"$f":"IFERROR('Level 3'!G$16/J145*W$141,\"*\")","v":189.99307891798031},{"$f":"IFERROR('Level 3'!H$16/K145*X$141,\"*\")","v":211.8543711493198},{"$f":"IFERROR('Level 3'!I$16/L145*Y$141,\"*\")","v":199.92311624151054},{"$f":"IFERROR('Level 3'!J$16/M145*Z$141,\"*\")","v":209.29477393153834},{"$f":"IFERROR('Level 3'!K$16/N145*AA$141,\"*\")","v":210.09364901777778},{"$f":"IFERROR('Level 3'!L$16/O145*AB$141,\"*\")","v":"*"},null,{"$f":"'Oversættelse af landenavne'!$B$16","v":"Frankrig"},{"$f":"IFERROR('Level 3'!O$16/E145*R$141,\"*\")","v":119.45973384535804},{"$f":"IFERROR('Level 3'!P$16/F145*S$141,\"*\")","v":113.76375606683658},{"$f":"IFERROR('Level 3'!Q$16/G145*T$141,\"*\")","v":113.27787669005957},{"$f":"IFERROR('Level 3'!R$16/H145*U$141,\"*\")","v":119.20178946804383},{"$f":"IFERROR('Level 3'!S$16/I145*V$141,\"*\")","v":122.74989976945984},{"$f":"IFERROR('Level 3'!T$16/J145*W$141,\"*\")","v":124.07324695042583},{"$f":"IFERROR('Level 3'!U$16/K145*X$141,\"*\")","v":133.79484855270152},{"$f":"IFERROR('Level 3'!V$16/L145*Y$141,\"*\")","v":133.49367586167358},{"$f":"IFERROR('Level 3'!W$16/M145*Z$141,\"*\")","v":137.50244997998195},{"$f":"IFERROR('Level 3'!X$16/N145*AA$141,\"*\")","v":138.37433529777778},{"$f":"IFERROR('Level 3'!Y$16/O145*AB$141,\"*\")","v":"*"},null,{"$f":"'Oversættelse af landenavne'!$B$16","v":"Frankrig"},{"$f":"IFERROR('Level 3'!AB16/E145*R$141,\"*\")","v":101.87005914796059},{"$f":"IFERROR('Level 3'!AC16/F145*S$141,\"*\")","v":97.500260609250489},{"$f":"IFERROR('Level 3'!AD16/G145*T$141,\"*\")","v":97.273849271570711},{"$f":"IFERROR('Level 3'!AE16/H145*U$141,\"*\")","v":104.34119403901573},{"$f":"IFERROR('Level 3'!AF16/I145*V$141,\"*\")","v":108.71912499315908},{"$f":"IFERROR('Level 3'!AG16/J145*W$141,\"*\")","v":109.60119188628455},{"$f":"IFERROR('Level 3'!AH16/K145*X$141,\"*\")","v":117.25840659674965},{"$f":"IFERROR('Level 3'!AI16/L145*Y$141,\"*\")","v":119.67754717109476},{"$f":"IFERROR('Level 3'!AJ16/M145*Z$141,\"*\")","v":123.09920827244517},{"$f":"IFERROR('Level 3'!AK16/N145*AA$141,\"*\")","v":125.49018028888889},{"$f":"IFERROR('Level 3'!AL16/O145*AB$141,\"*\")","v":"*"},null,{"$f":"'Oversættelse af landenavne'!$B$16","v":"Frankrig"},{"$f":"IFERROR('Level 3'!AO16/E145*R$141,\"*\")","v":89.615641230816394},{"$f":"IFERROR('Level 3'!AP16/F145*S$141,\"*\")","v":85.232015896828258},{"$f":"IFERROR('Level 3'!AQ16/G145*T$141,\"*\")","v":88.526055947107054},{"$f":"IFERROR('Level 3'!AR16/H145*U$141,\"*\")","v":94.077476129367028},{"$f":"IFERROR('Level 3'!AS16/I145*V$141,\"*\")","v":99.64950814881},{"$f":"IFERROR('Level 3'!AT16/J145*W$141,\"*\")","v":100.50880127007012},{"$f":"IFERROR('Level 3'!AU16/K145*X$141,\"*\")","v":107.7875352947045},{"$f":"IFERROR('Level 3'!AV16/L145*Y$141,\"*\")","v":110.08093886439542},{"$f":"IFERROR('Level 3'!AW16/M145*Z$141,\"*\")","v":114.06919663196875},{"$f":"IFERROR('Level 3'!AX16/N145*AA$141,\"*\")","v":116.92556857777778},{"$f":"IFERROR('Level 3'!AY16/O145*AB$141,\"*\")","v":"*"},null,{"$f":"'Oversættelse af landenavne'!$B$16","v":"Frankrig"},{"$f":"IFERROR('Level 3'!BB16/E145*R$141,\"*\")","v":83.11329702988273},{"$f":"IFERROR('Level 3'!BC16/F145*S$141,\"*\")","v":82.649227536318293},{"$f":"IFERROR('Level 3'!BD16/G145*T$141,\"*\")","v":85.099500958261828},{"$f":"IFERROR('Level 3'!BE16/H145*U$141,\"*\")","v":91.224241806993646},{"$f":"IFERROR('Level 3'!BF16/I145*V$141,\"*\")","v":97.440242507237798},{"$f":"IFERROR('Level 3'!BG16/J145*W$141,\"*\")","v":98.425128420521006},{"$f":"IFERROR('Level 3'!BH16/K145*X$141,\"*\")","v":98.128749879523511},{"$f":"IFERROR('Level 3'!BI16/L145*Y$141,\"*\")","v":102.94882918898854},{"$f":"IFERROR('Level 3'!BJ16/M145*Z$141,\"*\")","v":111.86766486838152},{"$f":"IFERROR('Level 3'!BK16/N145*AA$141,\"*\")","v":114.91474669777777},{"$f":"IFERROR('Level 3'!BL16/O145*AB$141,\"*\")","v":"*"}]
[null,null,null,{"$f":"'Oversættelse af landenavne'!$B$18","v":"Italien"},{"$f":"IFERROR('Level 3'!B$18/E146*R$141,\"*\")","v":"*"},{"$f":"IFERROR('Level 3'!C$18/F146*S$141,\"*\")","v":227.03291929650882},{"$f":"IFERROR('Level 3'!D$18/G146*T$141,\"*\")","v":233.18395618450504},{"$f":"IFERROR('Level 3'!E$18/H146*U$141,\"*\")","v":224.85220899084825},{"$f":"IFERROR('Level 3'!F$18/I146*V$141,\"*\")","v":203.3925307364027},{"$f":"IFERROR('Level 3'!G$18/J146*W$141,\"*\")","v":198.0929365951317},{"$f":"IFERROR('Level 3'!H$18/K146*X$141,\"*\")","v":207.82697482838904},{"$f":"IFERROR('Level 3'!I$18/L146*Y$141,\"*\")","v":218.41323489655818},{"$f":"IFERROR('Level 3'!J$18/M146*Z$141,\"*\")","v":219.50349272272271},{"$f":"IFERROR('Level 3'!K$18/N146*AA$141,\"*\")","v":234.96826042222222},{"$f":"IFERROR('Level 3'!L$18/O146*AB$141,\"*\")","v":"*"},null,{"$f":"'Oversættelse af landenavne'!$B$18","v":"Italien"},{"$f":"IFERROR('Level 3'!O$18/E146*R$141,\"*\")","v":"*"},{"$f":"IFERROR('Level 3'!P$18/F146*S$141,\"*\")","v":138.35527095679748},{"$f":"IFERROR('Level 3'!Q$18/G146*T$141,\"*\")","v":138.43763293480089},{"$f":"IFERROR('Level 3'!R$18/H146*U$141,\"*\")","v":130.66062842540163},{"$f":"IFERROR('Level 3'!S$18/I146*V$141,\"*\")","v":131.70820670618153},{"$f":"IFERROR('Level 3'!T$18/J146*W$141,\"*\")","v":146.48730345691217},{"$f":"IFERROR('Level 3'!U$18/K146*X$141,\"*\")","v":148.41039960723006},{"$f":"IFERROR('Level 3'!V$18/L146*Y$141,\"*\")","v":157.27396240584929},{"$f":"IFERROR('Level 3'!W$18/M146*Z$141,\"*\")","v":157.2200297247247},{"$f":"IFERROR('Level 3'!X$18/N146*AA$141,\"*\")","v":160.71680063111111},{"$f":"IFERROR('Level 3'!Y$18/O146*AB$141,\"*\")","v":"*"},null,{"$f":"'Oversættelse af landenavne'!$B$18","v":"Italien"},{"$f":"IFERROR('Level 3'!AB18/E146*R$141,\"*\")","v":"*"},{"$f":"IFERROR('Level 3'!AC18/F146*S$141,\"*\")","v":175.54134199464951},{"$f":"IFERROR('Level 3'!AD18/G146*T$141,\"*\")","v":167.52426325886805},{"$f":"IFERROR('Level 3'!AE18/H146*U$141,\"*\")","v":156.3821754259659},{"$f":"IFERROR('Level 3'!AF18/I146*V$141,\"*\")","v":158.55069921968138},{"$f":"IFERROR('Level 3'!AG18/J146*W$141,\"*\")","v":167.68991134935746},{"$f":"IFERROR('Level 3'!AH18/K146*X$141,\"*\")","v":172.78355050135389},{"$f":"IFERROR('Level 3'!AI18/L146*Y$141,\"*\")","v":178.67457519581643},{"$f":"IFERROR('Level 3'!AJ18/M146*Z$141,\"*\")","v":182.03638855855851},{"$f":"IFERROR('Level 3'!AK18/N146*AA$141,\"*\")","v":179.70789616444443},{"$f":"IFERROR('Level 3'!AL18/O146*AB$141,\"*\")","v":"*"},null,{"$f":"'Oversættelse af landenavne'!$B$18","v":"Italien"},{"$f":"IFERROR('Level 3'!AO18/E146*R$141,\"*\")","v":"*"},{"$f":"IFERROR('Level 3'!AP18/F146*S$141,\"*\")","v":194.29928248491851},{"$f":"IFERROR('Level 3'!AQ18/G146*T$141,\"*\")","v":213.71105036979898},{"$f":"IFERROR('Level 3'!AR18/H146*U$141,\"*\")","v":197.48029668977833},{"$f":"IFERROR('Level 3'!AS18/I146*V$141,\"*\")","v":194.58850622395741},{"$f":"IFERROR('Level 3'!AT18/J146*W$141,\"*\")","v":207.14190674922884},{"$f":"IFERROR('Level 3'!AU18/K146*X$141,\"*\")","v":215.35232556528445},{"$f":"IFERROR('Level 3'!AV18/L146*Y$141,\"*\")","v":221.88663278393506},{"$f":"IFERROR('Level 3'!AW18/M146*Z$141,\"*\")","v":227.19096628628625},{"$f":"IFERROR('Level 3'!AX18/N146*AA$141,\"*\")","v":210.83839786222222},{"$f":"IFERROR('Level 3'!AY18/O146*AB$141,\"*\")","v":"*"},null,{"$f":"'Oversættelse af landenavne'!$B$18","v":"Italien"},{"$f":"IFERROR('Level 3'!BB18/E146*R$141,\"*\")","v":"*"},{"$f":"IFERROR('Level 3'!BC18/F146*S$141,\"*\")","v":185.72422397508126},{"$f":"IFERROR('Level 3'!BD18/G146*T$141,\"*\")","v":247.0113556915862},{"$f":"IFERROR('Level 3'!BE18/H146*U$141,\"*\")","v":222.83956838047547},{"$f":"IFERROR('Level 3'!BF18/I146*V$141,\"*\")","v":224.28741557927287},{"$f":"IFERROR('Level 3'!BG18/J146*W$141,\"*\")","v":231.75207662438862},{"$f":"IFERROR('Level 3'!BH18/K146*X$141,\"*\")","v":231.15181815717418},{"$f":"IFERROR('Level 3'!BI18/L146*Y$141,\"*\")","v":247.13412710508302},{"$f":"IFERROR('Level 3'!BJ18/M146*Z$141,\"*\")","v":249.76825515015011},{"$f":"IFERROR('Level 3'!BK18/N146*AA$141,\"*\")","v":213.96634300888888},{"$f":"IFERROR('Level 3'!BL18/O146*AB$141,\"*\")","v":"*"}]
[null,null,null,{"$f":"'Oversættelse af landenavne'!$B$25","v":"Holland"},{"$f":"IFERROR('Level 3'!B$25/E147*R$141,\"*\")","v":"*"},{"$f":"IFERROR('Level 3'!C$25/F147*S$141,\"*\")","v":"*"},{"$f":"IFERROR('Level 3'!D$25/G147*T$141,\"*\")","v":"*"},{"$f":"IFERROR('Level 3'!E$25/H147*U$141,\"*\")","v":"*"},{"$f":"IFERROR('Level 3'!F$25/I147*V$141,\"*\")","v":"*"},{"$f":"IFERROR('Level 3'!G$25/J147*W$141,\"*\")","v":"*"},{"$f":"IFERROR('Level 3'!H$25/K147*X$141,\"*\")","v":"*"},{"$f":"IFERROR('Level 3'!I$25/L147*Y$141,\"*\")","v":"*"},{"$f":"IFERROR('Level 3'!J$25/M147*Z$141,\"*\")","v":"*"},{"$f":"IFERROR('Level 3'!K$25/N147*AA$141,\"*\")","v":"*"},{"$f":"IFERROR('Level 3'!L$25/O147*AB$141,\"*\")","v":"*"},null,{"$f":"'Oversættelse af landenavne'!$B$25","v":"Holland"},{"$f":"IFERROR('Level 3'!O$25/E147*R$141,\"*\")","v":115.67719590043571},{"$f":"IFERROR('Level 3'!P$25/F147*S$141,\"*\")","v":112.93673664429578},{"$f":"IFERROR('Level 3'!Q$25/G147*T$141,\"*\")","v":115.07885893160723},{"$f":"IFERROR('Level 3'!R$25/H147*U$141,\"*\")","v":99.439615141824959},{"$f":"IFERROR('Level 3'!S$25/I147*V$141,\"*\")","v":101.12469006690982},{"$f":"IFERROR('Level 3'!T$25/J147*W$141,\"*\")","v":102.98131477690943},{"$f":"IFERROR('Level 3'!U$25/K147*X$141,\"*\")","v":104.62546329699121},{"$f":"IFERROR('Level 3'!V$25/L147*Y$141,\"*\")","v":91.705335237468958},{"$f":"IFERROR('Level 3'!W$25/M147*Z$141,\"*\")","v":108.67724033971336},{"$f":"IFERROR('Level 3'!X$25/N147*AA$141,\"*\")","v":84.975843151111107},{"$f":"IFERROR('Level 3'!Y$25/O147*AB$141,\"*\")","v":"*"},null,{"$f":"'Oversættelse af landenavne'!$B$25","v":"Holland"},{"$f":"IFERROR('Level 3'!AB25/E147*R$141,\"*\")","v":147.97886902468019},{"$f":"IFERROR('Level 3'!AC25/F147*S$141,\"*\")","v":147.34650314930619},{"$f":"IFERROR('Level 3'!AD25/G147*T$141,\"*\")","v":158.93400886928333},{"$f":"IFERROR('Level 3'!AE25/H147*U$141,\"*\")","v":144.15298468990201},{"$f":"IFERROR('Level 3'!AF25/I147*V$141,\"*\")","v":142.60362360511783},{"$f":"IFERROR('Level 3'!AG25/J147*W$141,\"*\")","v":142.82024013496701},{"$f":"IFERROR('Level 3'!AH25/K147*X$141,\"*\")","v":142.86916945007454},{"$f":"IFERROR('Level 3'!AI25/L147*Y$141,\"*\")","v":136.32278813667835},{"$f":"IFERROR('Level 3'!AJ25/M147*Z$141,\"*\")","v":143.15956857400539},{"$f":"IFERROR('Level 3'!AK25/N147*AA$141,\"*\")","v":120.6493128},{"$f":"IFERROR('Level 3'!AL25/O147*AB$141,\"*\")","v":"*"},null,{"$f":"'Oversættelse af landenavne'!$B$25","v":"Holland"},{"$f":"IFERROR('Level 3'!AO25/E147*R$141,\"*\")","v":162.94587463460499},{"$f":"IFERROR('Level 3'!AP25/F147*S$141,\"*\")","v":160.52383269924411},{"$f":"IFERROR('Level 3'!AQ25/G147*T$141,\"*\")","v":173.90694252337804},{"$f":"IFERROR('Level 3'!AR25/H147*U$141,\"*\")","v":159.35471957705423},{"$f":"IFERROR('Level 3'!AS25/I147*V$141,\"*\")","v":155.34810509300237},{"$f":"IFERROR('Level 3'!AT25/J147*W$141,\"*\")","v":154.54888128767701},{"$f":"IFERROR('Level 3'!AU25/K147*X$141,\"*\")","v":153.31293203411892},{"$f":"IFERROR('Level 3'!AV25/L147*Y$141,\"*\")","v":150.13473454591349},{"$f":"IFERROR('Level 3'!AW25/M147*Z$141,\"*\")","v":152.38723387613987},{"$f":"IFERROR('Level 3'!AX25/N147*AA$141,\"*\")","v":130.92684685333333},{"$f":"IFERROR('Level 3'!AY25/O147*AB$141,\"*\")","v":"*"},null,{"$f":"'Oversættelse af landenavne'!$B$25","v":"Holland"},{"$f":"IFERROR('Level 3'!BB25/E147*R$141,\"*\")","v":149.67005609924797},{"$f":"IFERROR('Level 3'!BC25/F147*S$141,\"*\")","v":"*"},{"$f":"IFERROR('Level 3'!BD25/G147*T$141,\"*\")","v":189.45261134456916},{"$f":"IFERROR('Level 3'!BE25/H147*U$141,\"*\")","v":172.97547403594257},{"$f":"IFERROR('Level 3'!BF25/I147*V$141,\"*\")","v":173.51492808349613},{"$f":"IFERROR('Level 3'!BG25/J147*W$141,\"*\")","v":178.00616359309697},{"$f":"IFERROR('Level 3'!BH25/K147*X$141,\"*\")","v":178.03234131577787},{"$f":"IFERROR('Level 3'!BI25/L147*Y$141,\"*\")","v":177.19716612823592},{"$f":"IFERROR('Level 3'!BJ25/M147*Z$141,\"*\")","v":172.1874873584527},{"$f":"IFERROR('Level 3'!BK25/N147*AA$141,\"*\")","v":181.12291896888888},{"$f":"IFERROR('Level 3'!BL25/O147*AB$141,\"*\")","v":"*"}]
[null,null,null,{"$f":"'Oversættelse af landenavne'!$B$33","v":"Sverige"},{"$f":"IFERROR('Level 3'!B$33/E148*R$141,\"*\")","v":234.94471237428419},{"$f":"IFERROR('Level 3'!C$33/F148*S$141,\"*\")","v":236.03710756074597},{"$f":"IFERROR('Level 3'!D$33/G148*T$141,\"*\")","v":209.75558058900944},{"$f":"IFERROR('Level 3'!E$33/H148*U$141,\"*\")","v":263.15247759933965},{"$f":"IFERROR('Level 3'!F$33/I148*V$141,\"*\")","v":269.64926739864472},{"$f":"IFERROR('Level 3'!G$33/J148*W$141,\"*\")","v":271.06001581820772},{"$f":"IFERROR('Level 3'!H$33/K148*X$141,\"*\")","v":273.97234658756605},{"$f":"IFERROR('Level 3'!I$33/L148*Y$141,\"*\")","v":268.87899451751383},{"$f":"IFERROR('Level 3'!J$33/M148*Z$141,\"*\")","v":257.20927317724068},{"$f":"IFERROR('Level 3'!K$33/N148*AA$141,\"*\")","v":271.2375291466667},{"$f":"IFERROR('Level 3'!L$33/O148*AB$141,\"*\")","v":"*"},null,{"$f":"'Oversættelse af landenavne'!$B$33","v":"Sverige"},{"$f":"IFERROR('Level 3'!O$33/E148*R$141,\"*\")","v":137.97411413405302},{"$f":"IFERROR('Level 3'!P$33/F148*S$141,\"*\")","v":154.40962734509441},{"$f":"IFERROR('Level 3'!Q$33/G148*T$141,\"*\")","v":143.19166381727996},{"$f":"IFERROR('Level 3'!R$33/H148*U$141,\"*\")","v":159.86697730321936},{"$f":"IFERROR('Level 3'!S$33/I148*V$141,\"*\")","v":172.97313523565211},{"$f":"IFERROR('Level 3'!T$33/J148*W$141,\"*\")","v":170.12007720167259},{"$f":"IFERROR('Level 3'!U$33/K148*X$141,\"*\")","v":172.30321714158544},{"$f":"IFERROR('Level 3'!V$33/L148*Y$141,\"*\")","v":164.28344020429003},{"$f":"IFERROR('Level 3'!W$33/M148*Z$141,\"*\")","v":155.99248723564952},{"$f":"IFERROR('Level 3'!X$33/N148*AA$141,\"*\")","v":159.37625271111111},{"$f":"IFERROR('Level 3'!Y$33/O148*AB$141,\"*\")","v":"*"},null,{"$f":"'Oversættelse af landenavne'!$B$33","v":"Sverige"},{"$f":"IFERROR('Level 3'!AB33/E148*R$141,\"*\")","v":132.54041681886767},{"$f":"IFERROR('Level 3'!AC33/F148*S$141,\"*\")","v":139.10195045161004},{"$f":"IFERROR('Level 3'!AD33/G148*T$141,\"*\")","v":128.69023909201033},{"$f":"IFERROR('Level 3'!AE33/H148*U$141,\"*\")","v":147.65626680134372},{"$f":"IFERROR('Level 3'!AF33/I148*V$141,\"*\")","v":158.73461001434592},{"$f":"IFERROR('Level 3'!AG33/J148*W$141,\"*\")","v":156.13968675722967},{"$f":"IFERROR('Level 3'!AH33/K148*X$141,\"*\")","v":157.14568759317237},{"$f":"IFERROR('Level 3'!AI33/L148*Y$141,\"*\")","v":144.92929354423563},{"$f":"IFERROR('Level 3'!AJ33/M148*Z$141,\"*\")","v":139.84886039778445},{"$f":"IFERROR('Level 3'!AK33/N148*AA$141,\"*\")","v":141.05543113777779},{"$f":"IFERROR('Level 3'!AL33/O148*AB$141,\"*\")","v":"*"},null,{"$f":"'Oversættelse af landenavne'!$B$33","v":"Sverige"},{"$f":"IFERROR('Level 3'!AO33/E148*R$141,\"*\")","v":119.49954326242278},{"$f":"IFERROR('Level 3'!AP33/F148*S$141,\"*\")","v":121.04777744003346},{"$f":"IFERROR('Level 3'!AQ33/G148*T$141,\"*\")","v":110.8209971491234},{"$f":"IFERROR('Level 3'!AR33/H148*U$141,\"*\")","v":128.05690981744132},{"$f":"IFERROR('Level 3'!AS33/I148*V$141,\"*\")","v":136.78195118257472},{"$f":"IFERROR('Level 3'!AT33/J148*W$141,\"*\")","v":132.35782692510656},{"$f":"IFERROR('Level 3'!AU33/K148*X$141,\"*\")","v":133.34836620216387},{"$f":"IFERROR('Level 3'!AV33/L148*Y$141,\"*\")","v":122.28645399467977},{"$f":"IFERROR('Level 3'!AW33/M148*Z$141,\"*\")","v":115.40816023162134},{"$f":"IFERROR('Level 3'!AX33/N148*AA$141,\"*\")","v":114.02104808444446},{"$f":"IFERROR('Level 3'!AY33/O148*AB$141,\"*\")","v":"*"},null,{"$f":"'Oversættelse af landenavne'!$B$33","v":"Sverige"},{"$f":"IFERROR('Level 3'!BB33/E148*R$141,\"*\")","v":106.66765806425427},{"$f":"IFERROR('Level 3'!BC33/F148*S$141,\"*\")","v":110.22335156284664},{"$f":"IFERROR('Level 3'!BD33/G148*T$141,\"*\")","v":102.57975031071884},{"$f":"IFERROR('Level 3'!BE33/H148*U$141,\"*\")","v":116.62395157683163},{"$f":"IFERROR('Level 3'!BF33/I148*V$141,\"*\")","v":123.19586512235263},{"$f":"IFERROR('Level 3'!BG33/J148*W$141,\"*\")","v":118.60537762921436},{"$f":"IFERROR('Level 3'!BH33/K148*X$141,\"*\")","v":118.72135018794529},{"$f":"IFERROR('Level 3'!BI33/L148*Y$141,\"*\")","v":106.56120983338558},{"$f":"IFERROR('Level 3'!BJ33/M148*Z$141,\"*\")","v":100.54100621349447},{"$f":"IFERROR('Level 3'!BK33/N148*AA$141,\"*\")","v":99.572920502222232},{"$f":"IFERROR('Level 3'!BL33/O148*AB$141,\"*\")","v":"*"}]
[null,null,null,{"$f":"'Oversættelse af landenavne'!$B$34","v":"UK"},{"$f":"IFERROR('Level 3'!B$34/E149*R$141,\"*\")","v":153.95036779951101},{"$f":"IFERROR('Level 3'!C$34/F149*S$141,\"*\")","v":144.04583546044864},{"$f":"IFERROR('Level 3'!D$34/G149*T$141,\"*\")","v":142.69114935912239},{"$f":"IFERROR('Level 3'!E$34/H149*U$141,\"*\")","v":126.74683857941834},{"$f":"IFERROR('Level 3'!F$34/I149*V$141,\"*\")","v":130.14494714668095},{"$f":"IFERROR('Level 3'!G$34/J149*W$141,\"*\")","v":148.72010322580647},{"$f":"IFERROR('Level 3'!H$34/K149*X$141,\"*\")","v":161.34984408121827},{"$f":"IFERROR('Level 3'!I$34/L149*Y$141,\"*\")","v":182.90207043500001},{"$f":"IFERROR('Level 3'!J$34/M149*Z$141,\"*\")","v":195.23805705500001},{"$f":"IFERROR('Level 3'!K$34/N149*AA$141,\"*\")","v":184.69771342222222},{"$f":"IFERROR('Level 3'!L$34/O149*AB$141,\"*\")","v":"*"},null,{"$f":"'Oversættelse af landenavne'!$B$34","v":"UK"},{"$f":"IFERROR('Level 3'!O$34/E149*R$141,\"*\")","v":148.57258704156482},{"$f":"IFERROR('Level 3'!P$34/F149*S$141,\"*\")","v":140.13369650531286},{"$f":"IFERROR('Level 3'!Q$34/G149*T$141,\"*\")","v":132.07207316397231},{"$f":"IFERROR('Level 3'!R$34/H149*U$141,\"*\")","v":127.12170599552572},{"$f":"IFERROR('Level 3'!S$34/I149*V$141,\"*\")","v":129.98540691113493},{"$f":"IFERROR('Level 3'!T$34/J149*W$141,\"*\")","v":146.70618516129034},{"$f":"IFERROR('Level 3'!U$34/K149*X$141,\"*\")","v":145.79029787817257},{"$f":"IFERROR('Level 3'!V$34/L149*Y$141,\"*\")","v":162.40153268500001},{"$f":"IFERROR('Level 3'!W$34/M149*Z$141,\"*\")","v":178.08902015499999},{"$f":"IFERROR('Level 3'!X$34/N149*AA$141,\"*\")","v":165.4087183511111},{"$f":"IFERROR('Level 3'!Y$34/O149*AB$141,\"*\")","v":"*"},null,{"$f":"'Oversættelse af landenavne'!$B$34","v":"UK"},{"$f":"IFERROR('Level 3'!AB34/E149*R$141,\"*\")","v":134.99141190709048},{"$f":"IFERROR('Level 3'!AC34/F149*S$141,\"*\")","v":134.55120608618657},{"$f":"IFERROR('Level 3'!AD34/G149*T$141,\"*\")","v":123.51662311200924},{"$f":"IFERROR('Level 3'!AE34/H149*U$141,\"*\")","v":118.08323607382547},{"$f":"IFERROR('Level 3'!AF34/I149*V$141,\"*\")","v":120.33322266059957},{"$f":"IFERROR('Level 3'!AG34/J149*W$141,\"*\")","v":134.27411403225807},{"$f":"IFERROR('Level 3'!AH34/K149*X$141,\"*\")","v":133.94081378680204},{"$f":"IFERROR('Level 3'!AI34/L149*Y$141,\"*\")","v":146.52293435500002},{"$f":"IFERROR('Level 3'!AJ34/M149*Z$141,\"*\")","v":160.60445861999997},{"$f":"IFERROR('Level 3'!AK34/N149*AA$141,\"*\")","v":145.3004995511111},{"$f":"IFERROR('Level 3'!AL34/O149*AB$141,\"*\")","v":"*"},null,{"$f":"'Oversættelse af landenavne'!$B$34","v":"UK"},{"$f":"IFERROR('Level 3'!AO34/E149*R$141,\"*\")","v":122.13942738386311},{"$f":"IFERROR('Level 3'!AP34/F149*S$141,\"*\")","v":120.88069805194807},{"$f":"IFERROR('Level 3'!AQ34/G149*T$141,\"*\")","v":110.01706875866051},{"$f":"IFERROR('Level 3'!AR34/H149*U$141,\"*\")","v":106.00417488814318},{"$f":"IFERROR('Level 3'!AS34/I149*V$141,\"*\")","v":106.89195781584583},{"$f":"IFERROR('Level 3'!AT34/J149*W$141,\"*\")","v":120.17668758064518},{"$f":"IFERROR('Level 3'!AU34/K149*X$141,\"*\")","v":122.01561414213199},{"$f":"IFERROR('Level 3'!AV34/L149*Y$141,\"*\")","v":132.09801052},{"$f":"IFERROR('Level 3'!AW34/M149*Z$141,\"*\")","v":146.51242395},{"$f":"IFERROR('Level 3'!AX34/N149*AA$141,\"*\")","v":133.83136734666667},{"$f":"IFERROR('Level 3'!AY34/O149*AB$141,\"*\")","v":"*"},null,{"$f":"'Oversættelse af landenavne'!$B$34","v":"UK"},{"$f":"IFERROR('Level 3'!BB34/E149*R$141,\"*\")","v":102.54242970660147},{"$f":"IFERROR('Level 3'!BC34/F149*S$141,\"*\")","v":118.81473703069656},{"$f":"IFERROR('Level 3'!BD34/G149*T$141,\"*\")","v":107.43753607967665},{"$f":"IFERROR('Level 3'!BE34/H149*U$141,\"*\")","v":97.090660771812068},{"$f":"IFERROR('Level 3'!BF34/I149*V$141,\"*\")","v":98.635750626338336},{"$f":"IFERROR('Level 3'!BG34/J149*W$141,\"*\")","v":110.76549354838711},{"$f":"IFERROR('Level 3'!BH34/K149*X$141,\"*\")","v":112.09687665989848},{"$f":"IFERROR('Level 3'!BI34/L149*Y$141,\"*\")","v":121.77319423500001},{"$f":"IFERROR('Level 3'!BJ34/M149*Z$141,\"*\")","v":134.28441502999996},{"$f":"IFERROR('Level 3'!BK34/N149*AA$141,\"*\")","v":121.17063699111112},{"$f":"IFERROR('Level 3'!BL34/O149*AB$141,\"*\")","v":"*"}]
[null,null,null,"Kilde: Eurostat",null,null,null,null,null,null,null,null,null,null,null,null,"Kilde: Eurostat",null,null,null,null,null,null,null,null,null,null,null,null,"Kilde: Eurostat",null,null,null,null,null,null,null,null,null,null,null,null,"Kilde: Eurostat",null,null,null,null,null,null,null,null,null,null,null,null,"Kilde: Eurostat"]
[]
[]
[]
[]
[null,null,null,"Baggrundstabeller"]
[null,null,null,"Herunder vises de tabeller, der fremkommer som resultatet er valgene truffet øverst i valgmenuen. De ganges på rådata for at få resultattabellerne som kan ses længere oppe."]
[]
[]
[null,null,null,"Tabel B - HICP deflatoren",null,null,null,null,null,null,null,null,null,null,null,null,"Tabel C - Valutakurs"]
[null,null,null,"Tabel B fremkommer som resultat af valgene truffet for faste/løbende priser og basisår.\n\nHICP deflatoren vises for samtlige lande for det valgte år. Vælges løbende priser deflaterer man ikke, hvorfor der vil stå et 1-tal i alle celler.\n\nFormlen gør at \"fejlværdien\" svarer til at man har valgt løbende priser (gælder både for overskrift og formler). Med denne metode kan indeksværdien ganges direkte på rådata uanset hvilken valuta der vælges.",null,null,null,null,null,null,null,null,null,null,null,null,"Tabel C viser hvilken kurs der ganges på rådata (opgivet i euro) for at få priserne vist i den valuta der er valgt i valgmenuen øverst.\n\nKursen ændres efter valgt år og valuta."]
[]
[null,null,null,{"$f":"IF($E$13=\"faste priser\",\"HICP deflatoren for med basisåret \"&$E$14&\"\",\"Prisindeks for løbende priser år \"&E140&\" til \"&K140)","v":"HICP deflatoren for med basisåret 2016"},null,null,null,null,null,null,null,null,null,null,null,null,{"$f":"\"Valutakursen for \"&E15&\" i fht. Euro\"","v":"Valutakursen for DKK øre i fht. Euro"}]
[null,null,null,null,{"$f":"'Baggrundsdata - HICP - deflator'!S19","v":2007},{"$f":"'Baggrundsdata - HICP - deflator'!T19","v":2008},{"$f":"'Baggrundsdata - HICP - deflator'!U19","v":2009},{"$f":"'Baggrundsdata - HICP - deflator'!V19","v":2010},{"$f":"'Baggrundsdata - HICP - deflator'!W19","v":2011},{"$f":"'Baggrundsdata - HICP - deflator'!X19","v":2012},{"$f":"'Baggrundsdata - HICP - deflator'!Y19","v":2013},{"$f":"'Baggrundsdata - HICP - deflator'!Z19","v":2014},{"$f":"'Baggrundsdata - HICP - deflator'!AA19","v":2015},{"$f":"'Baggrundsdata - HICP - deflator'!AB19","v":2016},{"$f":"'Baggrundsdata - HICP - deflator'!AC19","v":2017},null,null,{"$f":"Forside!E53","v":2007},{"$f":"Forside!F53","v":2008},{"$f":"Forside!G53","v":2009},{"$f":"Forside!H53","v":2010},{"$f":"Forside!I53","v":2011},{"$f":"Forside!J53","v":2012},{"$f":"Forside!K53","v":2013},{"$f":"Forside!L53","v":2014},{"$f":"Forside!M53","v":2015},{"$f":"Forside!N53","v":2016},{"$f":"Forside!O53","v":2017}]
[null,null,null,{"$f":"'Baggrundsdata - HICP - deflator'!R20","v":"EU-28"},{"$f":"IF($E$13=\"faste priser\",HLOOKUP(E$140,'Baggrundsdata - HICP - deflator'!$S$19:$AC$29,2,FALSE),1)","v":0.86658665000000012},{"$f":"IF($E$13=\"faste priser\",HLOOKUP(F$140,'Baggrundsdata - HICP - deflator'!$S$19:$AC$29,2,FALSE),1)","v":0.89828982000000002},{"$f":"IF($E$13=\"faste priser\",HLOOKUP(G$140,'Baggrundsdata - HICP - deflator'!$S$19:$AC$29,2,FALSE),1)","v":0.90709070000000003},{"$f":"IF($E$13=\"faste priser\",HLOOKUP(H$140,'Baggrundsdata - HICP - deflator'!$S$19:$AC$29,2,FALSE),1)","v":0.92599259000000012},{"$f":"IF($E$13=\"faste priser\",HLOOKUP(I$140,'Baggrundsdata - HICP - deflator'!$S$19:$AC$29,2,FALSE),1)","v":0.95469545999999994},{"$f":"IF($E$13=\"faste priser\",HLOOKUP(J$140,'Baggrundsdata - HICP - deflator'!$S$19:$AC$29,2,FALSE),1)","v":0.97999798999999999},{"$f":"IF($E$13=\"faste priser\",HLOOKUP(K$140,'Baggrundsdata - HICP - deflator'!$S$19:$AC$29,2,FALSE),1)","v":0.99479947000000002},{"$f":"IF($E$13=\"faste priser\",HLOOKUP(L$140,'Baggrundsdata - HICP - deflator'!$S$19:$AC$29,2,FALSE),1)","v":1.0002000100000001},{"$f":"IF($E$13=\"faste priser\",HLOOKUP(M$140,'Baggrundsdata - HICP - deflator'!$S$19:$AC$29,2,FALSE),1)","v":1.0001},{"$f":"IF($E$13=\"faste priser\",HLOOKUP(N$140,'Baggrundsdata - HICP - deflator'!$S$19:$AC$29,2,FALSE),1)","v":1},{"$f":"IF($E$13=\"faste priser\",HLOOKUP(O$140,'Baggrundsdata - HICP - deflator'!$S$19:$AC$29,2,FALSE),1)","v":0},null,"Alle lande",{"$f":"IF($E$15=\"Euro\",1,IF($E$15=\"eurocent\",100,IF($E$15=\"DKK øre\",HLOOKUP(R140,Forside!$E$53:$O$54,2,FALSE),IF($E$15=\"DKK\",((HLOOKUP(R140,Forside!$E$53:$O$54,2,FALSE))/100),\"F\"))))","v":745.59739999999999},{"$f":"IF($E$15=\"Euro\",1,IF($E$15=\"eurocent\",100,IF($E$15=\"DKK øre\",HLOOKUP(S140,Forside!$E$53:$O$54,2,FALSE),IF($E$15=\"DKK\",((HLOOKUP(S140,Forside!$E$53:$O$54,2,FALSE))/100),\"F\"))))","v":744.62509999999997},{"$f":"IF($E$15=\"Euro\",1,IF($E$15=\"eurocent\",100,IF($E$15=\"DKK øre\",HLOOKUP(T140,Forside!$E$53:$O$54,2,FALSE),IF($E$15=\"DKK\",((HLOOKUP(T140,Forside!$E$53:$O$54,2,FALSE))/100),\"F\"))))","v":744.62509999999997},{"$f":"IF($E$15=\"Euro\",1,IF($E$15=\"eurocent\",100,IF($E$15=\"DKK øre\",HLOOKUP(U140,Forside!$E$53:$O$54,2,FALSE),IF($E$15=\"DKK\",((HLOOKUP(U140,Forside!$E$53:$O$54,2,FALSE))/100),\"F\"))))","v":744.73659999999995},{"$f":"IF($E$15=\"Euro\",1,IF($E$15=\"eurocent\",100,IF($E$15=\"DKK øre\",HLOOKUP(V140,Forside!$E$53:$O$54,2,FALSE),IF($E$15=\"DKK\",((HLOOKUP(V140,Forside!$E$53:$O$54,2,FALSE))/100),\"F\"))))","v":745.05290000000002},{"$f":"IF($E$15=\"Euro\",1,IF($E$15=\"eurocent\",100,IF($E$15=\"DKK øre\",HLOOKUP(W140,Forside!$E$53:$O$54,2,FALSE),IF($E$15=\"DKK\",((HLOOKUP(W140,Forside!$E$53:$O$54,2,FALSE))/100),\"F\"))))","v":744.37509999999997},{"$f":"IF($E$15=\"Euro\",1,IF($E$15=\"eurocent\",100,IF($E$15=\"DKK øre\",HLOOKUP(X140,Forside!$E$53:$O$54,2,FALSE),IF($E$15=\"DKK\",((HLOOKUP(X140,Forside!$E$53:$O$54,2,FALSE))/100),\"F\"))))","v":745.79819999999995},{"$f":"IF($E$15=\"Euro\",1,IF($E$15=\"eurocent\",100,IF($E$15=\"DKK øre\",HLOOKUP(Y140,Forside!$E$53:$O$54,2,FALSE),IF($E$15=\"DKK\",((HLOOKUP(Y140,Forside!$E$53:$O$54,2,FALSE))/100),\"F\"))))","v":745.47410000000002},{"$f":"IF($E$15=\"Euro\",1,IF($E$15=\"eurocent\",100,IF($E$15=\"DKK øre\",HLOOKUP(Z140,Forside!$E$53:$O$54,2,FALSE),IF($E$15=\"DKK\",((HLOOKUP(Z140,Forside!$E$53:$O$54,2,FALSE))/100),\"F\"))))","v":745.61029999999994},{"$f":"IF($E$15=\"Euro\",1,IF($E$15=\"eurocent\",100,IF($E$15=\"DKK øre\",HLOOKUP(AA140,Forside!$E$53:$O$54,2,FALSE),IF($E$15=\"DKK\",((HLOOKUP(AA140,Forside!$E$53:$O$54,2,FALSE))/100),\"F\"))))","v":744.74884444444444},{"$f":"IF($E$15=\"Euro\",1,IF($E$15=\"eurocent\",100,IF($E$15=\"DKK øre\",HLOOKUP(AB140,Forside!$E$53:$O$54,2,FALSE),IF($E$15=\"DKK\",((HLOOKUP(AB140,Forside!$E$53:$O$54,2,FALSE))/100),\"F\"))))","v":0}]
[null,null,null,{"$f":"'Baggrundsdata - HICP - deflator'!R21","v":"Belgien"},{"$f":"IF($E$13=\"faste priser\",HLOOKUP(E$140,'Baggrundsdata - HICP - deflator'!$S$19:$AC$29,3,FALSE),1)","v":0.85595993999999986},{"$f":"IF($E$13=\"faste priser\",HLOOKUP(F$140,'Baggrundsdata - HICP - deflator'!$S$19:$AC$29,3,FALSE),1)","v":0.89441999999999988},{"$f":"IF($E$13=\"faste priser\",HLOOKUP(G$140,'Baggrundsdata - HICP - deflator'!$S$19:$AC$29,3,FALSE),1)","v":0.8943206199999999},{"$f":"IF($E$13=\"faste priser\",HLOOKUP(H$140,'Baggrundsdata - HICP - deflator'!$S$19:$AC$29,3,FALSE),1)","v":0.91519041999999995},{"$f":"IF($E$13=\"faste priser\",HLOOKUP(I$140,'Baggrundsdata - HICP - deflator'!$S$19:$AC$29,3,FALSE),1)","v":0.94589884000000002},{"$f":"IF($E$13=\"faste priser\",HLOOKUP(J$140,'Baggrundsdata - HICP - deflator'!$S$19:$AC$29,3,FALSE),1)","v":0.97074383999999991},{"$f":"IF($E$13=\"faste priser\",HLOOKUP(K$140,'Baggrundsdata - HICP - deflator'!$S$19:$AC$29,3,FALSE),1)","v":0.98286819999999997},{"$f":"IF($E$13=\"faste priser\",HLOOKUP(L$140,'Baggrundsdata - HICP - deflator'!$S$19:$AC$29,3,FALSE),1)","v":0.9876384399999999},{"$f":"IF($E$13=\"faste priser\",HLOOKUP(M$140,'Baggrundsdata - HICP - deflator'!$S$19:$AC$29,3,FALSE),1)","v":0.99379999999999991},{"$f":"IF($E$13=\"faste priser\",HLOOKUP(N$140,'Baggrundsdata - HICP - deflator'!$S$19:$AC$29,3,FALSE),1)","v":1},{"$f":"IF($E$13=\"faste priser\",HLOOKUP(O$140,'Baggrundsdata - HICP - deflator'!$S$19:$AC$29,3,FALSE),1)","v":0}]
[null,null,null,{"$f":"'Baggrundsdata - HICP - deflator'!R22","v":"Danmark"},{"$f":"IF($E$13=\"faste priser\",HLOOKUP(E$140,'Baggrundsdata - HICP - deflator'!$S$19:$AC$29,4,FALSE),1)","v":0.87823999999999991},{"$f":"IF($E$13=\"faste priser\",HLOOKUP(F$140,'Baggrundsdata - HICP - deflator'!$S$19:$AC$29,4,FALSE),1)","v":0.91017599999999987},{"$f":"IF($E$13=\"faste priser\",HLOOKUP(G$140,'Baggrundsdata - HICP - deflator'!$S$19:$AC$29,4,FALSE),1)","v":0.91915799999999981},{"$f":"IF($E$13=\"faste priser\",HLOOKUP(H$140,'Baggrundsdata - HICP - deflator'!$S$19:$AC$29,4,FALSE),1)","v":0.93911799999999979},{"$f":"IF($E$13=\"faste priser\",HLOOKUP(I$140,'Baggrundsdata - HICP - deflator'!$S$19:$AC$29,4,FALSE),1)","v":0.96406799999999981},{"$f":"IF($E$13=\"faste priser\",HLOOKUP(J$140,'Baggrundsdata - HICP - deflator'!$S$19:$AC$29,4,FALSE),1)","v":0.98702199999999984},{"$f":"IF($E$13=\"faste priser\",HLOOKUP(K$140,'Baggrundsdata - HICP - deflator'!$S$19:$AC$29,4,FALSE),1)","v":0.99201199999999989},{"$f":"IF($E$13=\"faste priser\",HLOOKUP(L$140,'Baggrundsdata - HICP - deflator'!$S$19:$AC$29,4,FALSE),1)","v":0.99600399999999978},{"$f":"IF($E$13=\"faste priser\",HLOOKUP(M$140,'Baggrundsdata - HICP - deflator'!$S$19:$AC$29,4,FALSE),1)","v":0.99799999999999989},{"$f":"IF($E$13=\"faste priser\",HLOOKUP(N$140,'Baggrundsdata - HICP - deflator'!$S$19:$AC$29,4,FALSE),1)","v":1},{"$f":"IF($E$13=\"faste priser\",HLOOKUP(O$140,'Baggrundsdata - HICP - deflator'!$S$19:$AC$29,4,FALSE),1)","v":0}]
[null,null,null,{"$f":"'Baggrundsdata - HICP - deflator'!R23","v":"Tyskland"},{"$f":"IF($E$13=\"faste priser\",HLOOKUP(E$140,'Baggrundsdata - HICP - deflator'!$S$19:$AC$29,5,FALSE),1)","v":0.89410500000000004},{"$f":"IF($E$13=\"faste priser\",HLOOKUP(F$140,'Baggrundsdata - HICP - deflator'!$S$19:$AC$29,5,FALSE),1)","v":0.91808100000000015},{"$f":"IF($E$13=\"faste priser\",HLOOKUP(G$140,'Baggrundsdata - HICP - deflator'!$S$19:$AC$29,5,FALSE),1)","v":0.92007899999999998},{"$f":"IF($E$13=\"faste priser\",HLOOKUP(H$140,'Baggrundsdata - HICP - deflator'!$S$19:$AC$29,5,FALSE),1)","v":0.93106800000000012},{"$f":"IF($E$13=\"faste priser\",HLOOKUP(I$140,'Baggrundsdata - HICP - deflator'!$S$19:$AC$29,5,FALSE),1)","v":0.95404500000000003},{"$f":"IF($E$13=\"faste priser\",HLOOKUP(J$140,'Baggrundsdata - HICP - deflator'!$S$19:$AC$29,5,FALSE),1)","v":0.97402500000000003},{"$f":"IF($E$13=\"faste priser\",HLOOKUP(K$140,'Baggrundsdata - HICP - deflator'!$S$19:$AC$29,5,FALSE),1)","v":0.99000900000000003},{"$f":"IF($E$13=\"faste priser\",HLOOKUP(L$140,'Baggrundsdata - HICP - deflator'!$S$19:$AC$29,5,FALSE),1)","v":0.99800100000000014},{"$f":"IF($E$13=\"faste priser\",HLOOKUP(M$140,'Baggrundsdata - HICP - deflator'!$S$19:$AC$29,5,FALSE),1)","v":0.99900000000000011},{"$f":"IF($E$13=\"faste priser\",HLOOKUP(N$140,'Baggrundsdata - HICP - deflator'!$S$19:$AC$29,5,FALSE),1)","v":1},{"$f":"IF($E$13=\"faste priser\",HLOOKUP(O$140,'Baggrundsdata - HICP - deflator'!$S$19:$AC$29,5,FALSE),1)","v":0}]
[null,null,null,{"$f":"'Baggrundsdata - HICP - deflator'!R24","v":"Frankrig"},{"$f":"IF($E$13=\"faste priser\",HLOOKUP(E$140,'Baggrundsdata - HICP - deflator'!$S$19:$AC$29,6,FALSE),1)","v":0.89439432000000008},{"$f":"IF($E$13=\"faste priser\",HLOOKUP(F$140,'Baggrundsdata - HICP - deflator'!$S$19:$AC$29,6,FALSE),1)","v":0.92256894000000012},{"$f":"IF($E$13=\"faste priser\",HLOOKUP(G$140,'Baggrundsdata - HICP - deflator'!$S$19:$AC$29,6,FALSE),1)","v":0.92356804000000003},{"$f":"IF($E$13=\"faste priser\",HLOOKUP(H$140,'Baggrundsdata - HICP - deflator'!$S$19:$AC$29,6,FALSE),1)","v":0.93965355000000006},{"$f":"IF($E$13=\"faste priser\",HLOOKUP(I$140,'Baggrundsdata - HICP - deflator'!$S$19:$AC$29,6,FALSE),1)","v":0.96113420000000016},{"$f":"IF($E$13=\"faste priser\",HLOOKUP(J$140,'Baggrundsdata - HICP - deflator'!$S$19:$AC$29,6,FALSE),1)","v":0.98241503000000008},{"$f":"IF($E$13=\"faste priser\",HLOOKUP(K$140,'Baggrundsdata - HICP - deflator'!$S$19:$AC$29,6,FALSE),1)","v":0.99220621000000009},{"$f":"IF($E$13=\"faste priser\",HLOOKUP(L$140,'Baggrundsdata - HICP - deflator'!$S$19:$AC$29,6,FALSE),1)","v":0.99820081000000005},{"$f":"IF($E$13=\"faste priser\",HLOOKUP(M$140,'Baggrundsdata - HICP - deflator'!$S$19:$AC$29,6,FALSE),1)","v":0.9991000000000001},{"$f":"IF($E$13=\"faste priser\",HLOOKUP(N$140,'Baggrundsdata - HICP - deflator'!$S$19:$AC$29,6,FALSE),1)","v":1},{"$f":"IF($E$13=\"faste priser\",HLOOKUP(O$140,'Baggrundsdata - HICP - deflator'!$S$19:$AC$29,6,FALSE),1)","v":0}]
[null,null,null,{"$f":"'Baggrundsdata - HICP - deflator'!R25","v":"Italien"},{"$f":"IF($E$13=\"faste priser\",HLOOKUP(E$140,'Baggrundsdata - HICP - deflator'!$S$19:$AC$29,7,FALSE),1)","v":0.87212699999999999},{"$f":"IF($E$13=\"faste priser\",HLOOKUP(F$140,'Baggrundsdata - HICP - deflator'!$S$19:$AC$29,7,FALSE),1)","v":0.90309600000000012},{"$f":"IF($E$13=\"faste priser\",HLOOKUP(G$140,'Baggrundsdata - HICP - deflator'!$S$19:$AC$29,7,FALSE),1)","v":0.91008900000000004},{"$f":"IF($E$13=\"faste priser\",HLOOKUP(H$140,'Baggrundsdata - HICP - deflator'!$S$19:$AC$29,7,FALSE),1)","v":0.92507400000000006},{"$f":"IF($E$13=\"faste priser\",HLOOKUP(I$140,'Baggrundsdata - HICP - deflator'!$S$19:$AC$29,7,FALSE),1)","v":0.95204700000000009},{"$f":"IF($E$13=\"faste priser\",HLOOKUP(J$140,'Baggrundsdata - HICP - deflator'!$S$19:$AC$29,7,FALSE),1)","v":0.98301600000000011},{"$f":"IF($E$13=\"faste priser\",HLOOKUP(K$140,'Baggrundsdata - HICP - deflator'!$S$19:$AC$29,7,FALSE),1)","v":0.99600300000000008},{"$f":"IF($E$13=\"faste priser\",HLOOKUP(L$140,'Baggrundsdata - HICP - deflator'!$S$19:$AC$29,7,FALSE),1)","v":0.99800100000000014},{"$f":"IF($E$13=\"faste priser\",HLOOKUP(M$140,'Baggrundsdata - HICP - deflator'!$S$19:$AC$29,7,FALSE),1)","v":0.99900000000000011},{"$f":"IF($E$13=\"faste priser\",HLOOKUP(N$140,'Baggrundsdata - HICP - deflator'!$S$19:$AC$29,7,FALSE),1)","v":1},{"$f":"IF($E$13=\"faste priser\",HLOOKUP(O$140,'Baggrundsdata - HICP - deflator'!$S$19:$AC$29,7,FALSE),1)","v":0}]
[null,null,null,{"$f":"'Baggrundsdata - HICP - deflator'!R26","v":"Holland"},{"$f":"IF($E$13=\"faste priser\",HLOOKUP(E$140,'Baggrundsdata - HICP - deflator'!$S$19:$AC$29,8,FALSE),1)","v":0.88174444000000007},{"$f":"IF($E$13=\"faste priser\",HLOOKUP(F$140,'Baggrundsdata - HICP - deflator'!$S$19:$AC$29,8,FALSE),1)","v":0.90130328000000004},{"$f":"IF($E$13=\"faste priser\",HLOOKUP(G$140,'Baggrundsdata - HICP - deflator'!$S$19:$AC$29,8,FALSE),1)","v":0.91008480000000014},{"$f":"IF($E$13=\"faste priser\",HLOOKUP(H$140,'Baggrundsdata - HICP - deflator'!$S$19:$AC$29,8,FALSE),1)","v":0.9185669500000001},{"$f":"IF($E$13=\"faste priser\",HLOOKUP(I$140,'Baggrundsdata - HICP - deflator'!$S$19:$AC$29,8,FALSE),1)","v":0.94121927999999999},{"$f":"IF($E$13=\"faste priser\",HLOOKUP(J$140,'Baggrundsdata - HICP - deflator'!$S$19:$AC$29,8,FALSE),1)","v":0.96786321000000008},{"$f":"IF($E$13=\"faste priser\",HLOOKUP(K$140,'Baggrundsdata - HICP - deflator'!$S$19:$AC$29,8,FALSE),1)","v":0.99261113000000012},{"$f":"IF($E$13=\"faste priser\",HLOOKUP(L$140,'Baggrundsdata - HICP - deflator'!$S$19:$AC$29,8,FALSE),1)","v":0.9958044100000002},{"$f":"IF($E$13=\"faste priser\",HLOOKUP(M$140,'Baggrundsdata - HICP - deflator'!$S$19:$AC$29,8,FALSE),1)","v":0.99790000000000012},{"$f":"IF($E$13=\"faste priser\",HLOOKUP(N$140,'Baggrundsdata - HICP - deflator'!$S$19:$AC$29,8,FALSE),1)","v":1},{"$f":"IF($E$13=\"faste priser\",HLOOKUP(O$140,'Baggrundsdata - HICP - deflator'!$S$19:$AC$29,8,FALSE),1)","v":0}]
[null,null,null,{"$f":"'Baggrundsdata - HICP - deflator'!R27","v":"Sverige"},{"$f":"IF($E$13=\"faste priser\",HLOOKUP(E$140,'Baggrundsdata - HICP - deflator'!$S$19:$AC$29,9,FALSE),1)","v":0.89191260000000006},{"$f":"IF($E$13=\"faste priser\",HLOOKUP(F$140,'Baggrundsdata - HICP - deflator'!$S$19:$AC$29,9,FALSE),1)","v":0.92180190000000006},{"$f":"IF($E$13=\"faste priser\",HLOOKUP(G$140,'Baggrundsdata - HICP - deflator'!$S$19:$AC$29,9,FALSE),1)","v":0.93967590000000001},{"$f":"IF($E$13=\"faste priser\",HLOOKUP(H$140,'Baggrundsdata - HICP - deflator'!$S$19:$AC$29,9,FALSE),1)","v":0.95754990000000018},{"$f":"IF($E$13=\"faste priser\",HLOOKUP(I$140,'Baggrundsdata - HICP - deflator'!$S$19:$AC$29,9,FALSE),1)","v":0.97065750000000006},{"$f":"IF($E$13=\"faste priser\",HLOOKUP(J$140,'Baggrundsdata - HICP - deflator'!$S$19:$AC$29,9,FALSE),1)","v":0.97969380000000006},{"$f":"IF($E$13=\"faste priser\",HLOOKUP(K$140,'Baggrundsdata - HICP - deflator'!$S$19:$AC$29,9,FALSE),1)","v":0.98406300000000002},{"$f":"IF($E$13=\"faste priser\",HLOOKUP(L$140,'Baggrundsdata - HICP - deflator'!$S$19:$AC$29,9,FALSE),1)","v":0.98604900000000006},{"$f":"IF($E$13=\"faste priser\",HLOOKUP(M$140,'Baggrundsdata - HICP - deflator'!$S$19:$AC$29,9,FALSE),1)","v":0.9930000000000001},{"$f":"IF($E$13=\"faste priser\",HLOOKUP(N$140,'Baggrundsdata - HICP - deflator'!$S$19:$AC$29,9,FALSE),1)","v":1},{"$f":"IF($E$13=\"faste priser\",HLOOKUP(O$140,'Baggrundsdata - HICP - deflator'!$S$19:$AC$29,9,FALSE),1)","v":0}]
[null,null,null,{"$f":"'Baggrundsdata - HICP - deflator'!R28","v":"UK"},{"$f":"IF($E$13=\"faste priser\",HLOOKUP(E$140,'Baggrundsdata - HICP - deflator'!$S$19:$AC$29,10,FALSE),1)","v":0.81799999999999995},{"$f":"IF($E$13=\"faste priser\",HLOOKUP(F$140,'Baggrundsdata - HICP - deflator'!$S$19:$AC$29,10,FALSE),1)","v":0.84699999999999998},{"$f":"IF($E$13=\"faste priser\",HLOOKUP(G$140,'Baggrundsdata - HICP - deflator'!$S$19:$AC$29,10,FALSE),1)","v":0.86599999999999999},{"$f":"IF($E$13=\"faste priser\",HLOOKUP(H$140,'Baggrundsdata - HICP - deflator'!$S$19:$AC$29,10,FALSE),1)","v":0.89400000000000002},{"$f":"IF($E$13=\"faste priser\",HLOOKUP(I$140,'Baggrundsdata - HICP - deflator'!$S$19:$AC$29,10,FALSE),1)","v":0.93400000000000005},{"$f":"IF($E$13=\"faste priser\",HLOOKUP(J$140,'Baggrundsdata - HICP - deflator'!$S$19:$AC$29,10,FALSE),1)","v":0.96099999999999997},{"$f":"IF($E$13=\"faste priser\",HLOOKUP(K$140,'Baggrundsdata - HICP - deflator'!$S$19:$AC$29,10,FALSE),1)","v":0.98499999999999999},{"$f":"IF($E$13=\"faste priser\",HLOOKUP(L$140,'Baggrundsdata - HICP - deflator'!$S$19:$AC$29,10,FALSE),1)","v":1},{"$f":"IF($E$13=\"faste priser\",HLOOKUP(M$140,'Baggrundsdata - HICP - deflator'!$S$19:$AC$29,10,FALSE),1)","v":1},{"$f":"IF($E$13=\"faste priser\",HLOOKUP(N$140,'Baggrundsdata - HICP - deflator'!$S$19:$AC$29,10,FALSE),1)","v":1},{"$f":"IF($E$13=\"faste priser\",HLOOKUP(O$140,'Baggrundsdata - HICP - deflator'!$S$19:$AC$29,10,FALSE),1)","v":0}]

{"sheet":"Alle lande, valgt år","index":2,"n_rows":133,"n_cols":50,"rows_kept":133,"cut":false,"hidden":false,"merged":[[4,3,4,7],[5,3,5,7],[6,3,6,7],[23,3,23,10],[23,12,23,19],[11,5,11,6],[12,5,12,6],[13,5,13,6],[14,5,14,6],[23,30,23,37],[23,39,23,46],[25,1,44,1],[25,3,25,10],[25,12,25,19],[25,21,25,28],[25,30,25,37],[25,39,25,46],[23,21,23,28],[25,49,44,49],[48,1,67,1],[48,3,48,10],[48,12,48,19],[48,21,48,28],[48,30,48,37],[48,39,48,46],[48,49,67,49],[71,1,90,1],[71,3,71,10],[71,12,71,19],[71,21,71,28],[71,30,71,37],[130,3,130,5],[130,12,130,14],[130,21,130,23],[130,30,130,32],[130,39,130,41],[71,49,90,49],[97,3,97,10],[97,12,97,19],[97,21,97,28],[97,30,97,37],[97,39,97,46],[71,39,71,46],[132,3,132,7],[132,12,132,16],[132,21,132,25],[132,30,132,34],[132,39,132,43],[131,3,131,6],[131,12,131,15],[131,21,131,24],[131,30,131,33],[131,39,131,42]]}
[null,null,null,"NAVN PÅ ARK:",null,"Alle lande, valgt år"]
[null,null,null,"Data hentes fra:",null,"'Baggrundstabeller for alle lande'"]
[]
[null,null,null,"Sådan bruges arket:"]
[null,null,null,"Arket 'alle lande, valgt år' viser figurer og tabeller (de grå-blå) for elprisen for private forbrugere opdelt på level 1, 2 og 3 for hvert interval.  Prisen vises i én valuta for ét år, enten i faste eller løbende priser. Priserne vises for alle lande tilgængelige i eurostat.\n\nÅret, pristypen, basisået og valuta kan ændres efter ønske. Dette gøres i de farvede rullemenuer nedenfor. De valg man træffer ændrer resultattabellerne gennem en ændring af tabellerne i arket 'Baggrundstabeller for alle lande'. \n\n"]
[null,null,null,{"$f":"\"Rent teknisk styrer hver rullemenu en tabel i tilsvarende farve i arket '\"&'Baggrundstabeller for alle land'!E1&\"'. Data fra disse tabeller ganges sammen og heraf fremkommer resultattabellen.\"","v":"Rent teknisk styrer hver rullemenu en tabel i tilsvarende farve i arket 'Baggrundstabeller for alle lande, valgt år'. Data fra disse tabeller ganges sammen og heraf fremkommer resultattabellen."}]
[null,null,null,"Hvis man ønsker at se hvordan de forskellige valg påvirker resultattabellen skal man kigge i 'Baggrundstabeller for alle lande'.\n  \nTil hver resultattabel hører tre figurer. En for hvert level. I resultattabellen er totalprisen for hvert level opgjort i en seperat totalprissøjle. Hvis man ønsker at sortere figurerne efter stigende priser kan man kopiere de ønskede tabeller og figurer over i et seperat ark."]
[]
[]
[]
[null,null,null,"Vælg",null,null,"Resultater vises i"]
[null,null,null,"Vælg år",2015,{"$f":"\"Tabel A i '\"&'Baggrundstabeller for alle land'!$E$1&\"'\"","v":"Tabel A i 'Baggrundstabeller for alle lande, valgt år'"}]
[null,null,null,"Vælg pristype","faste priser",{"$f":"\"Tabel B i '\"&'Baggrundstabeller for alle land'!$E$1&\"'\"","v":"Tabel B i 'Baggrundstabeller for alle lande, valgt år'"}]
[null,null,null,"Vælg Basisår (kun ved fast pris)",2016,{"$f":"\"Tabel B i '\"&'Baggrundstabeller for alle land'!$E$1&\"'\"","v":"Tabel B i 'Baggrundstabeller for alle lande, valgt år'"}]
[null,null,null,"Vælg valuta","DKK",{"$f":"\"Tabel C i '\"&'Baggrundstabeller for alle land'!$E$1&\"'\"","v":"Tabel C i 'Baggrundstabeller for alle lande, valgt år'"}]
[]
[]
[]
[null,null,null,"Resultatfigurer og -tabeller"]
[null,null,null,"Valgene truffet ovenfor giver tabeller og figurer der er:"]
[null,null,null,{"$f":"\"Oppgjort for året \"&E12&\" i \"&$E$13&\" med basisår \"&$E$14","v":"Oppgjort for året 2015 i faste priser med basisår 2016"}]
[null,null,null,{"$f":"\"Vist i \"&E15&\" / kWh.\"","v":"Vist i DKK / kWh."}]
[]
[null,null,null,{"$f":"D98","v":"IA: < 1000 kWh"},null,null,null,null,null,null,null,null,{"$f":"M98","v":"IB: 1000 < 2500 kWh"},null,null,null,null,null,null,null,null,{"$f":"V98","v":"IC: 2500 < 5000 kWh"},null,null,null,null,null,null,null,null,{"$f":"AE98","v":"ID: 5000 < 15000 kWh"},null,null,null,null,null,null,null,null,{"$f":"AN98","v":"IE: > 15000 kWh"}]
[]
[null,"Level 1: Elspris ekskl. PSO og afgifter",null,{"$f":"\"Figur XX: \"&$B$26&\". \nPriserne er vist for år \"&$E$12&\" i \"&$E$13&\" med basisår \"&$E$14&\". Priserne er vist for intervallet \"&D$24&\" i \"&$E$15&\" / kWh. \"","v":"Figur XX: Level 1: Elspris ekskl. PSO og afgifter. \nPriserne er vist for år 2015 i faste priser med basisår 2016. Priserne er vist for intervallet IA: < 1000 kWh i DKK / kWh. "},null,null,null,null,null,null,null,null,{"$f":"\"Figur XX: \"&$B$26&\". \nPriserne er vist for år \"&$E$12&\" i \"&$E$13&\" med basisår \"&$E$14&\". Priserne er vist for intervallet \"&M$24&\" i \"&$E$15&\" / kWh. \"","v":"Figur XX: Level 1: Elspris ekskl. PSO og afgifter. \nPriserne er vist for år 2015 i faste priser med basisår 2016. Priserne er vist for intervallet IB: 1000 < 2500 kWh i DKK / kWh. "},null,null,null,null,null,null,null,null,{"$f":"\"Figur XX: \"&$B$26&\". \nPriserne er vist for år \"&$E$12&\" i \"&$E$13&\" med basisår \"&$E$14&\". Priserne er vist for intervallet \"&V$24&\" i \"&$E$15&\" / kWh. \"","v":"Figur XX: Level 1: Elspris ekskl. PSO og afgifter. \nPriserne er vist for år 2015 i faste priser med basisår 2016. Priserne er vist for intervallet IC: 2500 < 5000 kWh i DKK / kWh. "},null,null,null,null,null,null,null,null,{"$f":"\"Figur XX: \"&$B$26&\". \nPriserne er vist for år \"&$E$12&\" i \"&$E$13&\" med basisår \"&$E$14&\". Priserne er vist for intervallet \"&AE$24&\" i \"&$E$15&\" / kWh. \"","v":"Figur XX: Level 1: Elspris ekskl. PSO og afgifter. \nPriserne er vist for år 2015 i faste priser med basisår 2016. Priserne er vist for intervallet ID: 5000 < 15000 kWh i DKK / kWh. "},null,null,null,null,null,null,null,null,{"$f":"\"Figur XX: \"&$B$26&\". \nPriserne er vist for år \"&$E$12&\" i \"&$E$13&\" med basisår \"&$E$14&\". Priserne er vist for intervallet \"&AN$24&\" i \"&$E$15&\" / kWh. \"","v":"Figur XX: Level 1: Elspris ekskl. PSO og afgifter. \nPriserne er vist for år 2015 i faste priser med basisår 2016. Priserne er vist for intervallet IE: > 15000 kWh i DKK / kWh. "},null,null,null,null,null,null,null,null,null,{"$f":"B26","v":"Level 1: Elspris ekskl. PSO og afgifter"}]
[]
[]
[]
[]
[]
[]
[]
[]
[]
[]
[]
[]
[]
[]
[]
[]
[]
[]
[null,null,null,"Kilde: Eurostat",null,null,null,null,null,null,null,null,"Kilde: Eurostat",null,null,null,null,null,null,null,null,"Kilde: Eurostat",null,null,null,null,null,null,null,null,"Kilde: Eurostat",null,null,null,null,null,null,null,null,"Kilde: Eurostat"]
[]
[]
[]
[null,"Level 2: Elpris inkl. PSO og afgifter",null,{"$f":"\"Figur XX: \"&$B49&\". \nPriserne er vist for år \"&$E$12&\" i \"&$E$13&\" med basisår \"&$E$14&\". Priserne er vist for intervallet \"&D$24&\" i \"&$E$15&\" / kWh. \"","v":"Figur XX: Level 2: Elpris inkl. PSO og afgifter. \nPriserne er vist for år 2015 i faste priser med basisår 2016. Priserne er vist for intervallet IA: < 1000 kWh i DKK / kWh. "},null,null,null,null,null,null,null,null,{"$f":"\"Figur XX: \"&$B49&\". \nPriserne er vist for år \"&$E$12&\" i \"&$E$13&\" med basisår \"&$E$14&\". Priserne er vist for intervallet \"&M$24&\" i \"&$E$15&\" / kWh. \"","v":"Figur XX: Level 2: Elpris inkl. PSO og afgifter. \nPriserne er vist for år 2015 i faste priser med basisår 2016. Priserne er vist for intervallet IB: 1000 < 2500 kWh i DKK / kWh. "},null,null,null,null,null,null,null,null,{"$f":"\"Figur XX: \"&$B49&\". \nPriserne er vist for år \"&$E$12&\" i \"&$E$13&\" med basisår \"&$E$14&\". Priserne er vist for intervallet \"&V$24&\" i \"&$E$15&\" / kWh. \"","v":"Figur XX: Level 2: Elpris inkl. PSO og afgifter. \nPriserne er vist for år 2015 i faste priser med basisår 2016. Priserne er vist for intervallet IC: 2500 < 5000 kWh i DKK / kWh. "},null,null,null,null,null,null,null,null,{"$f":"\"Figur XX: \"&$B49&\". \nPriserne er vist for år \"&$E$12&\" i \"&$E$13&\" med basisår \"&$E$14&\". Priserne er vist for intervallet \"&AE$24&\" i \"&$E$15&\" / kWh. \"","v":"Figur XX: Level 2: Elpris inkl. PSO og afgifter. \nPriserne er vist for år 2015 i faste priser med basisår 2016. Priserne er vist for intervallet ID: 5000 < 15000 kWh i DKK / kWh. "},null,null,null,null,null,null,null,null,{"$f":"\"Figur XX: \"&$B49&\". \nPriserne er vist for år \"&$E$12&\" i \"&$E$13&\" med basisår \"&$E$14&\". Priserne er vist for intervallet \"&AN$24&\" i \"&$E$15&\" / kWh. \"","v":"Figur XX: Level 2: Elpris inkl. PSO og afgifter. \nPriserne er vist for år 2015 i faste priser med basisår 2016. Priserne er vist for intervallet IE: > 15000 kWh i DKK / kWh. "},null,null,null,null,null,null,null,null,null,{"$f":"B49","v":"Level 2: Elpris inkl. PSO og afgifter"}]
[]
[]
[]
[]
[]
[]
[]
[]
[]
[]
[]
[]
[]
[]
[]
[]
[]
[]
[null,null,null,"Kilde: Eurostat",null,null,null,null,null,null,null,null,"Kilde: Eurostat",null,null,null,null,null,null,null,null,"Kilde: Eurostat",null,null,null,null,null,null,null,null,"Kilde: Eurostat",null,null,null,null,null,null,null,null,"Kilde: Eurostat"]
[]
[]
[]
[null,"Level 3: Elpris inkl. PSO, afgifter og moms",null,{"$f":"\"Figur XX: \"&$B$72&\". \nPriserne er vist for år \"&$E$12&\" i \"&$E$13&\" med basisår \"&$E$14&\". Priserne er vist for intervallet \"&D$24&\" i \"&$E$15&\" / kWh. \"","v":"Figur XX: Level 3: Elpris inkl. PSO, afgifter og moms. \nPriserne er vist for år 2015 i faste priser med basisår 2016. Priserne er vist for intervallet IA: < 1000 kWh i DKK / kWh. "},null,null,null,null,null,null,null,null,{"$f":"\"Figur XX: \"&$B$72&\". \nPriserne er vist for år \"&$E$12&\" i \"&$E$13&\" med basisår \"&$E$14&\". Priserne er vist for intervallet \"&M$24&\" i \"&$E$15&\" / kWh. \"","v":"Figur XX: Level 3: Elpris inkl. PSO, afgifter og moms. \nPriserne er vist for år 2015 i faste priser med basisår 2016. Priserne er vist for intervallet IB: 1000 < 2500 kWh i DKK / kWh. "},null,null,null,null,null,null,null,null,{"$f":"\"Figur XX: \"&$B$72&\". \nPriserne er vist for år \"&$E$12&\" i \"&$E$13&\" med basisår \"&$E$14&\". Priserne er vist for intervallet \"&V$24&\" i \"&$E$15&\" / kWh. \"","v":"Figur XX: Level 3: Elpris inkl. PSO, afgifter og moms. \nPriserne er vist for år 2015 i faste priser med basisår 2016. Priserne er vist for intervallet IC: 2500 < 5000 kWh i DKK / kWh. "},null,null,null,null,null,null,null,null,{"$f":"\"Figur XX: \"&$B$72&\". \nPriserne er vist for år \"&$E$12&\" i \"&$E$13&\" med basisår \"&$E$14&\". Priserne er vist for intervallet \"&AE$24&\" i \"&$E$15&\" / kWh. \"","v":"Figur XX: Level 3: Elpris inkl. PSO, afgifter og moms. \nPriserne er vist for år 2015 i faste priser med basisår 2016. Priserne er vist for intervallet ID: 5000 < 15000 kWh i DKK / kWh. "},null,null,null,null,null,null,null,null,{"$f":"\"Figur XX: \"&$B$72&\". \nPriserne er vist for år \"&$E$12&\" i \"&$E$13&\" med basisår \"&$E$14&\". Priserne er vist for intervallet \"&AN$24&\" i \"&$E$15&\" / kWh. \"","v":"Figur XX: Level 3: Elpris inkl. PSO, afgifter og moms. \nPriserne er vist for år 2015 i faste priser med basisår 2016. Priserne er vist for intervallet IE: > 15000 kWh i DKK / kWh. "},null,null,null,null,null,null,null,null,null,{"$f":"B72","v":"Level 3: Elpris inkl. PSO, afgifter og moms"}]
[]
[]
[]
[]
[]
[]
[]
[]
[]
[]
[]
[]
[]
[]
[]
[]
[]
[]
[null,null,null,"Kilde: Eurostat",null,null,null,null,null,null,null,null,"Kilde: Eurostat",null,null,null,null,null,null,null,null,"Kilde: Eurostat",null,null,null,null,null,null,null,null,"Kilde: Eurostat",null,null,null,null,null,null,null,null,"Kilde: Eurostat"]
[]
[]
[]
[]
[]
[]
[null,null,null,{"$f":"'Baggrundstabeller for alle land'!D26:J26","v":"IA: < 1000 kWh"},null,null,null,null,null,null,null,null,{"$f":"'Baggrundstabeller for alle land'!L26","v":"IB: 1000 < 2500 kWh"},null,null,null,null,null,null,null,null,{"$f":"'Baggrundstabeller for alle land'!T26","v":"IC: 2500 < 5000 kWh"},null,null,null,null,null,null,null,null,{"$f":"'Baggrundstabeller for alle land'!AB26","v":"ID: 5000 < 15000 kWh"},null,null,null,null,null,null,null,null,{"$f":"'Baggrundstabeller for alle land'!AJ26","v":"IE: > 15000 kWh"}]
[]
[null,null,null,{"$f":"$E$15 &\" / kWh \"&$E$12","v":"DKK / kWh 2015"},null,null,null,null,null,null,null,null,{"$f":"$E$15 &\" / kWh \"&$E$12","v":"DKK / kWh 2015"},null,null,null,null,null,null,null,null,{"$f":"$E$15 &\" / kWh \"&$E$12","v":"DKK / kWh 2015"},null,null,null,null,null,null,null,null,{"$f":"$E$15 &\" / kWh \"&$E$12","v":"DKK / kWh 2015"},null,null,null,null,null,null,null,null,{"$f":"$E$15 &\" / kWh \"&$E$12","v":"DKK / kWh 2015"}]
[null,null,null,"  ","original rækkefølge ","Elpris ekskl. PSO, eksl. afgifter ","PSO og afgifter","Moms","Total pris\n(level 1)","Total pris\n(level 2)","Total pris\n(level 3)",null,"   ","original rækkefølge ","Elpris ekskl. PSO, eksl. afgifter ","PSO og afgifter","Moms","Total pris\n(level 1)","Total pris\n(level 2)","Total pris\n(level 3)",null,"   ","original rækkefølge ","Elpris ekskl. PSO, eksl. afgifter ","PSO og afgifter","Moms","Total pris\n(level 1)","Total pris\n(level 2)","Total pris\n(level 3)",null,"  ","original rækkefølge ","Elpris ekskl. PSO, eksl. afgifter ","PSO og afgifter","Moms","Total pris\n(level 1)","Total pris\n(level 2)","Total pris\n(level 3)",null,"  ","original rækkefølge ","Elpris ekskl. PSO, eksl. afgifter ","PSO og afgifter","Moms","Total pris\n(level 1)","Total pris\n(level 2)","Total pris\n(level 3)"]
[null,null,null,{"$f":"'Baggrundstabeller for alle land'!D29","v":"EU-28"},1,{"$f":"'Baggrundstabeller for alle land'!E29","v":1.7691563262673733},{"$f":"'Baggrundstabeller for alle land'!F29","v":0.3209531388361162},{"$f":"'Baggrundstabeller for alle land'!G29","v":0.33288171077892187},{"$f":"F102","v":1.7691563262673733},{"$f":"SUM(F102:G102)","v":2.0901094651034895},{"$f":"SUM(F102:H102)","v":2.4229911758824114},null,{"$f":"'Baggrundstabeller for alle land'!L29","v":"EU-28"},1,{"$f":"'Baggrundstabeller for alle land'!M29","v":1.1876384440555945},{"$f":"'Baggrundstabeller for alle land'!N29","v":0.26690179722027796},{"$f":"'Baggrundstabeller for alle land'!O29","v":0.23484376012398758},{"$f":"O102","v":1.1876384440555945},{"$f":"SUM(O102:P102)","v":1.4545402412758723},{"$f":"SUM(O102:Q102)","v":1.68938400139986},null,{"$f":"'Baggrundstabeller for alle land'!T29","v":"EU-28"},1,{"$f":"'Baggrundstabeller for alle land'!U29","v":1.0515781703329667},{"$f":"'Baggrundstabeller for alle land'!V29","v":0.29150447685231456},{"$f":"'Baggrundstabeller for alle land'!W29","v":0.21769643795620439},{"$f":"X102","v":1.0515781703329667},{"$f":"SUM(X102:Y102)","v":1.3430826471852813},{"$f":"SUM(X102:Z102)","v":1.5607790851414856},null,{"$f":"'Baggrundstabeller for alle land'!AB29","v":"EU-28"},1,{"$f":"'Baggrundstabeller for alle land'!AC29","v":0.97665182781721815},{"$f":"'Baggrundstabeller for alle land'!AD29","v":0.30753349540045999},{"$f":"'Baggrundstabeller for alle land'!AE29","v":0.20763170537946193},{"$f":"AG102","v":0.97665182781721815},{"$f":"SUM(AG102:AH102)","v":1.2841853232176781},{"$f":"SUM(AG102:AI102)","v":1.4918170285971399},null,{"$f":"'Baggrundstabeller for alle land'!AJ29","v":"EU-28"},1,{"$f":"'Baggrundstabeller for alle land'!AK29","v":0.93341075452454758},{"$f":"'Baggrundstabeller for alle land'!AL29","v":0.29933260218978097},{"$f":"'Baggrundstabeller for alle land'!AM29","v":0.19943081216878308},{"$f":"AP102","v":0.93341075452454758},{"$f":"SUM(AP102:AQ102)","v":1.2327433567143284},{"$f":"SUM(AP102:AR102)","v":1.4321741688831116}]
[null,null,null,{"$f":"'Baggrundstabeller for alle land'!D30","v":"Belgien"},2,{"$f":"'Baggrundstabeller for alle land'!E30","v":1.7803715454819886},{"$f":"'Baggrundstabeller for alle land'!F30","v":0.15192803959549198},{"$f":"'Baggrundstabeller for alle land'!G30","v":0.21457491024350989},1.7803715454819886,1.9322995850774807,2.1468744953209904,null,{"$f":"'Baggrundstabeller for alle land'!L30","v":"Belgien"},2,{"$f":"'Baggrundstabeller for alle land'!M30","v":1.4738895495572553},{"$f":"'Baggrundstabeller for alle land'!N30","v":0.1463010751660293},{"$f":"'Baggrundstabeller for alle land'!O30","v":0.17180998057959351},1.4738895495572553,1.6201906247232847,1.7920006053028783,null,{"$f":"'Baggrundstabeller for alle land'!T30","v":"Belgien"},2,{"$f":"'Baggrundstabeller for alle land'!U30","v":1.372604189826927},{"$f":"'Baggrundstabeller for alle land'!V30","v":0.15267830151942025},{"$f":"'Baggrundstabeller for alle land'!W30","v":0.15455395632924138},1.372604189826927,1.5252824913463472,1.6798364476755885,null,{"$f":"'Baggrundstabeller for alle land'!AB30","v":"Belgien"},2,{"$f":"'Baggrundstabeller for alle land'!AC30","v":1.2225518050412558},{"$f":"'Baggrundstabeller for alle land'!AD30","v":0.15042751574763544},{"$f":"'Baggrundstabeller for alle land'!AE30","v":0.13917358688871009},1.2225518050412558,1.3729793207888912,1.5121529076776012,null,{"$f":"'Baggrundstabeller for alle land'!AJ30","v":"Belgien"},2,{"$f":"'Baggrundstabeller for alle land'!AK30","v":1.0102276805695312},{"$f":"'Baggrundstabeller for alle land'!AL30","v":0.12604400321996387},{"$f":"'Baggrundstabeller for alle land'!AM30","v":0.13504714630710396},1.0102276805695312,1.1362716837894951,1.271318830096599]
[null,null,null,{"$f":"'Baggrundstabeller for alle land'!D31","v":"Bulgarien"},3,{"$f":"'Baggrundstabeller for alle land'!E31","v":0.59749143549663619},{"$f":"'Baggrundstabeller for alle land'!F31","v":0},{"$f":"'Baggrundstabeller for alle land'!G31","v":0.11986710897309075},0.59749143549663619,0.59749143549663619,0.71735854446972691,null,{"$f":"'Baggrundstabeller for alle land'!L31","v":"Bulgarien"},3,{"$f":"'Baggrundstabeller for alle land'!M31","v":0.58863971052631581},{"$f":"'Baggrundstabeller for alle land'!N31","v":0},{"$f":"'Baggrundstabeller for alle land'!O31","v":0.11765417773051044},0.58863971052631581,0.58863971052631581,0.70629388825682626,null,{"$f":"'Baggrundstabeller for alle land'!T31","v":"Bulgarien"},3,{"$f":"'Baggrundstabeller for alle land'!U31","v":0.5838450261673922},{"$f":"'Baggrundstabeller for alle land'!V31","v":0},{"$f":"'Baggrundstabeller for alle land'!W31","v":0.11654771210922049},0.5838450261673922,0.5838450261673922,0.70039273827661264,null,{"$f":"'Baggrundstabeller for alle land'!AB31","v":"Bulgarien"},3,{"$f":"'Baggrundstabeller for alle land'!AC31","v":0.58310738241986548},{"$f":"'Baggrundstabeller for alle land'!AD31","v":0},{"$f":"'Baggrundstabeller for alle land'!AE31","v":0.11654771210922038},0.58310738241986548,0.58310738241986548,0.69965509452908581,null,{"$f":"'Baggrundstabeller for alle land'!AJ31","v":"Bulgarien"},3,{"$f":"'Baggrundstabeller for alle land'!AK31","v":0.5797879855559952},{"$f":"'Baggrundstabeller for alle land'!AL31","v":0},{"$f":"'Baggrundstabeller for alle land'!AM31","v":0.11617889023545697},0.5797879855559952,0.5797879855559952,0.69596687579145211]
[null,null,null,{"$f":"'Baggrundstabeller for alle land'!D32","v":"Tjekkiet"},4,{"$f":"'Baggrundstabeller for alle land'!E32","v":1.5965623357715433},{"$f":"'Baggrundstabeller for alle land'!F32","v":8.2181495991983221E-3},{"$f":"'Baggrundstabeller for alle land'!G32","v":0.33694413356713454},1.5965623357715433,1.6047804853707417,1.9417246189378763,null,{"$f":"'Baggrundstabeller for alle land'!L32","v":"Tjekkiet"},4,{"$f":"'Baggrundstabeller for alle land'!M32","v":1.1311162266533068},{"$f":"'Baggrundstabeller for alle land'!N32","v":8.2181495991983221E-3},{"$f":"'Baggrundstabeller for alle land'!O32","v":0.23795278612224466},1.1311162266533068,1.1393343762525052,1.3772871623747498,null,{"$f":"'Baggrundstabeller for alle land'!T32","v":"Tjekkiet"},4,{"$f":"'Baggrundstabeller for alle land'!U32","v":0.85431400606212438},{"$f":"'Baggrundstabeller for alle land'!V32","v":8.2181495991983221E-3},{"$f":"'Baggrundstabeller for alle land'!W32","v":0.18079929118236474},0.85431400606212438,0.86253215566132269,1.0433314468436874,null,{"$f":"'Baggrundstabeller for alle land'!AB32","v":"Tjekkiet"},4,{"$f":"'Baggrundstabeller for alle land'!AC32","v":0.67351471487975956},{"$f":"'Baggrundstabeller for alle land'!AD32","v":8.2181495991984245E-3},{"$f":"'Baggrundstabeller for alle land'!AE32","v":0.14232340896793588},0.67351471487975956,0.68173286447895798,0.82405627344689392,null,{"$f":"'Baggrundstabeller for alle land'!AJ32","v":"Tjekkiet"},4,{"$f":"'Baggrundstabeller for alle land'!AK32","v":0.57527047194388781},{"$f":"'Baggrundstabeller for alle land'!AL32","v":8.2181495991984245E-3},{"$f":"'Baggrundstabeller for alle land'!AM32","v":0.12289869173346687},0.57527047194388781,0.58348862154308623,0.70638731327655313]
[null,null,null,{"$f":"'Baggrundstabeller for alle land'!D33","v":"Danmark"},5,{"$f":"'Baggrundstabeller for alle land'!E33","v":0.88681305220440887},{"$f":"'Baggrundstabeller for alle land'!F33","v":1.1045940165831665},{"$f":"'Baggrundstabeller for alle land'!G33","v":0.49757160300601205},0.88681305220440887,1.9914070687875753,2.4889786717935873,null,{"$f":"'Baggrundstabeller for alle land'!L33","v":"Danmark"},5,{"$f":"'Baggrundstabeller for alle land'!M33","v":0.88681305220440887},{"$f":"'Baggrundstabeller for alle land'!N33","v":1.1045940165831665},{"$f":"'Baggrundstabeller for alle land'!O33","v":0.49757160300601205},0.88681305220440887,1.9914070687875753,2.4889786717935873,null,{"$f":"'Baggrundstabeller for alle land'!T33","v":"Danmark"},5,{"$f":"'Baggrundstabeller for alle land'!U33","v":0.72170295571142284},{"$f":"'Baggrundstabeller for alle land'!V33","v":1.1038469120741485},{"$f":"'Baggrundstabeller for alle land'!W33","v":0.45685440726452892},0.72170295571142284,1.8255498677855715,2.2824042750501006,null,{"$f":"'Baggrundstabeller for alle land'!AB33","v":"Danmark"},5,{"$f":"'Baggrundstabeller for alle land'!AC33","v":0.59880426397795594},{"$f":"'Baggrundstabeller for alle land'!AD33","v":0.73851280716432866},{"$f":"'Baggrundstabeller for alle land'!AE33","v":0.33619702905811633},0.59880426397795594,1.3373170711422846,1.6735141002004008,null,{"$f":"'Baggrundstabeller for alle land'!AJ33","v":"Danmark"},5,{"$f":"'Baggrundstabeller for alle land'!AK33","v":0.59880426397795594},{"$f":"'Baggrundstabeller for alle land'!AL33","v":0.73851280716432866},{"$f":"'Baggrundstabeller for alle land'!AM33","v":0.33619702905811633},0.59880426397795594,1.3373170711422846,1.6735141002004008]
[null,null,null,{"$f":"'Baggrundstabeller for alle land'!D34","v":"Tyskland"},6,{"$f":"'Baggrundstabeller for alle land'!E34","v":1.9479908738738738},{"$f":"'Baggrundstabeller for alle land'!F34","v":0.78777945110110126},{"$f":"'Baggrundstabeller for alle land'!G34","v":0.51983741136136119},1.9479908738738738,2.735770324974975,3.2556077363363363,null,{"$f":"'Baggrundstabeller for alle land'!L34","v":"Tyskland"},6,{"$f":"'Baggrundstabeller for alle land'!M34","v":1.2273835218718718},{"$f":"'Baggrundstabeller for alle land'!N34","v":0.78554038113113089},{"$f":"'Baggrundstabeller for alle land'!O34","v":0.38250778653653617},1.2273835218718718,2.0129239030030028,2.3954316895395391,null,{"$f":"'Baggrundstabeller for alle land'!T34","v":"Tyskland"},6,{"$f":"'Baggrundstabeller for alle land'!U34","v":1.0665436623623621},{"$f":"'Baggrundstabeller for alle land'!V34","v":0.78292813283283258},{"$f":"'Baggrundstabeller for alle land'!W34","v":0.35116080695695656},1.0665436623623621,1.8494717951951947,2.2006326021521514,null,{"$f":"'Baggrundstabeller for alle land'!AB34","v":"Tyskland"},6,{"$f":"'Baggrundstabeller for alle land'!AC34","v":0.97324908028028034},{"$f":"'Baggrundstabeller for alle land'!AD34","v":0.7821817761761759},{"$f":"'Baggrundstabeller for alle land'!AE34","v":0.33362142552552582},0.97324908028028034,1.7554308564564562,2.0890522819819819,null,{"$f":"'Baggrundstabeller for alle land'!AJ34","v":"Tyskland"},6,{"$f":"'Baggrundstabeller for alle land'!AK34","v":0.93817031741741719},{"$f":"'Baggrundstabeller for alle land'!AL34","v":0.74113216006006},{"$f":"'Baggrundstabeller for alle land'!AM34","v":0.31906747072072117},0.93817031741741719,1.6793024774774772,1.9983699481981985]
[null,null,null,{"$f":"'Baggrundstabeller for alle land'!D35","v":"Estland"},7,{"$f":"'Baggrundstabeller for alle land'!E35","v":0.73120994095867109},{"$f":"'Baggrundstabeller for alle land'!F35","v":9.8862568547983559E-2},{"$f":"'Baggrundstabeller for alle land'!G35","v":0.1656414356049235},0.73120994095867109,0.83007250950665468,0.99571394511157818,null,{"$f":"'Baggrundstabeller for alle land'!L35","v":"Estland"},7,{"$f":"'Baggrundstabeller for alle land'!M35","v":0.73494060392274585},{"$f":"'Baggrundstabeller for alle land'!N35","v":9.9608701140798561E-2},{"$f":"'Baggrundstabeller for alle land'!O35","v":0.16041850745521857},0.73494060392274585,0.83454930506354441,0.99496781251876298,null,{"$f":"'Baggrundstabeller for alle land'!T35","v":"Estland"},7,{"$f":"'Baggrundstabeller for alle land'!U35","v":0.70957209576703695},{"$f":"'Baggrundstabeller for alle land'!V35","v":9.9981767437205993E-2},{"$f":"'Baggrundstabeller for alle land'!W35","v":0.15780704338036614},0.70957209576703695,0.80955386320424294,0.96736090658460905,null,{"$f":"'Baggrundstabeller for alle land'!AB35","v":"Estland"},7,{"$f":"'Baggrundstabeller for alle land'!AC35","v":0.66704253797658364},{"$f":"'Baggrundstabeller for alle land'!AD35","v":9.9981767437205993E-2},{"$f":"'Baggrundstabeller for alle land'!AE35","v":0.1533302478234764},0.66704253797658364,0.76702430541378963,0.920354553237266,null,{"$f":"'Baggrundstabeller for alle land'!AJ35","v":"Estland"},7,{"$f":"'Baggrundstabeller for alle land'!AK35","v":0.61667858796157304},{"$f":"'Baggrundstabeller for alle land'!AL35","v":0.10035483373361344},{"$f":"'Baggrundstabeller for alle land'!AM35","v":0.1473611870809568},0.61667858796157304,0.71703342169518647,0.86439460877614327]
[null,null,null,{"$f":"'Baggrundstabeller for alle land'!D36","v":"Irland"},8,{"$f":"'Baggrundstabeller for alle land'!E36","v":3.1334272857499998},{"$f":"'Baggrundstabeller for alle land'!F36","v":0.73591736610000003},{"$f":"'Baggrundstabeller for alle land'!G36","v":0.52230001514999957},3.1334272857499998,3.8693446518499997,4.3916446669999996,null,{"$f":"'Baggrundstabeller for alle land'!L36","v":"Irland"},8,{"$f":"'Baggrundstabeller for alle land'!M36","v":1.7745525139999998},{"$f":"'Baggrundstabeller for alle land'!N36","v":0.25015225565000015},{"$f":"'Baggrundstabeller for alle land'!O36","v":0.27326617495000011},1.7745525139999998,2.02470476965,2.2979709446000003,null,{"$f":"'Baggrundstabeller for alle land'!T36","v":"Irland"},8,{"$f":"'Baggrundstabeller for alle land'!U36","v":1.47668119915},{"$f":"'Baggrundstabeller for alle land'!V36","v":0.12600814069999999},{"$f":"'Baggrundstabeller for alle land'!W36","v":0.21659979214999994},1.47668119915,1.6026893398499999,1.819289132,null,{"$f":"'Baggrundstabeller for alle land'!AB36","v":"Irland"},8,{"$f":"'Baggrundstabeller for alle land'!AC36","v":1.2981075323},{"$f":"'Baggrundstabeller for alle land'!AD36","v":6.5986511549999974E-2},{"$f":"'Baggrundstabeller for alle land'!AE36","v":0.1841657441},1.2981075323,1.36409404385,1.54825978795,null,{"$f":"'Baggrundstabeller for alle land'!AJ36","v":"Irland"},8,{"$f":"'Baggrundstabeller for alle land'!AK36","v":1.1433933950499999},{"$f":"'Baggrundstabeller for alle land'!AL36","v":2.1622698700000102E-2},{"$f":"'Baggrundstabeller for alle land'!AM36","v":0.15695096815000009},1.1433933950499999,1.16501609375,1.3219670619000001]
[null,null,null,{"$f":"'Baggrundstabeller for alle land'!D37","v":"Grækenland"},9,{"$f":"'Baggrundstabeller for alle land'!E37","v":1.3557556488477893},{"$f":"'Baggrundstabeller for alle land'!F37","v":0.2370821001384629},{"$f":"'Baggrundstabeller for alle land'!G37","v":0.20684767990307598},1.3557556488477893,1.5928377489862522,1.7996854288893283,null,{"$f":"'Baggrundstabeller for alle land'!L37","v":"Grækenland"},9,{"$f":"'Baggrundstabeller for alle land'!M37","v":0.93947930194837304},{"$f":"'Baggrundstabeller for alle land'!N37","v":0.23966308723172758},{"$f":"'Baggrundstabeller for alle land'!O37","v":0.15375308827020082},0.93947930194837304,1.1791423891801007,1.3328954774503015,null,{"$f":"'Baggrundstabeller for alle land'!T37","v":"Grækenland"},9,{"$f":"'Baggrundstabeller for alle land'!U37","v":0.89892093333992673},{"$f":"'Baggrundstabeller for alle land'!V37","v":0.2555177222332114},{"$f":"'Baggrundstabeller for alle land'!W37","v":0.15006596385125093},0.89892093333992673,1.1544386555731381,1.304504619424389,null,{"$f":"'Baggrundstabeller for alle land'!AB37","v":"Grækenland"},9,{"$f":"'Baggrundstabeller for alle land'!AC37","v":0.8756920495005438},{"$f":"'Baggrundstabeller for alle land'!AD37","v":0.35617621887053685},{"$f":"'Baggrundstabeller for alle land'!AE37","v":0.16002119978241536},0.8756920495005438,1.2318682683710807,1.3918894681534959,null,{"$f":"'Baggrundstabeller for alle land'!AJ37","v":"Grækenland"},9,{"$f":"'Baggrundstabeller for alle land'!AK37","v":0.83402754356641273},{"$f":"'Baggrundstabeller for alle land'!AL37","v":0.41627634689941623},{"$f":"'Baggrundstabeller for alle land'!AM37","v":0.16297089931757497},0.83402754356641273,1.250303890465829,1.4132747897834039]
[null,null,null,{"$f":"'Baggrundstabeller for alle land'!D38","v":"Spanien"},10,{"$f":"'Baggrundstabeller for alle land'!E38","v":3.019710600864554},{"$f":"'Baggrundstabeller for alle land'!F38","v":0.15411601152737786},{"$f":"'Baggrundstabeller for alle land'!G38","v":0.66647765561959649},3.019710600864554,3.1738266123919319,3.8403042680115282,null,{"$f":"'Baggrundstabeller for alle land'!L38","v":"Spanien"},10,{"$f":"'Baggrundstabeller for alle land'!M38","v":1.62155236167147},{"$f":"'Baggrundstabeller for alle land'!N38","v":8.2985544668587818E-2},{"$f":"'Baggrundstabeller for alle land'!O38","v":0.35787516138328546},1.62155236167147,1.7045379063400579,2.0624130677233432,null,{"$f":"'Baggrundstabeller for alle land'!T38","v":"Spanien"},10,{"$f":"'Baggrundstabeller for alle land'!U38","v":1.3629634769452452},{"$f":"'Baggrundstabeller for alle land'!V38","v":6.9648582132564793E-2},{"$f":"'Baggrundstabeller for alle land'!W38","v":0.30082259942363115},1.3629634769452452,1.43261205907781,1.7334346585014411,null,{"$f":"'Baggrundstabeller for alle land'!AB38","v":"Spanien"},10,{"$f":"'Baggrundstabeller for alle land'!AC38","v":1.1881010792507205},{"$f":"'Baggrundstabeller for alle land'!AD38","v":6.0757273775216246E-2},{"$f":"'Baggrundstabeller for alle land'!AE38","v":0.26192312536023077},1.1881010792507205,1.2488583530259367,1.5107814783861675,null,{"$f":"'Baggrundstabeller for alle land'!AJ38","v":"Spanien"},10,{"$f":"'Baggrundstabeller for alle land'!AK38","v":1.1191934394812684},{"$f":"'Baggrundstabeller for alle land'!AL38","v":5.7052561959654073E-2},{"$f":"'Baggrundstabeller for alle land'!AM38","v":0.24710427809798269},1.1191934394812684,1.1762460014409224,1.423350279538905]
[null,null,null,{"$f":"'Baggrundstabeller for alle land'!D39","v":"Frankrig"},11,{"$f":"'Baggrundstabeller for alle land'!E39","v":1.6201781216094484},{"$f":"'Baggrundstabeller for alle land'!F39","v":0.25298958232409158},{"$f":"'Baggrundstabeller for alle land'!G39","v":0.21978003538184346},1.6201781216094484,1.8731677039335399,2.0929477393153832,null,{"$f":"'Baggrundstabeller for alle land'!L39","v":"Frankrig"},11,{"$f":"'Baggrundstabeller for alle land'!M39","v":0.94665865834250829},{"$f":"'Baggrundstabeller for alle land'!N39","v":0.24104907106395748},{"$f":"'Baggrundstabeller for alle land'!O39","v":0.18731677039335384},0.94665865834250829,1.1877077294064657,1.3750244997998196,null,{"$f":"'Baggrundstabeller for alle land'!T39","v":"Frankrig"},11,{"$f":"'Baggrundstabeller for alle land'!U39","v":0.8112084837353617},{"$f":"'Baggrundstabeller for alle land'!V39","v":0.23806394324892396},{"$f":"'Baggrundstabeller for alle land'!W39","v":0.18171965574016599},0.8112084837353617,1.0492724269842857,1.2309920827244516,null,{"$f":"'Baggrundstabeller for alle land'!AB39","v":"Frankrig"},11,{"$f":"'Baggrundstabeller for alle land'!AC39","v":0.72799804589130201},{"$f":"'Baggrundstabeller for alle land'!AD39","v":0.23619823836452813},{"$f":"'Baggrundstabeller for alle land'!AE39","v":0.17649568206385727},0.72799804589130201,0.96419628425583015,1.1406919663196875,null,{"$f":"'Baggrundstabeller for alle land'!AJ39","v":"Frankrig"},11,{"$f":"'Baggrundstabeller for alle land'!AK39","v":0.70449016434791312},{"$f":"'Baggrundstabeller for alle land'!AL39","v":0.23694452031828619},{"$f":"'Baggrundstabeller for alle land'!AM39","v":0.17724196401761597},0.70449016434791312,0.94143468466619928,1.1186766486838153]
[null,null,null,{"$f":"'Baggrundstabeller for alle land'!D40","v":"Kroatien"},12,{"$f":"'Baggrundstabeller for alle land'!E40","v":1.2159114706762417},{"$f":"'Baggrundstabeller for alle land'!F40","v":3.4209130061839371E-2},{"$f":"'Baggrundstabeller for alle land'!G40","v":0.31234423099940162},1.2159114706762417,1.2501206007380812,1.5624648317374827,null,{"$f":"'Baggrundstabeller for alle land'!L40","v":"Kroatien"},12,{"$f":"'Baggrundstabeller for alle land'!M40","v":0.81172316222820662},{"$f":"'Baggrundstabeller for alle land'!N40","v":3.3837291691601823E-2},{"$f":"'Baggrundstabeller for alle land'!O40","v":0.21157603266507086},0.81172316222820662,0.8455604539198085,1.0571364865848794,null,{"$f":"'Baggrundstabeller for alle land'!T40","v":"Kroatien"},12,{"$f":"'Baggrundstabeller for alle land'!U40","v":0.74776696254737685},{"$f":"'Baggrundstabeller for alle land'!V40","v":3.4209130061839163E-2},{"$f":"'Baggrundstabeller for alle land'!W40","v":0.1955869827448635},0.74776696254737685,0.78197609260921597,0.97756307535407949,null,{"$f":"'Baggrundstabeller for alle land'!AB40","v":"Kroatien"},12,{"$f":"'Baggrundstabeller for alle land'!AC40","v":0.71504518596648714},{"$f":"'Baggrundstabeller for alle land'!AD40","v":3.3837291691601823E-2},{"$f":"'Baggrundstabeller for alle land'!AE40","v":0.18740653859964104},0.71504518596648714,0.74888247765808891,0.93628901625772998,null,{"$f":"'Baggrundstabeller for alle land'!AJ40","v":"Kroatien"},12,{"$f":"'Baggrundstabeller for alle land'!AK40","v":0.69087569190105724},{"$f":"'Baggrundstabeller for alle land'!AL40","v":3.4209130061839267E-2},{"$f":"'Baggrundstabeller for alle land'!AM40","v":0.18108528630560541},0.69087569190105724,0.72508482196289648,0.90617010826850186]
[null,null,null,{"$f":"'Baggrundstabeller for alle land'!D41","v":"Italien"},13,{"$f":"'Baggrundstabeller for alle land'!E41","v":1.5214480445945942},{"$f":"'Baggrundstabeller for alle land'!F41","v":0.47207058533533541},{"$f":"'Baggrundstabeller for alle land'!G41","v":0.20151629729729745},1.5214480445945942,1.9935186299299295,2.1950349272272267,null,{"$f":"'Baggrundstabeller for alle land'!L41","v":"Italien"},13,{"$f":"'Baggrundstabeller for alle land'!M41","v":1.0337039694694694},{"$f":"'Baggrundstabeller for alle land'!N41","v":0.3955690280280279},{"$f":"'Baggrundstabeller for alle land'!O41","v":0.14292729974974974},1.0337039694694694,1.4292729974974974,1.5722002972472471,null,{"$f":"'Baggrundstabeller for alle land'!T41","v":"Italien"},13,{"$f":"'Baggrundstabeller for alle land'!U41","v":1.1143104883883883},{"$f":"'Baggrundstabeller for alle land'!V41","v":0.54036221941941953},{"$f":"'Baggrundstabeller for alle land'!W41","v":0.16569117777777773},1.1143104883883883,1.6546727078078078,1.8203638855855855,null,{"$f":"'Baggrundstabeller for alle land'!AB41","v":"Italien"},13,{"$f":"'Baggrundstabeller for alle land'!AC41","v":1.3688181083083082},{"$f":"'Baggrundstabeller for alle land'!AD41","v":0.69635076066066048},{"$f":"'Baggrundstabeller for alle land'!AE41","v":0.20674079389389388},1.3688181083083082,2.0651688689689687,2.2719096628628623,null,{"$f":"'Baggrundstabeller for alle land'!AJ41","v":"Italien"},13,{"$f":"'Baggrundstabeller for alle land'!AK41","v":1.5401069610110107},{"$f":"'Baggrundstabeller for alle land'!AL41","v":0.72807091856856865},{"$f":"'Baggrundstabeller for alle land'!AM41","v":0.22950467192192189},1.5401069610110107,2.2681778795795795,2.4976825515015015]
[null,null,null,{"$f":"'Baggrundstabeller for alle land'!D42","v":"Cypern"},14,{"$f":"'Baggrundstabeller for alle land'!E42","v":1.2718025447966923},{"$f":"'Baggrundstabeller for alle land'!F42","v":8.1850495668012169E-2},{"$f":"'Baggrundstabeller for alle land'!G42","v":0.26390361607758184},1.2718025447966923,1.3536530404647045,1.6175566565422863,null,{"$f":"'Baggrundstabeller for alle land'!L42","v":"Cypern"},14,{"$f":"'Baggrundstabeller for alle land'!M42","v":1.1044311276459586},{"$f":"'Baggrundstabeller for alle land'!N42","v":6.349836659446681E-2},{"$f":"'Baggrundstabeller for alle land'!O42","v":0.21545399532342241},1.1044311276459586,1.1679294942404255,1.3833834895638479,null,{"$f":"'Baggrundstabeller for alle land'!T42","v":"Cypern"},14,{"$f":"'Baggrundstabeller for alle land'!U42","v":1.1147083199271439},{"$f":"'Baggrundstabeller for alle land'!V42","v":6.2030196268583151E-2},{"$f":"'Baggrundstabeller for alle land'!W42","v":0.21618808048636415},1.1147083199271439,1.1767385161957271,1.3929265966820912,null,{"$f":"'Baggrundstabeller for alle land'!AB42","v":"Cypern"},14,{"$f":"'Baggrundstabeller for alle land'!AC42","v":1.0996595740868367},{"$f":"'Baggrundstabeller for alle land'!AD42","v":6.1663153687112483E-2},{"$f":"'Baggrundstabeller for alle land'!AE42","v":0.21251765467165507},1.0996595740868367,1.1613227277739491,1.373840382445604,null,{"$f":"'Baggrundstabeller for alle land'!AJ42","v":"Cypern"},14,{"$f":"'Baggrundstabeller for alle land'!AK42","v":1.0446031868662007},{"$f":"'Baggrundstabeller for alle land'!AL42","v":6.2030196268583346E-2},{"$f":"'Baggrundstabeller for alle land'!AM42","v":0.19820299399428967},1.0446031868662007,1.1066333831347841,1.3048363771290739]
[null,null,null,{"$f":"'Baggrundstabeller for alle land'!D43","v":"Letland"},15,{"$f":"'Baggrundstabeller for alle land'!E43","v":0.77220988581020134},{"$f":"'Baggrundstabeller for alle land'!F43","v":0.19987048326485612},{"$f":"'Baggrundstabeller for alle land'!G43","v":0.20397996983665709},0.77220988581020134,0.97208036907505746,1.1760603389117146,null,{"$f":"'Baggrundstabeller for alle land'!L43","v":"Letland"},15,{"$f":"'Baggrundstabeller for alle land'!M43","v":0.8174142381000099},{"$f":"'Baggrundstabeller for alle land'!N43","v":0.20024407295320162},{"$f":"'Baggrundstabeller for alle land'!O43","v":0.21406689142198621},0.8174142381000099,1.0176583110532116,1.2317252024751979,null,{"$f":"'Baggrundstabeller for alle land'!T43","v":"Letland"},15,{"$f":"'Baggrundstabeller for alle land'!U43","v":0.81405193090490002},{"$f":"'Baggrundstabeller for alle land'!V43","v":0.20024407295320162},{"$f":"'Baggrundstabeller for alle land'!W43","v":0.21294612235694976},0.81405193090490002,1.0142960038581017,1.2272421262150515,null,{"$f":"'Baggrundstabeller for alle land'!AB43","v":"Letland"},15,{"$f":"'Baggrundstabeller for alle land'!AC43","v":0.80882167526806281},{"$f":"'Baggrundstabeller for alle land'!AD43","v":0.19987048326485624},{"$f":"'Baggrundstabeller for alle land'!AE43","v":0.21182535329191288},0.80882167526806281,1.0086921585329192,1.2205175118248319,null,{"$f":"'Baggrundstabeller for alle land'!AJ43","v":"Letland"},15,{"$f":"'Baggrundstabeller for alle land'!AK43","v":0.79462526711093284},{"$f":"'Baggrundstabeller for alle land'!AL43","v":0.20024407295320162},{"$f":"'Baggrundstabeller for alle land'!AM43","v":0.2088366357851488},0.79462526711093284,0.99486934006413441,1.2037059758492832]
[null,null,null,{"$f":"'Baggrundstabeller for alle land'!D44","v":"Litaun"},16,{"$f":"'Baggrundstabeller for alle land'!E44","v":0.66244379554032573},{"$f":"'Baggrundstabeller for alle land'!F44","v":0.1218244878327373},{"$f":"'Baggrundstabeller for alle land'!G44","v":0.16440751549463642},0.66244379554032573,0.78426828337306298,0.94867579886769937,null,{"$f":"'Baggrundstabeller for alle land'!L44","v":"Litaun"},16,{"$f":"'Baggrundstabeller for alle land'!M44","v":0.65614891319030577},{"$f":"'Baggrundstabeller for alle land'!N44","v":0.12145420063567745},{"$f":"'Baggrundstabeller for alle land'!O44","v":0.16329665390345635},0.65614891319030577,0.77760311382598324,0.94089976772943962,null,{"$f":"'Baggrundstabeller for alle land'!T44","v":"Litaun"},16,{"$f":"'Baggrundstabeller for alle land'!U44","v":0.64318886129320618},{"$f":"'Baggrundstabeller for alle land'!V44","v":0.12145420063567736},{"$f":"'Baggrundstabeller for alle land'!W44","v":0.16070464352403638},0.64318886129320618,0.76464306192888354,0.92534770545291989,null,{"$f":"'Baggrundstabeller for alle land'!AB44","v":"Litaun"},16,{"$f":"'Baggrundstabeller for alle land'!AC44","v":0.61689847030194656},{"$f":"'Baggrundstabeller for alle land'!AD44","v":0.1218244878327374},{"$f":"'Baggrundstabeller for alle land'!AE44","v":0.15515033556813662},0.61689847030194656,0.73872295813468392,0.89387329370282054,null,{"$f":"'Baggrundstabeller for alle land'!AJ44","v":"Litaun"},16,{"$f":"'Baggrundstabeller for alle land'!AK44","v":0.57061257066944771},{"$f":"'Baggrundstabeller for alle land'!AL44","v":0.1218244878327373},{"$f":"'Baggrundstabeller for alle land'!AM44","v":0.14552286844457687},0.57061257066944771,0.69243705850218507,0.83795992694676191]
[null,null,null,{"$f":"'Baggrundstabeller for alle land'!D45","v":"Luxembourg"},17,{"$f":"'Baggrundstabeller for alle land'!E45","v":1.4287009450670403},{"$f":"'Baggrundstabeller for alle land'!F45","v":0.22754767010206126},{"$f":"'Baggrundstabeller for alle land'!G45","v":0.13205225445267155},1.4287009450670403,1.6562486151691016,1.7883008696217733,null,{"$f":"'Baggrundstabeller for alle land'!L45","v":"Luxembourg"},17,{"$f":"'Baggrundstabeller for alle land'!M45","v":1.1019275696417852},{"$f":"'Baggrundstabeller for alle land'!N45","v":0.22754767010206126},{"$f":"'Baggrundstabeller for alle land'!O45","v":0.10594022673604155},1.1019275696417852,1.3294752397438465,1.4354154664798882,null,{"$f":"'Baggrundstabeller for alle land'!T45","v":"Luxembourg"},17,{"$f":"'Baggrundstabeller for alle land'!U45","v":0.99300311116670004},{"$f":"'Baggrundstabeller for alle land'!V45","v":0.22754767010206126},{"$f":"'Baggrundstabeller for alle land'!W45","v":9.7733589453672207E-2},0.99300311116670004,1.2205507812687613,1.3182843707224334,null,{"$f":"'Baggrundstabeller for alle land'!AB45","v":"Luxembourg"},17,{"$f":"'Baggrundstabeller for alle land'!AC45","v":0.89825375345207115},{"$f":"'Baggrundstabeller for alle land'!AD45","v":0.22754767010206134},{"$f":"'Baggrundstabeller for alle land'!AE45","v":8.9526952171302646E-2},0.89825375345207115,1.1258014235541325,1.2153283757254352,null,{"$f":"'Baggrundstabeller for alle land'!AJ45","v":"Luxembourg"},17,{"$f":"'Baggrundstabeller for alle land'!AK45","v":0.82327493100860516},{"$f":"'Baggrundstabeller for alle land'!AL45","v":0.22754767010206126},{"$f":"'Baggrundstabeller for alle land'!AM45","v":8.3558488693216054E-2},0.82327493100860516,1.0508226011106665,1.1343810898038826]
[null,null,null,{"$f":"'Baggrundstabeller for alle land'!D46","v":"Ungarn"},18,{"$f":"'Baggrundstabeller for alle land'!E46","v":0.7546376010106064},{"$f":"'Baggrundstabeller for alle land'!F46","v":0},{"$f":"'Baggrundstabeller for alle land'!G46","v":0.20367381618971386},0.7546376010106064,0.7546376010106064,0.9583114172003202,null,{"$f":"'Baggrundstabeller for alle land'!L46","v":"Ungarn"},18,{"$f":"'Baggrundstabeller for alle land'!M46","v":0.6912226765559335},{"$f":"'Baggrundstabeller for alle land'!N46","v":0},{"$f":"'Baggrundstabeller for alle land'!O46","v":0.1865144836902142},0.6912226765559335,0.6912226765559335,0.87773716024614767,null,{"$f":"'Baggrundstabeller for alle land'!T46","v":"Ungarn"},18,{"$f":"'Baggrundstabeller for alle land'!U46","v":0.66734882264358619},{"$f":"'Baggrundstabeller for alle land'!V46","v":0},{"$f":"'Baggrundstabeller for alle land'!W46","v":0.18017299124474687},0.66734882264358619,0.66734882264358619,0.84752181388833303,null,{"$f":"'Baggrundstabeller for alle land'!AB46","v":"Ungarn"},18,{"$f":"'Baggrundstabeller for alle land'!AC46","v":0.65168160601360825},{"$f":"'Baggrundstabeller for alle land'!AD46","v":0},{"$f":"'Baggrundstabeller for alle land'!AE46","v":0.17644270157094241},0.65168160601360825,0.65168160601360825,0.82812430758455069,null,{"$f":"'Baggrundstabeller for alle land'!AJ46","v":"Ungarn"},18,{"$f":"'Baggrundstabeller for alle land'!AK46","v":0.68003180753452075},{"$f":"'Baggrundstabeller for alle land'!AL46","v":0},{"$f":"'Baggrundstabeller for alle land'!AM46","v":0.1831572229837902},0.68003180753452075,0.68003180753452075,0.86318903051831097]
[null,null,null,{"$f":"'Baggrundstabeller for alle land'!D47","v":"Malta"},19,{"$f":"'Baggrundstabeller for alle land'!E47","v":2.67345498097936},{"$f":"'Baggrundstabeller for alle land'!F47","v":0},{"$f":"'Baggrundstabeller for alle land'!G47","v":0.13352187687171177},2.67345498097936,2.67345498097936,2.8069768578510716,null,{"$f":"'Baggrundstabeller for alle land'!L47","v":"Malta"},19,{"$f":"'Baggrundstabeller for alle land'!M47","v":1.0349831359773367},{"$f":"'Baggrundstabeller for alle land'!N47","v":0},{"$f":"'Baggrundstabeller for alle land'!O47","v":5.1673720710238936E-2},1.0349831359773367,1.0349831359773367,1.0866568566875756,null,{"$f":"'Baggrundstabeller for alle land'!T47","v":"Malta"},19,{"$f":"'Baggrundstabeller for alle land'!U47","v":0.90749614619587182},{"$f":"'Baggrundstabeller for alle land'!V47","v":0},{"$f":"'Baggrundstabeller for alle land'!W47","v":4.526165317685172E-2},0.90749614619587182,0.90749614619587182,0.95275779937272354,null,{"$f":"'Baggrundstabeller for alle land'!AB47","v":"Malta"},19,{"$f":"'Baggrundstabeller for alle land'!AC47","v":1.065157571428571},{"$f":"'Baggrundstabeller for alle land'!AD47","v":0},{"$f":"'Baggrundstabeller for alle land'!AE47","v":5.3182442482800477E-2},1.065157571428571,1.065157571428571,1.1183400139113715,null,{"$f":"'Baggrundstabeller for alle land'!AJ47","v":"Malta"},19,{"$f":"'Baggrundstabeller for alle land'!AK47","v":2.547476712970457},{"$f":"'Baggrundstabeller for alle land'!AL47","v":0},{"$f":"'Baggrundstabeller for alle land'!AM47","v":0.12748698978146517},2.547476712970457,2.547476712970457,2.674963702751922]
[null,null,null,{"$f":"'Baggrundstabeller for alle land'!D48","v":"Holland"},20,{"$f":"'Baggrundstabeller for alle land'!E48","v":2.6947024220362761},{"$f":"'Baggrundstabeller for alle land'!F48","v":"*"},{"$f":"'Baggrundstabeller for alle land'!G48","v":"*"},2.6947024220362761,2.6947024220362761,2.6947024220362761,null,{"$f":"'Baggrundstabeller for alle land'!L48","v":"Holland"},20,{"$f":"'Baggrundstabeller for alle land'!M48","v":1.3213867276781239},{"$f":"'Baggrundstabeller for alle land'!N48","v":-0.42290352720713498},{"$f":"'Baggrundstabeller for alle land'!O48","v":0.18828920292614487},1.3213867276781239,0.89848320047098895,1.0867724033971338,null,{"$f":"'Baggrundstabeller for alle land'!T48","v":"Holland"},20,{"$f":"'Baggrundstabeller for alle land'!U48","v":0.94256678369576097},{"$f":"'Baggrundstabeller for alle land'!V48","v":0.24059175929451848},{"$f":"'Baggrundstabeller for alle land'!W48","v":0.24843714274977449},0.94256678369576097,1.1831585429902796,1.431595685740054,null,{"$f":"'Baggrundstabeller for alle land'!AB48","v":"Holland"},20,{"$f":"'Baggrundstabeller for alle land'!AC48","v":0.68441630904900286},{"$f":"'Baggrundstabeller for alle land'!AD48","v":0.57532812005210932},{"$f":"'Baggrundstabeller for alle land'!AE48","v":0.26412790966028671},0.68441630904900286,1.2597444291011122,1.5238723387613988,null,{"$f":"'Baggrundstabeller for alle land'!AJ48","v":"Holland"},20,{"$f":"'Baggrundstabeller for alle land'!AK48","v":0.94667627026756151},{"$f":"'Baggrundstabeller for alle land'!AL48","v":0.47632685264054531},{"$f":"'Baggrundstabeller for alle land'!AM48","v":0.2988717506764203},0.94667627026756151,1.4230031229081068,1.7218748735845271]
[null,null,null,{"$f":"'Baggrundstabeller for alle land'!D49","v":"Østrig"},21,{"$f":"'Baggrundstabeller for alle land'!E49","v":1.5430826067540322},{"$f":"'Baggrundstabeller for alle land'!F49","v":0.67307865287298396},{"$f":"'Baggrundstabeller for alle land'!G49","v":0.44345773891129026},1.5430826067540322,2.2161612596270164,2.6596189985383067,null,{"$f":"'Baggrundstabeller for alle land'!L49","v":"Østrig"},21,{"$f":"'Baggrundstabeller for alle land'!M49","v":1.0921086349798386},{"$f":"'Baggrundstabeller for alle land'!N49","v":0.41527186567540336},{"$f":"'Baggrundstabeller for alle land'!O49","v":0.30102512615927418},1.0921086349798386,1.5073805006552419,1.8084056268145161,null,{"$f":"'Baggrundstabeller for alle land'!T49","v":"Østrig"},21,{"$f":"'Baggrundstabeller for alle land'!U49","v":0.93952910786290322},{"$f":"'Baggrundstabeller for alle land'!V49","v":0.3104204172379032},{"$f":"'Baggrundstabeller for alle land'!W49","v":0.25029055433467734},0.93952910786290322,1.2499495251008064,1.5002400794354838,null,{"$f":"'Baggrundstabeller for alle land'!AB49","v":"Østrig"},21,{"$f":"'Baggrundstabeller for alle land'!AC49","v":0.84256970393145159},{"$f":"'Baggrundstabeller for alle land'!AD49","v":0.2638197734879032},{"$f":"'Baggrundstabeller for alle land'!AE49","v":0.22135305781250003},0.84256970393145159,1.1063894774193548,1.3277425352318548,null,{"$f":"'Baggrundstabeller for alle land'!AJ49","v":"Østrig"},21,{"$f":"'Baggrundstabeller for alle land'!AK49","v":0.72531647127016119},{"$f":"'Baggrundstabeller for alle land'!AL49","v":0.21684331809475815},{"$f":"'Baggrundstabeller for alle land'!AM49","v":0.18865744485887084},0.72531647127016119,0.9421597893649194,1.1308172342237903]
[null,null,null,{"$f":"'Baggrundstabeller for alle land'!D50","v":"Polen"},22,{"$f":"'Baggrundstabeller for alle land'!E50","v":1.0558493424031776},{"$f":"'Baggrundstabeller for alle land'!F50","v":3.5170297169811141E-2},{"$f":"'Baggrundstabeller for alle land'!G50","v":0.25137507135054638},1.0558493424031776,1.0910196395729888,1.3423947109235352,null,{"$f":"'Baggrundstabeller for alle land'!L50","v":"Polen"},22,{"$f":"'Baggrundstabeller for alle land'!M50","v":0.87777657462760661},{"$f":"'Baggrundstabeller for alle land'!N50","v":3.5540510824230272E-2},{"$f":"'Baggrundstabeller for alle land'!O50","v":0.21028135571002982},0.87777657462760661,0.91331708545183687,1.1235984411618667,null,{"$f":"'Baggrundstabeller for alle land'!T50","v":"Polen"},22,{"$f":"'Baggrundstabeller for alle land'!U50","v":0.82557644935451824},{"$f":"'Baggrundstabeller for alle land'!V50","v":3.59107244786495E-2},{"$f":"'Baggrundstabeller for alle land'!W50","v":0.19806430511420053},0.82557644935451824,0.86148717383316775,1.0595514789473683,null,{"$f":"'Baggrundstabeller for alle land'!AB50","v":"Polen"},22,{"$f":"'Baggrundstabeller for alle land'!AC50","v":0.79151679314796408},{"$f":"'Baggrundstabeller for alle land'!AD50","v":3.5540510824230376E-2},{"$f":"'Baggrundstabeller for alle land'!AE50","v":0.18991960471698116},0.79151679314796408,0.82705730397219446,1.0169769086891756,null,{"$f":"'Baggrundstabeller for alle land'!AJ50","v":"Polen"},22,{"$f":"'Baggrundstabeller for alle land'!AK50","v":0.78078059716981119},{"$f":"'Baggrundstabeller for alle land'!AL50","v":3.59107244786495E-2},{"$f":"'Baggrundstabeller for alle land'!AM50","v":0.18769832279046658},0.78078059716981119,0.8166913216484607,1.0043896444389273]
[null,null,null,{"$f":"'Baggrundstabeller for alle land'!D51","v":"Portugal"},23,{"$f":"'Baggrundstabeller for alle land'!E51","v":1.3821891440703515},{"$f":"'Baggrundstabeller for alle land'!F51","v":1.0105080296984925},{"$f":"'Baggrundstabeller for alle land'!G51","v":0.54665599381909502},1.3821891440703515,2.3926971737688438,2.9393531675879387,null,{"$f":"'Baggrundstabeller for alle land'!L51","v":"Portugal"},23,{"$f":"'Baggrundstabeller for alle land'!M51","v":0.9228332507035174},{"$f":"'Baggrundstabeller for alle land'!N51","v":0.58749595497487439},{"$f":"'Baggrundstabeller for alle land'!O51","v":0.34507893783919574},0.9228332507035174,1.5103292056783917,1.8554081435175873,null,{"$f":"'Baggrundstabeller for alle land'!T51","v":"Portugal"},23,{"$f":"'Baggrundstabeller for alle land'!U51","v":0.86288468386934669},{"$f":"'Baggrundstabeller for alle land'!V51","v":0.52942078085427113},{"$f":"'Baggrundstabeller for alle land'!W51","v":0.31772740422110568},0.86288468386934669,1.3923054647236177,1.7100328689447233,null,{"$f":"'Baggrundstabeller for alle land'!AB51","v":"Portugal"},23,{"$f":"'Baggrundstabeller for alle land'!AC51","v":0.82916361502512548},{"$f":"'Baggrundstabeller for alle land'!AD51","v":0.49307696221105518},{"$f":"'Baggrundstabeller for alle land'!AE51","v":0.30236558396984919},0.82916361502512548,1.3222405772361807,1.6246061612060299,null,{"$f":"'Baggrundstabeller for alle land'!AJ51","v":"Portugal"},23,{"$f":"'Baggrundstabeller for alle land'!AK51","v":0.81642454457286406},{"$f":"'Baggrundstabeller for alle land'!AL51","v":0.45223700105527642},{"$f":"'Baggrundstabeller for alle land'!AM51","v":0.29112522768844212},0.81642454457286406,1.2686615456281405,1.5597867733165827]
[null,null,null,{"$f":"'Baggrundstabeller for alle land'!D52","v":"Rumænien"},24,{"$f":"'Baggrundstabeller for alle land'!E52","v":0.72474420157354835},{"$f":"'Baggrundstabeller for alle land'!F52","v":9.2078156757295151E-2},{"$f":"'Baggrundstabeller for alle land'!G52","v":0.19603736599940239},0.72474420157354835,0.81682235833084349,1.012859724330246,null,{"$f":"'Baggrundstabeller for alle land'!L52","v":"Rumænien"},24,{"$f":"'Baggrundstabeller for alle land'!M52","v":0.70766518862663075},{"$f":"'Baggrundstabeller for alle land'!N52","v":9.2449439647445494E-2},{"$f":"'Baggrundstabeller for alle land'!O52","v":0.19232453709789854},0.70766518862663075,0.8001146282740762,0.99243916537197474,null,{"$f":"'Baggrundstabeller for alle land'!T52","v":"Rumænien"},24,{"$f":"'Baggrundstabeller for alle land'!U52","v":0.69244259013046505},{"$f":"'Baggrundstabeller for alle land'!V52","v":9.2449439647445494E-2},{"$f":"'Baggrundstabeller for alle land'!W52","v":0.18861170819639472},0.69244259013046505,0.7848920297779105,0.97350373797430523,null,{"$f":"'Baggrundstabeller for alle land'!AB52","v":"Rumænien"},24,{"$f":"'Baggrundstabeller for alle land'!AC52","v":0.68278923498655508},{"$f":"'Baggrundstabeller for alle land'!AD52","v":9.2449439647445397E-2},{"$f":"'Baggrundstabeller for alle land'!AE52","v":0.18601272796534221},0.68278923498655508,0.77523867463400054,0.96125140259934272,null,{"$f":"'Baggrundstabeller for alle land'!AJ52","v":"Rumænien"},24,{"$f":"'Baggrundstabeller for alle land'!AK52","v":0.66496765625933674},{"$f":"'Baggrundstabeller for alle land'!AL52","v":9.0964308086843915E-2},{"$f":"'Baggrundstabeller for alle land'!AM52","v":0.18155733328353749},0.66496765625933674,0.7559319643461806,0.93748929762971811]
[null,null,null,{"$f":"'Baggrundstabeller for alle land'!D53","v":"Slovenien"},25,{"$f":"'Baggrundstabeller for alle land'!E53","v":0.86208415988487475},{"$f":"'Baggrundstabeller for alle land'!F53","v":0.4769212369491862},{"$f":"'Baggrundstabeller for alle land'!G53","v":0.29451458852719331},0.86208415988487475,1.3390053968340609,1.6335199853612543,null,{"$f":"'Baggrundstabeller for alle land'!L53","v":"Slovenien"},25,{"$f":"'Baggrundstabeller for alle land'!M53","v":0.94126270504168308},{"$f":"'Baggrundstabeller for alle land'!N53","v":0.22828580542874166},{"$f":"'Baggrundstabeller for alle land'!O53","v":0.25751526836046068},0.94126270504168308,1.1695485104704249,1.4270637788308855,null,{"$f":"'Baggrundstabeller for alle land'!T53","v":"Slovenien"},25,{"$f":"'Baggrundstabeller for alle land'!U53","v":0.83211471054982122},{"$f":"'Baggrundstabeller for alle land'!V53","v":0.14429734865025814},{"$f":"'Baggrundstabeller for alle land'!W53","v":0.21496605016871767},0.83211471054982122,0.97641205920007934,1.191378109368797,null,{"$f":"'Baggrundstabeller for alle land'!AB53","v":"Slovenien"},25,{"$f":"'Baggrundstabeller for alle land'!AC53","v":0.76255598863636354},{"$f":"'Baggrundstabeller for alle land'!AD53","v":9.3608280021834023E-2},{"$f":"'Baggrundstabeller for alle land'!AE53","v":0.18869653285033738},0.76255598863636354,0.85616426865819761,1.044860801508535,null,{"$f":"'Baggrundstabeller for alle land'!AJ53","v":"Slovenien"},25,{"$f":"'Baggrundstabeller for alle land'!AK53","v":0.71593684522628032},{"$f":"'Baggrundstabeller for alle land'!AL53","v":5.9938898670107148E-2},{"$f":"'Baggrundstabeller for alle land'!AM53","v":0.17130685237197302},0.71593684522628032,0.77587574389638747,0.94718259626836043]
[null,null,null,{"$f":"'Baggrundstabeller for alle land'!D54","v":"Slovakiet"},26,{"$f":"'Baggrundstabeller for alle land'!E54","v":1.5127678832087696},{"$f":"'Baggrundstabeller for alle land'!F54","v":2.377631250622806E-2},{"$f":"'Baggrundstabeller for alle land'!G54","v":0.30723453816641755},1.5127678832087696,1.5365441957149977,1.8437787338814151,null,{"$f":"'Baggrundstabeller for alle land'!L54","v":"Slovakiet"},26,{"$f":"'Baggrundstabeller for alle land'!M54","v":1.0569313918784256},{"$f":"'Baggrundstabeller for alle land'!N54","v":2.3776312506228265E-2},{"$f":"'Baggrundstabeller for alle land'!O54","v":0.21584433697060285},1.0569313918784256,1.0807077043846538,1.2965520413552567,null,{"$f":"'Baggrundstabeller for alle land'!T54","v":"Slovakiet"},26,{"$f":"'Baggrundstabeller for alle land'!U54","v":0.91204448754359746},{"$f":"'Baggrundstabeller for alle land'!V54","v":2.3776312506228265E-2},{"$f":"'Baggrundstabeller for alle land'!W54","v":0.18723846098654712},0.91204448754359746,0.93582080004982571,1.1230592610363728,null,{"$f":"'Baggrundstabeller for alle land'!AB54","v":"Slovakiet"},26,{"$f":"'Baggrundstabeller for alle land'!AC54","v":0.79167690548081726},{"$f":"'Baggrundstabeller for alle land'!AD54","v":2.3776312506228164E-2},{"$f":"'Baggrundstabeller for alle land'!AE54","v":0.16309064359740896},0.79167690548081726,0.8154532179870454,0.97854386158445439,null,{"$f":"'Baggrundstabeller for alle land'!AJ54","v":"Slovakiet"},26,{"$f":"'Baggrundstabeller for alle land'!AK54","v":0.6969431603388142},{"$f":"'Baggrundstabeller for alle land'!AL54","v":2.3776312506228265E-2},{"$f":"'Baggrundstabeller for alle land'!AM54","v":0.14414389456900847},0.6969431603388142,0.72071947284504245,0.8648633674140509]
[null,null,null,{"$f":"'Baggrundstabeller for alle land'!D55","v":"Finland"},27,{"$f":"'Baggrundstabeller for alle land'!E55","v":1.6496330119808307},{"$f":"'Baggrundstabeller for alle land'!F55","v":0.16786653619209255},{"$f":"'Baggrundstabeller for alle land'!G55","v":0.43622966833067056},1.6496330119808307,1.8174995481729233,2.2537292165035936,null,{"$f":"'Baggrundstabeller for alle land'!L55","v":"Finland"},27,{"$f":"'Baggrundstabeller for alle land'!M55","v":1.0399536632388178},{"$f":"'Baggrundstabeller for alle land'!N55","v":0.16786653619209274},{"$f":"'Baggrundstabeller for alle land'!O55","v":0.28995128978634171},1.0399536632388178,1.2078201994309106,1.4977714892172522,null,{"$f":"'Baggrundstabeller for alle land'!T55","v":"Finland"},27,{"$f":"'Baggrundstabeller for alle land'!U55","v":0.75744656574480829},{"$f":"'Baggrundstabeller for alle land'!V55","v":0.16786653619209255},{"$f":"'Baggrundstabeller for alle land'!W55","v":0.22183693031150173},0.75744656574480829,0.92531310193690086,1.1471500322484025,null,{"$f":"'Baggrundstabeller for alle land'!AB55","v":"Finland"},27,{"$f":"'Baggrundstabeller for alle land'!AC55","v":0.64020053714057501},{"$f":"'Baggrundstabeller for alle land'!AD55","v":0.16786653619209274},{"$f":"'Baggrundstabeller for alle land'!AE55","v":0.19392120921525549},0.64020053714057501,0.80806707333266781,1.0019882825479234,null,{"$f":"'Baggrundstabeller for alle land'!AJ55","v":"Finland"},27,{"$f":"'Baggrundstabeller for alle land'!AK55","v":0.52444334699480821},{"$f":"'Baggrundstabeller for alle land'!AL55","v":0.16749432657747607},{"$f":"'Baggrundstabeller for alle land'!AM55","v":0.16600548811900956},0.52444334699480821,0.69193767357228431,0.85794316169129381]
[null,null,null,{"$f":"'Baggrundstabeller for alle land'!D56","v":"Sverige"},28,{"$f":"'Baggrundstabeller for alle land'!E56","v":1.8347419617824772},{"$f":"'Baggrundstabeller for alle land'!F56","v":0.22338274345417922},{"$f":"'Baggrundstabeller for alle land'!G56","v":0.51396802653575024},1.8347419617824772,2.0581247052366565,2.5720927317724067,null,{"$f":"'Baggrundstabeller for alle land'!L56","v":"Sverige"},28,{"$f":"'Baggrundstabeller for alle land'!M56","v":1.024557154431017},{"$f":"'Baggrundstabeller for alle land'!N56","v":0.22300731027190332},{"$f":"'Baggrundstabeller for alle land'!O56","v":0.31236040765357476},1.024557154431017,1.2475644647029203,1.5599248723564951,null,{"$f":"'Baggrundstabeller for alle land'!T56","v":"Sverige"},28,{"$f":"'Baggrundstabeller for alle land'!U56","v":0.89540813972809652},{"$f":"'Baggrundstabeller for alle land'!V56","v":0.22338274345417941},{"$f":"'Baggrundstabeller for alle land'!W56","v":0.27969772079556882},0.89540813972809652,1.1187908831822759,1.3984886039778448,null,{"$f":"'Baggrundstabeller for alle land'!AB56","v":"Sverige"},28,{"$f":"'Baggrundstabeller for alle land'!AC56","v":0.70018288494461223},{"$f":"'Baggrundstabeller for alle land'!AD56","v":0.22338274345417922},{"$f":"'Baggrundstabeller for alle land'!AE56","v":0.23051597391742196},0.70018288494461223,0.92356562839879142,1.1540816023162135,null,{"$f":"'Baggrundstabeller for alle land'!AJ56","v":"Sverige"},28,{"$f":"'Baggrundstabeller for alle land'!AK56","v":0.58117056616314189},{"$f":"'Baggrundstabeller for alle land'!AL56","v":0.22300731027190332},{"$f":"'Baggrundstabeller for alle land'!AM56","v":0.2012321856998994},0.58117056616314189,0.80417787643504524,1.0054100621349447]
[null,null,null,{"$f":"'Baggrundstabeller for alle land'!D57","v":"UK"},29,{"$f":"'Baggrundstabeller for alle land'!E57","v":1.8580608675999997},{"$f":"'Baggrundstabeller for alle land'!F57","v":0},{"$f":"'Baggrundstabeller for alle land'!G57","v":9.4319702950000375E-2},1.8580608675999997,1.8580608675999997,1.9523805705500001,null,{"$f":"'Baggrundstabeller for alle land'!L57","v":"UK"},29,{"$f":"'Baggrundstabeller for alle land'!M57","v":1.6955178221999998},{"$f":"'Baggrundstabeller for alle land'!N57","v":0},{"$f":"'Baggrundstabeller for alle land'!O57","v":8.537237935000011E-2},1.6955178221999998,1.6955178221999998,1.7808902015499999,null,{"$f":"'Baggrundstabeller for alle land'!T57","v":"UK"},29,{"$f":"'Baggrundstabeller for alle land'!U57","v":1.52961953045},{"$f":"'Baggrundstabeller for alle land'!V57","v":0},{"$f":"'Baggrundstabeller for alle land'!W57","v":7.642505574999986E-2},1.52961953045,1.52961953045,1.6060445861999999,null,{"$f":"'Baggrundstabeller for alle land'!AB57","v":"UK"},29,{"$f":"'Baggrundstabeller for alle land'!AC57","v":1.3950368712999999},{"$f":"'Baggrundstabeller for alle land'!AD57","v":0},{"$f":"'Baggrundstabeller for alle land'!AE57","v":7.0087368200000139E-2},1.3950368712999999,1.3950368712999999,1.4651242394999999,null,{"$f":"'Baggrundstabeller for alle land'!AJ57","v":"UK"},29,{"$f":"'Baggrundstabeller for alle land'!AK57","v":1.2787216644999999},{"$f":"'Baggrundstabeller for alle land'!AL57","v":0},{"$f":"'Baggrundstabeller for alle land'!AM57","v":6.4122485799999976E-2},1.2787216644999999,1.2787216644999999,1.3428441502999999]
[null,null,null,"Level 1",null,null,null,null,null,null,null,null,"Level 1",null,null,null,null,null,null,null,null,"Level 1",null,null,null,null,null,null,null,null,"Level 1",null,null,null,null,null,null,null,null,"Level 1"]
[null,null,null,"Level 2",null,null,null,null,null,null,null,null,"Level 2",null,null,null,null,null,null,null,null,"Level 2",null,null,null,null,null,null,null,null,"Level 2",null,null,null,null,null,null,null,null,"Level 2"]
[null,null,null,"Level 3",null,null,null,null,null,null,null,null,"Level 3",null,null,null,null,null,null,null,null,"Level 3",null,null,null,null,null,null,null,null,"Level 3",null,null,null,null,null,null,null,null,"Level 3"]

{"sheet":"Baggrundstabeller for alle land","index":3,"n_rows":146,"n_cols":42,"rows_kept":146,"cut":false,"hidden":false,"merged":[[25,35,25,41],[4,3,4,6],[25,3,25,9],[25,11,25,17],[25,19,25,25],[25,27,25,33],[57,3,57,4],[57,11,57,12],[57,19,57,20],[57,27,57,28],[57,35,57,36],[59,3,59,6],[59,11,59,14],[59,19,59,22],[59,27,59,30],[59,35,59,38],[58,3,58,5],[58,11,58,13],[58,19,58,21],[58,27,58,29],[58,35,58,37],[104,27,104,30],[104,35,104,38],[102,19,102,20],[102,27,102,28],[102,35,102,36],[68,9,68,16],[68,18,68,25],[114,3,114,4],[123,6,123,13],[125,6,125,13],[104,3,104,6],[104,11,104,14],[104,19,104,22],[68,27,68,34],[68,36,68,42],[68,43,68,44],[103,3,103,5],[103,11,103,13],[103,19,103,21],[103,27,103,29],[103,35,103,37],[102,3,102,4],[102,11,102,12],[70,3,70,9],[70,11,70,17],[70,19,70,25],[70,27,70,33],[70,35,70,41],[68,0,68,7]]}
[null,null,null,"NAVN PÅ ARK:","Baggrundstabeller for alle lande, valgt år"]
[null,null,null,"Data hentes fra:","'Level 1', 'Level 2', Level 3', 'Afgifter og moms' og 'Baggrundsdata -HICP-deflator'"]
[]
[null,null,null,"Sådan bruges arket:"]
[null,null,null,"Arket 'Baggrundstabeller for alle lande, valgt år' skal give et indblik i hvordan de grå-blå resultatfigurer og -tabeller i arket 'Alle lande, valgt år' fremkommer. Værdierne i resultattabellerne er ens for de to ark, men i dette ark ses udregningen. \n\nNedenstående resultattabeller (de grå-blå) viser elprisen for industrielle forbrugere opdelt på level 1, 2 og 3 for hvert forbrugsintervalinterval. Prisen vises for alle lande i det valgte år.\n\nResultattabellerne er fremkommet ved at gange tabel A, B, C og D sammen. Disse tabeller ses nedenfor resultattabellerne. Taballerne A, B, C og D er et resultat af valgene truffet i rullemenuerne i arket 'Alle lande, valgt år', disse valg kan ses i de farvede kasser nedenfor.\n\nHvis år, pristype, basiså, valuta eller enhed ønskes ændret, gøres det i arket 'Alle lande, valgt år'."]
[]
[]
[]
[]
[]
[null,null,null,{"$f":"\"Valg truffet i arket: \"&'Baggrundstabeller for alle land'!E1","v":"Valg truffet i arket: Baggrundstabeller for alle lande, valgt år"}]
[null,null,null,"Valgt år",{"$f":"'Alle lande, valgt år'!E12","v":2015},"Tabel A"]
[null,null,null,"Valgt pristype",{"$f":"'Alle lande, valgt år'!E13","v":"faste priser"},"Tabel B"]
[null,null,null,"Valgt basisår",{"$f":"'Alle lande, valgt år'!E14","v":2016},"Tabel B "]
[null,null,null,"Valgt valuta",{"$f":"'Alle lande, valgt år'!E15","v":"DKK"},"Tabel C"]
[]
[]
[]
[null,null,null,"Resultattabeller:"]
[null,null,null,"Valgene truffet ovenfor giver tabeller og figurer der er:"]
[null,null,null,{"$f":"\"Oppgjort for året \"&E12&\" i \"&$E$13&\" med basisår \"&$E$14","v":"Oppgjort for året 2015 i faste priser med basisår 2016"}]
[null,null,null,{"$f":"\"Vist i \"&E15&\" / kWh\"","v":"Vist i DKK / kWh"}]
[]
[]
[]
[null,null,null,{"$f":"D71","v":"IA: < 1000 kWh"},null,null,null,null,null,null,null,{"$f":"L71","v":"IB: 1000 < 2500 kWh"},null,null,null,null,null,null,null,{"$f":"T71","v":"IC: 2500 < 5000 kWh"},null,null,null,null,null,null,null,{"$f":"AB71","v":"ID: 5000 < 15000 kWh"},null,null,null,null,null,null,null,{"$f":"AJ71","v":"IE: > 15000 kWh"}]
[]
[null,null,null,{"$f":"$E$15&\" / kWh år \"&$E$12","v":"DKK / kWh år 2015"},"Elpris eksl. PSO og afgifter ","PSO og afgifter","Moms",null,null,null,null,{"$f":"$E$15&\" / kWh år \"&$E$12","v":"DKK / kWh år 2015"},"Elpris eksl. PSO og afgifter ","PSO og afgifter","Moms",null,null,null,null,{"$f":"$E$15&\" / kWh år \"&$E$12","v":"DKK / kWh år 2015"},"Elpris eksl. PSO og afgifter ","PSO og afgifter","Moms",null,null,null,null,{"$f":"$E$15&\" / kWh år \"&$E$12","v":"DKK / kWh år 2015"},"Elpris eksl. PSO og afgifter ","PSO og afgifter","Moms",null,null,null,null,{"$f":"$E$15&\" / kWh år \"&$E$12","v":"DKK / kWh år 2015"},"Elpris eksl. PSO og afgifter ","PSO og afgifter","Moms"]
[null,null,null,{"$f":"D74","v":"EU-28"},{"$f":"IFERROR(E74/$E118*$G$118,\"*\")","v":1.7691563262673733},{"$f":"IFERROR(F74/$E118*$G$118,\"*\")","v":0.3209531388361162},0.33288171077892187,null,null,{"$f":"SUM(E29:G29)","v":2.4229911758824114},null,{"$f":"L74","v":"EU-28"},{"$f":"IFERROR(M74/$E118*$G$118,\"*\")","v":1.1876384440555945},{"$f":"IFERROR(N74/$E118*$G$118,\"*\")","v":0.26690179722027796},0.23484376012398758,0,0,{"$f":"SUM(M29:O29)","v":1.68938400139986},null,{"$f":"T74","v":"EU-28"},{"$f":"IFERROR(U74/$E118*$G$118,\"*\")","v":1.0515781703329667},{"$f":"IFERROR(V74/$E118*$G$118,\"*\")","v":0.29150447685231456},0.21769643795620439,null,null,{"$f":"SUM(U29:W29)","v":1.5607790851414856},null,{"$f":"AB74","v":"EU-28"},{"$f":"IFERROR(AC74/$E118*$G$118,\"*\")","v":0.97665182781721815},{"$f":"IFERROR(AD74/$E118*$G$118,\"*\")","v":0.30753349540045999},0.20763170537946193,null,null,{"$f":"SUM(AC29:AE29)","v":1.4918170285971399},null,{"$f":"AJ74","v":"EU-28"},{"$f":"IFERROR(AK74/$E118*$G$118,\"*\")","v":0.93341075452454758},{"$f":"IFERROR(AL74/$E118*$G$118,\"*\")","v":0.29933260218978097},0.19943081216878308,null,null,{"$f":"SUM(AK29:AM29)","v":1.4321741688831116}]
[null,null,null,"Belgien",{"$f":"IFERROR(E75/$E119*$G$118,\"*\")","v":1.7803715454819886},0.15192803959549198,0.21457491024350989,null,null,2.1468744953209904,null,"Belgien",{"$f":"IFERROR(M75/$E119*$G$118,\"*\")","v":1.4738895495572553},0.1463010751660293,0.17180998057959351,0,0,{"$f":"SUM(M30:O30)","v":1.7920006053028783},null,"Belgien",{"$f":"IFERROR(U75/$E119*$G$118,\"*\")","v":1.372604189826927},0.15267830151942025,0.15455395632924138,null,null,{"$f":"SUM(U30:W30)","v":1.6798364476755885},null,"Belgien",{"$f":"IFERROR(AC75/$E119*$G$118,\"*\")","v":1.2225518050412558},0.15042751574763544,0.13917358688871009,null,null,{"$f":"SUM(AC30:AE30)","v":1.5121529076776012},null,"Belgien",{"$f":"IFERROR(AK75/$E119*$G$118,\"*\")","v":1.0102276805695312},0.12604400321996387,0.13504714630710396,null,null,{"$f":"SUM(AK30:AM30)","v":1.271318830096599}]
[null,null,null,"Bulgarien",{"$f":"IFERROR(E76/$E120*$G$118,\"*\")","v":0.59749143549663619},0,0.11986710897309075,null,null,0.71735854446972691,null,"Bulgarien",{"$f":"IFERROR(M76/$E120*$G$118,\"*\")","v":0.58863971052631581},0,0.11765417773051044,0,0,{"$f":"SUM(M31:O31)","v":0.70629388825682626},null,"Bulgarien",{"$f":"IFERROR(U76/$E120*$G$118,\"*\")","v":0.5838450261673922},0,0.11654771210922049,null,null,0.70039273827661264,null,"Bulgarien",{"$f":"IFERROR(AC76/$E120*$G$118,\"*\")","v":0.58310738241986548},0,0.11654771210922038,null,null,{"$f":"SUM(AC31:AE31)","v":0.69965509452908581},null,"Bulgarien",{"$f":"IFERROR(AK76/$E120*$G$118,\"*\")","v":0.5797879855559952},0,0.11617889023545697,null,null,{"$f":"SUM(AK31:AM31)","v":0.69596687579145211}]
[null,null,null,"Tjekkiet",{"$f":"IFERROR(E77/$E121*$G$118,\"*\")","v":1.5965623357715433},8.2181495991983221E-3,0.33694413356713454,null,null,1.9417246189378763,null,"Tjekkiet",{"$f":"IFERROR(M77/$E121*$G$118,\"*\")","v":1.1311162266533068},8.2181495991983221E-3,0.23795278612224466,0,0,1.3772871623747498,null,"Tjekkiet",{"$f":"IFERROR(U77/$E121*$G$118,\"*\")","v":0.85431400606212438},8.2181495991983221E-3,0.18079929118236474,null,null,1.0433314468436874,null,"Tjekkiet",{"$f":"IFERROR(AC77/$E121*$G$118,\"*\")","v":0.67351471487975956},8.2181495991984245E-3,0.14232340896793588,null,null,0.82405627344689392,null,"Tjekkiet",{"$f":"IFERROR(AK77/$E121*$G$118,\"*\")","v":0.57527047194388781},8.2181495991984245E-3,0.12289869173346687,null,null,0.70638731327655313]
[null,null,null,"Danmark",{"$f":"IFERROR(E78/$E122*$G$118,\"*\")","v":0.88681305220440887},1.1045940165831665,0.49757160300601205,null,null,2.4889786717935873,null,"Danmark",{"$f":"IFERROR(M78/$E122*$G$118,\"*\")","v":0.88681305220440887},1.1045940165831665,0.49757160300601205,0,0,2.4889786717935873,null,"Danmark",{"$f":"IFERROR(U78/$E122*$G$118,\"*\")","v":0.72170295571142284},1.1038469120741485,0.45685440726452892,null,null,{"$f":"SUM(U33:W33)","v":2.2824042750501006},null,"Danmark",{"$f":"IFERROR(AC78/$E122*$G$118,\"*\")","v":0.59880426397795594},0.73851280716432866,0.33619702905811633,null,null,1.6735141002004008,null,"Danmark",{"$f":"IFERROR(AK78/$E122*$G$118,\"*\")","v":0.59880426397795594},0.73851280716432866,0.33619702905811633,null,null,1.6735141002004008]
[null,null,null,"Tyskland",{"$f":"IFERROR(E79/$E123*$G$118,\"*\")","v":1.9479908738738738},0.78777945110110126,0.51983741136136119,null,null,3.2556077363363363,null,"Tyskland",{"$f":"IFERROR(M79/$E123*$G$118,\"*\")","v":1.2273835218718718},0.78554038113113089,0.38250778653653617,0,0,2.3954316895395391,null,"Tyskland",{"$f":"IFERROR(U79/$E123*$G$118,\"*\")","v":1.0665436623623621},0.78292813283283258,0.35116080695695656,null,null,2.2006326021521514,null,"Tyskland",{"$f":"IFERROR(AC79/$E123*$G$118,\"*\")","v":0.97324908028028034},0.7821817761761759,0.33362142552552582,null,null,2.0890522819819819,null,"Tyskland",{"$f":"IFERROR(AK79/$E123*$G$118,\"*\")","v":0.93817031741741719},0.74113216006006,0.31906747072072117,null,null,1.9983699481981985]
[null,null,null,"Estland",{"$f":"IFERROR(E80/$E124*$G$118,\"*\")","v":0.73120994095867109},9.8862568547983559E-2,0.1656414356049235,null,null,0.99571394511157818,null,"Estland",{"$f":"IFERROR(M80/$E124*$G$118,\"*\")","v":0.73494060392274585},9.9608701140798561E-2,0.16041850745521857,0,0,0.99496781251876298,null,"Estland",{"$f":"IFERROR(U80/$E124*$G$118,\"*\")","v":0.70957209576703695},9.9981767437205993E-2,0.15780704338036614,null,null,0.96736090658460905,null,"Estland",{"$f":"IFERROR(AC80/$E124*$G$118,\"*\")","v":0.66704253797658364},9.9981767437205993E-2,0.1533302478234764,null,null,0.920354553237266,null,"Estland",{"$f":"IFERROR(AK80/$E124*$G$118,\"*\")","v":0.61667858796157304},0.10035483373361344,0.1473611870809568,null,null,0.86439460877614327]
[null,null,null,"Irland",{"$f":"IFERROR(E81/$E125*$G$118,\"*\")","v":3.1334272857499998},0.73591736610000003,0.52230001514999957,null,null,4.3916446669999996,null,"Irland",{"$f":"IFERROR(M81/$E125*$G$118,\"*\")","v":1.7745525139999998},0.25015225565000015,0.27326617495000011,0,0,2.2979709446000003,null,"Irland",{"$f":"IFERROR(U81/$E125*$G$118,\"*\")","v":1.47668119915},0.12600814069999999,0.21659979214999994,null,null,1.819289132,null,"Irland",{"$f":"IFERROR(AC81/$E125*$G$118,\"*\")","v":1.2981075323},6.5986511549999974E-2,0.1841657441,null,null,1.54825978795,null,"Irland",{"$f":"IFERROR(AK81/$E125*$G$118,\"*\")","v":1.1433933950499999},2.1622698700000102E-2,0.15695096815000009,null,null,1.3219670619000001]
[null,null,null,"Grækenland",{"$f":"IFERROR(E82/$E126*$G$118,\"*\")","v":1.3557556488477893},0.2370821001384629,0.20684767990307598,null,null,1.7996854288893283,null,"Grækenland",{"$f":"IFERROR(M82/$E126*$G$118,\"*\")","v":0.93947930194837304},0.23966308723172758,0.15375308827020082,0,0,1.3328954774503015,null,"Grækenland",{"$f":"IFERROR(U82/$E126*$G$118,\"*\")","v":0.89892093333992673},0.2555177222332114,0.15006596385125093,null,null,1.304504619424389,null,"Grækenland",{"$f":"IFERROR(AC82/$E126*$G$118,\"*\")","v":0.8756920495005438},0.35617621887053685,0.16002119978241536,null,null,1.3918894681534959,null,"Grækenland",{"$f":"IFERROR(AK82/$E126*$G$118,\"*\")","v":0.83402754356641273},0.41627634689941623,0.16297089931757497,null,null,1.4132747897834039]
[null,null,null,"Spanien",{"$f":"IFERROR(E83/$E127*$G$118,\"*\")","v":3.019710600864554},0.15411601152737786,0.66647765561959649,null,null,3.8403042680115282,null,"Spanien",{"$f":"IFERROR(M83/$E127*$G$118,\"*\")","v":1.62155236167147},8.2985544668587818E-2,0.35787516138328546,0,0,2.0624130677233432,null,"Spanien",{"$f":"IFERROR(U83/$E127*$G$118,\"*\")","v":1.3629634769452452},6.9648582132564793E-2,0.30082259942363115,null,null,1.7334346585014411,null,"Spanien",{"$f":"IFERROR(AC83/$E127*$G$118,\"*\")","v":1.1881010792507205},6.0757273775216246E-2,0.26192312536023077,null,null,1.5107814783861675,null,"Spanien",{"$f":"IFERROR(AK83/$E127*$G$118,\"*\")","v":1.1191934394812684},5.7052561959654073E-2,0.24710427809798269,null,null,1.423350279538905]
[null,null,null,"Frankrig",{"$f":"IFERROR(E84/$E128*$G$118,\"*\")","v":1.6201781216094484},0.25298958232409158,0.21978003538184346,null,null,2.0929477393153832,null,"Frankrig",{"$f":"IFERROR(M84/$E128*$G$118,\"*\")","v":0.94665865834250829},0.24104907106395748,0.18731677039335384,0,0,1.3750244997998196,null,"Frankrig",{"$f":"IFERROR(U84/$E128*$G$118,\"*\")","v":0.8112084837353617},0.23806394324892396,0.18171965574016599,null,null,1.2309920827244516,null,"Frankrig",{"$f":"IFERROR(AC84/$E128*$G$118,\"*\")","v":0.72799804589130201},0.23619823836452813,0.17649568206385727,null,null,1.1406919663196875,null,"Frankrig",{"$f":"IFERROR(AK84/$E128*$G$118,\"*\")","v":0.70449016434791312},0.23694452031828619,0.17724196401761597,null,null,1.1186766486838153]
[null,null,null,"Kroatien",{"$f":"IFERROR(E85/$E129*$G$118,\"*\")","v":1.2159114706762417},{"$f":"IFERROR(F85/$E129*$G$118,\"*\")","v":3.4209130061839371E-2},0.31234423099940162,null,null,1.5624648317374827,null,"Kroatien",{"$f":"IFERROR(M85/$E129*$G$118,\"*\")","v":0.81172316222820662},3.3837291691601823E-2,0.21157603266507086,0,0,1.0571364865848794,null,"Kroatien",{"$f":"IFERROR(U85/$E129*$G$118,\"*\")","v":0.74776696254737685},3.4209130061839163E-2,0.1955869827448635,null,null,0.97756307535407949,null,"Kroatien",{"$f":"IFERROR(AC85/$E129*$G$118,\"*\")","v":0.71504518596648714},3.3837291691601823E-2,0.18740653859964104,null,null,0.93628901625772998,null,"Kroatien",{"$f":"IFERROR(AK85/$E129*$G$118,\"*\")","v":0.69087569190105724},3.4209130061839267E-2,0.18108528630560541,null,null,0.90617010826850186]
[null,null,null,"Italien",{"$f":"IFERROR(E86/$E130*$G$118,\"*\")","v":1.5214480445945942},0.47207058533533541,0.20151629729729745,null,null,2.1950349272272267,null,"Italien",{"$f":"IFERROR(M86/$E130*$G$118,\"*\")","v":1.0337039694694694},0.3955690280280279,0.14292729974974974,0,0,1.5722002972472471,null,"Italien",{"$f":"IFERROR(U86/$E130*$G$118,\"*\")","v":1.1143104883883883},0.54036221941941953,0.16569117777777773,null,null,1.8203638855855855,null,"Italien",{"$f":"IFERROR(AC86/$E130*$G$118,\"*\")","v":1.3688181083083082},0.69635076066066048,0.20674079389389388,null,null,2.2719096628628623,null,"Italien",{"$f":"IFERROR(AK86/$E130*$G$118,\"*\")","v":1.5401069610110107},0.72807091856856865,0.22950467192192189,null,null,2.4976825515015015]
[null,null,null,"Cypern",{"$f":"IFERROR(E87/$E131*$G$118,\"*\")","v":1.2718025447966923},8.1850495668012169E-2,0.26390361607758184,null,null,1.6175566565422863,null,"Cypern",{"$f":"IFERROR(M87/$E131*$G$118,\"*\")","v":1.1044311276459586},6.349836659446681E-2,0.21545399532342241,0,0,1.3833834895638479,null,"Cypern",{"$f":"IFERROR(U87/$E131*$G$118,\"*\")","v":1.1147083199271439},6.2030196268583151E-2,0.21618808048636415,null,null,1.3929265966820912,null,"Cypern",{"$f":"IFERROR(AC87/$E131*$G$118,\"*\")","v":1.0996595740868367},6.1663153687112483E-2,0.21251765467165507,null,null,1.373840382445604,null,"Cypern",{"$f":"IFERROR(AK87/$E131*$G$118,\"*\")","v":1.0446031868662007},6.2030196268583346E-2,0.19820299399428967,null,null,1.3048363771290739]
[null,null,null,"Letland",{"$f":"IFERROR(E88/$E132*$G$118,\"*\")","v":0.77220988581020134},0.19987048326485612,0.20397996983665709,null,null,1.1760603389117146,null,"Letland",{"$f":"IFERROR(M88/$E132*$G$118,\"*\")","v":0.8174142381000099},0.20024407295320162,0.21406689142198621,0,0,1.2317252024751979,null,"Letland",{"$f":"IFERROR(U88/$E132*$G$118,\"*\")","v":0.81405193090490002},0.20024407295320162,0.21294612235694976,null,null,1.2272421262150515,null,"Letland",{"$f":"IFERROR(AC88/$E132*$G$118,\"*\")","v":0.80882167526806281},0.19987048326485624,0.21182535329191288,null,null,1.2205175118248319,null,"Letland",{"$f":"IFERROR(AK88/$E132*$G$118,\"*\")","v":0.79462526711093284},0.20024407295320162,0.2088366357851488,null,null,1.2037059758492832]
[null,null,null,"Litaun",{"$f":"IFERROR(E89/$E133*$G$118,\"*\")","v":0.66244379554032573},0.1218244878327373,0.16440751549463642,null,null,0.94867579886769937,null,"Litaun",{"$f":"IFERROR(M89/$E133*$G$118,\"*\")","v":0.65614891319030577},0.12145420063567745,0.16329665390345635,0,0,0.94089976772943962,null,"Litaun",{"$f":"IFERROR(U89/$E133*$G$118,\"*\")","v":0.64318886129320618},0.12145420063567736,0.16070464352403638,null,null,0.92534770545291989,null,"Litaun",{"$f":"IFERROR(AC89/$E133*$G$118,\"*\")","v":0.61689847030194656},0.1218244878327374,0.15515033556813662,null,null,0.89387329370282054,null,"Litaun",{"$f":"IFERROR(AK89/$E133*$G$118,\"*\")","v":0.57061257066944771},0.1218244878327373,0.14552286844457687,null,null,0.83795992694676191]
[null,null,null,"Luxembourg",{"$f":"IFERROR(E90/$E134*$G$118,\"*\")","v":1.4287009450670403},0.22754767010206126,0.13205225445267155,null,null,1.7883008696217733,null,"Luxembourg",{"$f":"IFERROR(M90/$E134*$G$118,\"*\")","v":1.1019275696417852},0.22754767010206126,0.10594022673604155,0,0,1.4354154664798882,null,"Luxembourg",{"$f":"IFERROR(U90/$E134*$G$118,\"*\")","v":0.99300311116670004},0.22754767010206126,9.7733589453672207E-2,null,null,1.3182843707224334,null,"Luxembourg",{"$f":"IFERROR(AC90/$E134*$G$118,\"*\")","v":0.89825375345207115},0.22754767010206134,8.9526952171302646E-2,null,null,1.2153283757254352,null,"Luxembourg",{"$f":"IFERROR(AK90/$E134*$G$118,\"*\")","v":0.82327493100860516},0.22754767010206126,8.3558488693216054E-2,null,null,1.1343810898038826]
[null,null,null,"Ungarn",{"$f":"IFERROR(E91/$E135*$G$118,\"*\")","v":0.7546376010106064},0,0.20367381618971386,null,null,0.9583114172003202,null,"Ungarn",{"$f":"IFERROR(M91/$E135*$G$118,\"*\")","v":0.6912226765559335},0,0.1865144836902142,0,0,0.87773716024614767,null,"Ungarn",{"$f":"IFERROR(U91/$E135*$G$118,\"*\")","v":0.66734882264358619},0,0.18017299124474687,null,null,0.84752181388833303,null,"Ungarn",{"$f":"IFERROR(AC91/$E135*$G$118,\"*\")","v":0.65168160601360825},0,0.17644270157094241,null,null,0.82812430758455069,null,"Ungarn",{"$f":"IFERROR(AK91/$E135*$G$118,\"*\")","v":0.68003180753452075},0,0.1831572229837902,null,null,0.86318903051831097]
[null,null,null,"Malta",{"$f":"IFERROR(E92/$E136*$G$118,\"*\")","v":2.67345498097936},0,0.13352187687171177,null,null,2.8069768578510716,null,"Malta",{"$f":"IFERROR(M92/$E136*$G$118,\"*\")","v":1.0349831359773367},0,5.1673720710238936E-2,0,0,1.0866568566875756,null,"Malta",0.90749614619587182,0,4.526165317685172E-2,null,null,0.95275779937272354,null,"Malta",{"$f":"IFERROR(AC92/$E136*$G$118,\"*\")","v":1.065157571428571},0,5.3182442482800477E-2,null,null,1.1183400139113715,null,"Malta",{"$f":"IFERROR(AK92/$E136*$G$118,\"*\")","v":2.547476712970457},0,0.12748698978146517,null,null,2.674963702751922]
[null,null,null,"Holland",{"$f":"IFERROR(E93/$E137*$G$118,\"*\")","v":2.6947024220362761},"*","*",null,null,2.6947024220362761,null,"Holland",{"$f":"IFERROR(M93/$E137*$G$118,\"*\")","v":1.3213867276781239},-0.42290352720713498,0.18828920292614487,0,0,1.0867724033971338,null,"Holland",0.94256678369576097,0.24059175929451848,0.24843714274977449,null,null,1.431595685740054,null,"Holland",{"$f":"IFERROR(AC93/$E137*$G$118,\"*\")","v":0.68441630904900286},0.57532812005210932,0.26412790966028671,null,null,1.5238723387613988,null,"Holland",{"$f":"IFERROR(AK93/$E137*$G$118,\"*\")","v":0.94667627026756151},0.47632685264054531,0.2988717506764203,null,null,1.7218748735845271]
[null,null,null,"Østrig",{"$f":"IFERROR(E94/$E138*$G$118,\"*\")","v":1.5430826067540322},0.67307865287298396,0.44345773891129026,null,null,2.6596189985383067,null,"Østrig",{"$f":"IFERROR(M94/$E138*$G$118,\"*\")","v":1.0921086349798386},0.41527186567540336,0.30102512615927418,0,0,1.8084056268145161,null,"Østrig",0.93952910786290322,0.3104204172379032,0.25029055433467734,null,null,1.5002400794354838,null,"Østrig",{"$f":"IFERROR(AC94/$E138*$G$118,\"*\")","v":0.84256970393145159},0.2638197734879032,0.22135305781250003,null,null,1.3277425352318548,null,"Østrig",{"$f":"IFERROR(AK94/$E138*$G$118,\"*\")","v":0.72531647127016119},0.21684331809475815,0.18865744485887084,null,null,1.1308172342237903]
[null,null,null,"Polen",{"$f":"IFERROR(E95/$E139*$G$118,\"*\")","v":1.0558493424031776},3.5170297169811141E-2,0.25137507135054638,null,null,1.3423947109235352,null,"Polen",{"$f":"IFERROR(M95/$E139*$G$118,\"*\")","v":0.87777657462760661},3.5540510824230272E-2,0.21028135571002982,0,0,1.1235984411618667,null,"Polen",0.82557644935451824,3.59107244786495E-2,0.19806430511420053,null,null,1.0595514789473683,null,"Polen",{"$f":"IFERROR(AC95/$E139*$G$118,\"*\")","v":0.79151679314796408},3.5540510824230376E-2,0.18991960471698116,null,null,1.0169769086891756,null,"Polen",{"$f":"IFERROR(AK95/$E139*$G$118,\"*\")","v":0.78078059716981119},3.59107244786495E-2,0.18769832279046658,null,null,1.0043896444389273]
[null,null,null,"Portugal",{"$f":"IFERROR(E96/$E140*$G$118,\"*\")","v":1.3821891440703515},1.0105080296984925,0.54665599381909502,null,null,2.9393531675879387,null,"Portugal",{"$f":"IFERROR(M96/$E140*$G$118,\"*\")","v":0.9228332507035174},0.58749595497487439,0.34507893783919574,0,0,1.8554081435175873,null,"Portugal",0.86288468386934669,0.52942078085427113,0.31772740422110568,null,null,1.7100328689447233,null,"Portugal",{"$f":"IFERROR(AC96/$E140*$G$118,\"*\")","v":0.82916361502512548},0.49307696221105518,0.30236558396984919,null,null,1.6246061612060299,null,"Portugal",{"$f":"IFERROR(AK96/$E140*$G$118,\"*\")","v":0.81642454457286406},0.45223700105527642,0.29112522768844212,null,null,1.5597867733165827]
[null,null,null,"Rumænien",{"$f":"IFERROR(E97/$E141*$G$118,\"*\")","v":0.72474420157354835},9.2078156757295151E-2,0.19603736599940239,null,null,1.012859724330246,null,"Rumænien",{"$f":"IFERROR(M97/$E141*$G$118,\"*\")","v":0.70766518862663075},9.2449439647445494E-2,0.19232453709789854,0,0,0.99243916537197474,null,"Rumænien",0.69244259013046505,9.2449439647445494E-2,0.18861170819639472,null,null,0.97350373797430523,null,"Rumænien",{"$f":"IFERROR(AC97/$E141*$G$118,\"*\")","v":0.68278923498655508},9.2449439647445397E-2,0.18601272796534221,null,null,0.96125140259934272,null,"Rumænien",{"$f":"IFERROR(AK97/$E141*$G$118,\"*\")","v":0.66496765625933674},9.0964308086843915E-2,0.18155733328353749,null,null,0.93748929762971811]
[null,null,null,"Slovenien",{"$f":"IFERROR(E98/$E142*$G$118,\"*\")","v":0.86208415988487475},0.4769212369491862,0.29451458852719331,null,null,1.6335199853612543,null,"Slovenien",{"$f":"IFERROR(M98/$E142*$G$118,\"*\")","v":0.94126270504168308},0.22828580542874166,0.25751526836046068,0,0,1.4270637788308855,null,"Slovenien",0.83211471054982122,0.14429734865025814,0.21496605016871767,null,null,1.191378109368797,null,"Slovenien",{"$f":"IFERROR(AC98/$E142*$G$118,\"*\")","v":0.76255598863636354},9.3608280021834023E-2,0.18869653285033738,null,null,1.044860801508535,null,"Slovenien",{"$f":"IFERROR(AK98/$E142*$G$118,\"*\")","v":0.71593684522628032},5.9938898670107148E-2,0.17130685237197302,null,null,0.94718259626836043]
[null,null,null,"Slovakiet",{"$f":"IFERROR(E99/$E143*$G$118,\"*\")","v":1.5127678832087696},2.377631250622806E-2,0.30723453816641755,null,null,1.8437787338814151,null,"Slovakiet",{"$f":"IFERROR(M99/$E143*$G$118,\"*\")","v":1.0569313918784256},2.3776312506228265E-2,0.21584433697060285,0,0,1.2965520413552567,null,"Slovakiet",0.91204448754359746,2.3776312506228265E-2,0.18723846098654712,null,null,1.1230592610363728,null,"Slovakiet",{"$f":"IFERROR(AC99/$E143*$G$118,\"*\")","v":0.79167690548081726},2.3776312506228164E-2,0.16309064359740896,null,null,0.97854386158445439,null,"Slovakiet",{"$f":"IFERROR(AK99/$E143*$G$118,\"*\")","v":0.6969431603388142},2.3776312506228265E-2,0.14414389456900847,null,null,0.8648633674140509]
[null,null,null,"Finland",{"$f":"IFERROR(E100/$E144*$G$118,\"*\")","v":1.6496330119808307},0.16786653619209255,0.43622966833067056,null,null,2.2537292165035936,null,"Finland",{"$f":"IFERROR(M100/$E144*$G$118,\"*\")","v":1.0399536632388178},0.16786653619209274,0.28995128978634171,0,0,1.4977714892172522,null,"Finland",0.75744656574480829,0.16786653619209255,0.22183693031150173,null,null,1.1471500322484025,null,"Finland",{"$f":"IFERROR(AC100/$E144*$G$118,\"*\")","v":0.64020053714057501},0.16786653619209274,0.19392120921525549,null,null,1.0019882825479234,null,"Finland",{"$f":"IFERROR(AK100/$E144*$G$118,\"*\")","v":0.52444334699480821},0.16749432657747607,0.16600548811900956,null,null,0.85794316169129381]
[null,null,null,"Sverige",{"$f":"IFERROR(E101/$E145*$G$118,\"*\")","v":1.8347419617824772},0.22338274345417922,0.51396802653575024,null,null,2.5720927317724067,null,"Sverige",{"$f":"IFERROR(M101/$E145*$G$118,\"*\")","v":1.024557154431017},0.22300731027190332,0.31236040765357476,0,0,1.5599248723564951,null,"Sverige",0.89540813972809652,0.22338274345417941,0.27969772079556882,null,null,1.3984886039778448,null,"Sverige",{"$f":"IFERROR(AC101/$E145*$G$118,\"*\")","v":0.70018288494461223},0.22338274345417922,0.23051597391742196,null,null,1.1540816023162135,null,"Sverige",{"$f":"IFERROR(AK101/$E145*$G$118,\"*\")","v":0.58117056616314189},0.22300731027190332,0.2012321856998994,null,null,1.0054100621349447]
[null,null,null,"UK",{"$f":"IFERROR(E102/$E146*$G$118,\"*\")","v":1.8580608675999997},0,9.4319702950000375E-2,null,null,1.9523805705500001,null,"UK",{"$f":"IFERROR(M102/$E146*$G$118,\"*\")","v":1.6955178221999998},0,8.537237935000011E-2,0,0,1.7808902015499999,null,"UK",1.52961953045,0,7.642505574999986E-2,null,null,1.6060445861999999,null,"UK",{"$f":"IFERROR(AC102/$E146*$G$118,\"*\")","v":1.3950368712999999},0,7.0087368200000139E-2,null,null,1.4651242394999999,null,"UK",{"$f":"IFERROR(AK102/$E146*$G$118,\"*\")","v":1.2787216644999999},0,6.4122485799999976E-2,null,null,1.3428441502999999]
[null,null,null,"Level 1",null,null,null,null,null,null,null,"Level 1",null,null,null,null,null,null,null,"Level 1",null,null,null,null,null,null,null,"Level 1",null,null,null,null,null,null,null,"Level 1"]
[null,null,null,"Level 2",null,null,null,null,null,null,null,"Level 2",null,null,null,null,null,null,null,"Level 2",null,null,null,null,null,null,null,"Level 2",null,null,null,null,null,null,null,"Level 2"]
[null,null,null,"Level 3",null,null,null,null,null,null,null,"Level 3",null,null,null,null,null,null,null,"Level 3",null,null,null,null,null,null,null,"Level 3",null,null,null,null,null,null,null,"Level 3"]
[]
[]
[]
[null,null,null,"Baggrundstabeller"]
[]
[null,null,null,"Tabel A"]
[null,null,null,"Nedenstående  tabeller (de orange) henter data fra 'Level 1' og 'Afgifter og moms', der hentes data fra det år der er valgt i valgmenuen øverst. Priserne vises i original enheden i Eurostat EURO / kWh."]
[null,null,null,"'Elpris inkl. PSO, eksl. afgifter' udgør level 1 prisen. 'Ikke refundrebare afgifter' svarer til level 2 prisen fratrukket level 1 prisen. 'Ikke refunderbare afgifter' er level 3 prisen fratrukket level 2 prisen. Beregningen er foretaget i arket \"Afgifter og moms\"."]
[]
[null,null,null,"Data er hentet for år 2014"]
[null,null,null,{"$f":"'Udvalgte lande, 10 års oversigt'!D26:K26","v":"IA: < 1000 kWh"},null,null,null,null,null,null,null,"IB: 1000 < 2500 kWh",null,null,null,null,null,null,null,"IC: 2500 < 5000 kWh",null,null,null,null,null,null,null,"ID: 5000 < 15000 kWh",null,null,null,null,null,null,null,"IE: > 15000 kWh"]
[]
[null,null,null,{"$f":"\"Euro/kWH år \"&$E$12","v":"Euro/kWH år 2015"},"Elpris inkl. PSO, eksl. afgifter ","Afgifter","Moms",null,null,null,null,{"$f":"\"Euro/kWH år \"&$E$12","v":"Euro/kWH år 2015"},"Elpris inkl. PSO, eksl. afgifter ","Afgifter","Moms",null,null,null,null,{"$f":"\"Euro/kWH år \"&$E$12","v":"Euro/kWH år 2015"},"Elpris inkl. PSO, eksl. afgifter ","Afgifter","Moms",null,null,null,null,{"$f":"\"Euro/kWH år \"&$E$12","v":"Euro/kWH år 2015"},"Elpris inkl. PSO, eksl. afgifter ","Afgifter","Moms",null,null,null,null,{"$f":"\"Euro/kWH år \"&$E$12","v":"Euro/kWH år 2015"},"Elpris inkl. PSO, eksl. afgifter ","Afgifter","Moms"]
[null,null,null,{"$f":"'Oversættelse af landenavne'!$B6","v":"EU-28"},{"$f":"HLOOKUP($E$12,'Level 1'!$B$5:$L$35,'Oversættelse af landenavne'!$C6,FALSE)","v":0.23730000000000001},{"$f":"HLOOKUP($E$12,'Afgifter og Moms'!A$5:L$35,'Oversættelse af landenavne'!$C6,FALSE)","v":4.3049999999999977E-2},{"$f":"HLOOKUP($E$12,'Afgifter og Moms'!A$41:L$70,'Oversættelse af landenavne'!$C6,FALSE)","v":4.4649999999999967E-2},null,null,null,null,{"$f":"'Oversættelse af landenavne'!$B6","v":"EU-28"},{"$f":"HLOOKUP($E$12,'Level 1'!$O$5:$Y$35,'Oversættelse af landenavne'!$C6,FALSE)","v":0.1593},{"$f":"HLOOKUP($E$12,'Afgifter og Moms'!$O$5:$Y$34,'Oversættelse af landenavne'!$C6,FALSE)","v":3.5799999999999998E-2},{"$f":"HLOOKUP($E$12,'Afgifter og Moms'!O$41:Y$70,'Oversættelse af landenavne'!$C6,FALSE)","v":3.15E-2},null,null,null,null,{"$f":"'Oversættelse af landenavne'!$B6","v":"EU-28"},{"$f":"HLOOKUP($E$12,'Level 1'!$AA$5:$AL$35,'Oversættelse af landenavne'!C6,FALSE)","v":0.14105000000000001},{"$f":"HLOOKUP($E$12,'Afgifter og Moms'!$AA$5:$AL$34,'Oversættelse af landenavne'!C6,FALSE)","v":3.9099999999999968E-2},{"$f":"HLOOKUP($E$12,'Afgifter og Moms'!$AA$41:$AL$70,'Oversættelse af landenavne'!C6,FALSE)","v":2.9200000000000004E-2},null,null,null,null,{"$f":"'Oversættelse af landenavne'!$B6","v":"EU-28"},{"$f":"HLOOKUP($E$12,'Level 1'!$AN$5:$AY$35,'Oversættelse af landenavne'!C6,FALSE)","v":0.13100000000000001},{"$f":"HLOOKUP($E$12,'Afgifter og Moms'!$AN$5:$AY$34,'Oversættelse af landenavne'!C6,FALSE)","v":4.1250000000000009E-2},{"$f":"HLOOKUP($E$12,'Afgifter og Moms'!$AN$41:AY70,'Oversættelse af landenavne'!C6,FALSE)","v":2.7849999999999986E-2},null,null,null,null,{"$f":"'Oversættelse af landenavne'!$B6","v":"EU-28"},{"$f":"HLOOKUP($E$12,'Level 1'!$BA$5:$BL$35,'Oversættelse af landenavne'!$C6,FALSE)","v":0.12520000000000001},{"$f":"HLOOKUP($E$12,'Afgifter og Moms'!$BA$5:$BL$34,'Oversættelse af landenavne'!$C6,FALSE)","v":4.0149999999999991E-2},{"$f":"HLOOKUP($E$12,'Afgifter og Moms'!$BA$41:$BL$70,'Oversættelse af landenavne'!$C6,FALSE)","v":2.6749999999999996E-2}]
[null,null,null,{"$f":"'Oversættelse af landenavne'!$B7","v":"Belgien"},{"$f":"HLOOKUP($E$12,'Level 1'!$B$5:$L$35,'Oversættelse af landenavne'!$C7,FALSE)","v":0.23730000000000001},{"$f":"HLOOKUP($E$12,'Afgifter og Moms'!A$5:L$35,'Oversættelse af landenavne'!$C7,FALSE)","v":2.024999999999999E-2},{"$f":"HLOOKUP($E$12,'Afgifter og Moms'!A$41:L$70,'Oversættelse af landenavne'!$C7,FALSE)","v":2.8600000000000014E-2},null,null,null,null,{"$f":"'Oversættelse af landenavne'!$B7","v":"Belgien"},{"$f":"HLOOKUP($E$12,'Level 1'!$O$5:$Y$35,'Oversættelse af landenavne'!$C7,FALSE)","v":0.19645000000000001},{"$f":"HLOOKUP($E$12,'Afgifter og Moms'!$O$5:$Y$34,'Oversættelse af landenavne'!$C7,FALSE)","v":1.949999999999999E-2},{"$f":"HLOOKUP($E$12,'Afgifter og Moms'!O$41:Y$70,'Oversættelse af landenavne'!$C7,FALSE)","v":2.2900000000000004E-2},null,null,null,null,{"$f":"'Oversættelse af landenavne'!$B7","v":"Belgien"},{"$f":"HLOOKUP($E$12,'Level 1'!$AA$5:$AL$35,'Oversættelse af landenavne'!C7,FALSE)","v":0.18295},{"$f":"HLOOKUP($E$12,'Afgifter og Moms'!$AA$5:$AL$34,'Oversættelse af landenavne'!C7,FALSE)","v":2.0349999999999979E-2},{"$f":"HLOOKUP($E$12,'Afgifter og Moms'!$AA$41:$AL$70,'Oversættelse af landenavne'!C7,FALSE)","v":2.0600000000000007E-2},null,null,null,null,{"$f":"'Oversættelse af landenavne'!$B7","v":"Belgien"},{"$f":"HLOOKUP($E$12,'Level 1'!$AN$5:$AY$35,'Oversættelse af landenavne'!C7,FALSE)","v":0.16294999999999998},{"$f":"HLOOKUP($E$12,'Afgifter og Moms'!$AN$5:$AY$34,'Oversættelse af landenavne'!C7,FALSE)","v":2.0050000000000012E-2},{"$f":"HLOOKUP($E$12,'Afgifter og Moms'!$AN$41:AY70,'Oversættelse af landenavne'!C7,FALSE)","v":1.8550000000000011E-2},null,null,null,null,{"$f":"'Oversættelse af landenavne'!$B7","v":"Belgien"},{"$f":"HLOOKUP($E$12,'Level 1'!$BA$5:$BL$35,'Oversættelse af landenavne'!$C7,FALSE)","v":0.13464999999999999},{"$f":"HLOOKUP($E$12,'Afgifter og Moms'!$BA$5:$BL$34,'Oversættelse af landenavne'!$C7,FALSE)","v":1.6800000000000009E-2},{"$f":"HLOOKUP($E$12,'Afgifter og Moms'!$BA$41:$BL$70,'Oversættelse af landenavne'!$C7,FALSE)","v":1.7999999999999988E-2}]
[null,null,null,{"$f":"'Oversættelse af landenavne'!$B8","v":"Bulgarien"},{"$f":"HLOOKUP($E$12,'Level 1'!$B$5:$L$35,'Oversættelse af landenavne'!$C8,FALSE)","v":8.0999999999999989E-2},{"$f":"HLOOKUP($E$12,'Afgifter og Moms'!A$5:L$35,'Oversættelse af landenavne'!$C8,FALSE)","v":0},{"$f":"HLOOKUP($E$12,'Afgifter og Moms'!A$41:L$70,'Oversættelse af landenavne'!$C8,FALSE)","v":1.6250000000000014E-2},null,null,null,null,{"$f":"'Oversættelse af landenavne'!$B8","v":"Bulgarien"},{"$f":"HLOOKUP($E$12,'Level 1'!$O$5:$Y$35,'Oversættelse af landenavne'!$C8,FALSE)","v":7.980000000000001E-2},{"$f":"HLOOKUP($E$12,'Afgifter og Moms'!$O$5:$Y$34,'Oversættelse af landenavne'!$C8,FALSE)","v":0},{"$f":"HLOOKUP($E$12,'Afgifter og Moms'!O$41:Y$70,'Oversættelse af landenavne'!$C8,FALSE)","v":1.5949999999999992E-2},null,null,null,null,{"$f":"'Oversættelse af landenavne'!$B8","v":"Bulgarien"},{"$f":"HLOOKUP($E$12,'Level 1'!$AA$5:$AL$35,'Oversættelse af landenavne'!C8,FALSE)","v":7.9149999999999998E-2},{"$f":"HLOOKUP($E$12,'Afgifter og Moms'!$AA$5:$AL$34,'Oversættelse af landenavne'!C8,FALSE)","v":0},{"$f":"HLOOKUP($E$12,'Afgifter og Moms'!$AA$41:$AL$70,'Oversættelse af landenavne'!C8,FALSE)","v":1.5800000000000008E-2},null,null,null,null,{"$f":"'Oversættelse af landenavne'!$B8","v":"Bulgarien"},{"$f":"HLOOKUP($E$12,'Level 1'!$AN$5:$AY$35,'Oversættelse af landenavne'!C8,FALSE)","v":7.9050000000000009E-2},{"$f":"HLOOKUP($E$12,'Afgifter og Moms'!$AN$5:$AY$34,'Oversættelse af landenavne'!C8,FALSE)","v":0},{"$f":"HLOOKUP($E$12,'Afgifter og Moms'!$AN$41:AY71,'Oversættelse af landenavne'!C8,FALSE)","v":1.5799999999999995E-2},null,null,null,null,{"$f":"'Oversættelse af landenavne'!$B8","v":"Bulgarien"},{"$f":"HLOOKUP($E$12,'Level 1'!$BA$5:$BL$35,'Oversættelse af landenavne'!$C8,FALSE)","v":7.8600000000000003E-2},{"$f":"HLOOKUP($E$12,'Afgifter og Moms'!$BA$5:$BL$34,'Oversættelse af landenavne'!$C8,FALSE)","v":0},{"$f":"HLOOKUP($E$12,'Afgifter og Moms'!$BA$41:$BL$70,'Oversættelse af landenavne'!$C8,FALSE)","v":1.5749999999999986E-2}]
[null,null,null,{"$f":"'Oversættelse af landenavne'!$B9","v":"Tjekkiet"},{"$f":"HLOOKUP($E$12,'Level 1'!$B$5:$L$35,'Oversættelse af landenavne'!$C9,FALSE)","v":0.2137},{"$f":"HLOOKUP($E$12,'Afgifter og Moms'!A$5:L$35,'Oversættelse af landenavne'!$C9,FALSE)","v":1.0999999999999899E-3},{"$f":"HLOOKUP($E$12,'Afgifter og Moms'!A$41:L$70,'Oversættelse af landenavne'!$C9,FALSE)","v":4.5100000000000029E-2},null,null,null,null,{"$f":"'Oversættelse af landenavne'!$B9","v":"Tjekkiet"},{"$f":"HLOOKUP($E$12,'Level 1'!$O$5:$Y$35,'Oversættelse af landenavne'!$C9,FALSE)","v":0.15140000000000001},{"$f":"HLOOKUP($E$12,'Afgifter og Moms'!$O$5:$Y$34,'Oversættelse af landenavne'!$C9,FALSE)","v":1.0999999999999899E-3},{"$f":"HLOOKUP($E$12,'Afgifter og Moms'!O$41:Y$70,'Oversættelse af landenavne'!$C9,FALSE)","v":3.1850000000000017E-2},null,null,null,null,{"$f":"'Oversættelse af landenavne'!$B9","v":"Tjekkiet"},{"$f":"HLOOKUP($E$12,'Level 1'!$AA$5:$AL$35,'Oversættelse af landenavne'!C9,FALSE)","v":0.11435000000000001},{"$f":"HLOOKUP($E$12,'Afgifter og Moms'!$AA$5:$AL$34,'Oversættelse af landenavne'!C9,FALSE)","v":1.0999999999999899E-3},{"$f":"HLOOKUP($E$12,'Afgifter og Moms'!$AA$41:$AL$70,'Oversættelse af landenavne'!C9,FALSE)","v":2.4199999999999999E-2},null,null,null,null,{"$f":"'Oversættelse af landenavne'!$B9","v":"Tjekkiet"},{"$f":"HLOOKUP($E$12,'Level 1'!$AN$5:$AY$35,'Oversættelse af landenavne'!C9,FALSE)","v":9.0149999999999994E-2},{"$f":"HLOOKUP($E$12,'Afgifter og Moms'!$AN$5:$AY$34,'Oversættelse af landenavne'!C9,FALSE)","v":1.1000000000000038E-3},{"$f":"HLOOKUP($E$12,'Afgifter og Moms'!$AN$41:AY72,'Oversættelse af landenavne'!C9,FALSE)","v":1.9049999999999997E-2},null,null,null,null,{"$f":"'Oversættelse af landenavne'!$B9","v":"Tjekkiet"},{"$f":"HLOOKUP($E$12,'Level 1'!$BA$5:$BL$35,'Oversættelse af landenavne'!$C9,FALSE)","v":7.6999999999999999E-2},{"$f":"HLOOKUP($E$12,'Afgifter og Moms'!$BA$5:$BL$34,'Oversættelse af landenavne'!$C9,FALSE)","v":1.1000000000000038E-3},{"$f":"HLOOKUP($E$12,'Afgifter og Moms'!$BA$41:$BL$70,'Oversættelse af landenavne'!$C9,FALSE)","v":1.6449999999999992E-2}]
[null,null,null,{"$f":"'Oversættelse af landenavne'!$B10","v":"Danmark"},{"$f":"HLOOKUP($E$12,'Level 1'!$B$5:$L$35,'Oversættelse af landenavne'!$C10,FALSE)","v":0.1187},{"$f":"HLOOKUP($E$12,'Afgifter og Moms'!A$5:L$35,'Oversættelse af landenavne'!$C10,FALSE)","v":0.14785000000000001},{"$f":"HLOOKUP($E$12,'Afgifter og Moms'!A$41:L$70,'Oversættelse af landenavne'!$C10,FALSE)","v":6.6599999999999993E-2},null,null,null,null,{"$f":"'Oversættelse af landenavne'!$B10","v":"Danmark"},{"$f":"HLOOKUP($E$12,'Level 1'!$O$5:$Y$35,'Oversættelse af landenavne'!$C10,FALSE)","v":0.1187},{"$f":"HLOOKUP($E$12,'Afgifter og Moms'!$O$5:$Y$34,'Oversættelse af landenavne'!$C10,FALSE)","v":0.14785000000000001},{"$f":"HLOOKUP($E$12,'Afgifter og Moms'!O$41:Y$70,'Oversættelse af landenavne'!$C10,FALSE)","v":6.6599999999999993E-2},null,null,null,null,{"$f":"'Oversættelse af landenavne'!$B10","v":"Danmark"},{"$f":"HLOOKUP($E$12,'Level 1'!$AA$5:$AL$35,'Oversættelse af landenavne'!C10,FALSE)","v":9.6599999999999991E-2},{"$f":"HLOOKUP($E$12,'Afgifter og Moms'!$AA$5:$AL$34,'Oversættelse af landenavne'!C10,FALSE)","v":0.14775000000000002},{"$f":"HLOOKUP($E$12,'Afgifter og Moms'!$AA$41:$AL$70,'Oversættelse af landenavne'!C10,FALSE)","v":6.1149999999999982E-2},null,null,null,null,{"$f":"'Oversættelse af landenavne'!$B10","v":"Danmark"},{"$f":"HLOOKUP($E$12,'Level 1'!$AN$5:$AY$35,'Oversættelse af landenavne'!C10,FALSE)","v":8.0149999999999999E-2},{"$f":"HLOOKUP($E$12,'Afgifter og Moms'!$AN$5:$AY$34,'Oversættelse af landenavne'!C10,FALSE)","v":9.8849999999999993E-2},{"$f":"HLOOKUP($E$12,'Afgifter og Moms'!$AN$41:AY73,'Oversættelse af landenavne'!C10,FALSE)","v":4.5000000000000012E-2},null,null,null,null,{"$f":"'Oversættelse af landenavne'!$B10","v":"Danmark"},{"$f":"HLOOKUP($E$12,'Level 1'!$BA$5:$BL$35,'Oversættelse af landenavne'!$C10,FALSE)","v":8.0149999999999999E-2},{"$f":"HLOOKUP($E$12,'Afgifter og Moms'!$BA$5:$BL$34,'Oversættelse af landenavne'!$C10,FALSE)","v":9.8849999999999993E-2},{"$f":"HLOOKUP($E$12,'Afgifter og Moms'!$BA$41:$BL$70,'Oversættelse af landenavne'!$C10,FALSE)","v":4.5000000000000012E-2}]
[null,null,null,{"$f":"'Oversættelse af landenavne'!$B11","v":"Tyskland"},{"$f":"HLOOKUP($E$12,'Level 1'!$B$5:$L$35,'Oversættelse af landenavne'!$C11,FALSE)","v":0.26100000000000001},{"$f":"HLOOKUP($E$12,'Afgifter og Moms'!A$5:L$35,'Oversættelse af landenavne'!$C11,FALSE)","v":0.10555000000000003},{"$f":"HLOOKUP($E$12,'Afgifter og Moms'!A$41:L$70,'Oversættelse af landenavne'!$C11,FALSE)","v":6.964999999999999E-2},null,null,null,null,{"$f":"'Oversættelse af landenavne'!$B11","v":"Tyskland"},{"$f":"HLOOKUP($E$12,'Level 1'!$O$5:$Y$35,'Oversættelse af landenavne'!$C11,FALSE)","v":0.16445000000000001},{"$f":"HLOOKUP($E$12,'Afgifter og Moms'!$O$5:$Y$34,'Oversættelse af landenavne'!$C11,FALSE)","v":0.10524999999999998},{"$f":"HLOOKUP($E$12,'Afgifter og Moms'!O$41:Y$70,'Oversættelse af landenavne'!$C11,FALSE)","v":5.1249999999999962E-2},null,null,null,null,{"$f":"'Oversættelse af landenavne'!$B11","v":"Tyskland"},{"$f":"HLOOKUP($E$12,'Level 1'!$AA$5:$AL$35,'Oversættelse af landenavne'!C11,FALSE)","v":0.1429},{"$f":"HLOOKUP($E$12,'Afgifter og Moms'!$AA$5:$AL$34,'Oversættelse af landenavne'!C11,FALSE)","v":0.10489999999999999},{"$f":"HLOOKUP($E$12,'Afgifter og Moms'!$AA$41:$AL$70,'Oversættelse af landenavne'!C11,FALSE)","v":4.7049999999999953E-2},null,null,null,null,{"$f":"'Oversættelse af landenavne'!$B11","v":"Tyskland"},{"$f":"HLOOKUP($E$12,'Level 1'!$AN$5:$AY$35,'Oversættelse af landenavne'!C11,FALSE)","v":0.13040000000000002},{"$f":"HLOOKUP($E$12,'Afgifter og Moms'!$AN$5:$AY$34,'Oversættelse af landenavne'!C11,FALSE)","v":0.10479999999999998},{"$f":"HLOOKUP($E$12,'Afgifter og Moms'!$AN$41:AY74,'Oversættelse af landenavne'!C11,FALSE)","v":4.4700000000000045E-2},null,null,null,null,{"$f":"'Oversættelse af landenavne'!$B11","v":"Tyskland"},{"$f":"HLOOKUP($E$12,'Level 1'!$BA$5:$BL$35,'Oversættelse af landenavne'!$C11,FALSE)","v":0.12569999999999998},{"$f":"HLOOKUP($E$12,'Afgifter og Moms'!$BA$5:$BL$34,'Oversættelse af landenavne'!$C11,FALSE)","v":9.9299999999999999E-2},{"$f":"HLOOKUP($E$12,'Afgifter og Moms'!$BA$41:$BL$70,'Oversættelse af landenavne'!$C11,FALSE)","v":4.2750000000000066E-2}]
[null,null,null,{"$f":"'Oversættelse af landenavne'!$B12","v":"Estland"},{"$f":"HLOOKUP($E$12,'Level 1'!$B$5:$L$35,'Oversættelse af landenavne'!$C12,FALSE)","v":9.8000000000000004E-2},{"$f":"HLOOKUP($E$12,'Afgifter og Moms'!A$5:L$35,'Oversættelse af landenavne'!$C12,FALSE)","v":1.3249999999999998E-2},{"$f":"HLOOKUP($E$12,'Afgifter og Moms'!A$41:L$70,'Oversættelse af landenavne'!$C12,FALSE)","v":2.2200000000000011E-2},null,null,null,null,{"$f":"'Oversættelse af landenavne'!$B12","v":"Estland"},{"$f":"HLOOKUP($E$12,'Level 1'!$O$5:$Y$35,'Oversættelse af landenavne'!$C12,FALSE)","v":9.8500000000000004E-2},{"$f":"HLOOKUP($E$12,'Afgifter og Moms'!$O$5:$Y$34,'Oversættelse af landenavne'!$C12,FALSE)","v":1.3350000000000001E-2},{"$f":"HLOOKUP($E$12,'Afgifter og Moms'!O$41:Y$70,'Oversættelse af landenavne'!$C12,FALSE)","v":2.1499999999999991E-2},null,null,null,null,{"$f":"'Oversættelse af landenavne'!$B12","v":"Estland"},{"$f":"HLOOKUP($E$12,'Level 1'!$AA$5:$AL$35,'Oversættelse af landenavne'!C12,FALSE)","v":9.5100000000000004E-2},{"$f":"HLOOKUP($E$12,'Afgifter og Moms'!$AA$5:$AL$34,'Oversættelse af landenavne'!C12,FALSE)","v":1.3399999999999995E-2},{"$f":"HLOOKUP($E$12,'Afgifter og Moms'!$AA$41:$AL$70,'Oversættelse af landenavne'!C12,FALSE)","v":2.1149999999999988E-2},null,null,null,null,{"$f":"'Oversættelse af landenavne'!$B12","v":"Estland"},{"$f":"HLOOKUP($E$12,'Level 1'!$AN$5:$AY$35,'Oversættelse af landenavne'!C12,FALSE)","v":8.9400000000000007E-2},{"$f":"HLOOKUP($E$12,'Afgifter og Moms'!$AN$5:$AY$34,'Oversættelse af landenavne'!C12,FALSE)","v":1.3399999999999995E-2},{"$f":"HLOOKUP($E$12,'Afgifter og Moms'!$AN$41:AY75,'Oversættelse af landenavne'!C12,FALSE)","v":2.0549999999999999E-2},null,null,null,null,{"$f":"'Oversættelse af landenavne'!$B12","v":"Estland"},{"$f":"HLOOKUP($E$12,'Level 1'!$BA$5:$BL$35,'Oversættelse af landenavne'!$C12,FALSE)","v":8.2650000000000001E-2},{"$f":"HLOOKUP($E$12,'Afgifter og Moms'!$BA$5:$BL$34,'Oversættelse af landenavne'!$C12,FALSE)","v":1.344999999999999E-2},{"$f":"HLOOKUP($E$12,'Afgifter og Moms'!$BA$41:$BL$70,'Oversættelse af landenavne'!$C12,FALSE)","v":1.9750000000000018E-2}]
[null,null,null,{"$f":"'Oversættelse af landenavne'!$B13","v":"Irland"},{"$f":"HLOOKUP($E$12,'Level 1'!$B$5:$L$35,'Oversættelse af landenavne'!$C13,FALSE)","v":0.42025000000000001},{"$f":"HLOOKUP($E$12,'Afgifter og Moms'!A$5:L$35,'Oversættelse af landenavne'!$C13,FALSE)","v":9.870000000000001E-2},{"$f":"HLOOKUP($E$12,'Afgifter og Moms'!A$41:L$70,'Oversættelse af landenavne'!$C13,FALSE)","v":7.0049999999999946E-2},null,null,null,null,{"$f":"'Oversættelse af landenavne'!$B13","v":"Irland"},{"$f":"HLOOKUP($E$12,'Level 1'!$O$5:$Y$35,'Oversættelse af landenavne'!$C13,FALSE)","v":0.23799999999999999},{"$f":"HLOOKUP($E$12,'Afgifter og Moms'!$O$5:$Y$34,'Oversættelse af landenavne'!$C13,FALSE)","v":3.3550000000000024E-2},{"$f":"HLOOKUP($E$12,'Afgifter og Moms'!O$41:Y$70,'Oversættelse af landenavne'!$C13,FALSE)","v":3.6650000000000016E-2},null,null,null,null,{"$f":"'Oversættelse af landenavne'!$B13","v":"Irland"},{"$f":"HLOOKUP($E$12,'Level 1'!$AA$5:$AL$35,'Oversættelse af landenavne'!C13,FALSE)","v":0.19805},{"$f":"HLOOKUP($E$12,'Afgifter og Moms'!$AA$5:$AL$34,'Oversættelse af landenavne'!C13,FALSE)","v":1.6899999999999998E-2},{"$f":"HLOOKUP($E$12,'Afgifter og Moms'!$AA$41:$AL$70,'Oversættelse af landenavne'!C13,FALSE)","v":2.9049999999999992E-2},null,null,null,null,{"$f":"'Oversættelse af landenavne'!$B13","v":"Irland"},{"$f":"HLOOKUP($E$12,'Level 1'!$AN$5:$AY$35,'Oversættelse af landenavne'!C13,FALSE)","v":0.1741},{"$f":"HLOOKUP($E$12,'Afgifter og Moms'!$AN$5:$AY$34,'Oversættelse af landenavne'!C13,FALSE)","v":8.8499999999999968E-3},{"$f":"HLOOKUP($E$12,'Afgifter og Moms'!$AN$41:AY76,'Oversættelse af landenavne'!C13,FALSE)","v":2.47E-2},null,null,null,null,{"$f":"'Oversættelse af landenavne'!$B13","v":"Irland"},{"$f":"HLOOKUP($E$12,'Level 1'!$BA$5:$BL$35,'Oversættelse af landenavne'!$C13,FALSE)","v":0.15334999999999999},{"$f":"HLOOKUP($E$12,'Afgifter og Moms'!$BA$5:$BL$34,'Oversættelse af landenavne'!$C13,FALSE)","v":2.9000000000000137E-3},{"$f":"HLOOKUP($E$12,'Afgifter og Moms'!$BA$41:$BL$70,'Oversættelse af landenavne'!$C13,FALSE)","v":2.1050000000000013E-2}]
[null,null,null,{"$f":"'Oversættelse af landenavne'!$B14","v":"Grækenland"},{"$f":"HLOOKUP($E$12,'Level 1'!$B$5:$L$35,'Oversættelse af landenavne'!$C14,FALSE)","v":0.18385000000000001},{"$f":"HLOOKUP($E$12,'Afgifter og Moms'!A$5:L$35,'Oversættelse af landenavne'!$C14,FALSE)","v":3.2149999999999984E-2},{"$f":"HLOOKUP($E$12,'Afgifter og Moms'!A$41:L$70,'Oversættelse af landenavne'!$C14,FALSE)","v":2.8050000000000019E-2},null,null,null,null,{"$f":"'Oversættelse af landenavne'!$B14","v":"Grækenland"},{"$f":"HLOOKUP($E$12,'Level 1'!$O$5:$Y$35,'Oversættelse af landenavne'!$C14,FALSE)","v":0.12740000000000001},{"$f":"HLOOKUP($E$12,'Afgifter og Moms'!$O$5:$Y$34,'Oversættelse af landenavne'!$C14,FALSE)","v":3.2499999999999973E-2},{"$f":"HLOOKUP($E$12,'Afgifter og Moms'!O$41:Y$70,'Oversættelse af landenavne'!$C14,FALSE)","v":2.0850000000000007E-2},null,null,null,null,{"$f":"'Oversættelse af landenavne'!$B14","v":"Grækenland"},{"$f":"HLOOKUP($E$12,'Level 1'!$AA$5:$AL$35,'Oversættelse af landenavne'!C14,FALSE)","v":0.12190000000000001},{"$f":"HLOOKUP($E$12,'Afgifter og Moms'!$AA$5:$AL$34,'Oversættelse af landenavne'!C14,FALSE)","v":3.4650000000000014E-2},{"$f":"HLOOKUP($E$12,'Afgifter og Moms'!$AA$41:$AL$70,'Oversættelse af landenavne'!C14,FALSE)","v":2.0349999999999979E-2},null,null,null,null,{"$f":"'Oversættelse af landenavne'!$B14","v":"Grækenland"},{"$f":"HLOOKUP($E$12,'Level 1'!$AN$5:$AY$35,'Oversættelse af landenavne'!C14,FALSE)","v":0.11874999999999999},{"$f":"HLOOKUP($E$12,'Afgifter og Moms'!$AN$5:$AY$34,'Oversættelse af landenavne'!C14,FALSE)","v":4.8299999999999982E-2},{"$f":"HLOOKUP($E$12,'Afgifter og Moms'!$AN$41:AY77,'Oversættelse af landenavne'!C14,FALSE)","v":2.1700000000000025E-2},null,null,null,null,{"$f":"'Oversættelse af landenavne'!$B14","v":"Grækenland"},{"$f":"HLOOKUP($E$12,'Level 1'!$BA$5:$BL$35,'Oversættelse af landenavne'!$C14,FALSE)","v":0.11310000000000001},{"$f":"HLOOKUP($E$12,'Afgifter og Moms'!$BA$5:$BL$34,'Oversættelse af landenavne'!$C14,FALSE)","v":5.6449999999999972E-2},{"$f":"HLOOKUP($E$12,'Afgifter og Moms'!$BA$41:$BL$70,'Oversættelse af landenavne'!$C14,FALSE)","v":2.2100000000000009E-2}]
[null,null,null,{"$f":"'Oversættelse af landenavne'!$B15","v":"Spanien"},{"$f":"HLOOKUP($E$12,'Level 1'!$B$5:$L$35,'Oversættelse af landenavne'!$C15,FALSE)","v":0.40754999999999997},{"$f":"HLOOKUP($E$12,'Afgifter og Moms'!A$5:L$35,'Oversættelse af landenavne'!$C15,FALSE)","v":2.0800000000000041E-2},{"$f":"HLOOKUP($E$12,'Afgifter og Moms'!A$41:L$70,'Oversættelse af landenavne'!$C15,FALSE)","v":8.9949999999999974E-2},null,null,null,null,{"$f":"'Oversættelse af landenavne'!$B15","v":"Spanien"},{"$f":"HLOOKUP($E$12,'Level 1'!$O$5:$Y$35,'Oversættelse af landenavne'!$C15,FALSE)","v":0.21884999999999999},{"$f":"HLOOKUP($E$12,'Afgifter og Moms'!$O$5:$Y$34,'Oversættelse af landenavne'!$C15,FALSE)","v":1.1199999999999988E-2},{"$f":"HLOOKUP($E$12,'Afgifter og Moms'!O$41:Y$70,'Oversættelse af landenavne'!$C15,FALSE)","v":4.830000000000001E-2},null,null,null,null,{"$f":"'Oversættelse af landenavne'!$B15","v":"Spanien"},{"$f":"HLOOKUP($E$12,'Level 1'!$AA$5:$AL$35,'Oversættelse af landenavne'!C15,FALSE)","v":0.18395},{"$f":"HLOOKUP($E$12,'Afgifter og Moms'!$AA$5:$AL$34,'Oversættelse af landenavne'!C15,FALSE)","v":9.3999999999999917E-3},{"$f":"HLOOKUP($E$12,'Afgifter og Moms'!$AA$41:$AL$70,'Oversættelse af landenavne'!C15,FALSE)","v":4.0599999999999997E-2},null,null,null,null,{"$f":"'Oversættelse af landenavne'!$B15","v":"Spanien"},{"$f":"HLOOKUP($E$12,'Level 1'!$AN$5:$AY$35,'Oversættelse af landenavne'!C15,FALSE)","v":0.16034999999999999},{"$f":"HLOOKUP($E$12,'Afgifter og Moms'!$AN$5:$AY$34,'Oversættelse af landenavne'!C15,FALSE)","v":8.2000000000000128E-3},{"$f":"HLOOKUP($E$12,'Afgifter og Moms'!$AN$41:AY78,'Oversættelse af landenavne'!C15,FALSE)","v":3.535000000000002E-2},null,null,null,null,{"$f":"'Oversættelse af landenavne'!$B15","v":"Spanien"},{"$f":"HLOOKUP($E$12,'Level 1'!$BA$5:$BL$35,'Oversættelse af landenavne'!$C15,FALSE)","v":0.15105000000000002},{"$f":"HLOOKUP($E$12,'Afgifter og Moms'!$BA$5:$BL$34,'Oversættelse af landenavne'!$C15,FALSE)","v":7.6999999999999846E-3},{"$f":"HLOOKUP($E$12,'Afgifter og Moms'!$BA$41:$BL$70,'Oversættelse af landenavne'!$C15,FALSE)","v":3.3349999999999991E-2}]
[null,null,null,{"$f":"'Oversættelse af landenavne'!$B16","v":"Frankrig"},{"$f":"HLOOKUP($E$12,'Level 1'!$B$5:$L$35,'Oversættelse af landenavne'!$C16,FALSE)","v":0.21710000000000002},{"$f":"HLOOKUP($E$12,'Afgifter og Moms'!A$5:L$35,'Oversættelse af landenavne'!$C16,FALSE)","v":3.3899999999999986E-2},{"$f":"HLOOKUP($E$12,'Afgifter og Moms'!A$41:L$70,'Oversættelse af landenavne'!$C16,FALSE)","v":2.9449999999999976E-2},null,null,null,null,{"$f":"'Oversættelse af landenavne'!$B16","v":"Frankrig"},{"$f":"HLOOKUP($E$12,'Level 1'!$O$5:$Y$35,'Oversættelse af landenavne'!$C16,FALSE)","v":0.12685000000000002},{"$f":"HLOOKUP($E$12,'Afgifter og Moms'!$O$5:$Y$34,'Oversættelse af landenavne'!$C16,FALSE)","v":3.2299999999999995E-2},{"$f":"HLOOKUP($E$12,'Afgifter og Moms'!O$41:Y$70,'Oversættelse af landenavne'!$C16,FALSE)","v":2.5099999999999983E-2},null,null,null,null,{"$f":"'Oversættelse af landenavne'!$B16","v":"Frankrig"},{"$f":"HLOOKUP($E$12,'Level 1'!$AA$5:$AL$35,'Oversættelse af landenavne'!C16,FALSE)","v":0.1087},{"$f":"HLOOKUP($E$12,'Afgifter og Moms'!$AA$5:$AL$34,'Oversættelse af landenavne'!C16,FALSE)","v":3.1899999999999998E-2},{"$f":"HLOOKUP($E$12,'Afgifter og Moms'!$AA$41:$AL$70,'Oversættelse af landenavne'!C16,FALSE)","v":2.4349999999999983E-2},null,null,null,null,{"$f":"'Oversættelse af landenavne'!$B16","v":"Frankrig"},{"$f":"HLOOKUP($E$12,'Level 1'!$AN$5:$AY$35,'Oversættelse af landenavne'!C16,FALSE)","v":9.7549999999999998E-2},{"$f":"HLOOKUP($E$12,'Afgifter og Moms'!$AN$5:$AY$34,'Oversættelse af landenavne'!C16,FALSE)","v":3.1650000000000011E-2},{"$f":"HLOOKUP($E$12,'Afgifter og Moms'!$AN$41:AY79,'Oversættelse af landenavne'!C16,FALSE)","v":2.3649999999999977E-2},null,null,null,null,{"$f":"'Oversættelse af landenavne'!$B16","v":"Frankrig"},{"$f":"HLOOKUP($E$12,'Level 1'!$BA$5:$BL$35,'Oversættelse af landenavne'!$C16,FALSE)","v":9.4400000000000012E-2},{"$f":"HLOOKUP($E$12,'Afgifter og Moms'!$BA$5:$BL$34,'Oversættelse af landenavne'!$C16,FALSE)","v":3.1749999999999973E-2},{"$f":"HLOOKUP($E$12,'Afgifter og Moms'!$BA$41:$BL$70,'Oversættelse af landenavne'!$C16,FALSE)","v":2.3750000000000021E-2}]
[null,null,null,{"$f":"'Oversættelse af landenavne'!$B17","v":"Kroatien"},{"$f":"HLOOKUP($E$12,'Level 1'!$B$5:$L$35,'Oversættelse af landenavne'!$C17,FALSE)","v":0.16349999999999998},{"$f":"HLOOKUP($E$12,'Afgifter og Moms'!A$5:L$35,'Oversættelse af landenavne'!$C17,FALSE)","v":4.6000000000000207E-3},{"$f":"HLOOKUP($E$12,'Afgifter og Moms'!A$41:L$70,'Oversættelse af landenavne'!$C17,FALSE)","v":4.200000000000001E-2},null,null,null,null,{"$f":"'Oversættelse af landenavne'!$B17","v":"Kroatien"},{"$f":"HLOOKUP($E$12,'Level 1'!$O$5:$Y$35,'Oversættelse af landenavne'!$C17,FALSE)","v":0.10915},{"$f":"HLOOKUP($E$12,'Afgifter og Moms'!$O$5:$Y$34,'Oversættelse af landenavne'!$C17,FALSE)","v":4.5499999999999985E-3},{"$f":"HLOOKUP($E$12,'Afgifter og Moms'!O$41:Y$70,'Oversættelse af landenavne'!$C17,FALSE)","v":2.8450000000000003E-2},null,null,null,null,{"$f":"'Oversættelse af landenavne'!$B17","v":"Kroatien"},{"$f":"HLOOKUP($E$12,'Level 1'!$AA$5:$AL$35,'Oversættelse af landenavne'!C17,FALSE)","v":0.10055},{"$f":"HLOOKUP($E$12,'Afgifter og Moms'!$AA$5:$AL$34,'Oversættelse af landenavne'!C17,FALSE)","v":4.599999999999993E-3},{"$f":"HLOOKUP($E$12,'Afgifter og Moms'!$AA$41:$AL$70,'Oversættelse af landenavne'!C17,FALSE)","v":2.6300000000000018E-2},null,null,null,null,{"$f":"'Oversættelse af landenavne'!$B17","v":"Kroatien"},{"$f":"HLOOKUP($E$12,'Level 1'!$AN$5:$AY$35,'Oversættelse af landenavne'!C17,FALSE)","v":9.6149999999999999E-2},{"$f":"HLOOKUP($E$12,'Afgifter og Moms'!$AN$5:$AY$34,'Oversættelse af landenavne'!C17,FALSE)","v":4.5499999999999985E-3},{"$f":"HLOOKUP($E$12,'Afgifter og Moms'!$AN$41:AY80,'Oversættelse af landenavne'!C17,FALSE)","v":2.5200000000000014E-2},null,null,null,null,{"$f":"'Oversættelse af landenavne'!$B17","v":"Kroatien"},{"$f":"HLOOKUP($E$12,'Level 1'!$BA$5:$BL$35,'Oversættelse af landenavne'!$C17,FALSE)","v":9.2899999999999996E-2},{"$f":"HLOOKUP($E$12,'Afgifter og Moms'!$BA$5:$BL$34,'Oversættelse af landenavne'!$C17,FALSE)","v":4.6000000000000069E-3},{"$f":"HLOOKUP($E$12,'Afgifter og Moms'!$BA$41:$BL$70,'Oversættelse af landenavne'!$C17,FALSE)","v":2.4349999999999997E-2}]
[null,null,null,{"$f":"'Oversættelse af landenavne'!$B18","v":"Italien"},{"$f":"HLOOKUP($E$12,'Level 1'!$B$5:$L$35,'Oversættelse af landenavne'!$C18,FALSE)","v":0.20384999999999998},{"$f":"HLOOKUP($E$12,'Afgifter og Moms'!A$5:L$35,'Oversættelse af landenavne'!$C18,FALSE)","v":6.3250000000000028E-2},{"$f":"HLOOKUP($E$12,'Afgifter og Moms'!A$41:L$70,'Oversættelse af landenavne'!$C18,FALSE)","v":2.7000000000000024E-2},null,null,null,null,{"$f":"'Oversættelse af landenavne'!$B18","v":"Italien"},{"$f":"HLOOKUP($E$12,'Level 1'!$O$5:$Y$35,'Oversættelse af landenavne'!$C18,FALSE)","v":0.13850000000000001},{"$f":"HLOOKUP($E$12,'Afgifter og Moms'!$O$5:$Y$34,'Oversættelse af landenavne'!$C18,FALSE)","v":5.2999999999999992E-2},{"$f":"HLOOKUP($E$12,'Afgifter og Moms'!O$41:Y$70,'Oversættelse af landenavne'!$C18,FALSE)","v":1.915E-2},null,null,null,null,{"$f":"'Oversættelse af landenavne'!$B18","v":"Italien"},{"$f":"HLOOKUP($E$12,'Level 1'!$AA$5:$AL$35,'Oversættelse af landenavne'!C18,FALSE)","v":0.14929999999999999},{"$f":"HLOOKUP($E$12,'Afgifter og Moms'!$AA$5:$AL$34,'Oversættelse af landenavne'!C18,FALSE)","v":7.240000000000002E-2},{"$f":"HLOOKUP($E$12,'Afgifter og Moms'!$AA$41:$AL$70,'Oversættelse af landenavne'!C18,FALSE)","v":2.2199999999999998E-2},null,null,null,null,{"$f":"'Oversættelse af landenavne'!$B18","v":"Italien"},{"$f":"HLOOKUP($E$12,'Level 1'!$AN$5:$AY$35,'Oversættelse af landenavne'!C18,FALSE)","v":0.18340000000000001},{"$f":"HLOOKUP($E$12,'Afgifter og Moms'!$AN$5:$AY$34,'Oversættelse af landenavne'!C18,FALSE)","v":9.3299999999999994E-2},{"$f":"HLOOKUP($E$12,'Afgifter og Moms'!$AN$41:AY81,'Oversættelse af landenavne'!C18,FALSE)","v":2.7700000000000002E-2},null,null,null,null,{"$f":"'Oversættelse af landenavne'!$B18","v":"Italien"},{"$f":"HLOOKUP($E$12,'Level 1'!$BA$5:$BL$35,'Oversættelse af landenavne'!$C18,FALSE)","v":0.20634999999999998},{"$f":"HLOOKUP($E$12,'Afgifter og Moms'!$BA$5:$BL$34,'Oversættelse af landenavne'!$C18,FALSE)","v":9.7550000000000026E-2},{"$f":"HLOOKUP($E$12,'Afgifter og Moms'!$BA$41:$BL$70,'Oversættelse af landenavne'!$C18,FALSE)","v":3.075E-2}]
[null,null,null,{"$f":"'Oversættelse af landenavne'!$B19","v":"Cypern"},{"$f":"HLOOKUP($E$12,'Level 1'!$B$5:$L$35,'Oversættelse af landenavne'!$C19,FALSE)","v":0.17325000000000002},{"$f":"HLOOKUP($E$12,'Afgifter og Moms'!A$5:L$35,'Oversættelse af landenavne'!$C19,FALSE)","v":1.1149999999999993E-2},{"$f":"HLOOKUP($E$12,'Afgifter og Moms'!A$41:L$70,'Oversættelse af landenavne'!$C19,FALSE)","v":3.5949999999999982E-2},null,null,null,null,{"$f":"'Oversættelse af landenavne'!$B19","v":"Cypern"},{"$f":"HLOOKUP($E$12,'Level 1'!$O$5:$Y$35,'Oversættelse af landenavne'!$C19,FALSE)","v":0.15045},{"$f":"HLOOKUP($E$12,'Afgifter og Moms'!$O$5:$Y$34,'Oversættelse af landenavne'!$C19,FALSE)","v":8.649999999999991E-3},{"$f":"HLOOKUP($E$12,'Afgifter og Moms'!O$41:Y$70,'Oversættelse af landenavne'!$C19,FALSE)","v":2.9350000000000015E-2},null,null,null,null,{"$f":"'Oversættelse af landenavne'!$B19","v":"Cypern"},{"$f":"HLOOKUP($E$12,'Level 1'!$AA$5:$AL$35,'Oversættelse af landenavne'!C19,FALSE)","v":0.15185000000000001},{"$f":"HLOOKUP($E$12,'Afgifter og Moms'!$AA$5:$AL$34,'Oversættelse af landenavne'!C19,FALSE)","v":8.4499999999999853E-3},{"$f":"HLOOKUP($E$12,'Afgifter og Moms'!$AA$41:$AL$70,'Oversættelse af landenavne'!C19,FALSE)","v":2.9450000000000004E-2},null,null,null,null,{"$f":"'Oversættelse af landenavne'!$B19","v":"Cypern"},{"$f":"HLOOKUP($E$12,'Level 1'!$AN$5:$AY$35,'Oversættelse af landenavne'!C19,FALSE)","v":0.14979999999999999},{"$f":"HLOOKUP($E$12,'Afgifter og Moms'!$AN$5:$AY$34,'Oversættelse af landenavne'!C19,FALSE)","v":8.4000000000000186E-3},{"$f":"HLOOKUP($E$12,'Afgifter og Moms'!$AN$41:AY82,'Oversættelse af landenavne'!C19,FALSE)","v":2.8950000000000004E-2},null,null,null,null,{"$f":"'Oversættelse af landenavne'!$B19","v":"Cypern"},{"$f":"HLOOKUP($E$12,'Level 1'!$BA$5:$BL$35,'Oversættelse af landenavne'!$C19,FALSE)","v":0.14229999999999998},{"$f":"HLOOKUP($E$12,'Afgifter og Moms'!$BA$5:$BL$34,'Oversættelse af landenavne'!$C19,FALSE)","v":8.4500000000000131E-3},{"$f":"HLOOKUP($E$12,'Afgifter og Moms'!$BA$41:$BL$70,'Oversættelse af landenavne'!$C19,FALSE)","v":2.6999999999999996E-2}]
[null,null,null,{"$f":"'Oversættelse af landenavne'!$B20","v":"Letland"},{"$f":"HLOOKUP($E$12,'Level 1'!$B$5:$L$35,'Oversættelse af landenavne'!$C20,FALSE)","v":0.10335},{"$f":"HLOOKUP($E$12,'Afgifter og Moms'!A$5:L$35,'Oversættelse af landenavne'!$C20,FALSE)","v":2.6749999999999996E-2},{"$f":"HLOOKUP($E$12,'Afgifter og Moms'!A$41:L$70,'Oversættelse af landenavne'!$C20,FALSE)","v":2.7300000000000019E-2},null,null,null,null,{"$f":"'Oversættelse af landenavne'!$B20","v":"Letland"},{"$f":"HLOOKUP($E$12,'Level 1'!$O$5:$Y$35,'Oversættelse af landenavne'!$C20,FALSE)","v":0.1094},{"$f":"HLOOKUP($E$12,'Afgifter og Moms'!$O$5:$Y$34,'Oversættelse af landenavne'!$C20,FALSE)","v":2.679999999999999E-2},{"$f":"HLOOKUP($E$12,'Afgifter og Moms'!O$41:Y$70,'Oversættelse af landenavne'!$C20,FALSE)","v":2.8650000000000009E-2},null,null,null,null,{"$f":"'Oversættelse af landenavne'!$B20","v":"Letland"},{"$f":"HLOOKUP($E$12,'Level 1'!$AA$5:$AL$35,'Oversættelse af landenavne'!C20,FALSE)","v":0.10894999999999999},{"$f":"HLOOKUP($E$12,'Afgifter og Moms'!$AA$5:$AL$34,'Oversættelse af landenavne'!C20,FALSE)","v":2.679999999999999E-2},{"$f":"HLOOKUP($E$12,'Afgifter og Moms'!$AA$41:$AL$70,'Oversættelse af landenavne'!C20,FALSE)","v":2.8500000000000025E-2},null,null,null,null,{"$f":"'Oversættelse af landenavne'!$B20","v":"Letland"},{"$f":"HLOOKUP($E$12,'Level 1'!$AN$5:$AY$35,'Oversættelse af landenavne'!C20,FALSE)","v":0.10825},{"$f":"HLOOKUP($E$12,'Afgifter og Moms'!$AN$5:$AY$34,'Oversættelse af landenavne'!C20,FALSE)","v":2.675000000000001E-2},{"$f":"HLOOKUP($E$12,'Afgifter og Moms'!$AN$41:AY83,'Oversættelse af landenavne'!C20,FALSE)","v":2.8349999999999986E-2},null,null,null,null,{"$f":"'Oversættelse af landenavne'!$B20","v":"Letland"},{"$f":"HLOOKUP($E$12,'Level 1'!$BA$5:$BL$35,'Oversættelse af landenavne'!$C20,FALSE)","v":0.10635},{"$f":"HLOOKUP($E$12,'Afgifter og Moms'!$BA$5:$BL$34,'Oversættelse af landenavne'!$C20,FALSE)","v":2.679999999999999E-2},{"$f":"HLOOKUP($E$12,'Afgifter og Moms'!$BA$41:$BL$70,'Oversættelse af landenavne'!$C20,FALSE)","v":2.7950000000000003E-2}]
[null,null,null,{"$f":"'Oversættelse af landenavne'!$B21","v":"Litaun"},{"$f":"HLOOKUP($E$12,'Level 1'!$B$5:$L$35,'Oversættelse af landenavne'!$C21,FALSE)","v":8.9450000000000002E-2},{"$f":"HLOOKUP($E$12,'Afgifter og Moms'!A$5:L$35,'Oversættelse af landenavne'!$C21,FALSE)","v":1.6449999999999992E-2},{"$f":"HLOOKUP($E$12,'Afgifter og Moms'!A$41:L$70,'Oversættelse af landenavne'!$C21,FALSE)","v":2.2199999999999998E-2},null,null,null,null,{"$f":"'Oversættelse af landenavne'!$B21","v":"Litaun"},{"$f":"HLOOKUP($E$12,'Level 1'!$O$5:$Y$35,'Oversættelse af landenavne'!$C21,FALSE)","v":8.8599999999999998E-2},{"$f":"HLOOKUP($E$12,'Afgifter og Moms'!$O$5:$Y$34,'Oversættelse af landenavne'!$C21,FALSE)","v":1.6400000000000012E-2},{"$f":"HLOOKUP($E$12,'Afgifter og Moms'!O$41:Y$70,'Oversættelse af landenavne'!$C21,FALSE)","v":2.2049999999999986E-2},null,null,null,null,{"$f":"'Oversættelse af landenavne'!$B21","v":"Litaun"},{"$f":"HLOOKUP($E$12,'Level 1'!$AA$5:$AL$35,'Oversættelse af landenavne'!C21,FALSE)","v":8.6850000000000011E-2},{"$f":"HLOOKUP($E$12,'Afgifter og Moms'!$AA$5:$AL$34,'Oversættelse af landenavne'!C21,FALSE)","v":1.6399999999999998E-2},{"$f":"HLOOKUP($E$12,'Afgifter og Moms'!$AA$41:$AL$70,'Oversættelse af landenavne'!C21,FALSE)","v":2.1699999999999983E-2},null,null,null,null,{"$f":"'Oversættelse af landenavne'!$B21","v":"Litaun"},{"$f":"HLOOKUP($E$12,'Level 1'!$AN$5:$AY$35,'Oversættelse af landenavne'!C21,FALSE)","v":8.3299999999999999E-2},{"$f":"HLOOKUP($E$12,'Afgifter og Moms'!$AN$5:$AY$34,'Oversættelse af landenavne'!C21,FALSE)","v":1.6450000000000006E-2},{"$f":"HLOOKUP($E$12,'Afgifter og Moms'!$AN$41:AY84,'Oversættelse af landenavne'!C21,FALSE)","v":2.0949999999999996E-2},null,null,null,null,{"$f":"'Oversættelse af landenavne'!$B21","v":"Litaun"},{"$f":"HLOOKUP($E$12,'Level 1'!$BA$5:$BL$35,'Oversættelse af landenavne'!$C21,FALSE)","v":7.7050000000000007E-2},{"$f":"HLOOKUP($E$12,'Afgifter og Moms'!$BA$5:$BL$34,'Oversættelse af landenavne'!$C21,FALSE)","v":1.6449999999999992E-2},{"$f":"HLOOKUP($E$12,'Afgifter og Moms'!$BA$41:$BL$70,'Oversættelse af landenavne'!$C21,FALSE)","v":1.9650000000000001E-2}]
[null,null,null,{"$f":"'Oversættelse af landenavne'!$B22","v":"Luxembourg"},{"$f":"HLOOKUP($E$12,'Level 1'!$B$5:$L$35,'Oversættelse af landenavne'!$C22,FALSE)","v":0.1915},{"$f":"HLOOKUP($E$12,'Afgifter og Moms'!A$5:L$35,'Oversættelse af landenavne'!$C22,FALSE)","v":3.0499999999999999E-2},{"$f":"HLOOKUP($E$12,'Afgifter og Moms'!A$41:L$70,'Oversættelse af landenavne'!$C22,FALSE)","v":1.7699999999999994E-2},null,null,null,null,{"$f":"'Oversættelse af landenavne'!$B22","v":"Luxembourg"},{"$f":"HLOOKUP($E$12,'Level 1'!$O$5:$Y$35,'Oversættelse af landenavne'!$C22,FALSE)","v":0.1477},{"$f":"HLOOKUP($E$12,'Afgifter og Moms'!$O$5:$Y$34,'Oversættelse af landenavne'!$C22,FALSE)","v":3.0499999999999999E-2},{"$f":"HLOOKUP($E$12,'Afgifter og Moms'!O$41:Y$70,'Oversættelse af landenavne'!$C22,FALSE)","v":1.419999999999999E-2},null,null,null,null,{"$f":"'Oversættelse af landenavne'!$B22","v":"Luxembourg"},{"$f":"HLOOKUP($E$12,'Level 1'!$AA$5:$AL$35,'Oversættelse af landenavne'!C22,FALSE)","v":0.1331},{"$f":"HLOOKUP($E$12,'Afgifter og Moms'!$AA$5:$AL$34,'Oversættelse af landenavne'!C22,FALSE)","v":3.0499999999999999E-2},{"$f":"HLOOKUP($E$12,'Afgifter og Moms'!$AA$41:$AL$70,'Oversættelse af landenavne'!C22,FALSE)","v":1.3100000000000001E-2},null,null,null,null,{"$f":"'Oversættelse af landenavne'!$B22","v":"Luxembourg"},{"$f":"HLOOKUP($E$12,'Level 1'!$AN$5:$AY$35,'Oversættelse af landenavne'!C22,FALSE)","v":0.12039999999999999},{"$f":"HLOOKUP($E$12,'Afgifter og Moms'!$AN$5:$AY$34,'Oversættelse af landenavne'!C22,FALSE)","v":3.0500000000000013E-2},{"$f":"HLOOKUP($E$12,'Afgifter og Moms'!$AN$41:AY85,'Oversættelse af landenavne'!C22,FALSE)","v":1.1999999999999983E-2},null,null,null,null,{"$f":"'Oversættelse af landenavne'!$B22","v":"Luxembourg"},{"$f":"HLOOKUP($E$12,'Level 1'!$BA$5:$BL$35,'Oversættelse af landenavne'!$C22,FALSE)","v":0.11035},{"$f":"HLOOKUP($E$12,'Afgifter og Moms'!$BA$5:$BL$34,'Oversættelse af landenavne'!$C22,FALSE)","v":3.0499999999999999E-2},{"$f":"HLOOKUP($E$12,'Afgifter og Moms'!$BA$41:$BL$70,'Oversættelse af landenavne'!$C22,FALSE)","v":1.1200000000000015E-2}]
[null,null,null,{"$f":"'Oversættelse af landenavne'!$B23","v":"Ungarn"},{"$f":"HLOOKUP($E$12,'Level 1'!$B$5:$L$35,'Oversættelse af landenavne'!$C23,FALSE)","v":0.10115},{"$f":"HLOOKUP($E$12,'Afgifter og Moms'!A$5:L$35,'Oversættelse af landenavne'!$C23,FALSE)","v":0},{"$f":"HLOOKUP($E$12,'Afgifter og Moms'!A$41:L$70,'Oversættelse af landenavne'!$C23,FALSE)","v":2.7300000000000005E-2},null,null,null,null,{"$f":"'Oversættelse af landenavne'!$B23","v":"Ungarn"},{"$f":"HLOOKUP($E$12,'Level 1'!$O$5:$Y$35,'Oversættelse af landenavne'!$C23,FALSE)","v":9.2649999999999996E-2},{"$f":"HLOOKUP($E$12,'Afgifter og Moms'!$O$5:$Y$34,'Oversættelse af landenavne'!$C23,FALSE)","v":0},{"$f":"HLOOKUP($E$12,'Afgifter og Moms'!O$41:Y$70,'Oversættelse af landenavne'!$C23,FALSE)","v":2.5000000000000008E-2},null,null,null,null,{"$f":"'Oversættelse af landenavne'!$B23","v":"Ungarn"},{"$f":"HLOOKUP($E$12,'Level 1'!$AA$5:$AL$35,'Oversættelse af landenavne'!C23,FALSE)","v":8.9450000000000002E-2},{"$f":"HLOOKUP($E$12,'Afgifter og Moms'!$AA$5:$AL$34,'Oversættelse af landenavne'!C23,FALSE)","v":0},{"$f":"HLOOKUP($E$12,'Afgifter og Moms'!$AA$41:$AL$70,'Oversættelse af landenavne'!C23,FALSE)","v":2.4150000000000005E-2},null,null,null,null,{"$f":"'Oversættelse af landenavne'!$B23","v":"Ungarn"},{"$f":"HLOOKUP($E$12,'Level 1'!$AN$5:$AY$35,'Oversættelse af landenavne'!C23,FALSE)","v":8.7350000000000011E-2},{"$f":"HLOOKUP($E$12,'Afgifter og Moms'!$AN$5:$AY$34,'Oversættelse af landenavne'!C23,FALSE)","v":0},{"$f":"HLOOKUP($E$12,'Afgifter og Moms'!$AN$41:AY86,'Oversættelse af landenavne'!C23,FALSE)","v":2.3649999999999977E-2},null,null,null,null,{"$f":"'Oversættelse af landenavne'!$B23","v":"Ungarn"},{"$f":"HLOOKUP($E$12,'Level 1'!$BA$5:$BL$35,'Oversættelse af landenavne'!$C23,FALSE)","v":9.1150000000000009E-2},{"$f":"HLOOKUP($E$12,'Afgifter og Moms'!$BA$5:$BL$34,'Oversættelse af landenavne'!$C23,FALSE)","v":0},{"$f":"HLOOKUP($E$12,'Afgifter og Moms'!$BA$41:$BL$70,'Oversættelse af landenavne'!$C23,FALSE)","v":2.4549999999999988E-2}]
[null,null,null,{"$f":"'Oversættelse af landenavne'!$B24","v":"Malta"},{"$f":"HLOOKUP($E$12,'Level 1'!$B$5:$L$35,'Oversættelse af landenavne'!$C24,FALSE)","v":0.35439999999999999},{"$f":"HLOOKUP($E$12,'Afgifter og Moms'!A$5:L$35,'Oversættelse af landenavne'!$C24,FALSE)","v":0},{"$f":"HLOOKUP($E$12,'Afgifter og Moms'!A$41:L$70,'Oversættelse af landenavne'!$C24,FALSE)","v":1.7699999999999994E-2},null,null,null,null,{"$f":"'Oversættelse af landenavne'!$B24","v":"Malta"},{"$f":"HLOOKUP($E$12,'Level 1'!$O$5:$Y$35,'Oversættelse af landenavne'!$C24,FALSE)","v":0.13719999999999999},{"$f":"HLOOKUP($E$12,'Afgifter og Moms'!$O$5:$Y$34,'Oversættelse af landenavne'!$C24,FALSE)","v":0},{"$f":"HLOOKUP($E$12,'Afgifter og Moms'!O$41:Y$70,'Oversættelse af landenavne'!$C24,FALSE)","v":6.8500000000000227E-3},null,null,null,null,{"$f":"'Oversættelse af landenavne'!$B24","v":"Malta"},{"$f":"HLOOKUP($E$12,'Level 1'!$AA$5:$AL$35,'Oversættelse af landenavne'!C24,FALSE)","v":0.12029999999999999},{"$f":"HLOOKUP($E$12,'Afgifter og Moms'!$AA$5:$AL$34,'Oversættelse af landenavne'!C24,FALSE)","v":0},{"$f":"HLOOKUP($E$12,'Afgifter og Moms'!$AA$41:$AL$70,'Oversættelse af landenavne'!C24,FALSE)","v":6.0000000000000331E-3},null,null,null,null,{"$f":"'Oversættelse af landenavne'!$B24","v":"Malta"},{"$f":"HLOOKUP($E$12,'Level 1'!$AN$5:$AY$35,'Oversættelse af landenavne'!C24,FALSE)","v":0.14119999999999999},{"$f":"HLOOKUP($E$12,'Afgifter og Moms'!$AN$5:$AY$34,'Oversættelse af landenavne'!C24,FALSE)","v":0},{"$f":"HLOOKUP($E$12,'Afgifter og Moms'!$AN$41:AY87,'Oversættelse af landenavne'!C24,FALSE)","v":7.0500000000000007E-3},null,null,null,null,{"$f":"'Oversættelse af landenavne'!$B24","v":"Malta"},{"$f":"HLOOKUP($E$12,'Level 1'!$BA$5:$BL$35,'Oversættelse af landenavne'!$C24,FALSE)","v":0.3377},{"$f":"HLOOKUP($E$12,'Afgifter og Moms'!$BA$5:$BL$34,'Oversættelse af landenavne'!$C24,FALSE)","v":0},{"$f":"HLOOKUP($E$12,'Afgifter og Moms'!$BA$41:$BL$70,'Oversættelse af landenavne'!$C24,FALSE)","v":1.6900000000000026E-2}]
[null,null,null,{"$f":"'Oversættelse af landenavne'!$B25","v":"Holland"},{"$f":"HLOOKUP($E$12,'Level 1'!$B$5:$L$35,'Oversættelse af landenavne'!$C25,FALSE)","v":0.36065000000000003},{"$f":"HLOOKUP($E$12,'Afgifter og Moms'!A$5:L$35,'Oversættelse af landenavne'!$C25,FALSE)","v":"*"},{"$f":"HLOOKUP($E$12,'Afgifter og Moms'!A$41:L$70,'Oversættelse af landenavne'!$C25,FALSE)","v":"*"},null,null,null,null,{"$f":"'Oversættelse af landenavne'!$B25","v":"Holland"},{"$f":"HLOOKUP($E$12,'Level 1'!$O$5:$Y$35,'Oversættelse af landenavne'!$C25,FALSE)","v":0.17685000000000001},{"$f":"HLOOKUP($E$12,'Afgifter og Moms'!$O$5:$Y$34,'Oversættelse af landenavne'!$C25,FALSE)","v":-5.6600000000000011E-2},{"$f":"HLOOKUP($E$12,'Afgifter og Moms'!O$41:Y$70,'Oversættelse af landenavne'!$C25,FALSE)","v":2.52E-2},null,null,null,null,{"$f":"'Oversættelse af landenavne'!$B25","v":"Holland"},{"$f":"HLOOKUP($E$12,'Level 1'!$AA$5:$AL$35,'Oversættelse af landenavne'!C25,FALSE)","v":0.12614999999999998},{"$f":"HLOOKUP($E$12,'Afgifter og Moms'!$AA$5:$AL$34,'Oversættelse af landenavne'!C25,FALSE)","v":3.2200000000000006E-2},{"$f":"HLOOKUP($E$12,'Afgifter og Moms'!$AA$41:$AL$70,'Oversættelse af landenavne'!C25,FALSE)","v":3.3250000000000002E-2},null,null,null,null,{"$f":"'Oversættelse af landenavne'!$B25","v":"Holland"},{"$f":"HLOOKUP($E$12,'Level 1'!$AN$5:$AY$35,'Oversættelse af landenavne'!C25,FALSE)","v":9.1600000000000001E-2},{"$f":"HLOOKUP($E$12,'Afgifter og Moms'!$AN$5:$AY$34,'Oversættelse af landenavne'!C25,FALSE)","v":7.6999999999999999E-2},{"$f":"HLOOKUP($E$12,'Afgifter og Moms'!$AN$41:AY88,'Oversættelse af landenavne'!C25,FALSE)","v":3.535000000000002E-2},null,null,null,null,{"$f":"'Oversættelse af landenavne'!$B25","v":"Holland"},{"$f":"HLOOKUP($E$12,'Level 1'!$BA$5:$BL$35,'Oversættelse af landenavne'!$C25,FALSE)","v":0.12669999999999998},{"$f":"HLOOKUP($E$12,'Afgifter og Moms'!$BA$5:$BL$34,'Oversættelse af landenavne'!$C25,FALSE)","v":6.3750000000000029E-2},{"$f":"HLOOKUP($E$12,'Afgifter og Moms'!$BA$41:$BL$70,'Oversættelse af landenavne'!$C25,FALSE)","v":3.999999999999998E-2}]
[null,null,null,{"$f":"'Oversættelse af landenavne'!$B26","v":"Østrig"},{"$f":"HLOOKUP($E$12,'Level 1'!$B$5:$L$35,'Oversættelse af landenavne'!$C26,FALSE)","v":0.20529999999999998},{"$f":"HLOOKUP($E$12,'Afgifter og Moms'!A$5:L$35,'Oversættelse af landenavne'!$C26,FALSE)","v":8.9550000000000018E-2},{"$f":"HLOOKUP($E$12,'Afgifter og Moms'!A$41:L$70,'Oversættelse af landenavne'!$C26,FALSE)","v":5.8999999999999997E-2},null,null,null,null,{"$f":"'Oversættelse af landenavne'!$B26","v":"Østrig"},{"$f":"HLOOKUP($E$12,'Level 1'!$O$5:$Y$35,'Oversættelse af landenavne'!$C26,FALSE)","v":0.14529999999999998},{"$f":"HLOOKUP($E$12,'Afgifter og Moms'!$O$5:$Y$34,'Oversættelse af landenavne'!$C26,FALSE)","v":5.5250000000000021E-2},{"$f":"HLOOKUP($E$12,'Afgifter og Moms'!O$41:Y$70,'Oversættelse af landenavne'!$C26,FALSE)","v":4.0050000000000002E-2},null,null,null,null,{"$f":"'Oversættelse af landenavne'!$B26","v":"Østrig"},{"$f":"HLOOKUP($E$12,'Level 1'!$AA$5:$AL$35,'Oversættelse af landenavne'!C26,FALSE)","v":0.125},{"$f":"HLOOKUP($E$12,'Afgifter og Moms'!$AA$5:$AL$34,'Oversættelse af landenavne'!C26,FALSE)","v":4.1300000000000003E-2},{"$f":"HLOOKUP($E$12,'Afgifter og Moms'!$AA$41:$AL$70,'Oversættelse af landenavne'!C26,FALSE)","v":3.3299999999999996E-2},null,null,null,null,{"$f":"'Oversættelse af landenavne'!$B26","v":"Østrig"},{"$f":"HLOOKUP($E$12,'Level 1'!$AN$5:$AY$35,'Oversættelse af landenavne'!C26,FALSE)","v":0.11210000000000001},{"$f":"HLOOKUP($E$12,'Afgifter og Moms'!$AN$5:$AY$34,'Oversættelse af landenavne'!C26,FALSE)","v":3.5099999999999992E-2},{"$f":"HLOOKUP($E$12,'Afgifter og Moms'!$AN$41:AY89,'Oversættelse af landenavne'!C26,FALSE)","v":2.9450000000000004E-2},null,null,null,null,{"$f":"'Oversættelse af landenavne'!$B26","v":"Østrig"},{"$f":"HLOOKUP($E$12,'Level 1'!$BA$5:$BL$35,'Oversættelse af landenavne'!$C26,FALSE)","v":9.6500000000000002E-2},{"$f":"HLOOKUP($E$12,'Afgifter og Moms'!$BA$5:$BL$34,'Oversættelse af landenavne'!$C26,FALSE)","v":2.8850000000000015E-2},{"$f":"HLOOKUP($E$12,'Afgifter og Moms'!$BA$41:$BL$70,'Oversættelse af landenavne'!$C26,FALSE)","v":2.5099999999999983E-2}]
[null,null,null,{"$f":"'Oversættelse af landenavne'!$B27","v":"Polen"},{"$f":"HLOOKUP($E$12,'Level 1'!$B$5:$L$35,'Oversættelse af landenavne'!$C27,FALSE)","v":0.1426},{"$f":"HLOOKUP($E$12,'Afgifter og Moms'!A$5:L$35,'Oversættelse af landenavne'!$C27,FALSE)","v":4.7499999999999765E-3},{"$f":"HLOOKUP($E$12,'Afgifter og Moms'!A$41:L$70,'Oversættelse af landenavne'!$C27,FALSE)","v":3.3950000000000036E-2},null,null,null,null,{"$f":"'Oversættelse af landenavne'!$B27","v":"Polen"},{"$f":"HLOOKUP($E$12,'Level 1'!$O$5:$Y$35,'Oversættelse af landenavne'!$C27,FALSE)","v":0.11855},{"$f":"HLOOKUP($E$12,'Afgifter og Moms'!$O$5:$Y$34,'Oversættelse af landenavne'!$C27,FALSE)","v":4.7999999999999848E-3},{"$f":"HLOOKUP($E$12,'Afgifter og Moms'!O$41:Y$70,'Oversættelse af landenavne'!$C27,FALSE)","v":2.8400000000000009E-2},null,null,null,null,{"$f":"'Oversættelse af landenavne'!$B27","v":"Polen"},{"$f":"HLOOKUP($E$12,'Level 1'!$AA$5:$AL$35,'Oversættelse af landenavne'!C27,FALSE)","v":0.1115},{"$f":"HLOOKUP($E$12,'Afgifter og Moms'!$AA$5:$AL$34,'Oversættelse af landenavne'!C27,FALSE)","v":4.8500000000000071E-3},{"$f":"HLOOKUP($E$12,'Afgifter og Moms'!$AA$41:$AL$70,'Oversættelse af landenavne'!C27,FALSE)","v":2.6749999999999996E-2},null,null,null,null,{"$f":"'Oversættelse af landenavne'!$B27","v":"Polen"},{"$f":"HLOOKUP($E$12,'Level 1'!$AN$5:$AY$35,'Oversættelse af landenavne'!C27,FALSE)","v":0.1069},{"$f":"HLOOKUP($E$12,'Afgifter og Moms'!$AN$5:$AY$34,'Oversættelse af landenavne'!C27,FALSE)","v":4.7999999999999987E-3},{"$f":"HLOOKUP($E$12,'Afgifter og Moms'!$AN$41:AY90,'Oversættelse af landenavne'!C27,FALSE)","v":2.5650000000000006E-2},null,null,null,null,{"$f":"'Oversættelse af landenavne'!$B27","v":"Polen"},{"$f":"HLOOKUP($E$12,'Level 1'!$BA$5:$BL$35,'Oversættelse af landenavne'!$C27,FALSE)","v":0.10545},{"$f":"HLOOKUP($E$12,'Afgifter og Moms'!$BA$5:$BL$34,'Oversættelse af landenavne'!$C27,FALSE)","v":4.8500000000000071E-3},{"$f":"HLOOKUP($E$12,'Afgifter og Moms'!$BA$41:$BL$70,'Oversættelse af landenavne'!$C27,FALSE)","v":2.5349999999999984E-2}]
[null,null,null,{"$f":"'Oversættelse af landenavne'!$B28","v":"Portugal"},{"$f":"HLOOKUP($E$12,'Level 1'!$B$5:$L$35,'Oversættelse af landenavne'!$C28,FALSE)","v":0.18445},{"$f":"HLOOKUP($E$12,'Afgifter og Moms'!A$5:L$35,'Oversættelse af landenavne'!$C28,FALSE)","v":0.13485000000000003},{"$f":"HLOOKUP($E$12,'Afgifter og Moms'!A$41:L$70,'Oversættelse af landenavne'!$C28,FALSE)","v":7.2949999999999959E-2},null,null,null,null,{"$f":"'Oversættelse af landenavne'!$B28","v":"Portugal"},{"$f":"HLOOKUP($E$12,'Level 1'!$O$5:$Y$35,'Oversættelse af landenavne'!$C28,FALSE)","v":0.12315},{"$f":"HLOOKUP($E$12,'Afgifter og Moms'!$O$5:$Y$34,'Oversættelse af landenavne'!$C28,FALSE)","v":7.8400000000000011E-2},{"$f":"HLOOKUP($E$12,'Afgifter og Moms'!O$41:Y$70,'Oversættelse af landenavne'!$C28,FALSE)","v":4.604999999999998E-2},null,null,null,null,{"$f":"'Oversættelse af landenavne'!$B28","v":"Portugal"},{"$f":"HLOOKUP($E$12,'Level 1'!$AA$5:$AL$35,'Oversættelse af landenavne'!C28,FALSE)","v":0.11515},{"$f":"HLOOKUP($E$12,'Afgifter og Moms'!$AA$5:$AL$34,'Oversættelse af landenavne'!C28,FALSE)","v":7.0649999999999991E-2},{"$f":"HLOOKUP($E$12,'Afgifter og Moms'!$AA$41:$AL$70,'Oversættelse af landenavne'!C28,FALSE)","v":4.2400000000000021E-2},null,null,null,null,{"$f":"'Oversættelse af landenavne'!$B28","v":"Portugal"},{"$f":"HLOOKUP($E$12,'Level 1'!$AN$5:$AY$35,'Oversættelse af landenavne'!C28,FALSE)","v":0.11065},{"$f":"HLOOKUP($E$12,'Afgifter og Moms'!$AN$5:$AY$34,'Oversættelse af landenavne'!C28,FALSE)","v":6.5799999999999997E-2},{"$f":"HLOOKUP($E$12,'Afgifter og Moms'!$AN$41:AY91,'Oversættelse af landenavne'!C28,FALSE)","v":4.0349999999999997E-2},null,null,null,null,{"$f":"'Oversættelse af landenavne'!$B28","v":"Portugal"},{"$f":"HLOOKUP($E$12,'Level 1'!$BA$5:$BL$35,'Oversættelse af landenavne'!$C28,FALSE)","v":0.10894999999999999},{"$f":"HLOOKUP($E$12,'Afgifter og Moms'!$BA$5:$BL$34,'Oversættelse af landenavne'!$C28,FALSE)","v":6.0350000000000015E-2},{"$f":"HLOOKUP($E$12,'Afgifter og Moms'!$BA$41:$BL$70,'Oversættelse af landenavne'!$C28,FALSE)","v":3.8849999999999996E-2}]
[null,null,null,{"$f":"'Oversættelse af landenavne'!$B29","v":"Rumænien"},{"$f":"HLOOKUP($E$12,'Level 1'!$B$5:$L$35,'Oversættelse af landenavne'!$C29,FALSE)","v":9.7599999999999992E-2},{"$f":"HLOOKUP($E$12,'Afgifter og Moms'!A$5:L$35,'Oversættelse af landenavne'!$C29,FALSE)","v":1.2400000000000008E-2},{"$f":"HLOOKUP($E$12,'Afgifter og Moms'!A$41:L$70,'Oversættelse af landenavne'!$C29,FALSE)","v":2.6399999999999993E-2},null,null,null,null,{"$f":"'Oversættelse af landenavne'!$B29","v":"Rumænien"},{"$f":"HLOOKUP($E$12,'Level 1'!$O$5:$Y$35,'Oversættelse af landenavne'!$C29,FALSE)","v":9.5299999999999996E-2},{"$f":"HLOOKUP($E$12,'Afgifter og Moms'!$O$5:$Y$34,'Oversættelse af landenavne'!$C29,FALSE)","v":1.2450000000000003E-2},{"$f":"HLOOKUP($E$12,'Afgifter og Moms'!O$41:Y$70,'Oversættelse af landenavne'!$C29,FALSE)","v":2.5899999999999992E-2},null,null,null,null,{"$f":"'Oversættelse af landenavne'!$B29","v":"Rumænien"},{"$f":"HLOOKUP($E$12,'Level 1'!$AA$5:$AL$35,'Oversættelse af landenavne'!C29,FALSE)","v":9.325E-2},{"$f":"HLOOKUP($E$12,'Afgifter og Moms'!$AA$5:$AL$34,'Oversættelse af landenavne'!C29,FALSE)","v":1.2450000000000003E-2},{"$f":"HLOOKUP($E$12,'Afgifter og Moms'!$AA$41:$AL$70,'Oversættelse af landenavne'!C29,FALSE)","v":2.5399999999999992E-2},null,null,null,null,{"$f":"'Oversættelse af landenavne'!$B29","v":"Rumænien"},{"$f":"HLOOKUP($E$12,'Level 1'!$AN$5:$AY$35,'Oversættelse af landenavne'!C29,FALSE)","v":9.1950000000000004E-2},{"$f":"HLOOKUP($E$12,'Afgifter og Moms'!$AN$5:$AY$34,'Oversættelse af landenavne'!C29,FALSE)","v":1.2449999999999989E-2},{"$f":"HLOOKUP($E$12,'Afgifter og Moms'!$AN$41:AY92,'Oversættelse af landenavne'!C29,FALSE)","v":2.5050000000000017E-2},null,null,null,null,{"$f":"'Oversættelse af landenavne'!$B29","v":"Rumænien"},{"$f":"HLOOKUP($E$12,'Level 1'!$BA$5:$BL$35,'Oversættelse af landenavne'!$C29,FALSE)","v":8.9550000000000005E-2},{"$f":"HLOOKUP($E$12,'Afgifter og Moms'!$BA$5:$BL$34,'Oversættelse af landenavne'!$C29,FALSE)","v":1.2249999999999997E-2},{"$f":"HLOOKUP($E$12,'Afgifter og Moms'!$BA$41:$BL$70,'Oversættelse af landenavne'!$C29,FALSE)","v":2.445E-2}]
[null,null,null,{"$f":"'Oversættelse af landenavne'!$B30","v":"Slovenien"},{"$f":"HLOOKUP($E$12,'Level 1'!$B$5:$L$35,'Oversættelse af landenavne'!$C30,FALSE)","v":0.11649999999999999},{"$f":"HLOOKUP($E$12,'Afgifter og Moms'!A$5:L$35,'Oversættelse af landenavne'!$C30,FALSE)","v":6.4450000000000007E-2},{"$f":"HLOOKUP($E$12,'Afgifter og Moms'!A$41:L$70,'Oversættelse af landenavne'!$C30,FALSE)","v":3.9800000000000002E-2},null,null,null,null,{"$f":"'Oversættelse af landenavne'!$B30","v":"Slovenien"},{"$f":"HLOOKUP($E$12,'Level 1'!$O$5:$Y$35,'Oversættelse af landenavne'!$C30,FALSE)","v":0.12719999999999998},{"$f":"HLOOKUP($E$12,'Afgifter og Moms'!$O$5:$Y$34,'Oversættelse af landenavne'!$C30,FALSE)","v":3.0850000000000016E-2},{"$f":"HLOOKUP($E$12,'Afgifter og Moms'!O$41:Y$70,'Oversættelse af landenavne'!$C30,FALSE)","v":3.4800000000000025E-2},null,null,null,null,{"$f":"'Oversættelse af landenavne'!$B30","v":"Slovenien"},{"$f":"HLOOKUP($E$12,'Level 1'!$AA$5:$AL$35,'Oversættelse af landenavne'!C30,FALSE)","v":0.11244999999999999},{"$f":"HLOOKUP($E$12,'Afgifter og Moms'!$AA$5:$AL$34,'Oversættelse af landenavne'!C30,FALSE)","v":1.9500000000000017E-2},{"$f":"HLOOKUP($E$12,'Afgifter og Moms'!$AA$41:$AL$70,'Oversættelse af landenavne'!C30,FALSE)","v":2.9049999999999992E-2},null,null,null,null,{"$f":"'Oversættelse af landenavne'!$B30","v":"Slovenien"},{"$f":"HLOOKUP($E$12,'Level 1'!$AN$5:$AY$35,'Oversættelse af landenavne'!C30,FALSE)","v":0.10305},{"$f":"HLOOKUP($E$12,'Afgifter og Moms'!$AN$5:$AY$34,'Oversættelse af landenavne'!C30,FALSE)","v":1.2649999999999995E-2},{"$f":"HLOOKUP($E$12,'Afgifter og Moms'!$AN$41:AY93,'Oversættelse af landenavne'!C30,FALSE)","v":2.5499999999999995E-2},null,null,null,null,{"$f":"'Oversættelse af landenavne'!$B30","v":"Slovenien"},{"$f":"HLOOKUP($E$12,'Level 1'!$BA$5:$BL$35,'Oversættelse af landenavne'!$C30,FALSE)","v":9.6750000000000003E-2},{"$f":"HLOOKUP($E$12,'Afgifter og Moms'!$BA$5:$BL$34,'Oversættelse af landenavne'!$C30,FALSE)","v":8.0999999999999961E-3},{"$f":"HLOOKUP($E$12,'Afgifter og Moms'!$BA$41:$BL$70,'Oversættelse af landenavne'!$C30,FALSE)","v":2.3150000000000004E-2}]
[null,null,null,{"$f":"'Oversættelse af landenavne'!$B31","v":"Slovakiet"},{"$f":"HLOOKUP($E$12,'Level 1'!$B$5:$L$35,'Oversættelse af landenavne'!$C31,FALSE)","v":0.2036},{"$f":"HLOOKUP($E$12,'Afgifter og Moms'!A$5:L$35,'Oversættelse af landenavne'!$C31,FALSE)","v":3.1999999999999806E-3},{"$f":"HLOOKUP($E$12,'Afgifter og Moms'!A$41:L$70,'Oversættelse af landenavne'!$C31,FALSE)","v":4.1349999999999998E-2},null,null,null,null,{"$f":"'Oversættelse af landenavne'!$B31","v":"Slovakiet"},{"$f":"HLOOKUP($E$12,'Level 1'!$O$5:$Y$35,'Oversættelse af landenavne'!$C31,FALSE)","v":0.14224999999999999},{"$f":"HLOOKUP($E$12,'Afgifter og Moms'!$O$5:$Y$34,'Oversættelse af landenavne'!$C31,FALSE)","v":3.2000000000000084E-3},{"$f":"HLOOKUP($E$12,'Afgifter og Moms'!O$41:Y$70,'Oversættelse af landenavne'!$C31,FALSE)","v":2.9049999999999992E-2},null,null,null,null,{"$f":"'Oversættelse af landenavne'!$B31","v":"Slovakiet"},{"$f":"HLOOKUP($E$12,'Level 1'!$AA$5:$AL$35,'Oversættelse af landenavne'!C31,FALSE)","v":0.12275},{"$f":"HLOOKUP($E$12,'Afgifter og Moms'!$AA$5:$AL$34,'Oversættelse af landenavne'!C31,FALSE)","v":3.2000000000000084E-3},{"$f":"HLOOKUP($E$12,'Afgifter og Moms'!$AA$41:$AL$70,'Oversættelse af landenavne'!C31,FALSE)","v":2.52E-2},null,null,null,null,{"$f":"'Oversættelse af landenavne'!$B31","v":"Slovakiet"},{"$f":"HLOOKUP($E$12,'Level 1'!$AN$5:$AY$35,'Oversættelse af landenavne'!C31,FALSE)","v":0.10655000000000001},{"$f":"HLOOKUP($E$12,'Afgifter og Moms'!$AN$5:$AY$34,'Oversættelse af landenavne'!C31,FALSE)","v":3.1999999999999945E-3},{"$f":"HLOOKUP($E$12,'Afgifter og Moms'!$AN$41:AY94,'Oversættelse af landenavne'!C31,FALSE)","v":2.1949999999999983E-2},null,null,null,null,{"$f":"'Oversættelse af landenavne'!$B31","v":"Slovakiet"},{"$f":"HLOOKUP($E$12,'Level 1'!$BA$5:$BL$35,'Oversættelse af landenavne'!$C31,FALSE)","v":9.3799999999999994E-2},{"$f":"HLOOKUP($E$12,'Afgifter og Moms'!$BA$5:$BL$34,'Oversættelse af landenavne'!$C31,FALSE)","v":3.2000000000000084E-3},{"$f":"HLOOKUP($E$12,'Afgifter og Moms'!$BA$41:$BL$70,'Oversættelse af landenavne'!$C31,FALSE)","v":1.9400000000000001E-2}]
[null,null,null,{"$f":"'Oversættelse af landenavne'!$B32","v":"Finland"},{"$f":"HLOOKUP($E$12,'Level 1'!$B$5:$L$35,'Oversættelse af landenavne'!$C32,FALSE)","v":0.22160000000000002},{"$f":"HLOOKUP($E$12,'Afgifter og Moms'!A$5:L$35,'Oversættelse af landenavne'!$C32,FALSE)","v":2.2549999999999987E-2},{"$f":"HLOOKUP($E$12,'Afgifter og Moms'!A$41:L$70,'Oversættelse af landenavne'!$C32,FALSE)","v":5.8599999999999958E-2},null,null,null,null,{"$f":"'Oversættelse af landenavne'!$B32","v":"Finland"},{"$f":"HLOOKUP($E$12,'Level 1'!$O$5:$Y$35,'Oversættelse af landenavne'!$C32,FALSE)","v":0.13969999999999999},{"$f":"HLOOKUP($E$12,'Afgifter og Moms'!$O$5:$Y$34,'Oversættelse af landenavne'!$C32,FALSE)","v":2.2550000000000014E-2},{"$f":"HLOOKUP($E$12,'Afgifter og Moms'!O$41:Y$70,'Oversættelse af landenavne'!$C32,FALSE)","v":3.8949999999999985E-2},null,null,null,null,{"$f":"'Oversættelse af landenavne'!$B32","v":"Finland"},{"$f":"HLOOKUP($E$12,'Level 1'!$AA$5:$AL$35,'Oversættelse af landenavne'!C32,FALSE)","v":0.10175000000000001},{"$f":"HLOOKUP($E$12,'Afgifter og Moms'!$AA$5:$AL$34,'Oversættelse af landenavne'!C32,FALSE)","v":2.2549999999999987E-2},{"$f":"HLOOKUP($E$12,'Afgifter og Moms'!$AA$41:$AL$70,'Oversættelse af landenavne'!C32,FALSE)","v":2.9800000000000021E-2},null,null,null,null,{"$f":"'Oversættelse af landenavne'!$B32","v":"Finland"},{"$f":"HLOOKUP($E$12,'Level 1'!$AN$5:$AY$35,'Oversættelse af landenavne'!C32,FALSE)","v":8.5999999999999993E-2},{"$f":"HLOOKUP($E$12,'Afgifter og Moms'!$AN$5:$AY$34,'Oversættelse af landenavne'!C32,FALSE)","v":2.2550000000000014E-2},{"$f":"HLOOKUP($E$12,'Afgifter og Moms'!$AN$41:AY95,'Oversættelse af landenavne'!C32,FALSE)","v":2.604999999999999E-2},null,null,null,null,{"$f":"'Oversættelse af landenavne'!$B32","v":"Finland"},{"$f":"HLOOKUP($E$12,'Level 1'!$BA$5:$BL$35,'Oversættelse af landenavne'!$C32,FALSE)","v":7.0449999999999999E-2},{"$f":"HLOOKUP($E$12,'Afgifter og Moms'!$BA$5:$BL$34,'Oversættelse af landenavne'!$C32,FALSE)","v":2.2500000000000006E-2},{"$f":"HLOOKUP($E$12,'Afgifter og Moms'!$BA$41:$BL$70,'Oversættelse af landenavne'!$C32,FALSE)","v":2.23E-2}]
[null,null,null,{"$f":"'Oversættelse af landenavne'!$B33","v":"Sverige"},{"$f":"HLOOKUP($E$12,'Level 1'!$B$5:$L$35,'Oversættelse af landenavne'!$C33,FALSE)","v":0.24435000000000001},{"$f":"HLOOKUP($E$12,'Afgifter og Moms'!A$5:L$35,'Oversættelse af landenavne'!$C33,FALSE)","v":2.9749999999999999E-2},{"$f":"HLOOKUP($E$12,'Afgifter og Moms'!A$41:L$70,'Oversættelse af landenavne'!$C33,FALSE)","v":6.8450000000000011E-2},null,null,null,null,{"$f":"'Oversættelse af landenavne'!$B33","v":"Sverige"},{"$f":"HLOOKUP($E$12,'Level 1'!$O$5:$Y$35,'Oversættelse af landenavne'!$C33,FALSE)","v":0.13645000000000002},{"$f":"HLOOKUP($E$12,'Afgifter og Moms'!$O$5:$Y$34,'Oversættelse af landenavne'!$C33,FALSE)","v":2.9700000000000004E-2},{"$f":"HLOOKUP($E$12,'Afgifter og Moms'!O$41:Y$70,'Oversættelse af landenavne'!$C33,FALSE)","v":4.159999999999997E-2},null,null,null,null,{"$f":"'Oversættelse af landenavne'!$B33","v":"Sverige"},{"$f":"HLOOKUP($E$12,'Level 1'!$AA$5:$AL$35,'Oversættelse af landenavne'!C33,FALSE)","v":0.11924999999999999},{"$f":"HLOOKUP($E$12,'Afgifter og Moms'!$AA$5:$AL$34,'Oversættelse af landenavne'!C33,FALSE)","v":2.9750000000000026E-2},{"$f":"HLOOKUP($E$12,'Afgifter og Moms'!$AA$41:$AL$70,'Oversættelse af landenavne'!C33,FALSE)","v":3.7249999999999978E-2},null,null,null,null,{"$f":"'Oversættelse af landenavne'!$B33","v":"Sverige"},{"$f":"HLOOKUP($E$12,'Level 1'!$AN$5:$AY$35,'Oversættelse af landenavne'!C33,FALSE)","v":9.325E-2},{"$f":"HLOOKUP($E$12,'Afgifter og Moms'!$AN$5:$AY$34,'Oversættelse af landenavne'!C33,FALSE)","v":2.9749999999999999E-2},{"$f":"HLOOKUP($E$12,'Afgifter og Moms'!$AN$41:AY96,'Oversættelse af landenavne'!C33,FALSE)","v":3.0700000000000005E-2},null,null,null,null,{"$f":"'Oversættelse af landenavne'!$B33","v":"Sverige"},{"$f":"HLOOKUP($E$12,'Level 1'!$BA$5:$BL$35,'Oversættelse af landenavne'!$C33,FALSE)","v":7.7399999999999997E-2},{"$f":"HLOOKUP($E$12,'Afgifter og Moms'!$BA$5:$BL$34,'Oversættelse af landenavne'!$C33,FALSE)","v":2.9700000000000004E-2},{"$f":"HLOOKUP($E$12,'Afgifter og Moms'!$BA$41:$BL$70,'Oversættelse af landenavne'!$C33,FALSE)","v":2.6800000000000018E-2}]
[null,null,null,{"$f":"'Oversættelse af landenavne'!$B34","v":"UK"},{"$f":"HLOOKUP($E$12,'Level 1'!$B$5:$L$35,'Oversættelse af landenavne'!$C34,FALSE)","v":0.24919999999999998},{"$f":"HLOOKUP($E$12,'Afgifter og Moms'!A$5:L$35,'Oversættelse af landenavne'!$C34,FALSE)","v":0},{"$f":"HLOOKUP($E$12,'Afgifter og Moms'!A$41:L$70,'Oversættelse af landenavne'!$C34,FALSE)","v":1.265000000000005E-2},null,null,null,null,{"$f":"'Oversættelse af landenavne'!$B34","v":"UK"},{"$f":"HLOOKUP($E$12,'Level 1'!$O$5:$Y$35,'Oversættelse af landenavne'!$C34,FALSE)","v":0.22739999999999999},{"$f":"HLOOKUP($E$12,'Afgifter og Moms'!$O$5:$Y$34,'Oversættelse af landenavne'!$C34,FALSE)","v":0},{"$f":"HLOOKUP($E$12,'Afgifter og Moms'!O$41:Y$70,'Oversættelse af landenavne'!$C34,FALSE)","v":1.1450000000000016E-2},null,null,null,null,{"$f":"'Oversættelse af landenavne'!$B34","v":"UK"},{"$f":"HLOOKUP($E$12,'Level 1'!$AA$5:$AL$35,'Oversættelse af landenavne'!C34,FALSE)","v":0.20515},{"$f":"HLOOKUP($E$12,'Afgifter og Moms'!$AA$5:$AL$34,'Oversættelse af landenavne'!C34,FALSE)","v":0},{"$f":"HLOOKUP($E$12,'Afgifter og Moms'!$AA$41:$AL$70,'Oversættelse af landenavne'!C34,FALSE)","v":1.0249999999999981E-2},null,null,null,null,{"$f":"'Oversættelse af landenavne'!$B34","v":"UK"},{"$f":"HLOOKUP($E$12,'Level 1'!$AN$5:$AY$35,'Oversættelse af landenavne'!C34,FALSE)","v":0.18709999999999999},{"$f":"HLOOKUP($E$12,'Afgifter og Moms'!$AN$5:$AY$34,'Oversættelse af landenavne'!C34,FALSE)","v":0},{"$f":"HLOOKUP($E$12,'Afgifter og Moms'!$AN$41:AY97,'Oversættelse af landenavne'!C34,FALSE)","v":9.4000000000000195E-3},null,null,null,null,{"$f":"'Oversættelse af landenavne'!$B34","v":"UK"},{"$f":"HLOOKUP($E$12,'Level 1'!$BA$5:$BL$35,'Oversættelse af landenavne'!$C34,FALSE)","v":0.17149999999999999},{"$f":"HLOOKUP($E$12,'Afgifter og Moms'!$BA$5:$BL$34,'Oversættelse af landenavne'!$C34,FALSE)","v":0},{"$f":"HLOOKUP($E$12,'Afgifter og Moms'!$BA$41:$BL$70,'Oversættelse af landenavne'!$C34,FALSE)","v":8.5999999999999965E-3}]
[null,null,null,"Level 1",null,null,null,null,null,null,null,"Level 1",null,null,null,null,null,null,null,"Level 1",null,null,null,null,null,null,null,"Level 1",null,null,null,null,null,null,null,"Level 1"]
[null,null,null,"Level 2",null,null,null,null,null,null,null,"Level 2",null,null,null,null,null,null,null,"Level 2",null,null,null,null,null,null,null,"Level 2",null,null,null,null,null,null,null,"Level 2"]
[null,null,null,"Level 3",null,null,null,null,null,null,null,"Level 3",null,null,null,null,null,null,null,"Level 3",null,null,null,null,null,null,null,"Level 3",null,null,null,null,null,null,null,"Level 3"]
[]
[]
[]
[]
[]
[null,null,null,"Herunder vises de tabeller der er resultatet er valgene truffet øverst i valgmenuen"]
[]
[]
[null,null,null,"Tabel B - HICP deflatoren",null,null,"Tabel C"]
[null,null,null,"Tabel B fremkommer som resultat af valgene truffet for faste/løbende priser og basisår.\n\nHICP deflatoren vises for samtlige lande for det valgte år. Væles løbende priser deflaterer man ikke, hvorfor der vil stå et 1-tal i alle celler.\n\nFormlen gør at \"fejlværdien\" svarer til at man har valgt løbende priser (gælder både for overskrift og formler). Med denne metode kan indeksværdien ganges direkte på rådata uanset hvilken valuta der vælges.",null,null,"Tabel C viser hvilken kurs der ganges på rådata (opgivet i euro) for at få priserne vist i den valuta der er valgt i valgmenuen øverst.\n\nKursen ændres efter valgt år og valuta."]
[]
[null,null,null,null,{"$f":"IF(E13=\"faste priser\",\"HICP deflatoenfor år \"&E12&\" med basisåret \"&E14&\"\",\"Prisindeks for løbende priser år \"&E12)","v":"HICP deflatoenfor år 2015 med basisåret 2016"},null,{"$f":"\"Valutakursen for \"&E15&\" i fht. Euro år \"&E12","v":"Valutakursen for DKK i fht. Euro år 2015"}]
[null,null,null,{"$f":"'Baggrundsdata - HICP - deflator'!B20","v":"EU-28"},{"$f":"IF($E$13=\"faste priser\",HLOOKUP($E$12,'Baggrundsdata - HICP - deflator'!$B$19:$M$48,'Oversættelse af landenavne'!$C6,FALSE),1)","v":1.0001},null,{"$f":"IF(E15=\"Euro\",1,IF(E15=\"eurocent\",100,IF(E15=\"DKK øre\",HLOOKUP(E12,Forside!$E$53:$O$54,2,FALSE),IF(E15=\"DKK\",((HLOOKUP(E12,Forside!$E$53:$O$54,2,FALSE))/100),\"F\"))))","v":7.4561029999999997}]
[null,null,null,{"$f":"'Baggrundsdata - HICP - deflator'!B21","v":"Belgien"},{"$f":"IF($E$13=\"faste priser\",HLOOKUP($E$12,'Baggrundsdata - HICP - deflator'!$B$19:$M$48,'Oversættelse af landenavne'!$C7,FALSE),1)","v":0.99379999999999991}]
[null,null,null,{"$f":"'Baggrundsdata - HICP - deflator'!B22","v":"Bulgarien"},{"$f":"IF($E$13=\"faste priser\",HLOOKUP($E$12,'Baggrundsdata - HICP - deflator'!$B$19:$M$48,'Oversættelse af landenavne'!$C8,FALSE),1)","v":1.0107999999999999}]
[null,null,null,{"$f":"'Baggrundsdata - HICP - deflator'!B23","v":"Tjekkiet"},{"$f":"IF($E$13=\"faste priser\",HLOOKUP($E$12,'Baggrundsdata - HICP - deflator'!$B$19:$M$48,'Oversættelse af landenavne'!$C9,FALSE),1)","v":0.99799999999999989}]
[null,null,null,{"$f":"'Baggrundsdata - HICP - deflator'!B24","v":"Danmark"},{"$f":"IF($E$13=\"faste priser\",HLOOKUP($E$12,'Baggrundsdata - HICP - deflator'!$B$19:$M$48,'Oversættelse af landenavne'!$C10,FALSE),1)","v":0.99799999999999989}]
[null,null,null,{"$f":"'Baggrundsdata - HICP - deflator'!B25","v":"Tyskland"},{"$f":"IF($E$13=\"faste priser\",HLOOKUP($E$12,'Baggrundsdata - HICP - deflator'!$B$19:$M$48,'Oversættelse af landenavne'!$C11,FALSE),1)","v":0.99900000000000011}]
[null,null,null,{"$f":"'Baggrundsdata - HICP - deflator'!B26","v":"Estland"},{"$f":"IF($E$13=\"faste priser\",HLOOKUP($E$12,'Baggrundsdata - HICP - deflator'!$B$19:$M$48,'Oversættelse af landenavne'!$C12,FALSE),1)","v":0.99930000000000008}]
[null,null,null,{"$f":"'Baggrundsdata - HICP - deflator'!B27","v":"Irland"},{"$f":"IF($E$13=\"faste priser\",HLOOKUP($E$12,'Baggrundsdata - HICP - deflator'!$B$19:$M$48,'Oversættelse af landenavne'!$C13,FALSE),1)","v":1}]
[null,null,null,{"$f":"'Baggrundsdata - HICP - deflator'!B28","v":"Grækenland"},{"$f":"IF($E$13=\"faste priser\",HLOOKUP($E$12,'Baggrundsdata - HICP - deflator'!$B$19:$M$48,'Oversættelse af landenavne'!$C14,FALSE),1)","v":1.0111000000000001}]
[null,null,null,{"$f":"'Baggrundsdata - HICP - deflator'!B29","v":"Spanien"},{"$f":"IF($E$13=\"faste priser\",HLOOKUP($E$12,'Baggrundsdata - HICP - deflator'!$B$19:$M$48,'Oversættelse af landenavne'!$C15,FALSE),1)","v":1.0062999999999998}]
[null,null,null,{"$f":"'Baggrundsdata - HICP - deflator'!B30","v":"Frankrig"},{"$f":"IF($E$13=\"faste priser\",HLOOKUP($E$12,'Baggrundsdata - HICP - deflator'!$B$19:$M$48,'Oversættelse af landenavne'!$C16,FALSE),1)","v":0.9991000000000001}]
[null,null,null,{"$f":"'Baggrundsdata - HICP - deflator'!B31","v":"Kroatien"},{"$f":"IF($E$13=\"faste priser\",HLOOKUP($E$12,'Baggrundsdata - HICP - deflator'!$B$19:$M$48,'Oversættelse af landenavne'!$C17,FALSE),1)","v":1.0025999999999999}]
[null,null,null,{"$f":"'Baggrundsdata - HICP - deflator'!B32","v":"Italien"},{"$f":"IF($E$13=\"faste priser\",HLOOKUP($E$12,'Baggrundsdata - HICP - deflator'!$B$19:$M$48,'Oversættelse af landenavne'!$C18,FALSE),1)","v":0.99900000000000011}]
[null,null,null,{"$f":"'Baggrundsdata - HICP - deflator'!B33","v":"Cypern"},{"$f":"IF($E$13=\"faste priser\",HLOOKUP($E$12,'Baggrundsdata - HICP - deflator'!$B$19:$M$48,'Oversættelse af landenavne'!$C19,FALSE),1)","v":1.0156999999999998}]
[null,null,null,{"$f":"'Baggrundsdata - HICP - deflator'!B34","v":"Letland"},{"$f":"IF($E$13=\"faste priser\",HLOOKUP($E$12,'Baggrundsdata - HICP - deflator'!$B$19:$M$48,'Oversættelse af landenavne'!$C20,FALSE),1)","v":0.99790000000000012}]
[null,null,null,{"$f":"'Baggrundsdata - HICP - deflator'!B35","v":"Litaun"},{"$f":"IF($E$13=\"faste priser\",HLOOKUP($E$12,'Baggrundsdata - HICP - deflator'!$B$19:$M$48,'Oversættelse af landenavne'!$C21,FALSE),1)","v":1.0068000000000001}]
[null,null,null,{"$f":"'Baggrundsdata - HICP - deflator'!B36","v":"luxembourg"},{"$f":"IF($E$13=\"faste priser\",HLOOKUP($E$12,'Baggrundsdata - HICP - deflator'!$B$19:$M$48,'Oversættelse af landenavne'!$C22,FALSE),1)","v":0.99939999999999996}]
[null,null,null,{"$f":"'Baggrundsdata - HICP - deflator'!B37","v":"Ungarn"},{"$f":"IF($E$13=\"faste priser\",HLOOKUP($E$12,'Baggrundsdata - HICP - deflator'!$B$19:$M$48,'Oversættelse af landenavne'!$C23,FALSE),1)","v":0.99939999999999996}]
[null,null,null,{"$f":"'Baggrundsdata - HICP - deflator'!B38","v":"Malta"},{"$f":"IF($E$13=\"faste priser\",HLOOKUP($E$12,'Baggrundsdata - HICP - deflator'!$B$19:$M$48,'Oversættelse af landenavne'!$C24,FALSE),1)","v":0.98840000000000017}]
[null,null,null,{"$f":"'Baggrundsdata - HICP - deflator'!B39","v":"Holland"},{"$f":"IF($E$13=\"faste priser\",HLOOKUP($E$12,'Baggrundsdata - HICP - deflator'!$B$19:$M$48,'Oversættelse af landenavne'!$C25,FALSE),1)","v":0.99790000000000012}]
[null,null,null,{"$f":"'Baggrundsdata - HICP - deflator'!B40","v":"Østrig"},{"$f":"IF($E$13=\"faste priser\",HLOOKUP($E$12,'Baggrundsdata - HICP - deflator'!$B$19:$M$48,'Oversættelse af landenavne'!$C26,FALSE),1)","v":0.99199999999999999}]
[null,null,null,{"$f":"'Baggrundsdata - HICP - deflator'!B41","v":"Polen"},{"$f":"IF($E$13=\"faste priser\",HLOOKUP($E$12,'Baggrundsdata - HICP - deflator'!$B$19:$M$48,'Oversættelse af landenavne'!$C27,FALSE),1)","v":1.0070000000000001}]
[null,null,null,{"$f":"'Baggrundsdata - HICP - deflator'!B42","v":"Portugal"},{"$f":"IF($E$13=\"faste priser\",HLOOKUP($E$12,'Baggrundsdata - HICP - deflator'!$B$19:$M$48,'Oversættelse af landenavne'!$C28,FALSE),1)","v":0.99500000000000011}]
[null,null,null,{"$f":"'Baggrundsdata - HICP - deflator'!B43","v":"Rumænien"},{"$f":"IF($E$13=\"faste priser\",HLOOKUP($E$12,'Baggrundsdata - HICP - deflator'!$B$19:$M$48,'Oversættelse af landenavne'!$C29,FALSE),1)","v":1.0041}]
[null,null,null,{"$f":"'Baggrundsdata - HICP - deflator'!B44","v":"Slovenien"},{"$f":"IF($E$13=\"faste priser\",HLOOKUP($E$12,'Baggrundsdata - HICP - deflator'!$B$19:$M$48,'Oversættelse af landenavne'!$C30,FALSE),1)","v":1.0076000000000001}]
[null,null,null,{"$f":"'Baggrundsdata - HICP - deflator'!B45","v":"Slovakiet"},{"$f":"IF($E$13=\"faste priser\",HLOOKUP($E$12,'Baggrundsdata - HICP - deflator'!$B$19:$M$48,'Oversættelse af landenavne'!$C31,FALSE),1)","v":1.0034999999999998}]
[null,null,null,{"$f":"'Baggrundsdata - HICP - deflator'!B46","v":"Finland"},{"$f":"IF($E$13=\"faste priser\",HLOOKUP($E$12,'Baggrundsdata - HICP - deflator'!$B$19:$M$48,'Oversættelse af landenavne'!$C32,FALSE),1)","v":1.0016}]
[null,null,null,{"$f":"'Baggrundsdata - HICP - deflator'!B47","v":"Sverige"},{"$f":"IF($E$13=\"faste priser\",HLOOKUP($E$12,'Baggrundsdata - HICP - deflator'!$B$19:$M$48,'Oversættelse af landenavne'!$C33,FALSE),1)","v":0.9930000000000001}]
[null,null,null,{"$f":"'Baggrundsdata - HICP - deflator'!B48","v":"UK"},{"$f":"IF($E$13=\"faste priser\",HLOOKUP($E$12,'Baggrundsdata - HICP - deflator'!$B$19:$M$48,'Oversættelse af landenavne'!$C34,FALSE),1)","v":1}]

{"sheet":"Baggrundsdata - HICP - deflator","index":4,"n_rows":100,"n_cols":31,"rows_kept":100,"cut":false,"hidden":false,"merged":[[5,1,5,8],[6,1,6,8],[8,1,8,8],[10,1,10,8]]}
[null,"Det EU harmoniserede forbrugerprisindekset HICP for forskellige basisår"]
[null,"NAVN PÅ ARK:","Baggrundsdata - HICP deflator"]
[null,"Data hentes fra:","Kun baggrundsdata længere nede på HICP arket benyttes"]
[]
[null,"Sådan bruges arket:"]
[null,{"$f":"\"Arket 'Baggrundsdata -HICP deflator' viser deflatoren for det enkelte land i det enkte år for \"&C19&\" til \"&I19&\".\nBasisået retter sig efter de valg der er truffuet i akrene '\"&'Alle lande, valgt år'!F1&\"' og ' \"&'Udvalgte lande, 10 års oversigt'!E1 &\"'\"","v":"Arket 'Baggrundsdata -HICP deflator' viser deflatoren for det enkelte land i det enkte år for 2007 til 2013.\nBasisået retter sig efter de valg der er truffuet i akrene 'Alle lande, valgt år' og ' Udvalgte lande, 10 års oversigt'"}]
[null,"Nederst i arket er der en baggrundsdata tabel men rådata for eurostat. De øverste tabeller er bearbejdet og fungerer som baggrundsdata for deflatortabellerne (de røde) i ovennævnte ark.\nDer træffes ingen valg i arket, det bruges som baggrundsdata og til at kontrollere at man har trukket korrekt data."]
[]
[null,"HICP er hentet for samtlige varergrupper for hvert enkelt land for alle forbrugere"]
[null,"Bemærk:"]
[null,"Indtil nu fungerer HICP-deflatoren for et interval på 7 år. Dvs. at man kan hente ny data hvis man ønsker 7 andre år og indsætte dem i baggrundsdata. Deflatoren vil automatisk opdatere. Ønsker man et længere tidsinterval må man udvide formlen for deflator tabellen."]
[]
[]
[null,"Baggrundsdata til tabel B i arket 'Baggrundstabeller for alle lande, valgt år'",null,null,null,null,null,null,null,null,null,null,null,null,null,null,null,"Baggrundsdata til tabel B i arket 'Udvalgte lande, 7 års oversigt'"]
[null,"Baggrundstal til tabel B: Forbrugerprisindeks HICP-deflator for forskellige basisår",null,null,null,null,null,null,null,null,null,null,null,null,null,null,null,"Baggrundstal til tabel B: Forbrugerprisindeks HICP-deflator for forskellige basisår"]
[]
[null,"Vælg Basisår",{"$f":"'Alle lande, valgt år'!E14","v":2016},null,null,null,null,null,null,null,null,null,null,null,null,null,null,"Valgt Basisår",{"$f":"'Udvalgte lande, 10 års oversigt'!E14","v":2016}]
[]
[null,null,{"$f":"'Baggrundsdata - HICP - deflator'!B68+0","v":2007},{"$f":"'Baggrundsdata - HICP - deflator'!C68+0","v":2008},{"$f":"'Baggrundsdata - HICP - deflator'!D68+0","v":2009},{"$f":"'Baggrundsdata - HICP - deflator'!E68+0","v":2010},{"$f":"'Baggrundsdata - HICP - deflator'!F68+0","v":2011},{"$f":"'Baggrundsdata - HICP - deflator'!G68+0","v":2012},{"$f":"'Baggrundsdata - HICP - deflator'!H68+0","v":2013},{"$f":"'Baggrundsdata - HICP - deflator'!I68+0","v":2014},{"$f":"'Baggrundsdata - HICP - deflator'!J68+0","v":2015},{"$f":"'Baggrundsdata - HICP - deflator'!K68+0","v":2016},{"$f":"'Baggrundsdata - HICP - deflator'!L68+0","v":2017},null,"Tjek: Er HICP trukket for de korrekte lande (jf.  level 1)",null,null,null,{"$f":"'Baggrundsdata - HICP - deflator'!C19+0","v":2007},{"$f":"'Baggrundsdata - HICP - deflator'!D19+0","v":2008},{"$f":"'Baggrundsdata - HICP - deflator'!E19+0","v":2009},{"$f":"'Baggrundsdata - HICP - deflator'!F19+0","v":2010},{"$f":"'Baggrundsdata - HICP - deflator'!G19+0","v":2011},{"$f":"'Baggrundsdata - HICP - deflator'!H19+0","v":2012},{"$f":"'Baggrundsdata - HICP - deflator'!I19+0","v":2013},{"$f":"'Baggrundsdata - HICP - deflator'!J19+0","v":2014},{"$f":"'Baggrundsdata - HICP - deflator'!K19+0","v":2015},{"$f":"'Baggrundsdata - HICP - deflator'!L19+0","v":2016},{"$f":"'Baggrundsdata - HICP - deflator'!M19+0","v":2017},null,"Tjek: Er BVT trukket for de korrekte lande (jf liste på forsiden)"]
[null,{"$f":"IF(A69=\"European Union (28 countries)\",\"EU-28\",IF(A69=\"European Union (27 countries)\",\"EU-27\",IF(A69=\"Euro area (EA11-2000, EA12-2006, EA13-2007, EA15-2008, EA16-2010, EA17-2013, EA18-2014, EA19)\",\"EU-området\",IF(A69=\"Belgium\",\"Belgien\",IF(A69=\"Bulgaria\",\"Bulgarien\",IF(A69=\"czech republic\",\"Tjekkiet\",IF(A69=\"Denmark\",\"Danmark\",IF(A69=\"Germany (until 1990 former territory of the FRG)\",\"Tyskland\",IF(A69=\"Estonia\",\"Estland\",IF(A69=\"Ireland\",\"Irland\",IF(A69=\"Greece\",\"Grækenland\",IF(A69=\"Spain\",\"Spanien\",IF(A69=\"france\",\"Frankrig\",IF(A69=\"Croatia\",\"Kroatien\",IF(A69=\"italy\",\"Italien\",IF(A69=\"Cyprus\",\"Cypern\",IF(A69=\"Latvia\",\"Letland\",IF(A69=\"Lithuania\",\"Litaun\",IF(A69=\"Luxembourg\",\"luxembourg\",IF(A69=\"Hungary\",\"Ungarn\",IF(A69=\"Malta\",\"Malta\",IF(A69=\"Netherlands\",\"Holland\",IF(A69=\"Austria\",\"Østrig\",IF(A69=\"Poland\",\"Polen\",IF(A69=\"portugal\",\"Portugal\",IF(A69=\"Romania\",\"Rumænien\",IF(A69=\"Slovenia\",\"Slovenien\",IF(A69=\"slovakia\",\"Slovakiet\",IF(A69=\"Finland\",\"Finland\",IF(A69=\"sweden\",\"Sverige\",IF(A69=\"United kingdom\",\"UK\",IF(A69=\"liechtenstein\",\"Liechtenstein\",IF(A69=\"Norway\",\"Norge\",IF(A69=\"Montenegro\",\"Montenegro\",IF(A69=\"Former Yugoslav Republic of Macedonia, the\",\"Republikken Makedonien\",IF(A69=\"Serbia\",\"Serbien\",IF(A69=\"Turkey\",\"Tyrkiet\",IF(A69=\"Bosnia and Herzegovina\",\"Bosnien-Hercegovina\",IF(A69=\"Kosovo (under United Nations Security Council Resolution 1244/99)\",\"Kosovo\",IF(A69=\"Iceland\",\"Island\",IF(A69=\"albania\",\"Albanien\",IF(A69=\"New Country\",\"Nyt land\",0))))))))))))))))))))))))))))))))))))))))))","v":"EU-28"},{"$f":"IFERROR('Baggrundsdata - HICP - deflator'!B69/IF($M$19=$C$17,$L69,IF($L$19=$C$17,$K69,IF($K$19=$C$17,$J69,IF($J$19=$C$17,$I69,IF($I$19=$C$17,'Baggrundsdata - HICP - deflator'!$H69,IF($H$19=$C$17,'Baggrundsdata - HICP - deflator'!$G69,IF($C$17=$G$19,'Baggrundsdata - HICP - deflator'!$F69,IF($F$19=$C$17,'Baggrundsdata - HICP - deflator'!$E69,IF($E$19=$C$17,'Baggrundsdata - HICP - deflator'!$D69,IF($D$19=$C$17,'Baggrundsdata - HICP - deflator'!$C69,IF('Baggrundsdata - HICP - deflator'!$C$19='Baggrundsdata - HICP - deflator'!$C$17,'Baggrundsdata - HICP - deflator'!$B69,\"*\"))))))))))),\"*\")","v":0.86658665000000012},{"$f":"IFERROR('Baggrundsdata - HICP - deflator'!C69/IF($M$19=$C$17,$L69,IF($L$19=$C$17,$K69,IF($K$19=$C$17,$J69,IF($J$19=$C$17,$I69,IF($I$19=$C$17,'Baggrundsdata - HICP - deflator'!$H69,IF($H$19=$C$17,'Baggrundsdata - HICP - deflator'!$G69,IF($C$17=$G$19,'Baggrundsdata - HICP - deflator'!$F69,IF($F$19=$C$17,'Baggrundsdata - HICP - deflator'!$E69,IF($E$19=$C$17,'Baggrundsdata - HICP - deflator'!$D69,IF($D$19=$C$17,'Baggrundsdata - HICP - deflator'!$C69,IF('Baggrundsdata - HICP - deflator'!$C$19='Baggrundsdata - HICP - deflator'!$C$17,'Baggrundsdata - HICP - deflator'!$B69,\"*\"))))))))))),\"*\")","v":0.89828982000000002},{"$f":"IFERROR('Baggrundsdata - HICP - deflator'!D69/IF($M$19=$C$17,$L69,IF($L$19=$C$17,$K69,IF($K$19=$C$17,$J69,IF($J$19=$C$17,$I69,IF($I$19=$C$17,'Baggrundsdata - HICP - deflator'!$H69,IF($H$19=$C$17,'Baggrundsdata - HICP - deflator'!$G69,IF($C$17=$G$19,'Baggrundsdata - HICP - deflator'!$F69,IF($F$19=$C$17,'Baggrundsdata - HICP - deflator'!$E69,IF($E$19=$C$17,'Baggrundsdata - HICP - deflator'!$D69,IF($D$19=$C$17,'Baggrundsdata - HICP - deflator'!$C69,IF('Baggrundsdata - HICP - deflator'!$C$19='Baggrundsdata - HICP - deflator'!$C$17,'Baggrundsdata - HICP - deflator'!$B69,\"*\"))))))))))),\"*\")","v":0.90709070000000003},{"$f":"IFERROR('Baggrundsdata - HICP - deflator'!E69/IF($M$19=$C$17,$L69,IF($L$19=$C$17,$K69,IF($K$19=$C$17,$J69,IF($J$19=$C$17,$I69,IF($I$19=$C$17,'Baggrundsdata - HICP - deflator'!$H69,IF($H$19=$C$17,'Baggrundsdata - HICP - deflator'!$G69,IF($C$17=$G$19,'Baggrundsdata - HICP - deflator'!$F69,IF($F$19=$C$17,'Baggrundsdata - HICP - deflator'!$E69,IF($E$19=$C$17,'Baggrundsdata - HICP - deflator'!$D69,IF($D$19=$C$17,'Baggrundsdata - HICP - deflator'!$C69,IF('Baggrundsdata - HICP - deflator'!$C$19='Baggrundsdata - HICP - deflator'!$C$17,'Baggrundsdata - HICP - deflator'!$B69,\"*\"))))))))))),\"*\")","v":0.92599259000000012},{"$f":"IFERROR('Baggrundsdata - HICP - deflator'!F69/IF($M$19=$C$17,$L69,IF($L$19=$C$17,$K69,IF($K$19=$C$17,$J69,IF($J$19=$C$17,$I69,IF($I$19=$C$17,'Baggrundsdata - HICP - deflator'!$H69,IF($H$19=$C$17,'Baggrundsdata - HICP - deflator'!$G69,IF($C$17=$G$19,'Baggrundsdata - HICP - deflator'!$F69,IF($F$19=$C$17,'Baggrundsdata - HICP - deflator'!$E69,IF($E$19=$C$17,'Baggrundsdata - HICP - deflator'!$D69,IF($D$19=$C$17,'Baggrundsdata - HICP - deflator'!$C69,IF('Baggrundsdata - HICP - deflator'!$C$19='Baggrundsdata - HICP - deflator'!$C$17,'Baggrundsdata - HICP - deflator'!$B69,\"*\"))))))))))),\"*\")","v":0.95469545999999994},{"$f":"IFERROR('Baggrundsdata - HICP - deflator'!G69/IF($M$19=$C$17,$L69,IF($L$19=$C$17,$K69,IF($K$19=$C$17,$J69,IF($J$19=$C$17,$I69,IF($I$19=$C$17,'Baggrundsdata - HICP - deflator'!$H69,IF($H$19=$C$17,'Baggrundsdata - HICP - deflator'!$G69,IF($C$17=$G$19,'Baggrundsdata - HICP - deflator'!$F69,IF($F$19=$C$17,'Baggrundsdata - HICP - deflator'!$E69,IF($E$19=$C$17,'Baggrundsdata - HICP - deflator'!$D69,IF($D$19=$C$17,'Baggrundsdata - HICP - deflator'!$C69,IF('Baggrundsdata - HICP - deflator'!$C$19='Baggrundsdata - HICP - deflator'!$C$17,'Baggrundsdata - HICP - deflator'!$B69,\"*\"))))))))))),\"*\")","v":0.97999798999999999},{"$f":"IFERROR('Baggrundsdata - HICP - deflator'!H69/IF($M$19=$C$17,$L69,IF($L$19=$C$17,$K69,IF($K$19=$C$17,$J69,IF($J$19=$C$17,$I69,IF($I$19=$C$17,'Baggrundsdata - HICP - deflator'!$H69,IF($H$19=$C$17,'Baggrundsdata - HICP - deflator'!$G69,IF($C$17=$G$19,'Baggrundsdata - HICP - deflator'!$F69,IF($F$19=$C$17,'Baggrundsdata - HICP - deflator'!$E69,IF($E$19=$C$17,'Baggrundsdata - HICP - deflator'!$D69,IF($D$19=$C$17,'Baggrundsdata - HICP - deflator'!$C69,IF('Baggrundsdata - HICP - deflator'!$C$19='Baggrundsdata - HICP - deflator'!$C$17,'Baggrundsdata - HICP - deflator'!$B69,\"*\"))))))))))),\"*\")","v":0.99479947000000002},{"$f":"IFERROR('Baggrundsdata - HICP - deflator'!I69/IF($M$19=$C$17,$L69,IF($L$19=$C$17,$K69,IF($K$19=$C$17,$J69,IF($J$19=$C$17,$I69,IF($I$19=$C$17,'Baggrundsdata - HICP - deflator'!$H69,IF($H$19=$C$17,'Baggrundsdata - HICP - deflator'!$G69,IF($C$17=$G$19,'Baggrundsdata - HICP - deflator'!$F69,IF($F$19=$C$17,'Baggrundsdata - HICP - deflator'!$E69,IF($E$19=$C$17,'Baggrundsdata - HICP - deflator'!$D69,IF($D$19=$C$17,'Baggrundsdata - HICP - deflator'!$C69,IF('Baggrundsdata - HICP - deflator'!$C$19='Baggrundsdata - HICP - deflator'!$C$17,'Baggrundsdata - HICP - deflator'!$B69,\"*\"))))))))))),\"*\")","v":1.0002000100000001},{"$f":"IFERROR('Baggrundsdata - HICP - deflator'!J69/IF($M$19=$C$17,$L69,IF($L$19=$C$17,$K69,IF($K$19=$C$17,$J69,IF($J$19=$C$17,$I69,IF($I$19=$C$17,'Baggrundsdata - HICP - deflator'!$H69,IF($H$19=$C$17,'Baggrundsdata - HICP - deflator'!$G69,IF($C$17=$G$19,'Baggrundsdata - HICP - deflator'!$F69,IF($F$19=$C$17,'Baggrundsdata - HICP - deflator'!$E69,IF($E$19=$C$17,'Baggrundsdata - HICP - deflator'!$D69,IF($D$19=$C$17,'Baggrundsdata - HICP - deflator'!$C69,IF('Baggrundsdata - HICP - deflator'!$C$19='Baggrundsdata - HICP - deflator'!$C$17,'Baggrundsdata - HICP - deflator'!$B69,\"*\"))))))))))),\"*\")","v":1.0001},{"$f":"IFERROR('Baggrundsdata - HICP - deflator'!K69/IF($M$19=$C$17,$L69,IF($L$19=$C$17,$K69,IF($K$19=$C$17,$J69,IF($J$19=$C$17,$I69,IF($I$19=$C$17,'Baggrundsdata - HICP - deflator'!$H69,IF($H$19=$C$17,'Baggrundsdata - HICP - deflator'!$G69,IF($C$17=$G$19,'Baggrundsdata - HICP - deflator'!$F69,IF($F$19=$C$17,'Baggrundsdata - HICP - deflator'!$E69,IF($E$19=$C$17,'Baggrundsdata - HICP - deflator'!$D69,IF($D$19=$C$17,'Baggrundsdata - HICP - deflator'!$C69,IF('Baggrundsdata - HICP - deflator'!$C$19='Baggrundsdata - HICP - deflator'!$C$17,'Baggrundsdata - HICP - deflator'!$B69,\"*\"))))))))))),\"*\")","v":1},{"$f":"IFERROR('Baggrundsdata - HICP - deflator'!L69/IF($M$19=$C$17,$L69,IF($L$19=$C$17,$K69,IF($K$19=$C$17,$J69,IF($J$19=$C$17,$I69,IF($I$19=$C$17,'Baggrundsdata - HICP - deflator'!$H69,IF($H$19=$C$17,'Baggrundsdata - HICP - deflator'!$G69,IF($C$17=$G$19,'Baggrundsdata - HICP - deflator'!$F69,IF($F$19=$C$17,'Baggrundsdata - HICP - deflator'!$E69,IF($E$19=$C$17,'Baggrundsdata - HICP - deflator'!$D69,IF($D$19=$C$17,'Baggrundsdata - HICP - deflator'!$C69,IF('Baggrundsdata - HICP - deflator'!$C$19='Baggrundsdata - HICP - deflator'!$C$17,'Baggrundsdata - HICP - deflator'!$B69,\"*\"))))))))))),\"*\")","v":0},null,{"$f":"IF(A69='Level 1'!A53,\"sand\",\"falsk\")","v":"sand"},null,null,{"$f":"IF(A69=\"European Union (28 countries)\",\"EU-28\",IF(A69=\"Belgium\",\"Belgien\",IF(A69=\"Denmark\",\"Danmark\",IF(A69=\"Germany (until 1990 former territory of the FRG)\",\"Tyskland\",IF(A69=\"Spain\",\"Spanien\",IF(A69=\"france\",\"Frankrig\",IF(A69=\"italy\",\"Italien\",IF(A69=\"Netherlands\",\"Holland\",IF(A69=\"sweden\",\"Sverige\",IF(A69=\"United kingdom\",\"UK\",IF(A69=\"Norway\",\"Norge\",IF(A69=\"New Country\",\"Nyt land\",0))))))))))))","v":"EU-28"},{"$f":"IFERROR('Baggrundsdata - HICP - deflator'!B69/IF($AC$19=$S$17,$L69,IF($AB$19=$S$17,$K69,IF($AA$19=$S$17,$J69,IF($Z$19=$S$17,$I69,IF($Y$19=$S$17,'Baggrundsdata - HICP - deflator'!$H69,IF($X$19=$S$17,'Baggrundsdata - HICP - deflator'!$G69,IF($S$17=$W$19,'Baggrundsdata - HICP - deflator'!$F69,IF($V$19=$S$17,'Baggrundsdata - HICP - deflator'!$E69,IF($U$19=$S$17,'Baggrundsdata - HICP - deflator'!$D69,IF($T$19=$S$17,'Baggrundsdata - HICP - deflator'!$C69,IF($S$19=$S$17,'Baggrundsdata - HICP - deflator'!$B69,\"*\"))))))))))),\"*\")","v":0.86658665000000012},{"$f":"IFERROR('Baggrundsdata - HICP - deflator'!C69/IF($AC$19=$S$17,$L69,IF($AB$19=$S$17,$K69,IF($AA$19=$S$17,$J69,IF($Z$19=$S$17,$I69,IF($Y$19=$S$17,'Baggrundsdata - HICP - deflator'!$H69,IF($X$19=$S$17,'Baggrundsdata - HICP - deflator'!$G69,IF($S$17=$W$19,'Baggrundsdata - HICP - deflator'!$F69,IF($V$19=$S$17,'Baggrundsdata - HICP - deflator'!$E69,IF($U$19=$S$17,'Baggrundsdata - HICP - deflator'!$D69,IF($T$19=$S$17,'Baggrundsdata - HICP - deflator'!$C69,IF($S$19=$S$17,'Baggrundsdata - HICP - deflator'!$B69,\"*\"))))))))))),\"*\")","v":0.89828982000000002},{"$f":"IFERROR('Baggrundsdata - HICP - deflator'!D69/IF($AC$19=$S$17,$L69,IF($AB$19=$S$17,$K69,IF($AA$19=$S$17,$J69,IF($Z$19=$S$17,$I69,IF($Y$19=$S$17,'Baggrundsdata - HICP - deflator'!$H69,IF($X$19=$S$17,'Baggrundsdata - HICP - deflator'!$G69,IF($S$17=$W$19,'Baggrundsdata - HICP - deflator'!$F69,IF($V$19=$S$17,'Baggrundsdata - HICP - deflator'!$E69,IF($U$19=$S$17,'Baggrundsdata - HICP - deflator'!$D69,IF($T$19=$S$17,'Baggrundsdata - HICP - deflator'!$C69,IF($S$19=$S$17,'Baggrundsdata - HICP - deflator'!$B69,\"*\"))))))))))),\"*\")","v":0.90709070000000003},{"$f":"IFERROR('Baggrundsdata - HICP - deflator'!E69/IF($AC$19=$S$17,$L69,IF($AB$19=$S$17,$K69,IF($AA$19=$S$17,$J69,IF($Z$19=$S$17,$I69,IF($Y$19=$S$17,'Baggrundsdata - HICP - deflator'!$H69,IF($X$19=$S$17,'Baggrundsdata - HICP - deflator'!$G69,IF($S$17=$W$19,'Baggrundsdata - HICP - deflator'!$F69,IF($V$19=$S$17,'Baggrundsdata - HICP - deflator'!$E69,IF($U$19=$S$17,'Baggrundsdata - HICP - deflator'!$D69,IF($T$19=$S$17,'Baggrundsdata - HICP - deflator'!$C69,IF($S$19=$S$17,'Baggrundsdata - HICP - deflator'!$B69,\"*\"))))))))))),\"*\")","v":0.92599259000000012},{"$f":"IFERROR('Baggrundsdata - HICP - deflator'!F69/IF($AC$19=$S$17,$L69,IF($AB$19=$S$17,$K69,IF($AA$19=$S$17,$J69,IF($Z$19=$S$17,$I69,IF($Y$19=$S$17,'Baggrundsdata - HICP - deflator'!$H69,IF($X$19=$S$17,'Baggrundsdata - HICP - deflator'!$G69,IF($S$17=$W$19,'Baggrundsdata - HICP - deflator'!$F69,IF($V$19=$S$17,'Baggrundsdata - HICP - deflator'!$E69,IF($U$19=$S$17,'Baggrundsdata - HICP - deflator'!$D69,IF($T$19=$S$17,'Baggrundsdata - HICP - deflator'!$C69,IF($S$19=$S$17,'Baggrundsdata - HICP - deflator'!$B69,\"*\"))))))))))),\"*\")","v":0.95469545999999994},{"$f":"IFERROR('Baggrundsdata - HICP - deflator'!G69/IF($AC$19=$S$17,$L69,IF($AB$19=$S$17,$K69,IF($AA$19=$S$17,$J69,IF($Z$19=$S$17,$I69,IF($Y$19=$S$17,'Baggrundsdata - HICP - deflator'!$H69,IF($X$19=$S$17,'Baggrundsdata - HICP - deflator'!$G69,IF($S$17=$W$19,'Baggrundsdata - HICP - deflator'!$F69,IF($V$19=$S$17,'Baggrundsdata - HICP - deflator'!$E69,IF($U$19=$S$17,'Baggrundsdata - HICP - deflator'!$D69,IF($T$19=$S$17,'Baggrundsdata - HICP - deflator'!$C69,IF($S$19=$S$17,'Baggrundsdata - HICP - deflator'!$B69,\"*\"))))))))))),\"*\")","v":0.97999798999999999},{"$f":"IFERROR('Baggrundsdata - HICP - deflator'!H69/IF($AC$19=$S$17,$L69,IF($AB$19=$S$17,$K69,IF($AA$19=$S$17,$J69,IF($Z$19=$S$17,$I69,IF($Y$19=$S$17,'Baggrundsdata - HICP - deflator'!$H69,IF($X$19=$S$17,'Baggrundsdata - HICP - deflator'!$G69,IF($S$17=$W$19,'Baggrundsdata - HICP - deflator'!$F69,IF($V$19=$S$17,'Baggrundsdata - HICP - deflator'!$E69,IF($U$19=$S$17,'Baggrundsdata - HICP - deflator'!$D69,IF($T$19=$S$17,'Baggrundsdata - HICP - deflator'!$C69,IF($S$19=$S$17,'Baggrundsdata - HICP - deflator'!$B69,\"*\"))))))))))),\"*\")","v":0.99479947000000002},{"$f":"IFERROR('Baggrundsdata - HICP - deflator'!I69/IF($AC$19=$S$17,$L69,IF($AB$19=$S$17,$K69,IF($AA$19=$S$17,$J69,IF($Z$19=$S$17,$I69,IF($Y$19=$S$17,'Baggrundsdata - HICP - deflator'!$H69,IF($X$19=$S$17,'Baggrundsdata - HICP - deflator'!$G69,IF($S$17=$W$19,'Baggrundsdata - HICP - deflator'!$F69,IF($V$19=$S$17,'Baggrundsdata - HICP - deflator'!$E69,IF($U$19=$S$17,'Baggrundsdata - HICP - deflator'!$D69,IF($T$19=$S$17,'Baggrundsdata - HICP - deflator'!$C69,IF($S$19=$S$17,'Baggrundsdata - HICP - deflator'!$B69,\"*\"))))))))))),\"*\")","v":1.0002000100000001},{"$f":"IFERROR('Baggrundsdata - HICP - deflator'!J69/IF($AC$19=$S$17,$L69,IF($AB$19=$S$17,$K69,IF($AA$19=$S$17,$J69,IF($Z$19=$S$17,$I69,IF($Y$19=$S$17,'Baggrundsdata - HICP - deflator'!$H69,IF($X$19=$S$17,'Baggrundsdata - HICP - deflator'!$G69,IF($S$17=$W$19,'Baggrundsdata - HICP - deflator'!$F69,IF($V$19=$S$17,'Baggrundsdata - HICP - deflator'!$E69,IF($U$19=$S$17,'Baggrundsdata - HICP - deflator'!$D69,IF($T$19=$S$17,'Baggrundsdata - HICP - deflator'!$C69,IF($S$19=$S$17,'Baggrundsdata - HICP - deflator'!$B69,\"*\"))))))))))),\"*\")","v":1.0001},{"$f":"IFERROR('Baggrundsdata - HICP - deflator'!K69/IF($AC$19=$S$17,$L69,IF($AB$19=$S$17,$K69,IF($AA$19=$S$17,$J69,IF($Z$19=$S$17,$I69,IF($Y$19=$S$17,'Baggrundsdata - HICP - deflator'!$H69,IF($X$19=$S$17,'Baggrundsdata - HICP - deflator'!$G69,IF($S$17=$W$19,'Baggrundsdata - HICP - deflator'!$F69,IF($V$19=$S$17,'Baggrundsdata - HICP - deflator'!$E69,IF($U$19=$S$17,'Baggrundsdata - HICP - deflator'!$D69,IF($T$19=$S$17,'Baggrundsdata - HICP - deflator'!$C69,IF($S$19=$S$17,'Baggrundsdata - HICP - deflator'!$B69,\"*\"))))))))))),\"*\")","v":1},{"$f":"IFERROR('Baggrundsdata - HICP - deflator'!L69/IF($AC$19=$S$17,$L69,IF($AB$19=$S$17,$K69,IF($AA$19=$S$17,$J69,IF($Z$19=$S$17,$I69,IF($Y$19=$S$17,'Baggrundsdata - HICP - deflator'!$H69,IF($X$19=$S$17,'Baggrundsdata - HICP - deflator'!$G69,IF($S$17=$W$19,'Baggrundsdata - HICP - deflator'!$F69,IF($V$19=$S$17,'Baggrundsdata - HICP - deflator'!$E69,IF($U$19=$S$17,'Baggrundsdata - HICP - deflator'!$D69,IF($T$19=$S$17,'Baggrundsdata - HICP - deflator'!$C69,IF($S$19=$S$17,'Baggrundsdata - HICP - deflator'!$B69,\"*\"))))))))))),\"*\")","v":0},null,{"$f":"IF(R20=Forside!B37,\"sand\",\"falsk\")","v":"sand"}]
[null,"Belgien",{"$f":"IFERROR('Baggrundsdata - HICP - deflator'!B70/IF($M$19=$C$17,$L70,IF($L$19=$C$17,$K70,IF($K$19=$C$17,$J70,IF($J$19=$C$17,$I70,IF($I$19=$C$17,'Baggrundsdata - HICP - deflator'!$H70,IF($H$19=$C$17,'Baggrundsdata - HICP - deflator'!$G70,IF($C$17=$G$19,'Baggrundsdata - HICP - deflator'!$F70,IF($F$19=$C$17,'Baggrundsdata - HICP - deflator'!$E70,IF($E$19=$C$17,'Baggrundsdata - HICP - deflator'!$D70,IF($D$19=$C$17,'Baggrundsdata - HICP - deflator'!$C70,IF('Baggrundsdata - HICP - deflator'!$C$19='Baggrundsdata - HICP - deflator'!$C$17,'Baggrundsdata - HICP - deflator'!$B70,\"*\"))))))))))),\"*\")","v":0.85595993999999986},{"$f":"IFERROR('Baggrundsdata - HICP - deflator'!C70/IF($M$19=$C$17,$L70,IF($L$19=$C$17,$K70,IF($K$19=$C$17,$J70,IF($J$19=$C$17,$I70,IF($I$19=$C$17,'Baggrundsdata - HICP - deflator'!$H70,IF($H$19=$C$17,'Baggrundsdata - HICP - deflator'!$G70,IF($C$17=$G$19,'Baggrundsdata - HICP - deflator'!$F70,IF($F$19=$C$17,'Baggrundsdata - HICP - deflator'!$E70,IF($E$19=$C$17,'Baggrundsdata - HICP - deflator'!$D70,IF($D$19=$C$17,'Baggrundsdata - HICP - deflator'!$C70,IF('Baggrundsdata - HICP - deflator'!$C$19='Baggrundsdata - HICP - deflator'!$C$17,'Baggrundsdata - HICP - deflator'!$B70,\"*\"))))))))))),\"*\")","v":0.89441999999999988},{"$f":"IFERROR('Baggrundsdata - HICP - deflator'!D70/IF($M$19=$C$17,$L70,IF($L$19=$C$17,$K70,IF($K$19=$C$17,$J70,IF($J$19=$C$17,$I70,IF($I$19=$C$17,'Baggrundsdata - HICP - deflator'!$H70,IF($H$19=$C$17,'Baggrundsdata - HICP - deflator'!$G70,IF($C$17=$G$19,'Baggrundsdata - HICP - deflator'!$F70,IF($F$19=$C$17,'Baggrundsdata - HICP - deflator'!$E70,IF($E$19=$C$17,'Baggrundsdata - HICP - deflator'!$D70,IF($D$19=$C$17,'Baggrundsdata - HICP - deflator'!$C70,IF('Baggrundsdata - HICP - deflator'!$C$19='Baggrundsdata - HICP - deflator'!$C$17,'Baggrundsdata - HICP - deflator'!$B70,\"*\"))))))))))),\"*\")","v":0.8943206199999999},{"$f":"IFERROR('Baggrundsdata - HICP - deflator'!E70/IF($M$19=$C$17,$L70,IF($L$19=$C$17,$K70,IF($K$19=$C$17,$J70,IF($J$19=$C$17,$I70,IF($I$19=$C$17,'Baggrundsdata - HICP - deflator'!$H70,IF($H$19=$C$17,'Baggrundsdata - HICP - deflator'!$G70,IF($C$17=$G$19,'Baggrundsdata - HICP - deflator'!$F70,IF($F$19=$C$17,'Baggrundsdata - HICP - deflator'!$E70,IF($E$19=$C$17,'Baggrundsdata - HICP - deflator'!$D70,IF($D$19=$C$17,'Baggrundsdata - HICP - deflator'!$C70,IF('Baggrundsdata - HICP - deflator'!$C$19='Baggrundsdata - HICP - deflator'!$C$17,'Baggrundsdata - HICP - deflator'!$B70,\"*\"))))))))))),\"*\")","v":0.91519041999999995},{"$f":"IFERROR('Baggrundsdata - HICP - deflator'!F70/IF($M$19=$C$17,$L70,IF($L$19=$C$17,$K70,IF($K$19=$C$17,$J70,IF($J$19=$C$17,$I70,IF($I$19=$C$17,'Baggrundsdata - HICP - deflator'!$H70,IF($H$19=$C$17,'Baggrundsdata - HICP - deflator'!$G70,IF($C$17=$G$19,'Baggrundsdata - HICP - deflator'!$F70,IF($F$19=$C$17,'Baggrundsdata - HICP - deflator'!$E70,IF($E$19=$C$17,'Baggrundsdata - HICP - deflator'!$D70,IF($D$19=$C$17,'Baggrundsdata - HICP - deflator'!$C70,IF('Baggrundsdata - HICP - deflator'!$C$19='Baggrundsdata - HICP - deflator'!$C$17,'Baggrundsdata - HICP - deflator'!$B70,\"*\"))))))))))),\"*\")","v":0.94589884000000002},{"$f":"IFERROR('Baggrundsdata - HICP - deflator'!G70/IF($M$19=$C$17,$L70,IF($L$19=$C$17,$K70,IF($K$19=$C$17,$J70,IF($J$19=$C$17,$I70,IF($I$19=$C$17,'Baggrundsdata - HICP - deflator'!$H70,IF($H$19=$C$17,'Baggrundsdata - HICP - deflator'!$G70,IF($C$17=$G$19,'Baggrundsdata - HICP - deflator'!$F70,IF($F$19=$C$17,'Baggrundsdata - HICP - deflator'!$E70,IF($E$19=$C$17,'Baggrundsdata - HICP - deflator'!$D70,IF($D$19=$C$17,'Baggrundsdata - HICP - deflator'!$C70,IF('Baggrundsdata - HICP - deflator'!$C$19='Baggrundsdata - HICP - deflator'!$C$17,'Baggrundsdata - HICP - deflator'!$B70,\"*\"))))))))))),\"*\")","v":0.97074383999999991},{"$f":"IFERROR('Baggrundsdata - HICP - deflator'!H70/IF($M$19=$C$17,$L70,IF($L$19=$C$17,$K70,IF($K$19=$C$17,$J70,IF($J$19=$C$17,$I70,IF($I$19=$C$17,'Baggrundsdata - HICP - deflator'!$H70,IF($H$19=$C$17,'Baggrundsdata - HICP - deflator'!$G70,IF($C$17=$G$19,'Baggrundsdata - HICP - deflator'!$F70,IF($F$19=$C$17,'Baggrundsdata - HICP - deflator'!$E70,IF($E$19=$C$17,'Baggrundsdata - HICP - deflator'!$D70,IF($D$19=$C$17,'Baggrundsdata - HICP - deflator'!$C70,IF('Baggrundsdata - HICP - deflator'!$C$19='Baggrundsdata - HICP - deflator'!$C$17,'Baggrundsdata - HICP - deflator'!$B70,\"*\"))))))))))),\"*\")","v":0.98286819999999997},{"$f":"IFERROR('Baggrundsdata - HICP - deflator'!I70/IF($M$19=$C$17,$L70,IF($L$19=$C$17,$K70,IF($K$19=$C$17,$J70,IF($J$19=$C$17,$I70,IF($I$19=$C$17,'Baggrundsdata - HICP - deflator'!$H70,IF($H$19=$C$17,'Baggrundsdata - HICP - deflator'!$G70,IF($C$17=$G$19,'Baggrundsdata - HICP - deflator'!$F70,IF($F$19=$C$17,'Baggrundsdata - HICP - deflator'!$E70,IF($E$19=$C$17,'Baggrundsdata - HICP - deflator'!$D70,IF($D$19=$C$17,'Baggrundsdata - HICP - deflator'!$C70,IF('Baggrundsdata - HICP - deflator'!$C$19='Baggrundsdata - HICP - deflator'!$C$17,'Baggrundsdata - HICP - deflator'!$B70,\"*\"))))))))))),\"*\")","v":0.9876384399999999},{"$f":"IFERROR('Baggrundsdata - HICP - deflator'!J70/IF($M$19=$C$17,$L70,IF($L$19=$C$17,$K70,IF($K$19=$C$17,$J70,IF($J$19=$C$17,$I70,IF($I$19=$C$17,'Baggrundsdata - HICP - deflator'!$H70,IF($H$19=$C$17,'Baggrundsdata - HICP - deflator'!$G70,IF($C$17=$G$19,'Baggrundsdata - HICP - deflator'!$F70,IF($F$19=$C$17,'Baggrundsdata - HICP - deflator'!$E70,IF($E$19=$C$17,'Baggrundsdata - HICP - deflator'!$D70,IF($D$19=$C$17,'Baggrundsdata - HICP - deflator'!$C70,IF('Baggrundsdata - HICP - deflator'!$C$19='Baggrundsdata - HICP - deflator'!$C$17,'Baggrundsdata - HICP - deflator'!$B70,\"*\"))))))))))),\"*\")","v":0.99379999999999991},{"$f":"IFERROR('Baggrundsdata - HICP - deflator'!K70/IF($M$19=$C$17,$L70,IF($L$19=$C$17,$K70,IF($K$19=$C$17,$J70,IF($J$19=$C$17,$I70,IF($I$19=$C$17,'Baggrundsdata - HICP - deflator'!$H70,IF($H$19=$C$17,'Baggrundsdata - HICP - deflator'!$G70,IF($C$17=$G$19,'Baggrundsdata - HICP - deflator'!$F70,IF($F$19=$C$17,'Baggrundsdata - HICP - deflator'!$E70,IF($E$19=$C$17,'Baggrundsdata - HICP - deflator'!$D70,IF($D$19=$C$17,'Baggrundsdata - HICP - deflator'!$C70,IF('Baggrundsdata - HICP - deflator'!$C$19='Baggrundsdata - HICP - deflator'!$C$17,'Baggrundsdata - HICP - deflator'!$B70,\"*\"))))))))))),\"*\")","v":1},{"$f":"IFERROR('Baggrundsdata - HICP - deflator'!L70/IF($M$19=$C$17,$L70,IF($L$19=$C$17,$K70,IF($K$19=$C$17,$J70,IF($J$19=$C$17,$I70,IF($I$19=$C$17,'Baggrundsdata - HICP - deflator'!$H70,IF($H$19=$C$17,'Baggrundsdata - HICP - deflator'!$G70,IF($C$17=$G$19,'Baggrundsdata - HICP - deflator'!$F70,IF($F$19=$C$17,'Baggrundsdata - HICP - deflator'!$E70,IF($E$19=$C$17,'Baggrundsdata - HICP - deflator'!$D70,IF($D$19=$C$17,'Baggrundsdata - HICP - deflator'!$C70,IF('Baggrundsdata - HICP - deflator'!$C$19='Baggrundsdata - HICP - deflator'!$C$17,'Baggrundsdata - HICP - deflator'!$B70,\"*\"))))))))))),\"*\")","v":0},null,{"$f":"IF(A70='Level 1'!A54,\"sand\",\"falsk\")","v":"sand"},null,null,{"$f":"IF(A70=\"European Union (28 countries)\",\"EU-28\",IF(A70=\"Belgium\",\"Belgien\",IF(A70=\"Denmark\",\"Danmark\",IF(A70=\"Germany (until 1990 former territory of the FRG)\",\"Tyskland\",IF(A70=\"Spain\",\"Spanien\",IF(A70=\"france\",\"Frankrig\",IF(A70=\"italy\",\"Italien\",IF(A70=\"Netherlands\",\"Holland\",IF(A70=\"sweden\",\"Sverige\",IF(A70=\"United kingdom\",\"UK\",IF(A70=\"Norway\",\"Norge\",IF(A70=\"New Country\",\"Nyt land\",0))))))))))))","v":"Belgien"},{"$f":"IFERROR('Baggrundsdata - HICP - deflator'!B70/IF($AC$19=$S$17,$L70,IF($AB$19=$S$17,$K70,IF($AA$19=$S$17,$J70,IF($Z$19=$S$17,$I70,IF($Y$19=$S$17,'Baggrundsdata - HICP - deflator'!$H70,IF($X$19=$S$17,'Baggrundsdata - HICP - deflator'!$G70,IF($S$17=$W$19,'Baggrundsdata - HICP - deflator'!$F70,IF($V$19=$S$17,'Baggrundsdata - HICP - deflator'!$E70,IF($U$19=$S$17,'Baggrundsdata - HICP - deflator'!$D70,IF($T$19=$S$17,'Baggrundsdata - HICP - deflator'!$C70,IF($S$19=$S$17,'Baggrundsdata - HICP - deflator'!$B70,\"*\"))))))))))),\"*\")","v":0.85595993999999986},{"$f":"IFERROR('Baggrundsdata - HICP - deflator'!C70/IF($AC$19=$S$17,$L70,IF($AB$19=$S$17,$K70,IF($AA$19=$S$17,$J70,IF($Z$19=$S$17,$I70,IF($Y$19=$S$17,'Baggrundsdata - HICP - deflator'!$H70,IF($X$19=$S$17,'Baggrundsdata - HICP - deflator'!$G70,IF($S$17=$W$19,'Baggrundsdata - HICP - deflator'!$F70,IF($V$19=$S$17,'Baggrundsdata - HICP - deflator'!$E70,IF($U$19=$S$17,'Baggrundsdata - HICP - deflator'!$D70,IF($T$19=$S$17,'Baggrundsdata - HICP - deflator'!$C70,IF($S$19=$S$17,'Baggrundsdata - HICP - deflator'!$B70,\"*\"))))))))))),\"*\")","v":0.89441999999999988},{"$f":"IFERROR('Baggrundsdata - HICP - deflator'!D70/IF($AC$19=$S$17,$L70,IF($AB$19=$S$17,$K70,IF($AA$19=$S$17,$J70,IF($Z$19=$S$17,$I70,IF($Y$19=$S$17,'Baggrundsdata - HICP - deflator'!$H70,IF($X$19=$S$17,'Baggrundsdata - HICP - deflator'!$G70,IF($S$17=$W$19,'Baggrundsdata - HICP - deflator'!$F70,IF($V$19=$S$17,'Baggrundsdata - HICP - deflator'!$E70,IF($U$19=$S$17,'Baggrundsdata - HICP - deflator'!$D70,IF($T$19=$S$17,'Baggrundsdata - HICP - deflator'!$C70,IF($S$19=$S$17,'Baggrundsdata - HICP - deflator'!$B70,\"*\"))))))))))),\"*\")","v":0.8943206199999999},{"$f":"IFERROR('Baggrundsdata - HICP - deflator'!E70/IF($AC$19=$S$17,$L70,IF($AB$19=$S$17,$K70,IF($AA$19=$S$17,$J70,IF($Z$19=$S$17,$I70,IF($Y$19=$S$17,'Baggrundsdata - HICP - deflator'!$H70,IF($X$19=$S$17,'Baggrundsdata - HICP - deflator'!$G70,IF($S$17=$W$19,'Baggrundsdata - HICP - deflator'!$F70,IF($V$19=$S$17,'Baggrundsdata - HICP - deflator'!$E70,IF($U$19=$S$17,'Baggrundsdata - HICP - deflator'!$D70,IF($T$19=$S$17,'Baggrundsdata - HICP - deflator'!$C70,IF($S$19=$S$17,'Baggrundsdata - HICP - deflator'!$B70,\"*\"))))))))))),\"*\")","v":0.91519041999999995},{"$f":"IFERROR('Baggrundsdata - HICP - deflator'!F70/IF($AC$19=$S$17,$L70,IF($AB$19=$S$17,$K70,IF($AA$19=$S$17,$J70,IF($Z$19=$S$17,$I70,IF($Y$19=$S$17,'Baggrundsdata - HICP - deflator'!$H70,IF($X$19=$S$17,'Baggrundsdata - HICP - deflator'!$G70,IF($S$17=$W$19,'Baggrundsdata - HICP - deflator'!$F70,IF($V$19=$S$17,'Baggrundsdata - HICP - deflator'!$E70,IF($U$19=$S$17,'Baggrundsdata - HICP - deflator'!$D70,IF($T$19=$S$17,'Baggrundsdata - HICP - deflator'!$C70,IF($S$19=$S$17,'Baggrundsdata - HICP - deflator'!$B70,\"*\"))))))))))),\"*\")","v":0.94589884000000002},{"$f":"IFERROR('Baggrundsdata - HICP - deflator'!G70/IF($AC$19=$S$17,$L70,IF($AB$19=$S$17,$K70,IF($AA$19=$S$17,$J70,IF($Z$19=$S$17,$I70,IF($Y$19=$S$17,'Baggrundsdata - HICP - deflator'!$H70,IF($X$19=$S$17,'Baggrundsdata - HICP - deflator'!$G70,IF($S$17=$W$19,'Baggrundsdata - HICP - deflator'!$F70,IF($V$19=$S$17,'Baggrundsdata - HICP - deflator'!$E70,IF($U$19=$S$17,'Baggrundsdata - HICP - deflator'!$D70,IF($T$19=$S$17,'Baggrundsdata - HICP - deflator'!$C70,IF($S$19=$S$17,'Baggrundsdata - HICP - deflator'!$B70,\"*\"))))))))))),\"*\")","v":0.97074383999999991},{"$f":"IFERROR('Baggrundsdata - HICP - deflator'!H70/IF($AC$19=$S$17,$L70,IF($AB$19=$S$17,$K70,IF($AA$19=$S$17,$J70,IF($Z$19=$S$17,$I70,IF($Y$19=$S$17,'Baggrundsdata - HICP - deflator'!$H70,IF($X$19=$S$17,'Baggrundsdata - HICP - deflator'!$G70,IF($S$17=$W$19,'Baggrundsdata - HICP - deflator'!$F70,IF($V$19=$S$17,'Baggrundsdata - HICP - deflator'!$E70,IF($U$19=$S$17,'Baggrundsdata - HICP - deflator'!$D70,IF($T$19=$S$17,'Baggrundsdata - HICP - deflator'!$C70,IF($S$19=$S$17,'Baggrundsdata - HICP - deflator'!$B70,\"*\"))))))))))),\"*\")","v":0.98286819999999997},{"$f":"IFERROR('Baggrundsdata - HICP - deflator'!I70/IF($AC$19=$S$17,$L70,IF($AB$19=$S$17,$K70,IF($AA$19=$S$17,$J70,IF($Z$19=$S$17,$I70,IF($Y$19=$S$17,'Baggrundsdata - HICP - deflator'!$H70,IF($X$19=$S$17,'Baggrundsdata - HICP - deflator'!$G70,IF($S$17=$W$19,'Baggrundsdata - HICP - deflator'!$F70,IF($V$19=$S$17,'Baggrundsdata - HICP - deflator'!$E70,IF($U$19=$S$17,'Baggrundsdata - HICP - deflator'!$D70,IF($T$19=$S$17,'Baggrundsdata - HICP - deflator'!$C70,IF($S$19=$S$17,'Baggrundsdata - HICP - deflator'!$B70,\"*\"))))))))))),\"*\")","v":0.9876384399999999},{"$f":"IFERROR('Baggrundsdata - HICP - deflator'!J70/IF($AC$19=$S$17,$L70,IF($AB$19=$S$17,$K70,IF($AA$19=$S$17,$J70,IF($Z$19=$S$17,$I70,IF($Y$19=$S$17,'Baggrundsdata - HICP - deflator'!$H70,IF($X$19=$S$17,'Baggrundsdata - HICP - deflator'!$G70,IF($S$17=$W$19,'Baggrundsdata - HICP - deflator'!$F70,IF($V$19=$S$17,'Baggrundsdata - HICP - deflator'!$E70,IF($U$19=$S$17,'Baggrundsdata - HICP - deflator'!$D70,IF($T$19=$S$17,'Baggrundsdata - HICP - deflator'!$C70,IF($S$19=$S$17,'Baggrundsdata - HICP - deflator'!$B70,\"*\"))))))))))),\"*\")","v":0.99379999999999991},{"$f":"IFERROR('Baggrundsdata - HICP - deflator'!K70/IF($AC$19=$S$17,$L70,IF($AB$19=$S$17,$K70,IF($AA$19=$S$17,$J70,IF($Z$19=$S$17,$I70,IF($Y$19=$S$17,'Baggrundsdata - HICP - deflator'!$H70,IF($X$19=$S$17,'Baggrundsdata - HICP - deflator'!$G70,IF($S$17=$W$19,'Baggrundsdata - HICP - deflator'!$F70,IF($V$19=$S$17,'Baggrundsdata - HICP - deflator'!$E70,IF($U$19=$S$17,'Baggrundsdata - HICP - deflator'!$D70,IF($T$19=$S$17,'Baggrundsdata - HICP - deflator'!$C70,IF($S$19=$S$17,'Baggrundsdata - HICP - deflator'!$B70,\"*\"))))))))))),\"*\")","v":1},{"$f":"IFERROR('Baggrundsdata - HICP - deflator'!L70/IF($AC$19=$S$17,$L70,IF($AB$19=$S$17,$K70,IF($AA$19=$S$17,$J70,IF($Z$19=$S$17,$I70,IF($Y$19=$S$17,'Baggrundsdata - HICP - deflator'!$H70,IF($X$19=$S$17,'Baggrundsdata - HICP - deflator'!$G70,IF($S$17=$W$19,'Baggrundsdata - HICP - deflator'!$F70,IF($V$19=$S$17,'Baggrundsdata - HICP - deflator'!$E70,IF($U$19=$S$17,'Baggrundsdata - HICP - deflator'!$D70,IF($T$19=$S$17,'Baggrundsdata - HICP - deflator'!$C70,IF($S$19=$S$17,'Baggrundsdata - HICP - deflator'!$B70,\"*\"))))))))))),\"*\")","v":0},null,{"$f":"IF(R21=Forside!B38,\"sand\",\"falsk\")","v":"sand"}]
[null,"Bulgarien",{"$f":"IFERROR('Baggrundsdata - HICP - deflator'!B71/IF($M$19=$C$17,$L71,IF($L$19=$C$17,$K71,IF($K$19=$C$17,$J71,IF($J$19=$C$17,$I71,IF($I$19=$C$17,'Baggrundsdata - HICP - deflator'!$H71,IF($H$19=$C$17,'Baggrundsdata - HICP - deflator'!$G71,IF($C$17=$G$19,'Baggrundsdata - HICP - deflator'!$F71,IF($F$19=$C$17,'Baggrundsdata - HICP - deflator'!$E71,IF($E$19=$C$17,'Baggrundsdata - HICP - deflator'!$D71,IF($D$19=$C$17,'Baggrundsdata - HICP - deflator'!$C71,IF('Baggrundsdata - HICP - deflator'!$C$19='Baggrundsdata - HICP - deflator'!$C$17,'Baggrundsdata - HICP - deflator'!$B71,\"*\"))))))))))),\"*\")","v":0.82663224000000002},{"$f":"IFERROR('Baggrundsdata - HICP - deflator'!C71/IF($M$19=$C$17,$L71,IF($L$19=$C$17,$K71,IF($K$19=$C$17,$J71,IF($J$19=$C$17,$I71,IF($I$19=$C$17,'Baggrundsdata - HICP - deflator'!$H71,IF($H$19=$C$17,'Baggrundsdata - HICP - deflator'!$G71,IF($C$17=$G$19,'Baggrundsdata - HICP - deflator'!$F71,IF($F$19=$C$17,'Baggrundsdata - HICP - deflator'!$E71,IF($E$19=$C$17,'Baggrundsdata - HICP - deflator'!$D71,IF($D$19=$C$17,'Baggrundsdata - HICP - deflator'!$C71,IF('Baggrundsdata - HICP - deflator'!$C$19='Baggrundsdata - HICP - deflator'!$C$17,'Baggrundsdata - HICP - deflator'!$B71,\"*\"))))))))))),\"*\")","v":0.92538739999999997},{"$f":"IFERROR('Baggrundsdata - HICP - deflator'!D71/IF($M$19=$C$17,$L71,IF($L$19=$C$17,$K71,IF($K$19=$C$17,$J71,IF($J$19=$C$17,$I71,IF($I$19=$C$17,'Baggrundsdata - HICP - deflator'!$H71,IF($H$19=$C$17,'Baggrundsdata - HICP - deflator'!$G71,IF($C$17=$G$19,'Baggrundsdata - HICP - deflator'!$F71,IF($F$19=$C$17,'Baggrundsdata - HICP - deflator'!$E71,IF($E$19=$C$17,'Baggrundsdata - HICP - deflator'!$D71,IF($D$19=$C$17,'Baggrundsdata - HICP - deflator'!$C71,IF('Baggrundsdata - HICP - deflator'!$C$19='Baggrundsdata - HICP - deflator'!$C$17,'Baggrundsdata - HICP - deflator'!$B71,\"*\"))))))))))),\"*\")","v":0.94823148000000002},{"$f":"IFERROR('Baggrundsdata - HICP - deflator'!E71/IF($M$19=$C$17,$L71,IF($L$19=$C$17,$K71,IF($K$19=$C$17,$J71,IF($J$19=$C$17,$I71,IF($I$19=$C$17,'Baggrundsdata - HICP - deflator'!$H71,IF($H$19=$C$17,'Baggrundsdata - HICP - deflator'!$G71,IF($C$17=$G$19,'Baggrundsdata - HICP - deflator'!$F71,IF($F$19=$C$17,'Baggrundsdata - HICP - deflator'!$E71,IF($E$19=$C$17,'Baggrundsdata - HICP - deflator'!$D71,IF($D$19=$C$17,'Baggrundsdata - HICP - deflator'!$C71,IF('Baggrundsdata - HICP - deflator'!$C$19='Baggrundsdata - HICP - deflator'!$C$17,'Baggrundsdata - HICP - deflator'!$B71,\"*\"))))))))))),\"*\")","v":0.97703927999999995},{"$f":"IFERROR('Baggrundsdata - HICP - deflator'!F71/IF($M$19=$C$17,$L71,IF($L$19=$C$17,$K71,IF($K$19=$C$17,$J71,IF($J$19=$C$17,$I71,IF($I$19=$C$17,'Baggrundsdata - HICP - deflator'!$H71,IF($H$19=$C$17,'Baggrundsdata - HICP - deflator'!$G71,IF($C$17=$G$19,'Baggrundsdata - HICP - deflator'!$F71,IF($F$19=$C$17,'Baggrundsdata - HICP - deflator'!$E71,IF($E$19=$C$17,'Baggrundsdata - HICP - deflator'!$D71,IF($D$19=$C$17,'Baggrundsdata - HICP - deflator'!$C71,IF('Baggrundsdata - HICP - deflator'!$C$19='Baggrundsdata - HICP - deflator'!$C$17,'Baggrundsdata - HICP - deflator'!$B71,\"*\"))))))))))),\"*\")","v":1.0101935199999998},{"$f":"IFERROR('Baggrundsdata - HICP - deflator'!G71/IF($M$19=$C$17,$L71,IF($L$19=$C$17,$K71,IF($K$19=$C$17,$J71,IF($J$19=$C$17,$I71,IF($I$19=$C$17,'Baggrundsdata - HICP - deflator'!$H71,IF($H$19=$C$17,'Baggrundsdata - HICP - deflator'!$G71,IF($C$17=$G$19,'Baggrundsdata - HICP - deflator'!$F71,IF($F$19=$C$17,'Baggrundsdata - HICP - deflator'!$E71,IF($E$19=$C$17,'Baggrundsdata - HICP - deflator'!$D71,IF($D$19=$C$17,'Baggrundsdata - HICP - deflator'!$C71,IF('Baggrundsdata - HICP - deflator'!$C$19='Baggrundsdata - HICP - deflator'!$C$17,'Baggrundsdata - HICP - deflator'!$B71,\"*\"))))))))))),\"*\")","v":1.0343516399999999},{"$f":"IFERROR('Baggrundsdata - HICP - deflator'!H71/IF($M$19=$C$17,$L71,IF($L$19=$C$17,$K71,IF($K$19=$C$17,$J71,IF($J$19=$C$17,$I71,IF($I$19=$C$17,'Baggrundsdata - HICP - deflator'!$H71,IF($H$19=$C$17,'Baggrundsdata - HICP - deflator'!$G71,IF($C$17=$G$19,'Baggrundsdata - HICP - deflator'!$F71,IF($F$19=$C$17,'Baggrundsdata - HICP - deflator'!$E71,IF($E$19=$C$17,'Baggrundsdata - HICP - deflator'!$D71,IF($D$19=$C$17,'Baggrundsdata - HICP - deflator'!$C71,IF('Baggrundsdata - HICP - deflator'!$C$19='Baggrundsdata - HICP - deflator'!$C$17,'Baggrundsdata - HICP - deflator'!$B71,\"*\"))))))))))),\"*\")","v":1.03829376},{"$f":"IFERROR('Baggrundsdata - HICP - deflator'!I71/IF($M$19=$C$17,$L71,IF($L$19=$C$17,$K71,IF($K$19=$C$17,$J71,IF($J$19=$C$17,$I71,IF($I$19=$C$17,'Baggrundsdata - HICP - deflator'!$H71,IF($H$19=$C$17,'Baggrundsdata - HICP - deflator'!$G71,IF($C$17=$G$19,'Baggrundsdata - HICP - deflator'!$F71,IF($F$19=$C$17,'Baggrundsdata - HICP - deflator'!$E71,IF($E$19=$C$17,'Baggrundsdata - HICP - deflator'!$D71,IF($D$19=$C$17,'Baggrundsdata - HICP - deflator'!$C71,IF('Baggrundsdata - HICP - deflator'!$C$19='Baggrundsdata - HICP - deflator'!$C$17,'Baggrundsdata - HICP - deflator'!$B71,\"*\"))))))))))),\"*\")","v":1.02171664},{"$f":"IFERROR('Baggrundsdata - HICP - deflator'!J71/IF($M$19=$C$17,$L71,IF($L$19=$C$17,$K71,IF($K$19=$C$17,$J71,IF($J$19=$C$17,$I71,IF($I$19=$C$17,'Baggrundsdata - HICP - deflator'!$H71,IF($H$19=$C$17,'Baggrundsdata - HICP - deflator'!$G71,IF($C$17=$G$19,'Baggrundsdata - HICP - deflator'!$F71,IF($F$19=$C$17,'Baggrundsdata - HICP - deflator'!$E71,IF($E$19=$C$17,'Baggrundsdata - HICP - deflator'!$D71,IF($D$19=$C$17,'Baggrundsdata - HICP - deflator'!$C71,IF('Baggrundsdata - HICP - deflator'!$C$19='Baggrundsdata - HICP - deflator'!$C$17,'Baggrundsdata - HICP - deflator'!$B71,\"*\"))))))))))),\"*\")","v":1.0107999999999999},{"$f":"IFERROR('Baggrundsdata - HICP - deflator'!K71/IF($M$19=$C$17,$L71,IF($L$19=$C$17,$K71,IF($K$19=$C$17,$J71,IF($J$19=$C$17,$I71,IF($I$19=$C$17,'Baggrundsdata - HICP - deflator'!$H71,IF($H$19=$C$17,'Baggrundsdata - HICP - deflator'!$G71,IF($C$17=$G$19,'Baggrundsdata - HICP - deflator'!$F71,IF($F$19=$C$17,'Baggrundsdata - HICP - deflator'!$E71,IF($E$19=$C$17,'Baggrundsdata - HICP - deflator'!$D71,IF($D$19=$C$17,'Baggrundsdata - HICP - deflator'!$C71,IF('Baggrundsdata - HICP - deflator'!$C$19='Baggrundsdata - HICP - deflator'!$C$17,'Baggrundsdata - HICP - deflator'!$B71,\"*\"))))))))))),\"*\")","v":1},{"$f":"IFERROR('Baggrundsdata - HICP - deflator'!L71/IF($M$19=$C$17,$L71,IF($L$19=$C$17,$K71,IF($K$19=$C$17,$J71,IF($J$19=$C$17,$I71,IF($I$19=$C$17,'Baggrundsdata - HICP - deflator'!$H71,IF($H$19=$C$17,'Baggrundsdata - HICP - deflator'!$G71,IF($C$17=$G$19,'Baggrundsdata - HICP - deflator'!$F71,IF($F$19=$C$17,'Baggrundsdata - HICP - deflator'!$E71,IF($E$19=$C$17,'Baggrundsdata - HICP - deflator'!$D71,IF($D$19=$C$17,'Baggrundsdata - HICP - deflator'!$C71,IF('Baggrundsdata - HICP - deflator'!$C$19='Baggrundsdata - HICP - deflator'!$C$17,'Baggrundsdata - HICP - deflator'!$B71,\"*\"))))))))))),\"*\")","v":0},null,{"$f":"IF(A71='Level 1'!A55,\"sand\",\"falsk\")","v":"sand"},null,null,{"$f":"IF(A73=\"European Union (28 countries)\",\"EU-28\",IF(A73=\"Belgium\",\"Belgien\",IF(A73=\"Denmark\",\"Danmark\",IF(A73=\"Germany (until 1990 former territory of the FRG)\",\"Tyskland\",IF(A73=\"Spain\",\"Spanien\",IF(A73=\"france\",\"Frankrig\",IF(A73=\"italy\",\"Italien\",IF(A73=\"Netherlands\",\"Holland\",IF(A73=\"sweden\",\"Sverige\",IF(A73=\"United kingdom\",\"UK\",IF(A73=\"Norway\",\"Norge\",IF(A73=\"New Country\",\"Nyt land\",0))))))))))))","v":"Danmark"},{"$f":"IFERROR('Baggrundsdata - HICP - deflator'!B73/IF($AC$19=$S$17,$L73,IF($AB$19=$S$17,$K73,IF($AA$19=$S$17,$J73,IF($Z$19=$S$17,$I73,IF($Y$19=$S$17,'Baggrundsdata - HICP - deflator'!$H73,IF($X$19=$S$17,'Baggrundsdata - HICP - deflator'!$G73,IF($S$17=$W$19,'Baggrundsdata - HICP - deflator'!$F73,IF($V$19=$S$17,'Baggrundsdata - HICP - deflator'!$E73,IF($U$19=$S$17,'Baggrundsdata - HICP - deflator'!$D73,IF($T$19=$S$17,'Baggrundsdata - HICP - deflator'!$C73,IF($S$19=$S$17,'Baggrundsdata - HICP - deflator'!$B73,\"*\"))))))))))),\"*\")","v":0.87823999999999991},{"$f":"IFERROR('Baggrundsdata - HICP - deflator'!C73/IF($AC$19=$S$17,$L73,IF($AB$19=$S$17,$K73,IF($AA$19=$S$17,$J73,IF($Z$19=$S$17,$I73,IF($Y$19=$S$17,'Baggrundsdata - HICP - deflator'!$H73,IF($X$19=$S$17,'Baggrundsdata - HICP - deflator'!$G73,IF($S$17=$W$19,'Baggrundsdata - HICP - deflator'!$F73,IF($V$19=$S$17,'Baggrundsdata - HICP - deflator'!$E73,IF($U$19=$S$17,'Baggrundsdata - HICP - deflator'!$D73,IF($T$19=$S$17,'Baggrundsdata - HICP - deflator'!$C73,IF($S$19=$S$17,'Baggrundsdata - HICP - deflator'!$B73,\"*\"))))))))))),\"*\")","v":0.91017599999999987},{"$f":"IFERROR('Baggrundsdata - HICP - deflator'!D73/IF($AC$19=$S$17,$L73,IF($AB$19=$S$17,$K73,IF($AA$19=$S$17,$J73,IF($Z$19=$S$17,$I73,IF($Y$19=$S$17,'Baggrundsdata - HICP - deflator'!$H73,IF($X$19=$S$17,'Baggrundsdata - HICP - deflator'!$G73,IF($S$17=$W$19,'Baggrundsdata - HICP - deflator'!$F73,IF($V$19=$S$17,'Baggrundsdata - HICP - deflator'!$E73,IF($U$19=$S$17,'Baggrundsdata - HICP - deflator'!$D73,IF($T$19=$S$17,'Baggrundsdata - HICP - deflator'!$C73,IF($S$19=$S$17,'Baggrundsdata - HICP - deflator'!$B73,\"*\"))))))))))),\"*\")","v":0.91915799999999981},{"$f":"IFERROR('Baggrundsdata - HICP - deflator'!E73/IF($AC$19=$S$17,$L73,IF($AB$19=$S$17,$K73,IF($AA$19=$S$17,$J73,IF($Z$19=$S$17,$I73,IF($Y$19=$S$17,'Baggrundsdata - HICP - deflator'!$H73,IF($X$19=$S$17,'Baggrundsdata - HICP - deflator'!$G73,IF($S$17=$W$19,'Baggrundsdata - HICP - deflator'!$F73,IF($V$19=$S$17,'Baggrundsdata - HICP - deflator'!$E73,IF($U$19=$S$17,'Baggrundsdata - HICP - deflator'!$D73,IF($T$19=$S$17,'Baggrundsdata - HICP - deflator'!$C73,IF($S$19=$S$17,'Baggrundsdata - HICP - deflator'!$B73,\"*\"))))))))))),\"*\")","v":0.93911799999999979},{"$f":"IFERROR('Baggrundsdata - HICP - deflator'!F73/IF($AC$19=$S$17,$L73,IF($AB$19=$S$17,$K73,IF($AA$19=$S$17,$J73,IF($Z$19=$S$17,$I73,IF($Y$19=$S$17,'Baggrundsdata - HICP - deflator'!$H73,IF($X$19=$S$17,'Baggrundsdata - HICP - deflator'!$G73,IF($S$17=$W$19,'Baggrundsdata - HICP - deflator'!$F73,IF($V$19=$S$17,'Baggrundsdata - HICP - deflator'!$E73,IF($U$19=$S$17,'Baggrundsdata - HICP - deflator'!$D73,IF($T$19=$S$17,'Baggrundsdata - HICP - deflator'!$C73,IF($S$19=$S$17,'Baggrundsdata - HICP - deflator'!$B73,\"*\"))))))))))),\"*\")","v":0.96406799999999981},{"$f":"IFERROR('Baggrundsdata - HICP - deflator'!G73/IF($AC$19=$S$17,$L73,IF($AB$19=$S$17,$K73,IF($AA$19=$S$17,$J73,IF($Z$19=$S$17,$I73,IF($Y$19=$S$17,'Baggrundsdata - HICP - deflator'!$H73,IF($X$19=$S$17,'Baggrundsdata - HICP - deflator'!$G73,IF($S$17=$W$19,'Baggrundsdata - HICP - deflator'!$F73,IF($V$19=$S$17,'Baggrundsdata - HICP - deflator'!$E73,IF($U$19=$S$17,'Baggrundsdata - HICP - deflator'!$D73,IF($T$19=$S$17,'Baggrundsdata - HICP - deflator'!$C73,IF($S$19=$S$17,'Baggrundsdata - HICP - deflator'!$B73,\"*\"))))))))))),\"*\")","v":0.98702199999999984},{"$f":"IFERROR('Baggrundsdata - HICP - deflator'!H73/IF($AC$19=$S$17,$L73,IF($AB$19=$S$17,$K73,IF($AA$19=$S$17,$J73,IF($Z$19=$S$17,$I73,IF($Y$19=$S$17,'Baggrundsdata - HICP - deflator'!$H73,IF($X$19=$S$17,'Baggrundsdata - HICP - deflator'!$G73,IF($S$17=$W$19,'Baggrundsdata - HICP - deflator'!$F73,IF($V$19=$S$17,'Baggrundsdata - HICP - deflator'!$E73,IF($U$19=$S$17,'Baggrundsdata - HICP - deflator'!$D73,IF($T$19=$S$17,'Baggrundsdata - HICP - deflator'!$C73,IF($S$19=$S$17,'Baggrundsdata - HICP - deflator'!$B73,\"*\"))))))))))),\"*\")","v":0.99201199999999989},{"$f":"IFERROR('Baggrundsdata - HICP - deflator'!I73/IF($AC$19=$S$17,$L73,IF($AB$19=$S$17,$K73,IF($AA$19=$S$17,$J73,IF($Z$19=$S$17,$I73,IF($Y$19=$S$17,'Baggrundsdata - HICP - deflator'!$H73,IF($X$19=$S$17,'Baggrundsdata - HICP - deflator'!$G73,IF($S$17=$W$19,'Baggrundsdata - HICP - deflator'!$F73,IF($V$19=$S$17,'Baggrundsdata - HICP - deflator'!$E73,IF($U$19=$S$17,'Baggrundsdata - HICP - deflator'!$D73,IF($T$19=$S$17,'Baggrundsdata - HICP - deflator'!$C73,IF($S$19=$S$17,'Baggrundsdata - HICP - deflator'!$B73,\"*\"))))))))))),\"*\")","v":0.99600399999999978},{"$f":"IFERROR('Baggrundsdata - HICP - deflator'!J73/IF($AC$19=$S$17,$L73,IF($AB$19=$S$17,$K73,IF($AA$19=$S$17,$J73,IF($Z$19=$S$17,$I73,IF($Y$19=$S$17,'Baggrundsdata - HICP - deflator'!$H73,IF($X$19=$S$17,'Baggrundsdata - HICP - deflator'!$G73,IF($S$17=$W$19,'Baggrundsdata - HICP - deflator'!$F73,IF($V$19=$S$17,'Baggrundsdata - HICP - deflator'!$E73,IF($U$19=$S$17,'Baggrundsdata - HICP - deflator'!$D73,IF($T$19=$S$17,'Baggrundsdata - HICP - deflator'!$C73,IF($S$19=$S$17,'Baggrundsdata - HICP - deflator'!$B73,\"*\"))))))))))),\"*\")","v":0.99799999999999989},{"$f":"IFERROR('Baggrundsdata - HICP - deflator'!K73/IF($AC$19=$S$17,$L73,IF($AB$19=$S$17,$K73,IF($AA$19=$S$17,$J73,IF($Z$19=$S$17,$I73,IF($Y$19=$S$17,'Baggrundsdata - HICP - deflator'!$H73,IF($X$19=$S$17,'Baggrundsdata - HICP - deflator'!$G73,IF($S$17=$W$19,'Baggrundsdata - HICP - deflator'!$F73,IF($V$19=$S$17,'Baggrundsdata - HICP - deflator'!$E73,IF($U$19=$S$17,'Baggrundsdata - HICP - deflator'!$D73,IF($T$19=$S$17,'Baggrundsdata - HICP - deflator'!$C73,IF($S$19=$S$17,'Baggrundsdata - HICP - deflator'!$B73,\"*\"))))))))))),\"*\")","v":1},{"$f":"IFERROR('Baggrundsdata - HICP - deflator'!L73/IF($AC$19=$S$17,$L73,IF($AB$19=$S$17,$K73,IF($AA$19=$S$17,$J73,IF($Z$19=$S$17,$I73,IF($Y$19=$S$17,'Baggrundsdata - HICP - deflator'!$H73,IF($X$19=$S$17,'Baggrundsdata - HICP - deflator'!$G73,IF($S$17=$W$19,'Baggrundsdata - HICP - deflator'!$F73,IF($V$19=$S$17,'Baggrundsdata - HICP - deflator'!$E73,IF($U$19=$S$17,'Baggrundsdata - HICP - deflator'!$D73,IF($T$19=$S$17,'Baggrundsdata - HICP - deflator'!$C73,IF($S$19=$S$17,'Baggrundsdata - HICP - deflator'!$B73,\"*\"))))))))))),\"*\")","v":0},null,{"$f":"IF(R22=Forside!B39,\"sand\",\"falsk\")","v":"sand"}]
[null,"Tjekkiet",{"$f":"IFERROR('Baggrundsdata - HICP - deflator'!B72/IF($M$19=$C$17,$L72,IF($L$19=$C$17,$K72,IF($K$19=$C$17,$J72,IF($J$19=$C$17,$I72,IF($I$19=$C$17,'Baggrundsdata - HICP - deflator'!$H72,IF($H$19=$C$17,'Baggrundsdata - HICP - deflator'!$G72,IF($C$17=$G$19,'Baggrundsdata - HICP - deflator'!$F72,IF($F$19=$C$17,'Baggrundsdata - HICP - deflator'!$E72,IF($E$19=$C$17,'Baggrundsdata - HICP - deflator'!$D72,IF($D$19=$C$17,'Baggrundsdata - HICP - deflator'!$C72,IF('Baggrundsdata - HICP - deflator'!$C$19='Baggrundsdata - HICP - deflator'!$C$17,'Baggrundsdata - HICP - deflator'!$B72,\"*\"))))))))))),\"*\")","v":0.85428799999999983},{"$f":"IFERROR('Baggrundsdata - HICP - deflator'!C72/IF($M$19=$C$17,$L72,IF($L$19=$C$17,$K72,IF($K$19=$C$17,$J72,IF($J$19=$C$17,$I72,IF($I$19=$C$17,'Baggrundsdata - HICP - deflator'!$H72,IF($H$19=$C$17,'Baggrundsdata - HICP - deflator'!$G72,IF($C$17=$G$19,'Baggrundsdata - HICP - deflator'!$F72,IF($F$19=$C$17,'Baggrundsdata - HICP - deflator'!$E72,IF($E$19=$C$17,'Baggrundsdata - HICP - deflator'!$D72,IF($D$19=$C$17,'Baggrundsdata - HICP - deflator'!$C72,IF('Baggrundsdata - HICP - deflator'!$C$19='Baggrundsdata - HICP - deflator'!$C$17,'Baggrundsdata - HICP - deflator'!$B72,\"*\"))))))))))),\"*\")","v":0.90817999999999988},{"$f":"IFERROR('Baggrundsdata - HICP - deflator'!D72/IF($M$19=$C$17,$L72,IF($L$19=$C$17,$K72,IF($K$19=$C$17,$J72,IF($J$19=$C$17,$I72,IF($I$19=$C$17,'Baggrundsdata - HICP - deflator'!$H72,IF($H$19=$C$17,'Baggrundsdata - HICP - deflator'!$G72,IF($C$17=$G$19,'Baggrundsdata - HICP - deflator'!$F72,IF($F$19=$C$17,'Baggrundsdata - HICP - deflator'!$E72,IF($E$19=$C$17,'Baggrundsdata - HICP - deflator'!$D72,IF($D$19=$C$17,'Baggrundsdata - HICP - deflator'!$C72,IF('Baggrundsdata - HICP - deflator'!$C$19='Baggrundsdata - HICP - deflator'!$C$17,'Baggrundsdata - HICP - deflator'!$B72,\"*\"))))))))))),\"*\")","v":0.91316999999999982},{"$f":"IFERROR('Baggrundsdata - HICP - deflator'!E72/IF($M$19=$C$17,$L72,IF($L$19=$C$17,$K72,IF($K$19=$C$17,$J72,IF($J$19=$C$17,$I72,IF($I$19=$C$17,'Baggrundsdata - HICP - deflator'!$H72,IF($H$19=$C$17,'Baggrundsdata - HICP - deflator'!$G72,IF($C$17=$G$19,'Baggrundsdata - HICP - deflator'!$F72,IF($F$19=$C$17,'Baggrundsdata - HICP - deflator'!$E72,IF($E$19=$C$17,'Baggrundsdata - HICP - deflator'!$D72,IF($D$19=$C$17,'Baggrundsdata - HICP - deflator'!$C72,IF('Baggrundsdata - HICP - deflator'!$C$19='Baggrundsdata - HICP - deflator'!$C$17,'Baggrundsdata - HICP - deflator'!$B72,\"*\"))))))))))),\"*\")","v":0.92414799999999975},{"$f":"IFERROR('Baggrundsdata - HICP - deflator'!F72/IF($M$19=$C$17,$L72,IF($L$19=$C$17,$K72,IF($K$19=$C$17,$J72,IF($J$19=$C$17,$I72,IF($I$19=$C$17,'Baggrundsdata - HICP - deflator'!$H72,IF($H$19=$C$17,'Baggrundsdata - HICP - deflator'!$G72,IF($C$17=$G$19,'Baggrundsdata - HICP - deflator'!$F72,IF($F$19=$C$17,'Baggrundsdata - HICP - deflator'!$E72,IF($E$19=$C$17,'Baggrundsdata - HICP - deflator'!$D72,IF($D$19=$C$17,'Baggrundsdata - HICP - deflator'!$C72,IF('Baggrundsdata - HICP - deflator'!$C$19='Baggrundsdata - HICP - deflator'!$C$17,'Baggrundsdata - HICP - deflator'!$B72,\"*\"))))))))))),\"*\")","v":0.94410799999999984},{"$f":"IFERROR('Baggrundsdata - HICP - deflator'!G72/IF($M$19=$C$17,$L72,IF($L$19=$C$17,$K72,IF($K$19=$C$17,$J72,IF($J$19=$C$17,$I72,IF($I$19=$C$17,'Baggrundsdata - HICP - deflator'!$H72,IF($H$19=$C$17,'Baggrundsdata - HICP - deflator'!$G72,IF($C$17=$G$19,'Baggrundsdata - HICP - deflator'!$F72,IF($F$19=$C$17,'Baggrundsdata - HICP - deflator'!$E72,IF($E$19=$C$17,'Baggrundsdata - HICP - deflator'!$D72,IF($D$19=$C$17,'Baggrundsdata - HICP - deflator'!$C72,IF('Baggrundsdata - HICP - deflator'!$C$19='Baggrundsdata - HICP - deflator'!$C$17,'Baggrundsdata - HICP - deflator'!$B72,\"*\"))))))))))),\"*\")","v":0.9780399999999998},{"$f":"IFERROR('Baggrundsdata - HICP - deflator'!H72/IF($M$19=$C$17,$L72,IF($L$19=$C$17,$K72,IF($K$19=$C$17,$J72,IF($J$19=$C$17,$I72,IF($I$19=$C$17,'Baggrundsdata - HICP - deflator'!$H72,IF($H$19=$C$17,'Baggrundsdata - HICP - deflator'!$G72,IF($C$17=$G$19,'Baggrundsdata - HICP - deflator'!$F72,IF($F$19=$C$17,'Baggrundsdata - HICP - deflator'!$E72,IF($E$19=$C$17,'Baggrundsdata - HICP - deflator'!$D72,IF($D$19=$C$17,'Baggrundsdata - HICP - deflator'!$C72,IF('Baggrundsdata - HICP - deflator'!$C$19='Baggrundsdata - HICP - deflator'!$C$17,'Baggrundsdata - HICP - deflator'!$B72,\"*\"))))))))))),\"*\")","v":0.99101399999999984},{"$f":"IFERROR('Baggrundsdata - HICP - deflator'!I72/IF($M$19=$C$17,$L72,IF($L$19=$C$17,$K72,IF($K$19=$C$17,$J72,IF($J$19=$C$17,$I72,IF($I$19=$C$17,'Baggrundsdata - HICP - deflator'!$H72,IF($H$19=$C$17,'Baggrundsdata - HICP - deflator'!$G72,IF($C$17=$G$19,'Baggrundsdata - HICP - deflator'!$F72,IF($F$19=$C$17,'Baggrundsdata - HICP - deflator'!$E72,IF($E$19=$C$17,'Baggrundsdata - HICP - deflator'!$D72,IF($D$19=$C$17,'Baggrundsdata - HICP - deflator'!$C72,IF('Baggrundsdata - HICP - deflator'!$C$19='Baggrundsdata - HICP - deflator'!$C$17,'Baggrundsdata - HICP - deflator'!$B72,\"*\"))))))))))),\"*\")","v":0.99600399999999978},{"$f":"IFERROR('Baggrundsdata - HICP - deflator'!J72/IF($M$19=$C$17,$L72,IF($L$19=$C$17,$K72,IF($K$19=$C$17,$J72,IF($J$19=$C$17,$I72,IF($I$19=$C$17,'Baggrundsdata - HICP - deflator'!$H72,IF($H$19=$C$17,'Baggrundsdata - HICP - deflator'!$G72,IF($C$17=$G$19,'Baggrundsdata - HICP - deflator'!$F72,IF($F$19=$C$17,'Baggrundsdata - HICP - deflator'!$E72,IF($E$19=$C$17,'Baggrundsdata - HICP - deflator'!$D72,IF($D$19=$C$17,'Baggrundsdata - HICP - deflator'!$C72,IF('Baggrundsdata - HICP - deflator'!$C$19='Baggrundsdata - HICP - deflator'!$C$17,'Baggrundsdata - HICP - deflator'!$B72,\"*\"))))))))))),\"*\")","v":0.99799999999999989},{"$f":"IFERROR('Baggrundsdata - HICP - deflator'!K72/IF($M$19=$C$17,$L72,IF($L$19=$C$17,$K72,IF($K$19=$C$17,$J72,IF($J$19=$C$17,$I72,IF($I$19=$C$17,'Baggrundsdata - HICP - deflator'!$H72,IF($H$19=$C$17,'Baggrundsdata - HICP - deflator'!$G72,IF($C$17=$G$19,'Baggrundsdata - HICP - deflator'!$F72,IF($F$19=$C$17,'Baggrundsdata - HICP - deflator'!$E72,IF($E$19=$C$17,'Baggrundsdata - HICP - deflator'!$D72,IF($D$19=$C$17,'Baggrundsdata - HICP - deflator'!$C72,IF('Baggrundsdata - HICP - deflator'!$C$19='Baggrundsdata - HICP - deflator'!$C$17,'Baggrundsdata - HICP - deflator'!$B72,\"*\"))))))))))),\"*\")","v":1},{"$f":"IFERROR('Baggrundsdata - HICP - deflator'!L72/IF($M$19=$C$17,$L72,IF($L$19=$C$17,$K72,IF($K$19=$C$17,$J72,IF($J$19=$C$17,$I72,IF($I$19=$C$17,'Baggrundsdata - HICP - deflator'!$H72,IF($H$19=$C$17,'Baggrundsdata - HICP - deflator'!$G72,IF($C$17=$G$19,'Baggrundsdata - HICP - deflator'!$F72,IF($F$19=$C$17,'Baggrundsdata - HICP - deflator'!$E72,IF($E$19=$C$17,'Baggrundsdata - HICP - deflator'!$D72,IF($D$19=$C$17,'Baggrundsdata - HICP - deflator'!$C72,IF('Baggrundsdata - HICP - deflator'!$C$19='Baggrundsdata - HICP - deflator'!$C$17,'Baggrundsdata - HICP - deflator'!$B72,\"*\"))))))))))),\"*\")","v":0},null,{"$f":"IF(A72='Level 1'!A56,\"sand\",\"falsk\")","v":"sand"},null,null,{"$f":"IF(A74=\"European Union (28 countries)\",\"EU-28\",IF(A74=\"Belgium\",\"Belgien\",IF(A74=\"Denmark\",\"Danmark\",IF(A74=\"Germany (until 1990 former territory of the FRG)\",\"Tyskland\",IF(A74=\"Spain\",\"Spanien\",IF(A74=\"france\",\"Frankrig\",IF(A74=\"italy\",\"Italien\",IF(A74=\"Netherlands\",\"Holland\",IF(A74=\"sweden\",\"Sverige\",IF(A74=\"United kingdom\",\"UK\",IF(A74=\"Norway\",\"Norge\",IF(A74=\"New Country\",\"Nyt land\",0))))))))))))","v":"Tyskland"},{"$f":"IFERROR('Baggrundsdata - HICP - deflator'!B74/IF($AC$19=$S$17,$L74,IF($AB$19=$S$17,$K74,IF($AA$19=$S$17,$J74,IF($Z$19=$S$17,$I74,IF($Y$19=$S$17,'Baggrundsdata - HICP - deflator'!$H74,IF($X$19=$S$17,'Baggrundsdata - HICP - deflator'!$G74,IF($S$17=$W$19,'Baggrundsdata - HICP - deflator'!$F74,IF($V$19=$S$17,'Baggrundsdata - HICP - deflator'!$E74,IF($U$19=$S$17,'Baggrundsdata - HICP - deflator'!$D74,IF($T$19=$S$17,'Baggrundsdata - HICP - deflator'!$C74,IF($S$19=$S$17,'Baggrundsdata - HICP - deflator'!$B74,\"*\"))))))))))),\"*\")","v":0.89410500000000004},{"$f":"IFERROR('Baggrundsdata - HICP - deflator'!C74/IF($AC$19=$S$17,$L74,IF($AB$19=$S$17,$K74,IF($AA$19=$S$17,$J74,IF($Z$19=$S$17,$I74,IF($Y$19=$S$17,'Baggrundsdata - HICP - deflator'!$H74,IF($X$19=$S$17,'Baggrundsdata - HICP - deflator'!$G74,IF($S$17=$W$19,'Baggrundsdata - HICP - deflator'!$F74,IF($V$19=$S$17,'Baggrundsdata - HICP - deflator'!$E74,IF($U$19=$S$17,'Baggrundsdata - HICP - deflator'!$D74,IF($T$19=$S$17,'Baggrundsdata - HICP - deflator'!$C74,IF($S$19=$S$17,'Baggrundsdata - HICP - deflator'!$B74,\"*\"))))))))))),\"*\")","v":0.91808100000000015},{"$f":"IFERROR('Baggrundsdata - HICP - deflator'!D74/IF($AC$19=$S$17,$L74,IF($AB$19=$S$17,$K74,IF($AA$19=$S$17,$J74,IF($Z$19=$S$17,$I74,IF($Y$19=$S$17,'Baggrundsdata - HICP - deflator'!$H74,IF($X$19=$S$17,'Baggrundsdata - HICP - deflator'!$G74,IF($S$17=$W$19,'Baggrundsdata - HICP - deflator'!$F74,IF($V$19=$S$17,'Baggrundsdata - HICP - deflator'!$E74,IF($U$19=$S$17,'Baggrundsdata - HICP - deflator'!$D74,IF($T$19=$S$17,'Baggrundsdata - HICP - deflator'!$C74,IF($S$19=$S$17,'Baggrundsdata - HICP - deflator'!$B74,\"*\"))))))))))),\"*\")","v":0.92007899999999998},{"$f":"IFERROR('Baggrundsdata - HICP - deflator'!E74/IF($AC$19=$S$17,$L74,IF($AB$19=$S$17,$K74,IF($AA$19=$S$17,$J74,IF($Z$19=$S$17,$I74,IF($Y$19=$S$17,'Baggrundsdata - HICP - deflator'!$H74,IF($X$19=$S$17,'Baggrundsdata - HICP - deflator'!$G74,IF($S$17=$W$19,'Baggrundsdata - HICP - deflator'!$F74,IF($V$19=$S$17,'Baggrundsdata - HICP - deflator'!$E74,IF($U$19=$S$17,'Baggrundsdata - HICP - deflator'!$D74,IF($T$19=$S$17,'Baggrundsdata - HICP - deflator'!$C74,IF($S$19=$S$17,'Baggrundsdata - HICP - deflator'!$B74,\"*\"))))))))))),\"*\")","v":0.93106800000000012},{"$f":"IFERROR('Baggrundsdata - HICP - deflator'!F74/IF($AC$19=$S$17,$L74,IF($AB$19=$S$17,$K74,IF($AA$19=$S$17,$J74,IF($Z$19=$S$17,$I74,IF($Y$19=$S$17,'Baggrundsdata - HICP - deflator'!$H74,IF($X$19=$S$17,'Baggrundsdata - HICP - deflator'!$G74,IF($S$17=$W$19,'Baggrundsdata - HICP - deflator'!$F74,IF($V$19=$S$17,'Baggrundsdata - HICP - deflator'!$E74,IF($U$19=$S$17,'Baggrundsdata - HICP - deflator'!$D74,IF($T$19=$S$17,'Baggrundsdata - HICP - deflator'!$C74,IF($S$19=$S$17,'Baggrundsdata - HICP - deflator'!$B74,\"*\"))))))))))),\"*\")","v":0.95404500000000003},{"$f":"IFERROR('Baggrundsdata - HICP - deflator'!G74/IF($AC$19=$S$17,$L74,IF($AB$19=$S$17,$K74,IF($AA$19=$S$17,$J74,IF($Z$19=$S$17,$I74,IF($Y$19=$S$17,'Baggrundsdata - HICP - deflator'!$H74,IF($X$19=$S$17,'Baggrundsdata - HICP - deflator'!$G74,IF($S$17=$W$19,'Baggrundsdata - HICP - deflator'!$F74,IF($V$19=$S$17,'Baggrundsdata - HICP - deflator'!$E74,IF($U$19=$S$17,'Baggrundsdata - HICP - deflator'!$D74,IF($T$19=$S$17,'Baggrundsdata - HICP - deflator'!$C74,IF($S$19=$S$17,'Baggrundsdata - HICP - deflator'!$B74,\"*\"))))))))))),\"*\")","v":0.97402500000000003},{"$f":"IFERROR('Baggrundsdata - HICP - deflator'!H74/IF($AC$19=$S$17,$L74,IF($AB$19=$S$17,$K74,IF($AA$19=$S$17,$J74,IF($Z$19=$S$17,$I74,IF($Y$19=$S$17,'Baggrundsdata - HICP - deflator'!$H74,IF($X$19=$S$17,'Baggrundsdata - HICP - deflator'!$G74,IF($S$17=$W$19,'Baggrundsdata - HICP - deflator'!$F74,IF($V$19=$S$17,'Baggrundsdata - HICP - deflator'!$E74,IF($U$19=$S$17,'Baggrundsdata - HICP - deflator'!$D74,IF($T$19=$S$17,'Baggrundsdata - HICP - deflator'!$C74,IF($S$19=$S$17,'Baggrundsdata - HICP - deflator'!$B74,\"*\"))))))))))),\"*\")","v":0.99000900000000003},{"$f":"IFERROR('Baggrundsdata - HICP - deflator'!I74/IF($AC$19=$S$17,$L74,IF($AB$19=$S$17,$K74,IF($AA$19=$S$17,$J74,IF($Z$19=$S$17,$I74,IF($Y$19=$S$17,'Baggrundsdata - HICP - deflator'!$H74,IF($X$19=$S$17,'Baggrundsdata - HICP - deflator'!$G74,IF($S$17=$W$19,'Baggrundsdata - HICP - deflator'!$F74,IF($V$19=$S$17,'Baggrundsdata - HICP - deflator'!$E74,IF($U$19=$S$17,'Baggrundsdata - HICP - deflator'!$D74,IF($T$19=$S$17,'Baggrundsdata - HICP - deflator'!$C74,IF($S$19=$S$17,'Baggrundsdata - HICP - deflator'!$B74,\"*\"))))))))))),\"*\")","v":0.99800100000000014},{"$f":"IFERROR('Baggrundsdata - HICP - deflator'!J74/IF($AC$19=$S$17,$L74,IF($AB$19=$S$17,$K74,IF($AA$19=$S$17,$J74,IF($Z$19=$S$17,$I74,IF($Y$19=$S$17,'Baggrundsdata - HICP - deflator'!$H74,IF($X$19=$S$17,'Baggrundsdata - HICP - deflator'!$G74,IF($S$17=$W$19,'Baggrundsdata - HICP - deflator'!$F74,IF($V$19=$S$17,'Baggrundsdata - HICP - deflator'!$E74,IF($U$19=$S$17,'Baggrundsdata - HICP - deflator'!$D74,IF($T$19=$S$17,'Baggrundsdata - HICP - deflator'!$C74,IF($S$19=$S$17,'Baggrundsdata - HICP - deflator'!$B74,\"*\"))))))))))),\"*\")","v":0.99900000000000011},{"$f":"IFERROR('Baggrundsdata - HICP - deflator'!K74/IF($AC$19=$S$17,$L74,IF($AB$19=$S$17,$K74,IF($AA$19=$S$17,$J74,IF($Z$19=$S$17,$I74,IF($Y$19=$S$17,'Baggrundsdata - HICP - deflator'!$H74,IF($X$19=$S$17,'Baggrundsdata - HICP - deflator'!$G74,IF($S$17=$W$19,'Baggrundsdata - HICP - deflator'!$F74,IF($V$19=$S$17,'Baggrundsdata - HICP - deflator'!$E74,IF($U$19=$S$17,'Baggrundsdata - HICP - deflator'!$D74,IF($T$19=$S$17,'Baggrundsdata - HICP - deflator'!$C74,IF($S$19=$S$17,'Baggrundsdata - HICP - deflator'!$B74,\"*\"))))))))))),\"*\")","v":1},{"$f":"IFERROR('Baggrundsdata - HICP - deflator'!L74/IF($AC$19=$S$17,$L74,IF($AB$19=$S$17,$K74,IF($AA$19=$S$17,$J74,IF($Z$19=$S$17,$I74,IF($Y$19=$S$17,'Baggrundsdata - HICP - deflator'!$H74,IF($X$19=$S$17,'Baggrundsdata - HICP - deflator'!$G74,IF($S$17=$W$19,'Baggrundsdata - HICP - deflator'!$F74,IF($V$19=$S$17,'Baggrundsdata - HICP - deflator'!$E74,IF($U$19=$S$17,'Baggrundsdata - HICP - deflator'!$D74,IF($T$19=$S$17,'Baggrundsdata - HICP - deflator'!$C74,IF($S$19=$S$17,'Baggrundsdata - HICP - deflator'!$B74,\"*\"))))))))))),\"*\")","v":0},null,{"$f":"IF(R23=Forside!B40,\"sand\",\"falsk\")","v":"sand"}]
[null,"Danmark",{"$f":"IFERROR('Baggrundsdata - HICP - deflator'!B73/IF($M$19=$C$17,$L73,IF($L$19=$C$17,$K73,IF($K$19=$C$17,$J73,IF($J$19=$C$17,$I73,IF($I$19=$C$17,'Baggrundsdata - HICP - deflator'!$H73,IF($H$19=$C$17,'Baggrundsdata - HICP - deflator'!$G73,IF($C$17=$G$19,'Baggrundsdata - HICP - deflator'!$F73,IF($F$19=$C$17,'Baggrundsdata - HICP - deflator'!$E73,IF($E$19=$C$17,'Baggrundsdata - HICP - deflator'!$D73,IF($D$19=$C$17,'Baggrundsdata - HICP - deflator'!$C73,IF('Baggrundsdata - HICP - deflator'!$C$19='Baggrundsdata - HICP - deflator'!$C$17,'Baggrundsdata - HICP - deflator'!$B73,\"*\"))))))))))),\"*\")","v":0.87823999999999991},{"$f":"IFERROR('Baggrundsdata - HICP - deflator'!C73/IF($M$19=$C$17,$L73,IF($L$19=$C$17,$K73,IF($K$19=$C$17,$J73,IF($J$19=$C$17,$I73,IF($I$19=$C$17,'Baggrundsdata - HICP - deflator'!$H73,IF($H$19=$C$17,'Baggrundsdata - HICP - deflator'!$G73,IF($C$17=$G$19,'Baggrundsdata - HICP - deflator'!$F73,IF($F$19=$C$17,'Baggrundsdata - HICP - deflator'!$E73,IF($E$19=$C$17,'Baggrundsdata - HICP - deflator'!$D73,IF($D$19=$C$17,'Baggrundsdata - HICP - deflator'!$C73,IF('Baggrundsdata - HICP - deflator'!$C$19='Baggrundsdata - HICP - deflator'!$C$17,'Baggrundsdata - HICP - deflator'!$B73,\"*\"))))))))))),\"*\")","v":0.91017599999999987},{"$f":"IFERROR('Baggrundsdata - HICP - deflator'!D73/IF($M$19=$C$17,$L73,IF($L$19=$C$17,$K73,IF($K$19=$C$17,$J73,IF($J$19=$C$17,$I73,IF($I$19=$C$17,'Baggrundsdata - HICP - deflator'!$H73,IF($H$19=$C$17,'Baggrundsdata - HICP - deflator'!$G73,IF($C$17=$G$19,'Baggrundsdata - HICP - deflator'!$F73,IF($F$19=$C$17,'Baggrundsdata - HICP - deflator'!$E73,IF($E$19=$C$17,'Baggrundsdata - HICP - deflator'!$D73,IF($D$19=$C$17,'Baggrundsdata - HICP - deflator'!$C73,IF('Baggrundsdata - HICP - deflator'!$C$19='Baggrundsdata - HICP - deflator'!$C$17,'Baggrundsdata - HICP - deflator'!$B73,\"*\"))))))))))),\"*\")","v":0.91915799999999981},{"$f":"IFERROR('Baggrundsdata - HICP - deflator'!E73/IF($M$19=$C$17,$L73,IF($L$19=$C$17,$K73,IF($K$19=$C$17,$J73,IF($J$19=$C$17,$I73,IF($I$19=$C$17,'Baggrundsdata - HICP - deflator'!$H73,IF($H$19=$C$17,'Baggrundsdata - HICP - deflator'!$G73,IF($C$17=$G$19,'Baggrundsdata - HICP - deflator'!$F73,IF($F$19=$C$17,'Baggrundsdata - HICP - deflator'!$E73,IF($E$19=$C$17,'Baggrundsdata - HICP - deflator'!$D73,IF($D$19=$C$17,'Baggrundsdata - HICP - deflator'!$C73,IF('Baggrundsdata - HICP - deflator'!$C$19='Baggrundsdata - HICP - deflator'!$C$17,'Baggrundsdata - HICP - deflator'!$B73,\"*\"))))))))))),\"*\")","v":0.93911799999999979},{"$f":"IFERROR('Baggrundsdata - HICP - deflator'!F73/IF($M$19=$C$17,$L73,IF($L$19=$C$17,$K73,IF($K$19=$C$17,$J73,IF($J$19=$C$17,$I73,IF($I$19=$C$17,'Baggrundsdata - HICP - deflator'!$H73,IF($H$19=$C$17,'Baggrundsdata - HICP - deflator'!$G73,IF($C$17=$G$19,'Baggrundsdata - HICP - deflator'!$F73,IF($F$19=$C$17,'Baggrundsdata - HICP - deflator'!$E73,IF($E$19=$C$17,'Baggrundsdata - HICP - deflator'!$D73,IF($D$19=$C$17,'Baggrundsdata - HICP - deflator'!$C73,IF('Baggrundsdata - HICP - deflator'!$C$19='Baggrundsdata - HICP - deflator'!$C$17,'Baggrundsdata - HICP - deflator'!$B73,\"*\"))))))))))),\"*\")","v":0.96406799999999981},{"$f":"IFERROR('Baggrundsdata - HICP - deflator'!G73/IF($M$19=$C$17,$L73,IF($L$19=$C$17,$K73,IF($K$19=$C$17,$J73,IF($J$19=$C$17,$I73,IF($I$19=$C$17,'Baggrundsdata - HICP - deflator'!$H73,IF($H$19=$C$17,'Baggrundsdata - HICP - deflator'!$G73,IF($C$17=$G$19,'Baggrundsdata - HICP - deflator'!$F73,IF($F$19=$C$17,'Baggrundsdata - HICP - deflator'!$E73,IF($E$19=$C$17,'Baggrundsdata - HICP - deflator'!$D73,IF($D$19=$C$17,'Baggrundsdata - HICP - deflator'!$C73,IF('Baggrundsdata - HICP - deflator'!$C$19='Baggrundsdata - HICP - deflator'!$C$17,'Baggrundsdata - HICP - deflator'!$B73,\"*\"))))))))))),\"*\")","v":0.98702199999999984},{"$f":"IFERROR('Baggrundsdata - HICP - deflator'!H73/IF($M$19=$C$17,$L73,IF($L$19=$C$17,$K73,IF($K$19=$C$17,$J73,IF($J$19=$C$17,$I73,IF($I$19=$C$17,'Baggrundsdata - HICP - deflator'!$H73,IF($H$19=$C$17,'Baggrundsdata - HICP - deflator'!$G73,IF($C$17=$G$19,'Baggrundsdata - HICP - deflator'!$F73,IF($F$19=$C$17,'Baggrundsdata - HICP - deflator'!$E73,IF($E$19=$C$17,'Baggrundsdata - HICP - deflator'!$D73,IF($D$19=$C$17,'Baggrundsdata - HICP - deflator'!$C73,IF('Baggrundsdata - HICP - deflator'!$C$19='Baggrundsdata - HICP - deflator'!$C$17,'Baggrundsdata - HICP - deflator'!$B73,\"*\"))))))))))),\"*\")","v":0.99201199999999989},{"$f":"IFERROR('Baggrundsdata - HICP - deflator'!I73/IF($M$19=$C$17,$L73,IF($L$19=$C$17,$K73,IF($K$19=$C$17,$J73,IF($J$19=$C$17,$I73,IF($I$19=$C$17,'Baggrundsdata - HICP - deflator'!$H73,IF($H$19=$C$17,'Baggrundsdata - HICP - deflator'!$G73,IF($C$17=$G$19,'Baggrundsdata - HICP - deflator'!$F73,IF($F$19=$C$17,'Baggrundsdata - HICP - deflator'!$E73,IF($E$19=$C$17,'Baggrundsdata - HICP - deflator'!$D73,IF($D$19=$C$17,'Baggrundsdata - HICP - deflator'!$C73,IF('Baggrundsdata - HICP - deflator'!$C$19='Baggrundsdata - HICP - deflator'!$C$17,'Baggrundsdata - HICP - deflator'!$B73,\"*\"))))))))))),\"*\")","v":0.99600399999999978},{"$f":"IFERROR('Baggrundsdata - HICP - deflator'!J73/IF($M$19=$C$17,$L73,IF($L$19=$C$17,$K73,IF($K$19=$C$17,$J73,IF($J$19=$C$17,$I73,IF($I$19=$C$17,'Baggrundsdata - HICP - deflator'!$H73,IF($H$19=$C$17,'Baggrundsdata - HICP - deflator'!$G73,IF($C$17=$G$19,'Baggrundsdata - HICP - deflator'!$F73,IF($F$19=$C$17,'Baggrundsdata - HICP - deflator'!$E73,IF($E$19=$C$17,'Baggrundsdata - HICP - deflator'!$D73,IF($D$19=$C$17,'Baggrundsdata - HICP - deflator'!$C73,IF('Baggrundsdata - HICP - deflator'!$C$19='Baggrundsdata - HICP - deflator'!$C$17,'Baggrundsdata - HICP - deflator'!$B73,\"*\"))))))))))),\"*\")","v":0.99799999999999989},{"$f":"IFERROR('Baggrundsdata - HICP - deflator'!K73/IF($M$19=$C$17,$L73,IF($L$19=$C$17,$K73,IF($K$19=$C$17,$J73,IF($J$19=$C$17,$I73,IF($I$19=$C$17,'Baggrundsdata - HICP - deflator'!$H73,IF($H$19=$C$17,'Baggrundsdata - HICP - deflator'!$G73,IF($C$17=$G$19,'Baggrundsdata - HICP - deflator'!$F73,IF($F$19=$C$17,'Baggrundsdata - HICP - deflator'!$E73,IF($E$19=$C$17,'Baggrundsdata - HICP - deflator'!$D73,IF($D$19=$C$17,'Baggrundsdata - HICP - deflator'!$C73,IF('Baggrundsdata - HICP - deflator'!$C$19='Baggrundsdata - HICP - deflator'!$C$17,'Baggrundsdata - HICP - deflator'!$B73,\"*\"))))))))))),\"*\")","v":1},{"$f":"IFERROR('Baggrundsdata - HICP - deflator'!L73/IF($M$19=$C$17,$L73,IF($L$19=$C$17,$K73,IF($K$19=$C$17,$J73,IF($J$19=$C$17,$I73,IF($I$19=$C$17,'Baggrundsdata - HICP - deflator'!$H73,IF($H$19=$C$17,'Baggrundsdata - HICP - deflator'!$G73,IF($C$17=$G$19,'Baggrundsdata - HICP - deflator'!$F73,IF($F$19=$C$17,'Baggrundsdata - HICP - deflator'!$E73,IF($E$19=$C$17,'Baggrundsdata - HICP - deflator'!$D73,IF($D$19=$C$17,'Baggrundsdata - HICP - deflator'!$C73,IF('Baggrundsdata - HICP - deflator'!$C$19='Baggrundsdata - HICP - deflator'!$C$17,'Baggrundsdata - HICP - deflator'!$B73,\"*\"))))))))))),\"*\")","v":0},null,{"$f":"IF(A73='Level 1'!A57,\"sand\",\"falsk\")","v":"sand"},null,null,{"$f":"IF(A79=\"European Union (28 countries)\",\"EU-28\",IF(A79=\"Belgium\",\"Belgien\",IF(A79=\"Denmark\",\"Danmark\",IF(A79=\"Germany (until 1990 former territory of the FRG)\",\"Tyskland\",IF(A79=\"Spain\",\"Spanien\",IF(A79=\"france\",\"Frankrig\",IF(A79=\"italy\",\"Italien\",IF(A79=\"Netherlands\",\"Holland\",IF(A79=\"sweden\",\"Sverige\",IF(A79=\"United kingdom\",\"UK\",IF(A79=\"Norway\",\"Norge\",IF(A79=\"New Country\",\"Nyt land\",0))))))))))))","v":"Frankrig"},{"$f":"IFERROR('Baggrundsdata - HICP - deflator'!B79/IF($AC$19=$S$17,$L79,IF($AB$19=$S$17,$K79,IF($AA$19=$S$17,$J79,IF($Z$19=$S$17,$I79,IF($Y$19=$S$17,'Baggrundsdata - HICP - deflator'!$H79,IF($X$19=$S$17,'Baggrundsdata - HICP - deflator'!$G79,IF($S$17=$W$19,'Baggrundsdata - HICP - deflator'!$F79,IF($V$19=$S$17,'Baggrundsdata - HICP - deflator'!$E79,IF($U$19=$S$17,'Baggrundsdata - HICP - deflator'!$D79,IF($T$19=$S$17,'Baggrundsdata - HICP - deflator'!$C79,IF($S$19=$S$17,'Baggrundsdata - HICP - deflator'!$B79,\"*\"))))))))))),\"*\")","v":0.89439432000000008},{"$f":"IFERROR('Baggrundsdata - HICP - deflator'!C79/IF($AC$19=$S$17,$L79,IF($AB$19=$S$17,$K79,IF($AA$19=$S$17,$J79,IF($Z$19=$S$17,$I79,IF($Y$19=$S$17,'Baggrundsdata - HICP - deflator'!$H79,IF($X$19=$S$17,'Baggrundsdata - HICP - deflator'!$G79,IF($S$17=$W$19,'Baggrundsdata - HICP - deflator'!$F79,IF($V$19=$S$17,'Baggrundsdata - HICP - deflator'!$E79,IF($U$19=$S$17,'Baggrundsdata - HICP - deflator'!$D79,IF($T$19=$S$17,'Baggrundsdata - HICP - deflator'!$C79,IF($S$19=$S$17,'Baggrundsdata - HICP - deflator'!$B79,\"*\"))))))))))),\"*\")","v":0.92256894000000012},{"$f":"IFERROR('Baggrundsdata - HICP - deflator'!D79/IF($AC$19=$S$17,$L79,IF($AB$19=$S$17,$K79,IF($AA$19=$S$17,$J79,IF($Z$19=$S$17,$I79,IF($Y$19=$S$17,'Baggrundsdata - HICP - deflator'!$H79,IF($X$19=$S$17,'Baggrundsdata - HICP - deflator'!$G79,IF($S$17=$W$19,'Baggrundsdata - HICP - deflator'!$F79,IF($V$19=$S$17,'Baggrundsdata - HICP - deflator'!$E79,IF($U$19=$S$17,'Baggrundsdata - HICP - deflator'!$D79,IF($T$19=$S$17,'Baggrundsdata - HICP - deflator'!$C79,IF($S$19=$S$17,'Baggrundsdata - HICP - deflator'!$B79,\"*\"))))))))))),\"*\")","v":0.92356804000000003},{"$f":"IFERROR('Baggrundsdata - HICP - deflator'!E79/IF($AC$19=$S$17,$L79,IF($AB$19=$S$17,$K79,IF($AA$19=$S$17,$J79,IF($Z$19=$S$17,$I79,IF($Y$19=$S$17,'Baggrundsdata - HICP - deflator'!$H79,IF($X$19=$S$17,'Baggrundsdata - HICP - deflator'!$G79,IF($S$17=$W$19,'Baggrundsdata - HICP - deflator'!$F79,IF($V$19=$S$17,'Baggrundsdata - HICP - deflator'!$E79,IF($U$19=$S$17,'Baggrundsdata - HICP - deflator'!$D79,IF($T$19=$S$17,'Baggrundsdata - HICP - deflator'!$C79,IF($S$19=$S$17,'Baggrundsdata - HICP - deflator'!$B79,\"*\"))))))))))),\"*\")","v":0.93965355000000006},{"$f":"IFERROR('Baggrundsdata - HICP - deflator'!F79/IF($AC$19=$S$17,$L79,IF($AB$19=$S$17,$K79,IF($AA$19=$S$17,$J79,IF($Z$19=$S$17,$I79,IF($Y$19=$S$17,'Baggrundsdata - HICP - deflator'!$H79,IF($X$19=$S$17,'Baggrundsdata - HICP - deflator'!$G79,IF($S$17=$W$19,'Baggrundsdata - HICP - deflator'!$F79,IF($V$19=$S$17,'Baggrundsdata - HICP - deflator'!$E79,IF($U$19=$S$17,'Baggrundsdata - HICP - deflator'!$D79,IF($T$19=$S$17,'Baggrundsdata - HICP - deflator'!$C79,IF($S$19=$S$17,'Baggrundsdata - HICP - deflator'!$B79,\"*\"))))))))))),\"*\")","v":0.96113420000000016},{"$f":"IFERROR('Baggrundsdata - HICP - deflator'!G79/IF($AC$19=$S$17,$L79,IF($AB$19=$S$17,$K79,IF($AA$19=$S$17,$J79,IF($Z$19=$S$17,$I79,IF($Y$19=$S$17,'Baggrundsdata - HICP - deflator'!$H79,IF($X$19=$S$17,'Baggrundsdata - HICP - deflator'!$G79,IF($S$17=$W$19,'Baggrundsdata - HICP - deflator'!$F79,IF($V$19=$S$17,'Baggrundsdata - HICP - deflator'!$E79,IF($U$19=$S$17,'Baggrundsdata - HICP - deflator'!$D79,IF($T$19=$S$17,'Baggrundsdata - HICP - deflator'!$C79,IF($S$19=$S$17,'Baggrundsdata - HICP - deflator'!$B79,\"*\"))))))))))),\"*\")","v":0.98241503000000008},{"$f":"IFERROR('Baggrundsdata - HICP - deflator'!H79/IF($AC$19=$S$17,$L79,IF($AB$19=$S$17,$K79,IF($AA$19=$S$17,$J79,IF($Z$19=$S$17,$I79,IF($Y$19=$S$17,'Baggrundsdata - HICP - deflator'!$H79,IF($X$19=$S$17,'Baggrundsdata - HICP - deflator'!$G79,IF($S$17=$W$19,'Baggrundsdata - HICP - deflator'!$F79,IF($V$19=$S$17,'Baggrundsdata - HICP - deflator'!$E79,IF($U$19=$S$17,'Baggrundsdata - HICP - deflator'!$D79,IF($T$19=$S$17,'Baggrundsdata - HICP - deflator'!$C79,IF($S$19=$S$17,'Baggrundsdata - HICP - deflator'!$B79,\"*\"))))))))))),\"*\")","v":0.99220621000000009},{"$f":"IFERROR('Baggrundsdata - HICP - deflator'!I79/IF($AC$19=$S$17,$L79,IF($AB$19=$S$17,$K79,IF($AA$19=$S$17,$J79,IF($Z$19=$S$17,$I79,IF($Y$19=$S$17,'Baggrundsdata - HICP - deflator'!$H79,IF($X$19=$S$17,'Baggrundsdata - HICP - deflator'!$G79,IF($S$17=$W$19,'Baggrundsdata - HICP - deflator'!$F79,IF($V$19=$S$17,'Baggrundsdata - HICP - deflator'!$E79,IF($U$19=$S$17,'Baggrundsdata - HICP - deflator'!$D79,IF($T$19=$S$17,'Baggrundsdata - HICP - deflator'!$C79,IF($S$19=$S$17,'Baggrundsdata - HICP - deflator'!$B79,\"*\"))))))))))),\"*\")","v":0.99820081000000005},{"$f":"IFERROR('Baggrundsdata - HICP - deflator'!J79/IF($AC$19=$S$17,$L79,IF($AB$19=$S$17,$K79,IF($AA$19=$S$17,$J79,IF($Z$19=$S$17,$I79,IF($Y$19=$S$17,'Baggrundsdata - HICP - deflator'!$H79,IF($X$19=$S$17,'Baggrundsdata - HICP - deflator'!$G79,IF($S$17=$W$19,'Baggrundsdata - HICP - deflator'!$F79,IF($V$19=$S$17,'Baggrundsdata - HICP - deflator'!$E79,IF($U$19=$S$17,'Baggrundsdata - HICP - deflator'!$D79,IF($T$19=$S$17,'Baggrundsdata - HICP - deflator'!$C79,IF($S$19=$S$17,'Baggrundsdata - HICP - deflator'!$B79,\"*\"))))))))))),\"*\")","v":0.9991000000000001},{"$f":"IFERROR('Baggrundsdata - HICP - deflator'!K79/IF($AC$19=$S$17,$L79,IF($AB$19=$S$17,$K79,IF($AA$19=$S$17,$J79,IF($Z$19=$S$17,$I79,IF($Y$19=$S$17,'Baggrundsdata - HICP - deflator'!$H79,IF($X$19=$S$17,'Baggrundsdata - HICP - deflator'!$G79,IF($S$17=$W$19,'Baggrundsdata - HICP - deflator'!$F79,IF($V$19=$S$17,'Baggrundsdata - HICP - deflator'!$E79,IF($U$19=$S$17,'Baggrundsdata - HICP - deflator'!$D79,IF($T$19=$S$17,'Baggrundsdata - HICP - deflator'!$C79,IF($S$19=$S$17,'Baggrundsdata - HICP - deflator'!$B79,\"*\"))))))))))),\"*\")","v":1},{"$f":"IFERROR('Baggrundsdata - HICP - deflator'!L79/IF($AC$19=$S$17,$L79,IF($AB$19=$S$17,$K79,IF($AA$19=$S$17,$J79,IF($Z$19=$S$17,$I79,IF($Y$19=$S$17,'Baggrundsdata - HICP - deflator'!$H79,IF($X$19=$S$17,'Baggrundsdata - HICP - deflator'!$G79,IF($S$17=$W$19,'Baggrundsdata - HICP - deflator'!$F79,IF($V$19=$S$17,'Baggrundsdata - HICP - deflator'!$E79,IF($U$19=$S$17,'Baggrundsdata - HICP - deflator'!$D79,IF($T$19=$S$17,'Baggrundsdata - HICP - deflator'!$C79,IF($S$19=$S$17,'Baggrundsdata - HICP - deflator'!$B79,\"*\"))))))))))),\"*\")","v":0},null,{"$f":"IF(R24=Forside!B41,\"sand\",\"falsk\")","v":"sand"}]
[null,"Tyskland",{"$f":"IFERROR('Baggrundsdata - HICP - deflator'!B74/IF($M$19=$C$17,$L74,IF($L$19=$C$17,$K74,IF($K$19=$C$17,$J74,IF($J$19=$C$17,$I74,IF($I$19=$C$17,'Baggrundsdata - HICP - deflator'!$H74,IF($H$19=$C$17,'Baggrundsdata - HICP - deflator'!$G74,IF($C$17=$G$19,'Baggrundsdata - HICP - deflator'!$F74,IF($F$19=$C$17,'Baggrundsdata - HICP - deflator'!$E74,IF($E$19=$C$17,'Baggrundsdata - HICP - deflator'!$D74,IF($D$19=$C$17,'Baggrundsdata - HICP - deflator'!$C74,IF('Baggrundsdata - HICP - deflator'!$C$19='Baggrundsdata - HICP - deflator'!$C$17,'Baggrundsdata - HICP - deflator'!$B74,\"*\"))))))))))),\"*\")","v":0.89410500000000004},{"$f":"IFERROR('Baggrundsdata - HICP - deflator'!C74/IF($M$19=$C$17,$L74,IF($L$19=$C$17,$K74,IF($K$19=$C$17,$J74,IF($J$19=$C$17,$I74,IF($I$19=$C$17,'Baggrundsdata - HICP - deflator'!$H74,IF($H$19=$C$17,'Baggrundsdata - HICP - deflator'!$G74,IF($C$17=$G$19,'Baggrundsdata - HICP - deflator'!$F74,IF($F$19=$C$17,'Baggrundsdata - HICP - deflator'!$E74,IF($E$19=$C$17,'Baggrundsdata - HICP - deflator'!$D74,IF($D$19=$C$17,'Baggrundsdata - HICP - deflator'!$C74,IF('Baggrundsdata - HICP - deflator'!$C$19='Baggrundsdata - HICP - deflator'!$C$17,'Baggrundsdata - HICP - deflator'!$B74,\"*\"))))))))))),\"*\")","v":0.91808100000000015},{"$f":"IFERROR('Baggrundsdata - HICP - deflator'!D74/IF($M$19=$C$17,$L74,IF($L$19=$C$17,$K74,IF($K$19=$C$17,$J74,IF($J$19=$C$17,$I74,IF($I$19=$C$17,'Baggrundsdata - HICP - deflator'!$H74,IF($H$19=$C$17,'Baggrundsdata - HICP - deflator'!$G74,IF($C$17=$G$19,'Baggrundsdata - HICP - deflator'!$F74,IF($F$19=$C$17,'Baggrundsdata - HICP - deflator'!$E74,IF($E$19=$C$17,'Baggrundsdata - HICP - deflator'!$D74,IF($D$19=$C$17,'Baggrundsdata - HICP - deflator'!$C74,IF('Baggrundsdata - HICP - deflator'!$C$19='Baggrundsdata - HICP - deflator'!$C$17,'Baggrundsdata - HICP - deflator'!$B74,\"*\"))))))))))),\"*\")","v":0.92007899999999998},{"$f":"IFERROR('Baggrundsdata - HICP - deflator'!E74/IF($M$19=$C$17,$L74,IF($L$19=$C$17,$K74,IF($K$19=$C$17,$J74,IF($J$19=$C$17,$I74,IF($I$19=$C$17,'Baggrundsdata - HICP - deflator'!$H74,IF($H$19=$C$17,'Baggrundsdata - HICP - deflator'!$G74,IF($C$17=$G$19,'Baggrundsdata - HICP - deflator'!$F74,IF($F$19=$C$17,'Baggrundsdata - HICP - deflator'!$E74,IF($E$19=$C$17,'Baggrundsdata - HICP - deflator'!$D74,IF($D$19=$C$17,'Baggrundsdata - HICP - deflator'!$C74,IF('Baggrundsdata - HICP - deflator'!$C$19='Baggrundsdata - HICP - deflator'!$C$17,'Baggrundsdata - HICP - deflator'!$B74,\"*\"))))))))))),\"*\")","v":0.93106800000000012},{"$f":"IFERROR('Baggrundsdata - HICP - deflator'!F74/IF($M$19=$C$17,$L74,IF($L$19=$C$17,$K74,IF($K$19=$C$17,$J74,IF($J$19=$C$17,$I74,IF($I$19=$C$17,'Baggrundsdata - HICP - deflator'!$H74,IF($H$19=$C$17,'Baggrundsdata - HICP - deflator'!$G74,IF($C$17=$G$19,'Baggrundsdata - HICP - deflator'!$F74,IF($F$19=$C$17,'Baggrundsdata - HICP - deflator'!$E74,IF($E$19=$C$17,'Baggrundsdata - HICP - deflator'!$D74,IF($D$19=$C$17,'Baggrundsdata - HICP - deflator'!$C74,IF('Baggrundsdata - HICP - deflator'!$C$19='Baggrundsdata - HICP - deflator'!$C$17,'Baggrundsdata - HICP - deflator'!$B74,\"*\"))))))))))),\"*\")","v":0.95404500000000003},{"$f":"IFERROR('Baggrundsdata - HICP - deflator'!G74/IF($M$19=$C$17,$L74,IF($L$19=$C$17,$K74,IF($K$19=$C$17,$J74,IF($J$19=$C$17,$I74,IF($I$19=$C$17,'Baggrundsdata - HICP - deflator'!$H74,IF($H$19=$C$17,'Baggrundsdata - HICP - deflator'!$G74,IF($C$17=$G$19,'Baggrundsdata - HICP - deflator'!$F74,IF($F$19=$C$17,'Baggrundsdata - HICP - deflator'!$E74,IF($E$19=$C$17,'Baggrundsdata - HICP - deflator'!$D74,IF($D$19=$C$17,'Baggrundsdata - HICP - deflator'!$C74,IF('Baggrundsdata - HICP - deflator'!$C$19='Baggrundsdata - HICP - deflator'!$C$17,'Baggrundsdata - HICP - deflator'!$B74,\"*\"))))))))))),\"*\")","v":0.97402500000000003},{"$f":"IFERROR('Baggrundsdata - HICP - deflator'!H74/IF($M$19=$C$17,$L74,IF($L$19=$C$17,$K74,IF($K$19=$C$17,$J74,IF($J$19=$C$17,$I74,IF($I$19=$C$17,'Baggrundsdata - HICP - deflator'!$H74,IF($H$19=$C$17,'Baggrundsdata - HICP - deflator'!$G74,IF($C$17=$G$19,'Baggrundsdata - HICP - deflator'!$F74,IF($F$19=$C$17,'Baggrundsdata - HICP - deflator'!$E74,IF($E$19=$C$17,'Baggrundsdata - HICP - deflator'!$D74,IF($D$19=$C$17,'Baggrundsdata - HICP - deflator'!$C74,IF('Baggrundsdata - HICP - deflator'!$C$19='Baggrundsdata - HICP - deflator'!$C$17,'Baggrundsdata - HICP - deflator'!$B74,\"*\"))))))))))),\"*\")","v":0.99000900000000003},{"$f":"IFERROR('Baggrundsdata - HICP - deflator'!I74/IF($M$19=$C$17,$L74,IF($L$19=$C$17,$K74,IF($K$19=$C$17,$J74,IF($J$19=$C$17,$I74,IF($I$19=$C$17,'Baggrundsdata - HICP - deflator'!$H74,IF($H$19=$C$17,'Baggrundsdata - HICP - deflator'!$G74,IF($C$17=$G$19,'Baggrundsdata - HICP - deflator'!$F74,IF($F$19=$C$17,'Baggrundsdata - HICP - deflator'!$E74,IF($E$19=$C$17,'Baggrundsdata - HICP - deflator'!$D74,IF($D$19=$C$17,'Baggrundsdata - HICP - deflator'!$C74,IF('Baggrundsdata - HICP - deflator'!$C$19='Baggrundsdata - HICP - deflator'!$C$17,'Baggrundsdata - HICP - deflator'!$B74,\"*\"))))))))))),\"*\")","v":0.99800100000000014},{"$f":"IFERROR('Baggrundsdata - HICP - deflator'!J74/IF($M$19=$C$17,$L74,IF($L$19=$C$17,$K74,IF($K$19=$C$17,$J74,IF($J$19=$C$17,$I74,IF($I$19=$C$17,'Baggrundsdata - HICP - deflator'!$H74,IF($H$19=$C$17,'Baggrundsdata - HICP - deflator'!$G74,IF($C$17=$G$19,'Baggrundsdata - HICP - deflator'!$F74,IF($F$19=$C$17,'Baggrundsdata - HICP - deflator'!$E74,IF($E$19=$C$17,'Baggrundsdata - HICP - deflator'!$D74,IF($D$19=$C$17,'Baggrundsdata - HICP - deflator'!$C74,IF('Baggrundsdata - HICP - deflator'!$C$19='Baggrundsdata - HICP - deflator'!$C$17,'Baggrundsdata - HICP - deflator'!$B74,\"*\"))))))))))),\"*\")","v":0.99900000000000011},{"$f":"IFERROR('Baggrundsdata - HICP - deflator'!K74/IF($M$19=$C$17,$L74,IF($L$19=$C$17,$K74,IF($K$19=$C$17,$J74,IF($J$19=$C$17,$I74,IF($I$19=$C$17,'Baggrundsdata - HICP - deflator'!$H74,IF($H$19=$C$17,'Baggrundsdata - HICP - deflator'!$G74,IF($C$17=$G$19,'Baggrundsdata - HICP - deflator'!$F74,IF($F$19=$C$17,'Baggrundsdata - HICP - deflator'!$E74,IF($E$19=$C$17,'Baggrundsdata - HICP - deflator'!$D74,IF($D$19=$C$17,'Baggrundsdata - HICP - deflator'!$C74,IF('Baggrundsdata - HICP - deflator'!$C$19='Baggrundsdata - HICP - deflator'!$C$17,'Baggrundsdata - HICP - deflator'!$B74,\"*\"))))))))))),\"*\")","v":1},{"$f":"IFERROR('Baggrundsdata - HICP - deflator'!L74/IF($M$19=$C$17,$L74,IF($L$19=$C$17,$K74,IF($K$19=$C$17,$J74,IF($J$19=$C$17,$I74,IF($I$19=$C$17,'Baggrundsdata - HICP - deflator'!$H74,IF($H$19=$C$17,'Baggrundsdata - HICP - deflator'!$G74,IF($C$17=$G$19,'Baggrundsdata - HICP - deflator'!$F74,IF($F$19=$C$17,'Baggrundsdata - HICP - deflator'!$E74,IF($E$19=$C$17,'Baggrundsdata - HICP - deflator'!$D74,IF($D$19=$C$17,'Baggrundsdata - HICP - deflator'!$C74,IF('Baggrundsdata - HICP - deflator'!$C$19='Baggrundsdata - HICP - deflator'!$C$17,'Baggrundsdata - HICP - deflator'!$B74,\"*\"))))))))))),\"*\")","v":0},null,{"$f":"IF(A74='Level 1'!A58,\"sand\",\"falsk\")","v":"sand"},null,null,{"$f":"IF(A81=\"European Union (28 countries)\",\"EU-28\",IF(A81=\"Belgium\",\"Belgien\",IF(A81=\"Denmark\",\"Danmark\",IF(A81=\"Germany (until 1990 former territory of the FRG)\",\"Tyskland\",IF(A81=\"Spain\",\"Spanien\",IF(A81=\"france\",\"Frankrig\",IF(A81=\"italy\",\"Italien\",IF(A81=\"Netherlands\",\"Holland\",IF(A81=\"sweden\",\"Sverige\",IF(A81=\"United kingdom\",\"UK\",IF(A81=\"Norway\",\"Norge\",IF(A81=\"New Country\",\"Nyt land\",0))))))))))))","v":"Italien"},{"$f":"IFERROR('Baggrundsdata - HICP - deflator'!B81/IF($AC$19=$S$17,$L81,IF($AB$19=$S$17,$K81,IF($AA$19=$S$17,$J81,IF($Z$19=$S$17,$I81,IF($Y$19=$S$17,'Baggrundsdata - HICP - deflator'!$H81,IF($X$19=$S$17,'Baggrundsdata - HICP - deflator'!$G81,IF($S$17=$W$19,'Baggrundsdata - HICP - deflator'!$F81,IF($V$19=$S$17,'Baggrundsdata - HICP - deflator'!$E81,IF($U$19=$S$17,'Baggrundsdata - HICP - deflator'!$D81,IF($T$19=$S$17,'Baggrundsdata - HICP - deflator'!$C81,IF($S$19=$S$17,'Baggrundsdata - HICP - deflator'!$B81,\"*\"))))))))))),\"*\")","v":0.87212699999999999},{"$f":"IFERROR('Baggrundsdata - HICP - deflator'!C81/IF($AC$19=$S$17,$L81,IF($AB$19=$S$17,$K81,IF($AA$19=$S$17,$J81,IF($Z$19=$S$17,$I81,IF($Y$19=$S$17,'Baggrundsdata - HICP - deflator'!$H81,IF($X$19=$S$17,'Baggrundsdata - HICP - deflator'!$G81,IF($S$17=$W$19,'Baggrundsdata - HICP - deflator'!$F81,IF($V$19=$S$17,'Baggrundsdata - HICP - deflator'!$E81,IF($U$19=$S$17,'Baggrundsdata - HICP - deflator'!$D81,IF($T$19=$S$17,'Baggrundsdata - HICP - deflator'!$C81,IF($S$19=$S$17,'Baggrundsdata - HICP - deflator'!$B81,\"*\"))))))))))),\"*\")","v":0.90309600000000012},{"$f":"IFERROR('Baggrundsdata - HICP - deflator'!D81/IF($AC$19=$S$17,$L81,IF($AB$19=$S$17,$K81,IF($AA$19=$S$17,$J81,IF($Z$19=$S$17,$I81,IF($Y$19=$S$17,'Baggrundsdata - HICP - deflator'!$H81,IF($X$19=$S$17,'Baggrundsdata - HICP - deflator'!$G81,IF($S$17=$W$19,'Baggrundsdata - HICP - deflator'!$F81,IF($V$19=$S$17,'Baggrundsdata - HICP - deflator'!$E81,IF($U$19=$S$17,'Baggrundsdata - HICP - deflator'!$D81,IF($T$19=$S$17,'Baggrundsdata - HICP - deflator'!$C81,IF($S$19=$S$17,'Baggrundsdata - HICP - deflator'!$B81,\"*\"))))))))))),\"*\")","v":0.91008900000000004},{"$f":"IFERROR('Baggrundsdata - HICP - deflator'!E81/IF($AC$19=$S$17,$L81,IF($AB$19=$S$17,$K81,IF($AA$19=$S$17,$J81,IF($Z$19=$S$17,$I81,IF($Y$19=$S$17,'Baggrundsdata - HICP - deflator'!$H81,IF($X$19=$S$17,'Baggrundsdata - HICP - deflator'!$G81,IF($S$17=$W$19,'Baggrundsdata - HICP - deflator'!$F81,IF($V$19=$S$17,'Baggrundsdata - HICP - deflator'!$E81,IF($U$19=$S$17,'Baggrundsdata - HICP - deflator'!$D81,IF($T$19=$S$17,'Baggrundsdata - HICP - deflator'!$C81,IF($S$19=$S$17,'Baggrundsdata - HICP - deflator'!$B81,\"*\"))))))))))),\"*\")","v":0.92507400000000006},{"$f":"IFERROR('Baggrundsdata - HICP - deflator'!F81/IF($AC$19=$S$17,$L81,IF($AB$19=$S$17,$K81,IF($AA$19=$S$17,$J81,IF($Z$19=$S$17,$I81,IF($Y$19=$S$17,'Baggrundsdata - HICP - deflator'!$H81,IF($X$19=$S$17,'Baggrundsdata - HICP - deflator'!$G81,IF($S$17=$W$19,'Baggrundsdata - HICP - deflator'!$F81,IF($V$19=$S$17,'Baggrundsdata - HICP - deflator'!$E81,IF($U$19=$S$17,'Baggrundsdata - HICP - deflator'!$D81,IF($T$19=$S$17,'Baggrundsdata - HICP - deflator'!$C81,IF($S$19=$S$17,'Baggrundsdata - HICP - deflator'!$B81,\"*\"))))))))))),\"*\")","v":0.95204700000000009},{"$f":"IFERROR('Baggrundsdata - HICP - deflator'!G81/IF($AC$19=$S$17,$L81,IF($AB$19=$S$17,$K81,IF($AA$19=$S$17,$J81,IF($Z$19=$S$17,$I81,IF($Y$19=$S$17,'Baggrundsdata - HICP - deflator'!$H81,IF($X$19=$S$17,'Baggrundsdata - HICP - deflator'!$G81,IF($S$17=$W$19,'Baggrundsdata - HICP - deflator'!$F81,IF($V$19=$S$17,'Baggrundsdata - HICP - deflator'!$E81,IF($U$19=$S$17,'Baggrundsdata - HICP - deflator'!$D81,IF($T$19=$S$17,'Baggrundsdata - HICP - deflator'!$C81,IF($S$19=$S$17,'Baggrundsdata - HICP - deflator'!$B81,\"*\"))))))))))),\"*\")","v":0.98301600000000011},{"$f":"IFERROR('Baggrundsdata - HICP - deflator'!H81/IF($AC$19=$S$17,$L81,IF($AB$19=$S$17,$K81,IF($AA$19=$S$17,$J81,IF($Z$19=$S$17,$I81,IF($Y$19=$S$17,'Baggrundsdata - HICP - deflator'!$H81,IF($X$19=$S$17,'Baggrundsdata - HICP - deflator'!$G81,IF($S$17=$W$19,'Baggrundsdata - HICP - deflator'!$F81,IF($V$19=$S$17,'Baggrundsdata - HICP - deflator'!$E81,IF($U$19=$S$17,'Baggrundsdata - HICP - deflator'!$D81,IF($T$19=$S$17,'Baggrundsdata - HICP - deflator'!$C81,IF($S$19=$S$17,'Baggrundsdata - HICP - deflator'!$B81,\"*\"))))))))))),\"*\")","v":0.99600300000000008},{"$f":"IFERROR('Baggrundsdata - HICP - deflator'!I81/IF($AC$19=$S$17,$L81,IF($AB$19=$S$17,$K81,IF($AA$19=$S$17,$J81,IF($Z$19=$S$17,$I81,IF($Y$19=$S$17,'Baggrundsdata - HICP - deflator'!$H81,IF($X$19=$S$17,'Baggrundsdata - HICP - deflator'!$G81,IF($S$17=$W$19,'Baggrundsdata - HICP - deflator'!$F81,IF($V$19=$S$17,'Baggrundsdata - HICP - deflator'!$E81,IF($U$19=$S$17,'Baggrundsdata - HICP - deflator'!$D81,IF($T$19=$S$17,'Baggrundsdata - HICP - deflator'!$C81,IF($S$19=$S$17,'Baggrundsdata - HICP - deflator'!$B81,\"*\"))))))))))),\"*\")","v":0.99800100000000014},{"$f":"IFERROR('Baggrundsdata - HICP - deflator'!J81/IF($AC$19=$S$17,$L81,IF($AB$19=$S$17,$K81,IF($AA$19=$S$17,$J81,IF($Z$19=$S$17,$I81,IF($Y$19=$S$17,'Baggrundsdata - HICP - deflator'!$H81,IF($X$19=$S$17,'Baggrundsdata - HICP - deflator'!$G81,IF($S$17=$W$19,'Baggrundsdata - HICP - deflator'!$F81,IF($V$19=$S$17,'Baggrundsdata - HICP - deflator'!$E81,IF($U$19=$S$17,'Baggrundsdata - HICP - deflator'!$D81,IF($T$19=$S$17,'Baggrundsdata - HICP - deflator'!$C81,IF($S$19=$S$17,'Baggrundsdata - HICP - deflator'!$B81,\"*\"))))))))))),\"*\")","v":0.99900000000000011},{"$f":"IFERROR('Baggrundsdata - HICP - deflator'!K81/IF($AC$19=$S$17,$L81,IF($AB$19=$S$17,$K81,IF($AA$19=$S$17,$J81,IF($Z$19=$S$17,$I81,IF($Y$19=$S$17,'Baggrundsdata - HICP - deflator'!$H81,IF($X$19=$S$17,'Baggrundsdata - HICP - deflator'!$G81,IF($S$17=$W$19,'Baggrundsdata - HICP - deflator'!$F81,IF($V$19=$S$17,'Baggrundsdata - HICP - deflator'!$E81,IF($U$19=$S$17,'Baggrundsdata - HICP - deflator'!$D81,IF($T$19=$S$17,'Baggrundsdata - HICP - deflator'!$C81,IF($S$19=$S$17,'Baggrundsdata - HICP - deflator'!$B81,\"*\"))))))))))),\"*\")","v":1},{"$f":"IFERROR('Baggrundsdata - HICP - deflator'!L81/IF($AC$19=$S$17,$L81,IF($AB$19=$S$17,$K81,IF($AA$19=$S$17,$J81,IF($Z$19=$S$17,$I81,IF($Y$19=$S$17,'Baggrundsdata - HICP - deflator'!$H81,IF($X$19=$S$17,'Baggrundsdata - HICP - deflator'!$G81,IF($S$17=$W$19,'Baggrundsdata - HICP - deflator'!$F81,IF($V$19=$S$17,'Baggrundsdata - HICP - deflator'!$E81,IF($U$19=$S$17,'Baggrundsdata - HICP - deflator'!$D81,IF($T$19=$S$17,'Baggrundsdata - HICP - deflator'!$C81,IF($S$19=$S$17,'Baggrundsdata - HICP - deflator'!$B81,\"*\"))))))))))),\"*\")","v":0},null,{"$f":"IF(R25=Forside!B42,\"sand\",\"falsk\")","v":"sand"}]
[null,"Estland",{"$f":"IFERROR('Baggrundsdata - HICP - deflator'!B75/IF($M$19=$C$17,$L75,IF($L$19=$C$17,$K75,IF($K$19=$C$17,$J75,IF($J$19=$C$17,$I75,IF($I$19=$C$17,'Baggrundsdata - HICP - deflator'!$H75,IF($H$19=$C$17,'Baggrundsdata - HICP - deflator'!$G75,IF($C$17=$G$19,'Baggrundsdata - HICP - deflator'!$F75,IF($F$19=$C$17,'Baggrundsdata - HICP - deflator'!$E75,IF($E$19=$C$17,'Baggrundsdata - HICP - deflator'!$D75,IF($D$19=$C$17,'Baggrundsdata - HICP - deflator'!$C75,IF('Baggrundsdata - HICP - deflator'!$C$19='Baggrundsdata - HICP - deflator'!$C$17,'Baggrundsdata - HICP - deflator'!$B75,\"*\"))))))))))),\"*\")","v":0.7719592500000001},{"$f":"IFERROR('Baggrundsdata - HICP - deflator'!C75/IF($M$19=$C$17,$L75,IF($L$19=$C$17,$K75,IF($K$19=$C$17,$J75,IF($J$19=$C$17,$I75,IF($I$19=$C$17,'Baggrundsdata - HICP - deflator'!$H75,IF($H$19=$C$17,'Baggrundsdata - HICP - deflator'!$G75,IF($C$17=$G$19,'Baggrundsdata - HICP - deflator'!$F75,IF($F$19=$C$17,'Baggrundsdata - HICP - deflator'!$E75,IF($E$19=$C$17,'Baggrundsdata - HICP - deflator'!$D75,IF($D$19=$C$17,'Baggrundsdata - HICP - deflator'!$C75,IF('Baggrundsdata - HICP - deflator'!$C$19='Baggrundsdata - HICP - deflator'!$C$17,'Baggrundsdata - HICP - deflator'!$B75,\"*\"))))))))))),\"*\")","v":0.85390185000000018},{"$f":"IFERROR('Baggrundsdata - HICP - deflator'!D75/IF($M$19=$C$17,$L75,IF($L$19=$C$17,$K75,IF($K$19=$C$17,$J75,IF($J$19=$C$17,$I75,IF($I$19=$C$17,'Baggrundsdata - HICP - deflator'!$H75,IF($H$19=$C$17,'Baggrundsdata - HICP - deflator'!$G75,IF($C$17=$G$19,'Baggrundsdata - HICP - deflator'!$F75,IF($F$19=$C$17,'Baggrundsdata - HICP - deflator'!$E75,IF($E$19=$C$17,'Baggrundsdata - HICP - deflator'!$D75,IF($D$19=$C$17,'Baggrundsdata - HICP - deflator'!$C75,IF('Baggrundsdata - HICP - deflator'!$C$19='Baggrundsdata - HICP - deflator'!$C$17,'Baggrundsdata - HICP - deflator'!$B75,\"*\"))))))))))),\"*\")","v":0.85560066000000012},{"$f":"IFERROR('Baggrundsdata - HICP - deflator'!E75/IF($M$19=$C$17,$L75,IF($L$19=$C$17,$K75,IF($K$19=$C$17,$J75,IF($J$19=$C$17,$I75,IF($I$19=$C$17,'Baggrundsdata - HICP - deflator'!$H75,IF($H$19=$C$17,'Baggrundsdata - HICP - deflator'!$G75,IF($C$17=$G$19,'Baggrundsdata - HICP - deflator'!$F75,IF($F$19=$C$17,'Baggrundsdata - HICP - deflator'!$E75,IF($E$19=$C$17,'Baggrundsdata - HICP - deflator'!$D75,IF($D$19=$C$17,'Baggrundsdata - HICP - deflator'!$C75,IF('Baggrundsdata - HICP - deflator'!$C$19='Baggrundsdata - HICP - deflator'!$C$17,'Baggrundsdata - HICP - deflator'!$B75,\"*\"))))))))))),\"*\")","v":0.87898428000000006},{"$f":"IFERROR('Baggrundsdata - HICP - deflator'!F75/IF($M$19=$C$17,$L75,IF($L$19=$C$17,$K75,IF($K$19=$C$17,$J75,IF($J$19=$C$17,$I75,IF($I$19=$C$17,'Baggrundsdata - HICP - deflator'!$H75,IF($H$19=$C$17,'Baggrundsdata - HICP - deflator'!$G75,IF($C$17=$G$19,'Baggrundsdata - HICP - deflator'!$F75,IF($F$19=$C$17,'Baggrundsdata - HICP - deflator'!$E75,IF($E$19=$C$17,'Baggrundsdata - HICP - deflator'!$D75,IF($D$19=$C$17,'Baggrundsdata - HICP - deflator'!$C75,IF('Baggrundsdata - HICP - deflator'!$C$19='Baggrundsdata - HICP - deflator'!$C$17,'Baggrundsdata - HICP - deflator'!$B75,\"*\"))))))))))),\"*\")","v":0.92365299000000023},{"$f":"IFERROR('Baggrundsdata - HICP - deflator'!G75/IF($M$19=$C$17,$L75,IF($L$19=$C$17,$K75,IF($K$19=$C$17,$J75,IF($J$19=$C$17,$I75,IF($I$19=$C$17,'Baggrundsdata - HICP - deflator'!$H75,IF($H$19=$C$17,'Baggrundsdata - HICP - deflator'!$G75,IF($C$17=$G$19,'Baggrundsdata - HICP - deflator'!$F75,IF($F$19=$C$17,'Baggrundsdata - HICP - deflator'!$E75,IF($E$19=$C$17,'Baggrundsdata - HICP - deflator'!$D75,IF($D$19=$C$17,'Baggrundsdata - HICP - deflator'!$C75,IF('Baggrundsdata - HICP - deflator'!$C$19='Baggrundsdata - HICP - deflator'!$C$17,'Baggrundsdata - HICP - deflator'!$B75,\"*\"))))))))))),\"*\")","v":0.96262569000000009},{"$f":"IFERROR('Baggrundsdata - HICP - deflator'!H75/IF($M$19=$C$17,$L75,IF($L$19=$C$17,$K75,IF($K$19=$C$17,$J75,IF($J$19=$C$17,$I75,IF($I$19=$C$17,'Baggrundsdata - HICP - deflator'!$H75,IF($H$19=$C$17,'Baggrundsdata - HICP - deflator'!$G75,IF($C$17=$G$19,'Baggrundsdata - HICP - deflator'!$F75,IF($F$19=$C$17,'Baggrundsdata - HICP - deflator'!$E75,IF($E$19=$C$17,'Baggrundsdata - HICP - deflator'!$D75,IF($D$19=$C$17,'Baggrundsdata - HICP - deflator'!$C75,IF('Baggrundsdata - HICP - deflator'!$C$19='Baggrundsdata - HICP - deflator'!$C$17,'Baggrundsdata - HICP - deflator'!$B75,\"*\"))))))))))),\"*\")","v":0.99390378000000001},{"$f":"IFERROR('Baggrundsdata - HICP - deflator'!I75/IF($M$19=$C$17,$L75,IF($L$19=$C$17,$K75,IF($K$19=$C$17,$J75,IF($J$19=$C$17,$I75,IF($I$19=$C$17,'Baggrundsdata - HICP - deflator'!$H75,IF($H$19=$C$17,'Baggrundsdata - HICP - deflator'!$G75,IF($C$17=$G$19,'Baggrundsdata - HICP - deflator'!$F75,IF($F$19=$C$17,'Baggrundsdata - HICP - deflator'!$E75,IF($E$19=$C$17,'Baggrundsdata - HICP - deflator'!$D75,IF($D$19=$C$17,'Baggrundsdata - HICP - deflator'!$C75,IF('Baggrundsdata - HICP - deflator'!$C$19='Baggrundsdata - HICP - deflator'!$C$17,'Baggrundsdata - HICP - deflator'!$B75,\"*\"))))))))))),\"*\")","v":0.99860049000000017},{"$f":"IFERROR('Baggrundsdata - HICP - deflator'!J75/IF($M$19=$C$17,$L75,IF($L$19=$C$17,$K75,IF($K$19=$C$17,$J75,IF($J$19=$C$17,$I75,IF($I$19=$C$17,'Baggrundsdata - HICP - deflator'!$H75,IF($H$19=$C$17,'Baggrundsdata - HICP - deflator'!$G75,IF($C$17=$G$19,'Baggrundsdata - HICP - deflator'!$F75,IF($F$19=$C$17,'Baggrundsdata - HICP - deflator'!$E75,IF($E$19=$C$17,'Baggrundsdata - HICP - deflator'!$D75,IF($D$19=$C$17,'Baggrundsdata - HICP - deflator'!$C75,IF('Baggrundsdata - HICP - deflator'!$C$19='Baggrundsdata - HICP - deflator'!$C$17,'Baggrundsdata - HICP - deflator'!$B75,\"*\"))))))))))),\"*\")","v":0.99930000000000008},{"$f":"IFERROR('Baggrundsdata - HICP - deflator'!K75/IF($M$19=$C$17,$L75,IF($L$19=$C$17,$K75,IF($K$19=$C$17,$J75,IF($J$19=$C$17,$I75,IF($I$19=$C$17,'Baggrundsdata - HICP - deflator'!$H75,IF($H$19=$C$17,'Baggrundsdata - HICP - deflator'!$G75,IF($C$17=$G$19,'Baggrundsdata - HICP - deflator'!$F75,IF($F$19=$C$17,'Baggrundsdata - HICP - deflator'!$E75,IF($E$19=$C$17,'Baggrundsdata - HICP - deflator'!$D75,IF($D$19=$C$17,'Baggrundsdata - HICP - deflator'!$C75,IF('Baggrundsdata - HICP - deflator'!$C$19='Baggrundsdata - HICP - deflator'!$C$17,'Baggrundsdata - HICP - deflator'!$B75,\"*\"))))))))))),\"*\")","v":1},{"$f":"IFERROR('Baggrundsdata - HICP - deflator'!L75/IF($M$19=$C$17,$L75,IF($L$19=$C$17,$K75,IF($K$19=$C$17,$J75,IF($J$19=$C$17,$I75,IF($I$19=$C$17,'Baggrundsdata - HICP - deflator'!$H75,IF($H$19=$C$17,'Baggrundsdata - HICP - deflator'!$G75,IF($C$17=$G$19,'Baggrundsdata - HICP - deflator'!$F75,IF($F$19=$C$17,'Baggrundsdata - HICP - deflator'!$E75,IF($E$19=$C$17,'Baggrundsdata - HICP - deflator'!$D75,IF($D$19=$C$17,'Baggrundsdata - HICP - deflator'!$C75,IF('Baggrundsdata - HICP - deflator'!$C$19='Baggrundsdata - HICP - deflator'!$C$17,'Baggrundsdata - HICP - deflator'!$B75,\"*\"))))))))))),\"*\")","v":0},null,{"$f":"IF(A75='Level 1'!A59,\"sand\",\"falsk\")","v":"sand"},null,null,{"$f":"IF(A88=\"European Union (28 countries)\",\"EU-28\",IF(A88=\"Belgium\",\"Belgien\",IF(A88=\"Denmark\",\"Danmark\",IF(A88=\"Germany (until 1990 former territory of the FRG)\",\"Tyskland\",IF(A88=\"Spain\",\"Spanien\",IF(A88=\"france\",\"Frankrig\",IF(A88=\"italy\",\"Italien\",IF(A88=\"Netherlands\",\"Holland\",IF(A88=\"sweden\",\"Sverige\",IF(A88=\"United kingdom\",\"UK\",IF(A88=\"Norway\",\"Norge\",IF(A88=\"New Country\",\"Nyt land\",0))))))))))))","v":"Holland"},{"$f":"IFERROR('Baggrundsdata - HICP - deflator'!B88/IF($AC$19=$S$17,$L88,IF($AB$19=$S$17,$K88,IF($AA$19=$S$17,$J88,IF($Z$19=$S$17,$I88,IF($Y$19=$S$17,'Baggrundsdata - HICP - deflator'!$H88,IF($X$19=$S$17,'Baggrundsdata - HICP - deflator'!$G88,IF($S$17=$W$19,'Baggrundsdata - HICP - deflator'!$F88,IF($V$19=$S$17,'Baggrundsdata - HICP - deflator'!$E88,IF($U$19=$S$17,'Baggrundsdata - HICP - deflator'!$D88,IF($T$19=$S$17,'Baggrundsdata - HICP - deflator'!$C88,IF($S$19=$S$17,'Baggrundsdata - HICP - deflator'!$B88,\"*\"))))))))))),\"*\")","v":0.88174444000000007},{"$f":"IFERROR('Baggrundsdata - HICP - deflator'!C88/IF($AC$19=$S$17,$L88,IF($AB$19=$S$17,$K88,IF($AA$19=$S$17,$J88,IF($Z$19=$S$17,$I88,IF($Y$19=$S$17,'Baggrundsdata - HICP - deflator'!$H88,IF($X$19=$S$17,'Baggrundsdata - HICP - deflator'!$G88,IF($S$17=$W$19,'Baggrundsdata - HICP - deflator'!$F88,IF($V$19=$S$17,'Baggrundsdata - HICP - deflator'!$E88,IF($U$19=$S$17,'Baggrundsdata - HICP - deflator'!$D88,IF($T$19=$S$17,'Baggrundsdata - HICP - deflator'!$C88,IF($S$19=$S$17,'Baggrundsdata - HICP - deflator'!$B88,\"*\"))))))))))),\"*\")","v":0.90130328000000004},{"$f":"IFERROR('Baggrundsdata - HICP - deflator'!D88/IF($AC$19=$S$17,$L88,IF($AB$19=$S$17,$K88,IF($AA$19=$S$17,$J88,IF($Z$19=$S$17,$I88,IF($Y$19=$S$17,'Baggrundsdata - HICP - deflator'!$H88,IF($X$19=$S$17,'Baggrundsdata - HICP - deflator'!$G88,IF($S$17=$W$19,'Baggrundsdata - HICP - deflator'!$F88,IF($V$19=$S$17,'Baggrundsdata - HICP - deflator'!$E88,IF($U$19=$S$17,'Baggrundsdata - HICP - deflator'!$D88,IF($T$19=$S$17,'Baggrundsdata - HICP - deflator'!$C88,IF($S$19=$S$17,'Baggrundsdata - HICP - deflator'!$B88,\"*\"))))))))))),\"*\")","v":0.91008480000000014},{"$f":"IFERROR('Baggrundsdata - HICP - deflator'!E88/IF($AC$19=$S$17,$L88,IF($AB$19=$S$17,$K88,IF($AA$19=$S$17,$J88,IF($Z$19=$S$17,$I88,IF($Y$19=$S$17,'Baggrundsdata - HICP - deflator'!$H88,IF($X$19=$S$17,'Baggrundsdata - HICP - deflator'!$G88,IF($S$17=$W$19,'Baggrundsdata - HICP - deflator'!$F88,IF($V$19=$S$17,'Baggrundsdata - HICP - deflator'!$E88,IF($U$19=$S$17,'Baggrundsdata - HICP - deflator'!$D88,IF($T$19=$S$17,'Baggrundsdata - HICP - deflator'!$C88,IF($S$19=$S$17,'Baggrundsdata - HICP - deflator'!$B88,\"*\"))))))))))),\"*\")","v":0.9185669500000001},{"$f":"IFERROR('Baggrundsdata - HICP - deflator'!F88/IF($AC$19=$S$17,$L88,IF($AB$19=$S$17,$K88,IF($AA$19=$S$17,$J88,IF($Z$19=$S$17,$I88,IF($Y$19=$S$17,'Baggrundsdata - HICP - deflator'!$H88,IF($X$19=$S$17,'Baggrundsdata - HICP - deflator'!$G88,IF($S$17=$W$19,'Baggrundsdata - HICP - deflator'!$F88,IF($V$19=$S$17,'Baggrundsdata - HICP - deflator'!$E88,IF($U$19=$S$17,'Baggrundsdata - HICP - deflator'!$D88,IF($T$19=$S$17,'Baggrundsdata - HICP - deflator'!$C88,IF($S$19=$S$17,'Baggrundsdata - HICP - deflator'!$B88,\"*\"))))))))))),\"*\")","v":0.94121927999999999},{"$f":"IFERROR('Baggrundsdata - HICP - deflator'!G88/IF($AC$19=$S$17,$L88,IF($AB$19=$S$17,$K88,IF($AA$19=$S$17,$J88,IF($Z$19=$S$17,$I88,IF($Y$19=$S$17,'Baggrundsdata - HICP - deflator'!$H88,IF($X$19=$S$17,'Baggrundsdata - HICP - deflator'!$G88,IF($S$17=$W$19,'Baggrundsdata - HICP - deflator'!$F88,IF($V$19=$S$17,'Baggrundsdata - HICP - deflator'!$E88,IF($U$19=$S$17,'Baggrundsdata - HICP - deflator'!$D88,IF($T$19=$S$17,'Baggrundsdata - HICP - deflator'!$C88,IF($S$19=$S$17,'Baggrundsdata - HICP - deflator'!$B88,\"*\"))))))))))),\"*\")","v":0.96786321000000008},{"$f":"IFERROR('Baggrundsdata - HICP - deflator'!H88/IF($AC$19=$S$17,$L88,IF($AB$19=$S$17,$K88,IF($AA$19=$S$17,$J88,IF($Z$19=$S$17,$I88,IF($Y$19=$S$17,'Baggrundsdata - HICP - deflator'!$H88,IF($X$19=$S$17,'Baggrundsdata - HICP - deflator'!$G88,IF($S$17=$W$19,'Baggrundsdata - HICP - deflator'!$F88,IF($V$19=$S$17,'Baggrundsdata - HICP - deflator'!$E88,IF($U$19=$S$17,'Baggrundsdata - HICP - deflator'!$D88,IF($T$19=$S$17,'Baggrundsdata - HICP - deflator'!$C88,IF($S$19=$S$17,'Baggrundsdata - HICP - deflator'!$B88,\"*\"))))))))))),\"*\")","v":0.99261113000000012},{"$f":"IFERROR('Baggrundsdata - HICP - deflator'!I88/IF($AC$19=$S$17,$L88,IF($AB$19=$S$17,$K88,IF($AA$19=$S$17,$J88,IF($Z$19=$S$17,$I88,IF($Y$19=$S$17,'Baggrundsdata - HICP - deflator'!$H88,IF($X$19=$S$17,'Baggrundsdata - HICP - deflator'!$G88,IF($S$17=$W$19,'Baggrundsdata - HICP - deflator'!$F88,IF($V$19=$S$17,'Baggrundsdata - HICP - deflator'!$E88,IF($U$19=$S$17,'Baggrundsdata - HICP - deflator'!$D88,IF($T$19=$S$17,'Baggrundsdata - HICP - deflator'!$C88,IF($S$19=$S$17,'Baggrundsdata - HICP - deflator'!$B88,\"*\"))))))))))),\"*\")","v":0.9958044100000002},{"$f":"IFERROR('Baggrundsdata - HICP - deflator'!J88/IF($AC$19=$S$17,$L88,IF($AB$19=$S$17,$K88,IF($AA$19=$S$17,$J88,IF($Z$19=$S$17,$I88,IF($Y$19=$S$17,'Baggrundsdata - HICP - deflator'!$H88,IF($X$19=$S$17,'Baggrundsdata - HICP - deflator'!$G88,IF($S$17=$W$19,'Baggrundsdata - HICP - deflator'!$F88,IF($V$19=$S$17,'Baggrundsdata - HICP - deflator'!$E88,IF($U$19=$S$17,'Baggrundsdata - HICP - deflator'!$D88,IF($T$19=$S$17,'Baggrundsdata - HICP - deflator'!$C88,IF($S$19=$S$17,'Baggrundsdata - HICP - deflator'!$B88,\"*\"))))))))))),\"*\")","v":0.99790000000000012},{"$f":"IFERROR('Baggrundsdata - HICP - deflator'!K88/IF($AC$19=$S$17,$L88,IF($AB$19=$S$17,$K88,IF($AA$19=$S$17,$J88,IF($Z$19=$S$17,$I88,IF($Y$19=$S$17,'Baggrundsdata - HICP - deflator'!$H88,IF($X$19=$S$17,'Baggrundsdata - HICP - deflator'!$G88,IF($S$17=$W$19,'Baggrundsdata - HICP - deflator'!$F88,IF($V$19=$S$17,'Baggrundsdata - HICP - deflator'!$E88,IF($U$19=$S$17,'Baggrundsdata - HICP - deflator'!$D88,IF($T$19=$S$17,'Baggrundsdata - HICP - deflator'!$C88,IF($S$19=$S$17,'Baggrundsdata - HICP - deflator'!$B88,\"*\"))))))))))),\"*\")","v":1},{"$f":"IFERROR('Baggrundsdata - HICP - deflator'!L88/IF($AC$19=$S$17,$L88,IF($AB$19=$S$17,$K88,IF($AA$19=$S$17,$J88,IF($Z$19=$S$17,$I88,IF($Y$19=$S$17,'Baggrundsdata - HICP - deflator'!$H88,IF($X$19=$S$17,'Baggrundsdata - HICP - deflator'!$G88,IF($S$17=$W$19,'Baggrundsdata - HICP - deflator'!$F88,IF($V$19=$S$17,'Baggrundsdata - HICP - deflator'!$E88,IF($U$19=$S$17,'Baggrundsdata - HICP - deflator'!$D88,IF($T$19=$S$17,'Baggrundsdata - HICP - deflator'!$C88,IF($S$19=$S$17,'Baggrundsdata - HICP - deflator'!$B88,\"*\"))))))))))),\"*\")","v":0},null,{"$f":"IF(R26=Forside!B43,\"sand\",\"falsk\")","v":"sand"}]
[null,"Irland",{"$f":"IFERROR('Baggrundsdata - HICP - deflator'!B76/IF($M$19=$C$17,$L76,IF($L$19=$C$17,$K76,IF($K$19=$C$17,$J76,IF($J$19=$C$17,$I76,IF($I$19=$C$17,'Baggrundsdata - HICP - deflator'!$H76,IF($H$19=$C$17,'Baggrundsdata - HICP - deflator'!$G76,IF($C$17=$G$19,'Baggrundsdata - HICP - deflator'!$F76,IF($F$19=$C$17,'Baggrundsdata - HICP - deflator'!$E76,IF($E$19=$C$17,'Baggrundsdata - HICP - deflator'!$D76,IF($D$19=$C$17,'Baggrundsdata - HICP - deflator'!$C76,IF('Baggrundsdata - HICP - deflator'!$C$19='Baggrundsdata - HICP - deflator'!$C$17,'Baggrundsdata - HICP - deflator'!$B76,\"*\"))))))))))),\"*\")","v":0.96400000000000008},{"$f":"IFERROR('Baggrundsdata - HICP - deflator'!C76/IF($M$19=$C$17,$L76,IF($L$19=$C$17,$K76,IF($K$19=$C$17,$J76,IF($J$19=$C$17,$I76,IF($I$19=$C$17,'Baggrundsdata - HICP - deflator'!$H76,IF($H$19=$C$17,'Baggrundsdata - HICP - deflator'!$G76,IF($C$17=$G$19,'Baggrundsdata - HICP - deflator'!$F76,IF($F$19=$C$17,'Baggrundsdata - HICP - deflator'!$E76,IF($E$19=$C$17,'Baggrundsdata - HICP - deflator'!$D76,IF($D$19=$C$17,'Baggrundsdata - HICP - deflator'!$C76,IF('Baggrundsdata - HICP - deflator'!$C$19='Baggrundsdata - HICP - deflator'!$C$17,'Baggrundsdata - HICP - deflator'!$B76,\"*\"))))))))))),\"*\")","v":0.995},{"$f":"IFERROR('Baggrundsdata - HICP - deflator'!D76/IF($M$19=$C$17,$L76,IF($L$19=$C$17,$K76,IF($K$19=$C$17,$J76,IF($J$19=$C$17,$I76,IF($I$19=$C$17,'Baggrundsdata - HICP - deflator'!$H76,IF($H$19=$C$17,'Baggrundsdata - HICP - deflator'!$G76,IF($C$17=$G$19,'Baggrundsdata - HICP - deflator'!$F76,IF($F$19=$C$17,'Baggrundsdata - HICP - deflator'!$E76,IF($E$19=$C$17,'Baggrundsdata - HICP - deflator'!$D76,IF($D$19=$C$17,'Baggrundsdata - HICP - deflator'!$C76,IF('Baggrundsdata - HICP - deflator'!$C$19='Baggrundsdata - HICP - deflator'!$C$17,'Baggrundsdata - HICP - deflator'!$B76,\"*\"))))))))))),\"*\")","v":0.97799999999999998},{"$f":"IFERROR('Baggrundsdata - HICP - deflator'!E76/IF($M$19=$C$17,$L76,IF($L$19=$C$17,$K76,IF($K$19=$C$17,$J76,IF($J$19=$C$17,$I76,IF($I$19=$C$17,'Baggrundsdata - HICP - deflator'!$H76,IF($H$19=$C$17,'Baggrundsdata - HICP - deflator'!$G76,IF($C$17=$G$19,'Baggrundsdata - HICP - deflator'!$F76,IF($F$19=$C$17,'Baggrundsdata - HICP - deflator'!$E76,IF($E$19=$C$17,'Baggrundsdata - HICP - deflator'!$D76,IF($D$19=$C$17,'Baggrundsdata - HICP - deflator'!$C76,IF('Baggrundsdata - HICP - deflator'!$C$19='Baggrundsdata - HICP - deflator'!$C$17,'Baggrundsdata - HICP - deflator'!$B76,\"*\"))))))))))),\"*\")","v":0.96200000000000008},{"$f":"IFERROR('Baggrundsdata - HICP - deflator'!F76/IF($M$19=$C$17,$L76,IF($L$19=$C$17,$K76,IF($K$19=$C$17,$J76,IF($J$19=$C$17,$I76,IF($I$19=$C$17,'Baggrundsdata - HICP - deflator'!$H76,IF($H$19=$C$17,'Baggrundsdata - HICP - deflator'!$G76,IF($C$17=$G$19,'Baggrundsdata - HICP - deflator'!$F76,IF($F$19=$C$17,'Baggrundsdata - HICP - deflator'!$E76,IF($E$19=$C$17,'Baggrundsdata - HICP - deflator'!$D76,IF($D$19=$C$17,'Baggrundsdata - HICP - deflator'!$C76,IF('Baggrundsdata - HICP - deflator'!$C$19='Baggrundsdata - HICP - deflator'!$C$17,'Baggrundsdata - HICP - deflator'!$B76,\"*\"))))))))))),\"*\")","v":0.97400000000000009},{"$f":"IFERROR('Baggrundsdata - HICP - deflator'!G76/IF($M$19=$C$17,$L76,IF($L$19=$C$17,$K76,IF($K$19=$C$17,$J76,IF($J$19=$C$17,$I76,IF($I$19=$C$17,'Baggrundsdata - HICP - deflator'!$H76,IF($H$19=$C$17,'Baggrundsdata - HICP - deflator'!$G76,IF($C$17=$G$19,'Baggrundsdata - HICP - deflator'!$F76,IF($F$19=$C$17,'Baggrundsdata - HICP - deflator'!$E76,IF($E$19=$C$17,'Baggrundsdata - HICP - deflator'!$D76,IF($D$19=$C$17,'Baggrundsdata - HICP - deflator'!$C76,IF('Baggrundsdata - HICP - deflator'!$C$19='Baggrundsdata - HICP - deflator'!$C$17,'Baggrundsdata - HICP - deflator'!$B76,\"*\"))))))))))),\"*\")","v":0.99199999999999999},{"$f":"IFERROR('Baggrundsdata - HICP - deflator'!H76/IF($M$19=$C$17,$L76,IF($L$19=$C$17,$K76,IF($K$19=$C$17,$J76,IF($J$19=$C$17,$I76,IF($I$19=$C$17,'Baggrundsdata - HICP - deflator'!$H76,IF($H$19=$C$17,'Baggrundsdata - HICP - deflator'!$G76,IF($C$17=$G$19,'Baggrundsdata - HICP - deflator'!$F76,IF($F$19=$C$17,'Baggrundsdata - HICP - deflator'!$E76,IF($E$19=$C$17,'Baggrundsdata - HICP - deflator'!$D76,IF($D$19=$C$17,'Baggrundsdata - HICP - deflator'!$C76,IF('Baggrundsdata - HICP - deflator'!$C$19='Baggrundsdata - HICP - deflator'!$C$17,'Baggrundsdata - HICP - deflator'!$B76,\"*\"))))))))))),\"*\")","v":0.997},{"$f":"IFERROR('Baggrundsdata - HICP - deflator'!I76/IF($M$19=$C$17,$L76,IF($L$19=$C$17,$K76,IF($K$19=$C$17,$J76,IF($J$19=$C$17,$I76,IF($I$19=$C$17,'Baggrundsdata - HICP - deflator'!$H76,IF($H$19=$C$17,'Baggrundsdata - HICP - deflator'!$G76,IF($C$17=$G$19,'Baggrundsdata - HICP - deflator'!$F76,IF($F$19=$C$17,'Baggrundsdata - HICP - deflator'!$E76,IF($E$19=$C$17,'Baggrundsdata - HICP - deflator'!$D76,IF($D$19=$C$17,'Baggrundsdata - HICP - deflator'!$C76,IF('Baggrundsdata - HICP - deflator'!$C$19='Baggrundsdata - HICP - deflator'!$C$17,'Baggrundsdata - HICP - deflator'!$B76,\"*\"))))))))))),\"*\")","v":1},{"$f":"IFERROR('Baggrundsdata - HICP - deflator'!J76/IF($M$19=$C$17,$L76,IF($L$19=$C$17,$K76,IF($K$19=$C$17,$J76,IF($J$19=$C$17,$I76,IF($I$19=$C$17,'Baggrundsdata - HICP - deflator'!$H76,IF($H$19=$C$17,'Baggrundsdata - HICP - deflator'!$G76,IF($C$17=$G$19,'Baggrundsdata - HICP - deflator'!$F76,IF($F$19=$C$17,'Baggrundsdata - HICP - deflator'!$E76,IF($E$19=$C$17,'Baggrundsdata - HICP - deflator'!$D76,IF($D$19=$C$17,'Baggrundsdata - HICP - deflator'!$C76,IF('Baggrundsdata - HICP - deflator'!$C$19='Baggrundsdata - HICP - deflator'!$C$17,'Baggrundsdata - HICP - deflator'!$B76,\"*\"))))))))))),\"*\")","v":1},{"$f":"IFERROR('Baggrundsdata - HICP - deflator'!K76/IF($M$19=$C$17,$L76,IF($L$19=$C$17,$K76,IF($K$19=$C$17,$J76,IF($J$19=$C$17,$I76,IF($I$19=$C$17,'Baggrundsdata - HICP - deflator'!$H76,IF($H$19=$C$17,'Baggrundsdata - HICP - deflator'!$G76,IF($C$17=$G$19,'Baggrundsdata - HICP - deflator'!$F76,IF($F$19=$C$17,'Baggrundsdata - HICP - deflator'!$E76,IF($E$19=$C$17,'Baggrundsdata - HICP - deflator'!$D76,IF($D$19=$C$17,'Baggrundsdata - HICP - deflator'!$C76,IF('Baggrundsdata - HICP - deflator'!$C$19='Baggrundsdata - HICP - deflator'!$C$17,'Baggrundsdata - HICP - deflator'!$B76,\"*\"))))))))))),\"*\")","v":1},{"$f":"IFERROR('Baggrundsdata - HICP - deflator'!L76/IF($M$19=$C$17,$L76,IF($L$19=$C$17,$K76,IF($K$19=$C$17,$J76,IF($J$19=$C$17,$I76,IF($I$19=$C$17,'Baggrundsdata - HICP - deflator'!$H76,IF($H$19=$C$17,'Baggrundsdata - HICP - deflator'!$G76,IF($C$17=$G$19,'Baggrundsdata - HICP - deflator'!$F76,IF($F$19=$C$17,'Baggrundsdata - HICP - deflator'!$E76,IF($E$19=$C$17,'Baggrundsdata - HICP - deflator'!$D76,IF($D$19=$C$17,'Baggrundsdata - HICP - deflator'!$C76,IF('Baggrundsdata - HICP - deflator'!$C$19='Baggrundsdata - HICP - deflator'!$C$17,'Baggrundsdata - HICP - deflator'!$B76,\"*\"))))))))))),\"*\")","v":0},null,{"$f":"IF(A76='Level 1'!A60,\"sand\",\"falsk\")","v":"sand"},null,null,{"$f":"IF(A96=\"European Union (28 countries)\",\"EU-28\",IF(A96=\"Belgium\",\"Belgien\",IF(A96=\"Denmark\",\"Danmark\",IF(A96=\"Germany (until 1990 former territory of the FRG)\",\"Tyskland\",IF(A96=\"Spain\",\"Spanien\",IF(A96=\"france\",\"Frankrig\",IF(A96=\"italy\",\"Italien\",IF(A96=\"Netherlands\",\"Holland\",IF(A96=\"sweden\",\"Sverige\",IF(A96=\"United kingdom\",\"UK\",IF(A96=\"Norway\",\"Norge\",IF(A96=\"New Country\",\"Nyt land\",0))))))))))))","v":"Sverige"},{"$f":"IFERROR('Baggrundsdata - HICP - deflator'!B96/IF($AC$19=$S$17,$L96,IF($AB$19=$S$17,$K96,IF($AA$19=$S$17,$J96,IF($Z$19=$S$17,$I96,IF($Y$19=$S$17,'Baggrundsdata - HICP - deflator'!$H96,IF($X$19=$S$17,'Baggrundsdata - HICP - deflator'!$G96,IF($S$17=$W$19,'Baggrundsdata - HICP - deflator'!$F96,IF($V$19=$S$17,'Baggrundsdata - HICP - deflator'!$E96,IF($U$19=$S$17,'Baggrundsdata - HICP - deflator'!$D96,IF($T$19=$S$17,'Baggrundsdata - HICP - deflator'!$C96,IF($S$19=$S$17,'Baggrundsdata - HICP - deflator'!$B96,\"*\"))))))))))),\"*\")","v":0.89191260000000006},{"$f":"IFERROR('Baggrundsdata - HICP - deflator'!C96/IF($AC$19=$S$17,$L96,IF($AB$19=$S$17,$K96,IF($AA$19=$S$17,$J96,IF($Z$19=$S$17,$I96,IF($Y$19=$S$17,'Baggrundsdata - HICP - deflator'!$H96,IF($X$19=$S$17,'Baggrundsdata - HICP - deflator'!$G96,IF($S$17=$W$19,'Baggrundsdata - HICP - deflator'!$F96,IF($V$19=$S$17,'Baggrundsdata - HICP - deflator'!$E96,IF($U$19=$S$17,'Baggrundsdata - HICP - deflator'!$D96,IF($T$19=$S$17,'Baggrundsdata - HICP - deflator'!$C96,IF($S$19=$S$17,'Baggrundsdata - HICP - deflator'!$B96,\"*\"))))))))))),\"*\")","v":0.92180190000000006},{"$f":"IFERROR('Baggrundsdata - HICP - deflator'!D96/IF($AC$19=$S$17,$L96,IF($AB$19=$S$17,$K96,IF($AA$19=$S$17,$J96,IF($Z$19=$S$17,$I96,IF($Y$19=$S$17,'Baggrundsdata - HICP - deflator'!$H96,IF($X$19=$S$17,'Baggrundsdata - HICP - deflator'!$G96,IF($S$17=$W$19,'Baggrundsdata - HICP - deflator'!$F96,IF($V$19=$S$17,'Baggrundsdata - HICP - deflator'!$E96,IF($U$19=$S$17,'Baggrundsdata - HICP - deflator'!$D96,IF($T$19=$S$17,'Baggrundsdata - HICP - deflator'!$C96,IF($S$19=$S$17,'Baggrundsdata - HICP - deflator'!$B96,\"*\"))))))))))),\"*\")","v":0.93967590000000001},{"$f":"IFERROR('Baggrundsdata - HICP - deflator'!E96/IF($AC$19=$S$17,$L96,IF($AB$19=$S$17,$K96,IF($AA$19=$S$17,$J96,IF($Z$19=$S$17,$I96,IF($Y$19=$S$17,'Baggrundsdata - HICP - deflator'!$H96,IF($X$19=$S$17,'Baggrundsdata - HICP - deflator'!$G96,IF($S$17=$W$19,'Baggrundsdata - HICP - deflator'!$F96,IF($V$19=$S$17,'Baggrundsdata - HICP - deflator'!$E96,IF($U$19=$S$17,'Baggrundsdata - HICP - deflator'!$D96,IF($T$19=$S$17,'Baggrundsdata - HICP - deflator'!$C96,IF($S$19=$S$17,'Baggrundsdata - HICP - deflator'!$B96,\"*\"))))))))))),\"*\")","v":0.95754990000000018},{"$f":"IFERROR('Baggrundsdata - HICP - deflator'!F96/IF($AC$19=$S$17,$L96,IF($AB$19=$S$17,$K96,IF($AA$19=$S$17,$J96,IF($Z$19=$S$17,$I96,IF($Y$19=$S$17,'Baggrundsdata - HICP - deflator'!$H96,IF($X$19=$S$17,'Baggrundsdata - HICP - deflator'!$G96,IF($S$17=$W$19,'Baggrundsdata - HICP - deflator'!$F96,IF($V$19=$S$17,'Baggrundsdata - HICP - deflator'!$E96,IF($U$19=$S$17,'Baggrundsdata - HICP - deflator'!$D96,IF($T$19=$S$17,'Baggrundsdata - HICP - deflator'!$C96,IF($S$19=$S$17,'Baggrundsdata - HICP - deflator'!$B96,\"*\"))))))))))),\"*\")","v":0.97065750000000006},{"$f":"IFERROR('Baggrundsdata - HICP - deflator'!G96/IF($AC$19=$S$17,$L96,IF($AB$19=$S$17,$K96,IF($AA$19=$S$17,$J96,IF($Z$19=$S$17,$I96,IF($Y$19=$S$17,'Baggrundsdata - HICP - deflator'!$H96,IF($X$19=$S$17,'Baggrundsdata - HICP - deflator'!$G96,IF($S$17=$W$19,'Baggrundsdata - HICP - deflator'!$F96,IF($V$19=$S$17,'Baggrundsdata - HICP - deflator'!$E96,IF($U$19=$S$17,'Baggrundsdata - HICP - deflator'!$D96,IF($T$19=$S$17,'Baggrundsdata - HICP - deflator'!$C96,IF($S$19=$S$17,'Baggrundsdata - HICP - deflator'!$B96,\"*\"))))))))))),\"*\")","v":0.97969380000000006},{"$f":"IFERROR('Baggrundsdata - HICP - deflator'!H96/IF($AC$19=$S$17,$L96,IF($AB$19=$S$17,$K96,IF($AA$19=$S$17,$J96,IF($Z$19=$S$17,$I96,IF($Y$19=$S$17,'Baggrundsdata - HICP - deflator'!$H96,IF($X$19=$S$17,'Baggrundsdata - HICP - deflator'!$G96,IF($S$17=$W$19,'Baggrundsdata - HICP - deflator'!$F96,IF($V$19=$S$17,'Baggrundsdata - HICP - deflator'!$E96,IF($U$19=$S$17,'Baggrundsdata - HICP - deflator'!$D96,IF($T$19=$S$17,'Baggrundsdata - HICP - deflator'!$C96,IF($S$19=$S$17,'Baggrundsdata - HICP - deflator'!$B96,\"*\"))))))))))),\"*\")","v":0.98406300000000002},{"$f":"IFERROR('Baggrundsdata - HICP - deflator'!I96/IF($AC$19=$S$17,$L96,IF($AB$19=$S$17,$K96,IF($AA$19=$S$17,$J96,IF($Z$19=$S$17,$I96,IF($Y$19=$S$17,'Baggrundsdata - HICP - deflator'!$H96,IF($X$19=$S$17,'Baggrundsdata - HICP - deflator'!$G96,IF($S$17=$W$19,'Baggrundsdata - HICP - deflator'!$F96,IF($V$19=$S$17,'Baggrundsdata - HICP - deflator'!$E96,IF($U$19=$S$17,'Baggrundsdata - HICP - deflator'!$D96,IF($T$19=$S$17,'Baggrundsdata - HICP - deflator'!$C96,IF($S$19=$S$17,'Baggrundsdata - HICP - deflator'!$B96,\"*\"))))))))))),\"*\")","v":0.98604900000000006},{"$f":"IFERROR('Baggrundsdata - HICP - deflator'!J96/IF($AC$19=$S$17,$L96,IF($AB$19=$S$17,$K96,IF($AA$19=$S$17,$J96,IF($Z$19=$S$17,$I96,IF($Y$19=$S$17,'Baggrundsdata - HICP - deflator'!$H96,IF($X$19=$S$17,'Baggrundsdata - HICP - deflator'!$G96,IF($S$17=$W$19,'Baggrundsdata - HICP - deflator'!$F96,IF($V$19=$S$17,'Baggrundsdata - HICP - deflator'!$E96,IF($U$19=$S$17,'Baggrundsdata - HICP - deflator'!$D96,IF($T$19=$S$17,'Baggrundsdata - HICP - deflator'!$C96,IF($S$19=$S$17,'Baggrundsdata - HICP - deflator'!$B96,\"*\"))))))))))),\"*\")","v":0.9930000000000001},{"$f":"IFERROR('Baggrundsdata - HICP - deflator'!K96/IF($AC$19=$S$17,$L96,IF($AB$19=$S$17,$K96,IF($AA$19=$S$17,$J96,IF($Z$19=$S$17,$I96,IF($Y$19=$S$17,'Baggrundsdata - HICP - deflator'!$H96,IF($X$19=$S$17,'Baggrundsdata - HICP - deflator'!$G96,IF($S$17=$W$19,'Baggrundsdata - HICP - deflator'!$F96,IF($V$19=$S$17,'Baggrundsdata - HICP - deflator'!$E96,IF($U$19=$S$17,'Baggrundsdata - HICP - deflator'!$D96,IF($T$19=$S$17,'Baggrundsdata - HICP - deflator'!$C96,IF($S$19=$S$17,'Baggrundsdata - HICP - deflator'!$B96,\"*\"))))))))))),\"*\")","v":1},{"$f":"IFERROR('Baggrundsdata - HICP - deflator'!L96/IF($AC$19=$S$17,$L96,IF($AB$19=$S$17,$K96,IF($AA$19=$S$17,$J96,IF($Z$19=$S$17,$I96,IF($Y$19=$S$17,'Baggrundsdata - HICP - deflator'!$H96,IF($X$19=$S$17,'Baggrundsdata - HICP - deflator'!$G96,IF($S$17=$W$19,'Baggrundsdata - HICP - deflator'!$F96,IF($V$19=$S$17,'Baggrundsdata - HICP - deflator'!$E96,IF($U$19=$S$17,'Baggrundsdata - HICP - deflator'!$D96,IF($T$19=$S$17,'Baggrundsdata - HICP - deflator'!$C96,IF($S$19=$S$17,'Baggrundsdata - HICP - deflator'!$B96,\"*\"))))))))))),\"*\")","v":0},null,{"$f":"IF(R27=Forside!B44,\"sand\",\"falsk\")","v":"sand"}]
[null,"Grækenland",{"$f":"IFERROR('Baggrundsdata - HICP - deflator'!B77/IF($M$19=$C$17,$L77,IF($L$19=$C$17,$K77,IF($K$19=$C$17,$J77,IF($J$19=$C$17,$I77,IF($I$19=$C$17,'Baggrundsdata - HICP - deflator'!$H77,IF($H$19=$C$17,'Baggrundsdata - HICP - deflator'!$G77,IF($C$17=$G$19,'Baggrundsdata - HICP - deflator'!$F77,IF($F$19=$C$17,'Baggrundsdata - HICP - deflator'!$E77,IF($E$19=$C$17,'Baggrundsdata - HICP - deflator'!$D77,IF($D$19=$C$17,'Baggrundsdata - HICP - deflator'!$C77,IF('Baggrundsdata - HICP - deflator'!$C$19='Baggrundsdata - HICP - deflator'!$C$17,'Baggrundsdata - HICP - deflator'!$B77,\"*\"))))))))))),\"*\")","v":0.90746225000000003},{"$f":"IFERROR('Baggrundsdata - HICP - deflator'!C77/IF($M$19=$C$17,$L77,IF($L$19=$C$17,$K77,IF($K$19=$C$17,$J77,IF($J$19=$C$17,$I77,IF($I$19=$C$17,'Baggrundsdata - HICP - deflator'!$H77,IF($H$19=$C$17,'Baggrundsdata - HICP - deflator'!$G77,IF($C$17=$G$19,'Baggrundsdata - HICP - deflator'!$F77,IF($F$19=$C$17,'Baggrundsdata - HICP - deflator'!$E77,IF($E$19=$C$17,'Baggrundsdata - HICP - deflator'!$D77,IF($D$19=$C$17,'Baggrundsdata - HICP - deflator'!$C77,IF('Baggrundsdata - HICP - deflator'!$C$19='Baggrundsdata - HICP - deflator'!$C$17,'Baggrundsdata - HICP - deflator'!$B77,\"*\"))))))))))),\"*\")","v":0.94588405000000009},{"$f":"IFERROR('Baggrundsdata - HICP - deflator'!D77/IF($M$19=$C$17,$L77,IF($L$19=$C$17,$K77,IF($K$19=$C$17,$J77,IF($J$19=$C$17,$I77,IF($I$19=$C$17,'Baggrundsdata - HICP - deflator'!$H77,IF($H$19=$C$17,'Baggrundsdata - HICP - deflator'!$G77,IF($C$17=$G$19,'Baggrundsdata - HICP - deflator'!$F77,IF($F$19=$C$17,'Baggrundsdata - HICP - deflator'!$E77,IF($E$19=$C$17,'Baggrundsdata - HICP - deflator'!$D77,IF($D$19=$C$17,'Baggrundsdata - HICP - deflator'!$C77,IF('Baggrundsdata - HICP - deflator'!$C$19='Baggrundsdata - HICP - deflator'!$C$17,'Baggrundsdata - HICP - deflator'!$B77,\"*\"))))))))))),\"*\")","v":0.95862391000000013},{"$f":"IFERROR('Baggrundsdata - HICP - deflator'!E77/IF($M$19=$C$17,$L77,IF($L$19=$C$17,$K77,IF($K$19=$C$17,$J77,IF($J$19=$C$17,$I77,IF($I$19=$C$17,'Baggrundsdata - HICP - deflator'!$H77,IF($H$19=$C$17,'Baggrundsdata - HICP - deflator'!$G77,IF($C$17=$G$19,'Baggrundsdata - HICP - deflator'!$F77,IF($F$19=$C$17,'Baggrundsdata - HICP - deflator'!$E77,IF($E$19=$C$17,'Baggrundsdata - HICP - deflator'!$D77,IF($D$19=$C$17,'Baggrundsdata - HICP - deflator'!$C77,IF('Baggrundsdata - HICP - deflator'!$C$19='Baggrundsdata - HICP - deflator'!$C$17,'Baggrundsdata - HICP - deflator'!$B77,\"*\"))))))))))),\"*\")","v":1.00371897},{"$f":"IFERROR('Baggrundsdata - HICP - deflator'!F77/IF($M$19=$C$17,$L77,IF($L$19=$C$17,$K77,IF($K$19=$C$17,$J77,IF($J$19=$C$17,$I77,IF($I$19=$C$17,'Baggrundsdata - HICP - deflator'!$H77,IF($H$19=$C$17,'Baggrundsdata - HICP - deflator'!$G77,IF($C$17=$G$19,'Baggrundsdata - HICP - deflator'!$F77,IF($F$19=$C$17,'Baggrundsdata - HICP - deflator'!$E77,IF($E$19=$C$17,'Baggrundsdata - HICP - deflator'!$D77,IF($D$19=$C$17,'Baggrundsdata - HICP - deflator'!$C77,IF('Baggrundsdata - HICP - deflator'!$C$19='Baggrundsdata - HICP - deflator'!$C$17,'Baggrundsdata - HICP - deflator'!$B77,\"*\"))))))))))),\"*\")","v":1.0349619600000002},{"$f":"IFERROR('Baggrundsdata - HICP - deflator'!G77/IF($M$19=$C$17,$L77,IF($L$19=$C$17,$K77,IF($K$19=$C$17,$J77,IF($J$19=$C$17,$I77,IF($I$19=$C$17,'Baggrundsdata - HICP - deflator'!$H77,IF($H$19=$C$17,'Baggrundsdata - HICP - deflator'!$G77,IF($C$17=$G$19,'Baggrundsdata - HICP - deflator'!$F77,IF($F$19=$C$17,'Baggrundsdata - HICP - deflator'!$E77,IF($E$19=$C$17,'Baggrundsdata - HICP - deflator'!$D77,IF($D$19=$C$17,'Baggrundsdata - HICP - deflator'!$C77,IF('Baggrundsdata - HICP - deflator'!$C$19='Baggrundsdata - HICP - deflator'!$C$17,'Baggrundsdata - HICP - deflator'!$B77,\"*\"))))))))))),\"*\")","v":1.04567962},{"$f":"IFERROR('Baggrundsdata - HICP - deflator'!H77/IF($M$19=$C$17,$L77,IF($L$19=$C$17,$K77,IF($K$19=$C$17,$J77,IF($J$19=$C$17,$I77,IF($I$19=$C$17,'Baggrundsdata - HICP - deflator'!$H77,IF($H$19=$C$17,'Baggrundsdata - HICP - deflator'!$G77,IF($C$17=$G$19,'Baggrundsdata - HICP - deflator'!$F77,IF($F$19=$C$17,'Baggrundsdata - HICP - deflator'!$E77,IF($E$19=$C$17,'Baggrundsdata - HICP - deflator'!$D77,IF($D$19=$C$17,'Baggrundsdata - HICP - deflator'!$C77,IF('Baggrundsdata - HICP - deflator'!$C$19='Baggrundsdata - HICP - deflator'!$C$17,'Baggrundsdata - HICP - deflator'!$B77,\"*\"))))))))))),\"*\")","v":1.0367819400000002},{"$f":"IFERROR('Baggrundsdata - HICP - deflator'!I77/IF($M$19=$C$17,$L77,IF($L$19=$C$17,$K77,IF($K$19=$C$17,$J77,IF($J$19=$C$17,$I77,IF($I$19=$C$17,'Baggrundsdata - HICP - deflator'!$H77,IF($H$19=$C$17,'Baggrundsdata - HICP - deflator'!$G77,IF($C$17=$G$19,'Baggrundsdata - HICP - deflator'!$F77,IF($F$19=$C$17,'Baggrundsdata - HICP - deflator'!$E77,IF($E$19=$C$17,'Baggrundsdata - HICP - deflator'!$D77,IF($D$19=$C$17,'Baggrundsdata - HICP - deflator'!$C77,IF('Baggrundsdata - HICP - deflator'!$C$19='Baggrundsdata - HICP - deflator'!$C$17,'Baggrundsdata - HICP - deflator'!$B77,\"*\"))))))))))),\"*\")","v":1.0223232100000001},{"$f":"IFERROR('Baggrundsdata - HICP - deflator'!J77/IF($M$19=$C$17,$L77,IF($L$19=$C$17,$K77,IF($K$19=$C$17,$J77,IF($J$19=$C$17,$I77,IF($I$19=$C$17,'Baggrundsdata - HICP - deflator'!$H77,IF($H$19=$C$17,'Baggrundsdata - HICP - deflator'!$G77,IF($C$17=$G$19,'Baggrundsdata - HICP - deflator'!$F77,IF($F$19=$C$17,'Baggrundsdata - HICP - deflator'!$E77,IF($E$19=$C$17,'Baggrundsdata - HICP - deflator'!$D77,IF($D$19=$C$17,'Baggrundsdata - HICP - deflator'!$C77,IF('Baggrundsdata - HICP - deflator'!$C$19='Baggrundsdata - HICP - deflator'!$C$17,'Baggrundsdata - HICP - deflator'!$B77,\"*\"))))))))))),\"*\")","v":1.0111000000000001},{"$f":"IFERROR('Baggrundsdata - HICP - deflator'!K77/IF($M$19=$C$17,$L77,IF($L$19=$C$17,$K77,IF($K$19=$C$17,$J77,IF($J$19=$C$17,$I77,IF($I$19=$C$17,'Baggrundsdata - HICP - deflator'!$H77,IF($H$19=$C$17,'Baggrundsdata - HICP - deflator'!$G77,IF($C$17=$G$19,'Baggrundsdata - HICP - deflator'!$F77,IF($F$19=$C$17,'Baggrundsdata - HICP - deflator'!$E77,IF($E$19=$C$17,'Baggrundsdata - HICP - deflator'!$D77,IF($D$19=$C$17,'Baggrundsdata - HICP - deflator'!$C77,IF('Baggrundsdata - HICP - deflator'!$C$19='Baggrundsdata - HICP - deflator'!$C$17,'Baggrundsdata - HICP - deflator'!$B77,\"*\"))))))))))),\"*\")","v":1},{"$f":"IFERROR('Baggrundsdata - HICP - deflator'!L77/IF($M$19=$C$17,$L77,IF($L$19=$C$17,$K77,IF($K$19=$C$17,$J77,IF($J$19=$C$17,$I77,IF($I$19=$C$17,'Baggrundsdata - HICP - deflator'!$H77,IF($H$19=$C$17,'Baggrundsdata - HICP - deflator'!$G77,IF($C$17=$G$19,'Baggrundsdata - HICP - deflator'!$F77,IF($F$19=$C$17,'Baggrundsdata - HICP - deflator'!$E77,IF($E$19=$C$17,'Baggrundsdata - HICP - deflator'!$D77,IF($D$19=$C$17,'Baggrundsdata - HICP - deflator'!$C77,IF('Baggrundsdata - HICP - deflator'!$C$19='Baggrundsdata - HICP - deflator'!$C$17,'Baggrundsdata - HICP - deflator'!$B77,\"*\"))))))))))),\"*\")","v":0},null,{"$f":"IF(A77='Level 1'!A61,\"sand\",\"falsk\")","v":"sand"},null,null,{"$f":"IF(A97=\"European Union (28 countries)\",\"EU-28\",IF(A97=\"Belgium\",\"Belgien\",IF(A97=\"Denmark\",\"Danmark\",IF(A97=\"Germany (until 1990 former territory of the FRG)\",\"Tyskland\",IF(A97=\"Spain\",\"Spanien\",IF(A97=\"france\",\"Frankrig\",IF(A97=\"italy\",\"Italien\",IF(A97=\"Netherlands\",\"Holland\",IF(A97=\"sweden\",\"Sverige\",IF(A97=\"United kingdom\",\"UK\",IF(A97=\"Norway\",\"Norge\",IF(A97=\"New Country\",\"Nyt land\",0))))))))))))","v":"UK"},{"$f":"IFERROR('Baggrundsdata - HICP - deflator'!B97/IF($AC$19=$S$17,$L97,IF($AB$19=$S$17,$K97,IF($AA$19=$S$17,$J97,IF($Z$19=$S$17,$I97,IF($Y$19=$S$17,'Baggrundsdata - HICP - deflator'!$H97,IF($X$19=$S$17,'Baggrundsdata - HICP - deflator'!$G97,IF($S$17=$W$19,'Baggrundsdata - HICP - deflator'!$F97,IF($V$19=$S$17,'Baggrundsdata - HICP - deflator'!$E97,IF($U$19=$S$17,'Baggrundsdata - HICP - deflator'!$D97,IF($T$19=$S$17,'Baggrundsdata - HICP - deflator'!$C97,IF($S$19=$S$17,'Baggrundsdata - HICP - deflator'!$B97,\"*\"))))))))))),\"*\")","v":0.81799999999999995},{"$f":"IFERROR('Baggrundsdata - HICP - deflator'!C97/IF($AC$19=$S$17,$L97,IF($AB$19=$S$17,$K97,IF($AA$19=$S$17,$J97,IF($Z$19=$S$17,$I97,IF($Y$19=$S$17,'Baggrundsdata - HICP - deflator'!$H97,IF($X$19=$S$17,'Baggrundsdata - HICP - deflator'!$G97,IF($S$17=$W$19,'Baggrundsdata - HICP - deflator'!$F97,IF($V$19=$S$17,'Baggrundsdata - HICP - deflator'!$E97,IF($U$19=$S$17,'Baggrundsdata - HICP - deflator'!$D97,IF($T$19=$S$17,'Baggrundsdata - HICP - deflator'!$C97,IF($S$19=$S$17,'Baggrundsdata - HICP - deflator'!$B97,\"*\"))))))))))),\"*\")","v":0.84699999999999998},{"$f":"IFERROR('Baggrundsdata - HICP - deflator'!D97/IF($AC$19=$S$17,$L97,IF($AB$19=$S$17,$K97,IF($AA$19=$S$17,$J97,IF($Z$19=$S$17,$I97,IF($Y$19=$S$17,'Baggrundsdata - HICP - deflator'!$H97,IF($X$19=$S$17,'Baggrundsdata - HICP - deflator'!$G97,IF($S$17=$W$19,'Baggrundsdata - HICP - deflator'!$F97,IF($V$19=$S$17,'Baggrundsdata - HICP - deflator'!$E97,IF($U$19=$S$17,'Baggrundsdata - HICP - deflator'!$D97,IF($T$19=$S$17,'Baggrundsdata - HICP - deflator'!$C97,IF($S$19=$S$17,'Baggrundsdata - HICP - deflator'!$B97,\"*\"))))))))))),\"*\")","v":0.86599999999999999},{"$f":"IFERROR('Baggrundsdata - HICP - deflator'!E97/IF($AC$19=$S$17,$L97,IF($AB$19=$S$17,$K97,IF($AA$19=$S$17,$J97,IF($Z$19=$S$17,$I97,IF($Y$19=$S$17,'Baggrundsdata - HICP - deflator'!$H97,IF($X$19=$S$17,'Baggrundsdata - HICP - deflator'!$G97,IF($S$17=$W$19,'Baggrundsdata - HICP - deflator'!$F97,IF($V$19=$S$17,'Baggrundsdata - HICP - deflator'!$E97,IF($U$19=$S$17,'Baggrundsdata - HICP - deflator'!$D97,IF($T$19=$S$17,'Baggrundsdata - HICP - deflator'!$C97,IF($S$19=$S$17,'Baggrundsdata - HICP - deflator'!$B97,\"*\"))))))))))),\"*\")","v":0.89400000000000002},{"$f":"IFERROR('Baggrundsdata - HICP - deflator'!F97/IF($AC$19=$S$17,$L97,IF($AB$19=$S$17,$K97,IF($AA$19=$S$17,$J97,IF($Z$19=$S$17,$I97,IF($Y$19=$S$17,'Baggrundsdata - HICP - deflator'!$H97,IF($X$19=$S$17,'Baggrundsdata - HICP - deflator'!$G97,IF($S$17=$W$19,'Baggrundsdata - HICP - deflator'!$F97,IF($V$19=$S$17,'Baggrundsdata - HICP - deflator'!$E97,IF($U$19=$S$17,'Baggrundsdata - HICP - deflator'!$D97,IF($T$19=$S$17,'Baggrundsdata - HICP - deflator'!$C97,IF($S$19=$S$17,'Baggrundsdata - HICP - deflator'!$B97,\"*\"))))))))))),\"*\")","v":0.93400000000000005},{"$f":"IFERROR('Baggrundsdata - HICP - deflator'!G97/IF($AC$19=$S$17,$L97,IF($AB$19=$S$17,$K97,IF($AA$19=$S$17,$J97,IF($Z$19=$S$17,$I97,IF($Y$19=$S$17,'Baggrundsdata - HICP - deflator'!$H97,IF($X$19=$S$17,'Baggrundsdata - HICP - deflator'!$G97,IF($S$17=$W$19,'Baggrundsdata - HICP - deflator'!$F97,IF($V$19=$S$17,'Baggrundsdata - HICP - deflator'!$E97,IF($U$19=$S$17,'Baggrundsdata - HICP - deflator'!$D97,IF($T$19=$S$17,'Baggrundsdata - HICP - deflator'!$C97,IF($S$19=$S$17,'Baggrundsdata - HICP - deflator'!$B97,\"*\"))))))))))),\"*\")","v":0.96099999999999997},{"$f":"IFERROR('Baggrundsdata - HICP - deflator'!H97/IF($AC$19=$S$17,$L97,IF($AB$19=$S$17,$K97,IF($AA$19=$S$17,$J97,IF($Z$19=$S$17,$I97,IF($Y$19=$S$17,'Baggrundsdata - HICP - deflator'!$H97,IF($X$19=$S$17,'Baggrundsdata - HICP - deflator'!$G97,IF($S$17=$W$19,'Baggrundsdata - HICP - deflator'!$F97,IF($V$19=$S$17,'Baggrundsdata - HICP - deflator'!$E97,IF($U$19=$S$17,'Baggrundsdata - HICP - deflator'!$D97,IF($T$19=$S$17,'Baggrundsdata - HICP - deflator'!$C97,IF($S$19=$S$17,'Baggrundsdata - HICP - deflator'!$B97,\"*\"))))))))))),\"*\")","v":0.98499999999999999},{"$f":"IFERROR('Baggrundsdata - HICP - deflator'!I97/IF($AC$19=$S$17,$L97,IF($AB$19=$S$17,$K97,IF($AA$19=$S$17,$J97,IF($Z$19=$S$17,$I97,IF($Y$19=$S$17,'Baggrundsdata - HICP - deflator'!$H97,IF($X$19=$S$17,'Baggrundsdata - HICP - deflator'!$G97,IF($S$17=$W$19,'Baggrundsdata - HICP - deflator'!$F97,IF($V$19=$S$17,'Baggrundsdata - HICP - deflator'!$E97,IF($U$19=$S$17,'Baggrundsdata - HICP - deflator'!$D97,IF($T$19=$S$17,'Baggrundsdata - HICP - deflator'!$C97,IF($S$19=$S$17,'Baggrundsdata - HICP - deflator'!$B97,\"*\"))))))))))),\"*\")","v":1},{"$f":"IFERROR('Baggrundsdata - HICP - deflator'!J97/IF($AC$19=$S$17,$L97,IF($AB$19=$S$17,$K97,IF($AA$19=$S$17,$J97,IF($Z$19=$S$17,$I97,IF($Y$19=$S$17,'Baggrundsdata - HICP - deflator'!$H97,IF($X$19=$S$17,'Baggrundsdata - HICP - deflator'!$G97,IF($S$17=$W$19,'Baggrundsdata - HICP - deflator'!$F97,IF($V$19=$S$17,'Baggrundsdata - HICP - deflator'!$E97,IF($U$19=$S$17,'Baggrundsdata - HICP - deflator'!$D97,IF($T$19=$S$17,'Baggrundsdata - HICP - deflator'!$C97,IF($S$19=$S$17,'Baggrundsdata - HICP - deflator'!$B97,\"*\"))))))))))),\"*\")","v":1},{"$f":"IFERROR('Baggrundsdata - HICP - deflator'!K97/IF($AC$19=$S$17,$L97,IF($AB$19=$S$17,$K97,IF($AA$19=$S$17,$J97,IF($Z$19=$S$17,$I97,IF($Y$19=$S$17,'Baggrundsdata - HICP - deflator'!$H97,IF($X$19=$S$17,'Baggrundsdata - HICP - deflator'!$G97,IF($S$17=$W$19,'Baggrundsdata - HICP - deflator'!$F97,IF($V$19=$S$17,'Baggrundsdata - HICP - deflator'!$E97,IF($U$19=$S$17,'Baggrundsdata - HICP - deflator'!$D97,IF($T$19=$S$17,'Baggrundsdata - HICP - deflator'!$C97,IF($S$19=$S$17,'Baggrundsdata - HICP - deflator'!$B97,\"*\"))))))))))),\"*\")","v":1},{"$f":"IFERROR('Baggrundsdata - HICP - deflator'!L97/IF($AC$19=$S$17,$L97,IF($AB$19=$S$17,$K97,IF($AA$19=$S$17,$J97,IF($Z$19=$S$17,$I97,IF($Y$19=$S$17,'Baggrundsdata - HICP - deflator'!$H97,IF($X$19=$S$17,'Baggrundsdata - HICP - deflator'!$G97,IF($S$17=$W$19,'Baggrundsdata - HICP - deflator'!$F97,IF($V$19=$S$17,'Baggrundsdata - HICP - deflator'!$E97,IF($U$19=$S$17,'Baggrundsdata - HICP - deflator'!$D97,IF($T$19=$S$17,'Baggrundsdata - HICP - deflator'!$C97,IF($S$19=$S$17,'Baggrundsdata - HICP - deflator'!$B97,\"*\"))))))))))),\"*\")","v":0},null,{"$f":"IF(R28=Forside!B45,\"sand\",\"falsk\")","v":"sand"}]
[null,"Spanien",{"$f":"IFERROR('Baggrundsdata - HICP - deflator'!B78/IF($M$19=$C$17,$L78,IF($L$19=$C$17,$K78,IF($K$19=$C$17,$J78,IF($J$19=$C$17,$I78,IF($I$19=$C$17,'Baggrundsdata - HICP - deflator'!$H78,IF($H$19=$C$17,'Baggrundsdata - HICP - deflator'!$G78,IF($C$17=$G$19,'Baggrundsdata - HICP - deflator'!$F78,IF($F$19=$C$17,'Baggrundsdata - HICP - deflator'!$E78,IF($E$19=$C$17,'Baggrundsdata - HICP - deflator'!$D78,IF($D$19=$C$17,'Baggrundsdata - HICP - deflator'!$C78,IF('Baggrundsdata - HICP - deflator'!$C$19='Baggrundsdata - HICP - deflator'!$C$17,'Baggrundsdata - HICP - deflator'!$B78,\"*\"))))))))))),\"*\")","v":0.89309124999999989},{"$f":"IFERROR('Baggrundsdata - HICP - deflator'!C78/IF($M$19=$C$17,$L78,IF($L$19=$C$17,$K78,IF($K$19=$C$17,$J78,IF($J$19=$C$17,$I78,IF($I$19=$C$17,'Baggrundsdata - HICP - deflator'!$H78,IF($H$19=$C$17,'Baggrundsdata - HICP - deflator'!$G78,IF($C$17=$G$19,'Baggrundsdata - HICP - deflator'!$F78,IF($F$19=$C$17,'Baggrundsdata - HICP - deflator'!$E78,IF($E$19=$C$17,'Baggrundsdata - HICP - deflator'!$D78,IF($D$19=$C$17,'Baggrundsdata - HICP - deflator'!$C78,IF('Baggrundsdata - HICP - deflator'!$C$19='Baggrundsdata - HICP - deflator'!$C$17,'Baggrundsdata - HICP - deflator'!$B78,\"*\"))))))))))),\"*\")","v":0.92992182999999984},{"$f":"IFERROR('Baggrundsdata - HICP - deflator'!D78/IF($M$19=$C$17,$L78,IF($L$19=$C$17,$K78,IF($K$19=$C$17,$J78,IF($J$19=$C$17,$I78,IF($I$19=$C$17,'Baggrundsdata - HICP - deflator'!$H78,IF($H$19=$C$17,'Baggrundsdata - HICP - deflator'!$G78,IF($C$17=$G$19,'Baggrundsdata - HICP - deflator'!$F78,IF($F$19=$C$17,'Baggrundsdata - HICP - deflator'!$E78,IF($E$19=$C$17,'Baggrundsdata - HICP - deflator'!$D78,IF($D$19=$C$17,'Baggrundsdata - HICP - deflator'!$C78,IF('Baggrundsdata - HICP - deflator'!$C$19='Baggrundsdata - HICP - deflator'!$C$17,'Baggrundsdata - HICP - deflator'!$B78,\"*\"))))))))))),\"*\")","v":0.92770796999999983},{"$f":"IFERROR('Baggrundsdata - HICP - deflator'!E78/IF($M$19=$C$17,$L78,IF($L$19=$C$17,$K78,IF($K$19=$C$17,$J78,IF($J$19=$C$17,$I78,IF($I$19=$C$17,'Baggrundsdata - HICP - deflator'!$H78,IF($H$19=$C$17,'Baggrundsdata - HICP - deflator'!$G78,IF($C$17=$G$19,'Baggrundsdata - HICP - deflator'!$F78,IF($F$19=$C$17,'Baggrundsdata - HICP - deflator'!$E78,IF($E$19=$C$17,'Baggrundsdata - HICP - deflator'!$D78,IF($D$19=$C$17,'Baggrundsdata - HICP - deflator'!$C78,IF('Baggrundsdata - HICP - deflator'!$C$19='Baggrundsdata - HICP - deflator'!$C$17,'Baggrundsdata - HICP - deflator'!$B78,\"*\"))))))))))),\"*\")","v":0.94672703999999985},{"$f":"IFERROR('Baggrundsdata - HICP - deflator'!F78/IF($M$19=$C$17,$L78,IF($L$19=$C$17,$K78,IF($K$19=$C$17,$J78,IF($J$19=$C$17,$I78,IF($I$19=$C$17,'Baggrundsdata - HICP - deflator'!$H78,IF($H$19=$C$17,'Baggrundsdata - HICP - deflator'!$G78,IF($C$17=$G$19,'Baggrundsdata - HICP - deflator'!$F78,IF($F$19=$C$17,'Baggrundsdata - HICP - deflator'!$E78,IF($E$19=$C$17,'Baggrundsdata - HICP - deflator'!$D78,IF($D$19=$C$17,'Baggrundsdata - HICP - deflator'!$C78,IF('Baggrundsdata - HICP - deflator'!$C$19='Baggrundsdata - HICP - deflator'!$C$17,'Baggrundsdata - HICP - deflator'!$B78,\"*\"))))))))))),\"*\")","v":0.97550721999999979},{"$f":"IFERROR('Baggrundsdata - HICP - deflator'!G78/IF($M$19=$C$17,$L78,IF($L$19=$C$17,$K78,IF($K$19=$C$17,$J78,IF($J$19=$C$17,$I78,IF($I$19=$C$17,'Baggrundsdata - HICP - deflator'!$H78,IF($H$19=$C$17,'Baggrundsdata - HICP - deflator'!$G78,IF($C$17=$G$19,'Baggrundsdata - HICP - deflator'!$F78,IF($F$19=$C$17,'Baggrundsdata - HICP - deflator'!$E78,IF($E$19=$C$17,'Baggrundsdata - HICP - deflator'!$D78,IF($D$19=$C$17,'Baggrundsdata - HICP - deflator'!$C78,IF('Baggrundsdata - HICP - deflator'!$C$19='Baggrundsdata - HICP - deflator'!$C$17,'Baggrundsdata - HICP - deflator'!$B78,\"*\"))))))))))),\"*\")","v":0.9993565299999998},{"$f":"IFERROR('Baggrundsdata - HICP - deflator'!H78/IF($M$19=$C$17,$L78,IF($L$19=$C$17,$K78,IF($K$19=$C$17,$J78,IF($J$19=$C$17,$I78,IF($I$19=$C$17,'Baggrundsdata - HICP - deflator'!$H78,IF($H$19=$C$17,'Baggrundsdata - HICP - deflator'!$G78,IF($C$17=$G$19,'Baggrundsdata - HICP - deflator'!$F78,IF($F$19=$C$17,'Baggrundsdata - HICP - deflator'!$E78,IF($E$19=$C$17,'Baggrundsdata - HICP - deflator'!$D78,IF($D$19=$C$17,'Baggrundsdata - HICP - deflator'!$C78,IF('Baggrundsdata - HICP - deflator'!$C$19='Baggrundsdata - HICP - deflator'!$C$17,'Baggrundsdata - HICP - deflator'!$B78,\"*\"))))))))))),\"*\")","v":1.0146522899999999},{"$f":"IFERROR('Baggrundsdata - HICP - deflator'!I78/IF($M$19=$C$17,$L78,IF($L$19=$C$17,$K78,IF($K$19=$C$17,$J78,IF($J$19=$C$17,$I78,IF($I$19=$C$17,'Baggrundsdata - HICP - deflator'!$H78,IF($H$19=$C$17,'Baggrundsdata - HICP - deflator'!$G78,IF($C$17=$G$19,'Baggrundsdata - HICP - deflator'!$F78,IF($F$19=$C$17,'Baggrundsdata - HICP - deflator'!$E78,IF($E$19=$C$17,'Baggrundsdata - HICP - deflator'!$D78,IF($D$19=$C$17,'Baggrundsdata - HICP - deflator'!$C78,IF('Baggrundsdata - HICP - deflator'!$C$19='Baggrundsdata - HICP - deflator'!$C$17,'Baggrundsdata - HICP - deflator'!$B78,\"*\"))))))))))),\"*\")","v":1.0126396899999999},{"$f":"IFERROR('Baggrundsdata - HICP - deflator'!J78/IF($M$19=$C$17,$L78,IF($L$19=$C$17,$K78,IF($K$19=$C$17,$J78,IF($J$19=$C$17,$I78,IF($I$19=$C$17,'Baggrundsdata - HICP - deflator'!$H78,IF($H$19=$C$17,'Baggrundsdata - HICP - deflator'!$G78,IF($C$17=$G$19,'Baggrundsdata - HICP - deflator'!$F78,IF($F$19=$C$17,'Baggrundsdata - HICP - deflator'!$E78,IF($E$19=$C$17,'Baggrundsdata - HICP - deflator'!$D78,IF($D$19=$C$17,'Baggrundsdata - HICP - deflator'!$C78,IF('Baggrundsdata - HICP - deflator'!$C$19='Baggrundsdata - HICP - deflator'!$C$17,'Baggrundsdata - HICP - deflator'!$B78,\"*\"))))))))))),\"*\")","v":1.0062999999999998},{"$f":"IFERROR('Baggrundsdata - HICP - deflator'!K78/IF($M$19=$C$17,$L78,IF($L$19=$C$17,$K78,IF($K$19=$C$17,$J78,IF($J$19=$C$17,$I78,IF($I$19=$C$17,'Baggrundsdata - HICP - deflator'!$H78,IF($H$19=$C$17,'Baggrundsdata - HICP - deflator'!$G78,IF($C$17=$G$19,'Baggrundsdata - HICP - deflator'!$F78,IF($F$19=$C$17,'Baggrundsdata - HICP - deflator'!$E78,IF($E$19=$C$17,'Baggrundsdata - HICP - deflator'!$D78,IF($D$19=$C$17,'Baggrundsdata - HICP - deflator'!$C78,IF('Baggrundsdata - HICP - deflator'!$C$19='Baggrundsdata - HICP - deflator'!$C$17,'Baggrundsdata - HICP - deflator'!$B78,\"*\"))))))))))),\"*\")","v":1},{"$f":"IFERROR('Baggrundsdata - HICP - deflator'!L78/IF($M$19=$C$17,$L78,IF($L$19=$C$17,$K78,IF($K$19=$C$17,$J78,IF($J$19=$C$17,$I78,IF($I$19=$C$17,'Baggrundsdata - HICP - deflator'!$H78,IF($H$19=$C$17,'Baggrundsdata - HICP - deflator'!$G78,IF($C$17=$G$19,'Baggrundsdata - HICP - deflator'!$F78,IF($F$19=$C$17,'Baggrundsdata - HICP - deflator'!$E78,IF($E$19=$C$17,'Baggrundsdata - HICP - deflator'!$D78,IF($D$19=$C$17,'Baggrundsdata - HICP - deflator'!$C78,IF('Baggrundsdata - HICP - deflator'!$C$19='Baggrundsdata - HICP - deflator'!$C$17,'Baggrundsdata - HICP - deflator'!$B78,\"*\"))))))))))),\"*\")","v":0},null,{"$f":"IF(A78='Level 1'!A62,\"sand\",\"falsk\")","v":"sand"}]
[null,"Frankrig",{"$f":"IFERROR('Baggrundsdata - HICP - deflator'!B79/IF($M$19=$C$17,$L79,IF($L$19=$C$17,$K79,IF($K$19=$C$17,$J79,IF($J$19=$C$17,$I79,IF($I$19=$C$17,'Baggrundsdata - HICP - deflator'!$H79,IF($H$19=$C$17,'Baggrundsdata - HICP - deflator'!$G79,IF($C$17=$G$19,'Baggrundsdata - HICP - deflator'!$F79,IF($F$19=$C$17,'Baggrundsdata - HICP - deflator'!$E79,IF($E$19=$C$17,'Baggrundsdata - HICP - deflator'!$D79,IF($D$19=$C$17,'Baggrundsdata - HICP - deflator'!$C79,IF('Baggrundsdata - HICP - deflator'!$C$19='Baggrundsdata - HICP - deflator'!$C$17,'Baggrundsdata - HICP - deflator'!$B79,\"*\"))))))))))),\"*\")","v":0.89439432000000008},{"$f":"IFERROR('Baggrundsdata - HICP - deflator'!C79/IF($M$19=$C$17,$L79,IF($L$19=$C$17,$K79,IF($K$19=$C$17,$J79,IF($J$19=$C$17,$I79,IF($I$19=$C$17,'Baggrundsdata - HICP - deflator'!$H79,IF($H$19=$C$17,'Baggrundsdata - HICP - deflator'!$G79,IF($C$17=$G$19,'Baggrundsdata - HICP - deflator'!$F79,IF($F$19=$C$17,'Baggrundsdata - HICP - deflator'!$E79,IF($E$19=$C$17,'Baggrundsdata - HICP - deflator'!$D79,IF($D$19=$C$17,'Baggrundsdata - HICP - deflator'!$C79,IF('Baggrundsdata - HICP - deflator'!$C$19='Baggrundsdata - HICP - deflator'!$C$17,'Baggrundsdata - HICP - deflator'!$B79,\"*\"))))))))))),\"*\")","v":0.92256894000000012},{"$f":"IFERROR('Baggrundsdata - HICP - deflator'!D79/IF($M$19=$C$17,$L79,IF($L$19=$C$17,$K79,IF($K$19=$C$17,$J79,IF($J$19=$C$17,$I79,IF($I$19=$C$17,'Baggrundsdata - HICP - deflator'!$H79,IF($H$19=$C$17,'Baggrundsdata - HICP - deflator'!$G79,IF($C$17=$G$19,'Baggrundsdata - HICP - deflator'!$F79,IF($F$19=$C$17,'Baggrundsdata - HICP - deflator'!$E79,IF($E$19=$C$17,'Baggrundsdata - HICP - deflator'!$D79,IF($D$19=$C$17,'Baggrundsdata - HICP - deflator'!$C79,IF('Baggrundsdata - HICP - deflator'!$C$19='Baggrundsdata - HICP - deflator'!$C$17,'Baggrundsdata - HICP - deflator'!$B79,\"*\"))))))))))),\"*\")","v":0.92356804000000003},{"$f":"IFERROR('Baggrundsdata - HICP - deflator'!E79/IF($M$19=$C$17,$L79,IF($L$19=$C$17,$K79,IF($K$19=$C$17,$J79,IF($J$19=$C$17,$I79,IF($I$19=$C$17,'Baggrundsdata - HICP - deflator'!$H79,IF($H$19=$C$17,'Baggrundsdata - HICP - deflator'!$G79,IF($C$17=$G$19,'Baggrundsdata - HICP - deflator'!$F79,IF($F$19=$C$17,'Baggrundsdata - HICP - deflator'!$E79,IF($E$19=$C$17,'Baggrundsdata - HICP - deflator'!$D79,IF($D$19=$C$17,'Baggrundsdata - HICP - deflator'!$C79,IF('Baggrundsdata - HICP - deflator'!$C$19='Baggrundsdata - HICP - deflator'!$C$17,'Baggrundsdata - HICP - deflator'!$B79,\"*\"))))))))))),\"*\")","v":0.93965355000000006},{"$f":"IFERROR('Baggrundsdata - HICP - deflator'!F79/IF($M$19=$C$17,$L79,IF($L$19=$C$17,$K79,IF($K$19=$C$17,$J79,IF($J$19=$C$17,$I79,IF($I$19=$C$17,'Baggrundsdata - HICP - deflator'!$H79,IF($H$19=$C$17,'Baggrundsdata - HICP - deflator'!$G79,IF($C$17=$G$19,'Baggrundsdata - HICP - deflator'!$F79,IF($F$19=$C$17,'Baggrundsdata - HICP - deflator'!$E79,IF($E$19=$C$17,'Baggrundsdata - HICP - deflator'!$D79,IF($D$19=$C$17,'Baggrundsdata - HICP - deflator'!$C79,IF('Baggrundsdata - HICP - deflator'!$C$19='Baggrundsdata - HICP - deflator'!$C$17,'Baggrundsdata - HICP - deflator'!$B79,\"*\"))))))))))),\"*\")","v":0.96113420000000016},{"$f":"IFERROR('Baggrundsdata - HICP - deflator'!G79/IF($M$19=$C$17,$L79,IF($L$19=$C$17,$K79,IF($K$19=$C$17,$J79,IF($J$19=$C$17,$I79,IF($I$19=$C$17,'Baggrundsdata - HICP - deflator'!$H79,IF($H$19=$C$17,'Baggrundsdata - HICP - deflator'!$G79,IF($C$17=$G$19,'Baggrundsdata - HICP - deflator'!$F79,IF($F$19=$C$17,'Baggrundsdata - HICP - deflator'!$E79,IF($E$19=$C$17,'Baggrundsdata - HICP - deflator'!$D79,IF($D$19=$C$17,'Baggrundsdata - HICP - deflator'!$C79,IF('Baggrundsdata - HICP - deflator'!$C$19='Baggrundsdata - HICP - deflator'!$C$17,'Baggrundsdata - HICP - deflator'!$B79,\"*\"))))))))))),\"*\")","v":0.98241503000000008},{"$f":"IFERROR('Baggrundsdata - HICP - deflator'!H79/IF($M$19=$C$17,$L79,IF($L$19=$C$17,$K79,IF($K$19=$C$17,$J79,IF($J$19=$C$17,$I79,IF($I$19=$C$17,'Baggrundsdata - HICP - deflator'!$H79,IF($H$19=$C$17,'Baggrundsdata - HICP - deflator'!$G79,IF($C$17=$G$19,'Baggrundsdata - HICP - deflator'!$F79,IF($F$19=$C$17,'Baggrundsdata - HICP - deflator'!$E79,IF($E$19=$C$17,'Baggrundsdata - HICP - deflator'!$D79,IF($D$19=$C$17,'Baggrundsdata - HICP - deflator'!$C79,IF('Baggrundsdata - HICP - deflator'!$C$19='Baggrundsdata - HICP - deflator'!$C$17,'Baggrundsdata - HICP - deflator'!$B79,\"*\"))))))))))),\"*\")","v":0.99220621000000009},{"$f":"IFERROR('Baggrundsdata - HICP - deflator'!I79/IF($M$19=$C$17,$L79,IF($L$19=$C$17,$K79,IF($K$19=$C$17,$J79,IF($J$19=$C$17,$I79,IF($I$19=$C$17,'Baggrundsdata - HICP - deflator'!$H79,IF($H$19=$C$17,'Baggrundsdata - HICP - deflator'!$G79,IF($C$17=$G$19,'Baggrundsdata - HICP - deflator'!$F79,IF($F$19=$C$17,'Baggrundsdata - HICP - deflator'!$E79,IF($E$19=$C$17,'Baggrundsdata - HICP - deflator'!$D79,IF($D$19=$C$17,'Baggrundsdata - HICP - deflator'!$C79,IF('Baggrundsdata - HICP - deflator'!$C$19='Baggrundsdata - HICP - deflator'!$C$17,'Baggrundsdata - HICP - deflator'!$B79,\"*\"))))))))))),\"*\")","v":0.99820081000000005},{"$f":"IFERROR('Baggrundsdata - HICP - deflator'!J79/IF($M$19=$C$17,$L79,IF($L$19=$C$17,$K79,IF($K$19=$C$17,$J79,IF($J$19=$C$17,$I79,IF($I$19=$C$17,'Baggrundsdata - HICP - deflator'!$H79,IF($H$19=$C$17,'Baggrundsdata - HICP - deflator'!$G79,IF($C$17=$G$19,'Baggrundsdata - HICP - deflator'!$F79,IF($F$19=$C$17,'Baggrundsdata - HICP - deflator'!$E79,IF($E$19=$C$17,'Baggrundsdata - HICP - deflator'!$D79,IF($D$19=$C$17,'Baggrundsdata - HICP - deflator'!$C79,IF('Baggrundsdata - HICP - deflator'!$C$19='Baggrundsdata - HICP - deflator'!$C$17,'Baggrundsdata - HICP - deflator'!$B79,\"*\"))))))))))),\"*\")","v":0.9991000000000001},{"$f":"IFERROR('Baggrundsdata - HICP - deflator'!K79/IF($M$19=$C$17,$L79,IF($L$19=$C$17,$K79,IF($K$19=$C$17,$J79,IF($J$19=$C$17,$I79,IF($I$19=$C$17,'Baggrundsdata - HICP - deflator'!$H79,IF($H$19=$C$17,'Baggrundsdata - HICP - deflator'!$G79,IF($C$17=$G$19,'Baggrundsdata - HICP - deflator'!$F79,IF($F$19=$C$17,'Baggrundsdata - HICP - deflator'!$E79,IF($E$19=$C$17,'Baggrundsdata - HICP - deflator'!$D79,IF($D$19=$C$17,'Baggrundsdata - HICP - deflator'!$C79,IF('Baggrundsdata - HICP - deflator'!$C$19='Baggrundsdata - HICP - deflator'!$C$17,'Baggrundsdata - HICP - deflator'!$B79,\"*\"))))))))))),\"*\")","v":1},{"$f":"IFERROR('Baggrundsdata - HICP - deflator'!L79/IF($M$19=$C$17,$L79,IF($L$19=$C$17,$K79,IF($K$19=$C$17,$J79,IF($J$19=$C$17,$I79,IF($I$19=$C$17,'Baggrundsdata - HICP - deflator'!$H79,IF($H$19=$C$17,'Baggrundsdata - HICP - deflator'!$G79,IF($C$17=$G$19,'Baggrundsdata - HICP - deflator'!$F79,IF($F$19=$C$17,'Baggrundsdata - HICP - deflator'!$E79,IF($E$19=$C$17,'Baggrundsdata - HICP - deflator'!$D79,IF($D$19=$C$17,'Baggrundsdata - HICP - deflator'!$C79,IF('Baggrundsdata - HICP - deflator'!$C$19='Baggrundsdata - HICP - deflator'!$C$17,'Baggrundsdata - HICP - deflator'!$B79,\"*\"))))))))))),\"*\")","v":0},null,{"$f":"IF(A79='Level 1'!A63,\"sand\",\"falsk\")","v":"sand"},null,null,"Kilde: Eurostat"]
[null,"Kroatien",{"$f":"IFERROR('Baggrundsdata - HICP - deflator'!B80/IF($M$19=$C$17,$L80,IF($L$19=$C$17,$K80,IF($K$19=$C$17,$J80,IF($J$19=$C$17,$I80,IF($I$19=$C$17,'Baggrundsdata - HICP - deflator'!$H80,IF($H$19=$C$17,'Baggrundsdata - HICP - deflator'!$G80,IF($C$17=$G$19,'Baggrundsdata - HICP - deflator'!$F80,IF($F$19=$C$17,'Baggrundsdata - HICP - deflator'!$E80,IF($E$19=$C$17,'Baggrundsdata - HICP - deflator'!$D80,IF($D$19=$C$17,'Baggrundsdata - HICP - deflator'!$C80,IF('Baggrundsdata - HICP - deflator'!$C$19='Baggrundsdata - HICP - deflator'!$C$17,'Baggrundsdata - HICP - deflator'!$B80,\"*\"))))))))))),\"*\")","v":0.84870090000000009},{"$f":"IFERROR('Baggrundsdata - HICP - deflator'!C80/IF($M$19=$C$17,$L80,IF($L$19=$C$17,$K80,IF($K$19=$C$17,$J80,IF($J$19=$C$17,$I80,IF($I$19=$C$17,'Baggrundsdata - HICP - deflator'!$H80,IF($H$19=$C$17,'Baggrundsdata - HICP - deflator'!$G80,IF($C$17=$G$19,'Baggrundsdata - HICP - deflator'!$F80,IF($F$19=$C$17,'Baggrundsdata - HICP - deflator'!$E80,IF($E$19=$C$17,'Baggrundsdata - HICP - deflator'!$D80,IF($D$19=$C$17,'Baggrundsdata - HICP - deflator'!$C80,IF('Baggrundsdata - HICP - deflator'!$C$19='Baggrundsdata - HICP - deflator'!$C$17,'Baggrundsdata - HICP - deflator'!$B80,\"*\"))))))))))),\"*\")","v":0.89792855999999999},{"$f":"IFERROR('Baggrundsdata - HICP - deflator'!D80/IF($M$19=$C$17,$L80,IF($L$19=$C$17,$K80,IF($K$19=$C$17,$J80,IF($J$19=$C$17,$I80,IF($I$19=$C$17,'Baggrundsdata - HICP - deflator'!$H80,IF($H$19=$C$17,'Baggrundsdata - HICP - deflator'!$G80,IF($C$17=$G$19,'Baggrundsdata - HICP - deflator'!$F80,IF($F$19=$C$17,'Baggrundsdata - HICP - deflator'!$E80,IF($E$19=$C$17,'Baggrundsdata - HICP - deflator'!$D80,IF($D$19=$C$17,'Baggrundsdata - HICP - deflator'!$C80,IF('Baggrundsdata - HICP - deflator'!$C$19='Baggrundsdata - HICP - deflator'!$C$17,'Baggrundsdata - HICP - deflator'!$B80,\"*\"))))))))))),\"*\")","v":0.91798056000000006},{"$f":"IFERROR('Baggrundsdata - HICP - deflator'!E80/IF($M$19=$C$17,$L80,IF($L$19=$C$17,$K80,IF($K$19=$C$17,$J80,IF($J$19=$C$17,$I80,IF($I$19=$C$17,'Baggrundsdata - HICP - deflator'!$H80,IF($H$19=$C$17,'Baggrundsdata - HICP - deflator'!$G80,IF($C$17=$G$19,'Baggrundsdata - HICP - deflator'!$F80,IF($F$19=$C$17,'Baggrundsdata - HICP - deflator'!$E80,IF($E$19=$C$17,'Baggrundsdata - HICP - deflator'!$D80,IF($D$19=$C$17,'Baggrundsdata - HICP - deflator'!$C80,IF('Baggrundsdata - HICP - deflator'!$C$19='Baggrundsdata - HICP - deflator'!$C$17,'Baggrundsdata - HICP - deflator'!$B80,\"*\"))))))))))),\"*\")","v":0.92790629999999996},{"$f":"IFERROR('Baggrundsdata - HICP - deflator'!F80/IF($M$19=$C$17,$L80,IF($L$19=$C$17,$K80,IF($K$19=$C$17,$J80,IF($J$19=$C$17,$I80,IF($I$19=$C$17,'Baggrundsdata - HICP - deflator'!$H80,IF($H$19=$C$17,'Baggrundsdata - HICP - deflator'!$G80,IF($C$17=$G$19,'Baggrundsdata - HICP - deflator'!$F80,IF($F$19=$C$17,'Baggrundsdata - HICP - deflator'!$E80,IF($E$19=$C$17,'Baggrundsdata - HICP - deflator'!$D80,IF($D$19=$C$17,'Baggrundsdata - HICP - deflator'!$C80,IF('Baggrundsdata - HICP - deflator'!$C$19='Baggrundsdata - HICP - deflator'!$C$17,'Baggrundsdata - HICP - deflator'!$B80,\"*\"))))))))))),\"*\")","v":0.94835934},{"$f":"IFERROR('Baggrundsdata - HICP - deflator'!G80/IF($M$19=$C$17,$L80,IF($L$19=$C$17,$K80,IF($K$19=$C$17,$J80,IF($J$19=$C$17,$I80,IF($I$19=$C$17,'Baggrundsdata - HICP - deflator'!$H80,IF($H$19=$C$17,'Baggrundsdata - HICP - deflator'!$G80,IF($C$17=$G$19,'Baggrundsdata - HICP - deflator'!$F80,IF($F$19=$C$17,'Baggrundsdata - HICP - deflator'!$E80,IF($E$19=$C$17,'Baggrundsdata - HICP - deflator'!$D80,IF($D$19=$C$17,'Baggrundsdata - HICP - deflator'!$C80,IF('Baggrundsdata - HICP - deflator'!$C$19='Baggrundsdata - HICP - deflator'!$C$17,'Baggrundsdata - HICP - deflator'!$B80,\"*\"))))))))))),\"*\")","v":0.98014176000000008},{"$f":"IFERROR('Baggrundsdata - HICP - deflator'!H80/IF($M$19=$C$17,$L80,IF($L$19=$C$17,$K80,IF($K$19=$C$17,$J80,IF($J$19=$C$17,$I80,IF($I$19=$C$17,'Baggrundsdata - HICP - deflator'!$H80,IF($H$19=$C$17,'Baggrundsdata - HICP - deflator'!$G80,IF($C$17=$G$19,'Baggrundsdata - HICP - deflator'!$F80,IF($F$19=$C$17,'Baggrundsdata - HICP - deflator'!$E80,IF($E$19=$C$17,'Baggrundsdata - HICP - deflator'!$D80,IF($D$19=$C$17,'Baggrundsdata - HICP - deflator'!$C80,IF('Baggrundsdata - HICP - deflator'!$C$19='Baggrundsdata - HICP - deflator'!$C$17,'Baggrundsdata - HICP - deflator'!$B80,\"*\"))))))))))),\"*\")","v":1.00300104},{"$f":"IFERROR('Baggrundsdata - HICP - deflator'!I80/IF($M$19=$C$17,$L80,IF($L$19=$C$17,$K80,IF($K$19=$C$17,$J80,IF($J$19=$C$17,$I80,IF($I$19=$C$17,'Baggrundsdata - HICP - deflator'!$H80,IF($H$19=$C$17,'Baggrundsdata - HICP - deflator'!$G80,IF($C$17=$G$19,'Baggrundsdata - HICP - deflator'!$F80,IF($F$19=$C$17,'Baggrundsdata - HICP - deflator'!$E80,IF($E$19=$C$17,'Baggrundsdata - HICP - deflator'!$D80,IF($D$19=$C$17,'Baggrundsdata - HICP - deflator'!$C80,IF('Baggrundsdata - HICP - deflator'!$C$19='Baggrundsdata - HICP - deflator'!$C$17,'Baggrundsdata - HICP - deflator'!$B80,\"*\"))))))))))),\"*\")","v":1.0052067600000001},{"$f":"IFERROR('Baggrundsdata - HICP - deflator'!J80/IF($M$19=$C$17,$L80,IF($L$19=$C$17,$K80,IF($K$19=$C$17,$J80,IF($J$19=$C$17,$I80,IF($I$19=$C$17,'Baggrundsdata - HICP - deflator'!$H80,IF($H$19=$C$17,'Baggrundsdata - HICP - deflator'!$G80,IF($C$17=$G$19,'Baggrundsdata - HICP - deflator'!$F80,IF($F$19=$C$17,'Baggrundsdata - HICP - deflator'!$E80,IF($E$19=$C$17,'Baggrundsdata - HICP - deflator'!$D80,IF($D$19=$C$17,'Baggrundsdata - HICP - deflator'!$C80,IF('Baggrundsdata - HICP - deflator'!$C$19='Baggrundsdata - HICP - deflator'!$C$17,'Baggrundsdata - HICP - deflator'!$B80,\"*\"))))))))))),\"*\")","v":1.0025999999999999},{"$f":"IFERROR('Baggrundsdata - HICP - deflator'!K80/IF($M$19=$C$17,$L80,IF($L$19=$C$17,$K80,IF($K$19=$C$17,$J80,IF($J$19=$C$17,$I80,IF($I$19=$C$17,'Baggrundsdata - HICP - deflator'!$H80,IF($H$19=$C$17,'Baggrundsdata - HICP - deflator'!$G80,IF($C$17=$G$19,'Baggrundsdata - HICP - deflator'!$F80,IF($F$19=$C$17,'Baggrundsdata - HICP - deflator'!$E80,IF($E$19=$C$17,'Baggrundsdata - HICP - deflator'!$D80,IF($D$19=$C$17,'Baggrundsdata - HICP - deflator'!$C80,IF('Baggrundsdata - HICP - deflator'!$C$19='Baggrundsdata - HICP - deflator'!$C$17,'Baggrundsdata - HICP - deflator'!$B80,\"*\"))))))))))),\"*\")","v":1},{"$f":"IFERROR('Baggrundsdata - HICP - deflator'!L80/IF($M$19=$C$17,$L80,IF($L$19=$C$17,$K80,IF($K$19=$C$17,$J80,IF($J$19=$C$17,$I80,IF($I$19=$C$17,'Baggrundsdata - HICP - deflator'!$H80,IF($H$19=$C$17,'Baggrundsdata - HICP - deflator'!$G80,IF($C$17=$G$19,'Baggrundsdata - HICP - deflator'!$F80,IF($F$19=$C$17,'Baggrundsdata - HICP - deflator'!$E80,IF($E$19=$C$17,'Baggrundsdata - HICP - deflator'!$D80,IF($D$19=$C$17,'Baggrundsdata - HICP - deflator'!$C80,IF('Baggrundsdata - HICP - deflator'!$C$19='Baggrundsdata - HICP - deflator'!$C$17,'Baggrundsdata - HICP - deflator'!$B80,\"*\"))))))))))),\"*\")","v":0},null,{"$f":"IF(A80='Level 1'!A64,\"sand\",\"falsk\")","v":"sand"},null,null,"Bemærk: Deflatoren er fundet på baggrund af HICP samlet for de enkelte lande. * hvis manglende baggrundsdata"]
[null,"Italien",{"$f":"IFERROR('Baggrundsdata - HICP - deflator'!B81/IF($M$19=$C$17,$L81,IF($L$19=$C$17,$K81,IF($K$19=$C$17,$J81,IF($J$19=$C$17,$I81,IF($I$19=$C$17,'Baggrundsdata - HICP - deflator'!$H81,IF($H$19=$C$17,'Baggrundsdata - HICP - deflator'!$G81,IF($C$17=$G$19,'Baggrundsdata - HICP - deflator'!$F81,IF($F$19=$C$17,'Baggrundsdata - HICP - deflator'!$E81,IF($E$19=$C$17,'Baggrundsdata - HICP - deflator'!$D81,IF($D$19=$C$17,'Baggrundsdata - HICP - deflator'!$C81,IF('Baggrundsdata - HICP - deflator'!$C$19='Baggrundsdata - HICP - deflator'!$C$17,'Baggrundsdata - HICP - deflator'!$B81,\"*\"))))))))))),\"*\")","v":0.87212699999999999},{"$f":"IFERROR('Baggrundsdata - HICP - deflator'!C81/IF($M$19=$C$17,$L81,IF($L$19=$C$17,$K81,IF($K$19=$C$17,$J81,IF($J$19=$C$17,$I81,IF($I$19=$C$17,'Baggrundsdata - HICP - deflator'!$H81,IF($H$19=$C$17,'Baggrundsdata - HICP - deflator'!$G81,IF($C$17=$G$19,'Baggrundsdata - HICP - deflator'!$F81,IF($F$19=$C$17,'Baggrundsdata - HICP - deflator'!$E81,IF($E$19=$C$17,'Baggrundsdata - HICP - deflator'!$D81,IF($D$19=$C$17,'Baggrundsdata - HICP - deflator'!$C81,IF('Baggrundsdata - HICP - deflator'!$C$19='Baggrundsdata - HICP - deflator'!$C$17,'Baggrundsdata - HICP - deflator'!$B81,\"*\"))))))))))),\"*\")","v":0.90309600000000012},{"$f":"IFERROR('Baggrundsdata - HICP - deflator'!D81/IF($M$19=$C$17,$L81,IF($L$19=$C$17,$K81,IF($K$19=$C$17,$J81,IF($J$19=$C$17,$I81,IF($I$19=$C$17,'Baggrundsdata - HICP - deflator'!$H81,IF($H$19=$C$17,'Baggrundsdata - HICP - deflator'!$G81,IF($C$17=$G$19,'Baggrundsdata - HICP - deflator'!$F81,IF($F$19=$C$17,'Baggrundsdata - HICP - deflator'!$E81,IF($E$19=$C$17,'Baggrundsdata - HICP - deflator'!$D81,IF($D$19=$C$17,'Baggrundsdata - HICP - deflator'!$C81,IF('Baggrundsdata - HICP - deflator'!$C$19='Baggrundsdata - HICP - deflator'!$C$17,'Baggrundsdata - HICP - deflator'!$B81,\"*\"))))))))))),\"*\")","v":0.91008900000000004},{"$f":"IFERROR('Baggrundsdata - HICP - deflator'!E81/IF($M$19=$C$17,$L81,IF($L$19=$C$17,$K81,IF($K$19=$C$17,$J81,IF($J$19=$C$17,$I81,IF($I$19=$C$17,'Baggrundsdata - HICP - deflator'!$H81,IF($H$19=$C$17,'Baggrundsdata - HICP - deflator'!$G81,IF($C$17=$G$19,'Baggrundsdata - HICP - deflator'!$F81,IF($F$19=$C$17,'Baggrundsdata - HICP - deflator'!$E81,IF($E$19=$C$17,'Baggrundsdata - HICP - deflator'!$D81,IF($D$19=$C$17,'Baggrundsdata - HICP - deflator'!$C81,IF('Baggrundsdata - HICP - deflator'!$C$19='Baggrundsdata - HICP - deflator'!$C$17,'Baggrundsdata - HICP - deflator'!$B81,\"*\"))))))))))),\"*\")","v":0.92507400000000006},{"$f":"IFERROR('Baggrundsdata - HICP - deflator'!F81/IF($M$19=$C$17,$L81,IF($L$19=$C$17,$K81,IF($K$19=$C$17,$J81,IF($J$19=$C$17,$I81,IF($I$19=$C$17,'Baggrundsdata - HICP - deflator'!$H81,IF($H$19=$C$17,'Baggrundsdata - HICP - deflator'!$G81,IF($C$17=$G$19,'Baggrundsdata - HICP - deflator'!$F81,IF($F$19=$C$17,'Baggrundsdata - HICP - deflator'!$E81,IF($E$19=$C$17,'Baggrundsdata - HICP - deflator'!$D81,IF($D$19=$C$17,'Baggrundsdata - HICP - deflator'!$C81,IF('Baggrundsdata - HICP - deflator'!$C$19='Baggrundsdata - HICP - deflator'!$C$17,'Baggrundsdata - HICP - deflator'!$B81,\"*\"))))))))))),\"*\")","v":0.95204700000000009},{"$f":"IFERROR('Baggrundsdata - HICP - deflator'!G81/IF($M$19=$C$17,$L81,IF($L$19=$C$17,$K81,IF($K$19=$C$17,$J81,IF($J$19=$C$17,$I81,IF($I$19=$C$17,'Baggrundsdata - HICP - deflator'!$H81,IF($H$19=$C$17,'Baggrundsdata - HICP - deflator'!$G81,IF($C$17=$G$19,'Baggrundsdata - HICP - deflator'!$F81,IF($F$19=$C$17,'Baggrundsdata - HICP - deflator'!$E81,IF($E$19=$C$17,'Baggrundsdata - HICP - deflator'!$D81,IF($D$19=$C$17,'Baggrundsdata - HICP - deflator'!$C81,IF('Baggrundsdata - HICP - deflator'!$C$19='Baggrundsdata - HICP - deflator'!$C$17,'Baggrundsdata - HICP - deflator'!$B81,\"*\"))))))))))),\"*\")","v":0.98301600000000011},{"$f":"IFERROR('Baggrundsdata - HICP - deflator'!H81/IF($M$19=$C$17,$L81,IF($L$19=$C$17,$K81,IF($K$19=$C$17,$J81,IF($J$19=$C$17,$I81,IF($I$19=$C$17,'Baggrundsdata - HICP - deflator'!$H81,IF($H$19=$C$17,'Baggrundsdata - HICP - deflator'!$G81,IF($C$17=$G$19,'Baggrundsdata - HICP - deflator'!$F81,IF($F$19=$C$17,'Baggrundsdata - HICP - deflator'!$E81,IF($E$19=$C$17,'Baggrundsdata - HICP - deflator'!$D81,IF($D$19=$C$17,'Baggrundsdata - HICP - deflator'!$C81,IF('Baggrundsdata - HICP - deflator'!$C$19='Baggrundsdata - HICP - deflator'!$C$17,'Baggrundsdata - HICP - deflator'!$B81,\"*\"))))))))))),\"*\")","v":0.99600300000000008},{"$f":"IFERROR('Baggrundsdata - HICP - deflator'!I81/IF($M$19=$C$17,$L81,IF($L$19=$C$17,$K81,IF($K$19=$C$17,$J81,IF($J$19=$C$17,$I81,IF($I$19=$C$17,'Baggrundsdata - HICP - deflator'!$H81,IF($H$19=$C$17,'Baggrundsdata - HICP - deflator'!$G81,IF($C$17=$G$19,'Baggrundsdata - HICP - deflator'!$F81,IF($F$19=$C$17,'Baggrundsdata - HICP - deflator'!$E81,IF($E$19=$C$17,'Baggrundsdata - HICP - deflator'!$D81,IF($D$19=$C$17,'Baggrundsdata - HICP - deflator'!$C81,IF('Baggrundsdata - HICP - deflator'!$C$19='Baggrundsdata - HICP - deflator'!$C$17,'Baggrundsdata - HICP - deflator'!$B81,\"*\"))))))))))),\"*\")","v":0.99800100000000014},{"$f":"IFERROR('Baggrundsdata - HICP - deflator'!J81/IF($M$19=$C$17,$L81,IF($L$19=$C$17,$K81,IF($K$19=$C$17,$J81,IF($J$19=$C$17,$I81,IF($I$19=$C$17,'Baggrundsdata - HICP - deflator'!$H81,IF($H$19=$C$17,'Baggrundsdata - HICP - deflator'!$G81,IF($C$17=$G$19,'Baggrundsdata - HICP - deflator'!$F81,IF($F$19=$C$17,'Baggrundsdata - HICP - deflator'!$E81,IF($E$19=$C$17,'Baggrundsdata - HICP - deflator'!$D81,IF($D$19=$C$17,'Baggrundsdata - HICP - deflator'!$C81,IF('Baggrundsdata - HICP - deflator'!$C$19='Baggrundsdata - HICP - deflator'!$C$17,'Baggrundsdata - HICP - deflator'!$B81,\"*\"))))))))))),\"*\")","v":0.99900000000000011},{"$f":"IFERROR('Baggrundsdata - HICP - deflator'!K81/IF($M$19=$C$17,$L81,IF($L$19=$C$17,$K81,IF($K$19=$C$17,$J81,IF($J$19=$C$17,$I81,IF($I$19=$C$17,'Baggrundsdata - HICP - deflator'!$H81,IF($H$19=$C$17,'Baggrundsdata - HICP - deflator'!$G81,IF($C$17=$G$19,'Baggrundsdata - HICP - deflator'!$F81,IF($F$19=$C$17,'Baggrundsdata - HICP - deflator'!$E81,IF($E$19=$C$17,'Baggrundsdata - HICP - deflator'!$D81,IF($D$19=$C$17,'Baggrundsdata - HICP - deflator'!$C81,IF('Baggrundsdata - HICP - deflator'!$C$19='Baggrundsdata - HICP - deflator'!$C$17,'Baggrundsdata - HICP - deflator'!$B81,\"*\"))))))))))),\"*\")","v":1},{"$f":"IFERROR('Baggrundsdata - HICP - deflator'!L81/IF($M$19=$C$17,$L81,IF($L$19=$C$17,$K81,IF($K$19=$C$17,$J81,IF($J$19=$C$17,$I81,IF($I$19=$C$17,'Baggrundsdata - HICP - deflator'!$H81,IF($H$19=$C$17,'Baggrundsdata - HICP - deflator'!$G81,IF($C$17=$G$19,'Baggrundsdata - HICP - deflator'!$F81,IF($F$19=$C$17,'Baggrundsdata - HICP - deflator'!$E81,IF($E$19=$C$17,'Baggrundsdata - HICP - deflator'!$D81,IF($D$19=$C$17,'Baggrundsdata - HICP - deflator'!$C81,IF('Baggrundsdata - HICP - deflator'!$C$19='Baggrundsdata - HICP - deflator'!$C$17,'Baggrundsdata - HICP - deflator'!$B81,\"*\"))))))))))),\"*\")","v":0},null,{"$f":"IF(A81='Level 1'!A65,\"sand\",\"falsk\")","v":"sand"},null,null,"Bemærk: Hvis der i valgmenuen vælges løbende priser, skal der ikke deflateres. Det medfører at alle felter i deflatoren vil vise \"*\"."]
[null,"Cypern",{"$f":"IFERROR('Baggrundsdata - HICP - deflator'!B82/IF($M$19=$C$17,$L82,IF($L$19=$C$17,$K82,IF($K$19=$C$17,$J82,IF($J$19=$C$17,$I82,IF($I$19=$C$17,'Baggrundsdata - HICP - deflator'!$H82,IF($H$19=$C$17,'Baggrundsdata - HICP - deflator'!$G82,IF($C$17=$G$19,'Baggrundsdata - HICP - deflator'!$F82,IF($F$19=$C$17,'Baggrundsdata - HICP - deflator'!$E82,IF($E$19=$C$17,'Baggrundsdata - HICP - deflator'!$D82,IF($D$19=$C$17,'Baggrundsdata - HICP - deflator'!$C82,IF('Baggrundsdata - HICP - deflator'!$C$19='Baggrundsdata - HICP - deflator'!$C$17,'Baggrundsdata - HICP - deflator'!$B82,\"*\"))))))))))),\"*\")","v":0.90062118999999996},{"$f":"IFERROR('Baggrundsdata - HICP - deflator'!C82/IF($M$19=$C$17,$L82,IF($L$19=$C$17,$K82,IF($K$19=$C$17,$J82,IF($J$19=$C$17,$I82,IF($I$19=$C$17,'Baggrundsdata - HICP - deflator'!$H82,IF($H$19=$C$17,'Baggrundsdata - HICP - deflator'!$G82,IF($C$17=$G$19,'Baggrundsdata - HICP - deflator'!$F82,IF($F$19=$C$17,'Baggrundsdata - HICP - deflator'!$E82,IF($E$19=$C$17,'Baggrundsdata - HICP - deflator'!$D82,IF($D$19=$C$17,'Baggrundsdata - HICP - deflator'!$C82,IF('Baggrundsdata - HICP - deflator'!$C$19='Baggrundsdata - HICP - deflator'!$C$17,'Baggrundsdata - HICP - deflator'!$B82,\"*\"))))))))))),\"*\")","v":0.9400303499999999},{"$f":"IFERROR('Baggrundsdata - HICP - deflator'!D82/IF($M$19=$C$17,$L82,IF($L$19=$C$17,$K82,IF($K$19=$C$17,$J82,IF($J$19=$C$17,$I82,IF($I$19=$C$17,'Baggrundsdata - HICP - deflator'!$H82,IF($H$19=$C$17,'Baggrundsdata - HICP - deflator'!$G82,IF($C$17=$G$19,'Baggrundsdata - HICP - deflator'!$F82,IF($F$19=$C$17,'Baggrundsdata - HICP - deflator'!$E82,IF($E$19=$C$17,'Baggrundsdata - HICP - deflator'!$D82,IF($D$19=$C$17,'Baggrundsdata - HICP - deflator'!$C82,IF('Baggrundsdata - HICP - deflator'!$C$19='Baggrundsdata - HICP - deflator'!$C$17,'Baggrundsdata - HICP - deflator'!$B82,\"*\"))))))))))),\"*\")","v":0.94165546999999983},{"$f":"IFERROR('Baggrundsdata - HICP - deflator'!E82/IF($M$19=$C$17,$L82,IF($L$19=$C$17,$K82,IF($K$19=$C$17,$J82,IF($J$19=$C$17,$I82,IF($I$19=$C$17,'Baggrundsdata - HICP - deflator'!$H82,IF($H$19=$C$17,'Baggrundsdata - HICP - deflator'!$G82,IF($C$17=$G$19,'Baggrundsdata - HICP - deflator'!$F82,IF($F$19=$C$17,'Baggrundsdata - HICP - deflator'!$E82,IF($E$19=$C$17,'Baggrundsdata - HICP - deflator'!$D82,IF($D$19=$C$17,'Baggrundsdata - HICP - deflator'!$C82,IF('Baggrundsdata - HICP - deflator'!$C$19='Baggrundsdata - HICP - deflator'!$C$17,'Baggrundsdata - HICP - deflator'!$B82,\"*\"))))))))))),\"*\")","v":0.96582912999999992},{"$f":"IFERROR('Baggrundsdata - HICP - deflator'!F82/IF($M$19=$C$17,$L82,IF($L$19=$C$17,$K82,IF($K$19=$C$17,$J82,IF($J$19=$C$17,$I82,IF($I$19=$C$17,'Baggrundsdata - HICP - deflator'!$H82,IF($H$19=$C$17,'Baggrundsdata - HICP - deflator'!$G82,IF($C$17=$G$19,'Baggrundsdata - HICP - deflator'!$F82,IF($F$19=$C$17,'Baggrundsdata - HICP - deflator'!$E82,IF($E$19=$C$17,'Baggrundsdata - HICP - deflator'!$D82,IF($D$19=$C$17,'Baggrundsdata - HICP - deflator'!$C82,IF('Baggrundsdata - HICP - deflator'!$C$19='Baggrundsdata - HICP - deflator'!$C$17,'Baggrundsdata - HICP - deflator'!$B82,\"*\"))))))))))),\"*\")","v":0.99944879999999992},{"$f":"IFERROR('Baggrundsdata - HICP - deflator'!G82/IF($M$19=$C$17,$L82,IF($L$19=$C$17,$K82,IF($K$19=$C$17,$J82,IF($J$19=$C$17,$I82,IF($I$19=$C$17,'Baggrundsdata - HICP - deflator'!$H82,IF($H$19=$C$17,'Baggrundsdata - HICP - deflator'!$G82,IF($C$17=$G$19,'Baggrundsdata - HICP - deflator'!$F82,IF($F$19=$C$17,'Baggrundsdata - HICP - deflator'!$E82,IF($E$19=$C$17,'Baggrundsdata - HICP - deflator'!$D82,IF($D$19=$C$17,'Baggrundsdata - HICP - deflator'!$C82,IF('Baggrundsdata - HICP - deflator'!$C$19='Baggrundsdata - HICP - deflator'!$C$17,'Baggrundsdata - HICP - deflator'!$B82,\"*\"))))))))))),\"*\")","v":1.0304276499999998},{"$f":"IFERROR('Baggrundsdata - HICP - deflator'!H82/IF($M$19=$C$17,$L82,IF($L$19=$C$17,$K82,IF($K$19=$C$17,$J82,IF($J$19=$C$17,$I82,IF($I$19=$C$17,'Baggrundsdata - HICP - deflator'!$H82,IF($H$19=$C$17,'Baggrundsdata - HICP - deflator'!$G82,IF($C$17=$G$19,'Baggrundsdata - HICP - deflator'!$F82,IF($F$19=$C$17,'Baggrundsdata - HICP - deflator'!$E82,IF($E$19=$C$17,'Baggrundsdata - HICP - deflator'!$D82,IF($D$19=$C$17,'Baggrundsdata - HICP - deflator'!$C82,IF('Baggrundsdata - HICP - deflator'!$C$19='Baggrundsdata - HICP - deflator'!$C$17,'Baggrundsdata - HICP - deflator'!$B82,\"*\"))))))))))),\"*\")","v":1.0343888799999998},{"$f":"IFERROR('Baggrundsdata - HICP - deflator'!I82/IF($M$19=$C$17,$L82,IF($L$19=$C$17,$K82,IF($K$19=$C$17,$J82,IF($J$19=$C$17,$I82,IF($I$19=$C$17,'Baggrundsdata - HICP - deflator'!$H82,IF($H$19=$C$17,'Baggrundsdata - HICP - deflator'!$G82,IF($C$17=$G$19,'Baggrundsdata - HICP - deflator'!$F82,IF($F$19=$C$17,'Baggrundsdata - HICP - deflator'!$E82,IF($E$19=$C$17,'Baggrundsdata - HICP - deflator'!$D82,IF($D$19=$C$17,'Baggrundsdata - HICP - deflator'!$C82,IF('Baggrundsdata - HICP - deflator'!$C$19='Baggrundsdata - HICP - deflator'!$C$17,'Baggrundsdata - HICP - deflator'!$B82,\"*\"))))))))))),\"*\")","v":1.0316464899999997},{"$f":"IFERROR('Baggrundsdata - HICP - deflator'!J82/IF($M$19=$C$17,$L82,IF($L$19=$C$17,$K82,IF($K$19=$C$17,$J82,IF($J$19=$C$17,$I82,IF($I$19=$C$17,'Baggrundsdata - HICP - deflator'!$H82,IF($H$19=$C$17,'Baggrundsdata - HICP - deflator'!$G82,IF($C$17=$G$19,'Baggrundsdata - HICP - deflator'!$F82,IF($F$19=$C$17,'Baggrundsdata - HICP - deflator'!$E82,IF($E$19=$C$17,'Baggrundsdata - HICP - deflator'!$D82,IF($D$19=$C$17,'Baggrundsdata - HICP - deflator'!$C82,IF('Baggrundsdata - HICP - deflator'!$C$19='Baggrundsdata - HICP - deflator'!$C$17,'Baggrundsdata - HICP - deflator'!$B82,\"*\"))))))))))),\"*\")","v":1.0156999999999998},{"$f":"IFERROR('Baggrundsdata - HICP - deflator'!K82/IF($M$19=$C$17,$L82,IF($L$19=$C$17,$K82,IF($K$19=$C$17,$J82,IF($J$19=$C$17,$I82,IF($I$19=$C$17,'Baggrundsdata - HICP - deflator'!$H82,IF($H$19=$C$17,'Baggrundsdata - HICP - deflator'!$G82,IF($C$17=$G$19,'Baggrundsdata - HICP - deflator'!$F82,IF($F$19=$C$17,'Baggrundsdata - HICP - deflator'!$E82,IF($E$19=$C$17,'Baggrundsdata - HICP - deflator'!$D82,IF($D$19=$C$17,'Baggrundsdata - HICP - deflator'!$C82,IF('Baggrundsdata - HICP - deflator'!$C$19='Baggrundsdata - HICP - deflator'!$C$17,'Baggrundsdata - HICP - deflator'!$B82,\"*\"))))))))))),\"*\")","v":1},{"$f":"IFERROR('Baggrundsdata - HICP - deflator'!L82/IF($M$19=$C$17,$L82,IF($L$19=$C$17,$K82,IF($K$19=$C$17,$J82,IF($J$19=$C$17,$I82,IF($I$19=$C$17,'Baggrundsdata - HICP - deflator'!$H82,IF($H$19=$C$17,'Baggrundsdata - HICP - deflator'!$G82,IF($C$17=$G$19,'Baggrundsdata - HICP - deflator'!$F82,IF($F$19=$C$17,'Baggrundsdata - HICP - deflator'!$E82,IF($E$19=$C$17,'Baggrundsdata - HICP - deflator'!$D82,IF($D$19=$C$17,'Baggrundsdata - HICP - deflator'!$C82,IF('Baggrundsdata - HICP - deflator'!$C$19='Baggrundsdata - HICP - deflator'!$C$17,'Baggrundsdata - HICP - deflator'!$B82,\"*\"))))))))))),\"*\")","v":0},null,{"$f":"IF(A82='Level 1'!A66,\"sand\",\"falsk\")","v":"sand"}]
[null,"Letland",{"$f":"IFERROR('Baggrundsdata - HICP - deflator'!B83/IF($M$19=$C$17,$L83,IF($L$19=$C$17,$K83,IF($K$19=$C$17,$J83,IF($J$19=$C$17,$I83,IF($I$19=$C$17,'Baggrundsdata - HICP - deflator'!$H83,IF($H$19=$C$17,'Baggrundsdata - HICP - deflator'!$G83,IF($C$17=$G$19,'Baggrundsdata - HICP - deflator'!$F83,IF($F$19=$C$17,'Baggrundsdata - HICP - deflator'!$E83,IF($E$19=$C$17,'Baggrundsdata - HICP - deflator'!$D83,IF($D$19=$C$17,'Baggrundsdata - HICP - deflator'!$C83,IF('Baggrundsdata - HICP - deflator'!$C$19='Baggrundsdata - HICP - deflator'!$C$17,'Baggrundsdata - HICP - deflator'!$B83,\"*\"))))))))))),\"*\")","v":0.78913932000000009},{"$f":"IFERROR('Baggrundsdata - HICP - deflator'!C83/IF($M$19=$C$17,$L83,IF($L$19=$C$17,$K83,IF($K$19=$C$17,$J83,IF($J$19=$C$17,$I83,IF($I$19=$C$17,'Baggrundsdata - HICP - deflator'!$H83,IF($H$19=$C$17,'Baggrundsdata - HICP - deflator'!$G83,IF($C$17=$G$19,'Baggrundsdata - HICP - deflator'!$F83,IF($F$19=$C$17,'Baggrundsdata - HICP - deflator'!$E83,IF($E$19=$C$17,'Baggrundsdata - HICP - deflator'!$D83,IF($D$19=$C$17,'Baggrundsdata - HICP - deflator'!$C83,IF('Baggrundsdata - HICP - deflator'!$C$19='Baggrundsdata - HICP - deflator'!$C$17,'Baggrundsdata - HICP - deflator'!$B83,\"*\"))))))))))),\"*\")","v":0.9094860600000001},{"$f":"IFERROR('Baggrundsdata - HICP - deflator'!D83/IF($M$19=$C$17,$L83,IF($L$19=$C$17,$K83,IF($K$19=$C$17,$J83,IF($J$19=$C$17,$I83,IF($I$19=$C$17,'Baggrundsdata - HICP - deflator'!$H83,IF($H$19=$C$17,'Baggrundsdata - HICP - deflator'!$G83,IF($C$17=$G$19,'Baggrundsdata - HICP - deflator'!$F83,IF($F$19=$C$17,'Baggrundsdata - HICP - deflator'!$E83,IF($E$19=$C$17,'Baggrundsdata - HICP - deflator'!$D83,IF($D$19=$C$17,'Baggrundsdata - HICP - deflator'!$C83,IF('Baggrundsdata - HICP - deflator'!$C$19='Baggrundsdata - HICP - deflator'!$C$17,'Baggrundsdata - HICP - deflator'!$B83,\"*\"))))))))))),\"*\")","v":0.93912369000000007},{"$f":"IFERROR('Baggrundsdata - HICP - deflator'!E83/IF($M$19=$C$17,$L83,IF($L$19=$C$17,$K83,IF($K$19=$C$17,$J83,IF($J$19=$C$17,$I83,IF($I$19=$C$17,'Baggrundsdata - HICP - deflator'!$H83,IF($H$19=$C$17,'Baggrundsdata - HICP - deflator'!$G83,IF($C$17=$G$19,'Baggrundsdata - HICP - deflator'!$F83,IF($F$19=$C$17,'Baggrundsdata - HICP - deflator'!$E83,IF($E$19=$C$17,'Baggrundsdata - HICP - deflator'!$D83,IF($D$19=$C$17,'Baggrundsdata - HICP - deflator'!$C83,IF('Baggrundsdata - HICP - deflator'!$C$19='Baggrundsdata - HICP - deflator'!$C$17,'Baggrundsdata - HICP - deflator'!$B83,\"*\"))))))))))),\"*\")","v":0.92764784},{"$f":"IFERROR('Baggrundsdata - HICP - deflator'!F83/IF($M$19=$C$17,$L83,IF($L$19=$C$17,$K83,IF($K$19=$C$17,$J83,IF($J$19=$C$17,$I83,IF($I$19=$C$17,'Baggrundsdata - HICP - deflator'!$H83,IF($H$19=$C$17,'Baggrundsdata - HICP - deflator'!$G83,IF($C$17=$G$19,'Baggrundsdata - HICP - deflator'!$F83,IF($F$19=$C$17,'Baggrundsdata - HICP - deflator'!$E83,IF($E$19=$C$17,'Baggrundsdata - HICP - deflator'!$D83,IF($D$19=$C$17,'Baggrundsdata - HICP - deflator'!$C83,IF('Baggrundsdata - HICP - deflator'!$C$19='Baggrundsdata - HICP - deflator'!$C$17,'Baggrundsdata - HICP - deflator'!$B83,\"*\"))))))))))),\"*\")","v":0.96676552000000004},{"$f":"IFERROR('Baggrundsdata - HICP - deflator'!G83/IF($M$19=$C$17,$L83,IF($L$19=$C$17,$K83,IF($K$19=$C$17,$J83,IF($J$19=$C$17,$I83,IF($I$19=$C$17,'Baggrundsdata - HICP - deflator'!$H83,IF($H$19=$C$17,'Baggrundsdata - HICP - deflator'!$G83,IF($C$17=$G$19,'Baggrundsdata - HICP - deflator'!$F83,IF($F$19=$C$17,'Baggrundsdata - HICP - deflator'!$E83,IF($E$19=$C$17,'Baggrundsdata - HICP - deflator'!$D83,IF($D$19=$C$17,'Baggrundsdata - HICP - deflator'!$C83,IF('Baggrundsdata - HICP - deflator'!$C$19='Baggrundsdata - HICP - deflator'!$C$17,'Baggrundsdata - HICP - deflator'!$B83,\"*\"))))))))))),\"*\")","v":0.98881911000000011},{"$f":"IFERROR('Baggrundsdata - HICP - deflator'!H83/IF($M$19=$C$17,$L83,IF($L$19=$C$17,$K83,IF($K$19=$C$17,$J83,IF($J$19=$C$17,$I83,IF($I$19=$C$17,'Baggrundsdata - HICP - deflator'!$H83,IF($H$19=$C$17,'Baggrundsdata - HICP - deflator'!$G83,IF($C$17=$G$19,'Baggrundsdata - HICP - deflator'!$F83,IF($F$19=$C$17,'Baggrundsdata - HICP - deflator'!$E83,IF($E$19=$C$17,'Baggrundsdata - HICP - deflator'!$D83,IF($D$19=$C$17,'Baggrundsdata - HICP - deflator'!$C83,IF('Baggrundsdata - HICP - deflator'!$C$19='Baggrundsdata - HICP - deflator'!$C$17,'Baggrundsdata - HICP - deflator'!$B83,\"*\"))))))))))),\"*\")","v":0.98901869000000009},{"$f":"IFERROR('Baggrundsdata - HICP - deflator'!I83/IF($M$19=$C$17,$L83,IF($L$19=$C$17,$K83,IF($K$19=$C$17,$J83,IF($J$19=$C$17,$I83,IF($I$19=$C$17,'Baggrundsdata - HICP - deflator'!$H83,IF($H$19=$C$17,'Baggrundsdata - HICP - deflator'!$G83,IF($C$17=$G$19,'Baggrundsdata - HICP - deflator'!$F83,IF($F$19=$C$17,'Baggrundsdata - HICP - deflator'!$E83,IF($E$19=$C$17,'Baggrundsdata - HICP - deflator'!$D83,IF($D$19=$C$17,'Baggrundsdata - HICP - deflator'!$C83,IF('Baggrundsdata - HICP - deflator'!$C$19='Baggrundsdata - HICP - deflator'!$C$17,'Baggrundsdata - HICP - deflator'!$B83,\"*\"))))))))))),\"*\")","v":0.9958044100000002},{"$f":"IFERROR('Baggrundsdata - HICP - deflator'!J83/IF($M$19=$C$17,$L83,IF($L$19=$C$17,$K83,IF($K$19=$C$17,$J83,IF($J$19=$C$17,$I83,IF($I$19=$C$17,'Baggrundsdata - HICP - deflator'!$H83,IF($H$19=$C$17,'Baggrundsdata - HICP - deflator'!$G83,IF($C$17=$G$19,'Baggrundsdata - HICP - deflator'!$F83,IF($F$19=$C$17,'Baggrundsdata - HICP - deflator'!$E83,IF($E$19=$C$17,'Baggrundsdata - HICP - deflator'!$D83,IF($D$19=$C$17,'Baggrundsdata - HICP - deflator'!$C83,IF('Baggrundsdata - HICP - deflator'!$C$19='Baggrundsdata - HICP - deflator'!$C$17,'Baggrundsdata - HICP - deflator'!$B83,\"*\"))))))))))),\"*\")","v":0.99790000000000012},{"$f":"IFERROR('Baggrundsdata - HICP - deflator'!K83/IF($M$19=$C$17,$L83,IF($L$19=$C$17,$K83,IF($K$19=$C$17,$J83,IF($J$19=$C$17,$I83,IF($I$19=$C$17,'Baggrundsdata - HICP - deflator'!$H83,IF($H$19=$C$17,'Baggrundsdata - HICP - deflator'!$G83,IF($C$17=$G$19,'Baggrundsdata - HICP - deflator'!$F83,IF($F$19=$C$17,'Baggrundsdata - HICP - deflator'!$E83,IF($E$19=$C$17,'Baggrundsdata - HICP - deflator'!$D83,IF($D$19=$C$17,'Baggrundsdata - HICP - deflator'!$C83,IF('Baggrundsdata - HICP - deflator'!$C$19='Baggrundsdata - HICP - deflator'!$C$17,'Baggrundsdata - HICP - deflator'!$B83,\"*\"))))))))))),\"*\")","v":1},{"$f":"IFERROR('Baggrundsdata - HICP - deflator'!L83/IF($M$19=$C$17,$L83,IF($L$19=$C$17,$K83,IF($K$19=$C$17,$J83,IF($J$19=$C$17,$I83,IF($I$19=$C$17,'Baggrundsdata - HICP - deflator'!$H83,IF($H$19=$C$17,'Baggrundsdata - HICP - deflator'!$G83,IF($C$17=$G$19,'Baggrundsdata - HICP - deflator'!$F83,IF($F$19=$C$17,'Baggrundsdata - HICP - deflator'!$E83,IF($E$19=$C$17,'Baggrundsdata - HICP - deflator'!$D83,IF($D$19=$C$17,'Baggrundsdata - HICP - deflator'!$C83,IF('Baggrundsdata - HICP - deflator'!$C$19='Baggrundsdata - HICP - deflator'!$C$17,'Baggrundsdata - HICP - deflator'!$B83,\"*\"))))))))))),\"*\")","v":0},null,{"$f":"IF(A83='Level 1'!A67,\"sand\",\"falsk\")","v":"sand"}]
[null,"Litaun",{"$f":"IFERROR('Baggrundsdata - HICP - deflator'!B84/IF($M$19=$C$17,$L84,IF($L$19=$C$17,$K84,IF($K$19=$C$17,$J84,IF($J$19=$C$17,$I84,IF($I$19=$C$17,'Baggrundsdata - HICP - deflator'!$H84,IF($H$19=$C$17,'Baggrundsdata - HICP - deflator'!$G84,IF($C$17=$G$19,'Baggrundsdata - HICP - deflator'!$F84,IF($F$19=$C$17,'Baggrundsdata - HICP - deflator'!$E84,IF($E$19=$C$17,'Baggrundsdata - HICP - deflator'!$D84,IF($D$19=$C$17,'Baggrundsdata - HICP - deflator'!$C84,IF('Baggrundsdata - HICP - deflator'!$C$19='Baggrundsdata - HICP - deflator'!$C$17,'Baggrundsdata - HICP - deflator'!$B84,\"*\"))))))))))),\"*\")","v":0.79466724000000011},{"$f":"IFERROR('Baggrundsdata - HICP - deflator'!C84/IF($M$19=$C$17,$L84,IF($L$19=$C$17,$K84,IF($K$19=$C$17,$J84,IF($J$19=$C$17,$I84,IF($I$19=$C$17,'Baggrundsdata - HICP - deflator'!$H84,IF($H$19=$C$17,'Baggrundsdata - HICP - deflator'!$G84,IF($C$17=$G$19,'Baggrundsdata - HICP - deflator'!$F84,IF($F$19=$C$17,'Baggrundsdata - HICP - deflator'!$E84,IF($E$19=$C$17,'Baggrundsdata - HICP - deflator'!$D84,IF($D$19=$C$17,'Baggrundsdata - HICP - deflator'!$C84,IF('Baggrundsdata - HICP - deflator'!$C$19='Baggrundsdata - HICP - deflator'!$C$17,'Baggrundsdata - HICP - deflator'!$B84,\"*\"))))))))))),\"*\")","v":0.88286292},{"$f":"IFERROR('Baggrundsdata - HICP - deflator'!D84/IF($M$19=$C$17,$L84,IF($L$19=$C$17,$K84,IF($K$19=$C$17,$J84,IF($J$19=$C$17,$I84,IF($I$19=$C$17,'Baggrundsdata - HICP - deflator'!$H84,IF($H$19=$C$17,'Baggrundsdata - HICP - deflator'!$G84,IF($C$17=$G$19,'Baggrundsdata - HICP - deflator'!$F84,IF($F$19=$C$17,'Baggrundsdata - HICP - deflator'!$E84,IF($E$19=$C$17,'Baggrundsdata - HICP - deflator'!$D84,IF($D$19=$C$17,'Baggrundsdata - HICP - deflator'!$C84,IF('Baggrundsdata - HICP - deflator'!$C$19='Baggrundsdata - HICP - deflator'!$C$17,'Baggrundsdata - HICP - deflator'!$B84,\"*\"))))))))))),\"*\")","v":0.91961112000000012},{"$f":"IFERROR('Baggrundsdata - HICP - deflator'!E84/IF($M$19=$C$17,$L84,IF($L$19=$C$17,$K84,IF($K$19=$C$17,$J84,IF($J$19=$C$17,$I84,IF($I$19=$C$17,'Baggrundsdata - HICP - deflator'!$H84,IF($H$19=$C$17,'Baggrundsdata - HICP - deflator'!$G84,IF($C$17=$G$19,'Baggrundsdata - HICP - deflator'!$F84,IF($F$19=$C$17,'Baggrundsdata - HICP - deflator'!$E84,IF($E$19=$C$17,'Baggrundsdata - HICP - deflator'!$D84,IF($D$19=$C$17,'Baggrundsdata - HICP - deflator'!$C84,IF('Baggrundsdata - HICP - deflator'!$C$19='Baggrundsdata - HICP - deflator'!$C$17,'Baggrundsdata - HICP - deflator'!$B84,\"*\"))))))))))),\"*\")","v":0.93058524000000009},{"$f":"IFERROR('Baggrundsdata - HICP - deflator'!F84/IF($M$19=$C$17,$L84,IF($L$19=$C$17,$K84,IF($K$19=$C$17,$J84,IF($J$19=$C$17,$I84,IF($I$19=$C$17,'Baggrundsdata - HICP - deflator'!$H84,IF($H$19=$C$17,'Baggrundsdata - HICP - deflator'!$G84,IF($C$17=$G$19,'Baggrundsdata - HICP - deflator'!$F84,IF($F$19=$C$17,'Baggrundsdata - HICP - deflator'!$E84,IF($E$19=$C$17,'Baggrundsdata - HICP - deflator'!$D84,IF($D$19=$C$17,'Baggrundsdata - HICP - deflator'!$C84,IF('Baggrundsdata - HICP - deflator'!$C$19='Baggrundsdata - HICP - deflator'!$C$17,'Baggrundsdata - HICP - deflator'!$B84,\"*\"))))))))))),\"*\")","v":0.96894431999999997},{"$f":"IFERROR('Baggrundsdata - HICP - deflator'!G84/IF($M$19=$C$17,$L84,IF($L$19=$C$17,$K84,IF($K$19=$C$17,$J84,IF($J$19=$C$17,$I84,IF($I$19=$C$17,'Baggrundsdata - HICP - deflator'!$H84,IF($H$19=$C$17,'Baggrundsdata - HICP - deflator'!$G84,IF($C$17=$G$19,'Baggrundsdata - HICP - deflator'!$F84,IF($F$19=$C$17,'Baggrundsdata - HICP - deflator'!$E84,IF($E$19=$C$17,'Baggrundsdata - HICP - deflator'!$D84,IF($D$19=$C$17,'Baggrundsdata - HICP - deflator'!$C84,IF('Baggrundsdata - HICP - deflator'!$C$19='Baggrundsdata - HICP - deflator'!$C$17,'Baggrundsdata - HICP - deflator'!$B84,\"*\"))))))))))),\"*\")","v":0.99955104000000006},{"$f":"IFERROR('Baggrundsdata - HICP - deflator'!H84/IF($M$19=$C$17,$L84,IF($L$19=$C$17,$K84,IF($K$19=$C$17,$J84,IF($J$19=$C$17,$I84,IF($I$19=$C$17,'Baggrundsdata - HICP - deflator'!$H84,IF($H$19=$C$17,'Baggrundsdata - HICP - deflator'!$G84,IF($C$17=$G$19,'Baggrundsdata - HICP - deflator'!$F84,IF($F$19=$C$17,'Baggrundsdata - HICP - deflator'!$E84,IF($E$19=$C$17,'Baggrundsdata - HICP - deflator'!$D84,IF($D$19=$C$17,'Baggrundsdata - HICP - deflator'!$C84,IF('Baggrundsdata - HICP - deflator'!$C$19='Baggrundsdata - HICP - deflator'!$C$17,'Baggrundsdata - HICP - deflator'!$B84,\"*\"))))))))))),\"*\")","v":1.0112299200000001},{"$f":"IFERROR('Baggrundsdata - HICP - deflator'!I84/IF($M$19=$C$17,$L84,IF($L$19=$C$17,$K84,IF($K$19=$C$17,$J84,IF($J$19=$C$17,$I84,IF($I$19=$C$17,'Baggrundsdata - HICP - deflator'!$H84,IF($H$19=$C$17,'Baggrundsdata - HICP - deflator'!$G84,IF($C$17=$G$19,'Baggrundsdata - HICP - deflator'!$F84,IF($F$19=$C$17,'Baggrundsdata - HICP - deflator'!$E84,IF($E$19=$C$17,'Baggrundsdata - HICP - deflator'!$D84,IF($D$19=$C$17,'Baggrundsdata - HICP - deflator'!$C84,IF('Baggrundsdata - HICP - deflator'!$C$19='Baggrundsdata - HICP - deflator'!$C$17,'Baggrundsdata - HICP - deflator'!$B84,\"*\"))))))))))),\"*\")","v":1.0136462400000001},{"$f":"IFERROR('Baggrundsdata - HICP - deflator'!J84/IF($M$19=$C$17,$L84,IF($L$19=$C$17,$K84,IF($K$19=$C$17,$J84,IF($J$19=$C$17,$I84,IF($I$19=$C$17,'Baggrundsdata - HICP - deflator'!$H84,IF($H$19=$C$17,'Baggrundsdata - HICP - deflator'!$G84,IF($C$17=$G$19,'Baggrundsdata - HICP - deflator'!$F84,IF($F$19=$C$17,'Baggrundsdata - HICP - deflator'!$E84,IF($E$19=$C$17,'Baggrundsdata - HICP - deflator'!$D84,IF($D$19=$C$17,'Baggrundsdata - HICP - deflator'!$C84,IF('Baggrundsdata - HICP - deflator'!$C$19='Baggrundsdata - HICP - deflator'!$C$17,'Baggrundsdata - HICP - deflator'!$B84,\"*\"))))))))))),\"*\")","v":1.0068000000000001},{"$f":"IFERROR('Baggrundsdata - HICP - deflator'!K84/IF($M$19=$C$17,$L84,IF($L$19=$C$17,$K84,IF($K$19=$C$17,$J84,IF($J$19=$C$17,$I84,IF($I$19=$C$17,'Baggrundsdata - HICP - deflator'!$H84,IF($H$19=$C$17,'Baggrundsdata - HICP - deflator'!$G84,IF($C$17=$G$19,'Baggrundsdata - HICP - deflator'!$F84,IF($F$19=$C$17,'Baggrundsdata - HICP - deflator'!$E84,IF($E$19=$C$17,'Baggrundsdata - HICP - deflator'!$D84,IF($D$19=$C$17,'Baggrundsdata - HICP - deflator'!$C84,IF('Baggrundsdata - HICP - deflator'!$C$19='Baggrundsdata - HICP - deflator'!$C$17,'Baggrundsdata - HICP - deflator'!$B84,\"*\"))))))))))),\"*\")","v":1},{"$f":"IFERROR('Baggrundsdata - HICP - deflator'!L84/IF($M$19=$C$17,$L84,IF($L$19=$C$17,$K84,IF($K$19=$C$17,$J84,IF($J$19=$C$17,$I84,IF($I$19=$C$17,'Baggrundsdata - HICP - deflator'!$H84,IF($H$19=$C$17,'Baggrundsdata - HICP - deflator'!$G84,IF($C$17=$G$19,'Baggrundsdata - HICP - deflator'!$F84,IF($F$19=$C$17,'Baggrundsdata - HICP - deflator'!$E84,IF($E$19=$C$17,'Baggrundsdata - HICP - deflator'!$D84,IF($D$19=$C$17,'Baggrundsdata - HICP - deflator'!$C84,IF('Baggrundsdata - HICP - deflator'!$C$19='Baggrundsdata - HICP - deflator'!$C$17,'Baggrundsdata - HICP - deflator'!$B84,\"*\"))))))))))),\"*\")","v":0},null,{"$f":"IF(A84='Level 1'!A68,\"sand\",\"falsk\")","v":"sand"}]
[null,"luxembourg",{"$f":"IFERROR('Baggrundsdata - HICP - deflator'!B85/IF($M$19=$C$17,$L85,IF($L$19=$C$17,$K85,IF($K$19=$C$17,$J85,IF($J$19=$C$17,$I85,IF($I$19=$C$17,'Baggrundsdata - HICP - deflator'!$H85,IF($H$19=$C$17,'Baggrundsdata - HICP - deflator'!$G85,IF($C$17=$G$19,'Baggrundsdata - HICP - deflator'!$F85,IF($F$19=$C$17,'Baggrundsdata - HICP - deflator'!$E85,IF($E$19=$C$17,'Baggrundsdata - HICP - deflator'!$D85,IF($D$19=$C$17,'Baggrundsdata - HICP - deflator'!$C85,IF('Baggrundsdata - HICP - deflator'!$C$19='Baggrundsdata - HICP - deflator'!$C$17,'Baggrundsdata - HICP - deflator'!$B85,\"*\"))))))))))),\"*\")","v":0.8539873},{"$f":"IFERROR('Baggrundsdata - HICP - deflator'!C85/IF($M$19=$C$17,$L85,IF($L$19=$C$17,$K85,IF($K$19=$C$17,$J85,IF($J$19=$C$17,$I85,IF($I$19=$C$17,'Baggrundsdata - HICP - deflator'!$H85,IF($H$19=$C$17,'Baggrundsdata - HICP - deflator'!$G85,IF($C$17=$G$19,'Baggrundsdata - HICP - deflator'!$F85,IF($F$19=$C$17,'Baggrundsdata - HICP - deflator'!$E85,IF($E$19=$C$17,'Baggrundsdata - HICP - deflator'!$D85,IF($D$19=$C$17,'Baggrundsdata - HICP - deflator'!$C85,IF('Baggrundsdata - HICP - deflator'!$C$19='Baggrundsdata - HICP - deflator'!$C$17,'Baggrundsdata - HICP - deflator'!$B85,\"*\"))))))))))),\"*\")","v":0.88886635999999997},{"$f":"IFERROR('Baggrundsdata - HICP - deflator'!D85/IF($M$19=$C$17,$L85,IF($L$19=$C$17,$K85,IF($K$19=$C$17,$J85,IF($J$19=$C$17,$I85,IF($I$19=$C$17,'Baggrundsdata - HICP - deflator'!$H85,IF($H$19=$C$17,'Baggrundsdata - HICP - deflator'!$G85,IF($C$17=$G$19,'Baggrundsdata - HICP - deflator'!$F85,IF($F$19=$C$17,'Baggrundsdata - HICP - deflator'!$E85,IF($E$19=$C$17,'Baggrundsdata - HICP - deflator'!$D85,IF($D$19=$C$17,'Baggrundsdata - HICP - deflator'!$C85,IF('Baggrundsdata - HICP - deflator'!$C$19='Baggrundsdata - HICP - deflator'!$C$17,'Baggrundsdata - HICP - deflator'!$B85,\"*\"))))))))))),\"*\")","v":0.88896629999999999},{"$f":"IFERROR('Baggrundsdata - HICP - deflator'!E85/IF($M$19=$C$17,$L85,IF($L$19=$C$17,$K85,IF($K$19=$C$17,$J85,IF($J$19=$C$17,$I85,IF($I$19=$C$17,'Baggrundsdata - HICP - deflator'!$H85,IF($H$19=$C$17,'Baggrundsdata - HICP - deflator'!$G85,IF($C$17=$G$19,'Baggrundsdata - HICP - deflator'!$F85,IF($F$19=$C$17,'Baggrundsdata - HICP - deflator'!$E85,IF($E$19=$C$17,'Baggrundsdata - HICP - deflator'!$D85,IF($D$19=$C$17,'Baggrundsdata - HICP - deflator'!$C85,IF('Baggrundsdata - HICP - deflator'!$C$19='Baggrundsdata - HICP - deflator'!$C$17,'Baggrundsdata - HICP - deflator'!$B85,\"*\"))))))))))),\"*\")","v":0.91385135999999989},{"$f":"IFERROR('Baggrundsdata - HICP - deflator'!F85/IF($M$19=$C$17,$L85,IF($L$19=$C$17,$K85,IF($K$19=$C$17,$J85,IF($J$19=$C$17,$I85,IF($I$19=$C$17,'Baggrundsdata - HICP - deflator'!$H85,IF($H$19=$C$17,'Baggrundsdata - HICP - deflator'!$G85,IF($C$17=$G$19,'Baggrundsdata - HICP - deflator'!$F85,IF($F$19=$C$17,'Baggrundsdata - HICP - deflator'!$E85,IF($E$19=$C$17,'Baggrundsdata - HICP - deflator'!$D85,IF($D$19=$C$17,'Baggrundsdata - HICP - deflator'!$C85,IF('Baggrundsdata - HICP - deflator'!$C$19='Baggrundsdata - HICP - deflator'!$C$17,'Baggrundsdata - HICP - deflator'!$B85,\"*\"))))))))))),\"*\")","v":0.94793089999999991},{"$f":"IFERROR('Baggrundsdata - HICP - deflator'!G85/IF($M$19=$C$17,$L85,IF($L$19=$C$17,$K85,IF($K$19=$C$17,$J85,IF($J$19=$C$17,$I85,IF($I$19=$C$17,'Baggrundsdata - HICP - deflator'!$H85,IF($H$19=$C$17,'Baggrundsdata - HICP - deflator'!$G85,IF($C$17=$G$19,'Baggrundsdata - HICP - deflator'!$F85,IF($F$19=$C$17,'Baggrundsdata - HICP - deflator'!$E85,IF($E$19=$C$17,'Baggrundsdata - HICP - deflator'!$D85,IF($D$19=$C$17,'Baggrundsdata - HICP - deflator'!$C85,IF('Baggrundsdata - HICP - deflator'!$C$19='Baggrundsdata - HICP - deflator'!$C$17,'Baggrundsdata - HICP - deflator'!$B85,\"*\"))))))))))),\"*\")","v":0.97531445999999999},{"$f":"IFERROR('Baggrundsdata - HICP - deflator'!H85/IF($M$19=$C$17,$L85,IF($L$19=$C$17,$K85,IF($K$19=$C$17,$J85,IF($J$19=$C$17,$I85,IF($I$19=$C$17,'Baggrundsdata - HICP - deflator'!$H85,IF($H$19=$C$17,'Baggrundsdata - HICP - deflator'!$G85,IF($C$17=$G$19,'Baggrundsdata - HICP - deflator'!$F85,IF($F$19=$C$17,'Baggrundsdata - HICP - deflator'!$E85,IF($E$19=$C$17,'Baggrundsdata - HICP - deflator'!$D85,IF($D$19=$C$17,'Baggrundsdata - HICP - deflator'!$C85,IF('Baggrundsdata - HICP - deflator'!$C$19='Baggrundsdata - HICP - deflator'!$C$17,'Baggrundsdata - HICP - deflator'!$B85,\"*\"))))))))))),\"*\")","v":0.99190449999999997},{"$f":"IFERROR('Baggrundsdata - HICP - deflator'!I85/IF($M$19=$C$17,$L85,IF($L$19=$C$17,$K85,IF($K$19=$C$17,$J85,IF($J$19=$C$17,$I85,IF($I$19=$C$17,'Baggrundsdata - HICP - deflator'!$H85,IF($H$19=$C$17,'Baggrundsdata - HICP - deflator'!$G85,IF($C$17=$G$19,'Baggrundsdata - HICP - deflator'!$F85,IF($F$19=$C$17,'Baggrundsdata - HICP - deflator'!$E85,IF($E$19=$C$17,'Baggrundsdata - HICP - deflator'!$D85,IF($D$19=$C$17,'Baggrundsdata - HICP - deflator'!$C85,IF('Baggrundsdata - HICP - deflator'!$C$19='Baggrundsdata - HICP - deflator'!$C$17,'Baggrundsdata - HICP - deflator'!$B85,\"*\"))))))))))),\"*\")","v":0.99880035999999994},{"$f":"IFERROR('Baggrundsdata - HICP - deflator'!J85/IF($M$19=$C$17,$L85,IF($L$19=$C$17,$K85,IF($K$19=$C$17,$J85,IF($J$19=$C$17,$I85,IF($I$19=$C$17,'Baggrundsdata - HICP - deflator'!$H85,IF($H$19=$C$17,'Baggrundsdata - HICP - deflator'!$G85,IF($C$17=$G$19,'Baggrundsdata - HICP - deflator'!$F85,IF($F$19=$C$17,'Baggrundsdata - HICP - deflator'!$E85,IF($E$19=$C$17,'Baggrundsdata - HICP - deflator'!$D85,IF($D$19=$C$17,'Baggrundsdata - HICP - deflator'!$C85,IF('Baggrundsdata - HICP - deflator'!$C$19='Baggrundsdata - HICP - deflator'!$C$17,'Baggrundsdata - HICP - deflator'!$B85,\"*\"))))))))))),\"*\")","v":0.99939999999999996},{"$f":"IFERROR('Baggrundsdata - HICP - deflator'!K85/IF($M$19=$C$17,$L85,IF($L$19=$C$17,$K85,IF($K$19=$C$17,$J85,IF($J$19=$C$17,$I85,IF($I$19=$C$17,'Baggrundsdata - HICP - deflator'!$H85,IF($H$19=$C$17,'Baggrundsdata - HICP - deflator'!$G85,IF($C$17=$G$19,'Baggrundsdata - HICP - deflator'!$F85,IF($F$19=$C$17,'Baggrundsdata - HICP - deflator'!$E85,IF($E$19=$C$17,'Baggrundsdata - HICP - deflator'!$D85,IF($D$19=$C$17,'Baggrundsdata - HICP - deflator'!$C85,IF('Baggrundsdata - HICP - deflator'!$C$19='Baggrundsdata - HICP - deflator'!$C$17,'Baggrundsdata - HICP - deflator'!$B85,\"*\"))))))))))),\"*\")","v":1},{"$f":"IFERROR('Baggrundsdata - HICP - deflator'!L85/IF($M$19=$C$17,$L85,IF($L$19=$C$17,$K85,IF($K$19=$C$17,$J85,IF($J$19=$C$17,$I85,IF($I$19=$C$17,'Baggrundsdata - HICP - deflator'!$H85,IF($H$19=$C$17,'Baggrundsdata - HICP - deflator'!$G85,IF($C$17=$G$19,'Baggrundsdata - HICP - deflator'!$F85,IF($F$19=$C$17,'Baggrundsdata - HICP - deflator'!$E85,IF($E$19=$C$17,'Baggrundsdata - HICP - deflator'!$D85,IF($D$19=$C$17,'Baggrundsdata - HICP - deflator'!$C85,IF('Baggrundsdata - HICP - deflator'!$C$19='Baggrundsdata - HICP - deflator'!$C$17,'Baggrundsdata - HICP - deflator'!$B85,\"*\"))))))))))),\"*\")","v":0},null,{"$f":"IF(A85='Level 1'!A69,\"sand\",\"falsk\")","v":"sand"}]
[null,"Ungarn",{"$f":"IFERROR('Baggrundsdata - HICP - deflator'!B86/IF($M$19=$C$17,$L86,IF($L$19=$C$17,$K86,IF($K$19=$C$17,$J86,IF($J$19=$C$17,$I86,IF($I$19=$C$17,'Baggrundsdata - HICP - deflator'!$H86,IF($H$19=$C$17,'Baggrundsdata - HICP - deflator'!$G86,IF($C$17=$G$19,'Baggrundsdata - HICP - deflator'!$F86,IF($F$19=$C$17,'Baggrundsdata - HICP - deflator'!$E86,IF($E$19=$C$17,'Baggrundsdata - HICP - deflator'!$D86,IF($D$19=$C$17,'Baggrundsdata - HICP - deflator'!$C86,IF('Baggrundsdata - HICP - deflator'!$C$19='Baggrundsdata - HICP - deflator'!$C$17,'Baggrundsdata - HICP - deflator'!$B86,\"*\"))))))))))),\"*\")","v":0.77403529999999998},{"$f":"IFERROR('Baggrundsdata - HICP - deflator'!C86/IF($M$19=$C$17,$L86,IF($L$19=$C$17,$K86,IF($K$19=$C$17,$J86,IF($J$19=$C$17,$I86,IF($I$19=$C$17,'Baggrundsdata - HICP - deflator'!$H86,IF($H$19=$C$17,'Baggrundsdata - HICP - deflator'!$G86,IF($C$17=$G$19,'Baggrundsdata - HICP - deflator'!$F86,IF($F$19=$C$17,'Baggrundsdata - HICP - deflator'!$E86,IF($E$19=$C$17,'Baggrundsdata - HICP - deflator'!$D86,IF($D$19=$C$17,'Baggrundsdata - HICP - deflator'!$C86,IF('Baggrundsdata - HICP - deflator'!$C$19='Baggrundsdata - HICP - deflator'!$C$17,'Baggrundsdata - HICP - deflator'!$B86,\"*\"))))))))))),\"*\")","v":0.82070728000000004},{"$f":"IFERROR('Baggrundsdata - HICP - deflator'!D86/IF($M$19=$C$17,$L86,IF($L$19=$C$17,$K86,IF($K$19=$C$17,$J86,IF($J$19=$C$17,$I86,IF($I$19=$C$17,'Baggrundsdata - HICP - deflator'!$H86,IF($H$19=$C$17,'Baggrundsdata - HICP - deflator'!$G86,IF($C$17=$G$19,'Baggrundsdata - HICP - deflator'!$F86,IF($F$19=$C$17,'Baggrundsdata - HICP - deflator'!$E86,IF($E$19=$C$17,'Baggrundsdata - HICP - deflator'!$D86,IF($D$19=$C$17,'Baggrundsdata - HICP - deflator'!$C86,IF('Baggrundsdata - HICP - deflator'!$C$19='Baggrundsdata - HICP - deflator'!$C$17,'Baggrundsdata - HICP - deflator'!$B86,\"*\"))))))))))),\"*\")","v":0.85378742000000007},{"$f":"IFERROR('Baggrundsdata - HICP - deflator'!E86/IF($M$19=$C$17,$L86,IF($L$19=$C$17,$K86,IF($K$19=$C$17,$J86,IF($J$19=$C$17,$I86,IF($I$19=$C$17,'Baggrundsdata - HICP - deflator'!$H86,IF($H$19=$C$17,'Baggrundsdata - HICP - deflator'!$G86,IF($C$17=$G$19,'Baggrundsdata - HICP - deflator'!$F86,IF($F$19=$C$17,'Baggrundsdata - HICP - deflator'!$E86,IF($E$19=$C$17,'Baggrundsdata - HICP - deflator'!$D86,IF($D$19=$C$17,'Baggrundsdata - HICP - deflator'!$C86,IF('Baggrundsdata - HICP - deflator'!$C$19='Baggrundsdata - HICP - deflator'!$C$17,'Baggrundsdata - HICP - deflator'!$B86,\"*\"))))))))))),\"*\")","v":0.89416317999999995},{"$f":"IFERROR('Baggrundsdata - HICP - deflator'!F86/IF($M$19=$C$17,$L86,IF($L$19=$C$17,$K86,IF($K$19=$C$17,$J86,IF($J$19=$C$17,$I86,IF($I$19=$C$17,'Baggrundsdata - HICP - deflator'!$H86,IF($H$19=$C$17,'Baggrundsdata - HICP - deflator'!$G86,IF($C$17=$G$19,'Baggrundsdata - HICP - deflator'!$F86,IF($F$19=$C$17,'Baggrundsdata - HICP - deflator'!$E86,IF($E$19=$C$17,'Baggrundsdata - HICP - deflator'!$D86,IF($D$19=$C$17,'Baggrundsdata - HICP - deflator'!$C86,IF('Baggrundsdata - HICP - deflator'!$C$19='Baggrundsdata - HICP - deflator'!$C$17,'Baggrundsdata - HICP - deflator'!$B86,\"*\"))))))))))),\"*\")","v":0.92924211999999995},{"$f":"IFERROR('Baggrundsdata - HICP - deflator'!G86/IF($M$19=$C$17,$L86,IF($L$19=$C$17,$K86,IF($K$19=$C$17,$J86,IF($J$19=$C$17,$I86,IF($I$19=$C$17,'Baggrundsdata - HICP - deflator'!$H86,IF($H$19=$C$17,'Baggrundsdata - HICP - deflator'!$G86,IF($C$17=$G$19,'Baggrundsdata - HICP - deflator'!$F86,IF($F$19=$C$17,'Baggrundsdata - HICP - deflator'!$E86,IF($E$19=$C$17,'Baggrundsdata - HICP - deflator'!$D86,IF($D$19=$C$17,'Baggrundsdata - HICP - deflator'!$C86,IF('Baggrundsdata - HICP - deflator'!$C$19='Baggrundsdata - HICP - deflator'!$C$17,'Baggrundsdata - HICP - deflator'!$B86,\"*\"))))))))))),\"*\")","v":0.98181055999999989},{"$f":"IFERROR('Baggrundsdata - HICP - deflator'!H86/IF($M$19=$C$17,$L86,IF($L$19=$C$17,$K86,IF($K$19=$C$17,$J86,IF($J$19=$C$17,$I86,IF($I$19=$C$17,'Baggrundsdata - HICP - deflator'!$H86,IF($H$19=$C$17,'Baggrundsdata - HICP - deflator'!$G86,IF($C$17=$G$19,'Baggrundsdata - HICP - deflator'!$F86,IF($F$19=$C$17,'Baggrundsdata - HICP - deflator'!$E86,IF($E$19=$C$17,'Baggrundsdata - HICP - deflator'!$D86,IF($D$19=$C$17,'Baggrundsdata - HICP - deflator'!$C86,IF('Baggrundsdata - HICP - deflator'!$C$19='Baggrundsdata - HICP - deflator'!$C$17,'Baggrundsdata - HICP - deflator'!$B86,\"*\"))))))))))),\"*\")","v":0.99860048000000001},{"$f":"IFERROR('Baggrundsdata - HICP - deflator'!I86/IF($M$19=$C$17,$L86,IF($L$19=$C$17,$K86,IF($K$19=$C$17,$J86,IF($J$19=$C$17,$I86,IF($I$19=$C$17,'Baggrundsdata - HICP - deflator'!$H86,IF($H$19=$C$17,'Baggrundsdata - HICP - deflator'!$G86,IF($C$17=$G$19,'Baggrundsdata - HICP - deflator'!$F86,IF($F$19=$C$17,'Baggrundsdata - HICP - deflator'!$E86,IF($E$19=$C$17,'Baggrundsdata - HICP - deflator'!$D86,IF($D$19=$C$17,'Baggrundsdata - HICP - deflator'!$C86,IF('Baggrundsdata - HICP - deflator'!$C$19='Baggrundsdata - HICP - deflator'!$C$17,'Baggrundsdata - HICP - deflator'!$B86,\"*\"))))))))))),\"*\")","v":0.99880035999999994},{"$f":"IFERROR('Baggrundsdata - HICP - deflator'!J86/IF($M$19=$C$17,$L86,IF($L$19=$C$17,$K86,IF($K$19=$C$17,$J86,IF($J$19=$C$17,$I86,IF($I$19=$C$17,'Baggrundsdata - HICP - deflator'!$H86,IF($H$19=$C$17,'Baggrundsdata - HICP - deflator'!$G86,IF($C$17=$G$19,'Baggrundsdata - HICP - deflator'!$F86,IF($F$19=$C$17,'Baggrundsdata - HICP - deflator'!$E86,IF($E$19=$C$17,'Baggrundsdata - HICP - deflator'!$D86,IF($D$19=$C$17,'Baggrundsdata - HICP - deflator'!$C86,IF('Baggrundsdata - HICP - deflator'!$C$19='Baggrundsdata - HICP - deflator'!$C$17,'Baggrundsdata - HICP - deflator'!$B86,\"*\"))))))))))),\"*\")","v":0.99939999999999996},{"$f":"IFERROR('Baggrundsdata - HICP - deflator'!K86/IF($M$19=$C$17,$L86,IF($L$19=$C$17,$K86,IF($K$19=$C$17,$J86,IF($J$19=$C$17,$I86,IF($I$19=$C$17,'Baggrundsdata - HICP - deflator'!$H86,IF($H$19=$C$17,'Baggrundsdata - HICP - deflator'!$G86,IF($C$17=$G$19,'Baggrundsdata - HICP - deflator'!$F86,IF($F$19=$C$17,'Baggrundsdata - HICP - deflator'!$E86,IF($E$19=$C$17,'Baggrundsdata - HICP - deflator'!$D86,IF($D$19=$C$17,'Baggrundsdata - HICP - deflator'!$C86,IF('Baggrundsdata - HICP - deflator'!$C$19='Baggrundsdata - HICP - deflator'!$C$17,'Baggrundsdata - HICP - deflator'!$B86,\"*\"))))))))))),\"*\")","v":1},{"$f":"IFERROR('Baggrundsdata - HICP - deflator'!L86/IF($M$19=$C$17,$L86,IF($L$19=$C$17,$K86,IF($K$19=$C$17,$J86,IF($J$19=$C$17,$I86,IF($I$19=$C$17,'Baggrundsdata - HICP - deflator'!$H86,IF($H$19=$C$17,'Baggrundsdata - HICP - deflator'!$G86,IF($C$17=$G$19,'Baggrundsdata - HICP - deflator'!$F86,IF($F$19=$C$17,'Baggrundsdata - HICP - deflator'!$E86,IF($E$19=$C$17,'Baggrundsdata - HICP - deflator'!$D86,IF($D$19=$C$17,'Baggrundsdata - HICP - deflator'!$C86,IF('Baggrundsdata - HICP - deflator'!$C$19='Baggrundsdata - HICP - deflator'!$C$17,'Baggrundsdata - HICP - deflator'!$B86,\"*\"))))))))))),\"*\")","v":0},null,{"$f":"IF(A86='Level 1'!A70,\"sand\",\"falsk\")","v":"sand"}]
[null,"Malta",{"$f":"IFERROR('Baggrundsdata - HICP - deflator'!B87/IF($M$19=$C$17,$L87,IF($L$19=$C$17,$K87,IF($K$19=$C$17,$J87,IF($J$19=$C$17,$I87,IF($I$19=$C$17,'Baggrundsdata - HICP - deflator'!$H87,IF($H$19=$C$17,'Baggrundsdata - HICP - deflator'!$G87,IF($C$17=$G$19,'Baggrundsdata - HICP - deflator'!$F87,IF($F$19=$C$17,'Baggrundsdata - HICP - deflator'!$E87,IF($E$19=$C$17,'Baggrundsdata - HICP - deflator'!$D87,IF($D$19=$C$17,'Baggrundsdata - HICP - deflator'!$C87,IF('Baggrundsdata - HICP - deflator'!$C$19='Baggrundsdata - HICP - deflator'!$C$17,'Baggrundsdata - HICP - deflator'!$B87,\"*\"))))))))))),\"*\")","v":0.83401192000000002},{"$f":"IFERROR('Baggrundsdata - HICP - deflator'!C87/IF($M$19=$C$17,$L87,IF($L$19=$C$17,$K87,IF($K$19=$C$17,$J87,IF($J$19=$C$17,$I87,IF($I$19=$C$17,'Baggrundsdata - HICP - deflator'!$H87,IF($H$19=$C$17,'Baggrundsdata - HICP - deflator'!$G87,IF($C$17=$G$19,'Baggrundsdata - HICP - deflator'!$F87,IF($F$19=$C$17,'Baggrundsdata - HICP - deflator'!$E87,IF($E$19=$C$17,'Baggrundsdata - HICP - deflator'!$D87,IF($D$19=$C$17,'Baggrundsdata - HICP - deflator'!$C87,IF('Baggrundsdata - HICP - deflator'!$C$19='Baggrundsdata - HICP - deflator'!$C$17,'Baggrundsdata - HICP - deflator'!$B87,\"*\"))))))))))),\"*\")","v":0.87305372000000014},{"$f":"IFERROR('Baggrundsdata - HICP - deflator'!D87/IF($M$19=$C$17,$L87,IF($L$19=$C$17,$K87,IF($K$19=$C$17,$J87,IF($J$19=$C$17,$I87,IF($I$19=$C$17,'Baggrundsdata - HICP - deflator'!$H87,IF($H$19=$C$17,'Baggrundsdata - HICP - deflator'!$G87,IF($C$17=$G$19,'Baggrundsdata - HICP - deflator'!$F87,IF($F$19=$C$17,'Baggrundsdata - HICP - deflator'!$E87,IF($E$19=$C$17,'Baggrundsdata - HICP - deflator'!$D87,IF($D$19=$C$17,'Baggrundsdata - HICP - deflator'!$C87,IF('Baggrundsdata - HICP - deflator'!$C$19='Baggrundsdata - HICP - deflator'!$C$17,'Baggrundsdata - HICP - deflator'!$B87,\"*\"))))))))))),\"*\")","v":0.88906580000000013},{"$f":"IFERROR('Baggrundsdata - HICP - deflator'!E87/IF($M$19=$C$17,$L87,IF($L$19=$C$17,$K87,IF($K$19=$C$17,$J87,IF($J$19=$C$17,$I87,IF($I$19=$C$17,'Baggrundsdata - HICP - deflator'!$H87,IF($H$19=$C$17,'Baggrundsdata - HICP - deflator'!$G87,IF($C$17=$G$19,'Baggrundsdata - HICP - deflator'!$F87,IF($F$19=$C$17,'Baggrundsdata - HICP - deflator'!$E87,IF($E$19=$C$17,'Baggrundsdata - HICP - deflator'!$D87,IF($D$19=$C$17,'Baggrundsdata - HICP - deflator'!$C87,IF('Baggrundsdata - HICP - deflator'!$C$19='Baggrundsdata - HICP - deflator'!$C$17,'Baggrundsdata - HICP - deflator'!$B87,\"*\"))))))))))),\"*\")","v":0.9072523600000002},{"$f":"IFERROR('Baggrundsdata - HICP - deflator'!F87/IF($M$19=$C$17,$L87,IF($L$19=$C$17,$K87,IF($K$19=$C$17,$J87,IF($J$19=$C$17,$I87,IF($I$19=$C$17,'Baggrundsdata - HICP - deflator'!$H87,IF($H$19=$C$17,'Baggrundsdata - HICP - deflator'!$G87,IF($C$17=$G$19,'Baggrundsdata - HICP - deflator'!$F87,IF($F$19=$C$17,'Baggrundsdata - HICP - deflator'!$E87,IF($E$19=$C$17,'Baggrundsdata - HICP - deflator'!$D87,IF($D$19=$C$17,'Baggrundsdata - HICP - deflator'!$C87,IF('Baggrundsdata - HICP - deflator'!$C$19='Baggrundsdata - HICP - deflator'!$C$17,'Baggrundsdata - HICP - deflator'!$B87,\"*\"))))))))))),\"*\")","v":0.93008440000000003},{"$f":"IFERROR('Baggrundsdata - HICP - deflator'!G87/IF($M$19=$C$17,$L87,IF($L$19=$C$17,$K87,IF($K$19=$C$17,$J87,IF($J$19=$C$17,$I87,IF($I$19=$C$17,'Baggrundsdata - HICP - deflator'!$H87,IF($H$19=$C$17,'Baggrundsdata - HICP - deflator'!$G87,IF($C$17=$G$19,'Baggrundsdata - HICP - deflator'!$F87,IF($F$19=$C$17,'Baggrundsdata - HICP - deflator'!$E87,IF($E$19=$C$17,'Baggrundsdata - HICP - deflator'!$D87,IF($D$19=$C$17,'Baggrundsdata - HICP - deflator'!$C87,IF('Baggrundsdata - HICP - deflator'!$C$19='Baggrundsdata - HICP - deflator'!$C$17,'Baggrundsdata - HICP - deflator'!$B87,\"*\"))))))))))),\"*\")","v":0.96003292000000007},{"$f":"IFERROR('Baggrundsdata - HICP - deflator'!H87/IF($M$19=$C$17,$L87,IF($L$19=$C$17,$K87,IF($K$19=$C$17,$J87,IF($J$19=$C$17,$I87,IF($I$19=$C$17,'Baggrundsdata - HICP - deflator'!$H87,IF($H$19=$C$17,'Baggrundsdata - HICP - deflator'!$G87,IF($C$17=$G$19,'Baggrundsdata - HICP - deflator'!$F87,IF($F$19=$C$17,'Baggrundsdata - HICP - deflator'!$E87,IF($E$19=$C$17,'Baggrundsdata - HICP - deflator'!$D87,IF($D$19=$C$17,'Baggrundsdata - HICP - deflator'!$C87,IF('Baggrundsdata - HICP - deflator'!$C$19='Baggrundsdata - HICP - deflator'!$C$17,'Baggrundsdata - HICP - deflator'!$B87,\"*\"))))))))))),\"*\")","v":0.96942272000000007},{"$f":"IFERROR('Baggrundsdata - HICP - deflator'!I87/IF($M$19=$C$17,$L87,IF($L$19=$C$17,$K87,IF($K$19=$C$17,$J87,IF($J$19=$C$17,$I87,IF($I$19=$C$17,'Baggrundsdata - HICP - deflator'!$H87,IF($H$19=$C$17,'Baggrundsdata - HICP - deflator'!$G87,IF($C$17=$G$19,'Baggrundsdata - HICP - deflator'!$F87,IF($F$19=$C$17,'Baggrundsdata - HICP - deflator'!$E87,IF($E$19=$C$17,'Baggrundsdata - HICP - deflator'!$D87,IF($D$19=$C$17,'Baggrundsdata - HICP - deflator'!$C87,IF('Baggrundsdata - HICP - deflator'!$C$19='Baggrundsdata - HICP - deflator'!$C$17,'Baggrundsdata - HICP - deflator'!$B87,\"*\"))))))))))),\"*\")","v":0.97693456000000012},{"$f":"IFERROR('Baggrundsdata - HICP - deflator'!J87/IF($M$19=$C$17,$L87,IF($L$19=$C$17,$K87,IF($K$19=$C$17,$J87,IF($J$19=$C$17,$I87,IF($I$19=$C$17,'Baggrundsdata - HICP - deflator'!$H87,IF($H$19=$C$17,'Baggrundsdata - HICP - deflator'!$G87,IF($C$17=$G$19,'Baggrundsdata - HICP - deflator'!$F87,IF($F$19=$C$17,'Baggrundsdata - HICP - deflator'!$E87,IF($E$19=$C$17,'Baggrundsdata - HICP - deflator'!$D87,IF($D$19=$C$17,'Baggrundsdata - HICP - deflator'!$C87,IF('Baggrundsdata - HICP - deflator'!$C$19='Baggrundsdata - HICP - deflator'!$C$17,'Baggrundsdata - HICP - deflator'!$B87,\"*\"))))))))))),\"*\")","v":0.98840000000000017},{"$f":"IFERROR('Baggrundsdata - HICP - deflator'!K87/IF($M$19=$C$17,$L87,IF($L$19=$C$17,$K87,IF($K$19=$C$17,$J87,IF($J$19=$C$17,$I87,IF($I$19=$C$17,'Baggrundsdata - HICP - deflator'!$H87,IF($H$19=$C$17,'Baggrundsdata - HICP - deflator'!$G87,IF($C$17=$G$19,'Baggrundsdata - HICP - deflator'!$F87,IF($F$19=$C$17,'Baggrundsdata - HICP - deflator'!$E87,IF($E$19=$C$17,'Baggrundsdata - HICP - deflator'!$D87,IF($D$19=$C$17,'Baggrundsdata - HICP - deflator'!$C87,IF('Baggrundsdata - HICP - deflator'!$C$19='Baggrundsdata - HICP - deflator'!$C$17,'Baggrundsdata - HICP - deflator'!$B87,\"*\"))))))))))),\"*\")","v":1},{"$f":"IFERROR('Baggrundsdata - HICP - deflator'!L87/IF($M$19=$C$17,$L87,IF($L$19=$C$17,$K87,IF($K$19=$C$17,$J87,IF($J$19=$C$17,$I87,IF($I$19=$C$17,'Baggrundsdata - HICP - deflator'!$H87,IF($H$19=$C$17,'Baggrundsdata - HICP - deflator'!$G87,IF($C$17=$G$19,'Baggrundsdata - HICP - deflator'!$F87,IF($F$19=$C$17,'Baggrundsdata - HICP - deflator'!$E87,IF($E$19=$C$17,'Baggrundsdata - HICP - deflator'!$D87,IF($D$19=$C$17,'Baggrundsdata - HICP - deflator'!$C87,IF('Baggrundsdata - HICP - deflator'!$C$19='Baggrundsdata - HICP - deflator'!$C$17,'Baggrundsdata - HICP - deflator'!$B87,\"*\"))))))))))),\"*\")","v":0},null,{"$f":"IF(A87='Level 1'!A71,\"sand\",\"falsk\")","v":"sand"}]
[null,"Holland",{"$f":"IFERROR('Baggrundsdata - HICP - deflator'!B88/IF($M$19=$C$17,$L88,IF($L$19=$C$17,$K88,IF($K$19=$C$17,$J88,IF($J$19=$C$17,$I88,IF($I$19=$C$17,'Baggrundsdata - HICP - deflator'!$H88,IF($H$19=$C$17,'Baggrundsdata - HICP - deflator'!$G88,IF($C$17=$G$19,'Baggrundsdata - HICP - deflator'!$F88,IF($F$19=$C$17,'Baggrundsdata - HICP - deflator'!$E88,IF($E$19=$C$17,'Baggrundsdata - HICP - deflator'!$D88,IF($D$19=$C$17,'Baggrundsdata - HICP - deflator'!$C88,IF('Baggrundsdata - HICP - deflator'!$C$19='Baggrundsdata - HICP - deflator'!$C$17,'Baggrundsdata - HICP - deflator'!$B88,\"*\"))))))))))),\"*\")","v":0.88174444000000007},{"$f":"IFERROR('Baggrundsdata - HICP - deflator'!C88/IF($M$19=$C$17,$L88,IF($L$19=$C$17,$K88,IF($K$19=$C$17,$J88,IF($J$19=$C$17,$I88,IF($I$19=$C$17,'Baggrundsdata - HICP - deflator'!$H88,IF($H$19=$C$17,'Baggrundsdata - HICP - deflator'!$G88,IF($C$17=$G$19,'Baggrundsdata - HICP - deflator'!$F88,IF($F$19=$C$17,'Baggrundsdata - HICP - deflator'!$E88,IF($E$19=$C$17,'Baggrundsdata - HICP - deflator'!$D88,IF($D$19=$C$17,'Baggrundsdata - HICP - deflator'!$C88,IF('Baggrundsdata - HICP - deflator'!$C$19='Baggrundsdata - HICP - deflator'!$C$17,'Baggrundsdata - HICP - deflator'!$B88,\"*\"))))))))))),\"*\")","v":0.90130328000000004},{"$f":"IFERROR('Baggrundsdata - HICP - deflator'!D88/IF($M$19=$C$17,$L88,IF($L$19=$C$17,$K88,IF($K$19=$C$17,$J88,IF($J$19=$C$17,$I88,IF($I$19=$C$17,'Baggrundsdata - HICP - deflator'!$H88,IF($H$19=$C$17,'Baggrundsdata - HICP - deflator'!$G88,IF($C$17=$G$19,'Baggrundsdata - HICP - deflator'!$F88,IF($F$19=$C$17,'Baggrundsdata - HICP - deflator'!$E88,IF($E$19=$C$17,'Baggrundsdata - HICP - deflator'!$D88,IF($D$19=$C$17,'Baggrundsdata - HICP - deflator'!$C88,IF('Baggrundsdata - HICP - deflator'!$C$19='Baggrundsdata - HICP - deflator'!$C$17,'Baggrundsdata - HICP - deflator'!$B88,\"*\"))))))))))),\"*\")","v":0.91008480000000014},{"$f":"IFERROR('Baggrundsdata - HICP - deflator'!E88/IF($M$19=$C$17,$L88,IF($L$19=$C$17,$K88,IF($K$19=$C$17,$J88,IF($J$19=$C$17,$I88,IF($I$19=$C$17,'Baggrundsdata - HICP - deflator'!$H88,IF($H$19=$C$17,'Baggrundsdata - HICP - deflator'!$G88,IF($C$17=$G$19,'Baggrundsdata - HICP - deflator'!$F88,IF($F$19=$C$17,'Baggrundsdata - HICP - deflator'!$E88,IF($E$19=$C$17,'Baggrundsdata - HICP - deflator'!$D88,IF($D$19=$C$17,'Baggrundsdata - HICP - deflator'!$C88,IF('Baggrundsdata - HICP - deflator'!$C$19='Baggrundsdata - HICP - deflator'!$C$17,'Baggrundsdata - HICP - deflator'!$B88,\"*\"))))))))))),\"*\")","v":0.9185669500000001},{"$f":"IFERROR('Baggrundsdata - HICP - deflator'!F88/IF($M$19=$C$17,$L88,IF($L$19=$C$17,$K88,IF($K$19=$C$17,$J88,IF($J$19=$C$17,$I88,IF($I$19=$C$17,'Baggrundsdata - HICP - deflator'!$H88,IF($H$19=$C$17,'Baggrundsdata - HICP - deflator'!$G88,IF($C$17=$G$19,'Baggrundsdata - HICP - deflator'!$F88,IF($F$19=$C$17,'Baggrundsdata - HICP - deflator'!$E88,IF($E$19=$C$17,'Baggrundsdata - HICP - deflator'!$D88,IF($D$19=$C$17,'Baggrundsdata - HICP - deflator'!$C88,IF('Baggrundsdata - HICP - deflator'!$C$19='Baggrundsdata - HICP - deflator'!$C$17,'Baggrundsdata - HICP - deflator'!$B88,\"*\"))))))))))),\"*\")","v":0.94121927999999999},{"$f":"IFERROR('Baggrundsdata - HICP - deflator'!G88/IF($M$19=$C$17,$L88,IF($L$19=$C$17,$K88,IF($K$19=$C$17,$J88,IF($J$19=$C$17,$I88,IF($I$19=$C$17,'Baggrundsdata - HICP - deflator'!$H88,IF($H$19=$C$17,'Baggrundsdata - HICP - deflator'!$G88,IF($C$17=$G$19,'Baggrundsdata - HICP - deflator'!$F88,IF($F$19=$C$17,'Baggrundsdata - HICP - deflator'!$E88,IF($E$19=$C$17,'Baggrundsdata - HICP - deflator'!$D88,IF($D$19=$C$17,'Baggrundsdata - HICP - deflator'!$C88,IF('Baggrundsdata - HICP - deflator'!$C$19='Baggrundsdata - HICP - deflator'!$C$17,'Baggrundsdata - HICP - deflator'!$B88,\"*\"))))))))))),\"*\")","v":0.96786321000000008},{"$f":"IFERROR('Baggrundsdata - HICP - deflator'!H88/IF($M$19=$C$17,$L88,IF($L$19=$C$17,$K88,IF($K$19=$C$17,$J88,IF($J$19=$C$17,$I88,IF($I$19=$C$17,'Baggrundsdata - HICP - deflator'!$H88,IF($H$19=$C$17,'Baggrundsdata - HICP - deflator'!$G88,IF($C$17=$G$19,'Baggrundsdata - HICP - deflator'!$F88,IF($F$19=$C$17,'Baggrundsdata - HICP - deflator'!$E88,IF($E$19=$C$17,'Baggrundsdata - HICP - deflator'!$D88,IF($D$19=$C$17,'Baggrundsdata - HICP - deflator'!$C88,IF('Baggrundsdata - HICP - deflator'!$C$19='Baggrundsdata - HICP - deflator'!$C$17,'Baggrundsdata - HICP - deflator'!$B88,\"*\"))))))))))),\"*\")","v":0.99261113000000012},{"$f":"IFERROR('Baggrundsdata - HICP - deflator'!I88/IF($M$19=$C$17,$L88,IF($L$19=$C$17,$K88,IF($K$19=$C$17,$J88,IF($J$19=$C$17,$I88,IF($I$19=$C$17,'Baggrundsdata - HICP - deflator'!$H88,IF($H$19=$C$17,'Baggrundsdata - HICP - deflator'!$G88,IF($C$17=$G$19,'Baggrundsdata - HICP - deflator'!$F88,IF($F$19=$C$17,'Baggrundsdata - HICP - deflator'!$E88,IF($E$19=$C$17,'Baggrundsdata - HICP - deflator'!$D88,IF($D$19=$C$17,'Baggrundsdata - HICP - deflator'!$C88,IF('Baggrundsdata - HICP - deflator'!$C$19='Baggrundsdata - HICP - deflator'!$C$17,'Baggrundsdata - HICP - deflator'!$B88,\"*\"))))))))))),\"*\")","v":0.9958044100000002},{"$f":"IFERROR('Baggrundsdata - HICP - deflator'!J88/IF($M$19=$C$17,$L88,IF($L$19=$C$17,$K88,IF($K$19=$C$17,$J88,IF($J$19=$C$17,$I88,IF($I$19=$C$17,'Baggrundsdata - HICP - deflator'!$H88,IF($H$19=$C$17,'Baggrundsdata - HICP - deflator'!$G88,IF($C$17=$G$19,'Baggrundsdata - HICP - deflator'!$F88,IF($F$19=$C$17,'Baggrundsdata - HICP - deflator'!$E88,IF($E$19=$C$17,'Baggrundsdata - HICP - deflator'!$D88,IF($D$19=$C$17,'Baggrundsdata - HICP - deflator'!$C88,IF('Baggrundsdata - HICP - deflator'!$C$19='Baggrundsdata - HICP - deflator'!$C$17,'Baggrundsdata - HICP - deflator'!$B88,\"*\"))))))))))),\"*\")","v":0.99790000000000012},{"$f":"IFERROR('Baggrundsdata - HICP - deflator'!K88/IF($M$19=$C$17,$L88,IF($L$19=$C$17,$K88,IF($K$19=$C$17,$J88,IF($J$19=$C$17,$I88,IF($I$19=$C$17,'Baggrundsdata - HICP - deflator'!$H88,IF($H$19=$C$17,'Baggrundsdata - HICP - deflator'!$G88,IF($C$17=$G$19,'Baggrundsdata - HICP - deflator'!$F88,IF($F$19=$C$17,'Baggrundsdata - HICP - deflator'!$E88,IF($E$19=$C$17,'Baggrundsdata - HICP - deflator'!$D88,IF($D$19=$C$17,'Baggrundsdata - HICP - deflator'!$C88,IF('Baggrundsdata - HICP - deflator'!$C$19='Baggrundsdata - HICP - deflator'!$C$17,'Baggrundsdata - HICP - deflator'!$B88,\"*\"))))))))))),\"*\")","v":1},{"$f":"IFERROR('Baggrundsdata - HICP - deflator'!L88/IF($M$19=$C$17,$L88,IF($L$19=$C$17,$K88,IF($K$19=$C$17,$J88,IF($J$19=$C$17,$I88,IF($I$19=$C$17,'Baggrundsdata - HICP - deflator'!$H88,IF($H$19=$C$17,'Baggrundsdata - HICP - deflator'!$G88,IF($C$17=$G$19,'Baggrundsdata - HICP - deflator'!$F88,IF($F$19=$C$17,'Baggrundsdata - HICP - deflator'!$E88,IF($E$19=$C$17,'Baggrundsdata - HICP - deflator'!$D88,IF($D$19=$C$17,'Baggrundsdata - HICP - deflator'!$C88,IF('Baggrundsdata - HICP - deflator'!$C$19='Baggrundsdata - HICP - deflator'!$C$17,'Baggrundsdata - HICP - deflator'!$B88,\"*\"))))))))))),\"*\")","v":0},null,{"$f":"IF(A88='Level 1'!A72,\"sand\",\"falsk\")","v":"sand"}]
[null,"Østrig",{"$f":"IFERROR('Baggrundsdata - HICP - deflator'!B89/IF($M$19=$C$17,$L89,IF($L$19=$C$17,$K89,IF($K$19=$C$17,$J89,IF($J$19=$C$17,$I89,IF($I$19=$C$17,'Baggrundsdata - HICP - deflator'!$H89,IF($H$19=$C$17,'Baggrundsdata - HICP - deflator'!$G89,IF($C$17=$G$19,'Baggrundsdata - HICP - deflator'!$F89,IF($F$19=$C$17,'Baggrundsdata - HICP - deflator'!$E89,IF($E$19=$C$17,'Baggrundsdata - HICP - deflator'!$D89,IF($D$19=$C$17,'Baggrundsdata - HICP - deflator'!$C89,IF('Baggrundsdata - HICP - deflator'!$C$19='Baggrundsdata - HICP - deflator'!$C$17,'Baggrundsdata - HICP - deflator'!$B89,\"*\"))))))))))),\"*\")","v":0.84845759999999992},{"$f":"IFERROR('Baggrundsdata - HICP - deflator'!C89/IF($M$19=$C$17,$L89,IF($L$19=$C$17,$K89,IF($K$19=$C$17,$J89,IF($J$19=$C$17,$I89,IF($I$19=$C$17,'Baggrundsdata - HICP - deflator'!$H89,IF($H$19=$C$17,'Baggrundsdata - HICP - deflator'!$G89,IF($C$17=$G$19,'Baggrundsdata - HICP - deflator'!$F89,IF($F$19=$C$17,'Baggrundsdata - HICP - deflator'!$E89,IF($E$19=$C$17,'Baggrundsdata - HICP - deflator'!$D89,IF($D$19=$C$17,'Baggrundsdata - HICP - deflator'!$C89,IF('Baggrundsdata - HICP - deflator'!$C$19='Baggrundsdata - HICP - deflator'!$C$17,'Baggrundsdata - HICP - deflator'!$B89,\"*\"))))))))))),\"*\")","v":0.87583679999999997},{"$f":"IFERROR('Baggrundsdata - HICP - deflator'!D89/IF($M$19=$C$17,$L89,IF($L$19=$C$17,$K89,IF($K$19=$C$17,$J89,IF($J$19=$C$17,$I89,IF($I$19=$C$17,'Baggrundsdata - HICP - deflator'!$H89,IF($H$19=$C$17,'Baggrundsdata - HICP - deflator'!$G89,IF($C$17=$G$19,'Baggrundsdata - HICP - deflator'!$F89,IF($F$19=$C$17,'Baggrundsdata - HICP - deflator'!$E89,IF($E$19=$C$17,'Baggrundsdata - HICP - deflator'!$D89,IF($D$19=$C$17,'Baggrundsdata - HICP - deflator'!$C89,IF('Baggrundsdata - HICP - deflator'!$C$19='Baggrundsdata - HICP - deflator'!$C$17,'Baggrundsdata - HICP - deflator'!$B89,\"*\"))))))))))),\"*\")","v":0.8793088},{"$f":"IFERROR('Baggrundsdata - HICP - deflator'!E89/IF($M$19=$C$17,$L89,IF($L$19=$C$17,$K89,IF($K$19=$C$17,$J89,IF($J$19=$C$17,$I89,IF($I$19=$C$17,'Baggrundsdata - HICP - deflator'!$H89,IF($H$19=$C$17,'Baggrundsdata - HICP - deflator'!$G89,IF($C$17=$G$19,'Baggrundsdata - HICP - deflator'!$F89,IF($F$19=$C$17,'Baggrundsdata - HICP - deflator'!$E89,IF($E$19=$C$17,'Baggrundsdata - HICP - deflator'!$D89,IF($D$19=$C$17,'Baggrundsdata - HICP - deflator'!$C89,IF('Baggrundsdata - HICP - deflator'!$C$19='Baggrundsdata - HICP - deflator'!$C$17,'Baggrundsdata - HICP - deflator'!$B89,\"*\"))))))))))),\"*\")","v":0.89418880000000001},{"$f":"IFERROR('Baggrundsdata - HICP - deflator'!F89/IF($M$19=$C$17,$L89,IF($L$19=$C$17,$K89,IF($K$19=$C$17,$J89,IF($J$19=$C$17,$I89,IF($I$19=$C$17,'Baggrundsdata - HICP - deflator'!$H89,IF($H$19=$C$17,'Baggrundsdata - HICP - deflator'!$G89,IF($C$17=$G$19,'Baggrundsdata - HICP - deflator'!$F89,IF($F$19=$C$17,'Baggrundsdata - HICP - deflator'!$E89,IF($E$19=$C$17,'Baggrundsdata - HICP - deflator'!$D89,IF($D$19=$C$17,'Baggrundsdata - HICP - deflator'!$C89,IF('Baggrundsdata - HICP - deflator'!$C$19='Baggrundsdata - HICP - deflator'!$C$17,'Baggrundsdata - HICP - deflator'!$B89,\"*\"))))))))))),\"*\")","v":0.92603199999999986},{"$f":"IFERROR('Baggrundsdata - HICP - deflator'!G89/IF($M$19=$C$17,$L89,IF($L$19=$C$17,$K89,IF($K$19=$C$17,$J89,IF($J$19=$C$17,$I89,IF($I$19=$C$17,'Baggrundsdata - HICP - deflator'!$H89,IF($H$19=$C$17,'Baggrundsdata - HICP - deflator'!$G89,IF($C$17=$G$19,'Baggrundsdata - HICP - deflator'!$F89,IF($F$19=$C$17,'Baggrundsdata - HICP - deflator'!$E89,IF($E$19=$C$17,'Baggrundsdata - HICP - deflator'!$D89,IF($D$19=$C$17,'Baggrundsdata - HICP - deflator'!$C89,IF('Baggrundsdata - HICP - deflator'!$C$19='Baggrundsdata - HICP - deflator'!$C$17,'Baggrundsdata - HICP - deflator'!$B89,\"*\"))))))))))),\"*\")","v":0.94983999999999991},{"$f":"IFERROR('Baggrundsdata - HICP - deflator'!H89/IF($M$19=$C$17,$L89,IF($L$19=$C$17,$K89,IF($K$19=$C$17,$J89,IF($J$19=$C$17,$I89,IF($I$19=$C$17,'Baggrundsdata - HICP - deflator'!$H89,IF($H$19=$C$17,'Baggrundsdata - HICP - deflator'!$G89,IF($C$17=$G$19,'Baggrundsdata - HICP - deflator'!$F89,IF($F$19=$C$17,'Baggrundsdata - HICP - deflator'!$E89,IF($E$19=$C$17,'Baggrundsdata - HICP - deflator'!$D89,IF($D$19=$C$17,'Baggrundsdata - HICP - deflator'!$C89,IF('Baggrundsdata - HICP - deflator'!$C$19='Baggrundsdata - HICP - deflator'!$C$17,'Baggrundsdata - HICP - deflator'!$B89,\"*\"))))))))))),\"*\")","v":0.96987839999999992},{"$f":"IFERROR('Baggrundsdata - HICP - deflator'!I89/IF($M$19=$C$17,$L89,IF($L$19=$C$17,$K89,IF($K$19=$C$17,$J89,IF($J$19=$C$17,$I89,IF($I$19=$C$17,'Baggrundsdata - HICP - deflator'!$H89,IF($H$19=$C$17,'Baggrundsdata - HICP - deflator'!$G89,IF($C$17=$G$19,'Baggrundsdata - HICP - deflator'!$F89,IF($F$19=$C$17,'Baggrundsdata - HICP - deflator'!$E89,IF($E$19=$C$17,'Baggrundsdata - HICP - deflator'!$D89,IF($D$19=$C$17,'Baggrundsdata - HICP - deflator'!$C89,IF('Baggrundsdata - HICP - deflator'!$C$19='Baggrundsdata - HICP - deflator'!$C$17,'Baggrundsdata - HICP - deflator'!$B89,\"*\"))))))))))),\"*\")","v":0.98406399999999994},{"$f":"IFERROR('Baggrundsdata - HICP - deflator'!J89/IF($M$19=$C$17,$L89,IF($L$19=$C$17,$K89,IF($K$19=$C$17,$J89,IF($J$19=$C$17,$I89,IF($I$19=$C$17,'Baggrundsdata - HICP - deflator'!$H89,IF($H$19=$C$17,'Baggrundsdata - HICP - deflator'!$G89,IF($C$17=$G$19,'Baggrundsdata - HICP - deflator'!$F89,IF($F$19=$C$17,'Baggrundsdata - HICP - deflator'!$E89,IF($E$19=$C$17,'Baggrundsdata - HICP - deflator'!$D89,IF($D$19=$C$17,'Baggrundsdata - HICP - deflator'!$C89,IF('Baggrundsdata - HICP - deflator'!$C$19='Baggrundsdata - HICP - deflator'!$C$17,'Baggrundsdata - HICP - deflator'!$B89,\"*\"))))))))))),\"*\")","v":0.99199999999999999},{"$f":"IFERROR('Baggrundsdata - HICP - deflator'!K89/IF($M$19=$C$17,$L89,IF($L$19=$C$17,$K89,IF($K$19=$C$17,$J89,IF($J$19=$C$17,$I89,IF($I$19=$C$17,'Baggrundsdata - HICP - deflator'!$H89,IF($H$19=$C$17,'Baggrundsdata - HICP - deflator'!$G89,IF($C$17=$G$19,'Baggrundsdata - HICP - deflator'!$F89,IF($F$19=$C$17,'Baggrundsdata - HICP - deflator'!$E89,IF($E$19=$C$17,'Baggrundsdata - HICP - deflator'!$D89,IF($D$19=$C$17,'Baggrundsdata - HICP - deflator'!$C89,IF('Baggrundsdata - HICP - deflator'!$C$19='Baggrundsdata - HICP - deflator'!$C$17,'Baggrundsdata - HICP - deflator'!$B89,\"*\"))))))))))),\"*\")","v":1},{"$f":"IFERROR('Baggrundsdata - HICP - deflator'!L89/IF($M$19=$C$17,$L89,IF($L$19=$C$17,$K89,IF($K$19=$C$17,$J89,IF($J$19=$C$17,$I89,IF($I$19=$C$17,'Baggrundsdata - HICP - deflator'!$H89,IF($H$19=$C$17,'Baggrundsdata - HICP - deflator'!$G89,IF($C$17=$G$19,'Baggrundsdata - HICP - deflator'!$F89,IF($F$19=$C$17,'Baggrundsdata - HICP - deflator'!$E89,IF($E$19=$C$17,'Baggrundsdata - HICP - deflator'!$D89,IF($D$19=$C$17,'Baggrundsdata - HICP - deflator'!$C89,IF('Baggrundsdata - HICP - deflator'!$C$19='Baggrundsdata - HICP - deflator'!$C$17,'Baggrundsdata - HICP - deflator'!$B89,\"*\"))))))))))),\"*\")","v":0},null,{"$f":"IF(A89='Level 1'!A73,\"sand\",\"falsk\")","v":"sand"}]
[null,"Polen",{"$f":"IFERROR('Baggrundsdata - HICP - deflator'!B90/IF($M$19=$C$17,$L90,IF($L$19=$C$17,$K90,IF($K$19=$C$17,$J90,IF($J$19=$C$17,$I90,IF($I$19=$C$17,'Baggrundsdata - HICP - deflator'!$H90,IF($H$19=$C$17,'Baggrundsdata - HICP - deflator'!$G90,IF($C$17=$G$19,'Baggrundsdata - HICP - deflator'!$F90,IF($F$19=$C$17,'Baggrundsdata - HICP - deflator'!$E90,IF($E$19=$C$17,'Baggrundsdata - HICP - deflator'!$D90,IF($D$19=$C$17,'Baggrundsdata - HICP - deflator'!$C90,IF('Baggrundsdata - HICP - deflator'!$C$19='Baggrundsdata - HICP - deflator'!$C$17,'Baggrundsdata - HICP - deflator'!$B90,\"*\"))))))))))),\"*\")","v":0.83883099999999999},{"$f":"IFERROR('Baggrundsdata - HICP - deflator'!C90/IF($M$19=$C$17,$L90,IF($L$19=$C$17,$K90,IF($K$19=$C$17,$J90,IF($J$19=$C$17,$I90,IF($I$19=$C$17,'Baggrundsdata - HICP - deflator'!$H90,IF($H$19=$C$17,'Baggrundsdata - HICP - deflator'!$G90,IF($C$17=$G$19,'Baggrundsdata - HICP - deflator'!$F90,IF($F$19=$C$17,'Baggrundsdata - HICP - deflator'!$E90,IF($E$19=$C$17,'Baggrundsdata - HICP - deflator'!$D90,IF($D$19=$C$17,'Baggrundsdata - HICP - deflator'!$C90,IF('Baggrundsdata - HICP - deflator'!$C$19='Baggrundsdata - HICP - deflator'!$C$17,'Baggrundsdata - HICP - deflator'!$B90,\"*\"))))))))))),\"*\")","v":0.87407599999999996},{"$f":"IFERROR('Baggrundsdata - HICP - deflator'!D90/IF($M$19=$C$17,$L90,IF($L$19=$C$17,$K90,IF($K$19=$C$17,$J90,IF($J$19=$C$17,$I90,IF($I$19=$C$17,'Baggrundsdata - HICP - deflator'!$H90,IF($H$19=$C$17,'Baggrundsdata - HICP - deflator'!$G90,IF($C$17=$G$19,'Baggrundsdata - HICP - deflator'!$F90,IF($F$19=$C$17,'Baggrundsdata - HICP - deflator'!$E90,IF($E$19=$C$17,'Baggrundsdata - HICP - deflator'!$D90,IF($D$19=$C$17,'Baggrundsdata - HICP - deflator'!$C90,IF('Baggrundsdata - HICP - deflator'!$C$19='Baggrundsdata - HICP - deflator'!$C$17,'Baggrundsdata - HICP - deflator'!$B90,\"*\"))))))))))),\"*\")","v":0.90932100000000005},{"$f":"IFERROR('Baggrundsdata - HICP - deflator'!E90/IF($M$19=$C$17,$L90,IF($L$19=$C$17,$K90,IF($K$19=$C$17,$J90,IF($J$19=$C$17,$I90,IF($I$19=$C$17,'Baggrundsdata - HICP - deflator'!$H90,IF($H$19=$C$17,'Baggrundsdata - HICP - deflator'!$G90,IF($C$17=$G$19,'Baggrundsdata - HICP - deflator'!$F90,IF($F$19=$C$17,'Baggrundsdata - HICP - deflator'!$E90,IF($E$19=$C$17,'Baggrundsdata - HICP - deflator'!$D90,IF($D$19=$C$17,'Baggrundsdata - HICP - deflator'!$C90,IF('Baggrundsdata - HICP - deflator'!$C$19='Baggrundsdata - HICP - deflator'!$C$17,'Baggrundsdata - HICP - deflator'!$B90,\"*\"))))))))))),\"*\")","v":0.93348900000000012},{"$f":"IFERROR('Baggrundsdata - HICP - deflator'!F90/IF($M$19=$C$17,$L90,IF($L$19=$C$17,$K90,IF($K$19=$C$17,$J90,IF($J$19=$C$17,$I90,IF($I$19=$C$17,'Baggrundsdata - HICP - deflator'!$H90,IF($H$19=$C$17,'Baggrundsdata - HICP - deflator'!$G90,IF($C$17=$G$19,'Baggrundsdata - HICP - deflator'!$F90,IF($F$19=$C$17,'Baggrundsdata - HICP - deflator'!$E90,IF($E$19=$C$17,'Baggrundsdata - HICP - deflator'!$D90,IF($D$19=$C$17,'Baggrundsdata - HICP - deflator'!$C90,IF('Baggrundsdata - HICP - deflator'!$C$19='Baggrundsdata - HICP - deflator'!$C$17,'Baggrundsdata - HICP - deflator'!$B90,\"*\"))))))))))),\"*\")","v":0.96974099999999996},{"$f":"IFERROR('Baggrundsdata - HICP - deflator'!G90/IF($M$19=$C$17,$L90,IF($L$19=$C$17,$K90,IF($K$19=$C$17,$J90,IF($J$19=$C$17,$I90,IF($I$19=$C$17,'Baggrundsdata - HICP - deflator'!$H90,IF($H$19=$C$17,'Baggrundsdata - HICP - deflator'!$G90,IF($C$17=$G$19,'Baggrundsdata - HICP - deflator'!$F90,IF($F$19=$C$17,'Baggrundsdata - HICP - deflator'!$E90,IF($E$19=$C$17,'Baggrundsdata - HICP - deflator'!$D90,IF($D$19=$C$17,'Baggrundsdata - HICP - deflator'!$C90,IF('Baggrundsdata - HICP - deflator'!$C$19='Baggrundsdata - HICP - deflator'!$C$17,'Baggrundsdata - HICP - deflator'!$B90,\"*\"))))))))))),\"*\")","v":1.0049859999999999},{"$f":"IFERROR('Baggrundsdata - HICP - deflator'!H90/IF($M$19=$C$17,$L90,IF($L$19=$C$17,$K90,IF($K$19=$C$17,$J90,IF($J$19=$C$17,$I90,IF($I$19=$C$17,'Baggrundsdata - HICP - deflator'!$H90,IF($H$19=$C$17,'Baggrundsdata - HICP - deflator'!$G90,IF($C$17=$G$19,'Baggrundsdata - HICP - deflator'!$F90,IF($F$19=$C$17,'Baggrundsdata - HICP - deflator'!$E90,IF($E$19=$C$17,'Baggrundsdata - HICP - deflator'!$D90,IF($D$19=$C$17,'Baggrundsdata - HICP - deflator'!$C90,IF('Baggrundsdata - HICP - deflator'!$C$19='Baggrundsdata - HICP - deflator'!$C$17,'Baggrundsdata - HICP - deflator'!$B90,\"*\"))))))))))),\"*\")","v":1.013042},{"$f":"IFERROR('Baggrundsdata - HICP - deflator'!I90/IF($M$19=$C$17,$L90,IF($L$19=$C$17,$K90,IF($K$19=$C$17,$J90,IF($J$19=$C$17,$I90,IF($I$19=$C$17,'Baggrundsdata - HICP - deflator'!$H90,IF($H$19=$C$17,'Baggrundsdata - HICP - deflator'!$G90,IF($C$17=$G$19,'Baggrundsdata - HICP - deflator'!$F90,IF($F$19=$C$17,'Baggrundsdata - HICP - deflator'!$E90,IF($E$19=$C$17,'Baggrundsdata - HICP - deflator'!$D90,IF($D$19=$C$17,'Baggrundsdata - HICP - deflator'!$C90,IF('Baggrundsdata - HICP - deflator'!$C$19='Baggrundsdata - HICP - deflator'!$C$17,'Baggrundsdata - HICP - deflator'!$B90,\"*\"))))))))))),\"*\")","v":1.014049},{"$f":"IFERROR('Baggrundsdata - HICP - deflator'!J90/IF($M$19=$C$17,$L90,IF($L$19=$C$17,$K90,IF($K$19=$C$17,$J90,IF($J$19=$C$17,$I90,IF($I$19=$C$17,'Baggrundsdata - HICP - deflator'!$H90,IF($H$19=$C$17,'Baggrundsdata - HICP - deflator'!$G90,IF($C$17=$G$19,'Baggrundsdata - HICP - deflator'!$F90,IF($F$19=$C$17,'Baggrundsdata - HICP - deflator'!$E90,IF($E$19=$C$17,'Baggrundsdata - HICP - deflator'!$D90,IF($D$19=$C$17,'Baggrundsdata - HICP - deflator'!$C90,IF('Baggrundsdata - HICP - deflator'!$C$19='Baggrundsdata - HICP - deflator'!$C$17,'Baggrundsdata - HICP - deflator'!$B90,\"*\"))))))))))),\"*\")","v":1.0070000000000001},{"$f":"IFERROR('Baggrundsdata - HICP - deflator'!K90/IF($M$19=$C$17,$L90,IF($L$19=$C$17,$K90,IF($K$19=$C$17,$J90,IF($J$19=$C$17,$I90,IF($I$19=$C$17,'Baggrundsdata - HICP - deflator'!$H90,IF($H$19=$C$17,'Baggrundsdata - HICP - deflator'!$G90,IF($C$17=$G$19,'Baggrundsdata - HICP - deflator'!$F90,IF($F$19=$C$17,'Baggrundsdata - HICP - deflator'!$E90,IF($E$19=$C$17,'Baggrundsdata - HICP - deflator'!$D90,IF($D$19=$C$17,'Baggrundsdata - HICP - deflator'!$C90,IF('Baggrundsdata - HICP - deflator'!$C$19='Baggrundsdata - HICP - deflator'!$C$17,'Baggrundsdata - HICP - deflator'!$B90,\"*\"))))))))))),\"*\")","v":1},{"$f":"IFERROR('Baggrundsdata - HICP - deflator'!L90/IF($M$19=$C$17,$L90,IF($L$19=$C$17,$K90,IF($K$19=$C$17,$J90,IF($J$19=$C$17,$I90,IF($I$19=$C$17,'Baggrundsdata - HICP - deflator'!$H90,IF($H$19=$C$17,'Baggrundsdata - HICP - deflator'!$G90,IF($C$17=$G$19,'Baggrundsdata - HICP - deflator'!$F90,IF($F$19=$C$17,'Baggrundsdata - HICP - deflator'!$E90,IF($E$19=$C$17,'Baggrundsdata - HICP - deflator'!$D90,IF($D$19=$C$17,'Baggrundsdata - HICP - deflator'!$C90,IF('Baggrundsdata - HICP - deflator'!$C$19='Baggrundsdata - HICP - deflator'!$C$17,'Baggrundsdata - HICP - deflator'!$B90,\"*\"))))))))))),\"*\")","v":0},null,{"$f":"IF(A90='Level 1'!A74,\"sand\",\"falsk\")","v":"sand"}]
[null,"Portugal",{"$f":"IFERROR('Baggrundsdata - HICP - deflator'!B91/IF($M$19=$C$17,$L91,IF($L$19=$C$17,$K91,IF($K$19=$C$17,$J91,IF($J$19=$C$17,$I91,IF($I$19=$C$17,'Baggrundsdata - HICP - deflator'!$H91,IF($H$19=$C$17,'Baggrundsdata - HICP - deflator'!$G91,IF($C$17=$G$19,'Baggrundsdata - HICP - deflator'!$F91,IF($F$19=$C$17,'Baggrundsdata - HICP - deflator'!$E91,IF($E$19=$C$17,'Baggrundsdata - HICP - deflator'!$D91,IF($D$19=$C$17,'Baggrundsdata - HICP - deflator'!$C91,IF('Baggrundsdata - HICP - deflator'!$C$19='Baggrundsdata - HICP - deflator'!$C$17,'Baggrundsdata - HICP - deflator'!$B91,\"*\"))))))))))),\"*\")","v":0.89938050000000014},{"$f":"IFERROR('Baggrundsdata - HICP - deflator'!C91/IF($M$19=$C$17,$L91,IF($L$19=$C$17,$K91,IF($K$19=$C$17,$J91,IF($J$19=$C$17,$I91,IF($I$19=$C$17,'Baggrundsdata - HICP - deflator'!$H91,IF($H$19=$C$17,'Baggrundsdata - HICP - deflator'!$G91,IF($C$17=$G$19,'Baggrundsdata - HICP - deflator'!$F91,IF($F$19=$C$17,'Baggrundsdata - HICP - deflator'!$E91,IF($E$19=$C$17,'Baggrundsdata - HICP - deflator'!$D91,IF($D$19=$C$17,'Baggrundsdata - HICP - deflator'!$C91,IF('Baggrundsdata - HICP - deflator'!$C$19='Baggrundsdata - HICP - deflator'!$C$17,'Baggrundsdata - HICP - deflator'!$B91,\"*\"))))))))))),\"*\")","v":0.92316100000000012},{"$f":"IFERROR('Baggrundsdata - HICP - deflator'!D91/IF($M$19=$C$17,$L91,IF($L$19=$C$17,$K91,IF($K$19=$C$17,$J91,IF($J$19=$C$17,$I91,IF($I$19=$C$17,'Baggrundsdata - HICP - deflator'!$H91,IF($H$19=$C$17,'Baggrundsdata - HICP - deflator'!$G91,IF($C$17=$G$19,'Baggrundsdata - HICP - deflator'!$F91,IF($F$19=$C$17,'Baggrundsdata - HICP - deflator'!$E91,IF($E$19=$C$17,'Baggrundsdata - HICP - deflator'!$D91,IF($D$19=$C$17,'Baggrundsdata - HICP - deflator'!$C91,IF('Baggrundsdata - HICP - deflator'!$C$19='Baggrundsdata - HICP - deflator'!$C$17,'Baggrundsdata - HICP - deflator'!$B91,\"*\"))))))))))),\"*\")","v":0.91490250000000006},{"$f":"IFERROR('Baggrundsdata - HICP - deflator'!E91/IF($M$19=$C$17,$L91,IF($L$19=$C$17,$K91,IF($K$19=$C$17,$J91,IF($J$19=$C$17,$I91,IF($I$19=$C$17,'Baggrundsdata - HICP - deflator'!$H91,IF($H$19=$C$17,'Baggrundsdata - HICP - deflator'!$G91,IF($C$17=$G$19,'Baggrundsdata - HICP - deflator'!$F91,IF($F$19=$C$17,'Baggrundsdata - HICP - deflator'!$E91,IF($E$19=$C$17,'Baggrundsdata - HICP - deflator'!$D91,IF($D$19=$C$17,'Baggrundsdata - HICP - deflator'!$C91,IF('Baggrundsdata - HICP - deflator'!$C$19='Baggrundsdata - HICP - deflator'!$C$17,'Baggrundsdata - HICP - deflator'!$B91,\"*\"))))))))))),\"*\")","v":0.92753900000000011},{"$f":"IFERROR('Baggrundsdata - HICP - deflator'!F91/IF($M$19=$C$17,$L91,IF($L$19=$C$17,$K91,IF($K$19=$C$17,$J91,IF($J$19=$C$17,$I91,IF($I$19=$C$17,'Baggrundsdata - HICP - deflator'!$H91,IF($H$19=$C$17,'Baggrundsdata - HICP - deflator'!$G91,IF($C$17=$G$19,'Baggrundsdata - HICP - deflator'!$F91,IF($F$19=$C$17,'Baggrundsdata - HICP - deflator'!$E91,IF($E$19=$C$17,'Baggrundsdata - HICP - deflator'!$D91,IF($D$19=$C$17,'Baggrundsdata - HICP - deflator'!$C91,IF('Baggrundsdata - HICP - deflator'!$C$19='Baggrundsdata - HICP - deflator'!$C$17,'Baggrundsdata - HICP - deflator'!$B91,\"*\"))))))))))),\"*\")","v":0.96057300000000012},{"$f":"IFERROR('Baggrundsdata - HICP - deflator'!G91/IF($M$19=$C$17,$L91,IF($L$19=$C$17,$K91,IF($K$19=$C$17,$J91,IF($J$19=$C$17,$I91,IF($I$19=$C$17,'Baggrundsdata - HICP - deflator'!$H91,IF($H$19=$C$17,'Baggrundsdata - HICP - deflator'!$G91,IF($C$17=$G$19,'Baggrundsdata - HICP - deflator'!$F91,IF($F$19=$C$17,'Baggrundsdata - HICP - deflator'!$E91,IF($E$19=$C$17,'Baggrundsdata - HICP - deflator'!$D91,IF($D$19=$C$17,'Baggrundsdata - HICP - deflator'!$C91,IF('Baggrundsdata - HICP - deflator'!$C$19='Baggrundsdata - HICP - deflator'!$C$17,'Baggrundsdata - HICP - deflator'!$B91,\"*\"))))))))))),\"*\")","v":0.98723900000000009},{"$f":"IFERROR('Baggrundsdata - HICP - deflator'!H91/IF($M$19=$C$17,$L91,IF($L$19=$C$17,$K91,IF($K$19=$C$17,$J91,IF($J$19=$C$17,$I91,IF($I$19=$C$17,'Baggrundsdata - HICP - deflator'!$H91,IF($H$19=$C$17,'Baggrundsdata - HICP - deflator'!$G91,IF($C$17=$G$19,'Baggrundsdata - HICP - deflator'!$F91,IF($F$19=$C$17,'Baggrundsdata - HICP - deflator'!$E91,IF($E$19=$C$17,'Baggrundsdata - HICP - deflator'!$D91,IF($D$19=$C$17,'Baggrundsdata - HICP - deflator'!$C91,IF('Baggrundsdata - HICP - deflator'!$C$19='Baggrundsdata - HICP - deflator'!$C$17,'Baggrundsdata - HICP - deflator'!$B91,\"*\"))))))))))),\"*\")","v":0.99151750000000016},{"$f":"IFERROR('Baggrundsdata - HICP - deflator'!I91/IF($M$19=$C$17,$L91,IF($L$19=$C$17,$K91,IF($K$19=$C$17,$J91,IF($J$19=$C$17,$I91,IF($I$19=$C$17,'Baggrundsdata - HICP - deflator'!$H91,IF($H$19=$C$17,'Baggrundsdata - HICP - deflator'!$G91,IF($C$17=$G$19,'Baggrundsdata - HICP - deflator'!$F91,IF($F$19=$C$17,'Baggrundsdata - HICP - deflator'!$E91,IF($E$19=$C$17,'Baggrundsdata - HICP - deflator'!$D91,IF($D$19=$C$17,'Baggrundsdata - HICP - deflator'!$C91,IF('Baggrundsdata - HICP - deflator'!$C$19='Baggrundsdata - HICP - deflator'!$C$17,'Baggrundsdata - HICP - deflator'!$B91,\"*\"))))))))))),\"*\")","v":0.99002500000000004},{"$f":"IFERROR('Baggrundsdata - HICP - deflator'!J91/IF($M$19=$C$17,$L91,IF($L$19=$C$17,$K91,IF($K$19=$C$17,$J91,IF($J$19=$C$17,$I91,IF($I$19=$C$17,'Baggrundsdata - HICP - deflator'!$H91,IF($H$19=$C$17,'Baggrundsdata - HICP - deflator'!$G91,IF($C$17=$G$19,'Baggrundsdata - HICP - deflator'!$F91,IF($F$19=$C$17,'Baggrundsdata - HICP - deflator'!$E91,IF($E$19=$C$17,'Baggrundsdata - HICP - deflator'!$D91,IF($D$19=$C$17,'Baggrundsdata - HICP - deflator'!$C91,IF('Baggrundsdata - HICP - deflator'!$C$19='Baggrundsdata - HICP - deflator'!$C$17,'Baggrundsdata - HICP - deflator'!$B91,\"*\"))))))))))),\"*\")","v":0.99500000000000011},{"$f":"IFERROR('Baggrundsdata - HICP - deflator'!K91/IF($M$19=$C$17,$L91,IF($L$19=$C$17,$K91,IF($K$19=$C$17,$J91,IF($J$19=$C$17,$I91,IF($I$19=$C$17,'Baggrundsdata - HICP - deflator'!$H91,IF($H$19=$C$17,'Baggrundsdata - HICP - deflator'!$G91,IF($C$17=$G$19,'Baggrundsdata - HICP - deflator'!$F91,IF($F$19=$C$17,'Baggrundsdata - HICP - deflator'!$E91,IF($E$19=$C$17,'Baggrundsdata - HICP - deflator'!$D91,IF($D$19=$C$17,'Baggrundsdata - HICP - deflator'!$C91,IF('Baggrundsdata - HICP - deflator'!$C$19='Baggrundsdata - HICP - deflator'!$C$17,'Baggrundsdata - HICP - deflator'!$B91,\"*\"))))))))))),\"*\")","v":1},{"$f":"IFERROR('Baggrundsdata - HICP - deflator'!L91/IF($M$19=$C$17,$L91,IF($L$19=$C$17,$K91,IF($K$19=$C$17,$J91,IF($J$19=$C$17,$I91,IF($I$19=$C$17,'Baggrundsdata - HICP - deflator'!$H91,IF($H$19=$C$17,'Baggrundsdata - HICP - deflator'!$G91,IF($C$17=$G$19,'Baggrundsdata - HICP - deflator'!$F91,IF($F$19=$C$17,'Baggrundsdata - HICP - deflator'!$E91,IF($E$19=$C$17,'Baggrundsdata - HICP - deflator'!$D91,IF($D$19=$C$17,'Baggrundsdata - HICP - deflator'!$C91,IF('Baggrundsdata - HICP - deflator'!$C$19='Baggrundsdata - HICP - deflator'!$C$17,'Baggrundsdata - HICP - deflator'!$B91,\"*\"))))))))))),\"*\")","v":0},null,{"$f":"IF(A91='Level 1'!A75,\"sand\",\"falsk\")","v":"sand"}]
[null,"Rumænien",{"$f":"IFERROR('Baggrundsdata - HICP - deflator'!B92/IF($M$19=$C$17,$L92,IF($L$19=$C$17,$K92,IF($K$19=$C$17,$J92,IF($J$19=$C$17,$I92,IF($I$19=$C$17,'Baggrundsdata - HICP - deflator'!$H92,IF($H$19=$C$17,'Baggrundsdata - HICP - deflator'!$G92,IF($C$17=$G$19,'Baggrundsdata - HICP - deflator'!$F92,IF($F$19=$C$17,'Baggrundsdata - HICP - deflator'!$E92,IF($E$19=$C$17,'Baggrundsdata - HICP - deflator'!$D92,IF($D$19=$C$17,'Baggrundsdata - HICP - deflator'!$C92,IF('Baggrundsdata - HICP - deflator'!$C$19='Baggrundsdata - HICP - deflator'!$C$17,'Baggrundsdata - HICP - deflator'!$B92,\"*\"))))))))))),\"*\")","v":0.72877577999999998},{"$f":"IFERROR('Baggrundsdata - HICP - deflator'!C92/IF($M$19=$C$17,$L92,IF($L$19=$C$17,$K92,IF($K$19=$C$17,$J92,IF($J$19=$C$17,$I92,IF($I$19=$C$17,'Baggrundsdata - HICP - deflator'!$H92,IF($H$19=$C$17,'Baggrundsdata - HICP - deflator'!$G92,IF($C$17=$G$19,'Baggrundsdata - HICP - deflator'!$F92,IF($F$19=$C$17,'Baggrundsdata - HICP - deflator'!$E92,IF($E$19=$C$17,'Baggrundsdata - HICP - deflator'!$D92,IF($D$19=$C$17,'Baggrundsdata - HICP - deflator'!$C92,IF('Baggrundsdata - HICP - deflator'!$C$19='Baggrundsdata - HICP - deflator'!$C$17,'Baggrundsdata - HICP - deflator'!$B92,\"*\"))))))))))),\"*\")","v":0.78651152999999996},{"$f":"IFERROR('Baggrundsdata - HICP - deflator'!D92/IF($M$19=$C$17,$L92,IF($L$19=$C$17,$K92,IF($K$19=$C$17,$J92,IF($J$19=$C$17,$I92,IF($I$19=$C$17,'Baggrundsdata - HICP - deflator'!$H92,IF($H$19=$C$17,'Baggrundsdata - HICP - deflator'!$G92,IF($C$17=$G$19,'Baggrundsdata - HICP - deflator'!$F92,IF($F$19=$C$17,'Baggrundsdata - HICP - deflator'!$E92,IF($E$19=$C$17,'Baggrundsdata - HICP - deflator'!$D92,IF($D$19=$C$17,'Baggrundsdata - HICP - deflator'!$C92,IF('Baggrundsdata - HICP - deflator'!$C$19='Baggrundsdata - HICP - deflator'!$C$17,'Baggrundsdata - HICP - deflator'!$B92,\"*\"))))))))))),\"*\")","v":0.83039070000000004},{"$f":"IFERROR('Baggrundsdata - HICP - deflator'!E92/IF($M$19=$C$17,$L92,IF($L$19=$C$17,$K92,IF($K$19=$C$17,$J92,IF($J$19=$C$17,$I92,IF($I$19=$C$17,'Baggrundsdata - HICP - deflator'!$H92,IF($H$19=$C$17,'Baggrundsdata - HICP - deflator'!$G92,IF($C$17=$G$19,'Baggrundsdata - HICP - deflator'!$F92,IF($F$19=$C$17,'Baggrundsdata - HICP - deflator'!$E92,IF($E$19=$C$17,'Baggrundsdata - HICP - deflator'!$D92,IF($D$19=$C$17,'Baggrundsdata - HICP - deflator'!$C92,IF('Baggrundsdata - HICP - deflator'!$C$19='Baggrundsdata - HICP - deflator'!$C$17,'Baggrundsdata - HICP - deflator'!$B92,\"*\"))))))))))),\"*\")","v":0.88089693000000002},{"$f":"IFERROR('Baggrundsdata - HICP - deflator'!F92/IF($M$19=$C$17,$L92,IF($L$19=$C$17,$K92,IF($K$19=$C$17,$J92,IF($J$19=$C$17,$I92,IF($I$19=$C$17,'Baggrundsdata - HICP - deflator'!$H92,IF($H$19=$C$17,'Baggrundsdata - HICP - deflator'!$G92,IF($C$17=$G$19,'Baggrundsdata - HICP - deflator'!$F92,IF($F$19=$C$17,'Baggrundsdata - HICP - deflator'!$E92,IF($E$19=$C$17,'Baggrundsdata - HICP - deflator'!$D92,IF($D$19=$C$17,'Baggrundsdata - HICP - deflator'!$C92,IF('Baggrundsdata - HICP - deflator'!$C$19='Baggrundsdata - HICP - deflator'!$C$17,'Baggrundsdata - HICP - deflator'!$B92,\"*\"))))))))))),\"*\")","v":0.93220643999999997},{"$f":"IFERROR('Baggrundsdata - HICP - deflator'!G92/IF($M$19=$C$17,$L92,IF($L$19=$C$17,$K92,IF($K$19=$C$17,$J92,IF($J$19=$C$17,$I92,IF($I$19=$C$17,'Baggrundsdata - HICP - deflator'!$H92,IF($H$19=$C$17,'Baggrundsdata - HICP - deflator'!$G92,IF($C$17=$G$19,'Baggrundsdata - HICP - deflator'!$F92,IF($F$19=$C$17,'Baggrundsdata - HICP - deflator'!$E92,IF($E$19=$C$17,'Baggrundsdata - HICP - deflator'!$D92,IF($D$19=$C$17,'Baggrundsdata - HICP - deflator'!$C92,IF('Baggrundsdata - HICP - deflator'!$C$19='Baggrundsdata - HICP - deflator'!$C$17,'Baggrundsdata - HICP - deflator'!$B92,\"*\"))))))))))),\"*\")","v":0.96373518000000002},{"$f":"IFERROR('Baggrundsdata - HICP - deflator'!H92/IF($M$19=$C$17,$L92,IF($L$19=$C$17,$K92,IF($K$19=$C$17,$J92,IF($J$19=$C$17,$I92,IF($I$19=$C$17,'Baggrundsdata - HICP - deflator'!$H92,IF($H$19=$C$17,'Baggrundsdata - HICP - deflator'!$G92,IF($C$17=$G$19,'Baggrundsdata - HICP - deflator'!$F92,IF($F$19=$C$17,'Baggrundsdata - HICP - deflator'!$E92,IF($E$19=$C$17,'Baggrundsdata - HICP - deflator'!$D92,IF($D$19=$C$17,'Baggrundsdata - HICP - deflator'!$C92,IF('Baggrundsdata - HICP - deflator'!$C$19='Baggrundsdata - HICP - deflator'!$C$17,'Baggrundsdata - HICP - deflator'!$B92,\"*\"))))))))))),\"*\")","v":0.99446064000000001},{"$f":"IFERROR('Baggrundsdata - HICP - deflator'!I92/IF($M$19=$C$17,$L92,IF($L$19=$C$17,$K92,IF($K$19=$C$17,$J92,IF($J$19=$C$17,$I92,IF($I$19=$C$17,'Baggrundsdata - HICP - deflator'!$H92,IF($H$19=$C$17,'Baggrundsdata - HICP - deflator'!$G92,IF($C$17=$G$19,'Baggrundsdata - HICP - deflator'!$F92,IF($F$19=$C$17,'Baggrundsdata - HICP - deflator'!$E92,IF($E$19=$C$17,'Baggrundsdata - HICP - deflator'!$D92,IF($D$19=$C$17,'Baggrundsdata - HICP - deflator'!$C92,IF('Baggrundsdata - HICP - deflator'!$C$19='Baggrundsdata - HICP - deflator'!$C$17,'Baggrundsdata - HICP - deflator'!$B92,\"*\"))))))))))),\"*\")","v":1.00821681},{"$f":"IFERROR('Baggrundsdata - HICP - deflator'!J92/IF($M$19=$C$17,$L92,IF($L$19=$C$17,$K92,IF($K$19=$C$17,$J92,IF($J$19=$C$17,$I92,IF($I$19=$C$17,'Baggrundsdata - HICP - deflator'!$H92,IF($H$19=$C$17,'Baggrundsdata - HICP - deflator'!$G92,IF($C$17=$G$19,'Baggrundsdata - HICP - deflator'!$F92,IF($F$19=$C$17,'Baggrundsdata - HICP - deflator'!$E92,IF($E$19=$C$17,'Baggrundsdata - HICP - deflator'!$D92,IF($D$19=$C$17,'Baggrundsdata - HICP - deflator'!$C92,IF('Baggrundsdata - HICP - deflator'!$C$19='Baggrundsdata - HICP - deflator'!$C$17,'Baggrundsdata - HICP - deflator'!$B92,\"*\"))))))))))),\"*\")","v":1.0041},{"$f":"IFERROR('Baggrundsdata - HICP - deflator'!K92/IF($M$19=$C$17,$L92,IF($L$19=$C$17,$K92,IF($K$19=$C$17,$J92,IF($J$19=$C$17,$I92,IF($I$19=$C$17,'Baggrundsdata - HICP - deflator'!$H92,IF($H$19=$C$17,'Baggrundsdata - HICP - deflator'!$G92,IF($C$17=$G$19,'Baggrundsdata - HICP - deflator'!$F92,IF($F$19=$C$17,'Baggrundsdata - HICP - deflator'!$E92,IF($E$19=$C$17,'Baggrundsdata - HICP - deflator'!$D92,IF($D$19=$C$17,'Baggrundsdata - HICP - deflator'!$C92,IF('Baggrundsdata - HICP - deflator'!$C$19='Baggrundsdata - HICP - deflator'!$C$17,'Baggrundsdata - HICP - deflator'!$B92,\"*\"))))))))))),\"*\")","v":1},{"$f":"IFERROR('Baggrundsdata - HICP - deflator'!L92/IF($M$19=$C$17,$L92,IF($L$19=$C$17,$K92,IF($K$19=$C$17,$J92,IF($J$19=$C$17,$I92,IF($I$19=$C$17,'Baggrundsdata - HICP - deflator'!$H92,IF($H$19=$C$17,'Baggrundsdata - HICP - deflator'!$G92,IF($C$17=$G$19,'Baggrundsdata - HICP - deflator'!$F92,IF($F$19=$C$17,'Baggrundsdata - HICP - deflator'!$E92,IF($E$19=$C$17,'Baggrundsdata - HICP - deflator'!$D92,IF($D$19=$C$17,'Baggrundsdata - HICP - deflator'!$C92,IF('Baggrundsdata - HICP - deflator'!$C$19='Baggrundsdata - HICP - deflator'!$C$17,'Baggrundsdata - HICP - deflator'!$B92,\"*\"))))))))))),\"*\")","v":0},null,{"$f":"IF(A92='Level 1'!A76,\"sand\",\"falsk\")","v":"sand"}]
[null,"Slovenien",{"$f":"IFERROR('Baggrundsdata - HICP - deflator'!B93/IF($M$19=$C$17,$L93,IF($L$19=$C$17,$K93,IF($K$19=$C$17,$J93,IF($J$19=$C$17,$I93,IF($I$19=$C$17,'Baggrundsdata - HICP - deflator'!$H93,IF($H$19=$C$17,'Baggrundsdata - HICP - deflator'!$G93,IF($C$17=$G$19,'Baggrundsdata - HICP - deflator'!$F93,IF($F$19=$C$17,'Baggrundsdata - HICP - deflator'!$E93,IF($E$19=$C$17,'Baggrundsdata - HICP - deflator'!$D93,IF($D$19=$C$17,'Baggrundsdata - HICP - deflator'!$C93,IF('Baggrundsdata - HICP - deflator'!$C$19='Baggrundsdata - HICP - deflator'!$C$17,'Baggrundsdata - HICP - deflator'!$B93,\"*\"))))))))))),\"*\")","v":0.87016336000000005},{"$f":"IFERROR('Baggrundsdata - HICP - deflator'!C93/IF($M$19=$C$17,$L93,IF($L$19=$C$17,$K93,IF($K$19=$C$17,$J93,IF($J$19=$C$17,$I93,IF($I$19=$C$17,'Baggrundsdata - HICP - deflator'!$H93,IF($H$19=$C$17,'Baggrundsdata - HICP - deflator'!$G93,IF($C$17=$G$19,'Baggrundsdata - HICP - deflator'!$F93,IF($F$19=$C$17,'Baggrundsdata - HICP - deflator'!$E93,IF($E$19=$C$17,'Baggrundsdata - HICP - deflator'!$D93,IF($D$19=$C$17,'Baggrundsdata - HICP - deflator'!$C93,IF('Baggrundsdata - HICP - deflator'!$C$19='Baggrundsdata - HICP - deflator'!$C$17,'Baggrundsdata - HICP - deflator'!$B93,\"*\"))))))))))),\"*\")","v":0.91822588000000005},{"$f":"IFERROR('Baggrundsdata - HICP - deflator'!D93/IF($M$19=$C$17,$L93,IF($L$19=$C$17,$K93,IF($K$19=$C$17,$J93,IF($J$19=$C$17,$I93,IF($I$19=$C$17,'Baggrundsdata - HICP - deflator'!$H93,IF($H$19=$C$17,'Baggrundsdata - HICP - deflator'!$G93,IF($C$17=$G$19,'Baggrundsdata - HICP - deflator'!$F93,IF($F$19=$C$17,'Baggrundsdata - HICP - deflator'!$E93,IF($E$19=$C$17,'Baggrundsdata - HICP - deflator'!$D93,IF($D$19=$C$17,'Baggrundsdata - HICP - deflator'!$C93,IF('Baggrundsdata - HICP - deflator'!$C$19='Baggrundsdata - HICP - deflator'!$C$17,'Baggrundsdata - HICP - deflator'!$B93,\"*\"))))))))))),\"*\")","v":0.92618592000000011},{"$f":"IFERROR('Baggrundsdata - HICP - deflator'!E93/IF($M$19=$C$17,$L93,IF($L$19=$C$17,$K93,IF($K$19=$C$17,$J93,IF($J$19=$C$17,$I93,IF($I$19=$C$17,'Baggrundsdata - HICP - deflator'!$H93,IF($H$19=$C$17,'Baggrundsdata - HICP - deflator'!$G93,IF($C$17=$G$19,'Baggrundsdata - HICP - deflator'!$F93,IF($F$19=$C$17,'Baggrundsdata - HICP - deflator'!$E93,IF($E$19=$C$17,'Baggrundsdata - HICP - deflator'!$D93,IF($D$19=$C$17,'Baggrundsdata - HICP - deflator'!$C93,IF('Baggrundsdata - HICP - deflator'!$C$19='Baggrundsdata - HICP - deflator'!$C$17,'Baggrundsdata - HICP - deflator'!$B93,\"*\"))))))))))),\"*\")","v":0.94563260000000005},{"$f":"IFERROR('Baggrundsdata - HICP - deflator'!F93/IF($M$19=$C$17,$L93,IF($L$19=$C$17,$K93,IF($K$19=$C$17,$J93,IF($J$19=$C$17,$I93,IF($I$19=$C$17,'Baggrundsdata - HICP - deflator'!$H93,IF($H$19=$C$17,'Baggrundsdata - HICP - deflator'!$G93,IF($C$17=$G$19,'Baggrundsdata - HICP - deflator'!$F93,IF($F$19=$C$17,'Baggrundsdata - HICP - deflator'!$E93,IF($E$19=$C$17,'Baggrundsdata - HICP - deflator'!$D93,IF($D$19=$C$17,'Baggrundsdata - HICP - deflator'!$C93,IF('Baggrundsdata - HICP - deflator'!$C$19='Baggrundsdata - HICP - deflator'!$C$17,'Baggrundsdata - HICP - deflator'!$B93,\"*\"))))))))))),\"*\")","v":0.96538156000000008},{"$f":"IFERROR('Baggrundsdata - HICP - deflator'!G93/IF($M$19=$C$17,$L93,IF($L$19=$C$17,$K93,IF($K$19=$C$17,$J93,IF($J$19=$C$17,$I93,IF($I$19=$C$17,'Baggrundsdata - HICP - deflator'!$H93,IF($H$19=$C$17,'Baggrundsdata - HICP - deflator'!$G93,IF($C$17=$G$19,'Baggrundsdata - HICP - deflator'!$F93,IF($F$19=$C$17,'Baggrundsdata - HICP - deflator'!$E93,IF($E$19=$C$17,'Baggrundsdata - HICP - deflator'!$D93,IF($D$19=$C$17,'Baggrundsdata - HICP - deflator'!$C93,IF('Baggrundsdata - HICP - deflator'!$C$19='Baggrundsdata - HICP - deflator'!$C$17,'Baggrundsdata - HICP - deflator'!$B93,\"*\"))))))))))),\"*\")","v":0.99248600000000009},{"$f":"IFERROR('Baggrundsdata - HICP - deflator'!H93/IF($M$19=$C$17,$L93,IF($L$19=$C$17,$K93,IF($K$19=$C$17,$J93,IF($J$19=$C$17,$I93,IF($I$19=$C$17,'Baggrundsdata - HICP - deflator'!$H93,IF($H$19=$C$17,'Baggrundsdata - HICP - deflator'!$G93,IF($C$17=$G$19,'Baggrundsdata - HICP - deflator'!$F93,IF($F$19=$C$17,'Baggrundsdata - HICP - deflator'!$E93,IF($E$19=$C$17,'Baggrundsdata - HICP - deflator'!$D93,IF($D$19=$C$17,'Baggrundsdata - HICP - deflator'!$C93,IF('Baggrundsdata - HICP - deflator'!$C$19='Baggrundsdata - HICP - deflator'!$C$17,'Baggrundsdata - HICP - deflator'!$B93,\"*\"))))))))))),\"*\")","v":1.01152964},{"$f":"IFERROR('Baggrundsdata - HICP - deflator'!I93/IF($M$19=$C$17,$L93,IF($L$19=$C$17,$K93,IF($K$19=$C$17,$J93,IF($J$19=$C$17,$I93,IF($I$19=$C$17,'Baggrundsdata - HICP - deflator'!$H93,IF($H$19=$C$17,'Baggrundsdata - HICP - deflator'!$G93,IF($C$17=$G$19,'Baggrundsdata - HICP - deflator'!$F93,IF($F$19=$C$17,'Baggrundsdata - HICP - deflator'!$E93,IF($E$19=$C$17,'Baggrundsdata - HICP - deflator'!$D93,IF($D$19=$C$17,'Baggrundsdata - HICP - deflator'!$C93,IF('Baggrundsdata - HICP - deflator'!$C$19='Baggrundsdata - HICP - deflator'!$C$17,'Baggrundsdata - HICP - deflator'!$B93,\"*\"))))))))))),\"*\")","v":1.0152577600000001},{"$f":"IFERROR('Baggrundsdata - HICP - deflator'!J93/IF($M$19=$C$17,$L93,IF($L$19=$C$17,$K93,IF($K$19=$C$17,$J93,IF($J$19=$C$17,$I93,IF($I$19=$C$17,'Baggrundsdata - HICP - deflator'!$H93,IF($H$19=$C$17,'Baggrundsdata - HICP - deflator'!$G93,IF($C$17=$G$19,'Baggrundsdata - HICP - deflator'!$F93,IF($F$19=$C$17,'Baggrundsdata - HICP - deflator'!$E93,IF($E$19=$C$17,'Baggrundsdata - HICP - deflator'!$D93,IF($D$19=$C$17,'Baggrundsdata - HICP - deflator'!$C93,IF('Baggrundsdata - HICP - deflator'!$C$19='Baggrundsdata - HICP - deflator'!$C$17,'Baggrundsdata - HICP - deflator'!$B93,\"*\"))))))))))),\"*\")","v":1.0076000000000001},{"$f":"IFERROR('Baggrundsdata - HICP - deflator'!K93/IF($M$19=$C$17,$L93,IF($L$19=$C$17,$K93,IF($K$19=$C$17,$J93,IF($J$19=$C$17,$I93,IF($I$19=$C$17,'Baggrundsdata - HICP - deflator'!$H93,IF($H$19=$C$17,'Baggrundsdata - HICP - deflator'!$G93,IF($C$17=$G$19,'Baggrundsdata - HICP - deflator'!$F93,IF($F$19=$C$17,'Baggrundsdata - HICP - deflator'!$E93,IF($E$19=$C$17,'Baggrundsdata - HICP - deflator'!$D93,IF($D$19=$C$17,'Baggrundsdata - HICP - deflator'!$C93,IF('Baggrundsdata - HICP - deflator'!$C$19='Baggrundsdata - HICP - deflator'!$C$17,'Baggrundsdata - HICP - deflator'!$B93,\"*\"))))))))))),\"*\")","v":1},{"$f":"IFERROR('Baggrundsdata - HICP - deflator'!L93/IF($M$19=$C$17,$L93,IF($L$19=$C$17,$K93,IF($K$19=$C$17,$J93,IF($J$19=$C$17,$I93,IF($I$19=$C$17,'Baggrundsdata - HICP - deflator'!$H93,IF($H$19=$C$17,'Baggrundsdata - HICP - deflator'!$G93,IF($C$17=$G$19,'Baggrundsdata - HICP - deflator'!$F93,IF($F$19=$C$17,'Baggrundsdata - HICP - deflator'!$E93,IF($E$19=$C$17,'Baggrundsdata - HICP - deflator'!$D93,IF($D$19=$C$17,'Baggrundsdata - HICP - deflator'!$C93,IF('Baggrundsdata - HICP - deflator'!$C$19='Baggrundsdata - HICP - deflator'!$C$17,'Baggrundsdata - HICP - deflator'!$B93,\"*\"))))))))))),\"*\")","v":0},null,{"$f":"IF(A93='Level 1'!A77,\"sand\",\"falsk\")","v":"sand"}]
[null,"Slovakiet",{"$f":"IFERROR('Baggrundsdata - HICP - deflator'!B94/IF($M$19=$C$17,$L94,IF($L$19=$C$17,$K94,IF($K$19=$C$17,$J94,IF($J$19=$C$17,$I94,IF($I$19=$C$17,'Baggrundsdata - HICP - deflator'!$H94,IF($H$19=$C$17,'Baggrundsdata - HICP - deflator'!$G94,IF($C$17=$G$19,'Baggrundsdata - HICP - deflator'!$F94,IF($F$19=$C$17,'Baggrundsdata - HICP - deflator'!$E94,IF($E$19=$C$17,'Baggrundsdata - HICP - deflator'!$D94,IF($D$19=$C$17,'Baggrundsdata - HICP - deflator'!$C94,IF('Baggrundsdata - HICP - deflator'!$C$19='Baggrundsdata - HICP - deflator'!$C$17,'Baggrundsdata - HICP - deflator'!$B94,\"*\"))))))))))),\"*\")","v":0.87103799999999987},{"$f":"IFERROR('Baggrundsdata - HICP - deflator'!C94/IF($M$19=$C$17,$L94,IF($L$19=$C$17,$K94,IF($K$19=$C$17,$J94,IF($J$19=$C$17,$I94,IF($I$19=$C$17,'Baggrundsdata - HICP - deflator'!$H94,IF($H$19=$C$17,'Baggrundsdata - HICP - deflator'!$G94,IF($C$17=$G$19,'Baggrundsdata - HICP - deflator'!$F94,IF($F$19=$C$17,'Baggrundsdata - HICP - deflator'!$E94,IF($E$19=$C$17,'Baggrundsdata - HICP - deflator'!$D94,IF($D$19=$C$17,'Baggrundsdata - HICP - deflator'!$C94,IF('Baggrundsdata - HICP - deflator'!$C$19='Baggrundsdata - HICP - deflator'!$C$17,'Baggrundsdata - HICP - deflator'!$B94,\"*\"))))))))))),\"*\")","v":0.90535769999999993},{"$f":"IFERROR('Baggrundsdata - HICP - deflator'!D94/IF($M$19=$C$17,$L94,IF($L$19=$C$17,$K94,IF($K$19=$C$17,$J94,IF($J$19=$C$17,$I94,IF($I$19=$C$17,'Baggrundsdata - HICP - deflator'!$H94,IF($H$19=$C$17,'Baggrundsdata - HICP - deflator'!$G94,IF($C$17=$G$19,'Baggrundsdata - HICP - deflator'!$F94,IF($F$19=$C$17,'Baggrundsdata - HICP - deflator'!$E94,IF($E$19=$C$17,'Baggrundsdata - HICP - deflator'!$D94,IF($D$19=$C$17,'Baggrundsdata - HICP - deflator'!$C94,IF('Baggrundsdata - HICP - deflator'!$C$19='Baggrundsdata - HICP - deflator'!$C$17,'Baggrundsdata - HICP - deflator'!$B94,\"*\"))))))))))),\"*\")","v":0.91368674999999988},{"$f":"IFERROR('Baggrundsdata - HICP - deflator'!E94/IF($M$19=$C$17,$L94,IF($L$19=$C$17,$K94,IF($K$19=$C$17,$J94,IF($J$19=$C$17,$I94,IF($I$19=$C$17,'Baggrundsdata - HICP - deflator'!$H94,IF($H$19=$C$17,'Baggrundsdata - HICP - deflator'!$G94,IF($C$17=$G$19,'Baggrundsdata - HICP - deflator'!$F94,IF($F$19=$C$17,'Baggrundsdata - HICP - deflator'!$E94,IF($E$19=$C$17,'Baggrundsdata - HICP - deflator'!$D94,IF($D$19=$C$17,'Baggrundsdata - HICP - deflator'!$C94,IF('Baggrundsdata - HICP - deflator'!$C$19='Baggrundsdata - HICP - deflator'!$C$17,'Baggrundsdata - HICP - deflator'!$B94,\"*\"))))))))))),\"*\")","v":0.92010914999999993},{"$f":"IFERROR('Baggrundsdata - HICP - deflator'!F94/IF($M$19=$C$17,$L94,IF($L$19=$C$17,$K94,IF($K$19=$C$17,$J94,IF($J$19=$C$17,$I94,IF($I$19=$C$17,'Baggrundsdata - HICP - deflator'!$H94,IF($H$19=$C$17,'Baggrundsdata - HICP - deflator'!$G94,IF($C$17=$G$19,'Baggrundsdata - HICP - deflator'!$F94,IF($F$19=$C$17,'Baggrundsdata - HICP - deflator'!$E94,IF($E$19=$C$17,'Baggrundsdata - HICP - deflator'!$D94,IF($D$19=$C$17,'Baggrundsdata - HICP - deflator'!$C94,IF('Baggrundsdata - HICP - deflator'!$C$19='Baggrundsdata - HICP - deflator'!$C$17,'Baggrundsdata - HICP - deflator'!$B94,\"*\"))))))))))),\"*\")","v":0.95764004999999996},{"$f":"IFERROR('Baggrundsdata - HICP - deflator'!G94/IF($M$19=$C$17,$L94,IF($L$19=$C$17,$K94,IF($K$19=$C$17,$J94,IF($J$19=$C$17,$I94,IF($I$19=$C$17,'Baggrundsdata - HICP - deflator'!$H94,IF($H$19=$C$17,'Baggrundsdata - HICP - deflator'!$G94,IF($C$17=$G$19,'Baggrundsdata - HICP - deflator'!$F94,IF($F$19=$C$17,'Baggrundsdata - HICP - deflator'!$E94,IF($E$19=$C$17,'Baggrundsdata - HICP - deflator'!$D94,IF($D$19=$C$17,'Baggrundsdata - HICP - deflator'!$C94,IF('Baggrundsdata - HICP - deflator'!$C$19='Baggrundsdata - HICP - deflator'!$C$17,'Baggrundsdata - HICP - deflator'!$B94,\"*\"))))))))))),\"*\")","v":0.99346499999999993},{"$f":"IFERROR('Baggrundsdata - HICP - deflator'!H94/IF($M$19=$C$17,$L94,IF($L$19=$C$17,$K94,IF($K$19=$C$17,$J94,IF($J$19=$C$17,$I94,IF($I$19=$C$17,'Baggrundsdata - HICP - deflator'!$H94,IF($H$19=$C$17,'Baggrundsdata - HICP - deflator'!$G94,IF($C$17=$G$19,'Baggrundsdata - HICP - deflator'!$F94,IF($F$19=$C$17,'Baggrundsdata - HICP - deflator'!$E94,IF($E$19=$C$17,'Baggrundsdata - HICP - deflator'!$D94,IF($D$19=$C$17,'Baggrundsdata - HICP - deflator'!$C94,IF('Baggrundsdata - HICP - deflator'!$C$19='Baggrundsdata - HICP - deflator'!$C$17,'Baggrundsdata - HICP - deflator'!$B94,\"*\"))))))))))),\"*\")","v":1.00801575},{"$f":"IFERROR('Baggrundsdata - HICP - deflator'!I94/IF($M$19=$C$17,$L94,IF($L$19=$C$17,$K94,IF($K$19=$C$17,$J94,IF($J$19=$C$17,$I94,IF($I$19=$C$17,'Baggrundsdata - HICP - deflator'!$H94,IF($H$19=$C$17,'Baggrundsdata - HICP - deflator'!$G94,IF($C$17=$G$19,'Baggrundsdata - HICP - deflator'!$F94,IF($F$19=$C$17,'Baggrundsdata - HICP - deflator'!$E94,IF($E$19=$C$17,'Baggrundsdata - HICP - deflator'!$D94,IF($D$19=$C$17,'Baggrundsdata - HICP - deflator'!$C94,IF('Baggrundsdata - HICP - deflator'!$C$19='Baggrundsdata - HICP - deflator'!$C$17,'Baggrundsdata - HICP - deflator'!$B94,\"*\"))))))))))),\"*\")","v":1.0070122499999998},{"$f":"IFERROR('Baggrundsdata - HICP - deflator'!J94/IF($M$19=$C$17,$L94,IF($L$19=$C$17,$K94,IF($K$19=$C$17,$J94,IF($J$19=$C$17,$I94,IF($I$19=$C$17,'Baggrundsdata - HICP - deflator'!$H94,IF($H$19=$C$17,'Baggrundsdata - HICP - deflator'!$G94,IF($C$17=$G$19,'Baggrundsdata - HICP - deflator'!$F94,IF($F$19=$C$17,'Baggrundsdata - HICP - deflator'!$E94,IF($E$19=$C$17,'Baggrundsdata - HICP - deflator'!$D94,IF($D$19=$C$17,'Baggrundsdata - HICP - deflator'!$C94,IF('Baggrundsdata - HICP - deflator'!$C$19='Baggrundsdata - HICP - deflator'!$C$17,'Baggrundsdata - HICP - deflator'!$B94,\"*\"))))))))))),\"*\")","v":1.0034999999999998},{"$f":"IFERROR('Baggrundsdata - HICP - deflator'!K94/IF($M$19=$C$17,$L94,IF($L$19=$C$17,$K94,IF($K$19=$C$17,$J94,IF($J$19=$C$17,$I94,IF($I$19=$C$17,'Baggrundsdata - HICP - deflator'!$H94,IF($H$19=$C$17,'Baggrundsdata - HICP - deflator'!$G94,IF($C$17=$G$19,'Baggrundsdata - HICP - deflator'!$F94,IF($F$19=$C$17,'Baggrundsdata - HICP - deflator'!$E94,IF($E$19=$C$17,'Baggrundsdata - HICP - deflator'!$D94,IF($D$19=$C$17,'Baggrundsdata - HICP - deflator'!$C94,IF('Baggrundsdata - HICP - deflator'!$C$19='Baggrundsdata - HICP - deflator'!$C$17,'Baggrundsdata - HICP - deflator'!$B94,\"*\"))))))))))),\"*\")","v":1},{"$f":"IFERROR('Baggrundsdata - HICP - deflator'!L94/IF($M$19=$C$17,$L94,IF($L$19=$C$17,$K94,IF($K$19=$C$17,$J94,IF($J$19=$C$17,$I94,IF($I$19=$C$17,'Baggrundsdata - HICP - deflator'!$H94,IF($H$19=$C$17,'Baggrundsdata - HICP - deflator'!$G94,IF($C$17=$G$19,'Baggrundsdata - HICP - deflator'!$F94,IF($F$19=$C$17,'Baggrundsdata - HICP - deflator'!$E94,IF($E$19=$C$17,'Baggrundsdata - HICP - deflator'!$D94,IF($D$19=$C$17,'Baggrundsdata - HICP - deflator'!$C94,IF('Baggrundsdata - HICP - deflator'!$C$19='Baggrundsdata - HICP - deflator'!$C$17,'Baggrundsdata - HICP - deflator'!$B94,\"*\"))))))))))),\"*\")","v":0},null,{"$f":"IF(A94='Level 1'!A78,\"sand\",\"falsk\")","v":"sand"}]
[null,"Finland",{"$f":"IFERROR('Baggrundsdata - HICP - deflator'!B95/IF($M$19=$C$17,$L95,IF($L$19=$C$17,$K95,IF($K$19=$C$17,$J95,IF($J$19=$C$17,$I95,IF($I$19=$C$17,'Baggrundsdata - HICP - deflator'!$H95,IF($H$19=$C$17,'Baggrundsdata - HICP - deflator'!$G95,IF($C$17=$G$19,'Baggrundsdata - HICP - deflator'!$F95,IF($F$19=$C$17,'Baggrundsdata - HICP - deflator'!$E95,IF($E$19=$C$17,'Baggrundsdata - HICP - deflator'!$D95,IF($D$19=$C$17,'Baggrundsdata - HICP - deflator'!$C95,IF('Baggrundsdata - HICP - deflator'!$C$19='Baggrundsdata - HICP - deflator'!$C$17,'Baggrundsdata - HICP - deflator'!$B95,\"*\"))))))))))),\"*\")","v":0.84705311999999988},{"$f":"IFERROR('Baggrundsdata - HICP - deflator'!C95/IF($M$19=$C$17,$L95,IF($L$19=$C$17,$K95,IF($K$19=$C$17,$J95,IF($J$19=$C$17,$I95,IF($I$19=$C$17,'Baggrundsdata - HICP - deflator'!$H95,IF($H$19=$C$17,'Baggrundsdata - HICP - deflator'!$G95,IF($C$17=$G$19,'Baggrundsdata - HICP - deflator'!$F95,IF($F$19=$C$17,'Baggrundsdata - HICP - deflator'!$E95,IF($E$19=$C$17,'Baggrundsdata - HICP - deflator'!$D95,IF($D$19=$C$17,'Baggrundsdata - HICP - deflator'!$C95,IF('Baggrundsdata - HICP - deflator'!$C$19='Baggrundsdata - HICP - deflator'!$C$17,'Baggrundsdata - HICP - deflator'!$B95,\"*\"))))))))))),\"*\")","v":0.88030624000000002},{"$f":"IFERROR('Baggrundsdata - HICP - deflator'!D95/IF($M$19=$C$17,$L95,IF($L$19=$C$17,$K95,IF($K$19=$C$17,$J95,IF($J$19=$C$17,$I95,IF($I$19=$C$17,'Baggrundsdata - HICP - deflator'!$H95,IF($H$19=$C$17,'Baggrundsdata - HICP - deflator'!$G95,IF($C$17=$G$19,'Baggrundsdata - HICP - deflator'!$F95,IF($F$19=$C$17,'Baggrundsdata - HICP - deflator'!$E95,IF($E$19=$C$17,'Baggrundsdata - HICP - deflator'!$D95,IF($D$19=$C$17,'Baggrundsdata - HICP - deflator'!$C95,IF('Baggrundsdata - HICP - deflator'!$C$19='Baggrundsdata - HICP - deflator'!$C$17,'Baggrundsdata - HICP - deflator'!$B95,\"*\"))))))))))),\"*\")","v":0.89462911999999994},{"$f":"IFERROR('Baggrundsdata - HICP - deflator'!E95/IF($M$19=$C$17,$L95,IF($L$19=$C$17,$K95,IF($K$19=$C$17,$J95,IF($J$19=$C$17,$I95,IF($I$19=$C$17,'Baggrundsdata - HICP - deflator'!$H95,IF($H$19=$C$17,'Baggrundsdata - HICP - deflator'!$G95,IF($C$17=$G$19,'Baggrundsdata - HICP - deflator'!$F95,IF($F$19=$C$17,'Baggrundsdata - HICP - deflator'!$E95,IF($E$19=$C$17,'Baggrundsdata - HICP - deflator'!$D95,IF($D$19=$C$17,'Baggrundsdata - HICP - deflator'!$C95,IF('Baggrundsdata - HICP - deflator'!$C$19='Baggrundsdata - HICP - deflator'!$C$17,'Baggrundsdata - HICP - deflator'!$B95,\"*\"))))))))))),\"*\")","v":0.90975328},{"$f":"IFERROR('Baggrundsdata - HICP - deflator'!F95/IF($M$19=$C$17,$L95,IF($L$19=$C$17,$K95,IF($K$19=$C$17,$J95,IF($J$19=$C$17,$I95,IF($I$19=$C$17,'Baggrundsdata - HICP - deflator'!$H95,IF($H$19=$C$17,'Baggrundsdata - HICP - deflator'!$G95,IF($C$17=$G$19,'Baggrundsdata - HICP - deflator'!$F95,IF($F$19=$C$17,'Baggrundsdata - HICP - deflator'!$E95,IF($E$19=$C$17,'Baggrundsdata - HICP - deflator'!$D95,IF($D$19=$C$17,'Baggrundsdata - HICP - deflator'!$C95,IF('Baggrundsdata - HICP - deflator'!$C$19='Baggrundsdata - HICP - deflator'!$C$17,'Baggrundsdata - HICP - deflator'!$B95,\"*\"))))))))))),\"*\")","v":0.94000159999999988},{"$f":"IFERROR('Baggrundsdata - HICP - deflator'!G95/IF($M$19=$C$17,$L95,IF($L$19=$C$17,$K95,IF($K$19=$C$17,$J95,IF($J$19=$C$17,$I95,IF($I$19=$C$17,'Baggrundsdata - HICP - deflator'!$H95,IF($H$19=$C$17,'Baggrundsdata - HICP - deflator'!$G95,IF($C$17=$G$19,'Baggrundsdata - HICP - deflator'!$F95,IF($F$19=$C$17,'Baggrundsdata - HICP - deflator'!$E95,IF($E$19=$C$17,'Baggrundsdata - HICP - deflator'!$D95,IF($D$19=$C$17,'Baggrundsdata - HICP - deflator'!$C95,IF('Baggrundsdata - HICP - deflator'!$C$19='Baggrundsdata - HICP - deflator'!$C$17,'Baggrundsdata - HICP - deflator'!$B95,\"*\"))))))))))),\"*\")","v":0.96964896},{"$f":"IFERROR('Baggrundsdata - HICP - deflator'!H95/IF($M$19=$C$17,$L95,IF($L$19=$C$17,$K95,IF($K$19=$C$17,$J95,IF($J$19=$C$17,$I95,IF($I$19=$C$17,'Baggrundsdata - HICP - deflator'!$H95,IF($H$19=$C$17,'Baggrundsdata - HICP - deflator'!$G95,IF($C$17=$G$19,'Baggrundsdata - HICP - deflator'!$F95,IF($F$19=$C$17,'Baggrundsdata - HICP - deflator'!$E95,IF($E$19=$C$17,'Baggrundsdata - HICP - deflator'!$D95,IF($D$19=$C$17,'Baggrundsdata - HICP - deflator'!$C95,IF('Baggrundsdata - HICP - deflator'!$C$19='Baggrundsdata - HICP - deflator'!$C$17,'Baggrundsdata - HICP - deflator'!$B95,\"*\"))))))))))),\"*\")","v":0.99118335999999996},{"$f":"IFERROR('Baggrundsdata - HICP - deflator'!I95/IF($M$19=$C$17,$L95,IF($L$19=$C$17,$K95,IF($K$19=$C$17,$J95,IF($J$19=$C$17,$I95,IF($I$19=$C$17,'Baggrundsdata - HICP - deflator'!$H95,IF($H$19=$C$17,'Baggrundsdata - HICP - deflator'!$G95,IF($C$17=$G$19,'Baggrundsdata - HICP - deflator'!$F95,IF($F$19=$C$17,'Baggrundsdata - HICP - deflator'!$E95,IF($E$19=$C$17,'Baggrundsdata - HICP - deflator'!$D95,IF($D$19=$C$17,'Baggrundsdata - HICP - deflator'!$C95,IF('Baggrundsdata - HICP - deflator'!$C$19='Baggrundsdata - HICP - deflator'!$C$17,'Baggrundsdata - HICP - deflator'!$B95,\"*\"))))))))))),\"*\")","v":1.0032025599999999},{"$f":"IFERROR('Baggrundsdata - HICP - deflator'!J95/IF($M$19=$C$17,$L95,IF($L$19=$C$17,$K95,IF($K$19=$C$17,$J95,IF($J$19=$C$17,$I95,IF($I$19=$C$17,'Baggrundsdata - HICP - deflator'!$H95,IF($H$19=$C$17,'Baggrundsdata - HICP - deflator'!$G95,IF($C$17=$G$19,'Baggrundsdata - HICP - deflator'!$F95,IF($F$19=$C$17,'Baggrundsdata - HICP - deflator'!$E95,IF($E$19=$C$17,'Baggrundsdata - HICP - deflator'!$D95,IF($D$19=$C$17,'Baggrundsdata - HICP - deflator'!$C95,IF('Baggrundsdata - HICP - deflator'!$C$19='Baggrundsdata - HICP - deflator'!$C$17,'Baggrundsdata - HICP - deflator'!$B95,\"*\"))))))))))),\"*\")","v":1.0016},{"$f":"IFERROR('Baggrundsdata - HICP - deflator'!K95/IF($M$19=$C$17,$L95,IF($L$19=$C$17,$K95,IF($K$19=$C$17,$J95,IF($J$19=$C$17,$I95,IF($I$19=$C$17,'Baggrundsdata - HICP - deflator'!$H95,IF($H$19=$C$17,'Baggrundsdata - HICP - deflator'!$G95,IF($C$17=$G$19,'Baggrundsdata - HICP - deflator'!$F95,IF($F$19=$C$17,'Baggrundsdata - HICP - deflator'!$E95,IF($E$19=$C$17,'Baggrundsdata - HICP - deflator'!$D95,IF($D$19=$C$17,'Baggrundsdata - HICP - deflator'!$C95,IF('Baggrundsdata - HICP - deflator'!$C$19='Baggrundsdata - HICP - deflator'!$C$17,'Baggrundsdata - HICP - deflator'!$B95,\"*\"))))))))))),\"*\")","v":1},{"$f":"IFERROR('Baggrundsdata - HICP - deflator'!L95/IF($M$19=$C$17,$L95,IF($L$19=$C$17,$K95,IF($K$19=$C$17,$J95,IF($J$19=$C$17,$I95,IF($I$19=$C$17,'Baggrundsdata - HICP - deflator'!$H95,IF($H$19=$C$17,'Baggrundsdata - HICP - deflator'!$G95,IF($C$17=$G$19,'Baggrundsdata - HICP - deflator'!$F95,IF($F$19=$C$17,'Baggrundsdata - HICP - deflator'!$E95,IF($E$19=$C$17,'Baggrundsdata - HICP - deflator'!$D95,IF($D$19=$C$17,'Baggrundsdata - HICP - deflator'!$C95,IF('Baggrundsdata - HICP - deflator'!$C$19='Baggrundsdata - HICP - deflator'!$C$17,'Baggrundsdata - HICP - deflator'!$B95,\"*\"))))))))))),\"*\")","v":0},null,{"$f":"IF(A95='Level 1'!A79,\"sand\",\"falsk\")","v":"sand"}]
[null,"Sverige",{"$f":"IFERROR('Baggrundsdata - HICP - deflator'!B96/IF($M$19=$C$17,$L96,IF($L$19=$C$17,$K96,IF($K$19=$C$17,$J96,IF($J$19=$C$17,$I96,IF($I$19=$C$17,'Baggrundsdata - HICP - deflator'!$H96,IF($H$19=$C$17,'Baggrundsdata - HICP - deflator'!$G96,IF($C$17=$G$19,'Baggrundsdata - HICP - deflator'!$F96,IF($F$19=$C$17,'Baggrundsdata - HICP - deflator'!$E96,IF($E$19=$C$17,'Baggrundsdata - HICP - deflator'!$D96,IF($D$19=$C$17,'Baggrundsdata - HICP - deflator'!$C96,IF('Baggrundsdata - HICP - deflator'!$C$19='Baggrundsdata - HICP - deflator'!$C$17,'Baggrundsdata - HICP - deflator'!$B96,\"*\"))))))))))),\"*\")","v":0.89191260000000006},{"$f":"IFERROR('Baggrundsdata - HICP - deflator'!C96/IF($M$19=$C$17,$L96,IF($L$19=$C$17,$K96,IF($K$19=$C$17,$J96,IF($J$19=$C$17,$I96,IF($I$19=$C$17,'Baggrundsdata - HICP - deflator'!$H96,IF($H$19=$C$17,'Baggrundsdata - HICP - deflator'!$G96,IF($C$17=$G$19,'Baggrundsdata - HICP - deflator'!$F96,IF($F$19=$C$17,'Baggrundsdata - HICP - deflator'!$E96,IF($E$19=$C$17,'Baggrundsdata - HICP - deflator'!$D96,IF($D$19=$C$17,'Baggrundsdata - HICP - deflator'!$C96,IF('Baggrundsdata - HICP - deflator'!$C$19='Baggrundsdata - HICP - deflator'!$C$17,'Baggrundsdata - HICP - deflator'!$B96,\"*\"))))))))))),\"*\")","v":0.92180190000000006},{"$f":"IFERROR('Baggrundsdata - HICP - deflator'!D96/IF($M$19=$C$17,$L96,IF($L$19=$C$17,$K96,IF($K$19=$C$17,$J96,IF($J$19=$C$17,$I96,IF($I$19=$C$17,'Baggrundsdata - HICP - deflator'!$H96,IF($H$19=$C$17,'Baggrundsdata - HICP - deflator'!$G96,IF($C$17=$G$19,'Baggrundsdata - HICP - deflator'!$F96,IF($F$19=$C$17,'Baggrundsdata - HICP - deflator'!$E96,IF($E$19=$C$17,'Baggrundsdata - HICP - deflator'!$D96,IF($D$19=$C$17,'Baggrundsdata - HICP - deflator'!$C96,IF('Baggrundsdata - HICP - deflator'!$C$19='Baggrundsdata - HICP - deflator'!$C$17,'Baggrundsdata - HICP - deflator'!$B96,\"*\"))))))))))),\"*\")","v":0.93967590000000001},{"$f":"IFERROR('Baggrundsdata - HICP - deflator'!E96/IF($M$19=$C$17,$L96,IF($L$19=$C$17,$K96,IF($K$19=$C$17,$J96,IF($J$19=$C$17,$I96,IF($I$19=$C$17,'Baggrundsdata - HICP - deflator'!$H96,IF($H$19=$C$17,'Baggrundsdata - HICP - deflator'!$G96,IF($C$17=$G$19,'Baggrundsdata - HICP - deflator'!$F96,IF($F$19=$C$17,'Baggrundsdata - HICP - deflator'!$E96,IF($E$19=$C$17,'Baggrundsdata - HICP - deflator'!$D96,IF($D$19=$C$17,'Baggrundsdata - HICP - deflator'!$C96,IF('Baggrundsdata - HICP - deflator'!$C$19='Baggrundsdata - HICP - deflator'!$C$17,'Baggrundsdata - HICP - deflator'!$B96,\"*\"))))))))))),\"*\")","v":0.95754990000000018},{"$f":"IFERROR('Baggrundsdata - HICP - deflator'!F96/IF($M$19=$C$17,$L96,IF($L$19=$C$17,$K96,IF($K$19=$C$17,$J96,IF($J$19=$C$17,$I96,IF($I$19=$C$17,'Baggrundsdata - HICP - deflator'!$H96,IF($H$19=$C$17,'Baggrundsdata - HICP - deflator'!$G96,IF($C$17=$G$19,'Baggrundsdata - HICP - deflator'!$F96,IF($F$19=$C$17,'Baggrundsdata - HICP - deflator'!$E96,IF($E$19=$C$17,'Baggrundsdata - HICP - deflator'!$D96,IF($D$19=$C$17,'Baggrundsdata - HICP - deflator'!$C96,IF('Baggrundsdata - HICP - deflator'!$C$19='Baggrundsdata - HICP - deflator'!$C$17,'Baggrundsdata - HICP - deflator'!$B96,\"*\"))))))))))),\"*\")","v":0.97065750000000006},{"$f":"IFERROR('Baggrundsdata - HICP - deflator'!G96/IF($M$19=$C$17,$L96,IF($L$19=$C$17,$K96,IF($K$19=$C$17,$J96,IF($J$19=$C$17,$I96,IF($I$19=$C$17,'Baggrundsdata - HICP - deflator'!$H96,IF($H$19=$C$17,'Baggrundsdata - HICP - deflator'!$G96,IF($C$17=$G$19,'Baggrundsdata - HICP - deflator'!$F96,IF($F$19=$C$17,'Baggrundsdata - HICP - deflator'!$E96,IF($E$19=$C$17,'Baggrundsdata - HICP - deflator'!$D96,IF($D$19=$C$17,'Baggrundsdata - HICP - deflator'!$C96,IF('Baggrundsdata - HICP - deflator'!$C$19='Baggrundsdata - HICP - deflator'!$C$17,'Baggrundsdata - HICP - deflator'!$B96,\"*\"))))))))))),\"*\")","v":0.97969380000000006},{"$f":"IFERROR('Baggrundsdata - HICP - deflator'!H96/IF($M$19=$C$17,$L96,IF($L$19=$C$17,$K96,IF($K$19=$C$17,$J96,IF($J$19=$C$17,$I96,IF($I$19=$C$17,'Baggrundsdata - HICP - deflator'!$H96,IF($H$19=$C$17,'Baggrundsdata - HICP - deflator'!$G96,IF($C$17=$G$19,'Baggrundsdata - HICP - deflator'!$F96,IF($F$19=$C$17,'Baggrundsdata - HICP - deflator'!$E96,IF($E$19=$C$17,'Baggrundsdata - HICP - deflator'!$D96,IF($D$19=$C$17,'Baggrundsdata - HICP - deflator'!$C96,IF('Baggrundsdata - HICP - deflator'!$C$19='Baggrundsdata - HICP - deflator'!$C$17,'Baggrundsdata - HICP - deflator'!$B96,\"*\"))))))))))),\"*\")","v":0.98406300000000002},{"$f":"IFERROR('Baggrundsdata - HICP - deflator'!I96/IF($M$19=$C$17,$L96,IF($L$19=$C$17,$K96,IF($K$19=$C$17,$J96,IF($J$19=$C$17,$I96,IF($I$19=$C$17,'Baggrundsdata - HICP - deflator'!$H96,IF($H$19=$C$17,'Baggrundsdata - HICP - deflator'!$G96,IF($C$17=$G$19,'Baggrundsdata - HICP - deflator'!$F96,IF($F$19=$C$17,'Baggrundsdata - HICP - deflator'!$E96,IF($E$19=$C$17,'Baggrundsdata - HICP - deflator'!$D96,IF($D$19=$C$17,'Baggrundsdata - HICP - deflator'!$C96,IF('Baggrundsdata - HICP - deflator'!$C$19='Baggrundsdata - HICP - deflator'!$C$17,'Baggrundsdata - HICP - deflator'!$B96,\"*\"))))))))))),\"*\")","v":0.98604900000000006},{"$f":"IFERROR('Baggrundsdata - HICP - deflator'!J96/IF($M$19=$C$17,$L96,IF($L$19=$C$17,$K96,IF($K$19=$C$17,$J96,IF($J$19=$C$17,$I96,IF($I$19=$C$17,'Baggrundsdata - HICP - deflator'!$H96,IF($H$19=$C$17,'Baggrundsdata - HICP - deflator'!$G96,IF($C$17=$G$19,'Baggrundsdata - HICP - deflator'!$F96,IF($F$19=$C$17,'Baggrundsdata - HICP - deflator'!$E96,IF($E$19=$C$17,'Baggrundsdata - HICP - deflator'!$D96,IF($D$19=$C$17,'Baggrundsdata - HICP - deflator'!$C96,IF('Baggrundsdata - HICP - deflator'!$C$19='Baggrundsdata - HICP - deflator'!$C$17,'Baggrundsdata - HICP - deflator'!$B96,\"*\"))))))))))),\"*\")","v":0.9930000000000001},{"$f":"IFERROR('Baggrundsdata - HICP - deflator'!K96/IF($M$19=$C$17,$L96,IF($L$19=$C$17,$K96,IF($K$19=$C$17,$J96,IF($J$19=$C$17,$I96,IF($I$19=$C$17,'Baggrundsdata - HICP - deflator'!$H96,IF($H$19=$C$17,'Baggrundsdata - HICP - deflator'!$G96,IF($C$17=$G$19,'Baggrundsdata - HICP - deflator'!$F96,IF($F$19=$C$17,'Baggrundsdata - HICP - deflator'!$E96,IF($E$19=$C$17,'Baggrundsdata - HICP - deflator'!$D96,IF($D$19=$C$17,'Baggrundsdata - HICP - deflator'!$C96,IF('Baggrundsdata - HICP - deflator'!$C$19='Baggrundsdata - HICP - deflator'!$C$17,'Baggrundsdata - HICP - deflator'!$B96,\"*\"))))))))))),\"*\")","v":1},{"$f":"IFERROR('Baggrundsdata - HICP - deflator'!L96/IF($M$19=$C$17,$L96,IF($L$19=$C$17,$K96,IF($K$19=$C$17,$J96,IF($J$19=$C$17,$I96,IF($I$19=$C$17,'Baggrundsdata - HICP - deflator'!$H96,IF($H$19=$C$17,'Baggrundsdata - HICP - deflator'!$G96,IF($C$17=$G$19,'Baggrundsdata - HICP - deflator'!$F96,IF($F$19=$C$17,'Baggrundsdata - HICP - deflator'!$E96,IF($E$19=$C$17,'Baggrundsdata - HICP - deflator'!$D96,IF($D$19=$C$17,'Baggrundsdata - HICP - deflator'!$C96,IF('Baggrundsdata - HICP - deflator'!$C$19='Baggrundsdata - HICP - deflator'!$C$17,'Baggrundsdata - HICP - deflator'!$B96,\"*\"))))))))))),\"*\")","v":0},null,{"$f":"IF(A96='Level 1'!A80,\"sand\",\"falsk\")","v":"sand"}]
[null,"UK",{"$f":"IFERROR('Baggrundsdata - HICP - deflator'!B97/IF($M$19=$C$17,$L97,IF($L$19=$C$17,$K97,IF($K$19=$C$17,$J97,IF($J$19=$C$17,$I97,IF($I$19=$C$17,'Baggrundsdata - HICP - deflator'!$H97,IF($H$19=$C$17,'Baggrundsdata - HICP - deflator'!$G97,IF($C$17=$G$19,'Baggrundsdata - HICP - deflator'!$F97,IF($F$19=$C$17,'Baggrundsdata - HICP - deflator'!$E97,IF($E$19=$C$17,'Baggrundsdata - HICP - deflator'!$D97,IF($D$19=$C$17,'Baggrundsdata - HICP - deflator'!$C97,IF('Baggrundsdata - HICP - deflator'!$C$19='Baggrundsdata - HICP - deflator'!$C$17,'Baggrundsdata - HICP - deflator'!$B97,\"*\"))))))))))),\"*\")","v":0.81799999999999995},{"$f":"IFERROR('Baggrundsdata - HICP - deflator'!C97/IF($M$19=$C$17,$L97,IF($L$19=$C$17,$K97,IF($K$19=$C$17,$J97,IF($J$19=$C$17,$I97,IF($I$19=$C$17,'Baggrundsdata - HICP - deflator'!$H97,IF($H$19=$C$17,'Baggrundsdata - HICP - deflator'!$G97,IF($C$17=$G$19,'Baggrundsdata - HICP - deflator'!$F97,IF($F$19=$C$17,'Baggrundsdata - HICP - deflator'!$E97,IF($E$19=$C$17,'Baggrundsdata - HICP - deflator'!$D97,IF($D$19=$C$17,'Baggrundsdata - HICP - deflator'!$C97,IF('Baggrundsdata - HICP - deflator'!$C$19='Baggrundsdata - HICP - deflator'!$C$17,'Baggrundsdata - HICP - deflator'!$B97,\"*\"))))))))))),\"*\")","v":0.84699999999999998},{"$f":"IFERROR('Baggrundsdata - HICP - deflator'!D97/IF($M$19=$C$17,$L97,IF($L$19=$C$17,$K97,IF($K$19=$C$17,$J97,IF($J$19=$C$17,$I97,IF($I$19=$C$17,'Baggrundsdata - HICP - deflator'!$H97,IF($H$19=$C$17,'Baggrundsdata - HICP - deflator'!$G97,IF($C$17=$G$19,'Baggrundsdata - HICP - deflator'!$F97,IF($F$19=$C$17,'Baggrundsdata - HICP - deflator'!$E97,IF($E$19=$C$17,'Baggrundsdata - HICP - deflator'!$D97,IF($D$19=$C$17,'Baggrundsdata - HICP - deflator'!$C97,IF('Baggrundsdata - HICP - deflator'!$C$19='Baggrundsdata - HICP - deflator'!$C$17,'Baggrundsdata - HICP - deflator'!$B97,\"*\"))))))))))),\"*\")","v":0.86599999999999999},{"$f":"IFERROR('Baggrundsdata - HICP - deflator'!E97/IF($M$19=$C$17,$L97,IF($L$19=$C$17,$K97,IF($K$19=$C$17,$J97,IF($J$19=$C$17,$I97,IF($I$19=$C$17,'Baggrundsdata - HICP - deflator'!$H97,IF($H$19=$C$17,'Baggrundsdata - HICP - deflator'!$G97,IF($C$17=$G$19,'Baggrundsdata - HICP - deflator'!$F97,IF($F$19=$C$17,'Baggrundsdata - HICP - deflator'!$E97,IF($E$19=$C$17,'Baggrundsdata - HICP - deflator'!$D97,IF($D$19=$C$17,'Baggrundsdata - HICP - deflator'!$C97,IF('Baggrundsdata - HICP - deflator'!$C$19='Baggrundsdata - HICP - deflator'!$C$17,'Baggrundsdata - HICP - deflator'!$B97,\"*\"))))))))))),\"*\")","v":0.89400000000000002},{"$f":"IFERROR('Baggrundsdata - HICP - deflator'!F97/IF($M$19=$C$17,$L97,IF($L$19=$C$17,$K97,IF($K$19=$C$17,$J97,IF($J$19=$C$17,$I97,IF($I$19=$C$17,'Baggrundsdata - HICP - deflator'!$H97,IF($H$19=$C$17,'Baggrundsdata - HICP - deflator'!$G97,IF($C$17=$G$19,'Baggrundsdata - HICP - deflator'!$F97,IF($F$19=$C$17,'Baggrundsdata - HICP - deflator'!$E97,IF($E$19=$C$17,'Baggrundsdata - HICP - deflator'!$D97,IF($D$19=$C$17,'Baggrundsdata - HICP - deflator'!$C97,IF('Baggrundsdata - HICP - deflator'!$C$19='Baggrundsdata - HICP - deflator'!$C$17,'Baggrundsdata - HICP - deflator'!$B97,\"*\"))))))))))),\"*\")","v":0.93400000000000005},{"$f":"IFERROR('Baggrundsdata - HICP - deflator'!G97/IF($M$19=$C$17,$L97,IF($L$19=$C$17,$K97,IF($K$19=$C$17,$J97,IF($J$19=$C$17,$I97,IF($I$19=$C$17,'Baggrundsdata - HICP - deflator'!$H97,IF($H$19=$C$17,'Baggrundsdata - HICP - deflator'!$G97,IF($C$17=$G$19,'Baggrundsdata - HICP - deflator'!$F97,IF($F$19=$C$17,'Baggrundsdata - HICP - deflator'!$E97,IF($E$19=$C$17,'Baggrundsdata - HICP - deflator'!$D97,IF($D$19=$C$17,'Baggrundsdata - HICP - deflator'!$C97,IF('Baggrundsdata - HICP - deflator'!$C$19='Baggrundsdata - HICP - deflator'!$C$17,'Baggrundsdata - HICP - deflator'!$B97,\"*\"))))))))))),\"*\")","v":0.96099999999999997},{"$f":"IFERROR('Baggrundsdata - HICP - deflator'!H97/IF($M$19=$C$17,$L97,IF($L$19=$C$17,$K97,IF($K$19=$C$17,$J97,IF($J$19=$C$17,$I97,IF($I$19=$C$17,'Baggrundsdata - HICP - deflator'!$H97,IF($H$19=$C$17,'Baggrundsdata - HICP - deflator'!$G97,IF($C$17=$G$19,'Baggrundsdata - HICP - deflator'!$F97,IF($F$19=$C$17,'Baggrundsdata - HICP - deflator'!$E97,IF($E$19=$C$17,'Baggrundsdata - HICP - deflator'!$D97,IF($D$19=$C$17,'Baggrundsdata - HICP - deflator'!$C97,IF('Baggrundsdata - HICP - deflator'!$C$19='Baggrundsdata - HICP - deflator'!$C$17,'Baggrundsdata - HICP - deflator'!$B97,\"*\"))))))))))),\"*\")","v":0.98499999999999999},{"$f":"IFERROR('Baggrundsdata - HICP - deflator'!I97/IF($M$19=$C$17,$L97,IF($L$19=$C$17,$K97,IF($K$19=$C$17,$J97,IF($J$19=$C$17,$I97,IF($I$19=$C$17,'Baggrundsdata - HICP - deflator'!$H97,IF($H$19=$C$17,'Baggrundsdata - HICP - deflator'!$G97,IF($C$17=$G$19,'Baggrundsdata - HICP - deflator'!$F97,IF($F$19=$C$17,'Baggrundsdata - HICP - deflator'!$E97,IF($E$19=$C$17,'Baggrundsdata - HICP - deflator'!$D97,IF($D$19=$C$17,'Baggrundsdata - HICP - deflator'!$C97,IF('Baggrundsdata - HICP - deflator'!$C$19='Baggrundsdata - HICP - deflator'!$C$17,'Baggrundsdata - HICP - deflator'!$B97,\"*\"))))))))))),\"*\")","v":1},{"$f":"IFERROR('Baggrundsdata - HICP - deflator'!J97/IF($M$19=$C$17,$L97,IF($L$19=$C$17,$K97,IF($K$19=$C$17,$J97,IF($J$19=$C$17,$I97,IF($I$19=$C$17,'Baggrundsdata - HICP - deflator'!$H97,IF($H$19=$C$17,'Baggrundsdata - HICP - deflator'!$G97,IF($C$17=$G$19,'Baggrundsdata - HICP - deflator'!$F97,IF($F$19=$C$17,'Baggrundsdata - HICP - deflator'!$E97,IF($E$19=$C$17,'Baggrundsdata - HICP - deflator'!$D97,IF($D$19=$C$17,'Baggrundsdata - HICP - deflator'!$C97,IF('Baggrundsdata - HICP - deflator'!$C$19='Baggrundsdata - HICP - deflator'!$C$17,'Baggrundsdata - HICP - deflator'!$B97,\"*\"))))))))))),\"*\")","v":1},{"$f":"IFERROR('Baggrundsdata - HICP - deflator'!K97/IF($M$19=$C$17,$L97,IF($L$19=$C$17,$K97,IF($K$19=$C$17,$J97,IF($J$19=$C$17,$I97,IF($I$19=$C$17,'Baggrundsdata - HICP - deflator'!$H97,IF($H$19=$C$17,'Baggrundsdata - HICP - deflator'!$G97,IF($C$17=$G$19,'Baggrundsdata - HICP - deflator'!$F97,IF($F$19=$C$17,'Baggrundsdata - HICP - deflator'!$E97,IF($E$19=$C$17,'Baggrundsdata - HICP - deflator'!$D97,IF($D$19=$C$17,'Baggrundsdata - HICP - deflator'!$C97,IF('Baggrundsdata - HICP - deflator'!$C$19='Baggrundsdata - HICP - deflator'!$C$17,'Baggrundsdata - HICP - deflator'!$B97,\"*\"))))))))))),\"*\")","v":1},{"$f":"IFERROR('Baggrundsdata - HICP - deflator'!L97/IF($M$19=$C$17,$L97,IF($L$19=$C$17,$K97,IF($K$19=$C$17,$J97,IF($J$19=$C$17,$I97,IF($I$19=$C$17,'Baggrundsdata - HICP - deflator'!$H97,IF($H$19=$C$17,'Baggrundsdata - HICP - deflator'!$G97,IF($C$17=$G$19,'Baggrundsdata - HICP - deflator'!$F97,IF($F$19=$C$17,'Baggrundsdata - HICP - deflator'!$E97,IF($E$19=$C$17,'Baggrundsdata - HICP - deflator'!$D97,IF($D$19=$C$17,'Baggrundsdata - HICP - deflator'!$C97,IF('Baggrundsdata - HICP - deflator'!$C$19='Baggrundsdata - HICP - deflator'!$C$17,'Baggrundsdata - HICP - deflator'!$B97,\"*\"))))))))))),\"*\")","v":0},null,{"$f":"IF(A97='Level 1'!A81,\"sand\",\"falsk\")","v":"sand"}]
[null,"Kilde: Eurostat"]
[null,"Bemærk: Deflatoren er fundet på baggrund af HICP samlet for de enkelte lande. * hvis manglende baggrundsdata"]
[]
[null,"Bemærk: Hvis der i valgmenuen vælges løbende priser, skal der ikke deflateres. Det medfører at alle felter i deflatoren vil vise \"*\"."]
[null,"Når løbende priser vælges, gives for valg af basisår muligheden: ","*"]
[]
[]
[]
["Baggrundsdata til HICP-deflator: Eurostat, prc_hicp_aind"]
["Opdateret",{"$f":"B62","v":"2016-04-08T14:15:59.560"}]
["HICP (2015 = 100) - annual data (average index and rate of change) [prc_hicp_aind]"]
[]
["Last update","2016-03-18T20:20:45"]
["Extracted on","2016-04-08T14:15:59.560"]
["Source of data","Eurostat"]
[]
["UNIT","Annual average index"]
["COICOP","All-items HICP"]
[]
["GEO/TIME","2007","2008","2009","2010","2011","2012","2013","2014","2015",2016,2017,null,{"$f":"\"Vækstrate \"&I68&\" til \"&J68&\"\"","v":"Vækstrate 2014 til 2015"}]
["European Union (28 countries)",86.65,89.82,90.7,92.59,95.46,97.99,99.47,100.01,100,{"$f":"J69*(1+N69)","v":99.990000999900005},null,null,{"$f":"J69/I69-1","v":-9.9990000999916617E-5}]
["Belgium",86.13,90,89.99,92.09,95.18,97.68,98.9,99.38,100,{"$f":"J70*(1+N70)","v":100.62386798148522},null,null,{"$f":"J70/I70-1","v":6.2386798148521549E-3}]
["Bulgaria",81.78,91.55,93.81,96.66,99.94,102.33,102.72,101.08,100,98.931539374752674,null,null,-1.068460625247325E-2]
["Czech Republic",85.6,91,91.5,92.6,94.6,98,99.3,99.8,100,100.20040080160322,null,null,2.0040080160321772E-3]
["Denmark",88,91.2,92.1,94.1,96.6,98.9,99.4,99.8,100,100.20040080160322,null,null,2.0040080160321772E-3]
["Germany (until 1990 former territory of the FRG)",89.5,91.9,92.1,93.2,95.5,97.5,99.1,99.9,100,100.10010010010009,null,null,1.0010010010008674E-3]
["Estonia",77.25,85.45,85.62,87.96,92.43,96.33,99.46,99.93,100,100.07004903432401,null,null,7.0049034324015658E-4]
["Ireland",96.4,99.5,97.8,96.2,97.4,99.2,99.7,100,100,100,null,null,0]
["Greece",89.75,93.55,94.81,99.27,102.36,103.42,102.54,101.11,100,98.902185738304809,null,null,-1.0978142616951847E-2]
["Spain",88.75,92.41,92.19,94.08,96.94,99.31,100.83,100.63,100,99.373944151843403,null,null,-6.2605584815660364E-3]
["France",89.52,92.34,92.44,94.05,96.2,98.33,99.31,99.91,100,100.09008107296566,null,null,9.0081072965664255E-4]
["Croatia",84.65,89.56,91.56,92.55,94.59,97.76,100.04,100.26,100,99.740674246957909,null,null,-2.5932575304209449E-3]
["Italy",87.3,90.4,91.1,92.6,95.3,98.4,99.7,99.9,100,100.10010010010009,null,null,1.0010010010008674E-3]
["Cyprus",88.67,92.55,92.71,95.09,98.4,101.45,101.84,101.57,100,98.454267992517487,null,null,-1.5457320074825143E-2]
["Latvia",79.08,91.14,94.11,92.96,96.88,99.09,99.11,99.79,100,100.21044192804889,null,null,2.1044192804888784E-3]
["Lithuania",78.930000000000007,87.69,91.34,92.43,96.24,99.28,100.44,100.68,100,99.324592769169641,null,null,-6.7540723083036047E-3]
["Luxembourg",85.45,88.94,88.95,91.44,94.85,97.59,99.25,99.94,100,100.06003602161297,null,null,6.0036021612974722E-4]
["Hungary",77.45,82.12,85.43,89.47,92.98,98.24,99.92,99.94,100,100.06003602161297,null,null,6.0036021612974722E-4]
["Malta",84.38,88.33,89.95,91.79,94.1,97.13,98.08,98.84,100,101.17361392148926,null,null,1.1736139214892694E-2]
["Netherlands",88.36,90.32,91.2,92.05,94.32,96.99,99.47,99.79,100,100.21044192804889,null,null,2.1044192804888784E-3]
["Austria",85.53,88.29,88.64,90.14,93.35,95.75,97.77,99.2,100,100.80645161290323,null,null,8.0645161290322509E-3]
["Poland",83.3,86.8,90.3,92.7,96.3,99.8,100.6,100.7,100,99.304865938430979,null,null,-6.9513406156902491E-3]
["Portugal",90.39,92.78,91.95,93.22,96.54,99.22,99.65,99.5,100,100.50251256281406,null,null,5.0251256281406143E-3]
["Romania",72.58,78.33,82.7,87.73,92.84,95.98,99.04,100.41,100,99.591674136042229,null,null,-4.0832586395777026E-3]
["Slovenia",86.36,91.13,91.92,93.85,95.81,98.5,100.39,100.76,100,99.245732433505353,null,null,-7.5426756649464854E-3]
["Slovakia",86.8,90.22,91.05,91.69,95.43,99,100.45,100.35,100,99.651220727453918,null,null,-3.4877927254608476E-3]
["Finland",84.57,87.89,89.32,90.83,93.85,96.81,98.96,100.16,100,99.840255591054316,null,null,{"$f":"J95/I95-1","v":-1.5974440894568342E-3}]
["Sweden",89.82,92.83,94.63,96.43,97.75,98.66,99.1,99.3,100,100.70493454179254,null,null,7.0493454179254567E-3]
["United Kingdom",81.8,84.7,86.6,89.4,93.4,96.1,98.5,100,100,100,null,null,0]
[]
["Special value:"]
[":","not available"]

{"sheet":"Level 1","index":5,"n_rows":244,"n_cols":64,"rows_kept":244,"cut":false,"hidden":false,"merged":[[2,52,2,63],[2,39,2,50],[2,26,2,37],[2,13,2,24],[2,0,2,11]]}
["Elpriser industri. Level 1 elpriser for forskellige forbrugsintervaller"]
[]
["Forbrugsinterval < 1000 kWh",null,null,null,null,null,null,null,null,null,null,null,null,"Forbrugsinterval 1000 kWh < 2500 kWh",null,null,null,null,null,null,null,null,null,null,null,null,"Forbrugsinterval 2500 kWh <  5000 kWh",null,null,null,null,null,null,null,null,null,null,null,null,"Forbrugsinterval 5000 kWh < 15 000 kWh",null,null,null,null,null,null,null,null,null,null,null,null,"Forbrugsinterval > 15 000 kWh"]
[]
["Euro/kWh",{"$f":"LEFT(B52,4)+0","v":2007},{"$f":"+B5+1","v":2008},2009,2010,2011,2012,2013,{"$f":"+H5+1","v":2014},{"$f":"+I5+1","v":2015},{"$f":"+J5+1","v":2016},{"$f":"+K5+1","v":2017},null,"Euro/kWh",{"$f":"LEFT(B92,4)+0","v":2007},{"$f":"+O5+1","v":2008},2009,2010,2011,2012,2013,{"$f":"+U5+1","v":2014},{"$f":"+V5+1","v":2015},{"$f":"+W5+1","v":2016},{"$f":"+X5+1","v":2017},null,"Euro/kWh",{"$f":"LEFT(B132,4)+0","v":2007},{"$f":"+AB5+1","v":2008},2009,2010,2011,2012,2013,{"$f":"+AH5+1","v":2014},{"$f":"+AI5+1","v":2015},{"$f":"+AJ5+1","v":2016},{"$f":"+AK5+1","v":2017},null,"Euro/kWh",{"$f":"LEFT(B172,4)+0","v":2007},{"$f":"+AO5+1","v":2008},2009,2010,2011,2012,2013,2014,{"$f":"+AV5+1","v":2015},{"$f":"+AW5+1","v":2016},{"$f":"+AX5+1","v":2017},null,"Euro/kWh",{"$f":"LEFT(B212,4)+0","v":2007},{"$f":"+BB5+1","v":2008},2009,2010,2011,2012,2013,{"$f":"+BH5+1","v":2014},{"$f":"+BI5+1","v":2015},{"$f":"+BJ5+1","v":2016},{"$f":"+BK5+1","v":2017}]
[{"$f":"A53","v":"European Union (28 countries)"},{"$f":"IFERROR(AVERAGE(B53:C53),\"*\")","v":0.18890000000000001},{"$f":"IFERROR(AVERAGE(D53:E53),\"*\")","v":0.19814999999999999},{"$f":"IFERROR(AVERAGE(F53:G53),\"*\")","v":0.19989999999999999},{"$f":"IFERROR(AVERAGE(H53:I53),\"*\")","v":0.20485},{"$f":"IFERROR(AVERAGE(J53:K53),\"*\")","v":0.2107},{"$f":"IFERROR(AVERAGE(L53:M53),\"*\")","v":0.2157},{"$f":"IFERROR(AVERAGE(N53:O53),\"*\")","v":0.22670000000000001},{"$f":"IFERROR(AVERAGE(P53:Q53),\"*\")","v":0.23120000000000002},{"$f":"IFERROR(AVERAGE(R53:S53),\"*\")","v":0.23730000000000001},{"$f":"IFERROR(AVERAGE(T53:U53),\"*\")","v":0.2409},{"$f":"IFERROR(AVERAGE(V53:W53),\"*\")","v":"*"},null,{"$f":"A93","v":"European Union (28 countries)"},{"$f":"IFERROR(AVERAGE(B93:C93),\"*\")","v":0.1283},{"$f":"IFERROR(AVERAGE(D93:E93),\"*\")","v":0.13264999999999999},{"$f":"IFERROR(AVERAGE(F93:G93),\"*\")","v":0.13455},{"$f":"IFERROR(AVERAGE(H93:I93),\"*\")","v":0.13669999999999999},{"$f":"IFERROR(AVERAGE(J93:K93),\"*\")","v":0.14379999999999998},{"$f":"IFERROR(AVERAGE(L93:M93),\"*\")","v":0.15129999999999999},{"$f":"IFERROR(AVERAGE(N93:O93),\"*\")","v":0.15390000000000001},{"$f":"IFERROR(AVERAGE(P93:Q93),\"*\")","v":0.15610000000000002},{"$f":"IFERROR(AVERAGE(R93:S93),\"*\")","v":0.1593},{"$f":"IFERROR(AVERAGE(T93:U93),\"*\")","v":0.15559999999999999},{"$f":"IFERROR(AVERAGE(V93:W93),\"*\")","v":"*"},null,{"$f":"A133","v":"European Union (28 countries)"},{"$f":"IFERROR(AVERAGE(B133:C133),\"*\")","v":0.1164},{"$f":"IFERROR(AVERAGE(D133:E133),\"*\")","v":0.12090000000000001},{"$f":"IFERROR(AVERAGE(F133:G133),\"*\")","v":0.12154999999999999},{"$f":"IFERROR(AVERAGE(H133:I133),\"*\")","v":0.1231},{"$f":"IFERROR(AVERAGE(J133:K133),\"*\")","v":0.12969999999999998},{"$f":"IFERROR(AVERAGE(L133:M133),\"*\")","v":0.13574999999999998},{"$f":"IFERROR(AVERAGE(N133:O133),\"*\")","v":0.13769999999999999},{"$f":"IFERROR(AVERAGE(P133:Q133),\"*\")","v":0.13850000000000001},{"$f":"IFERROR(AVERAGE(R133:S133),\"*\")","v":0.14105000000000001},{"$f":"IFERROR(AVERAGE(T133:U133),\"*\")","v":0.1353},{"$f":"IFERROR(AVERAGE(V133:W133),\"*\")","v":"*"},null,{"$f":"A173","v":"European Union (28 countries)"},{"$f":"IFERROR(AVERAGE(B173:C173),\"*\")","v":0.1075},{"$f":"IFERROR(AVERAGE(D173:E173),\"*\")","v":0.11175},{"$f":"IFERROR(AVERAGE(F173:G173),\"*\")","v":0.1147},{"$f":"IFERROR(AVERAGE(H173:I173),\"*\")","v":0.1154},{"$f":"IFERROR(AVERAGE(J173:K173),\"*\")","v":0.12140000000000001},{"$f":"IFERROR(AVERAGE(L173:M173),\"*\")","v":0.12595000000000001},{"$f":"IFERROR(AVERAGE(N173:O173),\"*\")","v":0.12825},{"$f":"IFERROR(AVERAGE(P173:Q173),\"*\")","v":0.12835000000000002},{"$f":"IFERROR(AVERAGE(R173:S173),\"*\")","v":0.13100000000000001},{"$f":"IFERROR(AVERAGE(T173:U173),\"*\")","v":0.1237},{"$f":"IFERROR(AVERAGE( V173:W173),\"*\")","v":"*"},null,{"$f":"A213","v":"European Union (28 countries)"},{"$f":"IFERROR(AVERAGE(B213:C213),\"*\")","v":9.9900000000000003E-2},{"$f":"IFERROR(AVERAGE(D213:E213),\"*\")","v":0.1077},{"$f":"IFERROR(AVERAGE(F213:G213),\"*\")","v":0.1134},{"$f":"IFERROR(AVERAGE(H213:I213),\"*\")","v":0.11249999999999999},{"$f":"IFERROR(AVERAGE(J213:K213),\"*\")","v":0.11665},{"$f":"IFERROR(AVERAGE(L213:M213),\"*\")","v":0.1205},{"$f":"IFERROR(AVERAGE(N213:O213),\"*\")","v":0.12035},{"$f":"IFERROR(AVERAGE(P213:Q213),\"*\")","v":0.1215},{"$f":"IFERROR(AVERAGE(R213:S213),\"*\")","v":0.12520000000000001},{"$f":"IFERROR(AVERAGE(T213:U213),\"*\")","v":0.1168},{"$f":"IFERROR(AVERAGE(V213:W213),\"*\")","v":"*"}]
["Belgium",0.18729999999999999,0.24809999999999999,0.2079,0.22084999999999999,0.22944999999999999,0.23199999999999998,0.22059999999999999,0.22144999999999998,0.23730000000000001,0.25190000000000001,"*",null,{"$f":"A94","v":"Belgium"},{"$f":"IFERROR(AVERAGE(B94:C94),\"*\")","v":0.1424},{"$f":"IFERROR(AVERAGE(D94:E94),\"*\")","v":0.17710000000000001},{"$f":"IFERROR(AVERAGE(F94:G94),\"*\")","v":0.16025},{"$f":"IFERROR(AVERAGE(H94:I94),\"*\")","v":0.16470000000000001},{"$f":"IFERROR(AVERAGE(J94:K94),\"*\")","v":0.17849999999999999},{"$f":"IFERROR(AVERAGE(L94:M94),\"*\")","v":0.18095},{"$f":"IFERROR(AVERAGE(N94:O94),\"*\")","v":0.17754999999999999},{"$f":"IFERROR(AVERAGE(P94:Q94),\"*\")","v":0.18130000000000002},{"$f":"IFERROR(AVERAGE(R94:S94),\"*\")","v":0.19645000000000001},{"$f":"IFERROR(AVERAGE(T94:U94),\"*\")","v":0.17730000000000001},{"$f":"IFERROR(AVERAGE(V94:W94),\"*\")","v":"*"},null,{"$f":"A134","v":"Belgium"},{"$f":"IFERROR(AVERAGE(B134:C134),\"*\")","v":0.12859999999999999},{"$f":"IFERROR(AVERAGE(D134:E134),\"*\")","v":0.15594999999999998},{"$f":"IFERROR(AVERAGE(F134:G134),\"*\")","v":0.14105000000000001},{"$f":"IFERROR(AVERAGE(H134:I134),\"*\")","v":0.14545},{"$f":"IFERROR(AVERAGE(J134:K134),\"*\")","v":0.15834999999999999},{"$f":"IFERROR(AVERAGE(L134:M134),\"*\")","v":0.16370000000000001},{"$f":"IFERROR(AVERAGE(N134:O134),\"*\")","v":0.16120000000000001},{"$f":"IFERROR(AVERAGE(P134:Q134),\"*\")","v":0.16755},{"$f":"IFERROR(AVERAGE(R134:S134),\"*\")","v":0.18295},{"$f":"IFERROR(AVERAGE(T134:U134),\"*\")","v":0.15670000000000001},{"$f":"IFERROR(AVERAGE(V134:W134),\"*\")","v":"*"},null,{"$f":"A174","v":"Belgium"},{"$f":"IFERROR(AVERAGE(B174:C174),\"*\")","v":0.1129},{"$f":"IFERROR(AVERAGE(D174:E174),\"*\")","v":0.13890000000000002},{"$f":"IFERROR(AVERAGE(F174:G174),\"*\")","v":0.12325},{"$f":"IFERROR(AVERAGE(H174:I174),\"*\")","v":0.12740000000000001},{"$f":"IFERROR(AVERAGE(J174:K174),\"*\")","v":0.13929999999999998},{"$f":"IFERROR(AVERAGE(L174:M174),\"*\")","v":0.14424999999999999},{"$f":"IFERROR(AVERAGE(N174:O174),\"*\")","v":0.14394999999999999},{"$f":"IFERROR(AVERAGE(P174:Q174),\"*\")","v":0.14834999999999998},{"$f":"IFERROR(AVERAGE(R174:S174),\"*\")","v":0.16294999999999998},{"$f":"IFERROR(AVERAGE(T174:U174),\"*\")","v":0.14430000000000001},{"$f":"IFERROR(AVERAGE( V174:W174),\"*\")","v":"*"},null,{"$f":"A214","v":"Belgium"},{"$f":"IFERROR(AVERAGE(B214:C214),\"*\")","v":9.6600000000000005E-2},{"$f":"IFERROR(AVERAGE(D214:E214),\"*\")","v":0.12325},{"$f":"IFERROR(AVERAGE(F214:G214),\"*\")","v":0.10185},{"$f":"IFERROR(AVERAGE(H214:I214),\"*\")","v":0.105},{"$f":"IFERROR(AVERAGE(J214:K214),\"*\")","v":0.1166},{"$f":"IFERROR(AVERAGE(L214:M214),\"*\")","v":0.12165000000000001},{"$f":"IFERROR(AVERAGE(N214:O214),\"*\")","v":0.12304999999999999},{"$f":"IFERROR(AVERAGE(P214:Q214),\"*\")","v":0.12855},{"$f":"IFERROR(AVERAGE(R214:S214),\"*\")","v":0.13464999999999999},{"$f":"IFERROR(AVERAGE(T214:U214),\"*\")","v":0.10299999999999999},{"$f":"IFERROR(AVERAGE(V214:W214),\"*\")","v":"*"}]
["Bulgaria",6.1899999999999997E-2,6.5200000000000008E-2,6.9550000000000001E-2,6.93E-2,7.0449999999999999E-2,7.5600000000000001E-2,7.6500000000000012E-2,7.3550000000000004E-2,8.0999999999999989E-2,8.1500000000000003E-2,"*",null,"Bulgaria",6.0299999999999999E-2,6.4149999999999999E-2,6.8500000000000005E-2,6.8599999999999994E-2,7.0300000000000001E-2,7.5050000000000006E-2,7.5249999999999997E-2,7.2450000000000001E-2,7.980000000000001E-2,8.0199999999999994E-2,"*",null,"Bulgaria",6.0299999999999999E-2,6.3899999999999998E-2,6.8500000000000005E-2,6.8349999999999994E-2,7.0750000000000007E-2,7.51E-2,7.5300000000000006E-2,7.1750000000000008E-2,7.9149999999999998E-2,7.9699999999999993E-2,"*",null,"Bulgaria",5.9299999999999999E-2,6.3399999999999998E-2,6.8250000000000005E-2,6.8450000000000011E-2,7.039999999999999E-2,7.4649999999999994E-2,7.5800000000000006E-2,7.1400000000000005E-2,7.9050000000000009E-2,7.8899999999999998E-2,"*",null,"Bulgaria",5.9799999999999999E-2,6.7000000000000004E-2,6.7750000000000005E-2,6.83E-2,7.0649999999999991E-2,7.4449999999999988E-2,7.6050000000000006E-2,6.9949999999999998E-2,7.8600000000000003E-2,7.9299999999999995E-2,"*"]
["Czech Republic",0.1794,0.2104,0.21605000000000002,0.2203,0.23669999999999999,0.24215,0.23794999999999999,0.21210000000000001,0.2137,0.21970000000000001,"*",null,"Czech Republic",0.13395000000000001,0.15909999999999999,0.16570000000000001,0.16810000000000003,0.17895,0.17930000000000001,0.17709999999999998,0.1507,0.15140000000000001,0.15459999999999999,"*",null,"Czech Republic",9.7650000000000001E-2,0.1178,0.12445000000000001,0.12575,0.13585,0.13755000000000001,0.1363,0.1133,0.11435000000000001,0.11609999999999999,"*",null,"Czech Republic",6.88E-2,8.6550000000000002E-2,9.2299999999999993E-2,9.215000000000001E-2,0.1009,0.1042,0.10435,8.9700000000000002E-2,9.0149999999999994E-2,9.2499999999999999E-2,"*",null,"Czech Republic",6.0850000000000001E-2,7.8549999999999995E-2,8.4400000000000003E-2,8.2650000000000001E-2,9.0700000000000003E-2,9.5000000000000001E-2,9.5500000000000002E-2,7.6249999999999998E-2,7.6999999999999999E-2,8.43E-2,"*"]
["Denmark",0.12470000000000001,0.1421,0.1273,0.13100000000000001,0.14324999999999999,0.1343,0.12759999999999999,0.12485000000000002,0.1187,0.15459999999999999,"*",null,"Denmark",0.12470000000000001,0.1421,0.1273,0.13100000000000001,0.14324999999999999,0.1343,0.12759999999999999,0.12485000000000002,0.1187,0.1143,"*",null,"Denmark",0.1027,0.1193,0.10389999999999999,0.10685,0.1187,0.10965,0.10419999999999999,0.1024,9.6599999999999991E-2,9.4200000000000006E-2,"*",null,"Denmark",8.6999999999999994E-2,0.1026,8.6800000000000002E-2,8.9100000000000013E-2,0.10059999999999999,9.1550000000000006E-2,8.7099999999999997E-2,8.4850000000000009E-2,8.0149999999999999E-2,8.2100000000000006E-2,"*",null,"Denmark",8.6999999999999994E-2,0.1026,8.6800000000000002E-2,8.9100000000000013E-2,0.10059999999999999,9.1550000000000006E-2,8.7099999999999997E-2,8.4850000000000009E-2,8.0149999999999999E-2,7.8100000000000003E-2,"*"]
["Germany (until 1990 former territory of the FRG)",0.22620000000000001,0.23785000000000001,0.24554999999999999,0.24590000000000001,0.24709999999999999,0.25309999999999999,0.25990000000000002,0.25695000000000001,0.26100000000000001,0.26590000000000003,"*",null,"Germany (until 1990 former territory of the FRG)",0.14460000000000001,0.15175,0.15845000000000001,0.15815000000000001,0.1603,0.1643,0.17030000000000001,0.16470000000000001,0.16445000000000001,0.16200000000000001,"*",null,"Germany (until 1990 former territory of the FRG)",0.12530000000000002,0.13200000000000001,0.13800000000000001,0.13755000000000001,0.14005000000000001,0.14365,0.14910000000000001,0.14374999999999999,0.1429,0.13880000000000001,"*",null,"Germany (until 1990 former territory of the FRG)",0.11495,0.11915000000000001,0.12525,0.12614999999999998,0.13100000000000001,0.13200000000000001,0.13705000000000001,0.13155,0.13040000000000002,0.126,"*",null,"Germany (until 1990 former territory of the FRG)",0.11044999999999999,0.11560000000000001,0.12235,0.123,0.12605,0.12795000000000001,0.1331,0.12735000000000002,0.12569999999999998,0.1217,"*"]
["Estonia",6.7100000000000007E-2,6.7349999999999993E-2,7.2500000000000009E-2,7.2300000000000003E-2,7.5899999999999995E-2,8.1299999999999997E-2,0.1048,0.10115,9.8000000000000004E-2,9.5500000000000002E-2,"*",null,"Estonia",6.6500000000000004E-2,6.6649999999999987E-2,7.1800000000000003E-2,7.1649999999999991E-2,7.5000000000000011E-2,8.0199999999999994E-2,0.1027,9.9899999999999989E-2,9.8500000000000004E-2,9.6100000000000005E-2,"*",null,"Estonia",6.5199999999999994E-2,6.5450000000000008E-2,7.039999999999999E-2,7.0300000000000001E-2,7.3349999999999999E-2,7.825E-2,0.10005,9.7449999999999995E-2,9.5100000000000004E-2,9.35E-2,"*",null,"Estonia",6.2600000000000003E-2,6.2799999999999995E-2,6.7899999999999988E-2,6.7549999999999999E-2,7.0949999999999999E-2,7.5450000000000003E-2,9.6549999999999997E-2,9.265000000000001E-2,8.9400000000000007E-2,8.6800000000000002E-2,"*",null,"Estonia",5.4300000000000001E-2,5.4649999999999997E-2,5.9800000000000006E-2,6.0700000000000004E-2,6.4600000000000005E-2,6.8750000000000006E-2,8.4650000000000003E-2,8.3949999999999997E-2,8.2650000000000001E-2,7.85E-2,"*"]
["Ireland",0.40310000000000001,0.41085000000000005,0.37409999999999999,0.3629,0.35609999999999997,0.4607,0.49129999999999996,0.49009999999999998,0.42025000000000001,0.30159999999999998,"*",null,"Ireland",0.19750000000000001,0.1963,0.19740000000000002,0.18734999999999999,0.19664999999999999,0.22685,0.23815,0.24729999999999999,0.23799999999999999,0.22020000000000001,"*",null,"Ireland",0.16900000000000001,0.16750000000000001,0.17120000000000002,0.16089999999999999,0.16694999999999999,0.19019999999999998,0.19885,0.20465,0.19805,0.1883,"*",null,"Ireland",0.1527,0.15050000000000002,0.15529999999999999,0.14449999999999999,0.14679999999999999,0.16889999999999999,0.1764,0.18090000000000001,0.1741,0.16650000000000001,"*",null,"Ireland",0.12939999999999999,0.13055,0.13564999999999999,0.12425,0.12504999999999999,0.14750000000000002,0.15460000000000002,0.15775,0.15334999999999999,0.1474,"*"]
["Greece",0.1086,0.10414999999999999,9.8099999999999993E-2,0.1018,0.12864999999999999,0.13605,0.15460000000000002,0.16195000000000001,0.18385000000000001,0.1986,"*",null,"Greece",8.5099999999999995E-2,8.4150000000000003E-2,8.6300000000000002E-2,8.6849999999999997E-2,9.1749999999999998E-2,9.6299999999999997E-2,0.11165,0.11855,0.12740000000000001,0.12570000000000001,"*",null,"Greece",0.09,9.8099999999999993E-2,9.9849999999999994E-2,9.6700000000000008E-2,0.10139999999999999,0.10685,0.11815000000000001,0.121,0.12190000000000001,0.1196,"*",null,"Greece",0.11,0.11860000000000001,0.11749999999999999,0.10965,0.1057,0.10855000000000001,0.1179,0.11904999999999999,0.11874999999999999,0.11600000000000001,"*",null,"Greece",0.1283,0.14029999999999998,0.14195000000000002,0.13440000000000002,9.69E-2,9.8099999999999993E-2,0.10685,0.11335000000000001,0.11310000000000001,0.1101,"*"]
["Spain",0.2424,0.25385000000000002,0.25755,0.30500000000000005,0.29669999999999996,0.28425,0.30420000000000003,0.37045,0.40754999999999997,0.41,"*",null,"Spain",0.13320000000000001,0.13869999999999999,0.1515,0.16515000000000002,0.18190000000000001,0.19669999999999999,0.19624999999999998,0.21015,0.21884999999999999,0.21010000000000001,"*",null,"Spain",0.1152,0.12005,0.13374999999999998,0.14545,0.16405,0.17775000000000002,0.17695,0.17814999999999998,0.18395,0.17180000000000001,"*",null,"Spain",0.10580000000000001,0.11199999999999999,0.12345,0.13169999999999998,0.14945,0.15989999999999999,0.15834999999999999,0.15659999999999999,0.16034999999999999,0.15140000000000001,"*",null,"Spain",9.7600000000000006E-2,0.10645,0.1158,0.12090000000000001,0.13474999999999998,0.14379999999999998,0.14365,0.13569999999999999,0.15105000000000002,0.1389,"*"]
["France",0.18490000000000001,0.18440000000000001,0.18045,0.18354999999999999,0.19874999999999998,0.20274999999999999,0.22620000000000001,0.2097,0.21710000000000002,0.21579999999999999,"*",null,"France",0.10979999999999999,0.10785,0.10730000000000001,0.11269999999999999,0.11760000000000001,0.12079999999999999,0.12814999999999999,0.12520000000000001,0.12685000000000002,0.12520000000000001,"*",null,"France",9.2399999999999996E-2,9.1200000000000003E-2,9.0800000000000006E-2,9.6750000000000003E-2,0.10055,0.1028,0.10780000000000001,0.1079,0.1087,0.1087,"*",null,"France",8.0500000000000002E-2,7.8899999999999998E-2,8.1850000000000006E-2,8.5900000000000004E-2,8.9599999999999999E-2,9.1549999999999992E-2,9.5799999999999996E-2,9.5849999999999991E-2,9.7549999999999998E-2,9.8000000000000004E-2,"*",null,"France",7.3700000000000002E-2,7.5899999999999995E-2,7.8350000000000003E-2,8.2699999999999996E-2,8.6599999999999996E-2,8.8650000000000007E-2,8.455E-2,8.7150000000000005E-2,9.4400000000000012E-2,9.5200000000000007E-2,"*"]
["Croatia",0.1356,0.16544999999999999,0.16070000000000001,0.15139999999999998,0.15175,0.18140000000000001,0.18109999999999998,0.17054999999999998,0.16349999999999998,0.17660000000000001,"*",null,"Croatia",9.4049999999999995E-2,9.6949999999999995E-2,9.74E-2,9.1499999999999998E-2,9.5149999999999998E-2,0.11249999999999999,0.11699999999999999,0.10975,0.10915,0.1091,"*",null,"Croatia",7.7699999999999991E-2,8.795E-2,9.3350000000000002E-2,9.3200000000000005E-2,9.215000000000001E-2,0.10325000000000001,0.10755000000000001,0.10085,0.10055,0.1002,"*",null,"Croatia",7.4300000000000005E-2,8.2400000000000001E-2,8.9200000000000002E-2,8.9599999999999999E-2,8.7999999999999995E-2,9.7949999999999995E-2,0.10250000000000001,9.64E-2,9.6149999999999999E-2,9.5699999999999993E-2,"*",null,"Croatia",6.275E-2,7.8949999999999992E-2,8.5150000000000003E-2,8.6099999999999996E-2,8.455E-2,9.4049999999999995E-2,9.9150000000000002E-2,9.325E-2,9.2899999999999996E-2,9.2600000000000002E-2,"*"]
["Italy","*","*","*",0.21840000000000001,0.20394999999999999,0.19014999999999999,0.19969999999999999,0.20699999999999999,0.20384999999999998,0.219,"*",null,"Italy","*","*","*",0.12529999999999999,0.12684999999999999,0.14024999999999999,0.13895000000000002,0.14269999999999999,0.13850000000000001,0.14199999999999999,"*",null,"Italy","*","*","*",0.13869999999999999,0.14044999999999999,0.14849999999999999,0.14995,0.15035000000000001,0.14929999999999999,0.14419999999999999,"*",null,"Italy","*","*","*",0.1736,0.1729,0.17904999999999999,0.18335000000000001,0.18154999999999999,0.18340000000000001,0.15970000000000001,"*",null,"Italy","*","*","*",0.2082,0.19714999999999999,0.2044,0.20119999999999999,0.20855000000000001,0.20634999999999998,0.15770000000000001,"*"]
["Cyprus",0.14360000000000001,0.16820000000000002,0.12825,0.18440000000000001,0.21205000000000002,0.26595000000000002,0.23870000000000002,0.2132,0.17325000000000002,0.14180000000000001,"*",null,"Cyprus",0.1331,0.15739999999999998,0.12075,0.16339999999999999,0.18785000000000002,0.23710000000000001,0.21405000000000002,0.18804999999999999,0.15045,0.1181,"*",null,"Cyprus",0.13489999999999999,0.1641,0.13724999999999998,0.16435,0.1883,0.23760000000000001,0.21525,0.1888,0.15185000000000001,0.11940000000000001,"*",null,"Cyprus",0.13519999999999999,0.1671,0.13994999999999999,0.16134999999999999,0.18459999999999999,0.23430000000000001,0.21285000000000001,0.18645,0.14979999999999999,0.1148,"*",null,"Cyprus",0.1361,0.16815000000000002,0.14205000000000001,0.15310000000000001,0.17709999999999998,0.22494999999999998,0.20705000000000001,0.18074999999999999,0.14229999999999998,0.10199999999999999,"*"]
["Latvia",6.9500000000000006E-2,8.8450000000000001E-2,9.5799999999999996E-2,9.534999999999999E-2,9.5949999999999994E-2,8.8349999999999998E-2,7.4149999999999994E-2,6.9550000000000001E-2,0.10335,0.1066,"*",null,"Latvia",6.9500000000000006E-2,8.8249999999999995E-2,9.5799999999999996E-2,9.534999999999999E-2,9.7000000000000003E-2,9.5599999999999991E-2,8.1949999999999995E-2,7.6749999999999999E-2,0.1094,0.1079,"*",null,"Latvia",6.9500000000000006E-2,8.7849999999999998E-2,9.5799999999999996E-2,9.534999999999999E-2,0.10285,0.10489999999999999,9.085E-2,8.5699999999999998E-2,0.10894999999999999,0.1077,"*",null,"Latvia",6.8599999999999994E-2,8.6800000000000002E-2,9.5649999999999999E-2,9.534999999999999E-2,0.1074,0.1101,9.6000000000000002E-2,9.11E-2,0.10825,0.107,"*",null,"Latvia",6.6299999999999998E-2,8.5250000000000006E-2,9.534999999999999E-2,9.4950000000000007E-2,0.10885,0.11235000000000001,9.4950000000000007E-2,9.3700000000000006E-2,0.10635,0.104,"*"]
["Lithuania",8.1299999999999997E-2,7.8149999999999997E-2,8.3199999999999996E-2,0.10225000000000001,0.10905000000000001,0.10855000000000001,9.085E-2,9.1799999999999993E-2,8.9450000000000002E-2,8.8400000000000006E-2,"*",null,"Lithuania",7.6399999999999996E-2,7.5700000000000003E-2,8.0850000000000005E-2,0.10005,0.10439999999999999,0.10664999999999999,8.8849999999999998E-2,9.0499999999999997E-2,8.8599999999999998E-2,8.7599999999999997E-2,"*",null,"Lithuania",7.3700000000000002E-2,7.3050000000000004E-2,7.8350000000000003E-2,9.8000000000000004E-2,0.10065,0.10450000000000001,8.6900000000000005E-2,8.8800000000000004E-2,8.6850000000000011E-2,8.5900000000000004E-2,"*",null,"Lithuania",7.0099999999999996E-2,6.9099999999999995E-2,7.4349999999999999E-2,9.4400000000000012E-2,9.7500000000000003E-2,0.10200000000000001,8.4150000000000003E-2,8.5650000000000004E-2,8.3299999999999999E-2,8.2299999999999998E-2,"*",null,"Lithuania",6.6500000000000004E-2,6.4450000000000007E-2,6.8000000000000005E-2,8.9400000000000007E-2,9.1700000000000004E-2,9.6200000000000008E-2,7.7499999999999999E-2,7.9300000000000009E-2,7.7050000000000007E-2,7.5600000000000001E-2,"*"]
["Luxembourg",0.24365000000000001,0.21775,0.23899999999999999,0.21340000000000001,0.22049999999999997,0.21889999999999998,0.20634999999999998,0.20150000000000001,0.1915,0.19109999999999999,"*",null,"Luxembourg",0.18195,0.16299999999999998,0.1797,0.16139999999999999,0.16175,0.16515000000000002,0.1598,0.15770000000000001,0.1477,0.14729999999999999,"*",null,"Luxembourg",0.14755000000000001,0.14165,0.1636,0.14410000000000001,0.14435000000000001,0.14724999999999999,0.14379999999999998,0.1431,0.1331,0.13270000000000001,"*",null,"Luxembourg",0.13464999999999999,0.12959999999999999,0.14785000000000001,0.13305,0.13320000000000001,0.1366,0.13059999999999999,0.13009999999999999,0.12039999999999999,0.1201,"*",null,"Luxembourg",9.1350000000000001E-2,9.4950000000000007E-2,0.1192,0.11755,0.1176,0.1222,0.11915000000000001,0.11910000000000001,0.11035,0.1101,"*"]
["Hungary",0.1129,0.13219999999999998,0.1305,0.14900000000000002,0.1447,0.13264999999999999,0.1177,0.10614999999999999,0.10115,9.9400000000000002E-2,"*",null,"Hungary",0.1129,0.13170000000000001,0.13255,0.13600000000000001,0.13255,0.1265,0.109,9.6099999999999991E-2,9.2649999999999996E-2,9.0899999999999995E-2,"*",null,"Hungary",9.5699999999999993E-2,0.12790000000000001,0.12735000000000002,0.1298,0.12640000000000001,0.1207,0.10400000000000001,9.240000000000001E-2,8.9450000000000002E-2,8.77E-2,"*",null,"Hungary",9.8699999999999996E-2,0.12664999999999998,0.1176,0.12255000000000001,0.11905,0.11244999999999999,9.9949999999999997E-2,8.9499999999999996E-2,8.7350000000000011E-2,8.5500000000000007E-2,"*",null,"Hungary",7.6600000000000001E-2,0.13214999999999999,0.11905,0.12515000000000001,0.1229,0.12515000000000001,0.1037,9.4E-2,9.1150000000000009E-2,8.8800000000000004E-2,"*"]
["Malta","*",8.2699999999999996E-2,0.22649999999999998,0.39954999999999996,0.4093,0.41710000000000003,0.40639999999999998,0.36004999999999998,0.35439999999999999,0.33539999999999998,"*",null,"Malta",4.3799999999999999E-2,9.2499999999999999E-2,0.17230000000000001,0.18225000000000002,0.18259999999999998,0.18404999999999999,0.18309999999999998,0.1484,0.13719999999999999,0.13489999999999999,"*",null,"Malta",8.7400000000000005E-2,0.12040000000000001,0.15340000000000001,0.157,0.15789999999999998,0.15955,0.15970000000000001,0.12964999999999999,0.12029999999999999,0.1197,"*",null,"Malta",0.1221,0.14824999999999999,0.1598,0.17415,0.17469999999999999,0.17494999999999999,0.17544999999999999,0.15005000000000002,0.14119999999999999,0.1429,"*",null,"Malta",0.13350000000000001,0.16139999999999999,0.20269999999999999,0.374,0.35745000000000005,0.34460000000000002,0.34870000000000001,0.36599999999999999,0.3377,0.34499999999999997,"*"]
["Netherlands",0.24265,0.24659999999999999,0.34675,0.32284999999999997,0.33845000000000003,0.36614999999999998,0.38085000000000002,0.37524999999999997,0.36065000000000003,0.3569,"*",null,{"$f":"A112","v":"Netherlands"},{"$f":"IFERROR(AVERAGE(B112:C112),\"*\")","v":0.15035000000000001},{"$f":"IFERROR(AVERAGE(D112:E112),\"*\")","v":0.15360000000000001},{"$f":"IFERROR(AVERAGE(F112:G112),\"*\")","v":0.18905},{"$f":"IFERROR(AVERAGE(H112:I112),\"*\")","v":0.17055000000000001},{"$f":"IFERROR(AVERAGE(J112:K112),\"*\")","v":0.17585000000000001},{"$f":"IFERROR(AVERAGE(L112:M112),\"*\")","v":0.18585000000000002},{"$f":"IFERROR(AVERAGE(N112:O112),\"*\")","v":0.18934999999999999},{"$f":"IFERROR(AVERAGE(P112:Q112),\"*\")","v":0.18514999999999998},{"$f":"IFERROR(AVERAGE(R112:S112),\"*\")","v":0.17685000000000001},{"$f":"IFERROR(AVERAGE(T112:U112),\"*\")","v":0.17199999999999999},{"$f":"IFERROR(AVERAGE(V112:W112),\"*\")","v":"*"},null,"Netherlands",0.12939999999999999,0.13214999999999999,0.14505000000000001,0.12819999999999998,0.13040000000000002,0.13590000000000002,0.13590000000000002,0.13255,0.12614999999999998,0.1206,"*",null,"Netherlands",0.11890000000000001,0.1212,0.1149,9.8599999999999993E-2,9.8299999999999998E-2,0.10135,9.9349999999999994E-2,9.6549999999999997E-2,9.1600000000000001E-2,8.5599999999999996E-2,"*",null,"Netherlands",0.107,"*",0.14429999999999998,0.12745000000000001,0.13150000000000001,0.14030000000000001,0.13929999999999998,0.13475000000000001,0.12669999999999998,0.12189999999999999,"*"]
["Austria",0.18340000000000001,0.1812,0.18740000000000001,0.1759,0.20524999999999999,0.20624999999999999,0.21115,0.20700000000000002,0.20529999999999998,0.2104,"*",null,"Austria",0.1426,0.1421,0.14805000000000001,0.15195,0.15795000000000001,0.15689999999999998,0.15765000000000001,0.15154999999999999,0.14529999999999998,0.14630000000000001,"*",null,"Austria",0.1255,0.12695000000000001,0.13800000000000001,0.14115,0.14429999999999998,0.14224999999999999,0.13869999999999999,0.13074999999999998,0.125,0.1242,"*",null,"Austria",0.11749999999999999,0.11879999999999999,0.12685000000000002,0.1283,0.13140000000000002,0.12875,0.126,0.11895,0.11210000000000001,0.11070000000000001,"*",null,"Austria",0.1089,0.11035,0.11535000000000001,0.11175,0.11924999999999999,0.11524999999999999,0.1163,0.10335,9.6500000000000002E-2,9.4600000000000004E-2,"*"]
["Poland",0.115,0.13685,0.11995,0.13900000000000001,0.1444,0.1447,0.1457,0.14315,0.1426,0.12559999999999999,"*",null,"Poland",0.10879999999999999,0.1056,9.8500000000000004E-2,0.1148,0.11835,0.1205,0.11895,0.11584999999999999,0.11855,0.1099,"*",null,"Poland",0.1069,9.8500000000000004E-2,9.4650000000000012E-2,0.10655000000000001,0.10985,0.11505,0.11380000000000001,0.11020000000000001,0.1115,0.1037,"*",null,"Poland",7.9299999999999995E-2,9.0150000000000008E-2,8.7350000000000011E-2,0.10034999999999999,0.10389999999999999,0.11025,0.10865,0.1053,0.1069,9.9000000000000005E-2,"*",null,"Poland",9.9000000000000005E-2,8.7549999999999989E-2,8.6499999999999994E-2,9.9250000000000005E-2,0.10405,0.10639999999999999,0.10625,0.1056,0.10545,9.8400000000000001E-2,"*"]
["Portugal",0.15090000000000001,0.26965,0.28710000000000002,0.2185,0.19295000000000001,0.21200000000000002,0.17449999999999999,0.2205,0.18445,0.18709999999999999,"*",null,"Portugal",0.11799999999999999,0.12495000000000001,0.15129999999999999,0.12115000000000001,0.11615,0.12859999999999999,0.13255,0.13789999999999999,0.12315,0.13300000000000001,"*",null,"Portugal",0.1206,0.107,0.13235000000000002,0.10769999999999999,0.10415000000000001,0.11395,0.12265,0.12845000000000001,0.11515,0.1239,"*",null,"Portugal",0.1188,9.2700000000000005E-2,0.11895,9.6849999999999992E-2,9.3200000000000005E-2,0.10350000000000001,0.1143,0.1232,0.11065,0.11899999999999999,"*",null,"Portugal",0.1103,8.4650000000000003E-2,0.11069999999999999,9.0049999999999991E-2,8.9499999999999996E-2,0.10264999999999999,0.1157,0.1207,0.10894999999999999,0.1166,"*"]
["Romania",9.1200000000000003E-2,9.0499999999999997E-2,8.1049999999999997E-2,8.4749999999999992E-2,8.4249999999999992E-2,7.9549999999999996E-2,9.2249999999999999E-2,9.4549999999999995E-2,9.7599999999999992E-2,9.5000000000000001E-2,"*",null,"Romania",9.7799999999999998E-2,8.9950000000000002E-2,8.1549999999999997E-2,8.5249999999999992E-2,8.4900000000000003E-2,7.9699999999999993E-2,9.1350000000000001E-2,9.375E-2,9.5299999999999996E-2,9.35E-2,"*",null,"Romania",9.5399999999999999E-2,9.0249999999999997E-2,8.1449999999999995E-2,8.4749999999999992E-2,8.3549999999999999E-2,7.7149999999999996E-2,8.929999999999999E-2,9.0799999999999992E-2,9.325E-2,9.1600000000000001E-2,"*",null,"Romania",9.6100000000000005E-2,8.9549999999999991E-2,7.8449999999999992E-2,8.3350000000000007E-2,8.2799999999999999E-2,7.7100000000000002E-2,8.7650000000000006E-2,8.8700000000000001E-2,9.1950000000000004E-2,8.7800000000000003E-2,"*",null,"Romania",9.7199999999999995E-2,9.1049999999999992E-2,7.6200000000000004E-2,7.9949999999999993E-2,0.08,7.5899999999999995E-2,8.4850000000000009E-2,8.7099999999999997E-2,8.9550000000000005E-2,8.43E-2,"*"]
["Slovenia",0.16569999999999999,0.14934999999999998,0.19819999999999999,0.17504999999999998,0.16089999999999999,0.1653,0.15925,0.14945,0.11649999999999999,0.1171,"*",null,"Slovenia",9.9199999999999997E-2,0.10339999999999999,0.12140000000000001,0.12129999999999999,0.12475,0.13350000000000001,0.13274999999999998,0.13040000000000002,0.12719999999999998,0.12690000000000001,"*",null,"Slovenia",8.6099999999999996E-2,9.1499999999999998E-2,0.1053,0.10575000000000001,0.1114,0.11924999999999999,0.11765,0.11515,0.11244999999999999,0.11119999999999999,"*",null,"Slovenia",7.9799999999999996E-2,8.5949999999999999E-2,9.98E-2,9.9400000000000002E-2,0.10439999999999999,0.11,0.1086,0.10630000000000001,0.10305,0.1018,"*",null,"Slovenia",7.5600000000000001E-2,8.3099999999999993E-2,9.8500000000000004E-2,9.665E-2,9.8849999999999993E-2,0.10120000000000001,0.1,9.8799999999999999E-2,9.6750000000000003E-2,9.5299999999999996E-2,"*"]
["Slovakia",0.1875,0.20624999999999999,0.1968,0.19419999999999998,0.19624999999999998,0.21334999999999998,0.2198,0.19829999999999998,0.2036,0.17630000000000001,"*",null,"Slovakia",0.1358,0.14524999999999999,0.14479999999999998,0.14934999999999998,0.1555,0.1595,0.15625,0.13919999999999999,0.14224999999999999,0.12909999999999999,"*",null,"Slovakia",0.1152,0.12385,0.13024999999999998,0.13264999999999999,0.13835,0.14019999999999999,0.13750000000000001,0.12304999999999999,0.12275,0.1154,"*",null,"Slovakia",9.2200000000000004E-2,0.10485,0.1278,0.11835,0.12380000000000001,0.12434999999999999,0.12225,0.109,0.10655000000000001,0.1014,"*",null,"Slovakia",7.0999999999999994E-2,8.3549999999999999E-2,0.10639999999999999,0.10045,0.1075,0.10885,0.10785,9.8299999999999998E-2,9.3799999999999994E-2,9.01E-2,"*"]
["Finland",0.15959999999999999,0.17215,0.19175,0.19890000000000002,0.21265000000000001,0.2175,0.22205,0.22115000000000001,0.22160000000000002,0.2268,"*",null,"Finland",0.10730000000000001,0.1142,0.1255,0.13100000000000001,0.14165,0.14250000000000002,0.14455000000000001,0.14305000000000001,0.13969999999999999,0.1419,"*",null,"Finland",8.6800000000000002E-2,9.35E-2,9.7099999999999992E-2,0.1012,0.10944999999999999,0.10930000000000001,0.10945000000000001,0.106,0.10175000000000001,0.1017,"*",null,"Finland",7.3899999999999993E-2,8.0100000000000005E-2,8.5050000000000001E-2,8.7749999999999995E-2,9.4450000000000006E-2,9.4350000000000003E-2,9.4450000000000006E-2,9.0450000000000003E-2,8.5999999999999993E-2,8.4900000000000003E-2,"*",null,"Finland",5.9499999999999997E-2,6.59E-2,6.9550000000000001E-2,7.1849999999999997E-2,7.7850000000000003E-2,7.7850000000000003E-2,7.8049999999999994E-2,7.4399999999999994E-2,7.0449999999999999E-2,6.8099999999999994E-2,"*"]
["Sweden",0.19714999999999999,0.20715,0.1865,0.2424,0.251,0.25385000000000002,0.25729999999999997,0.25405,0.24435000000000001,0.2616,"*",null,"Sweden",0.10435,0.12625,0.11910000000000001,0.13635,0.15024999999999999,0.14755000000000001,0.14995,0.14334999999999998,0.13645000000000002,0.14149999999999999,"*",null,"Sweden",9.9049999999999999E-2,0.1111,0.10494999999999999,0.12375,0.1358,0.13285000000000002,0.13400000000000001,0.12290000000000001,0.11924999999999999,0.12180000000000001,"*",null,"Sweden",8.6599999999999996E-2,9.3350000000000002E-2,8.6650000000000005E-2,0.10385,0.1128,0.10785,0.10885,9.8899999999999988E-2,9.325E-2,9.2799999999999994E-2,"*",null,"Sweden",7.4300000000000005E-2,8.2350000000000007E-2,7.8600000000000003E-2,9.2299999999999993E-2,9.8650000000000002E-2,9.3299999999999994E-2,9.3399999999999997E-2,8.2250000000000004E-2,7.7399999999999997E-2,7.7200000000000005E-2,"*"]
["United Kingdom",0.161,0.15629999999999999,0.15784999999999999,0.1449,0.15545,0.18290000000000001,0.20305000000000001,0.2336,0.24919999999999998,0.23619999999999999,"*",null,"United Kingdom",0.1552,0.15185000000000001,0.14665,0.14545,0.15525,0.18054999999999999,0.18345,0.20750000000000002,0.22739999999999999,0.2114,"*",null,"United Kingdom",0.1411,0.1462,0.13700000000000001,0.13505,0.14369999999999999,0.16520000000000001,0.16849999999999998,0.18715000000000001,0.20515,0.18590000000000001,"*",null,"United Kingdom",0.12770000000000001,0.13119999999999998,0.1222,0.12125,0.12764999999999999,0.14779999999999999,0.15354999999999999,0.16880000000000001,0.18709999999999999,0.17119999999999999,"*",null,"United Kingdom",0.1072,0.12884999999999999,0.1188,0.111,0.11779999999999999,0.13619999999999999,0.14090000000000003,0.1555,0.17149999999999999,0.15490000000000001,"*"]
[]
[]
[]
["Baggrundsdata for level 1 priser - Eurostat nrg_pc_204"]
["Opdateret",{"$f":"B43","v":"2016-12-08T10:03:36.759"}]
["Electricity prices for domestic consumers - bi-annual data (from 2007 onwards) [nrg_pc_204]"]
[]
["Last update","2016-11-10T16:51:00"]
["Extracted on","2016-12-08T10:03:36.759"]
["Source of data","Eurostat"]
[]
["PRODUCT","Electrical energy"]
["CONSOM","Band DA : Consumption < 1 000 kWh"]
["UNIT","Kilowatt-hour"]
["TAX","Excluding taxes and levies"]
["CURRENCY","Euro"]
[]
["GEO/TIME","2007S1","2007S2","2008S1","2008S2","2009S1","2009S2","2010S1","2010S2","2011S1","2011S2","2012S1","2012S2","2013S1","2013S2","2014S1","2014S2","2015S1","2015S2","2016S1"]
["European Union (28 countries)",":",0.18890000000000001,0.19500000000000001,0.20130000000000001,0.19739999999999999,0.2024,0.2044,0.20530000000000001,0.2089,0.21249999999999999,0.21129999999999999,0.22009999999999999,0.22570000000000001,0.22770000000000001,0.23150000000000001,0.23089999999999999,0.23649999999999999,0.23810000000000001,0.2409]
["Belgium",":",0.18729999999999999,0.21529999999999999,0.28089999999999998,0.2024,0.21340000000000001,0.22409999999999999,0.21759999999999999,0.23039999999999999,0.22850000000000001,0.22500000000000001,0.23899999999999999,0.21859999999999999,0.22259999999999999,0.21859999999999999,0.2243,0.2296,0.245,0.25190000000000001]
["Bulgaria",":",6.1899999999999997E-2,6.1899999999999997E-2,6.8500000000000005E-2,7.0599999999999996E-2,6.8500000000000005E-2,6.8500000000000005E-2,7.0099999999999996E-2,6.9900000000000004E-2,7.0999999999999994E-2,7.1400000000000005E-2,7.9799999999999996E-2,7.9600000000000004E-2,7.3400000000000007E-2,7.0900000000000005E-2,7.6200000000000004E-2,8.0699999999999994E-2,8.1299999999999997E-2,8.1500000000000003E-2]
["Czech Republic",0.1769,0.18190000000000001,0.2084,0.21240000000000001,0.2104,0.22170000000000001,0.2165,0.22409999999999999,0.23899999999999999,0.2344,0.2419,0.2424,0.24049999999999999,0.2354,0.21279999999999999,0.2114,0.21199999999999999,0.21540000000000001,0.21970000000000001]
["Denmark",":",0.12470000000000001,0.13519999999999999,0.14899999999999999,0.13489999999999999,0.1197,0.1283,0.13370000000000001,0.14180000000000001,0.1447,0.13789999999999999,0.13070000000000001,0.13070000000000001,0.1245,0.12640000000000001,0.12330000000000001,0.1207,0.1167,0.15459999999999999]
["Germany (until 1990 former territory of the FRG)",0.22109999999999999,0.23130000000000001,0.2349,0.24079999999999999,0.24979999999999999,0.24129999999999999,0.24460000000000001,0.2472,0.24779999999999999,0.24640000000000001,0.25159999999999999,0.25459999999999999,0.25950000000000001,0.26029999999999998,0.25629999999999997,0.2576,0.2611,0.26090000000000002,0.26590000000000003]
["Estonia",":",6.7100000000000007E-2,6.59E-2,6.88E-2,7.3200000000000001E-2,7.1800000000000003E-2,7.1300000000000002E-2,7.3300000000000004E-2,7.3300000000000004E-2,7.85E-2,8.0799999999999997E-2,8.1799999999999998E-2,0.1055,0.1041,0.1,0.1023,9.8799999999999999E-2,9.7199999999999995E-2,9.5500000000000002E-2]
["Ireland",":",0.40310000000000001,0.39190000000000003,0.42980000000000002,0.38150000000000001,0.36670000000000003,0.35549999999999998,0.37030000000000002,0.31480000000000002,0.39739999999999998,0.44429999999999997,0.47710000000000002,0.48130000000000001,0.50129999999999997,0.48820000000000002,0.49199999999999999,0.49059999999999998,0.34989999999999999,0.30159999999999998]
["Greece",":",0.1086,0.1118,9.6500000000000002E-2,9.5899999999999999E-2,0.1003,0.10299999999999999,0.10059999999999999,0.13569999999999999,0.1216,0.14879999999999999,0.12330000000000001,0.1656,0.14360000000000001,0.17130000000000001,0.15260000000000001,0.2009,0.1668,0.1986]
["Spain",":",0.2424,0.2455,0.26219999999999999,0.254,0.2611,0.31740000000000002,0.29260000000000003,0.28899999999999998,0.3044,0.27550000000000002,0.29299999999999998,0.29199999999999998,0.31640000000000001,0.37419999999999998,0.36670000000000003,0.39879999999999999,0.4163,0.41]
["France",":",0.18490000000000001,0.18559999999999999,0.1832,0.17230000000000001,0.18859999999999999,0.1787,0.18840000000000001,0.1973,0.20019999999999999,0.19470000000000001,0.21079999999999999,0.2281,0.2243,0.2107,0.2087,0.21429999999999999,0.21990000000000001,0.21579999999999999]
["Croatia",0.12230000000000001,0.1489,0.15959999999999999,0.17130000000000001,0.17069999999999999,0.1507,0.15429999999999999,0.14849999999999999,0.14749999999999999,0.156,0.17860000000000001,0.1842,0.19020000000000001,0.17199999999999999,0.17829999999999999,0.1628,0.16789999999999999,0.15909999999999999,0.17660000000000001]
["Italy",":",":",":",":",":",":",":",0.21840000000000001,0.21099999999999999,0.19689999999999999,0.18870000000000001,0.19159999999999999,0.2001,0.1993,0.20849999999999999,0.20549999999999999,0.20749999999999999,0.20019999999999999,0.219]
["Cyprus",":",0.14360000000000001,0.1651,0.17130000000000001,0.1192,0.13730000000000001,0.18240000000000001,0.18640000000000001,0.19939999999999999,0.22470000000000001,0.2676,0.26429999999999998,0.25430000000000003,0.22309999999999999,0.21479999999999999,0.21160000000000001,0.18049999999999999,0.16600000000000001,0.14180000000000001]
["Latvia",":",6.9500000000000006E-2,8.1299999999999997E-2,9.5600000000000004E-2,9.5699999999999993E-2,9.5899999999999999E-2,9.5399999999999999E-2,9.5299999999999996E-2,9.5699999999999993E-2,9.6199999999999994E-2,9.6799999999999997E-2,7.9899999999999999E-2,7.9000000000000001E-2,6.93E-2,6.9400000000000003E-2,6.9699999999999998E-2,9.7299999999999998E-2,0.1094,0.1066]
["Lithuania",":",8.1299999999999997E-2,7.8100000000000003E-2,7.8200000000000006E-2,8.5000000000000006E-2,8.14E-2,0.1002,0.1043,0.1057,0.1124,0.1087,0.1084,9.0300000000000005E-2,9.1399999999999995E-2,9.2299999999999993E-2,9.1300000000000006E-2,8.9899999999999994E-2,8.8999999999999996E-2,8.8400000000000006E-2]
["Luxembourg",0.27060000000000001,0.2167,0.2167,0.21879999999999999,0.2369,0.24110000000000001,0.21260000000000001,0.2142,0.22189999999999999,0.21909999999999999,0.22189999999999999,0.21590000000000001,0.21299999999999999,0.19969999999999999,0.20150000000000001,0.20150000000000001,0.1915,0.1915,0.19109999999999999]
["Hungary",":",0.1129,0.1333,0.13109999999999999,0.1167,0.14430000000000001,0.15670000000000001,0.14130000000000001,0.15,0.1394,0.12939999999999999,0.13589999999999999,0.11990000000000001,0.11550000000000001,0.10780000000000001,0.1045,0.1008,0.10150000000000001,9.9400000000000002E-2]
["Malta",":",":",4.4400000000000002E-2,0.121,0.23649999999999999,0.2165,0.40329999999999999,0.39579999999999999,0.40739999999999998,0.41120000000000001,0.41760000000000003,0.41660000000000003,0.40620000000000001,0.40660000000000002,0.36969999999999997,0.35039999999999999,0.35599999999999998,0.3528,0.33539999999999998]
["Netherlands",0.2424,0.2429,0.24410000000000001,0.24909999999999999,0.3473,0.34620000000000001,0.3201,0.3256,0.33860000000000001,0.33829999999999999,0.35730000000000001,0.375,0.3735,0.38819999999999999,0.37290000000000001,0.37759999999999999,0.36030000000000001,0.36099999999999999,0.3569]
["Austria",":",0.18340000000000001,0.1812,0.1812,0.18740000000000001,0.18740000000000001,0.17460000000000001,0.1772,0.20549999999999999,0.20499999999999999,0.20749999999999999,0.20499999999999999,0.214,0.20830000000000001,0.20780000000000001,0.20619999999999999,0.2064,0.20419999999999999,0.2104]
["Poland",":",0.115,0.13700000000000001,0.13669999999999999,0.11409999999999999,0.1258,0.13669999999999999,0.14130000000000001,0.14849999999999999,0.14030000000000001,0.1414,0.14799999999999999,0.14799999999999999,0.1434,0.1452,0.1411,0.1444,0.14080000000000001,0.12559999999999999]
["Portugal",":",0.15090000000000001,0.26829999999999998,0.27100000000000002,0.28699999999999998,0.28720000000000001,0.2266,0.2104,0.19120000000000001,0.19470000000000001,0.22450000000000001,0.19950000000000001,0.16839999999999999,0.18060000000000001,0.2218,0.21920000000000001,0.1822,0.1867,0.18709999999999999]
["Romania",":",9.1200000000000003E-2,8.9499999999999996E-2,9.1499999999999998E-2,8.1799999999999998E-2,8.0299999999999996E-2,8.6300000000000002E-2,8.3199999999999996E-2,8.48E-2,8.3699999999999997E-2,8.2299999999999998E-2,7.6799999999999993E-2,9.1999999999999998E-2,9.2499999999999999E-2,9.4299999999999995E-2,9.4799999999999995E-2,9.7799999999999998E-2,9.74E-2,9.5000000000000001E-2]
["Slovenia",":",0.16569999999999999,0.1464,0.15229999999999999,0.1928,0.2036,0.17599999999999999,0.1741,0.1578,0.16400000000000001,0.16320000000000001,0.16739999999999999,0.1578,0.16070000000000001,0.16,0.1389,0.1172,0.1158,0.1171]
["Slovakia",":",0.1875,0.19789999999999999,0.21460000000000001,0.19739999999999999,0.19620000000000001,0.18870000000000001,0.19969999999999999,0.1903,0.20219999999999999,0.21060000000000001,0.21609999999999999,0.22470000000000001,0.21490000000000001,0.19589999999999999,0.20069999999999999,0.20069999999999999,0.20649999999999999,0.17630000000000001]
["Finland",":",0.15959999999999999,0.1673,0.17699999999999999,0.1903,0.19320000000000001,0.19650000000000001,0.20130000000000001,0.20979999999999999,0.2155,0.2147,0.2203,0.2208,0.2233,0.2203,0.222,0.2225,0.22070000000000001,0.2268]
["Sweden",0.18940000000000001,0.2049,0.20219999999999999,0.21210000000000001,0.17949999999999999,0.19350000000000001,0.2482,0.2366,0.26029999999999998,0.2417,0.251,0.25669999999999998,0.2661,0.2485,0.25340000000000001,0.25469999999999998,0.2429,0.24579999999999999,0.2616]
["United Kingdom",":",0.161,0.15229999999999999,0.1603,0.14990000000000001,0.1658,0.14000000000000001,0.14979999999999999,0.14510000000000001,0.1658,0.1734,0.19239999999999999,0.19350000000000001,0.21260000000000001,0.22889999999999999,0.23830000000000001,0.24429999999999999,0.25409999999999999,0.23619999999999999]
[]
["Special value:"]
[":","not available"]
[]
["PRODUCT","Electrical energy"]
["CONSOM","Band DB : 1 000 kWh < Consumption < 2 500 kWh"]
["UNIT","Kilowatt-hour"]
["TAX","Excluding taxes and levies"]
["CURRENCY","Euro"]
[]
["GEO/TIME","2007S1","2007S2","2008S1","2008S2","2009S1","2009S2","2010S1","2010S2","2011S1","2011S2","2012S1","2012S2","2013S1","2013S2","2014S1","2014S2","2015S1","2015S2","2016S1"]
["European Union (28 countries)",":",0.1283,0.1288,0.13650000000000001,0.13439999999999999,0.13469999999999999,0.13489999999999999,0.13850000000000001,0.14149999999999999,0.14610000000000001,0.1484,0.1542,0.15260000000000001,0.1552,0.1545,0.15770000000000001,0.15809999999999999,0.1605,0.15559999999999999]
["Belgium",":",0.1424,0.1663,0.18790000000000001,0.16289999999999999,0.15759999999999999,0.1653,0.1641,0.17649999999999999,0.18049999999999999,0.17560000000000001,0.18629999999999999,0.17419999999999999,0.18090000000000001,0.1812,0.18140000000000001,0.1938,0.1991,0.17730000000000001]
["Bulgaria",":",6.0299999999999999E-2,6.08E-2,6.7500000000000004E-2,6.9000000000000006E-2,6.8000000000000005E-2,6.8000000000000005E-2,6.9199999999999998E-2,6.9099999999999995E-2,7.1499999999999994E-2,7.0800000000000002E-2,7.9299999999999995E-2,7.7799999999999994E-2,7.2700000000000001E-2,6.9800000000000001E-2,7.51E-2,7.9500000000000001E-2,8.0100000000000005E-2,8.0199999999999994E-2]
["Czech Republic",0.1321,0.1358,0.15759999999999999,0.16059999999999999,0.16139999999999999,0.17,0.16520000000000001,0.17100000000000001,0.1807,0.1772,0.17910000000000001,0.17949999999999999,0.17899999999999999,0.17519999999999999,0.1512,0.1502,0.1502,0.15260000000000001,0.15459999999999999]
["Denmark",":",0.12470000000000001,0.13519999999999999,0.14899999999999999,0.13489999999999999,0.1197,0.1283,0.13370000000000001,0.14180000000000001,0.1447,0.13789999999999999,0.13070000000000001,0.13070000000000001,0.1245,0.12640000000000001,0.12330000000000001,0.1207,0.1167,0.1143]
["Germany (until 1990 former territory of the FRG)",0.14180000000000001,0.1474,0.1497,0.15379999999999999,0.16070000000000001,0.15620000000000001,0.15840000000000001,0.15790000000000001,0.16089999999999999,0.15970000000000001,0.16439999999999999,0.16420000000000001,0.17019999999999999,0.1704,0.16470000000000001,0.16470000000000001,0.16470000000000001,0.16420000000000001,0.16200000000000001]
["Estonia",":",6.6500000000000004E-2,6.5199999999999994E-2,6.8099999999999994E-2,7.2499999999999995E-2,7.1099999999999997E-2,7.0800000000000002E-2,7.2499999999999995E-2,7.2300000000000003E-2,7.7700000000000005E-2,7.9299999999999995E-2,8.1100000000000005E-2,0.1028,0.1026,9.9099999999999994E-2,0.1007,9.8100000000000007E-2,9.8900000000000002E-2,9.6100000000000005E-2]
["Ireland",":",0.19750000000000001,0.18390000000000001,0.2087,0.2054,0.18940000000000001,0.18559999999999999,0.18909999999999999,0.18920000000000001,0.2041,0.22070000000000001,0.23300000000000001,0.23169999999999999,0.24460000000000001,0.24099999999999999,0.25359999999999999,0.2389,0.23710000000000001,0.22020000000000001]
["Greece",":",8.5099999999999995E-2,8.2799999999999999E-2,8.5500000000000007E-2,8.8800000000000004E-2,8.3799999999999999E-2,8.77E-2,8.5999999999999993E-2,9.0499999999999997E-2,9.2999999999999999E-2,9.6199999999999994E-2,9.64E-2,0.109,0.1143,0.11550000000000001,0.1216,0.1273,0.1275,0.12570000000000001]
["Spain",":",0.13320000000000001,0.12989999999999999,0.14749999999999999,0.1459,0.15709999999999999,0.16220000000000001,0.1681,0.17680000000000001,0.187,0.1956,0.1978,0.1913,0.20119999999999999,0.20369999999999999,0.21659999999999999,0.2135,0.22420000000000001,0.21010000000000001]
["France",":",0.10979999999999999,0.10780000000000001,0.1079,0.1065,0.1081,0.1095,0.1159,0.1158,0.11940000000000001,0.1153,0.1263,0.12559999999999999,0.13070000000000001,0.1236,0.1268,0.1255,0.12820000000000001,0.12520000000000001]
["Croatia",0.10059999999999999,8.7499999999999994E-2,8.7999999999999995E-2,0.10589999999999999,0.10299999999999999,9.1800000000000007E-2,9.1899999999999996E-2,9.11E-2,9.0200000000000002E-2,0.10009999999999999,0.10589999999999999,0.1191,0.1188,0.1152,0.10979999999999999,0.10970000000000001,0.1099,0.1084,0.1091]
["Italy",":",":",":",":",":",":",":",0.12529999999999999,0.12509999999999999,0.12859999999999999,0.13639999999999999,0.14410000000000001,0.1381,0.13980000000000001,0.14330000000000001,0.1421,0.13800000000000001,0.13900000000000001,0.14199999999999999]
["Cyprus",":",0.1331,0.15090000000000001,0.16389999999999999,0.112,0.1295,0.15890000000000001,0.16789999999999999,0.17280000000000001,0.2029,0.23400000000000001,0.2402,0.2263,0.20180000000000001,0.1857,0.19040000000000001,0.15590000000000001,0.14499999999999999,0.1181]
["Latvia",":",6.9500000000000006E-2,8.09E-2,9.5600000000000004E-2,9.5699999999999993E-2,9.5899999999999999E-2,9.5399999999999999E-2,9.5299999999999996E-2,9.5600000000000004E-2,9.8400000000000001E-2,0.10829999999999999,8.2900000000000001E-2,9.0399999999999994E-2,7.3499999999999996E-2,8.0500000000000002E-2,7.2999999999999995E-2,0.1087,0.1101,0.1079]
["Lithuania",":",7.6399999999999996E-2,7.5700000000000003E-2,7.5700000000000003E-2,8.2500000000000004E-2,7.9200000000000007E-2,9.7699999999999995E-2,0.1024,0.10340000000000001,0.10539999999999999,0.1066,0.1067,8.7999999999999995E-2,8.9700000000000002E-2,9.0999999999999998E-2,0.09,8.9200000000000002E-2,8.7999999999999995E-2,8.7599999999999997E-2]
["Luxembourg",0.20130000000000001,0.16259999999999999,0.16259999999999999,0.16339999999999999,0.17799999999999999,0.18140000000000001,0.16059999999999999,0.16220000000000001,0.16250000000000001,0.161,0.16470000000000001,0.1656,0.16250000000000001,0.15709999999999999,0.15770000000000001,0.15770000000000001,0.1477,0.1477,0.14729999999999999]
["Hungary",":",0.1129,0.13270000000000001,0.13070000000000001,0.12690000000000001,0.13819999999999999,0.14030000000000001,0.13170000000000001,0.13730000000000001,0.1278,0.1244,0.12859999999999999,0.1118,0.1062,9.8400000000000001E-2,9.3799999999999994E-2,9.1899999999999996E-2,9.3399999999999997E-2,9.0899999999999995E-2]
["Malta",":",4.3799999999999999E-2,5.8999999999999997E-2,0.126,0.18160000000000001,0.16300000000000001,0.18140000000000001,0.18310000000000001,0.18099999999999999,0.1842,0.1832,0.18490000000000001,0.18060000000000001,0.18559999999999999,0.15920000000000001,0.1376,0.1356,0.13880000000000001,0.13489999999999999]
["Netherlands",0.15060000000000001,0.15010000000000001,0.15160000000000001,0.15559999999999999,0.19089999999999999,0.18720000000000001,0.16980000000000001,0.17130000000000001,0.17580000000000001,0.1759,0.1825,0.18920000000000001,0.18629999999999999,0.19239999999999999,0.1845,0.18579999999999999,0.1789,0.17480000000000001,0.17199999999999999]
["Austria",":",0.1426,0.14099999999999999,0.14319999999999999,0.14749999999999999,0.14860000000000001,0.15429999999999999,0.14960000000000001,0.15740000000000001,0.1585,0.15820000000000001,0.15559999999999999,0.1593,0.156,0.15279999999999999,0.15029999999999999,0.1464,0.14419999999999999,0.14630000000000001]
["Poland",":",0.10879999999999999,0.1016,0.1096,9.5000000000000001E-2,0.10199999999999999,0.11269999999999999,0.1169,0.124,0.11269999999999999,0.1178,0.1232,0.12,0.1179,0.11559999999999999,0.11609999999999999,0.11990000000000001,0.1172,0.1099]
["Portugal",":",0.11799999999999999,0.1242,0.12570000000000001,0.14510000000000001,0.1575,0.1231,0.1192,0.1139,0.11840000000000001,0.12559999999999999,0.13159999999999999,0.1308,0.1343,0.1366,0.13919999999999999,0.1229,0.1234,0.13300000000000001]
["Romania",":",9.7799999999999998E-2,8.9700000000000002E-2,9.0200000000000002E-2,8.1699999999999995E-2,8.14E-2,8.5999999999999993E-2,8.4500000000000006E-2,8.6199999999999999E-2,8.3599999999999994E-2,8.2199999999999995E-2,7.7200000000000005E-2,9.0999999999999998E-2,9.1700000000000004E-2,9.3299999999999994E-2,9.4200000000000006E-2,9.4799999999999995E-2,9.5799999999999996E-2,9.35E-2]
["Slovenia",":",9.9199999999999997E-2,0.1027,0.1041,0.1212,0.1216,0.1212,0.12139999999999999,0.1211,0.12839999999999999,0.1326,0.13439999999999999,0.13189999999999999,0.1336,0.1313,0.1295,0.1273,0.12709999999999999,0.12690000000000001]
["Slovakia",":",0.1358,0.14050000000000001,0.15,0.14649999999999999,0.1431,0.14399999999999999,0.1547,0.1545,0.1565,0.1593,0.15970000000000001,0.15670000000000001,0.15579999999999999,0.1384,0.14000000000000001,0.14199999999999999,0.14249999999999999,0.12909999999999999]
["Finland",":",0.10730000000000001,0.1118,0.1166,0.1249,0.12609999999999999,0.129,0.13300000000000001,0.13980000000000001,0.14349999999999999,0.14169999999999999,0.14330000000000001,0.1449,0.14419999999999999,0.14349999999999999,0.1426,0.1404,0.13900000000000001,0.1419]
["Sweden",9.7600000000000006E-2,0.1111,0.1226,0.12989999999999999,0.1188,0.11940000000000001,0.1318,0.1409,0.15210000000000001,0.1484,0.1462,0.1489,0.1532,0.1467,0.14369999999999999,0.14299999999999999,0.1356,0.13730000000000001,0.14149999999999999]
["United Kingdom",":",0.1552,0.14580000000000001,0.15790000000000001,0.14660000000000001,0.1467,0.1414,0.14949999999999999,0.14580000000000001,0.16470000000000001,0.17380000000000001,0.18729999999999999,0.1804,0.1865,0.2026,0.21240000000000001,0.224,0.23080000000000001,0.2114]
[]
["Special value:"]
[":","not available"]
[]
["PRODUCT","Electrical energy"]
["CONSOM","Band DC : 2 500 kWh < Consumption < 5 000 kWh"]
["UNIT","Kilowatt-hour"]
["TAX","Excluding taxes and levies"]
["CURRENCY","Euro"]
[]
["GEO/TIME","2007S1","2007S2","2008S1","2008S2","2009S1","2009S2","2010S1","2010S2","2011S1","2011S2","2012S1","2012S2","2013S1","2013S2","2014S1","2014S2","2015S1","2015S2","2016S1"]
["European Union (28 countries)",":",0.1164,0.1174,0.1244,0.1222,0.12089999999999999,0.1217,0.1245,0.12809999999999999,0.1313,0.1333,0.13819999999999999,0.1368,0.1386,0.13730000000000001,0.13969999999999999,0.14019999999999999,0.1419,0.1353]
["Belgium",":",0.12859999999999999,0.15,0.16189999999999999,0.1431,0.13900000000000001,0.1449,0.14599999999999999,0.15720000000000001,0.1595,0.159,0.16839999999999999,0.1583,0.1641,0.1673,0.1678,0.1817,0.1842,0.15670000000000001]
["Bulgaria",":",6.0299999999999999E-2,5.9299999999999999E-2,6.8500000000000005E-2,6.8500000000000005E-2,6.8500000000000005E-2,6.7500000000000004E-2,6.9199999999999998E-2,6.88E-2,7.2700000000000001E-2,7.0599999999999996E-2,7.9600000000000004E-2,7.7100000000000002E-2,7.3499999999999996E-2,6.8900000000000003E-2,7.46E-2,7.85E-2,7.9799999999999996E-2,7.9699999999999993E-2]
["Czech Republic",9.6299999999999997E-2,9.9000000000000005E-2,0.1167,0.11890000000000001,0.1212,0.12770000000000001,0.1236,0.12790000000000001,0.13719999999999999,0.13450000000000001,0.13739999999999999,0.13769999999999999,0.13780000000000001,0.1348,0.1137,0.1129,0.1134,0.1153,0.11609999999999999]
["Denmark",":",0.1027,0.1124,0.12620000000000001,0.1115,9.6299999999999997E-2,0.1041,0.1096,0.1173,0.1201,0.113,0.10630000000000001,0.10639999999999999,0.10199999999999999,0.1038,0.10100000000000001,9.9199999999999997E-2,9.4E-2,9.4200000000000006E-2]
["Germany (until 1990 former territory of the FRG)",0.1227,0.12790000000000001,0.12989999999999999,0.1341,0.1401,0.13589999999999999,0.1381,0.13700000000000001,0.1406,0.13950000000000001,0.14410000000000001,0.14319999999999999,0.14929999999999999,0.1489,0.14349999999999999,0.14399999999999999,0.1431,0.14269999999999999,0.13880000000000001]
["Estonia",":",6.5199999999999994E-2,6.3899999999999998E-2,6.7000000000000004E-2,7.1199999999999999E-2,6.9599999999999995E-2,6.9500000000000006E-2,7.1099999999999997E-2,7.0400000000000004E-2,7.6300000000000007E-2,7.7100000000000002E-2,7.9399999999999998E-2,9.9400000000000002E-2,0.1007,9.6699999999999994E-2,9.8199999999999996E-2,9.5100000000000004E-2,9.5100000000000004E-2,9.35E-2]
["Ireland",":",0.16900000000000001,0.15590000000000001,0.17910000000000001,0.1789,0.16350000000000001,0.15890000000000001,0.16289999999999999,0.15840000000000001,0.17549999999999999,0.185,0.19539999999999999,0.1951,0.2026,0.20080000000000001,0.20849999999999999,0.19700000000000001,0.1991,0.1883]
["Greece",":",0.09,9.5699999999999993E-2,0.10050000000000001,0.1055,9.4200000000000006E-2,9.7500000000000003E-2,9.5899999999999999E-2,0.10249999999999999,0.1003,0.1065,0.1072,0.11700000000000001,0.1193,0.12039999999999999,0.1216,0.1211,0.1227,0.1196]
["Spain",":",0.1152,0.1124,0.12770000000000001,0.12939999999999999,0.1381,0.14169999999999999,0.1492,0.15970000000000001,0.16839999999999999,0.17660000000000001,0.1789,0.17519999999999999,0.1787,0.17019999999999999,0.18609999999999999,0.18149999999999999,0.18640000000000001,0.17180000000000001]
["France",":",9.2399999999999996E-2,9.1399999999999995E-2,9.0999999999999998E-2,9.0800000000000006E-2,9.0800000000000006E-2,9.4E-2,9.9500000000000005E-2,9.9400000000000002E-2,0.1017,9.8599999999999993E-2,0.107,0.1051,0.1105,0.10639999999999999,0.1094,0.1067,0.11070000000000001,0.1087]
["Croatia",7.6100000000000001E-2,7.9299999999999995E-2,7.9799999999999996E-2,9.6100000000000005E-2,9.35E-2,9.3200000000000005E-2,9.3399999999999997E-2,9.2999999999999999E-2,9.1800000000000007E-2,9.2499999999999999E-2,9.6500000000000002E-2,0.11,0.1091,0.106,0.1004,0.1013,0.1008,0.1003,0.1002]
["Italy",":",":",":",":",":",":",":",0.13869999999999999,0.13969999999999999,0.14119999999999999,0.14449999999999999,0.1525,0.14979999999999999,0.15010000000000001,0.15390000000000001,0.14680000000000001,0.1507,0.1479,0.14419999999999999]
["Cyprus",":",0.13489999999999999,0.15279999999999999,0.1754,0.1336,0.1409,0.15970000000000001,0.16900000000000001,0.1731,0.20349999999999999,0.23380000000000001,0.2414,0.22770000000000001,0.20280000000000001,0.18609999999999999,0.1915,0.15740000000000001,0.14630000000000001,0.11940000000000001]
["Latvia",":",6.9500000000000006E-2,8.0199999999999994E-2,9.5500000000000002E-2,9.5699999999999993E-2,9.5899999999999999E-2,9.5399999999999999E-2,9.5299999999999996E-2,9.5699999999999993E-2,0.11,0.1143,9.5500000000000002E-2,9.64E-2,8.5300000000000001E-2,8.5999999999999993E-2,8.5400000000000004E-2,0.10829999999999999,0.1096,0.1077]
["Lithuania",":",7.3700000000000002E-2,7.2900000000000006E-2,7.3200000000000001E-2,7.9899999999999999E-2,7.6799999999999993E-2,9.5500000000000002E-2,0.10050000000000001,0.1004,0.1009,0.1042,0.1048,8.5999999999999993E-2,8.7800000000000003E-2,8.9300000000000004E-2,8.8300000000000003E-2,8.7400000000000005E-2,8.6300000000000002E-2,8.5900000000000004E-2]
["Luxembourg",0.15090000000000001,0.14419999999999999,0.14419999999999999,0.1391,0.16189999999999999,0.1653,0.14330000000000001,0.1449,0.14510000000000001,0.14360000000000001,0.14680000000000001,0.1477,0.1447,0.1429,0.1431,0.1431,0.1331,0.1331,0.13270000000000001]
["Hungary",":",9.5699999999999993E-2,0.12770000000000001,0.12809999999999999,0.1227,0.13200000000000001,0.13489999999999999,0.12470000000000001,0.1336,0.1192,0.1181,0.12330000000000001,0.1061,0.1019,9.4600000000000004E-2,9.0200000000000002E-2,8.8700000000000001E-2,9.0200000000000002E-2,8.77E-2]
["Malta",":",8.7400000000000005E-2,9.4500000000000001E-2,0.14630000000000001,0.16270000000000001,0.14410000000000001,0.15690000000000001,0.15709999999999999,0.15720000000000001,0.15859999999999999,0.1593,0.1598,0.1585,0.16089999999999999,0.1404,0.11890000000000001,0.1197,0.12089999999999999,0.1197]
["Netherlands",0.12989999999999999,0.12889999999999999,0.13039999999999999,0.13389999999999999,0.14729999999999999,0.14280000000000001,0.128,0.12839999999999999,0.1303,0.1305,0.13400000000000001,0.13780000000000001,0.13400000000000001,0.13780000000000001,0.13250000000000001,0.1326,0.1285,0.12379999999999999,0.1206]
["Austria",":",0.1255,0.12709999999999999,0.1268,0.13800000000000001,0.13800000000000001,0.14269999999999999,0.1396,0.14419999999999999,0.1444,0.14330000000000001,0.14119999999999999,0.14130000000000001,0.1361,0.1321,0.12939999999999999,0.12609999999999999,0.1239,0.1242]
["Poland",":",0.1069,9.6500000000000002E-2,0.10050000000000001,8.8300000000000003E-2,0.10100000000000001,0.10489999999999999,0.1082,0.1145,0.1052,0.1106,0.1195,0.11550000000000001,0.11210000000000001,0.11070000000000001,0.10970000000000001,0.1125,0.1105,0.1037]
["Portugal",":",0.1206,0.1074,0.1066,0.12640000000000001,0.13830000000000001,0.10929999999999999,0.1061,0.10150000000000001,0.10680000000000001,0.1105,0.1174,0.121,0.12429999999999999,0.1268,0.13009999999999999,0.115,0.1153,0.1239]
["Romania",":",9.5399999999999999E-2,8.8499999999999995E-2,9.1999999999999998E-2,8.14E-2,8.1500000000000003E-2,8.5599999999999996E-2,8.3900000000000002E-2,8.48E-2,8.2299999999999998E-2,7.9500000000000001E-2,7.4800000000000005E-2,8.8999999999999996E-2,8.9599999999999999E-2,9.0999999999999998E-2,9.06E-2,9.2700000000000005E-2,9.3799999999999994E-2,9.1600000000000001E-2]
["Slovenia",":",8.6099999999999996E-2,9.11E-2,9.1899999999999996E-2,0.1056,0.105,0.1057,0.10580000000000001,0.1079,0.1149,0.1193,0.1192,0.1177,0.1176,0.1152,0.11509999999999999,0.1123,0.11260000000000001,0.11119999999999999]
["Slovakia",":",0.1152,0.11940000000000001,0.1283,0.12939999999999999,0.13109999999999999,0.12770000000000001,0.1376,0.13719999999999999,0.13950000000000001,0.14000000000000001,0.1404,0.1384,0.1366,0.12239999999999999,0.1237,0.12230000000000001,0.1232,0.1154]
["Finland",":",8.6800000000000002E-2,9.1499999999999998E-2,9.5500000000000002E-2,9.74E-2,9.6799999999999997E-2,9.98E-2,0.1026,0.1081,0.1108,0.1089,0.10970000000000001,0.11020000000000001,0.1087,0.107,0.105,0.1026,0.1009,0.1017]
["Sweden",9.6799999999999997E-2,0.1013,0.1085,0.1137,0.104,0.10589999999999999,0.1195,0.128,0.1376,0.13400000000000001,0.13120000000000001,0.13450000000000001,0.13589999999999999,0.1321,0.12640000000000001,0.11940000000000001,0.1183,0.1202,0.12180000000000001]
["United Kingdom",":",0.1411,0.1394,0.153,0.1399,0.1341,0.1321,0.13800000000000001,0.13650000000000001,0.15090000000000001,0.1603,0.1701,0.1658,0.17119999999999999,0.18260000000000001,0.19170000000000001,0.2024,0.2079,0.18590000000000001]
[]
["Special value:"]
[":","not available"]
[]
["PRODUCT","Electrical energy"]
["CONSOM","Band DD : 5 000 kWh < Consumption < 15 000 kWh"]
["UNIT","Kilowatt-hour"]
["TAX","Excluding taxes and levies"]
["CURRENCY","Euro"]
[]
["GEO/TIME","2007S1","2007S2","2008S1","2008S2","2009S1","2009S2","2010S1","2010S2","2011S1","2011S2","2012S1","2012S2","2013S1","2013S2","2014S1","2014S2","2015S1","2015S2","2016S1"]
["European Union (28 countries)",":",0.1075,0.109,0.1145,0.11459999999999999,0.1148,0.114,0.1168,0.11940000000000001,0.1234,0.1234,0.1285,0.1268,0.12970000000000001,0.12690000000000001,0.1298,0.1298,0.13220000000000001,0.1237]
["Belgium",":",0.1129,0.13300000000000001,0.14480000000000001,0.1255,0.121,0.12609999999999999,0.12870000000000001,0.1399,0.13869999999999999,0.14280000000000001,0.1457,0.14169999999999999,0.1462,0.14779999999999999,0.1489,0.1628,0.16309999999999999,0.14430000000000001]
["Bulgaria",":",5.9299999999999999E-2,5.8799999999999998E-2,6.8000000000000005E-2,6.8000000000000005E-2,6.8500000000000005E-2,6.7500000000000004E-2,6.9400000000000003E-2,6.8599999999999994E-2,7.22E-2,6.88E-2,8.0500000000000002E-2,7.7200000000000005E-2,7.4399999999999994E-2,6.9500000000000006E-2,7.3300000000000004E-2,7.8E-2,8.0100000000000005E-2,7.8899999999999998E-2]
["Czech Republic",6.7799999999999999E-2,6.9800000000000001E-2,8.5699999999999998E-2,8.7400000000000005E-2,8.9899999999999994E-2,9.4700000000000006E-2,9.06E-2,9.3700000000000006E-2,0.1019,9.9900000000000003E-2,0.1041,0.1043,0.1055,0.1032,0.09,8.9399999999999993E-2,8.9399999999999993E-2,9.0899999999999995E-2,9.2499999999999999E-2]
["Denmark",":",8.6999999999999994E-2,9.5699999999999993E-2,0.1095,9.4399999999999998E-2,7.9200000000000007E-2,8.6400000000000005E-2,9.1800000000000007E-2,9.9199999999999997E-2,0.10199999999999999,9.4700000000000006E-2,8.8400000000000006E-2,8.8599999999999998E-2,8.5599999999999996E-2,8.5900000000000004E-2,8.3799999999999999E-2,8.3000000000000004E-2,7.7299999999999994E-2,8.2100000000000006E-2]
["Germany (until 1990 former territory of the FRG)",0.11119999999999999,0.1187,0.1176,0.1207,0.12720000000000001,0.12330000000000001,0.12720000000000001,0.12509999999999999,0.12989999999999999,0.1321,0.13289999999999999,0.13109999999999999,0.13800000000000001,0.1361,0.13139999999999999,0.13170000000000001,0.1305,0.1303,0.126]
["Estonia",":",6.2600000000000003E-2,6.0699999999999997E-2,6.4899999999999999E-2,6.8199999999999997E-2,6.7599999999999993E-2,6.6100000000000006E-2,6.9000000000000006E-2,6.7400000000000002E-2,7.4499999999999997E-2,7.3800000000000004E-2,7.7100000000000002E-2,9.5799999999999996E-2,9.7299999999999998E-2,9.0200000000000002E-2,9.5100000000000004E-2,8.8900000000000007E-2,8.9899999999999994E-2,8.6800000000000002E-2]
["Ireland",":",0.1527,0.13850000000000001,0.16250000000000001,0.16189999999999999,0.1487,0.14199999999999999,0.14699999999999999,0.1346,0.159,0.16350000000000001,0.17430000000000001,0.17199999999999999,0.18079999999999999,0.17749999999999999,0.18429999999999999,0.1714,0.17680000000000001,0.16650000000000001]
["Greece",":",0.11,0.1139,0.12330000000000001,0.12529999999999999,0.10970000000000001,0.1105,0.10879999999999999,0.1082,0.1032,0.1065,0.1106,0.11650000000000001,0.1193,0.11799999999999999,0.1201,0.1176,0.11990000000000001,0.11600000000000001]
["Spain",":",0.10580000000000001,0.1021,0.12189999999999999,0.1203,0.12659999999999999,0.12709999999999999,0.1363,0.1426,0.15629999999999999,0.15559999999999999,0.16420000000000001,0.15310000000000001,0.1636,0.14729999999999999,0.16589999999999999,0.1565,0.16420000000000001,0.15140000000000001]
["France",":",8.0500000000000002E-2,7.8899999999999998E-2,7.8899999999999998E-2,7.8700000000000006E-2,8.5000000000000006E-2,8.3400000000000002E-2,8.8400000000000006E-2,8.8599999999999998E-2,9.06E-2,8.7999999999999995E-2,9.5100000000000004E-2,9.3200000000000005E-2,9.8400000000000001E-2,9.4299999999999995E-2,9.74E-2,9.5200000000000007E-2,9.9900000000000003E-2,9.8000000000000004E-2]
["Croatia",7.3400000000000007E-2,7.5200000000000003E-2,7.4300000000000005E-2,9.0499999999999997E-2,8.7999999999999995E-2,9.0399999999999994E-2,8.9499999999999996E-2,8.9700000000000002E-2,8.7999999999999995E-2,8.7999999999999995E-2,9.0899999999999995E-2,0.105,0.1038,0.1012,9.5600000000000004E-2,9.7199999999999995E-2,9.6199999999999994E-2,9.6100000000000005E-2,9.5699999999999993E-2]
["Italy",":",":",":",":",":",":",":",0.1736,0.17230000000000001,0.17349999999999999,0.17460000000000001,0.1835,0.1827,0.184,0.18529999999999999,0.17780000000000001,0.18590000000000001,0.18090000000000001,0.15970000000000001]
["Cyprus",":",0.13519999999999999,0.15329999999999999,0.18090000000000001,0.13789999999999999,0.14199999999999999,0.155,0.16769999999999999,0.16789999999999999,0.20130000000000001,0.22789999999999999,0.2407,0.22320000000000001,0.20250000000000001,0.18140000000000001,0.1915,0.15310000000000001,0.14649999999999999,0.1148]
["Latvia",":",6.8599999999999994E-2,7.8200000000000006E-2,9.5399999999999999E-2,9.5399999999999999E-2,9.5899999999999999E-2,9.5399999999999999E-2,9.5299999999999996E-2,9.6699999999999994E-2,0.1181,0.1171,0.1031,9.9299999999999999E-2,9.2700000000000005E-2,8.9200000000000002E-2,9.2999999999999999E-2,0.1076,0.1089,0.107]
["Lithuania",":",7.0099999999999996E-2,6.8500000000000005E-2,6.9699999999999998E-2,7.5399999999999995E-2,7.3300000000000004E-2,9.1200000000000003E-2,9.7600000000000006E-2,9.74E-2,9.7600000000000006E-2,0.10150000000000001,0.10249999999999999,8.3299999999999999E-2,8.5000000000000006E-2,8.5900000000000004E-2,8.5400000000000004E-2,8.3599999999999994E-2,8.3000000000000004E-2,8.2299999999999998E-2]
["Luxembourg",0.1384,0.13089999999999999,0.13089999999999999,0.1283,0.14760000000000001,0.14810000000000001,0.1323,0.1338,0.13420000000000001,0.13220000000000001,0.13639999999999999,0.1368,0.1308,0.13039999999999999,0.13009999999999999,0.13009999999999999,0.12039999999999999,0.12039999999999999,0.1201]
["Hungary",":",9.8699999999999996E-2,0.12709999999999999,0.12620000000000001,0.1113,0.1239,0.12640000000000001,0.1187,0.12640000000000001,0.11169999999999999,0.1095,0.1154,0.1013,9.8599999999999993E-2,9.1499999999999998E-2,8.7499999999999994E-2,8.6800000000000002E-2,8.7900000000000006E-2,8.5500000000000007E-2]
["Malta",":",0.1221,0.1246,0.1719,0.1686,0.151,0.17449999999999999,0.17380000000000001,0.17469999999999999,0.17469999999999999,0.17519999999999999,0.17469999999999999,0.17399999999999999,0.1769,0.161,0.1391,0.14149999999999999,0.1409,0.1429]
["Netherlands",0.1195,0.1183,0.1196,0.12280000000000001,0.1174,0.1124,9.8799999999999999E-2,9.8400000000000001E-2,9.8000000000000004E-2,9.8599999999999993E-2,0.10050000000000001,0.1022,9.8199999999999996E-2,0.10050000000000001,9.6799999999999997E-2,9.6299999999999997E-2,9.4299999999999995E-2,8.8900000000000007E-2,8.5599999999999996E-2]
["Austria",":",0.11749999999999999,0.11799999999999999,0.1196,0.1263,0.12740000000000001,0.12909999999999999,0.1275,0.13150000000000001,0.1313,0.13,0.1275,0.1275,0.1245,0.1203,0.1176,0.1132,0.111,0.11070000000000001]
["Poland",":",7.9299999999999995E-2,8.5199999999999998E-2,9.5100000000000004E-2,8.3400000000000002E-2,9.1300000000000006E-2,9.6299999999999997E-2,0.10440000000000001,0.10829999999999999,9.9500000000000005E-2,0.10979999999999999,0.11070000000000001,0.1094,0.1079,0.10440000000000001,0.1062,0.1074,0.10639999999999999,9.9000000000000005E-2]
["Portugal",":",0.1188,9.3299999999999994E-2,9.2100000000000001E-2,0.11459999999999999,0.12330000000000001,9.8699999999999996E-2,9.5000000000000001E-2,9.1200000000000003E-2,9.5200000000000007E-2,9.98E-2,0.1072,0.11219999999999999,0.1164,0.121,0.12540000000000001,0.1105,0.1108,0.11899999999999999]
["Romania",":",9.6100000000000005E-2,8.6999999999999994E-2,9.2100000000000001E-2,7.8299999999999995E-2,7.8600000000000003E-2,8.4000000000000005E-2,8.2699999999999996E-2,8.3599999999999994E-2,8.2000000000000003E-2,7.9299999999999995E-2,7.4899999999999994E-2,8.7599999999999997E-2,8.77E-2,8.7999999999999995E-2,8.9399999999999993E-2,9.1300000000000006E-2,9.2600000000000002E-2,8.7800000000000003E-2]
["Slovenia",":",7.9799999999999996E-2,8.4900000000000003E-2,8.6999999999999994E-2,0.1013,9.8299999999999998E-2,9.9400000000000002E-2,9.9400000000000002E-2,0.1024,0.10639999999999999,0.11,0.11,0.1087,0.1085,0.1062,0.10639999999999999,0.1028,0.1033,0.1018]
["Slovakia",":",9.2200000000000004E-2,0.1002,0.1095,0.12470000000000001,0.13089999999999999,0.1142,0.1225,0.1222,0.12540000000000001,0.1239,0.12479999999999999,0.1217,0.12280000000000001,0.1082,0.10979999999999999,0.1062,0.1069,0.1014]
["Finland",":",7.3899999999999993E-2,7.7899999999999997E-2,8.2299999999999998E-2,8.5199999999999998E-2,8.4900000000000003E-2,8.6900000000000005E-2,8.8599999999999998E-2,9.2999999999999999E-2,9.5899999999999999E-2,9.4500000000000001E-2,9.4200000000000006E-2,9.5399999999999999E-2,9.35E-2,9.1600000000000001E-2,8.9300000000000004E-2,8.6999999999999994E-2,8.5000000000000006E-2,8.4900000000000003E-2]
["Sweden",8.3299999999999999E-2,8.9899999999999994E-2,9.1300000000000006E-2,9.5399999999999999E-2,8.4699999999999998E-2,8.8599999999999998E-2,0.10009999999999999,0.1076,0.11409999999999999,0.1115,0.1053,0.1104,0.1089,0.10879999999999999,9.9199999999999997E-2,9.8599999999999993E-2,9.2399999999999996E-2,9.4100000000000003E-2,9.2799999999999994E-2]
["United Kingdom",":",0.12770000000000001,0.129,0.13339999999999999,0.12529999999999999,0.1191,0.1179,0.1246,0.1207,0.1346,0.1419,0.1537,0.14949999999999999,0.15759999999999999,0.16450000000000001,0.1731,0.18229999999999999,0.19189999999999999,0.17119999999999999]
[]
["Special value:"]
[":","not available"]
[]
["PRODUCT","Electrical energy"]
["CONSOM","Band DE : Consumption > 15 000 kWh"]
["UNIT","Kilowatt-hour"]
["TAX","Excluding taxes and levies"]
["CURRENCY","Euro"]
[]
["GEO/TIME","2007S1","2007S2","2008S1","2008S2","2009S1","2009S2","2010S1","2010S2","2011S1","2011S2","2012S1","2012S2","2013S1","2013S2","2014S1","2014S2","2015S1","2015S2","2016S1"]
["European Union (28 countries)",":",9.9900000000000003E-2,0.1047,0.11070000000000001,0.1134,0.1134,0.11119999999999999,0.1138,0.1144,0.11890000000000001,0.1181,0.1229,0.1197,0.121,0.11940000000000001,0.1236,0.1234,0.127,0.1168]
["Belgium",":",9.6600000000000005E-2,0.1181,0.12839999999999999,0.1055,9.8199999999999996E-2,0.10249999999999999,0.1075,0.1181,0.11509999999999999,0.1232,0.1201,0.1237,0.12239999999999999,0.12540000000000001,0.13170000000000001,0.1356,0.13370000000000001,0.10299999999999999]
["Bulgaria",":",5.9799999999999999E-2,5.8799999999999998E-2,7.5200000000000003E-2,6.8000000000000005E-2,6.7500000000000004E-2,6.7000000000000004E-2,6.9599999999999995E-2,6.9099999999999995E-2,7.22E-2,6.8199999999999997E-2,8.0699999999999994E-2,7.7700000000000005E-2,7.4399999999999994E-2,6.9099999999999995E-2,7.0800000000000002E-2,7.7499999999999999E-2,7.9699999999999993E-2,7.9299999999999995E-2]
["Czech Republic",0.06,6.1699999999999998E-2,7.7799999999999994E-2,7.9299999999999995E-2,8.2199999999999995E-2,8.6599999999999996E-2,8.1199999999999994E-2,8.4099999999999994E-2,9.1600000000000001E-2,8.9800000000000005E-2,9.4899999999999998E-2,9.5100000000000004E-2,9.6500000000000002E-2,9.4500000000000001E-2,7.6499999999999999E-2,7.5999999999999998E-2,7.6399999999999996E-2,7.7600000000000002E-2,8.43E-2]
["Denmark",":",8.6999999999999994E-2,9.5699999999999993E-2,0.1095,9.4399999999999998E-2,7.9200000000000007E-2,8.6400000000000005E-2,9.1800000000000007E-2,9.9199999999999997E-2,0.10199999999999999,9.4700000000000006E-2,8.8400000000000006E-2,8.8599999999999998E-2,8.5599999999999996E-2,8.5900000000000004E-2,8.3799999999999999E-2,8.3000000000000004E-2,7.7299999999999994E-2,7.8100000000000003E-2]
["Germany (until 1990 former territory of the FRG)",0.10630000000000001,0.11459999999999999,0.11310000000000001,0.1181,0.12479999999999999,0.11990000000000001,0.1246,0.12139999999999999,0.12670000000000001,0.12540000000000001,0.129,0.12690000000000001,0.13489999999999999,0.1313,0.12720000000000001,0.1275,0.12609999999999999,0.12529999999999999,0.1217]
["Estonia",":",5.4300000000000001E-2,5.1499999999999997E-2,5.7799999999999997E-2,5.9200000000000003E-2,6.0400000000000002E-2,5.8500000000000003E-2,6.2899999999999998E-2,6.0299999999999999E-2,6.8900000000000003E-2,6.6900000000000001E-2,7.0599999999999996E-2,8.48E-2,8.4500000000000006E-2,8.0199999999999994E-2,8.77E-2,8.14E-2,8.3900000000000002E-2,7.85E-2]
["Ireland",":",0.12939999999999999,0.12089999999999999,0.14019999999999999,0.14199999999999999,0.1293,0.12330000000000001,0.12520000000000001,0.11459999999999999,0.13550000000000001,0.14330000000000001,0.1517,0.1515,0.15770000000000001,0.1573,0.15820000000000001,0.15049999999999999,0.15620000000000001,0.1474]
["Greece",":",0.1283,0.1245,0.15609999999999999,0.15240000000000001,0.13150000000000001,0.13370000000000001,0.1351,9.69E-2,9.69E-2,0.09,0.1062,9.8000000000000004E-2,0.1157,0.1106,0.11609999999999999,0.1118,0.1144,0.1101]
["Spain",":",9.7600000000000006E-2,9.8100000000000007E-2,0.1148,0.1163,0.1153,0.1174,0.1244,0.12509999999999999,0.1444,0.14149999999999999,0.14610000000000001,0.1411,0.1462,0.13089999999999999,0.14050000000000001,0.1447,0.15740000000000001,0.1389]
["France",":",7.3700000000000002E-2,7.3400000000000007E-2,7.8399999999999997E-2,7.4499999999999997E-2,8.2199999999999995E-2,8.0100000000000005E-2,8.5300000000000001E-2,8.5999999999999993E-2,8.72E-2,8.5599999999999996E-2,9.1700000000000004E-2,8.2100000000000006E-2,8.6999999999999994E-2,8.1900000000000001E-2,9.2399999999999996E-2,9.1800000000000007E-2,9.7000000000000003E-2,9.5200000000000007E-2]
["Croatia",5.4399999999999997E-2,7.1099999999999997E-2,7.1499999999999994E-2,8.6400000000000005E-2,8.4000000000000005E-2,8.6300000000000002E-2,8.5999999999999993E-2,8.6199999999999999E-2,8.4599999999999995E-2,8.4500000000000006E-2,8.6900000000000005E-2,0.1012,0.1004,9.7900000000000001E-2,9.2799999999999994E-2,9.3700000000000006E-2,9.2899999999999996E-2,9.2899999999999996E-2,9.2600000000000002E-2]
["Italy",":",":",":",":",":",":",":",0.2082,0.19400000000000001,0.20030000000000001,0.19969999999999999,0.20910000000000001,0.2092,0.19320000000000001,0.20860000000000001,0.20849999999999999,0.20469999999999999,0.20799999999999999,0.15770000000000001]
["Cyprus",":",0.1361,0.15390000000000001,0.18240000000000001,0.13969999999999999,0.1444,0.13639999999999999,0.16980000000000001,0.15,0.20419999999999999,0.20749999999999999,0.2424,0.2099,0.20419999999999999,0.16839999999999999,0.19309999999999999,0.1368,0.14779999999999999,0.10199999999999999]
["Latvia",":",6.6299999999999998E-2,7.5300000000000006E-2,9.5200000000000007E-2,9.5299999999999996E-2,9.5399999999999999E-2,9.5000000000000001E-2,9.4899999999999998E-2,9.9099999999999994E-2,0.1186,0.1207,0.104,0.1028,8.7099999999999997E-2,9.3200000000000005E-2,9.4200000000000006E-2,0.1053,0.1074,0.104]
["Lithuania",":",6.6500000000000004E-2,6.3799999999999996E-2,6.5100000000000005E-2,6.7900000000000002E-2,6.8099999999999994E-2,8.5500000000000007E-2,9.3299999999999994E-2,9.1999999999999998E-2,9.1399999999999995E-2,9.5399999999999999E-2,9.7000000000000003E-2,7.6399999999999996E-2,7.8600000000000003E-2,7.9200000000000007E-2,7.9399999999999998E-2,7.6999999999999999E-2,7.7100000000000002E-2,7.5600000000000001E-2]
["Luxembourg",9.1800000000000007E-2,9.0899999999999995E-2,9.0899999999999995E-2,9.9000000000000005E-2,0.1192,0.1192,0.1168,0.1183,0.1186,0.1166,0.1227,0.1217,0.1193,0.11899999999999999,0.11890000000000001,0.1193,0.1104,0.1103,0.1101]
["Hungary",":",7.6600000000000001E-2,0.13109999999999999,0.13320000000000001,0.1099,0.12820000000000001,0.12790000000000001,0.12239999999999999,0.13109999999999999,0.1147,0.12570000000000001,0.1246,0.1056,0.1018,9.7299999999999998E-2,9.0700000000000003E-2,8.8800000000000004E-2,9.35E-2,8.8800000000000004E-2]
["Malta",":",0.13350000000000001,0.13500000000000001,0.18779999999999999,0.20269999999999999,0.20269999999999999,0.37930000000000003,0.36870000000000003,0.36480000000000001,0.35010000000000002,0.3513,0.33789999999999998,0.34029999999999999,0.35709999999999997,0.36220000000000002,0.36980000000000002,0.3463,0.3291,0.34499999999999997]
["Netherlands",0.107,":",":",":",0.14660000000000001,0.14199999999999999,0.1273,0.12759999999999999,0.13070000000000001,0.1323,0.13830000000000001,0.14230000000000001,0.1366,0.14199999999999999,0.13420000000000001,0.1353,0.13139999999999999,0.122,0.12189999999999999]
["Austria",":",0.1089,0.1095,0.11119999999999999,0.1143,0.1164,0.11600000000000001,0.1075,0.1191,0.11940000000000001,0.1166,0.1139,0.1183,0.1143,0.105,0.1017,9.7600000000000006E-2,9.5399999999999999E-2,9.4600000000000004E-2]
["Poland",":",9.9000000000000005E-2,8.5099999999999995E-2,0.09,8.1799999999999998E-2,9.1200000000000003E-2,9.69E-2,0.1016,0.1079,0.1002,0.10390000000000001,0.1089,0.1076,0.10489999999999999,0.1047,0.1065,0.1062,0.1047,9.8400000000000001E-2]
["Portugal",":",0.1103,8.6800000000000002E-2,8.2500000000000004E-2,0.10730000000000001,0.11409999999999999,9.1999999999999998E-2,8.8099999999999998E-2,8.9700000000000002E-2,8.9300000000000004E-2,9.8900000000000002E-2,0.10639999999999999,0.1153,0.11609999999999999,0.12039999999999999,0.121,0.1096,0.10829999999999999,0.1166]
["Romania",":",9.7199999999999995E-2,8.7800000000000003E-2,9.4299999999999995E-2,7.6100000000000001E-2,7.6300000000000007E-2,8.1100000000000005E-2,7.8799999999999995E-2,7.9200000000000007E-2,8.0799999999999997E-2,7.8600000000000003E-2,7.3200000000000001E-2,8.5199999999999998E-2,8.4500000000000006E-2,8.6099999999999996E-2,8.8099999999999998E-2,8.8800000000000004E-2,9.0300000000000005E-2,8.43E-2]
["Slovenia",":",7.5600000000000001E-2,8.0199999999999994E-2,8.5999999999999993E-2,0.10150000000000001,9.5500000000000002E-2,9.6699999999999994E-2,9.6600000000000005E-2,9.9000000000000005E-2,9.8699999999999996E-2,0.1009,0.10150000000000001,9.9400000000000002E-2,0.10059999999999999,9.8599999999999993E-2,9.9000000000000005E-2,9.6600000000000005E-2,9.69E-2,9.5299999999999996E-2]
["Slovakia",":",7.0999999999999994E-2,7.9100000000000004E-2,8.7999999999999995E-2,0.1022,0.1106,9.6799999999999997E-2,0.1041,0.107,0.108,0.1084,0.10929999999999999,0.1071,0.1086,9.7500000000000003E-2,9.9099999999999994E-2,9.4200000000000006E-2,9.3399999999999997E-2,9.01E-2]
["Finland",":",5.9499999999999997E-2,6.4100000000000004E-2,6.7699999999999996E-2,6.9900000000000004E-2,6.9199999999999998E-2,7.1099999999999997E-2,7.2599999999999998E-2,7.6700000000000004E-2,7.9000000000000001E-2,7.8E-2,7.7700000000000005E-2,7.8799999999999995E-2,7.7299999999999994E-2,7.5499999999999998E-2,7.3300000000000004E-2,7.1499999999999994E-2,6.9400000000000003E-2,6.8099999999999994E-2]
["Sweden",7.1400000000000005E-2,7.7200000000000005E-2,8.0500000000000002E-2,8.4199999999999997E-2,7.8299999999999995E-2,7.8899999999999998E-2,8.9899999999999994E-2,9.4700000000000006E-2,0.1007,9.6600000000000005E-2,9.1600000000000001E-2,9.5000000000000001E-2,9.3799999999999994E-2,9.2999999999999999E-2,8.3900000000000002E-2,8.0600000000000005E-2,7.7299999999999994E-2,7.7499999999999999E-2,7.7200000000000005E-2]
["United Kingdom",":",0.1072,0.13159999999999999,0.12609999999999999,0.1242,0.1134,0.107,0.115,0.10979999999999999,0.1258,0.12959999999999999,0.14280000000000001,0.13500000000000001,0.14680000000000001,0.1512,0.1598,0.16569999999999999,0.17730000000000001,0.15490000000000001]
[]
["Special value:"]
[":","not available"]

{"sheet":"Level 2","index":6,"n_rows":244,"n_cols":64,"rows_kept":244,"cut":false,"hidden":false,"merged":[[2,0,2,11],[2,13,2,24],[2,26,2,37],[2,39,2,50],[2,52,2,63]]}
["Elpriser industri. Level 2 elpriser for forskellige forbrugsintervaller"]
[]
["Forbrugsinterval < 1000 kWh",null,null,null,null,null,null,null,null,null,null,null,null,"Forbrugsinterval 1000 kWh < 2500 kWh",null,null,null,null,null,null,null,null,null,null,null,null,"Forbrugsinterval 2500 kWh <  5000 kWh",null,null,null,null,null,null,null,null,null,null,null,null,"Forbrugsinterval 5000 kWh < 15 000 kWh",null,null,null,null,null,null,null,null,null,null,null,null,"Forbrugsinterval > 15 000 kWh"]
[]
["Euro/kWh",{"$f":"LEFT(B52,4)+0","v":2007},{"$f":"+B5+1","v":2008},2009,2010,2011,2012,2013,{"$f":"+H5+1","v":2014},{"$f":"+I5+1","v":2015},{"$f":"+J5+1","v":2016},{"$f":"+K5+1","v":2017},null,"Euro/kWh",{"$f":"LEFT(B92,4)+0","v":2007},{"$f":"+O5+1","v":2008},2009,2010,2011,2012,2013,{"$f":"+U5+1","v":2014},{"$f":"+V5+1","v":2015},{"$f":"+W5+1","v":2016},{"$f":"+X5+1","v":2017},null,"Euro/kWh",{"$f":"LEFT(B132,4)+0","v":2007},{"$f":"+AB5+1","v":2008},2009,2010,2011,2012,2013,{"$f":"+AH5+1","v":2014},{"$f":"+AI5+1","v":2015},{"$f":"+AJ5+1","v":2016},{"$f":"+AK5+1","v":2017},null,"Euro/kWh",{"$f":"LEFT(B172,4)+0","v":2007},{"$f":"+AO5+1","v":2008},2009,2010,2011,2012,2013,2014,{"$f":"+AV5+1","v":2015},{"$f":"+AW5+1","v":2016},{"$f":"+AX5+1","v":2017},null,"Euro/kWh",{"$f":"LEFT(B212,4)+0","v":2007},{"$f":"+BB5+1","v":2008},2009,2010,2011,2012,2013,{"$f":"+BH5+1","v":2014},{"$f":"+BI5+1","v":2015},{"$f":"+BJ5+1","v":2016},{"$f":"+BK5+1","v":2017}]
[{"$f":"A53","v":"European Union (28 countries)"},{"$f":"IFERROR(AVERAGE(B53:C53),\"*\")","v":0.2092},{"$f":"IFERROR(AVERAGE(D53:E53),\"*\")","v":0.21920000000000001},{"$f":"IFERROR(AVERAGE(F53:G53),\"*\")","v":0.21920000000000001},{"$f":"IFERROR(AVERAGE(H53:I53),\"*\")","v":0.22970000000000002},{"$f":"IFERROR(AVERAGE(J53:K53),\"*\")","v":0.23744999999999999},{"$f":"IFERROR(AVERAGE(L53:M53),\"*\")","v":0.24415000000000001},{"$f":"IFERROR(AVERAGE(N53:O53),\"*\")","v":0.2611},{"$f":"IFERROR(AVERAGE(P53:Q53),\"*\")","v":0.27124999999999999},{"$f":"IFERROR(AVERAGE(R53:S53),\"*\")","v":0.28034999999999999},{"$f":"IFERROR(AVERAGE(T53:U53),\"*\")","v":0.2848},{"$f":"IFERROR(AVERAGE(V53:W53),\"*\")","v":"*"},null,{"$f":"A93","v":"European Union (28 countries)"},{"$f":"IFERROR(AVERAGE(B93:C93),\"*\")","v":0.14530000000000001},{"$f":"IFERROR(AVERAGE(D93:E93),\"*\")","v":0.14995},{"$f":"IFERROR(AVERAGE(F93:G93),\"*\")","v":0.15134999999999998},{"$f":"IFERROR(AVERAGE(H93:I93),\"*\")","v":0.15705},{"$f":"IFERROR(AVERAGE(J93:K93),\"*\")","v":0.16694999999999999},{"$f":"IFERROR(AVERAGE(L93:M93),\"*\")","v":0.17665},{"$f":"IFERROR(AVERAGE(N93:O93),\"*\")","v":0.18435000000000001},{"$f":"IFERROR(AVERAGE(P93:Q93),\"*\")","v":0.1895},{"$f":"IFERROR(AVERAGE(R93:S93),\"*\")","v":0.1951},{"$f":"IFERROR(AVERAGE(T93:U93),\"*\")","v":0.19359999999999999},{"$f":"IFERROR(AVERAGE(V93:W93),\"*\")","v":"*"},null,{"$f":"A133","v":"European Union (28 countries)"},{"$f":"IFERROR(AVERAGE(B133:C133),\"*\")","v":0.13550000000000001},{"$f":"IFERROR(AVERAGE(D133:E133),\"*\")","v":0.14055000000000001},{"$f":"IFERROR(AVERAGE(F133:G133),\"*\")","v":0.14165},{"$f":"IFERROR(AVERAGE(H133:I133),\"*\")","v":0.1464},{"$f":"IFERROR(AVERAGE(J133:K133),\"*\")","v":0.1565},{"$f":"IFERROR(AVERAGE(L133:M133),\"*\")","v":0.16485},{"$f":"IFERROR(AVERAGE(N133:O133),\"*\")","v":0.1719},{"$f":"IFERROR(AVERAGE(P133:Q133),\"*\")","v":0.17575000000000002},{"$f":"IFERROR(AVERAGE(R133:S133),\"*\")","v":0.18014999999999998},{"$f":"IFERROR(AVERAGE(T133:U133),\"*\")","v":0.17649999999999999},{"$f":"IFERROR(AVERAGE( V133:W133),\"*\")","v":"*"},null,{"$f":"A173","v":"European Union (28 countries)"},{"$f":"IFERROR(AVERAGE(B173:C173),\"*\")","v":0.1273},{"$f":"IFERROR(AVERAGE(D173:E173),\"*\")","v":0.13205},{"$f":"IFERROR(AVERAGE(F173:G173),\"*\")","v":0.13650000000000001},{"$f":"IFERROR(AVERAGE(H173:I173),\"*\")","v":0.1401},{"$f":"IFERROR(AVERAGE(J173:K173),\"*\")","v":0.1497},{"$f":"IFERROR(AVERAGE(L173:M173),\"*\")","v":0.15765000000000001},{"$f":"IFERROR(AVERAGE(N173:O173),\"*\")","v":0.1648},{"$f":"IFERROR(AVERAGE(P173:Q173),\"*\")","v":0.16825000000000001},{"$f":"IFERROR(AVERAGE(R173:S173),\"*\")","v":0.17225000000000001},{"$f":"IFERROR(AVERAGE(T173:U173),\"*\")","v":0.16719999999999999},{"$f":"IFERROR(AVERAGE(V173:W173),\"*\")","v":"*"},null,{"$f":"A213","v":"European Union (28 countries)"},{"$f":"IFERROR(AVERAGE(B213:C213),\"*\")","v":0.11849999999999999},{"$f":"IFERROR(AVERAGE(D213:E213),\"*\")","v":0.12595000000000001},{"$f":"IFERROR(AVERAGE(F213:G213),\"*\")","v":0.13319999999999999},{"$f":"IFERROR(AVERAGE(H213:I213),\"*\")","v":0.13539999999999999},{"$f":"IFERROR(AVERAGE(J213:K213),\"*\")","v":0.14360000000000001},{"$f":"IFERROR(AVERAGE(L213:M213),\"*\")","v":0.15155000000000002},{"$f":"IFERROR(AVERAGE(N213:O213),\"*\")","v":0.15590000000000001},{"$f":"IFERROR(AVERAGE(P213:Q213),\"*\")","v":0.16020000000000001},{"$f":"IFERROR(AVERAGE(R213:S213),\"*\")","v":0.16535},{"$f":"IFERROR(AVERAGE(T213:U213),\"*\")","v":0.15970000000000001},{"$f":"IFERROR(AVERAGE(V213:W213),\"*\")","v":"*"}]
[{"$f":"A54","v":"Belgium"},{"$f":"IFERROR(AVERAGE(B54:C54),\"*\")","v":0.20200000000000001},{"$f":"IFERROR(AVERAGE(D54:E54),\"*\")","v":0.2636},{"$f":"IFERROR(AVERAGE(F54:G54),\"*\")","v":0.22344999999999998},{"$f":"IFERROR(AVERAGE(H54:I54),\"*\")","v":0.23885000000000001},{"$f":"IFERROR(AVERAGE(J54:K54),\"*\")","v":0.24819999999999998},0.24885000000000002,0.23995,{"$f":"IFERROR(AVERAGE(P54:Q54),\"*\")","v":0.24004999999999999},{"$f":"IFERROR(AVERAGE(R54:S54),\"*\")","v":0.25755},0.33979999999999999,"*",null,{"$f":"A94","v":"Belgium"},0.16639999999999999,0.19169999999999998,0.1754,0.18179999999999999,0.19614999999999999,0.19685,{"$f":"IFERROR(AVERAGE(N94:O94),\"*\")","v":0.19489999999999999},0.19950000000000001,0.21595,0.23419999999999999,"*",null,{"$f":"A134","v":"Belgium"},{"$f":"IFERROR(AVERAGE(B134:C134),\"*\")","v":0.14230000000000001},0.17044999999999999,0.15620000000000001,0.16249999999999998,0.17624999999999999,0.18809999999999999,{"$f":"IFERROR(AVERAGE(N134:O134),\"*\")","v":0.18045},0.18714999999999998,0.20329999999999998,0.21079999999999999,"*",null,{"$f":"A174","v":"Belgium"},0.1308,0.15345,0.13829999999999998,0.14450000000000002,0.1573,0.16070000000000001,{"$f":"IFERROR(AVERAGE(N174:O174),\"*\")","v":0.16355},0.16805,0.183,0.193,"*",null,{"$f":"A214","v":"Belgium"},0.1154,0.13805000000000001,0.11665,0.12215000000000001,0.13435,0.14269999999999999,{"$f":"IFERROR(AVERAGE(N214:O214),\"*\")","v":0.1406},{"$f":"IFERROR(AVERAGE(P214:Q214),\"*\")","v":0.14410000000000001},{"$f":"IFERROR(AVERAGE(R214:S214),\"*\")","v":0.15145},{"$f":"IFERROR(AVERAGE(T214:U214),\"*\")","v":0.14799999999999999},{"$f":"IFERROR(AVERAGE(V214:W214),\"*\")","v":"*"}]
["Bulgaria",6.1899999999999997E-2,6.5200000000000008E-2,6.9550000000000001E-2,6.93E-2,7.0449999999999999E-2,7.5600000000000001E-2,7.6500000000000012E-2,7.3550000000000004E-2,8.0999999999999989E-2,8.1500000000000003E-2,"*",null,"Bulgaria",6.0299999999999999E-2,6.4149999999999999E-2,6.8500000000000005E-2,6.8599999999999994E-2,7.0300000000000001E-2,7.5050000000000006E-2,7.5249999999999997E-2,7.2450000000000001E-2,7.980000000000001E-2,8.0199999999999994E-2,"*",null,"Bulgaria",6.0299999999999999E-2,6.3899999999999998E-2,6.8500000000000005E-2,6.8349999999999994E-2,7.0750000000000007E-2,7.51E-2,{"$f":"IFERROR(AVERAGE(N135:O135),\"*\")","v":7.5300000000000006E-2},7.1750000000000008E-2,7.9149999999999998E-2,7.9699999999999993E-2,"*",null,"Bulgaria",5.9299999999999999E-2,6.3399999999999998E-2,6.8250000000000005E-2,6.8450000000000011E-2,7.039999999999999E-2,7.4649999999999994E-2,7.5800000000000006E-2,7.1400000000000005E-2,7.9050000000000009E-2,7.8899999999999998E-2,"*",null,"Bulgaria",5.9799999999999999E-2,6.7000000000000004E-2,6.7750000000000005E-2,6.83E-2,7.0649999999999991E-2,7.4449999999999988E-2,7.6050000000000006E-2,{"$f":"IFERROR(AVERAGE(P215:Q215),\"*\")","v":6.9949999999999998E-2},{"$f":"IFERROR(AVERAGE(R215:S215),\"*\")","v":7.8600000000000003E-2},{"$f":"IFERROR(AVERAGE(T215:U215),\"*\")","v":7.9299999999999995E-2},{"$f":"IFERROR(AVERAGE(V215:W215),\"*\")","v":"*"}]
["Czech Republic",0.1794,0.21155000000000002,0.21715000000000001,0.22144999999999998,0.23794999999999999,0.24335000000000001,0.23909999999999998,0.2132,0.21479999999999999,0.2208,"*",null,"Czech Republic",0.13395000000000001,0.16025,0.16685,0.16925000000000001,0.18015,0.18049999999999999,0.17825000000000002,0.15179999999999999,0.1525,0.15570000000000001,"*",null,"Czech Republic",9.7650000000000001E-2,0.11905,0.12559999999999999,0.12695000000000001,0.13705000000000001,0.13874999999999998,{"$f":"IFERROR(AVERAGE(N136:O136),\"*\")","v":0.13745000000000002},0.1144,0.11545,0.1172,"*",null,"Czech Republic",6.88E-2,8.7749999999999995E-2,9.3450000000000005E-2,9.3299999999999994E-2,0.1021,0.10539999999999999,0.10550000000000001,9.0799999999999992E-2,9.1249999999999998E-2,9.3600000000000003E-2,"*",null,"Czech Republic",6.0850000000000001E-2,7.9750000000000001E-2,8.5499999999999993E-2,8.3850000000000008E-2,9.1899999999999996E-2,9.6200000000000008E-2,9.665E-2,7.7350000000000002E-2,7.8100000000000003E-2,8.5400000000000004E-2,"*"]
["Denmark",0.214,0.23960000000000001,0.23355000000000001,0.23935000000000001,0.25995000000000001,0.26344999999999996,0.26079999999999998,0.26555000000000001,0.26655000000000001,0.3075,"*",null,"Denmark",0.214,0.23960000000000001,0.23355000000000001,0.23935000000000001,0.25995000000000001,0.26344999999999996,0.26079999999999998,0.26555000000000001,0.26655000000000001,0.26719999999999999,"*",null,"Denmark",0.19209999999999999,0.21679999999999999,0.21015,0.21510000000000001,0.2354,0.23875000000000002,{"$f":"IFERROR(AVERAGE(N137:O137),\"*\")","v":0.2374},0.24304999999999999,0.24435000000000001,0.247,"*",null,"Denmark",0.17,0.19350000000000001,0.18645,0.1862,0.2059,0.20905000000000001,0.17959999999999998,0.18385000000000001,0.17899999999999999,0.19450000000000001,"*",null,"Denmark",0.17,0.19350000000000001,0.18645,0.1862,0.2059,0.20905000000000001,0.17959999999999998,0.18385000000000001,0.17899999999999999,0.17699999999999999,"*"]
["Germany (until 1990 former territory of the FRG)",0.27610000000000001,0.28989999999999999,0.30044999999999999,0.31045,0.3221,0.33384999999999998,0.35814999999999997,0.36409999999999998,0.36655000000000004,0.38279999999999997,"*",null,"Germany (until 1990 former territory of the FRG)",0.19319999999999998,0.20255000000000001,0.21279999999999999,0.22339999999999999,0.23325000000000001,0.24249999999999999,0.2666,0.27134999999999998,0.2697,0.2742,"*",null,"Germany (until 1990 former territory of the FRG)",0.17330000000000001,0.18214999999999998,0.1923,0.20224999999999999,0.21255000000000002,0.22149999999999997,{"$f":"IFERROR(AVERAGE(N138:O138),\"*\")","v":0.24540000000000001},0.25019999999999998,0.24779999999999999,0.2495,"*",null,"Germany (until 1990 former territory of the FRG)",0.16275000000000001,0.16915000000000002,0.17915,0.19045000000000001,0.20255000000000001,0.2104,0.2336,0.23765,0.23519999999999999,0.23630000000000001,"*",null,"Germany (until 1990 former territory of the FRG)",0.15554999999999999,0.16284999999999999,0.17354999999999998,0.18440000000000001,0.19514999999999999,0.20235,0.22605,0.2271,0.22499999999999998,0.22520000000000001,"*"]
["Estonia",6.8400000000000002E-2,7.2449999999999987E-2,7.9500000000000001E-2,8.4350000000000008E-2,8.6550000000000002E-2,9.5600000000000004E-2,0.11799999999999999,0.11335000000000001,0.11125,0.1096,"*",null,"Estonia",6.7699999999999996E-2,7.1800000000000003E-2,7.8899999999999998E-2,8.3650000000000002E-2,8.5600000000000009E-2,9.4349999999999989E-2,0.1159,0.11255000000000001,0.11185,0.11020000000000001,"*",null,"Estonia",6.6500000000000004E-2,7.0599999999999996E-2,7.7450000000000005E-2,8.2350000000000007E-2,8.4000000000000005E-2,9.240000000000001E-2,{"$f":"IFERROR(AVERAGE(N139:O139),\"*\")","v":0.11325},0.10965,0.1085,0.1076,"*",null,"Estonia",6.3899999999999998E-2,6.7949999999999997E-2,7.4950000000000003E-2,7.9899999999999999E-2,8.1600000000000006E-2,8.9650000000000007E-2,0.10975,0.10485,0.1028,0.1009,"*",null,"Estonia",5.5599999999999997E-2,5.9749999999999998E-2,6.6799999999999998E-2,7.2800000000000004E-2,7.5200000000000003E-2,8.274999999999999E-2,9.7799999999999998E-2,9.6149999999999999E-2,9.6099999999999991E-2,9.2600000000000002E-2,"*"]
["Ireland",0.40310000000000001,0.41085000000000005,0.37409999999999999,0.37095,0.42094999999999999,0.50075000000000003,0.55025000000000002,0.57820000000000005,0.51895000000000002,0.35730000000000001,"*",null,"Ireland",0.19750000000000001,0.1963,0.19740000000000002,0.18945000000000001,0.21390000000000001,0.23804999999999998,0.25474999999999998,0.27344999999999997,0.27155000000000001,0.2477,"*",null,"Ireland",0.16900000000000001,0.16750000000000001,0.17120000000000002,0.16205000000000003,0.17560000000000001,0.1958,0.20710000000000001,0.21779999999999999,0.21495,0.2031,"*",null,"Ireland",0.1527,0.15050000000000002,0.15529999999999999,0.14515,0.15125,0.17175000000000001,0.18059999999999998,0.18770000000000001,0.18295,0.17419999999999999,"*",null,"Ireland",0.12939999999999999,0.13055,0.13564999999999999,0.12445000000000001,0.1265,0.1484,0.156,0.15989999999999999,0.15625,0.14990000000000001,"*"]
["Greece",0.1086,0.1043,9.8400000000000001E-2,0.10685,0.13290000000000002,0.15049999999999999,0.1784,0.1958,0.216,0.23169999999999999,"*",null,"Greece",8.5099999999999995E-2,8.43E-2,8.6550000000000002E-2,9.4349999999999989E-2,9.69E-2,0.1111,0.13585000000000003,0.15265000000000001,0.15989999999999999,0.1593,"*",null,"Greece",0.09,9.8250000000000004E-2,0.10009999999999999,0.1085,0.11,0.12429999999999999,0.14424999999999999,0.15720000000000001,0.15655000000000002,0.15570000000000001,"*",null,"Greece",0.11,0.11874999999999999,0.11774999999999999,0.12569999999999998,0.1227,0.13965,0.15695000000000001,0.16835,0.16704999999999998,0.1663,"*",null,"Greece",0.1283,0.14044999999999999,0.14224999999999999,0.15590000000000001,0.1174,0.13424999999999998,0.15305000000000002,0.17199999999999999,0.16954999999999998,0.16389999999999999,"*"]
["Spain",0.25480000000000003,0.26680000000000004,0.27075000000000005,0.32055,0.31185000000000002,0.29875000000000002,0.31979999999999997,0.38940000000000002,0.42835000000000001,0.43099999999999999,"*",null,"Spain",0.14000000000000001,0.14574999999999999,0.1593,0.1736,0.19120000000000001,0.20674999999999999,0.20629999999999998,0.22084999999999999,0.23004999999999998,0.22090000000000001,"*",null,"Spain",0.1211,0.12620000000000001,0.1406,0.15289999999999998,0.17244999999999999,0.18679999999999999,0.18595,0.18725,0.19334999999999999,0.18060000000000001,"*",null,"Spain",0.1113,0.11774999999999999,0.1298,0.13850000000000001,0.15710000000000002,0.16805,0.16644999999999999,0.16465000000000002,0.16855000000000001,0.15920000000000001,"*",null,"Spain",0.1026,0.1119,0.1217,0.12705,0.14165,0.15110000000000001,0.15094999999999997,0.14265,0.15875,0.14599999999999999,"*"]
["France",0.20599999999999999,0.20534999999999998,0.20145000000000002,0.20755000000000001,0.219,0.22465000000000002,0.25265000000000004,0.24009999999999998,0.251,0.25269999999999998,"*",null,"France",0.1241,0.12185,0.1215,0.12990000000000002,0.13730000000000001,0.14205000000000001,0.15365000000000001,0.15425,0.15915000000000001,0.16039999999999999,"*",null,"France",0.10489999999999999,0.10355,0.1033,0.1125,0.1201,0.1239,0.1331,0.13650000000000001,0.1406,0.14369999999999999,"*",null,"France",9.1800000000000007E-2,9.0049999999999991E-2,9.3450000000000005E-2,0.10065,0.10919999999999999,0.11265,0.1211,0.12440000000000001,0.12920000000000001,0.13270000000000001,"*",null,"France",8.4400000000000003E-2,8.6699999999999999E-2,8.9450000000000002E-2,9.7200000000000009E-2,0.10625,0.10975,0.10994999999999999,0.11574999999999999,0.12614999999999998,0.12989999999999999,"*"]
["Croatia",0.1363,0.1668,0.16205,0.152,0.15245,0.18204999999999999,0.18245,0.17515,0.1681,0.18129999999999999,"*",null,"Croatia",9.4700000000000006E-2,9.8349999999999993E-2,9.8750000000000004E-2,9.2049999999999993E-2,9.5799999999999996E-2,0.11315,0.11835,0.1143,0.1137,0.1137,"*",null,"Croatia",7.8350000000000003E-2,8.9349999999999999E-2,9.4649999999999998E-2,9.3799999999999994E-2,9.2850000000000002E-2,0.10390000000000001,0.1089,0.10544999999999999,0.10514999999999999,0.10489999999999999,"*",null,"Croatia",7.4950000000000003E-2,8.3749999999999991E-2,9.06E-2,9.0149999999999994E-2,8.8650000000000007E-2,9.8650000000000002E-2,0.1038,0.10100000000000001,0.1007,0.1004,"*",null,"Croatia",6.3399999999999998E-2,8.0350000000000005E-2,8.6499999999999994E-2,8.6650000000000005E-2,8.5249999999999992E-2,9.4700000000000006E-2,0.10050000000000001,9.7849999999999993E-2,9.7500000000000003E-2,9.7299999999999998E-2,"*"]
["Italy","*",0.2505,0.25929999999999997,0.25434999999999997,0.23644999999999999,0.23730000000000001,0.252,0.26555000000000001,0.2671,0.28649999999999998,"*",null,"Italy","*",0.15265000000000001,0.15384999999999999,0.1477,0.15315000000000001,0.17560000000000001,0.18009999999999998,0.19135000000000002,0.1915,0.1961,"*",null,"Italy","*",0.19364999999999999,0.18625,0.17704999999999999,0.18465000000000001,0.20115,0.2097,0.21744999999999998,0.22170000000000001,0.21940000000000001,"*",null,"Italy","*",0.21434999999999998,0.23760000000000001,0.22365000000000002,0.22620000000000001,0.24829999999999999,0.26149999999999995,0.26995000000000002,0.2767,0.25729999999999997,"*",null,"Italy","*",0.20495000000000002,0.27484999999999998,0.25449999999999995,0.25235000000000002,0.27779999999999999,0.28005000000000002,0.30030000000000001,0.3039,0.26069999999999999,"*"]
["Cyprus",0.14580000000000001,0.1704,0.13045000000000001,0.18924999999999997,0.21834999999999999,0.27344999999999997,0.24654999999999999,0.22175,0.18440000000000001,0.15529999999999999,"*",null,"Cyprus",0.13539999999999999,0.15960000000000002,0.12295,0.16820000000000002,0.19419999999999998,0.2445,0.22184999999999999,0.19564999999999999,0.15909999999999999,0.12809999999999999,"*",null,"Cyprus",0.1371,0.1663,0.13945000000000002,0.1691,0.1946,0.245,0.22309999999999999,0.19625000000000001,0.1603,0.12909999999999999,"*",null,"Cyprus",0.13739999999999999,0.16930000000000001,0.14215,0.1661,0.19090000000000001,0.2417,0.22065000000000001,0.19384999999999999,0.15820000000000001,0.1246,"*",null,"Cyprus",0.13830000000000001,0.17035,0.14424999999999999,0.15789999999999998,0.18340000000000001,0.23235,0.21490000000000001,0.18820000000000001,0.15075,0.11169999999999999,"*"]
["Latvia",6.9500000000000006E-2,8.8450000000000001E-2,9.5799999999999996E-2,9.534999999999999E-2,9.5949999999999994E-2,9.715E-2,9.6349999999999991E-2,9.6349999999999991E-2,0.13009999999999999,0.13339999999999999,"*",null,"Latvia",6.9500000000000006E-2,8.8249999999999995E-2,9.5799999999999996E-2,9.534999999999999E-2,9.7000000000000003E-2,0.10439999999999999,0.10425000000000001,0.10355,0.13619999999999999,0.13469999999999999,"*",null,"Latvia",6.9500000000000006E-2,8.7849999999999998E-2,9.5799999999999996E-2,9.534999999999999E-2,0.10285,0.11374999999999999,0.11315,0.11249999999999999,0.13574999999999998,0.13450000000000001,"*",null,"Latvia",6.8599999999999994E-2,8.6800000000000002E-2,9.5649999999999999E-2,9.534999999999999E-2,0.1074,0.11895,0.1182,0.1179,0.13500000000000001,0.1338,"*",null,"Latvia",6.6299999999999998E-2,8.5250000000000006E-2,9.534999999999999E-2,9.4950000000000007E-2,0.10885,0.12115000000000001,0.1172,0.12045,0.13314999999999999,0.1308,"*"]
["Lithuania",8.1299999999999997E-2,7.8149999999999997E-2,8.3199999999999996E-2,0.10225000000000001,0.10905000000000001,0.10855000000000001,0.11795,0.11244999999999999,0.10589999999999999,0.1042,"*",null,"Lithuania",7.6399999999999996E-2,7.5700000000000003E-2,8.0850000000000005E-2,0.10005,0.10439999999999999,0.10664999999999999,0.11599999999999999,0.11119999999999999,0.10500000000000001,0.10340000000000001,"*",null,"Lithuania",7.3700000000000002E-2,7.3050000000000004E-2,7.8350000000000003E-2,9.8000000000000004E-2,0.10065,0.10450000000000001,0.11410000000000001,0.10944999999999999,0.10325000000000001,0.1017,"*",null,"Lithuania",7.0099999999999996E-2,6.9099999999999995E-2,7.4349999999999999E-2,9.4400000000000012E-2,9.7500000000000003E-2,0.10200000000000001,0.1113,0.10635,9.9750000000000005E-2,9.8000000000000004E-2,"*",null,"Lithuania",6.6500000000000004E-2,6.4450000000000007E-2,6.8000000000000005E-2,8.9400000000000007E-2,9.1700000000000004E-2,9.6200000000000008E-2,0.1047,0.1,9.35E-2,9.1300000000000006E-2,"*"]
["Luxembourg",0.25335000000000002,0.23014999999999999,0.25319999999999998,0.23285,0.23370000000000002,0.2321,0.21875,0.22239999999999999,0.222,0.21560000000000001,"*",null,"Luxembourg",0.19159999999999999,0.17519999999999999,0.19374999999999998,0.18099999999999999,0.17494999999999999,0.17835000000000001,0.17220000000000002,0.17860000000000001,0.1782,0.17180000000000001,"*",null,"Luxembourg",0.15705000000000002,0.1535,0.17749999999999999,0.16385,0.15755,0.16044999999999998,0.15620000000000001,0.16400000000000001,0.1636,0.15720000000000001,"*",null,"Luxembourg",0.1429,0.13900000000000001,0.1603,0.15289999999999998,0.1464,0.14979999999999999,0.14294999999999999,0.151,0.15090000000000001,0.14460000000000001,"*",null,"Luxembourg",9.9349999999999994E-2,0.10385,0.13139999999999999,0.13755000000000001,0.1308,0.13539999999999999,0.13155,0.14000000000000001,0.14085,0.1346,"*"]
["Hungary",0.12520000000000001,0.13355,0.13164999999999999,0.15015000000000001,0.1477,0.13769999999999999,0.12179999999999999,0.10614999999999999,0.10115,9.9400000000000002E-2,"*",null,"Hungary",0.12520000000000001,0.13305,0.13369999999999999,0.13719999999999999,0.1356,0.13159999999999999,0.11315,9.6099999999999991E-2,9.2649999999999996E-2,9.0899999999999995E-2,"*",null,"Hungary",0.108,0.12919999999999998,0.1285,0.13100000000000001,0.12940000000000002,0.12575,0.1081,9.240000000000001E-2,8.9450000000000002E-2,8.77E-2,"*",null,"Hungary",0.111,0.12795000000000001,0.11874999999999999,0.1237,0.12204999999999999,0.11745,0.10405,8.9499999999999996E-2,8.7350000000000011E-2,8.5500000000000007E-2,"*",null,"Hungary",8.8999999999999996E-2,0.13350000000000001,0.1202,0.12634999999999999,0.12595000000000001,0.13020000000000001,0.10775,9.4E-2,9.1150000000000009E-2,8.8800000000000004E-2,"*"]
["Malta","*",8.2699999999999996E-2,0.22649999999999998,0.39954999999999996,0.4093,0.41710000000000003,0.40639999999999998,0.36004999999999998,0.35439999999999999,0.33539999999999998,"*",null,"Malta",4.3799999999999999E-2,9.2499999999999999E-2,0.17230000000000001,0.18225000000000002,0.18259999999999998,0.18404999999999999,0.18309999999999998,0.1484,0.13719999999999999,0.13489999999999999,"*",null,"Malta",8.7400000000000005E-2,0.12040000000000001,0.15340000000000001,0.157,0.15789999999999998,0.15955,0.15970000000000001,0.12964999999999999,0.12029999999999999,0.1197,"*",null,"Malta",0.1221,0.14824999999999999,0.1598,0.17415,0.17469999999999999,0.17494999999999999,0.17544999999999999,0.15005000000000002,0.14119999999999999,0.1429,"*",null,"Malta",0.13350000000000001,0.16139999999999999,0.20269999999999999,0.374,0.35745000000000005,0.34460000000000002,0.34870000000000001,0.36599999999999999,0.3377,0.34499999999999997,"*"]
["Netherlands","*","*","*","*","*","*","*","*","*","*","*",null,"Netherlands",0.11495,0.1149,0.1182,0.10305,0.10735,0.11205,0.11510000000000001,0.10125000000000001,0.12025,9.4299999999999995E-2,"*",null,"Netherlands",0.14705000000000001,0.14990000000000001,0.16325000000000001,0.14939999999999998,0.15140000000000001,0.15534999999999999,0.15715000000000001,0.15045,0.15834999999999999,0.13389999999999999,"*",null,"Netherlands",0.16194999999999998,0.16325000000000001,0.17859999999999998,0.16520000000000001,0.16489999999999999,0.16805,0.16864999999999999,0.16570000000000001,0.1686,0.14530000000000001,"*",null,"Netherlands",0.14899999999999999,"*",0.19455,0.17925000000000002,0.1842,0.19374999999999998,0.19585000000000002,0.1956,0.19045000000000001,0.20100000000000001,"*"]
["Austria",0.2228,0.2208,0.22720000000000001,0.21279999999999999,0.24430000000000002,0.24859999999999999,0.26224999999999998,0.26380000000000003,0.29485,0.30790000000000001,"*",null,"Austria",0.16880000000000001,0.16830000000000001,0.17454999999999998,0.17865,0.18380000000000002,0.18645,0.1953,0.19384999999999999,0.20055000000000001,0.20660000000000001,"*",null,"Austria",0.1462,0.14795,0.15905,0.16234999999999999,0.16465000000000002,0.1666,0.17085,0.16699999999999998,0.1663,0.16950000000000001,"*",null,"Austria",0.1358,0.13730000000000001,0.14550000000000002,0.14699999999999999,0.14940000000000001,0.1507,0.15575,0.15265000000000001,0.1472,0.14929999999999999,"*",null,"Austria",0.12540000000000001,0.12705,0.1321,0.12655,0.1351,0.13474999999999998,0.1439,0.13269999999999998,0.12535000000000002,0.12640000000000001,"*"]
["Poland",0.1225,0.14319999999999999,0.12454999999999999,0.14405000000000001,0.14929999999999999,0.14950000000000002,0.15045,0.14795,0.14734999999999998,0.13020000000000001,"*",null,"Poland",0.1154,0.11210000000000001,0.10315000000000001,0.11979999999999999,0.1232,0.12529999999999999,0.1237,0.12055,0.12334999999999999,0.1144,"*",null,"Poland",0.11310000000000001,0.1047,9.9250000000000005E-2,0.11155,0.11474999999999999,0.11979999999999999,0.11855,0.11495,0.11635000000000001,0.10829999999999999,"*",null,"Poland",8.5500000000000007E-2,9.6000000000000002E-2,9.1999999999999998E-2,0.1053,0.10880000000000001,0.11505,0.11345,0.11005000000000001,0.11169999999999999,0.1036,"*",null,"Poland",0.1053,9.3349999999999989E-2,9.11E-2,0.1042,0.10894999999999999,0.11115,0.11105000000000001,0.1104,0.11030000000000001,0.10299999999999999,"*"]
["Portugal",0.18010000000000001,0.32289999999999996,0.31290000000000001,0.32005,0.32069999999999999,0.29544999999999999,0.27515000000000001,0.32269999999999999,0.31930000000000003,0.3105,"*",null,"Portugal",0.14779999999999999,0.16370000000000001,0.16775000000000001,0.17380000000000001,0.17995,0.18440000000000001,0.1893,0.19519999999999998,0.20155000000000001,0.20780000000000001,"*",null,"Portugal",0.14879999999999999,0.14324999999999999,0.14779999999999999,0.15360000000000001,0.15955,0.16539999999999999,0.17155000000000001,0.1794,0.18579999999999999,0.19109999999999999,"*",null,"Portugal",0.1424,0.1283,0.13340000000000002,0.1396,0.14505000000000001,0.152,0.1593,0.17049999999999998,0.17645,0.1822,"*",null,"Portugal",0.1361,0.11945,0.12465000000000001,0.13064999999999999,0.13655,0.14800000000000002,0.15565000000000001,0.16294999999999998,0.16930000000000001,0.17510000000000001,"*"]
["Romania",9.1200000000000003E-2,9.0499999999999997E-2,8.1049999999999997E-2,8.4749999999999992E-2,8.4249999999999992E-2,8.5499999999999993E-2,0.10780000000000001,0.10625,0.11,0.1089,"*",null,"Romania",9.7799999999999998E-2,8.9950000000000002E-2,8.1549999999999997E-2,8.5249999999999992E-2,8.4900000000000003E-2,8.5599999999999996E-2,0.10685,0.10545,0.10775,0.1074,"*",null,"Romania",9.5399999999999999E-2,9.0249999999999997E-2,8.1449999999999995E-2,8.4749999999999992E-2,8.3549999999999999E-2,8.3100000000000007E-2,0.10489999999999999,0.10235,0.1057,0.10539999999999999,"*",null,"Romania",9.6100000000000005E-2,8.9549999999999991E-2,7.8449999999999992E-2,8.3350000000000007E-2,8.2799999999999999E-2,8.3049999999999999E-2,0.10314999999999999,0.1004,0.10439999999999999,0.1016,"*",null,"Romania",9.7199999999999995E-2,9.1049999999999992E-2,7.6200000000000004E-2,7.9949999999999993E-2,0.08,8.1800000000000012E-2,0.1004,9.8750000000000004E-2,0.1018,9.8500000000000004E-2,"*"]
["Slovenia",0.19070000000000001,0.15789999999999998,0.22844999999999999,0.2172,0.18964999999999999,0.18664999999999998,0.20430000000000001,0.1908,0.18095,0.15279999999999999,"*",null,"Slovenia",0.1091,0.10875,0.13255,0.14055000000000001,0.1406,0.14660000000000001,0.15955,0.15905,0.15805,0.16259999999999999,"*",null,"Slovenia",9.2999999999999999E-2,9.6000000000000002E-2,0.11194999999999999,0.1178,0.1222,0.1285,0.13500000000000001,0.13369999999999999,0.13195000000000001,0.1326,"*",null,"Slovenia",8.5099999999999995E-2,8.9900000000000008E-2,0.10405,0.10744999999999999,0.11219999999999999,0.11705,0.12035000000000001,0.11879999999999999,0.1157,0.1152,"*",null,"Slovenia",7.9799999999999996E-2,8.6749999999999994E-2,0.10105,0.10175000000000001,0.1045,0.1065,0.10755000000000001,0.10685,0.10485,0.1038,"*"]
["Slovakia",0.1875,0.20624999999999999,0.1968,0.19419999999999998,0.19924999999999998,0.21640000000000001,0.22294999999999998,0.20150000000000001,0.20679999999999998,0.17949999999999999,"*",null,"Slovakia",0.1358,0.14524999999999999,0.14479999999999998,0.14934999999999998,0.1585,0.16255,0.15939999999999999,0.1424,0.14545,0.1323,"*",null,"Slovakia",0.1152,0.12385,0.13024999999999998,0.13264999999999999,0.14134999999999998,0.14324999999999999,0.14065,0.12625,0.12595000000000001,0.1186,"*",null,"Slovakia",9.2200000000000004E-2,0.10485,0.1278,0.11835,0.1268,0.12740000000000001,0.12540000000000001,0.11219999999999999,0.10975,0.1046,"*",null,"Slovakia",7.0999999999999994E-2,8.3549999999999999E-2,0.10639999999999999,0.10045,0.1105,0.1119,0.111,0.10150000000000001,9.7000000000000003E-2,9.3299999999999994E-2,"*"]
["Finland",0.1671,0.18099999999999999,0.2006,0.20774999999999999,0.22965000000000002,0.23454999999999998,0.23910000000000001,0.24020000000000002,0.24415000000000001,0.24929999999999999,"*",null,"Finland",0.1147,0.12305000000000001,0.1343,0.13980000000000001,0.15865000000000001,0.1595,0.16155,0.16210000000000002,0.16225000000000001,0.16439999999999999,"*",null,"Finland",9.4200000000000006E-2,0.1023,0.10589999999999999,0.11,0.12655,0.12635000000000002,0.12645000000000001,0.12504999999999999,0.12429999999999999,0.1242,"*",null,"Finland",8.1299999999999997E-2,8.8900000000000007E-2,9.3900000000000011E-2,9.6599999999999991E-2,0.11155000000000001,0.1114,0.11144999999999999,0.10944999999999999,0.10855000000000001,0.1074,"*",null,"Finland",6.6900000000000001E-2,7.4700000000000003E-2,7.8350000000000003E-2,8.0649999999999999E-2,9.4850000000000004E-2,9.4850000000000004E-2,9.509999999999999E-2,9.3399999999999997E-2,9.2950000000000005E-2,9.0700000000000003E-2,"*"]
["Sweden",0.22489999999999999,0.23354999999999998,0.21149999999999999,0.27074999999999999,0.28100000000000003,0.28539999999999999,0.28920000000000001,0.28454999999999997,0.27410000000000001,0.2913,"*",null,"Sweden",0.13200000000000001,0.15315000000000001,0.14450000000000002,0.16414999999999999,0.18014999999999998,0.17910000000000001,0.18185000000000001,0.17385,0.16615000000000002,0.17119999999999999,"*",null,"Sweden",0.1268,0.13795000000000002,0.13039999999999999,0.15155000000000002,0.16570000000000001,0.16435,0.16589999999999999,{"$f":"IFERROR(AVERAGE(P160:Q160),\"*\")","v":0.15334999999999999},{"$f":"IFERROR(AVERAGE(R160:S160),\"*\")","v":0.14900000000000002},{"$f":"IFERROR(AVERAGE(T160:U160),\"*\")","v":0.1515},{"$f":"IFERROR(AVERAGE( V160:W160),\"*\")","v":"*"},null,"Sweden",0.11424999999999999,0.1198,0.1116,0.13214999999999999,0.14265,0.1394,0.14074999999999999,0.12940000000000002,0.123,0.1225,"*",null,"Sweden",0.1021,0.10925,0.10355,0.12010000000000001,0.128,0.12485,0.12529999999999999,0.11275,0.1071,0.1069,"*"]
["United Kingdom",0.161,0.15629999999999999,0.15784999999999999,0.1449,0.15545,0.18290000000000001,0.20305000000000001,0.2336,0.24919999999999998,0.23619999999999999,"*",null,"United Kingdom",0.1552,0.15185000000000001,0.14665,0.14545,0.15525,0.18054999999999999,0.18345,0.20750000000000002,0.22739999999999999,0.2114,"*",null,"United Kingdom",0.1411,0.1462,0.13700000000000001,0.13505,0.14369999999999999,0.16520000000000001,0.16849999999999998,0.18715000000000001,0.20515,0.18590000000000001,"*",null,"United Kingdom",0.12770000000000001,0.13119999999999998,0.1222,0.12125,0.12764999999999999,0.14779999999999999,0.15354999999999999,0.16880000000000001,0.18709999999999999,0.17119999999999999,"*",null,"United Kingdom",0.1072,0.12884999999999999,0.1188,0.111,0.11779999999999999,0.13619999999999999,0.14090000000000003,0.1555,0.17149999999999999,0.15490000000000001,"*"]
[]
[]
[]
["Baggrundsdata for level 2 priser - Eurostat nrg_pc_205"]
["Opdateret",{"$f":"B43","v":"2016-12-08T10:04:56.725"}]
["Electricity prices for domestic consumers - bi-annual data (from 2007 onwards) [nrg_pc_204]"]
[]
["Last update","2016-11-10T16:51:00"]
["Extracted on","2016-12-08T10:04:56.725"]
["Source of data","Eurostat"]
[]
["PRODUCT","Electrical energy"]
["CONSOM","Band DA : Consumption < 1 000 kWh"]
["UNIT","Kilowatt-hour"]
["TAX","Excluding VAT and other recoverable taxes and levies"]
["CURRENCY","Euro"]
[]
["GEO/TIME","2007S1","2007S2","2008S1","2008S2","2009S1","2009S2","2010S1","2010S2","2011S1","2011S2","2012S1","2012S2","2013S1","2013S2","2014S1","2014S2","2015S1","2015S2","2016S1"]
["European Union (28 countries)",":",0.2092,0.21609999999999999,0.2223,0.21579999999999999,0.22259999999999999,0.22900000000000001,0.23039999999999999,0.23549999999999999,0.2394,0.23880000000000001,0.2495,0.2596,0.2626,0.27129999999999999,0.2712,0.27950000000000003,0.28120000000000001,0.2848]
["Belgium",":",0.20200000000000001,0.23019999999999999,0.29699999999999999,0.2172,0.22969999999999999,0.24210000000000001,0.2356,0.25069999999999998,0.2457,0.24129999999999999,0.25640000000000002,0.2384,0.24149999999999999,0.2374,0.2427,0.24909999999999999,0.26600000000000001,0.33979999999999999]
["Bulgaria",":",6.1899999999999997E-2,6.1899999999999997E-2,6.8500000000000005E-2,7.0599999999999996E-2,6.8500000000000005E-2,6.8500000000000005E-2,7.0099999999999996E-2,6.9900000000000004E-2,7.0999999999999994E-2,7.1400000000000005E-2,7.9799999999999996E-2,7.9600000000000004E-2,7.3400000000000007E-2,7.0900000000000005E-2,7.6200000000000004E-2,8.0699999999999994E-2,8.1299999999999997E-2,8.1500000000000003E-2]
["Czech Republic",0.1769,0.18190000000000001,0.20949999999999999,0.21360000000000001,0.21149999999999999,0.2228,0.21759999999999999,0.2253,0.24030000000000001,0.2356,0.24310000000000001,0.24360000000000001,0.2417,0.23649999999999999,0.21390000000000001,0.21249999999999999,0.21310000000000001,0.2165,0.2208]
["Denmark",":",0.214,0.2336,0.24560000000000001,0.23930000000000001,0.2278,0.2379,0.24079999999999999,0.25719999999999998,0.26269999999999999,0.26469999999999999,0.26219999999999999,0.26429999999999998,0.25729999999999997,0.26600000000000001,0.2651,0.26700000000000002,0.2661,0.3075]
["Germany (until 1990 former territory of the FRG)",0.27150000000000002,0.28070000000000001,0.28699999999999998,0.2928,0.30109999999999998,0.29980000000000001,0.30790000000000001,0.313,0.32229999999999998,0.32190000000000002,0.32919999999999999,0.33850000000000002,0.35770000000000002,0.35859999999999997,0.36380000000000001,0.3644,0.3669,0.36620000000000003,0.38279999999999997]
["Estonia",":",6.8400000000000002E-2,7.0999999999999994E-2,7.3899999999999993E-2,8.0100000000000005E-2,7.8899999999999998E-2,8.2900000000000001E-2,8.5800000000000001E-2,8.4000000000000005E-2,8.9099999999999999E-2,9.5200000000000007E-2,9.6000000000000002E-2,0.1187,0.1173,0.11219999999999999,0.1145,0.1123,0.11020000000000001,0.1096]
["Ireland",":",0.40310000000000001,0.39190000000000003,0.42980000000000002,0.38150000000000001,0.36670000000000003,0.35549999999999998,0.38640000000000002,0.3755,0.46639999999999998,0.48159999999999997,0.51990000000000003,0.5353,0.56520000000000004,0.57050000000000001,0.58589999999999998,0.61409999999999998,0.42380000000000001,0.35730000000000001]
["Greece",":",0.1086,0.11210000000000001,9.6500000000000002E-2,9.5899999999999999E-2,0.1009,0.10730000000000001,0.10639999999999999,0.13980000000000001,0.126,0.16089999999999999,0.1401,0.18329999999999999,0.17349999999999999,0.20369999999999999,0.18790000000000001,0.23269999999999999,0.1993,0.23169999999999999]
["Spain",":",0.25480000000000003,0.25800000000000001,0.27560000000000001,0.26700000000000002,0.27450000000000002,0.33360000000000001,0.3075,0.30380000000000001,0.31990000000000002,0.28960000000000002,0.30790000000000001,0.307,0.33260000000000001,0.39340000000000003,0.38540000000000002,0.41920000000000002,0.4375,0.43099999999999999]
["France",":",0.20599999999999999,0.20669999999999999,0.20399999999999999,0.19220000000000001,0.2107,0.20200000000000001,0.21310000000000001,0.21690000000000001,0.22109999999999999,0.21579999999999999,0.23350000000000001,0.254,0.25130000000000002,0.24049999999999999,0.2397,0.24779999999999999,0.25419999999999998,0.25269999999999998]
["Croatia",0.12230000000000001,0.15029999999999999,0.16089999999999999,0.17269999999999999,0.17199999999999999,0.15210000000000001,0.15479999999999999,0.1492,0.1482,0.15670000000000001,0.17929999999999999,0.18479999999999999,0.19089999999999999,0.17399999999999999,0.18290000000000001,0.16739999999999999,0.17249999999999999,0.16370000000000001,0.18129999999999999]
["Italy",":",":",0.251,0.25,0.26690000000000003,0.25169999999999998,0.25769999999999998,0.251,0.24099999999999999,0.2319,0.23369999999999999,0.2409,0.25319999999999998,0.25080000000000002,0.26650000000000001,0.2646,0.26860000000000001,0.2656,0.28649999999999998]
["Cyprus",":",0.14580000000000001,0.1673,0.17349999999999999,0.12139999999999999,0.13950000000000001,0.18459999999999999,0.19389999999999999,0.2051,0.2316,0.27450000000000002,0.27239999999999998,0.26179999999999998,0.23130000000000001,0.223,0.2205,0.1905,0.17829999999999999,0.15529999999999999]
["Latvia",":",6.9500000000000006E-2,8.1299999999999997E-2,9.5600000000000004E-2,9.5699999999999993E-2,9.5899999999999999E-2,9.5399999999999999E-2,9.5299999999999996E-2,9.5699999999999993E-2,9.6199999999999994E-2,9.6799999999999997E-2,9.7500000000000003E-2,9.6500000000000002E-2,9.6199999999999994E-2,9.6199999999999994E-2,9.6500000000000002E-2,0.1241,0.1361,0.13339999999999999]
["Lithuania",":",8.1299999999999997E-2,7.8100000000000003E-2,7.8200000000000006E-2,8.5000000000000006E-2,8.14E-2,0.1002,0.1043,0.1057,0.1124,0.1087,0.1084,0.1174,0.11849999999999999,0.113,0.1119,0.10639999999999999,0.10539999999999999,0.1042]
["Luxembourg",0.27860000000000001,0.2281,0.2281,0.23219999999999999,0.25319999999999998,0.25319999999999998,0.23150000000000001,0.23419999999999999,0.2351,0.23230000000000001,0.2351,0.2291,0.22539999999999999,0.21210000000000001,0.22239999999999999,0.22239999999999999,0.222,0.222,0.21560000000000001]
["Hungary",":",0.12520000000000001,0.13469999999999999,0.13239999999999999,0.1178,0.14549999999999999,0.15790000000000001,0.1424,0.151,0.1444,0.1343,0.1411,0.12479999999999999,0.1188,0.10780000000000001,0.1045,0.1008,0.10150000000000001,9.9400000000000002E-2]
["Malta",":",":",4.4400000000000002E-2,0.121,0.23649999999999999,0.2165,0.40329999999999999,0.39579999999999999,0.40739999999999998,0.41120000000000001,0.41760000000000003,0.41660000000000003,0.40620000000000001,0.40660000000000002,0.36969999999999997,0.35039999999999999,0.35599999999999998,0.3528,0.33539999999999998]
["Netherlands",":",":",":",":",":",":",":",":",":",":",":",":",":",":",":",":",":",":",":"]
["Austria",":",0.2228,0.2208,0.2208,0.22720000000000001,0.22720000000000001,0.21149999999999999,0.21410000000000001,0.2455,0.24310000000000001,0.2482,0.249,0.2651,0.25940000000000002,0.2646,0.26300000000000001,0.29580000000000001,0.29389999999999999,0.30790000000000001]
["Poland",":",0.1225,0.14399999999999999,0.1424,0.1186,0.1305,0.14169999999999999,0.1464,0.15359999999999999,0.14499999999999999,0.14610000000000001,0.15290000000000001,0.15279999999999999,0.14810000000000001,0.15,0.1459,0.1492,0.14549999999999999,0.13020000000000001]
["Portugal",":",0.18010000000000001,0.32029999999999997,0.32550000000000001,0.31540000000000001,0.31040000000000001,0.32179999999999997,0.31830000000000003,0.31490000000000001,0.32650000000000001,0.31890000000000002,0.27200000000000002,0.2646,0.28570000000000001,0.32469999999999999,0.32069999999999999,0.3155,0.3231,0.3105]
["Romania",":",9.1200000000000003E-2,8.9499999999999996E-2,9.1499999999999998E-2,8.1799999999999998E-2,8.0299999999999996E-2,8.6300000000000002E-2,8.3199999999999996E-2,8.48E-2,8.3699999999999997E-2,8.2299999999999998E-2,8.8700000000000001E-2,0.1094,0.1062,0.1076,0.10489999999999999,0.1101,0.1099,0.1089]
["Slovenia",":",0.19070000000000001,0.15479999999999999,0.161,0.2213,0.2356,0.2175,0.21690000000000001,0.19170000000000001,0.18759999999999999,0.18429999999999999,0.189,0.19950000000000001,0.20910000000000001,0.20710000000000001,0.17449999999999999,0.1797,0.1822,0.15279999999999999]
["Slovakia",":",0.1875,0.19789999999999999,0.21460000000000001,0.19739999999999999,0.19620000000000001,0.18870000000000001,0.19969999999999999,0.1933,0.20519999999999999,0.21360000000000001,0.21920000000000001,0.2278,0.21809999999999999,0.1991,0.2039,0.2039,0.2097,0.17949999999999999]
["Finland",":",0.1671,0.1762,0.18579999999999999,0.1991,0.2021,0.20530000000000001,0.2102,0.2268,0.23250000000000001,0.23169999999999999,0.2374,0.23780000000000001,0.2404,0.23930000000000001,0.24110000000000001,0.24510000000000001,0.2432,0.24929999999999999]
["Sweden",0.21729999999999999,0.23250000000000001,0.2296,0.23749999999999999,0.20349999999999999,0.2195,0.27579999999999999,0.26569999999999999,0.2908,0.2712,0.28189999999999998,0.28889999999999999,0.29830000000000001,0.28010000000000002,0.2843,0.2848,0.2727,0.27550000000000002,0.2913]
["United Kingdom",":",0.161,0.15229999999999999,0.1603,0.14990000000000001,0.1658,0.14000000000000001,0.14979999999999999,0.14510000000000001,0.1658,0.1734,0.19239999999999999,0.19350000000000001,0.21260000000000001,0.22889999999999999,0.23830000000000001,0.24429999999999999,0.25409999999999999,0.23619999999999999]
[]
["Special value:"]
[":","not available"]
[]
["PRODUCT","Electrical energy"]
["CONSOM","Band DB : 1 000 kWh < Consumption < 2 500 kWh"]
["UNIT","Kilowatt-hour"]
["TAX","Excluding VAT and other recoverable taxes and levies"]
["CURRENCY","Euro"]
[]
["GEO/TIME","2007S1","2007S2","2008S1","2008S2","2009S1","2009S2","2010S1","2010S2","2011S1","2011S2","2012S1","2012S2","2013S1","2013S2","2014S1","2014S2","2015S1","2015S2","2016S1"]
["European Union (28 countries)",":",0.14530000000000001,0.1459,0.154,0.15079999999999999,0.15190000000000001,0.1545,0.15959999999999999,0.16420000000000001,0.16969999999999999,0.1726,0.1807,0.18290000000000001,0.18579999999999999,0.18790000000000001,0.19109999999999999,0.1938,0.19639999999999999,0.19359999999999999]
["Belgium",":",0.16639999999999999,0.17949999999999999,0.2039,0.1782,0.1726,0.18229999999999999,0.18129999999999999,0.1958,0.19650000000000001,0.19239999999999999,0.20130000000000001,0.19209999999999999,0.19769999999999999,0.1986,0.20039999999999999,0.2122,0.21970000000000001,0.23419999999999999]
["Bulgaria",":",6.0299999999999999E-2,6.08E-2,6.7500000000000004E-2,6.9000000000000006E-2,6.8000000000000005E-2,6.8000000000000005E-2,6.9199999999999998E-2,6.9099999999999995E-2,7.1499999999999994E-2,7.0800000000000002E-2,7.9299999999999995E-2,7.7799999999999994E-2,7.2700000000000001E-2,6.9800000000000001E-2,7.51E-2,7.9500000000000001E-2,8.0100000000000005E-2,8.0199999999999994E-2]
["Czech Republic",0.1321,0.1358,0.15870000000000001,0.1618,0.16250000000000001,0.17119999999999999,0.1663,0.17219999999999999,0.18190000000000001,0.1784,0.18029999999999999,0.1807,0.1802,0.17630000000000001,0.15229999999999999,0.15129999999999999,0.15129999999999999,0.1537,0.15570000000000001]
["Denmark",":",0.214,0.2336,0.24560000000000001,0.23930000000000001,0.2278,0.2379,0.24079999999999999,0.25719999999999998,0.26269999999999999,0.26469999999999999,0.26219999999999999,0.26429999999999998,0.25729999999999997,0.26600000000000001,0.2651,0.26700000000000002,0.2661,0.26719999999999999]
["Germany (until 1990 former territory of the FRG)",0.1903,0.1961,0.2001,0.20499999999999999,0.21260000000000001,0.21299999999999999,0.2203,0.22650000000000001,0.2331,0.2334,0.23899999999999999,0.246,0.26629999999999998,0.26690000000000003,0.27129999999999999,0.27139999999999997,0.26989999999999997,0.26950000000000002,0.2742]
["Estonia",":",6.7699999999999996E-2,7.0400000000000004E-2,7.3200000000000001E-2,7.9600000000000004E-2,7.8200000000000006E-2,8.2299999999999998E-2,8.5000000000000006E-2,8.2900000000000001E-2,8.8300000000000003E-2,9.3399999999999997E-2,9.5299999999999996E-2,0.11600000000000001,0.1158,0.11210000000000001,0.113,0.1115,0.11219999999999999,0.11020000000000001]
["Ireland",":",0.19750000000000001,0.18390000000000001,0.2087,0.2054,0.18940000000000001,0.18559999999999999,0.1933,0.20730000000000001,0.2205,0.23069999999999999,0.24540000000000001,0.2462,0.26329999999999998,0.26390000000000002,0.28299999999999997,0.27300000000000002,0.27010000000000001,0.2477]
["Greece",":",8.5099999999999995E-2,8.3099999999999993E-2,8.5500000000000007E-2,8.8800000000000004E-2,8.43E-2,9.3799999999999994E-2,9.4899999999999998E-2,9.5399999999999999E-2,9.8400000000000001E-2,0.109,0.1132,0.12740000000000001,0.14430000000000001,0.1482,0.15709999999999999,0.1595,0.1603,0.1593]
["Spain",":",0.14000000000000001,0.13650000000000001,0.155,0.15340000000000001,0.16520000000000001,0.17050000000000001,0.1767,0.18590000000000001,0.19650000000000001,0.2056,0.2079,0.2011,0.21149999999999999,0.21410000000000001,0.2276,0.22439999999999999,0.23569999999999999,0.22090000000000001]
["France",":",0.1241,0.12180000000000001,0.12189999999999999,0.12039999999999999,0.1226,0.12640000000000001,0.13339999999999999,0.1348,0.13980000000000001,0.1358,0.14829999999999999,0.1507,0.15659999999999999,0.1525,0.156,0.15759999999999999,0.16070000000000001,0.16039999999999999]
["Croatia",0.10059999999999999,8.8800000000000004E-2,8.9399999999999993E-2,0.10730000000000001,0.1043,9.3200000000000005E-2,9.2299999999999993E-2,9.1800000000000007E-2,9.0800000000000006E-2,0.1008,0.1065,0.1198,0.1195,0.1172,0.1144,0.1142,0.1144,0.113,0.1137]
["Italy",":",":",0.14349999999999999,0.1618,0.1555,0.1522,0.14799999999999999,0.1474,0.14879999999999999,0.1575,0.16850000000000001,0.1827,0.17799999999999999,0.1822,0.192,0.19070000000000001,0.1893,0.19370000000000001,0.1961]
["Cyprus",":",0.13539999999999999,0.15310000000000001,0.1661,0.1142,0.13170000000000001,0.16109999999999999,0.17530000000000001,0.17860000000000001,0.20979999999999999,0.24079999999999999,0.2482,0.23380000000000001,0.2099,0.19350000000000001,0.1978,0.16389999999999999,0.15429999999999999,0.12809999999999999]
["Latvia",":",6.9500000000000006E-2,8.09E-2,9.5600000000000004E-2,9.5699999999999993E-2,9.5899999999999999E-2,9.5399999999999999E-2,9.5299999999999996E-2,9.5600000000000004E-2,9.8400000000000001E-2,0.10829999999999999,0.10050000000000001,0.108,0.10050000000000001,0.10730000000000001,9.98E-2,0.13550000000000001,0.13689999999999999,0.13469999999999999]
["Lithuania",":",7.6399999999999996E-2,7.5700000000000003E-2,7.5700000000000003E-2,8.2500000000000004E-2,7.9200000000000007E-2,9.7699999999999995E-2,0.1024,0.10340000000000001,0.10539999999999999,0.1066,0.1067,0.1152,0.1168,0.11169999999999999,0.11070000000000001,0.1056,0.10440000000000001,0.10340000000000001]
["Luxembourg",0.20930000000000001,0.1739,0.1739,0.17649999999999999,0.19389999999999999,0.19359999999999999,0.17979999999999999,0.1822,0.1757,0.17419999999999999,0.1779,0.17879999999999999,0.1749,0.16950000000000001,0.17860000000000001,0.17860000000000001,0.1782,0.1782,0.17180000000000001]
["Hungary",":",0.12520000000000001,0.13400000000000001,0.1321,0.128,0.1394,0.14149999999999999,0.13289999999999999,0.13830000000000001,0.13289999999999999,0.12939999999999999,0.1338,0.1168,0.1095,9.8400000000000001E-2,9.3799999999999994E-2,9.1899999999999996E-2,9.3399999999999997E-2,9.0899999999999995E-2]
["Malta",":",4.3799999999999999E-2,5.8999999999999997E-2,0.126,0.18160000000000001,0.16300000000000001,0.18140000000000001,0.18310000000000001,0.18099999999999999,0.1842,0.1832,0.18490000000000001,0.18060000000000001,0.18559999999999999,0.15920000000000001,0.1376,0.1356,0.13880000000000001,0.13489999999999999]
["Netherlands",0.1157,0.1142,0.1129,0.1169,0.1217,0.1147,0.10100000000000001,0.1051,0.1077,0.107,0.1129,0.11119999999999999,0.11550000000000001,0.1147,0.10349999999999999,9.9000000000000005E-2,0.12909999999999999,0.1114,9.4299999999999995E-2]
["Austria",":",0.16880000000000001,0.1671,0.16950000000000001,0.17399999999999999,0.17510000000000001,0.18099999999999999,0.17630000000000001,0.1842,0.18340000000000001,0.185,0.18790000000000001,0.19700000000000001,0.19359999999999999,0.1951,0.19259999999999999,0.2016,0.19950000000000001,0.20660000000000001]
["Poland",":",0.1154,0.109,0.1152,9.9500000000000005E-2,0.10680000000000001,0.1177,0.12189999999999999,0.129,0.1174,0.1225,0.12809999999999999,0.12479999999999999,0.1226,0.1203,0.1208,0.12479999999999999,0.12189999999999999,0.1144]
["Portugal",":",0.14779999999999999,0.1615,0.16589999999999999,0.1633,0.17219999999999999,0.1709,0.1767,0.17610000000000001,0.18379999999999999,0.18279999999999999,0.186,0.18759999999999999,0.191,0.19339999999999999,0.19700000000000001,0.20119999999999999,0.2019,0.20780000000000001]
["Romania",":",9.7799999999999998E-2,8.9700000000000002E-2,9.0200000000000002E-2,8.1699999999999995E-2,8.14E-2,8.5999999999999993E-2,8.4500000000000006E-2,8.6199999999999999E-2,8.3599999999999994E-2,8.2199999999999995E-2,8.8999999999999996E-2,0.1086,0.1051,0.1066,0.1043,0.1072,0.10829999999999999,0.1074]
["Slovenia",":",0.1091,0.108,0.1095,0.13220000000000001,0.13289999999999999,0.1394,0.14169999999999999,0.1394,0.14180000000000001,0.1457,0.14749999999999999,0.15709999999999999,0.16200000000000001,0.1598,0.1583,0.15570000000000001,0.16039999999999999,0.16259999999999999]
["Slovakia",":",0.1358,0.14050000000000001,0.15,0.14649999999999999,0.1431,0.14399999999999999,0.1547,0.1575,0.1595,0.1623,0.1628,0.1598,0.159,0.1416,0.14319999999999999,0.1452,0.1457,0.1323]
["Finland",":",0.1147,0.1207,0.12540000000000001,0.13370000000000001,0.13489999999999999,0.13780000000000001,0.14180000000000001,0.15679999999999999,0.1605,0.15870000000000001,0.1603,0.16189999999999999,0.16120000000000001,0.16250000000000001,0.16170000000000001,0.16289999999999999,0.16159999999999999,0.16439999999999999]
["Sweden",0.12529999999999999,0.13869999999999999,0.15,0.15629999999999999,0.14360000000000001,0.1454,0.15939999999999999,0.16889999999999999,0.18229999999999999,0.17799999999999999,0.17710000000000001,0.18110000000000001,0.18540000000000001,0.17829999999999999,0.17469999999999999,0.17299999999999999,0.1653,0.16700000000000001,0.17119999999999999]
["United Kingdom",":",0.1552,0.14580000000000001,0.15790000000000001,0.14660000000000001,0.1467,0.1414,0.14949999999999999,0.14580000000000001,0.16470000000000001,0.17380000000000001,0.18729999999999999,0.1804,0.1865,0.2026,0.21240000000000001,0.224,0.23080000000000001,0.2114]
[]
["Special value:"]
[":","not available"]
[]
["PRODUCT","Electrical energy"]
["CONSOM","Band DC : 2 500 kWh < Consumption < 5 000 kWh"]
["UNIT","Kilowatt-hour"]
["TAX","Excluding VAT and other recoverable taxes and levies"]
["CURRENCY","Euro"]
[]
["GEO/TIME","2007S1","2007S2","2008S1","2008S2","2009S1","2009S2","2010S1","2010S2","2011S1","2011S2","2012S1","2012S2","2013S1","2013S2","2014S1","2014S2","2015S1","2015S2","2016S1"]
["European Union (28 countries)",":",0.13550000000000001,0.13689999999999999,0.14419999999999999,0.1419,0.1414,0.14430000000000001,0.14849999999999999,0.15440000000000001,0.15859999999999999,0.16139999999999999,0.16830000000000001,0.17080000000000001,0.17299999999999999,0.17480000000000001,0.1767,0.17929999999999999,0.18099999999999999,0.17649999999999999]
["Belgium",":",0.14230000000000001,0.16300000000000001,0.1779,0.15840000000000001,0.154,0.16189999999999999,0.16309999999999999,0.17649999999999999,0.17599999999999999,0.19239999999999999,0.18379999999999999,0.17829999999999999,0.18260000000000001,0.186,0.1883,0.2006,0.20599999999999999,0.21079999999999999]
["Bulgaria",":",6.0299999999999999E-2,5.9299999999999999E-2,6.8500000000000005E-2,6.8500000000000005E-2,6.8500000000000005E-2,6.7500000000000004E-2,6.9199999999999998E-2,6.88E-2,7.2700000000000001E-2,7.0599999999999996E-2,7.9600000000000004E-2,7.7100000000000002E-2,7.3499999999999996E-2,6.8900000000000003E-2,7.46E-2,7.85E-2,7.9799999999999996E-2,7.9699999999999993E-2]
["Czech Republic",9.6299999999999997E-2,9.9000000000000005E-2,0.1179,0.1202,0.12230000000000001,0.12889999999999999,0.12479999999999999,0.12909999999999999,0.1384,0.13569999999999999,0.1386,0.1389,0.1389,0.13600000000000001,0.1148,0.114,0.1145,0.1164,0.1172]
["Denmark",":",0.19209999999999999,0.21079999999999999,0.2228,0.21590000000000001,0.2044,0.21360000000000001,0.21659999999999999,0.23269999999999999,0.23810000000000001,0.2397,0.23780000000000001,0.24,0.23480000000000001,0.24329999999999999,0.24279999999999999,0.24540000000000001,0.24329999999999999,0.247]
["Germany (until 1990 former territory of the FRG)",0.17019999999999999,0.1764,0.18,0.18429999999999999,0.1918,0.1928,0.1996,0.2049,0.21240000000000001,0.2127,0.21809999999999999,0.22489999999999999,0.24529999999999999,0.2455,0.2505,0.24990000000000001,0.248,0.24759999999999999,0.2495]
["Estonia",":",6.6500000000000004E-2,6.9099999999999995E-2,7.2099999999999997E-2,7.8200000000000006E-2,7.6700000000000004E-2,8.1000000000000003E-2,8.3699999999999997E-2,8.1100000000000005E-2,8.6900000000000005E-2,9.1300000000000006E-2,9.35E-2,0.11260000000000001,0.1139,0.1089,0.1104,0.1085,0.1085,0.1076]
["Ireland",":",0.16900000000000001,0.15590000000000001,0.17910000000000001,0.1789,0.16350000000000001,0.15890000000000001,0.16520000000000001,0.16750000000000001,0.1837,0.18990000000000001,0.20169999999999999,0.20219999999999999,0.21199999999999999,0.21210000000000001,0.2235,0.2137,0.2162,0.2031]
["Greece",":",0.09,9.6000000000000002E-2,0.10050000000000001,0.1055,9.4700000000000006E-2,0.1079,0.1091,0.1104,0.1096,0.1231,0.1255,0.1384,0.15010000000000001,0.15640000000000001,0.158,0.15640000000000001,0.15670000000000001,0.15570000000000001]
["Spain",":",0.1211,0.1182,0.13420000000000001,0.13600000000000001,0.1452,0.14899999999999999,0.15679999999999999,0.16789999999999999,0.17699999999999999,0.18559999999999999,0.188,0.18410000000000001,0.18779999999999999,0.1789,0.1956,0.1908,0.19589999999999999,0.18060000000000001]
["France",":",0.10489999999999999,0.1038,0.1033,0.1031,0.10349999999999999,0.1095,0.11550000000000001,0.1182,0.122,0.11899999999999999,0.1288,0.13009999999999999,0.1361,0.13489999999999999,0.1381,0.1384,0.14280000000000001,0.14369999999999999]
["Croatia",7.6100000000000001E-2,8.0600000000000005E-2,8.1199999999999994E-2,9.7500000000000003E-2,9.4799999999999995E-2,9.4500000000000001E-2,9.3899999999999997E-2,9.3700000000000006E-2,9.2499999999999999E-2,9.3200000000000005E-2,9.7100000000000006E-2,0.11070000000000001,0.10979999999999999,0.108,0.105,0.10589999999999999,0.1053,0.105,0.10489999999999999]
["Italy",":",":",0.18479999999999999,0.20250000000000001,0.1908,0.1817,0.17899999999999999,0.17510000000000001,0.18110000000000001,0.18820000000000001,0.1938,0.20849999999999999,0.20830000000000001,0.21110000000000001,0.22239999999999999,0.21249999999999999,0.22270000000000001,0.22070000000000001,0.21940000000000001]
["Cyprus",":",0.1371,0.155,0.17760000000000001,0.1358,0.1431,0.16189999999999999,0.17630000000000001,0.17879999999999999,0.2104,0.24060000000000001,0.24940000000000001,0.23519999999999999,0.21099999999999999,0.19370000000000001,0.1988,0.16520000000000001,0.15540000000000001,0.12909999999999999]
["Latvia",":",6.9500000000000006E-2,8.0199999999999994E-2,9.5500000000000002E-2,9.5699999999999993E-2,9.5899999999999999E-2,9.5399999999999999E-2,9.5299999999999996E-2,9.5699999999999993E-2,0.11,0.1143,0.1132,0.114,0.1123,0.1128,0.11219999999999999,0.1351,0.13639999999999999,0.13450000000000001]
["Lithuania",":",7.3700000000000002E-2,7.2900000000000006E-2,7.3200000000000001E-2,7.9899999999999999E-2,7.6799999999999993E-2,9.5500000000000002E-2,0.10050000000000001,0.1004,0.1009,0.1042,0.1048,0.1132,0.115,0.1099,0.109,0.1038,0.1027,0.1017]
["Luxembourg",0.15890000000000001,0.1552,0.1552,0.15179999999999999,0.17749999999999999,0.17749999999999999,0.1628,0.16489999999999999,0.1583,0.15679999999999999,0.16,0.16089999999999999,0.15709999999999999,0.15529999999999999,0.16400000000000001,0.16400000000000001,0.1636,0.1636,0.15720000000000001]
["Hungary",":",0.108,0.129,0.12939999999999999,0.12379999999999999,0.13320000000000001,0.1361,0.12590000000000001,0.13450000000000001,0.12429999999999999,0.123,0.1285,0.1111,0.1051,9.4600000000000004E-2,9.0200000000000002E-2,8.8700000000000001E-2,9.0200000000000002E-2,8.77E-2]
["Malta",":",8.7400000000000005E-2,9.4500000000000001E-2,0.14630000000000001,0.16270000000000001,0.14410000000000001,0.15690000000000001,0.15709999999999999,0.15720000000000001,0.15859999999999999,0.1593,0.1598,0.1585,0.16089999999999999,0.1404,0.11890000000000001,0.1197,0.12089999999999999,0.1197]
["Netherlands",0.14779999999999999,0.14630000000000001,0.1487,0.15110000000000001,0.1663,0.16020000000000001,0.14849999999999999,0.15029999999999999,0.15140000000000001,0.15140000000000001,0.1555,0.1552,0.15690000000000001,0.15740000000000001,0.15210000000000001,0.14879999999999999,0.16420000000000001,0.1525,0.13389999999999999]
["Austria",":",0.1462,0.14829999999999999,0.14760000000000001,0.159,0.15909999999999999,0.16389999999999999,0.1608,0.16550000000000001,0.1638,0.1646,0.1686,0.17349999999999999,0.16819999999999999,0.16839999999999999,0.1656,0.16739999999999999,0.16520000000000001,0.16950000000000001]
["Poland",":",0.11310000000000001,0.1032,0.1062,9.2700000000000005E-2,0.10580000000000001,0.1099,0.1132,0.1196,0.1099,0.1153,0.12429999999999999,0.1203,0.1168,0.11550000000000001,0.1144,0.1174,0.1153,0.10829999999999999]
["Portugal",":",0.14879999999999999,0.14119999999999999,0.14530000000000001,0.14369999999999999,0.15190000000000001,0.15040000000000001,0.15679999999999999,0.1555,0.1636,0.16250000000000001,0.16830000000000001,0.16950000000000001,0.1736,0.17710000000000001,0.1817,0.18559999999999999,0.186,0.19109999999999999]
["Romania",":",9.5399999999999999E-2,8.8499999999999995E-2,9.1999999999999998E-2,8.14E-2,8.1500000000000003E-2,8.5599999999999996E-2,8.3900000000000002E-2,8.48E-2,8.2299999999999998E-2,7.9500000000000001E-2,8.6699999999999999E-2,0.1067,0.1031,0.1041,0.10059999999999999,0.1051,0.10630000000000001,0.10539999999999999]
["Slovenia",":",9.2999999999999999E-2,9.5600000000000004E-2,9.64E-2,0.11219999999999999,0.11169999999999999,0.1167,0.11890000000000001,0.1201,0.12429999999999999,0.1285,0.1285,0.13420000000000001,0.1358,0.1336,0.1338,0.13020000000000001,0.13370000000000001,0.1326]
["Slovakia",":",0.1152,0.11940000000000001,0.1283,0.12939999999999999,0.13109999999999999,0.12770000000000001,0.1376,0.14019999999999999,0.14249999999999999,0.14299999999999999,0.14349999999999999,0.14149999999999999,0.13980000000000001,0.12559999999999999,0.12690000000000001,0.1255,0.12640000000000001,0.1186]
["Finland",":",9.4200000000000006E-2,0.1003,0.1043,0.1062,0.1056,0.1086,0.1114,0.12520000000000001,0.12790000000000001,0.126,0.12670000000000001,0.12720000000000001,0.12570000000000001,0.12609999999999999,0.124,0.12520000000000001,0.1234,0.1242]
["Sweden",0.1246,0.129,0.13589999999999999,0.14000000000000001,0.12889999999999999,0.13189999999999999,0.14710000000000001,0.156,0.1678,0.1636,0.16209999999999999,0.1666,0.1681,0.16370000000000001,0.1573,0.14940000000000001,0.14810000000000001,0.14990000000000001,0.1515]
["United Kingdom",":",0.1411,0.1394,0.153,0.1399,0.1341,0.1321,0.13800000000000001,0.13650000000000001,0.15090000000000001,0.1603,0.1701,0.1658,0.17119999999999999,0.18260000000000001,0.19170000000000001,0.2024,0.2079,0.18590000000000001]
[]
["Special value:"]
[":","not available"]
[]
["PRODUCT","Electrical energy"]
["CONSOM","Band DD : 5 000 kWh < Consumption < 15 000 kWh"]
["UNIT","Kilowatt-hour"]
["TAX","Excluding VAT and other recoverable taxes and levies"]
["CURRENCY","Euro"]
[]
["GEO/TIME","2007S1","2007S2","2008S1","2008S2","2009S1","2009S2","2010S1","2010S2","2011S1","2011S2","2012S1","2012S2","2013S1","2013S2","2014S1","2014S2","2015S1","2015S2","2016S1"]
["European Union (28 countries)",":",0.1273,0.129,0.1351,0.13589999999999999,0.1371,0.13800000000000001,0.14219999999999999,0.14710000000000001,0.15229999999999999,0.1537,0.16159999999999999,0.16300000000000001,0.1666,0.1668,0.16969999999999999,0.1709,0.1736,0.16719999999999999]
["Belgium",":",0.1308,0.14610000000000001,0.1608,0.14069999999999999,0.13589999999999999,0.1431,0.1459,0.15939999999999999,0.1552,0.15989999999999999,0.1615,0.16259999999999999,0.16450000000000001,0.1671,0.16900000000000001,0.18179999999999999,0.1842,0.193]
["Bulgaria",":",5.9299999999999999E-2,5.8799999999999998E-2,6.8000000000000005E-2,6.8000000000000005E-2,6.8500000000000005E-2,6.7500000000000004E-2,6.9400000000000003E-2,6.8599999999999994E-2,7.22E-2,6.88E-2,8.0500000000000002E-2,7.7200000000000005E-2,7.4399999999999994E-2,6.9500000000000006E-2,7.3300000000000004E-2,7.8E-2,8.0100000000000005E-2,7.8899999999999998E-2]
["Czech Republic",6.7799999999999999E-2,6.9800000000000001E-2,8.6900000000000005E-2,8.8599999999999998E-2,9.0999999999999998E-2,9.5899999999999999E-2,9.1700000000000004E-2,9.4899999999999998E-2,0.1031,0.1011,0.1053,0.1055,0.1066,0.10440000000000001,9.11E-2,9.0499999999999997E-2,9.0499999999999997E-2,9.1999999999999998E-2,9.3600000000000003E-2]
["Denmark",":",0.17,0.1875,0.19950000000000001,0.19220000000000001,0.1807,0.1847,0.18770000000000001,0.20319999999999999,0.20860000000000001,0.20979999999999999,0.20830000000000001,0.18149999999999999,0.1777,0.18410000000000001,0.18360000000000001,0.18029999999999999,0.1777,0.19450000000000001]
["Germany (until 1990 former territory of the FRG)",0.15859999999999999,0.16689999999999999,0.16700000000000001,0.17130000000000001,0.17860000000000001,0.1797,0.1883,0.19259999999999999,0.20150000000000001,0.2036,0.2072,0.21360000000000001,0.2339,0.23330000000000001,0.23769999999999999,0.23760000000000001,0.2354,0.23499999999999999,0.23630000000000001]
["Estonia",":",6.3899999999999998E-2,6.5799999999999997E-2,7.0099999999999996E-2,7.5200000000000003E-2,7.4700000000000003E-2,7.8299999999999995E-2,8.1500000000000003E-2,7.8100000000000003E-2,8.5099999999999995E-2,8.7999999999999995E-2,9.1300000000000006E-2,0.109,0.1105,0.1024,0.10730000000000001,0.1023,0.1033,0.1009]
["Ireland",":",0.1527,0.13850000000000001,0.16250000000000001,0.16189999999999999,0.1487,0.14199999999999999,0.14829999999999999,0.13919999999999999,0.1633,0.16589999999999999,0.17760000000000001,0.17549999999999999,0.1857,0.18310000000000001,0.1923,0.1797,0.1862,0.17419999999999999]
["Greece",":",0.11,0.1142,0.12330000000000001,0.12529999999999999,0.11020000000000001,0.12509999999999999,0.1263,0.1229,0.1225,0.13730000000000001,0.14199999999999999,0.1527,0.16120000000000001,0.16930000000000001,0.16739999999999999,0.16769999999999999,0.16639999999999999,0.1663]
["Spain",":",0.1113,0.1074,0.12809999999999999,0.1265,0.1331,0.13370000000000001,0.14330000000000001,0.14990000000000001,0.1643,0.16350000000000001,0.1726,0.16089999999999999,0.17199999999999999,0.15490000000000001,0.1744,0.16450000000000001,0.1726,0.15920000000000001]
["France",":",9.1800000000000007E-2,9.01E-2,0.09,8.9899999999999994E-2,9.7000000000000003E-2,9.7900000000000001E-2,0.10340000000000001,0.1075,0.1109,0.10829999999999999,0.11700000000000001,0.1182,0.124,0.1229,0.12590000000000001,0.12670000000000001,0.13170000000000001,0.13270000000000001]
["Croatia",7.3400000000000007E-2,7.6499999999999999E-2,7.5600000000000001E-2,9.1899999999999996E-2,8.9399999999999993E-2,9.1800000000000007E-2,8.9899999999999994E-2,9.0399999999999994E-2,8.8700000000000001E-2,8.8599999999999998E-2,9.1600000000000001E-2,0.1057,0.1045,0.1031,0.1002,0.1018,0.1007,0.1007,0.1004]
["Italy",":",":",0.21,0.21870000000000001,0.23730000000000001,0.2379,0.22700000000000001,0.2203,0.221,0.23139999999999999,0.23949999999999999,0.2571,0.25879999999999997,0.26419999999999999,0.2732,0.26669999999999999,0.2777,0.2757,0.25729999999999997]
["Cyprus",":",0.13739999999999999,0.1555,0.18310000000000001,0.1401,0.14419999999999999,0.15720000000000001,0.17499999999999999,0.1736,0.2082,0.23469999999999999,0.2487,0.23069999999999999,0.21060000000000001,0.189,0.19869999999999999,0.16089999999999999,0.1555,0.1246]
["Latvia",":",6.8599999999999994E-2,7.8200000000000006E-2,9.5399999999999999E-2,9.5399999999999999E-2,9.5899999999999999E-2,9.5399999999999999E-2,9.5299999999999996E-2,9.6699999999999994E-2,0.1181,0.1171,0.1208,0.1168,0.1196,0.11600000000000001,0.1198,0.13439999999999999,0.1356,0.1338]
["Lithuania",":",7.0099999999999996E-2,6.8500000000000005E-2,6.9699999999999998E-2,7.5399999999999995E-2,7.3300000000000004E-2,9.1200000000000003E-2,9.7600000000000006E-2,9.74E-2,9.7600000000000006E-2,0.10150000000000001,0.10249999999999999,0.1104,0.11219999999999999,0.1066,0.1061,0.10009999999999999,9.9400000000000002E-2,9.8000000000000004E-2]
["Luxembourg",0.1464,0.1394,0.1394,0.1386,0.1603,0.1603,0.152,0.15379999999999999,0.1474,0.1454,0.14960000000000001,0.15,0.14319999999999999,0.14269999999999999,0.151,0.151,0.15090000000000001,0.15090000000000001,0.14460000000000001]
["Hungary",":",0.111,0.12839999999999999,0.1275,0.1124,0.12509999999999999,0.1275,0.11990000000000001,0.1273,0.1168,0.1144,0.1205,0.10630000000000001,0.1018,9.1499999999999998E-2,8.7499999999999994E-2,8.6800000000000002E-2,8.7900000000000006E-2,8.5500000000000007E-2]
["Malta",":",0.1221,0.1246,0.1719,0.1686,0.151,0.17449999999999999,0.17380000000000001,0.17469999999999999,0.17469999999999999,0.17519999999999999,0.17469999999999999,0.17399999999999999,0.1769,0.161,0.1391,0.14149999999999999,0.1409,0.1429]
["Netherlands",0.16259999999999999,0.1613,0.1613,0.16520000000000001,0.18149999999999999,0.1757,0.16520000000000001,0.16520000000000001,0.16470000000000001,0.1651,0.16830000000000001,0.1678,0.16839999999999999,0.16889999999999999,0.1668,0.1646,0.17230000000000001,0.16489999999999999,0.14530000000000001]
["Austria",":",0.1358,0.13650000000000001,0.1381,0.1449,0.14610000000000001,0.14779999999999999,0.1462,0.15040000000000001,0.1484,0.1487,0.1527,0.1573,0.1542,0.154,0.15129999999999999,0.14829999999999999,0.14610000000000001,0.14929999999999999]
["Poland",":",8.5500000000000007E-2,9.1300000000000006E-2,0.1007,8.7900000000000006E-2,9.6100000000000005E-2,0.1012,0.1094,0.1134,0.1042,0.1145,0.11559999999999999,0.1142,0.11269999999999999,0.10920000000000001,0.1109,0.1123,0.1111,0.1036]
["Portugal",":",0.1424,0.1265,0.13009999999999999,0.13020000000000001,0.1366,0.13650000000000001,0.14269999999999999,0.14149999999999999,0.14860000000000001,0.1492,0.15479999999999999,0.15659999999999999,0.16200000000000001,0.16750000000000001,0.17349999999999999,0.1762,0.1767,0.1822]
["Romania",":",9.6100000000000005E-2,8.6999999999999994E-2,9.2100000000000001E-2,7.8299999999999995E-2,7.8600000000000003E-2,8.4000000000000005E-2,8.2699999999999996E-2,8.3599999999999994E-2,8.2000000000000003E-2,7.9299999999999995E-2,8.6800000000000002E-2,0.1051,0.1012,0.1013,9.9500000000000005E-2,0.1036,0.1052,0.1016]
["Slovenia",":",8.5099999999999995E-2,8.8800000000000004E-2,9.0999999999999998E-2,0.1055,0.1026,0.10639999999999999,0.1085,0.111,0.1134,0.11700000000000001,0.1171,0.11990000000000001,0.1208,0.11849999999999999,0.1191,0.1145,0.1169,0.1152]
["Slovakia",":",9.2200000000000004E-2,0.1002,0.1095,0.12470000000000001,0.13089999999999999,0.1142,0.1225,0.12520000000000001,0.12839999999999999,0.12690000000000001,0.12790000000000001,0.12479999999999999,0.126,0.1114,0.113,0.1094,0.1101,0.1046]
["Finland",":",8.1299999999999997E-2,8.6699999999999999E-2,9.11E-2,9.4100000000000003E-2,9.3700000000000006E-2,9.5799999999999996E-2,9.74E-2,0.1101,0.113,0.1116,0.11119999999999999,0.1124,0.1105,0.1106,0.10829999999999999,0.1095,0.1076,0.1074]
["Sweden",0.111,0.11749999999999999,0.1188,0.1208,0.1096,0.11360000000000001,0.12770000000000001,0.1366,0.14430000000000001,0.14099999999999999,0.13619999999999999,0.1426,0.1411,0.1404,0.13020000000000001,0.12859999999999999,0.1222,0.12379999999999999,0.1225]
["United Kingdom",":",0.12770000000000001,0.129,0.13339999999999999,0.12529999999999999,0.1191,0.1179,0.1246,0.1207,0.1346,0.1419,0.1537,0.14949999999999999,0.15759999999999999,0.16450000000000001,0.1731,0.18229999999999999,0.19189999999999999,0.17119999999999999]
[]
["Special value:"]
[":","not available"]
[]
["PRODUCT","Electrical energy"]
["CONSOM","Band DE : Consumption > 15 000 kWh"]
["UNIT","Kilowatt-hour"]
["TAX","Excluding VAT and other recoverable taxes and levies"]
["CURRENCY","Euro"]
[]
["GEO/TIME","2007S1","2007S2","2008S1","2008S2","2009S1","2009S2","2010S1","2010S2","2011S1","2011S2","2012S1","2012S2","2013S1","2013S2","2014S1","2014S2","2015S1","2015S2","2016S1"]
["European Union (28 countries)",":",0.11849999999999999,0.1227,0.12920000000000001,0.13250000000000001,0.13389999999999999,0.13339999999999999,0.13739999999999999,0.14050000000000001,0.1467,0.1477,0.15540000000000001,0.15540000000000001,0.15640000000000001,0.1585,0.16189999999999999,0.16370000000000001,0.16700000000000001,0.15970000000000001]
["Belgium",":",0.1154,0.13170000000000001,0.1444,0.1205,0.1128,0.1196,0.12470000000000001,0.13769999999999999,0.13100000000000001,0.1517,0.13370000000000001,0.1431,0.1381,0.1409,0.14729999999999999,0.1522,0.1507,0.14799999999999999]
["Bulgaria",":",5.9799999999999999E-2,5.8799999999999998E-2,7.5200000000000003E-2,6.8000000000000005E-2,6.7500000000000004E-2,6.7000000000000004E-2,6.9599999999999995E-2,6.9099999999999995E-2,7.22E-2,6.8199999999999997E-2,8.0699999999999994E-2,7.7700000000000005E-2,7.4399999999999994E-2,6.9099999999999995E-2,7.0800000000000002E-2,7.7499999999999999E-2,7.9699999999999993E-2,7.9299999999999995E-2]
["Czech Republic",0.06,6.1699999999999998E-2,7.9000000000000001E-2,8.0500000000000002E-2,8.3299999999999999E-2,8.77E-2,8.2400000000000001E-2,8.5300000000000001E-2,9.2799999999999994E-2,9.0999999999999998E-2,9.6100000000000005E-2,9.6299999999999997E-2,9.7699999999999995E-2,9.5600000000000004E-2,7.7600000000000002E-2,7.7100000000000002E-2,7.7499999999999999E-2,7.8700000000000006E-2,8.5400000000000004E-2]
["Denmark",":",0.17,0.1875,0.19950000000000001,0.19220000000000001,0.1807,0.1847,0.18770000000000001,0.20319999999999999,0.20860000000000001,0.20979999999999999,0.20830000000000001,0.18149999999999999,0.1777,0.18410000000000001,0.18360000000000001,0.18029999999999999,0.1777,0.17699999999999999]
["Germany (until 1990 former territory of the FRG)",0.15129999999999999,0.1598,0.16020000000000001,0.16550000000000001,0.1734,0.17369999999999999,0.183,0.18579999999999999,0.19489999999999999,0.19539999999999999,0.19950000000000001,0.20519999999999999,0.22789999999999999,0.22420000000000001,0.2261,0.2281,0.22489999999999999,0.22509999999999999,0.22520000000000001]
["Estonia",":",5.5599999999999997E-2,5.6599999999999998E-2,6.2899999999999998E-2,6.6100000000000006E-2,6.7500000000000004E-2,7.0099999999999996E-2,7.5499999999999998E-2,7.0900000000000005E-2,7.9500000000000001E-2,8.0799999999999997E-2,8.4699999999999998E-2,9.8000000000000004E-2,9.7600000000000006E-2,9.2399999999999996E-2,9.9900000000000003E-2,9.4799999999999995E-2,9.74E-2,9.2600000000000002E-2]
["Ireland",":",0.12939999999999999,0.12089999999999999,0.14019999999999999,0.14199999999999999,0.1293,0.12330000000000001,0.12559999999999999,0.1162,0.1368,0.14410000000000001,0.1527,0.1527,0.1593,0.15909999999999999,0.16070000000000001,0.1532,0.1593,0.14990000000000001]
["Greece",":",0.1283,0.12479999999999999,0.15609999999999999,0.15240000000000001,0.1321,0.15310000000000001,0.15870000000000001,0.1115,0.12330000000000001,0.1205,0.14799999999999999,0.13450000000000001,0.1716,0.16650000000000001,0.17749999999999999,0.1656,0.17349999999999999,0.16389999999999999]
["Spain",":",0.1026,0.1031,0.1207,0.1222,0.1212,0.1234,0.13070000000000001,0.13150000000000001,0.15179999999999999,0.1487,0.1535,0.14829999999999999,0.15359999999999999,0.1376,0.1477,0.15210000000000001,0.16539999999999999,0.14599999999999999]
["France",":",8.4400000000000003E-2,8.4099999999999994E-2,8.9300000000000004E-2,8.5099999999999995E-2,9.3799999999999994E-2,9.4399999999999998E-2,0.1,0.105,0.1075,0.10589999999999999,0.11360000000000001,0.1072,0.11269999999999999,0.1105,0.121,0.1235,0.1288,0.12989999999999999]
["Croatia",5.4399999999999997E-2,7.2400000000000006E-2,7.2900000000000006E-2,8.7800000000000003E-2,8.5300000000000001E-2,8.77E-2,8.6400000000000005E-2,8.6900000000000005E-2,8.5300000000000001E-2,8.5199999999999998E-2,8.7599999999999997E-2,0.1018,0.1011,9.9900000000000003E-2,9.74E-2,9.8299999999999998E-2,9.7500000000000003E-2,9.7500000000000003E-2,9.7299999999999998E-2]
["Italy",":",":",0.19750000000000001,0.21240000000000001,0.26629999999999998,0.28339999999999999,0.25629999999999997,0.25269999999999998,0.24429999999999999,0.26040000000000002,0.26779999999999998,0.2878,0.29099999999999998,0.26910000000000001,0.29770000000000002,0.3029,0.29849999999999999,0.30930000000000002,0.26069999999999999]
["Cyprus",":",0.13830000000000001,0.15609999999999999,0.18459999999999999,0.1419,0.14660000000000001,0.1386,0.1772,0.15579999999999999,0.21099999999999999,0.21429999999999999,0.25040000000000001,0.21740000000000001,0.21240000000000001,0.17610000000000001,0.20030000000000001,0.14460000000000001,0.15690000000000001,0.11169999999999999]
["Latvia",":",6.6299999999999998E-2,7.5300000000000006E-2,9.5200000000000007E-2,9.5299999999999996E-2,9.5399999999999999E-2,9.5000000000000001E-2,9.4899999999999998E-2,9.9099999999999994E-2,0.1186,0.1207,0.1216,0.12039999999999999,0.114,0.12,0.12089999999999999,0.1321,0.13420000000000001,0.1308]
["Lithuania",":",6.6500000000000004E-2,6.3799999999999996E-2,6.5100000000000005E-2,6.7900000000000002E-2,6.8099999999999994E-2,8.5500000000000007E-2,9.3299999999999994E-2,9.1999999999999998E-2,9.1399999999999995E-2,9.5399999999999999E-2,9.7000000000000003E-2,0.1036,0.10580000000000001,9.9900000000000003E-2,0.10009999999999999,9.3399999999999997E-2,9.3600000000000003E-2,9.1300000000000006E-2]
["Luxembourg",9.98E-2,9.8900000000000002E-2,9.8900000000000002E-2,0.10879999999999999,0.13139999999999999,0.13139999999999999,0.1368,0.13830000000000001,0.1318,0.1298,0.13589999999999999,0.13489999999999999,0.13170000000000001,0.13139999999999999,0.13980000000000001,0.14019999999999999,0.1409,0.14080000000000001,0.1346]
["Hungary",":",8.8999999999999996E-2,0.13239999999999999,0.1346,0.111,0.12939999999999999,0.12909999999999999,0.1236,0.1321,0.1198,0.13070000000000001,0.12970000000000001,0.1105,0.105,9.7299999999999998E-2,9.0700000000000003E-2,8.8800000000000004E-2,9.35E-2,8.8800000000000004E-2]
["Malta",":",0.13350000000000001,0.13500000000000001,0.18779999999999999,0.20269999999999999,0.20269999999999999,0.37930000000000003,0.36870000000000003,0.36480000000000001,0.35010000000000002,0.3513,0.33789999999999998,0.34029999999999999,0.35709999999999997,0.36220000000000002,0.36980000000000002,0.3463,0.3291,0.34499999999999997]
["Netherlands",0.14899999999999999,":",":",":",0.2165,0.1726,0.1996,0.15890000000000001,0.20469999999999999,0.16370000000000001,0.21379999999999999,0.17369999999999999,0.21640000000000001,0.17530000000000001,0.2213,0.1699,0.2175,0.16339999999999999,0.20100000000000001]
["Austria",":",0.12540000000000001,0.12620000000000001,0.12790000000000001,0.13100000000000001,0.13320000000000001,0.1308,0.12230000000000001,0.13589999999999999,0.1343,0.13289999999999999,0.1366,0.14630000000000001,0.14149999999999999,0.13439999999999999,0.13100000000000001,0.1265,0.1242,0.12640000000000001]
["Poland",":",0.1053,9.0999999999999998E-2,9.5699999999999993E-2,8.6199999999999999E-2,9.6000000000000002E-2,0.1018,0.1066,0.113,0.10489999999999999,0.1086,0.1137,0.1124,0.10970000000000001,0.1095,0.1113,0.1111,0.1095,0.10299999999999999]
["Portugal",":",0.1361,0.1182,0.1207,0.12230000000000001,0.127,0.13020000000000001,0.13109999999999999,0.1361,0.13700000000000001,0.14460000000000001,0.15140000000000001,0.15570000000000001,0.15559999999999999,0.16259999999999999,0.1633,0.17030000000000001,0.16830000000000001,0.17510000000000001]
["Romania",":",9.7199999999999995E-2,8.7800000000000003E-2,9.4299999999999995E-2,7.6100000000000001E-2,7.6300000000000007E-2,8.1100000000000005E-2,7.8799999999999995E-2,7.9200000000000007E-2,8.0799999999999997E-2,7.8600000000000003E-2,8.5000000000000006E-2,0.1027,9.8100000000000007E-2,9.9400000000000002E-2,9.8100000000000007E-2,0.1008,0.1028,9.8500000000000004E-2]
["Slovenia",":",7.9799999999999996E-2,8.3900000000000002E-2,8.9599999999999999E-2,0.1041,9.8000000000000004E-2,0.1007,0.1028,0.10489999999999999,0.1041,0.1061,0.1069,0.1066,0.1085,0.10639999999999999,0.10730000000000001,0.1042,0.1055,0.1038]
["Slovakia",":",7.0999999999999994E-2,7.9100000000000004E-2,8.7999999999999995E-2,0.1022,0.1106,9.6799999999999997E-2,0.1041,0.11,0.111,0.1114,0.1124,0.11020000000000001,0.1118,0.1007,0.1023,9.74E-2,9.6600000000000005E-2,9.3299999999999994E-2]
["Finland",":",6.6900000000000001E-2,7.2900000000000006E-2,7.6499999999999999E-2,7.8700000000000006E-2,7.8E-2,7.9899999999999999E-2,8.14E-2,9.3700000000000006E-2,9.6000000000000002E-2,9.5000000000000001E-2,9.4700000000000006E-2,9.5899999999999999E-2,9.4299999999999995E-2,9.4500000000000001E-2,9.2299999999999993E-2,9.4E-2,9.1899999999999996E-2,9.0700000000000003E-2]
["Sweden",9.9299999999999999E-2,0.10489999999999999,0.1079,0.1106,0.1031,0.104,0.11650000000000001,0.1237,0.1298,0.12620000000000001,0.1225,0.12720000000000001,0.126,0.1246,0.1148,0.11070000000000001,0.107,0.1072,0.1069]
["United Kingdom",":",0.1072,0.13159999999999999,0.12609999999999999,0.1242,0.1134,0.107,0.115,0.10979999999999999,0.1258,0.12959999999999999,0.14280000000000001,0.13500000000000001,0.14680000000000001,0.1512,0.1598,0.16569999999999999,0.17730000000000001,0.15490000000000001]
[]
["Special value:"]
[":","not available"]

{"sheet":"Level 3","index":7,"n_rows":244,"n_cols":64,"rows_kept":244,"cut":false,"hidden":false,"merged":[[2,0,2,11],[2,13,2,24],[2,26,2,37],[2,39,2,50],[2,52,2,63]]}
["Elpriser industri. Level 3 elpriser for forskellige forbrugsintervaller"]
[]
["Forbrugsinterval < 1000 kWh",null,null,null,null,null,null,null,null,null,null,null,null,"Forbrugsinterval 1000 kWh < 2500 kWh",null,null,null,null,null,null,null,null,null,null,null,null,"Forbrugsinterval 2500 kWh <  5000 kWh",null,null,null,null,null,null,null,null,null,null,null,null,"Forbrugsinterval 5000 kWh < 15 000 kWh",null,null,null,null,null,null,null,null,null,null,null,null,"Forbrugsinterval > 15 000 kWh"]
[]
["Euro/kWh",{"$f":"LEFT(B52,4)+0","v":2007},{"$f":"+B5+1","v":2008},2009,2010,2011,2012,2013,{"$f":"+H5+1","v":2014},{"$f":"+I5+1","v":2015},{"$f":"+J5+1","v":2016},{"$f":"+K5+1","v":2017},null,"Euro/kWh",{"$f":"LEFT(B92,4)+0","v":2007},{"$f":"+O5+1","v":2008},2009,2010,2011,2012,2013,{"$f":"+U5+1","v":2014},{"$f":"+V5+1","v":2015},{"$f":"+W5+1","v":2016},{"$f":"+X5+1","v":2017},null,"Euro/kWh",{"$f":"LEFT(B132,4)+0","v":2007},{"$f":"+AB5+1","v":2008},2009,2010,2011,2012,2013,{"$f":"+AH5+1","v":2014},{"$f":"+AI5+1","v":2015},{"$f":"+AJ5+1","v":2016},{"$f":"+AK5+1","v":2017},null,"Euro/kWh",{"$f":"LEFT(B172,4)+0","v":2007},{"$f":"+AO5+1","v":2008},2009,2010,2011,2012,2013,2014,{"$f":"+AV5+1","v":2015},{"$f":"+AW5+1","v":2016},{"$f":"+AX5+1","v":2017},null,"Euro/kWh",{"$f":"LEFT(B212,4)+0","v":2007},{"$f":"+BB5+1","v":2008},2009,2010,2011,2012,2013,{"$f":"+BH5+1","v":2014},{"$f":"+BI5+1","v":2015},{"$f":"+BJ5+1","v":2016},{"$f":"+BK5+1","v":2017}]
[{"$f":"A53","v":"European Union (28 countries)"},{"$f":"IFERROR(AVERAGE(B53:C53),\"*\")","v":0.24099999999999999},{"$f":"IFERROR(AVERAGE(D53:E53),\"*\")","v":0.25230000000000002},{"$f":"IFERROR(AVERAGE(F53:G53),\"*\")","v":0.25259999999999999},{"$f":"IFERROR(AVERAGE(H53:I53),\"*\")","v":0.26579999999999998},{"$f":"IFERROR(AVERAGE(J53:K53),\"*\")","v":0.27544999999999997},{"$f":"IFERROR(AVERAGE(L53:M53),\"*\")","v":0.2838},{"$f":"IFERROR(AVERAGE(N53:O53),\"*\")","v":0.30330000000000001},{"$f":"IFERROR(AVERAGE(P53:Q53),\"*\")","v":0.31435000000000002},{"$f":"IFERROR(AVERAGE(R53:S53),\"*\")","v":0.32499999999999996},{"$f":"IFERROR(AVERAGE(T53:U53),\"*\")","v":0.33090000000000003},{"$f":"IFERROR(AVERAGE(V53:W53),\"*\")","v":"*"},null,{"$f":"A93","v":"European Union (28 countries)"},{"$f":"IFERROR(AVERAGE(B93:C93),\"*\")","v":0.16739999999999999},{"$f":"IFERROR(AVERAGE(D93:E93),\"*\")","v":0.1734},{"$f":"IFERROR(AVERAGE(F93:G93),\"*\")","v":0.17499999999999999},{"$f":"IFERROR(AVERAGE(H93:I93),\"*\")","v":0.18235000000000001},{"$f":"IFERROR(AVERAGE(J93:K93),\"*\")","v":0.19440000000000002},{"$f":"IFERROR(AVERAGE(L93:M93),\"*\")","v":0.2059},{"$f":"IFERROR(AVERAGE(N93:O93),\"*\")","v":0.21534999999999999},{"$f":"IFERROR(AVERAGE(P93:Q93),\"*\")","v":0.22034999999999999},{"$f":"IFERROR(AVERAGE(R93:S93),\"*\")","v":0.2266},{"$f":"IFERROR(AVERAGE(T93:U93),\"*\")","v":0.22550000000000001},{"$f":"IFERROR(AVERAGE(V93:W93),\"*\")","v":"*"},null,{"$f":"A133","v":"European Union (28 countries)"},{"$f":"IFERROR(AVERAGE(B133:C133),\"*\")","v":0.15620000000000001},{"$f":"IFERROR(AVERAGE(D133:E133),\"*\")","v":0.16215000000000002},{"$f":"IFERROR(AVERAGE(F133:G133),\"*\")","v":0.16365000000000002},{"$f":"IFERROR(AVERAGE(H133:I133),\"*\")","v":0.17004999999999998},{"$f":"IFERROR(AVERAGE(J133:K133),\"*\")","v":0.18219999999999997},{"$f":"IFERROR(AVERAGE(L133:M133),\"*\")","v":0.1923},{"$f":"IFERROR(AVERAGE(N133:O133),\"*\")","v":0.20100000000000001},{"$f":"IFERROR(AVERAGE(P133:Q133),\"*\")","v":0.2046},{"$f":"IFERROR(AVERAGE(R133:S133),\"*\")","v":0.20934999999999998},{"$f":"IFERROR(AVERAGE(T133:U133),\"*\")","v":0.20580000000000001},{"$f":"IFERROR(AVERAGE( V133:W133),\"*\")","v":"*"},null,{"$f":"A173","v":"European Union (28 countries)"},{"$f":"IFERROR(AVERAGE(B173:C173),\"*\")","v":0.1469},{"$f":"IFERROR(AVERAGE(D173:E173),\"*\")","v":0.15225},{"$f":"IFERROR(AVERAGE(F173:G173),\"*\")","v":0.15760000000000002},{"$f":"IFERROR(AVERAGE(H173:I173),\"*\")","v":0.16255},{"$f":"IFERROR(AVERAGE(J173:K173),\"*\")","v":0.17430000000000001},{"$f":"IFERROR(AVERAGE(L173:M173),\"*\")","v":0.18385000000000001},{"$f":"IFERROR(AVERAGE(N173:O173),\"*\")","v":0.19255},{"$f":"IFERROR(AVERAGE(P173:Q173),\"*\")","v":0.19569999999999999},{"$f":"IFERROR(AVERAGE(R173:S173),\"*\")","v":0.2001},{"$f":"IFERROR(AVERAGE(T173:U173),\"*\")","v":0.1948},{"$f":"IFERROR(AVERAGE(V173:W173),\"*\")","v":"*"},null,{"$f":"A213","v":"European Union (28 countries)"},{"$f":"IFERROR(AVERAGE(B213:C213),\"*\")","v":0.13719999999999999},{"$f":"IFERROR(AVERAGE(D213:E213),\"*\")","v":0.14515},{"$f":"IFERROR(AVERAGE(F213:G213),\"*\")","v":0.15334999999999999},{"$f":"IFERROR(AVERAGE(H213:I213),\"*\")","v":0.15660000000000002},{"$f":"IFERROR(AVERAGE(J213:K213),\"*\")","v":0.1678},{"$f":"IFERROR(AVERAGE(L213:M213),\"*\")","v":0.17660000000000001},{"$f":"IFERROR(AVERAGE(N213:O213),\"*\")","v":0.18209999999999998},{"$f":"IFERROR(AVERAGE(P213:Q213),\"*\")","v":0.18629999999999999},{"$f":"IFERROR(AVERAGE(R213:S213),\"*\")","v":0.19209999999999999},{"$f":"IFERROR(AVERAGE(T213:U213),\"*\")","v":0.1862},{"$f":"IFERROR(AVERAGE(V213:W213),\"*\")","v":"*"}]
[{"$f":"A54","v":"Belgium"},{"$f":"IFERROR(AVERAGE(B54:C54),\"*\")","v":0.24429999999999999},{"$f":"IFERROR(AVERAGE(D54:E54),\"*\")","v":0.31890000000000002},{"$f":"IFERROR(AVERAGE(F54:G54),\"*\")","v":0.27039999999999997},{"$f":"IFERROR(AVERAGE(H54:I54),\"*\")","v":0.28910000000000002},{"$f":"IFERROR(AVERAGE(J54:K54),\"*\")","v":0.29994999999999999},0.30115000000000003,0.2918,{"$f":"IFERROR(AVERAGE(P54:Q54),\"*\")","v":0.26280000000000003},{"$f":"IFERROR(AVERAGE(R54:S54),\"*\")","v":0.28615000000000002},0.4088,"*",null,{"$f":"A94","v":"Belgium"},0.1867,0.23194999999999999,0.2122,0.22005000000000002,0.23675000000000002,0.23815,{"$f":"IFERROR(AVERAGE(N94:O94),\"*\")","v":0.23715},0.22010000000000002,0.23885000000000001,0.2823,"*",null,{"$f":"A134","v":"Belgium"},{"$f":"IFERROR(AVERAGE(B134:C134),\"*\")","v":0.16830000000000001},0.20619999999999999,0.189,0.19664999999999999,0.21274999999999999,0.22749999999999998,{"$f":"IFERROR(AVERAGE(N134:O134),\"*\")","v":0.21939999999999998},0.20700000000000002,0.22389999999999999,0.25440000000000002,"*",null,{"$f":"A174","v":"Belgium"},0.16209999999999999,0.18565000000000001,0.16735,0.17485000000000001,0.19,0.19445000000000001,{"$f":"IFERROR(AVERAGE(N174:O174),\"*\")","v":0.19869999999999999},0.18380000000000002,0.20155000000000001,0.23300000000000001,"*",null,{"$f":"A214","v":"Belgium"},0.15620000000000001,0.16689999999999999,0.14119999999999999,0.14779999999999999,0.16239999999999999,0.17269999999999999,{"$f":"IFERROR(AVERAGE(N214:O214),\"*\")","v":0.1711},{"$f":"IFERROR(AVERAGE(P214:Q214),\"*\")","v":0.15925},{"$f":"IFERROR(AVERAGE(R214:S214),\"*\")","v":0.16944999999999999},{"$f":"IFERROR(AVERAGE(T214:U214),\"*\")","v":0.17899999999999999},{"$f":"IFERROR(AVERAGE(V214:W214),\"*\")","v":"*"}]
["Bulgaria",7.4099999999999999E-2,7.8199999999999992E-2,8.3350000000000007E-2,8.3249999999999991E-2,8.4600000000000009E-2,9.0700000000000003E-2,9.1849999999999987E-2,8.8249999999999995E-2,9.7250000000000003E-2,9.7799999999999998E-2,"*",null,"Bulgaria",7.2099999999999997E-2,7.6949999999999991E-2,8.2299999999999998E-2,8.224999999999999E-2,8.4350000000000008E-2,9.0100000000000013E-2,9.0299999999999991E-2,8.695E-2,9.5750000000000002E-2,9.6299999999999997E-2,"*",null,"Bulgaria",7.2099999999999997E-2,7.669999999999999E-2,8.2049999999999998E-2,8.2150000000000001E-2,8.5000000000000006E-2,9.0049999999999991E-2,{"$f":"IFERROR(AVERAGE(N135:O135),\"*\")","v":9.0299999999999991E-2},8.6349999999999996E-2,9.4950000000000007E-2,9.5600000000000004E-2,"*",null,"Bulgaria",7.1099999999999997E-2,7.619999999999999E-2,8.1799999999999998E-2,8.224999999999999E-2,8.4499999999999992E-2,8.9550000000000005E-2,9.0900000000000009E-2,8.5650000000000004E-2,9.4850000000000004E-2,9.4700000000000006E-2,"*",null,"Bulgaria",7.2099999999999997E-2,8.0299999999999996E-2,8.1299999999999997E-2,8.1850000000000006E-2,8.4749999999999992E-2,8.9349999999999999E-2,9.1200000000000003E-2,{"$f":"IFERROR(AVERAGE(P215:Q215),\"*\")","v":8.3900000000000002E-2},{"$f":"IFERROR(AVERAGE(R215:S215),\"*\")","v":9.4349999999999989E-2},{"$f":"IFERROR(AVERAGE(T215:U215),\"*\")","v":9.5100000000000004E-2},{"$f":"IFERROR(AVERAGE(V215:W215),\"*\")","v":"*"}]
["Czech Republic",0.21360000000000001,0.25164999999999998,0.25839999999999996,0.26574999999999999,0.28549999999999998,0.2918,0.28910000000000002,0.25785000000000002,0.25990000000000002,0.26700000000000002,"*",null,"Czech Republic",0.15955,0.19075,0.1986,0.20330000000000001,0.21634999999999999,0.2167,0.21560000000000001,0.18380000000000002,0.18435000000000001,0.18820000000000001,"*",null,"Czech Republic",0.11599999999999999,0.14145000000000002,0.14939999999999998,0.15225,0.1643,0.1666,{"$f":"IFERROR(AVERAGE(N136:O136),\"*\")","v":0.1663},0.13835,0.13965,0.14199999999999999,"*",null,"Czech Republic",8.1750000000000003E-2,0.1046,0.11119999999999999,0.1119,0.12240000000000001,0.12645000000000001,0.12780000000000002,0.11005000000000001,0.1103,0.1132,"*",null,"Czech Republic",7.2400000000000006E-2,9.5000000000000001E-2,0.10175000000000001,0.10045,0.11019999999999999,0.1153,0.11705,9.3700000000000006E-2,9.4549999999999995E-2,0.1036,"*"]
["Denmark",0.2676,0.29949999999999999,0.29189999999999999,0.29915000000000003,0.32489999999999997,0.32929999999999998,0.32605000000000001,0.33194999999999997,0.33315,0.38429999999999997,"*",null,"Denmark",0.2676,0.29949999999999999,0.29189999999999999,0.29915000000000003,0.32489999999999997,0.32929999999999998,0.32605000000000001,0.33194999999999997,0.33315,0.33400000000000002,"*",null,"Denmark",0.24010000000000001,0.27100000000000002,0.26269999999999999,0.26890000000000003,0.29420000000000002,0.29844999999999999,{"$f":"IFERROR(AVERAGE(N137:O137),\"*\")","v":0.29680000000000001},0.30385000000000001,0.30549999999999999,0.30880000000000002,"*",null,"Denmark",0.21240000000000001,0.2419,0.2331,0.23270000000000002,0.25739999999999996,0.26129999999999998,0.22449999999999998,0.2298,0.224,0.2432,"*",null,"Denmark",0.21240000000000001,0.2419,0.2331,0.23270000000000002,0.25739999999999996,0.26129999999999998,0.22449999999999998,0.2298,0.224,0.2213,"*"]
["Germany (until 1990 former territory of the FRG)",0.32894999999999996,0.34475,0.35830000000000001,0.36945,0.38329999999999997,0.39724999999999999,0.42620000000000002,0.43325000000000002,0.43620000000000003,0.45550000000000002,"*",null,"Germany (until 1990 former territory of the FRG)",0.22989999999999999,0.2414,0.25309999999999999,0.26585000000000003,0.27754999999999996,0.28854999999999997,0.31725000000000003,0.32289999999999996,0.32094999999999996,0.32629999999999998,"*",null,"Germany (until 1990 former territory of the FRG)",0.20650000000000002,0.21715000000000001,0.2288,0.24064999999999998,0.25295000000000001,0.26355000000000001,{"$f":"IFERROR(AVERAGE(N138:O138),\"*\")","v":0.29200000000000004},0.29774999999999996,0.29484999999999995,0.2969,"*",null,"Germany (until 1990 former territory of the FRG)",0.19400000000000001,0.20135,0.21299999999999999,0.2266,0.24109999999999998,0.25040000000000001,0.27795000000000003,0.2828,0.27990000000000004,0.28120000000000001,"*",null,"Germany (until 1990 former territory of the FRG)",0.18540000000000001,0.19385000000000002,0.20624999999999999,0.21944999999999998,0.23220000000000002,0.24080000000000001,0.26900000000000002,0.27024999999999999,0.26775000000000004,0.26800000000000002,"*"]
["Estonia",8.1199999999999994E-2,8.5499999999999993E-2,9.4600000000000004E-2,0.10125000000000001,0.10385,0.11474999999999999,0.1416,0.13605,0.13345000000000001,0.12470000000000001,"*",null,"Estonia",7.9899999999999999E-2,8.4749999999999992E-2,9.3849999999999989E-2,0.10045,0.10275000000000001,0.1132,0.1391,0.13500000000000001,0.13335,0.1241,"*",null,"Estonia",7.8600000000000003E-2,8.3199999999999996E-2,9.2100000000000001E-2,9.870000000000001E-2,0.10075000000000001,0.11094999999999999,{"$f":"IFERROR(AVERAGE(N139:O139),\"*\")","v":0.13589999999999999},0.13159999999999999,0.12964999999999999,0.1208,"*",null,"Estonia",7.6100000000000001E-2,8.0199999999999994E-2,8.9200000000000002E-2,9.5700000000000007E-2,9.7900000000000001E-2,0.1076,0.13169999999999998,0.12584999999999999,0.12335,0.1135,"*",null,"Estonia",6.5199999999999994E-2,7.0550000000000002E-2,7.9500000000000001E-2,8.7400000000000005E-2,9.0249999999999997E-2,9.9349999999999994E-2,0.1174,0.1154,0.11585000000000001,0.10440000000000001,"*"]
["Ireland",0.45750000000000002,0.46629999999999999,0.42459999999999998,0.42099999999999999,0.4778,0.56834999999999991,0.62450000000000006,0.65625,0.58899999999999997,0.40550000000000003,"*",null,"Ireland",0.22420000000000001,0.2228,0.22405,0.21505000000000002,0.24280000000000002,0.2702,0.28905000000000003,0.31035000000000001,0.30820000000000003,0.28110000000000002,"*",null,"Ireland",0.1918,0.19009999999999999,0.19425000000000001,0.18395,0.19935,0.22220000000000001,0.23499999999999999,0.24714999999999998,0.24399999999999999,0.2306,"*",null,"Ireland",0.1734,0.17080000000000001,0.17625000000000002,0.16475000000000001,0.17165,0.19495000000000001,0.2049,0.21310000000000001,0.20765,0.19769999999999999,"*",null,"Ireland",0.1469,0.14815,0.15395,0.14130000000000001,0.14355000000000001,0.16839999999999999,0.17699999999999999,0.18149999999999999,0.17730000000000001,0.17019999999999999,"*"]
["Greece",0.1187,0.11385000000000001,0.1074,0.11779999999999999,0.1502,0.17004999999999998,0.20155000000000001,0.22125,0.24405000000000002,0.26179999999999998,"*",null,"Greece",9.3100000000000002E-2,9.2049999999999993E-2,9.4549999999999995E-2,0.10400000000000001,0.1095,0.12554999999999999,0.15354999999999999,0.17249999999999999,0.18074999999999999,0.18,"*",null,"Greece",9.8400000000000001E-2,0.10730000000000001,0.10930000000000001,0.1196,0.1244,0.14045000000000002,0.16299999999999998,0.17759999999999998,0.1769,0.17599999999999999,"*",null,"Greece",0.1203,0.12959999999999999,0.1285,0.13855000000000001,0.13865,0.15775,0.17735000000000001,0.19025,0.18875,0.18790000000000001,"*",null,"Greece",0.1401,0.15325,0.15515000000000001,0.17194999999999999,0.13264999999999999,0.1517,0.17294999999999999,0.19434999999999999,0.19164999999999999,0.1852,"*"]
["Spain",0.29659999999999997,0.31030000000000002,0.31405,0.37495000000000001,0.36795,0.35719999999999996,0.38690000000000002,0.47119999999999995,0.51829999999999998,0.52149999999999996,"*",null,"Spain",0.16220000000000001,0.16904999999999998,0.18475,0.20315,0.22559999999999999,0.24709999999999999,0.24965000000000001,0.26729999999999998,0.27834999999999999,0.26719999999999999,"*",null,"Spain",0.14000000000000001,0.14615,0.16305,0.17895,0.20345000000000002,0.22325,0.22505,0.2266,0.23394999999999999,0.2185,"*",null,"Spain",0.12870000000000001,0.13635,0.15055000000000002,0.16205,0.18530000000000002,0.20095000000000002,0.20140000000000002,0.19919999999999999,0.20390000000000003,0.19259999999999999,"*",null,"Spain",0.1182,0.12940000000000002,0.14119999999999999,0.14874999999999999,0.1671,0.18064999999999998,0.18265000000000001,0.1726,0.19209999999999999,0.17660000000000001,"*"]
["France",0.23119999999999999,0.23050000000000001,0.22650000000000001,0.23365,0.24435000000000001,0.25075000000000003,0.28184999999999999,0.26769999999999999,0.28044999999999998,0.28210000000000002,"*",null,"France",0.14330000000000001,0.14095000000000002,0.14050000000000001,0.15040000000000001,0.15834999999999999,0.16375000000000001,0.17799999999999999,0.17875000000000002,0.18425,0.18579999999999999,"*",null,"France",0.1222,0.1208,0.12065000000000001,0.13164999999999999,0.14024999999999999,0.14465,0.156,0.16025,0.16494999999999999,0.16850000000000001,"*",null,"France",0.1075,0.1056,0.10980000000000001,0.1187,0.12855,0.13264999999999999,0.1434,0.1474,0.15284999999999999,0.157,"*",null,"France",9.9699999999999997E-2,0.10239999999999999,0.10555,0.11510000000000001,0.12570000000000001,0.12990000000000002,0.13055,0.13785,0.14990000000000001,0.15429999999999999,"*"]
["Croatia",0.16560000000000002,0.20215,0.1968,0.18659999999999999,0.1875,0.22694999999999999,0.22805,0.21889999999999998,0.21010000000000001,0.2266,"*",null,"Croatia",0.1158,0.11910000000000001,0.11849999999999999,0.11310000000000001,0.11785,0.1411,0.14795,0.1429,0.14215,0.14219999999999999,"*",null,"Croatia",9.5399999999999999E-2,0.1087,0.11574999999999999,0.1152,0.11415,0.12959999999999999,0.1361,0.1318,0.13145000000000001,0.13109999999999999,"*",null,"Croatia",9.1299999999999992E-2,0.10250000000000001,0.11035,0.11065,0.10905000000000001,0.123,0.12974999999999998,0.12625,0.12590000000000001,0.1255,"*",null,"Croatia",7.7700000000000005E-2,9.7650000000000001E-2,0.10625000000000001,0.10675000000000001,0.10485,0.1181,0.12559999999999999,0.12229999999999999,0.12185,0.1216,"*"]
["Italy","*",0.27534999999999998,0.28500000000000003,0.27929999999999999,0.25990000000000002,0.2616,0.27754999999999996,0.29239999999999999,0.29410000000000003,0.3155,"*",null,"Italy","*",0.1678,0.16920000000000002,0.1623,0.16830000000000001,0.19345000000000001,0.19819999999999999,0.21055000000000001,0.21065,0.21579999999999999,"*",null,"Italy","*",0.21290000000000001,0.20474999999999999,0.19425000000000001,0.2026,0.22144999999999998,0.23075000000000001,0.23920000000000002,0.24390000000000001,0.24129999999999999,"*",null,"Italy","*",0.23565,0.26119999999999999,0.24530000000000002,0.24865000000000001,0.27354999999999996,0.28760000000000002,0.29704999999999998,0.3044,0.28310000000000002,"*",null,"Italy","*",0.22525000000000001,0.3019,0.27679999999999999,0.28660000000000002,0.30605000000000004,0.30869999999999997,0.33084999999999998,0.33465,0.2873,"*"]
["Cyprus",0.16739999999999999,0.19564999999999999,0.1497,0.2172,0.2505,0.31795000000000001,0.28970000000000001,0.26319999999999999,0.22034999999999999,0.186,"*",null,"Cyprus",0.15540000000000001,0.18314999999999998,0.14105000000000001,0.193,0.22265000000000001,0.28400000000000003,0.26055,0.23164999999999999,0.18845000000000001,0.1517,"*",null,"Cyprus",0.1573,0.191,0.16,0.19395000000000001,0.22314999999999999,0.28449999999999998,0.26205000000000001,0.23235,0.18975,0.1527,"*",null,"Cyprus",0.15759999999999999,0.19434999999999999,0.16315000000000002,0.1905,0.21884999999999999,0.28055000000000002,0.2591,0.22944999999999999,0.18715000000000001,0.1472,"*",null,"Cyprus",0.15859999999999999,0.1956,0.16549999999999998,0.18090000000000001,0.20989999999999998,0.26915,0.25159999999999999,0.22199999999999998,0.17774999999999999,0.13159999999999999,"*"]
["Latvia",7.2900000000000006E-2,9.290000000000001E-2,0.10539999999999999,0.10494999999999999,0.11710000000000001,0.1176,0.11660000000000001,0.11375,0.15740000000000001,0.16139999999999999,"*",null,"Latvia",7.2900000000000006E-2,9.2700000000000005E-2,0.1053,0.10485,0.11840000000000001,0.12640000000000001,0.12605,0.12245,0.16485,0.16300000000000001,"*",null,"Latvia",7.2900000000000006E-2,9.2249999999999999E-2,0.1053,0.10485,0.1255,0.13755000000000001,0.1368,0.1333,0.16425000000000001,0.1628,"*",null,"Latvia",7.1999999999999995E-2,9.11E-2,0.10525,0.10494999999999999,0.13100000000000001,0.14400000000000002,0.14300000000000002,0.13980000000000001,0.16335,0.16189999999999999,"*",null,"Latvia",6.9599999999999995E-2,8.9499999999999996E-2,0.10485,0.10439999999999999,0.1328,0.14660000000000001,0.14179999999999998,0.14295000000000002,0.16109999999999999,0.1583,"*"]
["Lithuania",9.5899999999999999E-2,9.2249999999999999E-2,9.9750000000000005E-2,0.1237,0.13190000000000002,0.13135000000000002,0.14274999999999999,0.1361,0.12809999999999999,0.12609999999999999,"*",null,"Lithuania",9.01E-2,8.9349999999999999E-2,9.6850000000000006E-2,0.12104999999999999,0.1263,0.12905,0.14030000000000001,0.13450000000000001,0.12705,0.12509999999999999,"*",null,"Lithuania",8.6999999999999994E-2,8.6249999999999993E-2,9.3850000000000003E-2,0.1186,0.12175,0.12640000000000001,0.13805000000000001,0.13245000000000001,0.12494999999999999,0.1231,"*",null,"Lithuania",8.2699999999999996E-2,8.1549999999999997E-2,8.9050000000000004E-2,0.11415,0.11795,0.12340000000000001,0.13464999999999999,0.12869999999999998,0.1207,0.1186,"*",null,"Lithuania",7.85E-2,7.6100000000000001E-2,8.1499999999999989E-2,0.10815,0.11094999999999999,0.1164,0.12664999999999998,0.12095,0.11315,0.1105,"*"]
["Luxembourg",0.26855000000000001,0.24399999999999999,0.26840000000000003,0.24680000000000002,0.24775,0.24604999999999999,0.2319,0.23569999999999999,0.2397,0.23280000000000001,"*",null,"Luxembourg",0.20294999999999999,0.18545,0.20519999999999999,0.19184999999999999,0.1855,0.18905,0.18259999999999998,0.1893,0.19239999999999999,0.1855,"*",null,"Luxembourg",0.16644999999999999,0.16270000000000001,0.18820000000000001,0.17365,0.16699999999999998,0.1701,0.16555,0.17380000000000001,0.1767,0.16980000000000001,"*",null,"Luxembourg",0.15145,0.14729999999999999,0.17,0.16199999999999998,0.1552,0.15875,0.15154999999999999,0.16,0.16289999999999999,0.15609999999999999,"*",null,"Luxembourg",0.10535,0.1101,0.13930000000000001,0.14579999999999999,0.13865,0.14349999999999999,0.13945000000000002,0.1484,0.15205000000000002,0.14549999999999999,"*"]
["Hungary",0.15029999999999999,0.16025,0.16134999999999999,0.18764999999999998,0.18459999999999999,0.17355000000000001,0.15360000000000001,0.1348,0.12845000000000001,0.12620000000000001,"*",null,"Hungary",0.15029999999999999,0.15965000000000001,0.16365000000000002,0.17144999999999999,0.16944999999999999,0.16570000000000001,0.14255000000000001,0.122,0.11765,0.11550000000000001,"*",null,"Hungary",0.12959999999999999,0.15504999999999999,0.15725,0.16375000000000001,0.16175,0.15834999999999999,0.13614999999999999,0.1174,0.11360000000000001,0.1114,"*",null,"Hungary",0.1333,0.15354999999999999,0.14534999999999998,0.15459999999999999,0.15260000000000001,0.14784999999999998,0.13100000000000001,0.11365,0.11099999999999999,0.1086,"*",null,"Hungary",0.1067,0.16020000000000001,0.1472,0.15794999999999998,0.15739999999999998,0.16399999999999998,0.13575000000000001,0.11929999999999999,0.1157,0.1128,"*"]
["Malta","*",8.6849999999999997E-2,0.23780000000000001,0.42005000000000003,0.43049999999999999,0.43855,0.42704999999999999,0.37805,0.37209999999999999,0.35220000000000001,"*",null,"Malta",4.5900000000000003E-2,9.7099999999999992E-2,0.18085000000000001,0.19159999999999999,0.19214999999999999,0.19364999999999999,0.19259999999999999,0.15584999999999999,0.14405000000000001,0.1416,"*",null,"Malta",9.1800000000000007E-2,0.12645000000000001,0.16105,0.16500000000000001,0.16585,0.16755,0.16764999999999999,0.1361,0.12630000000000002,0.12570000000000001,"*",null,"Malta",0.12809999999999999,0.15570000000000001,0.16775000000000001,0.18304999999999999,0.18354999999999999,0.18385000000000001,0.18430000000000002,0.15760000000000002,0.14824999999999999,0.15,"*",null,"Malta",0.14000000000000001,0.16944999999999999,0.21279999999999999,0.39319999999999999,0.37554999999999999,0.3624,0.36670000000000003,0.38429999999999997,0.35460000000000003,0.36230000000000001,"*"]
["Netherlands","*","*","*","*","*","*","*","*","*","*","*",null,"Netherlands",0.13679999999999998,0.13669999999999999,0.14065,0.12265,0.12775,0.13390000000000002,0.13924999999999998,0.1225,0.14545,0.11409999999999999,"*",null,"Netherlands",0.17499999999999999,0.17835000000000001,0.19424999999999998,0.17780000000000001,0.18015,0.1857,0.19014999999999999,0.18210000000000001,0.19159999999999999,0.16200000000000001,"*",null,"Netherlands",0.19269999999999998,0.1943,0.21255000000000002,0.19655,0.19625000000000001,0.20095000000000002,0.20405000000000001,0.20055000000000001,0.20395000000000002,0.17580000000000001,"*",null,"Netherlands",0.17699999999999999,"*",0.23154999999999998,0.21334999999999998,0.21920000000000001,0.23144999999999999,0.23694999999999999,0.23669999999999999,0.23044999999999999,0.2432,"*"]
["Austria",0.26529999999999998,0.26495000000000002,0.27265,0.25540000000000002,0.29320000000000002,0.29830000000000001,0.31464999999999999,0.31655,0.35385,0.3695,"*",null,"Austria",0.20080000000000001,0.20190000000000002,0.20950000000000002,0.21434999999999998,0.22055,0.22375,0.23435,0.2326,0.24060000000000001,0.24790000000000001,"*",null,"Austria",0.17399999999999999,0.17754999999999999,0.19089999999999999,0.19485000000000002,0.19755,0.19995000000000002,0.20500000000000002,0.20039999999999999,0.1996,0.2034,"*",null,"Austria",0.16139999999999999,0.16475000000000001,0.17460000000000001,0.17635000000000001,0.17930000000000001,0.18090000000000001,0.18690000000000001,0.18314999999999998,0.17665,0.1792,"*",null,"Austria",0.14899999999999999,0.15240000000000001,0.15855,0.15179999999999999,0.16209999999999999,0.16170000000000001,0.17265,0.15925,0.15045,0.1517,"*"]
["Poland",0.14940000000000001,0.17469999999999999,0.152,0.17575000000000002,0.18359999999999999,0.18385000000000001,0.18504999999999999,0.18195,0.18130000000000002,0.16020000000000001,"*",null,"Poland",0.14080000000000001,0.13674999999999998,0.1258,0.14615,0.15155000000000002,0.15405000000000002,0.15215000000000001,0.14829999999999999,0.15175,0.14080000000000001,"*",null,"Poland",0.13800000000000001,0.12770000000000001,0.1211,0.13614999999999999,0.1411,0.14735000000000001,0.14584999999999998,0.14145000000000002,0.1431,0.13320000000000001,"*",null,"Poland",0.1043,0.11715,0.11219999999999999,0.1285,0.1338,0.14150000000000001,0.13950000000000001,0.13539999999999999,0.13735,0.12740000000000001,"*",null,"Poland",0.12839999999999999,0.11385000000000001,0.11115,0.12719999999999998,0.13400000000000001,0.13674999999999998,0.1366,0.13569999999999999,0.13564999999999999,0.12670000000000001,"*"]
["Portugal",0.1888,0.33884999999999998,0.32830000000000004,0.33709999999999996,0.35465000000000002,0.36275000000000002,0.33799999999999997,0.39644999999999997,0.39224999999999999,0.38190000000000002,"*",null,"Portugal",0.1552,0.17185,0.17599999999999999,0.18319999999999997,0.1988,0.22589999999999999,0.23249999999999998,0.23974999999999999,0.24759999999999999,0.25559999999999999,"*",null,"Portugal",0.15620000000000001,0.15034999999999998,0.15509999999999999,0.16250000000000001,0.17674999999999999,0.20280000000000001,0.21060000000000001,0.2203,0.22820000000000001,0.23499999999999999,"*",null,"Portugal",0.14940000000000001,0.13445000000000001,0.14005000000000001,0.14755000000000001,0.1608,0.18664999999999998,0.19564999999999999,0.20950000000000002,0.21679999999999999,0.22420000000000001,"*",null,"Portugal",0.1429,0.1255,0.13089999999999999,0.13819999999999999,0.15105000000000002,0.18185000000000001,0.19134999999999999,0.20030000000000001,0.20815,0.21540000000000001,"*"]
["Romania",0.10920000000000001,0.10845,9.7299999999999998E-2,0.10415000000000001,0.10935,0.10925,0.13369999999999999,0.13169999999999998,0.13639999999999999,0.13039999999999999,"*",null,"Romania",0.11700000000000001,0.10775,9.7900000000000001E-2,0.10475,0.11005000000000001,0.1094,0.13250000000000001,0.13075000000000001,0.13364999999999999,0.12859999999999999,"*",null,"Romania",0.11409999999999999,0.10819999999999999,9.7750000000000004E-2,0.10414999999999999,0.10835,0.10625,0.13009999999999999,0.12690000000000001,0.13109999999999999,0.1263,"*",null,"Romania",0.1149,0.10730000000000001,9.425E-2,0.10245,0.10745,0.1062,0.12790000000000001,0.12445000000000001,0.12945000000000001,0.1217,"*",null,"Romania",0.1163,0.1091,9.1600000000000001E-2,9.8349999999999993E-2,0.10389999999999999,0.1047,0.12455000000000001,0.12245,0.12625,0.11799999999999999,"*"]
["Slovenia",0.2288,0.1895,0.2742,0.26064999999999999,0.22760000000000002,0.224,0.24725,0.23280000000000001,0.22075,0.1865,"*",null,"Slovenia",0.13100000000000001,0.1305,0.15910000000000002,0.1686,0.16875000000000001,0.17595,0.19305,0.19409999999999999,0.19285000000000002,0.19839999999999999,"*",null,"Slovenia",0.1116,0.11515,0.13435,0.14135,0.14665,0.1542,0.16335,0.16310000000000002,0.161,0.1618,"*",null,"Slovenia",0.1021,0.1079,0.12484999999999999,0.12895000000000001,0.13464999999999999,0.14045000000000002,0.14555000000000001,0.14495000000000002,0.14119999999999999,0.1406,"*",null,"Slovenia",9.5799999999999996E-2,0.1041,0.12125,0.1221,0.12540000000000001,0.1278,0.13009999999999999,0.13034999999999999,0.128,0.12659999999999999,"*"]
["Slovakia",0.223,0.2455,0.23420000000000002,0.2311,0.23910000000000001,0.25964999999999999,0.26754999999999995,0.24180000000000001,0.24814999999999998,0.21540000000000001,"*",null,"Slovakia",0.1615,0.17280000000000001,0.17230000000000001,0.17775000000000002,0.19019999999999998,0.1951,0.1913,0.17085,0.17449999999999999,0.1588,"*",null,"Slovakia",0.13700000000000001,0.14735000000000001,0.155,0.15784999999999999,0.1696,0.1719,0.16880000000000001,0.1515,0.15115000000000001,0.14230000000000001,"*",null,"Slovakia",0.10979999999999999,0.12465000000000001,0.15210000000000001,0.14085,0.15215000000000001,0.15289999999999998,0.15049999999999999,0.13464999999999999,0.13169999999999998,0.1255,"*",null,"Slovakia",8.4500000000000006E-2,9.9400000000000002E-2,0.12659999999999999,0.11954999999999999,0.1326,0.1343,0.13320000000000001,0.12180000000000001,0.1164,0.112,"*"]
["Finland",0.20380000000000001,0.2208,0.2447,0.2545,0.28249999999999997,0.28854999999999997,0.29644999999999999,0.29780000000000001,0.30274999999999996,0.30909999999999999,"*",null,"Finland",0.14000000000000001,0.15010000000000001,0.16389999999999999,0.17125000000000001,0.19519999999999998,0.19619999999999999,0.20029999999999998,0.20095000000000002,0.20119999999999999,0.2039,"*",null,"Finland",0.1149,0.12479999999999999,0.12924999999999998,0.13475000000000001,0.15565000000000001,0.15540000000000001,0.15684999999999999,0.15504999999999999,0.15410000000000001,0.15409999999999999,"*",null,"Finland",9.9199999999999997E-2,0.10845,0.11449999999999999,0.1183,0.13719999999999999,0.13700000000000001,0.13824999999999998,0.13574999999999998,0.1346,0.13320000000000001,"*",null,"Finland",8.1600000000000006E-2,9.1150000000000009E-2,9.5600000000000004E-2,9.8799999999999999E-2,0.1167,0.1167,0.1179,0.11585000000000001,0.11525000000000001,0.1124,"*"]
["Sweden",0.28105000000000002,0.29220000000000002,0.26469999999999999,0.33834999999999998,0.3513,0.35675000000000001,0.36150000000000004,0.35565000000000002,0.34255000000000002,0.36420000000000002,"*",null,"Sweden",0.16505,0.19114999999999999,0.1807,0.20555000000000001,0.22534999999999999,0.22389999999999999,0.22735,0.21729999999999999,0.20774999999999999,0.214,"*",null,"Sweden",0.15855,0.17220000000000002,0.16239999999999999,0.18985000000000002,0.20679999999999998,0.20550000000000002,0.20735000000000001,{"$f":"IFERROR(AVERAGE(P160:Q160),\"*\")","v":0.19170000000000001},{"$f":"IFERROR(AVERAGE(R160:S160),\"*\")","v":0.18625},{"$f":"IFERROR(AVERAGE(T160:U160),\"*\")","v":0.18940000000000001},{"$f":"IFERROR(AVERAGE( V160:W160),\"*\")","v":"*"},null,"Sweden",0.14294999999999999,0.14984999999999998,0.13984999999999997,0.16464999999999999,0.17820000000000003,0.17419999999999999,0.17595,0.16175,0.1537,0.15310000000000001,"*",null,"Sweden",0.12759999999999999,0.13645000000000002,0.12945000000000001,0.14995,0.1605,0.15610000000000002,0.15665000000000001,0.14095000000000002,0.13390000000000002,0.13370000000000001,"*"]
["United Kingdom",0.16889999999999999,0.16385,0.16594999999999999,0.15215000000000001,0.16314999999999999,0.192,0.21310000000000001,0.24535000000000001,0.26185000000000003,0.248,"*",null,"United Kingdom",0.16300000000000001,0.15939999999999999,0.15360000000000001,0.15260000000000001,0.16295000000000001,0.18940000000000001,0.19255,0.21784999999999999,0.23885000000000001,0.22209999999999999,"*",null,"United Kingdom",0.14810000000000001,0.15305000000000002,0.14365,0.14174999999999999,0.15085000000000001,0.17335,0.1769,0.19655,0.21539999999999998,0.1951,"*",null,"United Kingdom",0.13400000000000001,0.13750000000000001,0.12795000000000001,0.12725,0.13400000000000001,0.15515000000000001,0.16115000000000002,0.1772,0.19650000000000001,0.1797,"*",null,"United Kingdom",0.1125,0.13514999999999999,0.12494999999999999,0.11655,0.12365000000000001,0.14300000000000002,0.14805000000000001,0.16335,0.18009999999999998,0.16270000000000001,"*"]
[]
[]
[]
["Baggrundsdata for level 3 priser - Eurostat nrg_pc_205"]
["Opdateret",{"$f":"B43","v":"2016-12-08T10:06:14.474"}]
["Electricity prices for domestic consumers - bi-annual data (from 2007 onwards) [nrg_pc_204]"]
[]
["Last update","2016-11-10T16:51:00"]
["Extracted on","2016-12-08T10:06:14.474"]
["Source of data","Eurostat"]
[]
["PRODUCT","Electrical energy"]
["CONSOM","Band DA : Consumption < 1 000 kWh"]
["UNIT","Kilowatt-hour"]
["TAX","All taxes and levies included"]
["CURRENCY","Euro"]
[]
["GEO/TIME","2007S1","2007S2","2008S1","2008S2","2009S1","2009S2","2010S1","2010S2","2011S1","2011S2","2012S1","2012S2","2013S1","2013S2","2014S1","2014S2","2015S1","2015S2","2016S1"]
["European Union (28 countries)",":",0.24099999999999999,0.24879999999999999,0.25580000000000003,0.249,0.25619999999999998,0.26479999999999998,0.26679999999999998,0.2732,0.2777,0.27739999999999998,0.29020000000000001,0.30159999999999998,0.30499999999999999,0.31459999999999999,0.31409999999999999,0.32369999999999999,0.32629999999999998,0.33090000000000003]
["Belgium",":",0.24429999999999999,0.27850000000000003,0.35930000000000001,0.26279999999999998,0.27800000000000002,0.29299999999999998,0.28520000000000001,0.3034,0.29649999999999999,0.29210000000000003,0.31019999999999998,0.29070000000000001,0.29289999999999999,0.2661,0.25950000000000001,0.2641,0.30819999999999997,0.4088]
["Bulgaria",":",7.4099999999999999E-2,7.4099999999999999E-2,8.2299999999999998E-2,8.4400000000000003E-2,8.2299999999999998E-2,8.2299999999999998E-2,8.4199999999999997E-2,8.4000000000000005E-2,8.5199999999999998E-2,8.5699999999999998E-2,9.5699999999999993E-2,9.5699999999999993E-2,8.7999999999999995E-2,8.5099999999999995E-2,9.1399999999999995E-2,9.69E-2,9.7600000000000006E-2,9.7799999999999998E-2]
["Czech Republic",0.21060000000000001,0.21659999999999999,0.2492,0.25409999999999999,0.25169999999999998,0.2651,0.26119999999999999,0.27029999999999998,0.2883,0.28270000000000001,0.29149999999999998,0.29210000000000003,0.29220000000000002,0.28599999999999998,0.25869999999999999,0.25700000000000001,0.25779999999999997,0.26200000000000001,0.26700000000000002]
["Denmark",":",0.2676,0.29199999999999998,0.307,0.29909999999999998,0.28470000000000001,0.29730000000000001,0.30099999999999999,0.32150000000000001,0.32829999999999998,0.33079999999999998,0.32779999999999998,0.33040000000000003,0.32169999999999999,0.33250000000000002,0.33139999999999997,0.3337,0.33260000000000001,0.38429999999999997]
["Germany (until 1990 former territory of the FRG)",0.32319999999999999,0.3347,0.34150000000000003,0.34799999999999998,0.3599,0.35670000000000002,0.3664,0.3725,0.38350000000000001,0.3831,0.39169999999999999,0.40279999999999999,0.42570000000000002,0.42670000000000002,0.43290000000000001,0.43359999999999999,0.43659999999999999,0.43580000000000002,0.45550000000000002]
["Estonia",":",8.1199999999999994E-2,8.3799999999999999E-2,8.72E-2,9.4500000000000001E-2,9.4700000000000006E-2,9.9500000000000005E-2,0.10299999999999999,0.1008,0.1069,0.1143,0.1152,0.1424,0.14080000000000001,0.13469999999999999,0.13739999999999999,0.13469999999999999,0.13220000000000001,0.12470000000000001]
["Ireland",":",0.45750000000000002,0.44479999999999997,0.48780000000000001,0.433,0.41620000000000001,0.40339999999999998,0.43859999999999999,0.42620000000000002,0.52939999999999998,0.54659999999999997,0.59009999999999996,0.60760000000000003,0.64139999999999997,0.64749999999999996,0.66500000000000004,0.69699999999999995,0.48099999999999998,0.40550000000000003]
["Greece",":",0.1187,0.1222,0.1055,0.10489999999999999,0.1099,0.11749999999999999,0.1181,0.158,0.1424,0.18179999999999999,0.1583,0.20710000000000001,0.19600000000000001,0.23019999999999999,0.21229999999999999,0.26290000000000002,0.22520000000000001,0.26179999999999998]
["Spain",":",0.29659999999999997,0.3009,0.31969999999999998,0.30969999999999998,0.31840000000000002,0.38700000000000001,0.3629,0.3584,0.3775,0.34179999999999999,0.37259999999999999,0.37140000000000001,0.40239999999999998,0.47599999999999998,0.46639999999999998,0.50719999999999998,0.52939999999999998,0.52149999999999996]
["France",":",0.23119999999999999,0.23200000000000001,0.22900000000000001,0.21690000000000001,0.2361,0.2276,0.2397,0.2422,0.2465,0.24110000000000001,0.26040000000000002,0.2828,0.28089999999999998,0.26779999999999998,0.2676,0.2772,0.28370000000000001,0.28210000000000002]
["Croatia",0.14810000000000001,0.18310000000000001,0.19670000000000001,0.20760000000000001,0.2059,0.18770000000000001,0.18959999999999999,0.18360000000000001,0.1822,0.1928,0.22289999999999999,0.23100000000000001,0.23860000000000001,0.2175,0.2286,0.2092,0.21560000000000001,0.2046,0.2266]
["Italy",":",":",0.27579999999999999,0.27489999999999998,0.29349999999999998,0.27650000000000002,0.2833,0.27529999999999999,0.26540000000000002,0.25440000000000002,0.2571,0.2661,0.27889999999999998,0.2762,0.29349999999999998,0.2913,0.29570000000000002,0.29249999999999998,0.3155]
["Cyprus",":",0.16739999999999999,0.19209999999999999,0.19919999999999999,0.13930000000000001,0.16009999999999999,0.21199999999999999,0.22239999999999999,0.23530000000000001,0.26569999999999999,0.318,0.31790000000000002,0.30730000000000002,0.27210000000000001,0.26379999999999998,0.2626,0.22739999999999999,0.21329999999999999,0.186]
["Latvia",":",7.2900000000000006E-2,8.5300000000000001E-2,0.10050000000000001,0.1053,0.1055,0.105,0.10489999999999999,0.1168,0.1174,0.1171,0.1181,0.1168,0.1164,0.1164,0.1111,0.15010000000000001,0.16470000000000001,0.16139999999999999]
["Lithuania",":",9.5899999999999999E-2,9.2200000000000004E-2,9.2299999999999993E-2,0.1011,9.8400000000000001E-2,0.1212,0.12620000000000001,0.1278,0.13600000000000001,0.13150000000000001,0.13120000000000001,0.1421,0.1434,0.13669999999999999,0.13550000000000001,0.12870000000000001,0.1275,0.12609999999999999]
["Luxembourg",0.29530000000000001,0.24179999999999999,0.24179999999999999,0.2462,0.26840000000000003,0.26840000000000003,0.24540000000000001,0.2482,0.2492,0.24629999999999999,0.2492,0.2429,0.23899999999999999,0.2248,0.23569999999999999,0.23569999999999999,0.2397,0.2397,0.23280000000000001]
["Hungary",":",0.15029999999999999,0.16159999999999999,0.15890000000000001,0.1411,0.18160000000000001,0.1973,0.17799999999999999,0.18870000000000001,0.18049999999999999,0.16930000000000001,0.17780000000000001,0.15720000000000001,0.15,0.13689999999999999,0.13270000000000001,0.128,0.12889999999999999,0.12620000000000001]
["Malta",":",":",4.6600000000000003E-2,0.12709999999999999,0.24829999999999999,0.2273,0.42349999999999999,0.41660000000000003,0.42780000000000001,0.43319999999999997,0.4385,0.43859999999999999,0.42649999999999999,0.42759999999999998,0.38819999999999999,0.3679,0.37380000000000002,0.37040000000000001,0.35220000000000001]
["Netherlands",":",":",":",":",":",":",":",":",":",":",":",":",":",":",":",":",":",":",":"]
["Austria",":",0.26529999999999998,0.26500000000000001,0.26490000000000002,0.2727,0.27260000000000001,0.25380000000000003,0.25700000000000001,0.29459999999999997,0.2918,0.29780000000000001,0.29880000000000001,0.31809999999999999,0.31119999999999998,0.3175,0.31559999999999999,0.35499999999999998,0.35270000000000001,0.3695]
["Poland",":",0.14940000000000001,0.1757,0.17369999999999999,0.1447,0.1593,0.1729,0.17860000000000001,0.18890000000000001,0.17829999999999999,0.1797,0.188,0.18790000000000001,0.1822,0.1845,0.1794,0.18360000000000001,0.17899999999999999,0.16020000000000001]
["Portugal",":",0.1888,0.33610000000000001,0.34160000000000001,0.33090000000000003,0.32569999999999999,0.33789999999999998,0.33629999999999999,0.33300000000000002,0.37630000000000002,0.39140000000000003,0.33410000000000001,0.3251,0.35089999999999999,0.39889999999999998,0.39400000000000002,0.38740000000000002,0.39710000000000001,0.38190000000000002]
["Romania",":",0.10920000000000001,0.10730000000000001,0.1096,9.8199999999999996E-2,9.64E-2,0.10390000000000001,0.10440000000000001,0.1084,0.1103,0.1085,0.11,0.13569999999999999,0.13170000000000001,0.13339999999999999,0.13,0.1366,0.13619999999999999,0.13039999999999999]
["Slovenia",":",0.2288,0.18579999999999999,0.19320000000000001,0.2656,0.2828,0.26100000000000001,0.26029999999999998,0.23,0.22520000000000001,0.22120000000000001,0.2268,0.2394,0.25509999999999999,0.25269999999999998,0.21290000000000001,0.21920000000000001,0.2223,0.1865]
["Slovakia",":",0.223,0.23549999999999999,0.2555,0.2349,0.23350000000000001,0.22459999999999999,0.23760000000000001,0.23200000000000001,0.2462,0.25629999999999997,0.26300000000000001,0.27339999999999998,0.26169999999999999,0.2389,0.2447,0.2447,0.25159999999999999,0.21540000000000001]
["Finland",":",0.20380000000000001,0.21490000000000001,0.22670000000000001,0.2429,0.2465,0.2505,0.25850000000000001,0.27900000000000003,0.28599999999999998,0.28510000000000002,0.29199999999999998,0.2949,0.29799999999999999,0.29670000000000002,0.2989,0.3039,0.30159999999999998,0.30909999999999999]
["Sweden",0.27150000000000002,0.29060000000000002,0.28699999999999998,0.2974,0.255,0.27439999999999998,0.34429999999999999,0.33239999999999997,0.36349999999999999,0.33910000000000001,0.35239999999999999,0.36109999999999998,0.37280000000000002,0.35020000000000001,0.35539999999999999,0.35589999999999999,0.34079999999999999,0.34429999999999999,0.36420000000000002]
["United Kingdom",":",0.16889999999999999,0.16,0.16769999999999999,0.1578,0.1741,0.14699999999999999,0.1573,0.15229999999999999,0.17399999999999999,0.18210000000000001,0.2019,0.2031,0.22309999999999999,0.2404,0.25030000000000002,0.25659999999999999,0.2671,0.248]
[]
["Special value:"]
[":","not available"]
[]
["PRODUCT","Electrical energy"]
["CONSOM","Band DB : 1 000 kWh < Consumption < 2 500 kWh"]
["UNIT","Kilowatt-hour"]
["TAX","All taxes and levies included"]
["CURRENCY","Euro"]
[]
["GEO/TIME","2007S1","2007S2","2008S1","2008S2","2009S1","2009S2","2010S1","2010S2","2011S1","2011S2","2012S1","2012S2","2013S1","2013S2","2014S1","2014S2","2015S1","2015S2","2016S1"]
["European Union (28 countries)",":",0.16739999999999999,0.16900000000000001,0.17780000000000001,0.17430000000000001,0.1757,0.1792,0.1855,0.1913,0.19750000000000001,0.2011,0.2107,0.2137,0.217,0.21870000000000001,0.222,0.22489999999999999,0.2283,0.22550000000000001]
["Belgium",":",0.1867,0.2172,0.2467,0.21560000000000001,0.20880000000000001,0.22070000000000001,0.21940000000000001,0.2369,0.2366,0.23269999999999999,0.24360000000000001,0.23430000000000001,0.24,0.22450000000000001,0.2157,0.22489999999999999,0.25280000000000002,0.2823]
["Bulgaria",":",7.2099999999999997E-2,7.3099999999999998E-2,8.0799999999999997E-2,8.3299999999999999E-2,8.1299999999999997E-2,8.1299999999999997E-2,8.3199999999999996E-2,8.2900000000000001E-2,8.5800000000000001E-2,8.5000000000000006E-2,9.5200000000000007E-2,9.3399999999999997E-2,8.72E-2,8.3799999999999999E-2,9.01E-2,9.5399999999999999E-2,9.6100000000000005E-2,9.6299999999999997E-2]
["Czech Republic",0.1573,0.1618,0.18890000000000001,0.19259999999999999,0.19339999999999999,0.20380000000000001,0.19980000000000001,0.20680000000000001,0.2185,0.2142,0.2165,0.21690000000000001,0.21790000000000001,0.21329999999999999,0.18440000000000001,0.1832,0.18290000000000001,0.18579999999999999,0.18820000000000001]
["Denmark",":",0.2676,0.29199999999999998,0.307,0.29909999999999998,0.28470000000000001,0.29730000000000001,0.30099999999999999,0.32150000000000001,0.32829999999999998,0.33079999999999998,0.32779999999999998,0.33040000000000003,0.32169999999999999,0.33250000000000002,0.33139999999999997,0.3337,0.33260000000000001,0.33400000000000002]
["Germany (until 1990 former territory of the FRG)",0.2258,0.23400000000000001,0.2389,0.24390000000000001,0.25280000000000002,0.25340000000000001,0.26219999999999999,0.26950000000000002,0.27739999999999998,0.2777,0.28439999999999999,0.29270000000000002,0.31690000000000002,0.31759999999999999,0.32279999999999998,0.32300000000000001,0.32119999999999999,0.32069999999999999,0.32629999999999998]
["Estonia",":",7.9899999999999999E-2,8.3000000000000004E-2,8.6499999999999994E-2,9.3899999999999997E-2,9.3799999999999994E-2,9.8900000000000002E-2,0.10199999999999999,9.9500000000000005E-2,0.106,0.11210000000000001,0.1143,0.13919999999999999,0.13900000000000001,0.13450000000000001,0.13550000000000001,0.1338,0.13289999999999999,0.1241]
["Ireland",":",0.22420000000000001,0.2087,0.2369,0.2331,0.215,0.2107,0.21940000000000001,0.23530000000000001,0.25030000000000002,0.26179999999999998,0.27860000000000001,0.27939999999999998,0.29870000000000002,0.29949999999999999,0.32119999999999999,0.30980000000000002,0.30659999999999998,0.28110000000000002]
["Greece",":",9.3100000000000002E-2,9.06E-2,9.35E-2,9.7199999999999995E-2,9.1899999999999996E-2,0.1027,0.1053,0.10780000000000001,0.11119999999999999,0.1232,0.12790000000000001,0.14399999999999999,0.16309999999999999,0.16750000000000001,0.17749999999999999,0.18029999999999999,0.1812,0.18]
["Spain",":",0.16220000000000001,0.1583,0.17979999999999999,0.1779,0.19159999999999999,0.1978,0.20849999999999999,0.21929999999999999,0.2319,0.24260000000000001,0.25159999999999999,0.24340000000000001,0.25590000000000002,0.2591,0.27550000000000002,0.27150000000000002,0.28520000000000001,0.26719999999999999]
["France",":",0.14330000000000001,0.1411,0.14080000000000001,0.13969999999999999,0.14130000000000001,0.14660000000000001,0.1542,0.15579999999999999,0.16089999999999999,0.15690000000000001,0.1706,0.1744,0.18160000000000001,0.1769,0.18060000000000001,0.1825,0.186,0.18579999999999999]
["Croatia",0.12230000000000001,0.10929999999999999,0.11,0.12820000000000001,0.12330000000000001,0.1137,0.1134,0.1128,0.1118,0.1239,0.13250000000000001,0.1497,0.14940000000000001,0.14649999999999999,0.14299999999999999,0.14280000000000001,0.1431,0.14119999999999999,0.14219999999999999]
["Italy",":",":",0.15770000000000001,0.1779,0.17100000000000001,0.16739999999999999,0.16259999999999999,0.16200000000000001,0.16350000000000001,0.1731,0.1855,0.2014,0.19589999999999999,0.20050000000000001,0.2112,0.2099,0.2082,0.21310000000000001,0.21579999999999999]
["Cyprus",":",0.15540000000000001,0.1757,0.19059999999999999,0.13100000000000001,0.15110000000000001,0.185,0.20100000000000001,0.20469999999999999,0.24060000000000001,0.27839999999999998,0.28960000000000002,0.27429999999999999,0.24679999999999999,0.2288,0.23449999999999999,0.1943,0.18260000000000001,0.1517]
["Latvia",":",7.2900000000000006E-2,8.4900000000000003E-2,0.10050000000000001,0.1052,0.10539999999999999,0.10489999999999999,0.1048,0.1167,0.1201,0.13100000000000001,0.12180000000000001,0.13070000000000001,0.12139999999999999,0.1298,0.11509999999999999,0.16400000000000001,0.16569999999999999,0.16300000000000001]
["Lithuania",":",9.01E-2,8.9300000000000004E-2,8.9399999999999993E-2,9.8100000000000007E-2,9.5600000000000004E-2,0.1182,0.1239,0.12509999999999999,0.1275,0.129,0.12909999999999999,0.13930000000000001,0.14130000000000001,0.1351,0.13389999999999999,0.1278,0.1263,0.12509999999999999]
["Luxembourg",0.22189999999999999,0.184,0.184,0.18690000000000001,0.20519999999999999,0.20519999999999999,0.19059999999999999,0.19309999999999999,0.18629999999999999,0.1847,0.18859999999999999,0.1895,0.1855,0.1797,0.1893,0.1893,0.19239999999999999,0.19239999999999999,0.1855]
["Hungary",":",0.15029999999999999,0.1608,0.1585,0.15340000000000001,0.1739,0.17680000000000001,0.1661,0.17280000000000001,0.1661,0.16289999999999999,0.16850000000000001,0.14699999999999999,0.1381,0.1249,0.1191,0.1167,0.1186,0.11550000000000001]
["Malta",":",4.5900000000000003E-2,6.1899999999999997E-2,0.1323,0.19059999999999999,0.1711,0.1905,0.19270000000000001,0.19009999999999999,0.19420000000000001,0.19239999999999999,0.19489999999999999,0.18959999999999999,0.1956,0.16719999999999999,0.14449999999999999,0.1424,0.1457,0.1416]
["Netherlands",0.13769999999999999,0.13589999999999999,0.1343,0.1391,0.14480000000000001,0.13650000000000001,0.1202,0.12509999999999999,0.12820000000000001,0.1273,0.1343,0.13350000000000001,0.13969999999999999,0.13880000000000001,0.12520000000000001,0.1198,0.15620000000000001,0.13469999999999999,0.11409999999999999]
["Austria",":",0.20080000000000001,0.20050000000000001,0.20330000000000001,0.2089,0.21010000000000001,0.2172,0.21149999999999999,0.221,0.22009999999999999,0.22209999999999999,0.22539999999999999,0.2364,0.23230000000000001,0.2341,0.2311,0.2419,0.23930000000000001,0.24790000000000001]
["Poland",":",0.14080000000000001,0.13289999999999999,0.1406,0.12130000000000001,0.1303,0.14360000000000001,0.1487,0.15870000000000001,0.1444,0.15060000000000001,0.1575,0.1535,0.15079999999999999,0.14799999999999999,0.14860000000000001,0.1535,0.15,0.14080000000000001]
["Portugal",":",0.1552,0.16950000000000001,0.17419999999999999,0.17130000000000001,0.1807,0.17979999999999999,0.18659999999999999,0.1862,0.2114,0.2238,0.22800000000000001,0.23039999999999999,0.2346,0.23749999999999999,0.24199999999999999,0.24709999999999999,0.24809999999999999,0.25559999999999999]
["Romania",":",0.11700000000000001,0.1075,0.108,9.8000000000000004E-2,9.7799999999999998E-2,0.10349999999999999,0.106,0.11,0.1101,0.1084,0.1104,0.13469999999999999,0.1303,0.13220000000000001,0.1293,0.13300000000000001,0.1343,0.12859999999999999]
["Slovenia",":",0.13100000000000001,0.12959999999999999,0.13139999999999999,0.15870000000000001,0.1595,0.16719999999999999,0.17,0.1673,0.17019999999999999,0.1749,0.17699999999999999,0.1885,0.1976,0.19500000000000001,0.19320000000000001,0.19,0.19570000000000001,0.19839999999999999]
["Slovakia",":",0.1615,0.16719999999999999,0.1784,0.17430000000000001,0.17030000000000001,0.1714,0.18410000000000001,0.189,0.19139999999999999,0.1948,0.19539999999999999,0.1918,0.1908,0.1699,0.17180000000000001,0.17419999999999999,0.17480000000000001,0.1588]
["Finland",":",0.14000000000000001,0.1472,0.153,0.16320000000000001,0.1646,0.1681,0.1744,0.19289999999999999,0.19750000000000001,0.19520000000000001,0.19719999999999999,0.20069999999999999,0.19989999999999999,0.20150000000000001,0.20039999999999999,0.20200000000000001,0.20039999999999999,0.2039]
["Sweden",0.15670000000000001,0.1734,0.18740000000000001,0.19489999999999999,0.17949999999999999,0.18190000000000001,0.19919999999999999,0.21190000000000001,0.22819999999999999,0.2225,0.22140000000000001,0.22639999999999999,0.23180000000000001,0.22289999999999999,0.21840000000000001,0.2162,0.20669999999999999,0.20880000000000001,0.214]
["United Kingdom",":",0.16300000000000001,0.15359999999999999,0.16520000000000001,0.15329999999999999,0.15390000000000001,0.1484,0.15679999999999999,0.15310000000000001,0.17280000000000001,0.18229999999999999,0.19650000000000001,0.1893,0.1958,0.2127,0.223,0.23519999999999999,0.24249999999999999,0.22209999999999999]
[]
["Special value:"]
[":","not available"]
[]
["PRODUCT","Electrical energy"]
["CONSOM","Band DC : 2 500 kWh < Consumption < 5 000 kWh"]
["UNIT","Kilowatt-hour"]
["TAX","All taxes and levies included"]
["CURRENCY","Euro"]
[]
["GEO/TIME","2007S1","2007S2","2008S1","2008S2","2009S1","2009S2","2010S1","2010S2","2011S1","2011S2","2012S1","2012S2","2013S1","2013S2","2014S1","2014S2","2015S1","2015S2","2016S1"]
["European Union (28 countries)",":",0.15620000000000001,0.158,0.1663,0.1638,0.16350000000000001,0.16739999999999999,0.17269999999999999,0.17979999999999999,0.18459999999999999,0.18809999999999999,0.19650000000000001,0.19980000000000001,0.20219999999999999,0.2036,0.2056,0.2082,0.21049999999999999,0.20580000000000001]
["Belgium",":",0.16830000000000001,0.19719999999999999,0.2152,0.19159999999999999,0.18640000000000001,0.19589999999999999,0.19739999999999999,0.21360000000000001,0.21190000000000001,0.23269999999999999,0.2223,0.21729999999999999,0.2215,0.2097,0.20430000000000001,0.21260000000000001,0.23519999999999999,0.25440000000000002]
["Bulgaria",":",7.2099999999999997E-2,7.1099999999999997E-2,8.2299999999999998E-2,8.2299999999999998E-2,8.1799999999999998E-2,8.1299999999999997E-2,8.3000000000000004E-2,8.2600000000000007E-2,8.7400000000000005E-2,8.4599999999999995E-2,9.5500000000000002E-2,9.2399999999999996E-2,8.8200000000000001E-2,8.3199999999999996E-2,8.9499999999999996E-2,9.4200000000000006E-2,9.5699999999999993E-2,9.5600000000000004E-2]
["Czech Republic",0.1144,0.1176,0.1401,0.14280000000000001,0.14549999999999999,0.15329999999999999,0.14960000000000001,0.15490000000000001,0.16589999999999999,0.16270000000000001,0.16639999999999999,0.1668,0.1681,0.16450000000000001,0.13880000000000001,0.13789999999999999,0.13850000000000001,0.14080000000000001,0.14199999999999999]
["Denmark",":",0.24010000000000001,0.26350000000000001,0.27850000000000003,0.26989999999999997,0.2555,0.26700000000000002,0.27079999999999999,0.2908,0.29759999999999998,0.29970000000000002,0.29720000000000002,0.3,0.29360000000000003,0.30420000000000003,0.30349999999999999,0.30680000000000002,0.30420000000000003,0.30880000000000002]
["Germany (until 1990 former territory of the FRG)",0.20250000000000001,0.21049999999999999,0.21479999999999999,0.2195,0.22819999999999999,0.22939999999999999,0.23749999999999999,0.24379999999999999,0.25280000000000002,0.25309999999999999,0.25950000000000001,0.2676,0.29189999999999999,0.29210000000000003,0.29809999999999998,0.2974,0.29509999999999997,0.29459999999999997,0.2969]
["Estonia",":",7.8600000000000003E-2,8.14E-2,8.5000000000000006E-2,9.2200000000000004E-2,9.1999999999999998E-2,9.7000000000000003E-2,0.1004,9.7299999999999998E-2,0.1042,0.1096,0.1123,0.1351,0.13669999999999999,0.13070000000000001,0.13250000000000001,0.13020000000000001,0.12909999999999999,0.1208]
["Ireland",":",0.1918,0.1769,0.20330000000000001,0.20300000000000001,0.1855,0.1804,0.1875,0.19009999999999999,0.20860000000000001,0.2155,0.22889999999999999,0.22950000000000001,0.24049999999999999,0.2407,0.25359999999999999,0.24260000000000001,0.24540000000000001,0.2306]
["Greece",":",9.8400000000000001E-2,0.1047,0.1099,0.1154,0.1032,0.1181,0.1211,0.125,0.12379999999999999,0.1391,0.14180000000000001,0.15629999999999999,0.16969999999999999,0.1767,0.17849999999999999,0.1767,0.17710000000000001,0.17599999999999999]
["Spain",":",0.14000000000000001,0.1366,0.15570000000000001,0.15770000000000001,0.16839999999999999,0.17280000000000001,0.18509999999999999,0.1981,0.20880000000000001,0.219,0.22750000000000001,0.2228,0.2273,0.2165,0.23669999999999999,0.23089999999999999,0.23699999999999999,0.2185]
["France",":",0.1222,0.12130000000000001,0.1203,0.1206,0.1207,0.1283,0.13500000000000001,0.13830000000000001,0.14219999999999999,0.13919999999999999,0.15010000000000001,0.15240000000000001,0.15959999999999999,0.1585,0.16200000000000001,0.16239999999999999,0.16750000000000001,0.16850000000000001]
["Croatia",9.2399999999999996E-2,9.8400000000000001E-2,9.9000000000000005E-2,0.11840000000000001,0.11509999999999999,0.1164,0.11509999999999999,0.1153,0.1137,0.11459999999999999,0.1208,0.1384,0.13719999999999999,0.13500000000000001,0.13120000000000001,0.13239999999999999,0.13170000000000001,0.13120000000000001,0.13109999999999999]
["Italy",":",":",0.2031,0.22270000000000001,0.20979999999999999,0.19969999999999999,0.19650000000000001,0.192,0.19869999999999999,0.20649999999999999,0.2132,0.22969999999999999,0.22919999999999999,0.23230000000000001,0.24460000000000001,0.23380000000000001,0.245,0.24279999999999999,0.24129999999999999]
["Cyprus",":",0.1573,0.17799999999999999,0.20399999999999999,0.15579999999999999,0.16420000000000001,0.18579999999999999,0.2021,0.20499999999999999,0.24129999999999999,0.27810000000000001,0.29089999999999999,0.27600000000000002,0.24809999999999999,0.2291,0.2356,0.19570000000000001,0.18379999999999999,0.1527]
["Latvia",":",7.2900000000000006E-2,8.4199999999999997E-2,0.1003,0.1052,0.10539999999999999,0.10489999999999999,0.1048,0.1168,0.13420000000000001,0.13819999999999999,0.13689999999999999,0.13780000000000001,0.1358,0.13650000000000001,0.13009999999999999,0.16350000000000001,0.16500000000000001,0.1628]
["Lithuania",":",8.6999999999999994E-2,8.5999999999999993E-2,8.6499999999999994E-2,9.5100000000000004E-2,9.2600000000000002E-2,0.11559999999999999,0.1216,0.12139999999999999,0.1221,0.126,0.1268,0.13700000000000001,0.1391,0.13300000000000001,0.13189999999999999,0.12559999999999999,0.12429999999999999,0.1231]
["Luxembourg",0.16839999999999999,0.16450000000000001,0.16450000000000001,0.16089999999999999,0.18820000000000001,0.18820000000000001,0.1726,0.17469999999999999,0.1678,0.16619999999999999,0.1696,0.1706,0.16650000000000001,0.1646,0.17380000000000001,0.17380000000000001,0.1767,0.1767,0.16980000000000001]
["Hungary",":",0.12959999999999999,0.15479999999999999,0.15529999999999999,0.14829999999999999,0.16619999999999999,0.1701,0.15740000000000001,0.16819999999999999,0.15529999999999999,0.15490000000000001,0.1618,0.13969999999999999,0.1326,0.1202,0.11459999999999999,0.11269999999999999,0.1145,0.1114]
["Malta",":",9.1800000000000007E-2,9.9299999999999999E-2,0.15359999999999999,0.17080000000000001,0.15129999999999999,0.16470000000000001,0.1653,0.1651,0.1666,0.1673,0.1678,0.16639999999999999,0.16889999999999999,0.1474,0.12479999999999999,0.12570000000000001,0.12690000000000001,0.12570000000000001]
["Netherlands",0.1759,0.1741,0.1769,0.17979999999999999,0.19789999999999999,0.19059999999999999,0.1767,0.1789,0.1802,0.18010000000000001,0.185,0.18640000000000001,0.1898,0.1905,0.18410000000000001,0.18010000000000001,0.1986,0.18459999999999999,0.16200000000000001]
["Austria",":",0.17399999999999999,0.1779,0.1772,0.19089999999999999,0.19089999999999999,0.19670000000000001,0.193,0.1986,0.19650000000000001,0.19750000000000001,0.2024,0.2082,0.20180000000000001,0.2021,0.19869999999999999,0.2009,0.1983,0.2034]
["Poland",":",0.13800000000000001,0.12590000000000001,0.1295,0.11310000000000001,0.12909999999999999,0.1341,0.13819999999999999,0.14710000000000001,0.1351,0.14180000000000001,0.15290000000000001,0.14799999999999999,0.14369999999999999,0.1421,0.14080000000000001,0.1444,0.14180000000000001,0.13320000000000001]
["Portugal",":",0.15620000000000001,0.1482,0.1525,0.15079999999999999,0.15939999999999999,0.15840000000000001,0.1666,0.16539999999999999,0.18809999999999999,0.1993,0.20630000000000001,0.20810000000000001,0.21310000000000001,0.2175,0.22309999999999999,0.22789999999999999,0.22850000000000001,0.23499999999999999]
["Romania",":",0.11409999999999999,0.1061,0.1103,9.7600000000000006E-2,9.7900000000000001E-2,0.1031,0.1052,0.1082,0.1085,0.105,0.1075,0.1323,0.12790000000000001,0.129,0.12479999999999999,0.1303,0.13189999999999999,0.1263]
["Slovenia",":",0.1116,0.1147,0.11559999999999999,0.1346,0.1341,0.1401,0.1426,0.14410000000000001,0.1492,0.1542,0.1542,0.161,0.16569999999999999,0.16300000000000001,0.16320000000000001,0.15890000000000001,0.16309999999999999,0.1618]
["Slovakia",":",0.13700000000000001,0.1421,0.15260000000000001,0.154,0.156,0.152,0.16370000000000001,0.16819999999999999,0.17100000000000001,0.1716,0.17219999999999999,0.16980000000000001,0.1678,0.1507,0.15229999999999999,0.15060000000000001,0.1517,0.14230000000000001]
["Finland",":",0.1149,0.12230000000000001,0.1273,0.12959999999999999,0.12889999999999999,0.13250000000000001,0.13700000000000001,0.154,0.1573,0.15490000000000001,0.15590000000000001,0.1578,0.15590000000000001,0.15629999999999999,0.15379999999999999,0.1552,0.153,0.15409999999999999]
["Sweden",0.15579999999999999,0.1613,0.16980000000000001,0.17460000000000001,0.16020000000000001,0.1646,0.18390000000000001,0.1958,0.2092,0.2044,0.20269999999999999,0.20830000000000001,0.21010000000000001,0.2046,0.19670000000000001,0.1867,0.18509999999999999,0.18740000000000001,0.18940000000000001]
["United Kingdom",":",0.14810000000000001,0.14580000000000001,0.1603,0.14660000000000001,0.14069999999999999,0.1386,0.1449,0.14330000000000001,0.15840000000000001,0.16819999999999999,0.17849999999999999,0.1741,0.1797,0.1918,0.20130000000000001,0.21249999999999999,0.21829999999999999,0.1951]
[]
["Special value:"]
[":","not available"]
[]
["PRODUCT","Electrical energy"]
["CONSOM","Band DD : 5 000 kWh < Consumption < 15 000 kWh"]
["UNIT","Kilowatt-hour"]
["TAX","All taxes and levies included"]
["CURRENCY","Euro"]
[]
["GEO/TIME","2007S1","2007S2","2008S1","2008S2","2009S1","2009S2","2010S1","2010S2","2011S1","2011S2","2012S1","2012S2","2013S1","2013S2","2014S1","2014S2","2015S1","2015S2","2016S1"]
["European Union (28 countries)",":",0.1469,0.14879999999999999,0.15570000000000001,0.15670000000000001,0.1585,0.15989999999999999,0.16520000000000001,0.1714,0.1772,0.17910000000000001,0.18859999999999999,0.1905,0.1946,0.19420000000000001,0.19719999999999999,0.19839999999999999,0.20180000000000001,0.1948]
["Belgium",":",0.16209999999999999,0.17680000000000001,0.19450000000000001,0.17019999999999999,0.16450000000000001,0.17319999999999999,0.17649999999999999,0.1928,0.18720000000000001,0.19339999999999999,0.19550000000000001,0.19769999999999999,0.19969999999999999,0.1885,0.17910000000000001,0.19259999999999999,0.21049999999999999,0.23300000000000001]
["Bulgaria",":",7.1099999999999997E-2,7.0599999999999996E-2,8.1799999999999998E-2,8.1299999999999997E-2,8.2299999999999998E-2,8.1299999999999997E-2,8.3199999999999996E-2,8.2299999999999998E-2,8.6699999999999999E-2,8.2500000000000004E-2,9.6600000000000005E-2,9.2499999999999999E-2,8.9300000000000004E-2,8.3400000000000002E-2,8.7900000000000006E-2,9.3600000000000003E-2,9.6100000000000005E-2,9.4700000000000006E-2]
["Czech Republic",8.0600000000000005E-2,8.2900000000000001E-2,0.1036,0.1056,0.10829999999999999,0.11409999999999999,0.11,0.1138,0.1236,0.1212,0.1263,0.12659999999999999,0.12920000000000001,0.12640000000000001,0.1104,0.10970000000000001,0.1094,0.11119999999999999,0.1132]
["Denmark",":",0.21240000000000001,0.2344,0.24940000000000001,0.24030000000000001,0.22589999999999999,0.23080000000000001,0.2346,0.25409999999999999,0.26069999999999999,0.26229999999999998,0.26029999999999998,0.22689999999999999,0.22209999999999999,0.2301,0.22950000000000001,0.2258,0.22220000000000001,0.2432]
["Germany (until 1990 former territory of the FRG)",0.1888,0.19919999999999999,0.1988,0.2039,0.2122,0.21379999999999999,0.224,0.22919999999999999,0.2399,0.24229999999999999,0.24660000000000001,0.25419999999999998,0.27829999999999999,0.27760000000000001,0.28289999999999998,0.28270000000000001,0.28010000000000002,0.2797,0.28120000000000001]
["Estonia",":",7.6100000000000001E-2,7.7700000000000005E-2,8.2699999999999996E-2,8.8700000000000001E-2,8.9700000000000002E-2,9.3600000000000003E-2,9.7799999999999998E-2,9.3700000000000006E-2,0.1021,0.1056,0.1096,0.1308,0.1326,0.1229,0.1288,0.12280000000000001,0.1239,0.1135]
["Ireland",":",0.1734,0.15720000000000001,0.18440000000000001,0.1837,0.16880000000000001,0.16120000000000001,0.16830000000000001,0.158,0.18529999999999999,0.1883,0.2016,0.19919999999999999,0.21060000000000001,0.2079,0.21829999999999999,0.20399999999999999,0.21129999999999999,0.19769999999999999]
["Greece",":",0.1203,0.1245,0.13469999999999999,0.13689999999999999,0.1201,0.13700000000000001,0.1401,0.1389,0.1384,0.15509999999999999,0.16039999999999999,0.17249999999999999,0.1822,0.1913,0.18920000000000001,0.1895,0.188,0.18790000000000001]
["Spain",":",0.12870000000000001,0.1241,0.14860000000000001,0.1467,0.15440000000000001,0.155,0.1691,0.17680000000000001,0.1938,0.193,0.2089,0.19470000000000001,0.20810000000000001,0.18740000000000001,0.21099999999999999,0.19900000000000001,0.20880000000000001,0.19259999999999999]
["France",":",0.1075,0.10580000000000001,0.10539999999999999,0.1057,0.1139,0.11550000000000001,0.12189999999999999,0.12690000000000001,0.13020000000000001,0.1278,0.13750000000000001,0.1399,0.1469,0.1457,0.14910000000000001,0.14990000000000001,0.15579999999999999,0.157]
["Croatia",8.9700000000000002E-2,9.2899999999999996E-2,9.2200000000000004E-2,0.1128,0.1084,0.1123,0.1101,0.11119999999999999,0.1091,0.109,0.1139,0.1321,0.13059999999999999,0.12889999999999999,0.12529999999999999,0.12720000000000001,0.12590000000000001,0.12590000000000001,0.1255]
["Italy",":",":",0.23080000000000001,0.24049999999999999,0.26090000000000002,0.26150000000000001,0.2492,0.2414,0.2429,0.25440000000000002,0.2636,0.28349999999999997,0.28460000000000002,0.29060000000000002,0.30059999999999998,0.29349999999999998,0.30549999999999999,0.30330000000000001,0.28310000000000002]
["Cyprus",":",0.15759999999999999,0.17849999999999999,0.2102,0.1608,0.16550000000000001,0.1804,0.2006,0.19900000000000001,0.2387,0.27100000000000002,0.29010000000000002,0.27060000000000001,0.24759999999999999,0.22339999999999999,0.23549999999999999,0.19040000000000001,0.18390000000000001,0.1472]
["Latvia",":",7.1999999999999995E-2,8.2000000000000003E-2,0.1002,0.1051,0.10539999999999999,0.105,0.10489999999999999,0.11799999999999999,0.14399999999999999,0.14180000000000001,0.1462,0.1414,0.14460000000000001,0.14030000000000001,0.13930000000000001,0.16259999999999999,0.1641,0.16189999999999999]
["Lithuania",":",8.2699999999999996E-2,8.0799999999999997E-2,8.2299999999999998E-2,8.9700000000000002E-2,8.8400000000000006E-2,0.1103,0.11799999999999999,0.1178,0.1181,0.12280000000000001,0.124,0.1336,0.13569999999999999,0.129,0.12839999999999999,0.1211,0.1203,0.1186]
["Luxembourg",0.1552,0.1477,0.1477,0.1469,0.17,0.17,0.16109999999999999,0.16289999999999999,0.15629999999999999,0.15409999999999999,0.1585,0.159,0.15179999999999999,0.15129999999999999,0.16,0.16,0.16289999999999999,0.16289999999999999,0.15609999999999999]
["Hungary",":",0.1333,0.15409999999999999,0.153,0.1346,0.15609999999999999,0.15939999999999999,0.14979999999999999,0.15920000000000001,0.14599999999999999,0.14399999999999999,0.1517,0.1336,0.12839999999999999,0.1162,0.1111,0.1103,0.11169999999999999,0.1086]
["Malta",":",0.12809999999999999,0.13089999999999999,0.18049999999999999,0.17699999999999999,0.1585,0.1832,0.18290000000000001,0.18340000000000001,0.1837,0.184,0.1837,0.1827,0.18590000000000001,0.1691,0.14610000000000001,0.14860000000000001,0.1479,0.15]
["Netherlands",0.19350000000000001,0.19189999999999999,0.192,0.1966,0.216,0.20910000000000001,0.19650000000000001,0.1966,0.19600000000000001,0.19650000000000001,0.20030000000000001,0.2016,0.20380000000000001,0.20430000000000001,0.2019,0.19919999999999999,0.2084,0.19950000000000001,0.17580000000000001]
["Austria",":",0.16139999999999999,0.1638,0.16569999999999999,0.1739,0.17530000000000001,0.1774,0.17530000000000001,0.18049999999999999,0.17810000000000001,0.17849999999999999,0.18329999999999999,0.1888,0.185,0.18479999999999999,0.18149999999999999,0.17799999999999999,0.17530000000000001,0.1792]
["Poland",":",0.1043,0.1114,0.1229,0.1072,0.1172,0.1235,0.13350000000000001,0.1394,0.12820000000000001,0.1409,0.1421,0.1404,0.1386,0.13439999999999999,0.13639999999999999,0.1381,0.1366,0.12740000000000001]
["Portugal",":",0.14940000000000001,0.1323,0.1366,0.13669999999999999,0.1434,0.14349999999999999,0.15160000000000001,0.15040000000000001,0.17119999999999999,0.1832,0.19009999999999999,0.1923,0.19900000000000001,0.20580000000000001,0.2132,0.2165,0.21709999999999999,0.22420000000000001]
["Romania",":",0.1149,0.1043,0.1103,9.4100000000000003E-2,9.4399999999999998E-2,0.1011,0.1038,0.1067,0.1082,0.1048,0.1076,0.13039999999999999,0.12540000000000001,0.1255,0.1234,0.1285,0.13039999999999999,0.1217]
["Slovenia",":",0.1021,0.1066,0.10920000000000001,0.12659999999999999,0.1231,0.12770000000000001,0.13020000000000001,0.13320000000000001,0.1361,0.1404,0.14050000000000001,0.14380000000000001,0.14729999999999999,0.14460000000000001,0.14530000000000001,0.13969999999999999,0.14269999999999999,0.1406]
["Slovakia",":",0.10979999999999999,0.1191,0.13020000000000001,0.1484,0.15579999999999999,0.13589999999999999,0.14580000000000001,0.1502,0.15409999999999999,0.15229999999999999,0.1535,0.14979999999999999,0.1512,0.13370000000000001,0.1356,0.1313,0.1321,0.1255]
["Finland",":",9.9199999999999997E-2,0.10580000000000001,0.1111,0.1147,0.1143,0.1168,0.1198,0.13539999999999999,0.13900000000000001,0.13719999999999999,0.1368,0.1394,0.1371,0.13719999999999999,0.1343,0.1358,0.13339999999999999,0.13320000000000001]
["Sweden",0.1389,0.14699999999999999,0.14849999999999999,0.1512,0.13719999999999999,0.14249999999999999,0.15939999999999999,0.1699,0.18010000000000001,0.17630000000000001,0.17019999999999999,0.1782,0.1764,0.17549999999999999,0.1628,0.16070000000000001,0.1527,0.1547,0.15310000000000001]
["United Kingdom",":",0.13400000000000001,0.13550000000000001,0.13950000000000001,0.13089999999999999,0.125,0.12379999999999999,0.13070000000000001,0.12670000000000001,0.14130000000000001,0.1489,0.16139999999999999,0.15690000000000001,0.16539999999999999,0.17269999999999999,0.1817,0.1915,0.20150000000000001,0.1797]
[]
["Special value:"]
[":","not available"]
[]
["PRODUCT","Electrical energy"]
["CONSOM","Band DE : Consumption > 15 000 kWh"]
["UNIT","Kilowatt-hour"]
["TAX","All taxes and levies included"]
["CURRENCY","Euro"]
[]
["GEO/TIME","2007S1","2007S2","2008S1","2008S2","2009S1","2009S2","2010S1","2010S2","2011S1","2011S2","2012S1","2012S2","2013S1","2013S2","2014S1","2014S2","2015S1","2015S2","2016S1"]
["European Union (28 countries)",":",0.13719999999999999,0.14130000000000001,0.14899999999999999,0.15240000000000001,0.15429999999999999,0.15429999999999999,0.15890000000000001,0.1651,0.17050000000000001,0.1721,0.18110000000000001,0.18149999999999999,0.1827,0.1845,0.18809999999999999,0.19009999999999999,0.19409999999999999,0.1862]
["Belgium",":",0.15620000000000001,0.15920000000000001,0.17460000000000001,0.1459,0.13650000000000001,0.1447,0.15090000000000001,0.1666,0.15820000000000001,0.1835,0.16189999999999999,0.17430000000000001,0.16789999999999999,0.15970000000000001,0.1588,0.1613,0.17760000000000001,0.17899999999999999]
["Bulgaria",":",7.2099999999999997E-2,7.0599999999999996E-2,0.09,8.1299999999999997E-2,8.1299999999999997E-2,8.0299999999999996E-2,8.3400000000000002E-2,8.2900000000000001E-2,8.6599999999999996E-2,8.2000000000000003E-2,9.6699999999999994E-2,9.3100000000000002E-2,8.9300000000000004E-2,8.2900000000000001E-2,8.4900000000000003E-2,9.2999999999999999E-2,9.5699999999999993E-2,9.5100000000000004E-2]
["Czech Republic",7.1400000000000005E-2,7.3400000000000007E-2,9.4100000000000003E-2,9.5899999999999999E-2,9.9099999999999994E-2,0.10440000000000001,9.8699999999999996E-2,0.1022,0.1113,0.1091,0.1152,0.1154,0.1183,0.1158,9.4E-2,9.3399999999999997E-2,9.3799999999999994E-2,9.5299999999999996E-2,0.1036]
["Denmark",":",0.21240000000000001,0.2344,0.24940000000000001,0.24030000000000001,0.22589999999999999,0.23080000000000001,0.2346,0.25409999999999999,0.26069999999999999,0.26229999999999998,0.26029999999999998,0.22689999999999999,0.22209999999999999,0.2301,0.22950000000000001,0.2258,0.22220000000000001,0.2213]
["Germany (until 1990 former territory of the FRG)",0.18,0.1908,0.19070000000000001,0.19700000000000001,0.20580000000000001,0.20669999999999999,0.21779999999999999,0.22109999999999999,0.2319,0.23250000000000001,0.2374,0.2442,0.2712,0.26679999999999998,0.26910000000000001,0.27139999999999997,0.2676,0.26790000000000003,0.26800000000000002]
["Estonia",":",6.5199999999999994E-2,6.6900000000000001E-2,7.4200000000000002E-2,7.8E-2,8.1000000000000003E-2,8.4199999999999997E-2,9.06E-2,8.5099999999999995E-2,9.5399999999999999E-2,9.7000000000000003E-2,0.1017,0.1176,0.1172,0.1109,0.11990000000000001,0.1138,0.1179,0.10440000000000001]
["Ireland",":",0.1469,0.13719999999999999,0.15909999999999999,0.16120000000000001,0.1467,0.14000000000000001,0.1426,0.1318,0.15529999999999999,0.16350000000000001,0.17330000000000001,0.17330000000000001,0.1807,0.18060000000000001,0.18240000000000001,0.17380000000000001,0.18079999999999999,0.17019999999999999]
["Greece",":",0.1401,0.13600000000000001,0.17050000000000001,0.16639999999999999,0.1439,0.16769999999999999,0.1762,0.126,0.13930000000000001,0.13619999999999999,0.16719999999999999,0.152,0.19389999999999999,0.18809999999999999,0.2006,0.18720000000000001,0.1961,0.1852]
["Spain",":",0.1182,0.1188,0.14000000000000001,0.14180000000000001,0.1406,0.14319999999999999,0.15429999999999999,0.15509999999999999,0.17910000000000001,0.17549999999999999,0.18579999999999999,0.1794,0.18590000000000001,0.16650000000000001,0.1787,0.184,0.20019999999999999,0.17660000000000001]
["France",":",9.9699999999999997E-2,9.9299999999999999E-2,0.1055,0.1004,0.11070000000000001,0.1118,0.11840000000000001,0.1245,0.12690000000000001,0.12559999999999999,0.13420000000000001,0.12720000000000001,0.13389999999999999,0.13170000000000001,0.14399999999999999,0.14680000000000001,0.153,0.15429999999999999]
["Croatia",6.6600000000000006E-2,8.8800000000000004E-2,8.7999999999999995E-2,0.10730000000000001,0.1043,0.1082,0.1067,0.10680000000000001,0.10489999999999999,0.1048,0.1089,0.1273,0.1263,0.1249,0.1217,0.1229,0.12180000000000001,0.12189999999999999,0.1216]
["Italy",":",":",0.217,0.23350000000000001,0.29270000000000002,0.31109999999999999,0.28039999999999998,0.2732,0.28660000000000002,0.28660000000000002,0.29480000000000001,0.31730000000000003,0.32019999999999998,0.29720000000000002,0.32800000000000001,0.3337,0.32879999999999998,0.34050000000000002,0.2873]
["Cyprus",":",0.15859999999999999,0.1792,0.21199999999999999,0.1628,0.16819999999999999,0.159,0.20280000000000001,0.17829999999999999,0.24149999999999999,0.247,0.2913,0.25440000000000002,0.24879999999999999,0.20749999999999999,0.23649999999999999,0.17069999999999999,0.18479999999999999,0.13159999999999999]
["Latvia",":",6.9599999999999995E-2,7.9000000000000001E-2,0.1,0.1048,0.10489999999999999,0.1045,0.1043,0.12089999999999999,0.1447,0.14610000000000001,0.14710000000000001,0.1457,0.13789999999999999,0.14510000000000001,0.14080000000000001,0.1598,0.16239999999999999,0.1583]
["Lithuania",":",7.85E-2,7.5300000000000006E-2,7.6899999999999996E-2,8.0799999999999997E-2,8.2199999999999995E-2,0.10349999999999999,0.1128,0.1113,0.1106,0.11550000000000001,0.1173,0.12529999999999999,0.128,0.1208,0.1211,0.113,0.1133,0.1105]
["Luxembourg",0.10580000000000001,0.10489999999999999,0.10489999999999999,0.1153,0.13930000000000001,0.13930000000000001,0.14499999999999999,0.14660000000000001,0.13969999999999999,0.1376,0.14399999999999999,0.14299999999999999,0.1396,0.13930000000000001,0.1482,0.14860000000000001,0.15210000000000001,0.152,0.14549999999999999]
["Hungary",":",0.1067,0.15890000000000001,0.1615,0.13300000000000001,0.16139999999999999,0.16139999999999999,0.1545,0.1651,0.1497,0.1646,0.16339999999999999,0.13900000000000001,0.13250000000000001,0.1235,0.11509999999999999,0.11269999999999999,0.1187,0.1128]
["Malta",":",0.14000000000000001,0.14169999999999999,0.19719999999999999,0.21279999999999999,0.21279999999999999,0.39829999999999999,0.3881,0.38300000000000001,0.36809999999999998,0.36890000000000001,0.35589999999999999,0.35730000000000001,0.37609999999999999,0.38030000000000003,0.38829999999999998,0.36359999999999998,0.34560000000000002,0.36230000000000001]
["Netherlands",0.17699999999999999,":",":",":",0.25769999999999998,0.2054,0.23760000000000001,0.18909999999999999,0.24360000000000001,0.1948,0.25440000000000002,0.20849999999999999,0.26179999999999998,0.21210000000000001,0.26779999999999998,0.2056,0.26319999999999999,0.19769999999999999,0.2432]
["Austria",":",0.14899999999999999,0.15140000000000001,0.15340000000000001,0.15720000000000001,0.15989999999999999,0.157,0.14660000000000001,0.16309999999999999,0.16109999999999999,0.1595,0.16389999999999999,0.17549999999999999,0.16980000000000001,0.1613,0.15720000000000001,0.15179999999999999,0.14910000000000001,0.1517]
["Poland",":",0.12839999999999999,0.111,0.1167,0.1052,0.1171,0.12429999999999999,0.13009999999999999,0.13900000000000001,0.129,0.1336,0.1399,0.13830000000000001,0.13489999999999999,0.1346,0.1368,0.1366,0.13469999999999999,0.12670000000000001]
["Portugal",":",0.1429,0.1241,0.12690000000000001,0.12839999999999999,0.13339999999999999,0.13719999999999999,0.13919999999999999,0.14419999999999999,0.15790000000000001,0.1777,0.186,0.19139999999999999,0.1913,0.19980000000000001,0.20080000000000001,0.2094,0.2069,0.21540000000000001]
["Romania",":",0.1163,0.1052,0.113,9.1600000000000001E-2,9.1600000000000001E-2,9.7799999999999998E-2,9.8900000000000002E-2,0.1014,0.10639999999999999,0.10390000000000001,0.1055,0.12740000000000001,0.1217,0.1232,0.1217,0.125,0.1275,0.11799999999999999]
["Slovenia",":",9.5799999999999996E-2,0.10059999999999999,0.1076,0.1249,0.1176,0.12089999999999999,0.12330000000000001,0.12590000000000001,0.1249,0.1273,0.1283,0.12790000000000001,0.1323,0.1298,0.13089999999999999,0.12720000000000001,0.1288,0.12659999999999999]
["Slovakia",":",8.4500000000000006E-2,9.4E-2,0.1048,0.1216,0.13159999999999999,0.1152,0.1239,0.13200000000000001,0.13320000000000001,0.13370000000000001,0.13489999999999999,0.13220000000000001,0.13420000000000001,0.1208,0.12280000000000001,0.1169,0.1159,0.112]
["Finland",":",8.1600000000000006E-2,8.8900000000000007E-2,9.3399999999999997E-2,9.6000000000000002E-2,9.5200000000000007E-2,9.7500000000000003E-2,0.10009999999999999,0.1153,0.1181,0.1169,0.11650000000000001,0.11890000000000001,0.1169,0.1172,0.1145,0.11650000000000001,0.114,0.1124]
["Sweden",0.1241,0.13109999999999999,0.13489999999999999,0.13800000000000001,0.12889999999999999,0.13,0.14610000000000001,0.15379999999999999,0.1633,0.15770000000000001,0.1532,0.159,0.1575,0.15579999999999999,0.14360000000000001,0.13830000000000001,0.1338,0.13400000000000001,0.13370000000000001]
["United Kingdom",":",0.1125,0.1381,0.13220000000000001,0.13089999999999999,0.11899999999999999,0.1123,0.1208,0.1153,0.13200000000000001,0.1361,0.14990000000000001,0.1419,0.1542,0.1588,0.16789999999999999,0.17399999999999999,0.1862,0.16270000000000001]
[]
["Special value:"]
[":","not available"]

{"sheet":"Afgifter og Moms","index":8,"n_rows":70,"n_cols":64,"rows_kept":70,"cut":false,"hidden":false,"merged":[[2,0,2,11],[2,13,2,24],[2,26,2,37],[2,39,2,50],[2,52,2,63],[38,0,38,11],[38,13,38,24],[38,26,38,37],[38,39,38,50],[38,52,38,63]]}
["Ikke-refunderbare afgifter i de enklete lande"]
[]
[{"$f":"'Level 1'!A3:H3","v":"Forbrugsinterval < 1000 kWh"},null,null,null,null,null,null,null,null,null,null,null,null,{"$f":"'Level 1'!N3:U3","v":"Forbrugsinterval 1000 kWh < 2500 kWh"},null,null,null,null,null,null,null,null,null,null,null,null,{"$f":"'Level 1'!AA3:AH3","v":"Forbrugsinterval 2500 kWh <  5000 kWh"},null,null,null,null,null,null,null,null,null,null,null,null,{"$f":"'Level 1'!AN3:AU3","v":"Forbrugsinterval 5000 kWh < 15 000 kWh"},null,null,null,null,null,null,null,null,null,null,null,null,{"$f":"'Level 1'!BA3:BH3","v":"Forbrugsinterval > 15 000 kWh"}]
[]
[{"$f":"'Level 1'!A5","v":"Euro/kWh"},{"$f":"'Level 1'!B5","v":2007},{"$f":"'Level 1'!C5","v":2008},{"$f":"'Level 1'!D5","v":2009},{"$f":"'Level 1'!E5","v":2010},{"$f":"'Level 1'!F5","v":2011},{"$f":"'Level 1'!G5","v":2012},{"$f":"'Level 1'!H5","v":2013},{"$f":"'Level 1'!I5","v":2014},{"$f":"'Level 1'!J5","v":2015},{"$f":"'Level 1'!K5","v":2016},{"$f":"'Level 1'!L5","v":2017},null,{"$f":"'Level 1'!N5","v":"Euro/kWh"},{"$f":"'Level 1'!O5","v":2007},{"$f":"'Level 1'!P5","v":2008},{"$f":"'Level 1'!Q5","v":2009},{"$f":"'Level 1'!R5","v":2010},{"$f":"'Level 1'!S5","v":2011},{"$f":"'Level 1'!T5","v":2012},{"$f":"'Level 1'!U5","v":2013},{"$f":"'Level 1'!V5","v":2014},{"$f":"'Level 1'!W5","v":2015},{"$f":"'Level 1'!X5","v":2016},{"$f":"'Level 1'!Y5","v":2017},null,{"$f":"'Level 1'!AA5","v":"Euro/kWh"},{"$f":"'Level 1'!AB5","v":2007},{"$f":"'Level 1'!AC5","v":2008},{"$f":"'Level 1'!AD5","v":2009},{"$f":"'Level 1'!AE5","v":2010},{"$f":"'Level 1'!AF5","v":2011},{"$f":"'Level 1'!AG5","v":2012},{"$f":"'Level 1'!AH5","v":2013},{"$f":"'Level 1'!AI5","v":2014},{"$f":"'Level 1'!AJ5","v":2015},{"$f":"'Level 1'!AK5","v":2016},{"$f":"'Level 1'!AL5","v":2017},null,{"$f":"'Level 1'!AN5","v":"Euro/kWh"},{"$f":"'Level 1'!AO5","v":2007},{"$f":"'Level 1'!AP5","v":2008},{"$f":"'Level 1'!AQ5","v":2009},{"$f":"'Level 1'!AR5","v":2010},{"$f":"'Level 1'!AS5","v":2011},{"$f":"'Level 1'!AT5","v":2012},{"$f":"'Level 1'!AU5","v":2013},{"$f":"'Level 1'!AV5","v":2014},{"$f":"'Level 1'!AW5","v":2015},{"$f":"'Level 1'!AX5","v":2016},{"$f":"'Level 1'!AY5","v":2017},null,{"$f":"'Level 1'!BA5","v":"Euro/kWh"},{"$f":"'Level 1'!BB5","v":2007},{"$f":"'Level 1'!BC5","v":2008},{"$f":"'Level 1'!BD5","v":2009},{"$f":"'Level 1'!BE5","v":2010},{"$f":"'Level 1'!BF5","v":2011},{"$f":"'Level 1'!BG5","v":2012},{"$f":"'Level 1'!BH5","v":2013},{"$f":"'Level 1'!BI5","v":2014},{"$f":"'Level 1'!BJ5","v":2015},{"$f":"'Level 1'!BK5","v":2016},{"$f":"'Level 1'!BL5","v":2017}]
[{"$f":"'Level 1'!A6","v":"European Union (28 countries)"},{"$f":"IFERROR('Level 2'!B6-'Level 1'!B6,\"*\")","v":2.0299999999999985E-2},{"$f":"IFERROR('Level 2'!C6-'Level 1'!C6,\"*\")","v":2.1050000000000013E-2},{"$f":"IFERROR('Level 2'!D6-'Level 1'!D6,\"*\")","v":1.9300000000000012E-2},{"$f":"IFERROR('Level 2'!E6-'Level 1'!E6,\"*\")","v":2.4850000000000011E-2},{"$f":"IFERROR('Level 2'!F6-'Level 1'!F6,\"*\")","v":2.6749999999999996E-2},{"$f":"IFERROR('Level 2'!G6-'Level 1'!G6,\"*\")","v":2.8450000000000003E-2},{"$f":"IFERROR('Level 2'!H6-'Level 1'!H6,\"*\")","v":3.4399999999999986E-2},{"$f":"IFERROR('Level 2'!I6-'Level 1'!I6,\"*\")","v":4.0049999999999975E-2},{"$f":"IFERROR('Level 2'!J6-'Level 1'!J6,\"*\")","v":4.3049999999999977E-2},{"$f":"IFERROR('Level 2'!K6-'Level 1'!K6,\"*\")","v":4.3899999999999995E-2},{"$f":"IFERROR('Level 2'!L6-'Level 1'!L6,\"*\")","v":"*"},null,{"$f":"'Level 1'!N6","v":"European Union (28 countries)"},{"$f":"IFERROR('Level 2'!O6-'Level 1'!O6,\"*\")","v":1.7000000000000015E-2},{"$f":"IFERROR('Level 2'!P6-'Level 1'!P6,\"*\")","v":1.730000000000001E-2},{"$f":"IFERROR('Level 2'!Q6-'Level 1'!Q6,\"*\")","v":1.6799999999999982E-2},{"$f":"IFERROR('Level 2'!R6-'Level 1'!R6,\"*\")","v":2.0350000000000007E-2},{"$f":"IFERROR('Level 2'!S6-'Level 1'!S6,\"*\")","v":2.3150000000000004E-2},{"$f":"IFERROR('Level 2'!T6-'Level 1'!T6,\"*\")","v":2.5350000000000011E-2},{"$f":"IFERROR('Level 2'!U6-'Level 1'!U6,\"*\")","v":3.0450000000000005E-2},{"$f":"IFERROR('Level 2'!V6-'Level 1'!V6,\"*\")","v":3.3399999999999985E-2},{"$f":"IFERROR('Level 2'!W6-'Level 1'!W6,\"*\")","v":3.5799999999999998E-2},{"$f":"IFERROR('Level 2'!X6-'Level 1'!X6,\"*\")","v":3.8000000000000006E-2},{"$f":"IFERROR('Level 2'!Y6-'Level 1'!Y6,\"*\")","v":"*"},null,{"$f":"'Level 1'!AA6","v":"European Union (28 countries)"},{"$f":"IFERROR('Level 2'!AB6-'Level 1'!AB6,\"*\")","v":1.9100000000000006E-2},{"$f":"IFERROR('Level 2'!AC6-'Level 1'!AC6,\"*\")","v":1.9650000000000001E-2},{"$f":"IFERROR('Level 2'!AD6-'Level 1'!AD6,\"*\")","v":2.0100000000000007E-2},{"$f":"IFERROR('Level 2'!AE6-'Level 1'!AE6,\"*\")","v":2.3300000000000001E-2},{"$f":"IFERROR('Level 2'!AF6-'Level 1'!AF6,\"*\")","v":2.6800000000000018E-2},{"$f":"IFERROR('Level 2'!AG6-'Level 1'!AG6,\"*\")","v":2.9100000000000015E-2},{"$f":"IFERROR('Level 2'!AH6-'Level 1'!AH6,\"*\")","v":3.4200000000000008E-2},{"$f":"IFERROR('Level 2'!AI6-'Level 1'!AI6,\"*\")","v":3.7250000000000005E-2},{"$f":"IFERROR('Level 2'!AJ6-'Level 1'!AJ6,\"*\")","v":3.9099999999999968E-2},{"$f":"IFERROR('Level 2'!AK6-'Level 1'!AK6,\"*\")","v":4.1199999999999987E-2},{"$f":"IFERROR('Level 2'!AL6-'Level 1'!AL6,\"*\")","v":"*"},null,{"$f":"'Level 1'!AN6","v":"European Union (28 countries)"},{"$f":"IFERROR('Level 2'!AO6-'Level 1'!AO6,\"*\")","v":1.9799999999999998E-2},{"$f":"IFERROR('Level 2'!AP6-'Level 1'!AP6,\"*\")","v":2.0299999999999999E-2},{"$f":"IFERROR('Level 2'!AQ6-'Level 1'!AQ6,\"*\")","v":2.1800000000000014E-2},{"$f":"IFERROR('Level 2'!AR6-'Level 1'!AR6,\"*\")","v":2.47E-2},{"$f":"IFERROR('Level 2'!AS6-'Level 1'!AS6,\"*\")","v":2.8299999999999992E-2},{"$f":"IFERROR('Level 2'!AT6-'Level 1'!AT6,\"*\")","v":3.1700000000000006E-2},{"$f":"IFERROR('Level 2'!AU6-'Level 1'!AU6,\"*\")","v":3.6549999999999999E-2},{"$f":"IFERROR('Level 2'!AV6-'Level 1'!AV6,\"*\")","v":3.9899999999999991E-2},{"$f":"IFERROR('Level 2'!AW6-'Level 1'!AW6,\"*\")","v":4.1250000000000009E-2},{"$f":"IFERROR('Level 2'!AX6-'Level 1'!AX6,\"*\")","v":4.3499999999999983E-2},{"$f":"IFERROR('Level 2'!AY6-'Level 1'!AY6,\"*\")","v":"*"},null,{"$f":"'Level 1'!BA6","v":"European Union (28 countries)"},{"$f":"IFERROR('Level 2'!BB6-'Level 1'!BB6,\"*\")","v":1.8599999999999992E-2},{"$f":"IFERROR('Level 2'!BC6-'Level 1'!BC6,\"*\")","v":1.8250000000000002E-2},{"$f":"IFERROR('Level 2'!BD6-'Level 1'!BD6,\"*\")","v":1.9799999999999984E-2},{"$f":"IFERROR('Level 2'!BE6-'Level 1'!BE6,\"*\")","v":2.2900000000000004E-2},{"$f":"IFERROR('Level 2'!BF6-'Level 1'!BF6,\"*\")","v":2.6950000000000002E-2},{"$f":"IFERROR('Level 2'!BG6-'Level 1'!BG6,\"*\")","v":3.1050000000000022E-2},{"$f":"IFERROR('Level 2'!BH6-'Level 1'!BH6,\"*\")","v":3.5550000000000012E-2},{"$f":"IFERROR('Level 2'!BI6-'Level 1'!BI6,\"*\")","v":3.8700000000000012E-2},{"$f":"IFERROR('Level 2'!BJ6-'Level 1'!BJ6,\"*\")","v":4.0149999999999991E-2},{"$f":"IFERROR('Level 2'!BK6-'Level 1'!BK6,\"*\")","v":4.2900000000000008E-2},{"$f":"IFERROR('Level 2'!BL6-'Level 1'!BL6,\"*\")","v":"*"}]
[{"$f":"'Level 1'!A7","v":"Belgium"},{"$f":"IFERROR('Level 2'!B7-'Level 1'!B7,\"*\")","v":1.4700000000000019E-2},{"$f":"IFERROR('Level 2'!C7-'Level 1'!C7,\"*\")","v":1.5500000000000014E-2},{"$f":"IFERROR('Level 2'!D7-'Level 1'!D7,\"*\")","v":1.5549999999999981E-2},{"$f":"IFERROR('Level 2'!E7-'Level 1'!E7,\"*\")","v":1.8000000000000016E-2},{"$f":"IFERROR('Level 2'!F7-'Level 1'!F7,\"*\")","v":1.8749999999999989E-2},{"$f":"IFERROR('Level 2'!G7-'Level 1'!G7,\"*\")","v":1.6850000000000032E-2},{"$f":"IFERROR('Level 2'!H7-'Level 1'!H7,\"*\")","v":1.9350000000000006E-2},{"$f":"IFERROR('Level 2'!I7-'Level 1'!I7,\"*\")","v":1.8600000000000005E-2},{"$f":"IFERROR('Level 2'!J7-'Level 1'!J7,\"*\")","v":2.024999999999999E-2},{"$f":"IFERROR('Level 2'!K7-'Level 1'!K7,\"*\")","v":8.7899999999999978E-2},{"$f":"IFERROR('Level 2'!L7-'Level 1'!L7,\"*\")","v":"*"},null,{"$f":"'Level 1'!N7","v":"Belgium"},{"$f":"IFERROR('Level 2'!O7-'Level 1'!O7,\"*\")","v":2.3999999999999994E-2},{"$f":"IFERROR('Level 2'!P7-'Level 1'!P7,\"*\")","v":1.4599999999999974E-2},{"$f":"IFERROR('Level 2'!Q7-'Level 1'!Q7,\"*\")","v":1.5149999999999997E-2},{"$f":"IFERROR('Level 2'!R7-'Level 1'!R7,\"*\")","v":1.7099999999999976E-2},{"$f":"IFERROR('Level 2'!S7-'Level 1'!S7,\"*\")","v":1.7649999999999999E-2},{"$f":"IFERROR('Level 2'!T7-'Level 1'!T7,\"*\")","v":1.5899999999999997E-2},{"$f":"IFERROR('Level 2'!U7-'Level 1'!U7,\"*\")","v":1.7350000000000004E-2},{"$f":"IFERROR('Level 2'!V7-'Level 1'!V7,\"*\")","v":1.8199999999999994E-2},{"$f":"IFERROR('Level 2'!W7-'Level 1'!W7,\"*\")","v":1.949999999999999E-2},{"$f":"IFERROR('Level 2'!X7-'Level 1'!X7,\"*\")","v":5.6899999999999978E-2},{"$f":"IFERROR('Level 2'!Y7-'Level 1'!Y7,\"*\")","v":"*"},null,{"$f":"'Level 1'!AA7","v":"Belgium"},{"$f":"IFERROR('Level 2'!AB7-'Level 1'!AB7,\"*\")","v":1.3700000000000018E-2},{"$f":"IFERROR('Level 2'!AC7-'Level 1'!AC7,\"*\")","v":1.4500000000000013E-2},{"$f":"IFERROR('Level 2'!AD7-'Level 1'!AD7,\"*\")","v":1.5149999999999997E-2},{"$f":"IFERROR('Level 2'!AE7-'Level 1'!AE7,\"*\")","v":1.7049999999999982E-2},{"$f":"IFERROR('Level 2'!AF7-'Level 1'!AF7,\"*\")","v":1.7899999999999999E-2},{"$f":"IFERROR('Level 2'!AG7-'Level 1'!AG7,\"*\")","v":2.4399999999999977E-2},{"$f":"IFERROR('Level 2'!AH7-'Level 1'!AH7,\"*\")","v":1.9249999999999989E-2},{"$f":"IFERROR('Level 2'!AI7-'Level 1'!AI7,\"*\")","v":1.9599999999999979E-2},{"$f":"IFERROR('Level 2'!AJ7-'Level 1'!AJ7,\"*\")","v":2.0349999999999979E-2},{"$f":"IFERROR('Level 2'!AK7-'Level 1'!AK7,\"*\")","v":5.4099999999999981E-2},{"$f":"IFERROR('Level 2'!AL7-'Level 1'!AL7,\"*\")","v":"*"},null,{"$f":"'Level 1'!AN7","v":"Belgium"},{"$f":"IFERROR('Level 2'!AO7-'Level 1'!AO7,\"*\")","v":1.7899999999999999E-2},{"$f":"IFERROR('Level 2'!AP7-'Level 1'!AP7,\"*\")","v":1.454999999999998E-2},{"$f":"IFERROR('Level 2'!AQ7-'Level 1'!AQ7,\"*\")","v":1.504999999999998E-2},{"$f":"IFERROR('Level 2'!AR7-'Level 1'!AR7,\"*\")","v":1.7100000000000004E-2},{"$f":"IFERROR('Level 2'!AS7-'Level 1'!AS7,\"*\")","v":1.8000000000000016E-2},{"$f":"IFERROR('Level 2'!AT7-'Level 1'!AT7,\"*\")","v":1.645000000000002E-2},{"$f":"IFERROR('Level 2'!AU7-'Level 1'!AU7,\"*\")","v":1.9600000000000006E-2},{"$f":"IFERROR('Level 2'!AV7-'Level 1'!AV7,\"*\")","v":1.9700000000000023E-2},{"$f":"IFERROR('Level 2'!AW7-'Level 1'!AW7,\"*\")","v":2.0050000000000012E-2},{"$f":"IFERROR('Level 2'!AX7-'Level 1'!AX7,\"*\")","v":4.8699999999999993E-2},{"$f":"IFERROR('Level 2'!AY7-'Level 1'!AY7,\"*\")","v":"*"},null,{"$f":"'Level 1'!BA7","v":"Belgium"},{"$f":"IFERROR('Level 2'!BB7-'Level 1'!BB7,\"*\")","v":1.8799999999999997E-2},{"$f":"IFERROR('Level 2'!BC7-'Level 1'!BC7,\"*\")","v":1.4800000000000008E-2},{"$f":"IFERROR('Level 2'!BD7-'Level 1'!BD7,\"*\")","v":1.4800000000000008E-2},{"$f":"IFERROR('Level 2'!BE7-'Level 1'!BE7,\"*\")","v":1.7150000000000012E-2},{"$f":"IFERROR('Level 2'!BF7-'Level 1'!BF7,\"*\")","v":1.7750000000000002E-2},{"$f":"IFERROR('Level 2'!BG7-'Level 1'!BG7,\"*\")","v":2.1049999999999985E-2},{"$f":"IFERROR('Level 2'!BH7-'Level 1'!BH7,\"*\")","v":1.755000000000001E-2},{"$f":"IFERROR('Level 2'!BI7-'Level 1'!BI7,\"*\")","v":1.5550000000000008E-2},{"$f":"IFERROR('Level 2'!BJ7-'Level 1'!BJ7,\"*\")","v":1.6800000000000009E-2},{"$f":"IFERROR('Level 2'!BK7-'Level 1'!BK7,\"*\")","v":4.4999999999999998E-2},{"$f":"IFERROR('Level 2'!BL7-'Level 1'!BL7,\"*\")","v":"*"}]
[{"$f":"'Level 1'!A8","v":"Bulgaria"},{"$f":"IFERROR('Level 2'!B8-'Level 1'!B8,\"*\")","v":0},{"$f":"IFERROR('Level 2'!C8-'Level 1'!C8,\"*\")","v":0},{"$f":"IFERROR('Level 2'!D8-'Level 1'!D8,\"*\")","v":0},{"$f":"IFERROR('Level 2'!E8-'Level 1'!E8,\"*\")","v":0},{"$f":"IFERROR('Level 2'!F8-'Level 1'!F8,\"*\")","v":0},{"$f":"IFERROR('Level 2'!G8-'Level 1'!G8,\"*\")","v":0},{"$f":"IFERROR('Level 2'!H8-'Level 1'!H8,\"*\")","v":0},{"$f":"IFERROR('Level 2'!I8-'Level 1'!I8,\"*\")","v":0},{"$f":"IFERROR('Level 2'!J8-'Level 1'!J8,\"*\")","v":0},{"$f":"IFERROR('Level 2'!K8-'Level 1'!K8,\"*\")","v":0},{"$f":"IFERROR('Level 2'!L8-'Level 1'!L8,\"*\")","v":"*"},null,{"$f":"'Level 1'!N8","v":"Bulgaria"},{"$f":"IFERROR('Level 2'!O8-'Level 1'!O8,\"*\")","v":0},{"$f":"IFERROR('Level 2'!P8-'Level 1'!P8,\"*\")","v":0},{"$f":"IFERROR('Level 2'!Q8-'Level 1'!Q8,\"*\")","v":0},{"$f":"IFERROR('Level 2'!R8-'Level 1'!R8,\"*\")","v":0},{"$f":"IFERROR('Level 2'!S8-'Level 1'!S8,\"*\")","v":0},{"$f":"IFERROR('Level 2'!T8-'Level 1'!T8,\"*\")","v":0},{"$f":"IFERROR('Level 2'!U8-'Level 1'!U8,\"*\")","v":0},{"$f":"IFERROR('Level 2'!V8-'Level 1'!V8,\"*\")","v":0},{"$f":"IFERROR('Level 2'!W8-'Level 1'!W8,\"*\")","v":0},{"$f":"IFERROR('Level 2'!X8-'Level 1'!X8,\"*\")","v":0},{"$f":"IFERROR('Level 2'!Y8-'Level 1'!Y8,\"*\")","v":"*"},null,{"$f":"'Level 1'!AA8","v":"Bulgaria"},{"$f":"IFERROR('Level 2'!AB8-'Level 1'!AB8,\"*\")","v":0},{"$f":"IFERROR('Level 2'!AC8-'Level 1'!AC8,\"*\")","v":0},{"$f":"IFERROR('Level 2'!AD8-'Level 1'!AD8,\"*\")","v":0},{"$f":"IFERROR('Level 2'!AE8-'Level 1'!AE8,\"*\")","v":0},{"$f":"IFERROR('Level 2'!AF8-'Level 1'!AF8,\"*\")","v":0},{"$f":"IFERROR('Level 2'!AG8-'Level 1'!AG8,\"*\")","v":0},{"$f":"IFERROR('Level 2'!AH8-'Level 1'!AH8,\"*\")","v":0},{"$f":"IFERROR('Level 2'!AI8-'Level 1'!AI8,\"*\")","v":0},{"$f":"IFERROR('Level 2'!AJ8-'Level 1'!AJ8,\"*\")","v":0},{"$f":"IFERROR('Level 2'!AK8-'Level 1'!AK8,\"*\")","v":0},{"$f":"IFERROR('Level 2'!AL8-'Level 1'!AL8,\"*\")","v":"*"},null,{"$f":"'Level 1'!AN8","v":"Bulgaria"},{"$f":"IFERROR('Level 2'!AO8-'Level 1'!AO8,\"*\")","v":0},{"$f":"IFERROR('Level 2'!AP8-'Level 1'!AP8,\"*\")","v":0},{"$f":"IFERROR('Level 2'!AQ8-'Level 1'!AQ8,\"*\")","v":0},{"$f":"IFERROR('Level 2'!AR8-'Level 1'!AR8,\"*\")","v":0},{"$f":"IFERROR('Level 2'!AS8-'Level 1'!AS8,\"*\")","v":0},{"$f":"IFERROR('Level 2'!AT8-'Level 1'!AT8,\"*\")","v":0},{"$f":"IFERROR('Level 2'!AU8-'Level 1'!AU8,\"*\")","v":0},{"$f":"IFERROR('Level 2'!AV8-'Level 1'!AV8,\"*\")","v":0},{"$f":"IFERROR('Level 2'!AW8-'Level 1'!AW8,\"*\")","v":0},{"$f":"IFERROR('Level 2'!AX8-'Level 1'!AX8,\"*\")","v":0},{"$f":"IFERROR('Level 2'!AY8-'Level 1'!AY8,\"*\")","v":"*"},null,{"$f":"'Level 1'!BA8","v":"Bulgaria"},{"$f":"IFERROR('Level 2'!BB8-'Level 1'!BB8,\"*\")","v":0},{"$f":"IFERROR('Level 2'!BC8-'Level 1'!BC8,\"*\")","v":0},{"$f":"IFERROR('Level 2'!BD8-'Level 1'!BD8,\"*\")","v":0},{"$f":"IFERROR('Level 2'!BE8-'Level 1'!BE8,\"*\")","v":0},{"$f":"IFERROR('Level 2'!BF8-'Level 1'!BF8,\"*\")","v":0},{"$f":"IFERROR('Level 2'!BG8-'Level 1'!BG8,\"*\")","v":0},{"$f":"IFERROR('Level 2'!BH8-'Level 1'!BH8,\"*\")","v":0},{"$f":"IFERROR('Level 2'!BI8-'Level 1'!BI8,\"*\")","v":0},{"$f":"IFERROR('Level 2'!BJ8-'Level 1'!BJ8,\"*\")","v":0},{"$f":"IFERROR('Level 2'!BK8-'Level 1'!BK8,\"*\")","v":0},{"$f":"IFERROR('Level 2'!BL8-'Level 1'!BL8,\"*\")","v":"*"}]
[{"$f":"'Level 1'!A9","v":"Czech Republic"},{"$f":"IFERROR('Level 2'!B9-'Level 1'!B9,\"*\")","v":0},{"$f":"IFERROR('Level 2'!C9-'Level 1'!C9,\"*\")","v":1.1500000000000121E-3},{"$f":"IFERROR('Level 2'!D9-'Level 1'!D9,\"*\")","v":1.0999999999999899E-3},{"$f":"IFERROR('Level 2'!E9-'Level 1'!E9,\"*\")","v":1.1499999999999844E-3},{"$f":"IFERROR('Level 2'!F9-'Level 1'!F9,\"*\")","v":1.2500000000000011E-3},{"$f":"IFERROR('Level 2'!G9-'Level 1'!G9,\"*\")","v":1.2000000000000066E-3},{"$f":"IFERROR('Level 2'!H9-'Level 1'!H9,\"*\")","v":1.1499999999999844E-3},{"$f":"IFERROR('Level 2'!I9-'Level 1'!I9,\"*\")","v":1.0999999999999899E-3},{"$f":"IFERROR('Level 2'!J9-'Level 1'!J9,\"*\")","v":1.0999999999999899E-3},{"$f":"IFERROR('Level 2'!K9-'Level 1'!K9,\"*\")","v":1.0999999999999899E-3},{"$f":"IFERROR('Level 2'!L9-'Level 1'!L9,\"*\")","v":"*"},null,{"$f":"'Level 1'!N9","v":"Czech Republic"},{"$f":"IFERROR('Level 2'!O9-'Level 1'!O9,\"*\")","v":0},{"$f":"IFERROR('Level 2'!P9-'Level 1'!P9,\"*\")","v":1.1500000000000121E-3},{"$f":"IFERROR('Level 2'!Q9-'Level 1'!Q9,\"*\")","v":1.1499999999999844E-3},{"$f":"IFERROR('Level 2'!R9-'Level 1'!R9,\"*\")","v":1.1499999999999844E-3},{"$f":"IFERROR('Level 2'!S9-'Level 1'!S9,\"*\")","v":1.2000000000000066E-3},{"$f":"IFERROR('Level 2'!T9-'Level 1'!T9,\"*\")","v":1.1999999999999789E-3},{"$f":"IFERROR('Level 2'!U9-'Level 1'!U9,\"*\")","v":1.1500000000000399E-3},{"$f":"IFERROR('Level 2'!V9-'Level 1'!V9,\"*\")","v":1.0999999999999899E-3},{"$f":"IFERROR('Level 2'!W9-'Level 1'!W9,\"*\")","v":1.0999999999999899E-3},{"$f":"IFERROR('Level 2'!X9-'Level 1'!X9,\"*\")","v":1.1000000000000176E-3},{"$f":"IFERROR('Level 2'!Y9-'Level 1'!Y9,\"*\")","v":"*"},null,{"$f":"'Level 1'!AA9","v":"Czech Republic"},{"$f":"IFERROR('Level 2'!AB9-'Level 1'!AB9,\"*\")","v":0},{"$f":"IFERROR('Level 2'!AC9-'Level 1'!AC9,\"*\")","v":1.2500000000000011E-3},{"$f":"IFERROR('Level 2'!AD9-'Level 1'!AD9,\"*\")","v":1.1499999999999844E-3},{"$f":"IFERROR('Level 2'!AE9-'Level 1'!AE9,\"*\")","v":1.2000000000000066E-3},{"$f":"IFERROR('Level 2'!AF9-'Level 1'!AF9,\"*\")","v":1.2000000000000066E-3},{"$f":"IFERROR('Level 2'!AG9-'Level 1'!AG9,\"*\")","v":1.1999999999999789E-3},{"$f":"IFERROR('Level 2'!AH9-'Level 1'!AH9,\"*\")","v":1.1500000000000121E-3},{"$f":"IFERROR('Level 2'!AI9-'Level 1'!AI9,\"*\")","v":1.1000000000000038E-3},{"$f":"IFERROR('Level 2'!AJ9-'Level 1'!AJ9,\"*\")","v":1.0999999999999899E-3},{"$f":"IFERROR('Level 2'!AK9-'Level 1'!AK9,\"*\")","v":1.1000000000000038E-3},{"$f":"IFERROR('Level 2'!AL9-'Level 1'!AL9,\"*\")","v":"*"},null,{"$f":"'Level 1'!AN9","v":"Czech Republic"},{"$f":"IFERROR('Level 2'!AO9-'Level 1'!AO9,\"*\")","v":0},{"$f":"IFERROR('Level 2'!AP9-'Level 1'!AP9,\"*\")","v":1.1999999999999927E-3},{"$f":"IFERROR('Level 2'!AQ9-'Level 1'!AQ9,\"*\")","v":1.1500000000000121E-3},{"$f":"IFERROR('Level 2'!AR9-'Level 1'!AR9,\"*\")","v":1.1499999999999844E-3},{"$f":"IFERROR('Level 2'!AS9-'Level 1'!AS9,\"*\")","v":1.1999999999999927E-3},{"$f":"IFERROR('Level 2'!AT9-'Level 1'!AT9,\"*\")","v":1.1999999999999927E-3},{"$f":"IFERROR('Level 2'!AU9-'Level 1'!AU9,\"*\")","v":1.1500000000000121E-3},{"$f":"IFERROR('Level 2'!AV9-'Level 1'!AV9,\"*\")","v":1.0999999999999899E-3},{"$f":"IFERROR('Level 2'!AW9-'Level 1'!AW9,\"*\")","v":1.1000000000000038E-3},{"$f":"IFERROR('Level 2'!AX9-'Level 1'!AX9,\"*\")","v":1.1000000000000038E-3},{"$f":"IFERROR('Level 2'!AY9-'Level 1'!AY9,\"*\")","v":"*"},null,{"$f":"'Level 1'!BA9","v":"Czech Republic"},{"$f":"IFERROR('Level 2'!BB9-'Level 1'!BB9,\"*\")","v":0},{"$f":"IFERROR('Level 2'!BC9-'Level 1'!BC9,\"*\")","v":1.2000000000000066E-3},{"$f":"IFERROR('Level 2'!BD9-'Level 1'!BD9,\"*\")","v":1.0999999999999899E-3},{"$f":"IFERROR('Level 2'!BE9-'Level 1'!BE9,\"*\")","v":1.2000000000000066E-3},{"$f":"IFERROR('Level 2'!BF9-'Level 1'!BF9,\"*\")","v":1.1999999999999927E-3},{"$f":"IFERROR('Level 2'!BG9-'Level 1'!BG9,\"*\")","v":1.2000000000000066E-3},{"$f":"IFERROR('Level 2'!BH9-'Level 1'!BH9,\"*\")","v":1.1499999999999982E-3},{"$f":"IFERROR('Level 2'!BI9-'Level 1'!BI9,\"*\")","v":1.1000000000000038E-3},{"$f":"IFERROR('Level 2'!BJ9-'Level 1'!BJ9,\"*\")","v":1.1000000000000038E-3},{"$f":"IFERROR('Level 2'!BK9-'Level 1'!BK9,\"*\")","v":1.1000000000000038E-3},{"$f":"IFERROR('Level 2'!BL9-'Level 1'!BL9,\"*\")","v":"*"}]
[{"$f":"'Level 1'!A10","v":"Denmark"},{"$f":"IFERROR('Level 2'!B10-'Level 1'!B10,\"*\")","v":8.929999999999999E-2},{"$f":"IFERROR('Level 2'!C10-'Level 1'!C10,\"*\")","v":9.7500000000000003E-2},{"$f":"IFERROR('Level 2'!D10-'Level 1'!D10,\"*\")","v":0.10625000000000001},{"$f":"IFERROR('Level 2'!E10-'Level 1'!E10,\"*\")","v":0.10835},{"$f":"IFERROR('Level 2'!F10-'Level 1'!F10,\"*\")","v":0.11670000000000003},{"$f":"IFERROR('Level 2'!G10-'Level 1'!G10,\"*\")","v":0.12914999999999996},{"$f":"IFERROR('Level 2'!H10-'Level 1'!H10,\"*\")","v":0.13319999999999999},{"$f":"IFERROR('Level 2'!I10-'Level 1'!I10,\"*\")","v":0.14069999999999999},{"$f":"IFERROR('Level 2'!J10-'Level 1'!J10,\"*\")","v":0.14785000000000001},{"$f":"IFERROR('Level 2'!K10-'Level 1'!K10,\"*\")","v":0.15290000000000001},{"$f":"IFERROR('Level 2'!L10-'Level 1'!L10,\"*\")","v":"*"},null,{"$f":"'Level 1'!N10","v":"Denmark"},{"$f":"IFERROR('Level 2'!O10-'Level 1'!O10,\"*\")","v":8.929999999999999E-2},{"$f":"IFERROR('Level 2'!P10-'Level 1'!P10,\"*\")","v":9.7500000000000003E-2},{"$f":"IFERROR('Level 2'!Q10-'Level 1'!Q10,\"*\")","v":0.10625000000000001},{"$f":"IFERROR('Level 2'!R10-'Level 1'!R10,\"*\")","v":0.10835},{"$f":"IFERROR('Level 2'!S10-'Level 1'!S10,\"*\")","v":0.11670000000000003},{"$f":"IFERROR('Level 2'!T10-'Level 1'!T10,\"*\")","v":0.12914999999999996},{"$f":"IFERROR('Level 2'!U10-'Level 1'!U10,\"*\")","v":0.13319999999999999},{"$f":"IFERROR('Level 2'!V10-'Level 1'!V10,\"*\")","v":0.14069999999999999},{"$f":"IFERROR('Level 2'!W10-'Level 1'!W10,\"*\")","v":0.14785000000000001},{"$f":"IFERROR('Level 2'!X10-'Level 1'!X10,\"*\")","v":0.15289999999999998},{"$f":"IFERROR('Level 2'!Y10-'Level 1'!Y10,\"*\")","v":"*"},null,{"$f":"'Level 1'!AA10","v":"Denmark"},{"$f":"IFERROR('Level 2'!AB10-'Level 1'!AB10,\"*\")","v":8.9399999999999993E-2},{"$f":"IFERROR('Level 2'!AC10-'Level 1'!AC10,\"*\")","v":9.7499999999999989E-2},{"$f":"IFERROR('Level 2'!AD10-'Level 1'!AD10,\"*\")","v":0.10625000000000001},{"$f":"IFERROR('Level 2'!AE10-'Level 1'!AE10,\"*\")","v":0.10825000000000001},{"$f":"IFERROR('Level 2'!AF10-'Level 1'!AF10,\"*\")","v":0.1167},{"$f":"IFERROR('Level 2'!AG10-'Level 1'!AG10,\"*\")","v":0.12910000000000002},{"$f":"IFERROR('Level 2'!AH10-'Level 1'!AH10,\"*\")","v":0.13320000000000001},{"$f":"IFERROR('Level 2'!AI10-'Level 1'!AI10,\"*\")","v":0.14065},{"$f":"IFERROR('Level 2'!AJ10-'Level 1'!AJ10,\"*\")","v":0.14775000000000002},{"$f":"IFERROR('Level 2'!AK10-'Level 1'!AK10,\"*\")","v":0.15279999999999999},{"$f":"IFERROR('Level 2'!AL10-'Level 1'!AL10,\"*\")","v":"*"},null,{"$f":"'Level 1'!AN10","v":"Denmark"},{"$f":"IFERROR('Level 2'!AO10-'Level 1'!AO10,\"*\")","v":8.3000000000000018E-2},{"$f":"IFERROR('Level 2'!AP10-'Level 1'!AP10,\"*\")","v":9.0900000000000009E-2},{"$f":"IFERROR('Level 2'!AQ10-'Level 1'!AQ10,\"*\")","v":9.9650000000000002E-2},{"$f":"IFERROR('Level 2'!AR10-'Level 1'!AR10,\"*\")","v":9.7099999999999992E-2},{"$f":"IFERROR('Level 2'!AS10-'Level 1'!AS10,\"*\")","v":0.1053},{"$f":"IFERROR('Level 2'!AT10-'Level 1'!AT10,\"*\")","v":0.11750000000000001},{"$f":"IFERROR('Level 2'!AU10-'Level 1'!AU10,\"*\")","v":9.2499999999999985E-2},{"$f":"IFERROR('Level 2'!AV10-'Level 1'!AV10,\"*\")","v":9.9000000000000005E-2},{"$f":"IFERROR('Level 2'!AW10-'Level 1'!AW10,\"*\")","v":9.8849999999999993E-2},{"$f":"IFERROR('Level 2'!AX10-'Level 1'!AX10,\"*\")","v":0.1124},{"$f":"IFERROR('Level 2'!AY10-'Level 1'!AY10,\"*\")","v":"*"},null,{"$f":"'Level 1'!BA10","v":"Denmark"},{"$f":"IFERROR('Level 2'!BB10-'Level 1'!BB10,\"*\")","v":8.3000000000000018E-2},{"$f":"IFERROR('Level 2'!BC10-'Level 1'!BC10,\"*\")","v":9.0900000000000009E-2},{"$f":"IFERROR('Level 2'!BD10-'Level 1'!BD10,\"*\")","v":9.9650000000000002E-2},{"$f":"IFERROR('Level 2'!BE10-'Level 1'!BE10,\"*\")","v":9.7099999999999992E-2},{"$f":"IFERROR('Level 2'!BF10-'Level 1'!BF10,\"*\")","v":0.1053},{"$f":"IFERROR('Level 2'!BG10-'Level 1'!BG10,\"*\")","v":0.11750000000000001},{"$f":"IFERROR('Level 2'!BH10-'Level 1'!BH10,\"*\")","v":9.2499999999999985E-2},{"$f":"IFERROR('Level 2'!BI10-'Level 1'!BI10,\"*\")","v":9.9000000000000005E-2},{"$f":"IFERROR('Level 2'!BJ10-'Level 1'!BJ10,\"*\")","v":9.8849999999999993E-2},{"$f":"IFERROR('Level 2'!BK10-'Level 1'!BK10,\"*\")","v":9.8899999999999988E-2},{"$f":"IFERROR('Level 2'!BL10-'Level 1'!BL10,\"*\")","v":"*"}]
[{"$f":"'Level 1'!A11","v":"Germany (until 1990 former territory of the FRG)"},{"$f":"IFERROR('Level 2'!B11-'Level 1'!B11,\"*\")","v":4.99E-2},{"$f":"IFERROR('Level 2'!C11-'Level 1'!C11,\"*\")","v":5.2049999999999985E-2},{"$f":"IFERROR('Level 2'!D11-'Level 1'!D11,\"*\")","v":5.4900000000000004E-2},{"$f":"IFERROR('Level 2'!E11-'Level 1'!E11,\"*\")","v":6.4549999999999996E-2},{"$f":"IFERROR('Level 2'!F11-'Level 1'!F11,\"*\")","v":7.5000000000000011E-2},{"$f":"IFERROR('Level 2'!G11-'Level 1'!G11,\"*\")","v":8.0749999999999988E-2},{"$f":"IFERROR('Level 2'!H11-'Level 1'!H11,\"*\")","v":9.8249999999999948E-2},{"$f":"IFERROR('Level 2'!I11-'Level 1'!I11,\"*\")","v":0.10714999999999997},{"$f":"IFERROR('Level 2'!J11-'Level 1'!J11,\"*\")","v":0.10555000000000003},{"$f":"IFERROR('Level 2'!K11-'Level 1'!K11,\"*\")","v":0.11689999999999995},{"$f":"IFERROR('Level 2'!L11-'Level 1'!L11,\"*\")","v":"*"},null,{"$f":"'Level 1'!N11","v":"Germany (until 1990 former territory of the FRG)"},{"$f":"IFERROR('Level 2'!O11-'Level 1'!O11,\"*\")","v":4.8599999999999977E-2},{"$f":"IFERROR('Level 2'!P11-'Level 1'!P11,\"*\")","v":5.0800000000000012E-2},{"$f":"IFERROR('Level 2'!Q11-'Level 1'!Q11,\"*\")","v":5.4349999999999982E-2},{"$f":"IFERROR('Level 2'!R11-'Level 1'!R11,\"*\")","v":6.5249999999999975E-2},{"$f":"IFERROR('Level 2'!S11-'Level 1'!S11,\"*\")","v":7.2950000000000015E-2},{"$f":"IFERROR('Level 2'!T11-'Level 1'!T11,\"*\")","v":7.8199999999999992E-2},{"$f":"IFERROR('Level 2'!U11-'Level 1'!U11,\"*\")","v":9.6299999999999997E-2},{"$f":"IFERROR('Level 2'!V11-'Level 1'!V11,\"*\")","v":0.10664999999999997},{"$f":"IFERROR('Level 2'!W11-'Level 1'!W11,\"*\")","v":0.10524999999999998},{"$f":"IFERROR('Level 2'!X11-'Level 1'!X11,\"*\")","v":0.11219999999999999},{"$f":"IFERROR('Level 2'!Y11-'Level 1'!Y11,\"*\")","v":"*"},null,{"$f":"'Level 1'!AA11","v":"Germany (until 1990 former territory of the FRG)"},{"$f":"IFERROR('Level 2'!AB11-'Level 1'!AB11,\"*\")","v":4.7999999999999987E-2},{"$f":"IFERROR('Level 2'!AC11-'Level 1'!AC11,\"*\")","v":5.0149999999999972E-2},{"$f":"IFERROR('Level 2'!AD11-'Level 1'!AD11,\"*\")","v":5.4299999999999987E-2},{"$f":"IFERROR('Level 2'!AE11-'Level 1'!AE11,\"*\")","v":6.469999999999998E-2},{"$f":"IFERROR('Level 2'!AF11-'Level 1'!AF11,\"*\")","v":7.2500000000000009E-2},{"$f":"IFERROR('Level 2'!AG11-'Level 1'!AG11,\"*\")","v":7.7849999999999975E-2},{"$f":"IFERROR('Level 2'!AH11-'Level 1'!AH11,\"*\")","v":9.6299999999999997E-2},{"$f":"IFERROR('Level 2'!AI11-'Level 1'!AI11,\"*\")","v":0.10644999999999999},{"$f":"IFERROR('Level 2'!AJ11-'Level 1'!AJ11,\"*\")","v":0.10489999999999999},{"$f":"IFERROR('Level 2'!AK11-'Level 1'!AK11,\"*\")","v":0.11069999999999999},{"$f":"IFERROR('Level 2'!AL11-'Level 1'!AL11,\"*\")","v":"*"},null,{"$f":"'Level 1'!AN11","v":"Germany (until 1990 former territory of the FRG)"},{"$f":"IFERROR('Level 2'!AO11-'Level 1'!AO11,\"*\")","v":4.7800000000000009E-2},{"$f":"IFERROR('Level 2'!AP11-'Level 1'!AP11,\"*\")","v":5.0000000000000017E-2},{"$f":"IFERROR('Level 2'!AQ11-'Level 1'!AQ11,\"*\")","v":5.3900000000000003E-2},{"$f":"IFERROR('Level 2'!AR11-'Level 1'!AR11,\"*\")","v":6.4300000000000024E-2},{"$f":"IFERROR('Level 2'!AS11-'Level 1'!AS11,\"*\")","v":7.1550000000000002E-2},{"$f":"IFERROR('Level 2'!AT11-'Level 1'!AT11,\"*\")","v":7.8399999999999997E-2},{"$f":"IFERROR('Level 2'!AU11-'Level 1'!AU11,\"*\")","v":9.6549999999999997E-2},{"$f":"IFERROR('Level 2'!AV11-'Level 1'!AV11,\"*\")","v":0.1061},{"$f":"IFERROR('Level 2'!AW11-'Level 1'!AW11,\"*\")","v":0.10479999999999998},{"$f":"IFERROR('Level 2'!AX11-'Level 1'!AX11,\"*\")","v":0.11030000000000001},{"$f":"IFERROR('Level 2'!AY11-'Level 1'!AY11,\"*\")","v":"*"},null,{"$f":"'Level 1'!BA11","v":"Germany (until 1990 former territory of the FRG)"},{"$f":"IFERROR('Level 2'!BB11-'Level 1'!BB11,\"*\")","v":4.5100000000000001E-2},{"$f":"IFERROR('Level 2'!BC11-'Level 1'!BC11,\"*\")","v":4.7249999999999986E-2},{"$f":"IFERROR('Level 2'!BD11-'Level 1'!BD11,\"*\")","v":5.1199999999999982E-2},{"$f":"IFERROR('Level 2'!BE11-'Level 1'!BE11,\"*\")","v":6.140000000000001E-2},{"$f":"IFERROR('Level 2'!BF11-'Level 1'!BF11,\"*\")","v":6.9099999999999995E-2},{"$f":"IFERROR('Level 2'!BG11-'Level 1'!BG11,\"*\")","v":7.4399999999999994E-2},{"$f":"IFERROR('Level 2'!BH11-'Level 1'!BH11,\"*\")","v":9.2950000000000005E-2},{"$f":"IFERROR('Level 2'!BI11-'Level 1'!BI11,\"*\")","v":9.9749999999999978E-2},{"$f":"IFERROR('Level 2'!BJ11-'Level 1'!BJ11,\"*\")","v":9.9299999999999999E-2},{"$f":"IFERROR('Level 2'!BK11-'Level 1'!BK11,\"*\")","v":0.10350000000000001},{"$f":"IFERROR('Level 2'!BL11-'Level 1'!BL11,\"*\")","v":"*"}]
[{"$f":"'Level 1'!A12","v":"Estonia"},{"$f":"IFERROR('Level 2'!B12-'Level 1'!B12,\"*\")","v":1.2999999999999956E-3},{"$f":"IFERROR('Level 2'!C12-'Level 1'!C12,\"*\")","v":5.0999999999999934E-3},{"$f":"IFERROR('Level 2'!D12-'Level 1'!D12,\"*\")","v":6.9999999999999923E-3},{"$f":"IFERROR('Level 2'!E12-'Level 1'!E12,\"*\")","v":1.2050000000000005E-2},{"$f":"IFERROR('Level 2'!F12-'Level 1'!F12,\"*\")","v":1.0650000000000007E-2},{"$f":"IFERROR('Level 2'!G12-'Level 1'!G12,\"*\")","v":1.4300000000000007E-2},{"$f":"IFERROR('Level 2'!H12-'Level 1'!H12,\"*\")","v":1.319999999999999E-2},{"$f":"IFERROR('Level 2'!I12-'Level 1'!I12,\"*\")","v":1.2200000000000003E-2},{"$f":"IFERROR('Level 2'!J12-'Level 1'!J12,\"*\")","v":1.3249999999999998E-2},{"$f":"IFERROR('Level 2'!K12-'Level 1'!K12,\"*\")","v":1.4100000000000001E-2},{"$f":"IFERROR('Level 2'!L12-'Level 1'!L12,\"*\")","v":"*"},null,{"$f":"'Level 1'!N12","v":"Estonia"},{"$f":"IFERROR('Level 2'!O12-'Level 1'!O12,\"*\")","v":1.1999999999999927E-3},{"$f":"IFERROR('Level 2'!P12-'Level 1'!P12,\"*\")","v":5.1500000000000157E-3},{"$f":"IFERROR('Level 2'!Q12-'Level 1'!Q12,\"*\")","v":7.0999999999999952E-3},{"$f":"IFERROR('Level 2'!R12-'Level 1'!R12,\"*\")","v":1.2000000000000011E-2},{"$f":"IFERROR('Level 2'!S12-'Level 1'!S12,\"*\")","v":1.0599999999999998E-2},{"$f":"IFERROR('Level 2'!T12-'Level 1'!T12,\"*\")","v":1.4149999999999996E-2},{"$f":"IFERROR('Level 2'!U12-'Level 1'!U12,\"*\")","v":1.3200000000000003E-2},{"$f":"IFERROR('Level 2'!V12-'Level 1'!V12,\"*\")","v":1.2650000000000022E-2},{"$f":"IFERROR('Level 2'!W12-'Level 1'!W12,\"*\")","v":1.3350000000000001E-2},{"$f":"IFERROR('Level 2'!X12-'Level 1'!X12,\"*\")","v":1.4100000000000001E-2},{"$f":"IFERROR('Level 2'!Y12-'Level 1'!Y12,\"*\")","v":"*"},null,{"$f":"'Level 1'!AA12","v":"Estonia"},{"$f":"IFERROR('Level 2'!AB12-'Level 1'!AB12,\"*\")","v":1.3000000000000095E-3},{"$f":"IFERROR('Level 2'!AC12-'Level 1'!AC12,\"*\")","v":5.1499999999999879E-3},{"$f":"IFERROR('Level 2'!AD12-'Level 1'!AD12,\"*\")","v":7.0500000000000146E-3},{"$f":"IFERROR('Level 2'!AE12-'Level 1'!AE12,\"*\")","v":1.2050000000000005E-2},{"$f":"IFERROR('Level 2'!AF12-'Level 1'!AF12,\"*\")","v":1.0650000000000007E-2},{"$f":"IFERROR('Level 2'!AG12-'Level 1'!AG12,\"*\")","v":1.415000000000001E-2},{"$f":"IFERROR('Level 2'!AH12-'Level 1'!AH12,\"*\")","v":1.3200000000000003E-2},{"$f":"IFERROR('Level 2'!AI12-'Level 1'!AI12,\"*\")","v":1.2200000000000003E-2},{"$f":"IFERROR('Level 2'!AJ12-'Level 1'!AJ12,\"*\")","v":1.3399999999999995E-2},{"$f":"IFERROR('Level 2'!AK12-'Level 1'!AK12,\"*\")","v":1.4100000000000001E-2},{"$f":"IFERROR('Level 2'!AL12-'Level 1'!AL12,\"*\")","v":"*"},null,{"$f":"'Level 1'!AN12","v":"Estonia"},{"$f":"IFERROR('Level 2'!AO12-'Level 1'!AO12,\"*\")","v":1.2999999999999956E-3},{"$f":"IFERROR('Level 2'!AP12-'Level 1'!AP12,\"*\")","v":5.1500000000000018E-3},{"$f":"IFERROR('Level 2'!AQ12-'Level 1'!AQ12,\"*\")","v":7.0500000000000146E-3},{"$f":"IFERROR('Level 2'!AR12-'Level 1'!AR12,\"*\")","v":1.235E-2},{"$f":"IFERROR('Level 2'!AS12-'Level 1'!AS12,\"*\")","v":1.0650000000000007E-2},{"$f":"IFERROR('Level 2'!AT12-'Level 1'!AT12,\"*\")","v":1.4200000000000004E-2},{"$f":"IFERROR('Level 2'!AU12-'Level 1'!AU12,\"*\")","v":1.3200000000000003E-2},{"$f":"IFERROR('Level 2'!AV12-'Level 1'!AV12,\"*\")","v":1.2199999999999989E-2},{"$f":"IFERROR('Level 2'!AW12-'Level 1'!AW12,\"*\")","v":1.3399999999999995E-2},{"$f":"IFERROR('Level 2'!AX12-'Level 1'!AX12,\"*\")","v":1.4100000000000001E-2},{"$f":"IFERROR('Level 2'!AY12-'Level 1'!AY12,\"*\")","v":"*"},null,{"$f":"'Level 1'!BA12","v":"Estonia"},{"$f":"IFERROR('Level 2'!BB12-'Level 1'!BB12,\"*\")","v":1.2999999999999956E-3},{"$f":"IFERROR('Level 2'!BC12-'Level 1'!BC12,\"*\")","v":5.1000000000000004E-3},{"$f":"IFERROR('Level 2'!BD12-'Level 1'!BD12,\"*\")","v":6.9999999999999923E-3},{"$f":"IFERROR('Level 2'!BE12-'Level 1'!BE12,\"*\")","v":1.21E-2},{"$f":"IFERROR('Level 2'!BF12-'Level 1'!BF12,\"*\")","v":1.0599999999999998E-2},{"$f":"IFERROR('Level 2'!BG12-'Level 1'!BG12,\"*\")","v":1.3999999999999985E-2},{"$f":"IFERROR('Level 2'!BH12-'Level 1'!BH12,\"*\")","v":1.3149999999999995E-2},{"$f":"IFERROR('Level 2'!BI12-'Level 1'!BI12,\"*\")","v":1.2200000000000003E-2},{"$f":"IFERROR('Level 2'!BJ12-'Level 1'!BJ12,\"*\")","v":1.344999999999999E-2},{"$f":"IFERROR('Level 2'!BK12-'Level 1'!BK12,\"*\")","v":1.4100000000000001E-2},{"$f":"IFERROR('Level 2'!BL12-'Level 1'!BL12,\"*\")","v":"*"}]
[{"$f":"'Level 1'!A13","v":"Ireland"},{"$f":"IFERROR('Level 2'!B13-'Level 1'!B13,\"*\")","v":0},{"$f":"IFERROR('Level 2'!C13-'Level 1'!C13,\"*\")","v":0},{"$f":"IFERROR('Level 2'!D13-'Level 1'!D13,\"*\")","v":0},{"$f":"IFERROR('Level 2'!E13-'Level 1'!E13,\"*\")","v":8.0500000000000016E-3},{"$f":"IFERROR('Level 2'!F13-'Level 1'!F13,\"*\")","v":6.4850000000000019E-2},{"$f":"IFERROR('Level 2'!G13-'Level 1'!G13,\"*\")","v":4.005000000000003E-2},{"$f":"IFERROR('Level 2'!H13-'Level 1'!H13,\"*\")","v":5.8950000000000058E-2},{"$f":"IFERROR('Level 2'!I13-'Level 1'!I13,\"*\")","v":8.8100000000000067E-2},{"$f":"IFERROR('Level 2'!J13-'Level 1'!J13,\"*\")","v":9.870000000000001E-2},{"$f":"IFERROR('Level 2'!K13-'Level 1'!K13,\"*\")","v":5.5700000000000027E-2},{"$f":"IFERROR('Level 2'!L13-'Level 1'!L13,\"*\")","v":"*"},null,{"$f":"'Level 1'!N13","v":"Ireland"},{"$f":"IFERROR('Level 2'!O13-'Level 1'!O13,\"*\")","v":0},{"$f":"IFERROR('Level 2'!P13-'Level 1'!P13,\"*\")","v":0},{"$f":"IFERROR('Level 2'!Q13-'Level 1'!Q13,\"*\")","v":0},{"$f":"IFERROR('Level 2'!R13-'Level 1'!R13,\"*\")","v":2.1000000000000185E-3},{"$f":"IFERROR('Level 2'!S13-'Level 1'!S13,\"*\")","v":1.7250000000000015E-2},{"$f":"IFERROR('Level 2'!T13-'Level 1'!T13,\"*\")","v":1.1199999999999988E-2},{"$f":"IFERROR('Level 2'!U13-'Level 1'!U13,\"*\")","v":1.6599999999999976E-2},{"$f":"IFERROR('Level 2'!V13-'Level 1'!V13,\"*\")","v":2.6149999999999979E-2},{"$f":"IFERROR('Level 2'!W13-'Level 1'!W13,\"*\")","v":3.3550000000000024E-2},{"$f":"IFERROR('Level 2'!X13-'Level 1'!X13,\"*\")","v":2.7499999999999997E-2},{"$f":"IFERROR('Level 2'!Y13-'Level 1'!Y13,\"*\")","v":"*"},null,{"$f":"'Level 1'!AA13","v":"Ireland"},{"$f":"IFERROR('Level 2'!AB13-'Level 1'!AB13,\"*\")","v":0},{"$f":"IFERROR('Level 2'!AC13-'Level 1'!AC13,\"*\")","v":0},{"$f":"IFERROR('Level 2'!AD13-'Level 1'!AD13,\"*\")","v":0},{"$f":"IFERROR('Level 2'!AE13-'Level 1'!AE13,\"*\")","v":1.1500000000000399E-3},{"$f":"IFERROR('Level 2'!AF13-'Level 1'!AF13,\"*\")","v":8.6500000000000188E-3},{"$f":"IFERROR('Level 2'!AG13-'Level 1'!AG13,\"*\")","v":5.6000000000000216E-3},{"$f":"IFERROR('Level 2'!AH13-'Level 1'!AH13,\"*\")","v":8.2500000000000073E-3},{"$f":"IFERROR('Level 2'!AI13-'Level 1'!AI13,\"*\")","v":1.3149999999999995E-2},{"$f":"IFERROR('Level 2'!AJ13-'Level 1'!AJ13,\"*\")","v":1.6899999999999998E-2},{"$f":"IFERROR('Level 2'!AK13-'Level 1'!AK13,\"*\")","v":1.4800000000000008E-2},{"$f":"IFERROR('Level 2'!AL13-'Level 1'!AL13,\"*\")","v":"*"},null,{"$f":"'Level 1'!AN13","v":"Ireland"},{"$f":"IFERROR('Level 2'!AO13-'Level 1'!AO13,\"*\")","v":0},{"$f":"IFERROR('Level 2'!AP13-'Level 1'!AP13,\"*\")","v":0},{"$f":"IFERROR('Level 2'!AQ13-'Level 1'!AQ13,\"*\")","v":0},{"$f":"IFERROR('Level 2'!AR13-'Level 1'!AR13,\"*\")","v":6.5000000000001168E-4},{"$f":"IFERROR('Level 2'!AS13-'Level 1'!AS13,\"*\")","v":4.4500000000000095E-3},{"$f":"IFERROR('Level 2'!AT13-'Level 1'!AT13,\"*\")","v":2.8500000000000192E-3},{"$f":"IFERROR('Level 2'!AU13-'Level 1'!AU13,\"*\")","v":4.1999999999999815E-3},{"$f":"IFERROR('Level 2'!AV13-'Level 1'!AV13,\"*\")","v":6.8000000000000005E-3},{"$f":"IFERROR('Level 2'!AW13-'Level 1'!AW13,\"*\")","v":8.8499999999999968E-3},{"$f":"IFERROR('Level 2'!AX13-'Level 1'!AX13,\"*\")","v":7.6999999999999846E-3},{"$f":"IFERROR('Level 2'!AY13-'Level 1'!AY13,\"*\")","v":"*"},null,{"$f":"'Level 1'!BA13","v":"Ireland"},{"$f":"IFERROR('Level 2'!BB13-'Level 1'!BB13,\"*\")","v":0},{"$f":"IFERROR('Level 2'!BC13-'Level 1'!BC13,\"*\")","v":0},{"$f":"IFERROR('Level 2'!BD13-'Level 1'!BD13,\"*\")","v":0},{"$f":"IFERROR('Level 2'!BE13-'Level 1'!BE13,\"*\")","v":2.0000000000000573E-4},{"$f":"IFERROR('Level 2'!BF13-'Level 1'!BF13,\"*\")","v":1.4500000000000068E-3},{"$f":"IFERROR('Level 2'!BG13-'Level 1'!BG13,\"*\")","v":8.9999999999998415E-4},{"$f":"IFERROR('Level 2'!BH13-'Level 1'!BH13,\"*\")","v":1.3999999999999846E-3},{"$f":"IFERROR('Level 2'!BI13-'Level 1'!BI13,\"*\")","v":2.1499999999999853E-3},{"$f":"IFERROR('Level 2'!BJ13-'Level 1'!BJ13,\"*\")","v":2.9000000000000137E-3},{"$f":"IFERROR('Level 2'!BK13-'Level 1'!BK13,\"*\")","v":2.5000000000000022E-3},{"$f":"IFERROR('Level 2'!BL13-'Level 1'!BL13,\"*\")","v":"*"}]
[{"$f":"'Level 1'!A14","v":"Greece"},{"$f":"IFERROR('Level 2'!B14-'Level 1'!B14,\"*\")","v":0},{"$f":"IFERROR('Level 2'!C14-'Level 1'!C14,\"*\")","v":1.5000000000001124E-4},{"$f":"IFERROR('Level 2'!D14-'Level 1'!D14,\"*\")","v":3.0000000000000859E-4},{"$f":"IFERROR('Level 2'!E14-'Level 1'!E14,\"*\")","v":5.0499999999999989E-3},{"$f":"IFERROR('Level 2'!F14-'Level 1'!F14,\"*\")","v":4.2500000000000315E-3},{"$f":"IFERROR('Level 2'!G14-'Level 1'!G14,\"*\")","v":1.4449999999999991E-2},{"$f":"IFERROR('Level 2'!H14-'Level 1'!H14,\"*\")","v":2.3799999999999988E-2},{"$f":"IFERROR('Level 2'!I14-'Level 1'!I14,\"*\")","v":3.3849999999999991E-2},{"$f":"IFERROR('Level 2'!J14-'Level 1'!J14,\"*\")","v":3.2149999999999984E-2},{"$f":"IFERROR('Level 2'!K14-'Level 1'!K14,\"*\")","v":3.3099999999999991E-2},{"$f":"IFERROR('Level 2'!L14-'Level 1'!L14,\"*\")","v":"*"},null,{"$f":"'Level 1'!N14","v":"Greece"},{"$f":"IFERROR('Level 2'!O14-'Level 1'!O14,\"*\")","v":0},{"$f":"IFERROR('Level 2'!P14-'Level 1'!P14,\"*\")","v":1.4999999999999736E-4},{"$f":"IFERROR('Level 2'!Q14-'Level 1'!Q14,\"*\")","v":2.5000000000000022E-4},{"$f":"IFERROR('Level 2'!R14-'Level 1'!R14,\"*\")","v":7.4999999999999928E-3},{"$f":"IFERROR('Level 2'!S14-'Level 1'!S14,\"*\")","v":5.1500000000000018E-3},{"$f":"IFERROR('Level 2'!T14-'Level 1'!T14,\"*\")","v":1.4800000000000008E-2},{"$f":"IFERROR('Level 2'!U14-'Level 1'!U14,\"*\")","v":2.4200000000000027E-2},{"$f":"IFERROR('Level 2'!V14-'Level 1'!V14,\"*\")","v":3.4100000000000005E-2},{"$f":"IFERROR('Level 2'!W14-'Level 1'!W14,\"*\")","v":3.2499999999999973E-2},{"$f":"IFERROR('Level 2'!X14-'Level 1'!X14,\"*\")","v":3.3599999999999991E-2},{"$f":"IFERROR('Level 2'!Y14-'Level 1'!Y14,\"*\")","v":"*"},null,{"$f":"'Level 1'!AA14","v":"Greece"},{"$f":"IFERROR('Level 2'!AB14-'Level 1'!AB14,\"*\")","v":0},{"$f":"IFERROR('Level 2'!AC14-'Level 1'!AC14,\"*\")","v":1.5000000000001124E-4},{"$f":"IFERROR('Level 2'!AD14-'Level 1'!AD14,\"*\")","v":2.5000000000000022E-4},{"$f":"IFERROR('Level 2'!AE14-'Level 1'!AE14,\"*\")","v":1.1799999999999991E-2},{"$f":"IFERROR('Level 2'!AF14-'Level 1'!AF14,\"*\")","v":8.6000000000000104E-3},{"$f":"IFERROR('Level 2'!AG14-'Level 1'!AG14,\"*\")","v":1.7449999999999993E-2},{"$f":"IFERROR('Level 2'!AH14-'Level 1'!AH14,\"*\")","v":2.6099999999999984E-2},{"$f":"IFERROR('Level 2'!AI14-'Level 1'!AI14,\"*\")","v":3.620000000000001E-2},{"$f":"IFERROR('Level 2'!AJ14-'Level 1'!AJ14,\"*\")","v":3.4650000000000014E-2},{"$f":"IFERROR('Level 2'!AK14-'Level 1'!AK14,\"*\")","v":3.6100000000000007E-2},{"$f":"IFERROR('Level 2'!AL14-'Level 1'!AL14,\"*\")","v":"*"},null,{"$f":"'Level 1'!AN14","v":"Greece"},{"$f":"IFERROR('Level 2'!AO14-'Level 1'!AO14,\"*\")","v":0},{"$f":"IFERROR('Level 2'!AP14-'Level 1'!AP14,\"*\")","v":1.4999999999998348E-4},{"$f":"IFERROR('Level 2'!AQ14-'Level 1'!AQ14,\"*\")","v":2.5000000000000022E-4},{"$f":"IFERROR('Level 2'!AR14-'Level 1'!AR14,\"*\")","v":1.6049999999999981E-2},{"$f":"IFERROR('Level 2'!AS14-'Level 1'!AS14,\"*\")","v":1.7000000000000001E-2},{"$f":"IFERROR('Level 2'!AT14-'Level 1'!AT14,\"*\")","v":3.1099999999999989E-2},{"$f":"IFERROR('Level 2'!AU14-'Level 1'!AU14,\"*\")","v":3.9050000000000001E-2},{"$f":"IFERROR('Level 2'!AV14-'Level 1'!AV14,\"*\")","v":4.930000000000001E-2},{"$f":"IFERROR('Level 2'!AW14-'Level 1'!AW14,\"*\")","v":4.8299999999999982E-2},{"$f":"IFERROR('Level 2'!AX14-'Level 1'!AX14,\"*\")","v":5.0299999999999997E-2},{"$f":"IFERROR('Level 2'!AY14-'Level 1'!AY14,\"*\")","v":"*"},null,{"$f":"'Level 1'!BA14","v":"Greece"},{"$f":"IFERROR('Level 2'!BB14-'Level 1'!BB14,\"*\")","v":0},{"$f":"IFERROR('Level 2'!BC14-'Level 1'!BC14,\"*\")","v":1.5000000000001124E-4},{"$f":"IFERROR('Level 2'!BD14-'Level 1'!BD14,\"*\")","v":2.9999999999996696E-4},{"$f":"IFERROR('Level 2'!BE14-'Level 1'!BE14,\"*\")","v":2.1499999999999991E-2},{"$f":"IFERROR('Level 2'!BF14-'Level 1'!BF14,\"*\")","v":2.0500000000000004E-2},{"$f":"IFERROR('Level 2'!BG14-'Level 1'!BG14,\"*\")","v":3.6149999999999988E-2},{"$f":"IFERROR('Level 2'!BH14-'Level 1'!BH14,\"*\")","v":4.6200000000000019E-2},{"$f":"IFERROR('Level 2'!BI14-'Level 1'!BI14,\"*\")","v":5.864999999999998E-2},{"$f":"IFERROR('Level 2'!BJ14-'Level 1'!BJ14,\"*\")","v":5.6449999999999972E-2},{"$f":"IFERROR('Level 2'!BK14-'Level 1'!BK14,\"*\")","v":5.3799999999999987E-2},{"$f":"IFERROR('Level 2'!BL14-'Level 1'!BL14,\"*\")","v":"*"}]
[{"$f":"'Level 1'!A15","v":"Spain"},{"$f":"IFERROR('Level 2'!B15-'Level 1'!B15,\"*\")","v":1.2400000000000022E-2},{"$f":"IFERROR('Level 2'!C15-'Level 1'!C15,\"*\")","v":1.2950000000000017E-2},{"$f":"IFERROR('Level 2'!D15-'Level 1'!D15,\"*\")","v":1.3200000000000045E-2},{"$f":"IFERROR('Level 2'!E15-'Level 1'!E15,\"*\")","v":1.5549999999999953E-2},{"$f":"IFERROR('Level 2'!F15-'Level 1'!F15,\"*\")","v":1.5150000000000052E-2},{"$f":"IFERROR('Level 2'!G15-'Level 1'!G15,\"*\")","v":1.4500000000000013E-2},{"$f":"IFERROR('Level 2'!H15-'Level 1'!H15,\"*\")","v":1.5599999999999947E-2},{"$f":"IFERROR('Level 2'!I15-'Level 1'!I15,\"*\")","v":1.8950000000000022E-2},{"$f":"IFERROR('Level 2'!J15-'Level 1'!J15,\"*\")","v":2.0800000000000041E-2},{"$f":"IFERROR('Level 2'!K15-'Level 1'!K15,\"*\")","v":2.1000000000000019E-2},{"$f":"IFERROR('Level 2'!L15-'Level 1'!L15,\"*\")","v":"*"},null,{"$f":"'Level 1'!N15","v":"Spain"},{"$f":"IFERROR('Level 2'!O15-'Level 1'!O15,\"*\")","v":6.8000000000000005E-3},{"$f":"IFERROR('Level 2'!P15-'Level 1'!P15,\"*\")","v":7.0500000000000007E-3},{"$f":"IFERROR('Level 2'!Q15-'Level 1'!Q15,\"*\")","v":7.8000000000000014E-3},{"$f":"IFERROR('Level 2'!R15-'Level 1'!R15,\"*\")","v":8.4499999999999853E-3},{"$f":"IFERROR('Level 2'!S15-'Level 1'!S15,\"*\")","v":9.3000000000000027E-3},{"$f":"IFERROR('Level 2'!T15-'Level 1'!T15,\"*\")","v":1.0050000000000003E-2},{"$f":"IFERROR('Level 2'!U15-'Level 1'!U15,\"*\")","v":1.0050000000000003E-2},{"$f":"IFERROR('Level 2'!V15-'Level 1'!V15,\"*\")","v":1.0699999999999987E-2},{"$f":"IFERROR('Level 2'!W15-'Level 1'!W15,\"*\")","v":1.1199999999999988E-2},{"$f":"IFERROR('Level 2'!X15-'Level 1'!X15,\"*\")","v":1.0800000000000004E-2},{"$f":"IFERROR('Level 2'!Y15-'Level 1'!Y15,\"*\")","v":"*"},null,{"$f":"'Level 1'!AA15","v":"Spain"},{"$f":"IFERROR('Level 2'!AB15-'Level 1'!AB15,\"*\")","v":5.9000000000000025E-3},{"$f":"IFERROR('Level 2'!AC15-'Level 1'!AC15,\"*\")","v":6.1500000000000027E-3},{"$f":"IFERROR('Level 2'!AD15-'Level 1'!AD15,\"*\")","v":6.8500000000000227E-3},{"$f":"IFERROR('Level 2'!AE15-'Level 1'!AE15,\"*\")","v":7.4499999999999844E-3},{"$f":"IFERROR('Level 2'!AF15-'Level 1'!AF15,\"*\")","v":8.3999999999999908E-3},{"$f":"IFERROR('Level 2'!AG15-'Level 1'!AG15,\"*\")","v":9.0499999999999747E-3},{"$f":"IFERROR('Level 2'!AH15-'Level 1'!AH15,\"*\")","v":9.000000000000008E-3},{"$f":"IFERROR('Level 2'!AI15-'Level 1'!AI15,\"*\")","v":9.1000000000000247E-3},{"$f":"IFERROR('Level 2'!AJ15-'Level 1'!AJ15,\"*\")","v":9.3999999999999917E-3},{"$f":"IFERROR('Level 2'!AK15-'Level 1'!AK15,\"*\")","v":8.8000000000000023E-3},{"$f":"IFERROR('Level 2'!AL15-'Level 1'!AL15,\"*\")","v":"*"},null,{"$f":"'Level 1'!AN15","v":"Spain"},{"$f":"IFERROR('Level 2'!AO15-'Level 1'!AO15,\"*\")","v":5.499999999999991E-3},{"$f":"IFERROR('Level 2'!AP15-'Level 1'!AP15,\"*\")","v":5.7500000000000051E-3},{"$f":"IFERROR('Level 2'!AQ15-'Level 1'!AQ15,\"*\")","v":6.3499999999999945E-3},{"$f":"IFERROR('Level 2'!AR15-'Level 1'!AR15,\"*\")","v":6.8000000000000282E-3},{"$f":"IFERROR('Level 2'!AS15-'Level 1'!AS15,\"*\")","v":7.6500000000000179E-3},{"$f":"IFERROR('Level 2'!AT15-'Level 1'!AT15,\"*\")","v":8.1500000000000183E-3},{"$f":"IFERROR('Level 2'!AU15-'Level 1'!AU15,\"*\")","v":8.0999999999999961E-3},{"$f":"IFERROR('Level 2'!AV15-'Level 1'!AV15,\"*\")","v":8.0500000000000294E-3},{"$f":"IFERROR('Level 2'!AW15-'Level 1'!AW15,\"*\")","v":8.2000000000000128E-3},{"$f":"IFERROR('Level 2'!AX15-'Level 1'!AX15,\"*\")","v":7.8000000000000014E-3},{"$f":"IFERROR('Level 2'!AY15-'Level 1'!AY15,\"*\")","v":"*"},null,{"$f":"'Level 1'!BA15","v":"Spain"},{"$f":"IFERROR('Level 2'!BB15-'Level 1'!BB15,\"*\")","v":4.9999999999999906E-3},{"$f":"IFERROR('Level 2'!BC15-'Level 1'!BC15,\"*\")","v":5.4499999999999965E-3},{"$f":"IFERROR('Level 2'!BD15-'Level 1'!BD15,\"*\")","v":5.9000000000000025E-3},{"$f":"IFERROR('Level 2'!BE15-'Level 1'!BE15,\"*\")","v":6.1499999999999888E-3},{"$f":"IFERROR('Level 2'!BF15-'Level 1'!BF15,\"*\")","v":6.9000000000000172E-3},{"$f":"IFERROR('Level 2'!BG15-'Level 1'!BG15,\"*\")","v":7.3000000000000287E-3},{"$f":"IFERROR('Level 2'!BH15-'Level 1'!BH15,\"*\")","v":7.2999999999999732E-3},{"$f":"IFERROR('Level 2'!BI15-'Level 1'!BI15,\"*\")","v":6.9500000000000117E-3},{"$f":"IFERROR('Level 2'!BJ15-'Level 1'!BJ15,\"*\")","v":7.6999999999999846E-3},{"$f":"IFERROR('Level 2'!BK15-'Level 1'!BK15,\"*\")","v":7.0999999999999952E-3},{"$f":"IFERROR('Level 2'!BL15-'Level 1'!BL15,\"*\")","v":"*"}]
[{"$f":"'Level 1'!A16","v":"France"},{"$f":"IFERROR('Level 2'!B16-'Level 1'!B16,\"*\")","v":2.109999999999998E-2},{"$f":"IFERROR('Level 2'!C16-'Level 1'!C16,\"*\")","v":2.0949999999999969E-2},{"$f":"IFERROR('Level 2'!D16-'Level 1'!D16,\"*\")","v":2.1000000000000019E-2},{"$f":"IFERROR('Level 2'!E16-'Level 1'!E16,\"*\")","v":2.4000000000000021E-2},{"$f":"IFERROR('Level 2'!F16-'Level 1'!F16,\"*\")","v":2.0250000000000018E-2},{"$f":"IFERROR('Level 2'!G16-'Level 1'!G16,\"*\")","v":2.1900000000000031E-2},{"$f":"IFERROR('Level 2'!H16-'Level 1'!H16,\"*\")","v":2.6450000000000029E-2},{"$f":"IFERROR('Level 2'!I16-'Level 1'!I16,\"*\")","v":3.0399999999999983E-2},{"$f":"IFERROR('Level 2'!J16-'Level 1'!J16,\"*\")","v":3.3899999999999986E-2},{"$f":"IFERROR('Level 2'!K16-'Level 1'!K16,\"*\")","v":3.6899999999999988E-2},{"$f":"IFERROR('Level 2'!L16-'Level 1'!L16,\"*\")","v":"*"},null,{"$f":"'Level 1'!N16","v":"France"},{"$f":"IFERROR('Level 2'!O16-'Level 1'!O16,\"*\")","v":1.4300000000000007E-2},{"$f":"IFERROR('Level 2'!P16-'Level 1'!P16,\"*\")","v":1.3999999999999999E-2},{"$f":"IFERROR('Level 2'!Q16-'Level 1'!Q16,\"*\")","v":1.419999999999999E-2},{"$f":"IFERROR('Level 2'!R16-'Level 1'!R16,\"*\")","v":1.7200000000000021E-2},{"$f":"IFERROR('Level 2'!S16-'Level 1'!S16,\"*\")","v":1.9699999999999995E-2},{"$f":"IFERROR('Level 2'!T16-'Level 1'!T16,\"*\")","v":2.1250000000000019E-2},{"$f":"IFERROR('Level 2'!U16-'Level 1'!U16,\"*\")","v":2.5500000000000023E-2},{"$f":"IFERROR('Level 2'!V16-'Level 1'!V16,\"*\")","v":2.9049999999999992E-2},{"$f":"IFERROR('Level 2'!W16-'Level 1'!W16,\"*\")","v":3.2299999999999995E-2},{"$f":"IFERROR('Level 2'!X16-'Level 1'!X16,\"*\")","v":3.5199999999999981E-2},{"$f":"IFERROR('Level 2'!Y16-'Level 1'!Y16,\"*\")","v":"*"},null,{"$f":"'Level 1'!AA16","v":"France"},{"$f":"IFERROR('Level 2'!AB16-'Level 1'!AB16,\"*\")","v":1.2499999999999997E-2},{"$f":"IFERROR('Level 2'!AC16-'Level 1'!AC16,\"*\")","v":1.235E-2},{"$f":"IFERROR('Level 2'!AD16-'Level 1'!AD16,\"*\")","v":1.2499999999999997E-2},{"$f":"IFERROR('Level 2'!AE16-'Level 1'!AE16,\"*\")","v":1.575E-2},{"$f":"IFERROR('Level 2'!AF16-'Level 1'!AF16,\"*\")","v":1.9549999999999998E-2},{"$f":"IFERROR('Level 2'!AG16-'Level 1'!AG16,\"*\")","v":2.1099999999999994E-2},{"$f":"IFERROR('Level 2'!AH16-'Level 1'!AH16,\"*\")","v":2.5299999999999989E-2},{"$f":"IFERROR('Level 2'!AI16-'Level 1'!AI16,\"*\")","v":2.8600000000000014E-2},{"$f":"IFERROR('Level 2'!AJ16-'Level 1'!AJ16,\"*\")","v":3.1899999999999998E-2},{"$f":"IFERROR('Level 2'!AK16-'Level 1'!AK16,\"*\")","v":3.4999999999999989E-2},{"$f":"IFERROR('Level 2'!AL16-'Level 1'!AL16,\"*\")","v":"*"},null,{"$f":"'Level 1'!AN16","v":"France"},{"$f":"IFERROR('Level 2'!AO16-'Level 1'!AO16,\"*\")","v":1.1300000000000004E-2},{"$f":"IFERROR('Level 2'!AP16-'Level 1'!AP16,\"*\")","v":1.1149999999999993E-2},{"$f":"IFERROR('Level 2'!AQ16-'Level 1'!AQ16,\"*\")","v":1.1599999999999999E-2},{"$f":"IFERROR('Level 2'!AR16-'Level 1'!AR16,\"*\")","v":1.4749999999999999E-2},{"$f":"IFERROR('Level 2'!AS16-'Level 1'!AS16,\"*\")","v":1.9599999999999992E-2},{"$f":"IFERROR('Level 2'!AT16-'Level 1'!AT16,\"*\")","v":2.1100000000000008E-2},{"$f":"IFERROR('Level 2'!AU16-'Level 1'!AU16,\"*\")","v":2.5300000000000003E-2},{"$f":"IFERROR('Level 2'!AV16-'Level 1'!AV16,\"*\")","v":2.855000000000002E-2},{"$f":"IFERROR('Level 2'!AW16-'Level 1'!AW16,\"*\")","v":3.1650000000000011E-2},{"$f":"IFERROR('Level 2'!AX16-'Level 1'!AX16,\"*\")","v":3.4700000000000009E-2},{"$f":"IFERROR('Level 2'!AY16-'Level 1'!AY16,\"*\")","v":"*"},null,{"$f":"'Level 1'!BA16","v":"France"},{"$f":"IFERROR('Level 2'!BB16-'Level 1'!BB16,\"*\")","v":1.0700000000000001E-2},{"$f":"IFERROR('Level 2'!BC16-'Level 1'!BC16,\"*\")","v":1.0800000000000004E-2},{"$f":"IFERROR('Level 2'!BD16-'Level 1'!BD16,\"*\")","v":1.1099999999999999E-2},{"$f":"IFERROR('Level 2'!BE16-'Level 1'!BE16,\"*\")","v":1.4500000000000013E-2},{"$f":"IFERROR('Level 2'!BF16-'Level 1'!BF16,\"*\")","v":1.9650000000000001E-2},{"$f":"IFERROR('Level 2'!BG16-'Level 1'!BG16,\"*\")","v":2.1099999999999994E-2},{"$f":"IFERROR('Level 2'!BH16-'Level 1'!BH16,\"*\")","v":2.5399999999999992E-2},{"$f":"IFERROR('Level 2'!BI16-'Level 1'!BI16,\"*\")","v":2.8599999999999987E-2},{"$f":"IFERROR('Level 2'!BJ16-'Level 1'!BJ16,\"*\")","v":3.1749999999999973E-2},{"$f":"IFERROR('Level 2'!BK16-'Level 1'!BK16,\"*\")","v":3.4699999999999981E-2},{"$f":"IFERROR('Level 2'!BL16-'Level 1'!BL16,\"*\")","v":"*"}]
[{"$f":"'Level 1'!A17","v":"Croatia"},{"$f":"IFERROR('Level 2'!B17-'Level 1'!B17,\"*\")","v":7.0000000000000617E-4},{"$f":"IFERROR('Level 2'!C17-'Level 1'!C17,\"*\")","v":1.3500000000000179E-3},{"$f":"IFERROR('Level 2'!D17-'Level 1'!D17,\"*\")","v":1.3499999999999901E-3},{"$f":"IFERROR('Level 2'!E17-'Level 1'!E17,\"*\")","v":6.0000000000001719E-4},{"$f":"IFERROR('Level 2'!F17-'Level 1'!F17,\"*\")","v":7.0000000000000617E-4},{"$f":"IFERROR('Level 2'!G17-'Level 1'!G17,\"*\")","v":6.4999999999998392E-4},{"$f":"IFERROR('Level 2'!H17-'Level 1'!H17,\"*\")","v":1.3500000000000179E-3},{"$f":"IFERROR('Level 2'!I17-'Level 1'!I17,\"*\")","v":4.6000000000000207E-3},{"$f":"IFERROR('Level 2'!J17-'Level 1'!J17,\"*\")","v":4.6000000000000207E-3},{"$f":"IFERROR('Level 2'!K17-'Level 1'!K17,\"*\")","v":4.699999999999982E-3},{"$f":"IFERROR('Level 2'!L17-'Level 1'!L17,\"*\")","v":"*"},null,{"$f":"'Level 1'!N17","v":"Croatia"},{"$f":"IFERROR('Level 2'!O17-'Level 1'!O17,\"*\")","v":6.5000000000001168E-4},{"$f":"IFERROR('Level 2'!P17-'Level 1'!P17,\"*\")","v":1.3999999999999985E-3},{"$f":"IFERROR('Level 2'!Q17-'Level 1'!Q17,\"*\")","v":1.350000000000004E-3},{"$f":"IFERROR('Level 2'!R17-'Level 1'!R17,\"*\")","v":5.4999999999999494E-4},{"$f":"IFERROR('Level 2'!S17-'Level 1'!S17,\"*\")","v":6.499999999999978E-4},{"$f":"IFERROR('Level 2'!T17-'Level 1'!T17,\"*\")","v":6.5000000000001168E-4},{"$f":"IFERROR('Level 2'!U17-'Level 1'!U17,\"*\")","v":1.350000000000004E-3},{"$f":"IFERROR('Level 2'!V17-'Level 1'!V17,\"*\")","v":4.5499999999999985E-3},{"$f":"IFERROR('Level 2'!W17-'Level 1'!W17,\"*\")","v":4.5499999999999985E-3},{"$f":"IFERROR('Level 2'!X17-'Level 1'!X17,\"*\")","v":4.599999999999993E-3},{"$f":"IFERROR('Level 2'!Y17-'Level 1'!Y17,\"*\")","v":"*"},null,{"$f":"'Level 1'!AA17","v":"Croatia"},{"$f":"IFERROR('Level 2'!AB17-'Level 1'!AB17,\"*\")","v":6.5000000000001168E-4},{"$f":"IFERROR('Level 2'!AC17-'Level 1'!AC17,\"*\")","v":1.3999999999999985E-3},{"$f":"IFERROR('Level 2'!AD17-'Level 1'!AD17,\"*\")","v":1.2999999999999956E-3},{"$f":"IFERROR('Level 2'!AE17-'Level 1'!AE17,\"*\")","v":5.9999999999998943E-4},{"$f":"IFERROR('Level 2'!AF17-'Level 1'!AF17,\"*\")","v":6.999999999999923E-4},{"$f":"IFERROR('Level 2'!AG17-'Level 1'!AG17,\"*\")","v":6.499999999999978E-4},{"$f":"IFERROR('Level 2'!AH17-'Level 1'!AH17,\"*\")","v":1.3499999999999901E-3},{"$f":"IFERROR('Level 2'!AI17-'Level 1'!AI17,\"*\")","v":4.599999999999993E-3},{"$f":"IFERROR('Level 2'!AJ17-'Level 1'!AJ17,\"*\")","v":4.599999999999993E-3},{"$f":"IFERROR('Level 2'!AK17-'Level 1'!AK17,\"*\")","v":4.6999999999999958E-3},{"$f":"IFERROR('Level 2'!AL17-'Level 1'!AL17,\"*\")","v":"*"},null,{"$f":"'Level 1'!AN17","v":"Croatia"},{"$f":"IFERROR('Level 2'!AO17-'Level 1'!AO17,\"*\")","v":6.499999999999978E-4},{"$f":"IFERROR('Level 2'!AP17-'Level 1'!AP17,\"*\")","v":1.3499999999999901E-3},{"$f":"IFERROR('Level 2'!AQ17-'Level 1'!AQ17,\"*\")","v":1.3999999999999985E-3},{"$f":"IFERROR('Level 2'!AR17-'Level 1'!AR17,\"*\")","v":5.4999999999999494E-4},{"$f":"IFERROR('Level 2'!AS17-'Level 1'!AS17,\"*\")","v":6.5000000000001168E-4},{"$f":"IFERROR('Level 2'!AT17-'Level 1'!AT17,\"*\")","v":7.0000000000000617E-4},{"$f":"IFERROR('Level 2'!AU17-'Level 1'!AU17,\"*\")","v":1.2999999999999956E-3},{"$f":"IFERROR('Level 2'!AV17-'Level 1'!AV17,\"*\")","v":4.6000000000000069E-3},{"$f":"IFERROR('Level 2'!AW17-'Level 1'!AW17,\"*\")","v":4.5499999999999985E-3},{"$f":"IFERROR('Level 2'!AX17-'Level 1'!AX17,\"*\")","v":4.7000000000000097E-3},{"$f":"IFERROR('Level 2'!AY17-'Level 1'!AY17,\"*\")","v":"*"},null,{"$f":"'Level 1'!BA17","v":"Croatia"},{"$f":"IFERROR('Level 2'!BB17-'Level 1'!BB17,\"*\")","v":6.499999999999978E-4},{"$f":"IFERROR('Level 2'!BC17-'Level 1'!BC17,\"*\")","v":1.4000000000000123E-3},{"$f":"IFERROR('Level 2'!BD17-'Level 1'!BD17,\"*\")","v":1.3499999999999901E-3},{"$f":"IFERROR('Level 2'!BE17-'Level 1'!BE17,\"*\")","v":5.5000000000000882E-4},{"$f":"IFERROR('Level 2'!BF17-'Level 1'!BF17,\"*\")","v":6.999999999999923E-4},{"$f":"IFERROR('Level 2'!BG17-'Level 1'!BG17,\"*\")","v":6.5000000000001168E-4},{"$f":"IFERROR('Level 2'!BH17-'Level 1'!BH17,\"*\")","v":1.350000000000004E-3},{"$f":"IFERROR('Level 2'!BI17-'Level 1'!BI17,\"*\")","v":4.599999999999993E-3},{"$f":"IFERROR('Level 2'!BJ17-'Level 1'!BJ17,\"*\")","v":4.6000000000000069E-3},{"$f":"IFERROR('Level 2'!BK17-'Level 1'!BK17,\"*\")","v":4.6999999999999958E-3},{"$f":"IFERROR('Level 2'!BL17-'Level 1'!BL17,\"*\")","v":"*"}]
[{"$f":"'Level 1'!A18","v":"Italy"},{"$f":"IFERROR('Level 2'!B18-'Level 1'!B18,\"*\")","v":"*"},{"$f":"IFERROR('Level 2'!C18-'Level 1'!C18,\"*\")","v":"*"},{"$f":"IFERROR('Level 2'!D18-'Level 1'!D18,\"*\")","v":"*"},{"$f":"IFERROR('Level 2'!E18-'Level 1'!E18,\"*\")","v":3.5949999999999954E-2},{"$f":"IFERROR('Level 2'!F18-'Level 1'!F18,\"*\")","v":3.2500000000000001E-2},{"$f":"IFERROR('Level 2'!G18-'Level 1'!G18,\"*\")","v":4.7150000000000025E-2},{"$f":"IFERROR('Level 2'!H18-'Level 1'!H18,\"*\")","v":5.2300000000000013E-2},{"$f":"IFERROR('Level 2'!I18-'Level 1'!I18,\"*\")","v":5.8550000000000019E-2},{"$f":"IFERROR('Level 2'!J18-'Level 1'!J18,\"*\")","v":6.3250000000000028E-2},{"$f":"IFERROR('Level 2'!K18-'Level 1'!K18,\"*\")","v":6.7499999999999977E-2},{"$f":"IFERROR('Level 2'!L18-'Level 1'!L18,\"*\")","v":"*"},null,{"$f":"'Level 1'!N18","v":"Italy"},{"$f":"IFERROR('Level 2'!O18-'Level 1'!O18,\"*\")","v":"*"},{"$f":"IFERROR('Level 2'!P18-'Level 1'!P18,\"*\")","v":"*"},{"$f":"IFERROR('Level 2'!Q18-'Level 1'!Q18,\"*\")","v":"*"},{"$f":"IFERROR('Level 2'!R18-'Level 1'!R18,\"*\")","v":2.2400000000000003E-2},{"$f":"IFERROR('Level 2'!S18-'Level 1'!S18,\"*\")","v":2.6300000000000018E-2},{"$f":"IFERROR('Level 2'!T18-'Level 1'!T18,\"*\")","v":3.535000000000002E-2},{"$f":"IFERROR('Level 2'!U18-'Level 1'!U18,\"*\")","v":4.1149999999999964E-2},{"$f":"IFERROR('Level 2'!V18-'Level 1'!V18,\"*\")","v":4.8650000000000027E-2},{"$f":"IFERROR('Level 2'!W18-'Level 1'!W18,\"*\")","v":5.2999999999999992E-2},{"$f":"IFERROR('Level 2'!X18-'Level 1'!X18,\"*\")","v":5.4100000000000009E-2},{"$f":"IFERROR('Level 2'!Y18-'Level 1'!Y18,\"*\")","v":"*"},null,{"$f":"'Level 1'!AA18","v":"Italy"},{"$f":"IFERROR('Level 2'!AB18-'Level 1'!AB18,\"*\")","v":"*"},{"$f":"IFERROR('Level 2'!AC18-'Level 1'!AC18,\"*\")","v":"*"},{"$f":"IFERROR('Level 2'!AD18-'Level 1'!AD18,\"*\")","v":"*"},{"$f":"IFERROR('Level 2'!AE18-'Level 1'!AE18,\"*\")","v":3.8349999999999995E-2},{"$f":"IFERROR('Level 2'!AF18-'Level 1'!AF18,\"*\")","v":4.4200000000000017E-2},{"$f":"IFERROR('Level 2'!AG18-'Level 1'!AG18,\"*\")","v":5.2650000000000002E-2},{"$f":"IFERROR('Level 2'!AH18-'Level 1'!AH18,\"*\")","v":5.9749999999999998E-2},{"$f":"IFERROR('Level 2'!AI18-'Level 1'!AI18,\"*\")","v":6.7099999999999965E-2},{"$f":"IFERROR('Level 2'!AJ18-'Level 1'!AJ18,\"*\")","v":7.240000000000002E-2},{"$f":"IFERROR('Level 2'!AK18-'Level 1'!AK18,\"*\")","v":7.5200000000000017E-2},{"$f":"IFERROR('Level 2'!AL18-'Level 1'!AL18,\"*\")","v":"*"},null,{"$f":"'Level 1'!AN18","v":"Italy"},{"$f":"IFERROR('Level 2'!AO18-'Level 1'!AO18,\"*\")","v":"*"},{"$f":"IFERROR('Level 2'!AP18-'Level 1'!AP18,\"*\")","v":"*"},{"$f":"IFERROR('Level 2'!AQ18-'Level 1'!AQ18,\"*\")","v":"*"},{"$f":"IFERROR('Level 2'!AR18-'Level 1'!AR18,\"*\")","v":5.0050000000000011E-2},{"$f":"IFERROR('Level 2'!AS18-'Level 1'!AS18,\"*\")","v":5.3300000000000014E-2},{"$f":"IFERROR('Level 2'!AT18-'Level 1'!AT18,\"*\")","v":6.9250000000000006E-2},{"$f":"IFERROR('Level 2'!AU18-'Level 1'!AU18,\"*\")","v":7.8149999999999942E-2},{"$f":"IFERROR('Level 2'!AV18-'Level 1'!AV18,\"*\")","v":8.8400000000000034E-2},{"$f":"IFERROR('Level 2'!AW18-'Level 1'!AW18,\"*\")","v":9.3299999999999994E-2},{"$f":"IFERROR('Level 2'!AX18-'Level 1'!AX18,\"*\")","v":9.7599999999999965E-2},{"$f":"IFERROR('Level 2'!AY18-'Level 1'!AY18,\"*\")","v":"*"},null,{"$f":"'Level 1'!BA18","v":"Italy"},{"$f":"IFERROR('Level 2'!BB18-'Level 1'!BB18,\"*\")","v":"*"},{"$f":"IFERROR('Level 2'!BC18-'Level 1'!BC18,\"*\")","v":"*"},{"$f":"IFERROR('Level 2'!BD18-'Level 1'!BD18,\"*\")","v":"*"},{"$f":"IFERROR('Level 2'!BE18-'Level 1'!BE18,\"*\")","v":4.6299999999999952E-2},{"$f":"IFERROR('Level 2'!BF18-'Level 1'!BF18,\"*\")","v":5.5200000000000027E-2},{"$f":"IFERROR('Level 2'!BG18-'Level 1'!BG18,\"*\")","v":7.3399999999999993E-2},{"$f":"IFERROR('Level 2'!BH18-'Level 1'!BH18,\"*\")","v":7.8850000000000031E-2},{"$f":"IFERROR('Level 2'!BI18-'Level 1'!BI18,\"*\")","v":9.1749999999999998E-2},{"$f":"IFERROR('Level 2'!BJ18-'Level 1'!BJ18,\"*\")","v":9.7550000000000026E-2},{"$f":"IFERROR('Level 2'!BK18-'Level 1'!BK18,\"*\")","v":0.10299999999999998},{"$f":"IFERROR('Level 2'!BL18-'Level 1'!BL18,\"*\")","v":"*"}]
[{"$f":"'Level 1'!A19","v":"Cyprus"},{"$f":"IFERROR('Level 2'!B19-'Level 1'!B19,\"*\")","v":2.2000000000000075E-3},{"$f":"IFERROR('Level 2'!C19-'Level 1'!C19,\"*\")","v":2.1999999999999797E-3},{"$f":"IFERROR('Level 2'!D19-'Level 1'!D19,\"*\")","v":2.2000000000000075E-3},{"$f":"IFERROR('Level 2'!E19-'Level 1'!E19,\"*\")","v":4.8499999999999654E-3},{"$f":"IFERROR('Level 2'!F19-'Level 1'!F19,\"*\")","v":6.2999999999999723E-3},{"$f":"IFERROR('Level 2'!G19-'Level 1'!G19,\"*\")","v":7.4999999999999512E-3},{"$f":"IFERROR('Level 2'!H19-'Level 1'!H19,\"*\")","v":7.8499999999999681E-3},{"$f":"IFERROR('Level 2'!I19-'Level 1'!I19,\"*\")","v":8.550000000000002E-3},{"$f":"IFERROR('Level 2'!J19-'Level 1'!J19,\"*\")","v":1.1149999999999993E-2},{"$f":"IFERROR('Level 2'!K19-'Level 1'!K19,\"*\")","v":1.3499999999999984E-2},{"$f":"IFERROR('Level 2'!L19-'Level 1'!L19,\"*\")","v":"*"},null,{"$f":"'Level 1'!N19","v":"Cyprus"},{"$f":"IFERROR('Level 2'!O19-'Level 1'!O19,\"*\")","v":2.2999999999999965E-3},{"$f":"IFERROR('Level 2'!P19-'Level 1'!P19,\"*\")","v":2.2000000000000353E-3},{"$f":"IFERROR('Level 2'!Q19-'Level 1'!Q19,\"*\")","v":2.2000000000000075E-3},{"$f":"IFERROR('Level 2'!R19-'Level 1'!R19,\"*\")","v":4.8000000000000265E-3},{"$f":"IFERROR('Level 2'!S19-'Level 1'!S19,\"*\")","v":6.3499999999999668E-3},{"$f":"IFERROR('Level 2'!T19-'Level 1'!T19,\"*\")","v":7.3999999999999899E-3},{"$f":"IFERROR('Level 2'!U19-'Level 1'!U19,\"*\")","v":7.7999999999999736E-3},{"$f":"IFERROR('Level 2'!V19-'Level 1'!V19,\"*\")","v":7.5999999999999956E-3},{"$f":"IFERROR('Level 2'!W19-'Level 1'!W19,\"*\")","v":8.649999999999991E-3},{"$f":"IFERROR('Level 2'!X19-'Level 1'!X19,\"*\")","v":9.999999999999995E-3},{"$f":"IFERROR('Level 2'!Y19-'Level 1'!Y19,\"*\")","v":"*"},null,{"$f":"'Level 1'!AA19","v":"Cyprus"},{"$f":"IFERROR('Level 2'!AB19-'Level 1'!AB19,\"*\")","v":2.2000000000000075E-3},{"$f":"IFERROR('Level 2'!AC19-'Level 1'!AC19,\"*\")","v":2.2000000000000075E-3},{"$f":"IFERROR('Level 2'!AD19-'Level 1'!AD19,\"*\")","v":2.2000000000000353E-3},{"$f":"IFERROR('Level 2'!AE19-'Level 1'!AE19,\"*\")","v":4.7500000000000042E-3},{"$f":"IFERROR('Level 2'!AF19-'Level 1'!AF19,\"*\")","v":6.3E-3},{"$f":"IFERROR('Level 2'!AG19-'Level 1'!AG19,\"*\")","v":7.3999999999999899E-3},{"$f":"IFERROR('Level 2'!AH19-'Level 1'!AH19,\"*\")","v":7.8499999999999959E-3},{"$f":"IFERROR('Level 2'!AI19-'Level 1'!AI19,\"*\")","v":7.4500000000000122E-3},{"$f":"IFERROR('Level 2'!AJ19-'Level 1'!AJ19,\"*\")","v":8.4499999999999853E-3},{"$f":"IFERROR('Level 2'!AK19-'Level 1'!AK19,\"*\")","v":9.6999999999999864E-3},{"$f":"IFERROR('Level 2'!AL19-'Level 1'!AL19,\"*\")","v":"*"},null,{"$f":"'Level 1'!AN19","v":"Cyprus"},{"$f":"IFERROR('Level 2'!AO19-'Level 1'!AO19,\"*\")","v":2.2000000000000075E-3},{"$f":"IFERROR('Level 2'!AP19-'Level 1'!AP19,\"*\")","v":2.2000000000000075E-3},{"$f":"IFERROR('Level 2'!AQ19-'Level 1'!AQ19,\"*\")","v":2.2000000000000075E-3},{"$f":"IFERROR('Level 2'!AR19-'Level 1'!AR19,\"*\")","v":4.7500000000000042E-3},{"$f":"IFERROR('Level 2'!AS19-'Level 1'!AS19,\"*\")","v":6.3000000000000278E-3},{"$f":"IFERROR('Level 2'!AT19-'Level 1'!AT19,\"*\")","v":7.3999999999999899E-3},{"$f":"IFERROR('Level 2'!AU19-'Level 1'!AU19,\"*\")","v":7.8000000000000014E-3},{"$f":"IFERROR('Level 2'!AV19-'Level 1'!AV19,\"*\")","v":7.3999999999999899E-3},{"$f":"IFERROR('Level 2'!AW19-'Level 1'!AW19,\"*\")","v":8.4000000000000186E-3},{"$f":"IFERROR('Level 2'!AX19-'Level 1'!AX19,\"*\")","v":9.8000000000000032E-3},{"$f":"IFERROR('Level 2'!AY19-'Level 1'!AY19,\"*\")","v":"*"},null,{"$f":"'Level 1'!BA19","v":"Cyprus"},{"$f":"IFERROR('Level 2'!BB19-'Level 1'!BB19,\"*\")","v":2.2000000000000075E-3},{"$f":"IFERROR('Level 2'!BC19-'Level 1'!BC19,\"*\")","v":2.1999999999999797E-3},{"$f":"IFERROR('Level 2'!BD19-'Level 1'!BD19,\"*\")","v":2.1999999999999797E-3},{"$f":"IFERROR('Level 2'!BE19-'Level 1'!BE19,\"*\")","v":4.799999999999971E-3},{"$f":"IFERROR('Level 2'!BF19-'Level 1'!BF19,\"*\")","v":6.3000000000000278E-3},{"$f":"IFERROR('Level 2'!BG19-'Level 1'!BG19,\"*\")","v":7.4000000000000177E-3},{"$f":"IFERROR('Level 2'!BH19-'Level 1'!BH19,\"*\")","v":7.8499999999999959E-3},{"$f":"IFERROR('Level 2'!BI19-'Level 1'!BI19,\"*\")","v":7.4500000000000122E-3},{"$f":"IFERROR('Level 2'!BJ19-'Level 1'!BJ19,\"*\")","v":8.4500000000000131E-3},{"$f":"IFERROR('Level 2'!BK19-'Level 1'!BK19,\"*\")","v":9.7000000000000003E-3},{"$f":"IFERROR('Level 2'!BL19-'Level 1'!BL19,\"*\")","v":"*"}]
[{"$f":"'Level 1'!A20","v":"Latvia"},{"$f":"IFERROR('Level 2'!B20-'Level 1'!B20,\"*\")","v":0},{"$f":"IFERROR('Level 2'!C20-'Level 1'!C20,\"*\")","v":0},{"$f":"IFERROR('Level 2'!D20-'Level 1'!D20,\"*\")","v":0},{"$f":"IFERROR('Level 2'!E20-'Level 1'!E20,\"*\")","v":0},{"$f":"IFERROR('Level 2'!F20-'Level 1'!F20,\"*\")","v":0},{"$f":"IFERROR('Level 2'!G20-'Level 1'!G20,\"*\")","v":8.8000000000000023E-3},{"$f":"IFERROR('Level 2'!H20-'Level 1'!H20,\"*\")","v":2.2199999999999998E-2},{"$f":"IFERROR('Level 2'!I20-'Level 1'!I20,\"*\")","v":2.679999999999999E-2},{"$f":"IFERROR('Level 2'!J20-'Level 1'!J20,\"*\")","v":2.6749999999999996E-2},{"$f":"IFERROR('Level 2'!K20-'Level 1'!K20,\"*\")","v":2.679999999999999E-2},{"$f":"IFERROR('Level 2'!L20-'Level 1'!L20,\"*\")","v":"*"},null,{"$f":"'Level 1'!N20","v":"Latvia"},{"$f":"IFERROR('Level 2'!O20-'Level 1'!O20,\"*\")","v":0},{"$f":"IFERROR('Level 2'!P20-'Level 1'!P20,\"*\")","v":0},{"$f":"IFERROR('Level 2'!Q20-'Level 1'!Q20,\"*\")","v":0},{"$f":"IFERROR('Level 2'!R20-'Level 1'!R20,\"*\")","v":0},{"$f":"IFERROR('Level 2'!S20-'Level 1'!S20,\"*\")","v":0},{"$f":"IFERROR('Level 2'!T20-'Level 1'!T20,\"*\")","v":8.8000000000000023E-3},{"$f":"IFERROR('Level 2'!U20-'Level 1'!U20,\"*\")","v":2.2300000000000014E-2},{"$f":"IFERROR('Level 2'!V20-'Level 1'!V20,\"*\")","v":2.6800000000000004E-2},{"$f":"IFERROR('Level 2'!W20-'Level 1'!W20,\"*\")","v":2.679999999999999E-2},{"$f":"IFERROR('Level 2'!X20-'Level 1'!X20,\"*\")","v":2.679999999999999E-2},{"$f":"IFERROR('Level 2'!Y20-'Level 1'!Y20,\"*\")","v":"*"},null,{"$f":"'Level 1'!AA20","v":"Latvia"},{"$f":"IFERROR('Level 2'!AB20-'Level 1'!AB20,\"*\")","v":0},{"$f":"IFERROR('Level 2'!AC20-'Level 1'!AC20,\"*\")","v":0},{"$f":"IFERROR('Level 2'!AD20-'Level 1'!AD20,\"*\")","v":0},{"$f":"IFERROR('Level 2'!AE20-'Level 1'!AE20,\"*\")","v":0},{"$f":"IFERROR('Level 2'!AF20-'Level 1'!AF20,\"*\")","v":0},{"$f":"IFERROR('Level 2'!AG20-'Level 1'!AG20,\"*\")","v":8.8499999999999968E-3},{"$f":"IFERROR('Level 2'!AH20-'Level 1'!AH20,\"*\")","v":2.23E-2},{"$f":"IFERROR('Level 2'!AI20-'Level 1'!AI20,\"*\")","v":2.679999999999999E-2},{"$f":"IFERROR('Level 2'!AJ20-'Level 1'!AJ20,\"*\")","v":2.679999999999999E-2},{"$f":"IFERROR('Level 2'!AK20-'Level 1'!AK20,\"*\")","v":2.6800000000000004E-2},{"$f":"IFERROR('Level 2'!AL20-'Level 1'!AL20,\"*\")","v":"*"},null,{"$f":"'Level 1'!AN20","v":"Latvia"},{"$f":"IFERROR('Level 2'!AO20-'Level 1'!AO20,\"*\")","v":0},{"$f":"IFERROR('Level 2'!AP20-'Level 1'!AP20,\"*\")","v":0},{"$f":"IFERROR('Level 2'!AQ20-'Level 1'!AQ20,\"*\")","v":0},{"$f":"IFERROR('Level 2'!AR20-'Level 1'!AR20,\"*\")","v":0},{"$f":"IFERROR('Level 2'!AS20-'Level 1'!AS20,\"*\")","v":0},{"$f":"IFERROR('Level 2'!AT20-'Level 1'!AT20,\"*\")","v":8.8499999999999968E-3},{"$f":"IFERROR('Level 2'!AU20-'Level 1'!AU20,\"*\")","v":2.2199999999999998E-2},{"$f":"IFERROR('Level 2'!AV20-'Level 1'!AV20,\"*\")","v":2.6800000000000004E-2},{"$f":"IFERROR('Level 2'!AW20-'Level 1'!AW20,\"*\")","v":2.675000000000001E-2},{"$f":"IFERROR('Level 2'!AX20-'Level 1'!AX20,\"*\")","v":2.6800000000000004E-2},{"$f":"IFERROR('Level 2'!AY20-'Level 1'!AY20,\"*\")","v":"*"},null,{"$f":"'Level 1'!BA20","v":"Latvia"},{"$f":"IFERROR('Level 2'!BB20-'Level 1'!BB20,\"*\")","v":0},{"$f":"IFERROR('Level 2'!BC20-'Level 1'!BC20,\"*\")","v":0},{"$f":"IFERROR('Level 2'!BD20-'Level 1'!BD20,\"*\")","v":0},{"$f":"IFERROR('Level 2'!BE20-'Level 1'!BE20,\"*\")","v":0},{"$f":"IFERROR('Level 2'!BF20-'Level 1'!BF20,\"*\")","v":0},{"$f":"IFERROR('Level 2'!BG20-'Level 1'!BG20,\"*\")","v":8.8000000000000023E-3},{"$f":"IFERROR('Level 2'!BH20-'Level 1'!BH20,\"*\")","v":2.2249999999999992E-2},{"$f":"IFERROR('Level 2'!BI20-'Level 1'!BI20,\"*\")","v":2.6749999999999996E-2},{"$f":"IFERROR('Level 2'!BJ20-'Level 1'!BJ20,\"*\")","v":2.679999999999999E-2},{"$f":"IFERROR('Level 2'!BK20-'Level 1'!BK20,\"*\")","v":2.6800000000000004E-2},{"$f":"IFERROR('Level 2'!BL20-'Level 1'!BL20,\"*\")","v":"*"}]
[{"$f":"'Level 1'!A21","v":"Lithuania"},{"$f":"IFERROR('Level 2'!B21-'Level 1'!B21,\"*\")","v":0},{"$f":"IFERROR('Level 2'!C21-'Level 1'!C21,\"*\")","v":0},{"$f":"IFERROR('Level 2'!D21-'Level 1'!D21,\"*\")","v":0},{"$f":"IFERROR('Level 2'!E21-'Level 1'!E21,\"*\")","v":0},{"$f":"IFERROR('Level 2'!F21-'Level 1'!F21,\"*\")","v":0},{"$f":"IFERROR('Level 2'!G21-'Level 1'!G21,\"*\")","v":0},{"$f":"IFERROR('Level 2'!H21-'Level 1'!H21,\"*\")","v":2.7099999999999999E-2},{"$f":"IFERROR('Level 2'!I21-'Level 1'!I21,\"*\")","v":2.0650000000000002E-2},{"$f":"IFERROR('Level 2'!J21-'Level 1'!J21,\"*\")","v":1.6449999999999992E-2},{"$f":"IFERROR('Level 2'!K21-'Level 1'!K21,\"*\")","v":1.5799999999999995E-2},{"$f":"IFERROR('Level 2'!L21-'Level 1'!L21,\"*\")","v":"*"},null,{"$f":"'Level 1'!N21","v":"Lithuania"},{"$f":"IFERROR('Level 2'!O21-'Level 1'!O21,\"*\")","v":0},{"$f":"IFERROR('Level 2'!P21-'Level 1'!P21,\"*\")","v":0},{"$f":"IFERROR('Level 2'!Q21-'Level 1'!Q21,\"*\")","v":0},{"$f":"IFERROR('Level 2'!R21-'Level 1'!R21,\"*\")","v":0},{"$f":"IFERROR('Level 2'!S21-'Level 1'!S21,\"*\")","v":0},{"$f":"IFERROR('Level 2'!T21-'Level 1'!T21,\"*\")","v":0},{"$f":"IFERROR('Level 2'!U21-'Level 1'!U21,\"*\")","v":2.7149999999999994E-2},{"$f":"IFERROR('Level 2'!V21-'Level 1'!V21,\"*\")","v":2.0699999999999996E-2},{"$f":"IFERROR('Level 2'!W21-'Level 1'!W21,\"*\")","v":1.6400000000000012E-2},{"$f":"IFERROR('Level 2'!X21-'Level 1'!X21,\"*\")","v":1.5800000000000008E-2},{"$f":"IFERROR('Level 2'!Y21-'Level 1'!Y21,\"*\")","v":"*"},null,{"$f":"'Level 1'!AA21","v":"Lithuania"},{"$f":"IFERROR('Level 2'!AB21-'Level 1'!AB21,\"*\")","v":0},{"$f":"IFERROR('Level 2'!AC21-'Level 1'!AC21,\"*\")","v":0},{"$f":"IFERROR('Level 2'!AD21-'Level 1'!AD21,\"*\")","v":0},{"$f":"IFERROR('Level 2'!AE21-'Level 1'!AE21,\"*\")","v":0},{"$f":"IFERROR('Level 2'!AF21-'Level 1'!AF21,\"*\")","v":0},{"$f":"IFERROR('Level 2'!AG21-'Level 1'!AG21,\"*\")","v":0},{"$f":"IFERROR('Level 2'!AH21-'Level 1'!AH21,\"*\")","v":2.7200000000000002E-2},{"$f":"IFERROR('Level 2'!AI21-'Level 1'!AI21,\"*\")","v":2.0649999999999988E-2},{"$f":"IFERROR('Level 2'!AJ21-'Level 1'!AJ21,\"*\")","v":1.6399999999999998E-2},{"$f":"IFERROR('Level 2'!AK21-'Level 1'!AK21,\"*\")","v":1.5799999999999995E-2},{"$f":"IFERROR('Level 2'!AL21-'Level 1'!AL21,\"*\")","v":"*"},null,{"$f":"'Level 1'!AN21","v":"Lithuania"},{"$f":"IFERROR('Level 2'!AO21-'Level 1'!AO21,\"*\")","v":0},{"$f":"IFERROR('Level 2'!AP21-'Level 1'!AP21,\"*\")","v":0},{"$f":"IFERROR('Level 2'!AQ21-'Level 1'!AQ21,\"*\")","v":0},{"$f":"IFERROR('Level 2'!AR21-'Level 1'!AR21,\"*\")","v":0},{"$f":"IFERROR('Level 2'!AS21-'Level 1'!AS21,\"*\")","v":0},{"$f":"IFERROR('Level 2'!AT21-'Level 1'!AT21,\"*\")","v":0},{"$f":"IFERROR('Level 2'!AU21-'Level 1'!AU21,\"*\")","v":2.7149999999999994E-2},{"$f":"IFERROR('Level 2'!AV21-'Level 1'!AV21,\"*\")","v":2.0699999999999996E-2},{"$f":"IFERROR('Level 2'!AW21-'Level 1'!AW21,\"*\")","v":1.6450000000000006E-2},{"$f":"IFERROR('Level 2'!AX21-'Level 1'!AX21,\"*\")","v":1.5700000000000006E-2},{"$f":"IFERROR('Level 2'!AY21-'Level 1'!AY21,\"*\")","v":"*"},null,{"$f":"'Level 1'!BA21","v":"Lithuania"},{"$f":"IFERROR('Level 2'!BB21-'Level 1'!BB21,\"*\")","v":0},{"$f":"IFERROR('Level 2'!BC21-'Level 1'!BC21,\"*\")","v":0},{"$f":"IFERROR('Level 2'!BD21-'Level 1'!BD21,\"*\")","v":0},{"$f":"IFERROR('Level 2'!BE21-'Level 1'!BE21,\"*\")","v":0},{"$f":"IFERROR('Level 2'!BF21-'Level 1'!BF21,\"*\")","v":0},{"$f":"IFERROR('Level 2'!BG21-'Level 1'!BG21,\"*\")","v":0},{"$f":"IFERROR('Level 2'!BH21-'Level 1'!BH21,\"*\")","v":2.7200000000000002E-2},{"$f":"IFERROR('Level 2'!BI21-'Level 1'!BI21,\"*\")","v":2.0699999999999996E-2},{"$f":"IFERROR('Level 2'!BJ21-'Level 1'!BJ21,\"*\")","v":1.6449999999999992E-2},{"$f":"IFERROR('Level 2'!BK21-'Level 1'!BK21,\"*\")","v":1.5700000000000006E-2},{"$f":"IFERROR('Level 2'!BL21-'Level 1'!BL21,\"*\")","v":"*"}]
[{"$f":"'Level 1'!A22","v":"Luxembourg"},{"$f":"IFERROR('Level 2'!B22-'Level 1'!B22,\"*\")","v":9.7000000000000142E-3},{"$f":"IFERROR('Level 2'!C22-'Level 1'!C22,\"*\")","v":1.2399999999999994E-2},{"$f":"IFERROR('Level 2'!D22-'Level 1'!D22,\"*\")","v":1.419999999999999E-2},{"$f":"IFERROR('Level 2'!E22-'Level 1'!E22,\"*\")","v":1.9449999999999995E-2},{"$f":"IFERROR('Level 2'!F22-'Level 1'!F22,\"*\")","v":1.3200000000000045E-2},{"$f":"IFERROR('Level 2'!G22-'Level 1'!G22,\"*\")","v":1.3200000000000017E-2},{"$f":"IFERROR('Level 2'!H22-'Level 1'!H22,\"*\")","v":1.2400000000000022E-2},{"$f":"IFERROR('Level 2'!I22-'Level 1'!I22,\"*\")","v":2.0899999999999974E-2},{"$f":"IFERROR('Level 2'!J22-'Level 1'!J22,\"*\")","v":3.0499999999999999E-2},{"$f":"IFERROR('Level 2'!K22-'Level 1'!K22,\"*\")","v":2.4500000000000022E-2},{"$f":"IFERROR('Level 2'!L22-'Level 1'!L22,\"*\")","v":"*"},null,{"$f":"'Level 1'!N22","v":"Luxembourg"},{"$f":"IFERROR('Level 2'!O22-'Level 1'!O22,\"*\")","v":9.6499999999999919E-3},{"$f":"IFERROR('Level 2'!P22-'Level 1'!P22,\"*\")","v":1.2200000000000016E-2},{"$f":"IFERROR('Level 2'!Q22-'Level 1'!Q22,\"*\")","v":1.4049999999999979E-2},{"$f":"IFERROR('Level 2'!R22-'Level 1'!R22,\"*\")","v":1.9600000000000006E-2},{"$f":"IFERROR('Level 2'!S22-'Level 1'!S22,\"*\")","v":1.319999999999999E-2},{"$f":"IFERROR('Level 2'!T22-'Level 1'!T22,\"*\")","v":1.319999999999999E-2},{"$f":"IFERROR('Level 2'!U22-'Level 1'!U22,\"*\")","v":1.2400000000000022E-2},{"$f":"IFERROR('Level 2'!V22-'Level 1'!V22,\"*\")","v":2.0900000000000002E-2},{"$f":"IFERROR('Level 2'!W22-'Level 1'!W22,\"*\")","v":3.0499999999999999E-2},{"$f":"IFERROR('Level 2'!X22-'Level 1'!X22,\"*\")","v":2.4500000000000022E-2},{"$f":"IFERROR('Level 2'!Y22-'Level 1'!Y22,\"*\")","v":"*"},null,{"$f":"'Level 1'!AA22","v":"Luxembourg"},{"$f":"IFERROR('Level 2'!AB22-'Level 1'!AB22,\"*\")","v":9.5000000000000084E-3},{"$f":"IFERROR('Level 2'!AC22-'Level 1'!AC22,\"*\")","v":1.1849999999999999E-2},{"$f":"IFERROR('Level 2'!AD22-'Level 1'!AD22,\"*\")","v":1.3899999999999996E-2},{"$f":"IFERROR('Level 2'!AE22-'Level 1'!AE22,\"*\")","v":1.974999999999999E-2},{"$f":"IFERROR('Level 2'!AF22-'Level 1'!AF22,\"*\")","v":1.319999999999999E-2},{"$f":"IFERROR('Level 2'!AG22-'Level 1'!AG22,\"*\")","v":1.319999999999999E-2},{"$f":"IFERROR('Level 2'!AH22-'Level 1'!AH22,\"*\")","v":1.2400000000000022E-2},{"$f":"IFERROR('Level 2'!AI22-'Level 1'!AI22,\"*\")","v":2.0900000000000002E-2},{"$f":"IFERROR('Level 2'!AJ22-'Level 1'!AJ22,\"*\")","v":3.0499999999999999E-2},{"$f":"IFERROR('Level 2'!AK22-'Level 1'!AK22,\"*\")","v":2.4499999999999994E-2},{"$f":"IFERROR('Level 2'!AL22-'Level 1'!AL22,\"*\")","v":"*"},null,{"$f":"'Level 1'!AN22","v":"Luxembourg"},{"$f":"IFERROR('Level 2'!AO22-'Level 1'!AO22,\"*\")","v":8.2500000000000073E-3},{"$f":"IFERROR('Level 2'!AP22-'Level 1'!AP22,\"*\")","v":9.4000000000000195E-3},{"$f":"IFERROR('Level 2'!AQ22-'Level 1'!AQ22,\"*\")","v":1.2449999999999989E-2},{"$f":"IFERROR('Level 2'!AR22-'Level 1'!AR22,\"*\")","v":1.9849999999999979E-2},{"$f":"IFERROR('Level 2'!AS22-'Level 1'!AS22,\"*\")","v":1.319999999999999E-2},{"$f":"IFERROR('Level 2'!AT22-'Level 1'!AT22,\"*\")","v":1.319999999999999E-2},{"$f":"IFERROR('Level 2'!AU22-'Level 1'!AU22,\"*\")","v":1.235E-2},{"$f":"IFERROR('Level 2'!AV22-'Level 1'!AV22,\"*\")","v":2.0900000000000002E-2},{"$f":"IFERROR('Level 2'!AW22-'Level 1'!AW22,\"*\")","v":3.0500000000000013E-2},{"$f":"IFERROR('Level 2'!AX22-'Level 1'!AX22,\"*\")","v":2.4500000000000008E-2},{"$f":"IFERROR('Level 2'!AY22-'Level 1'!AY22,\"*\")","v":"*"},null,{"$f":"'Level 1'!BA22","v":"Luxembourg"},{"$f":"IFERROR('Level 2'!BB22-'Level 1'!BB22,\"*\")","v":7.9999999999999932E-3},{"$f":"IFERROR('Level 2'!BC22-'Level 1'!BC22,\"*\")","v":8.8999999999999913E-3},{"$f":"IFERROR('Level 2'!BD22-'Level 1'!BD22,\"*\")","v":1.2199999999999989E-2},{"$f":"IFERROR('Level 2'!BE22-'Level 1'!BE22,\"*\")","v":2.0000000000000004E-2},{"$f":"IFERROR('Level 2'!BF22-'Level 1'!BF22,\"*\")","v":1.3200000000000003E-2},{"$f":"IFERROR('Level 2'!BG22-'Level 1'!BG22,\"*\")","v":1.319999999999999E-2},{"$f":"IFERROR('Level 2'!BH22-'Level 1'!BH22,\"*\")","v":1.2399999999999994E-2},{"$f":"IFERROR('Level 2'!BI22-'Level 1'!BI22,\"*\")","v":2.0900000000000002E-2},{"$f":"IFERROR('Level 2'!BJ22-'Level 1'!BJ22,\"*\")","v":3.0499999999999999E-2},{"$f":"IFERROR('Level 2'!BK22-'Level 1'!BK22,\"*\")","v":2.4499999999999994E-2},{"$f":"IFERROR('Level 2'!BL22-'Level 1'!BL22,\"*\")","v":"*"}]
[{"$f":"'Level 1'!A23","v":"Hungary"},{"$f":"IFERROR('Level 2'!B23-'Level 1'!B23,\"*\")","v":1.2300000000000005E-2},{"$f":"IFERROR('Level 2'!C23-'Level 1'!C23,\"*\")","v":1.3500000000000179E-3},{"$f":"IFERROR('Level 2'!D23-'Level 1'!D23,\"*\")","v":1.1499999999999844E-3},{"$f":"IFERROR('Level 2'!E23-'Level 1'!E23,\"*\")","v":1.1499999999999844E-3},{"$f":"IFERROR('Level 2'!F23-'Level 1'!F23,\"*\")","v":3.0000000000000027E-3},{"$f":"IFERROR('Level 2'!G23-'Level 1'!G23,\"*\")","v":5.0499999999999989E-3},{"$f":"IFERROR('Level 2'!H23-'Level 1'!H23,\"*\")","v":4.0999999999999925E-3},{"$f":"IFERROR('Level 2'!I23-'Level 1'!I23,\"*\")","v":0},{"$f":"IFERROR('Level 2'!J23-'Level 1'!J23,\"*\")","v":0},{"$f":"IFERROR('Level 2'!K23-'Level 1'!K23,\"*\")","v":0},{"$f":"IFERROR('Level 2'!L23-'Level 1'!L23,\"*\")","v":"*"},null,{"$f":"'Level 1'!N23","v":"Hungary"},{"$f":"IFERROR('Level 2'!O23-'Level 1'!O23,\"*\")","v":1.2300000000000005E-2},{"$f":"IFERROR('Level 2'!P23-'Level 1'!P23,\"*\")","v":1.3499999999999901E-3},{"$f":"IFERROR('Level 2'!Q23-'Level 1'!Q23,\"*\")","v":1.1499999999999844E-3},{"$f":"IFERROR('Level 2'!R23-'Level 1'!R23,\"*\")","v":1.1999999999999789E-3},{"$f":"IFERROR('Level 2'!S23-'Level 1'!S23,\"*\")","v":3.0499999999999972E-3},{"$f":"IFERROR('Level 2'!T23-'Level 1'!T23,\"*\")","v":5.0999999999999934E-3},{"$f":"IFERROR('Level 2'!U23-'Level 1'!U23,\"*\")","v":4.1500000000000009E-3},{"$f":"IFERROR('Level 2'!V23-'Level 1'!V23,\"*\")","v":0},{"$f":"IFERROR('Level 2'!W23-'Level 1'!W23,\"*\")","v":0},{"$f":"IFERROR('Level 2'!X23-'Level 1'!X23,\"*\")","v":0},{"$f":"IFERROR('Level 2'!Y23-'Level 1'!Y23,\"*\")","v":"*"},null,{"$f":"'Level 1'!AA23","v":"Hungary"},{"$f":"IFERROR('Level 2'!AB23-'Level 1'!AB23,\"*\")","v":1.2300000000000005E-2},{"$f":"IFERROR('Level 2'!AC23-'Level 1'!AC23,\"*\")","v":1.2999999999999678E-3},{"$f":"IFERROR('Level 2'!AD23-'Level 1'!AD23,\"*\")","v":1.1499999999999844E-3},{"$f":"IFERROR('Level 2'!AE23-'Level 1'!AE23,\"*\")","v":1.2000000000000066E-3},{"$f":"IFERROR('Level 2'!AF23-'Level 1'!AF23,\"*\")","v":3.0000000000000027E-3},{"$f":"IFERROR('Level 2'!AG23-'Level 1'!AG23,\"*\")","v":5.0499999999999989E-3},{"$f":"IFERROR('Level 2'!AH23-'Level 1'!AH23,\"*\")","v":4.0999999999999925E-3},{"$f":"IFERROR('Level 2'!AI23-'Level 1'!AI23,\"*\")","v":0},{"$f":"IFERROR('Level 2'!AJ23-'Level 1'!AJ23,\"*\")","v":0},{"$f":"IFERROR('Level 2'!AK23-'Level 1'!AK23,\"*\")","v":0},{"$f":"IFERROR('Level 2'!AL23-'Level 1'!AL23,\"*\")","v":"*"},null,{"$f":"'Level 1'!AN23","v":"Hungary"},{"$f":"IFERROR('Level 2'!AO23-'Level 1'!AO23,\"*\")","v":1.2300000000000005E-2},{"$f":"IFERROR('Level 2'!AP23-'Level 1'!AP23,\"*\")","v":1.3000000000000234E-3},{"$f":"IFERROR('Level 2'!AQ23-'Level 1'!AQ23,\"*\")","v":1.1499999999999982E-3},{"$f":"IFERROR('Level 2'!AR23-'Level 1'!AR23,\"*\")","v":1.1499999999999982E-3},{"$f":"IFERROR('Level 2'!AS23-'Level 1'!AS23,\"*\")","v":2.9999999999999888E-3},{"$f":"IFERROR('Level 2'!AT23-'Level 1'!AT23,\"*\")","v":5.0000000000000044E-3},{"$f":"IFERROR('Level 2'!AU23-'Level 1'!AU23,\"*\")","v":4.1000000000000064E-3},{"$f":"IFERROR('Level 2'!AV23-'Level 1'!AV23,\"*\")","v":0},{"$f":"IFERROR('Level 2'!AW23-'Level 1'!AW23,\"*\")","v":0},{"$f":"IFERROR('Level 2'!AX23-'Level 1'!AX23,\"*\")","v":0},{"$f":"IFERROR('Level 2'!AY23-'Level 1'!AY23,\"*\")","v":"*"},null,{"$f":"'Level 1'!BA23","v":"Hungary"},{"$f":"IFERROR('Level 2'!BB23-'Level 1'!BB23,\"*\")","v":1.2399999999999994E-2},{"$f":"IFERROR('Level 2'!BC23-'Level 1'!BC23,\"*\")","v":1.3500000000000179E-3},{"$f":"IFERROR('Level 2'!BD23-'Level 1'!BD23,\"*\")","v":1.1499999999999982E-3},{"$f":"IFERROR('Level 2'!BE23-'Level 1'!BE23,\"*\")","v":1.1999999999999789E-3},{"$f":"IFERROR('Level 2'!BF23-'Level 1'!BF23,\"*\")","v":3.050000000000011E-3},{"$f":"IFERROR('Level 2'!BG23-'Level 1'!BG23,\"*\")","v":5.0499999999999989E-3},{"$f":"IFERROR('Level 2'!BH23-'Level 1'!BH23,\"*\")","v":4.049999999999998E-3},{"$f":"IFERROR('Level 2'!BI23-'Level 1'!BI23,\"*\")","v":0},{"$f":"IFERROR('Level 2'!BJ23-'Level 1'!BJ23,\"*\")","v":0},{"$f":"IFERROR('Level 2'!BK23-'Level 1'!BK23,\"*\")","v":0},{"$f":"IFERROR('Level 2'!BL23-'Level 1'!BL23,\"*\")","v":"*"}]
[{"$f":"'Level 1'!A24","v":"Malta"},{"$f":"IFERROR('Level 2'!B24-'Level 1'!B24,\"*\")","v":"*"},{"$f":"IFERROR('Level 2'!C24-'Level 1'!C24,\"*\")","v":0},{"$f":"IFERROR('Level 2'!D24-'Level 1'!D24,\"*\")","v":0},{"$f":"IFERROR('Level 2'!E24-'Level 1'!E24,\"*\")","v":0},{"$f":"IFERROR('Level 2'!F24-'Level 1'!F24,\"*\")","v":0},{"$f":"IFERROR('Level 2'!G24-'Level 1'!G24,\"*\")","v":0},{"$f":"IFERROR('Level 2'!H24-'Level 1'!H24,\"*\")","v":0},{"$f":"IFERROR('Level 2'!I24-'Level 1'!I24,\"*\")","v":0},{"$f":"IFERROR('Level 2'!J24-'Level 1'!J24,\"*\")","v":0},{"$f":"IFERROR('Level 2'!K24-'Level 1'!K24,\"*\")","v":0},{"$f":"IFERROR('Level 2'!L24-'Level 1'!L24,\"*\")","v":"*"},null,{"$f":"'Level 1'!N24","v":"Malta"},{"$f":"IFERROR('Level 2'!O24-'Level 1'!O24,\"*\")","v":0},{"$f":"IFERROR('Level 2'!P24-'Level 1'!P24,\"*\")","v":0},{"$f":"IFERROR('Level 2'!Q24-'Level 1'!Q24,\"*\")","v":0},{"$f":"IFERROR('Level 2'!R24-'Level 1'!R24,\"*\")","v":0},{"$f":"IFERROR('Level 2'!S24-'Level 1'!S24,\"*\")","v":0},{"$f":"IFERROR('Level 2'!T24-'Level 1'!T24,\"*\")","v":0},{"$f":"IFERROR('Level 2'!U24-'Level 1'!U24,\"*\")","v":0},{"$f":"IFERROR('Level 2'!V24-'Level 1'!V24,\"*\")","v":0},{"$f":"IFERROR('Level 2'!W24-'Level 1'!W24,\"*\")","v":0},{"$f":"IFERROR('Level 2'!X24-'Level 1'!X24,\"*\")","v":0},{"$f":"IFERROR('Level 2'!Y24-'Level 1'!Y24,\"*\")","v":"*"},null,{"$f":"'Level 1'!AA24","v":"Malta"},{"$f":"IFERROR('Level 2'!AB24-'Level 1'!AB24,\"*\")","v":0},{"$f":"IFERROR('Level 2'!AC24-'Level 1'!AC24,\"*\")","v":0},{"$f":"IFERROR('Level 2'!AD24-'Level 1'!AD24,\"*\")","v":0},{"$f":"IFERROR('Level 2'!AE24-'Level 1'!AE24,\"*\")","v":0},{"$f":"IFERROR('Level 2'!AF24-'Level 1'!AF24,\"*\")","v":0},{"$f":"IFERROR('Level 2'!AG24-'Level 1'!AG24,\"*\")","v":0},{"$f":"IFERROR('Level 2'!AH24-'Level 1'!AH24,\"*\")","v":0},{"$f":"IFERROR('Level 2'!AI24-'Level 1'!AI24,\"*\")","v":0},{"$f":"IFERROR('Level 2'!AJ24-'Level 1'!AJ24,\"*\")","v":0},{"$f":"IFERROR('Level 2'!AK24-'Level 1'!AK24,\"*\")","v":0},{"$f":"IFERROR('Level 2'!AL24-'Level 1'!AL24,\"*\")","v":"*"},null,{"$f":"'Level 1'!AN24","v":"Malta"},{"$f":"IFERROR('Level 2'!AO24-'Level 1'!AO24,\"*\")","v":0},{"$f":"IFERROR('Level 2'!AP24-'Level 1'!AP24,\"*\")","v":0},{"$f":"IFERROR('Level 2'!AQ24-'Level 1'!AQ24,\"*\")","v":0},{"$f":"IFERROR('Level 2'!AR24-'Level 1'!AR24,\"*\")","v":0},{"$f":"IFERROR('Level 2'!AS24-'Level 1'!AS24,\"*\")","v":0},{"$f":"IFERROR('Level 2'!AT24-'Level 1'!AT24,\"*\")","v":0},{"$f":"IFERROR('Level 2'!AU24-'Level 1'!AU24,\"*\")","v":0},{"$f":"IFERROR('Level 2'!AV24-'Level 1'!AV24,\"*\")","v":0},{"$f":"IFERROR('Level 2'!AW24-'Level 1'!AW24,\"*\")","v":0},{"$f":"IFERROR('Level 2'!AX24-'Level 1'!AX24,\"*\")","v":0},{"$f":"IFERROR('Level 2'!AY24-'Level 1'!AY24,\"*\")","v":"*"},null,{"$f":"'Level 1'!BA24","v":"Malta"},{"$f":"IFERROR('Level 2'!BB24-'Level 1'!BB24,\"*\")","v":0},{"$f":"IFERROR('Level 2'!BC24-'Level 1'!BC24,\"*\")","v":0},{"$f":"IFERROR('Level 2'!BD24-'Level 1'!BD24,\"*\")","v":0},{"$f":"IFERROR('Level 2'!BE24-'Level 1'!BE24,\"*\")","v":0},{"$f":"IFERROR('Level 2'!BF24-'Level 1'!BF24,\"*\")","v":0},{"$f":"IFERROR('Level 2'!BG24-'Level 1'!BG24,\"*\")","v":0},{"$f":"IFERROR('Level 2'!BH24-'Level 1'!BH24,\"*\")","v":0},{"$f":"IFERROR('Level 2'!BI24-'Level 1'!BI24,\"*\")","v":0},{"$f":"IFERROR('Level 2'!BJ24-'Level 1'!BJ24,\"*\")","v":0},{"$f":"IFERROR('Level 2'!BK24-'Level 1'!BK24,\"*\")","v":0},{"$f":"IFERROR('Level 2'!BL24-'Level 1'!BL24,\"*\")","v":"*"}]
[{"$f":"'Level 1'!A25","v":"Netherlands"},{"$f":"IFERROR('Level 2'!B25-'Level 1'!B25,\"*\")","v":"*"},{"$f":"IFERROR('Level 2'!C25-'Level 1'!C25,\"*\")","v":"*"},{"$f":"IFERROR('Level 2'!D25-'Level 1'!D25,\"*\")","v":"*"},{"$f":"IFERROR('Level 2'!E25-'Level 1'!E25,\"*\")","v":"*"},{"$f":"IFERROR('Level 2'!F25-'Level 1'!F25,\"*\")","v":"*"},{"$f":"IFERROR('Level 2'!G25-'Level 1'!G25,\"*\")","v":"*"},{"$f":"IFERROR('Level 2'!H25-'Level 1'!H25,\"*\")","v":"*"},{"$f":"IFERROR('Level 2'!I25-'Level 1'!I25,\"*\")","v":"*"},{"$f":"IFERROR('Level 2'!J25-'Level 1'!J25,\"*\")","v":"*"},{"$f":"IFERROR('Level 2'!K25-'Level 1'!K25,\"*\")","v":"*"},{"$f":"IFERROR('Level 2'!L25-'Level 1'!L25,\"*\")","v":"*"},null,{"$f":"'Level 1'!N25","v":"Netherlands"},{"$f":"IFERROR('Level 2'!O25-'Level 1'!O25,\"*\")","v":-3.5400000000000015E-2},{"$f":"IFERROR('Level 2'!P25-'Level 1'!P25,\"*\")","v":-3.8700000000000012E-2},{"$f":"IFERROR('Level 2'!Q25-'Level 1'!Q25,\"*\")","v":-7.0849999999999996E-2},{"$f":"IFERROR('Level 2'!R25-'Level 1'!R25,\"*\")","v":-6.7500000000000004E-2},{"$f":"IFERROR('Level 2'!S25-'Level 1'!S25,\"*\")","v":-6.8500000000000005E-2},{"$f":"IFERROR('Level 2'!T25-'Level 1'!T25,\"*\")","v":-7.3800000000000018E-2},{"$f":"IFERROR('Level 2'!U25-'Level 1'!U25,\"*\")","v":-7.4249999999999983E-2},{"$f":"IFERROR('Level 2'!V25-'Level 1'!V25,\"*\")","v":-8.3899999999999975E-2},{"$f":"IFERROR('Level 2'!W25-'Level 1'!W25,\"*\")","v":-5.6600000000000011E-2},{"$f":"IFERROR('Level 2'!X25-'Level 1'!X25,\"*\")","v":-7.7699999999999991E-2},{"$f":"IFERROR('Level 2'!Y25-'Level 1'!Y25,\"*\")","v":"*"},null,{"$f":"'Level 1'!AA25","v":"Netherlands"},{"$f":"IFERROR('Level 2'!AB25-'Level 1'!AB25,\"*\")","v":1.7650000000000027E-2},{"$f":"IFERROR('Level 2'!AC25-'Level 1'!AC25,\"*\")","v":1.7750000000000016E-2},{"$f":"IFERROR('Level 2'!AD25-'Level 1'!AD25,\"*\")","v":1.8199999999999994E-2},{"$f":"IFERROR('Level 2'!AE25-'Level 1'!AE25,\"*\")","v":2.1199999999999997E-2},{"$f":"IFERROR('Level 2'!AF25-'Level 1'!AF25,\"*\")","v":2.0999999999999991E-2},{"$f":"IFERROR('Level 2'!AG25-'Level 1'!AG25,\"*\")","v":1.9449999999999967E-2},{"$f":"IFERROR('Level 2'!AH25-'Level 1'!AH25,\"*\")","v":2.1249999999999991E-2},{"$f":"IFERROR('Level 2'!AI25-'Level 1'!AI25,\"*\")","v":1.7899999999999999E-2},{"$f":"IFERROR('Level 2'!AJ25-'Level 1'!AJ25,\"*\")","v":3.2200000000000006E-2},{"$f":"IFERROR('Level 2'!AK25-'Level 1'!AK25,\"*\")","v":1.3299999999999992E-2},{"$f":"IFERROR('Level 2'!AL25-'Level 1'!AL25,\"*\")","v":"*"},null,{"$f":"'Level 1'!AN25","v":"Netherlands"},{"$f":"IFERROR('Level 2'!AO25-'Level 1'!AO25,\"*\")","v":4.3049999999999977E-2},{"$f":"IFERROR('Level 2'!AP25-'Level 1'!AP25,\"*\")","v":4.2050000000000004E-2},{"$f":"IFERROR('Level 2'!AQ25-'Level 1'!AQ25,\"*\")","v":6.3699999999999979E-2},{"$f":"IFERROR('Level 2'!AR25-'Level 1'!AR25,\"*\")","v":6.660000000000002E-2},{"$f":"IFERROR('Level 2'!AS25-'Level 1'!AS25,\"*\")","v":6.6599999999999993E-2},{"$f":"IFERROR('Level 2'!AT25-'Level 1'!AT25,\"*\")","v":6.6700000000000009E-2},{"$f":"IFERROR('Level 2'!AU25-'Level 1'!AU25,\"*\")","v":6.93E-2},{"$f":"IFERROR('Level 2'!AV25-'Level 1'!AV25,\"*\")","v":6.9150000000000017E-2},{"$f":"IFERROR('Level 2'!AW25-'Level 1'!AW25,\"*\")","v":7.6999999999999999E-2},{"$f":"IFERROR('Level 2'!AX25-'Level 1'!AX25,\"*\")","v":5.9700000000000017E-2},{"$f":"IFERROR('Level 2'!AY25-'Level 1'!AY25,\"*\")","v":"*"},null,{"$f":"'Level 1'!BA25","v":"Netherlands"},{"$f":"IFERROR('Level 2'!BB25-'Level 1'!BB25,\"*\")","v":4.1999999999999996E-2},{"$f":"IFERROR('Level 2'!BC25-'Level 1'!BC25,\"*\")","v":"*"},{"$f":"IFERROR('Level 2'!BD25-'Level 1'!BD25,\"*\")","v":5.0250000000000017E-2},{"$f":"IFERROR('Level 2'!BE25-'Level 1'!BE25,\"*\")","v":5.1800000000000013E-2},{"$f":"IFERROR('Level 2'!BF25-'Level 1'!BF25,\"*\")","v":5.2699999999999997E-2},{"$f":"IFERROR('Level 2'!BG25-'Level 1'!BG25,\"*\")","v":5.344999999999997E-2},{"$f":"IFERROR('Level 2'!BH25-'Level 1'!BH25,\"*\")","v":5.6550000000000045E-2},{"$f":"IFERROR('Level 2'!BI25-'Level 1'!BI25,\"*\")","v":6.0849999999999987E-2},{"$f":"IFERROR('Level 2'!BJ25-'Level 1'!BJ25,\"*\")","v":6.3750000000000029E-2},{"$f":"IFERROR('Level 2'!BK25-'Level 1'!BK25,\"*\")","v":7.9100000000000018E-2},{"$f":"IFERROR('Level 2'!BL25-'Level 1'!BL25,\"*\")","v":"*"}]
[{"$f":"'Level 1'!A26","v":"Austria"},{"$f":"IFERROR('Level 2'!B26-'Level 1'!B26,\"*\")","v":3.9399999999999991E-2},{"$f":"IFERROR('Level 2'!C26-'Level 1'!C26,\"*\")","v":3.9599999999999996E-2},{"$f":"IFERROR('Level 2'!D26-'Level 1'!D26,\"*\")","v":3.9800000000000002E-2},{"$f":"IFERROR('Level 2'!E26-'Level 1'!E26,\"*\")","v":3.6899999999999988E-2},{"$f":"IFERROR('Level 2'!F26-'Level 1'!F26,\"*\")","v":3.9050000000000029E-2},{"$f":"IFERROR('Level 2'!G26-'Level 1'!G26,\"*\")","v":4.2349999999999999E-2},{"$f":"IFERROR('Level 2'!H26-'Level 1'!H26,\"*\")","v":5.1099999999999979E-2},{"$f":"IFERROR('Level 2'!I26-'Level 1'!I26,\"*\")","v":5.6800000000000017E-2},{"$f":"IFERROR('Level 2'!J26-'Level 1'!J26,\"*\")","v":8.9550000000000018E-2},{"$f":"IFERROR('Level 2'!K26-'Level 1'!K26,\"*\")","v":9.7500000000000003E-2},{"$f":"IFERROR('Level 2'!L26-'Level 1'!L26,\"*\")","v":"*"},null,{"$f":"'Level 1'!N26","v":"Austria"},{"$f":"IFERROR('Level 2'!O26-'Level 1'!O26,\"*\")","v":2.6200000000000001E-2},{"$f":"IFERROR('Level 2'!P26-'Level 1'!P26,\"*\")","v":2.6200000000000001E-2},{"$f":"IFERROR('Level 2'!Q26-'Level 1'!Q26,\"*\")","v":2.6499999999999968E-2},{"$f":"IFERROR('Level 2'!R26-'Level 1'!R26,\"*\")","v":2.6700000000000002E-2},{"$f":"IFERROR('Level 2'!S26-'Level 1'!S26,\"*\")","v":2.5850000000000012E-2},{"$f":"IFERROR('Level 2'!T26-'Level 1'!T26,\"*\")","v":2.9550000000000021E-2},{"$f":"IFERROR('Level 2'!U26-'Level 1'!U26,\"*\")","v":3.7649999999999989E-2},{"$f":"IFERROR('Level 2'!V26-'Level 1'!V26,\"*\")","v":4.2300000000000004E-2},{"$f":"IFERROR('Level 2'!W26-'Level 1'!W26,\"*\")","v":5.5250000000000021E-2},{"$f":"IFERROR('Level 2'!X26-'Level 1'!X26,\"*\")","v":6.0299999999999992E-2},{"$f":"IFERROR('Level 2'!Y26-'Level 1'!Y26,\"*\")","v":"*"},null,{"$f":"'Level 1'!AA26","v":"Austria"},{"$f":"IFERROR('Level 2'!AB26-'Level 1'!AB26,\"*\")","v":2.0699999999999996E-2},{"$f":"IFERROR('Level 2'!AC26-'Level 1'!AC26,\"*\")","v":2.0999999999999991E-2},{"$f":"IFERROR('Level 2'!AD26-'Level 1'!AD26,\"*\")","v":2.1049999999999985E-2},{"$f":"IFERROR('Level 2'!AE26-'Level 1'!AE26,\"*\")","v":2.1199999999999997E-2},{"$f":"IFERROR('Level 2'!AF26-'Level 1'!AF26,\"*\")","v":2.0350000000000035E-2},{"$f":"IFERROR('Level 2'!AG26-'Level 1'!AG26,\"*\")","v":2.4350000000000011E-2},{"$f":"IFERROR('Level 2'!AH26-'Level 1'!AH26,\"*\")","v":3.2150000000000012E-2},{"$f":"IFERROR('Level 2'!AI26-'Level 1'!AI26,\"*\")","v":3.6250000000000004E-2},{"$f":"IFERROR('Level 2'!AJ26-'Level 1'!AJ26,\"*\")","v":4.1300000000000003E-2},{"$f":"IFERROR('Level 2'!AK26-'Level 1'!AK26,\"*\")","v":4.5300000000000007E-2},{"$f":"IFERROR('Level 2'!AL26-'Level 1'!AL26,\"*\")","v":"*"},null,{"$f":"'Level 1'!AN26","v":"Austria"},{"$f":"IFERROR('Level 2'!AO26-'Level 1'!AO26,\"*\")","v":1.8300000000000011E-2},{"$f":"IFERROR('Level 2'!AP26-'Level 1'!AP26,\"*\")","v":1.8500000000000016E-2},{"$f":"IFERROR('Level 2'!AQ26-'Level 1'!AQ26,\"*\")","v":1.865E-2},{"$f":"IFERROR('Level 2'!AR26-'Level 1'!AR26,\"*\")","v":1.8699999999999994E-2},{"$f":"IFERROR('Level 2'!AS26-'Level 1'!AS26,\"*\")","v":1.7999999999999988E-2},{"$f":"IFERROR('Level 2'!AT26-'Level 1'!AT26,\"*\")","v":2.1949999999999997E-2},{"$f":"IFERROR('Level 2'!AU26-'Level 1'!AU26,\"*\")","v":2.9749999999999999E-2},{"$f":"IFERROR('Level 2'!AV26-'Level 1'!AV26,\"*\")","v":3.3700000000000008E-2},{"$f":"IFERROR('Level 2'!AW26-'Level 1'!AW26,\"*\")","v":3.5099999999999992E-2},{"$f":"IFERROR('Level 2'!AX26-'Level 1'!AX26,\"*\")","v":3.8599999999999982E-2},{"$f":"IFERROR('Level 2'!AY26-'Level 1'!AY26,\"*\")","v":"*"},null,{"$f":"'Level 1'!BA26","v":"Austria"},{"$f":"IFERROR('Level 2'!BB26-'Level 1'!BB26,\"*\")","v":1.6500000000000015E-2},{"$f":"IFERROR('Level 2'!BC26-'Level 1'!BC26,\"*\")","v":1.6699999999999993E-2},{"$f":"IFERROR('Level 2'!BD26-'Level 1'!BD26,\"*\")","v":1.6749999999999987E-2},{"$f":"IFERROR('Level 2'!BE26-'Level 1'!BE26,\"*\")","v":1.4799999999999994E-2},{"$f":"IFERROR('Level 2'!BF26-'Level 1'!BF26,\"*\")","v":1.5850000000000003E-2},{"$f":"IFERROR('Level 2'!BG26-'Level 1'!BG26,\"*\")","v":1.949999999999999E-2},{"$f":"IFERROR('Level 2'!BH26-'Level 1'!BH26,\"*\")","v":2.76E-2},{"$f":"IFERROR('Level 2'!BI26-'Level 1'!BI26,\"*\")","v":2.9349999999999987E-2},{"$f":"IFERROR('Level 2'!BJ26-'Level 1'!BJ26,\"*\")","v":2.8850000000000015E-2},{"$f":"IFERROR('Level 2'!BK26-'Level 1'!BK26,\"*\")","v":3.1800000000000009E-2},{"$f":"IFERROR('Level 2'!BL26-'Level 1'!BL26,\"*\")","v":"*"}]
[{"$f":"'Level 1'!A27","v":"Poland"},{"$f":"IFERROR('Level 2'!B27-'Level 1'!B27,\"*\")","v":7.4999999999999928E-3},{"$f":"IFERROR('Level 2'!C27-'Level 1'!C27,\"*\")","v":6.3499999999999945E-3},{"$f":"IFERROR('Level 2'!D27-'Level 1'!D27,\"*\")","v":4.599999999999993E-3},{"$f":"IFERROR('Level 2'!E27-'Level 1'!E27,\"*\")","v":5.0499999999999989E-3},{"$f":"IFERROR('Level 2'!F27-'Level 1'!F27,\"*\")","v":4.8999999999999877E-3},{"$f":"IFERROR('Level 2'!G27-'Level 1'!G27,\"*\")","v":4.8000000000000265E-3},{"$f":"IFERROR('Level 2'!H27-'Level 1'!H27,\"*\")","v":4.7500000000000042E-3},{"$f":"IFERROR('Level 2'!I27-'Level 1'!I27,\"*\")","v":4.7999999999999987E-3},{"$f":"IFERROR('Level 2'!J27-'Level 1'!J27,\"*\")","v":4.7499999999999765E-3},{"$f":"IFERROR('Level 2'!K27-'Level 1'!K27,\"*\")","v":4.6000000000000207E-3},{"$f":"IFERROR('Level 2'!L27-'Level 1'!L27,\"*\")","v":"*"},null,{"$f":"'Level 1'!N27","v":"Poland"},{"$f":"IFERROR('Level 2'!O27-'Level 1'!O27,\"*\")","v":6.6000000000000086E-3},{"$f":"IFERROR('Level 2'!P27-'Level 1'!P27,\"*\")","v":6.5000000000000058E-3},{"$f":"IFERROR('Level 2'!Q27-'Level 1'!Q27,\"*\")","v":4.6500000000000014E-3},{"$f":"IFERROR('Level 2'!R27-'Level 1'!R27,\"*\")","v":4.9999999999999906E-3},{"$f":"IFERROR('Level 2'!S27-'Level 1'!S27,\"*\")","v":4.8500000000000071E-3},{"$f":"IFERROR('Level 2'!T27-'Level 1'!T27,\"*\")","v":4.7999999999999987E-3},{"$f":"IFERROR('Level 2'!U27-'Level 1'!U27,\"*\")","v":4.7500000000000042E-3},{"$f":"IFERROR('Level 2'!V27-'Level 1'!V27,\"*\")","v":4.7000000000000097E-3},{"$f":"IFERROR('Level 2'!W27-'Level 1'!W27,\"*\")","v":4.7999999999999848E-3},{"$f":"IFERROR('Level 2'!X27-'Level 1'!X27,\"*\")","v":4.500000000000004E-3},{"$f":"IFERROR('Level 2'!Y27-'Level 1'!Y27,\"*\")","v":"*"},null,{"$f":"'Level 1'!AA27","v":"Poland"},{"$f":"IFERROR('Level 2'!AB27-'Level 1'!AB27,\"*\")","v":6.2000000000000111E-3},{"$f":"IFERROR('Level 2'!AC27-'Level 1'!AC27,\"*\")","v":6.1999999999999972E-3},{"$f":"IFERROR('Level 2'!AD27-'Level 1'!AD27,\"*\")","v":4.599999999999993E-3},{"$f":"IFERROR('Level 2'!AE27-'Level 1'!AE27,\"*\")","v":4.9999999999999906E-3},{"$f":"IFERROR('Level 2'!AF27-'Level 1'!AF27,\"*\")","v":4.8999999999999877E-3},{"$f":"IFERROR('Level 2'!AG27-'Level 1'!AG27,\"*\")","v":4.7499999999999903E-3},{"$f":"IFERROR('Level 2'!AH27-'Level 1'!AH27,\"*\")","v":4.7499999999999903E-3},{"$f":"IFERROR('Level 2'!AI27-'Level 1'!AI27,\"*\")","v":4.7499999999999903E-3},{"$f":"IFERROR('Level 2'!AJ27-'Level 1'!AJ27,\"*\")","v":4.8500000000000071E-3},{"$f":"IFERROR('Level 2'!AK27-'Level 1'!AK27,\"*\")","v":4.599999999999993E-3},{"$f":"IFERROR('Level 2'!AL27-'Level 1'!AL27,\"*\")","v":"*"},null,{"$f":"'Level 1'!AN27","v":"Poland"},{"$f":"IFERROR('Level 2'!AO27-'Level 1'!AO27,\"*\")","v":6.2000000000000111E-3},{"$f":"IFERROR('Level 2'!AP27-'Level 1'!AP27,\"*\")","v":5.8499999999999941E-3},{"$f":"IFERROR('Level 2'!AQ27-'Level 1'!AQ27,\"*\")","v":4.6499999999999875E-3},{"$f":"IFERROR('Level 2'!AR27-'Level 1'!AR27,\"*\")","v":4.9500000000000099E-3},{"$f":"IFERROR('Level 2'!AS27-'Level 1'!AS27,\"*\")","v":4.9000000000000155E-3},{"$f":"IFERROR('Level 2'!AT27-'Level 1'!AT27,\"*\")","v":4.7999999999999987E-3},{"$f":"IFERROR('Level 2'!AU27-'Level 1'!AU27,\"*\")","v":4.7999999999999987E-3},{"$f":"IFERROR('Level 2'!AV27-'Level 1'!AV27,\"*\")","v":4.7500000000000042E-3},{"$f":"IFERROR('Level 2'!AW27-'Level 1'!AW27,\"*\")","v":4.7999999999999987E-3},{"$f":"IFERROR('Level 2'!AX27-'Level 1'!AX27,\"*\")","v":4.599999999999993E-3},{"$f":"IFERROR('Level 2'!AY27-'Level 1'!AY27,\"*\")","v":"*"},null,{"$f":"'Level 1'!BA27","v":"Poland"},{"$f":"IFERROR('Level 2'!BB27-'Level 1'!BB27,\"*\")","v":6.3E-3},{"$f":"IFERROR('Level 2'!BC27-'Level 1'!BC27,\"*\")","v":5.7999999999999996E-3},{"$f":"IFERROR('Level 2'!BD27-'Level 1'!BD27,\"*\")","v":4.6000000000000069E-3},{"$f":"IFERROR('Level 2'!BE27-'Level 1'!BE27,\"*\")","v":4.9499999999999961E-3},{"$f":"IFERROR('Level 2'!BF27-'Level 1'!BF27,\"*\")","v":4.8999999999999877E-3},{"$f":"IFERROR('Level 2'!BG27-'Level 1'!BG27,\"*\")","v":4.7500000000000042E-3},{"$f":"IFERROR('Level 2'!BH27-'Level 1'!BH27,\"*\")","v":4.8000000000000126E-3},{"$f":"IFERROR('Level 2'!BI27-'Level 1'!BI27,\"*\")","v":4.7999999999999987E-3},{"$f":"IFERROR('Level 2'!BJ27-'Level 1'!BJ27,\"*\")","v":4.8500000000000071E-3},{"$f":"IFERROR('Level 2'!BK27-'Level 1'!BK27,\"*\")","v":4.599999999999993E-3},{"$f":"IFERROR('Level 2'!BL27-'Level 1'!BL27,\"*\")","v":"*"}]
[{"$f":"'Level 1'!A28","v":"Portugal"},{"$f":"IFERROR('Level 2'!B28-'Level 1'!B28,\"*\")","v":2.9200000000000004E-2},{"$f":"IFERROR('Level 2'!C28-'Level 1'!C28,\"*\")","v":5.3249999999999964E-2},{"$f":"IFERROR('Level 2'!D28-'Level 1'!D28,\"*\")","v":2.579999999999999E-2},{"$f":"IFERROR('Level 2'!E28-'Level 1'!E28,\"*\")","v":0.10155},{"$f":"IFERROR('Level 2'!F28-'Level 1'!F28,\"*\")","v":0.12774999999999997},{"$f":"IFERROR('Level 2'!G28-'Level 1'!G28,\"*\")","v":8.3449999999999969E-2},{"$f":"IFERROR('Level 2'!H28-'Level 1'!H28,\"*\")","v":0.10065000000000002},{"$f":"IFERROR('Level 2'!I28-'Level 1'!I28,\"*\")","v":0.10219999999999999},{"$f":"IFERROR('Level 2'!J28-'Level 1'!J28,\"*\")","v":0.13485000000000003},{"$f":"IFERROR('Level 2'!K28-'Level 1'!K28,\"*\")","v":0.12340000000000001},{"$f":"IFERROR('Level 2'!L28-'Level 1'!L28,\"*\")","v":"*"},null,{"$f":"'Level 1'!N28","v":"Portugal"},{"$f":"IFERROR('Level 2'!O28-'Level 1'!O28,\"*\")","v":2.9799999999999993E-2},{"$f":"IFERROR('Level 2'!P28-'Level 1'!P28,\"*\")","v":3.8750000000000007E-2},{"$f":"IFERROR('Level 2'!Q28-'Level 1'!Q28,\"*\")","v":1.645000000000002E-2},{"$f":"IFERROR('Level 2'!R28-'Level 1'!R28,\"*\")","v":5.2650000000000002E-2},{"$f":"IFERROR('Level 2'!S28-'Level 1'!S28,\"*\")","v":6.3799999999999996E-2},{"$f":"IFERROR('Level 2'!T28-'Level 1'!T28,\"*\")","v":5.5800000000000016E-2},{"$f":"IFERROR('Level 2'!U28-'Level 1'!U28,\"*\")","v":5.6749999999999995E-2},{"$f":"IFERROR('Level 2'!V28-'Level 1'!V28,\"*\")","v":5.729999999999999E-2},{"$f":"IFERROR('Level 2'!W28-'Level 1'!W28,\"*\")","v":7.8400000000000011E-2},{"$f":"IFERROR('Level 2'!X28-'Level 1'!X28,\"*\")","v":7.4800000000000005E-2},{"$f":"IFERROR('Level 2'!Y28-'Level 1'!Y28,\"*\")","v":"*"},null,{"$f":"'Level 1'!AA28","v":"Portugal"},{"$f":"IFERROR('Level 2'!AB28-'Level 1'!AB28,\"*\")","v":2.8199999999999989E-2},{"$f":"IFERROR('Level 2'!AC28-'Level 1'!AC28,\"*\")","v":3.6249999999999991E-2},{"$f":"IFERROR('Level 2'!AD28-'Level 1'!AD28,\"*\")","v":1.5449999999999964E-2},{"$f":"IFERROR('Level 2'!AE28-'Level 1'!AE28,\"*\")","v":4.5900000000000024E-2},{"$f":"IFERROR('Level 2'!AF28-'Level 1'!AF28,\"*\")","v":5.5399999999999991E-2},{"$f":"IFERROR('Level 2'!AG28-'Level 1'!AG28,\"*\")","v":5.1449999999999996E-2},{"$f":"IFERROR('Level 2'!AH28-'Level 1'!AH28,\"*\")","v":4.8900000000000013E-2},{"$f":"IFERROR('Level 2'!AI28-'Level 1'!AI28,\"*\")","v":5.0949999999999995E-2},{"$f":"IFERROR('Level 2'!AJ28-'Level 1'!AJ28,\"*\")","v":7.0649999999999991E-2},{"$f":"IFERROR('Level 2'!AK28-'Level 1'!AK28,\"*\")","v":6.7199999999999996E-2},{"$f":"IFERROR('Level 2'!AL28-'Level 1'!AL28,\"*\")","v":"*"},null,{"$f":"'Level 1'!AN28","v":"Portugal"},{"$f":"IFERROR('Level 2'!AO28-'Level 1'!AO28,\"*\")","v":2.3599999999999996E-2},{"$f":"IFERROR('Level 2'!AP28-'Level 1'!AP28,\"*\")","v":3.5599999999999993E-2},{"$f":"IFERROR('Level 2'!AQ28-'Level 1'!AQ28,\"*\")","v":1.4450000000000018E-2},{"$f":"IFERROR('Level 2'!AR28-'Level 1'!AR28,\"*\")","v":4.275000000000001E-2},{"$f":"IFERROR('Level 2'!AS28-'Level 1'!AS28,\"*\")","v":5.1850000000000007E-2},{"$f":"IFERROR('Level 2'!AT28-'Level 1'!AT28,\"*\")","v":4.8499999999999988E-2},{"$f":"IFERROR('Level 2'!AU28-'Level 1'!AU28,\"*\")","v":4.4999999999999998E-2},{"$f":"IFERROR('Level 2'!AV28-'Level 1'!AV28,\"*\")","v":4.7299999999999981E-2},{"$f":"IFERROR('Level 2'!AW28-'Level 1'!AW28,\"*\")","v":6.5799999999999997E-2},{"$f":"IFERROR('Level 2'!AX28-'Level 1'!AX28,\"*\")","v":6.3200000000000006E-2},{"$f":"IFERROR('Level 2'!AY28-'Level 1'!AY28,\"*\")","v":"*"},null,{"$f":"'Level 1'!BA28","v":"Portugal"},{"$f":"IFERROR('Level 2'!BB28-'Level 1'!BB28,\"*\")","v":2.5800000000000003E-2},{"$f":"IFERROR('Level 2'!BC28-'Level 1'!BC28,\"*\")","v":3.4799999999999998E-2},{"$f":"IFERROR('Level 2'!BD28-'Level 1'!BD28,\"*\")","v":1.3950000000000018E-2},{"$f":"IFERROR('Level 2'!BE28-'Level 1'!BE28,\"*\")","v":4.0599999999999997E-2},{"$f":"IFERROR('Level 2'!BF28-'Level 1'!BF28,\"*\")","v":4.7050000000000008E-2},{"$f":"IFERROR('Level 2'!BG28-'Level 1'!BG28,\"*\")","v":4.5350000000000029E-2},{"$f":"IFERROR('Level 2'!BH28-'Level 1'!BH28,\"*\")","v":3.9950000000000013E-2},{"$f":"IFERROR('Level 2'!BI28-'Level 1'!BI28,\"*\")","v":4.2249999999999982E-2},{"$f":"IFERROR('Level 2'!BJ28-'Level 1'!BJ28,\"*\")","v":6.0350000000000015E-2},{"$f":"IFERROR('Level 2'!BK28-'Level 1'!BK28,\"*\")","v":5.850000000000001E-2},{"$f":"IFERROR('Level 2'!BL28-'Level 1'!BL28,\"*\")","v":"*"}]
[{"$f":"'Level 1'!A29","v":"Romania"},{"$f":"IFERROR('Level 2'!B29-'Level 1'!B29,\"*\")","v":0},{"$f":"IFERROR('Level 2'!C29-'Level 1'!C29,\"*\")","v":0},{"$f":"IFERROR('Level 2'!D29-'Level 1'!D29,\"*\")","v":0},{"$f":"IFERROR('Level 2'!E29-'Level 1'!E29,\"*\")","v":0},{"$f":"IFERROR('Level 2'!F29-'Level 1'!F29,\"*\")","v":0},{"$f":"IFERROR('Level 2'!G29-'Level 1'!G29,\"*\")","v":5.949999999999997E-3},{"$f":"IFERROR('Level 2'!H29-'Level 1'!H29,\"*\")","v":1.5550000000000008E-2},{"$f":"IFERROR('Level 2'!I29-'Level 1'!I29,\"*\")","v":1.1700000000000002E-2},{"$f":"IFERROR('Level 2'!J29-'Level 1'!J29,\"*\")","v":1.2400000000000008E-2},{"$f":"IFERROR('Level 2'!K29-'Level 1'!K29,\"*\")","v":1.3899999999999996E-2},{"$f":"IFERROR('Level 2'!L29-'Level 1'!L29,\"*\")","v":"*"},null,{"$f":"'Level 1'!N29","v":"Romania"},{"$f":"IFERROR('Level 2'!O29-'Level 1'!O29,\"*\")","v":0},{"$f":"IFERROR('Level 2'!P29-'Level 1'!P29,\"*\")","v":0},{"$f":"IFERROR('Level 2'!Q29-'Level 1'!Q29,\"*\")","v":0},{"$f":"IFERROR('Level 2'!R29-'Level 1'!R29,\"*\")","v":0},{"$f":"IFERROR('Level 2'!S29-'Level 1'!S29,\"*\")","v":0},{"$f":"IFERROR('Level 2'!T29-'Level 1'!T29,\"*\")","v":5.9000000000000025E-3},{"$f":"IFERROR('Level 2'!U29-'Level 1'!U29,\"*\")","v":1.55E-2},{"$f":"IFERROR('Level 2'!V29-'Level 1'!V29,\"*\")","v":1.1700000000000002E-2},{"$f":"IFERROR('Level 2'!W29-'Level 1'!W29,\"*\")","v":1.2450000000000003E-2},{"$f":"IFERROR('Level 2'!X29-'Level 1'!X29,\"*\")","v":1.3899999999999996E-2},{"$f":"IFERROR('Level 2'!Y29-'Level 1'!Y29,\"*\")","v":"*"},null,{"$f":"'Level 1'!AA29","v":"Romania"},{"$f":"IFERROR('Level 2'!AB29-'Level 1'!AB29,\"*\")","v":0},{"$f":"IFERROR('Level 2'!AC29-'Level 1'!AC29,\"*\")","v":0},{"$f":"IFERROR('Level 2'!AD29-'Level 1'!AD29,\"*\")","v":0},{"$f":"IFERROR('Level 2'!AE29-'Level 1'!AE29,\"*\")","v":0},{"$f":"IFERROR('Level 2'!AF29-'Level 1'!AF29,\"*\")","v":0},{"$f":"IFERROR('Level 2'!AG29-'Level 1'!AG29,\"*\")","v":5.9500000000000108E-3},{"$f":"IFERROR('Level 2'!AH29-'Level 1'!AH29,\"*\")","v":1.5600000000000003E-2},{"$f":"IFERROR('Level 2'!AI29-'Level 1'!AI29,\"*\")","v":1.1550000000000005E-2},{"$f":"IFERROR('Level 2'!AJ29-'Level 1'!AJ29,\"*\")","v":1.2450000000000003E-2},{"$f":"IFERROR('Level 2'!AK29-'Level 1'!AK29,\"*\")","v":1.3799999999999993E-2},{"$f":"IFERROR('Level 2'!AL29-'Level 1'!AL29,\"*\")","v":"*"},null,{"$f":"'Level 1'!AN29","v":"Romania"},{"$f":"IFERROR('Level 2'!AO29-'Level 1'!AO29,\"*\")","v":0},{"$f":"IFERROR('Level 2'!AP29-'Level 1'!AP29,\"*\")","v":0},{"$f":"IFERROR('Level 2'!AQ29-'Level 1'!AQ29,\"*\")","v":0},{"$f":"IFERROR('Level 2'!AR29-'Level 1'!AR29,\"*\")","v":0},{"$f":"IFERROR('Level 2'!AS29-'Level 1'!AS29,\"*\")","v":0},{"$f":"IFERROR('Level 2'!AT29-'Level 1'!AT29,\"*\")","v":5.949999999999997E-3},{"$f":"IFERROR('Level 2'!AU29-'Level 1'!AU29,\"*\")","v":1.5499999999999986E-2},{"$f":"IFERROR('Level 2'!AV29-'Level 1'!AV29,\"*\")","v":1.1700000000000002E-2},{"$f":"IFERROR('Level 2'!AW29-'Level 1'!AW29,\"*\")","v":1.2449999999999989E-2},{"$f":"IFERROR('Level 2'!AX29-'Level 1'!AX29,\"*\")","v":1.3799999999999993E-2},{"$f":"IFERROR('Level 2'!AY29-'Level 1'!AY29,\"*\")","v":"*"},null,{"$f":"'Level 1'!BA29","v":"Romania"},{"$f":"IFERROR('Level 2'!BB29-'Level 1'!BB29,\"*\")","v":0},{"$f":"IFERROR('Level 2'!BC29-'Level 1'!BC29,\"*\")","v":0},{"$f":"IFERROR('Level 2'!BD29-'Level 1'!BD29,\"*\")","v":0},{"$f":"IFERROR('Level 2'!BE29-'Level 1'!BE29,\"*\")","v":0},{"$f":"IFERROR('Level 2'!BF29-'Level 1'!BF29,\"*\")","v":0},{"$f":"IFERROR('Level 2'!BG29-'Level 1'!BG29,\"*\")","v":5.9000000000000163E-3},{"$f":"IFERROR('Level 2'!BH29-'Level 1'!BH29,\"*\")","v":1.5549999999999994E-2},{"$f":"IFERROR('Level 2'!BI29-'Level 1'!BI29,\"*\")","v":1.1650000000000008E-2},{"$f":"IFERROR('Level 2'!BJ29-'Level 1'!BJ29,\"*\")","v":1.2249999999999997E-2},{"$f":"IFERROR('Level 2'!BK29-'Level 1'!BK29,\"*\")","v":1.4200000000000004E-2},{"$f":"IFERROR('Level 2'!BL29-'Level 1'!BL29,\"*\")","v":"*"}]
[{"$f":"'Level 1'!A30","v":"Slovenia"},{"$f":"IFERROR('Level 2'!B30-'Level 1'!B30,\"*\")","v":2.5000000000000022E-2},{"$f":"IFERROR('Level 2'!C30-'Level 1'!C30,\"*\")","v":8.550000000000002E-3},{"$f":"IFERROR('Level 2'!D30-'Level 1'!D30,\"*\")","v":3.0249999999999999E-2},{"$f":"IFERROR('Level 2'!E30-'Level 1'!E30,\"*\")","v":4.2150000000000021E-2},{"$f":"IFERROR('Level 2'!F30-'Level 1'!F30,\"*\")","v":2.8749999999999998E-2},{"$f":"IFERROR('Level 2'!G30-'Level 1'!G30,\"*\")","v":2.134999999999998E-2},{"$f":"IFERROR('Level 2'!H30-'Level 1'!H30,\"*\")","v":4.5050000000000007E-2},{"$f":"IFERROR('Level 2'!I30-'Level 1'!I30,\"*\")","v":4.1349999999999998E-2},{"$f":"IFERROR('Level 2'!J30-'Level 1'!J30,\"*\")","v":6.4450000000000007E-2},{"$f":"IFERROR('Level 2'!K30-'Level 1'!K30,\"*\")","v":3.5699999999999996E-2},{"$f":"IFERROR('Level 2'!L30-'Level 1'!L30,\"*\")","v":"*"},null,{"$f":"'Level 1'!N30","v":"Slovenia"},{"$f":"IFERROR('Level 2'!O30-'Level 1'!O30,\"*\")","v":9.900000000000006E-3},{"$f":"IFERROR('Level 2'!P30-'Level 1'!P30,\"*\")","v":5.3500000000000075E-3},{"$f":"IFERROR('Level 2'!Q30-'Level 1'!Q30,\"*\")","v":1.1149999999999993E-2},{"$f":"IFERROR('Level 2'!R30-'Level 1'!R30,\"*\")","v":1.9250000000000017E-2},{"$f":"IFERROR('Level 2'!S30-'Level 1'!S30,\"*\")","v":1.5850000000000003E-2},{"$f":"IFERROR('Level 2'!T30-'Level 1'!T30,\"*\")","v":1.3100000000000001E-2},{"$f":"IFERROR('Level 2'!U30-'Level 1'!U30,\"*\")","v":2.6800000000000018E-2},{"$f":"IFERROR('Level 2'!V30-'Level 1'!V30,\"*\")","v":2.8649999999999981E-2},{"$f":"IFERROR('Level 2'!W30-'Level 1'!W30,\"*\")","v":3.0850000000000016E-2},{"$f":"IFERROR('Level 2'!X30-'Level 1'!X30,\"*\")","v":3.5699999999999982E-2},{"$f":"IFERROR('Level 2'!Y30-'Level 1'!Y30,\"*\")","v":"*"},null,{"$f":"'Level 1'!AA30","v":"Slovenia"},{"$f":"IFERROR('Level 2'!AB30-'Level 1'!AB30,\"*\")","v":6.9000000000000034E-3},{"$f":"IFERROR('Level 2'!AC30-'Level 1'!AC30,\"*\")","v":4.500000000000004E-3},{"$f":"IFERROR('Level 2'!AD30-'Level 1'!AD30,\"*\")","v":6.6499999999999893E-3},{"$f":"IFERROR('Level 2'!AE30-'Level 1'!AE30,\"*\")","v":1.2049999999999991E-2},{"$f":"IFERROR('Level 2'!AF30-'Level 1'!AF30,\"*\")","v":1.0800000000000004E-2},{"$f":"IFERROR('Level 2'!AG30-'Level 1'!AG30,\"*\")","v":9.2500000000000082E-3},{"$f":"IFERROR('Level 2'!AH30-'Level 1'!AH30,\"*\")","v":1.7350000000000004E-2},{"$f":"IFERROR('Level 2'!AI30-'Level 1'!AI30,\"*\")","v":1.8549999999999983E-2},{"$f":"IFERROR('Level 2'!AJ30-'Level 1'!AJ30,\"*\")","v":1.9500000000000017E-2},{"$f":"IFERROR('Level 2'!AK30-'Level 1'!AK30,\"*\")","v":2.1400000000000002E-2},{"$f":"IFERROR('Level 2'!AL30-'Level 1'!AL30,\"*\")","v":"*"},null,{"$f":"'Level 1'!AN30","v":"Slovenia"},{"$f":"IFERROR('Level 2'!AO30-'Level 1'!AO30,\"*\")","v":5.2999999999999992E-3},{"$f":"IFERROR('Level 2'!AP30-'Level 1'!AP30,\"*\")","v":3.9500000000000091E-3},{"$f":"IFERROR('Level 2'!AQ30-'Level 1'!AQ30,\"*\")","v":4.2500000000000038E-3},{"$f":"IFERROR('Level 2'!AR30-'Level 1'!AR30,\"*\")","v":8.0499999999999877E-3},{"$f":"IFERROR('Level 2'!AS30-'Level 1'!AS30,\"*\")","v":7.8000000000000014E-3},{"$f":"IFERROR('Level 2'!AT30-'Level 1'!AT30,\"*\")","v":7.0500000000000007E-3},{"$f":"IFERROR('Level 2'!AU30-'Level 1'!AU30,\"*\")","v":1.175000000000001E-2},{"$f":"IFERROR('Level 2'!AV30-'Level 1'!AV30,\"*\")","v":1.2499999999999983E-2},{"$f":"IFERROR('Level 2'!AW30-'Level 1'!AW30,\"*\")","v":1.2649999999999995E-2},{"$f":"IFERROR('Level 2'!AX30-'Level 1'!AX30,\"*\")","v":1.3399999999999995E-2},{"$f":"IFERROR('Level 2'!AY30-'Level 1'!AY30,\"*\")","v":"*"},null,{"$f":"'Level 1'!BA30","v":"Slovenia"},{"$f":"IFERROR('Level 2'!BB30-'Level 1'!BB30,\"*\")","v":4.1999999999999954E-3},{"$f":"IFERROR('Level 2'!BC30-'Level 1'!BC30,\"*\")","v":3.6500000000000005E-3},{"$f":"IFERROR('Level 2'!BD30-'Level 1'!BD30,\"*\")","v":2.5499999999999967E-3},{"$f":"IFERROR('Level 2'!BE30-'Level 1'!BE30,\"*\")","v":5.1000000000000073E-3},{"$f":"IFERROR('Level 2'!BF30-'Level 1'!BF30,\"*\")","v":5.6500000000000022E-3},{"$f":"IFERROR('Level 2'!BG30-'Level 1'!BG30,\"*\")","v":5.2999999999999853E-3},{"$f":"IFERROR('Level 2'!BH30-'Level 1'!BH30,\"*\")","v":7.5500000000000012E-3},{"$f":"IFERROR('Level 2'!BI30-'Level 1'!BI30,\"*\")","v":8.0500000000000016E-3},{"$f":"IFERROR('Level 2'!BJ30-'Level 1'!BJ30,\"*\")","v":8.0999999999999961E-3},{"$f":"IFERROR('Level 2'!BK30-'Level 1'!BK30,\"*\")","v":8.5000000000000075E-3},{"$f":"IFERROR('Level 2'!BL30-'Level 1'!BL30,\"*\")","v":"*"}]
[{"$f":"'Level 1'!A31","v":"Slovakia"},{"$f":"IFERROR('Level 2'!B31-'Level 1'!B31,\"*\")","v":0},{"$f":"IFERROR('Level 2'!C31-'Level 1'!C31,\"*\")","v":0},{"$f":"IFERROR('Level 2'!D31-'Level 1'!D31,\"*\")","v":0},{"$f":"IFERROR('Level 2'!E31-'Level 1'!E31,\"*\")","v":0},{"$f":"IFERROR('Level 2'!F31-'Level 1'!F31,\"*\")","v":3.0000000000000027E-3},{"$f":"IFERROR('Level 2'!G31-'Level 1'!G31,\"*\")","v":3.0500000000000249E-3},{"$f":"IFERROR('Level 2'!H31-'Level 1'!H31,\"*\")","v":3.1499999999999861E-3},{"$f":"IFERROR('Level 2'!I31-'Level 1'!I31,\"*\")","v":3.2000000000000361E-3},{"$f":"IFERROR('Level 2'!J31-'Level 1'!J31,\"*\")","v":3.1999999999999806E-3},{"$f":"IFERROR('Level 2'!K31-'Level 1'!K31,\"*\")","v":3.1999999999999806E-3},{"$f":"IFERROR('Level 2'!L31-'Level 1'!L31,\"*\")","v":"*"},null,{"$f":"'Level 1'!N31","v":"Slovakia"},{"$f":"IFERROR('Level 2'!O31-'Level 1'!O31,\"*\")","v":0},{"$f":"IFERROR('Level 2'!P31-'Level 1'!P31,\"*\")","v":0},{"$f":"IFERROR('Level 2'!Q31-'Level 1'!Q31,\"*\")","v":0},{"$f":"IFERROR('Level 2'!R31-'Level 1'!R31,\"*\")","v":0},{"$f":"IFERROR('Level 2'!S31-'Level 1'!S31,\"*\")","v":3.0000000000000027E-3},{"$f":"IFERROR('Level 2'!T31-'Level 1'!T31,\"*\")","v":3.0499999999999972E-3},{"$f":"IFERROR('Level 2'!U31-'Level 1'!U31,\"*\")","v":3.1499999999999861E-3},{"$f":"IFERROR('Level 2'!V31-'Level 1'!V31,\"*\")","v":3.2000000000000084E-3},{"$f":"IFERROR('Level 2'!W31-'Level 1'!W31,\"*\")","v":3.2000000000000084E-3},{"$f":"IFERROR('Level 2'!X31-'Level 1'!X31,\"*\")","v":3.2000000000000084E-3},{"$f":"IFERROR('Level 2'!Y31-'Level 1'!Y31,\"*\")","v":"*"},null,{"$f":"'Level 1'!AA31","v":"Slovakia"},{"$f":"IFERROR('Level 2'!AB31-'Level 1'!AB31,\"*\")","v":0},{"$f":"IFERROR('Level 2'!AC31-'Level 1'!AC31,\"*\")","v":0},{"$f":"IFERROR('Level 2'!AD31-'Level 1'!AD31,\"*\")","v":0},{"$f":"IFERROR('Level 2'!AE31-'Level 1'!AE31,\"*\")","v":0},{"$f":"IFERROR('Level 2'!AF31-'Level 1'!AF31,\"*\")","v":2.9999999999999749E-3},{"$f":"IFERROR('Level 2'!AG31-'Level 1'!AG31,\"*\")","v":3.0499999999999972E-3},{"$f":"IFERROR('Level 2'!AH31-'Level 1'!AH31,\"*\")","v":3.1499999999999861E-3},{"$f":"IFERROR('Level 2'!AI31-'Level 1'!AI31,\"*\")","v":3.2000000000000084E-3},{"$f":"IFERROR('Level 2'!AJ31-'Level 1'!AJ31,\"*\")","v":3.2000000000000084E-3},{"$f":"IFERROR('Level 2'!AK31-'Level 1'!AK31,\"*\")","v":3.1999999999999945E-3},{"$f":"IFERROR('Level 2'!AL31-'Level 1'!AL31,\"*\")","v":"*"},null,{"$f":"'Level 1'!AN31","v":"Slovakia"},{"$f":"IFERROR('Level 2'!AO31-'Level 1'!AO31,\"*\")","v":0},{"$f":"IFERROR('Level 2'!AP31-'Level 1'!AP31,\"*\")","v":0},{"$f":"IFERROR('Level 2'!AQ31-'Level 1'!AQ31,\"*\")","v":0},{"$f":"IFERROR('Level 2'!AR31-'Level 1'!AR31,\"*\")","v":0},{"$f":"IFERROR('Level 2'!AS31-'Level 1'!AS31,\"*\")","v":2.9999999999999888E-3},{"$f":"IFERROR('Level 2'!AT31-'Level 1'!AT31,\"*\")","v":3.0500000000000249E-3},{"$f":"IFERROR('Level 2'!AU31-'Level 1'!AU31,\"*\")","v":3.1500000000000139E-3},{"$f":"IFERROR('Level 2'!AV31-'Level 1'!AV31,\"*\")","v":3.1999999999999945E-3},{"$f":"IFERROR('Level 2'!AW31-'Level 1'!AW31,\"*\")","v":3.1999999999999945E-3},{"$f":"IFERROR('Level 2'!AX31-'Level 1'!AX31,\"*\")","v":3.1999999999999945E-3},{"$f":"IFERROR('Level 2'!AY31-'Level 1'!AY31,\"*\")","v":"*"},null,{"$f":"'Level 1'!BA31","v":"Slovakia"},{"$f":"IFERROR('Level 2'!BB31-'Level 1'!BB31,\"*\")","v":0},{"$f":"IFERROR('Level 2'!BC31-'Level 1'!BC31,\"*\")","v":0},{"$f":"IFERROR('Level 2'!BD31-'Level 1'!BD31,\"*\")","v":0},{"$f":"IFERROR('Level 2'!BE31-'Level 1'!BE31,\"*\")","v":0},{"$f":"IFERROR('Level 2'!BF31-'Level 1'!BF31,\"*\")","v":3.0000000000000027E-3},{"$f":"IFERROR('Level 2'!BG31-'Level 1'!BG31,\"*\")","v":3.0499999999999972E-3},{"$f":"IFERROR('Level 2'!BH31-'Level 1'!BH31,\"*\")","v":3.15E-3},{"$f":"IFERROR('Level 2'!BI31-'Level 1'!BI31,\"*\")","v":3.2000000000000084E-3},{"$f":"IFERROR('Level 2'!BJ31-'Level 1'!BJ31,\"*\")","v":3.2000000000000084E-3},{"$f":"IFERROR('Level 2'!BK31-'Level 1'!BK31,\"*\")","v":3.1999999999999945E-3},{"$f":"IFERROR('Level 2'!BL31-'Level 1'!BL31,\"*\")","v":"*"}]
[{"$f":"'Level 1'!A32","v":"Finland"},{"$f":"IFERROR('Level 2'!B32-'Level 1'!B32,\"*\")","v":7.5000000000000067E-3},{"$f":"IFERROR('Level 2'!C32-'Level 1'!C32,\"*\")","v":8.8499999999999968E-3},{"$f":"IFERROR('Level 2'!D32-'Level 1'!D32,\"*\")","v":8.8499999999999968E-3},{"$f":"IFERROR('Level 2'!E32-'Level 1'!E32,\"*\")","v":8.849999999999969E-3},{"$f":"IFERROR('Level 2'!F32-'Level 1'!F32,\"*\")","v":1.7000000000000015E-2},{"$f":"IFERROR('Level 2'!G32-'Level 1'!G32,\"*\")","v":1.7049999999999982E-2},{"$f":"IFERROR('Level 2'!H32-'Level 1'!H32,\"*\")","v":1.705000000000001E-2},{"$f":"IFERROR('Level 2'!I32-'Level 1'!I32,\"*\")","v":1.9050000000000011E-2},{"$f":"IFERROR('Level 2'!J32-'Level 1'!J32,\"*\")","v":2.2549999999999987E-2},{"$f":"IFERROR('Level 2'!K32-'Level 1'!K32,\"*\")","v":2.2499999999999992E-2},{"$f":"IFERROR('Level 2'!L32-'Level 1'!L32,\"*\")","v":"*"},null,{"$f":"'Level 1'!N32","v":"Finland"},{"$f":"IFERROR('Level 2'!O32-'Level 1'!O32,\"*\")","v":7.3999999999999899E-3},{"$f":"IFERROR('Level 2'!P32-'Level 1'!P32,\"*\")","v":8.8500000000000106E-3},{"$f":"IFERROR('Level 2'!Q32-'Level 1'!Q32,\"*\")","v":8.8000000000000023E-3},{"$f":"IFERROR('Level 2'!R32-'Level 1'!R32,\"*\")","v":8.8000000000000023E-3},{"$f":"IFERROR('Level 2'!S32-'Level 1'!S32,\"*\")","v":1.7000000000000015E-2},{"$f":"IFERROR('Level 2'!T32-'Level 1'!T32,\"*\")","v":1.6999999999999987E-2},{"$f":"IFERROR('Level 2'!U32-'Level 1'!U32,\"*\")","v":1.6999999999999987E-2},{"$f":"IFERROR('Level 2'!V32-'Level 1'!V32,\"*\")","v":1.9050000000000011E-2},{"$f":"IFERROR('Level 2'!W32-'Level 1'!W32,\"*\")","v":2.2550000000000014E-2},{"$f":"IFERROR('Level 2'!X32-'Level 1'!X32,\"*\")","v":2.2499999999999992E-2},{"$f":"IFERROR('Level 2'!Y32-'Level 1'!Y32,\"*\")","v":"*"},null,{"$f":"'Level 1'!AA32","v":"Finland"},{"$f":"IFERROR('Level 2'!AB32-'Level 1'!AB32,\"*\")","v":7.4000000000000038E-3},{"$f":"IFERROR('Level 2'!AC32-'Level 1'!AC32,\"*\")","v":8.8000000000000023E-3},{"$f":"IFERROR('Level 2'!AD32-'Level 1'!AD32,\"*\")","v":8.8000000000000023E-3},{"$f":"IFERROR('Level 2'!AE32-'Level 1'!AE32,\"*\")","v":8.8000000000000023E-3},{"$f":"IFERROR('Level 2'!AF32-'Level 1'!AF32,\"*\")","v":1.7100000000000004E-2},{"$f":"IFERROR('Level 2'!AG32-'Level 1'!AG32,\"*\")","v":1.705000000000001E-2},{"$f":"IFERROR('Level 2'!AH32-'Level 1'!AH32,\"*\")","v":1.7000000000000001E-2},{"$f":"IFERROR('Level 2'!AI32-'Level 1'!AI32,\"*\")","v":1.9049999999999997E-2},{"$f":"IFERROR('Level 2'!AJ32-'Level 1'!AJ32,\"*\")","v":2.2549999999999987E-2},{"$f":"IFERROR('Level 2'!AK32-'Level 1'!AK32,\"*\")","v":2.2500000000000006E-2},{"$f":"IFERROR('Level 2'!AL32-'Level 1'!AL32,\"*\")","v":"*"},null,{"$f":"'Level 1'!AN32","v":"Finland"},{"$f":"IFERROR('Level 2'!AO32-'Level 1'!AO32,\"*\")","v":7.4000000000000038E-3},{"$f":"IFERROR('Level 2'!AP32-'Level 1'!AP32,\"*\")","v":8.8000000000000023E-3},{"$f":"IFERROR('Level 2'!AQ32-'Level 1'!AQ32,\"*\")","v":8.8500000000000106E-3},{"$f":"IFERROR('Level 2'!AR32-'Level 1'!AR32,\"*\")","v":8.8499999999999968E-3},{"$f":"IFERROR('Level 2'!AS32-'Level 1'!AS32,\"*\")","v":1.7100000000000004E-2},{"$f":"IFERROR('Level 2'!AT32-'Level 1'!AT32,\"*\")","v":1.7049999999999996E-2},{"$f":"IFERROR('Level 2'!AU32-'Level 1'!AU32,\"*\")","v":1.6999999999999987E-2},{"$f":"IFERROR('Level 2'!AV32-'Level 1'!AV32,\"*\")","v":1.8999999999999989E-2},{"$f":"IFERROR('Level 2'!AW32-'Level 1'!AW32,\"*\")","v":2.2550000000000014E-2},{"$f":"IFERROR('Level 2'!AX32-'Level 1'!AX32,\"*\")","v":2.2499999999999992E-2},{"$f":"IFERROR('Level 2'!AY32-'Level 1'!AY32,\"*\")","v":"*"},null,{"$f":"'Level 1'!BA32","v":"Finland"},{"$f":"IFERROR('Level 2'!BB32-'Level 1'!BB32,\"*\")","v":7.4000000000000038E-3},{"$f":"IFERROR('Level 2'!BC32-'Level 1'!BC32,\"*\")","v":8.8000000000000023E-3},{"$f":"IFERROR('Level 2'!BD32-'Level 1'!BD32,\"*\")","v":8.8000000000000023E-3},{"$f":"IFERROR('Level 2'!BE32-'Level 1'!BE32,\"*\")","v":8.8000000000000023E-3},{"$f":"IFERROR('Level 2'!BF32-'Level 1'!BF32,\"*\")","v":1.7000000000000001E-2},{"$f":"IFERROR('Level 2'!BG32-'Level 1'!BG32,\"*\")","v":1.7000000000000001E-2},{"$f":"IFERROR('Level 2'!BH32-'Level 1'!BH32,\"*\")","v":1.7049999999999996E-2},{"$f":"IFERROR('Level 2'!BI32-'Level 1'!BI32,\"*\")","v":1.9000000000000003E-2},{"$f":"IFERROR('Level 2'!BJ32-'Level 1'!BJ32,\"*\")","v":2.2500000000000006E-2},{"$f":"IFERROR('Level 2'!BK32-'Level 1'!BK32,\"*\")","v":2.2600000000000009E-2},{"$f":"IFERROR('Level 2'!BL32-'Level 1'!BL32,\"*\")","v":"*"}]
[{"$f":"'Level 1'!A33","v":"Sweden"},{"$f":"IFERROR('Level 2'!B33-'Level 1'!B33,\"*\")","v":2.7749999999999997E-2},{"$f":"IFERROR('Level 2'!C33-'Level 1'!C33,\"*\")","v":2.6399999999999979E-2},{"$f":"IFERROR('Level 2'!D33-'Level 1'!D33,\"*\")","v":2.4999999999999994E-2},{"$f":"IFERROR('Level 2'!E33-'Level 1'!E33,\"*\")","v":2.8349999999999986E-2},{"$f":"IFERROR('Level 2'!F33-'Level 1'!F33,\"*\")","v":3.0000000000000027E-2},{"$f":"IFERROR('Level 2'!G33-'Level 1'!G33,\"*\")","v":3.1549999999999967E-2},{"$f":"IFERROR('Level 2'!H33-'Level 1'!H33,\"*\")","v":3.1900000000000039E-2},{"$f":"IFERROR('Level 2'!I33-'Level 1'!I33,\"*\")","v":3.0499999999999972E-2},{"$f":"IFERROR('Level 2'!J33-'Level 1'!J33,\"*\")","v":2.9749999999999999E-2},{"$f":"IFERROR('Level 2'!K33-'Level 1'!K33,\"*\")","v":2.9700000000000004E-2},{"$f":"IFERROR('Level 2'!L33-'Level 1'!L33,\"*\")","v":"*"},null,{"$f":"'Level 1'!N33","v":"Sweden"},{"$f":"IFERROR('Level 2'!O33-'Level 1'!O33,\"*\")","v":2.7650000000000008E-2},{"$f":"IFERROR('Level 2'!P33-'Level 1'!P33,\"*\")","v":2.6900000000000007E-2},{"$f":"IFERROR('Level 2'!Q33-'Level 1'!Q33,\"*\")","v":2.5400000000000006E-2},{"$f":"IFERROR('Level 2'!R33-'Level 1'!R33,\"*\")","v":2.7799999999999991E-2},{"$f":"IFERROR('Level 2'!S33-'Level 1'!S33,\"*\")","v":2.9899999999999982E-2},{"$f":"IFERROR('Level 2'!T33-'Level 1'!T33,\"*\")","v":3.1549999999999995E-2},{"$f":"IFERROR('Level 2'!U33-'Level 1'!U33,\"*\")","v":3.1900000000000012E-2},{"$f":"IFERROR('Level 2'!V33-'Level 1'!V33,\"*\")","v":3.0500000000000027E-2},{"$f":"IFERROR('Level 2'!W33-'Level 1'!W33,\"*\")","v":2.9700000000000004E-2},{"$f":"IFERROR('Level 2'!X33-'Level 1'!X33,\"*\")","v":2.9700000000000004E-2},{"$f":"IFERROR('Level 2'!Y33-'Level 1'!Y33,\"*\")","v":"*"},null,{"$f":"'Level 1'!AA33","v":"Sweden"},{"$f":"IFERROR('Level 2'!AB33-'Level 1'!AB33,\"*\")","v":2.7749999999999997E-2},{"$f":"IFERROR('Level 2'!AC33-'Level 1'!AC33,\"*\")","v":2.6850000000000013E-2},{"$f":"IFERROR('Level 2'!AD33-'Level 1'!AD33,\"*\")","v":2.545E-2},{"$f":"IFERROR('Level 2'!AE33-'Level 1'!AE33,\"*\")","v":2.7800000000000019E-2},{"$f":"IFERROR('Level 2'!AF33-'Level 1'!AF33,\"*\")","v":2.990000000000001E-2},{"$f":"IFERROR('Level 2'!AG33-'Level 1'!AG33,\"*\")","v":3.1499999999999972E-2},{"$f":"IFERROR('Level 2'!AH33-'Level 1'!AH33,\"*\")","v":3.1899999999999984E-2},{"$f":"IFERROR('Level 2'!AI33-'Level 1'!AI33,\"*\")","v":3.0449999999999977E-2},{"$f":"IFERROR('Level 2'!AJ33-'Level 1'!AJ33,\"*\")","v":2.9750000000000026E-2},{"$f":"IFERROR('Level 2'!AK33-'Level 1'!AK33,\"*\")","v":2.969999999999999E-2},{"$f":"IFERROR('Level 2'!AL33-'Level 1'!AL33,\"*\")","v":"*"},null,{"$f":"'Level 1'!AN33","v":"Sweden"},{"$f":"IFERROR('Level 2'!AO33-'Level 1'!AO33,\"*\")","v":2.7649999999999994E-2},{"$f":"IFERROR('Level 2'!AP33-'Level 1'!AP33,\"*\")","v":2.6450000000000001E-2},{"$f":"IFERROR('Level 2'!AQ33-'Level 1'!AQ33,\"*\")","v":2.495E-2},{"$f":"IFERROR('Level 2'!AR33-'Level 1'!AR33,\"*\")","v":2.8299999999999992E-2},{"$f":"IFERROR('Level 2'!AS33-'Level 1'!AS33,\"*\")","v":2.9850000000000002E-2},{"$f":"IFERROR('Level 2'!AT33-'Level 1'!AT33,\"*\")","v":3.1549999999999995E-2},{"$f":"IFERROR('Level 2'!AU33-'Level 1'!AU33,\"*\")","v":3.1899999999999984E-2},{"$f":"IFERROR('Level 2'!AV33-'Level 1'!AV33,\"*\")","v":3.0500000000000027E-2},{"$f":"IFERROR('Level 2'!AW33-'Level 1'!AW33,\"*\")","v":2.9749999999999999E-2},{"$f":"IFERROR('Level 2'!AX33-'Level 1'!AX33,\"*\")","v":2.9700000000000004E-2},{"$f":"IFERROR('Level 2'!AY33-'Level 1'!AY33,\"*\")","v":"*"},null,{"$f":"'Level 1'!BA33","v":"Sweden"},{"$f":"IFERROR('Level 2'!BB33-'Level 1'!BB33,\"*\")","v":2.7799999999999991E-2},{"$f":"IFERROR('Level 2'!BC33-'Level 1'!BC33,\"*\")","v":2.6899999999999993E-2},{"$f":"IFERROR('Level 2'!BD33-'Level 1'!BD33,\"*\")","v":2.495E-2},{"$f":"IFERROR('Level 2'!BE33-'Level 1'!BE33,\"*\")","v":2.7800000000000019E-2},{"$f":"IFERROR('Level 2'!BF33-'Level 1'!BF33,\"*\")","v":2.9350000000000001E-2},{"$f":"IFERROR('Level 2'!BG33-'Level 1'!BG33,\"*\")","v":3.1550000000000009E-2},{"$f":"IFERROR('Level 2'!BH33-'Level 1'!BH33,\"*\")","v":3.1899999999999998E-2},{"$f":"IFERROR('Level 2'!BI33-'Level 1'!BI33,\"*\")","v":3.0499999999999999E-2},{"$f":"IFERROR('Level 2'!BJ33-'Level 1'!BJ33,\"*\")","v":2.9700000000000004E-2},{"$f":"IFERROR('Level 2'!BK33-'Level 1'!BK33,\"*\")","v":2.969999999999999E-2},{"$f":"IFERROR('Level 2'!BL33-'Level 1'!BL33,\"*\")","v":"*"}]
[{"$f":"'Level 1'!A34","v":"United Kingdom"},{"$f":"IFERROR('Level 2'!B34-'Level 1'!B34,\"*\")","v":0},{"$f":"IFERROR('Level 2'!C34-'Level 1'!C34,\"*\")","v":0},{"$f":"IFERROR('Level 2'!D34-'Level 1'!D34,\"*\")","v":0},{"$f":"IFERROR('Level 2'!E34-'Level 1'!E34,\"*\")","v":0},{"$f":"IFERROR('Level 2'!F34-'Level 1'!F34,\"*\")","v":0},{"$f":"IFERROR('Level 2'!G34-'Level 1'!G34,\"*\")","v":0},{"$f":"IFERROR('Level 2'!H34-'Level 1'!H34,\"*\")","v":0},{"$f":"IFERROR('Level 2'!I34-'Level 1'!I34,\"*\")","v":0},{"$f":"IFERROR('Level 2'!J34-'Level 1'!J34,\"*\")","v":0},{"$f":"IFERROR('Level 2'!K34-'Level 1'!K34,\"*\")","v":0},{"$f":"IFERROR('Level 2'!L34-'Level 1'!L34,\"*\")","v":"*"},null,{"$f":"'Level 1'!N34","v":"United Kingdom"},{"$f":"IFERROR('Level 2'!O34-'Level 1'!O34,\"*\")","v":0},{"$f":"IFERROR('Level 2'!P34-'Level 1'!P34,\"*\")","v":0},{"$f":"IFERROR('Level 2'!Q34-'Level 1'!Q34,\"*\")","v":0},{"$f":"IFERROR('Level 2'!R34-'Level 1'!R34,\"*\")","v":0},{"$f":"IFERROR('Level 2'!S34-'Level 1'!S34,\"*\")","v":0},{"$f":"IFERROR('Level 2'!T34-'Level 1'!T34,\"*\")","v":0},{"$f":"IFERROR('Level 2'!U34-'Level 1'!U34,\"*\")","v":0},{"$f":"IFERROR('Level 2'!V34-'Level 1'!V34,\"*\")","v":0},{"$f":"IFERROR('Level 2'!W34-'Level 1'!W34,\"*\")","v":0},{"$f":"IFERROR('Level 2'!X34-'Level 1'!X34,\"*\")","v":0},{"$f":"IFERROR('Level 2'!Y34-'Level 1'!Y34,\"*\")","v":"*"},null,{"$f":"'Level 1'!AA34","v":"United Kingdom"},{"$f":"IFERROR('Level 2'!AB34-'Level 1'!AB34,\"*\")","v":0},{"$f":"IFERROR('Level 2'!AC34-'Level 1'!AC34,\"*\")","v":0},{"$f":"IFERROR('Level 2'!AD34-'Level 1'!AD34,\"*\")","v":0},{"$f":"IFERROR('Level 2'!AE34-'Level 1'!AE34,\"*\")","v":0},{"$f":"IFERROR('Level 2'!AF34-'Level 1'!AF34,\"*\")","v":0},{"$f":"IFERROR('Level 2'!AG34-'Level 1'!AG34,\"*\")","v":0},{"$f":"IFERROR('Level 2'!AH34-'Level 1'!AH34,\"*\")","v":0},{"$f":"IFERROR('Level 2'!AI34-'Level 1'!AI34,\"*\")","v":0},{"$f":"IFERROR('Level 2'!AJ34-'Level 1'!AJ34,\"*\")","v":0},{"$f":"IFERROR('Level 2'!AK34-'Level 1'!AK34,\"*\")","v":0},{"$f":"IFERROR('Level 2'!AL34-'Level 1'!AL34,\"*\")","v":"*"},null,{"$f":"'Level 1'!AN34","v":"United Kingdom"},{"$f":"IFERROR('Level 2'!AO34-'Level 1'!AO34,\"*\")","v":0},{"$f":"IFERROR('Level 2'!AP34-'Level 1'!AP34,\"*\")","v":0},{"$f":"IFERROR('Level 2'!AQ34-'Level 1'!AQ34,\"*\")","v":0},{"$f":"IFERROR('Level 2'!AR34-'Level 1'!AR34,\"*\")","v":0},{"$f":"IFERROR('Level 2'!AS34-'Level 1'!AS34,\"*\")","v":0},{"$f":"IFERROR('Level 2'!AT34-'Level 1'!AT34,\"*\")","v":0},{"$f":"IFERROR('Level 2'!AU34-'Level 1'!AU34,\"*\")","v":0},{"$f":"IFERROR('Level 2'!AV34-'Level 1'!AV34,\"*\")","v":0},{"$f":"IFERROR('Level 2'!AW34-'Level 1'!AW34,\"*\")","v":0},{"$f":"IFERROR('Level 2'!AX34-'Level 1'!AX34,\"*\")","v":0},{"$f":"IFERROR('Level 2'!AY34-'Level 1'!AY34,\"*\")","v":"*"},null,{"$f":"'Level 1'!BA34","v":"United Kingdom"},{"$f":"IFERROR('Level 2'!BB34-'Level 1'!BB34,\"*\")","v":0},{"$f":"IFERROR('Level 2'!BC34-'Level 1'!BC34,\"*\")","v":0},{"$f":"IFERROR('Level 2'!BD34-'Level 1'!BD34,\"*\")","v":0},{"$f":"IFERROR('Level 2'!BE34-'Level 1'!BE34,\"*\")","v":0},{"$f":"IFERROR('Level 2'!BF34-'Level 1'!BF34,\"*\")","v":0},{"$f":"IFERROR('Level 2'!BG34-'Level 1'!BG34,\"*\")","v":0},{"$f":"IFERROR('Level 2'!BH34-'Level 1'!BH34,\"*\")","v":0},{"$f":"IFERROR('Level 2'!BI34-'Level 1'!BI34,\"*\")","v":0},{"$f":"IFERROR('Level 2'!BJ34-'Level 1'!BJ34,\"*\")","v":0},{"$f":"IFERROR('Level 2'!BK34-'Level 1'!BK34,\"*\")","v":0},{"$f":"IFERROR('Level 2'!BL34-'Level 1'!BL34,\"*\")","v":"*"}]
[]
[]
["Moms og refunderbare afgifter i de enkelte lande"]
[]
[{"$f":"'Level 1'!A3:H3","v":"Forbrugsinterval < 1000 kWh"},null,null,null,null,null,null,null,null,null,null,null,null,{"$f":"'Level 1'!N3:U3","v":"Forbrugsinterval 1000 kWh < 2500 kWh"},null,null,null,null,null,null,null,null,null,null,null,null,{"$f":"'Level 1'!AA3:AH3","v":"Forbrugsinterval 2500 kWh <  5000 kWh"},null,null,null,null,null,null,null,null,null,null,null,null,{"$f":"'Level 1'!AN3:AU3","v":"Forbrugsinterval 5000 kWh < 15 000 kWh"},null,null,null,null,null,null,null,null,null,null,null,null,{"$f":"'Level 1'!BA3:BH3","v":"Forbrugsinterval > 15 000 kWh"}]
[]
[{"$f":"'Level 1'!A5","v":"Euro/kWh"},{"$f":"'Level 1'!B5","v":2007},{"$f":"'Level 1'!C5","v":2008},{"$f":"'Level 1'!D5","v":2009},{"$f":"'Level 1'!E5","v":2010},{"$f":"'Level 1'!F5","v":2011},{"$f":"'Level 1'!G5","v":2012},{"$f":"'Level 1'!H5","v":2013},{"$f":"'Level 1'!I5","v":2014},{"$f":"'Level 1'!J5","v":2015},{"$f":"'Level 1'!K5","v":2016},{"$f":"'Level 1'!L5","v":2017},null,{"$f":"'Level 1'!N5","v":"Euro/kWh"},{"$f":"'Level 1'!O5","v":2007},{"$f":"'Level 1'!P5","v":2008},{"$f":"'Level 1'!Q5","v":2009},{"$f":"'Level 1'!R5","v":2010},{"$f":"'Level 1'!S5","v":2011},{"$f":"'Level 1'!T5","v":2012},{"$f":"'Level 1'!U5","v":2013},{"$f":"'Level 1'!V5","v":2014},{"$f":"'Level 1'!W5","v":2015},{"$f":"'Level 1'!X5","v":2016},{"$f":"'Level 1'!Y5","v":2017},null,{"$f":"'Level 1'!AA5","v":"Euro/kWh"},{"$f":"'Level 1'!AB5","v":2007},{"$f":"'Level 1'!AC5","v":2008},{"$f":"'Level 1'!AD5","v":2009},{"$f":"'Level 1'!AE5","v":2010},{"$f":"'Level 1'!AF5","v":2011},{"$f":"'Level 1'!AG5","v":2012},{"$f":"'Level 1'!AH5","v":2013},{"$f":"'Level 1'!AI5","v":2014},{"$f":"'Level 1'!AJ5","v":2015},{"$f":"'Level 1'!AK5","v":2016},{"$f":"'Level 1'!AL5","v":2017},null,{"$f":"'Level 1'!AN5","v":"Euro/kWh"},{"$f":"'Level 1'!AO5","v":2007},{"$f":"'Level 1'!AP5","v":2008},{"$f":"'Level 1'!AQ5","v":2009},{"$f":"'Level 1'!AR5","v":2010},{"$f":"'Level 1'!AS5","v":2011},{"$f":"'Level 1'!AT5","v":2012},{"$f":"'Level 1'!AU5","v":2013},{"$f":"'Level 1'!AV5","v":2014},{"$f":"'Level 1'!AW5","v":2015},{"$f":"'Level 1'!AX5","v":2016},{"$f":"'Level 1'!AY5","v":2017},null,{"$f":"'Level 1'!BA5","v":"Euro/kWh"},{"$f":"'Level 1'!BB5","v":2007},{"$f":"'Level 1'!BC5","v":2008},{"$f":"'Level 1'!BD5","v":2009},{"$f":"'Level 1'!BE5","v":2010},{"$f":"'Level 1'!BF5","v":2011},{"$f":"'Level 1'!BG5","v":2012},{"$f":"'Level 1'!BH5","v":2013},{"$f":"'Level 1'!BI5","v":2014},{"$f":"'Level 1'!BJ5","v":2015},{"$f":"'Level 1'!BK5","v":2016},{"$f":"'Level 1'!BL5","v":2017}]
[{"$f":"'Level 1'!A6","v":"European Union (28 countries)"},{"$f":"IFERROR('Level 3'!B6-'Level 2'!B6,\"*\")","v":3.1799999999999995E-2},{"$f":"IFERROR('Level 3'!C6-'Level 2'!C6,\"*\")","v":3.3100000000000018E-2},{"$f":"IFERROR('Level 3'!D6-'Level 2'!D6,\"*\")","v":3.3399999999999985E-2},{"$f":"IFERROR('Level 3'!E6-'Level 2'!E6,\"*\")","v":3.6099999999999965E-2},{"$f":"IFERROR('Level 3'!F6-'Level 2'!F6,\"*\")","v":3.7999999999999978E-2},{"$f":"IFERROR('Level 3'!G6-'Level 2'!G6,\"*\")","v":3.9649999999999991E-2},{"$f":"IFERROR('Level 3'!H6-'Level 2'!H6,\"*\")","v":4.2200000000000015E-2},{"$f":"IFERROR('Level 3'!I6-'Level 2'!I6,\"*\")","v":4.3100000000000027E-2},{"$f":"IFERROR('Level 3'!J6-'Level 2'!J6,\"*\")","v":4.4649999999999967E-2},{"$f":"IFERROR('Level 3'!K6-'Level 2'!K6,\"*\")","v":4.610000000000003E-2},{"$f":"IFERROR('Level 3'!L6-'Level 2'!L6,\"*\")","v":"*"},null,{"$f":"'Level 1'!N6","v":"European Union (28 countries)"},{"$f":"IFERROR('Level 3'!O6-'Level 2'!O6,\"*\")","v":2.2099999999999981E-2},{"$f":"IFERROR('Level 3'!P6-'Level 2'!P6,\"*\")","v":2.3449999999999999E-2},{"$f":"IFERROR('Level 3'!Q6-'Level 2'!Q6,\"*\")","v":2.3650000000000004E-2},{"$f":"IFERROR('Level 3'!R6-'Level 2'!R6,\"*\")","v":2.5300000000000017E-2},{"$f":"IFERROR('Level 3'!S6-'Level 2'!S6,\"*\")","v":2.745000000000003E-2},{"$f":"IFERROR('Level 3'!T6-'Level 2'!T6,\"*\")","v":2.9249999999999998E-2},{"$f":"IFERROR('Level 3'!U6-'Level 2'!U6,\"*\")","v":3.0999999999999972E-2},{"$f":"IFERROR('Level 3'!V6-'Level 2'!V6,\"*\")","v":3.0849999999999989E-2},{"$f":"IFERROR('Level 3'!W6-'Level 2'!W6,\"*\")","v":3.15E-2},{"$f":"IFERROR('Level 3'!X6-'Level 2'!X6,\"*\")","v":3.1900000000000012E-2},{"$f":"IFERROR('Level 3'!Y6-'Level 2'!Y6,\"*\")","v":"*"},null,{"$f":"'Level 1'!AA6","v":"European Union (28 countries)"},{"$f":"IFERROR('Level 3'!AB6-'Level 2'!AB6,\"*\")","v":2.0699999999999996E-2},{"$f":"IFERROR('Level 3'!AC6-'Level 2'!AC6,\"*\")","v":2.1600000000000008E-2},{"$f":"IFERROR('Level 3'!AD6-'Level 2'!AD6,\"*\")","v":2.200000000000002E-2},{"$f":"IFERROR('Level 3'!AE6-'Level 2'!AE6,\"*\")","v":2.3649999999999977E-2},{"$f":"IFERROR('Level 3'!AF6-'Level 2'!AF6,\"*\")","v":2.5699999999999973E-2},{"$f":"IFERROR('Level 3'!AG6-'Level 2'!AG6,\"*\")","v":2.7450000000000002E-2},{"$f":"IFERROR('Level 3'!AH6-'Level 2'!AH6,\"*\")","v":2.9100000000000015E-2},{"$f":"IFERROR('Level 3'!AI6-'Level 2'!AI6,\"*\")","v":2.8849999999999987E-2},{"$f":"IFERROR('Level 3'!AJ6-'Level 2'!AJ6,\"*\")","v":2.9200000000000004E-2},{"$f":"IFERROR('Level 3'!AK6-'Level 2'!AK6,\"*\")","v":2.930000000000002E-2},{"$f":"IFERROR('Level 3'!AL6-'Level 2'!AL6,\"*\")","v":"*"},null,{"$f":"'Level 1'!AN6","v":"European Union (28 countries)"},{"$f":"IFERROR('Level 3'!AO6-'Level 2'!AO6,\"*\")","v":1.9600000000000006E-2},{"$f":"IFERROR('Level 3'!AP6-'Level 2'!AP6,\"*\")","v":2.0199999999999996E-2},{"$f":"IFERROR('Level 3'!AQ6-'Level 2'!AQ6,\"*\")","v":2.1100000000000008E-2},{"$f":"IFERROR('Level 3'!AR6-'Level 2'!AR6,\"*\")","v":2.2449999999999998E-2},{"$f":"IFERROR('Level 3'!AS6-'Level 2'!AS6,\"*\")","v":2.4600000000000011E-2},{"$f":"IFERROR('Level 3'!AT6-'Level 2'!AT6,\"*\")","v":2.6200000000000001E-2},{"$f":"IFERROR('Level 3'!AU6-'Level 2'!AU6,\"*\")","v":2.7749999999999997E-2},{"$f":"IFERROR('Level 3'!AV6-'Level 2'!AV6,\"*\")","v":2.7449999999999974E-2},{"$f":"IFERROR('Level 3'!AW6-'Level 2'!AW6,\"*\")","v":2.7849999999999986E-2},{"$f":"IFERROR('Level 3'!AX6-'Level 2'!AX6,\"*\")","v":2.7600000000000013E-2},{"$f":"IFERROR('Level 3'!AY6-'Level 2'!AY6,\"*\")","v":"*"},null,{"$f":"'Level 1'!BA6","v":"European Union (28 countries)"},{"$f":"IFERROR('Level 3'!BB6-'Level 2'!BB6,\"*\")","v":1.8699999999999994E-2},{"$f":"IFERROR('Level 3'!BC6-'Level 2'!BC6,\"*\")","v":1.9199999999999995E-2},{"$f":"IFERROR('Level 3'!BD6-'Level 2'!BD6,\"*\")","v":2.0150000000000001E-2},{"$f":"IFERROR('Level 3'!BE6-'Level 2'!BE6,\"*\")","v":2.1200000000000024E-2},{"$f":"IFERROR('Level 3'!BF6-'Level 2'!BF6,\"*\")","v":2.4199999999999999E-2},{"$f":"IFERROR('Level 3'!BG6-'Level 2'!BG6,\"*\")","v":2.5049999999999989E-2},{"$f":"IFERROR('Level 3'!BH6-'Level 2'!BH6,\"*\")","v":2.6199999999999973E-2},{"$f":"IFERROR('Level 3'!BI6-'Level 2'!BI6,\"*\")","v":2.6099999999999984E-2},{"$f":"IFERROR('Level 3'!BJ6-'Level 2'!BJ6,\"*\")","v":2.6749999999999996E-2},{"$f":"IFERROR('Level 3'!BK6-'Level 2'!BK6,\"*\")","v":2.6499999999999996E-2},{"$f":"IFERROR('Level 3'!BL6-'Level 2'!BL6,\"*\")","v":"*"}]
[{"$f":"'Level 1'!A7","v":"Belgium"},{"$f":"IFERROR('Level 3'!B7-'Level 2'!B7,\"*\")","v":4.2299999999999977E-2},{"$f":"IFERROR('Level 3'!C7-'Level 2'!C7,\"*\")","v":5.5300000000000016E-2},{"$f":"IFERROR('Level 3'!D7-'Level 2'!D7,\"*\")","v":4.6949999999999992E-2},{"$f":"IFERROR('Level 3'!E7-'Level 2'!E7,\"*\")","v":5.0250000000000017E-2},{"$f":"IFERROR('Level 3'!F7-'Level 2'!F7,\"*\")","v":5.1750000000000018E-2},{"$f":"IFERROR('Level 3'!G7-'Level 2'!G7,\"*\")","v":5.2300000000000013E-2},{"$f":"IFERROR('Level 3'!H7-'Level 2'!H7,\"*\")","v":5.1850000000000007E-2},{"$f":"IFERROR('Level 3'!I7-'Level 2'!I7,\"*\")","v":2.2750000000000048E-2},{"$f":"IFERROR('Level 3'!J7-'Level 2'!J7,\"*\")","v":2.8600000000000014E-2},{"$f":"IFERROR('Level 3'!K7-'Level 2'!K7,\"*\")","v":6.9000000000000006E-2},{"$f":"IFERROR('Level 3'!L7-'Level 2'!L7,\"*\")","v":"*"},null,{"$f":"'Level 1'!N7","v":"Belgium"},{"$f":"IFERROR('Level 3'!O7-'Level 2'!O7,\"*\")","v":2.0300000000000012E-2},{"$f":"IFERROR('Level 3'!P7-'Level 2'!P7,\"*\")","v":4.0250000000000008E-2},{"$f":"IFERROR('Level 3'!Q7-'Level 2'!Q7,\"*\")","v":3.6799999999999999E-2},{"$f":"IFERROR('Level 3'!R7-'Level 2'!R7,\"*\")","v":3.8250000000000034E-2},{"$f":"IFERROR('Level 3'!S7-'Level 2'!S7,\"*\")","v":4.0600000000000025E-2},{"$f":"IFERROR('Level 3'!T7-'Level 2'!T7,\"*\")","v":4.1300000000000003E-2},{"$f":"IFERROR('Level 3'!U7-'Level 2'!U7,\"*\")","v":4.225000000000001E-2},{"$f":"IFERROR('Level 3'!V7-'Level 2'!V7,\"*\")","v":2.0600000000000007E-2},{"$f":"IFERROR('Level 3'!W7-'Level 2'!W7,\"*\")","v":2.2900000000000004E-2},{"$f":"IFERROR('Level 3'!X7-'Level 2'!X7,\"*\")","v":4.8100000000000004E-2},{"$f":"IFERROR('Level 3'!Y7-'Level 2'!Y7,\"*\")","v":"*"},null,{"$f":"'Level 1'!AA7","v":"Belgium"},{"$f":"IFERROR('Level 3'!AB7-'Level 2'!AB7,\"*\")","v":2.5999999999999995E-2},{"$f":"IFERROR('Level 3'!AC7-'Level 2'!AC7,\"*\")","v":3.5750000000000004E-2},{"$f":"IFERROR('Level 3'!AD7-'Level 2'!AD7,\"*\")","v":3.2799999999999996E-2},{"$f":"IFERROR('Level 3'!AE7-'Level 2'!AE7,\"*\")","v":3.4150000000000014E-2},{"$f":"IFERROR('Level 3'!AF7-'Level 2'!AF7,\"*\")","v":3.6500000000000005E-2},{"$f":"IFERROR('Level 3'!AG7-'Level 2'!AG7,\"*\")","v":3.9399999999999991E-2},{"$f":"IFERROR('Level 3'!AH7-'Level 2'!AH7,\"*\")","v":3.8949999999999985E-2},{"$f":"IFERROR('Level 3'!AI7-'Level 2'!AI7,\"*\")","v":1.9850000000000034E-2},{"$f":"IFERROR('Level 3'!AJ7-'Level 2'!AJ7,\"*\")","v":2.0600000000000007E-2},{"$f":"IFERROR('Level 3'!AK7-'Level 2'!AK7,\"*\")","v":4.3600000000000028E-2},{"$f":"IFERROR('Level 3'!AL7-'Level 2'!AL7,\"*\")","v":"*"},null,{"$f":"'Level 1'!AN7","v":"Belgium"},{"$f":"IFERROR('Level 3'!AO7-'Level 2'!AO7,\"*\")","v":3.1299999999999994E-2},{"$f":"IFERROR('Level 3'!AP7-'Level 2'!AP7,\"*\")","v":3.2200000000000006E-2},{"$f":"IFERROR('Level 3'!AQ7-'Level 2'!AQ7,\"*\")","v":2.905000000000002E-2},{"$f":"IFERROR('Level 3'!AR7-'Level 2'!AR7,\"*\")","v":3.0349999999999988E-2},{"$f":"IFERROR('Level 3'!AS7-'Level 2'!AS7,\"*\")","v":3.2700000000000007E-2},{"$f":"IFERROR('Level 3'!AT7-'Level 2'!AT7,\"*\")","v":3.3750000000000002E-2},{"$f":"IFERROR('Level 3'!AU7-'Level 2'!AU7,\"*\")","v":3.5149999999999987E-2},{"$f":"IFERROR('Level 3'!AV7-'Level 2'!AV7,\"*\")","v":1.5750000000000014E-2},{"$f":"IFERROR('Level 3'!AW7-'Level 2'!AW7,\"*\")","v":1.8550000000000011E-2},{"$f":"IFERROR('Level 3'!AX7-'Level 2'!AX7,\"*\")","v":4.0000000000000008E-2},{"$f":"IFERROR('Level 3'!AY7-'Level 2'!AY7,\"*\")","v":"*"},null,{"$f":"'Level 1'!BA7","v":"Belgium"},{"$f":"IFERROR('Level 3'!BB7-'Level 2'!BB7,\"*\")","v":4.0800000000000003E-2},{"$f":"IFERROR('Level 3'!BC7-'Level 2'!BC7,\"*\")","v":2.8849999999999987E-2},{"$f":"IFERROR('Level 3'!BD7-'Level 2'!BD7,\"*\")","v":2.4549999999999988E-2},{"$f":"IFERROR('Level 3'!BE7-'Level 2'!BE7,\"*\")","v":2.5649999999999978E-2},{"$f":"IFERROR('Level 3'!BF7-'Level 2'!BF7,\"*\")","v":2.8049999999999992E-2},{"$f":"IFERROR('Level 3'!BG7-'Level 2'!BG7,\"*\")","v":0.03},{"$f":"IFERROR('Level 3'!BH7-'Level 2'!BH7,\"*\")","v":3.0499999999999999E-2},{"$f":"IFERROR('Level 3'!BI7-'Level 2'!BI7,\"*\")","v":1.5149999999999997E-2},{"$f":"IFERROR('Level 3'!BJ7-'Level 2'!BJ7,\"*\")","v":1.7999999999999988E-2},{"$f":"IFERROR('Level 3'!BK7-'Level 2'!BK7,\"*\")","v":3.1E-2},{"$f":"IFERROR('Level 3'!BL7-'Level 2'!BL7,\"*\")","v":"*"}]
[{"$f":"'Level 1'!A8","v":"Bulgaria"},{"$f":"IFERROR('Level 3'!B8-'Level 2'!B8,\"*\")","v":1.2200000000000003E-2},{"$f":"IFERROR('Level 3'!C8-'Level 2'!C8,\"*\")","v":1.2999999999999984E-2},{"$f":"IFERROR('Level 3'!D8-'Level 2'!D8,\"*\")","v":1.3800000000000007E-2},{"$f":"IFERROR('Level 3'!E8-'Level 2'!E8,\"*\")","v":1.394999999999999E-2},{"$f":"IFERROR('Level 3'!F8-'Level 2'!F8,\"*\")","v":1.415000000000001E-2},{"$f":"IFERROR('Level 3'!G8-'Level 2'!G8,\"*\")","v":1.5100000000000002E-2},{"$f":"IFERROR('Level 3'!H8-'Level 2'!H8,\"*\")","v":1.5349999999999975E-2},{"$f":"IFERROR('Level 3'!I8-'Level 2'!I8,\"*\")","v":1.4699999999999991E-2},{"$f":"IFERROR('Level 3'!J8-'Level 2'!J8,\"*\")","v":1.6250000000000014E-2},{"$f":"IFERROR('Level 3'!K8-'Level 2'!K8,\"*\")","v":1.6299999999999995E-2},{"$f":"IFERROR('Level 3'!L8-'Level 2'!L8,\"*\")","v":"*"},null,{"$f":"'Level 1'!N8","v":"Bulgaria"},{"$f":"IFERROR('Level 3'!O8-'Level 2'!O8,\"*\")","v":1.1799999999999998E-2},{"$f":"IFERROR('Level 3'!P8-'Level 2'!P8,\"*\")","v":1.2799999999999992E-2},{"$f":"IFERROR('Level 3'!Q8-'Level 2'!Q8,\"*\")","v":1.3799999999999993E-2},{"$f":"IFERROR('Level 3'!R8-'Level 2'!R8,\"*\")","v":1.3649999999999995E-2},{"$f":"IFERROR('Level 3'!S8-'Level 2'!S8,\"*\")","v":1.4050000000000007E-2},{"$f":"IFERROR('Level 3'!T8-'Level 2'!T8,\"*\")","v":1.5050000000000008E-2},{"$f":"IFERROR('Level 3'!U8-'Level 2'!U8,\"*\")","v":1.5049999999999994E-2},{"$f":"IFERROR('Level 3'!V8-'Level 2'!V8,\"*\")","v":1.4499999999999999E-2},{"$f":"IFERROR('Level 3'!W8-'Level 2'!W8,\"*\")","v":1.5949999999999992E-2},{"$f":"IFERROR('Level 3'!X8-'Level 2'!X8,\"*\")","v":1.6100000000000003E-2},{"$f":"IFERROR('Level 3'!Y8-'Level 2'!Y8,\"*\")","v":"*"},null,{"$f":"'Level 1'!AA8","v":"Bulgaria"},{"$f":"IFERROR('Level 3'!AB8-'Level 2'!AB8,\"*\")","v":1.1799999999999998E-2},{"$f":"IFERROR('Level 3'!AC8-'Level 2'!AC8,\"*\")","v":1.2799999999999992E-2},{"$f":"IFERROR('Level 3'!AD8-'Level 2'!AD8,\"*\")","v":1.3549999999999993E-2},{"$f":"IFERROR('Level 3'!AE8-'Level 2'!AE8,\"*\")","v":1.3800000000000007E-2},{"$f":"IFERROR('Level 3'!AF8-'Level 2'!AF8,\"*\")","v":1.4249999999999999E-2},{"$f":"IFERROR('Level 3'!AG8-'Level 2'!AG8,\"*\")","v":1.4949999999999991E-2},{"$f":"IFERROR('Level 3'!AH8-'Level 2'!AH8,\"*\")","v":1.4999999999999986E-2},{"$f":"IFERROR('Level 3'!AI8-'Level 2'!AI8,\"*\")","v":1.4599999999999988E-2},{"$f":"IFERROR('Level 3'!AJ8-'Level 2'!AJ8,\"*\")","v":1.5800000000000008E-2},{"$f":"IFERROR('Level 3'!AK8-'Level 2'!AK8,\"*\")","v":1.5900000000000011E-2},{"$f":"IFERROR('Level 3'!AL8-'Level 2'!AL8,\"*\")","v":"*"},null,{"$f":"'Level 1'!AN8","v":"Bulgaria"},{"$f":"IFERROR('Level 3'!AO8-'Level 2'!AO8,\"*\")","v":1.1799999999999998E-2},{"$f":"IFERROR('Level 3'!AP8-'Level 2'!AP8,\"*\")","v":1.2799999999999992E-2},{"$f":"IFERROR('Level 3'!AQ8-'Level 2'!AQ8,\"*\")","v":1.3549999999999993E-2},{"$f":"IFERROR('Level 3'!AR8-'Level 2'!AR8,\"*\")","v":1.3799999999999979E-2},{"$f":"IFERROR('Level 3'!AS8-'Level 2'!AS8,\"*\")","v":1.4100000000000001E-2},{"$f":"IFERROR('Level 3'!AT8-'Level 2'!AT8,\"*\")","v":1.490000000000001E-2},{"$f":"IFERROR('Level 3'!AU8-'Level 2'!AU8,\"*\")","v":1.5100000000000002E-2},{"$f":"IFERROR('Level 3'!AV8-'Level 2'!AV8,\"*\")","v":1.4249999999999999E-2},{"$f":"IFERROR('Level 3'!AW8-'Level 2'!AW8,\"*\")","v":1.5799999999999995E-2},{"$f":"IFERROR('Level 3'!AX8-'Level 2'!AX8,\"*\")","v":1.5800000000000008E-2},{"$f":"IFERROR('Level 3'!AY8-'Level 2'!AY8,\"*\")","v":"*"},null,{"$f":"'Level 1'!BA8","v":"Bulgaria"},{"$f":"IFERROR('Level 3'!BB8-'Level 2'!BB8,\"*\")","v":1.2299999999999998E-2},{"$f":"IFERROR('Level 3'!BC8-'Level 2'!BC8,\"*\")","v":1.3299999999999992E-2},{"$f":"IFERROR('Level 3'!BD8-'Level 2'!BD8,\"*\")","v":1.3549999999999993E-2},{"$f":"IFERROR('Level 3'!BE8-'Level 2'!BE8,\"*\")","v":1.3550000000000006E-2},{"$f":"IFERROR('Level 3'!BF8-'Level 2'!BF8,\"*\")","v":1.4100000000000001E-2},{"$f":"IFERROR('Level 3'!BG8-'Level 2'!BG8,\"*\")","v":1.490000000000001E-2},{"$f":"IFERROR('Level 3'!BH8-'Level 2'!BH8,\"*\")","v":1.5149999999999997E-2},{"$f":"IFERROR('Level 3'!BI8-'Level 2'!BI8,\"*\")","v":1.3950000000000004E-2},{"$f":"IFERROR('Level 3'!BJ8-'Level 2'!BJ8,\"*\")","v":1.5749999999999986E-2},{"$f":"IFERROR('Level 3'!BK8-'Level 2'!BK8,\"*\")","v":1.5800000000000008E-2},{"$f":"IFERROR('Level 3'!BL8-'Level 2'!BL8,\"*\")","v":"*"}]
[{"$f":"'Level 1'!A9","v":"Czech Republic"},{"$f":"IFERROR('Level 3'!B9-'Level 2'!B9,\"*\")","v":3.4200000000000008E-2},{"$f":"IFERROR('Level 3'!C9-'Level 2'!C9,\"*\")","v":4.0099999999999969E-2},{"$f":"IFERROR('Level 3'!D9-'Level 2'!D9,\"*\")","v":4.1249999999999953E-2},{"$f":"IFERROR('Level 3'!E9-'Level 2'!E9,\"*\")","v":4.4300000000000006E-2},{"$f":"IFERROR('Level 3'!F9-'Level 2'!F9,\"*\")","v":4.7549999999999981E-2},{"$f":"IFERROR('Level 3'!G9-'Level 2'!G9,\"*\")","v":4.8449999999999993E-2},{"$f":"IFERROR('Level 3'!H9-'Level 2'!H9,\"*\")","v":5.0000000000000044E-2},{"$f":"IFERROR('Level 3'!I9-'Level 2'!I9,\"*\")","v":4.4650000000000023E-2},{"$f":"IFERROR('Level 3'!J9-'Level 2'!J9,\"*\")","v":4.5100000000000029E-2},{"$f":"IFERROR('Level 3'!K9-'Level 2'!K9,\"*\")","v":4.6200000000000019E-2},{"$f":"IFERROR('Level 3'!L9-'Level 2'!L9,\"*\")","v":"*"},null,{"$f":"'Level 1'!N9","v":"Czech Republic"},{"$f":"IFERROR('Level 3'!O9-'Level 2'!O9,\"*\")","v":2.5599999999999984E-2},{"$f":"IFERROR('Level 3'!P9-'Level 2'!P9,\"*\")","v":3.0499999999999999E-2},{"$f":"IFERROR('Level 3'!Q9-'Level 2'!Q9,\"*\")","v":3.175E-2},{"$f":"IFERROR('Level 3'!R9-'Level 2'!R9,\"*\")","v":3.4049999999999997E-2},{"$f":"IFERROR('Level 3'!S9-'Level 2'!S9,\"*\")","v":3.6199999999999982E-2},{"$f":"IFERROR('Level 3'!T9-'Level 2'!T9,\"*\")","v":3.620000000000001E-2},{"$f":"IFERROR('Level 3'!U9-'Level 2'!U9,\"*\")","v":3.7349999999999994E-2},{"$f":"IFERROR('Level 3'!V9-'Level 2'!V9,\"*\")","v":3.2000000000000028E-2},{"$f":"IFERROR('Level 3'!W9-'Level 2'!W9,\"*\")","v":3.1850000000000017E-2},{"$f":"IFERROR('Level 3'!X9-'Level 2'!X9,\"*\")","v":3.2500000000000001E-2},{"$f":"IFERROR('Level 3'!Y9-'Level 2'!Y9,\"*\")","v":"*"},null,{"$f":"'Level 1'!AA9","v":"Czech Republic"},{"$f":"IFERROR('Level 3'!AB9-'Level 2'!AB9,\"*\")","v":1.8349999999999991E-2},{"$f":"IFERROR('Level 3'!AC9-'Level 2'!AC9,\"*\")","v":2.2400000000000017E-2},{"$f":"IFERROR('Level 3'!AD9-'Level 2'!AD9,\"*\")","v":2.3799999999999988E-2},{"$f":"IFERROR('Level 3'!AE9-'Level 2'!AE9,\"*\")","v":2.5299999999999989E-2},{"$f":"IFERROR('Level 3'!AF9-'Level 2'!AF9,\"*\")","v":2.7249999999999996E-2},{"$f":"IFERROR('Level 3'!AG9-'Level 2'!AG9,\"*\")","v":2.7850000000000014E-2},{"$f":"IFERROR('Level 3'!AH9-'Level 2'!AH9,\"*\")","v":2.8849999999999987E-2},{"$f":"IFERROR('Level 3'!AI9-'Level 2'!AI9,\"*\")","v":2.3949999999999999E-2},{"$f":"IFERROR('Level 3'!AJ9-'Level 2'!AJ9,\"*\")","v":2.4199999999999999E-2},{"$f":"IFERROR('Level 3'!AK9-'Level 2'!AK9,\"*\")","v":2.4799999999999989E-2},{"$f":"IFERROR('Level 3'!AL9-'Level 2'!AL9,\"*\")","v":"*"},null,{"$f":"'Level 1'!AN9","v":"Czech Republic"},{"$f":"IFERROR('Level 3'!AO9-'Level 2'!AO9,\"*\")","v":1.2950000000000003E-2},{"$f":"IFERROR('Level 3'!AP9-'Level 2'!AP9,\"*\")","v":1.6850000000000004E-2},{"$f":"IFERROR('Level 3'!AQ9-'Level 2'!AQ9,\"*\")","v":1.7749999999999988E-2},{"$f":"IFERROR('Level 3'!AR9-'Level 2'!AR9,\"*\")","v":1.8600000000000005E-2},{"$f":"IFERROR('Level 3'!AS9-'Level 2'!AS9,\"*\")","v":2.0300000000000012E-2},{"$f":"IFERROR('Level 3'!AT9-'Level 2'!AT9,\"*\")","v":2.1050000000000013E-2},{"$f":"IFERROR('Level 3'!AU9-'Level 2'!AU9,\"*\")","v":2.2300000000000014E-2},{"$f":"IFERROR('Level 3'!AV9-'Level 2'!AV9,\"*\")","v":1.9250000000000017E-2},{"$f":"IFERROR('Level 3'!AW9-'Level 2'!AW9,\"*\")","v":1.9049999999999997E-2},{"$f":"IFERROR('Level 3'!AX9-'Level 2'!AX9,\"*\")","v":1.9599999999999992E-2},{"$f":"IFERROR('Level 3'!AY9-'Level 2'!AY9,\"*\")","v":"*"},null,{"$f":"'Level 1'!BA9","v":"Czech Republic"},{"$f":"IFERROR('Level 3'!BB9-'Level 2'!BB9,\"*\")","v":1.1550000000000005E-2},{"$f":"IFERROR('Level 3'!BC9-'Level 2'!BC9,\"*\")","v":1.525E-2},{"$f":"IFERROR('Level 3'!BD9-'Level 2'!BD9,\"*\")","v":1.6250000000000014E-2},{"$f":"IFERROR('Level 3'!BE9-'Level 2'!BE9,\"*\")","v":1.659999999999999E-2},{"$f":"IFERROR('Level 3'!BF9-'Level 2'!BF9,\"*\")","v":1.8299999999999997E-2},{"$f":"IFERROR('Level 3'!BG9-'Level 2'!BG9,\"*\")","v":1.9099999999999992E-2},{"$f":"IFERROR('Level 3'!BH9-'Level 2'!BH9,\"*\")","v":2.0400000000000001E-2},{"$f":"IFERROR('Level 3'!BI9-'Level 2'!BI9,\"*\")","v":1.6350000000000003E-2},{"$f":"IFERROR('Level 3'!BJ9-'Level 2'!BJ9,\"*\")","v":1.6449999999999992E-2},{"$f":"IFERROR('Level 3'!BK9-'Level 2'!BK9,\"*\")","v":1.8199999999999994E-2},{"$f":"IFERROR('Level 3'!BL9-'Level 2'!BL9,\"*\")","v":"*"}]
[{"$f":"'Level 1'!A10","v":"Denmark"},{"$f":"IFERROR('Level 3'!B10-'Level 2'!B10,\"*\")","v":5.3600000000000009E-2},{"$f":"IFERROR('Level 3'!C10-'Level 2'!C10,\"*\")","v":5.9899999999999981E-2},{"$f":"IFERROR('Level 3'!D10-'Level 2'!D10,\"*\")","v":5.8349999999999985E-2},{"$f":"IFERROR('Level 3'!E10-'Level 2'!E10,\"*\")","v":5.980000000000002E-2},{"$f":"IFERROR('Level 3'!F10-'Level 2'!F10,\"*\")","v":6.4949999999999952E-2},{"$f":"IFERROR('Level 3'!G10-'Level 2'!G10,\"*\")","v":6.585000000000002E-2},{"$f":"IFERROR('Level 3'!H10-'Level 2'!H10,\"*\")","v":6.525000000000003E-2},{"$f":"IFERROR('Level 3'!I10-'Level 2'!I10,\"*\")","v":6.6399999999999959E-2},{"$f":"IFERROR('Level 3'!J10-'Level 2'!J10,\"*\")","v":6.6599999999999993E-2},{"$f":"IFERROR('Level 3'!K10-'Level 2'!K10,\"*\")","v":7.6799999999999979E-2},{"$f":"IFERROR('Level 3'!L10-'Level 2'!L10,\"*\")","v":"*"},null,{"$f":"'Level 1'!N10","v":"Denmark"},{"$f":"IFERROR('Level 3'!O10-'Level 2'!O10,\"*\")","v":5.3600000000000009E-2},{"$f":"IFERROR('Level 3'!P10-'Level 2'!P10,\"*\")","v":5.9899999999999981E-2},{"$f":"IFERROR('Level 3'!Q10-'Level 2'!Q10,\"*\")","v":5.8349999999999985E-2},{"$f":"IFERROR('Level 3'!R10-'Level 2'!R10,\"*\")","v":5.980000000000002E-2},{"$f":"IFERROR('Level 3'!S10-'Level 2'!S10,\"*\")","v":6.4949999999999952E-2},{"$f":"IFERROR('Level 3'!T10-'Level 2'!T10,\"*\")","v":6.585000000000002E-2},{"$f":"IFERROR('Level 3'!U10-'Level 2'!U10,\"*\")","v":6.525000000000003E-2},{"$f":"IFERROR('Level 3'!V10-'Level 2'!V10,\"*\")","v":6.6399999999999959E-2},{"$f":"IFERROR('Level 3'!W10-'Level 2'!W10,\"*\")","v":6.6599999999999993E-2},{"$f":"IFERROR('Level 3'!X10-'Level 2'!X10,\"*\")","v":6.6800000000000026E-2},{"$f":"IFERROR('Level 3'!Y10-'Level 2'!Y10,\"*\")","v":"*"},null,{"$f":"'Level 1'!AA10","v":"Denmark"},{"$f":"IFERROR('Level 3'!AB10-'Level 2'!AB10,\"*\")","v":4.8000000000000015E-2},{"$f":"IFERROR('Level 3'!AC10-'Level 2'!AC10,\"*\")","v":5.4200000000000026E-2},{"$f":"IFERROR('Level 3'!AD10-'Level 2'!AD10,\"*\")","v":5.2549999999999986E-2},{"$f":"IFERROR('Level 3'!AE10-'Level 2'!AE10,\"*\")","v":5.3800000000000014E-2},{"$f":"IFERROR('Level 3'!AF10-'Level 2'!AF10,\"*\")","v":5.8800000000000019E-2},{"$f":"IFERROR('Level 3'!AG10-'Level 2'!AG10,\"*\")","v":5.9699999999999975E-2},{"$f":"IFERROR('Level 3'!AH10-'Level 2'!AH10,\"*\")","v":5.9400000000000008E-2},{"$f":"IFERROR('Level 3'!AI10-'Level 2'!AI10,\"*\")","v":6.0800000000000021E-2},{"$f":"IFERROR('Level 3'!AJ10-'Level 2'!AJ10,\"*\")","v":6.1149999999999982E-2},{"$f":"IFERROR('Level 3'!AK10-'Level 2'!AK10,\"*\")","v":6.1800000000000022E-2},{"$f":"IFERROR('Level 3'!AL10-'Level 2'!AL10,\"*\")","v":"*"},null,{"$f":"'Level 1'!AN10","v":"Denmark"},{"$f":"IFERROR('Level 3'!AO10-'Level 2'!AO10,\"*\")","v":4.2399999999999993E-2},{"$f":"IFERROR('Level 3'!AP10-'Level 2'!AP10,\"*\")","v":4.8399999999999999E-2},{"$f":"IFERROR('Level 3'!AQ10-'Level 2'!AQ10,\"*\")","v":4.6649999999999997E-2},{"$f":"IFERROR('Level 3'!AR10-'Level 2'!AR10,\"*\")","v":4.6500000000000014E-2},{"$f":"IFERROR('Level 3'!AS10-'Level 2'!AS10,\"*\")","v":5.1499999999999962E-2},{"$f":"IFERROR('Level 3'!AT10-'Level 2'!AT10,\"*\")","v":5.2249999999999963E-2},{"$f":"IFERROR('Level 3'!AU10-'Level 2'!AU10,\"*\")","v":4.4899999999999995E-2},{"$f":"IFERROR('Level 3'!AV10-'Level 2'!AV10,\"*\")","v":4.5949999999999991E-2},{"$f":"IFERROR('Level 3'!AW10-'Level 2'!AW10,\"*\")","v":4.5000000000000012E-2},{"$f":"IFERROR('Level 3'!AX10-'Level 2'!AX10,\"*\")","v":4.8699999999999993E-2},{"$f":"IFERROR('Level 3'!AY10-'Level 2'!AY10,\"*\")","v":"*"},null,{"$f":"'Level 1'!BA10","v":"Denmark"},{"$f":"IFERROR('Level 3'!BB10-'Level 2'!BB10,\"*\")","v":4.2399999999999993E-2},{"$f":"IFERROR('Level 3'!BC10-'Level 2'!BC10,\"*\")","v":4.8399999999999999E-2},{"$f":"IFERROR('Level 3'!BD10-'Level 2'!BD10,\"*\")","v":4.6649999999999997E-2},{"$f":"IFERROR('Level 3'!BE10-'Level 2'!BE10,\"*\")","v":4.6500000000000014E-2},{"$f":"IFERROR('Level 3'!BF10-'Level 2'!BF10,\"*\")","v":5.1499999999999962E-2},{"$f":"IFERROR('Level 3'!BG10-'Level 2'!BG10,\"*\")","v":5.2249999999999963E-2},{"$f":"IFERROR('Level 3'!BH10-'Level 2'!BH10,\"*\")","v":4.4899999999999995E-2},{"$f":"IFERROR('Level 3'!BI10-'Level 2'!BI10,\"*\")","v":4.5949999999999991E-2},{"$f":"IFERROR('Level 3'!BJ10-'Level 2'!BJ10,\"*\")","v":4.5000000000000012E-2},{"$f":"IFERROR('Level 3'!BK10-'Level 2'!BK10,\"*\")","v":4.4300000000000006E-2},{"$f":"IFERROR('Level 3'!BL10-'Level 2'!BL10,\"*\")","v":"*"}]
[{"$f":"'Level 1'!A11","v":"Germany (until 1990 former territory of the FRG)"},{"$f":"IFERROR('Level 3'!B11-'Level 2'!B11,\"*\")","v":5.2849999999999953E-2},{"$f":"IFERROR('Level 3'!C11-'Level 2'!C11,\"*\")","v":5.485000000000001E-2},{"$f":"IFERROR('Level 3'!D11-'Level 2'!D11,\"*\")","v":5.7850000000000013E-2},{"$f":"IFERROR('Level 3'!E11-'Level 2'!E11,\"*\")","v":5.8999999999999997E-2},{"$f":"IFERROR('Level 3'!F11-'Level 2'!F11,\"*\")","v":6.1199999999999977E-2},{"$f":"IFERROR('Level 3'!G11-'Level 2'!G11,\"*\")","v":6.3400000000000012E-2},{"$f":"IFERROR('Level 3'!H11-'Level 2'!H11,\"*\")","v":6.8050000000000055E-2},{"$f":"IFERROR('Level 3'!I11-'Level 2'!I11,\"*\")","v":6.9150000000000045E-2},{"$f":"IFERROR('Level 3'!J11-'Level 2'!J11,\"*\")","v":6.964999999999999E-2},{"$f":"IFERROR('Level 3'!K11-'Level 2'!K11,\"*\")","v":7.2700000000000042E-2},{"$f":"IFERROR('Level 3'!L11-'Level 2'!L11,\"*\")","v":"*"},null,{"$f":"'Level 1'!N11","v":"Germany (until 1990 former territory of the FRG)"},{"$f":"IFERROR('Level 3'!O11-'Level 2'!O11,\"*\")","v":3.670000000000001E-2},{"$f":"IFERROR('Level 3'!P11-'Level 2'!P11,\"*\")","v":3.8849999999999996E-2},{"$f":"IFERROR('Level 3'!Q11-'Level 2'!Q11,\"*\")","v":4.0300000000000002E-2},{"$f":"IFERROR('Level 3'!R11-'Level 2'!R11,\"*\")","v":4.2450000000000043E-2},{"$f":"IFERROR('Level 3'!S11-'Level 2'!S11,\"*\")","v":4.4299999999999951E-2},{"$f":"IFERROR('Level 3'!T11-'Level 2'!T11,\"*\")","v":4.604999999999998E-2},{"$f":"IFERROR('Level 3'!U11-'Level 2'!U11,\"*\")","v":5.0650000000000028E-2},{"$f":"IFERROR('Level 3'!V11-'Level 2'!V11,\"*\")","v":5.1549999999999985E-2},{"$f":"IFERROR('Level 3'!W11-'Level 2'!W11,\"*\")","v":5.1249999999999962E-2},{"$f":"IFERROR('Level 3'!X11-'Level 2'!X11,\"*\")","v":5.209999999999998E-2},{"$f":"IFERROR('Level 3'!Y11-'Level 2'!Y11,\"*\")","v":"*"},null,{"$f":"'Level 1'!AA11","v":"Germany (until 1990 former territory of the FRG)"},{"$f":"IFERROR('Level 3'!AB11-'Level 2'!AB11,\"*\")","v":3.3200000000000007E-2},{"$f":"IFERROR('Level 3'!AC11-'Level 2'!AC11,\"*\")","v":3.5000000000000031E-2},{"$f":"IFERROR('Level 3'!AD11-'Level 2'!AD11,\"*\")","v":3.6500000000000005E-2},{"$f":"IFERROR('Level 3'!AE11-'Level 2'!AE11,\"*\")","v":3.839999999999999E-2},{"$f":"IFERROR('Level 3'!AF11-'Level 2'!AF11,\"*\")","v":4.0399999999999991E-2},{"$f":"IFERROR('Level 3'!AG11-'Level 2'!AG11,\"*\")","v":4.2050000000000032E-2},{"$f":"IFERROR('Level 3'!AH11-'Level 2'!AH11,\"*\")","v":4.660000000000003E-2},{"$f":"IFERROR('Level 3'!AI11-'Level 2'!AI11,\"*\")","v":4.7549999999999981E-2},{"$f":"IFERROR('Level 3'!AJ11-'Level 2'!AJ11,\"*\")","v":4.7049999999999953E-2},{"$f":"IFERROR('Level 3'!AK11-'Level 2'!AK11,\"*\")","v":4.7399999999999998E-2},{"$f":"IFERROR('Level 3'!AL11-'Level 2'!AL11,\"*\")","v":"*"},null,{"$f":"'Level 1'!AN11","v":"Germany (until 1990 former territory of the FRG)"},{"$f":"IFERROR('Level 3'!AO11-'Level 2'!AO11,\"*\")","v":3.125E-2},{"$f":"IFERROR('Level 3'!AP11-'Level 2'!AP11,\"*\")","v":3.2199999999999979E-2},{"$f":"IFERROR('Level 3'!AQ11-'Level 2'!AQ11,\"*\")","v":3.3849999999999991E-2},{"$f":"IFERROR('Level 3'!AR11-'Level 2'!AR11,\"*\")","v":3.6149999999999988E-2},{"$f":"IFERROR('Level 3'!AS11-'Level 2'!AS11,\"*\")","v":3.8549999999999973E-2},{"$f":"IFERROR('Level 3'!AT11-'Level 2'!AT11,\"*\")","v":4.0000000000000008E-2},{"$f":"IFERROR('Level 3'!AU11-'Level 2'!AU11,\"*\")","v":4.4350000000000028E-2},{"$f":"IFERROR('Level 3'!AV11-'Level 2'!AV11,\"*\")","v":4.5149999999999996E-2},{"$f":"IFERROR('Level 3'!AW11-'Level 2'!AW11,\"*\")","v":4.4700000000000045E-2},{"$f":"IFERROR('Level 3'!AX11-'Level 2'!AX11,\"*\")","v":4.4899999999999995E-2},{"$f":"IFERROR('Level 3'!AY11-'Level 2'!AY11,\"*\")","v":"*"},null,{"$f":"'Level 1'!BA11","v":"Germany (until 1990 former territory of the FRG)"},{"$f":"IFERROR('Level 3'!BB11-'Level 2'!BB11,\"*\")","v":2.9850000000000015E-2},{"$f":"IFERROR('Level 3'!BC11-'Level 2'!BC11,\"*\")","v":3.1000000000000028E-2},{"$f":"IFERROR('Level 3'!BD11-'Level 2'!BD11,\"*\")","v":3.2700000000000007E-2},{"$f":"IFERROR('Level 3'!BE11-'Level 2'!BE11,\"*\")","v":3.504999999999997E-2},{"$f":"IFERROR('Level 3'!BF11-'Level 2'!BF11,\"*\")","v":3.7050000000000027E-2},{"$f":"IFERROR('Level 3'!BG11-'Level 2'!BG11,\"*\")","v":3.8450000000000012E-2},{"$f":"IFERROR('Level 3'!BH11-'Level 2'!BH11,\"*\")","v":4.2950000000000016E-2},{"$f":"IFERROR('Level 3'!BI11-'Level 2'!BI11,\"*\")","v":4.3149999999999994E-2},{"$f":"IFERROR('Level 3'!BJ11-'Level 2'!BJ11,\"*\")","v":4.2750000000000066E-2},{"$f":"IFERROR('Level 3'!BK11-'Level 2'!BK11,\"*\")","v":4.2800000000000005E-2},{"$f":"IFERROR('Level 3'!BL11-'Level 2'!BL11,\"*\")","v":"*"}]
[{"$f":"'Level 1'!A12","v":"Estonia"},{"$f":"IFERROR('Level 3'!B12-'Level 2'!B12,\"*\")","v":1.2799999999999992E-2},{"$f":"IFERROR('Level 3'!C12-'Level 2'!C12,\"*\")","v":1.3050000000000006E-2},{"$f":"IFERROR('Level 3'!D12-'Level 2'!D12,\"*\")","v":1.5100000000000002E-2},{"$f":"IFERROR('Level 3'!E12-'Level 2'!E12,\"*\")","v":1.6899999999999998E-2},{"$f":"IFERROR('Level 3'!F12-'Level 2'!F12,\"*\")","v":1.7299999999999996E-2},{"$f":"IFERROR('Level 3'!G12-'Level 2'!G12,\"*\")","v":1.9149999999999986E-2},{"$f":"IFERROR('Level 3'!H12-'Level 2'!H12,\"*\")","v":2.360000000000001E-2},{"$f":"IFERROR('Level 3'!I12-'Level 2'!I12,\"*\")","v":2.2699999999999998E-2},{"$f":"IFERROR('Level 3'!J12-'Level 2'!J12,\"*\")","v":2.2200000000000011E-2},{"$f":"IFERROR('Level 3'!K12-'Level 2'!K12,\"*\")","v":1.5100000000000002E-2},{"$f":"IFERROR('Level 3'!L12-'Level 2'!L12,\"*\")","v":"*"},null,{"$f":"'Level 1'!N12","v":"Estonia"},{"$f":"IFERROR('Level 3'!O12-'Level 2'!O12,\"*\")","v":1.2200000000000003E-2},{"$f":"IFERROR('Level 3'!P12-'Level 2'!P12,\"*\")","v":1.2949999999999989E-2},{"$f":"IFERROR('Level 3'!Q12-'Level 2'!Q12,\"*\")","v":1.4949999999999991E-2},{"$f":"IFERROR('Level 3'!R12-'Level 2'!R12,\"*\")","v":1.6799999999999995E-2},{"$f":"IFERROR('Level 3'!S12-'Level 2'!S12,\"*\")","v":1.7149999999999999E-2},{"$f":"IFERROR('Level 3'!T12-'Level 2'!T12,\"*\")","v":1.8850000000000006E-2},{"$f":"IFERROR('Level 3'!U12-'Level 2'!U12,\"*\")","v":2.3199999999999998E-2},{"$f":"IFERROR('Level 3'!V12-'Level 2'!V12,\"*\")","v":2.2449999999999998E-2},{"$f":"IFERROR('Level 3'!W12-'Level 2'!W12,\"*\")","v":2.1499999999999991E-2},{"$f":"IFERROR('Level 3'!X12-'Level 2'!X12,\"*\")","v":1.3899999999999996E-2},{"$f":"IFERROR('Level 3'!Y12-'Level 2'!Y12,\"*\")","v":"*"},null,{"$f":"'Level 1'!AA12","v":"Estonia"},{"$f":"IFERROR('Level 3'!AB12-'Level 2'!AB12,\"*\")","v":1.21E-2},{"$f":"IFERROR('Level 3'!AC12-'Level 2'!AC12,\"*\")","v":1.26E-2},{"$f":"IFERROR('Level 3'!AD12-'Level 2'!AD12,\"*\")","v":1.4649999999999996E-2},{"$f":"IFERROR('Level 3'!AE12-'Level 2'!AE12,\"*\")","v":1.6350000000000003E-2},{"$f":"IFERROR('Level 3'!AF12-'Level 2'!AF12,\"*\")","v":1.6750000000000001E-2},{"$f":"IFERROR('Level 3'!AG12-'Level 2'!AG12,\"*\")","v":1.8549999999999983E-2},{"$f":"IFERROR('Level 3'!AH12-'Level 2'!AH12,\"*\")","v":2.264999999999999E-2},{"$f":"IFERROR('Level 3'!AI12-'Level 2'!AI12,\"*\")","v":2.1949999999999997E-2},{"$f":"IFERROR('Level 3'!AJ12-'Level 2'!AJ12,\"*\")","v":2.1149999999999988E-2},{"$f":"IFERROR('Level 3'!AK12-'Level 2'!AK12,\"*\")","v":1.3200000000000003E-2},{"$f":"IFERROR('Level 3'!AL12-'Level 2'!AL12,\"*\")","v":"*"},null,{"$f":"'Level 1'!AN12","v":"Estonia"},{"$f":"IFERROR('Level 3'!AO12-'Level 2'!AO12,\"*\")","v":1.2200000000000003E-2},{"$f":"IFERROR('Level 3'!AP12-'Level 2'!AP12,\"*\")","v":1.2249999999999997E-2},{"$f":"IFERROR('Level 3'!AQ12-'Level 2'!AQ12,\"*\")","v":1.4249999999999999E-2},{"$f":"IFERROR('Level 3'!AR12-'Level 2'!AR12,\"*\")","v":1.5800000000000008E-2},{"$f":"IFERROR('Level 3'!AS12-'Level 2'!AS12,\"*\")","v":1.6299999999999995E-2},{"$f":"IFERROR('Level 3'!AT12-'Level 2'!AT12,\"*\")","v":1.7949999999999994E-2},{"$f":"IFERROR('Level 3'!AU12-'Level 2'!AU12,\"*\")","v":2.1949999999999983E-2},{"$f":"IFERROR('Level 3'!AV12-'Level 2'!AV12,\"*\")","v":2.0999999999999991E-2},{"$f":"IFERROR('Level 3'!AW12-'Level 2'!AW12,\"*\")","v":2.0549999999999999E-2},{"$f":"IFERROR('Level 3'!AX12-'Level 2'!AX12,\"*\")","v":1.26E-2},{"$f":"IFERROR('Level 3'!AY12-'Level 2'!AY12,\"*\")","v":"*"},null,{"$f":"'Level 1'!BA12","v":"Estonia"},{"$f":"IFERROR('Level 3'!BB12-'Level 2'!BB12,\"*\")","v":9.5999999999999974E-3},{"$f":"IFERROR('Level 3'!BC12-'Level 2'!BC12,\"*\")","v":1.0800000000000004E-2},{"$f":"IFERROR('Level 3'!BD12-'Level 2'!BD12,\"*\")","v":1.2700000000000003E-2},{"$f":"IFERROR('Level 3'!BE12-'Level 2'!BE12,\"*\")","v":1.4600000000000002E-2},{"$f":"IFERROR('Level 3'!BF12-'Level 2'!BF12,\"*\")","v":1.5049999999999994E-2},{"$f":"IFERROR('Level 3'!BG12-'Level 2'!BG12,\"*\")","v":1.6600000000000004E-2},{"$f":"IFERROR('Level 3'!BH12-'Level 2'!BH12,\"*\")","v":1.9600000000000006E-2},{"$f":"IFERROR('Level 3'!BI12-'Level 2'!BI12,\"*\")","v":1.9250000000000003E-2},{"$f":"IFERROR('Level 3'!BJ12-'Level 2'!BJ12,\"*\")","v":1.9750000000000018E-2},{"$f":"IFERROR('Level 3'!BK12-'Level 2'!BK12,\"*\")","v":1.1800000000000005E-2},{"$f":"IFERROR('Level 3'!BL12-'Level 2'!BL12,\"*\")","v":"*"}]
[{"$f":"'Level 1'!A13","v":"Ireland"},{"$f":"IFERROR('Level 3'!B13-'Level 2'!B13,\"*\")","v":5.4400000000000004E-2},{"$f":"IFERROR('Level 3'!C13-'Level 2'!C13,\"*\")","v":5.5449999999999944E-2},{"$f":"IFERROR('Level 3'!D13-'Level 2'!D13,\"*\")","v":5.0499999999999989E-2},{"$f":"IFERROR('Level 3'!E13-'Level 2'!E13,\"*\")","v":5.0049999999999983E-2},{"$f":"IFERROR('Level 3'!F13-'Level 2'!F13,\"*\")","v":5.6850000000000012E-2},{"$f":"IFERROR('Level 3'!G13-'Level 2'!G13,\"*\")","v":6.7599999999999882E-2},{"$f":"IFERROR('Level 3'!H13-'Level 2'!H13,\"*\")","v":7.4250000000000038E-2},{"$f":"IFERROR('Level 3'!I13-'Level 2'!I13,\"*\")","v":7.8049999999999953E-2},{"$f":"IFERROR('Level 3'!J13-'Level 2'!J13,\"*\")","v":7.0049999999999946E-2},{"$f":"IFERROR('Level 3'!K13-'Level 2'!K13,\"*\")","v":4.8200000000000021E-2},{"$f":"IFERROR('Level 3'!L13-'Level 2'!L13,\"*\")","v":"*"},null,{"$f":"'Level 1'!N13","v":"Ireland"},{"$f":"IFERROR('Level 3'!O13-'Level 2'!O13,\"*\")","v":2.6700000000000002E-2},{"$f":"IFERROR('Level 3'!P13-'Level 2'!P13,\"*\")","v":2.6499999999999996E-2},{"$f":"IFERROR('Level 3'!Q13-'Level 2'!Q13,\"*\")","v":2.6649999999999979E-2},{"$f":"IFERROR('Level 3'!R13-'Level 2'!R13,\"*\")","v":2.5600000000000012E-2},{"$f":"IFERROR('Level 3'!S13-'Level 2'!S13,\"*\")","v":2.8900000000000009E-2},{"$f":"IFERROR('Level 3'!T13-'Level 2'!T13,\"*\")","v":3.2150000000000012E-2},{"$f":"IFERROR('Level 3'!U13-'Level 2'!U13,\"*\")","v":3.4300000000000053E-2},{"$f":"IFERROR('Level 3'!V13-'Level 2'!V13,\"*\")","v":3.6900000000000044E-2},{"$f":"IFERROR('Level 3'!W13-'Level 2'!W13,\"*\")","v":3.6650000000000016E-2},{"$f":"IFERROR('Level 3'!X13-'Level 2'!X13,\"*\")","v":3.3400000000000013E-2},{"$f":"IFERROR('Level 3'!Y13-'Level 2'!Y13,\"*\")","v":"*"},null,{"$f":"'Level 1'!AA13","v":"Ireland"},{"$f":"IFERROR('Level 3'!AB13-'Level 2'!AB13,\"*\")","v":2.2799999999999987E-2},{"$f":"IFERROR('Level 3'!AC13-'Level 2'!AC13,\"*\")","v":2.2599999999999981E-2},{"$f":"IFERROR('Level 3'!AD13-'Level 2'!AD13,\"*\")","v":2.3049999999999987E-2},{"$f":"IFERROR('Level 3'!AE13-'Level 2'!AE13,\"*\")","v":2.1899999999999975E-2},{"$f":"IFERROR('Level 3'!AF13-'Level 2'!AF13,\"*\")","v":2.3749999999999993E-2},{"$f":"IFERROR('Level 3'!AG13-'Level 2'!AG13,\"*\")","v":2.6400000000000007E-2},{"$f":"IFERROR('Level 3'!AH13-'Level 2'!AH13,\"*\")","v":2.789999999999998E-2},{"$f":"IFERROR('Level 3'!AI13-'Level 2'!AI13,\"*\")","v":2.9349999999999987E-2},{"$f":"IFERROR('Level 3'!AJ13-'Level 2'!AJ13,\"*\")","v":2.9049999999999992E-2},{"$f":"IFERROR('Level 3'!AK13-'Level 2'!AK13,\"*\")","v":2.7499999999999997E-2},{"$f":"IFERROR('Level 3'!AL13-'Level 2'!AL13,\"*\")","v":"*"},null,{"$f":"'Level 1'!AN13","v":"Ireland"},{"$f":"IFERROR('Level 3'!AO13-'Level 2'!AO13,\"*\")","v":2.0699999999999996E-2},{"$f":"IFERROR('Level 3'!AP13-'Level 2'!AP13,\"*\")","v":2.0299999999999985E-2},{"$f":"IFERROR('Level 3'!AQ13-'Level 2'!AQ13,\"*\")","v":2.0950000000000024E-2},{"$f":"IFERROR('Level 3'!AR13-'Level 2'!AR13,\"*\")","v":1.9600000000000006E-2},{"$f":"IFERROR('Level 3'!AS13-'Level 2'!AS13,\"*\")","v":2.0400000000000001E-2},{"$f":"IFERROR('Level 3'!AT13-'Level 2'!AT13,\"*\")","v":2.3199999999999998E-2},{"$f":"IFERROR('Level 3'!AU13-'Level 2'!AU13,\"*\")","v":2.4300000000000016E-2},{"$f":"IFERROR('Level 3'!AV13-'Level 2'!AV13,\"*\")","v":2.5400000000000006E-2},{"$f":"IFERROR('Level 3'!AW13-'Level 2'!AW13,\"*\")","v":2.47E-2},{"$f":"IFERROR('Level 3'!AX13-'Level 2'!AX13,\"*\")","v":2.3499999999999993E-2},{"$f":"IFERROR('Level 3'!AY13-'Level 2'!AY13,\"*\")","v":"*"},null,{"$f":"'Level 1'!BA13","v":"Ireland"},{"$f":"IFERROR('Level 3'!BB13-'Level 2'!BB13,\"*\")","v":1.7500000000000016E-2},{"$f":"IFERROR('Level 3'!BC13-'Level 2'!BC13,\"*\")","v":1.7600000000000005E-2},{"$f":"IFERROR('Level 3'!BD13-'Level 2'!BD13,\"*\")","v":1.8300000000000011E-2},{"$f":"IFERROR('Level 3'!BE13-'Level 2'!BE13,\"*\")","v":1.6850000000000004E-2},{"$f":"IFERROR('Level 3'!BF13-'Level 2'!BF13,\"*\")","v":1.705000000000001E-2},{"$f":"IFERROR('Level 3'!BG13-'Level 2'!BG13,\"*\")","v":1.999999999999999E-2},{"$f":"IFERROR('Level 3'!BH13-'Level 2'!BH13,\"*\")","v":2.0999999999999991E-2},{"$f":"IFERROR('Level 3'!BI13-'Level 2'!BI13,\"*\")","v":2.1600000000000008E-2},{"$f":"IFERROR('Level 3'!BJ13-'Level 2'!BJ13,\"*\")","v":2.1050000000000013E-2},{"$f":"IFERROR('Level 3'!BK13-'Level 2'!BK13,\"*\")","v":2.0299999999999985E-2},{"$f":"IFERROR('Level 3'!BL13-'Level 2'!BL13,\"*\")","v":"*"}]
[{"$f":"'Level 1'!A14","v":"Greece"},{"$f":"IFERROR('Level 3'!B14-'Level 2'!B14,\"*\")","v":1.0099999999999998E-2},{"$f":"IFERROR('Level 3'!C14-'Level 2'!C14,\"*\")","v":9.5500000000000029E-3},{"$f":"IFERROR('Level 3'!D14-'Level 2'!D14,\"*\")","v":8.9999999999999941E-3},{"$f":"IFERROR('Level 3'!E14-'Level 2'!E14,\"*\")","v":1.0949999999999988E-2},{"$f":"IFERROR('Level 3'!F14-'Level 2'!F14,\"*\")","v":1.7299999999999982E-2},{"$f":"IFERROR('Level 3'!G14-'Level 2'!G14,\"*\")","v":1.9549999999999984E-2},{"$f":"IFERROR('Level 3'!H14-'Level 2'!H14,\"*\")","v":2.3150000000000004E-2},{"$f":"IFERROR('Level 3'!I14-'Level 2'!I14,\"*\")","v":2.545E-2},{"$f":"IFERROR('Level 3'!J14-'Level 2'!J14,\"*\")","v":2.8050000000000019E-2},{"$f":"IFERROR('Level 3'!K14-'Level 2'!K14,\"*\")","v":3.0099999999999988E-2},{"$f":"IFERROR('Level 3'!L14-'Level 2'!L14,\"*\")","v":"*"},null,{"$f":"'Level 1'!N14","v":"Greece"},{"$f":"IFERROR('Level 3'!O14-'Level 2'!O14,\"*\")","v":8.0000000000000071E-3},{"$f":"IFERROR('Level 3'!P14-'Level 2'!P14,\"*\")","v":7.749999999999993E-3},{"$f":"IFERROR('Level 3'!Q14-'Level 2'!Q14,\"*\")","v":7.9999999999999932E-3},{"$f":"IFERROR('Level 3'!R14-'Level 2'!R14,\"*\")","v":9.6500000000000197E-3},{"$f":"IFERROR('Level 3'!S14-'Level 2'!S14,\"*\")","v":1.26E-2},{"$f":"IFERROR('Level 3'!T14-'Level 2'!T14,\"*\")","v":1.4449999999999991E-2},{"$f":"IFERROR('Level 3'!U14-'Level 2'!U14,\"*\")","v":1.7699999999999966E-2},{"$f":"IFERROR('Level 3'!V14-'Level 2'!V14,\"*\")","v":1.9849999999999979E-2},{"$f":"IFERROR('Level 3'!W14-'Level 2'!W14,\"*\")","v":2.0850000000000007E-2},{"$f":"IFERROR('Level 3'!X14-'Level 2'!X14,\"*\")","v":2.0699999999999996E-2},{"$f":"IFERROR('Level 3'!Y14-'Level 2'!Y14,\"*\")","v":"*"},null,{"$f":"'Level 1'!AA14","v":"Greece"},{"$f":"IFERROR('Level 3'!AB14-'Level 2'!AB14,\"*\")","v":8.4000000000000047E-3},{"$f":"IFERROR('Level 3'!AC14-'Level 2'!AC14,\"*\")","v":9.0500000000000025E-3},{"$f":"IFERROR('Level 3'!AD14-'Level 2'!AD14,\"*\")","v":9.2000000000000137E-3},{"$f":"IFERROR('Level 3'!AE14-'Level 2'!AE14,\"*\")","v":1.1099999999999999E-2},{"$f":"IFERROR('Level 3'!AF14-'Level 2'!AF14,\"*\")","v":1.4399999999999996E-2},{"$f":"IFERROR('Level 3'!AG14-'Level 2'!AG14,\"*\")","v":1.6150000000000025E-2},{"$f":"IFERROR('Level 3'!AH14-'Level 2'!AH14,\"*\")","v":1.8749999999999989E-2},{"$f":"IFERROR('Level 3'!AI14-'Level 2'!AI14,\"*\")","v":2.0399999999999974E-2},{"$f":"IFERROR('Level 3'!AJ14-'Level 2'!AJ14,\"*\")","v":2.0349999999999979E-2},{"$f":"IFERROR('Level 3'!AK14-'Level 2'!AK14,\"*\")","v":2.0299999999999985E-2},{"$f":"IFERROR('Level 3'!AL14-'Level 2'!AL14,\"*\")","v":"*"},null,{"$f":"'Level 1'!AN14","v":"Greece"},{"$f":"IFERROR('Level 3'!AO14-'Level 2'!AO14,\"*\")","v":1.0300000000000004E-2},{"$f":"IFERROR('Level 3'!AP14-'Level 2'!AP14,\"*\")","v":1.0849999999999999E-2},{"$f":"IFERROR('Level 3'!AQ14-'Level 2'!AQ14,\"*\")","v":1.075000000000001E-2},{"$f":"IFERROR('Level 3'!AR14-'Level 2'!AR14,\"*\")","v":1.2850000000000028E-2},{"$f":"IFERROR('Level 3'!AS14-'Level 2'!AS14,\"*\")","v":1.5949999999999992E-2},{"$f":"IFERROR('Level 3'!AT14-'Level 2'!AT14,\"*\")","v":1.8100000000000005E-2},{"$f":"IFERROR('Level 3'!AU14-'Level 2'!AU14,\"*\")","v":2.0400000000000001E-2},{"$f":"IFERROR('Level 3'!AV14-'Level 2'!AV14,\"*\")","v":2.1900000000000003E-2},{"$f":"IFERROR('Level 3'!AW14-'Level 2'!AW14,\"*\")","v":2.1700000000000025E-2},{"$f":"IFERROR('Level 3'!AX14-'Level 2'!AX14,\"*\")","v":2.1600000000000008E-2},{"$f":"IFERROR('Level 3'!AY14-'Level 2'!AY14,\"*\")","v":"*"},null,{"$f":"'Level 1'!BA14","v":"Greece"},{"$f":"IFERROR('Level 3'!BB14-'Level 2'!BB14,\"*\")","v":1.1800000000000005E-2},{"$f":"IFERROR('Level 3'!BC14-'Level 2'!BC14,\"*\")","v":1.2800000000000006E-2},{"$f":"IFERROR('Level 3'!BD14-'Level 2'!BD14,\"*\")","v":1.2900000000000023E-2},{"$f":"IFERROR('Level 3'!BE14-'Level 2'!BE14,\"*\")","v":1.6049999999999981E-2},{"$f":"IFERROR('Level 3'!BF14-'Level 2'!BF14,\"*\")","v":1.5249999999999986E-2},{"$f":"IFERROR('Level 3'!BG14-'Level 2'!BG14,\"*\")","v":1.7450000000000021E-2},{"$f":"IFERROR('Level 3'!BH14-'Level 2'!BH14,\"*\")","v":1.9899999999999973E-2},{"$f":"IFERROR('Level 3'!BI14-'Level 2'!BI14,\"*\")","v":2.2350000000000009E-2},{"$f":"IFERROR('Level 3'!BJ14-'Level 2'!BJ14,\"*\")","v":2.2100000000000009E-2},{"$f":"IFERROR('Level 3'!BK14-'Level 2'!BK14,\"*\")","v":2.1300000000000013E-2},{"$f":"IFERROR('Level 3'!BL14-'Level 2'!BL14,\"*\")","v":"*"}]
[{"$f":"'Level 1'!A15","v":"Spain"},{"$f":"IFERROR('Level 3'!B15-'Level 2'!B15,\"*\")","v":4.1799999999999948E-2},{"$f":"IFERROR('Level 3'!C15-'Level 2'!C15,\"*\")","v":4.3499999999999983E-2},{"$f":"IFERROR('Level 3'!D15-'Level 2'!D15,\"*\")","v":4.329999999999995E-2},{"$f":"IFERROR('Level 3'!E15-'Level 2'!E15,\"*\")","v":5.4400000000000004E-2},{"$f":"IFERROR('Level 3'!F15-'Level 2'!F15,\"*\")","v":5.6099999999999983E-2},{"$f":"IFERROR('Level 3'!G15-'Level 2'!G15,\"*\")","v":5.8449999999999946E-2},{"$f":"IFERROR('Level 3'!H15-'Level 2'!H15,\"*\")","v":6.7100000000000048E-2},{"$f":"IFERROR('Level 3'!I15-'Level 2'!I15,\"*\")","v":8.1799999999999928E-2},{"$f":"IFERROR('Level 3'!J15-'Level 2'!J15,\"*\")","v":8.9949999999999974E-2},{"$f":"IFERROR('Level 3'!K15-'Level 2'!K15,\"*\")","v":9.0499999999999969E-2},{"$f":"IFERROR('Level 3'!L15-'Level 2'!L15,\"*\")","v":"*"},null,{"$f":"'Level 1'!N15","v":"Spain"},{"$f":"IFERROR('Level 3'!O15-'Level 2'!O15,\"*\")","v":2.2199999999999998E-2},{"$f":"IFERROR('Level 3'!P15-'Level 2'!P15,\"*\")","v":2.3299999999999987E-2},{"$f":"IFERROR('Level 3'!Q15-'Level 2'!Q15,\"*\")","v":2.545E-2},{"$f":"IFERROR('Level 3'!R15-'Level 2'!R15,\"*\")","v":2.9549999999999993E-2},{"$f":"IFERROR('Level 3'!S15-'Level 2'!S15,\"*\")","v":3.4399999999999986E-2},{"$f":"IFERROR('Level 3'!T15-'Level 2'!T15,\"*\")","v":4.0349999999999997E-2},{"$f":"IFERROR('Level 3'!U15-'Level 2'!U15,\"*\")","v":4.3350000000000027E-2},{"$f":"IFERROR('Level 3'!V15-'Level 2'!V15,\"*\")","v":4.6449999999999991E-2},{"$f":"IFERROR('Level 3'!W15-'Level 2'!W15,\"*\")","v":4.830000000000001E-2},{"$f":"IFERROR('Level 3'!X15-'Level 2'!X15,\"*\")","v":4.629999999999998E-2},{"$f":"IFERROR('Level 3'!Y15-'Level 2'!Y15,\"*\")","v":"*"},null,{"$f":"'Level 1'!AA15","v":"Spain"},{"$f":"IFERROR('Level 3'!AB15-'Level 2'!AB15,\"*\")","v":1.8900000000000014E-2},{"$f":"IFERROR('Level 3'!AC15-'Level 2'!AC15,\"*\")","v":1.9949999999999996E-2},{"$f":"IFERROR('Level 3'!AD15-'Level 2'!AD15,\"*\")","v":2.2449999999999998E-2},{"$f":"IFERROR('Level 3'!AE15-'Level 2'!AE15,\"*\")","v":2.6050000000000018E-2},{"$f":"IFERROR('Level 3'!AF15-'Level 2'!AF15,\"*\")","v":3.1000000000000028E-2},{"$f":"IFERROR('Level 3'!AG15-'Level 2'!AG15,\"*\")","v":3.645000000000001E-2},{"$f":"IFERROR('Level 3'!AH15-'Level 2'!AH15,\"*\")","v":3.9099999999999996E-2},{"$f":"IFERROR('Level 3'!AI15-'Level 2'!AI15,\"*\")","v":3.9349999999999996E-2},{"$f":"IFERROR('Level 3'!AJ15-'Level 2'!AJ15,\"*\")","v":4.0599999999999997E-2},{"$f":"IFERROR('Level 3'!AK15-'Level 2'!AK15,\"*\")","v":3.7899999999999989E-2},{"$f":"IFERROR('Level 3'!AL15-'Level 2'!AL15,\"*\")","v":"*"},null,{"$f":"'Level 1'!AN15","v":"Spain"},{"$f":"IFERROR('Level 3'!AO15-'Level 2'!AO15,\"*\")","v":1.7400000000000013E-2},{"$f":"IFERROR('Level 3'!AP15-'Level 2'!AP15,\"*\")","v":1.8600000000000005E-2},{"$f":"IFERROR('Level 3'!AQ15-'Level 2'!AQ15,\"*\")","v":2.0750000000000018E-2},{"$f":"IFERROR('Level 3'!AR15-'Level 2'!AR15,\"*\")","v":2.3549999999999988E-2},{"$f":"IFERROR('Level 3'!AS15-'Level 2'!AS15,\"*\")","v":2.8200000000000003E-2},{"$f":"IFERROR('Level 3'!AT15-'Level 2'!AT15,\"*\")","v":3.2900000000000013E-2},{"$f":"IFERROR('Level 3'!AU15-'Level 2'!AU15,\"*\")","v":3.4950000000000037E-2},{"$f":"IFERROR('Level 3'!AV15-'Level 2'!AV15,\"*\")","v":3.454999999999997E-2},{"$f":"IFERROR('Level 3'!AW15-'Level 2'!AW15,\"*\")","v":3.535000000000002E-2},{"$f":"IFERROR('Level 3'!AX15-'Level 2'!AX15,\"*\")","v":3.3399999999999985E-2},{"$f":"IFERROR('Level 3'!AY15-'Level 2'!AY15,\"*\")","v":"*"},null,{"$f":"'Level 1'!BA15","v":"Spain"},{"$f":"IFERROR('Level 3'!BB15-'Level 2'!BB15,\"*\")","v":1.5600000000000003E-2},{"$f":"IFERROR('Level 3'!BC15-'Level 2'!BC15,\"*\")","v":1.7500000000000016E-2},{"$f":"IFERROR('Level 3'!BD15-'Level 2'!BD15,\"*\")","v":1.949999999999999E-2},{"$f":"IFERROR('Level 3'!BE15-'Level 2'!BE15,\"*\")","v":2.1699999999999997E-2},{"$f":"IFERROR('Level 3'!BF15-'Level 2'!BF15,\"*\")","v":2.545E-2},{"$f":"IFERROR('Level 3'!BG15-'Level 2'!BG15,\"*\")","v":2.9549999999999965E-2},{"$f":"IFERROR('Level 3'!BH15-'Level 2'!BH15,\"*\")","v":3.1700000000000034E-2},{"$f":"IFERROR('Level 3'!BI15-'Level 2'!BI15,\"*\")","v":2.9950000000000004E-2},{"$f":"IFERROR('Level 3'!BJ15-'Level 2'!BJ15,\"*\")","v":3.3349999999999991E-2},{"$f":"IFERROR('Level 3'!BK15-'Level 2'!BK15,\"*\")","v":3.0600000000000016E-2},{"$f":"IFERROR('Level 3'!BL15-'Level 2'!BL15,\"*\")","v":"*"}]
[{"$f":"'Level 1'!A16","v":"France"},{"$f":"IFERROR('Level 3'!B16-'Level 2'!B16,\"*\")","v":2.52E-2},{"$f":"IFERROR('Level 3'!C16-'Level 2'!C16,\"*\")","v":2.5150000000000033E-2},{"$f":"IFERROR('Level 3'!D16-'Level 2'!D16,\"*\")","v":2.5049999999999989E-2},{"$f":"IFERROR('Level 3'!E16-'Level 2'!E16,\"*\")","v":2.6099999999999984E-2},{"$f":"IFERROR('Level 3'!F16-'Level 2'!F16,\"*\")","v":2.5350000000000011E-2},{"$f":"IFERROR('Level 3'!G16-'Level 2'!G16,\"*\")","v":2.6100000000000012E-2},{"$f":"IFERROR('Level 3'!H16-'Level 2'!H16,\"*\")","v":2.9199999999999948E-2},{"$f":"IFERROR('Level 3'!I16-'Level 2'!I16,\"*\")","v":2.7600000000000013E-2},{"$f":"IFERROR('Level 3'!J16-'Level 2'!J16,\"*\")","v":2.9449999999999976E-2},{"$f":"IFERROR('Level 3'!K16-'Level 2'!K16,\"*\")","v":2.9400000000000037E-2},{"$f":"IFERROR('Level 3'!L16-'Level 2'!L16,\"*\")","v":"*"},null,{"$f":"'Level 1'!N16","v":"France"},{"$f":"IFERROR('Level 3'!O16-'Level 2'!O16,\"*\")","v":1.9200000000000009E-2},{"$f":"IFERROR('Level 3'!P16-'Level 2'!P16,\"*\")","v":1.910000000000002E-2},{"$f":"IFERROR('Level 3'!Q16-'Level 2'!Q16,\"*\")","v":1.9000000000000017E-2},{"$f":"IFERROR('Level 3'!R16-'Level 2'!R16,\"*\")","v":2.049999999999999E-2},{"$f":"IFERROR('Level 3'!S16-'Level 2'!S16,\"*\")","v":2.1049999999999985E-2},{"$f":"IFERROR('Level 3'!T16-'Level 2'!T16,\"*\")","v":2.1699999999999997E-2},{"$f":"IFERROR('Level 3'!U16-'Level 2'!U16,\"*\")","v":2.4349999999999983E-2},{"$f":"IFERROR('Level 3'!V16-'Level 2'!V16,\"*\")","v":2.4500000000000022E-2},{"$f":"IFERROR('Level 3'!W16-'Level 2'!W16,\"*\")","v":2.5099999999999983E-2},{"$f":"IFERROR('Level 3'!X16-'Level 2'!X16,\"*\")","v":2.5400000000000006E-2},{"$f":"IFERROR('Level 3'!Y16-'Level 2'!Y16,\"*\")","v":"*"},null,{"$f":"'Level 1'!AA16","v":"France"},{"$f":"IFERROR('Level 3'!AB16-'Level 2'!AB16,\"*\")","v":1.730000000000001E-2},{"$f":"IFERROR('Level 3'!AC16-'Level 2'!AC16,\"*\")","v":1.7250000000000001E-2},{"$f":"IFERROR('Level 3'!AD16-'Level 2'!AD16,\"*\")","v":1.7350000000000004E-2},{"$f":"IFERROR('Level 3'!AE16-'Level 2'!AE16,\"*\")","v":1.9149999999999986E-2},{"$f":"IFERROR('Level 3'!AF16-'Level 2'!AF16,\"*\")","v":2.0149999999999987E-2},{"$f":"IFERROR('Level 3'!AG16-'Level 2'!AG16,\"*\")","v":2.0750000000000005E-2},{"$f":"IFERROR('Level 3'!AH16-'Level 2'!AH16,\"*\")","v":2.2900000000000004E-2},{"$f":"IFERROR('Level 3'!AI16-'Level 2'!AI16,\"*\")","v":2.3749999999999993E-2},{"$f":"IFERROR('Level 3'!AJ16-'Level 2'!AJ16,\"*\")","v":2.4349999999999983E-2},{"$f":"IFERROR('Level 3'!AK16-'Level 2'!AK16,\"*\")","v":2.4800000000000016E-2},{"$f":"IFERROR('Level 3'!AL16-'Level 2'!AL16,\"*\")","v":"*"},null,{"$f":"'Level 1'!AN16","v":"France"},{"$f":"IFERROR('Level 3'!AO16-'Level 2'!AO16,\"*\")","v":1.5699999999999992E-2},{"$f":"IFERROR('Level 3'!AP16-'Level 2'!AP16,\"*\")","v":1.5550000000000008E-2},{"$f":"IFERROR('Level 3'!AQ16-'Level 2'!AQ16,\"*\")","v":1.6350000000000003E-2},{"$f":"IFERROR('Level 3'!AR16-'Level 2'!AR16,\"*\")","v":1.8049999999999997E-2},{"$f":"IFERROR('Level 3'!AS16-'Level 2'!AS16,\"*\")","v":1.9350000000000006E-2},{"$f":"IFERROR('Level 3'!AT16-'Level 2'!AT16,\"*\")","v":1.999999999999999E-2},{"$f":"IFERROR('Level 3'!AU16-'Level 2'!AU16,\"*\")","v":2.23E-2},{"$f":"IFERROR('Level 3'!AV16-'Level 2'!AV16,\"*\")","v":2.2999999999999993E-2},{"$f":"IFERROR('Level 3'!AW16-'Level 2'!AW16,\"*\")","v":2.3649999999999977E-2},{"$f":"IFERROR('Level 3'!AX16-'Level 2'!AX16,\"*\")","v":2.4299999999999988E-2},{"$f":"IFERROR('Level 3'!AY16-'Level 2'!AY16,\"*\")","v":"*"},null,{"$f":"'Level 1'!BA16","v":"France"},{"$f":"IFERROR('Level 3'!BB16-'Level 2'!BB16,\"*\")","v":1.5299999999999994E-2},{"$f":"IFERROR('Level 3'!BC16-'Level 2'!BC16,\"*\")","v":1.5699999999999992E-2},{"$f":"IFERROR('Level 3'!BD16-'Level 2'!BD16,\"*\")","v":1.6100000000000003E-2},{"$f":"IFERROR('Level 3'!BE16-'Level 2'!BE16,\"*\")","v":1.7899999999999999E-2},{"$f":"IFERROR('Level 3'!BF16-'Level 2'!BF16,\"*\")","v":1.9450000000000009E-2},{"$f":"IFERROR('Level 3'!BG16-'Level 2'!BG16,\"*\")","v":2.0150000000000015E-2},{"$f":"IFERROR('Level 3'!BH16-'Level 2'!BH16,\"*\")","v":2.0600000000000007E-2},{"$f":"IFERROR('Level 3'!BI16-'Level 2'!BI16,\"*\")","v":2.2100000000000009E-2},{"$f":"IFERROR('Level 3'!BJ16-'Level 2'!BJ16,\"*\")","v":2.3750000000000021E-2},{"$f":"IFERROR('Level 3'!BK16-'Level 2'!BK16,\"*\")","v":2.4400000000000005E-2},{"$f":"IFERROR('Level 3'!BL16-'Level 2'!BL16,\"*\")","v":"*"}]
[{"$f":"'Level 1'!A17","v":"Croatia"},{"$f":"IFERROR('Level 3'!B17-'Level 2'!B17,\"*\")","v":2.930000000000002E-2},{"$f":"IFERROR('Level 3'!C17-'Level 2'!C17,\"*\")","v":3.5349999999999993E-2},{"$f":"IFERROR('Level 3'!D17-'Level 2'!D17,\"*\")","v":3.4750000000000003E-2},{"$f":"IFERROR('Level 3'!E17-'Level 2'!E17,\"*\")","v":3.4599999999999992E-2},{"$f":"IFERROR('Level 3'!F17-'Level 2'!F17,\"*\")","v":3.5049999999999998E-2},{"$f":"IFERROR('Level 3'!G17-'Level 2'!G17,\"*\")","v":4.4899999999999995E-2},{"$f":"IFERROR('Level 3'!H17-'Level 2'!H17,\"*\")","v":4.5600000000000002E-2},{"$f":"IFERROR('Level 3'!I17-'Level 2'!I17,\"*\")","v":4.3749999999999983E-2},{"$f":"IFERROR('Level 3'!J17-'Level 2'!J17,\"*\")","v":4.200000000000001E-2},{"$f":"IFERROR('Level 3'!K17-'Level 2'!K17,\"*\")","v":4.5300000000000007E-2},{"$f":"IFERROR('Level 3'!L17-'Level 2'!L17,\"*\")","v":"*"},null,{"$f":"'Level 1'!N17","v":"Croatia"},{"$f":"IFERROR('Level 3'!O17-'Level 2'!O17,\"*\")","v":2.1099999999999994E-2},{"$f":"IFERROR('Level 3'!P17-'Level 2'!P17,\"*\")","v":2.0750000000000018E-2},{"$f":"IFERROR('Level 3'!Q17-'Level 2'!Q17,\"*\")","v":1.974999999999999E-2},{"$f":"IFERROR('Level 3'!R17-'Level 2'!R17,\"*\")","v":2.1050000000000013E-2},{"$f":"IFERROR('Level 3'!S17-'Level 2'!S17,\"*\")","v":2.205E-2},{"$f":"IFERROR('Level 3'!T17-'Level 2'!T17,\"*\")","v":2.7950000000000003E-2},{"$f":"IFERROR('Level 3'!U17-'Level 2'!U17,\"*\")","v":2.9600000000000001E-2},{"$f":"IFERROR('Level 3'!V17-'Level 2'!V17,\"*\")","v":2.86E-2},{"$f":"IFERROR('Level 3'!W17-'Level 2'!W17,\"*\")","v":2.8450000000000003E-2},{"$f":"IFERROR('Level 3'!X17-'Level 2'!X17,\"*\")","v":2.8499999999999998E-2},{"$f":"IFERROR('Level 3'!Y17-'Level 2'!Y17,\"*\")","v":"*"},null,{"$f":"'Level 1'!AA17","v":"Croatia"},{"$f":"IFERROR('Level 3'!AB17-'Level 2'!AB17,\"*\")","v":1.7049999999999996E-2},{"$f":"IFERROR('Level 3'!AC17-'Level 2'!AC17,\"*\")","v":1.9350000000000006E-2},{"$f":"IFERROR('Level 3'!AD17-'Level 2'!AD17,\"*\")","v":2.1099999999999994E-2},{"$f":"IFERROR('Level 3'!AE17-'Level 2'!AE17,\"*\")","v":2.1400000000000002E-2},{"$f":"IFERROR('Level 3'!AF17-'Level 2'!AF17,\"*\")","v":2.1299999999999999E-2},{"$f":"IFERROR('Level 3'!AG17-'Level 2'!AG17,\"*\")","v":2.5699999999999987E-2},{"$f":"IFERROR('Level 3'!AH17-'Level 2'!AH17,\"*\")","v":2.7200000000000002E-2},{"$f":"IFERROR('Level 3'!AI17-'Level 2'!AI17,\"*\")","v":2.6350000000000012E-2},{"$f":"IFERROR('Level 3'!AJ17-'Level 2'!AJ17,\"*\")","v":2.6300000000000018E-2},{"$f":"IFERROR('Level 3'!AK17-'Level 2'!AK17,\"*\")","v":2.6200000000000001E-2},{"$f":"IFERROR('Level 3'!AL17-'Level 2'!AL17,\"*\")","v":"*"},null,{"$f":"'Level 1'!AN17","v":"Croatia"},{"$f":"IFERROR('Level 3'!AO17-'Level 2'!AO17,\"*\")","v":1.634999999999999E-2},{"$f":"IFERROR('Level 3'!AP17-'Level 2'!AP17,\"*\")","v":1.8750000000000017E-2},{"$f":"IFERROR('Level 3'!AQ17-'Level 2'!AQ17,\"*\")","v":1.9750000000000004E-2},{"$f":"IFERROR('Level 3'!AR17-'Level 2'!AR17,\"*\")","v":2.0500000000000004E-2},{"$f":"IFERROR('Level 3'!AS17-'Level 2'!AS17,\"*\")","v":2.0400000000000001E-2},{"$f":"IFERROR('Level 3'!AT17-'Level 2'!AT17,\"*\")","v":2.4349999999999997E-2},{"$f":"IFERROR('Level 3'!AU17-'Level 2'!AU17,\"*\")","v":2.5949999999999973E-2},{"$f":"IFERROR('Level 3'!AV17-'Level 2'!AV17,\"*\")","v":2.5249999999999995E-2},{"$f":"IFERROR('Level 3'!AW17-'Level 2'!AW17,\"*\")","v":2.5200000000000014E-2},{"$f":"IFERROR('Level 3'!AX17-'Level 2'!AX17,\"*\")","v":2.5099999999999997E-2},{"$f":"IFERROR('Level 3'!AY17-'Level 2'!AY17,\"*\")","v":"*"},null,{"$f":"'Level 1'!BA17","v":"Croatia"},{"$f":"IFERROR('Level 3'!BB17-'Level 2'!BB17,\"*\")","v":1.4300000000000007E-2},{"$f":"IFERROR('Level 3'!BC17-'Level 2'!BC17,\"*\")","v":1.7299999999999996E-2},{"$f":"IFERROR('Level 3'!BD17-'Level 2'!BD17,\"*\")","v":1.9750000000000018E-2},{"$f":"IFERROR('Level 3'!BE17-'Level 2'!BE17,\"*\")","v":2.0100000000000007E-2},{"$f":"IFERROR('Level 3'!BF17-'Level 2'!BF17,\"*\")","v":1.9600000000000006E-2},{"$f":"IFERROR('Level 3'!BG17-'Level 2'!BG17,\"*\")","v":2.339999999999999E-2},{"$f":"IFERROR('Level 3'!BH17-'Level 2'!BH17,\"*\")","v":2.5099999999999983E-2},{"$f":"IFERROR('Level 3'!BI17-'Level 2'!BI17,\"*\")","v":2.445E-2},{"$f":"IFERROR('Level 3'!BJ17-'Level 2'!BJ17,\"*\")","v":2.4349999999999997E-2},{"$f":"IFERROR('Level 3'!BK17-'Level 2'!BK17,\"*\")","v":2.4300000000000002E-2},{"$f":"IFERROR('Level 3'!BL17-'Level 2'!BL17,\"*\")","v":"*"}]
[{"$f":"'Level 1'!A18","v":"Italy"},{"$f":"IFERROR('Level 3'!B18-'Level 2'!B18,\"*\")","v":"*"},{"$f":"IFERROR('Level 3'!C18-'Level 2'!C18,\"*\")","v":2.4849999999999983E-2},{"$f":"IFERROR('Level 3'!D18-'Level 2'!D18,\"*\")","v":2.5700000000000056E-2},{"$f":"IFERROR('Level 3'!E18-'Level 2'!E18,\"*\")","v":2.4950000000000028E-2},{"$f":"IFERROR('Level 3'!F18-'Level 2'!F18,\"*\")","v":2.3450000000000026E-2},{"$f":"IFERROR('Level 3'!G18-'Level 2'!G18,\"*\")","v":2.4299999999999988E-2},{"$f":"IFERROR('Level 3'!H18-'Level 2'!H18,\"*\")","v":2.5549999999999962E-2},{"$f":"IFERROR('Level 3'!I18-'Level 2'!I18,\"*\")","v":2.6849999999999985E-2},{"$f":"IFERROR('Level 3'!J18-'Level 2'!J18,\"*\")","v":2.7000000000000024E-2},{"$f":"IFERROR('Level 3'!K18-'Level 2'!K18,\"*\")","v":2.9000000000000026E-2},{"$f":"IFERROR('Level 3'!L18-'Level 2'!L18,\"*\")","v":"*"},null,{"$f":"'Level 1'!N18","v":"Italy"},{"$f":"IFERROR('Level 3'!O18-'Level 2'!O18,\"*\")","v":"*"},{"$f":"IFERROR('Level 3'!P18-'Level 2'!P18,\"*\")","v":1.5149999999999997E-2},{"$f":"IFERROR('Level 3'!Q18-'Level 2'!Q18,\"*\")","v":1.535000000000003E-2},{"$f":"IFERROR('Level 3'!R18-'Level 2'!R18,\"*\")","v":1.4600000000000002E-2},{"$f":"IFERROR('Level 3'!S18-'Level 2'!S18,\"*\")","v":1.5149999999999997E-2},{"$f":"IFERROR('Level 3'!T18-'Level 2'!T18,\"*\")","v":1.7850000000000005E-2},{"$f":"IFERROR('Level 3'!U18-'Level 2'!U18,\"*\")","v":1.8100000000000005E-2},{"$f":"IFERROR('Level 3'!V18-'Level 2'!V18,\"*\")","v":1.9199999999999995E-2},{"$f":"IFERROR('Level 3'!W18-'Level 2'!W18,\"*\")","v":1.915E-2},{"$f":"IFERROR('Level 3'!X18-'Level 2'!X18,\"*\")","v":1.9699999999999995E-2},{"$f":"IFERROR('Level 3'!Y18-'Level 2'!Y18,\"*\")","v":"*"},null,{"$f":"'Level 1'!AA18","v":"Italy"},{"$f":"IFERROR('Level 3'!AB18-'Level 2'!AB18,\"*\")","v":"*"},{"$f":"IFERROR('Level 3'!AC18-'Level 2'!AC18,\"*\")","v":1.9250000000000017E-2},{"$f":"IFERROR('Level 3'!AD18-'Level 2'!AD18,\"*\")","v":1.8499999999999989E-2},{"$f":"IFERROR('Level 3'!AE18-'Level 2'!AE18,\"*\")","v":1.7200000000000021E-2},{"$f":"IFERROR('Level 3'!AF18-'Level 2'!AF18,\"*\")","v":1.7949999999999994E-2},{"$f":"IFERROR('Level 3'!AG18-'Level 2'!AG18,\"*\")","v":2.0299999999999985E-2},{"$f":"IFERROR('Level 3'!AH18-'Level 2'!AH18,\"*\")","v":2.1050000000000013E-2},{"$f":"IFERROR('Level 3'!AI18-'Level 2'!AI18,\"*\")","v":2.1750000000000047E-2},{"$f":"IFERROR('Level 3'!AJ18-'Level 2'!AJ18,\"*\")","v":2.2199999999999998E-2},{"$f":"IFERROR('Level 3'!AK18-'Level 2'!AK18,\"*\")","v":2.1899999999999975E-2},{"$f":"IFERROR('Level 3'!AL18-'Level 2'!AL18,\"*\")","v":"*"},null,{"$f":"'Level 1'!AN18","v":"Italy"},{"$f":"IFERROR('Level 3'!AO18-'Level 2'!AO18,\"*\")","v":"*"},{"$f":"IFERROR('Level 3'!AP18-'Level 2'!AP18,\"*\")","v":2.1300000000000013E-2},{"$f":"IFERROR('Level 3'!AQ18-'Level 2'!AQ18,\"*\")","v":2.3599999999999982E-2},{"$f":"IFERROR('Level 3'!AR18-'Level 2'!AR18,\"*\")","v":2.1650000000000003E-2},{"$f":"IFERROR('Level 3'!AS18-'Level 2'!AS18,\"*\")","v":2.2449999999999998E-2},{"$f":"IFERROR('Level 3'!AT18-'Level 2'!AT18,\"*\")","v":2.5249999999999967E-2},{"$f":"IFERROR('Level 3'!AU18-'Level 2'!AU18,\"*\")","v":2.6100000000000068E-2},{"$f":"IFERROR('Level 3'!AV18-'Level 2'!AV18,\"*\")","v":2.7099999999999957E-2},{"$f":"IFERROR('Level 3'!AW18-'Level 2'!AW18,\"*\")","v":2.7700000000000002E-2},{"$f":"IFERROR('Level 3'!AX18-'Level 2'!AX18,\"*\")","v":2.5800000000000045E-2},{"$f":"IFERROR('Level 3'!AY18-'Level 2'!AY18,\"*\")","v":"*"},null,{"$f":"'Level 1'!BA18","v":"Italy"},{"$f":"IFERROR('Level 3'!BB18-'Level 2'!BB18,\"*\")","v":"*"},{"$f":"IFERROR('Level 3'!BC18-'Level 2'!BC18,\"*\")","v":2.0299999999999985E-2},{"$f":"IFERROR('Level 3'!BD18-'Level 2'!BD18,\"*\")","v":2.7050000000000018E-2},{"$f":"IFERROR('Level 3'!BE18-'Level 2'!BE18,\"*\")","v":2.2300000000000042E-2},{"$f":"IFERROR('Level 3'!BF18-'Level 2'!BF18,\"*\")","v":3.4250000000000003E-2},{"$f":"IFERROR('Level 3'!BG18-'Level 2'!BG18,\"*\")","v":2.8250000000000053E-2},{"$f":"IFERROR('Level 3'!BH18-'Level 2'!BH18,\"*\")","v":2.8649999999999953E-2},{"$f":"IFERROR('Level 3'!BI18-'Level 2'!BI18,\"*\")","v":3.0549999999999966E-2},{"$f":"IFERROR('Level 3'!BJ18-'Level 2'!BJ18,\"*\")","v":3.075E-2},{"$f":"IFERROR('Level 3'!BK18-'Level 2'!BK18,\"*\")","v":2.6600000000000013E-2},{"$f":"IFERROR('Level 3'!BL18-'Level 2'!BL18,\"*\")","v":"*"}]
[{"$f":"'Level 1'!A19","v":"Cyprus"},{"$f":"IFERROR('Level 3'!B19-'Level 2'!B19,\"*\")","v":2.159999999999998E-2},{"$f":"IFERROR('Level 3'!C19-'Level 2'!C19,\"*\")","v":2.5249999999999995E-2},{"$f":"IFERROR('Level 3'!D19-'Level 2'!D19,\"*\")","v":1.9249999999999989E-2},{"$f":"IFERROR('Level 3'!E19-'Level 2'!E19,\"*\")","v":2.795000000000003E-2},{"$f":"IFERROR('Level 3'!F19-'Level 2'!F19,\"*\")","v":3.2150000000000012E-2},{"$f":"IFERROR('Level 3'!G19-'Level 2'!G19,\"*\")","v":4.450000000000004E-2},{"$f":"IFERROR('Level 3'!H19-'Level 2'!H19,\"*\")","v":4.3150000000000022E-2},{"$f":"IFERROR('Level 3'!I19-'Level 2'!I19,\"*\")","v":4.1449999999999987E-2},{"$f":"IFERROR('Level 3'!J19-'Level 2'!J19,\"*\")","v":3.5949999999999982E-2},{"$f":"IFERROR('Level 3'!K19-'Level 2'!K19,\"*\")","v":3.0700000000000005E-2},{"$f":"IFERROR('Level 3'!L19-'Level 2'!L19,\"*\")","v":"*"},null,{"$f":"'Level 1'!N19","v":"Cyprus"},{"$f":"IFERROR('Level 3'!O19-'Level 2'!O19,\"*\")","v":2.0000000000000018E-2},{"$f":"IFERROR('Level 3'!P19-'Level 2'!P19,\"*\")","v":2.354999999999996E-2},{"$f":"IFERROR('Level 3'!Q19-'Level 2'!Q19,\"*\")","v":1.8100000000000005E-2},{"$f":"IFERROR('Level 3'!R19-'Level 2'!R19,\"*\")","v":2.4799999999999989E-2},{"$f":"IFERROR('Level 3'!S19-'Level 2'!S19,\"*\")","v":2.8450000000000031E-2},{"$f":"IFERROR('Level 3'!T19-'Level 2'!T19,\"*\")","v":3.9500000000000035E-2},{"$f":"IFERROR('Level 3'!U19-'Level 2'!U19,\"*\")","v":3.8700000000000012E-2},{"$f":"IFERROR('Level 3'!V19-'Level 2'!V19,\"*\")","v":3.6000000000000004E-2},{"$f":"IFERROR('Level 3'!W19-'Level 2'!W19,\"*\")","v":2.9350000000000015E-2},{"$f":"IFERROR('Level 3'!X19-'Level 2'!X19,\"*\")","v":2.360000000000001E-2},{"$f":"IFERROR('Level 3'!Y19-'Level 2'!Y19,\"*\")","v":"*"},null,{"$f":"'Level 1'!AA19","v":"Cyprus"},{"$f":"IFERROR('Level 3'!AB19-'Level 2'!AB19,\"*\")","v":2.0199999999999996E-2},{"$f":"IFERROR('Level 3'!AC19-'Level 2'!AC19,\"*\")","v":2.47E-2},{"$f":"IFERROR('Level 3'!AD19-'Level 2'!AD19,\"*\")","v":2.0549999999999985E-2},{"$f":"IFERROR('Level 3'!AE19-'Level 2'!AE19,\"*\")","v":2.4850000000000011E-2},{"$f":"IFERROR('Level 3'!AF19-'Level 2'!AF19,\"*\")","v":2.8549999999999992E-2},{"$f":"IFERROR('Level 3'!AG19-'Level 2'!AG19,\"*\")","v":3.949999999999998E-2},{"$f":"IFERROR('Level 3'!AH19-'Level 2'!AH19,\"*\")","v":3.8950000000000012E-2},{"$f":"IFERROR('Level 3'!AI19-'Level 2'!AI19,\"*\")","v":3.6099999999999993E-2},{"$f":"IFERROR('Level 3'!AJ19-'Level 2'!AJ19,\"*\")","v":2.9450000000000004E-2},{"$f":"IFERROR('Level 3'!AK19-'Level 2'!AK19,\"*\")","v":2.360000000000001E-2},{"$f":"IFERROR('Level 3'!AL19-'Level 2'!AL19,\"*\")","v":"*"},null,{"$f":"'Level 1'!AN19","v":"Cyprus"},{"$f":"IFERROR('Level 3'!AO19-'Level 2'!AO19,\"*\")","v":2.0199999999999996E-2},{"$f":"IFERROR('Level 3'!AP19-'Level 2'!AP19,\"*\")","v":2.5049999999999989E-2},{"$f":"IFERROR('Level 3'!AQ19-'Level 2'!AQ19,\"*\")","v":2.1000000000000019E-2},{"$f":"IFERROR('Level 3'!AR19-'Level 2'!AR19,\"*\")","v":2.4400000000000005E-2},{"$f":"IFERROR('Level 3'!AS19-'Level 2'!AS19,\"*\")","v":2.7949999999999975E-2},{"$f":"IFERROR('Level 3'!AT19-'Level 2'!AT19,\"*\")","v":3.8850000000000023E-2},{"$f":"IFERROR('Level 3'!AU19-'Level 2'!AU19,\"*\")","v":3.8449999999999984E-2},{"$f":"IFERROR('Level 3'!AV19-'Level 2'!AV19,\"*\")","v":3.5599999999999993E-2},{"$f":"IFERROR('Level 3'!AW19-'Level 2'!AW19,\"*\")","v":2.8950000000000004E-2},{"$f":"IFERROR('Level 3'!AX19-'Level 2'!AX19,\"*\")","v":2.2599999999999995E-2},{"$f":"IFERROR('Level 3'!AY19-'Level 2'!AY19,\"*\")","v":"*"},null,{"$f":"'Level 1'!BA19","v":"Cyprus"},{"$f":"IFERROR('Level 3'!BB19-'Level 2'!BB19,\"*\")","v":2.0299999999999985E-2},{"$f":"IFERROR('Level 3'!BC19-'Level 2'!BC19,\"*\")","v":2.5249999999999995E-2},{"$f":"IFERROR('Level 3'!BD19-'Level 2'!BD19,\"*\")","v":2.1249999999999991E-2},{"$f":"IFERROR('Level 3'!BE19-'Level 2'!BE19,\"*\")","v":2.300000000000002E-2},{"$f":"IFERROR('Level 3'!BF19-'Level 2'!BF19,\"*\")","v":2.6499999999999968E-2},{"$f":"IFERROR('Level 3'!BG19-'Level 2'!BG19,\"*\")","v":3.6799999999999999E-2},{"$f":"IFERROR('Level 3'!BH19-'Level 2'!BH19,\"*\")","v":3.6699999999999983E-2},{"$f":"IFERROR('Level 3'!BI19-'Level 2'!BI19,\"*\")","v":3.3799999999999969E-2},{"$f":"IFERROR('Level 3'!BJ19-'Level 2'!BJ19,\"*\")","v":2.6999999999999996E-2},{"$f":"IFERROR('Level 3'!BK19-'Level 2'!BK19,\"*\")","v":1.9900000000000001E-2},{"$f":"IFERROR('Level 3'!BL19-'Level 2'!BL19,\"*\")","v":"*"}]
[{"$f":"'Level 1'!A20","v":"Latvia"},{"$f":"IFERROR('Level 3'!B20-'Level 2'!B20,\"*\")","v":3.4000000000000002E-3},{"$f":"IFERROR('Level 3'!C20-'Level 2'!C20,\"*\")","v":4.4500000000000095E-3},{"$f":"IFERROR('Level 3'!D20-'Level 2'!D20,\"*\")","v":9.5999999999999974E-3},{"$f":"IFERROR('Level 3'!E20-'Level 2'!E20,\"*\")","v":9.5999999999999974E-3},{"$f":"IFERROR('Level 3'!F20-'Level 2'!F20,\"*\")","v":2.1150000000000016E-2},{"$f":"IFERROR('Level 3'!G20-'Level 2'!G20,\"*\")","v":2.0449999999999996E-2},{"$f":"IFERROR('Level 3'!H20-'Level 2'!H20,\"*\")","v":2.0250000000000018E-2},{"$f":"IFERROR('Level 3'!I20-'Level 2'!I20,\"*\")","v":1.7400000000000013E-2},{"$f":"IFERROR('Level 3'!J20-'Level 2'!J20,\"*\")","v":2.7300000000000019E-2},{"$f":"IFERROR('Level 3'!K20-'Level 2'!K20,\"*\")","v":2.7999999999999997E-2},{"$f":"IFERROR('Level 3'!L20-'Level 2'!L20,\"*\")","v":"*"},null,{"$f":"'Level 1'!N20","v":"Latvia"},{"$f":"IFERROR('Level 3'!O20-'Level 2'!O20,\"*\")","v":3.4000000000000002E-3},{"$f":"IFERROR('Level 3'!P20-'Level 2'!P20,\"*\")","v":4.4500000000000095E-3},{"$f":"IFERROR('Level 3'!Q20-'Level 2'!Q20,\"*\")","v":9.5000000000000084E-3},{"$f":"IFERROR('Level 3'!R20-'Level 2'!R20,\"*\")","v":9.5000000000000084E-3},{"$f":"IFERROR('Level 3'!S20-'Level 2'!S20,\"*\")","v":2.1400000000000002E-2},{"$f":"IFERROR('Level 3'!T20-'Level 2'!T20,\"*\")","v":2.200000000000002E-2},{"$f":"IFERROR('Level 3'!U20-'Level 2'!U20,\"*\")","v":2.1799999999999986E-2},{"$f":"IFERROR('Level 3'!V20-'Level 2'!V20,\"*\")","v":1.89E-2},{"$f":"IFERROR('Level 3'!W20-'Level 2'!W20,\"*\")","v":2.8650000000000009E-2},{"$f":"IFERROR('Level 3'!X20-'Level 2'!X20,\"*\")","v":2.830000000000002E-2},{"$f":"IFERROR('Level 3'!Y20-'Level 2'!Y20,\"*\")","v":"*"},null,{"$f":"'Level 1'!AA20","v":"Latvia"},{"$f":"IFERROR('Level 3'!AB20-'Level 2'!AB20,\"*\")","v":3.4000000000000002E-3},{"$f":"IFERROR('Level 3'!AC20-'Level 2'!AC20,\"*\")","v":4.4000000000000011E-3},{"$f":"IFERROR('Level 3'!AD20-'Level 2'!AD20,\"*\")","v":9.5000000000000084E-3},{"$f":"IFERROR('Level 3'!AE20-'Level 2'!AE20,\"*\")","v":9.5000000000000084E-3},{"$f":"IFERROR('Level 3'!AF20-'Level 2'!AF20,\"*\")","v":2.2650000000000003E-2},{"$f":"IFERROR('Level 3'!AG20-'Level 2'!AG20,\"*\")","v":2.3800000000000016E-2},{"$f":"IFERROR('Level 3'!AH20-'Level 2'!AH20,\"*\")","v":2.3650000000000004E-2},{"$f":"IFERROR('Level 3'!AI20-'Level 2'!AI20,\"*\")","v":2.0800000000000013E-2},{"$f":"IFERROR('Level 3'!AJ20-'Level 2'!AJ20,\"*\")","v":2.8500000000000025E-2},{"$f":"IFERROR('Level 3'!AK20-'Level 2'!AK20,\"*\")","v":2.8299999999999992E-2},{"$f":"IFERROR('Level 3'!AL20-'Level 2'!AL20,\"*\")","v":"*"},null,{"$f":"'Level 1'!AN20","v":"Latvia"},{"$f":"IFERROR('Level 3'!AO20-'Level 2'!AO20,\"*\")","v":3.4000000000000002E-3},{"$f":"IFERROR('Level 3'!AP20-'Level 2'!AP20,\"*\")","v":4.2999999999999983E-3},{"$f":"IFERROR('Level 3'!AQ20-'Level 2'!AQ20,\"*\")","v":9.5999999999999974E-3},{"$f":"IFERROR('Level 3'!AR20-'Level 2'!AR20,\"*\")","v":9.5999999999999974E-3},{"$f":"IFERROR('Level 3'!AS20-'Level 2'!AS20,\"*\")","v":2.360000000000001E-2},{"$f":"IFERROR('Level 3'!AT20-'Level 2'!AT20,\"*\")","v":2.5050000000000017E-2},{"$f":"IFERROR('Level 3'!AU20-'Level 2'!AU20,\"*\")","v":2.4800000000000016E-2},{"$f":"IFERROR('Level 3'!AV20-'Level 2'!AV20,\"*\")","v":2.1900000000000003E-2},{"$f":"IFERROR('Level 3'!AW20-'Level 2'!AW20,\"*\")","v":2.8349999999999986E-2},{"$f":"IFERROR('Level 3'!AX20-'Level 2'!AX20,\"*\")","v":2.8099999999999986E-2},{"$f":"IFERROR('Level 3'!AY20-'Level 2'!AY20,\"*\")","v":"*"},null,{"$f":"'Level 1'!BA20","v":"Latvia"},{"$f":"IFERROR('Level 3'!BB20-'Level 2'!BB20,\"*\")","v":3.2999999999999974E-3},{"$f":"IFERROR('Level 3'!BC20-'Level 2'!BC20,\"*\")","v":4.2499999999999899E-3},{"$f":"IFERROR('Level 3'!BD20-'Level 2'!BD20,\"*\")","v":9.5000000000000084E-3},{"$f":"IFERROR('Level 3'!BE20-'Level 2'!BE20,\"*\")","v":9.4499999999999862E-3},{"$f":"IFERROR('Level 3'!BF20-'Level 2'!BF20,\"*\")","v":2.3949999999999999E-2},{"$f":"IFERROR('Level 3'!BG20-'Level 2'!BG20,\"*\")","v":2.545E-2},{"$f":"IFERROR('Level 3'!BH20-'Level 2'!BH20,\"*\")","v":2.4599999999999983E-2},{"$f":"IFERROR('Level 3'!BI20-'Level 2'!BI20,\"*\")","v":2.250000000000002E-2},{"$f":"IFERROR('Level 3'!BJ20-'Level 2'!BJ20,\"*\")","v":2.7950000000000003E-2},{"$f":"IFERROR('Level 3'!BK20-'Level 2'!BK20,\"*\")","v":2.7499999999999997E-2},{"$f":"IFERROR('Level 3'!BL20-'Level 2'!BL20,\"*\")","v":"*"}]
[{"$f":"'Level 1'!A21","v":"Lithuania"},{"$f":"IFERROR('Level 3'!B21-'Level 2'!B21,\"*\")","v":1.4600000000000002E-2},{"$f":"IFERROR('Level 3'!C21-'Level 2'!C21,\"*\")","v":1.4100000000000001E-2},{"$f":"IFERROR('Level 3'!D21-'Level 2'!D21,\"*\")","v":1.6550000000000009E-2},{"$f":"IFERROR('Level 3'!E21-'Level 2'!E21,\"*\")","v":2.1449999999999997E-2},{"$f":"IFERROR('Level 3'!F21-'Level 2'!F21,\"*\")","v":2.2850000000000009E-2},{"$f":"IFERROR('Level 3'!G21-'Level 2'!G21,\"*\")","v":2.2800000000000015E-2},{"$f":"IFERROR('Level 3'!H21-'Level 2'!H21,\"*\")","v":2.4799999999999989E-2},{"$f":"IFERROR('Level 3'!I21-'Level 2'!I21,\"*\")","v":2.3650000000000004E-2},{"$f":"IFERROR('Level 3'!J21-'Level 2'!J21,\"*\")","v":2.2199999999999998E-2},{"$f":"IFERROR('Level 3'!K21-'Level 2'!K21,\"*\")","v":2.1899999999999989E-2},{"$f":"IFERROR('Level 3'!L21-'Level 2'!L21,\"*\")","v":"*"},null,{"$f":"'Level 1'!N21","v":"Lithuania"},{"$f":"IFERROR('Level 3'!O21-'Level 2'!O21,\"*\")","v":1.3700000000000004E-2},{"$f":"IFERROR('Level 3'!P21-'Level 2'!P21,\"*\")","v":1.3649999999999995E-2},{"$f":"IFERROR('Level 3'!Q21-'Level 2'!Q21,\"*\")","v":1.6E-2},{"$f":"IFERROR('Level 3'!R21-'Level 2'!R21,\"*\")","v":2.0999999999999991E-2},{"$f":"IFERROR('Level 3'!S21-'Level 2'!S21,\"*\")","v":2.1900000000000003E-2},{"$f":"IFERROR('Level 3'!T21-'Level 2'!T21,\"*\")","v":2.2400000000000003E-2},{"$f":"IFERROR('Level 3'!U21-'Level 2'!U21,\"*\")","v":2.4300000000000016E-2},{"$f":"IFERROR('Level 3'!V21-'Level 2'!V21,\"*\")","v":2.3300000000000015E-2},{"$f":"IFERROR('Level 3'!W21-'Level 2'!W21,\"*\")","v":2.2049999999999986E-2},{"$f":"IFERROR('Level 3'!X21-'Level 2'!X21,\"*\")","v":2.1699999999999983E-2},{"$f":"IFERROR('Level 3'!Y21-'Level 2'!Y21,\"*\")","v":"*"},null,{"$f":"'Level 1'!AA21","v":"Lithuania"},{"$f":"IFERROR('Level 3'!AB21-'Level 2'!AB21,\"*\")","v":1.3299999999999992E-2},{"$f":"IFERROR('Level 3'!AC21-'Level 2'!AC21,\"*\")","v":1.319999999999999E-2},{"$f":"IFERROR('Level 3'!AD21-'Level 2'!AD21,\"*\")","v":1.55E-2},{"$f":"IFERROR('Level 3'!AE21-'Level 2'!AE21,\"*\")","v":2.0599999999999993E-2},{"$f":"IFERROR('Level 3'!AF21-'Level 2'!AF21,\"*\")","v":2.1099999999999994E-2},{"$f":"IFERROR('Level 3'!AG21-'Level 2'!AG21,\"*\")","v":2.1900000000000003E-2},{"$f":"IFERROR('Level 3'!AH21-'Level 2'!AH21,\"*\")","v":2.3949999999999999E-2},{"$f":"IFERROR('Level 3'!AI21-'Level 2'!AI21,\"*\")","v":2.300000000000002E-2},{"$f":"IFERROR('Level 3'!AJ21-'Level 2'!AJ21,\"*\")","v":2.1699999999999983E-2},{"$f":"IFERROR('Level 3'!AK21-'Level 2'!AK21,\"*\")","v":2.1400000000000002E-2},{"$f":"IFERROR('Level 3'!AL21-'Level 2'!AL21,\"*\")","v":"*"},null,{"$f":"'Level 1'!AN21","v":"Lithuania"},{"$f":"IFERROR('Level 3'!AO21-'Level 2'!AO21,\"*\")","v":1.26E-2},{"$f":"IFERROR('Level 3'!AP21-'Level 2'!AP21,\"*\")","v":1.2450000000000003E-2},{"$f":"IFERROR('Level 3'!AQ21-'Level 2'!AQ21,\"*\")","v":1.4700000000000005E-2},{"$f":"IFERROR('Level 3'!AR21-'Level 2'!AR21,\"*\")","v":1.974999999999999E-2},{"$f":"IFERROR('Level 3'!AS21-'Level 2'!AS21,\"*\")","v":2.0449999999999996E-2},{"$f":"IFERROR('Level 3'!AT21-'Level 2'!AT21,\"*\")","v":2.1400000000000002E-2},{"$f":"IFERROR('Level 3'!AU21-'Level 2'!AU21,\"*\")","v":2.3349999999999996E-2},{"$f":"IFERROR('Level 3'!AV21-'Level 2'!AV21,\"*\")","v":2.2349999999999981E-2},{"$f":"IFERROR('Level 3'!AW21-'Level 2'!AW21,\"*\")","v":2.0949999999999996E-2},{"$f":"IFERROR('Level 3'!AX21-'Level 2'!AX21,\"*\")","v":2.0599999999999993E-2},{"$f":"IFERROR('Level 3'!AY21-'Level 2'!AY21,\"*\")","v":"*"},null,{"$f":"'Level 1'!BA21","v":"Lithuania"},{"$f":"IFERROR('Level 3'!BB21-'Level 2'!BB21,\"*\")","v":1.1999999999999997E-2},{"$f":"IFERROR('Level 3'!BC21-'Level 2'!BC21,\"*\")","v":1.1649999999999994E-2},{"$f":"IFERROR('Level 3'!BD21-'Level 2'!BD21,\"*\")","v":1.3499999999999984E-2},{"$f":"IFERROR('Level 3'!BE21-'Level 2'!BE21,\"*\")","v":1.8749999999999989E-2},{"$f":"IFERROR('Level 3'!BF21-'Level 2'!BF21,\"*\")","v":1.9249999999999989E-2},{"$f":"IFERROR('Level 3'!BG21-'Level 2'!BG21,\"*\")","v":2.0199999999999996E-2},{"$f":"IFERROR('Level 3'!BH21-'Level 2'!BH21,\"*\")","v":2.1949999999999983E-2},{"$f":"IFERROR('Level 3'!BI21-'Level 2'!BI21,\"*\")","v":2.0949999999999996E-2},{"$f":"IFERROR('Level 3'!BJ21-'Level 2'!BJ21,\"*\")","v":1.9650000000000001E-2},{"$f":"IFERROR('Level 3'!BK21-'Level 2'!BK21,\"*\")","v":1.9199999999999995E-2},{"$f":"IFERROR('Level 3'!BL21-'Level 2'!BL21,\"*\")","v":"*"}]
[{"$f":"'Level 1'!A22","v":"Luxembourg"},{"$f":"IFERROR('Level 3'!B22-'Level 2'!B22,\"*\")","v":1.5199999999999991E-2},{"$f":"IFERROR('Level 3'!C22-'Level 2'!C22,\"*\")","v":1.3850000000000001E-2},{"$f":"IFERROR('Level 3'!D22-'Level 2'!D22,\"*\")","v":1.5200000000000047E-2},{"$f":"IFERROR('Level 3'!E22-'Level 2'!E22,\"*\")","v":1.3950000000000018E-2},{"$f":"IFERROR('Level 3'!F22-'Level 2'!F22,\"*\")","v":1.4049999999999979E-2},{"$f":"IFERROR('Level 3'!G22-'Level 2'!G22,\"*\")","v":1.394999999999999E-2},{"$f":"IFERROR('Level 3'!H22-'Level 2'!H22,\"*\")","v":1.3149999999999995E-2},{"$f":"IFERROR('Level 3'!I22-'Level 2'!I22,\"*\")","v":1.3300000000000006E-2},{"$f":"IFERROR('Level 3'!J22-'Level 2'!J22,\"*\")","v":1.7699999999999994E-2},{"$f":"IFERROR('Level 3'!K22-'Level 2'!K22,\"*\")","v":1.7199999999999993E-2},{"$f":"IFERROR('Level 3'!L22-'Level 2'!L22,\"*\")","v":"*"},null,{"$f":"'Level 1'!N22","v":"Luxembourg"},{"$f":"IFERROR('Level 3'!O22-'Level 2'!O22,\"*\")","v":1.1349999999999999E-2},{"$f":"IFERROR('Level 3'!P22-'Level 2'!P22,\"*\")","v":1.0250000000000009E-2},{"$f":"IFERROR('Level 3'!Q22-'Level 2'!Q22,\"*\")","v":1.1450000000000016E-2},{"$f":"IFERROR('Level 3'!R22-'Level 2'!R22,\"*\")","v":1.0849999999999999E-2},{"$f":"IFERROR('Level 3'!S22-'Level 2'!S22,\"*\")","v":1.0550000000000004E-2},{"$f":"IFERROR('Level 3'!T22-'Level 2'!T22,\"*\")","v":1.0699999999999987E-2},{"$f":"IFERROR('Level 3'!U22-'Level 2'!U22,\"*\")","v":1.0399999999999965E-2},{"$f":"IFERROR('Level 3'!V22-'Level 2'!V22,\"*\")","v":1.0699999999999987E-2},{"$f":"IFERROR('Level 3'!W22-'Level 2'!W22,\"*\")","v":1.419999999999999E-2},{"$f":"IFERROR('Level 3'!X22-'Level 2'!X22,\"*\")","v":1.369999999999999E-2},{"$f":"IFERROR('Level 3'!Y22-'Level 2'!Y22,\"*\")","v":"*"},null,{"$f":"'Level 1'!AA22","v":"Luxembourg"},{"$f":"IFERROR('Level 3'!AB22-'Level 2'!AB22,\"*\")","v":9.3999999999999639E-3},{"$f":"IFERROR('Level 3'!AC22-'Level 2'!AC22,\"*\")","v":9.2000000000000137E-3},{"$f":"IFERROR('Level 3'!AD22-'Level 2'!AD22,\"*\")","v":1.0700000000000015E-2},{"$f":"IFERROR('Level 3'!AE22-'Level 2'!AE22,\"*\")","v":9.8000000000000032E-3},{"$f":"IFERROR('Level 3'!AF22-'Level 2'!AF22,\"*\")","v":9.4499999999999862E-3},{"$f":"IFERROR('Level 3'!AG22-'Level 2'!AG22,\"*\")","v":9.6500000000000197E-3},{"$f":"IFERROR('Level 3'!AH22-'Level 2'!AH22,\"*\")","v":9.3499999999999972E-3},{"$f":"IFERROR('Level 3'!AI22-'Level 2'!AI22,\"*\")","v":9.8000000000000032E-3},{"$f":"IFERROR('Level 3'!AJ22-'Level 2'!AJ22,\"*\")","v":1.3100000000000001E-2},{"$f":"IFERROR('Level 3'!AK22-'Level 2'!AK22,\"*\")","v":1.26E-2},{"$f":"IFERROR('Level 3'!AL22-'Level 2'!AL22,\"*\")","v":"*"},null,{"$f":"'Level 1'!AN22","v":"Luxembourg"},{"$f":"IFERROR('Level 3'!AO22-'Level 2'!AO22,\"*\")","v":8.550000000000002E-3},{"$f":"IFERROR('Level 3'!AP22-'Level 2'!AP22,\"*\")","v":8.2999999999999741E-3},{"$f":"IFERROR('Level 3'!AQ22-'Level 2'!AQ22,\"*\")","v":9.7000000000000142E-3},{"$f":"IFERROR('Level 3'!AR22-'Level 2'!AR22,\"*\")","v":9.099999999999997E-3},{"$f":"IFERROR('Level 3'!AS22-'Level 2'!AS22,\"*\")","v":8.8000000000000023E-3},{"$f":"IFERROR('Level 3'!AT22-'Level 2'!AT22,\"*\")","v":8.9500000000000135E-3},{"$f":"IFERROR('Level 3'!AU22-'Level 2'!AU22,\"*\")","v":8.5999999999999965E-3},{"$f":"IFERROR('Level 3'!AV22-'Level 2'!AV22,\"*\")","v":9.000000000000008E-3},{"$f":"IFERROR('Level 3'!AW22-'Level 2'!AW22,\"*\")","v":1.1999999999999983E-2},{"$f":"IFERROR('Level 3'!AX22-'Level 2'!AX22,\"*\")","v":1.1499999999999982E-2},{"$f":"IFERROR('Level 3'!AY22-'Level 2'!AY22,\"*\")","v":"*"},null,{"$f":"'Level 1'!BA22","v":"Luxembourg"},{"$f":"IFERROR('Level 3'!BB22-'Level 2'!BB22,\"*\")","v":6.0000000000000053E-3},{"$f":"IFERROR('Level 3'!BC22-'Level 2'!BC22,\"*\")","v":6.2500000000000056E-3},{"$f":"IFERROR('Level 3'!BD22-'Level 2'!BD22,\"*\")","v":7.9000000000000181E-3},{"$f":"IFERROR('Level 3'!BE22-'Level 2'!BE22,\"*\")","v":8.2499999999999796E-3},{"$f":"IFERROR('Level 3'!BF22-'Level 2'!BF22,\"*\")","v":7.8499999999999959E-3},{"$f":"IFERROR('Level 3'!BG22-'Level 2'!BG22,\"*\")","v":8.0999999999999961E-3},{"$f":"IFERROR('Level 3'!BH22-'Level 2'!BH22,\"*\")","v":7.9000000000000181E-3},{"$f":"IFERROR('Level 3'!BI22-'Level 2'!BI22,\"*\")","v":8.3999999999999908E-3},{"$f":"IFERROR('Level 3'!BJ22-'Level 2'!BJ22,\"*\")","v":1.1200000000000015E-2},{"$f":"IFERROR('Level 3'!BK22-'Level 2'!BK22,\"*\")","v":1.0899999999999993E-2},{"$f":"IFERROR('Level 3'!BL22-'Level 2'!BL22,\"*\")","v":"*"}]
[{"$f":"'Level 1'!A23","v":"Hungary"},{"$f":"IFERROR('Level 3'!B23-'Level 2'!B23,\"*\")","v":2.5099999999999983E-2},{"$f":"IFERROR('Level 3'!C23-'Level 2'!C23,\"*\")","v":2.6700000000000002E-2},{"$f":"IFERROR('Level 3'!D23-'Level 2'!D23,\"*\")","v":2.9700000000000004E-2},{"$f":"IFERROR('Level 3'!E23-'Level 2'!E23,\"*\")","v":3.7499999999999978E-2},{"$f":"IFERROR('Level 3'!F23-'Level 2'!F23,\"*\")","v":3.6899999999999988E-2},{"$f":"IFERROR('Level 3'!G23-'Level 2'!G23,\"*\")","v":3.5850000000000021E-2},{"$f":"IFERROR('Level 3'!H23-'Level 2'!H23,\"*\")","v":3.1800000000000023E-2},{"$f":"IFERROR('Level 3'!I23-'Level 2'!I23,\"*\")","v":2.8650000000000009E-2},{"$f":"IFERROR('Level 3'!J23-'Level 2'!J23,\"*\")","v":2.7300000000000005E-2},{"$f":"IFERROR('Level 3'!K23-'Level 2'!K23,\"*\")","v":2.6800000000000004E-2},{"$f":"IFERROR('Level 3'!L23-'Level 2'!L23,\"*\")","v":"*"},null,{"$f":"'Level 1'!N23","v":"Hungary"},{"$f":"IFERROR('Level 3'!O23-'Level 2'!O23,\"*\")","v":2.5099999999999983E-2},{"$f":"IFERROR('Level 3'!P23-'Level 2'!P23,\"*\")","v":2.6600000000000013E-2},{"$f":"IFERROR('Level 3'!Q23-'Level 2'!Q23,\"*\")","v":2.9950000000000032E-2},{"$f":"IFERROR('Level 3'!R23-'Level 2'!R23,\"*\")","v":3.4250000000000003E-2},{"$f":"IFERROR('Level 3'!S23-'Level 2'!S23,\"*\")","v":3.3849999999999991E-2},{"$f":"IFERROR('Level 3'!T23-'Level 2'!T23,\"*\")","v":3.4100000000000019E-2},{"$f":"IFERROR('Level 3'!U23-'Level 2'!U23,\"*\")","v":2.9400000000000009E-2},{"$f":"IFERROR('Level 3'!V23-'Level 2'!V23,\"*\")","v":2.5900000000000006E-2},{"$f":"IFERROR('Level 3'!W23-'Level 2'!W23,\"*\")","v":2.5000000000000008E-2},{"$f":"IFERROR('Level 3'!X23-'Level 2'!X23,\"*\")","v":2.4600000000000011E-2},{"$f":"IFERROR('Level 3'!Y23-'Level 2'!Y23,\"*\")","v":"*"},null,{"$f":"'Level 1'!AA23","v":"Hungary"},{"$f":"IFERROR('Level 3'!AB23-'Level 2'!AB23,\"*\")","v":2.1599999999999994E-2},{"$f":"IFERROR('Level 3'!AC23-'Level 2'!AC23,\"*\")","v":2.5850000000000012E-2},{"$f":"IFERROR('Level 3'!AD23-'Level 2'!AD23,\"*\")","v":2.8749999999999998E-2},{"$f":"IFERROR('Level 3'!AE23-'Level 2'!AE23,\"*\")","v":3.2750000000000001E-2},{"$f":"IFERROR('Level 3'!AF23-'Level 2'!AF23,\"*\")","v":3.234999999999999E-2},{"$f":"IFERROR('Level 3'!AG23-'Level 2'!AG23,\"*\")","v":3.259999999999999E-2},{"$f":"IFERROR('Level 3'!AH23-'Level 2'!AH23,\"*\")","v":2.8049999999999992E-2},{"$f":"IFERROR('Level 3'!AI23-'Level 2'!AI23,\"*\")","v":2.4999999999999994E-2},{"$f":"IFERROR('Level 3'!AJ23-'Level 2'!AJ23,\"*\")","v":2.4150000000000005E-2},{"$f":"IFERROR('Level 3'!AK23-'Level 2'!AK23,\"*\")","v":2.3699999999999999E-2},{"$f":"IFERROR('Level 3'!AL23-'Level 2'!AL23,\"*\")","v":"*"},null,{"$f":"'Level 1'!AN23","v":"Hungary"},{"$f":"IFERROR('Level 3'!AO23-'Level 2'!AO23,\"*\")","v":2.23E-2},{"$f":"IFERROR('Level 3'!AP23-'Level 2'!AP23,\"*\")","v":2.5599999999999984E-2},{"$f":"IFERROR('Level 3'!AQ23-'Level 2'!AQ23,\"*\")","v":2.6599999999999985E-2},{"$f":"IFERROR('Level 3'!AR23-'Level 2'!AR23,\"*\")","v":3.0899999999999983E-2},{"$f":"IFERROR('Level 3'!AS23-'Level 2'!AS23,\"*\")","v":3.0550000000000022E-2},{"$f":"IFERROR('Level 3'!AT23-'Level 2'!AT23,\"*\")","v":3.0399999999999983E-2},{"$f":"IFERROR('Level 3'!AU23-'Level 2'!AU23,\"*\")","v":2.6950000000000002E-2},{"$f":"IFERROR('Level 3'!AV23-'Level 2'!AV23,\"*\")","v":2.4150000000000005E-2},{"$f":"IFERROR('Level 3'!AW23-'Level 2'!AW23,\"*\")","v":2.3649999999999977E-2},{"$f":"IFERROR('Level 3'!AX23-'Level 2'!AX23,\"*\")","v":2.3099999999999996E-2},{"$f":"IFERROR('Level 3'!AY23-'Level 2'!AY23,\"*\")","v":"*"},null,{"$f":"'Level 1'!BA23","v":"Hungary"},{"$f":"IFERROR('Level 3'!BB23-'Level 2'!BB23,\"*\")","v":1.7700000000000007E-2},{"$f":"IFERROR('Level 3'!BC23-'Level 2'!BC23,\"*\")","v":2.6700000000000002E-2},{"$f":"IFERROR('Level 3'!BD23-'Level 2'!BD23,\"*\")","v":2.6999999999999996E-2},{"$f":"IFERROR('Level 3'!BE23-'Level 2'!BE23,\"*\")","v":3.1599999999999989E-2},{"$f":"IFERROR('Level 3'!BF23-'Level 2'!BF23,\"*\")","v":3.1449999999999978E-2},{"$f":"IFERROR('Level 3'!BG23-'Level 2'!BG23,\"*\")","v":3.3799999999999969E-2},{"$f":"IFERROR('Level 3'!BH23-'Level 2'!BH23,\"*\")","v":2.8000000000000011E-2},{"$f":"IFERROR('Level 3'!BI23-'Level 2'!BI23,\"*\")","v":2.5299999999999989E-2},{"$f":"IFERROR('Level 3'!BJ23-'Level 2'!BJ23,\"*\")","v":2.4549999999999988E-2},{"$f":"IFERROR('Level 3'!BK23-'Level 2'!BK23,\"*\")","v":2.3999999999999994E-2},{"$f":"IFERROR('Level 3'!BL23-'Level 2'!BL23,\"*\")","v":"*"}]
[{"$f":"'Level 1'!A24","v":"Malta"},{"$f":"IFERROR('Level 3'!B24-'Level 2'!B24,\"*\")","v":"*"},{"$f":"IFERROR('Level 3'!C24-'Level 2'!C24,\"*\")","v":4.1500000000000009E-3},{"$f":"IFERROR('Level 3'!D24-'Level 2'!D24,\"*\")","v":1.1300000000000032E-2},{"$f":"IFERROR('Level 3'!E24-'Level 2'!E24,\"*\")","v":2.0500000000000074E-2},{"$f":"IFERROR('Level 3'!F24-'Level 2'!F24,\"*\")","v":2.1199999999999997E-2},{"$f":"IFERROR('Level 3'!G24-'Level 2'!G24,\"*\")","v":2.1449999999999969E-2},{"$f":"IFERROR('Level 3'!H24-'Level 2'!H24,\"*\")","v":2.0650000000000002E-2},{"$f":"IFERROR('Level 3'!I24-'Level 2'!I24,\"*\")","v":1.8000000000000016E-2},{"$f":"IFERROR('Level 3'!J24-'Level 2'!J24,\"*\")","v":1.7699999999999994E-2},{"$f":"IFERROR('Level 3'!K24-'Level 2'!K24,\"*\")","v":1.6800000000000037E-2},{"$f":"IFERROR('Level 3'!L24-'Level 2'!L24,\"*\")","v":"*"},null,{"$f":"'Level 1'!N24","v":"Malta"},{"$f":"IFERROR('Level 3'!O24-'Level 2'!O24,\"*\")","v":2.1000000000000046E-3},{"$f":"IFERROR('Level 3'!P24-'Level 2'!P24,\"*\")","v":4.599999999999993E-3},{"$f":"IFERROR('Level 3'!Q24-'Level 2'!Q24,\"*\")","v":8.550000000000002E-3},{"$f":"IFERROR('Level 3'!R24-'Level 2'!R24,\"*\")","v":9.3499999999999694E-3},{"$f":"IFERROR('Level 3'!S24-'Level 2'!S24,\"*\")","v":9.5500000000000029E-3},{"$f":"IFERROR('Level 3'!T24-'Level 2'!T24,\"*\")","v":9.5999999999999974E-3},{"$f":"IFERROR('Level 3'!U24-'Level 2'!U24,\"*\")","v":9.5000000000000084E-3},{"$f":"IFERROR('Level 3'!V24-'Level 2'!V24,\"*\")","v":7.4499999999999844E-3},{"$f":"IFERROR('Level 3'!W24-'Level 2'!W24,\"*\")","v":6.8500000000000227E-3},{"$f":"IFERROR('Level 3'!X24-'Level 2'!X24,\"*\")","v":6.7000000000000115E-3},{"$f":"IFERROR('Level 3'!Y24-'Level 2'!Y24,\"*\")","v":"*"},null,{"$f":"'Level 1'!AA24","v":"Malta"},{"$f":"IFERROR('Level 3'!AB24-'Level 2'!AB24,\"*\")","v":4.4000000000000011E-3},{"$f":"IFERROR('Level 3'!AC24-'Level 2'!AC24,\"*\")","v":6.0499999999999998E-3},{"$f":"IFERROR('Level 3'!AD24-'Level 2'!AD24,\"*\")","v":7.6499999999999901E-3},{"$f":"IFERROR('Level 3'!AE24-'Level 2'!AE24,\"*\")","v":8.0000000000000071E-3},{"$f":"IFERROR('Level 3'!AF24-'Level 2'!AF24,\"*\")","v":7.9500000000000126E-3},{"$f":"IFERROR('Level 3'!AG24-'Level 2'!AG24,\"*\")","v":8.0000000000000071E-3},{"$f":"IFERROR('Level 3'!AH24-'Level 2'!AH24,\"*\")","v":7.9499999999999849E-3},{"$f":"IFERROR('Level 3'!AI24-'Level 2'!AI24,\"*\")","v":6.4500000000000113E-3},{"$f":"IFERROR('Level 3'!AJ24-'Level 2'!AJ24,\"*\")","v":6.0000000000000331E-3},{"$f":"IFERROR('Level 3'!AK24-'Level 2'!AK24,\"*\")","v":6.0000000000000053E-3},{"$f":"IFERROR('Level 3'!AL24-'Level 2'!AL24,\"*\")","v":"*"},null,{"$f":"'Level 1'!AN24","v":"Malta"},{"$f":"IFERROR('Level 3'!AO24-'Level 2'!AO24,\"*\")","v":5.9999999999999915E-3},{"$f":"IFERROR('Level 3'!AP24-'Level 2'!AP24,\"*\")","v":7.4500000000000122E-3},{"$f":"IFERROR('Level 3'!AQ24-'Level 2'!AQ24,\"*\")","v":7.9500000000000126E-3},{"$f":"IFERROR('Level 3'!AR24-'Level 2'!AR24,\"*\")","v":8.8999999999999913E-3},{"$f":"IFERROR('Level 3'!AS24-'Level 2'!AS24,\"*\")","v":8.8499999999999968E-3},{"$f":"IFERROR('Level 3'!AT24-'Level 2'!AT24,\"*\")","v":8.900000000000019E-3},{"$f":"IFERROR('Level 3'!AU24-'Level 2'!AU24,\"*\")","v":8.8500000000000245E-3},{"$f":"IFERROR('Level 3'!AV24-'Level 2'!AV24,\"*\")","v":7.5500000000000012E-3},{"$f":"IFERROR('Level 3'!AW24-'Level 2'!AW24,\"*\")","v":7.0500000000000007E-3},{"$f":"IFERROR('Level 3'!AX24-'Level 2'!AX24,\"*\")","v":7.0999999999999952E-3},{"$f":"IFERROR('Level 3'!AY24-'Level 2'!AY24,\"*\")","v":"*"},null,{"$f":"'Level 1'!BA24","v":"Malta"},{"$f":"IFERROR('Level 3'!BB24-'Level 2'!BB24,\"*\")","v":6.5000000000000058E-3},{"$f":"IFERROR('Level 3'!BC24-'Level 2'!BC24,\"*\")","v":8.0500000000000016E-3},{"$f":"IFERROR('Level 3'!BD24-'Level 2'!BD24,\"*\")","v":1.0099999999999998E-2},{"$f":"IFERROR('Level 3'!BE24-'Level 2'!BE24,\"*\")","v":1.9199999999999995E-2},{"$f":"IFERROR('Level 3'!BF24-'Level 2'!BF24,\"*\")","v":1.8099999999999949E-2},{"$f":"IFERROR('Level 3'!BG24-'Level 2'!BG24,\"*\")","v":1.7799999999999983E-2},{"$f":"IFERROR('Level 3'!BH24-'Level 2'!BH24,\"*\")","v":1.8000000000000016E-2},{"$f":"IFERROR('Level 3'!BI24-'Level 2'!BI24,\"*\")","v":1.8299999999999983E-2},{"$f":"IFERROR('Level 3'!BJ24-'Level 2'!BJ24,\"*\")","v":1.6900000000000026E-2},{"$f":"IFERROR('Level 3'!BK24-'Level 2'!BK24,\"*\")","v":1.7300000000000038E-2},{"$f":"IFERROR('Level 3'!BL24-'Level 2'!BL24,\"*\")","v":"*"}]
[{"$f":"'Level 1'!A25","v":"Netherlands"},{"$f":"IFERROR('Level 3'!B25-'Level 2'!B25,\"*\")","v":"*"},{"$f":"IFERROR('Level 3'!C25-'Level 2'!C25,\"*\")","v":"*"},{"$f":"IFERROR('Level 3'!D25-'Level 2'!D25,\"*\")","v":"*"},{"$f":"IFERROR('Level 3'!E25-'Level 2'!E25,\"*\")","v":"*"},{"$f":"IFERROR('Level 3'!F25-'Level 2'!F25,\"*\")","v":"*"},{"$f":"IFERROR('Level 3'!G25-'Level 2'!G25,\"*\")","v":"*"},{"$f":"IFERROR('Level 3'!H25-'Level 2'!H25,\"*\")","v":"*"},{"$f":"IFERROR('Level 3'!I25-'Level 2'!I25,\"*\")","v":"*"},{"$f":"IFERROR('Level 3'!J25-'Level 2'!J25,\"*\")","v":"*"},{"$f":"IFERROR('Level 3'!K25-'Level 2'!K25,\"*\")","v":"*"},{"$f":"IFERROR('Level 3'!L25-'Level 2'!L25,\"*\")","v":"*"},null,{"$f":"'Level 1'!N25","v":"Netherlands"},{"$f":"IFERROR('Level 3'!O25-'Level 2'!O25,\"*\")","v":2.1849999999999981E-2},{"$f":"IFERROR('Level 3'!P25-'Level 2'!P25,\"*\")","v":2.1799999999999986E-2},{"$f":"IFERROR('Level 3'!Q25-'Level 2'!Q25,\"*\")","v":2.2449999999999998E-2},{"$f":"IFERROR('Level 3'!R25-'Level 2'!R25,\"*\")","v":1.9599999999999992E-2},{"$f":"IFERROR('Level 3'!S25-'Level 2'!S25,\"*\")","v":2.0400000000000001E-2},{"$f":"IFERROR('Level 3'!T25-'Level 2'!T25,\"*\")","v":2.1850000000000022E-2},{"$f":"IFERROR('Level 3'!U25-'Level 2'!U25,\"*\")","v":2.4149999999999977E-2},{"$f":"IFERROR('Level 3'!V25-'Level 2'!V25,\"*\")","v":2.1249999999999991E-2},{"$f":"IFERROR('Level 3'!W25-'Level 2'!W25,\"*\")","v":2.52E-2},{"$f":"IFERROR('Level 3'!X25-'Level 2'!X25,\"*\")","v":1.9799999999999998E-2},{"$f":"IFERROR('Level 3'!Y25-'Level 2'!Y25,\"*\")","v":"*"},null,{"$f":"'Level 1'!AA25","v":"Netherlands"},{"$f":"IFERROR('Level 3'!AB25-'Level 2'!AB25,\"*\")","v":2.7949999999999975E-2},{"$f":"IFERROR('Level 3'!AC25-'Level 2'!AC25,\"*\")","v":2.8450000000000003E-2},{"$f":"IFERROR('Level 3'!AD25-'Level 2'!AD25,\"*\")","v":3.0999999999999972E-2},{"$f":"IFERROR('Level 3'!AE25-'Level 2'!AE25,\"*\")","v":2.8400000000000036E-2},{"$f":"IFERROR('Level 3'!AF25-'Level 2'!AF25,\"*\")","v":2.8749999999999998E-2},{"$f":"IFERROR('Level 3'!AG25-'Level 2'!AG25,\"*\")","v":3.0350000000000016E-2},{"$f":"IFERROR('Level 3'!AH25-'Level 2'!AH25,\"*\")","v":3.2999999999999974E-2},{"$f":"IFERROR('Level 3'!AI25-'Level 2'!AI25,\"*\")","v":3.1650000000000011E-2},{"$f":"IFERROR('Level 3'!AJ25-'Level 2'!AJ25,\"*\")","v":3.3250000000000002E-2},{"$f":"IFERROR('Level 3'!AK25-'Level 2'!AK25,\"*\")","v":2.8100000000000014E-2},{"$f":"IFERROR('Level 3'!AL25-'Level 2'!AL25,\"*\")","v":"*"},null,{"$f":"'Level 1'!AN25","v":"Netherlands"},{"$f":"IFERROR('Level 3'!AO25-'Level 2'!AO25,\"*\")","v":3.075E-2},{"$f":"IFERROR('Level 3'!AP25-'Level 2'!AP25,\"*\")","v":3.1049999999999994E-2},{"$f":"IFERROR('Level 3'!AQ25-'Level 2'!AQ25,\"*\")","v":3.3950000000000036E-2},{"$f":"IFERROR('Level 3'!AR25-'Level 2'!AR25,\"*\")","v":3.1349999999999989E-2},{"$f":"IFERROR('Level 3'!AS25-'Level 2'!AS25,\"*\")","v":3.1350000000000017E-2},{"$f":"IFERROR('Level 3'!AT25-'Level 2'!AT25,\"*\")","v":3.2900000000000013E-2},{"$f":"IFERROR('Level 3'!AU25-'Level 2'!AU25,\"*\")","v":3.5400000000000015E-2},{"$f":"IFERROR('Level 3'!AV25-'Level 2'!AV25,\"*\")","v":3.4849999999999992E-2},{"$f":"IFERROR('Level 3'!AW25-'Level 2'!AW25,\"*\")","v":3.535000000000002E-2},{"$f":"IFERROR('Level 3'!AX25-'Level 2'!AX25,\"*\")","v":3.0499999999999999E-2},{"$f":"IFERROR('Level 3'!AY25-'Level 2'!AY25,\"*\")","v":"*"},null,{"$f":"'Level 1'!BA25","v":"Netherlands"},{"$f":"IFERROR('Level 3'!BB25-'Level 2'!BB25,\"*\")","v":2.7999999999999997E-2},{"$f":"IFERROR('Level 3'!BC25-'Level 2'!BC25,\"*\")","v":"*"},{"$f":"IFERROR('Level 3'!BD25-'Level 2'!BD25,\"*\")","v":3.6999999999999977E-2},{"$f":"IFERROR('Level 3'!BE25-'Level 2'!BE25,\"*\")","v":3.4099999999999964E-2},{"$f":"IFERROR('Level 3'!BF25-'Level 2'!BF25,\"*\")","v":3.5000000000000003E-2},{"$f":"IFERROR('Level 3'!BG25-'Level 2'!BG25,\"*\")","v":3.7700000000000011E-2},{"$f":"IFERROR('Level 3'!BH25-'Level 2'!BH25,\"*\")","v":4.109999999999997E-2},{"$f":"IFERROR('Level 3'!BI25-'Level 2'!BI25,\"*\")","v":4.1099999999999998E-2},{"$f":"IFERROR('Level 3'!BJ25-'Level 2'!BJ25,\"*\")","v":3.999999999999998E-2},{"$f":"IFERROR('Level 3'!BK25-'Level 2'!BK25,\"*\")","v":4.2199999999999988E-2},{"$f":"IFERROR('Level 3'!BL25-'Level 2'!BL25,\"*\")","v":"*"}]
[{"$f":"'Level 1'!A26","v":"Austria"},{"$f":"IFERROR('Level 3'!B26-'Level 2'!B26,\"*\")","v":4.2499999999999982E-2},{"$f":"IFERROR('Level 3'!C26-'Level 2'!C26,\"*\")","v":4.4150000000000023E-2},{"$f":"IFERROR('Level 3'!D26-'Level 2'!D26,\"*\")","v":4.544999999999999E-2},{"$f":"IFERROR('Level 3'!E26-'Level 2'!E26,\"*\")","v":4.2600000000000027E-2},{"$f":"IFERROR('Level 3'!F26-'Level 2'!F26,\"*\")","v":4.8899999999999999E-2},{"$f":"IFERROR('Level 3'!G26-'Level 2'!G26,\"*\")","v":4.9700000000000022E-2},{"$f":"IFERROR('Level 3'!H26-'Level 2'!H26,\"*\")","v":5.2400000000000002E-2},{"$f":"IFERROR('Level 3'!I26-'Level 2'!I26,\"*\")","v":5.2749999999999964E-2},{"$f":"IFERROR('Level 3'!J26-'Level 2'!J26,\"*\")","v":5.8999999999999997E-2},{"$f":"IFERROR('Level 3'!K26-'Level 2'!K26,\"*\")","v":6.1599999999999988E-2},{"$f":"IFERROR('Level 3'!L26-'Level 2'!L26,\"*\")","v":"*"},null,{"$f":"'Level 1'!N26","v":"Austria"},{"$f":"IFERROR('Level 3'!O26-'Level 2'!O26,\"*\")","v":3.2000000000000001E-2},{"$f":"IFERROR('Level 3'!P26-'Level 2'!P26,\"*\")","v":3.3600000000000019E-2},{"$f":"IFERROR('Level 3'!Q26-'Level 2'!Q26,\"*\")","v":3.4950000000000037E-2},{"$f":"IFERROR('Level 3'!R26-'Level 2'!R26,\"*\")","v":3.5699999999999982E-2},{"$f":"IFERROR('Level 3'!S26-'Level 2'!S26,\"*\")","v":3.6749999999999977E-2},{"$f":"IFERROR('Level 3'!T26-'Level 2'!T26,\"*\")","v":3.73E-2},{"$f":"IFERROR('Level 3'!U26-'Level 2'!U26,\"*\")","v":3.9050000000000001E-2},{"$f":"IFERROR('Level 3'!V26-'Level 2'!V26,\"*\")","v":3.8750000000000007E-2},{"$f":"IFERROR('Level 3'!W26-'Level 2'!W26,\"*\")","v":4.0050000000000002E-2},{"$f":"IFERROR('Level 3'!X26-'Level 2'!X26,\"*\")","v":4.1300000000000003E-2},{"$f":"IFERROR('Level 3'!Y26-'Level 2'!Y26,\"*\")","v":"*"},null,{"$f":"'Level 1'!AA26","v":"Austria"},{"$f":"IFERROR('Level 3'!AB26-'Level 2'!AB26,\"*\")","v":2.7799999999999991E-2},{"$f":"IFERROR('Level 3'!AC26-'Level 2'!AC26,\"*\")","v":2.9599999999999987E-2},{"$f":"IFERROR('Level 3'!AD26-'Level 2'!AD26,\"*\")","v":3.1849999999999989E-2},{"$f":"IFERROR('Level 3'!AE26-'Level 2'!AE26,\"*\")","v":3.2500000000000029E-2},{"$f":"IFERROR('Level 3'!AF26-'Level 2'!AF26,\"*\")","v":3.2899999999999985E-2},{"$f":"IFERROR('Level 3'!AG26-'Level 2'!AG26,\"*\")","v":3.3350000000000019E-2},{"$f":"IFERROR('Level 3'!AH26-'Level 2'!AH26,\"*\")","v":3.4150000000000014E-2},{"$f":"IFERROR('Level 3'!AI26-'Level 2'!AI26,\"*\")","v":3.3400000000000013E-2},{"$f":"IFERROR('Level 3'!AJ26-'Level 2'!AJ26,\"*\")","v":3.3299999999999996E-2},{"$f":"IFERROR('Level 3'!AK26-'Level 2'!AK26,\"*\")","v":3.3899999999999986E-2},{"$f":"IFERROR('Level 3'!AL26-'Level 2'!AL26,\"*\")","v":"*"},null,{"$f":"'Level 1'!AN26","v":"Austria"},{"$f":"IFERROR('Level 3'!AO26-'Level 2'!AO26,\"*\")","v":2.5599999999999984E-2},{"$f":"IFERROR('Level 3'!AP26-'Level 2'!AP26,\"*\")","v":2.7450000000000002E-2},{"$f":"IFERROR('Level 3'!AQ26-'Level 2'!AQ26,\"*\")","v":2.9099999999999987E-2},{"$f":"IFERROR('Level 3'!AR26-'Level 2'!AR26,\"*\")","v":2.9350000000000015E-2},{"$f":"IFERROR('Level 3'!AS26-'Level 2'!AS26,\"*\")","v":2.990000000000001E-2},{"$f":"IFERROR('Level 3'!AT26-'Level 2'!AT26,\"*\")","v":3.0200000000000005E-2},{"$f":"IFERROR('Level 3'!AU26-'Level 2'!AU26,\"*\")","v":3.1150000000000011E-2},{"$f":"IFERROR('Level 3'!AV26-'Level 2'!AV26,\"*\")","v":3.0499999999999972E-2},{"$f":"IFERROR('Level 3'!AW26-'Level 2'!AW26,\"*\")","v":2.9450000000000004E-2},{"$f":"IFERROR('Level 3'!AX26-'Level 2'!AX26,\"*\")","v":2.990000000000001E-2},{"$f":"IFERROR('Level 3'!AY26-'Level 2'!AY26,\"*\")","v":"*"},null,{"$f":"'Level 1'!BA26","v":"Austria"},{"$f":"IFERROR('Level 3'!BB26-'Level 2'!BB26,\"*\")","v":2.3599999999999982E-2},{"$f":"IFERROR('Level 3'!BC26-'Level 2'!BC26,\"*\")","v":2.5350000000000011E-2},{"$f":"IFERROR('Level 3'!BD26-'Level 2'!BD26,\"*\")","v":2.6450000000000001E-2},{"$f":"IFERROR('Level 3'!BE26-'Level 2'!BE26,\"*\")","v":2.5249999999999995E-2},{"$f":"IFERROR('Level 3'!BF26-'Level 2'!BF26,\"*\")","v":2.6999999999999996E-2},{"$f":"IFERROR('Level 3'!BG26-'Level 2'!BG26,\"*\")","v":2.6950000000000029E-2},{"$f":"IFERROR('Level 3'!BH26-'Level 2'!BH26,\"*\")","v":2.8749999999999998E-2},{"$f":"IFERROR('Level 3'!BI26-'Level 2'!BI26,\"*\")","v":2.6550000000000018E-2},{"$f":"IFERROR('Level 3'!BJ26-'Level 2'!BJ26,\"*\")","v":2.5099999999999983E-2},{"$f":"IFERROR('Level 3'!BK26-'Level 2'!BK26,\"*\")","v":2.5299999999999989E-2},{"$f":"IFERROR('Level 3'!BL26-'Level 2'!BL26,\"*\")","v":"*"}]
[{"$f":"'Level 1'!A27","v":"Poland"},{"$f":"IFERROR('Level 3'!B27-'Level 2'!B27,\"*\")","v":2.6900000000000007E-2},{"$f":"IFERROR('Level 3'!C27-'Level 2'!C27,\"*\")","v":3.15E-2},{"$f":"IFERROR('Level 3'!D27-'Level 2'!D27,\"*\")","v":2.7450000000000002E-2},{"$f":"IFERROR('Level 3'!E27-'Level 2'!E27,\"*\")","v":3.1700000000000006E-2},{"$f":"IFERROR('Level 3'!F27-'Level 2'!F27,\"*\")","v":3.4299999999999997E-2},{"$f":"IFERROR('Level 3'!G27-'Level 2'!G27,\"*\")","v":3.4349999999999992E-2},{"$f":"IFERROR('Level 3'!H27-'Level 2'!H27,\"*\")","v":3.4599999999999992E-2},{"$f":"IFERROR('Level 3'!I27-'Level 2'!I27,\"*\")","v":3.4000000000000002E-2},{"$f":"IFERROR('Level 3'!J27-'Level 2'!J27,\"*\")","v":3.3950000000000036E-2},{"$f":"IFERROR('Level 3'!K27-'Level 2'!K27,\"*\")","v":0.03},{"$f":"IFERROR('Level 3'!L27-'Level 2'!L27,\"*\")","v":"*"},null,{"$f":"'Level 1'!N27","v":"Poland"},{"$f":"IFERROR('Level 3'!O27-'Level 2'!O27,\"*\")","v":2.5400000000000006E-2},{"$f":"IFERROR('Level 3'!P27-'Level 2'!P27,\"*\")","v":2.4649999999999977E-2},{"$f":"IFERROR('Level 3'!Q27-'Level 2'!Q27,\"*\")","v":2.264999999999999E-2},{"$f":"IFERROR('Level 3'!R27-'Level 2'!R27,\"*\")","v":2.6350000000000012E-2},{"$f":"IFERROR('Level 3'!S27-'Level 2'!S27,\"*\")","v":2.8350000000000014E-2},{"$f":"IFERROR('Level 3'!T27-'Level 2'!T27,\"*\")","v":2.8750000000000026E-2},{"$f":"IFERROR('Level 3'!U27-'Level 2'!U27,\"*\")","v":2.8450000000000003E-2},{"$f":"IFERROR('Level 3'!V27-'Level 2'!V27,\"*\")","v":2.7749999999999983E-2},{"$f":"IFERROR('Level 3'!W27-'Level 2'!W27,\"*\")","v":2.8400000000000009E-2},{"$f":"IFERROR('Level 3'!X27-'Level 2'!X27,\"*\")","v":2.6400000000000007E-2},{"$f":"IFERROR('Level 3'!Y27-'Level 2'!Y27,\"*\")","v":"*"},null,{"$f":"'Level 1'!AA27","v":"Poland"},{"$f":"IFERROR('Level 3'!AB27-'Level 2'!AB27,\"*\")","v":2.4900000000000005E-2},{"$f":"IFERROR('Level 3'!AC27-'Level 2'!AC27,\"*\")","v":2.3000000000000007E-2},{"$f":"IFERROR('Level 3'!AD27-'Level 2'!AD27,\"*\")","v":2.1849999999999994E-2},{"$f":"IFERROR('Level 3'!AE27-'Level 2'!AE27,\"*\")","v":2.4599999999999997E-2},{"$f":"IFERROR('Level 3'!AF27-'Level 2'!AF27,\"*\")","v":2.6350000000000012E-2},{"$f":"IFERROR('Level 3'!AG27-'Level 2'!AG27,\"*\")","v":2.7550000000000019E-2},{"$f":"IFERROR('Level 3'!AH27-'Level 2'!AH27,\"*\")","v":2.7299999999999977E-2},{"$f":"IFERROR('Level 3'!AI27-'Level 2'!AI27,\"*\")","v":2.6500000000000024E-2},{"$f":"IFERROR('Level 3'!AJ27-'Level 2'!AJ27,\"*\")","v":2.6749999999999996E-2},{"$f":"IFERROR('Level 3'!AK27-'Level 2'!AK27,\"*\")","v":2.4900000000000019E-2},{"$f":"IFERROR('Level 3'!AL27-'Level 2'!AL27,\"*\")","v":"*"},null,{"$f":"'Level 1'!AN27","v":"Poland"},{"$f":"IFERROR('Level 3'!AO27-'Level 2'!AO27,\"*\")","v":1.8799999999999997E-2},{"$f":"IFERROR('Level 3'!AP27-'Level 2'!AP27,\"*\")","v":2.1150000000000002E-2},{"$f":"IFERROR('Level 3'!AQ27-'Level 2'!AQ27,\"*\")","v":2.0199999999999996E-2},{"$f":"IFERROR('Level 3'!AR27-'Level 2'!AR27,\"*\")","v":2.3199999999999998E-2},{"$f":"IFERROR('Level 3'!AS27-'Level 2'!AS27,\"*\")","v":2.4999999999999994E-2},{"$f":"IFERROR('Level 3'!AT27-'Level 2'!AT27,\"*\")","v":2.6450000000000015E-2},{"$f":"IFERROR('Level 3'!AU27-'Level 2'!AU27,\"*\")","v":2.6050000000000018E-2},{"$f":"IFERROR('Level 3'!AV27-'Level 2'!AV27,\"*\")","v":2.5349999999999984E-2},{"$f":"IFERROR('Level 3'!AW27-'Level 2'!AW27,\"*\")","v":2.5650000000000006E-2},{"$f":"IFERROR('Level 3'!AX27-'Level 2'!AX27,\"*\")","v":2.3800000000000016E-2},{"$f":"IFERROR('Level 3'!AY27-'Level 2'!AY27,\"*\")","v":"*"},null,{"$f":"'Level 1'!BA27","v":"Poland"},{"$f":"IFERROR('Level 3'!BB27-'Level 2'!BB27,\"*\")","v":2.3099999999999982E-2},{"$f":"IFERROR('Level 3'!BC27-'Level 2'!BC27,\"*\")","v":2.0500000000000018E-2},{"$f":"IFERROR('Level 3'!BD27-'Level 2'!BD27,\"*\")","v":2.0049999999999998E-2},{"$f":"IFERROR('Level 3'!BE27-'Level 2'!BE27,\"*\")","v":2.2999999999999979E-2},{"$f":"IFERROR('Level 3'!BF27-'Level 2'!BF27,\"*\")","v":2.5050000000000017E-2},{"$f":"IFERROR('Level 3'!BG27-'Level 2'!BG27,\"*\")","v":2.5599999999999984E-2},{"$f":"IFERROR('Level 3'!BH27-'Level 2'!BH27,\"*\")","v":2.5549999999999989E-2},{"$f":"IFERROR('Level 3'!BI27-'Level 2'!BI27,\"*\")","v":2.5299999999999989E-2},{"$f":"IFERROR('Level 3'!BJ27-'Level 2'!BJ27,\"*\")","v":2.5349999999999984E-2},{"$f":"IFERROR('Level 3'!BK27-'Level 2'!BK27,\"*\")","v":2.3700000000000013E-2},{"$f":"IFERROR('Level 3'!BL27-'Level 2'!BL27,\"*\")","v":"*"}]
[{"$f":"'Level 1'!A28","v":"Portugal"},{"$f":"IFERROR('Level 3'!B28-'Level 2'!B28,\"*\")","v":8.6999999999999855E-3},{"$f":"IFERROR('Level 3'!C28-'Level 2'!C28,\"*\")","v":1.595000000000002E-2},{"$f":"IFERROR('Level 3'!D28-'Level 2'!D28,\"*\")","v":1.5400000000000025E-2},{"$f":"IFERROR('Level 3'!E28-'Level 2'!E28,\"*\")","v":1.7049999999999954E-2},{"$f":"IFERROR('Level 3'!F28-'Level 2'!F28,\"*\")","v":3.3950000000000036E-2},{"$f":"IFERROR('Level 3'!G28-'Level 2'!G28,\"*\")","v":6.7300000000000026E-2},{"$f":"IFERROR('Level 3'!H28-'Level 2'!H28,\"*\")","v":6.2849999999999961E-2},{"$f":"IFERROR('Level 3'!I28-'Level 2'!I28,\"*\")","v":7.3749999999999982E-2},{"$f":"IFERROR('Level 3'!J28-'Level 2'!J28,\"*\")","v":7.2949999999999959E-2},{"$f":"IFERROR('Level 3'!K28-'Level 2'!K28,\"*\")","v":7.1400000000000019E-2},{"$f":"IFERROR('Level 3'!L28-'Level 2'!L28,\"*\")","v":"*"},null,{"$f":"'Level 1'!N28","v":"Portugal"},{"$f":"IFERROR('Level 3'!O28-'Level 2'!O28,\"*\")","v":7.4000000000000177E-3},{"$f":"IFERROR('Level 3'!P28-'Level 2'!P28,\"*\")","v":8.1499999999999906E-3},{"$f":"IFERROR('Level 3'!Q28-'Level 2'!Q28,\"*\")","v":8.2499999999999796E-3},{"$f":"IFERROR('Level 3'!R28-'Level 2'!R28,\"*\")","v":9.3999999999999639E-3},{"$f":"IFERROR('Level 3'!S28-'Level 2'!S28,\"*\")","v":1.8850000000000006E-2},{"$f":"IFERROR('Level 3'!T28-'Level 2'!T28,\"*\")","v":4.1499999999999981E-2},{"$f":"IFERROR('Level 3'!U28-'Level 2'!U28,\"*\")","v":4.3199999999999988E-2},{"$f":"IFERROR('Level 3'!V28-'Level 2'!V28,\"*\")","v":4.4550000000000006E-2},{"$f":"IFERROR('Level 3'!W28-'Level 2'!W28,\"*\")","v":4.604999999999998E-2},{"$f":"IFERROR('Level 3'!X28-'Level 2'!X28,\"*\")","v":4.7799999999999981E-2},{"$f":"IFERROR('Level 3'!Y28-'Level 2'!Y28,\"*\")","v":"*"},null,{"$f":"'Level 1'!AA28","v":"Portugal"},{"$f":"IFERROR('Level 3'!AB28-'Level 2'!AB28,\"*\")","v":7.4000000000000177E-3},{"$f":"IFERROR('Level 3'!AC28-'Level 2'!AC28,\"*\")","v":7.0999999999999952E-3},{"$f":"IFERROR('Level 3'!AD28-'Level 2'!AD28,\"*\")","v":7.3000000000000009E-3},{"$f":"IFERROR('Level 3'!AE28-'Level 2'!AE28,\"*\")","v":8.8999999999999913E-3},{"$f":"IFERROR('Level 3'!AF28-'Level 2'!AF28,\"*\")","v":1.7199999999999993E-2},{"$f":"IFERROR('Level 3'!AG28-'Level 2'!AG28,\"*\")","v":3.7400000000000017E-2},{"$f":"IFERROR('Level 3'!AH28-'Level 2'!AH28,\"*\")","v":3.9050000000000001E-2},{"$f":"IFERROR('Level 3'!AI28-'Level 2'!AI28,\"*\")","v":4.0899999999999992E-2},{"$f":"IFERROR('Level 3'!AJ28-'Level 2'!AJ28,\"*\")","v":4.2400000000000021E-2},{"$f":"IFERROR('Level 3'!AK28-'Level 2'!AK28,\"*\")","v":4.3899999999999995E-2},{"$f":"IFERROR('Level 3'!AL28-'Level 2'!AL28,\"*\")","v":"*"},null,{"$f":"'Level 1'!AN28","v":"Portugal"},{"$f":"IFERROR('Level 3'!AO28-'Level 2'!AO28,\"*\")","v":7.0000000000000062E-3},{"$f":"IFERROR('Level 3'!AP28-'Level 2'!AP28,\"*\")","v":6.1500000000000166E-3},{"$f":"IFERROR('Level 3'!AQ28-'Level 2'!AQ28,\"*\")","v":6.6499999999999893E-3},{"$f":"IFERROR('Level 3'!AR28-'Level 2'!AR28,\"*\")","v":7.9500000000000126E-3},{"$f":"IFERROR('Level 3'!AS28-'Level 2'!AS28,\"*\")","v":1.5749999999999986E-2},{"$f":"IFERROR('Level 3'!AT28-'Level 2'!AT28,\"*\")","v":3.4649999999999986E-2},{"$f":"IFERROR('Level 3'!AU28-'Level 2'!AU28,\"*\")","v":3.6349999999999993E-2},{"$f":"IFERROR('Level 3'!AV28-'Level 2'!AV28,\"*\")","v":3.9000000000000035E-2},{"$f":"IFERROR('Level 3'!AW28-'Level 2'!AW28,\"*\")","v":4.0349999999999997E-2},{"$f":"IFERROR('Level 3'!AX28-'Level 2'!AX28,\"*\")","v":4.200000000000001E-2},{"$f":"IFERROR('Level 3'!AY28-'Level 2'!AY28,\"*\")","v":"*"},null,{"$f":"'Level 1'!BA28","v":"Portugal"},{"$f":"IFERROR('Level 3'!BB28-'Level 2'!BB28,\"*\")","v":6.8000000000000005E-3},{"$f":"IFERROR('Level 3'!BC28-'Level 2'!BC28,\"*\")","v":6.0499999999999998E-3},{"$f":"IFERROR('Level 3'!BD28-'Level 2'!BD28,\"*\")","v":6.2499999999999778E-3},{"$f":"IFERROR('Level 3'!BE28-'Level 2'!BE28,\"*\")","v":7.5500000000000012E-3},{"$f":"IFERROR('Level 3'!BF28-'Level 2'!BF28,\"*\")","v":1.4500000000000013E-2},{"$f":"IFERROR('Level 3'!BG28-'Level 2'!BG28,\"*\")","v":3.3849999999999991E-2},{"$f":"IFERROR('Level 3'!BH28-'Level 2'!BH28,\"*\")","v":3.5699999999999982E-2},{"$f":"IFERROR('Level 3'!BI28-'Level 2'!BI28,\"*\")","v":3.7350000000000022E-2},{"$f":"IFERROR('Level 3'!BJ28-'Level 2'!BJ28,\"*\")","v":3.8849999999999996E-2},{"$f":"IFERROR('Level 3'!BK28-'Level 2'!BK28,\"*\")","v":4.0300000000000002E-2},{"$f":"IFERROR('Level 3'!BL28-'Level 2'!BL28,\"*\")","v":"*"}]
[{"$f":"'Level 1'!A29","v":"Romania"},{"$f":"IFERROR('Level 3'!B29-'Level 2'!B29,\"*\")","v":1.8000000000000002E-2},{"$f":"IFERROR('Level 3'!C29-'Level 2'!C29,\"*\")","v":1.7950000000000008E-2},{"$f":"IFERROR('Level 3'!D29-'Level 2'!D29,\"*\")","v":1.6250000000000001E-2},{"$f":"IFERROR('Level 3'!E29-'Level 2'!E29,\"*\")","v":1.9400000000000014E-2},{"$f":"IFERROR('Level 3'!F29-'Level 2'!F29,\"*\")","v":2.5100000000000011E-2},{"$f":"IFERROR('Level 3'!G29-'Level 2'!G29,\"*\")","v":2.3750000000000007E-2},{"$f":"IFERROR('Level 3'!H29-'Level 2'!H29,\"*\")","v":2.5899999999999979E-2},{"$f":"IFERROR('Level 3'!I29-'Level 2'!I29,\"*\")","v":2.5449999999999987E-2},{"$f":"IFERROR('Level 3'!J29-'Level 2'!J29,\"*\")","v":2.6399999999999993E-2},{"$f":"IFERROR('Level 3'!K29-'Level 2'!K29,\"*\")","v":2.1499999999999991E-2},{"$f":"IFERROR('Level 3'!L29-'Level 2'!L29,\"*\")","v":"*"},null,{"$f":"'Level 1'!N29","v":"Romania"},{"$f":"IFERROR('Level 3'!O29-'Level 2'!O29,\"*\")","v":1.9200000000000009E-2},{"$f":"IFERROR('Level 3'!P29-'Level 2'!P29,\"*\")","v":1.7799999999999996E-2},{"$f":"IFERROR('Level 3'!Q29-'Level 2'!Q29,\"*\")","v":1.6350000000000003E-2},{"$f":"IFERROR('Level 3'!R29-'Level 2'!R29,\"*\")","v":1.9500000000000003E-2},{"$f":"IFERROR('Level 3'!S29-'Level 2'!S29,\"*\")","v":2.5150000000000006E-2},{"$f":"IFERROR('Level 3'!T29-'Level 2'!T29,\"*\")","v":2.3800000000000002E-2},{"$f":"IFERROR('Level 3'!U29-'Level 2'!U29,\"*\")","v":2.5650000000000006E-2},{"$f":"IFERROR('Level 3'!V29-'Level 2'!V29,\"*\")","v":2.5300000000000003E-2},{"$f":"IFERROR('Level 3'!W29-'Level 2'!W29,\"*\")","v":2.5899999999999992E-2},{"$f":"IFERROR('Level 3'!X29-'Level 2'!X29,\"*\")","v":2.1199999999999997E-2},{"$f":"IFERROR('Level 3'!Y29-'Level 2'!Y29,\"*\")","v":"*"},null,{"$f":"'Level 1'!AA29","v":"Romania"},{"$f":"IFERROR('Level 3'!AB29-'Level 2'!AB29,\"*\")","v":1.8699999999999994E-2},{"$f":"IFERROR('Level 3'!AC29-'Level 2'!AC29,\"*\")","v":1.7949999999999994E-2},{"$f":"IFERROR('Level 3'!AD29-'Level 2'!AD29,\"*\")","v":1.6300000000000009E-2},{"$f":"IFERROR('Level 3'!AE29-'Level 2'!AE29,\"*\")","v":1.9400000000000001E-2},{"$f":"IFERROR('Level 3'!AF29-'Level 2'!AF29,\"*\")","v":2.4800000000000003E-2},{"$f":"IFERROR('Level 3'!AG29-'Level 2'!AG29,\"*\")","v":2.314999999999999E-2},{"$f":"IFERROR('Level 3'!AH29-'Level 2'!AH29,\"*\")","v":2.52E-2},{"$f":"IFERROR('Level 3'!AI29-'Level 2'!AI29,\"*\")","v":2.4550000000000016E-2},{"$f":"IFERROR('Level 3'!AJ29-'Level 2'!AJ29,\"*\")","v":2.5399999999999992E-2},{"$f":"IFERROR('Level 3'!AK29-'Level 2'!AK29,\"*\")","v":2.0900000000000002E-2},{"$f":"IFERROR('Level 3'!AL29-'Level 2'!AL29,\"*\")","v":"*"},null,{"$f":"'Level 1'!AN29","v":"Romania"},{"$f":"IFERROR('Level 3'!AO29-'Level 2'!AO29,\"*\")","v":1.8799999999999997E-2},{"$f":"IFERROR('Level 3'!AP29-'Level 2'!AP29,\"*\")","v":1.7750000000000016E-2},{"$f":"IFERROR('Level 3'!AQ29-'Level 2'!AQ29,\"*\")","v":1.5800000000000008E-2},{"$f":"IFERROR('Level 3'!AR29-'Level 2'!AR29,\"*\")","v":1.9099999999999992E-2},{"$f":"IFERROR('Level 3'!AS29-'Level 2'!AS29,\"*\")","v":2.4650000000000005E-2},{"$f":"IFERROR('Level 3'!AT29-'Level 2'!AT29,\"*\")","v":2.3150000000000004E-2},{"$f":"IFERROR('Level 3'!AU29-'Level 2'!AU29,\"*\")","v":2.4750000000000022E-2},{"$f":"IFERROR('Level 3'!AV29-'Level 2'!AV29,\"*\")","v":2.4050000000000002E-2},{"$f":"IFERROR('Level 3'!AW29-'Level 2'!AW29,\"*\")","v":2.5050000000000017E-2},{"$f":"IFERROR('Level 3'!AX29-'Level 2'!AX29,\"*\")","v":2.0100000000000007E-2},{"$f":"IFERROR('Level 3'!AY29-'Level 2'!AY29,\"*\")","v":"*"},null,{"$f":"'Level 1'!BA29","v":"Romania"},{"$f":"IFERROR('Level 3'!BB29-'Level 2'!BB29,\"*\")","v":1.9100000000000006E-2},{"$f":"IFERROR('Level 3'!BC29-'Level 2'!BC29,\"*\")","v":1.805000000000001E-2},{"$f":"IFERROR('Level 3'!BD29-'Level 2'!BD29,\"*\")","v":1.5399999999999997E-2},{"$f":"IFERROR('Level 3'!BE29-'Level 2'!BE29,\"*\")","v":1.84E-2},{"$f":"IFERROR('Level 3'!BF29-'Level 2'!BF29,\"*\")","v":2.3899999999999991E-2},{"$f":"IFERROR('Level 3'!BG29-'Level 2'!BG29,\"*\")","v":2.289999999999999E-2},{"$f":"IFERROR('Level 3'!BH29-'Level 2'!BH29,\"*\")","v":2.4150000000000005E-2},{"$f":"IFERROR('Level 3'!BI29-'Level 2'!BI29,\"*\")","v":2.3699999999999999E-2},{"$f":"IFERROR('Level 3'!BJ29-'Level 2'!BJ29,\"*\")","v":2.445E-2},{"$f":"IFERROR('Level 3'!BK29-'Level 2'!BK29,\"*\")","v":1.949999999999999E-2},{"$f":"IFERROR('Level 3'!BL29-'Level 2'!BL29,\"*\")","v":"*"}]
[{"$f":"'Level 1'!A30","v":"Slovenia"},{"$f":"IFERROR('Level 3'!B30-'Level 2'!B30,\"*\")","v":3.8099999999999995E-2},{"$f":"IFERROR('Level 3'!C30-'Level 2'!C30,\"*\")","v":3.1600000000000017E-2},{"$f":"IFERROR('Level 3'!D30-'Level 2'!D30,\"*\")","v":4.5750000000000013E-2},{"$f":"IFERROR('Level 3'!E30-'Level 2'!E30,\"*\")","v":4.3449999999999989E-2},{"$f":"IFERROR('Level 3'!F30-'Level 2'!F30,\"*\")","v":3.7950000000000039E-2},{"$f":"IFERROR('Level 3'!G30-'Level 2'!G30,\"*\")","v":3.7350000000000022E-2},{"$f":"IFERROR('Level 3'!H30-'Level 2'!H30,\"*\")","v":4.2949999999999988E-2},{"$f":"IFERROR('Level 3'!I30-'Level 2'!I30,\"*\")","v":4.200000000000001E-2},{"$f":"IFERROR('Level 3'!J30-'Level 2'!J30,\"*\")","v":3.9800000000000002E-2},{"$f":"IFERROR('Level 3'!K30-'Level 2'!K30,\"*\")","v":3.3700000000000008E-2},{"$f":"IFERROR('Level 3'!L30-'Level 2'!L30,\"*\")","v":"*"},null,{"$f":"'Level 1'!N30","v":"Slovenia"},{"$f":"IFERROR('Level 3'!O30-'Level 2'!O30,\"*\")","v":2.1900000000000003E-2},{"$f":"IFERROR('Level 3'!P30-'Level 2'!P30,\"*\")","v":2.1750000000000005E-2},{"$f":"IFERROR('Level 3'!Q30-'Level 2'!Q30,\"*\")","v":2.6550000000000018E-2},{"$f":"IFERROR('Level 3'!R30-'Level 2'!R30,\"*\")","v":2.8049999999999992E-2},{"$f":"IFERROR('Level 3'!S30-'Level 2'!S30,\"*\")","v":2.8150000000000008E-2},{"$f":"IFERROR('Level 3'!T30-'Level 2'!T30,\"*\")","v":2.9349999999999987E-2},{"$f":"IFERROR('Level 3'!U30-'Level 2'!U30,\"*\")","v":3.3500000000000002E-2},{"$f":"IFERROR('Level 3'!V30-'Level 2'!V30,\"*\")","v":3.5049999999999998E-2},{"$f":"IFERROR('Level 3'!W30-'Level 2'!W30,\"*\")","v":3.4800000000000025E-2},{"$f":"IFERROR('Level 3'!X30-'Level 2'!X30,\"*\")","v":3.5799999999999998E-2},{"$f":"IFERROR('Level 3'!Y30-'Level 2'!Y30,\"*\")","v":"*"},null,{"$f":"'Level 1'!AA30","v":"Slovenia"},{"$f":"IFERROR('Level 3'!AB30-'Level 2'!AB30,\"*\")","v":1.8600000000000005E-2},{"$f":"IFERROR('Level 3'!AC30-'Level 2'!AC30,\"*\")","v":1.915E-2},{"$f":"IFERROR('Level 3'!AD30-'Level 2'!AD30,\"*\")","v":2.2400000000000003E-2},{"$f":"IFERROR('Level 3'!AE30-'Level 2'!AE30,\"*\")","v":2.3550000000000001E-2},{"$f":"IFERROR('Level 3'!AF30-'Level 2'!AF30,\"*\")","v":2.445E-2},{"$f":"IFERROR('Level 3'!AG30-'Level 2'!AG30,\"*\")","v":2.5700000000000001E-2},{"$f":"IFERROR('Level 3'!AH30-'Level 2'!AH30,\"*\")","v":2.8349999999999986E-2},{"$f":"IFERROR('Level 3'!AI30-'Level 2'!AI30,\"*\")","v":2.9400000000000037E-2},{"$f":"IFERROR('Level 3'!AJ30-'Level 2'!AJ30,\"*\")","v":2.9049999999999992E-2},{"$f":"IFERROR('Level 3'!AK30-'Level 2'!AK30,\"*\")","v":2.9200000000000004E-2},{"$f":"IFERROR('Level 3'!AL30-'Level 2'!AL30,\"*\")","v":"*"},null,{"$f":"'Level 1'!AN30","v":"Slovenia"},{"$f":"IFERROR('Level 3'!AO30-'Level 2'!AO30,\"*\")","v":1.7000000000000001E-2},{"$f":"IFERROR('Level 3'!AP30-'Level 2'!AP30,\"*\")","v":1.7999999999999988E-2},{"$f":"IFERROR('Level 3'!AQ30-'Level 2'!AQ30,\"*\")","v":2.0799999999999985E-2},{"$f":"IFERROR('Level 3'!AR30-'Level 2'!AR30,\"*\")","v":2.1500000000000019E-2},{"$f":"IFERROR('Level 3'!AS30-'Level 2'!AS30,\"*\")","v":2.2449999999999998E-2},{"$f":"IFERROR('Level 3'!AT30-'Level 2'!AT30,\"*\")","v":2.3400000000000018E-2},{"$f":"IFERROR('Level 3'!AU30-'Level 2'!AU30,\"*\")","v":2.52E-2},{"$f":"IFERROR('Level 3'!AV30-'Level 2'!AV30,\"*\")","v":2.6150000000000034E-2},{"$f":"IFERROR('Level 3'!AW30-'Level 2'!AW30,\"*\")","v":2.5499999999999995E-2},{"$f":"IFERROR('Level 3'!AX30-'Level 2'!AX30,\"*\")","v":2.5400000000000006E-2},{"$f":"IFERROR('Level 3'!AY30-'Level 2'!AY30,\"*\")","v":"*"},null,{"$f":"'Level 1'!BA30","v":"Slovenia"},{"$f":"IFERROR('Level 3'!BB30-'Level 2'!BB30,\"*\")","v":1.6E-2},{"$f":"IFERROR('Level 3'!BC30-'Level 2'!BC30,\"*\")","v":1.7350000000000004E-2},{"$f":"IFERROR('Level 3'!BD30-'Level 2'!BD30,\"*\")","v":2.0199999999999996E-2},{"$f":"IFERROR('Level 3'!BE30-'Level 2'!BE30,\"*\")","v":2.0349999999999993E-2},{"$f":"IFERROR('Level 3'!BF30-'Level 2'!BF30,\"*\")","v":2.0900000000000016E-2},{"$f":"IFERROR('Level 3'!BG30-'Level 2'!BG30,\"*\")","v":2.1299999999999999E-2},{"$f":"IFERROR('Level 3'!BH30-'Level 2'!BH30,\"*\")","v":2.2549999999999987E-2},{"$f":"IFERROR('Level 3'!BI30-'Level 2'!BI30,\"*\")","v":2.3499999999999993E-2},{"$f":"IFERROR('Level 3'!BJ30-'Level 2'!BJ30,\"*\")","v":2.3150000000000004E-2},{"$f":"IFERROR('Level 3'!BK30-'Level 2'!BK30,\"*\")","v":2.2799999999999987E-2},{"$f":"IFERROR('Level 3'!BL30-'Level 2'!BL30,\"*\")","v":"*"}]
[{"$f":"'Level 1'!A31","v":"Slovakia"},{"$f":"IFERROR('Level 3'!B31-'Level 2'!B31,\"*\")","v":3.5500000000000004E-2},{"$f":"IFERROR('Level 3'!C31-'Level 2'!C31,\"*\")","v":3.9250000000000007E-2},{"$f":"IFERROR('Level 3'!D31-'Level 2'!D31,\"*\")","v":3.7400000000000017E-2},{"$f":"IFERROR('Level 3'!E31-'Level 2'!E31,\"*\")","v":3.6900000000000016E-2},{"$f":"IFERROR('Level 3'!F31-'Level 2'!F31,\"*\")","v":3.9850000000000024E-2},{"$f":"IFERROR('Level 3'!G31-'Level 2'!G31,\"*\")","v":4.3249999999999983E-2},{"$f":"IFERROR('Level 3'!H31-'Level 2'!H31,\"*\")","v":4.4599999999999973E-2},{"$f":"IFERROR('Level 3'!I31-'Level 2'!I31,\"*\")","v":4.0300000000000002E-2},{"$f":"IFERROR('Level 3'!J31-'Level 2'!J31,\"*\")","v":4.1349999999999998E-2},{"$f":"IFERROR('Level 3'!K31-'Level 2'!K31,\"*\")","v":3.5900000000000015E-2},{"$f":"IFERROR('Level 3'!L31-'Level 2'!L31,\"*\")","v":"*"},null,{"$f":"'Level 1'!N31","v":"Slovakia"},{"$f":"IFERROR('Level 3'!O31-'Level 2'!O31,\"*\")","v":2.5700000000000001E-2},{"$f":"IFERROR('Level 3'!P31-'Level 2'!P31,\"*\")","v":2.7550000000000019E-2},{"$f":"IFERROR('Level 3'!Q31-'Level 2'!Q31,\"*\")","v":2.7500000000000024E-2},{"$f":"IFERROR('Level 3'!R31-'Level 2'!R31,\"*\")","v":2.8400000000000036E-2},{"$f":"IFERROR('Level 3'!S31-'Level 2'!S31,\"*\")","v":3.1699999999999978E-2},{"$f":"IFERROR('Level 3'!T31-'Level 2'!T31,\"*\")","v":3.2549999999999996E-2},{"$f":"IFERROR('Level 3'!U31-'Level 2'!U31,\"*\")","v":3.1900000000000012E-2},{"$f":"IFERROR('Level 3'!V31-'Level 2'!V31,\"*\")","v":2.8450000000000003E-2},{"$f":"IFERROR('Level 3'!W31-'Level 2'!W31,\"*\")","v":2.9049999999999992E-2},{"$f":"IFERROR('Level 3'!X31-'Level 2'!X31,\"*\")","v":2.6499999999999996E-2},{"$f":"IFERROR('Level 3'!Y31-'Level 2'!Y31,\"*\")","v":"*"},null,{"$f":"'Level 1'!AA31","v":"Slovakia"},{"$f":"IFERROR('Level 3'!AB31-'Level 2'!AB31,\"*\")","v":2.1800000000000014E-2},{"$f":"IFERROR('Level 3'!AC31-'Level 2'!AC31,\"*\")","v":2.3500000000000007E-2},{"$f":"IFERROR('Level 3'!AD31-'Level 2'!AD31,\"*\")","v":2.4750000000000022E-2},{"$f":"IFERROR('Level 3'!AE31-'Level 2'!AE31,\"*\")","v":2.52E-2},{"$f":"IFERROR('Level 3'!AF31-'Level 2'!AF31,\"*\")","v":2.8250000000000025E-2},{"$f":"IFERROR('Level 3'!AG31-'Level 2'!AG31,\"*\")","v":2.8650000000000009E-2},{"$f":"IFERROR('Level 3'!AH31-'Level 2'!AH31,\"*\")","v":2.8150000000000008E-2},{"$f":"IFERROR('Level 3'!AI31-'Level 2'!AI31,\"*\")","v":2.5249999999999995E-2},{"$f":"IFERROR('Level 3'!AJ31-'Level 2'!AJ31,\"*\")","v":2.52E-2},{"$f":"IFERROR('Level 3'!AK31-'Level 2'!AK31,\"*\")","v":2.3700000000000013E-2},{"$f":"IFERROR('Level 3'!AL31-'Level 2'!AL31,\"*\")","v":"*"},null,{"$f":"'Level 1'!AN31","v":"Slovakia"},{"$f":"IFERROR('Level 3'!AO31-'Level 2'!AO31,\"*\")","v":1.7599999999999991E-2},{"$f":"IFERROR('Level 3'!AP31-'Level 2'!AP31,\"*\")","v":1.9800000000000012E-2},{"$f":"IFERROR('Level 3'!AQ31-'Level 2'!AQ31,\"*\")","v":2.4300000000000016E-2},{"$f":"IFERROR('Level 3'!AR31-'Level 2'!AR31,\"*\")","v":2.2500000000000006E-2},{"$f":"IFERROR('Level 3'!AS31-'Level 2'!AS31,\"*\")","v":2.5350000000000011E-2},{"$f":"IFERROR('Level 3'!AT31-'Level 2'!AT31,\"*\")","v":2.5499999999999967E-2},{"$f":"IFERROR('Level 3'!AU31-'Level 2'!AU31,\"*\")","v":2.5099999999999983E-2},{"$f":"IFERROR('Level 3'!AV31-'Level 2'!AV31,\"*\")","v":2.2449999999999998E-2},{"$f":"IFERROR('Level 3'!AW31-'Level 2'!AW31,\"*\")","v":2.1949999999999983E-2},{"$f":"IFERROR('Level 3'!AX31-'Level 2'!AX31,\"*\")","v":2.0900000000000002E-2},{"$f":"IFERROR('Level 3'!AY31-'Level 2'!AY31,\"*\")","v":"*"},null,{"$f":"'Level 1'!BA31","v":"Slovakia"},{"$f":"IFERROR('Level 3'!BB31-'Level 2'!BB31,\"*\")","v":1.3500000000000012E-2},{"$f":"IFERROR('Level 3'!BC31-'Level 2'!BC31,\"*\")","v":1.5850000000000003E-2},{"$f":"IFERROR('Level 3'!BD31-'Level 2'!BD31,\"*\")","v":2.0199999999999996E-2},{"$f":"IFERROR('Level 3'!BE31-'Level 2'!BE31,\"*\")","v":1.9099999999999992E-2},{"$f":"IFERROR('Level 3'!BF31-'Level 2'!BF31,\"*\")","v":2.2099999999999995E-2},{"$f":"IFERROR('Level 3'!BG31-'Level 2'!BG31,\"*\")","v":2.2400000000000003E-2},{"$f":"IFERROR('Level 3'!BH31-'Level 2'!BH31,\"*\")","v":2.2200000000000011E-2},{"$f":"IFERROR('Level 3'!BI31-'Level 2'!BI31,\"*\")","v":2.0299999999999999E-2},{"$f":"IFERROR('Level 3'!BJ31-'Level 2'!BJ31,\"*\")","v":1.9400000000000001E-2},{"$f":"IFERROR('Level 3'!BK31-'Level 2'!BK31,\"*\")","v":1.8700000000000008E-2},{"$f":"IFERROR('Level 3'!BL31-'Level 2'!BL31,\"*\")","v":"*"}]
[{"$f":"'Level 1'!A32","v":"Finland"},{"$f":"IFERROR('Level 3'!B32-'Level 2'!B32,\"*\")","v":3.670000000000001E-2},{"$f":"IFERROR('Level 3'!C32-'Level 2'!C32,\"*\")","v":3.9800000000000002E-2},{"$f":"IFERROR('Level 3'!D32-'Level 2'!D32,\"*\")","v":4.41E-2},{"$f":"IFERROR('Level 3'!E32-'Level 2'!E32,\"*\")","v":4.6750000000000014E-2},{"$f":"IFERROR('Level 3'!F32-'Level 2'!F32,\"*\")","v":5.2849999999999953E-2},{"$f":"IFERROR('Level 3'!G32-'Level 2'!G32,\"*\")","v":5.3999999999999992E-2},{"$f":"IFERROR('Level 3'!H32-'Level 2'!H32,\"*\")","v":5.7349999999999984E-2},{"$f":"IFERROR('Level 3'!I32-'Level 2'!I32,\"*\")","v":5.7599999999999985E-2},{"$f":"IFERROR('Level 3'!J32-'Level 2'!J32,\"*\")","v":5.8599999999999958E-2},{"$f":"IFERROR('Level 3'!K32-'Level 2'!K32,\"*\")","v":5.9799999999999992E-2},{"$f":"IFERROR('Level 3'!L32-'Level 2'!L32,\"*\")","v":"*"},null,{"$f":"'Level 1'!N32","v":"Finland"},{"$f":"IFERROR('Level 3'!O32-'Level 2'!O32,\"*\")","v":2.5300000000000017E-2},{"$f":"IFERROR('Level 3'!P32-'Level 2'!P32,\"*\")","v":2.7050000000000005E-2},{"$f":"IFERROR('Level 3'!Q32-'Level 2'!Q32,\"*\")","v":2.9599999999999987E-2},{"$f":"IFERROR('Level 3'!R32-'Level 2'!R32,\"*\")","v":3.1450000000000006E-2},{"$f":"IFERROR('Level 3'!S32-'Level 2'!S32,\"*\")","v":3.6549999999999971E-2},{"$f":"IFERROR('Level 3'!T32-'Level 2'!T32,\"*\")","v":3.6699999999999983E-2},{"$f":"IFERROR('Level 3'!U32-'Level 2'!U32,\"*\")","v":3.8749999999999979E-2},{"$f":"IFERROR('Level 3'!V32-'Level 2'!V32,\"*\")","v":3.8849999999999996E-2},{"$f":"IFERROR('Level 3'!W32-'Level 2'!W32,\"*\")","v":3.8949999999999985E-2},{"$f":"IFERROR('Level 3'!X32-'Level 2'!X32,\"*\")","v":3.9500000000000007E-2},{"$f":"IFERROR('Level 3'!Y32-'Level 2'!Y32,\"*\")","v":"*"},null,{"$f":"'Level 1'!AA32","v":"Finland"},{"$f":"IFERROR('Level 3'!AB32-'Level 2'!AB32,\"*\")","v":2.0699999999999996E-2},{"$f":"IFERROR('Level 3'!AC32-'Level 2'!AC32,\"*\")","v":2.2499999999999992E-2},{"$f":"IFERROR('Level 3'!AD32-'Level 2'!AD32,\"*\")","v":2.3349999999999982E-2},{"$f":"IFERROR('Level 3'!AE32-'Level 2'!AE32,\"*\")","v":2.4750000000000008E-2},{"$f":"IFERROR('Level 3'!AF32-'Level 2'!AF32,\"*\")","v":2.9100000000000015E-2},{"$f":"IFERROR('Level 3'!AG32-'Level 2'!AG32,\"*\")","v":2.9049999999999992E-2},{"$f":"IFERROR('Level 3'!AH32-'Level 2'!AH32,\"*\")","v":3.0399999999999983E-2},{"$f":"IFERROR('Level 3'!AI32-'Level 2'!AI32,\"*\")","v":0.03},{"$f":"IFERROR('Level 3'!AJ32-'Level 2'!AJ32,\"*\")","v":2.9800000000000021E-2},{"$f":"IFERROR('Level 3'!AK32-'Level 2'!AK32,\"*\")","v":2.9899999999999982E-2},{"$f":"IFERROR('Level 3'!AL32-'Level 2'!AL32,\"*\")","v":"*"},null,{"$f":"'Level 1'!AN32","v":"Finland"},{"$f":"IFERROR('Level 3'!AO32-'Level 2'!AO32,\"*\")","v":1.7899999999999999E-2},{"$f":"IFERROR('Level 3'!AP32-'Level 2'!AP32,\"*\")","v":1.9549999999999998E-2},{"$f":"IFERROR('Level 3'!AQ32-'Level 2'!AQ32,\"*\")","v":2.0599999999999979E-2},{"$f":"IFERROR('Level 3'!AR32-'Level 2'!AR32,\"*\")","v":2.1700000000000011E-2},{"$f":"IFERROR('Level 3'!AS32-'Level 2'!AS32,\"*\")","v":2.5649999999999978E-2},{"$f":"IFERROR('Level 3'!AT32-'Level 2'!AT32,\"*\")","v":2.5600000000000012E-2},{"$f":"IFERROR('Level 3'!AU32-'Level 2'!AU32,\"*\")","v":2.679999999999999E-2},{"$f":"IFERROR('Level 3'!AV32-'Level 2'!AV32,\"*\")","v":2.629999999999999E-2},{"$f":"IFERROR('Level 3'!AW32-'Level 2'!AW32,\"*\")","v":2.604999999999999E-2},{"$f":"IFERROR('Level 3'!AX32-'Level 2'!AX32,\"*\")","v":2.5800000000000017E-2},{"$f":"IFERROR('Level 3'!AY32-'Level 2'!AY32,\"*\")","v":"*"},null,{"$f":"'Level 1'!BA32","v":"Finland"},{"$f":"IFERROR('Level 3'!BB32-'Level 2'!BB32,\"*\")","v":1.4700000000000005E-2},{"$f":"IFERROR('Level 3'!BC32-'Level 2'!BC32,\"*\")","v":1.6450000000000006E-2},{"$f":"IFERROR('Level 3'!BD32-'Level 2'!BD32,\"*\")","v":1.7250000000000001E-2},{"$f":"IFERROR('Level 3'!BE32-'Level 2'!BE32,\"*\")","v":1.8149999999999999E-2},{"$f":"IFERROR('Level 3'!BF32-'Level 2'!BF32,\"*\")","v":2.1849999999999994E-2},{"$f":"IFERROR('Level 3'!BG32-'Level 2'!BG32,\"*\")","v":2.1849999999999994E-2},{"$f":"IFERROR('Level 3'!BH32-'Level 2'!BH32,\"*\")","v":2.2800000000000015E-2},{"$f":"IFERROR('Level 3'!BI32-'Level 2'!BI32,\"*\")","v":2.2450000000000012E-2},{"$f":"IFERROR('Level 3'!BJ32-'Level 2'!BJ32,\"*\")","v":2.23E-2},{"$f":"IFERROR('Level 3'!BK32-'Level 2'!BK32,\"*\")","v":2.1699999999999997E-2},{"$f":"IFERROR('Level 3'!BL32-'Level 2'!BL32,\"*\")","v":"*"}]
[{"$f":"'Level 1'!A33","v":"Sweden"},{"$f":"IFERROR('Level 3'!B33-'Level 2'!B33,\"*\")","v":5.6150000000000033E-2},{"$f":"IFERROR('Level 3'!C33-'Level 2'!C33,\"*\")","v":5.8650000000000035E-2},{"$f":"IFERROR('Level 3'!D33-'Level 2'!D33,\"*\")","v":5.3199999999999997E-2},{"$f":"IFERROR('Level 3'!E33-'Level 2'!E33,\"*\")","v":6.7599999999999993E-2},{"$f":"IFERROR('Level 3'!F33-'Level 2'!F33,\"*\")","v":7.0299999999999974E-2},{"$f":"IFERROR('Level 3'!G33-'Level 2'!G33,\"*\")","v":7.1350000000000025E-2},{"$f":"IFERROR('Level 3'!H33-'Level 2'!H33,\"*\")","v":7.2300000000000031E-2},{"$f":"IFERROR('Level 3'!I33-'Level 2'!I33,\"*\")","v":7.1100000000000052E-2},{"$f":"IFERROR('Level 3'!J33-'Level 2'!J33,\"*\")","v":6.8450000000000011E-2},{"$f":"IFERROR('Level 3'!K33-'Level 2'!K33,\"*\")","v":7.290000000000002E-2},{"$f":"IFERROR('Level 3'!L33-'Level 2'!L33,\"*\")","v":"*"},null,{"$f":"'Level 1'!N33","v":"Sweden"},{"$f":"IFERROR('Level 3'!O33-'Level 2'!O33,\"*\")","v":3.3049999999999996E-2},{"$f":"IFERROR('Level 3'!P33-'Level 2'!P33,\"*\")","v":3.7999999999999978E-2},{"$f":"IFERROR('Level 3'!Q33-'Level 2'!Q33,\"*\")","v":3.6199999999999982E-2},{"$f":"IFERROR('Level 3'!R33-'Level 2'!R33,\"*\")","v":4.140000000000002E-2},{"$f":"IFERROR('Level 3'!S33-'Level 2'!S33,\"*\")","v":4.5200000000000018E-2},{"$f":"IFERROR('Level 3'!T33-'Level 2'!T33,\"*\")","v":4.4799999999999979E-2},{"$f":"IFERROR('Level 3'!U33-'Level 2'!U33,\"*\")","v":4.5499999999999985E-2},{"$f":"IFERROR('Level 3'!V33-'Level 2'!V33,\"*\")","v":4.3449999999999989E-2},{"$f":"IFERROR('Level 3'!W33-'Level 2'!W33,\"*\")","v":4.159999999999997E-2},{"$f":"IFERROR('Level 3'!X33-'Level 2'!X33,\"*\")","v":4.2800000000000005E-2},{"$f":"IFERROR('Level 3'!Y33-'Level 2'!Y33,\"*\")","v":"*"},null,{"$f":"'Level 1'!AA33","v":"Sweden"},{"$f":"IFERROR('Level 3'!AB33-'Level 2'!AB33,\"*\")","v":3.175E-2},{"$f":"IFERROR('Level 3'!AC33-'Level 2'!AC33,\"*\")","v":3.4250000000000003E-2},{"$f":"IFERROR('Level 3'!AD33-'Level 2'!AD33,\"*\")","v":3.2000000000000001E-2},{"$f":"IFERROR('Level 3'!AE33-'Level 2'!AE33,\"*\")","v":3.8300000000000001E-2},{"$f":"IFERROR('Level 3'!AF33-'Level 2'!AF33,\"*\")","v":4.109999999999997E-2},{"$f":"IFERROR('Level 3'!AG33-'Level 2'!AG33,\"*\")","v":4.115000000000002E-2},{"$f":"IFERROR('Level 3'!AH33-'Level 2'!AH33,\"*\")","v":4.1450000000000015E-2},{"$f":"IFERROR('Level 3'!AI33-'Level 2'!AI33,\"*\")","v":3.8350000000000023E-2},{"$f":"IFERROR('Level 3'!AJ33-'Level 2'!AJ33,\"*\")","v":3.7249999999999978E-2},{"$f":"IFERROR('Level 3'!AK33-'Level 2'!AK33,\"*\")","v":3.7900000000000017E-2},{"$f":"IFERROR('Level 3'!AL33-'Level 2'!AL33,\"*\")","v":"*"},null,{"$f":"'Level 1'!AN33","v":"Sweden"},{"$f":"IFERROR('Level 3'!AO33-'Level 2'!AO33,\"*\")","v":2.8700000000000003E-2},{"$f":"IFERROR('Level 3'!AP33-'Level 2'!AP33,\"*\")","v":3.004999999999998E-2},{"$f":"IFERROR('Level 3'!AQ33-'Level 2'!AQ33,\"*\")","v":2.824999999999997E-2},{"$f":"IFERROR('Level 3'!AR33-'Level 2'!AR33,\"*\")","v":3.2500000000000001E-2},{"$f":"IFERROR('Level 3'!AS33-'Level 2'!AS33,\"*\")","v":3.5550000000000026E-2},{"$f":"IFERROR('Level 3'!AT33-'Level 2'!AT33,\"*\")","v":3.4799999999999998E-2},{"$f":"IFERROR('Level 3'!AU33-'Level 2'!AU33,\"*\")","v":3.5200000000000009E-2},{"$f":"IFERROR('Level 3'!AV33-'Level 2'!AV33,\"*\")","v":3.234999999999999E-2},{"$f":"IFERROR('Level 3'!AW33-'Level 2'!AW33,\"*\")","v":3.0700000000000005E-2},{"$f":"IFERROR('Level 3'!AX33-'Level 2'!AX33,\"*\")","v":3.0600000000000016E-2},{"$f":"IFERROR('Level 3'!AY33-'Level 2'!AY33,\"*\")","v":"*"},null,{"$f":"'Level 1'!BA33","v":"Sweden"},{"$f":"IFERROR('Level 3'!BB33-'Level 2'!BB33,\"*\")","v":2.5499999999999995E-2},{"$f":"IFERROR('Level 3'!BC33-'Level 2'!BC33,\"*\")","v":2.7200000000000016E-2},{"$f":"IFERROR('Level 3'!BD33-'Level 2'!BD33,\"*\")","v":2.5900000000000006E-2},{"$f":"IFERROR('Level 3'!BE33-'Level 2'!BE33,\"*\")","v":2.9849999999999988E-2},{"$f":"IFERROR('Level 3'!BF33-'Level 2'!BF33,\"*\")","v":3.2500000000000001E-2},{"$f":"IFERROR('Level 3'!BG33-'Level 2'!BG33,\"*\")","v":3.1250000000000014E-2},{"$f":"IFERROR('Level 3'!BH33-'Level 2'!BH33,\"*\")","v":3.1350000000000017E-2},{"$f":"IFERROR('Level 3'!BI33-'Level 2'!BI33,\"*\")","v":2.8200000000000017E-2},{"$f":"IFERROR('Level 3'!BJ33-'Level 2'!BJ33,\"*\")","v":2.6800000000000018E-2},{"$f":"IFERROR('Level 3'!BK33-'Level 2'!BK33,\"*\")","v":2.6800000000000018E-2},{"$f":"IFERROR('Level 3'!BL33-'Level 2'!BL33,\"*\")","v":"*"}]
[{"$f":"'Level 1'!A34","v":"United Kingdom"},{"$f":"IFERROR('Level 3'!B34-'Level 2'!B34,\"*\")","v":7.8999999999999904E-3},{"$f":"IFERROR('Level 3'!C34-'Level 2'!C34,\"*\")","v":7.5500000000000012E-3},{"$f":"IFERROR('Level 3'!D34-'Level 2'!D34,\"*\")","v":8.0999999999999961E-3},{"$f":"IFERROR('Level 3'!E34-'Level 2'!E34,\"*\")","v":7.2500000000000064E-3},{"$f":"IFERROR('Level 3'!F34-'Level 2'!F34,\"*\")","v":7.6999999999999846E-3},{"$f":"IFERROR('Level 3'!G34-'Level 2'!G34,\"*\")","v":9.099999999999997E-3},{"$f":"IFERROR('Level 3'!H34-'Level 2'!H34,\"*\")","v":1.0050000000000003E-2},{"$f":"IFERROR('Level 3'!I34-'Level 2'!I34,\"*\")","v":1.175000000000001E-2},{"$f":"IFERROR('Level 3'!J34-'Level 2'!J34,\"*\")","v":1.265000000000005E-2},{"$f":"IFERROR('Level 3'!K34-'Level 2'!K34,\"*\")","v":1.1800000000000005E-2},{"$f":"IFERROR('Level 3'!L34-'Level 2'!L34,\"*\")","v":"*"},null,{"$f":"'Level 1'!N34","v":"United Kingdom"},{"$f":"IFERROR('Level 3'!O34-'Level 2'!O34,\"*\")","v":7.8000000000000014E-3},{"$f":"IFERROR('Level 3'!P34-'Level 2'!P34,\"*\")","v":7.5499999999999734E-3},{"$f":"IFERROR('Level 3'!Q34-'Level 2'!Q34,\"*\")","v":6.9500000000000117E-3},{"$f":"IFERROR('Level 3'!R34-'Level 2'!R34,\"*\")","v":7.1500000000000175E-3},{"$f":"IFERROR('Level 3'!S34-'Level 2'!S34,\"*\")","v":7.7000000000000124E-3},{"$f":"IFERROR('Level 3'!T34-'Level 2'!T34,\"*\")","v":8.8500000000000245E-3},{"$f":"IFERROR('Level 3'!U34-'Level 2'!U34,\"*\")","v":9.099999999999997E-3},{"$f":"IFERROR('Level 3'!V34-'Level 2'!V34,\"*\")","v":1.034999999999997E-2},{"$f":"IFERROR('Level 3'!W34-'Level 2'!W34,\"*\")","v":1.1450000000000016E-2},{"$f":"IFERROR('Level 3'!X34-'Level 2'!X34,\"*\")","v":1.0699999999999987E-2},{"$f":"IFERROR('Level 3'!Y34-'Level 2'!Y34,\"*\")","v":"*"},null,{"$f":"'Level 1'!AA34","v":"United Kingdom"},{"$f":"IFERROR('Level 3'!AB34-'Level 2'!AB34,\"*\")","v":7.0000000000000062E-3},{"$f":"IFERROR('Level 3'!AC34-'Level 2'!AC34,\"*\")","v":6.8500000000000227E-3},{"$f":"IFERROR('Level 3'!AD34-'Level 2'!AD34,\"*\")","v":6.6499999999999893E-3},{"$f":"IFERROR('Level 3'!AE34-'Level 2'!AE34,\"*\")","v":6.6999999999999837E-3},{"$f":"IFERROR('Level 3'!AF34-'Level 2'!AF34,\"*\")","v":7.1500000000000175E-3},{"$f":"IFERROR('Level 3'!AG34-'Level 2'!AG34,\"*\")","v":8.1499999999999906E-3},{"$f":"IFERROR('Level 3'!AH34-'Level 2'!AH34,\"*\")","v":8.4000000000000186E-3},{"$f":"IFERROR('Level 3'!AI34-'Level 2'!AI34,\"*\")","v":9.3999999999999917E-3},{"$f":"IFERROR('Level 3'!AJ34-'Level 2'!AJ34,\"*\")","v":1.0249999999999981E-2},{"$f":"IFERROR('Level 3'!AK34-'Level 2'!AK34,\"*\")","v":9.199999999999986E-3},{"$f":"IFERROR('Level 3'!AL34-'Level 2'!AL34,\"*\")","v":"*"},null,{"$f":"'Level 1'!AN34","v":"United Kingdom"},{"$f":"IFERROR('Level 3'!AO34-'Level 2'!AO34,\"*\")","v":6.3E-3},{"$f":"IFERROR('Level 3'!AP34-'Level 2'!AP34,\"*\")","v":6.3000000000000278E-3},{"$f":"IFERROR('Level 3'!AQ34-'Level 2'!AQ34,\"*\")","v":5.7500000000000051E-3},{"$f":"IFERROR('Level 3'!AR34-'Level 2'!AR34,\"*\")","v":6.0000000000000053E-3},{"$f":"IFERROR('Level 3'!AS34-'Level 2'!AS34,\"*\")","v":6.3500000000000223E-3},{"$f":"IFERROR('Level 3'!AT34-'Level 2'!AT34,\"*\")","v":7.3500000000000232E-3},{"$f":"IFERROR('Level 3'!AU34-'Level 2'!AU34,\"*\")","v":7.6000000000000234E-3},{"$f":"IFERROR('Level 3'!AV34-'Level 2'!AV34,\"*\")","v":8.3999999999999908E-3},{"$f":"IFERROR('Level 3'!AW34-'Level 2'!AW34,\"*\")","v":9.4000000000000195E-3},{"$f":"IFERROR('Level 3'!AX34-'Level 2'!AX34,\"*\")","v":8.5000000000000075E-3},{"$f":"IFERROR('Level 3'!AY34-'Level 2'!AY34,\"*\")","v":"*"},null,{"$f":"'Level 1'!BA34","v":"United Kingdom"},{"$f":"IFERROR('Level 3'!BB34-'Level 2'!BB34,\"*\")","v":5.2999999999999992E-3},{"$f":"IFERROR('Level 3'!BC34-'Level 2'!BC34,\"*\")","v":6.3E-3},{"$f":"IFERROR('Level 3'!BD34-'Level 2'!BD34,\"*\")","v":6.1499999999999888E-3},{"$f":"IFERROR('Level 3'!BE34-'Level 2'!BE34,\"*\")","v":5.5499999999999994E-3},{"$f":"IFERROR('Level 3'!BF34-'Level 2'!BF34,\"*\")","v":5.8500000000000218E-3},{"$f":"IFERROR('Level 3'!BG34-'Level 2'!BG34,\"*\")","v":6.8000000000000282E-3},{"$f":"IFERROR('Level 3'!BH34-'Level 2'!BH34,\"*\")","v":7.1499999999999897E-3},{"$f":"IFERROR('Level 3'!BI34-'Level 2'!BI34,\"*\")","v":7.8499999999999959E-3},{"$f":"IFERROR('Level 3'!BJ34-'Level 2'!BJ34,\"*\")","v":8.5999999999999965E-3},{"$f":"IFERROR('Level 3'!BK34-'Level 2'!BK34,\"*\")","v":7.8000000000000014E-3},{"$f":"IFERROR('Level 3'!BL34-'Level 2'!BL34,\"*\")","v":"*"}]

{"sheet":"Oversættelse af landenavne","index":9,"n_rows":36,"n_cols":4,"rows_kept":36,"cut":false,"hidden":true,"merged":[]}
["På denne side er en helt lavpraktisk oversættelse af landenavne fra engelsk til dansk. På regnearkene er de danske navne hentet direkte fra denne side"]
["Yderligere er der opgivet rækkenumre som bruges til vopslag og fortæller hvilken række de enkelte lande står på i Level 1,2 og 3 arkene."]
[]
[]
["Engelsk (fra Level 1)","Dansk oversættelse (automatisk)","rækkenummer til vopslag","rækkenummer i level 1,2 og 3"]
[{"$f":"'Level 1'!A6","v":"European Union (28 countries)"},{"$f":"IF(A6=\"European Union (28 countries)\",\"EU-28\",IF(A6=\"European Union (27 countries)\",\"EU-27\",IF(A6=\"Euro area (EA11-2000, EA12-2006, EA13-2007, EA15-2008, EA16-2010, EA17-2013, EA18-2014, EA19)\",\"EU-området\",IF(A6=\"Belgium\",\"Belgien\",IF(A6=\"Bulgaria\",\"Bulgarien\",IF(A6=\"czech republic\",\"Tjekkiet\",IF(A6=\"Denmark\",\"Danmark\",IF(A6=\"Germany (until 1990 former territory of the FRG)\",\"Tyskland\",IF(A6=\"Estonia\",\"Estland\",IF(A6=\"Ireland\",\"Irland\",IF(A6=\"Greece\",\"Grækenland\",IF(A6=\"Spain\",\"Spanien\",IF(A6=\"france\",\"Frankrig\",IF(A6=\"Croatia\",\"Kroatien\",IF(A6=\"italy\",\"Italien\",IF(A6=\"Cyprus\",\"Cypern\",IF(A6=\"Latvia\",\"Letland\",IF(A6=\"Lithuania\",\"Litaun\",IF(A6=\"Luxembourg\",\"Luxembourg\",IF(A6=\"Hungary\",\"Ungarn\",IF(A6=\"Malta\",\"Malta\",IF(A6=\"Netherlands\",\"Holland\",IF(A6=\"Austria\",\"Østrig\",IF(A6=\"Poland\",\"Polen\",IF(A6=\"portugal\",\"Portugal\",IF(A6=\"Romania\",\"Rumænien\",IF(A6=\"Slovenia\",\"Slovenien\",IF(A6=\"slovakia\",\"Slovakiet\",IF(A6=\"Finland\",\"Finland\",IF(A6=\"sweden\",\"Sverige\",IF(A6=\"United kingdom\",\"UK\",IF(A6=\"liechtenstein\",\"Liechtenstein\",IF(A6=\"Norway\",\"Norge\",IF(A6=\"Montenegro\",\"Montenegro\",IF(A6=\"Former Yugoslav Republic of Macedonia, the\",\"Republikken Makedonien\",IF(A6=\"Serbia\",\"Serbien\",IF(A6=\"Turkey\",\"Tyrkiet\",IF(A6=\"Bosnia and Herzegovina\",\"Bosnien-Hercegovina\",IF(A6=\"Kosovo (under United Nations Security Council Resolution 1244/99)\",\"Kosovo\",IF(A6=\"Iceland\",\"Island\",IF(A6=\"albania\",\"Albanien\",IF(A6=\"New Country\",\"Nyt land\",0))))))))))))))))))))))))))))))))))))))))))","v":"EU-28"},2,6]
[{"$f":"'Level 1'!A7","v":"Belgium"},"Belgien",3,{"$f":"D6+1","v":7}]
[{"$f":"'Level 1'!A8","v":"Bulgaria"},"Bulgarien",4,{"$f":"D7+1","v":8}]
[{"$f":"'Level 1'!A9","v":"Czech Republic"},"Tjekkiet",5,9]
[{"$f":"'Level 1'!A10","v":"Denmark"},"Danmark",6,10]
[{"$f":"'Level 1'!A11","v":"Germany (until 1990 former territory of the FRG)"},"Tyskland",7,11]
[{"$f":"'Level 1'!A12","v":"Estonia"},"Estland",8,12]
[{"$f":"'Level 1'!A13","v":"Ireland"},"Irland",9,13]
[{"$f":"'Level 1'!A14","v":"Greece"},"Grækenland",10,14]
[{"$f":"'Level 1'!A15","v":"Spain"},"Spanien",11,15]
[{"$f":"'Level 1'!A16","v":"France"},"Frankrig",12,16]
[{"$f":"'Level 1'!A17","v":"Croatia"},"Kroatien",13,17]
[{"$f":"'Level 1'!A18","v":"Italy"},"Italien",14,18]
[{"$f":"'Level 1'!A19","v":"Cyprus"},"Cypern",15,19]
[{"$f":"'Level 1'!A20","v":"Latvia"},"Letland",16,20]
[{"$f":"'Level 1'!A21","v":"Lithuania"},"Litaun",17,21]
[{"$f":"'Level 1'!A22","v":"Luxembourg"},{"$f":"IF(A22=\"European Union (28 countries)\",\"EU-28\",IF(A22=\"European Union (27 countries)\",\"EU-27\",IF(A22=\"Euro area (EA11-2000, EA12-2006, EA13-2007, EA15-2008, EA16-2010, EA17-2013, EA18-2014, EA19)\",\"EU-området\",IF(A22=\"Belgium\",\"Belgien\",IF(A22=\"Bulgaria\",\"Bulgarien\",IF(A22=\"czech republic\",\"Tjekkiet\",IF(A22=\"Denmark\",\"Danmark\",IF(A22=\"Germany (until 1990 former territory of the FRG)\",\"Tyskland\",IF(A22=\"Estonia\",\"Estland\",IF(A22=\"Ireland\",\"Irland\",IF(A22=\"Greece\",\"Grækenland\",IF(A22=\"Spain\",\"Spanien\",IF(A22=\"france\",\"Frankrig\",IF(A22=\"Croatia\",\"Kroatien\",IF(A22=\"italy\",\"Italien\",IF(A22=\"Cyprus\",\"Cypern\",IF(A22=\"Latvia\",\"Letland\",IF(A22=\"Lithuania\",\"Litaun\",IF(A22=\"Luxembourg\",\"Luxembourg\",IF(A22=\"Hungary\",\"Ungarn\",IF(A22=\"Malta\",\"Malta\",IF(A22=\"Netherlands\",\"Holland\",IF(A22=\"Austria\",\"Østrig\",IF(A22=\"Poland\",\"Polen\",IF(A22=\"portugal\",\"Portugal\",IF(A22=\"Romania\",\"Rumænien\",IF(A22=\"Slovenia\",\"Slovenien\",IF(A22=\"slovakia\",\"Slovakiet\",IF(A22=\"Finland\",\"Finland\",IF(A22=\"sweden\",\"Sverige\",IF(A22=\"United kingdom\",\"UK\",IF(A22=\"liechtenstein\",\"Liechtenstein\",IF(A22=\"Norway\",\"Norge\",IF(A22=\"Montenegro\",\"Montenegro\",IF(A22=\"Former Yugoslav Republic of Macedonia, the\",\"Republikken Makedonien\",IF(A22=\"Serbia\",\"Serbien\",IF(A22=\"Turkey\",\"Tyrkiet\",IF(A22=\"Bosnia and Herzegovina\",\"Bosnien-Hercegovina\",IF(A22=\"Kosovo (under United Nations Security Council Resolution 1244/99)\",\"Kosovo\",IF(A22=\"Iceland\",\"Island\",IF(A22=\"albania\",\"Albanien\",IF(A22=\"New Country\",\"Nyt land\",0))))))))))))))))))))))))))))))))))))))))))","v":"Luxembourg"},18,22]
[{"$f":"'Level 1'!A23","v":"Hungary"},{"$f":"IF(A23=\"European Union (28 countries)\",\"EU-28\",IF(A23=\"European Union (27 countries)\",\"EU-27\",IF(A23=\"Euro area (EA11-2000, EA12-2006, EA13-2007, EA15-2008, EA16-2010, EA17-2013, EA18-2014, EA19)\",\"EU-området\",IF(A23=\"Belgium\",\"Belgien\",IF(A23=\"Bulgaria\",\"Bulgarien\",IF(A23=\"czech republic\",\"Tjekkiet\",IF(A23=\"Denmark\",\"Danmark\",IF(A23=\"Germany (until 1990 former territory of the FRG)\",\"Tyskland\",IF(A23=\"Estonia\",\"Estland\",IF(A23=\"Ireland\",\"Irland\",IF(A23=\"Greece\",\"Grækenland\",IF(A23=\"Spain\",\"Spanien\",IF(A23=\"france\",\"Frankrig\",IF(A23=\"Croatia\",\"Kroatien\",IF(A23=\"italy\",\"Italien\",IF(A23=\"Cyprus\",\"Cypern\",IF(A23=\"Latvia\",\"Letland\",IF(A23=\"Lithuania\",\"Litaun\",IF(A23=\"Luxembourg\",\"Luxembourg\",IF(A23=\"Hungary\",\"Ungarn\",IF(A23=\"Malta\",\"Malta\",IF(A23=\"Netherlands\",\"Holland\",IF(A23=\"Austria\",\"Østrig\",IF(A23=\"Poland\",\"Polen\",IF(A23=\"portugal\",\"Portugal\",IF(A23=\"Romania\",\"Rumænien\",IF(A23=\"Slovenia\",\"Slovenien\",IF(A23=\"slovakia\",\"Slovakiet\",IF(A23=\"Finland\",\"Finland\",IF(A23=\"sweden\",\"Sverige\",IF(A23=\"United kingdom\",\"UK\",IF(A23=\"liechtenstein\",\"Liechtenstein\",IF(A23=\"Norway\",\"Norge\",IF(A23=\"Montenegro\",\"Montenegro\",IF(A23=\"Former Yugoslav Republic of Macedonia, the\",\"Republikken Makedonien\",IF(A23=\"Serbia\",\"Serbien\",IF(A23=\"Turkey\",\"Tyrkiet\",IF(A23=\"Bosnia and Herzegovina\",\"Bosnien-Hercegovina\",IF(A23=\"Kosovo (under United Nations Security Council Resolution 1244/99)\",\"Kosovo\",IF(A23=\"Iceland\",\"Island\",IF(A23=\"albania\",\"Albanien\",IF(A23=\"New Country\",\"Nyt land\",0))))))))))))))))))))))))))))))))))))))))))","v":"Ungarn"},19,23]
[{"$f":"'Level 1'!A24","v":"Malta"},"Malta",20,24]
[{"$f":"'Level 1'!A25","v":"Netherlands"},"Holland",21,25]
[{"$f":"'Level 1'!A26","v":"Austria"},"Østrig",22,26]
[{"$f":"'Level 1'!A27","v":"Poland"},"Polen",23,27]
[{"$f":"'Level 1'!A28","v":"Portugal"},"Portugal",24,28]
[{"$f":"'Level 1'!A29","v":"Romania"},"Rumænien",25,29]
[{"$f":"'Level 1'!A30","v":"Slovenia"},"Slovenien",26,30]
[{"$f":"'Level 1'!A31","v":"Slovakia"},"Slovakiet",27,31]
[{"$f":"'Level 1'!A32","v":"Finland"},"Finland",28,32]
[{"$f":"'Level 1'!A33","v":"Sweden"},"Sverige",29,33]
[{"$f":"'Level 1'!A34","v":"United Kingdom"},"UK",30,34]
[{"$f":"'Level 1'!#REF!","v":{"$error":"#REF!"}},{"$error":"#REF!"},31,35]
["new country",{"$f":"IF(A36=\"European Union (28 countries)\",\"EU-28\",IF(A36=\"European Union (27 countries)\",\"EU-27\",IF(A36=\"Euro area (EA11-2000, EA12-2006, EA13-2007, EA15-2008, EA16-2010, EA17-2013, EA18-2014, EA19)\",\"EU-området\",IF(A36=\"Belgium\",\"Belgien\",IF(A36=\"Bulgaria\",\"Bulgarien\",IF(A36=\"czech republic\",\"Tjekkiet\",IF(A36=\"Denmark\",\"Danmark\",IF(A36=\"Germany (until 1990 former territory of the FRG)\",\"Tyskland\",IF(A36=\"Estonia\",\"Estland\",IF(A36=\"Ireland\",\"Irland\",IF(A36=\"Greece\",\"Grækenland\",IF(A36=\"Spain\",\"Spanien\",IF(A36=\"france\",\"Frankrig\",IF(A36=\"Croatia\",\"Kroatien\",IF(A36=\"italy\",\"Italien\",IF(A36=\"Cyprus\",\"Cypern\",IF(A36=\"Latvia\",\"Letland\",IF(A36=\"Lithuania\",\"Litaun\",IF(A36=\"Luxembourg\",\"luxembourg\",IF(A36=\"Hungary\",\"Ungarn\",IF(A36=\"Malta\",\"Malta\",IF(A36=\"Netherlands\",\"Holland\",IF(A36=\"Austria\",\"Østrig\",IF(A36=\"Poland\",\"Polen\",IF(A36=\"portugal\",\"Portugal\",IF(A36=\"Romania\",\"Rumænien\",IF(A36=\"Slovenia\",\"Slovenien\",IF(A36=\"slovakia\",\"Slovakiet\",IF(A36=\"Finland\",\"Finland\",IF(A36=\"sweden\",\"Sverige\",IF(A36=\"United kingdom\",\"UK\",IF(A36=\"liechtenstein\",\"Liechtenstein\",IF(A36=\"Norway\",\"Norge\",IF(A36=\"Montenegro\",\"Montenegro\",IF(A36=\"Former Yugoslav Republic of Macedonia, the\",\"Republikken Makedonien\",IF(A36=\"Serbia\",\"Serbien\",IF(A36=\"Turkey\",\"Tyrkiet\",IF(A36=\"Bosnia and Herzegovina\",\"Bosnien-Hercegovina\",IF(A36=\"Kosovo (under United Nations Security Council Resolution 1244/99)\",\"Kosovo\",IF(A36=\"Iceland\",\"Island\",IF(A36=\"albania\",\"Albanien\",IF(A36=\"New Country\",\"Nyt land\",0))))))))))))))))))))))))))))))))))))))))))","v":"Nyt land"},32,36]

{"sheet":"Sådan opdateres arket","index":10,"n_rows":8,"n_cols":2,"rows_kept":8,"cut":false,"hidden":true,"merged":[]}
[]
[]
[null,"Sådan foretages opdatering"]
[null,"Der skal foretages opdateringer på følgende ark: Forside, Baggrundsdata - HICP deflator, Level 1, Level 2 og Level 3. De resterende ark indeholder kun værdier der hantes fra disse opdateringer.\n\nOpdateringer foretages halvårigt når Eurostat frigiver ny data, omkring 1. september og 1. marts.\nHICP deflatoren opdateres ligeledes når der er nye tal. Tal for året før offentligøres ca. 1 sebtember. Inden HICP offentligøres bruges seneste års tal tillagt vækstraten fra seneste år som approksimation.\n\nNedenfor findes en oversigt over hvordan de enkelte ark opdateres.\n\n\nA) FORSIDEN:\nFrsiden opdateres halvårigt.\n1) Anfør i celle ’C3’ manuelt hvem der senest har opdateret i arket og datoen for denne opdatering.\n\n2) Valutakursen opdateres med nye tal for det seneste år. Det ældste år slettes, således at der til enhver tid er valutakurser for de seneste 7 år. Ved halvårsopdateringer beregnes kursen for det nyeste år som gennemsnitskursen for de første 6 mdr. af året. Data til opdatering af valutakursen findes på Danmarks statistik i tabel ”DNVALA”. \nOBS: Husk at årstallene skal være formateret som tal.\n\n"]
[null,"B) Level 1, 2 og 3 \nDenne opdatering omhandler level 1,2 og 3 og skal laves både når der kommer nye års og halvårsdata. Data hentes fra eurostattabellen 'nrg_pc_204' (Electricity prices for domestic consumers - bi-annual data (from 2007 onwards))\n\nElpriser, forbrugere:\nArkene \"Level 1\", \"Level 2\" og \"Level 3\" opdateres med nye tal fra Eurostat, tabel ’nrg_pc_204’.  Det relevante data findes ved at dialogboksen åbnes.\nFor alle levels gælder: \n• I fanen ’Consom’ vælges alle forbrugsbånd (DA, DB, DC, DD og DE). \n• I ’currency vælges kun EUR. \n• I ’GEO’ vælges enten alle lande eller landene fra 2014-opdateringen som er: European Union (28 countries), European Union (27 countries), Euro area (EA11-2000, EA12-2006, EA13-2007, EA15-2008, EA16-2010, EA17-2013, EA18), Belgium, Bulgaria, Czech Republic, Denmark, Germany , Estonia, Ireland, Greece, Spain, France, Croatia, Italy, Cyprus , Latvia, Lithuania, Luxembourg, Hungary, Malta, Netherlands, Austria, Poland, Portugal, Romania, Slovenia, Slovakia, Finland,  Sweden, United Kingdom, Iceland, Liechtenstein, Norway, Montenegro, FYR Macedonia, Albania,  Serbia, Turkey, Bosnia and Herzegovina, Kosovo.\n• I fanen ‘Product’ vælges den eneste mulighed ‘Electical energy’. \n• I fanen ’Time’ vælges data for de seneste 7 år. Det er vigtigt at ens data altid starter med tal fra første halvår at et givent startår. Det betyder, at man ved en halvårs opdatering (altså når der kun er nye data for det første halvår) har tal for de seneste 6,5 år. \n• I fanen ’Unit’ vælges ’KWh’.\nOBS! Det er meget vigtigt at vælge de samme for alle tre levels. \n\n"]
[null,"Når man opdaterer data for level 1 vælger man i fanen ’Excluding taxes and levies’, opdateres data for level 2 vælges ’ Excluding VAT and other recoverable taxes and levies’. For level 3 vælges ’All taxes and levies included’. \nDet er vigtigt at man kun henter data for et level ad gangen da formateringen i Excel er lavet til det.\nFor at få data i det korrekte excel-format vælges download og der sættes hak i ’Short decription’ og ’Full extraction’. Hele det downloadede ark kopieres ind i fanen for det level man opdaterer data for. Data indsættes i cellen ’A52’ lige nedenfor det blå bånd med teksten ’baggrundsdata til level [1, 2 eller 3]’. Proceduren gentages for alle 3 levels.\nNu er alt relevant data indhentet i arket. Alle de resterende ark burde tilpasse sig det nye data, således alle årstal, overskrifter mv. passer til det nyeste år."]
[null,"C) Baggrundsdata-HICP-defaltoren\nBaggrundsdata (nederst i arket) opdateres når der kommer nye tal i eurostat tabellen \"prc_hicp_aind\" (typisk en gang årligt i september). Hvis man ikke har tal for nyeste år bruges seneste år tillagt væksten fra seneste år som approksimation. Det er kun baggrundsdata der skal opdateres tabellerne øverst tilpasser sig når de nye tal er kopieret ind.\n\nData hentes fra Eurostat tabellen ’prc_hicp_aind’. Det relevante data findes ved at dialog-boksen åbnes.\n• I fanen ’Geo’ vælges de relevante lande (se lande fra den seneste opdatering af data).\n• I ’Classification of individual consumption by purpose' vælges All-items HICP\n• I ‘Time’ vælges de seneste 10 år.\n• I ’Unit’ vælges ’Annual average index’\n• Klik ’update’\nFor at få data i det korrekte excel-format vælges download og der sættes hak i ’Short decription’ og ’Full extraction’. Hele det downloadede ark kopieres ind i fanen ’BVT baggrundsdata’. Data indsættes cellen 'A 69' lige nedenfor det blå bånd med teksten ’baggrundsdata til BVT deflator’. Denne handling opdaterer BVT deflatoren øverst i arket.\n\n\n\n\n"]
[null,"D) Kontrol  \nKontrollen skal sikre, at opdateringen er foretaget korrekt, og at figurer og tabeller dermed viser de korrekte data. Kontrollen skal også tjekke om der er tilføjet eller fjernet lande siden sidste opdatering, eller om Eurostat har byttet om på rækkefølgen. I så fald skal kontrollen sikre at der reageres på dette.\n\nLevel 1, 2 og 3:\n1) Tjek at data starter med tal fra S1, således at middelværdierne for de enkelte år altid tages af to tal fra samme kalenderår.\n2) Tag evt. par stikprøver fra tabeller og figurer for at se om data hentes korrekt, dette burde være tilfældet.\n3) I fanen ’Oversættelse af landenavne’ skal det engelske navn hentet fra level 1 arket stemme overens med begge danske oversættelser. Den første er programmeret således at der ungås fejl hvis kontrollen ikke udføres grundigt. anden række er for at tjekke om eurostat har lavet ændringer i medtagne lande eller rækkefølgen siden sidste opdatering. Hvis der er sket ændringer siden sidst vil det gule felt vise falsk.\n\nHICP deflatoren:\n4) HICP-deflatoren skal hentes for de samme lande som indgår i prisstatistikken. For at sikre at dette opfyldes skal alle de orange tjekceller vise 'sand'. Er dette tilfældet har man HICP-deflatoren for de korrekte lande.\n\nAlle tabeller og figurer burde nu være opdaterede og korrekte.\n\n\n"]