{"text_format":"1","workbook":"xlsx","n_sheets":10,"sheets":["Forside","Udvalgte lande, 10 års oversigt","Alle lande, valgt år","Baggrundstabeller for alle land","Baggrundsdata - BVT - deflator","Level 1","Level 2","Afgifter og Moms","Oversættelse af landenavne","Sådan opdateres arket"],"not_rendered":{"charts":24,"images":0,"macros":1,"external_links":0,"defined_names":4,"comments":0,"pivot_tables":0},"unopened":[],"bounds":{"document_bytes":16777216,"sheet_cells":100000,"rows_first":2000,"rows_last":500,"rows_between":2000,"halvings":0,"cell_chars":16384,"cell_head_chars":4096},"cells_cut":0,"cells_raw":0,"read":"whole","date_system":"1900"}

{"sheet":"Forside","index":0,"n_rows":59,"n_cols":15,"rows_kept":59,"cut":false,"hidden":false,"merged":[[32,1,32,2]]}
[null,"Navn på filen:","EU - Elpriser - Industri (2007-2017) "]
[]
[null,"Sidst opdateret","2016-12-08"]
[null,"Opdateret af","b014318"]
[]
[null,"Datakilder:",{"$f":"LEFT(B57,34)","v":"Danmarks Statistik, DNVALA: Valuta"}]
[null,null,{"$f":"\"Eurostat: \"&RIGHT('Baggrundsdata - BVT - deflator'!A55,13)","v":"Eurostat: , nama_10_a10"}]
[null,null,{"$f":"\"Eurostat: \"&RIGHT('Level 1'!A36,10)","v":"Eurostat: nrg_pc_205"}]
[]
[]
[null,"Kode til at låse arkene op:"," ens1256"]
[]
[]
[null,"Oversigt over ark:"]
[null,"Forside","Formål, oversigt og smådata"]
[null,{"$f":"'Udvalgte lande, 10 års oversigt'!E1","v":"Udvalgte lande, 10 års oversigt"},"Her findes sammenligning af relevante lande for en 10 års periode."]
[null,{"$f":"'Alle lande, valgt år'!F1","v":"Alle lande, valgt år"},"Her findes resultattabellerne for alle EU lande i de enheder du vælger."]
[null,{"$f":"'Baggrundstabeller for alle land'!E1","v":"Baggrundstabeller for alle lande, valgt år"},"Her findes baggrundstabeller for resultattabellerne."]
[null,{"$f":"'Baggrundsdata - BVT - deflator'!C2","v":"Baggrundsdata - BVT deflator"},"BVT deflatorerne der bruges i til beregning af priser i det valte år for resultattabellerne. Og kontrol af at man har hentet korrekt data"]
[null,"Level 1","Rådata fra Eurostat og samling af dette"]
[null,"Level 2","Rådata fra Eurostat og samling af dette"]
[null,"Afgifter og moms","Bearbejelse af rådata fra Eurostat"]
[null,"Oversættelse af landenavne","Lavpraktisk oversættelses-, hjælpe- og  og kontrolark"]
[null,{"$f":"'Sådan opdateres arket'!B3","v":"Sådan foretages opdatering"},"Her er en beskrivelse af hvordan og hvornår arkene skal opdateres."]
[]
[]
[]
[null,"Arkene har farvekoder, de er opdelt således:"]
[null,"Beskrivelser og forklaringer"]
[null,"Resultattabeller"]
[null,"Baggrundstabeller og rådata"]
[]
[null,"Formålet med dette ark er at give et overblik over elprisen for industrien forbrugere i de europæiske lande. Særligt at kunne sammenligne den danske elpris med de øvrige elpriser.\n\nFor at gøre det mere overskueligt træffes valg omkring enheder en rullemenuer øverst i de to ark med resultattabeller. Når man vælger tilpasses tabeller og figurer til valgene.\n\nRådata opdateres halvårligt, når eurostat opdaterer deres databank.\n\nPå forsiden findes også tabeller med grundlæggende oplysninger, der bruges til enhedsomregning. Det drejer sig om de udvalgte sammenligningslande og valutakursomregning.\n\nDet er vigigt kun at hente data 10 år tilbage, dvs. at man skal have hele år, og således 20xx S1 som det første data, for halvårsopdateringer har man således kun data for fx 6,5 år mens man for årsopdateringerne har data for 7 år\n"]
[]
[]
[null,"Tabel 1"]
[null,"Sammenligningslande"]
[null,"Disse lande bruges til grundlag for sammenligning over tid. De er valgt på baggrund af Natinalbankens effektive kronekurs indeks og udgøres af de europæiske lande som danmark har mest samhandel med."]
[null,"EU-28"]
[null,"Belgien"]
[null,"Danmark"]
[null,"Tyskland"]
[null,"Frankrig"]
[null,"Italien"]
[null,"Holland"]
[null,"Sverige"]
[null,"UK"]
[]
[]
[]
[]
[null,"Tabel 2"]
[null,"Valutakurser efter opgørelsesmetode, kurstype, valuta og tid"]
[null,"Enhed: DKK pr. 100 enheder valuta og indekstal"]
[null,null,null,null,2007,2008,2009,2010,2011,2012,2013,2014,2015,2016,2017]
[null,"Årsgennemsnit","Valutakurser (DKK pr. 100 enheder valuta)","Euro  (Jan. 1999-)",745.59739999999999,744.62509999999997,744.62509999999997,744.73659999999995,745.05290000000002,744.37509999999997,745.79819999999995,745.47410000000002,745.61029999999994,744.74884444444444]
[null,"Danmarks Statistik, DNVALA: Valutakurser efter valuta, kurstype og opgørelsesmetode (årsobservationer) "]
[null,"OBS! Årstallene skal være formateret som tal!"]
[null,"Bemærk: Når der ikke er data for året bruges gennemsnit for de tilgængelige måneder."]

{"sheet":"Udvalgte lande, 10 års oversigt","index":1,"n_rows":117,"n_cols":96,"rows_kept":117,"cut":false,"hidden":false,"merged":[[61,42,61,53],[4,3,4,10],[5,3,5,10],[25,29,25,40],[25,42,25,53],[25,16,25,27],[25,3,25,14],[26,95,57,95],[61,1,92,1],[61,3,61,10],[61,16,61,23],[61,29,61,40],[61,95,92,95],[26,1,57,1],[26,3,26,10],[26,29,26,40],[26,68,26,75],[26,16,26,27],[26,42,26,53],[26,55,26,66],[26,76,26,79],[61,68,61,79],[61,55,61,66],[104,3,104,10],[104,16,104,23],[104,29,104,40],[180,3,180,4],[180,16,180,17],[180,29,180,30],[180,42,180,43],[180,55,180,57],[181,3,181,5],[181,16,181,18],[181,29,181,31],[181,42,181,44],[181,55,181,58],[182,3,182,6],[182,16,182,20],[182,29,182,33],[182,42,182,45],[182,55,182,59],[196,3,196,9],[196,16,196,23],[196,29,196,40],[196,42,196,49],[196,55,196,62],[232,3,232,4],[232,16,232,17],[232,29,232,30],[232,42,232,43],[232,55,232,57],[234,42,234,45],[234,55,234,59],[234,68,234,72],[233,3,233,5],[233,16,233,18],[233,29,233,31],[233,42,233,44],[233,55,233,58],[233,68,233,71],[233,81,233,84],[234,81,234,85],[23,3,23,9],[23,15,23,21],[23,23,23,33],[23,35,23,45],[23,47,23,57],[180,81,180,83],[181,81,181,84],[234,3,234,6],[234,16,234,20],[234,29,234,33],[23,59,23,69],[23,71,23,81],[182,81,182,85],[196,81,196,88],[232,81,232,83],[232,68,232,70],[196,68,196,75],[182,68,182,72],[180,68,180,70],[181,68,181,71],[25,68,25,79],[25,55,25,66],[25,81,25,92],[61,81,61,92],[26,81,26,92]]}
[null,null,null,"NAVN PÅ ARK:","Udvalgte lande, 10 års oversigt"]
[null,null,null,"Data hentes fra:","'Forside', 'Level 1', 'Level 2', 'Afgifter og moms' og 'Baggrundsdata -BVT-deflator'"]
[]
[null,null,null,"Sådan bruges arket:"]
[null,null,null,{"$f":"\"Arket 'Udvalgte lande, 10 års oversigt' viser figurer og tabeller (de grå-blå) for elprisen for industielle forbrugere på level 1 og 2 for hvert interval. Prisen vises for udvalgte lande for årene \"&E47&\" til \"&M47&\".\nLandene er valgt på baggrund af Nationalbankens effektive kronekursindeks og udgøres af de europæiske lande Danmark har mest samhandel med.\"","v":"Arket 'Udvalgte lande, 10 års oversigt' viser figurer og tabeller (de grå-blå) for elprisen for industielle forbrugere på level 1 og 2 for hvert interval. Prisen vises for udvalgte lande for årene 2007 til 2015.\nLandene er valgt på baggrund af Nationalbankens effektive kronekursindeks og udgøres af de europæiske lande Danmark har mest samhandel med."}]
[null,null,null,"Pristypen, basisået, valuta og enhed kan ændres. Dette gøres i de farvede rullemenuer nedenfor. \nRent teknisk styrer hver menu en tabel længere nede i tilsvarende farve. Disse tabeller ganges på rådata (arkene level1 og 2) for hvert level, heraf fremkommer resultattabellerne med som følge af de valg man traf i rullemenuerne.\n\nTil hver resultattabel er tilkoblet en figur der viser prisudviklingen grafisk. \n\n"]
[]
[]
[]
[]
[]
[null,null,null,"Vælg",null,"Vises i"]
[null,null,null,"Vælg pristype","faste priser","Tabel B"]
[null,null,null,"Vælg Basisår (kun ved fast pris)",2016,"Tabel B"]
[null,null,null,"Vælg valuta","DKK øre","Tabel C"]
[]
[]
[]
[null,null,null,"Resultattabeller:"]
[null,null,null,"Valgene truffet ovenfor giver tabeller og figurer der er:"]
[null,null,null,{"$f":"\"Oppgjort i \"&$E$13&\" med basisår \"&$E$14","v":"Oppgjort i faste priser med basisår 2016"}]
[null,null,null,{"$f":"\"Vist i \"&E15&\" / kWh\"","v":"Vist i DKK øre / kWh"}]
[]
[]
[]
[null,null,null,"IA: <0,02 GWh",null,null,null,null,null,null,null,null,null,null,null,null,"IB: 0,02 < 0,5 GWh",null,null,null,null,null,null,null,null,null,null,null,null,"IC: 0,5 < 2 GWh",null,null,null,null,null,null,null,null,null,null,null,null,"ID: 2 < 20 GWh",null,null,null,null,null,null,null,null,null,null,null,null,"IE:20 < 70 GWh",null,null,null,null,null,null,null,null,null,null,null,null,"IF: 70 < 150 GWh",null,null,null,null,null,null,null,null,null,null,null,null,"IG: > 150 GWh"]
[null,"Level 1: Elspris ekskl. PSO og afgifter",null,{"$f":"\"Figur XX:\n\"&$B$27&\" for intervalet \"&D26&\". \nPriserne er vist i \"&$E$15&\" / kWh i \"&$E$13&\" med basisår \"&$E$14&\". \"","v":"Figur XX:\nLevel 1: Elspris ekskl. PSO og afgifter for intervalet IA: <0,02 GWh. \nPriserne er vist i DKK øre / kWh i faste priser med basisår 2016. "},null,null,null,null,null,null,null,null,null,null,null,null,{"$f":"\"Figur XX:\n\"&$B$27&\" for intervalet \"&Q26&\". \nPriserne er vist i \"&$E$15&\" / kWh i \"&$E$13&\" med basisår \"&$E$14&\". \"","v":"Figur XX:\nLevel 1: Elspris ekskl. PSO og afgifter for intervalet IB: 0,02 < 0,5 GWh. \nPriserne er vist i DKK øre / kWh i faste priser med basisår 2016. "},null,null,null,null,null,null,null,null,null,null,null,null,{"$f":"\"Figur XX:\n\"&$B$27&\" for intervalet \"&AD26&\". \nPriserne er vist i \"&$E$15&\" / kWh i \"&$E$13&\" med basisår \"&$E$14&\". \"","v":"Figur XX:\nLevel 1: Elspris ekskl. PSO og afgifter for intervalet IC: 0,5 < 2 GWh. \nPriserne er vist i DKK øre / kWh i faste priser med basisår 2016. "},null,null,null,null,null,null,null,null,null,null,null,null,{"$f":"\"Figur XX:\n\"&$B$27&\" for intervalet \"&AQ26&\". \nPriserne er vist i \"&$E$15&\" / kWh i \"&$E$13&\" med basisår \"&$E$14&\". \"","v":"Figur XX:\nLevel 1: Elspris ekskl. PSO og afgifter for intervalet ID: 2 < 20 GWh. \nPriserne er vist i DKK øre / kWh i faste priser med basisår 2016. "},null,null,null,null,null,null,null,null,null,null,null,null,{"$f":"\"Figur XX:\n\"&$B$27&\" for intervalet \"&BD26&\". \nPriserne er vist i \"&$E$15&\" / kWh i \"&$E$13&\" med basisår \"&$E$14&\". \"","v":"Figur XX:\nLevel 1: Elspris ekskl. PSO og afgifter for intervalet IE:20 < 70 GWh. \nPriserne er vist i DKK øre / kWh i faste priser med basisår 2016. "},null,null,null,null,null,null,null,null,null,null,null,null,{"$f":"\"Figur XX:\n\"&$B$27&\" for intervalet \"&BQ26&\". \nPriserne er vist i \"&$E$15&\" / kWh i \"&$E$13&\" med basisår \"&$E$14&\". \"","v":"Figur XX:\nLevel 1: Elspris ekskl. PSO og afgifter for intervalet IF: 70 < 150 GWh. \nPriserne er vist i DKK øre / kWh i faste priser med basisår 2016. "},null,null,null,null,null,null,null,null,null,null,null,null,{"$f":"\"Figur XX:\n\"&$B$27&\" for intervalet \"&CD26&\". \nPriserne er vist i \"&$E$15&\" / kWh i \"&$E$13&\" med basisår \"&$E$14&\". \"","v":"Figur XX:\nLevel 1: Elspris ekskl. PSO og afgifter for intervalet IG: > 150 GWh. \nPriserne er vist i DKK øre / kWh i faste priser med basisår 2016. "},null,null,null,null,null,null,null,null,null,null,null,null,null,{"$f":"B27","v":"Level 1: Elspris ekskl. PSO og afgifter"}]
[]
[]
[]
[]
[]
[]
[]
[]
[]
[]
[]
[]
[]
[]
[]
[]
[]
[]
[null,null,null,"Kilde: Eurostat",null,null,null,null,null,null,null,null,null,null,null,null,"Kilde: Eurostat",null,null,null,null,null,null,null,null,null,null,null,null,"Kilde: Eurostat",null,null,null,null,null,null,null,null,null,null,null,null,"Kilde: Eurostat",null,null,null,null,null,null,null,null,null,null,null,null,"Kilde: Eurostat",null,null,null,null,null,null,null,null,null,null,null,null,"Kilde: Eurostat"]
[null,null,null,{"$f":"$E$15&\"/kWh\"","v":"DKK øre/kWh"},{"$f":"'Level 1'!B$5","v":2007},{"$f":"'Level 1'!C$5","v":2008},{"$f":"'Level 1'!D$5","v":2009},{"$f":"'Level 1'!E$5","v":2010},{"$f":"'Level 1'!F$5","v":2011},{"$f":"'Level 1'!G$5","v":2012},{"$f":"'Level 1'!H$5","v":2013},{"$f":"'Level 1'!I$5","v":2014},{"$f":"'Level 1'!J$5","v":2015},{"$f":"'Level 1'!K$5","v":2016},{"$f":"'Level 1'!L$5","v":2017},null,{"$f":"$E$15&\"/kWh\"","v":"DKK øre/kWh"},{"$f":"'Level 1'!O$5","v":2007},{"$f":"'Level 1'!P$5","v":2008},{"$f":"'Level 1'!Q$5","v":2009},{"$f":"'Level 1'!R$5","v":2010},{"$f":"'Level 1'!S$5","v":2011},{"$f":"'Level 1'!T$5","v":2012},{"$f":"'Level 1'!U$5","v":2013},{"$f":"'Level 1'!V$5","v":2014},{"$f":"'Level 1'!W$5","v":2015},{"$f":"'Level 1'!X$5","v":2016},{"$f":"'Level 1'!Y$5","v":2017},null,{"$f":"$E$15&\"/kWh\"","v":"DKK øre/kWh"},{"$f":"'Level 1'!AB$5","v":2007},{"$f":"'Level 1'!AC$5","v":2008},{"$f":"'Level 1'!AD$5","v":2009},{"$f":"'Level 1'!AE$5","v":2010},{"$f":"'Level 1'!AF$5","v":2011},{"$f":"'Level 1'!AG$5","v":2012},{"$f":"'Level 1'!AH$5","v":2013},{"$f":"'Level 1'!AI$5","v":2014},{"$f":"'Level 1'!AJ$5","v":2015},{"$f":"'Level 1'!AK$5","v":2016},{"$f":"'Level 1'!AL$5","v":2017},null,{"$f":"$E$15&\"/kWh\"","v":"DKK øre/kWh"},{"$f":"'Level 1'!AO$5","v":2007},{"$f":"'Level 1'!AP$5","v":2008},{"$f":"'Level 1'!AQ$5","v":2009},{"$f":"'Level 1'!AR$5","v":2010},{"$f":"'Level 1'!AS$5","v":2011},{"$f":"'Level 1'!AT$5","v":2012},{"$f":"'Level 1'!AU$5","v":2013},{"$f":"'Level 1'!AV$5","v":2014},{"$f":"'Level 1'!AW$5","v":2015},{"$f":"'Level 1'!AX$5","v":2016},{"$f":"'Level 1'!AY$5","v":2017},null,{"$f":"$E$15&\"/kWh\"","v":"DKK øre/kWh"},{"$f":"'Level 1'!BB$5","v":2007},{"$f":"'Level 1'!BC$5","v":2008},{"$f":"'Level 1'!BD$5","v":2009},{"$f":"'Level 1'!BE$5","v":2010},{"$f":"'Level 1'!BF$5","v":2011},{"$f":"'Level 1'!BG$5","v":2012},{"$f":"'Level 1'!BH$5","v":2013},{"$f":"'Level 1'!BI$5","v":2014},{"$f":"'Level 1'!BJ$5","v":2015},{"$f":"'Level 1'!BK$5","v":2016},{"$f":"'Level 1'!BL$5","v":2017},null,{"$f":"$E$15&\"/kWh\"","v":"DKK øre/kWh"},{"$f":"'Level 1'!BO$5","v":2007},{"$f":"'Level 1'!BP$5","v":2008},{"$f":"'Level 1'!BQ$5","v":2009},{"$f":"'Level 1'!BR$5","v":2010},{"$f":"'Level 1'!BS$5","v":2011},{"$f":"'Level 1'!BT$5","v":2012},{"$f":"'Level 1'!BU$5","v":2013},{"$f":"'Level 1'!BV$5","v":2014},{"$f":"'Level 1'!BW$5","v":2015},{"$f":"'Level 1'!BX$5","v":2016},{"$f":"'Level 1'!BY$5","v":2017},null,{"$f":"$E$15&\"/kWh\"","v":"DKK øre/kWh"},{"$f":"'Level 1'!CB$5","v":2007},{"$f":"'Level 1'!CC$5","v":2008},{"$f":"'Level 1'!CD$5","v":2009},{"$f":"'Level 1'!CE$5","v":2010},{"$f":"'Level 1'!CF$5","v":2011},{"$f":"'Level 1'!CG$5","v":2012},{"$f":"'Level 1'!CH$5","v":2013},{"$f":"'Level 1'!CI$5","v":2014},{"$f":"'Level 1'!CJ$5","v":2015},{"$f":"'Level 1'!CK$5","v":2016},{"$f":"'Level 1'!CL$5","v":2017}]
[null,null,null,{"$f":"'Oversættelse af landenavne'!$B$6","v":"EU-28"},{"$f":"IFERROR('Level 1'!B6/E109*R$109,\"*\")","v":108.31266212118589},{"$f":"IFERROR('Level 1'!C6/F109*S$109,\"*\")","v":114.51140600518558},{"$f":"IFERROR('Level 1'!D6/G109*T$109,\"*\")","v":122.48321766870639},{"$f":"IFERROR('Level 1'!E6/H109*U$109,\"*\")","v":122.61953514203633},{"$f":"IFERROR('Level 1'!F6/I109*V$109,\"*\")","v":122.04006630878986},{"$f":"IFERROR('Level 1'!G6/J109*W$109,\"*\")","v":121.8127959997999},{"$f":"IFERROR('Level 1'!H6/K109*X$109,\"*\")","v":120.87029957885144},{"$f":"IFERROR('Level 1'!I6/L109*Y$109,\"*\")","v":117.80737100101804},{"$f":"IFERROR('Level 1'!J6/M109*Z$109,\"*\")","v":113.4738021668266},{"$f":"IFERROR('Level 1'!K6/N109*AA$109,\"*\")","v":104.11588845333334},{"$f":"IFERROR('Level 1'!L6/O109*AB$109,\"*\")","v":"*"},null,{"$f":"'Oversættelse af landenavne'!$B$6","v":"EU-28"},{"$f":"IFERROR('Level 1'!O6/E109*R$109,\"*\")","v":84.598243861733707},{"$f":"IFERROR('Level 1'!P6/F109*S$109,\"*\")","v":88.185501627531437},{"$f":"IFERROR('Level 1'!Q6/G109*T$109,\"*\")","v":91.545427698556949},{"$f":"IFERROR('Level 1'!R6/H109*U$109,\"*\")","v":89.27599070618966},{"$f":"IFERROR('Level 1'!S6/I109*V$109,\"*\")","v":91.632915600025299},{"$f":"IFERROR('Level 1'!T6/J109*W$109,\"*\")","v":91.309360775831536},{"$f":"IFERROR('Level 1'!U6/K109*X$109,\"*\")","v":90.672749584665226},{"$f":"IFERROR('Level 1'!V6/L109*Y$109,\"*\")","v":87.892417976671211},{"$f":"IFERROR('Level 1'!W6/M109*Z$109,\"*\")","v":84.07028653778741},{"$f":"IFERROR('Level 1'!X6/N109*AA$109,\"*\")","v":77.602829591111117},{"$f":"IFERROR('Level 1'!Y6/O109*AB$109,\"*\")","v":"*"},null,{"$f":"'Oversættelse af landenavne'!$B$6","v":"EU-28"},{"$f":"IFERROR('Level 1'!AB6/E109*R109,\"*\")","v":71.563723187212105},{"$f":"IFERROR('Level 1'!AC6/F109*S109,\"*\")","v":75.462012071399712},{"$f":"IFERROR('Level 1'!AD6/G109*T109,\"*\")","v":78.992799800832387},{"$f":"IFERROR('Level 1'!AE6/H109*U109,\"*\")","v":75.656211658919801},{"$f":"IFERROR('Level 1'!AF6/I109*V109,\"*\")","v":76.491059766702762},{"$f":"IFERROR('Level 1'!AG6/J109*W109,\"*\")","v":76.238493570313565},{"$f":"IFERROR('Level 1'!AH6/K109*X109,\"*\")","v":74.732928765452868},{"$f":"IFERROR('Level 1'!AI6/L109*Y109,\"*\")","v":71.220448109347473},{"$f":"IFERROR('Level 1'!AJ6/M109*Z109,\"*\")","v":67.815931092269011},{"$f":"IFERROR('Level 1'!AK6/N109*AA109,\"*\")","v":62.484428048888894},{"$f":"IFERROR('Level 1'!AL6/O109*AB109,\"*\")","v":"*"},null,{"$f":"'Oversættelse af landenavne'!$B$6","v":"EU-28"},{"$f":"IFERROR('Level 1'!AO6/E109*R$109,\"*\")","v":62.902073964788087},{"$f":"IFERROR('Level 1'!AP6/F109*S$109,\"*\")","v":68.012074107612051},{"$f":"IFERROR('Level 1'!AQ6/G109*T$109,\"*\")","v":70.328528019574676},{"$f":"IFERROR('Level 1'!AR6/H109*U$109,\"*\")","v":66.894707454730963},{"$f":"IFERROR('Level 1'!AS6/I109*V$109,\"*\")","v":67.27427795511511},{"$f":"IFERROR('Level 1'!AT6/J109*W$109,\"*\")","v":68.401642623444204},{"$f":"IFERROR('Level 1'!AU6/K109*X$109,\"*\")","v":66.843117957953297},{"$f":"IFERROR('Level 1'!AV6/L109*Y$109,\"*\")","v":63.219479118646014},{"$f":"IFERROR('Level 1'!AW6/M109*Z$109,\"*\")","v":60.493803992990657},{"$f":"IFERROR('Level 1'!AX6/N109*AA$109,\"*\")","v":54.887989835555558},{"$f":"IFERROR('Level 1'!AY6/O109*AB$109,\"*\")","v":"*"},null,{"$f":"'Oversættelse af landenavne'!$B$6","v":"EU-28"},{"$f":"IFERROR('Level 1'!BB6/E109*R109,\"*\")","v":57.856453058521659},{"$f":"IFERROR('Level 1'!BC6/F109*S109,\"*\")","v":63.198911939996428},{"$f":"IFERROR('Level 1'!BD6/G109*T109,\"*\")","v":64.791847027649027},{"$f":"IFERROR('Level 1'!BE6/H109*U109,\"*\")","v":60.666149963601441},{"$f":"IFERROR('Level 1'!BF6/I109*V109,\"*\")","v":61.390350280753367},{"$f":"IFERROR('Level 1'!BG6/J109*W109,\"*\")","v":61.770461053016312},{"$f":"IFERROR('Level 1'!BH6/K109*X109,\"*\")","v":60.355050187319122},{"$f":"IFERROR('Level 1'!BI6/L109*Y109,\"*\")","v":56.676814820831027},{"$f":"IFERROR('Level 1'!BJ6/M109*Z109,\"*\")","v":54.283413468995427},{"$f":"IFERROR('Level 1'!BK6/N109*AA109,\"*\")","v":48.18525023555555},{"$f":"IFERROR('Level 1'!BL6/O109*AB109,\"*\")","v":"*"},null,{"$f":"'Oversættelse af landenavne'!$B$6","v":"EU-28"},{"$f":"IFERROR('Level 1'!BO6/E109*R$109,\"*\")","v":51.46533324391752},{"$f":"IFERROR('Level 1'!BP6/F109*S$109,\"*\")","v":60.269161055360833},{"$f":"IFERROR('Level 1'!BQ6/G109*T$109,\"*\")","v":60.100460843650957},{"$f":"IFERROR('Level 1'!BR6/H109*U$109,\"*\")","v":57.468823784821616},{"$f":"IFERROR('Level 1'!BS6/I109*V$109,\"*\")","v":57.604886322422736},{"$f":"IFERROR('Level 1'!BT6/J109*W$109,\"*\")","v":57.10853946410942},{"$f":"IFERROR('Level 1'!BU6/K109*X$109,\"*\")","v":55.829422668296537},{"$f":"IFERROR('Level 1'!BV6/L109*Y$109,\"*\")","v":52.5777962246096},{"$f":"IFERROR('Level 1'!BW6/M109*Z$109,\"*\")","v":50.219824607615827},{"$f":"IFERROR('Level 1'!BX6/N109*AA$109,\"*\")","v":43.046483208888887},{"$f":"IFERROR('Level 1'!BY6/O109*AB$109,\"*\")","v":"*"},null,{"$f":"'Oversættelse af landenavne'!$B$6","v":"EU-28"},{"$f":"IFERROR('Level 1'!CB6/E109*R109,\"*\")","v":"*"},{"$f":"IFERROR('Level 1'!CC6/F109*S109,\"*\")","v":"*"},{"$f":"IFERROR('Level 1'!CD6/G109*T109,\"*\")","v":"*"},{"$f":"IFERROR('Level 1'!CE6/H109*U109,\"*\")","v":"*"},{"$f":"IFERROR('Level 1'!CF6/I109*V109,\"*\")","v":"*"},{"$f":"IFERROR('Level 1'!CG6/J109*W109,\"*\")","v":"*"},{"$f":"IFERROR('Level 1'!CH6/K109*X109,\"*\")","v":"*"},{"$f":"IFERROR('Level 1'!CI6/L109*Y109,\"*\")","v":"*"},{"$f":"IFERROR('Level 1'!CJ6/M109*Z109,\"*\")","v":"*"},{"$f":"IFERROR('Level 1'!CK6/N109*AA109,\"*\")","v":"*"},{"$f":"IFERROR('Level 1'!CL6/O109*AB109,\"*\")","v":"*"}]
[null,null,null,{"$f":"'Oversættelse af landenavne'!$B$7","v":"Belgien"},{"$f":"IFERROR('Level 1'!B7/E110*R$109,\"*\")","v":110.17907456211492},{"$f":"IFERROR('Level 1'!C7/F110*S$109,\"*\")","v":128.24765601032692},{"$f":"IFERROR('Level 1'!D7/G110*T$109,\"*\")","v":113.95246307315517},{"$f":"IFERROR('Level 1'!E7/H110*U$109,\"*\")","v":116.70154069429188},{"$f":"IFERROR('Level 1'!F7/I110*V$109,\"*\")","v":127.42911125522281},{"$f":"IFERROR('Level 1'!G7/J110*W$109,\"*\")","v":126.50102499298708},{"$f":"IFERROR('Level 1'!H7/K110*X$109,\"*\")","v":119.86755800942015},{"$f":"IFERROR('Level 1'!I7/L110*Y$109,\"*\")","v":119.94829263089098},{"$f":"IFERROR('Level 1'!J7/M110*Z$109,\"*\")","v":114.76582682344829},{"$f":"IFERROR('Level 1'!K7/N110*AA$109,\"*\")","v":113.05287458666666},{"$f":"IFERROR('Level 1'!L7/O110*AB$109,\"*\")","v":"*"},null,{"$f":"'Oversættelse af landenavne'!$B$7","v":"Belgien"},{"$f":"IFERROR('Level 1'!O7/E110*R$109,\"*\")","v":90.68132833907093},{"$f":"IFERROR('Level 1'!P7/F110*S$109,\"*\")","v":107.0312751962593},{"$f":"IFERROR('Level 1'!Q7/G110*T$109,\"*\")","v":97.14181615173851},{"$f":"IFERROR('Level 1'!R7/H110*U$109,\"*\")","v":93.618160612001617},{"$f":"IFERROR('Level 1'!S7/I110*V$109,\"*\")","v":101.20182589938156},{"$f":"IFERROR('Level 1'!T7/J110*W$109,\"*\")","v":102.73135485223334},{"$f":"IFERROR('Level 1'!U7/K110*X$109,\"*\")","v":95.611375939317583},{"$f":"IFERROR('Level 1'!V7/L110*Y$109,\"*\")","v":94.464494765586281},{"$f":"IFERROR('Level 1'!W7/M110*Z$109,\"*\")","v":92.053323743054207},{"$f":"IFERROR('Level 1'!X7/N110*AA$109,\"*\")","v":87.507989222222221},{"$f":"IFERROR('Level 1'!Y7/O110*AB$109,\"*\")","v":"*"},null,{"$f":"'Oversættelse af landenavne'!$B$7","v":"Belgien"},{"$f":"IFERROR('Level 1'!AB7/E110*R109,\"*\")","v":71.687834173519462},{"$f":"IFERROR('Level 1'!AC7/F110*S109,\"*\")","v":76.238629112028903},{"$f":"IFERROR('Level 1'!AD7/G110*T109,\"*\")","v":82.335358279347219},{"$f":"IFERROR('Level 1'!AE7/H110*U109,\"*\")","v":75.673341661073337},{"$f":"IFERROR('Level 1'!AF7/I110*V109,\"*\")","v":78.524097960120287},{"$f":"IFERROR('Level 1'!AG7/J110*W109,\"*\")","v":73.859901852000704},{"$f":"IFERROR('Level 1'!AH7/K110*X109,\"*\")","v":69.980040240043877},{"$f":"IFERROR('Level 1'!AI7/L110*Y109,\"*\")","v":68.070561262234989},{"$f":"IFERROR('Level 1'!AJ7/M110*Z109,\"*\")","v":68.363130132709372},{"$f":"IFERROR('Level 1'!AK7/N110*AA109,\"*\")","v":63.30365177777778},{"$f":"IFERROR('Level 1'!AL7/O110*AB109,\"*\")","v":"*"},null,{"$f":"'Oversættelse af landenavne'!$B$7","v":"Belgien"},{"$f":"IFERROR('Level 1'!AO7/E110*R$109,\"*\")","v":62.863423167400427},{"$f":"IFERROR('Level 1'!AP7/F110*S$109,\"*\")","v":69.92324727437844},{"$f":"IFERROR('Level 1'!AQ7/G110*T$109,\"*\")","v":74.850325708497479},{"$f":"IFERROR('Level 1'!AR7/H110*U$109,\"*\")","v":67.162599787255019},{"$f":"IFERROR('Level 1'!AS7/I110*V$109,\"*\")","v":69.374127730714008},{"$f":"IFERROR('Level 1'!AT7/J110*W$109,\"*\")","v":66.748325744848344},{"$f":"IFERROR('Level 1'!AU7/K110*X$109,\"*\")","v":61.69091975309545},{"$f":"IFERROR('Level 1'!AV7/L110*Y$109,\"*\")","v":60.637786884854457},{"$f":"IFERROR('Level 1'!AW7/M110*Z$109,\"*\")","v":59.375897953546797},{"$f":"IFERROR('Level 1'!AX7/N110*AA$109,\"*\")","v":55.856163333333335},{"$f":"IFERROR('Level 1'!AY7/O110*AB$109,\"*\")","v":"*"},null,{"$f":"'Oversættelse af landenavne'!$B$7","v":"Belgien"},{"$f":"IFERROR('Level 1'!BB7/E110*R109,\"*\")","v":55.635810343341007},{"$f":"IFERROR('Level 1'!BC7/F110*S109,\"*\")","v":60.223150987791108},{"$f":"IFERROR('Level 1'!BD7/G110*T109,\"*\")","v":69.410384004000107},{"$f":"IFERROR('Level 1'!BE7/H110*U109,\"*\")","v":57.40736263943495},{"$f":"IFERROR('Level 1'!BF7/I110*V109,\"*\")","v":60.145278447605946},{"$f":"IFERROR('Level 1'!BG7/J110*W109,\"*\")","v":54.573616648364727},{"$f":"IFERROR('Level 1'!BH7/K110*X109,\"*\")","v":50.307703600511907},{"$f":"IFERROR('Level 1'!BI7/L110*Y109,\"*\")","v":50.24707168382249},{"$f":"IFERROR('Level 1'!BJ7/M110*Z109,\"*\")","v":49.072543907142865},{"$f":"IFERROR('Level 1'!BK7/N110*AA109,\"*\")","v":43.71675716888889},{"$f":"IFERROR('Level 1'!BL7/O110*AB109,\"*\")","v":"*"},null,{"$f":"'Oversættelse af landenavne'!$B$7","v":"Belgien"},{"$f":"IFERROR('Level 1'!BO7/E110*R109,\"*\")","v":47.819903452207008},{"$f":"IFERROR('Level 1'!BP7/F110*S109,\"*\")","v":56.178004451256818},{"$f":"IFERROR('Level 1'!BQ7/G110*T109,\"*\")","v":61.270922355917598},{"$f":"IFERROR('Level 1'!BR7/H110*U109,\"*\")","v":52.870976640654412},{"$f":"IFERROR('Level 1'!BS7/I110*V109,\"*\")","v":54.978700430139469},{"$f":"IFERROR('Level 1'!BT7/J110*W109,\"*\")","v":52.795722621576637},{"$f":"IFERROR('Level 1'!BU7/K110*X109,\"*\")","v":45.532864610334229},{"$f":"IFERROR('Level 1'!BV7/L110*Y109,\"*\")","v":47.175363905415232},{"$f":"IFERROR('Level 1'!BW7/M110*Z109,\"*\")","v":44.409712148916263},{"$f":"IFERROR('Level 1'!BX7/N110*AA109,\"*\")","v":38.429040373333336},{"$f":"IFERROR('Level 1'!BY7/O110*AB109,\"*\")","v":"*"},null,{"$f":"'Oversættelse af landenavne'!$B$7","v":"Belgien"},{"$f":"IFERROR('Level 1'!CB7/E110*R$109,\"*\")","v":"*"},{"$f":"IFERROR('Level 1'!CC7/F110*S$109,\"*\")","v":"*"},{"$f":"IFERROR('Level 1'!CD7/G110*T$109,\"*\")","v":"*"},{"$f":"IFERROR('Level 1'!CE7/H110*U$109,\"*\")","v":"*"},{"$f":"IFERROR('Level 1'!CF7/I110*V$109,\"*\")","v":"*"},{"$f":"IFERROR('Level 1'!CG7/J110*W$109,\"*\")","v":"*"},{"$f":"IFERROR('Level 1'!CH7/K110*X$109,\"*\")","v":"*"},{"$f":"IFERROR('Level 1'!CI7/L110*Y$109,\"*\")","v":"*"},{"$f":"IFERROR('Level 1'!CJ7/M110*Z$109,\"*\")","v":"*"},{"$f":"IFERROR('Level 1'!CK7/N110*AA$109,\"*\")","v":42.525159017777774},{"$f":"IFERROR('Level 1'!CL7/O110*AB$109,\"*\")","v":"*"}]
[null,null,null,{"$f":"'Oversættelse af landenavne'!$B$10","v":"Danmark"},{"$f":"IFERROR('Level 1'!B10/E111*R$109,\"*\")","v":76.763076975597997},{"$f":"IFERROR('Level 1'!C10/F111*S$109,\"*\")","v":86.395210022916203},{"$f":"IFERROR('Level 1'!D10/G111*T$109,\"*\")","v":72.640505225347823},{"$f":"IFERROR('Level 1'!E10/H111*U$109,\"*\")","v":72.164673378513342},{"$f":"IFERROR('Level 1'!F10/I111*V$109,\"*\")","v":81.078879223160683},{"$f":"IFERROR('Level 1'!G10/J111*W$109,\"*\")","v":71.595010487686551},{"$f":"IFERROR('Level 1'!H10/K111*X$109,\"*\")","v":67.240324886175344},{"$f":"IFERROR('Level 1'!I10/L111*Y$109,\"*\")","v":64.853286810496357},{"$f":"IFERROR('Level 1'!J10/M111*Z$109,\"*\")","v":60.624928128275961},{"$f":"IFERROR('Level 1'!K10/N111*AA$109,\"*\")","v":59.282008017777784},{"$f":"IFERROR('Level 1'!L10/O111*AB$109,\"*\")","v":"*"},null,{"$f":"'Oversættelse af landenavne'!$B$10","v":"Danmark"},{"$f":"IFERROR('Level 1'!O10/E111*R$109,\"*\")","v":73.674907212211878},{"$f":"IFERROR('Level 1'!P10/F111*S$109,\"*\")","v":71.111846846347703},{"$f":"IFERROR('Level 1'!Q10/G111*T$109,\"*\")","v":56.195966888042683},{"$f":"IFERROR('Level 1'!R10/H111*U$109,\"*\")","v":65.361269827677063},{"$f":"IFERROR('Level 1'!S10/I111*V$109,\"*\")","v":65.483687245345976},{"$f":"IFERROR('Level 1'!T10/J111*W$109,\"*\")","v":55.719765125588928},{"$f":"IFERROR('Level 1'!U10/K111*X$109,\"*\")","v":56.741261528517668},{"$f":"IFERROR('Level 1'!V10/L111*Y$109,\"*\")","v":55.604910023142125},{"$f":"IFERROR('Level 1'!W10/M111*Z$109,\"*\")","v":49.790959029387288},{"$f":"IFERROR('Level 1'!X10/N111*AA$109,\"*\")","v":49.078948848888892},{"$f":"IFERROR('Level 1'!Y10/O111*AB$109,\"*\")","v":"*"},null,{"$f":"'Oversættelse af landenavne'!$B$10","v":"Danmark"},{"$f":"IFERROR('Level 1'!AB10/E111*R109,\"*\")","v":67.498567685439625},{"$f":"IFERROR('Level 1'!AC10/F111*S109,\"*\")","v":64.754304588326093},{"$f":"IFERROR('Level 1'!AD10/G111*T109,\"*\")","v":51.886075160962733},{"$f":"IFERROR('Level 1'!AE10/H111*U109,\"*\")","v":60.137227815427771},{"$f":"IFERROR('Level 1'!AF10/I111*V109,\"*\")","v":59.600229806687203},{"$f":"IFERROR('Level 1'!AG10/J111*W109,\"*\")","v":49.541713974821874},{"$f":"IFERROR('Level 1'!AH10/K111*X109,\"*\")","v":50.295145422896944},{"$f":"IFERROR('Level 1'!AI10/L111*Y109,\"*\")","v":50.445691567386667},{"$f":"IFERROR('Level 1'!AJ10/M111*Z109,\"*\")","v":45.072331373076899},{"$f":"IFERROR('Level 1'!AK10/N111*AA109,\"*\")","v":44.83388043555555},{"$f":"IFERROR('Level 1'!AL10/O111*AB109,\"*\")","v":"*"},null,{"$f":"'Oversættelse af landenavne'!$B$10","v":"Danmark"},{"$f":"IFERROR('Level 1'!AO10/E111*R$109,\"*\")","v":67.145633998195493},{"$f":"IFERROR('Level 1'!AP10/F111*S$109,\"*\")","v":64.585892872881786},{"$f":"IFERROR('Level 1'!AQ10/G111*T$109,\"*\")","v":51.551326288956524},{"$f":"IFERROR('Level 1'!AR10/H111*U$109,\"*\")","v":59.772759768061547},{"$f":"IFERROR('Level 1'!AS10/I111*V$109,\"*\")","v":59.237550923482218},{"$f":"IFERROR('Level 1'!AT10/J111*W$109,\"*\")","v":49.189799668765524},{"$f":"IFERROR('Level 1'!AU10/K111*X$109,\"*\")","v":49.947749944150921},{"$f":"IFERROR('Level 1'!AV10/L111*Y$109,\"*\")","v":49.987094371319515},{"$f":"IFERROR('Level 1'!AW10/M111*Z$109,\"*\")","v":45.336574521830272},{"$f":"IFERROR('Level 1'!AX10/N111*AA$109,\"*\")","v":44.684930666666666},{"$f":"IFERROR('Level 1'!AY10/O111*AB$109,\"*\")","v":"*"},null,{"$f":"'Oversættelse af landenavne'!$B$10","v":"Danmark"},{"$f":"IFERROR('Level 1'!BB10/E111*R109,\"*\")","v":62.469262642210794},{"$f":"IFERROR('Level 1'!BC10/F111*S109,\"*\")","v":60.333497057913704},{"$f":"IFERROR('Level 1'!BD10/G111*T109,\"*\")","v":46.19534433685714},{"$f":"IFERROR('Level 1'!BE10/H111*U109,\"*\")","v":54.386731956982835},{"$f":"IFERROR('Level 1'!BF10/I111*V109,\"*\")","v":53.03171225530788},{"$f":"IFERROR('Level 1'!BG10/J111*W109,\"*\")","v":42.777138980627569},{"$f":"IFERROR('Level 1'!BH10/K111*X109,\"*\")","v":43.154238359784173},{"$f":"IFERROR('Level 1'!BI10/L111*Y109,\"*\")","v":40.85336688298208},{"$f":"IFERROR('Level 1'!BJ10/M111*Z109,\"*\")","v":35.937068230459971},{"$f":"IFERROR('Level 1'!BK10/N111*AA109,\"*\")","v":35.226620342222226},{"$f":"IFERROR('Level 1'!BL10/O111*AB109,\"*\")","v":"*"},null,{"$f":"'Oversættelse af landenavne'!$B$10","v":"Danmark"},{"$f":"IFERROR('Level 1'!BO10/E111*R$109,\"*\")","v":62.469262642210794},{"$f":"IFERROR('Level 1'!BP10/F111*S$109,\"*\")","v":60.333497057913704},{"$f":"IFERROR('Level 1'!BQ10/G111*T$109,\"*\")","v":46.153500727856368},{"$f":"IFERROR('Level 1'!BR10/H111*U$109,\"*\")","v":54.386731956982835},{"$f":"IFERROR('Level 1'!BS10/I111*V$109,\"*\")","v":53.03171225530788},{"$f":"IFERROR('Level 1'!BT10/J111*W$109,\"*\")","v":42.777138980627569},{"$f":"IFERROR('Level 1'!BU10/K111*X$109,\"*\")","v":43.154238359784173},{"$f":"IFERROR('Level 1'!BV10/L111*Y$109,\"*\")","v":39.248276696747055},{"$f":"IFERROR('Level 1'!BW10/M111*Z$109,\"*\")","v":35.06884074169885},{"$f":"IFERROR('Level 1'!BX10/N111*AA$109,\"*\")","v":33.960547306666669},{"$f":"IFERROR('Level 1'!BY10/O111*AB$109,\"*\")","v":"*"},null,{"$f":"'Oversættelse af landenavne'!$B$10","v":"Danmark"},{"$f":"IFERROR('Level 1'!CB10/E111*R$109,\"*\")","v":"*"},{"$f":"IFERROR('Level 1'!CC10/F111*S$109,\"*\")","v":"*"},{"$f":"IFERROR('Level 1'!CD10/G111*T$109,\"*\")","v":"*"},{"$f":"IFERROR('Level 1'!CE10/H111*U$109,\"*\")","v":"*"},{"$f":"IFERROR('Level 1'!CF10/I111*V$109,\"*\")","v":"*"},{"$f":"IFERROR('Level 1'!CG10/J111*W$109,\"*\")","v":"*"},{"$f":"IFERROR('Level 1'!CH10/K111*X$109,\"*\")","v":"*"},{"$f":"IFERROR('Level 1'!CI10/L111*Y$109,\"*\")","v":"*"},{"$f":"IFERROR('Level 1'!CJ10/M111*Z$109,\"*\")","v":"*"},{"$f":"IFERROR('Level 1'!CK10/N111*AA$109,\"*\")","v":"*"},{"$f":"IFERROR('Level 1'!CL10/O111*AB$109,\"*\")","v":"*"}]
[null,null,null,{"$f":"'Oversættelse af landenavne'!$B$11","v":"Tyskland"},{"$f":"IFERROR('Level 1'!B11/E112*R$109,\"*\")","v":127.81358129353536},{"$f":"IFERROR('Level 1'!C11/F112*S$109,\"*\")","v":132.79978590389734},{"$f":"IFERROR('Level 1'!D11/G112*T$109,\"*\")","v":136.51474660450029},{"$f":"IFERROR('Level 1'!E11/H112*U$109,\"*\")","v":133.04378764082662},{"$f":"IFERROR('Level 1'!F11/I112*V$109,\"*\")","v":136.19685695612725},{"$f":"IFERROR('Level 1'!G11/J112*W$109,\"*\")","v":134.2108977725926},{"$f":"IFERROR('Level 1'!H11/K112*X$109,\"*\")","v":124.55988062577913},{"$f":"IFERROR('Level 1'!I11/L112*Y$109,\"*\")","v":110.07056644761028},{"$f":"IFERROR('Level 1'!J11/M112*Z$109,\"*\")","v":102.24705687763034},{"$f":"IFERROR('Level 1'!K11/N112*AA$109,\"*\")","v":95.849176280000009},{"$f":"IFERROR('Level 1'!L11/O112*AB$109,\"*\")","v":"*"},null,{"$f":"'Oversættelse af landenavne'!$B$11","v":"Tyskland"},{"$f":"IFERROR('Level 1'!O11/E112*R$109,\"*\")","v":94.65439746738231},{"$f":"IFERROR('Level 1'!P11/F112*S$109,\"*\")","v":96.205118212694771},{"$f":"IFERROR('Level 1'!Q11/G112*T$109,\"*\")","v":96.045782788880473},{"$f":"IFERROR('Level 1'!R11/H112*U$109,\"*\")","v":91.39241165348956},{"$f":"IFERROR('Level 1'!S11/I112*V$109,\"*\")","v":90.373231275354186},{"$f":"IFERROR('Level 1'!T11/J112*W$109,\"*\")","v":87.40914880573979},{"$f":"IFERROR('Level 1'!U11/K112*X$109,\"*\")","v":86.334525290334497},{"$f":"IFERROR('Level 1'!V11/L112*Y$109,\"*\")","v":82.767145683358763},{"$f":"IFERROR('Level 1'!W11/M112*Z$109,\"*\")","v":77.704714488814105},{"$f":"IFERROR('Level 1'!X11/N112*AA$109,\"*\")","v":73.581185831111114},{"$f":"IFERROR('Level 1'!Y11/O112*AB$109,\"*\")","v":"*"},null,{"$f":"'Oversættelse af landenavne'!$B$11","v":"Tyskland"},{"$f":"IFERROR('Level 1'!AB11/E112*R109,\"*\")","v":75.404845298173981},{"$f":"IFERROR('Level 1'!AC11/F112*S109,\"*\")","v":80.277684083384898},{"$f":"IFERROR('Level 1'!AD11/G112*T109,\"*\")","v":80.896077616952496},{"$f":"IFERROR('Level 1'!AE11/H112*U109,\"*\")","v":76.125771849366032},{"$f":"IFERROR('Level 1'!AF11/I112*V109,\"*\")","v":73.934262421265217},{"$f":"IFERROR('Level 1'!AG11/J112*W109,\"*\")","v":71.781575188780295},{"$f":"IFERROR('Level 1'!AH11/K112*X109,\"*\")","v":70.059971097673738},{"$f":"IFERROR('Level 1'!AI11/L112*Y109,\"*\")","v":64.344152785368777},{"$f":"IFERROR('Level 1'!AJ11/M112*Z109,\"*\")","v":61.813166699782492},{"$f":"IFERROR('Level 1'!AK11/N112*AA109,\"*\")","v":58.686208942222216},{"$f":"IFERROR('Level 1'!AL11/O112*AB109,\"*\")","v":"*"},null,{"$f":"'Oversættelse af landenavne'!$B$11","v":"Tyskland"},{"$f":"IFERROR('Level 1'!AO11/E112*R$109,\"*\")","v":65.327898525031387},{"$f":"IFERROR('Level 1'!AP11/F112*S$109,\"*\")","v":71.310495967687643},{"$f":"IFERROR('Level 1'!AQ11/G112*T$109,\"*\")","v":70.140623945169366},{"$f":"IFERROR('Level 1'!AR11/H112*U$109,\"*\")","v":65.961840458033777},{"$f":"IFERROR('Level 1'!AS11/I112*V$109,\"*\")","v":65.550388305679817},{"$f":"IFERROR('Level 1'!AT11/J112*W$109,\"*\")","v":62.996125771992183},{"$f":"IFERROR('Level 1'!AU11/K112*X$109,\"*\")","v":61.525753655180914},{"$f":"IFERROR('Level 1'!AV11/L112*Y$109,\"*\")","v":55.853217369381859},{"$f":"IFERROR('Level 1'!AW11/M112*Z$109,\"*\")","v":53.009935190750575},{"$f":"IFERROR('Level 1'!AX11/N112*AA$109,\"*\")","v":49.972647462222227},{"$f":"IFERROR('Level 1'!AY11/O112*AB$109,\"*\")","v":"*"},null,{"$f":"'Oversættelse af landenavne'!$B$11","v":"Tyskland"},{"$f":"IFERROR('Level 1'!BB11/E112*R$109,\"*\")","v":59.901850262569972},{"$f":"IFERROR('Level 1'!BC11/F112*S$109,\"*\")","v":67.85172340877584},{"$f":"IFERROR('Level 1'!BD11/G112*T$109,\"*\")","v":64.532722030698793},{"$f":"IFERROR('Level 1'!BE11/H112*U$109,\"*\")","v":58.660404029974707},{"$f":"IFERROR('Level 1'!BF11/I112*V$109,\"*\")","v":58.481631698421559},{"$f":"IFERROR('Level 1'!BG11/J112*W$109,\"*\")","v":57.935383020386126},{"$f":"IFERROR('Level 1'!BH11/K112*X$109,\"*\")","v":55.452566358895311},{"$f":"IFERROR('Level 1'!BI11/L112*Y$109,\"*\")","v":49.23184571471316},{"$f":"IFERROR('Level 1'!BJ11/M112*Z$109,\"*\")","v":47.026786502793833},{"$f":"IFERROR('Level 1'!BK11/N112*AA$109,\"*\")","v":40.66328690666667},{"$f":"IFERROR('Level 1'!BL11/O112*AB$109,\"*\")","v":"*"},null,{"$f":"'Oversættelse af landenavne'!$B$11","v":"Tyskland"},{"$f":"IFERROR('Level 1'!BO11/E112*R$109,\"*\")","v":60.375552888657865},{"$f":"IFERROR('Level 1'!BP11/F112*S$109,\"*\")","v":65.375071453011856},{"$f":"IFERROR('Level 1'!BQ11/G112*T$109,\"*\")","v":63.528321687808528},{"$f":"IFERROR('Level 1'!BR11/H112*U$109,\"*\")","v":56.91801579146059},{"$f":"IFERROR('Level 1'!BS11/I112*V$109,\"*\")","v":59.509067251802115},{"$f":"IFERROR('Level 1'!BT11/J112*W$109,\"*\")","v":52.429294906638738},{"$f":"IFERROR('Level 1'!BU11/K112*X$109,\"*\")","v":49.8954015126209},{"$f":"IFERROR('Level 1'!BV11/L112*Y$109,\"*\")","v":46.505398562790752},{"$f":"IFERROR('Level 1'!BW11/M112*Z$109,\"*\")","v":42.263133088815529},{"$f":"IFERROR('Level 1'!BX11/N112*AA$109,\"*\")","v":33.439223115555556},{"$f":"IFERROR('Level 1'!BY11/O112*AB$109,\"*\")","v":"*"},null,{"$f":"'Oversættelse af landenavne'!$B$11","v":"Tyskland"},{"$f":"IFERROR('Level 1'!CB11/E112*R$109,\"*\")","v":"*"},{"$f":"IFERROR('Level 1'!CC11/F112*S$109,\"*\")","v":"*"},{"$f":"IFERROR('Level 1'!CD11/G112*T$109,\"*\")","v":"*"},{"$f":"IFERROR('Level 1'!CE11/H112*U$109,\"*\")","v":"*"},{"$f":"IFERROR('Level 1'!CF11/I112*V$109,\"*\")","v":"*"},{"$f":"IFERROR('Level 1'!CG11/J112*W$109,\"*\")","v":"*"},{"$f":"IFERROR('Level 1'!CH11/K112*X$109,\"*\")","v":"*"},{"$f":"IFERROR('Level 1'!CI11/L112*Y$109,\"*\")","v":"*"},{"$f":"IFERROR('Level 1'!CJ11/M112*Z$109,\"*\")","v":"*"},{"$f":"IFERROR('Level 1'!CK11/N112*AA$109,\"*\")","v":"*"},{"$f":"IFERROR('Level 1'!CL11/O112*AB$109,\"*\")","v":"*"}]
[null,null,null,{"$f":"'Oversættelse af landenavne'!$B$16","v":"Frankrig"},{"$f":"IFERROR('Level 1'!B16/E113*R$109,\"*\")","v":78.268250564731602},{"$f":"IFERROR('Level 1'!C16/F113*S$109,\"*\")","v":76.867095924897257},{"$f":"IFERROR('Level 1'!D16/G113*T$109,\"*\")","v":78.819473912917317},{"$f":"IFERROR('Level 1'!E16/H113*U$109,\"*\")","v":81.312904629961025},{"$f":"IFERROR('Level 1'!F16/I113*V$109,\"*\")","v":84.112513864861214},{"$f":"IFERROR('Level 1'!G16/J113*W$109,\"*\")","v":83.886979275404656},{"$f":"IFERROR('Level 1'!H16/K113*X$109,\"*\")","v":85.109453919589512},{"$f":"IFERROR('Level 1'!I16/L113*Y$109,\"*\")","v":84.881344742772498},{"$f":"IFERROR('Level 1'!J16/M113*Z$109,\"*\")","v":89.370958901693157},{"$f":"IFERROR('Level 1'!K16/N113*AA$109,\"*\")","v":83.709770115555557},{"$f":"IFERROR('Level 1'!L16/O113*AB$109,\"*\")","v":"*"},null,{"$f":"'Oversættelse af landenavne'!$B$16","v":"Frankrig"},{"$f":"IFERROR('Level 1'!O16/E113*R109,\"*\")","v":54.017258938975388},{"$f":"IFERROR('Level 1'!P16/F113*S109,\"*\")","v":58.787701772721213},{"$f":"IFERROR('Level 1'!Q16/G113*T109,\"*\")","v":62.842553525163801},{"$f":"IFERROR('Level 1'!R16/H113*U109,\"*\")","v":64.00314165491406},{"$f":"IFERROR('Level 1'!S16/I113*V109,\"*\")","v":67.243368293072976},{"$f":"IFERROR('Level 1'!T16/J113*W109,\"*\")","v":66.63990873140223},{"$f":"IFERROR('Level 1'!U16/K113*X109,\"*\")","v":69.436438767355327},{"$f":"IFERROR('Level 1'!V16/L113*Y109,\"*\")","v":70.135980624541077},{"$f":"IFERROR('Level 1'!W16/M113*Z109,\"*\")","v":70.1229905571562},{"$f":"IFERROR('Level 1'!X16/N113*AA109,\"*\")","v":66.729496462222215},{"$f":"IFERROR('Level 1'!Y16/O113*AB109,\"*\")","v":"*"},null,{"$f":"'Oversættelse af landenavne'!$B$16","v":"Frankrig"},{"$f":"IFERROR('Level 1'!AB16/E113*R109,\"*\")","v":42.17563761001081},{"$f":"IFERROR('Level 1'!AC16/F113*S109,\"*\")","v":45.930364574784207},{"$f":"IFERROR('Level 1'!AD16/G113*T109,\"*\")","v":49.627076167392381},{"$f":"IFERROR('Level 1'!AE16/H113*U109,\"*\")","v":51.343179569326672},{"$f":"IFERROR('Level 1'!AF16/I113*V109,\"*\")","v":54.027908628538405},{"$f":"IFERROR('Level 1'!AG16/J113*W109,\"*\")","v":55.783493790757838},{"$f":"IFERROR('Level 1'!AH16/K113*X109,\"*\")","v":55.3728774938347},{"$f":"IFERROR('Level 1'!AI16/L113*Y109,\"*\")","v":56.307426710552058},{"$f":"IFERROR('Level 1'!AJ16/M113*Z109,\"*\")","v":55.026544796735053},{"$f":"IFERROR('Level 1'!AK16/N113*AA109,\"*\")","v":53.175067493333337},{"$f":"IFERROR('Level 1'!AL16/O113*AB109,\"*\")","v":"*"},null,{"$f":"'Oversættelse af landenavne'!$B$16","v":"Frankrig"},{"$f":"IFERROR('Level 1'!AO16/E113*R$109,\"*\")","v":38.201394835221329},{"$f":"IFERROR('Level 1'!AP16/F113*S$109,\"*\")","v":41.222601108462655},{"$f":"IFERROR('Level 1'!AQ16/G113*T$109,\"*\")","v":46.234446159128673},{"$f":"IFERROR('Level 1'!AR16/H113*U$109,\"*\")","v":46.966896379247075},{"$f":"IFERROR('Level 1'!AS16/I113*V$109,\"*\")","v":48.314165773577862},{"$f":"IFERROR('Level 1'!AT16/J113*W$109,\"*\")","v":49.23884648611407},{"$f":"IFERROR('Level 1'!AU16/K113*X$109,\"*\")","v":48.475218013633828},{"$f":"IFERROR('Level 1'!AV16/L113*Y$109,\"*\")","v":48.934744651436354},{"$f":"IFERROR('Level 1'!AW16/M113*Z$109,\"*\")","v":49.667306551785558},{"$f":"IFERROR('Level 1'!AX16/N113*AA$109,\"*\")","v":46.695752546666668},{"$f":"IFERROR('Level 1'!AY16/O113*AB$109,\"*\")","v":"*"},null,{"$f":"'Oversættelse af landenavne'!$B$16","v":"Frankrig"},{"$f":"IFERROR('Level 1'!BB16/E113*R$109,\"*\")","v":39.012464789259994},{"$f":"IFERROR('Level 1'!BC16/F113*S$109,\"*\")","v":42.330310159361836},{"$f":"IFERROR('Level 1'!BD16/G113*T$109,\"*\")","v":46.628938020554685},{"$f":"IFERROR('Level 1'!BE16/H113*U$109,\"*\")","v":46.029121409944302},{"$f":"IFERROR('Level 1'!BF16/I113*V$109,\"*\")","v":45.826549836724304},{"$f":"IFERROR('Level 1'!BG16/J113*W$109,\"*\")","v":46.351502087006516},{"$f":"IFERROR('Level 1'!BH16/K113*X$109,\"*\")","v":45.026388273533399},{"$f":"IFERROR('Level 1'!BI16/L113*Y$109,\"*\")","v":44.961900433052762},{"$f":"IFERROR('Level 1'!BJ16/M113*Z$109,\"*\")","v":45.213855052461312},{"$f":"IFERROR('Level 1'!BK16/N113*AA$109,\"*\")","v":42.07830971111111},{"$f":"IFERROR('Level 1'!BL16/O113*AB$109,\"*\")","v":"*"},null,{"$f":"'Oversættelse af landenavne'!$B$16","v":"Frankrig"},{"$f":"IFERROR('Level 1'!BO16/E113*R$109,\"*\")","v":36.011505959316921},{"$f":"IFERROR('Level 1'!BP16/F113*S$109,\"*\")","v":39.046744044196394},{"$f":"IFERROR('Level 1'!BQ16/G113*T$109,\"*\")","v":38.817999164319637},{"$f":"IFERROR('Level 1'!BR16/H113*U$109,\"*\")","v":41.8872819621904},{"$f":"IFERROR('Level 1'!BS16/I113*V$109,\"*\")","v":42.211732928483961},{"$f":"IFERROR('Level 1'!BT16/J113*W$109,\"*\")","v":43.271668061291798},{"$f":"IFERROR('Level 1'!BU16/K113*X$109,\"*\")","v":42.075722829225249},{"$f":"IFERROR('Level 1'!BV16/L113*Y$109,\"*\")","v":41.600263017497412},{"$f":"IFERROR('Level 1'!BW16/M113*Z$109,\"*\")","v":41.326520269152873},{"$f":"IFERROR('Level 1'!BX16/N113*AA$109,\"*\")","v":38.205615719999997},{"$f":"IFERROR('Level 1'!BY16/O113*AB$109,\"*\")","v":"*"},null,{"$f":"'Oversættelse af landenavne'!$B$16","v":"Frankrig"},{"$f":"IFERROR('Level 1'!CB16/E113*R$109,\"*\")","v":"*"},{"$f":"IFERROR('Level 1'!CC16/F113*S$109,\"*\")","v":"*"},{"$f":"IFERROR('Level 1'!CD16/G113*T$109,\"*\")","v":"*"},{"$f":"IFERROR('Level 1'!CE16/H113*U$109,\"*\")","v":"*"},{"$f":"IFERROR('Level 1'!CF16/I113*V$109,\"*\")","v":"*"},{"$f":"IFERROR('Level 1'!CG16/J113*W$109,\"*\")","v":"*"},{"$f":"IFERROR('Level 1'!CH16/K113*X$109,\"*\")","v":"*"},{"$f":"IFERROR('Level 1'!CI16/L113*Y$109,\"*\")","v":"*"},{"$f":"IFERROR('Level 1'!CJ16/M113*Z$109,\"*\")","v":"*"},{"$f":"IFERROR('Level 1'!CK16/N113*AA$109,\"*\")","v":"*"},{"$f":"IFERROR('Level 1'!CL16/O113*AB$109,\"*\")","v":"*"}]
[null,null,null,{"$f":"'Oversættelse af landenavne'!$B$18","v":"Italien"},{"$f":"IFERROR('Level 1'!B18/E114*R$109,\"*\")","v":"*"},{"$f":"IFERROR('Level 1'!C18/F114*S$109,\"*\")","v":"*"},{"$f":"IFERROR('Level 1'!D18/G114*T$109,\"*\")","v":"*"},{"$f":"IFERROR('Level 1'!E18/H114*U$109,\"*\")","v":172.29179416068774},{"$f":"IFERROR('Level 1'!F18/I114*V$109,\"*\")","v":144.73458557275887},{"$f":"IFERROR('Level 1'!G18/J114*W$109,\"*\")","v":131.76115570376842},{"$f":"IFERROR('Level 1'!H18/K114*X$109,\"*\")","v":137.56868353490117},{"$f":"IFERROR('Level 1'!I18/L114*Y$109,\"*\")","v":132.01240016158189},{"$f":"IFERROR('Level 1'!J18/M114*Z$109,\"*\")","v":125.26110553455251},{"$f":"IFERROR('Level 1'!K18/N114*AA$109,\"*\")","v":120.94721233777777},{"$f":"IFERROR('Level 1'!L18/O114*AB$109,\"*\")","v":"*"},null,{"$f":"'Oversættelse af landenavne'!$B$18","v":"Italien"},{"$f":"IFERROR('Level 1'!O18/E114*R$109,\"*\")","v":"*"},{"$f":"IFERROR('Level 1'!P18/F114*S$109,\"*\")","v":"*"},{"$f":"IFERROR('Level 1'!Q18/G114*T$109,\"*\")","v":"*"},{"$f":"IFERROR('Level 1'!R18/H114*U$109,\"*\")","v":92.487684656903255},{"$f":"IFERROR('Level 1'!S18/I114*V$109,\"*\")","v":106.06088179337117},{"$f":"IFERROR('Level 1'!T18/J114*W$109,\"*\")","v":105.3088138076583},{"$f":"IFERROR('Level 1'!U18/K114*X$109,\"*\")","v":100.11921914420392},{"$f":"IFERROR('Level 1'!V18/L114*Y$109,\"*\")","v":93.200830317924186},{"$f":"IFERROR('Level 1'!W18/M114*Z$109,\"*\")","v":83.494872566699001},{"$f":"IFERROR('Level 1'!X18/N114*AA$109,\"*\")","v":75.443057942222225},{"$f":"IFERROR('Level 1'!Y18/O114*AB$109,\"*\")","v":"*"},null,{"$f":"'Oversættelse af landenavne'!$B$18","v":"Italien"},{"$f":"IFERROR('Level 1'!AB18/E114*R109,\"*\")","v":"*"},{"$f":"IFERROR('Level 1'!AC18/F114*S109,\"*\")","v":"*"},{"$f":"IFERROR('Level 1'!AD18/G114*T109,\"*\")","v":"*"},{"$f":"IFERROR('Level 1'!AE18/H114*U109,\"*\")","v":87.918446402984699},{"$f":"IFERROR('Level 1'!AF18/I114*V109,\"*\")","v":91.042723182864449},{"$f":"IFERROR('Level 1'!AG18/J114*W109,\"*\")","v":93.334027301558933},{"$f":"IFERROR('Level 1'!AH18/K114*X109,\"*\")","v":85.375635503105386},{"$f":"IFERROR('Level 1'!AI18/L114*Y109,\"*\")","v":80.806901276053011},{"$f":"IFERROR('Level 1'!AJ18/M114*Z109,\"*\")","v":69.998853092838146},{"$f":"IFERROR('Level 1'!AK18/N114*AA109,\"*\")","v":62.707852702222219},{"$f":"IFERROR('Level 1'!AL18/O114*AB109,\"*\")","v":"*"},null,{"$f":"'Oversættelse af landenavne'!$B$18","v":"Italien"},{"$f":"IFERROR('Level 1'!AO18/E114*R109,\"*\")","v":"*"},{"$f":"IFERROR('Level 1'!AP18/F114*S109,\"*\")","v":"*"},{"$f":"IFERROR('Level 1'!AQ18/G114*T109,\"*\")","v":"*"},{"$f":"IFERROR('Level 1'!AR18/H114*U109,\"*\")","v":82.325068540429214},{"$f":"IFERROR('Level 1'!AS18/I114*V109,\"*\")","v":79.565114918358049},{"$f":"IFERROR('Level 1'!AT18/J114*W109,\"*\")","v":89.291092950625071},{"$f":"IFERROR('Level 1'!AU18/K114*X109,\"*\")","v":78.441960509100397},{"$f":"IFERROR('Level 1'!AV18/L114*Y109,\"*\")","v":72.885399227884591},{"$f":"IFERROR('Level 1'!AW18/M114*Z109,\"*\")","v":64.472627848666718},{"$f":"IFERROR('Level 1'!AX18/N114*AA109,\"*\")","v":57.643560559999997},{"$f":"IFERROR('Level 1'!AY18/O114*AB109,\"*\")","v":"*"},null,{"$f":"'Oversættelse af landenavne'!$B$18","v":"Italien"},{"$f":"IFERROR('Level 1'!BB18/E114*R$109,\"*\")","v":"*"},{"$f":"IFERROR('Level 1'!BC18/F114*S$109,\"*\")","v":"*"},{"$f":"IFERROR('Level 1'!BD18/G114*T$109,\"*\")","v":"*"},{"$f":"IFERROR('Level 1'!BE18/H114*U$109,\"*\")","v":75.471211159551373},{"$f":"IFERROR('Level 1'!BF18/I114*V$109,\"*\")","v":74.974071612555477},{"$f":"IFERROR('Level 1'!BG18/J114*W$109,\"*\")","v":74.736529287263167},{"$f":"IFERROR('Level 1'!BH18/K114*X$109,\"*\")","v":70.022498016380055},{"$f":"IFERROR('Level 1'!BI18/L114*Y$109,\"*\")","v":66.176758737330474},{"$f":"IFERROR('Level 1'!BJ18/M114*Z$109,\"*\")","v":57.593041320208407},{"$f":"IFERROR('Level 1'!BK18/N114*AA$109,\"*\")","v":51.536620035555551},{"$f":"IFERROR('Level 1'!BL18/O114*AB$109,\"*\")","v":"*"},null,{"$f":"'Oversættelse af landenavne'!$B$18","v":"Italien"},{"$f":"IFERROR('Level 1'!BO18/E114*R$109,\"*\")","v":"*"},{"$f":"IFERROR('Level 1'!BP18/F114*S$109,\"*\")","v":"*"},{"$f":"IFERROR('Level 1'!BQ18/G114*T$109,\"*\")","v":"*"},{"$f":"IFERROR('Level 1'!BR18/H114*U$109,\"*\")","v":73.580491882067832},{"$f":"IFERROR('Level 1'!BS18/I114*V$109,\"*\")","v":63.574277641367743},{"$f":"IFERROR('Level 1'!BT18/J114*W$109,\"*\")","v":69.153429469306857},{"$f":"IFERROR('Level 1'!BU18/K114*X$109,\"*\")","v":62.631657638154955},{"$f":"IFERROR('Level 1'!BV18/L114*Y$109,\"*\")","v":55.905337421284322},{"$f":"IFERROR('Level 1'!BW18/M114*Z$109,\"*\")","v":50.375114470678369},{"$f":"IFERROR('Level 1'!BX18/N114*AA$109,\"*\")","v":42.07830971111111},{"$f":"IFERROR('Level 1'!BY18/O114*AB$109,\"*\")","v":"*"},null,{"$f":"'Oversættelse af landenavne'!$B$18","v":"Italien"},{"$f":"IFERROR('Level 1'!CB18/E114*R$109,\"*\")","v":"*"},{"$f":"IFERROR('Level 1'!CC18/F114*S$109,\"*\")","v":"*"},{"$f":"IFERROR('Level 1'!CD18/G114*T$109,\"*\")","v":"*"},{"$f":"IFERROR('Level 1'!CE18/H114*U$109,\"*\")","v":77.913390226300962},{"$f":"IFERROR('Level 1'!CF18/I114*V$109,\"*\")","v":64.080070547939215},{"$f":"IFERROR('Level 1'!CG18/J114*W$109,\"*\")","v":67.536255728933313},{"$f":"IFERROR('Level 1'!CH18/K114*X$109,\"*\")","v":64.726998982497122},{"$f":"IFERROR('Level 1'!CI18/L114*Y$109,\"*\")","v":51.508714274932487},{"$f":"IFERROR('Level 1'!CJ18/M114*Z$109,\"*\")","v":49.773620566550868},{"$f":"IFERROR('Level 1'!CK18/N114*AA$109,\"*\")","v":41.110136213333334},{"$f":"IFERROR('Level 1'!CL18/O114*AB$109,\"*\")","v":"*"}]
[null,null,null,{"$f":"'Oversættelse af landenavne'!$B$25","v":"Holland"},{"$f":"IFERROR('Level 1'!B25/E115*R$109,\"*\")","v":103.44880647176905},{"$f":"IFERROR('Level 1'!C25/F115*S$109,\"*\")","v":95.675694031813265},{"$f":"IFERROR('Level 1'!D25/G115*T$109,\"*\")","v":93.544335724242899},{"$f":"IFERROR('Level 1'!E25/H115*U$109,\"*\")","v":87.887548024582728},{"$f":"IFERROR('Level 1'!F25/I115*V$109,\"*\")","v":84.681575400280678},{"$f":"IFERROR('Level 1'!G25/J115*W$109,\"*\")","v":88.795706225517407},{"$f":"IFERROR('Level 1'!H25/K115*X$109,\"*\")","v":85.780248118950695},{"$f":"IFERROR('Level 1'!I25/L115*Y$109,\"*\")","v":90.819341560392033},{"$f":"IFERROR('Level 1'!J25/M115*Z$109,\"*\")","v":97.458897971253705},{"$f":"IFERROR('Level 1'!K25/N115*AA$109,\"*\")","v":75.592007711111123},{"$f":"IFERROR('Level 1'!L25/O115*AB$109,\"*\")","v":"*"},null,{"$f":"'Oversættelse af landenavne'!$B$25","v":"Holland"},{"$f":"IFERROR('Level 1'!O25/E115*R$109,\"*\")","v":84.68741127863656},{"$f":"IFERROR('Level 1'!P25/F115*S$109,\"*\")","v":80.416224995989012},{"$f":"IFERROR('Level 1'!Q25/G115*T$109,\"*\")","v":85.771758350913316},{"$f":"IFERROR('Level 1'!R25/H115*U$109,\"*\")","v":76.959731206711339},{"$f":"IFERROR('Level 1'!S25/I115*V$109,\"*\")","v":75.384421650936034},{"$f":"IFERROR('Level 1'!T25/J115*W$109,\"*\")","v":74.650920047042973},{"$f":"IFERROR('Level 1'!U25/K115*X$109,\"*\")","v":71.363399695597622},{"$f":"IFERROR('Level 1'!V25/L115*Y$109,\"*\")","v":70.260734391248548},{"$f":"IFERROR('Level 1'!W25/M115*Z$109,\"*\")","v":66.284040950076047},{"$f":"IFERROR('Level 1'!X25/N115*AA$109,\"*\")","v":59.207533133333335},{"$f":"IFERROR('Level 1'!Y25/O115*AB$109,\"*\")","v":"*"},null,{"$f":"'Oversættelse af landenavne'!$B$25","v":"Holland"},{"$f":"IFERROR('Level 1'!AB25/E115*R109,\"*\")","v":72.956517496206814},{"$f":"IFERROR('Level 1'!AC25/F115*S109,\"*\")","v":72.100010508598913},{"$f":"IFERROR('Level 1'!AD25/G115*T109,\"*\")","v":75.030759468171439},{"$f":"IFERROR('Level 1'!AE25/H115*U109,\"*\")","v":66.961941352063036},{"$f":"IFERROR('Level 1'!AF25/I115*V109,\"*\")","v":65.118814386034671},{"$f":"IFERROR('Level 1'!AG25/J115*W109,\"*\")","v":63.899357507070498},{"$f":"IFERROR('Level 1'!AH25/K115*X109,\"*\")","v":61.499240248040273},{"$f":"IFERROR('Level 1'!AI25/L115*Y109,\"*\")","v":57.910508839089111},{"$f":"IFERROR('Level 1'!AJ25/M115*Z109,\"*\")","v":53.731664625443223},{"$f":"IFERROR('Level 1'!AK25/N115*AA109,\"*\")","v":48.557624657777772},{"$f":"IFERROR('Level 1'!AL25/O115*AB109,\"*\")","v":"*"},null,{"$f":"'Oversættelse af landenavne'!$B$25","v":"Holland"},{"$f":"IFERROR('Level 1'!AO25/E115*R$109,\"*\")","v":62.912944052345765},{"$f":"IFERROR('Level 1'!AP25/F115*S$109,\"*\")","v":62.881565204180674},{"$f":"IFERROR('Level 1'!AQ25/G115*T$109,\"*\")","v":68.078403827705799},{"$f":"IFERROR('Level 1'!AR25/H115*U$109,\"*\")","v":60.374250362566087},{"$f":"IFERROR('Level 1'!AS25/I115*V$109,\"*\")","v":58.72702118336025},{"$f":"IFERROR('Level 1'!AT25/J115*W$109,\"*\")","v":56.846027471982168},{"$f":"IFERROR('Level 1'!AU25/K115*X$109,\"*\")","v":57.363881095025839},{"$f":"IFERROR('Level 1'!AV25/L115*Y$109,\"*\")","v":53.956930537330742},{"$f":"IFERROR('Level 1'!AW25/M115*Z$109,\"*\")","v":49.909747057943065},{"$f":"IFERROR('Level 1'!AX25/N115*AA$109,\"*\")","v":45.653104164444443},{"$f":"IFERROR('Level 1'!AY25/O115*AB$109,\"*\")","v":"*"},null,{"$f":"'Oversættelse af landenavne'!$B$25","v":"Holland"},{"$f":"IFERROR('Level 1'!BB25/E115*R109,\"*\")","v":60.783706482247204},{"$f":"IFERROR('Level 1'!BC25/F115*S109,\"*\")","v":61.077103570124336},{"$f":"IFERROR('Level 1'!BD25/G115*T109,\"*\")","v":65.344331384826035},{"$f":"IFERROR('Level 1'!BE25/H115*U109,\"*\")","v":54.406577348551217},{"$f":"IFERROR('Level 1'!BF25/I115*V109,\"*\")","v":53.536110339976155},{"$f":"IFERROR('Level 1'!BG25/J115*W109,\"*\")","v":52.614029450929173},{"$f":"IFERROR('Level 1'!BH25/K115*X109,\"*\")","v":55.087536607127987},{"$f":"IFERROR('Level 1'!BI25/L115*Y109,\"*\")","v":50.492842882456756},{"$f":"IFERROR('Level 1'!BJ25/M115*Z109,\"*\")","v":47.361802012942974},{"$f":"IFERROR('Level 1'!BK25/N115*AA109,\"*\")","v":42.227259480000001},{"$f":"IFERROR('Level 1'!BL25/O115*AB109,\"*\")","v":"*"},null,{"$f":"'Oversættelse af landenavne'!$B$25","v":"Holland"},{"$f":"IFERROR('Level 1'!BO25/E115*R$109,\"*\")","v":55.922616935418453},{"$f":"IFERROR('Level 1'!BP25/F115*S$109,\"*\")","v":58.841140240967562},{"$f":"IFERROR('Level 1'!BQ25/G115*T$109,\"*\")","v":63.782004274609037},{"$f":"IFERROR('Level 1'!BR25/H115*U$109,\"*\")","v":55.259102064839055},{"$f":"IFERROR('Level 1'!BS25/I115*V$109,\"*\")","v":55.51175551171189},{"$f":"IFERROR('Level 1'!BT25/J115*W$109,\"*\")","v":52.38527280114252},{"$f":"IFERROR('Level 1'!BU25/K115*X$109,\"*\")","v":56.149830701480326},{"$f":"IFERROR('Level 1'!BV25/L115*Y$109,\"*\")","v":53.279174257029318},{"$f":"IFERROR('Level 1'!BW25/M115*Z$109,\"*\")","v":50.134565738384261},{"$f":"IFERROR('Level 1'!BX25/N115*AA$109,\"*\")","v":43.493332515555558},{"$f":"IFERROR('Level 1'!BY25/O115*AB$109,\"*\")","v":"*"},null,{"$f":"'Oversættelse af landenavne'!$B$25","v":"Holland"},{"$f":"IFERROR('Level 1'!CB25/E115*R$109,\"*\")","v":"*"},{"$f":"IFERROR('Level 1'!CC25/F115*S$109,\"*\")","v":"*"},{"$f":"IFERROR('Level 1'!CD25/G115*T$109,\"*\")","v":49.408594860612638},{"$f":"IFERROR('Level 1'!CE25/H115*U$109,\"*\")","v":48.322650964133459},{"$f":"IFERROR('Level 1'!CF25/I115*V$109,\"*\")","v":49.119962309037462},{"$f":"IFERROR('Level 1'!CG25/J115*W$109,\"*\")","v":46.285095473498565},{"$f":"IFERROR('Level 1'!CH25/K115*X$109,\"*\")","v":54.973719382733087},{"$f":"IFERROR('Level 1'!CI25/L115*Y$109,\"*\")","v":48.610186548286102},{"$f":"IFERROR('Level 1'!CJ25/M115*Z$109,\"*\")","v":48.373486074928309},{"$f":"IFERROR('Level 1'!CK25/N115*AA$109,\"*\")","v":42.301734364444449},{"$f":"IFERROR('Level 1'!CL25/O115*AB$109,\"*\")","v":"*"}]
[null,null,null,{"$f":"'Oversættelse af landenavne'!$B$33","v":"Sverige"},{"$f":"IFERROR('Level 1'!B33/$E$116*$R$109,\"*\")","v":79.767705569956405},{"$f":"IFERROR('Level 1'!C33/$E$116*$R$109,\"*\")","v":95.98951432222816},{"$f":"IFERROR('Level 1'!D33/$E$116*$R$109,\"*\")","v":96.199098414634761},{"$f":"IFERROR('Level 1'!E33/$E$116*$R$109,\"*\")","v":117.53475902162783},{"$f":"IFERROR('Level 1'!F33/$E$116*$R$109,\"*\")","v":128.93613364854752},{"$f":"IFERROR('Level 1'!G33/$E$116*$R$109,\"*\")","v":144.36152284967415},{"$f":"IFERROR('Level 1'!H33/$E$116*$R$109,\"*\")","v":123.57078088293825},{"$f":"IFERROR('Level 1'!I33/$E$116*$R$109,\"*\")","v":114.72633218337924},{"$f":"IFERROR('Level 1'!J33/$E$116*$R$109,\"*\")","v":113.51074444742088},{"$f":"IFERROR('Level 1'!K33/$E$116*$R$109,\"*\")","v":104.28904438152999},{"$f":"IFERROR('Level 1'!L33/$E$116*$R$109,\"*\")","v":"*"},null,{"$f":"'Oversættelse af landenavne'!$B$33","v":"Sverige"},{"$f":"IFERROR('Level 1'!O33/E116*R$109,\"*\")","v":61.7434736229878},{"$f":"IFERROR('Level 1'!P33/F116*S$109,\"*\")","v":69.993506725985384},{"$f":"IFERROR('Level 1'!Q33/G116*T$109,\"*\")","v":69.704886320177607},{"$f":"IFERROR('Level 1'!R33/H116*U$109,\"*\")","v":74.536908933589643},{"$f":"IFERROR('Level 1'!S33/I116*V$109,\"*\")","v":73.392061481625959},{"$f":"IFERROR('Level 1'!T33/J116*W$109,\"*\")","v":65.622050370742429},{"$f":"IFERROR('Level 1'!U33/K116*X$109,\"*\")","v":62.122235695068909},{"$f":"IFERROR('Level 1'!V33/L116*Y$109,\"*\")","v":58.072950882095782},{"$f":"IFERROR('Level 1'!W33/M116*Z$109,\"*\")","v":52.293028639645073},{"$f":"IFERROR('Level 1'!X33/N116*AA$109,\"*\")","v":52.877167955555549},{"$f":"IFERROR('Level 1'!Y33/O116*AB$109,\"*\")","v":"*"},null,{"$f":"'Oversættelse af landenavne'!$B$33","v":"Sverige"},{"$f":"IFERROR('Level 1'!AB33/E116*R109,\"*\")","v":53.150525834316724},{"$f":"IFERROR('Level 1'!AC33/F116*S109,\"*\")","v":61.391895056045016},{"$f":"IFERROR('Level 1'!AD33/G116*T109,\"*\")","v":61.202072398538206},{"$f":"IFERROR('Level 1'!AE33/H116*U109,\"*\")","v":66.237035858420782},{"$f":"IFERROR('Level 1'!AF33/I116*V109,\"*\")","v":64.824599759080783},{"$f":"IFERROR('Level 1'!AG33/J116*W109,\"*\")","v":56.845958879223211},{"$f":"IFERROR('Level 1'!AH33/K116*X109,\"*\")","v":54.792808115925617},{"$f":"IFERROR('Level 1'!AI33/L116*Y109,\"*\")","v":50.065421917961132},{"$f":"IFERROR('Level 1'!AJ33/M116*Z109,\"*\")","v":44.484232430894117},{"$f":"IFERROR('Level 1'!AK33/N116*AA109,\"*\")","v":45.50415439555556},{"$f":"IFERROR('Level 1'!AL33/O116*AB109,\"*\")","v":"*"},null,{"$f":"'Oversættelse af landenavne'!$B$33","v":"Sverige"},{"$f":"IFERROR('Level 1'!AO33/E116*R109,\"*\")","v":45.898916237047963},{"$f":"IFERROR('Level 1'!AP33/F116*S109,\"*\")","v":54.603368198886187},{"$f":"IFERROR('Level 1'!AQ33/G116*T109,\"*\")","v":53.790528712831133},{"$f":"IFERROR('Level 1'!AR33/H116*U109,\"*\")","v":58.423009012042286},{"$f":"IFERROR('Level 1'!AS33/I116*V109,\"*\")","v":56.332956281867865},{"$f":"IFERROR('Level 1'!AT33/J116*W109,\"*\")","v":49.622838310071593},{"$f":"IFERROR('Level 1'!AU33/K116*X109,\"*\")","v":48.068236210789294},{"$f":"IFERROR('Level 1'!AV33/L116*Y109,\"*\")","v":44.922972124480161},{"$f":"IFERROR('Level 1'!AW33/M116*Z109,\"*\")","v":38.821929966728717},{"$f":"IFERROR('Level 1'!AX33/N116*AA109,\"*\")","v":39.099314333333332},{"$f":"IFERROR('Level 1'!AY33/O116*AB109,\"*\")","v":"*"},null,{"$f":"'Oversættelse af landenavne'!$B$33","v":"Sverige"},{"$f":"IFERROR('Level 1'!BB33/E116*R109,\"*\")","v":41.371899841065151},{"$f":"IFERROR('Level 1'!BC33/F116*S109,\"*\")","v":49.079784234365654},{"$f":"IFERROR('Level 1'!BD33/G116*T109,\"*\")","v":48.970751837463332},{"$f":"IFERROR('Level 1'!BE33/H116*U109,\"*\")","v":55.953290682357895},{"$f":"IFERROR('Level 1'!BF33/I116*V109,\"*\")","v":50.153769287288817},{"$f":"IFERROR('Level 1'!BG33/J116*W109,\"*\")","v":43.30260781206394},{"$f":"IFERROR('Level 1'!BH33/K116*X109,\"*\")","v":42.766854126845843},{"$f":"IFERROR('Level 1'!BI33/L116*Y109,\"*\")","v":39.486668057085993},{"$f":"IFERROR('Level 1'!BJ33/M116*Z109,\"*\")","v":33.899797759316975},{"$f":"IFERROR('Level 1'!BK33/N116*AA109,\"*\")","v":34.035022191111111},{"$f":"IFERROR('Level 1'!BL33/O116*AB109,\"*\")","v":"*"},null,{"$f":"'Oversættelse af landenavne'!$B$33","v":"Sverige"},{"$f":"IFERROR('Level 1'!BO33/E116*R$109,\"*\")","v":40.407813015994741},{"$f":"IFERROR('Level 1'!BP33/F116*S$109,\"*\")","v":49.459267102157142},{"$f":"IFERROR('Level 1'!BQ33/G116*T$109,\"*\")","v":44.923958045880944},{"$f":"IFERROR('Level 1'!BR33/H116*U$109,\"*\")","v":52.511879895092747},{"$f":"IFERROR('Level 1'!BS33/I116*V$109,\"*\")","v":46.17331140734526},{"$f":"IFERROR('Level 1'!BT33/J116*W$109,\"*\")","v":36.765683696981725},{"$f":"IFERROR('Level 1'!BU33/K116*X$109,\"*\")","v":37.963588480319892},{"$f":"IFERROR('Level 1'!BV33/L116*Y$109,\"*\")","v":34.454413616322476},{"$f":"IFERROR('Level 1'!BW33/M116*Z$109,\"*\")","v":27.756384628261713},{"$f":"IFERROR('Level 1'!BX33/N116*AA$109,\"*\")","v":28.151506319999999},{"$f":"IFERROR('Level 1'!BY33/O116*AB$109,\"*\")","v":"*"},null,{"$f":"'Oversættelse af landenavne'!$B$33","v":"Sverige"},{"$f":"IFERROR('Level 1'!CB33/E116*R$109,\"*\")","v":"*"},{"$f":"IFERROR('Level 1'!CC33/F116*S$109,\"*\")","v":"*"},{"$f":"IFERROR('Level 1'!CD33/G116*T$109,\"*\")","v":"*"},{"$f":"IFERROR('Level 1'!CE33/H116*U$109,\"*\")","v":"*"},{"$f":"IFERROR('Level 1'!CF33/I116*V$109,\"*\")","v":"*"},{"$f":"IFERROR('Level 1'!CG33/J116*W$109,\"*\")","v":"*"},{"$f":"IFERROR('Level 1'!CH33/K116*X$109,\"*\")","v":"*"},{"$f":"IFERROR('Level 1'!CI33/L116*Y$109,\"*\")","v":"*"},{"$f":"IFERROR('Level 1'!CJ33/M116*Z$109,\"*\")","v":"*"},{"$f":"IFERROR('Level 1'!CK33/N116*AA$109,\"*\")","v":"*"},{"$f":"IFERROR('Level 1'!CL33/O116*AB$109,\"*\")","v":"*"}]
[null,null,null,{"$f":"'Oversættelse af landenavne'!$B$34","v":"UK"},{"$f":"IFERROR('Level 1'!B34/$E$117*$R$109,\"*\")","v":128.75604788648224},{"$f":"IFERROR('Level 1'!C34/$E$117*$R$109,\"*\")","v":117.41531356609524},{"$f":"IFERROR('Level 1'!D34/$E$117*$R$109,\"*\")","v":121.37773881056778},{"$f":"IFERROR('Level 1'!E34/$E$117*$R$109,\"*\")","v":127.48078458941062},{"$f":"IFERROR('Level 1'!F34/$E$117*$R$109,\"*\")","v":124.06490075796872},{"$f":"IFERROR('Level 1'!G34/$E$117*$R$109,\"*\")","v":137.72843608373623},{"$f":"IFERROR('Level 1'!H34/$E$117*$R$109,\"*\")","v":136.90862396419016},{"$f":"IFERROR('Level 1'!I34/$E$117*$R$109,\"*\")","v":152.34841888230744},{"$f":"IFERROR('Level 1'!J34/$E$117*$R$109,\"*\")","v":163.27924714292143},{"$f":"IFERROR('Level 1'!K34/$E$117*$R$109,\"*\")","v":146.10873775020693},{"$f":"IFERROR('Level 1'!L34/$E$117*$R$109,\"*\")","v":"*"},null,{"$f":"'Oversættelse af landenavne'!$B$34","v":"UK"},{"$f":"IFERROR('Level 1'!O34/E117*R$109,\"*\")","v":106.43894018772868},{"$f":"IFERROR('Level 1'!P34/F117*S$109,\"*\")","v":112.55585678702889},{"$f":"IFERROR('Level 1'!Q34/G117*T$109,\"*\")","v":125.71119648061948},{"$f":"IFERROR('Level 1'!R34/H117*U$109,\"*\")","v":119.6700460815114},{"$f":"IFERROR('Level 1'!S34/I117*V$109,\"*\")","v":118.998481330554},{"$f":"IFERROR('Level 1'!T34/J117*W$109,\"*\")","v":122.93790329152453},{"$f":"IFERROR('Level 1'!U34/K117*X$109,\"*\")","v":126.93048995757005},{"$f":"IFERROR('Level 1'!V34/L117*Y$109,\"*\")","v":131.32469452964253},{"$f":"IFERROR('Level 1'!W34/M117*Z$109,\"*\")","v":134.89229550027369},{"$f":"IFERROR('Level 1'!X34/N117*AA$109,\"*\")","v":109.70150478666666},{"$f":"IFERROR('Level 1'!Y34/O117*AB$109,\"*\")","v":"*"},null,{"$f":"'Oversættelse af landenavne'!$B$34","v":"UK"},{"$f":"IFERROR('Level 1'!AB34/E117*R109,\"*\")","v":97.238826401711904},{"$f":"IFERROR('Level 1'!AC34/F117*S109,\"*\")","v":101.98289440758158},{"$f":"IFERROR('Level 1'!AD34/G117*T109,\"*\")","v":114.38435543065688},{"$f":"IFERROR('Level 1'!AE34/H117*U109,\"*\")","v":100.47220704507679},{"$f":"IFERROR('Level 1'!AF34/I117*V109,\"*\")","v":101.99117625543498},{"$f":"IFERROR('Level 1'!AG34/J117*W109,\"*\")","v":108.08310760153253},{"$f":"IFERROR('Level 1'!AH34/K117*X109,\"*\")","v":113.26869553943629},{"$f":"IFERROR('Level 1'!AI34/L117*Y109,\"*\")","v":117.30870916772577},{"$f":"IFERROR('Level 1'!AJ34/M117*Z109,\"*\")","v":120.31495691634632},{"$f":"IFERROR('Level 1'!AK34/N117*AA109,\"*\")","v":97.934473044444445},{"$f":"IFERROR('Level 1'!AL34/O117*AB109,\"*\")","v":"*"},null,{"$f":"'Oversættelse af landenavne'!$B$34","v":"UK"},{"$f":"IFERROR('Level 1'!AO34/E117*R109,\"*\")","v":87.628806555922125},{"$f":"IFERROR('Level 1'!AP34/F117*S109,\"*\")","v":93.360284311721642},{"$f":"IFERROR('Level 1'!AQ34/G117*T109,\"*\")","v":103.33650061345195},{"$f":"IFERROR('Level 1'!AR34/H117*U109,\"*\")","v":89.238306729800499},{"$f":"IFERROR('Level 1'!AS34/I117*V109,\"*\")","v":91.934224957144792},{"$f":"IFERROR('Level 1'!AT34/J117*W109,\"*\")","v":98.195987093583341},{"$f":"IFERROR('Level 1'!AU34/K117*X109,\"*\")","v":104.3264301021124},{"$f":"IFERROR('Level 1'!AV34/L117*Y109,\"*\")","v":107.36337301983103},{"$f":"IFERROR('Level 1'!AW34/M117*Z109,\"*\")","v":111.51041053517082},{"$f":"IFERROR('Level 1'!AX34/N117*AA109,\"*\")","v":90.4869846},{"$f":"IFERROR('Level 1'!AY34/O117*AB109,\"*\")","v":"*"},null,{"$f":"'Oversættelse af landenavne'!$B$34","v":"UK"},{"$f":"IFERROR('Level 1'!BB34/E117*R$109,\"*\")","v":82.573298485388136},{"$f":"IFERROR('Level 1'!BC34/F117*S$109,\"*\")","v":91.512582148323091},{"$f":"IFERROR('Level 1'!BD34/G117*T$109,\"*\")","v":101.38359698414807},{"$f":"IFERROR('Level 1'!BE34/H117*U$109,\"*\")","v":83.384020650008623},{"$f":"IFERROR('Level 1'!BF34/I117*V$109,\"*\")","v":86.774113819802196},{"$f":"IFERROR('Level 1'!BG34/J117*W$109,\"*\")","v":96.652631697220514},{"$f":"IFERROR('Level 1'!BH34/K117*X$109,\"*\")","v":103.6309205680983},{"$f":"IFERROR('Level 1'!BI34/L117*Y$109,\"*\")","v":107.45588777469516},{"$f":"IFERROR('Level 1'!BJ34/M117*Z$109,\"*\")","v":109.51692833565941},{"$f":"IFERROR('Level 1'!BK34/N117*AA$109,\"*\")","v":89.742235755555555},{"$f":"IFERROR('Level 1'!BL34/O117*AB$109,\"*\")","v":"*"},null,{"$f":"'Oversættelse af landenavne'!$B$34","v":"UK"},{"$f":"IFERROR('Level 1'!BO34/E117*R$109,\"*\")","v":78.155422063389977},{"$f":"IFERROR('Level 1'!BP34/F117*S$109,\"*\")","v":93.616909612193666},{"$f":"IFERROR('Level 1'!BQ34/G117*T$109,\"*\")","v":100.04446306691112},{"$f":"IFERROR('Level 1'!BR34/H117*U$109,\"*\")","v":81.907263801052096},{"$f":"IFERROR('Level 1'!BS34/I117*V$109,\"*\")","v":84.299366641688906},{"$f":"IFERROR('Level 1'!BT34/J117*W$109,\"*\")","v":91.492037090632394},{"$f":"IFERROR('Level 1'!BU34/K117*X$109,\"*\")","v":101.49471271362647},{"$f":"IFERROR('Level 1'!BV34/L117*Y$109,\"*\")","v":104.40290086417865},{"$f":"IFERROR('Level 1'!BW34/M117*Z$109,\"*\")","v":106.69282855301822},{"$f":"IFERROR('Level 1'!BX34/N117*AA$109,\"*\")","v":87.805888760000002},{"$f":"IFERROR('Level 1'!BY34/O117*AB$109,\"*\")","v":"*"},null,{"$f":"'Oversættelse af landenavne'!$B$34","v":"UK"},{"$f":"IFERROR('Level 1'!CB34/E117*R$109,\"*\")","v":69.82066551467183},{"$f":"IFERROR('Level 1'!CC34/F117*S$109,\"*\")","v":82.479371571707901},{"$f":"IFERROR('Level 1'!CD34/G117*T$109,\"*\")","v":88.550230277293878},{"$f":"IFERROR('Level 1'!CE34/H117*U$109,\"*\")","v":83.647727230179413},{"$f":"IFERROR('Level 1'!CF34/I117*V$109,\"*\")","v":84.352020836967924},{"$f":"IFERROR('Level 1'!CG34/J117*W$109,\"*\")","v":94.530518027221675},{"$f":"IFERROR('Level 1'!CH34/K117*X$109,\"*\")","v":98.315240558133539},{"$f":"IFERROR('Level 1'!CI34/L117*Y$109,\"*\")","v":102.13628937000729},{"$f":"IFERROR('Level 1'!CJ34/M117*Z$109,\"*\")","v":103.70260525375106},{"$f":"IFERROR('Level 1'!CK34/N117*AA$109,\"*\")","v":85.720591995555552},{"$f":"IFERROR('Level 1'!CL34/O117*AB$109,\"*\")","v":"*"}]
[null,null,null,"Kilde: Eurostat",null,null,null,null,null,null,null,null,null,null,null,null,"Kilde: Eurostat",null,null,null,null,null,null,null,null,null,null,null,null,"Kilde: Eurostat",null,null,null,null,null,null,null,null,null,null,null,null,"Kilde: Eurostat",null,null,null,null,null,null,null,null,null,null,null,null,"Kilde: Eurostat",null,null,null,null,null,null,null,null,null,null,null,null,"Kilde: Eurostat",null,null,null,null,null,null,null,null,null,null,null,null,"Kilde: Eurostat"]
[]
[]
[]
[]
[null,"Level 2: Elpris inkl. PSO og ikke-refunderbare afgifter",null,{"$f":"\"Figur XX:\n\"&$B$62&\" for forbrugsinterval \"&D26&\". \nPriserne er vist i \"&$E$15&\" / kWh i \"&$E$13&\" med basisår \"&$E$14&\". \"","v":"Figur XX:\nLevel 2: Elpris inkl. PSO og ikke-refunderbare afgifter for forbrugsinterval IA: <0,02 GWh. \nPriserne er vist i DKK øre / kWh i faste priser med basisår 2016. "},null,null,null,null,null,null,null,null,null,null,null,null,{"$f":"\"Figur XX:\n\"&$B$62&\" for forbrugsinterval \"&Q26&\". \nPriserne er vist i \"&$E$15&\" / kWh i \"&$E$13&\" med basisår \"&$E$14&\". \"","v":"Figur XX:\nLevel 2: Elpris inkl. PSO og ikke-refunderbare afgifter for forbrugsinterval IB: 0,02 < 0,5 GWh. \nPriserne er vist i DKK øre / kWh i faste priser med basisår 2016. "},null,null,null,null,null,null,null,null,null,null,null,null,{"$f":"\"Figur XX:\n\"&$B$62&\" for forbrugsinterval \"&AD26&\". \nPriserne er vist i \"&$E$15&\" / kWh i \"&$E$13&\" med basisår \"&$E$14&\". \"","v":"Figur XX:\nLevel 2: Elpris inkl. PSO og ikke-refunderbare afgifter for forbrugsinterval IC: 0,5 < 2 GWh. \nPriserne er vist i DKK øre / kWh i faste priser med basisår 2016. "},null,null,null,null,null,null,null,null,null,null,null,null,{"$f":"\"Figur XX:\n\"&$B$62&\" for forbrugsinterval \"&AQ26&\". \nPriserne er vist i \"&$E$15&\" / kWh i \"&$E$13&\" med basisår \"&$E$14&\". \"","v":"Figur XX:\nLevel 2: Elpris inkl. PSO og ikke-refunderbare afgifter for forbrugsinterval ID: 2 < 20 GWh. \nPriserne er vist i DKK øre / kWh i faste priser med basisår 2016. "},null,null,null,null,null,null,null,null,null,null,null,null,{"$f":"\"Figur XX:\n\"&$B$62&\" for forbrugsinterval \"&BD26&\". \nPriserne er vist i \"&$E$15&\" / kWh i \"&$E$13&\" med basisår \"&$E$14&\". \"","v":"Figur XX:\nLevel 2: Elpris inkl. PSO og ikke-refunderbare afgifter for forbrugsinterval IE:20 < 70 GWh. \nPriserne er vist i DKK øre / kWh i faste priser med basisår 2016. "},null,null,null,null,null,null,null,null,null,null,null,null,{"$f":"\"Figur XX:\n\"&$B$62&\" for forbrugsinterval \"&BQ26&\". \nPriserne er vist i \"&$E$15&\" / kWh i \"&$E$13&\" med basisår \"&$E$14&\". \"","v":"Figur XX:\nLevel 2: Elpris inkl. PSO og ikke-refunderbare afgifter for forbrugsinterval IF: 70 < 150 GWh. \nPriserne er vist i DKK øre / kWh i faste priser med basisår 2016. "},null,null,null,null,null,null,null,null,null,null,null,null,{"$f":"\"Figur XX:\n\"&$B$62&\" for forbrugsinterval \"&CD26&\". \nPriserne er vist i \"&$E$15&\" / kWh i \"&$E$13&\" med basisår \"&$E$14&\". \"","v":"Figur XX:\nLevel 2: Elpris inkl. PSO og ikke-refunderbare afgifter for forbrugsinterval IG: > 150 GWh. \nPriserne er vist i DKK øre / kWh i faste priser med basisår 2016. "},null,null,null,null,null,null,null,null,null,null,null,null,null,{"$f":"B62","v":"Level 2: Elpris inkl. PSO og ikke-refunderbare afgifter"}]
[]
[]
[]
[]
[]
[]
[]
[]
[]
[]
[]
[]
[]
[]
[]
[]
[]
[]
[null,null,null,"Kilde: Eurostat",null,null,null,null,null,null,null,null,null,null,null,null,"Kilde: Eurostat",null,null,null,null,null,null,null,null,null,null,null,null,"Kilde: Eurostat",null,null,null,null,null,null,null,null,null,null,null,null,"Kilde: Eurostat",null,null,null,null,null,null,null,null,null,null,null,null,"Kilde: Eurostat",null,null,null,null,null,null,null,null,null,null,null,null,"Kilde: Eurostat"]
[null,null,null,{"$f":"$E$15&\"/kWh\"","v":"DKK øre/kWh"},{"$f":"'Level 1'!B$5","v":2007},{"$f":"'Level 1'!C$5","v":2008},{"$f":"'Level 1'!D$5","v":2009},{"$f":"'Level 1'!E$5","v":2010},{"$f":"'Level 1'!F$5","v":2011},{"$f":"'Level 1'!G$5","v":2012},{"$f":"'Level 1'!H$5","v":2013},{"$f":"'Level 1'!I$5","v":2014},{"$f":"'Level 1'!J$5","v":2015},{"$f":"'Level 1'!K$5","v":2016},{"$f":"'Level 1'!L$5","v":2017},null,{"$f":"$E$15&\"/kWh\"","v":"DKK øre/kWh"},{"$f":"'Level 1'!O5","v":2007},{"$f":"'Level 1'!P5","v":2008},{"$f":"'Level 1'!Q5","v":2009},{"$f":"'Level 1'!R5","v":2010},{"$f":"'Level 1'!S5","v":2011},{"$f":"'Level 1'!T5","v":2012},{"$f":"'Level 1'!U5","v":2013},{"$f":"'Level 1'!V5","v":2014},{"$f":"'Level 1'!W5","v":2015},{"$f":"'Level 1'!X5","v":2016},{"$f":"'Level 1'!Y5","v":2017},null,{"$f":"$E$15&\"/kWh\"","v":"DKK øre/kWh"},{"$f":"'Level 1'!AB5","v":2007},{"$f":"'Level 1'!AC5","v":2008},{"$f":"'Level 1'!AD5","v":2009},{"$f":"'Level 1'!AE5","v":2010},{"$f":"'Level 1'!AF5","v":2011},{"$f":"'Level 1'!AG5","v":2012},{"$f":"'Level 1'!AH5","v":2013},{"$f":"'Level 1'!AI5","v":2014},{"$f":"'Level 1'!AJ5","v":2015},{"$f":"'Level 1'!AK5","v":2016},{"$f":"'Level 1'!AL5","v":2017},null,{"$f":"$E$15&\"/kWh\"","v":"DKK øre/kWh"},{"$f":"'Level 1'!AO5","v":2007},{"$f":"'Level 1'!AP5","v":2008},{"$f":"'Level 1'!AQ5","v":2009},{"$f":"'Level 1'!AR5","v":2010},{"$f":"'Level 1'!AS5","v":2011},{"$f":"'Level 1'!AT5","v":2012},{"$f":"'Level 1'!AU5","v":2013},{"$f":"'Level 1'!AV5","v":2014},{"$f":"'Level 1'!AW5","v":2015},{"$f":"'Level 1'!AX5","v":2016},{"$f":"'Level 1'!AY5","v":2017},null,{"$f":"$E$15&\"/kWh\"","v":"DKK øre/kWh"},{"$f":"'Level 1'!BB5","v":2007},{"$f":"'Level 1'!BC5","v":2008},{"$f":"'Level 1'!BD5","v":2009},{"$f":"'Level 1'!BE5","v":2010},{"$f":"'Level 1'!BF5","v":2011},{"$f":"'Level 1'!BG5","v":2012},{"$f":"'Level 1'!BH5","v":2013},{"$f":"'Level 1'!BI5","v":2014},{"$f":"'Level 1'!BJ5","v":2015},{"$f":"'Level 1'!BK5","v":2016},{"$f":"'Level 1'!BL5","v":2017},null,{"$f":"$E$15&\"/kWh\"","v":"DKK øre/kWh"},{"$f":"'Level 1'!BO5","v":2007},{"$f":"'Level 1'!BP5","v":2008},{"$f":"'Level 1'!BQ5","v":2009},{"$f":"'Level 1'!BR5","v":2010},{"$f":"'Level 1'!BS5","v":2011},{"$f":"'Level 1'!BT5","v":2012},{"$f":"'Level 1'!BU5","v":2013},{"$f":"'Level 1'!BV5","v":2014},{"$f":"'Level 1'!BW5","v":2015},{"$f":"'Level 1'!BX5","v":2016},{"$f":"'Level 1'!BY5","v":2017},null,{"$f":"$E$15&\"/kWh\"","v":"DKK øre/kWh"},{"$f":"'Level 1'!CB5","v":2007},{"$f":"'Level 1'!CC5","v":2008},{"$f":"'Level 1'!CD5","v":2009},{"$f":"'Level 1'!CE5","v":2010},{"$f":"'Level 1'!CF5","v":2011},{"$f":"'Level 1'!CG5","v":2012},{"$f":"'Level 1'!CH5","v":2013},{"$f":"'Level 1'!CI5","v":2014},{"$f":"'Level 1'!CJ5","v":2015},{"$f":"'Level 1'!CK5","v":2016},{"$f":"'Level 1'!CL5","v":2017}]
[null,null,null,{"$f":"'Oversættelse af landenavne'!$B$6","v":"EU-28"},{"$f":"IFERROR('Level 2'!B6/E109*R$109,\"*\")","v":122.18811961341858},{"$f":"IFERROR('Level 2'!C6/F109*S$109,\"*\")","v":127.61157781791331},{"$f":"IFERROR('Level 2'!D6/G109*T$109,\"*\")","v":135.54302245118751},{"$f":"IFERROR('Level 2'!E6/H109*U$109,\"*\")","v":139.39511665147845},{"$f":"IFERROR('Level 2'!F6/I109*V$109,\"*\")","v":142.28406921638415},{"$f":"IFERROR('Level 2'!G6/J109*W$109,\"*\")","v":144.55975823532833},{"$f":"IFERROR('Level 2'!H6/K109*X$109,\"*\")","v":151.06784957303765},{"$f":"IFERROR('Level 2'!I6/L109*Y$109,\"*\")","v":150.44186520939641},{"$f":"IFERROR('Level 2'!J6/M109*Z$109,\"*\")","v":146.7108921933937},{"$f":"IFERROR('Level 2'!K6/N109*AA$109,\"*\")","v":138.44881018222222},{"$f":"IFERROR('Level 2'!L6/O109*AB$109,\"*\")","v":"*"},null,{"$f":"'Oversættelse af landenavne'!$B$6","v":"EU-28"},{"$f":"IFERROR('Level 2'!O6/E109*R$109,\"*\")","v":93.428080447699955},{"$f":"IFERROR('Level 2'!P6/F109*S$109,\"*\")","v":98.230361803424913},{"$f":"IFERROR('Level 2'!Q6/G109*T$109,\"*\")","v":102.44973072082274},{"$f":"IFERROR('Level 2'!R6/H109*U$109,\"*\")","v":101.81615312166375},{"$f":"IFERROR('Level 2'!S6/I109*V$109,\"*\")","v":107.55655203343785},{"$f":"IFERROR('Level 2'!T6/J109*W$109,\"*\")","v":109.47477938088251},{"$f":"IFERROR('Level 2'!U6/K109*X$109,\"*\")","v":113.30088717977823},{"$f":"IFERROR('Level 2'!V6/L109*Y$109,\"*\")","v":115.20607073803136},{"$f":"IFERROR('Level 2'!W6/M109*Z$109,\"*\")","v":110.94364306445816},{"$f":"IFERROR('Level 2'!X6/N109*AA$109,\"*\")","v":105.38196148888888},{"$f":"IFERROR('Level 2'!Y6/O109*AB$109,\"*\")","v":"*"},null,{"$f":"'Oversættelse af landenavne'!$B$6","v":"EU-28"},{"$f":"IFERROR('Level 2'!AB6/E109*R109,\"*\")","v":79.300341910153961},{"$f":"IFERROR('Level 2'!AC6/F109*S109,\"*\")","v":84.000143220909166},{"$f":"IFERROR('Level 2'!AD6/G109*T109,\"*\")","v":88.417836909224903},{"$f":"IFERROR('Level 2'!AE6/H109*U109,\"*\")","v":86.784567709737857},{"$f":"IFERROR('Level 2'!AF6/I109*V109,\"*\")","v":91.26259847366687},{"$f":"IFERROR('Level 2'!AG6/J109*W109,\"*\")","v":92.756164027561255},{"$f":"IFERROR('Level 2'!AH6/K109*X109,\"*\")","v":95.158327302634532},{"$f":"IFERROR('Level 2'!AI6/L109*Y109,\"*\")","v":96.129868809462366},{"$f":"IFERROR('Level 2'!AJ6/M109*Z109,\"*\")","v":91.81410682079381},{"$f":"IFERROR('Level 2'!AK6/N109*AA109,\"*\")","v":87.061139915555557},{"$f":"IFERROR('Level 2'!AL6/O109*AB109,\"*\")","v":"*"},null,{"$f":"'Oversættelse af landenavne'!$B$6","v":"EU-28"},{"$f":"IFERROR('Level 2'!AO6/E109*R109,\"*\")","v":70.134130597103294},{"$f":"IFERROR('Level 2'!AP6/F109*S109,\"*\")","v":75.629426407664596},{"$f":"IFERROR('Level 2'!AQ6/G109*T109,\"*\")","v":78.739211358454114},{"$f":"IFERROR('Level 2'!AR6/H109*U109,\"*\")","v":76.486685991070402},{"$f":"IFERROR('Level 2'!AS6/I109*V109,\"*\")","v":80.194231030287085},{"$f":"IFERROR('Level 2'!AT6/J109*W109,\"*\")","v":83.874399621109319},{"$f":"IFERROR('Level 2'!AU6/K109*X109,\"*\")","v":85.266026442470093},{"$f":"IFERROR('Level 2'!AV6/L109*Y109,\"*\")","v":85.054635871594826},{"$f":"IFERROR('Level 2'!AW6/M109*Z109,\"*\")","v":81.846813387221204},{"$f":"IFERROR('Level 2'!AX6/N109*AA109,\"*\")","v":75.964382133333331},{"$f":"IFERROR('Level 2'!AY6/O109*AB109,\"*\")","v":"*"},null,{"$f":"'Oversættelse af landenavne'!$B$6","v":"EU-28"},{"$f":"IFERROR('Level 2'!BB6/E109*R$109,\"*\")","v":63.827104464270256},{"$f":"IFERROR('Level 2'!BC6/F109*S$109,\"*\")","v":69.853631806525854},{"$f":"IFERROR('Level 2'!BD6/G109*T$109,\"*\")","v":72.103647116222604},{"$f":"IFERROR('Level 2'!BE6/H109*U$109,\"*\")","v":68.970893285107451},{"$f":"IFERROR('Level 2'!BF6/I109*V$109,\"*\")","v":73.281644671596339},{"$f":"IFERROR('Level 2'!BG6/J109*W$109,\"*\")","v":74.429989505651392},{"$f":"IFERROR('Level 2'!BH6/K109*X$109,\"*\")","v":75.57397458757211},{"$f":"IFERROR('Level 2'!BI6/L109*Y$109,\"*\")","v":74.097643854772144},{"$f":"IFERROR('Level 2'!BJ6/M109*Z$109,\"*\")","v":71.419491025945248},{"$f":"IFERROR('Level 2'!BK6/N109*AA$109,\"*\")","v":64.94209923555556},{"$f":"IFERROR('Level 2'!BL6/O109*AB$109,\"*\")","v":"*"},null,{"$f":"'Oversættelse af landenavne'!$B$6","v":"EU-28"},{"$f":"IFERROR('Level 2'!BO6/E109*R$109,\"*\")","v":56.258673104870624},{"$f":"IFERROR('Level 2'!BP6/F109*S$109,\"*\")","v":65.710126983969801},{"$f":"IFERROR('Level 2'!BQ6/G109*T$109,\"*\")","v":65.763936056765758},{"$f":"IFERROR('Level 2'!BR6/H109*U$109,\"*\")","v":64.195665875241502},{"$f":"IFERROR('Level 2'!BS6/I109*V$109,\"*\")","v":67.191985260368796},{"$f":"IFERROR('Level 2'!BT6/J109*W$109,\"*\")","v":67.396918143076348},{"$f":"IFERROR('Level 2'!BU6/K109*X$109,\"*\")","v":68.525209602191765},{"$f":"IFERROR('Level 2'!BV6/L109*Y$109,\"*\")","v":66.963774951732915},{"$f":"IFERROR('Level 2'!BW6/M109*Z$109,\"*\")","v":63.944020950765797},{"$f":"IFERROR('Level 2'!BX6/N109*AA$109,\"*\")","v":55.483788911111105},{"$f":"IFERROR('Level 2'!BY6/O109*AB$109,\"*\")","v":"*"},null,{"$f":"'Oversættelse af landenavne'!$B$6","v":"EU-28"},{"$f":"IFERROR('Level 2'!CB6/E109*R$109,\"*\")","v":"*"},{"$f":"IFERROR('Level 2'!CC6/F109*S$109,\"*\")","v":"*"},{"$f":"IFERROR('Level 2'!CD6/G109*T$109,\"*\")","v":"*"},{"$f":"IFERROR('Level 2'!CE6/H109*U$109,\"*\")","v":"*"},{"$f":"IFERROR('Level 2'!CF6/I109*V$109,\"*\")","v":"*"},{"$f":"IFERROR('Level 2'!CG6/J109*W$109,\"*\")","v":"*"},{"$f":"IFERROR('Level 2'!CH6/K109*X$109,\"*\")","v":"*"},{"$f":"IFERROR('Level 2'!CI6/L109*Y$109,\"*\")","v":"*"},{"$f":"IFERROR('Level 2'!CJ6/M109*Z$109,\"*\")","v":"*"},{"$f":"IFERROR('Level 2'!CK6/N109*AA$109,\"*\")","v":"*"},{"$f":"IFERROR('Level 2'!CL6/O109*AB$109,\"*\")","v":"*"}]
[null,null,null,{"$f":"'Oversættelse af landenavne'!$B$7","v":"Belgien"},{"$f":"IFERROR('Level 2'!B7/E110*R$109,\"*\")","v":120.68432575987569},{"$f":"IFERROR('Level 2'!C7/F110*S$109,\"*\")","v":139.97032556518141},{"$f":"IFERROR('Level 2'!D7/G110*T$109,\"*\")","v":125.48677555938264},{"$f":"IFERROR('Level 2'!E7/H110*U$109,\"*\")","v":129.82895858456828},{"$f":"IFERROR('Level 2'!F7/I110*V$109,\"*\")","v":140.9568689650778},{"$f":"IFERROR('Level 2'!G7/J110*W$109,\"*\")","v":137.94138655666694},{"$f":"IFERROR('Level 2'!H7/K110*X$109,\"*\")","v":134.23027369187457},{"$f":"IFERROR('Level 2'!I7/L110*Y$109,\"*\")","v":135.45852079593504},{"$f":"IFERROR('Level 2'!J7/M110*Z$109,\"*\")","v":134.13162001285716},{"$f":"IFERROR('Level 2'!K7/N110*AA$109,\"*\")","v":145.5983990888889},{"$f":"IFERROR('Level 2'!L7/O110*AB$109,\"*\")","v":"*"},null,{"$f":"'Oversættelse af landenavne'!$B$7","v":"Belgien"},{"$f":"IFERROR('Level 2'!O7/E110*R$109,\"*\")","v":99.589781354772057},{"$f":"IFERROR('Level 2'!P7/F110*S$109,\"*\")","v":117.1854185430699},{"$f":"IFERROR('Level 2'!Q7/G110*T$109,\"*\")","v":106.54923413695953},{"$f":"IFERROR('Level 2'!R7/H110*U$109,\"*\")","v":104.45731299846832},{"$f":"IFERROR('Level 2'!S7/I110*V$109,\"*\")","v":113.11256300835005},{"$f":"IFERROR('Level 2'!T7/J110*W$109,\"*\")","v":113.78521771443749},{"$f":"IFERROR('Level 2'!U7/K110*X$109,\"*\")","v":109.89769419792917},{"$f":"IFERROR('Level 2'!V7/L110*Y$109,\"*\")","v":109.70926670286676},{"$f":"IFERROR('Level 2'!W7/M110*Z$109,\"*\")","v":109.23811498103449},{"$f":"IFERROR('Level 2'!X7/N110*AA$109,\"*\")","v":111.19100247555555},{"$f":"IFERROR('Level 2'!Y7/O110*AB$109,\"*\")","v":"*"},null,{"$f":"'Oversættelse af landenavne'!$B$7","v":"Belgien"},{"$f":"IFERROR('Level 2'!AB7/E110*R109,\"*\")","v":79.755867093399743},{"$f":"IFERROR('Level 2'!AC7/F110*S109,\"*\")","v":83.792321113924572},{"$f":"IFERROR('Level 2'!AD7/G110*T109,\"*\")","v":89.574979946234677},{"$f":"IFERROR('Level 2'!AE7/H110*U109,\"*\")","v":84.746113658634386},{"$f":"IFERROR('Level 2'!AF7/I110*V109,\"*\")","v":88.541737780246123},{"$f":"IFERROR('Level 2'!AG7/J110*W109,\"*\")","v":84.37266653213895},{"$f":"IFERROR('Level 2'!AH7/K110*X109,\"*\")","v":83.158595852934241},{"$f":"IFERROR('Level 2'!AI7/L110*Y109,\"*\")","v":82.670653789232475},{"$f":"IFERROR('Level 2'!AJ7/M110*Z109,\"*\")","v":82.013194070098535},{"$f":"IFERROR('Level 2'!AK7/N110*AA109,\"*\")","v":83.039496155555554},{"$f":"IFERROR('Level 2'!AL7/O110*AB109,\"*\")","v":"*"},null,{"$f":"'Oversættelse af landenavne'!$B$7","v":"Belgien"},{"$f":"IFERROR('Level 2'!AO7/E110*R109,\"*\")","v":70.679330058534433},{"$f":"IFERROR('Level 2'!AP7/F110*S109,\"*\")","v":78.261202380296055},{"$f":"IFERROR('Level 2'!AQ7/G110*T109,\"*\")","v":81.680929202114456},{"$f":"IFERROR('Level 2'!AR7/H110*U109,\"*\")","v":75.472616616879506},{"$f":"IFERROR('Level 2'!AS7/I110*V109,\"*\")","v":78.524097960120287},{"$f":"IFERROR('Level 2'!AT7/J110*W109,\"*\")","v":76.140244190707165},{"$f":"IFERROR('Level 2'!AU7/K110*X109,\"*\")","v":73.799911432186022},{"$f":"IFERROR('Level 2'!AV7/L110*Y109,\"*\")","v":73.227996544499035},{"$f":"IFERROR('Level 2'!AW7/M110*Z109,\"*\")","v":72.499513144039426},{"$f":"IFERROR('Level 2'!AX7/N110*AA109,\"*\")","v":70.527715568888894},{"$f":"IFERROR('Level 2'!AY7/O110*AB109,\"*\")","v":"*"},null,{"$f":"'Oversættelse af landenavne'!$B$7","v":"Belgien"},{"$f":"IFERROR('Level 2'!BB7/E110*R$109,\"*\")","v":61.266624985340798},{"$f":"IFERROR('Level 2'!BC7/F110*S$109,\"*\")","v":66.99257988566481},{"$f":"IFERROR('Level 2'!BD7/G110*T$109,\"*\")","v":75.09573661245976},{"$f":"IFERROR('Level 2'!BE7/H110*U$109,\"*\")","v":64.392594177380161},{"$f":"IFERROR('Level 2'!BF7/I110*V$109,\"*\")","v":68.703655774248887},{"$f":"IFERROR('Level 2'!BG7/J110*W$109,\"*\")","v":62.342240548025707},{"$f":"IFERROR('Level 2'!BH7/K110*X$109,\"*\")","v":58.444029239774636},{"$f":"IFERROR('Level 2'!BI7/L110*Y$109,\"*\")","v":58.89336024526515},{"$f":"IFERROR('Level 2'!BJ7/M110*Z$109,\"*\")","v":58.022172604384238},{"$f":"IFERROR('Level 2'!BK7/N110*AA$109,\"*\")","v":53.919816337777782},{"$f":"IFERROR('Level 2'!BL7/O110*AB$109,\"*\")","v":"*"},null,{"$f":"'Oversættelse af landenavne'!$B$7","v":"Belgien"},{"$f":"IFERROR('Level 2'!BO7/E110*R$109,\"*\")","v":51.685835892982972},{"$f":"IFERROR('Level 2'!BP7/F110*S$109,\"*\")","v":60.51209002611499},{"$f":"IFERROR('Level 2'!BQ7/G110*T$109,\"*\")","v":66.0564349831822},{"$f":"IFERROR('Level 2'!BR7/H110*U$109,\"*\")","v":58.812437948791747},{"$f":"IFERROR('Level 2'!BS7/I110*V$109,\"*\")","v":61.525661887387066},{"$f":"IFERROR('Level 2'!BT7/J110*W$109,\"*\")","v":58.786452494449534},{"$f":"IFERROR('Level 2'!BU7/K110*X$109,\"*\")","v":50.422299736276166},{"$f":"IFERROR('Level 2'!BV7/L110*Y$109,\"*\")","v":52.484488460687047},{"$f":"IFERROR('Level 2'!BW7/M110*Z$109,\"*\")","v":49.110147389064046},{"$f":"IFERROR('Level 2'!BX7/N110*AA$109,\"*\")","v":42.07830971111111},{"$f":"IFERROR('Level 2'!BY7/O110*AB$109,\"*\")","v":"*"},null,{"$f":"'Oversættelse af landenavne'!$B$7","v":"Belgien"},{"$f":"IFERROR('Level 2'!CB7/E110*R$109,\"*\")","v":"*"},{"$f":"IFERROR('Level 2'!CC7/F110*S$109,\"*\")","v":"*"},{"$f":"IFERROR('Level 2'!CD7/G110*T$109,\"*\")","v":"*"},{"$f":"IFERROR('Level 2'!CE7/H110*U$109,\"*\")","v":"*"},{"$f":"IFERROR('Level 2'!CF7/I110*V$109,\"*\")","v":"*"},{"$f":"IFERROR('Level 2'!CG7/J110*W$109,\"*\")","v":"*"},{"$f":"IFERROR('Level 2'!CH7/K110*X$109,\"*\")","v":"*"},{"$f":"IFERROR('Level 2'!CI7/L110*Y$109,\"*\")","v":"*"},{"$f":"IFERROR('Level 2'!CJ7/M110*Z$109,\"*\")","v":"*"},{"$f":"IFERROR('Level 2'!CK7/N110*AA$109,\"*\")","v":43.86570693777778},{"$f":"IFERROR('Level 2'!CL7/O110*AB$109,\"*\")","v":"*"}]
[null,null,null,{"$f":"'Oversættelse af landenavne'!$B$10","v":"Danmark"},{"$f":"IFERROR('Level 2'!B10/E111*R$109,\"*\")","v":155.55552265284976},{"$f":"IFERROR('Level 2'!C10/F111*S$109,\"*\")","v":162.93833469234198},{"$f":"IFERROR('Level 2'!D10/G111*T$109,\"*\")","v":156.03481796389516},{"$f":"IFERROR('Level 2'!E10/H111*U$109,\"*\")","v":150.80877871020408},{"$f":"IFERROR('Level 2'!F10/I111*V$109,\"*\")","v":165.94573789312906},{"$f":"IFERROR('Level 2'!G10/J111*W$109,\"*\")","v":163.48374595795602},{"$f":"IFERROR('Level 2'!H10/K111*X$109,\"*\")","v":138.64939551730299},{"$f":"IFERROR('Level 2'!I10/L111*Y$109,\"*\")","v":140.52182416157638},{"$f":"IFERROR('Level 2'!J10/M111*Z$109,\"*\")","v":135.14149607672971},{"$f":"IFERROR('Level 2'!K10/N111*AA$109,\"*\")","v":136.28903853333333},{"$f":"IFERROR('Level 2'!L10/O111*AB$109,\"*\")","v":"*"},null,{"$f":"'Oversættelse af landenavne'!$B$10","v":"Danmark"},{"$f":"IFERROR('Level 2'!O10/E111*R$109,\"*\")","v":85.321718891268119},{"$f":"IFERROR('Level 2'!P10/F111*S$109,\"*\")","v":87.826709604192601},{"$f":"IFERROR('Level 2'!Q10/G111*T$109,\"*\")","v":79.126264620468163},{"$f":"IFERROR('Level 2'!R10/H111*U$109,\"*\")","v":82.410275154475116},{"$f":"IFERROR('Level 2'!S10/I111*V$109,\"*\")","v":83.335547829769524},{"$f":"IFERROR('Level 2'!T10/J111*W$109,\"*\")","v":82.856268281489776},{"$f":"IFERROR('Level 2'!U10/K111*X$109,\"*\")","v":84.725897316392022},{"$f":"IFERROR('Level 2'!V10/L111*Y$109,\"*\")","v":78.152605496443741},{"$f":"IFERROR('Level 2'!W10/M111*Z$109,\"*\")","v":72.931109055933462},{"$f":"IFERROR('Level 2'!X10/N111*AA$109,\"*\")","v":74.847258866666678},{"$f":"IFERROR('Level 2'!Y10/O111*AB$109,\"*\")","v":"*"},null,{"$f":"'Oversættelse af landenavne'!$B$10","v":"Danmark"},{"$f":"IFERROR('Level 2'!AB10/E111*R109,\"*\")","v":78.968912520873801},{"$f":"IFERROR('Level 2'!AC10/F111*S109,\"*\")","v":81.300755630726698},{"$f":"IFERROR('Level 2'!AD10/G111*T109,\"*\")","v":74.607154848384312},{"$f":"IFERROR('Level 2'!AE10/H111*U109,\"*\")","v":77.064743793103744},{"$f":"IFERROR('Level 2'!AF10/I111*V109,\"*\")","v":77.331197430042437},{"$f":"IFERROR('Level 2'!AG10/J111*W109,\"*\")","v":76.600013951599095},{"$f":"IFERROR('Level 2'!AH10/K111*X109,\"*\")","v":78.163982717855973},{"$f":"IFERROR('Level 2'!AI10/L111*Y109,\"*\")","v":73.031603473693892},{"$f":"IFERROR('Level 2'!AJ10/M111*Z109,\"*\")","v":68.136983357122105},{"$f":"IFERROR('Level 2'!AK10/N111*AA109,\"*\")","v":70.602190453333336},{"$f":"IFERROR('Level 2'!AL10/O111*AB109,\"*\")","v":"*"},null,{"$f":"'Oversættelse af landenavne'!$B$10","v":"Danmark"},{"$f":"IFERROR('Level 2'!AO10/E111*R109,\"*\")","v":77.380710928275235},{"$f":"IFERROR('Level 2'!AP10/F111*S109,\"*\")","v":80.037667764894593},{"$f":"IFERROR('Level 2'!AQ10/G111*T109,\"*\")","v":73.184472142357919},{"$f":"IFERROR('Level 2'!AR10/H111*U109,\"*\")","v":75.03992130773581},{"$f":"IFERROR('Level 2'!AS10/I111*V109,\"*\")","v":75.276017091880803},{"$f":"IFERROR('Level 2'!AT10/J111*W109,\"*\")","v":74.605832883946434},{"$f":"IFERROR('Level 2'!AU10/K111*X109,\"*\")","v":76.15680884065668},{"$f":"IFERROR('Level 2'!AV10/L111*Y109,\"*\")","v":72.573006277626746},{"$f":"IFERROR('Level 2'!AW10/M111*Z109,\"*\")","v":68.061485314621152},{"$f":"IFERROR('Level 2'!AX10/N111*AA109,\"*\")","v":70.08086626222223},{"$f":"IFERROR('Level 2'!AY10/O111*AB109,\"*\")","v":"*"},null,{"$f":"'Oversættelse af landenavne'!$B$10","v":"Danmark"},{"$f":"IFERROR('Level 2'!BB10/E111*R$109,\"*\")","v":71.557305088747114},{"$f":"IFERROR('Level 2'!BC10/F111*S$109,\"*\")","v":74.73269872839974},{"$f":"IFERROR('Level 2'!BD10/G111*T$109,\"*\")","v":66.740556356238343},{"$f":"IFERROR('Level 2'!BE10/H111*U$109,\"*\")","v":69.086943200754064},{"$f":"IFERROR('Level 2'!BF10/I111*V$109,\"*\")","v":68.465713618364816},{"$f":"IFERROR('Level 2'!BG10/J111*W$109,\"*\")","v":67.567546762819418},{"$f":"IFERROR('Level 2'!BH10/K111*X$109,\"*\")","v":68.822904289351698},{"$f":"IFERROR('Level 2'!BI10/L111*Y$109,\"*\")","v":63.439278789289304},{"$f":"IFERROR('Level 2'!BJ10/M111*Z$109,\"*\")","v":58.20899076824503},{"$f":"IFERROR('Level 2'!BK10/N111*AA$109,\"*\")","v":60.101231746666663},{"$f":"IFERROR('Level 2'!BL10/O111*AB$109,\"*\")","v":"*"},null,{"$f":"'Oversættelse af landenavne'!$B$10","v":"Danmark"},{"$f":"IFERROR('Level 2'!BO10/E111*R$109,\"*\")","v":70.322037183392652},{"$f":"IFERROR('Level 2'!BP10/F111*S$109,\"*\")","v":73.638022578011913},{"$f":"IFERROR('Level 2'!BQ10/G111*T$109,\"*\")","v":65.568935304216609},{"$f":"IFERROR('Level 2'!BR10/H111*U$109,\"*\")","v":68.479496455143689},{"$f":"IFERROR('Level 2'!BS10/I111*V$109,\"*\")","v":67.820951159333717},{"$f":"IFERROR('Level 2'!BT10/J111*W$109,\"*\")","v":66.94192132983035},{"$f":"IFERROR('Level 2'!BU10/K111*X$109,\"*\")","v":68.166712829498081},{"$f":"IFERROR('Level 2'!BV10/L111*Y$109,\"*\")","v":61.795972170048678},{"$f":"IFERROR('Level 2'!BW10/M111*Z$109,\"*\")","v":57.227516215732471},{"$f":"IFERROR('Level 2'!BX10/N111*AA$109,\"*\")","v":58.537259173333332},{"$f":"IFERROR('Level 2'!BY10/O111*AB$109,\"*\")","v":"*"},null,{"$f":"'Oversættelse af landenavne'!$B$10","v":"Danmark"},{"$f":"IFERROR('Level 2'!CB10/E111*R$109,\"*\")","v":"*"},{"$f":"IFERROR('Level 2'!CC10/F111*S$109,\"*\")","v":"*"},{"$f":"IFERROR('Level 2'!CD10/G111*T$109,\"*\")","v":"*"},{"$f":"IFERROR('Level 2'!CE10/H111*U$109,\"*\")","v":"*"},{"$f":"IFERROR('Level 2'!CF10/I111*V$109,\"*\")","v":"*"},{"$f":"IFERROR('Level 2'!CG10/J111*W$109,\"*\")","v":"*"},{"$f":"IFERROR('Level 2'!CH10/K111*X$109,\"*\")","v":"*"},{"$f":"IFERROR('Level 2'!CI10/L111*Y$109,\"*\")","v":"*"},{"$f":"IFERROR('Level 2'!CJ10/M111*Z$109,\"*\")","v":"*"},{"$f":"IFERROR('Level 2'!CK10/N111*AA$109,\"*\")","v":"*"},{"$f":"IFERROR('Level 2'!CL10/O111*AB$109,\"*\")","v":"*"}]
[null,null,null,{"$f":"'Oversættelse af landenavne'!$B$11","v":"Tyskland"},{"$f":"IFERROR('Level 2'!B11/E112*R$109,\"*\")","v":150.07760471966668},{"$f":"IFERROR('Level 2'!C11/F112*S$109,\"*\")","v":153.68052394473526},{"$f":"IFERROR('Level 2'!D11/G112*T$109,\"*\")","v":156.01685326228605},{"$f":"IFERROR('Level 2'!E11/H112*U$109,\"*\")","v":162.04210618181128},{"$f":"IFERROR('Level 2'!F11/I112*V$109,\"*\")","v":172.44478327939342},{"$f":"IFERROR('Level 2'!G11/J112*W$109,\"*\")","v":176.11384775589073},{"$f":"IFERROR('Level 2'!H11/K112*X$109,\"*\")","v":190.01534370796838},{"$f":"IFERROR('Level 2'!I11/L112*Y$109,\"*\")","v":177.29696336501132},{"$f":"IFERROR('Level 2'!J11/M112*Z$109,\"*\")","v":166.91841562579981},{"$f":"IFERROR('Level 2'!K11/N112*AA$109,\"*\")","v":164.0681704311111},{"$f":"IFERROR('Level 2'!L11/O112*AB$109,\"*\")","v":"*"},null,{"$f":"'Oversættelse af landenavne'!$B$11","v":"Tyskland"},{"$f":"IFERROR('Level 2'!O11/E112*R$109,\"*\")","v":105.59262174250294},{"$f":"IFERROR('Level 2'!P11/F112*S$109,\"*\")","v":108.1186681378354},{"$f":"IFERROR('Level 2'!Q11/G112*T$109,\"*\")","v":110.69328778936335},{"$f":"IFERROR('Level 2'!R11/H112*U$109,\"*\")","v":111.8862161731554},{"$f":"IFERROR('Level 2'!S11/I112*V$109,\"*\")","v":119.14142677000993},{"$f":"IFERROR('Level 2'!T11/J112*W$109,\"*\")","v":120.89102285036543},{"$f":"IFERROR('Level 2'!U11/K112*X$109,\"*\")","v":132.26052334133084},{"$f":"IFERROR('Level 2'!V11/L112*Y$109,\"*\")","v":142.2036935952672},{"$f":"IFERROR('Level 2'!W11/M112*Z$109,\"*\")","v":132.46767413590871},{"$f":"IFERROR('Level 2'!X11/N112*AA$109,\"*\")","v":129.95867335555553},{"$f":"IFERROR('Level 2'!Y11/O112*AB$109,\"*\")","v":"*"},null,{"$f":"'Oversættelse af landenavne'!$B$11","v":"Tyskland"},{"$f":"IFERROR('Level 2'!AB11/E112*R109,\"*\")","v":84.835833944833098},{"$f":"IFERROR('Level 2'!AC11/F112*S109,\"*\")","v":90.995608926432567},{"$f":"IFERROR('Level 2'!AD11/G112*T109,\"*\")","v":94.83213237455476},{"$f":"IFERROR('Level 2'!AE11/H112*U109,\"*\")","v":95.831353118275487},{"$f":"IFERROR('Level 2'!AF11/I112*V109,\"*\")","v":102.37367853883916},{"$f":"IFERROR('Level 2'!AG11/J112*W109,\"*\")","v":104.2108147410719},{"$f":"IFERROR('Level 2'!AH11/K112*X109,\"*\")","v":113.88218531400905},{"$f":"IFERROR('Level 2'!AI11/L112*Y109,\"*\")","v":120.97635505529989},{"$f":"IFERROR('Level 2'!AJ11/M112*Z109,\"*\")","v":114.40390039010298},{"$f":"IFERROR('Level 2'!AK11/N112*AA109,\"*\")","v":112.08470108888889},{"$f":"IFERROR('Level 2'!AL11/O112*AB109,\"*\")","v":"*"},null,{"$f":"'Oversættelse af landenavne'!$B$11","v":"Tyskland"},{"$f":"IFERROR('Level 2'!AO11/E112*R109,\"*\")","v":74.931142672086082},{"$f":"IFERROR('Level 2'!AP11/F112*S109,\"*\")","v":81.814916331790144},{"$f":"IFERROR('Level 2'!AQ11/G112*T109,\"*\")","v":84.07667870277163},{"$f":"IFERROR('Level 2'!AR11/H112*U109,\"*\")","v":85.086625647438538},{"$f":"IFERROR('Level 2'!AS11/I112*V109,\"*\")","v":92.880174025602756},{"$f":"IFERROR('Level 2'!AT11/J112*W109,\"*\")","v":93.684469817731298},{"$f":"IFERROR('Level 2'!AU11/K112*X109,\"*\")","v":101.2594823060429},{"$f":"IFERROR('Level 2'!AV11/L112*Y109,\"*\")","v":105.24086006420487},{"$f":"IFERROR('Level 2'!AW11/M112*Z109,\"*\")","v":99.693738647737973},{"$f":"IFERROR('Level 2'!AX11/N112*AA109,\"*\")","v":95.700226511111111},{"$f":"IFERROR('Level 2'!AY11/O112*AB109,\"*\")","v":"*"},null,{"$f":"'Oversættelse af landenavne'!$B$11","v":"Tyskland"},{"$f":"IFERROR('Level 2'!BB11/E112*R$109,\"*\")","v":68.213178156657676},{"$f":"IFERROR('Level 2'!BC11/F112*S$109,\"*\")","v":76.818911524473108},{"$f":"IFERROR('Level 2'!BD11/G112*T$109,\"*\")","v":77.129576331114052},{"$f":"IFERROR('Level 2'!BE11/H112*U$109,\"*\")","v":76.125771849366032},{"$f":"IFERROR('Level 2'!BF11/I112*V$109,\"*\")","v":86.016904529020593},{"$f":"IFERROR('Level 2'!BG11/J112*W$109,\"*\")","v":84.575132864840384},{"$f":"IFERROR('Level 2'!BH11/K112*X$109,\"*\")","v":88.954331575006719},{"$f":"IFERROR('Level 2'!BI11/L112*Y$109,\"*\")","v":88.60953243747818},{"$f":"IFERROR('Level 2'!BJ11/M112*Z$109,\"*\")","v":85.174123041932106},{"$f":"IFERROR('Level 2'!BK11/N112*AA$109,\"*\")","v":76.038857017777772},{"$f":"IFERROR('Level 2'!BL11/O112*AB$109,\"*\")","v":"*"},null,{"$f":"'Oversættelse af landenavne'!$B$11","v":"Tyskland"},{"$f":"IFERROR('Level 2'!BO11/E112*R$109,\"*\")","v":68.083986531360992},{"$f":"IFERROR('Level 2'!BP11/F112*S$109,\"*\")","v":73.103933590827111},{"$f":"IFERROR('Level 2'!BQ11/G112*T$109,\"*\")","v":72.735324830969191},{"$f":"IFERROR('Level 2'!BR11/H112*U$109,\"*\")","v":71.603859516079439},{"$f":"IFERROR('Level 2'!BS11/I112*V$109,\"*\")","v":82.729110758202822},{"$f":"IFERROR('Level 2'!BT11/J112*W$109,\"*\")","v":74.979964607795324},{"$f":"IFERROR('Level 2'!BU11/K112*X$109,\"*\")","v":80.777360444060093},{"$f":"IFERROR('Level 2'!BV11/L112*Y$109,\"*\")","v":81.637617577562324},{"$f":"IFERROR('Level 2'!BW11/M112*Z$109,\"*\")","v":74.351102485373389},{"$f":"IFERROR('Level 2'!BX11/N112*AA$109,\"*\")","v":59.282008017777784},{"$f":"IFERROR('Level 2'!BY11/O112*AB$109,\"*\")","v":"*"},null,{"$f":"'Oversættelse af landenavne'!$B$11","v":"Tyskland"},{"$f":"IFERROR('Level 2'!CB11/E112*R$109,\"*\")","v":"*"},{"$f":"IFERROR('Level 2'!CC11/F112*S$109,\"*\")","v":"*"},{"$f":"IFERROR('Level 2'!CD11/G112*T$109,\"*\")","v":"*"},{"$f":"IFERROR('Level 2'!CE11/H112*U$109,\"*\")","v":"*"},{"$f":"IFERROR('Level 2'!CF11/I112*V$109,\"*\")","v":"*"},{"$f":"IFERROR('Level 2'!CG11/J112*W$109,\"*\")","v":"*"},{"$f":"IFERROR('Level 2'!CH11/K112*X$109,\"*\")","v":"*"},{"$f":"IFERROR('Level 2'!CI11/L112*Y$109,\"*\")","v":"*"},{"$f":"IFERROR('Level 2'!CJ11/M112*Z$109,\"*\")","v":"*"},{"$f":"IFERROR('Level 2'!CK11/N112*AA$109,\"*\")","v":"*"},{"$f":"IFERROR('Level 2'!CL11/O112*AB$109,\"*\")","v":"*"}]
[null,null,null,{"$f":"'Oversættelse af landenavne'!$B$16","v":"Frankrig"},{"$f":"IFERROR('Level 2'!B16/E113*R$109,\"*\")","v":86.378950105118292},{"$f":"IFERROR('Level 2'!C16/F113*S$109,\"*\")","v":86.638672195329377},{"$f":"IFERROR('Level 2'!D16/G113*T$109,\"*\")","v":88.997363937708442},{"$f":"IFERROR('Level 2'!E16/H113*U$109,\"*\")","v":94.090088586711275},{"$f":"IFERROR('Level 2'!F16/I113*V$109,\"*\")","v":99.388030477102674},{"$f":"IFERROR('Level 2'!G16/J113*W$109,\"*\")","v":100.51808301426412},{"$f":"IFERROR('Level 2'!H16/K113*X$109,\"*\")","v":105.0360257512809},{"$f":"IFERROR('Level 2'!I16/L113*Y$109,\"*\")","v":106.96119049494285},{"$f":"IFERROR('Level 2'!J16/M113*Z$109,\"*\")","v":113.71397769037225},{"$f":"IFERROR('Level 2'!K16/N113*AA$109,\"*\")","v":109.18018059555556},{"$f":"IFERROR('Level 2'!L16/O113*AB$109,\"*\")","v":"*"},null,{"$f":"'Oversættelse af landenavne'!$B$16","v":"Frankrig"},{"$f":"IFERROR('Level 2'!O16/E113*R$109,\"*\")","v":60.100283594265406},{"$f":"IFERROR('Level 2'!P16/F113*S$109,\"*\")","v":65.433956078116339},{"$f":"IFERROR('Level 2'!Q16/G113*T$109,\"*\")","v":69.627813541691211},{"$f":"IFERROR('Level 2'!R16/H113*U$109,\"*\")","v":71.505341409336225},{"$f":"IFERROR('Level 2'!S16/I113*V$109,\"*\")","v":77.699129027660618},{"$f":"IFERROR('Level 2'!T16/J113*W$109,\"*\")","v":78.112290477189561},{"$f":"IFERROR('Level 2'!U16/K113*X$109,\"*\")","v":84.994492928252825},{"$f":"IFERROR('Level 2'!V16/L113*Y$109,\"*\")","v":88.472184709388443},{"$f":"IFERROR('Level 2'!W16/M113*Z$109,\"*\")","v":90.72963902013106},{"$f":"IFERROR('Level 2'!X16/N113*AA$109,\"*\")","v":89.071961795555552},{"$f":"IFERROR('Level 2'!Y16/O113*AB$109,\"*\")","v":"*"},null,{"$f":"'Oversættelse af landenavne'!$B$16","v":"Frankrig"},{"$f":"IFERROR('Level 2'!AB16/E113*R109,\"*\")","v":46.555415361819627},{"$f":"IFERROR('Level 2'!AC16/F113*S109,\"*\")","v":50.163395590720384},{"$f":"IFERROR('Level 2'!AD16/G113*T109,\"*\")","v":54.163732573791521},{"$f":"IFERROR('Level 2'!AE16/H113*U109,\"*\")","v":58.376491839097433},{"$f":"IFERROR('Level 2'!AF16/I113*V109,\"*\")","v":64.405931365099377},{"$f":"IFERROR('Level 2'!AG16/J113*W109,\"*\")","v":67.140381760580865},{"$f":"IFERROR('Level 2'!AH16/K113*X109,\"*\")","v":69.857962402256504},{"$f":"IFERROR('Level 2'!AI16/L113*Y109,\"*\")","v":73.230215063859077},{"$f":"IFERROR('Level 2'!AJ16/M113*Z109,\"*\")","v":73.859360882860429},{"$f":"IFERROR('Level 2'!AK16/N113*AA109,\"*\")","v":73.953560253333336},{"$f":"IFERROR('Level 2'!AL16/O113*AB109,\"*\")","v":"*"},null,{"$f":"'Oversættelse af landenavne'!$B$16","v":"Frankrig"},{"$f":"IFERROR('Level 2'!AO16/E113*R109,\"*\")","v":42.905600568645617},{"$f":"IFERROR('Level 2'!AP16/F113*S109,\"*\")","v":45.297387974270379},{"$f":"IFERROR('Level 2'!AQ16/G113*T109,\"*\")","v":51.205043613096429},{"$f":"IFERROR('Level 2'!AR16/H113*U109,\"*\")","v":51.655771225760923},{"$f":"IFERROR('Level 2'!AS16/I113*V109,\"*\")","v":56.049096577231921},{"$f":"IFERROR('Level 2'!AT16/J113*W109,\"*\")","v":58.170365160686757},{"$f":"IFERROR('Level 2'!AU16/K113*X109,\"*\")","v":60.43116111264866},{"$f":"IFERROR('Level 2'!AV16/L113*Y109,\"*\")","v":62.916100266132453},{"$f":"IFERROR('Level 2'!AW16/M113*Z109,\"*\")","v":65.254386799420374},{"$f":"IFERROR('Level 2'!AX16/N113*AA109,\"*\")","v":62.186528511111113},{"$f":"IFERROR('Level 2'!AY16/O113*AB109,\"*\")","v":"*"},null,{"$f":"'Oversættelse af landenavne'!$B$16","v":"Frankrig"},{"$f":"IFERROR('Level 2'!BB16/E113*R$109,\"*\")","v":44.852168458338426},{"$f":"IFERROR('Level 2'!BC16/F113*S$109,\"*\")","v":48.462270976839491},{"$f":"IFERROR('Level 2'!BD16/G113*T$109,\"*\")","v":52.980256989513499},{"$f":"IFERROR('Level 2'!BE16/H113*U$109,\"*\")","v":50.639848342349588},{"$f":"IFERROR('Level 2'!BF16/I113*V$109,\"*\")","v":52.317672671951577},{"$f":"IFERROR('Level 2'!BG16/J113*W$109,\"*\")","v":53.743103748721836},{"$f":"IFERROR('Level 2'!BH16/K113*X$109,\"*\")","v":54.568150554477931},{"$f":"IFERROR('Level 2'!BI16/L113*Y$109,\"*\")","v":55.65801948254704},{"$f":"IFERROR('Level 2'!BJ16/M113*Z$109,\"*\")","v":56.649412715980333},{"$f":"IFERROR('Level 2'!BK16/N113*AA$109,\"*\")","v":52.653743302222225},{"$f":"IFERROR('Level 2'!BL16/O113*AB$109,\"*\")","v":"*"},null,{"$f":"'Oversættelse af landenavne'!$B$16","v":"Frankrig"},{"$f":"IFERROR('Level 2'!BO16/E113*R$109,\"*\")","v":41.851209628395345},{"$f":"IFERROR('Level 2'!BP16/F113*S$109,\"*\")","v":45.257826936738269},{"$f":"IFERROR('Level 2'!BQ16/G113*T$109,\"*\")","v":45.169318133278438},{"$f":"IFERROR('Level 2'!BR16/H113*U$109,\"*\")","v":45.599307882347198},{"$f":"IFERROR('Level 2'!BS16/I113*V$109,\"*\")","v":46.292977824884346},{"$f":"IFERROR('Level 2'!BT16/J113*W$109,\"*\")","v":47.275452294720928},{"$f":"IFERROR('Level 2'!BU16/K113*X$109,\"*\")","v":46.329279508682454},{"$f":"IFERROR('Level 2'!BV16/L113*Y$109,\"*\")","v":46.413516589769834},{"$f":"IFERROR('Level 2'!BW16/M113*Z$109,\"*\")","v":45.930936226081322},{"$f":"IFERROR('Level 2'!BX16/N113*AA$109,\"*\")","v":48.18525023555555},{"$f":"IFERROR('Level 2'!BY16/O113*AB$109,\"*\")","v":"*"},null,{"$f":"'Oversættelse af landenavne'!$B$16","v":"Frankrig"},{"$f":"IFERROR('Level 2'!CB16/E113*R$109,\"*\")","v":"*"},{"$f":"IFERROR('Level 2'!CC16/F113*S$109,\"*\")","v":"*"},{"$f":"IFERROR('Level 2'!CD16/G113*T$109,\"*\")","v":"*"},{"$f":"IFERROR('Level 2'!CE16/H113*U$109,\"*\")","v":"*"},{"$f":"IFERROR('Level 2'!CF16/I113*V$109,\"*\")","v":"*"},{"$f":"IFERROR('Level 2'!CG16/J113*W$109,\"*\")","v":"*"},{"$f":"IFERROR('Level 2'!CH16/K113*X$109,\"*\")","v":"*"},{"$f":"IFERROR('Level 2'!CI16/L113*Y$109,\"*\")","v":"*"},{"$f":"IFERROR('Level 2'!CJ16/M113*Z$109,\"*\")","v":"*"},{"$f":"IFERROR('Level 2'!CK16/N113*AA$109,\"*\")","v":"*"},{"$f":"IFERROR('Level 2'!CL16/O113*AB$109,\"*\")","v":"*"}]
[null,null,null,{"$f":"'Oversættelse af landenavne'!$B$18","v":"Italien"},{"$f":"IFERROR('Level 2'!B18/E114*R$109,\"*\")","v":"*"},{"$f":"IFERROR('Level 2'!C18/F114*S$109,\"*\")","v":177.73385362542089},{"$f":"IFERROR('Level 2'!D18/G114*T$109,\"*\")","v":186.78723997075181},{"$f":"IFERROR('Level 2'!E18/H114*U$109,\"*\")","v":189.97789740214839},{"$f":"IFERROR('Level 2'!F18/I114*V$109,\"*\")","v":185.19801809847644},{"$f":"IFERROR('Level 2'!G18/J114*W$109,\"*\")","v":187.39963319995351},{"$f":"IFERROR('Level 2'!H18/K114*X$109,\"*\")","v":205.1148690534223},{"$f":"IFERROR('Level 2'!I18/L114*Y$109,\"*\")","v":198.64398198301774},{"$f":"IFERROR('Level 2'!J18/M114*Z$109,\"*\")","v":202.13954515584894},{"$f":"IFERROR('Level 2'!K18/N114*AA$109,\"*\")","v":200.78428846222224},{"$f":"IFERROR('Level 2'!L18/O114*AB$109,\"*\")","v":"*"},null,{"$f":"'Oversættelse af landenavne'!$B$18","v":"Italien"},{"$f":"IFERROR('Level 2'!O18/E114*R$109,\"*\")","v":"*"},{"$f":"IFERROR('Level 2'!P18/F114*S$109,\"*\")","v":126.54554023657707},{"$f":"IFERROR('Level 2'!Q18/G114*T$109,\"*\")","v":124.73442029605854},{"$f":"IFERROR('Level 2'!R18/H114*U$109,\"*\")","v":121.20298368368454},{"$f":"IFERROR('Level 2'!S18/I114*V$109,\"*\")","v":139.79337794702224},{"$f":"IFERROR('Level 2'!T18/J114*W$109,\"*\")","v":148.12541379088171},{"$f":"IFERROR('Level 2'!U18/K114*X$109,\"*\")","v":149.83595467814078},{"$f":"IFERROR('Level 2'!V18/L114*Y$109,\"*\")","v":149.63679467066478},{"$f":"IFERROR('Level 2'!W18/M114*Z$109,\"*\")","v":141.12550725591535},{"$f":"IFERROR('Level 2'!X18/N114*AA$109,\"*\")","v":133.83136734666667},{"$f":"IFERROR('Level 2'!Y18/O114*AB$109,\"*\")","v":"*"},null,{"$f":"'Oversættelse af landenavne'!$B$18","v":"Italien"},{"$f":"IFERROR('Level 2'!AB18/E114*R109,\"*\")","v":"*"},{"$f":"IFERROR('Level 2'!AC18/F114*S109,\"*\")","v":115.82610519750153},{"$f":"IFERROR('Level 2'!AD18/G114*T109,\"*\")","v":114.0058453934675},{"$f":"IFERROR('Level 2'!AE18/H114*U109,\"*\")","v":111.55243737152897},{"$f":"IFERROR('Level 2'!AF18/I114*V109,\"*\")","v":123.8414478166913},{"$f":"IFERROR('Level 2'!AG18/J114*W109,\"*\")","v":131.91517225047068},{"$f":"IFERROR('Level 2'!AH18/K114*X109,\"*\")","v":129.45399796499424},{"$f":"IFERROR('Level 2'!AI18/L114*Y109,\"*\")","v":130.95114629866939},{"$f":"IFERROR('Level 2'!AJ18/M114*Z109,\"*\")","v":120.48674767054042},{"$f":"IFERROR('Level 2'!AK18/N114*AA109,\"*\")","v":113.64867366222224},{"$f":"IFERROR('Level 2'!AL18/O114*AB109,\"*\")","v":"*"},null,{"$f":"'Oversættelse af landenavne'!$B$18","v":"Italien"},{"$f":"IFERROR('Level 2'!AO18/E114*R109,\"*\")","v":"*"},{"$f":"IFERROR('Level 2'!AP18/F114*S109,\"*\")","v":107.15420269397976},{"$f":"IFERROR('Level 2'!AQ18/G114*T109,\"*\")","v":100.48705504001943},{"$f":"IFERROR('Level 2'!AR18/H114*U109,\"*\")","v":98.750692263567487},{"$f":"IFERROR('Level 2'!AS18/I114*V109,\"*\")","v":104.58241022031611},{"$f":"IFERROR('Level 2'!AT18/J114*W109,\"*\")","v":127.33317998607897},{"$f":"IFERROR('Level 2'!AU18/K114*X109,\"*\")","v":119.16777682004178},{"$f":"IFERROR('Level 2'!AV18/L114*Y109,\"*\")","v":118.02659032534197},{"$f":"IFERROR('Level 2'!AW18/M114*Z109,\"*\")","v":111.80267942969959},{"$f":"IFERROR('Level 2'!AX18/N114*AA109,\"*\")","v":104.71168752888889},{"$f":"IFERROR('Level 2'!AY18/O114*AB109,\"*\")","v":"*"},null,{"$f":"'Oversættelse af landenavne'!$B$18","v":"Italien"},{"$f":"IFERROR('Level 2'!BB18/E114*R$109,\"*\")","v":"*"},{"$f":"IFERROR('Level 2'!BC18/F114*S$109,\"*\")","v":96.073438383924142},{"$f":"IFERROR('Level 2'!BD18/G114*T$109,\"*\")","v":87.164758732406384},{"$f":"IFERROR('Level 2'!BE18/H114*U$109,\"*\")","v":87.170036688980787},{"$f":"IFERROR('Level 2'!BF18/I114*V$109,\"*\")","v":95.789395075304412},{"$f":"IFERROR('Level 2'!BG18/J114*W$109,\"*\")","v":102.34399528364011},{"$f":"IFERROR('Level 2'!BH18/K114*X$109,\"*\")","v":102.90030856487624},{"$f":"IFERROR('Level 2'!BI18/L114*Y$109,\"*\")","v":103.24484009191762},{"$f":"IFERROR('Level 2'!BJ18/M114*Z$109,\"*\")","v":95.186410328177331},{"$f":"IFERROR('Level 2'!BK18/N114*AA$109,\"*\")","v":91.231733444444444},{"$f":"IFERROR('Level 2'!BL18/O114*AB$109,\"*\")","v":"*"},null,{"$f":"'Oversættelse af landenavne'!$B$18","v":"Italien"},{"$f":"IFERROR('Level 2'!BO18/E114*R$109,\"*\")","v":"*"},{"$f":"IFERROR('Level 2'!BP18/F114*S$109,\"*\")","v":86.719025035217783},{"$f":"IFERROR('Level 2'!BQ18/G114*T$109,\"*\")","v":73.410175523956326},{"$f":"IFERROR('Level 2'!BR18/H114*U$109,\"*\")","v":79.370819669361182},{"$f":"IFERROR('Level 2'!BS18/I114*V$109,\"*\")","v":78.397900518577742},{"$f":"IFERROR('Level 2'!BT18/J114*W$109,\"*\")","v":90.600233597594141},{"$f":"IFERROR('Level 2'!BU18/K114*X$109,\"*\")","v":87.54717107815091},{"$f":"IFERROR('Level 2'!BV18/L114*Y$109,\"*\")","v":83.460035933334296},{"$f":"IFERROR('Level 2'!BW18/M114*Z$109,\"*\")","v":79.284415237806471},{"$f":"IFERROR('Level 2'!BX18/N114*AA$109,\"*\")","v":67.697669959999999},{"$f":"IFERROR('Level 2'!BY18/O114*AB$109,\"*\")","v":"*"},null,{"$f":"'Oversættelse af landenavne'!$B$18","v":"Italien"},{"$f":"IFERROR('Level 2'!CB18/E114*R$109,\"*\")","v":"*"},{"$f":"IFERROR('Level 2'!CC18/F114*S$109,\"*\")","v":77.163873202633596},{"$f":"IFERROR('Level 2'!CD18/G114*T$109,\"*\")","v":70.502063645598312},{"$f":"IFERROR('Level 2'!CE18/H114*U$109,\"*\")","v":80.394959277998097},{"$f":"IFERROR('Level 2'!CF18/I114*V$109,\"*\")","v":70.694285480027659},{"$f":"IFERROR('Level 2'!CG18/J114*W$109,\"*\")","v":74.967554107316531},{"$f":"IFERROR('Level 2'!CH18/K114*X$109,\"*\")","v":77.527629740660188},{"$f":"IFERROR('Level 2'!CI18/L114*Y$109,\"*\")","v":66.025151042628679},{"$f":"IFERROR('Level 2'!CJ18/M114*Z$109,\"*\")","v":64.961341645770318},{"$f":"IFERROR('Level 2'!CK18/N114*AA$109,\"*\")","v":55.558263795555554},{"$f":"IFERROR('Level 2'!CL18/O114*AB$109,\"*\")","v":"*"}]
[null,null,null,{"$f":"'Oversættelse af landenavne'!$B$25","v":"Holland"},{"$f":"IFERROR('Level 2'!B25/E115*R$109,\"*\")","v":115.54126889817779},{"$f":"IFERROR('Level 2'!C25/F115*S$109,\"*\")","v":124.586307603542},{"$f":"IFERROR('Level 2'!D25/G115*T$109,\"*\")","v":138.85182192053591},{"$f":"IFERROR('Level 2'!E25/H115*U$109,\"*\")","v":132.99385574090297},{"$f":"IFERROR('Level 2'!F25/I115*V$109,\"*\")","v":118.84861542912218},{"$f":"IFERROR('Level 2'!G25/J115*W$109,\"*\")","v":123.56671699308799},{"$f":"IFERROR('Level 2'!H25/K115*X$109,\"*\")","v":123.71932291724819},{"$f":"IFERROR('Level 2'!I25/L115*Y$109,\"*\")","v":129.52675579094051},{"$f":"IFERROR('Level 2'!J25/M115*Z$109,\"*\")","v":134.47904068390216},{"$f":"IFERROR('Level 2'!K25/N115*AA$109,\"*\")","v":102.40296611111111},{"$f":"IFERROR('Level 2'!L25/O115*AB$109,\"*\")","v":"*"},null,{"$f":"'Oversættelse af landenavne'!$B$25","v":"Holland"},{"$f":"IFERROR('Level 2'!O25/E115*R$109,\"*\")","v":102.36410053983205},{"$f":"IFERROR('Level 2'!P25/F115*S$109,\"*\")","v":96.264105434222941},{"$f":"IFERROR('Level 2'!Q25/G115*T$109,\"*\")","v":109.83159584825512},{"$f":"IFERROR('Level 2'!R25/H115*U$109,\"*\")","v":100.63666764543268},{"$f":"IFERROR('Level 2'!S25/I115*V$109,\"*\")","v":96.419232008828274},{"$f":"IFERROR('Level 2'!T25/J115*W$109,\"*\")","v":96.382801776774599},{"$f":"IFERROR('Level 2'!U25/K115*X$109,\"*\")","v":97.806934830010988},{"$f":"IFERROR('Level 2'!V25/L115*Y$109,\"*\")","v":95.563635522502068},{"$f":"IFERROR('Level 2'!W25/M115*Z$109,\"*\")","v":93.112403482724119},{"$f":"IFERROR('Level 2'!X25/N115*AA$109,\"*\")","v":102.77534053333335},{"$f":"IFERROR('Level 2'!Y25/O115*AB$109,\"*\")","v":"*"},null,{"$f":"'Oversættelse af landenavne'!$B$25","v":"Holland"},{"$f":"IFERROR('Level 2'!AB25/E115*R109,\"*\")","v":82.397476533436247},{"$f":"IFERROR('Level 2'!AC25/F115*S109,\"*\")","v":81.946094642254167},{"$f":"IFERROR('Level 2'!AD25/G115*T109,\"*\")","v":84.795303907027687},{"$f":"IFERROR('Level 2'!AE25/H115*U109,\"*\")","v":76.804726712840818},{"$f":"IFERROR('Level 2'!AF25/I115*V109,\"*\")","v":75.035778385335604},{"$f":"IFERROR('Level 2'!AG25/J115*W109,\"*\")","v":73.735893447896387},{"$f":"IFERROR('Level 2'!AH25/K115*X109,\"*\")","v":71.7048513687823},{"$f":"IFERROR('Level 2'!AI25/L115*Y109,\"*\")","v":68.603996817178384},{"$f":"IFERROR('Level 2'!AJ25/M115*Z109,\"*\")","v":65.497175568531901},{"$f":"IFERROR('Level 2'!AK25/N115*AA109,\"*\")","v":63.824975968888886},{"$f":"IFERROR('Level 2'!AL25/O115*AB109,\"*\")","v":"*"},null,{"$f":"'Oversættelse af landenavne'!$B$25","v":"Holland"},{"$f":"IFERROR('Level 2'!AO25/E115*R109,\"*\")","v":70.827279926108289},{"$f":"IFERROR('Level 2'!AP25/F115*S109,\"*\")","v":71.315461972052702},{"$f":"IFERROR('Level 2'!AQ25/G115*T109,\"*\")","v":76.593086578388437},{"$f":"IFERROR('Level 2'!AR25/H115*U109,\"*\")","v":69.015750895847361},{"$f":"IFERROR('Level 2'!AS25/I115*V109,\"*\")","v":67.404364682748565},{"$f":"IFERROR('Level 2'!AT25/J115*W109,\"*\")","v":65.424401838981495},{"$f":"IFERROR('Level 2'!AU25/K115*X109,\"*\")","v":66.317502747424058},{"$f":"IFERROR('Level 2'!AV25/L115*Y109,\"*\")","v":62.730109054565965},{"$f":"IFERROR('Level 2'!AW25/M115*Z109,\"*\")","v":60.476225038678763},{"$f":"IFERROR('Level 2'!AX25/N115*AA109,\"*\")","v":57.643560559999997},{"$f":"IFERROR('Level 2'!AY25/O115*AB109,\"*\")","v":"*"},null,{"$f":"'Oversættelse af landenavne'!$B$25","v":"Holland"},{"$f":"IFERROR('Level 2'!BB25/E115*R$109,\"*\")","v":64.720787272240756},{"$f":"IFERROR('Level 2'!BC25/F115*S$109,\"*\")","v":66.098214204020223},{"$f":"IFERROR('Level 2'!BD25/G115*T$109,\"*\")","v":68.273694716482922},{"$f":"IFERROR('Level 2'!BE25/H115*U$109,\"*\")","v":57.119155991285254},{"$f":"IFERROR('Level 2'!BF25/I115*V$109,\"*\")","v":56.131565761668206},{"$f":"IFERROR('Level 2'!BG25/J115*W$109,\"*\")","v":55.206604815177855},{"$f":"IFERROR('Level 2'!BH25/K115*X$109,\"*\")","v":58.691748712966259},{"$f":"IFERROR('Level 2'!BI25/L115*Y$109,\"*\")","v":53.354480510396144},{"$f":"IFERROR('Level 2'!BJ25/M115*Z$109,\"*\")","v":50.246975078604855},{"$f":"IFERROR('Level 2'!BK25/N115*AA$109,\"*\")","v":49.227898617777782},{"$f":"IFERROR('Level 2'!BL25/O115*AB$109,\"*\")","v":"*"},null,{"$f":"'Oversættelse af landenavne'!$B$25","v":"Holland"},{"$f":"IFERROR('Level 2'!BO25/E115*R$109,\"*\")","v":57.931331624190662},{"$f":"IFERROR('Level 2'!BP25/F115*S$109,\"*\")","v":61.861652106670569},{"$f":"IFERROR('Level 2'!BQ25/G115*T$109,\"*\")","v":65.10998231829349},{"$f":"IFERROR('Level 2'!BR25/H115*U$109,\"*\")","v":56.615391386206078},{"$f":"IFERROR('Level 2'!BS25/I115*V$109,\"*\")","v":56.945066714735859},{"$f":"IFERROR('Level 2'!BT25/J115*W$109,\"*\")","v":53.643434374969083},{"$f":"IFERROR('Level 2'!BU25/K115*X$109,\"*\")","v":57.705332768210525},{"$f":"IFERROR('Level 2'!BV25/L115*Y$109,\"*\")","v":54.521727437581937},{"$f":"IFERROR('Level 2'!BW25/M115*Z$109,\"*\")","v":51.708296501472553},{"$f":"IFERROR('Level 2'!BX25/N115*AA$109,\"*\")","v":46.248903240000004},{"$f":"IFERROR('Level 2'!BY25/O115*AB$109,\"*\")","v":"*"},null,{"$f":"'Oversættelse af landenavne'!$B$25","v":"Holland"},{"$f":"IFERROR('Level 2'!CB25/E115*R$109,\"*\")","v":"*"},{"$f":"IFERROR('Level 2'!CC25/F115*S$109,\"*\")","v":"*"},{"$f":"IFERROR('Level 2'!CD25/G115*T$109,\"*\")","v":50.111642060210286},{"$f":"IFERROR('Level 2'!CE25/H115*U$109,\"*\")","v":49.058922310018403},{"$f":"IFERROR('Level 2'!CF25/I115*V$109,\"*\")","v":49.933463262105114},{"$f":"IFERROR('Level 2'!CG25/J115*W$109,\"*\")","v":47.085743747751827},{"$f":"IFERROR('Level 2'!CH25/K115*X$109,\"*\")","v":56.036013477085426},{"$f":"IFERROR('Level 2'!CI25/L115*Y$109,\"*\")","v":49.400902208637774},{"$f":"IFERROR('Level 2'!CJ25/M115*Z$109,\"*\")","v":49.085411896325397},{"$f":"IFERROR('Level 2'!CK25/N115*AA$109,\"*\")","v":43.5678074},{"$f":"IFERROR('Level 2'!CL25/O115*AB$109,\"*\")","v":"*"}]
[null,null,null,{"$f":"'Oversættelse af landenavne'!$B$33","v":"Sverige"},{"$f":"IFERROR('Level 2'!B33/E116*R$109,\"*\")","v":80.228790573250961},{"$f":"IFERROR('Level 2'!C33/F116*S$109,\"*\")","v":96.978955102268898},{"$f":"IFERROR('Level 2'!D33/G116*T$109,\"*\")","v":104.80741224266757},{"$f":"IFERROR('Level 2'!E33/H116*U$109,\"*\")","v":113.97142783707487},{"$f":"IFERROR('Level 2'!F33/I116*V$109,\"*\")","v":116.98755254767445},{"$f":"IFERROR('Level 2'!G33/J116*W$109,\"*\")","v":124.81552343493993},{"$f":"IFERROR('Level 2'!H33/K116*X$109,\"*\")","v":105.31604676827261},{"$f":"IFERROR('Level 2'!I33/L116*Y$109,\"*\")","v":100.93894308918357},{"$f":"IFERROR('Level 2'!J33/M116*Z$109,\"*\")","v":100.58913789282046},{"$f":"IFERROR('Level 2'!K33/N116*AA$109,\"*\")","v":93.019130671111114},{"$f":"IFERROR('Level 2'!L33/O116*AB$109,\"*\")","v":"*"},null,{"$f":"'Oversættelse af landenavne'!$B$33","v":"Sverige"},{"$f":"IFERROR('Level 2'!O33/E116*R$109,\"*\")","v":62.204558626282342},{"$f":"IFERROR('Level 2'!P33/F116*S$109,\"*\")","v":70.457319119952757},{"$f":"IFERROR('Level 2'!Q33/G116*T$109,\"*\")","v":70.114112658652232},{"$f":"IFERROR('Level 2'!R33/H116*U$109,\"*\")","v":74.941780790914947},{"$f":"IFERROR('Level 2'!S33/I116*V$109,\"*\")","v":73.809061830953397},{"$f":"IFERROR('Level 2'!T33/J116*W$109,\"*\")","v":66.055437604891523},{"$f":"IFERROR('Level 2'!U33/K116*X$109,\"*\")","v":62.549192641426792},{"$f":"IFERROR('Level 2'!V33/L116*Y$109,\"*\")","v":58.477000508726434},{"$f":"IFERROR('Level 2'!W33/M116*Z$109,\"*\")","v":52.663113768021894},{"$f":"IFERROR('Level 2'!X33/N116*AA$109,\"*\")","v":53.249542377777772},{"$f":"IFERROR('Level 2'!Y33/O116*AB$109,\"*\")","v":"*"},null,{"$f":"'Oversættelse af landenavne'!$B$33","v":"Sverige"},{"$f":"IFERROR('Level 2'!AB33/E116*R109,\"*\")","v":53.569694019129948},{"$f":"IFERROR('Level 2'!AC33/F116*S109,\"*\")","v":61.813542686924443},{"$f":"IFERROR('Level 2'!AD33/G116*T109,\"*\")","v":61.656768330176675},{"$f":"IFERROR('Level 2'!AE33/H116*U109,\"*\")","v":66.6419077157461},{"$f":"IFERROR('Level 2'!AF33/I116*V109,\"*\")","v":65.241600108408207},{"$f":"IFERROR('Level 2'!AG33/J116*W109,\"*\")","v":57.243230510526551},{"$f":"IFERROR('Level 2'!AH33/K116*X109,\"*\")","v":55.18418531675367},{"$f":"IFERROR('Level 2'!AI33/L116*Y109,\"*\")","v":50.469471544591784},{"$f":"IFERROR('Level 2'!AJ33/M116*Z109,\"*\")","v":44.854317559270939},{"$f":"IFERROR('Level 2'!AK33/N116*AA109,\"*\")","v":45.876528817777782},{"$f":"IFERROR('Level 2'!AL33/O116*AB109,\"*\")","v":"*"},null,{"$f":"'Oversættelse af landenavne'!$B$33","v":"Sverige"},{"$f":"IFERROR('Level 2'!AO33/E116*R109,\"*\")","v":46.360001240342513},{"$f":"IFERROR('Level 2'!AP33/F116*S109,\"*\")","v":55.06718059285356},{"$f":"IFERROR('Level 2'!AQ33/G116*T109,\"*\")","v":54.19975505130575},{"$f":"IFERROR('Level 2'!AR33/H116*U109,\"*\")","v":58.868368055100134},{"$f":"IFERROR('Level 2'!AS33/I116*V109,\"*\")","v":56.749956631195289},{"$f":"IFERROR('Level 2'!AT33/J116*W109,\"*\")","v":50.056225544220695},{"$f":"IFERROR('Level 2'!AU33/K116*X109,\"*\")","v":48.459613411617333},{"$f":"IFERROR('Level 2'!AV33/L116*Y109,\"*\")","v":45.290289966871661},{"$f":"IFERROR('Level 2'!AW33/M116*Z109,\"*\")","v":39.229023607943226},{"$f":"IFERROR('Level 2'!AX33/N116*AA109,\"*\")","v":39.546163640000003},{"$f":"IFERROR('Level 2'!AY33/O116*AB109,\"*\")","v":"*"},null,{"$f":"'Oversættelse af landenavne'!$B$33","v":"Sverige"},{"$f":"IFERROR('Level 2'!BB33/E116*R$109,\"*\")","v":41.832984844359693},{"$f":"IFERROR('Level 2'!BC33/F116*S$109,\"*\")","v":49.543596628333027},{"$f":"IFERROR('Level 2'!BD33/G116*T$109,\"*\")","v":49.425447769101801},{"$f":"IFERROR('Level 2'!BE33/H116*U$109,\"*\")","v":56.398649725415737},{"$f":"IFERROR('Level 2'!BF33/I116*V$109,\"*\")","v":50.532860513950105},{"$f":"IFERROR('Level 2'!BG33/J116*W$109,\"*\")","v":43.699879443367273},{"$f":"IFERROR('Level 2'!BH33/K116*X$109,\"*\")","v":43.193811073203705},{"$f":"IFERROR('Level 2'!BI33/L116*Y$109,\"*\")","v":39.890717683716645},{"$f":"IFERROR('Level 2'!BJ33/M116*Z$109,\"*\")","v":34.269882887693804},{"$f":"IFERROR('Level 2'!BK33/N116*AA$109,\"*\")","v":34.481871497777782},{"$f":"IFERROR('Level 2'!BL33/O116*AB$109,\"*\")","v":"*"},null,{"$f":"'Oversættelse af landenavne'!$B$33","v":"Sverige"},{"$f":"IFERROR('Level 2'!BO33/E116*R$109,\"*\")","v":40.868898019289283},{"$f":"IFERROR('Level 2'!BP33/F116*S$109,\"*\")","v":49.880914733036576},{"$f":"IFERROR('Level 2'!BQ33/G116*T$109,\"*\")","v":45.333184384355569},{"$f":"IFERROR('Level 2'!BR33/H116*U$109,\"*\")","v":52.916751752418065},{"$f":"IFERROR('Level 2'!BS33/I116*V$109,\"*\")","v":46.590311756672683},{"$f":"IFERROR('Level 2'!BT33/J116*W$109,\"*\")","v":37.162955328285065},{"$f":"IFERROR('Level 2'!BU33/K116*X$109,\"*\")","v":38.354965681147938},{"$f":"IFERROR('Level 2'!BV33/L116*Y$109,\"*\")","v":34.858463242953135},{"$f":"IFERROR('Level 2'!BW33/M116*Z$109,\"*\")","v":28.200486782313906},{"$f":"IFERROR('Level 2'!BX33/N116*AA$109,\"*\")","v":28.598355626666663},{"$f":"IFERROR('Level 2'!BY33/O116*AB$109,\"*\")","v":"*"},null,{"$f":"'Oversættelse af landenavne'!$B$33","v":"Sverige"},{"$f":"IFERROR('Level 2'!CB33/E116*R$109,\"*\")","v":"*"},{"$f":"IFERROR('Level 2'!CC33/F116*S$109,\"*\")","v":"*"},{"$f":"IFERROR('Level 2'!CD33/G116*T$109,\"*\")","v":"*"},{"$f":"IFERROR('Level 2'!CE33/H116*U$109,\"*\")","v":"*"},{"$f":"IFERROR('Level 2'!CF33/I116*V$109,\"*\")","v":"*"},{"$f":"IFERROR('Level 2'!CG33/J116*W$109,\"*\")","v":"*"},{"$f":"IFERROR('Level 2'!CH33/K116*X$109,\"*\")","v":"*"},{"$f":"IFERROR('Level 2'!CI33/L116*Y$109,\"*\")","v":"*"},{"$f":"IFERROR('Level 2'!CJ33/M116*Z$109,\"*\")","v":"*"},{"$f":"IFERROR('Level 2'!CK33/N116*AA$109,\"*\")","v":"*"},{"$f":"IFERROR('Level 2'!CL33/O116*AB$109,\"*\")","v":"*"}]
[null,null,null,{"$f":"'Oversættelse af landenavne'!$B$34","v":"UK"},{"$f":"IFERROR('Level 2'!B34/E117*R$109,\"*\")","v":130.6689428320897},{"$f":"IFERROR('Level 2'!C34/F117*S$109,\"*\")","v":136.16538443045494},{"$f":"IFERROR('Level 2'!D34/G117*T$109,\"*\")","v":152.66126656501325},{"$f":"IFERROR('Level 2'!E34/H117*U$109,\"*\")","v":151.10387043787139},{"$f":"IFERROR('Level 2'!F34/I117*V$109,\"*\")","v":147.48440097649635},{"$f":"IFERROR('Level 2'!G34/J117*W$109,\"*\")","v":149.85016301560088},{"$f":"IFERROR('Level 2'!H34/K117*X$109,\"*\")","v":153.11145598795736},{"$f":"IFERROR('Level 2'!I34/L117*Y$109,\"*\")","v":158.80157672429121},{"$f":"IFERROR('Level 2'!J34/M117*Z$109,\"*\")","v":152.95822793334605},{"$f":"IFERROR('Level 2'!K34/N117*AA$109,\"*\")","v":123.03250910222224},{"$f":"IFERROR('Level 2'!L34/O117*AB$109,\"*\")","v":"*"},null,{"$f":"'Oversættelse af landenavne'!$B$34","v":"UK"},{"$f":"IFERROR('Level 2'!O34/E117*R$109,\"*\")","v":108.80728631086171},{"$f":"IFERROR('Level 2'!P34/F117*S$109,\"*\")","v":117.27776231571407},{"$f":"IFERROR('Level 2'!Q34/G117*T$109,\"*\")","v":130.39816519094884},{"$f":"IFERROR('Level 2'!R34/H117*U$109,\"*\")","v":124.46950584062006},{"$f":"IFERROR('Level 2'!S34/I117*V$109,\"*\")","v":123.94797568678057},{"$f":"IFERROR('Level 2'!T34/J117*W$109,\"*\")","v":127.80911876129463},{"$f":"IFERROR('Level 2'!U34/K117*X$109,\"*\")","v":131.6996981908095},{"$f":"IFERROR('Level 2'!V34/L117*Y$109,\"*\")","v":135.95043227284935},{"$f":"IFERROR('Level 2'!W34/M117*Z$109,\"*\")","v":139.91753187820876},{"$f":"IFERROR('Level 2'!X34/N117*AA$109,\"*\")","v":114.46789739111111},{"$f":"IFERROR('Level 2'!Y34/O117*AB$109,\"*\")","v":"*"},null,{"$f":"'Oversættelse af landenavne'!$B$34","v":"UK"},{"$f":"IFERROR('Level 2'!AB34/E117*R109,\"*\")","v":99.333901818329593},{"$f":"IFERROR('Level 2'!AC34/F117*S109,\"*\")","v":105.98624909494512},{"$f":"IFERROR('Level 2'!AD34/G117*T109,\"*\")","v":118.79233790822852},{"$f":"IFERROR('Level 2'!AE34/H117*U109,\"*\")","v":104.90247759194632},{"$f":"IFERROR('Level 2'!AF34/I117*V109,\"*\")","v":106.67739963526653},{"$f":"IFERROR('Level 2'!AG34/J117*W109,\"*\")","v":112.66494393448461},{"$f":"IFERROR('Level 2'!AH34/K117*X109,\"*\")","v":117.29271498623207},{"$f":"IFERROR('Level 2'!AI34/L117*Y109,\"*\")","v":121.51813051404397},{"$f":"IFERROR('Level 2'!AJ34/M117*Z109,\"*\")","v":124.96641538187302},{"$f":"IFERROR('Level 2'!AK34/N117*AA109,\"*\")","v":102.55191588},{"$f":"IFERROR('Level 2'!AL34/O117*AB109,\"*\")","v":"*"},null,{"$f":"'Oversættelse af landenavne'!$B$34","v":"UK"},{"$f":"IFERROR('Level 2'!AO34/E117*R109,\"*\")","v":89.450611266024438},{"$f":"IFERROR('Level 2'!AP34/F117*S109,\"*\")","v":97.004363578424361},{"$f":"IFERROR('Level 2'!AQ34/G117*T109,\"*\")","v":107.0191188858536},{"$f":"IFERROR('Level 2'!AR34/H117*U109,\"*\")","v":92.877457536157607},{"$f":"IFERROR('Level 2'!AS34/I117*V109,\"*\")","v":95.988597993628289},{"$f":"IFERROR('Level 2'!AT34/J117*W109,\"*\")","v":102.29552486517203},{"$f":"IFERROR('Level 2'!AU34/K117*X109,\"*\")","v":107.50590225760534},{"$f":"IFERROR('Level 2'!AV34/L117*Y109,\"*\")","v":110.41635993034755},{"$f":"IFERROR('Level 2'!AW34/M117*Z109,\"*\")","v":114.87441174684641},{"$f":"IFERROR('Level 2'!AX34/N117*AA109,\"*\")","v":94.434153475555547},{"$f":"IFERROR('Level 2'!AY34/O117*AB109,\"*\")","v":"*"},null,{"$f":"'Oversættelse af landenavne'!$B$34","v":"UK"},{"$f":"IFERROR('Level 2'!BB34/E117*R$109,\"*\")","v":83.757471546954662},{"$f":"IFERROR('Level 2'!BC34/F117*S$109,\"*\")","v":93.924859972760089},{"$f":"IFERROR('Level 2'!BD34/G117*T$109,\"*\")","v":104.06186481862198},{"$f":"IFERROR('Level 2'!BE34/H117*U$109,\"*\")","v":85.862862503614181},{"$f":"IFERROR('Level 2'!BF34/I117*V$109,\"*\")","v":89.722748755426537},{"$f":"IFERROR('Level 2'!BG34/J117*W$109,\"*\")","v":99.739342489946125},{"$f":"IFERROR('Level 2'!BH34/K117*X$109,\"*\")","v":106.06520393714759},{"$f":"IFERROR('Level 2'!BI34/L117*Y$109,\"*\")","v":109.67624189143446},{"$f":"IFERROR('Level 2'!BJ34/M117*Z$109,\"*\")","v":111.92571932673572},{"$f":"IFERROR('Level 2'!BK34/N117*AA$109,\"*\")","v":93.168080439999997},{"$f":"IFERROR('Level 2'!BL34/O117*AB$109,\"*\")","v":"*"},null,{"$f":"'Oversættelse af landenavne'!$B$34","v":"UK"},{"$f":"IFERROR('Level 2'!BO34/E117*R$109,\"*\")","v":80.113862126749993},{"$f":"IFERROR('Level 2'!BP34/F117*S$109,\"*\")","v":96.183162616913876},{"$f":"IFERROR('Level 2'!BQ34/G117*T$109,\"*\")","v":103.05751438069426},{"$f":"IFERROR('Level 2'!BR34/H117*U$109,\"*\")","v":84.491588286726},{"$f":"IFERROR('Level 2'!BS34/I117*V$109,\"*\")","v":87.03738479619723},{"$f":"IFERROR('Level 2'!BT34/J117*W$109,\"*\")","v":94.289368746539992},{"$f":"IFERROR('Level 2'!BU34/K117*X$109,\"*\")","v":103.73027907295744},{"$f":"IFERROR('Level 2'!BV34/L117*Y$109,\"*\")","v":106.57699760348586},{"$f":"IFERROR('Level 2'!BW34/M117*Z$109,\"*\")","v":109.14315042325102},{"$f":"IFERROR('Level 2'!BX34/N117*AA$109,\"*\")","v":91.082783675555561},{"$f":"IFERROR('Level 2'!BY34/O117*AB$109,\"*\")","v":"*"},null,{"$f":"'Oversættelse af landenavne'!$B$34","v":"UK"},{"$f":"IFERROR('Level 2'!CB34/E117*R$109,\"*\")","v":70.640477634217888},{"$f":"IFERROR('Level 2'!CC34/F117*S$109,\"*\")","v":83.967798314445631},{"$f":"IFERROR('Level 2'!CD34/G117*T$109,\"*\")","v":89.945161441082377},{"$f":"IFERROR('Level 2'!CE34/H117*U$109,\"*\")","v":84.913518814999279},{"$f":"IFERROR('Level 2'!CF34/I117*V$109,\"*\")","v":85.668375718943068},{"$f":"IFERROR('Level 2'!CG34/J117*W$109,\"*\")","v":96.170333135857149},{"$f":"IFERROR('Level 2'!CH34/K117*X$109,\"*\")","v":99.755938878591266},{"$f":"IFERROR('Level 2'!CI34/L117*Y$109,\"*\")","v":103.66278282526554},{"$f":"IFERROR('Level 2'!CJ34/M117*Z$109,\"*\")","v":105.82068009073197},{"$f":"IFERROR('Level 2'!CK34/N117*AA$109,\"*\")","v":88.252738066666666},{"$f":"IFERROR('Level 2'!CL34/O117*AB$109,\"*\")","v":"*"}]
[null,null,null,"Kilde: Eurostat",null,null,null,null,null,null,null,null,null,null,null,null,"Kilde: Eurostat",null,null,null,null,null,null,null,null,null,null,null,null,"Kilde: Eurostat",null,null,null,null,null,null,null,null,null,null,null,null,"Kilde: Eurostat",null,null,null,null,null,null,null,null,null,null,null,null,"Kilde: Eurostat",null,null,null,null,null,null,null,null,null,null,null,null,"Kilde: Eurostat",null,null,null,null,null,null,null,null,null,null,null,null,"Kilde: Eurostat"]
[]
[]
[]
[]
[]
[]
[]
[null,null,null,"Baggrundstabeller"]
[null,null,null,"Herunder vises de tabeller, der framkoller som resultatet er valgene truffet øverst i valgmenuen. De ganges på rådata for at få resultattabellerne som kan ses længere oppe."]
[]
[]
[null,null,null,"Tabel B - BVT Deflatoren",null,null,null,null,null,null,null,null,null,null,null,null,"Tabel C - Valutakurs"]
[null,null,null,"Tabel B fremkommer som resultat af valgene truffet for faste/løbende priser og basisår.\n\nBVT deflatoren vises for samtlige lande for det valgte år. Væles løbende priser deflaterer man ikke, hvorfor der vil stå et 1-tal i alle celler.\n\nFormlen gør at \"fejlværdien\" svarer til at man har valgt løbende priser (gælder både for overskrift og formler). Med denne metode kan indeksværdien ganges direkte på rådata uanset hvilken valuta der vælges.",null,null,null,null,null,null,null,null,null,null,null,null,"Tabel C viser hvilken kurs der ganges på rådata (opgivet i euro) for at få priserne vist i den valuta der er valgt i valgmenuen øverst.\n\nKursen ændres efter valgt år og valuta."]
[]
[null,null,null,{"$f":"IF($E$13=\"faste priser\",\"BVT deflatoren med basisåret \"&$E$14&\"\",\"Prisindeks for løbende priser år \"&E108&\" til \"&K108)","v":"BVT deflatoren med basisåret 2016"},null,null,null,null,null,null,null,null,null,null,null,null,{"$f":"\"Valutakursen for \"&E15&\" i fht. Euro\"","v":"Valutakursen for DKK øre i fht. Euro"}]
[null,null,null,null,{"$f":"'Baggrundsdata - BVT - deflator'!S17","v":2007},{"$f":"'Baggrundsdata - BVT - deflator'!T17","v":2008},{"$f":"'Baggrundsdata - BVT - deflator'!U17","v":2009},{"$f":"'Baggrundsdata - BVT - deflator'!V17","v":2010},{"$f":"'Baggrundsdata - BVT - deflator'!W17","v":2011},{"$f":"'Baggrundsdata - BVT - deflator'!X17","v":2012},{"$f":"'Baggrundsdata - BVT - deflator'!Y17","v":2013},{"$f":"'Baggrundsdata - BVT - deflator'!Z17","v":2014},{"$f":"'Baggrundsdata - BVT - deflator'!AA17","v":2015},{"$f":"'Baggrundsdata - BVT - deflator'!AB17","v":2016},{"$f":"'Baggrundsdata - BVT - deflator'!AC17","v":2017},null,null,{"$f":"Forside!E55","v":2007},{"$f":"Forside!F55","v":2008},{"$f":"Forside!G55","v":2009},{"$f":"Forside!H55","v":2010},{"$f":"Forside!I55","v":2011},{"$f":"Forside!J55","v":2012},{"$f":"Forside!K55","v":2013},{"$f":"Forside!L55","v":2014},{"$f":"Forside!M55","v":2015},2016,2017]
[null,null,null,{"$f":"'Baggrundsdata - BVT - deflator'!R18","v":"EU-28"},{"$f":"IF($E$13=\"faste priser\",HLOOKUP(E$108,'Baggrundsdata - BVT - deflator'!$S$17:$AC$27,2,FALSE),1)","v":0.88662713333140397},{"$f":"IF($E$13=\"faste priser\",HLOOKUP(F$108,'Baggrundsdata - BVT - deflator'!$S$17:$AC$27,2,FALSE),1)","v":0.88955954025564155},{"$f":"IF($E$13=\"faste priser\",HLOOKUP(G$108,'Baggrundsdata - BVT - deflator'!$S$17:$AC$27,2,FALSE),1)","v":0.88090580116729511},{"$f":"IF($E$13=\"faste priser\",HLOOKUP(H$108,'Baggrundsdata - BVT - deflator'!$S$17:$AC$27,2,FALSE),1)","v":0.8967605272897784},{"$f":"IF($E$13=\"faste priser\",HLOOKUP(I$108,'Baggrundsdata - BVT - deflator'!$S$17:$AC$27,2,FALSE),1)","v":0.90536942835176026},{"$f":"IF($E$13=\"faste priser\",HLOOKUP(J$108,'Baggrundsdata - BVT - deflator'!$S$17:$AC$27,2,FALSE),1)","v":0.92609356413742705},{"$f":"IF($E$13=\"faste priser\",HLOOKUP(K$108,'Baggrundsdata - BVT - deflator'!$S$17:$AC$27,2,FALSE),1)","v":0.93108852027443123},{"$f":"IF($E$13=\"faste priser\",HLOOKUP(L$108,'Baggrundsdata - BVT - deflator'!$S$17:$AC$27,2,FALSE),1)","v":0.94570571686925453},{"$f":"IF($E$13=\"faste priser\",HLOOKUP(M$108,'Baggrundsdata - BVT - deflator'!$S$17:$AC$27,2,FALSE),1)","v":0.97247401860885441},{"$f":"IF($E$13=\"faste priser\",HLOOKUP(N$108,'Baggrundsdata - BVT - deflator'!$S$17:$AC$27,2,FALSE),1)","v":1},{"$f":"IF($E$13=\"faste priser\",HLOOKUP(O$108,'Baggrundsdata - BVT - deflator'!$S$17:$AC$27,2,FALSE),1)","v":0},null,"Alle lande",{"$f":"IF($E$15=\"Euro\",1,IF($E$15=\"eurocent\",100,IF($E$15=\"DKK øre\",HLOOKUP(R108,Forside!$E$55:$O$56,2,FALSE),IF($E$15=\"DKK\",((HLOOKUP(R108,Forside!$E$55:$O$56,2,FALSE))/100),\"F\"))))","v":745.59739999999999},{"$f":"IF($E$15=\"Euro\",1,IF($E$15=\"eurocent\",100,IF($E$15=\"DKK øre\",HLOOKUP(S108,Forside!$E$55:$O$56,2,FALSE),IF($E$15=\"DKK\",((HLOOKUP(S108,Forside!$E$55:$O$56,2,FALSE))/100),\"F\"))))","v":744.62509999999997},{"$f":"IF($E$15=\"Euro\",1,IF($E$15=\"eurocent\",100,IF($E$15=\"DKK øre\",HLOOKUP(T108,Forside!$E$55:$O$56,2,FALSE),IF($E$15=\"DKK\",((HLOOKUP(T108,Forside!$E$55:$O$56,2,FALSE))/100),\"F\"))))","v":744.62509999999997},{"$f":"IF($E$15=\"Euro\",1,IF($E$15=\"eurocent\",100,IF($E$15=\"DKK øre\",HLOOKUP(U108,Forside!$E$55:$O$56,2,FALSE),IF($E$15=\"DKK\",((HLOOKUP(U108,Forside!$E$55:$O$56,2,FALSE))/100),\"F\"))))","v":744.73659999999995},{"$f":"IF($E$15=\"Euro\",1,IF($E$15=\"eurocent\",100,IF($E$15=\"DKK øre\",HLOOKUP(V108,Forside!$E$55:$O$56,2,FALSE),IF($E$15=\"DKK\",((HLOOKUP(V108,Forside!$E$55:$O$56,2,FALSE))/100),\"F\"))))","v":745.05290000000002},{"$f":"IF($E$15=\"Euro\",1,IF($E$15=\"eurocent\",100,IF($E$15=\"DKK øre\",HLOOKUP(W108,Forside!$E$55:$O$56,2,FALSE),IF($E$15=\"DKK\",((HLOOKUP(W108,Forside!$E$55:$O$56,2,FALSE))/100),\"F\"))))","v":744.37509999999997},{"$f":"IF($E$15=\"Euro\",1,IF($E$15=\"eurocent\",100,IF($E$15=\"DKK øre\",HLOOKUP(X108,Forside!$E$55:$O$56,2,FALSE),IF($E$15=\"DKK\",((HLOOKUP(X108,Forside!$E$55:$O$56,2,FALSE))/100),\"F\"))))","v":745.79819999999995},{"$f":"IF($E$15=\"Euro\",1,IF($E$15=\"eurocent\",100,IF($E$15=\"DKK øre\",HLOOKUP(Y108,Forside!$E$55:$O$56,2,FALSE),IF($E$15=\"DKK\",((HLOOKUP(Y108,Forside!$E$55:$O$56,2,FALSE))/100),\"F\"))))","v":745.47410000000002},{"$f":"IF($E$15=\"Euro\",1,IF($E$15=\"eurocent\",100,IF($E$15=\"DKK øre\",HLOOKUP(Z108,Forside!$E$55:$O$56,2,FALSE),IF($E$15=\"DKK\",((HLOOKUP(Z108,Forside!$E$55:$O$56,2,FALSE))/100),\"F\"))))","v":745.61029999999994},{"$f":"IF($E$15=\"Euro\",1,IF($E$15=\"eurocent\",100,IF($E$15=\"DKK øre\",HLOOKUP(AA108,Forside!$E$55:$O$56,2,FALSE),IF($E$15=\"DKK\",((HLOOKUP(AA108,Forside!$E$55:$O$56,2,FALSE))/100),\"F\"))))","v":744.74884444444444},{"$f":"IF($E$15=\"Euro\",1,IF($E$15=\"eurocent\",100,IF($E$15=\"DKK øre\",HLOOKUP(AB108,Forside!$E$55:$O$56,2,FALSE),IF($E$15=\"DKK\",((HLOOKUP(AB108,Forside!$E$55:$O$56,2,FALSE))/100),\"F\"))))","v":0}]
[null,null,null,{"$f":"'Baggrundsdata - BVT - deflator'!R19","v":"Belgien"},{"$f":"IF($E$13=\"faste priser\",HLOOKUP(E$108,'Baggrundsdata - BVT - deflator'!$S$17:$AC$27,3,FALSE),1)","v":0.88717226504651181},{"$f":"IF($E$13=\"faste priser\",HLOOKUP(F$108,'Baggrundsdata - BVT - deflator'!$S$17:$AC$27,3,FALSE),1)","v":0.90198536865020962},{"$f":"IF($E$13=\"faste priser\",HLOOKUP(G$108,'Baggrundsdata - BVT - deflator'!$S$17:$AC$27,3,FALSE),1)","v":0.91025918731927569},{"$f":"IF($E$13=\"faste priser\",HLOOKUP(H$108,'Baggrundsdata - BVT - deflator'!$S$17:$AC$27,3,FALSE),1)","v":0.92755814675628023},{"$f":"IF($E$13=\"faste priser\",HLOOKUP(I$108,'Baggrundsdata - BVT - deflator'!$S$17:$AC$27,3,FALSE),1)","v":0.94455101200485525},{"$f":"IF($E$13=\"faste priser\",HLOOKUP(J$108,'Baggrundsdata - BVT - deflator'!$S$17:$AC$27,3,FALSE),1)","v":0.96297231679943507},{"$f":"IF($E$13=\"faste priser\",HLOOKUP(K$108,'Baggrundsdata - BVT - deflator'!$S$17:$AC$27,3,FALSE),1)","v":0.97620857155364726},{"$f":"IF($E$13=\"faste priser\",HLOOKUP(L$108,'Baggrundsdata - BVT - deflator'!$S$17:$AC$27,3,FALSE),1)","v":0.98289626579175993},{"$f":"IF($E$13=\"faste priser\",HLOOKUP(M$108,'Baggrundsdata - BVT - deflator'!$S$17:$AC$27,3,FALSE),1)","v":0.99141124957898263},{"$f":"IF($E$13=\"faste priser\",HLOOKUP(N$108,'Baggrundsdata - BVT - deflator'!$S$17:$AC$27,3,FALSE),1)","v":1},{"$f":"IF($E$13=\"faste priser\",HLOOKUP(O$108,'Baggrundsdata - BVT - deflator'!$S$17:$AC$27,3,FALSE),1)","v":0}]
[null,null,null,{"$f":"'Baggrundsdata - BVT - deflator'!R20","v":"Danmark"},{"$f":"IF($E$13=\"faste priser\",HLOOKUP(E$108,'Baggrundsdata - BVT - deflator'!$S$17:$AC$27,4,FALSE),1)","v":0.8450283177239023},{"$f":"IF($E$13=\"faste priser\",HLOOKUP(F$108,'Baggrundsdata - BVT - deflator'!$S$17:$AC$27,4,FALSE),1)","v":0.88429133096308687},{"$f":"IF($E$13=\"faste priser\",HLOOKUP(G$108,'Baggrundsdata - BVT - deflator'!$S$17:$AC$27,4,FALSE),1)","v":0.88977160166345082},{"$f":"IF($E$13=\"faste priser\",HLOOKUP(H$108,'Baggrundsdata - BVT - deflator'!$S$17:$AC$27,4,FALSE),1)","v":0.91950850677247253},{"$f":"IF($E$13=\"faste priser\",HLOOKUP(I$108,'Baggrundsdata - BVT - deflator'!$S$17:$AC$27,4,FALSE),1)","v":0.92443707236877304},{"$f":"IF($E$13=\"faste priser\",HLOOKUP(J$108,'Baggrundsdata - BVT - deflator'!$S$17:$AC$27,4,FALSE),1)","v":0.95184762095566045},{"$f":"IF($E$13=\"faste priser\",HLOOKUP(K$108,'Baggrundsdata - BVT - deflator'!$S$17:$AC$27,4,FALSE),1)","v":0.9660724175554305},{"$f":"IF($E$13=\"faste priser\",HLOOKUP(L$108,'Baggrundsdata - BVT - deflator'!$S$17:$AC$27,4,FALSE),1)","v":0.97533186821862938},{"$f":"IF($E$13=\"faste priser\",HLOOKUP(M$108,'Baggrundsdata - BVT - deflator'!$S$17:$AC$27,4,FALSE),1)","v":0.98758891661390646},{"$f":"IF($E$13=\"faste priser\",HLOOKUP(N$108,'Baggrundsdata - BVT - deflator'!$S$17:$AC$27,4,FALSE),1)","v":1},{"$f":"IF($E$13=\"faste priser\",HLOOKUP(O$108,'Baggrundsdata - BVT - deflator'!$S$17:$AC$27,4,FALSE),1)","v":0}]
[null,null,null,{"$f":"'Baggrundsdata - BVT - deflator'!R21","v":"Tyskland"},{"$f":"IF($E$13=\"faste priser\",HLOOKUP(E$108,'Baggrundsdata - BVT - deflator'!$S$17:$AC$27,5,FALSE),1)","v":0.86568776995529162},{"$f":"IF($E$13=\"faste priser\",HLOOKUP(F$108,'Baggrundsdata - BVT - deflator'!$S$17:$AC$27,5,FALSE),1)","v":0.87190805513641911},{"$f":"IF($E$13=\"faste priser\",HLOOKUP(G$108,'Baggrundsdata - BVT - deflator'!$S$17:$AC$27,5,FALSE),1)","v":0.88963541910860777},{"$f":"IF($E$13=\"faste priser\",HLOOKUP(H$108,'Baggrundsdata - BVT - deflator'!$S$17:$AC$27,5,FALSE),1)","v":0.89758804922473889},{"$f":"IF($E$13=\"faste priser\",HLOOKUP(I$108,'Baggrundsdata - BVT - deflator'!$S$17:$AC$27,5,FALSE),1)","v":0.90644724327058701},{"$f":"IF($E$13=\"faste priser\",HLOOKUP(J$108,'Baggrundsdata - BVT - deflator'!$S$17:$AC$27,5,FALSE),1)","v":0.91930070413548526},{"$f":"IF($E$13=\"faste priser\",HLOOKUP(K$108,'Baggrundsdata - BVT - deflator'!$S$17:$AC$27,5,FALSE),1)","v":0.93943360407959631},{"$f":"IF($E$13=\"faste priser\",HLOOKUP(L$108,'Baggrundsdata - BVT - deflator'!$S$17:$AC$27,5,FALSE),1)","v":0.95698145044193994},{"$f":"IF($E$13=\"faste priser\",HLOOKUP(M$108,'Baggrundsdata - BVT - deflator'!$S$17:$AC$27,5,FALSE),1)","v":0.97825428720856611},{"$f":"IF($E$13=\"faste priser\",HLOOKUP(N$108,'Baggrundsdata - BVT - deflator'!$S$17:$AC$27,5,FALSE),1)","v":1},{"$f":"IF($E$13=\"faste priser\",HLOOKUP(O$108,'Baggrundsdata - BVT - deflator'!$S$17:$AC$27,5,FALSE),1)","v":0}]
[null,null,null,{"$f":"'Baggrundsdata - BVT - deflator'!R22","v":"Frankrig"},{"$f":"IF($E$13=\"faste priser\",HLOOKUP(E$108,'Baggrundsdata - BVT - deflator'!$S$17:$AC$27,6,FALSE),1)","v":0.91927631678050314},{"$f":"IF($E$13=\"faste priser\",HLOOKUP(F$108,'Baggrundsdata - BVT - deflator'!$S$17:$AC$27,6,FALSE),1)","v":0.94110916504091535},{"$f":"IF($E$13=\"faste priser\",HLOOKUP(G$108,'Baggrundsdata - BVT - deflator'!$S$17:$AC$27,6,FALSE),1)","v":0.943777518385706},{"$f":"IF($E$13=\"faste priser\",HLOOKUP(H$108,'Baggrundsdata - BVT - deflator'!$S$17:$AC$27,6,FALSE),1)","v":0.95298333742523367},{"$f":"IF($E$13=\"faste priser\",HLOOKUP(I$108,'Baggrundsdata - BVT - deflator'!$S$17:$AC$27,6,FALSE),1)","v":0.95841534244855742},{"$f":"IF($E$13=\"faste priser\",HLOOKUP(J$108,'Baggrundsdata - BVT - deflator'!$S$17:$AC$27,6,FALSE),1)","v":0.96677300631777685},{"$f":"IF($E$13=\"faste priser\",HLOOKUP(K$108,'Baggrundsdata - BVT - deflator'!$S$17:$AC$27,6,FALSE),1)","v":0.97311034551165454},{"$f":"IF($E$13=\"faste priser\",HLOOKUP(L$108,'Baggrundsdata - BVT - deflator'!$S$17:$AC$27,6,FALSE),1)","v":0.97574057952294835},{"$f":"IF($E$13=\"faste priser\",HLOOKUP(M$108,'Baggrundsdata - BVT - deflator'!$S$17:$AC$27,6,FALSE),1)","v":0.98779581874137756},{"$f":"IF($E$13=\"faste priser\",HLOOKUP(N$108,'Baggrundsdata - BVT - deflator'!$S$17:$AC$27,6,FALSE),1)","v":1},{"$f":"IF($E$13=\"faste priser\",HLOOKUP(O$108,'Baggrundsdata - BVT - deflator'!$S$17:$AC$27,6,FALSE),1)","v":0}]
[null,null,null,{"$f":"'Baggrundsdata - BVT - deflator'!R23","v":"Italien"},{"$f":"IF($E$13=\"faste priser\",HLOOKUP(E$108,'Baggrundsdata - BVT - deflator'!$S$17:$AC$27,7,FALSE),1)","v":0.90251371378575984},{"$f":"IF($E$13=\"faste priser\",HLOOKUP(F$108,'Baggrundsdata - BVT - deflator'!$S$17:$AC$27,7,FALSE),1)","v":0.92735718335556161},{"$f":"IF($E$13=\"faste priser\",HLOOKUP(G$108,'Baggrundsdata - BVT - deflator'!$S$17:$AC$27,7,FALSE),1)","v":0.94738888503684404},{"$f":"IF($E$13=\"faste priser\",HLOOKUP(H$108,'Baggrundsdata - BVT - deflator'!$S$17:$AC$27,7,FALSE),1)","v":0.9453375026560803},{"$f":"IF($E$13=\"faste priser\",HLOOKUP(I$108,'Baggrundsdata - BVT - deflator'!$S$17:$AC$27,7,FALSE),1)","v":0.95747563619018439},{"$f":"IF($E$13=\"faste priser\",HLOOKUP(J$108,'Baggrundsdata - BVT - deflator'!$S$17:$AC$27,7,FALSE),1)","v":0.96661704984086871},{"$f":"IF($E$13=\"faste priser\",HLOOKUP(K$108,'Baggrundsdata - BVT - deflator'!$S$17:$AC$27,7,FALSE),1)","v":0.97881190362513204},{"$f":"IF($E$13=\"faste priser\",HLOOKUP(L$108,'Baggrundsdata - BVT - deflator'!$S$17:$AC$27,7,FALSE),1)","v":0.98342515063809377},{"$f":"IF($E$13=\"faste priser\",HLOOKUP(M$108,'Baggrundsdata - BVT - deflator'!$S$17:$AC$27,7,FALSE),1)","v":0.99167794703628143},{"$f":"IF($E$13=\"faste priser\",HLOOKUP(N$108,'Baggrundsdata - BVT - deflator'!$S$17:$AC$27,7,FALSE),1)","v":1},{"$f":"IF($E$13=\"faste priser\",HLOOKUP(O$108,'Baggrundsdata - BVT - deflator'!$S$17:$AC$27,7,FALSE),1)","v":0}]
[null,null,null,{"$f":"'Baggrundsdata - BVT - deflator'!R24","v":"Holland"},{"$f":"IF($E$13=\"faste priser\",HLOOKUP(E$108,'Baggrundsdata - BVT - deflator'!$S$17:$AC$27,8,FALSE),1)","v":0.9279533377332585},{"$f":"IF($E$13=\"faste priser\",HLOOKUP(F$108,'Baggrundsdata - BVT - deflator'!$S$17:$AC$27,8,FALSE),1)","v":0.94911285320601513},{"$f":"IF($E$13=\"faste priser\",HLOOKUP(G$108,'Baggrundsdata - BVT - deflator'!$S$17:$AC$27,8,FALSE),1)","v":0.95322560189917571},{"$f":"IF($E$13=\"faste priser\",HLOOKUP(H$108,'Baggrundsdata - BVT - deflator'!$S$17:$AC$27,8,FALSE),1)","v":0.9609225918599742},{"$f":"IF($E$13=\"faste priser\",HLOOKUP(I$108,'Baggrundsdata - BVT - deflator'!$S$17:$AC$27,8,FALSE),1)","v":0.96165289302978763},{"$f":"IF($E$13=\"faste priser\",HLOOKUP(J$108,'Baggrundsdata - BVT - deflator'!$S$17:$AC$27,8,FALSE),1)","v":0.97620126107054783},{"$f":"IF($E$13=\"faste priser\",HLOOKUP(K$108,'Baggrundsdata - BVT - deflator'!$S$17:$AC$27,8,FALSE),1)","v":0.98288928230989314},{"$f":"IF($E$13=\"faste priser\",HLOOKUP(L$108,'Baggrundsdata - BVT - deflator'!$S$17:$AC$27,8,FALSE),1)","v":0.98992323568230822},{"$f":"IF($E$13=\"faste priser\",HLOOKUP(M$108,'Baggrundsdata - BVT - deflator'!$S$17:$AC$27,8,FALSE),1)","v":0.99494886083773582},{"$f":"IF($E$13=\"faste priser\",HLOOKUP(N$108,'Baggrundsdata - BVT - deflator'!$S$17:$AC$27,8,FALSE),1)","v":1},{"$f":"IF($E$13=\"faste priser\",HLOOKUP(O$108,'Baggrundsdata - BVT - deflator'!$S$17:$AC$27,8,FALSE),1)","v":0}]
[null,null,null,{"$f":"'Baggrundsdata - BVT - deflator'!R25","v":"Sverige"},{"$f":"IF($E$13=\"faste priser\",HLOOKUP(E$108,'Baggrundsdata - BVT - deflator'!$S$17:$AC$27,9,FALSE),1)","v":0.88937737525598437},{"$f":"IF($E$13=\"faste priser\",HLOOKUP(F$108,'Baggrundsdata - BVT - deflator'!$S$17:$AC$27,9,FALSE),1)","v":0.88299452607730322},{"$f":"IF($E$13=\"faste priser\",HLOOKUP(G$108,'Baggrundsdata - BVT - deflator'!$S$17:$AC$27,9,FALSE),1)","v":0.81881654110779656},{"$f":"IF($E$13=\"faste priser\",HLOOKUP(H$108,'Baggrundsdata - BVT - deflator'!$S$17:$AC$27,9,FALSE),1)","v":0.9197189018272659},{"$f":"IF($E$13=\"faste priser\",HLOOKUP(I$108,'Baggrundsdata - BVT - deflator'!$S$17:$AC$27,9,FALSE),1)","v":0.98268285784636056},{"$f":"IF($E$13=\"faste priser\",HLOOKUP(J$108,'Baggrundsdata - BVT - deflator'!$S$17:$AC$27,9,FALSE),1)","v":1.0305450294974514},{"$f":"IF($E$13=\"faste priser\",HLOOKUP(K$108,'Baggrundsdata - BVT - deflator'!$S$17:$AC$27,9,FALSE),1)","v":1.0480656745772607},{"$f":"IF($E$13=\"faste priser\",HLOOKUP(L$108,'Baggrundsdata - BVT - deflator'!$S$17:$AC$27,9,FALSE),1)","v":1.0147534559530773},{"$f":"IF($E$13=\"faste priser\",HLOOKUP(M$108,'Baggrundsdata - BVT - deflator'!$S$17:$AC$27,9,FALSE),1)","v":1.0073497187933678},{"$f":"IF($E$13=\"faste priser\",HLOOKUP(N$108,'Baggrundsdata - BVT - deflator'!$S$17:$AC$27,9,FALSE),1)","v":1},{"$f":"IF($E$13=\"faste priser\",HLOOKUP(O$108,'Baggrundsdata - BVT - deflator'!$S$17:$AC$27,9,FALSE),1)","v":0}]
[null,null,null,{"$f":"'Baggrundsdata - BVT - deflator'!R26","v":"UK"},{"$f":"IF($E$13=\"faste priser\",HLOOKUP(E$108,'Baggrundsdata - BVT - deflator'!$S$17:$AC$27,10,FALSE),1)","v":0.81852615251842198},{"$f":"IF($E$13=\"faste priser\",HLOOKUP(F$108,'Baggrundsdata - BVT - deflator'!$S$17:$AC$27,10,FALSE),1)","v":0.72540109902489991},{"$f":"IF($E$13=\"faste priser\",HLOOKUP(G$108,'Baggrundsdata - BVT - deflator'!$S$17:$AC$27,10,FALSE),1)","v":0.66725971801510808},{"$f":"IF($E$13=\"faste priser\",HLOOKUP(H$108,'Baggrundsdata - BVT - deflator'!$S$17:$AC$27,10,FALSE),1)","v":0.70602769896529227},{"$f":"IF($E$13=\"faste priser\",HLOOKUP(I$108,'Baggrundsdata - BVT - deflator'!$S$17:$AC$27,10,FALSE),1)","v":0.70749623657914007},{"$f":"IF($E$13=\"faste priser\",HLOOKUP(J$108,'Baggrundsdata - BVT - deflator'!$S$17:$AC$27,10,FALSE),1)","v":0.77169533524605416},{"$f":"IF($E$13=\"faste priser\",HLOOKUP(K$108,'Baggrundsdata - BVT - deflator'!$S$17:$AC$27,10,FALSE),1)","v":0.75061334815495051},{"$f":"IF($E$13=\"faste priser\",HLOOKUP(L$108,'Baggrundsdata - BVT - deflator'!$S$17:$AC$27,10,FALSE),1)","v":0.80578941282908811},{"$f":"IF($E$13=\"faste priser\",HLOOKUP(M$108,'Baggrundsdata - BVT - deflator'!$S$17:$AC$27,10,FALSE),1)","v":0.89765773701845186},{"$f":"IF($E$13=\"faste priser\",HLOOKUP(N$108,'Baggrundsdata - BVT - deflator'!$S$17:$AC$27,10,FALSE),1)","v":1},{"$f":"IF($E$13=\"faste priser\",HLOOKUP(O$108,'Baggrundsdata - BVT - deflator'!$S$17:$AC$27,10,FALSE),1)","v":0}]

{"sheet":"Alle lande, valgt år","index":2,"n_rows":112,"n_cols":46,"rows_kept":112,"cut":false,"hidden":false,"merged":[[4,4,4,7],[5,4,5,7],[6,4,6,7],[25,45,44,45],[48,1,67,1],[48,15,48,19],[48,21,48,25],[48,27,48,31],[48,33,48,37],[48,45,67,45],[25,1,44,1],[25,15,25,19],[23,21,23,25],[23,27,23,31],[23,15,23,19],[25,21,25,25],[25,27,25,31],[25,33,25,37],[110,4,110,5],[110,10,110,11],[110,15,110,17],[110,21,110,23],[110,27,110,29],[77,15,77,19],[77,21,77,25],[77,27,77,31],[77,3,77,7],[77,9,77,13],[111,4,111,6],[111,10,111,12],[111,15,111,18],[111,21,111,24],[111,27,111,30],[111,33,111,36],[111,39,111,42],[23,39,23,43],[25,39,25,43],[48,39,48,43],[77,39,77,43],[110,39,110,41],[110,33,110,35],[77,33,77,37],[23,33,23,37],[23,3,23,7],[25,3,25,7],[48,3,48,7],[23,9,23,13],[25,9,25,13],[48,9,48,13]]}
[null,null,null,null,"NAVN PÅ ARK:","Alle lande, valgt år"]
[null,null,null,null,"Data hentes fra:","'Baggrundstabeller for alle lande'"]
[]
[null,null,null,null,"Sådan bruges arket:"]
[null,null,null,null,"Arket 'alle lande, udvalgt år' viser figurer og tabeller (de grå-blå) for gasprisen for industrielle forbrugere opdelt på level 1 og 2 for hvert interval. Prisen vises for alle lande i det valgte år."]
[null,null,null,null,"Året, pristypen, basisået, valuta og enhed kan ændres. Dette gøres i de farvede rullemenuer nedenfor. \n\nTil hver resultattabel hører tre figurer. En for hvert level. I resultattabellen er totalprisen for hvert level opgjort i hver sin totalprissøjle. Hvis man ønsker at sortere figurerne efter stigende priser kan man kopiere de ønskede tabeller og figurer over i et separat ark."]
[null,null,null,null,{"$f":"\"Rent teknisk styrer hver menu styrer en tabel i tilsvarende farve i arket '\"&'Baggrundstabeller for alle land'!E1&\"'. Disse tabeller ganges sammen og heraf fremkommer resultattabellen som følge af de valg der træffes i rullemenuerne.\"","v":"Rent teknisk styrer hver menu styrer en tabel i tilsvarende farve i arket 'Baggrundstabeller for alle lande, valgt år'. Disse tabeller ganges sammen og heraf fremkommer resultattabellen som følge af de valg der træffes i rullemenuerne."}]
[]
[]
[]
[null,null,null,null,"Vælg",null,"Resultater vises i"]
[null,null,null,null,"Vælg år",2015,{"$f":"\"Tabel A i '\"&'Baggrundstabeller for alle land'!$E$1&\"'\"","v":"Tabel A i 'Baggrundstabeller for alle lande, valgt år'"}]
[null,null,null,null,"Vælg pristype","faste priser",{"$f":"\"Tabel B i '\"&'Baggrundstabeller for alle land'!$E$1&\"'\"","v":"Tabel B i 'Baggrundstabeller for alle lande, valgt år'"}]
[null,null,null,null,"Vælg Basisår (kun ved fast pris)",2016,{"$f":"\"Tabel B i '\"&'Baggrundstabeller for alle land'!$E$1&\"'\"","v":"Tabel B i 'Baggrundstabeller for alle lande, valgt år'"}]
[null,null,null,null,"Vælg valuta","Euro",{"$f":"\"Tabel C i '\"&'Baggrundstabeller for alle land'!$E$1&\"'\"","v":"Tabel C i 'Baggrundstabeller for alle lande, valgt år'"}]
[]
[]
[]
[null,null,null,null,"Resultatfigurer og -tabeller"]
[null,null,null,null,"Valgene truffet ovenfor giver tabeller og figurer der er:"]
[null,null,null,null,{"$f":"\"Oppgjort for året \"&F12&\" i \"&$F$13&\" med basisår \"&$F$14","v":"Oppgjort for året 2015 i faste priser med basisår 2016"}]
[null,null,null,null,{"$f":"\"Vist i \"&F15&\" / kWh.\"","v":"Vist i Euro / kWh."}]
[]
[null,null,null,{"$f":"D78","v":"IA: <0,02 GWh"},null,null,null,null,null,{"$f":"J78","v":"IB: 0,02 < 0,5 GWh"},null,null,null,null,null,{"$f":"P78","v":"IC: 0,5 < 2 GWh"},null,null,null,null,null,{"$f":"V78","v":"ID: 2 < 20 GWh"},null,null,null,null,null,{"$f":"AB78","v":"IE:20 < 70 GWh"},null,null,null,null,null,{"$f":"AH78","v":"IF: 70 < 150 GWh"},null,null,null,null,null,{"$f":"AN78","v":"IG: > 150 GWh"}]
[]
[null,"Level 1: Elpris ekskl. PSO og afgifter",null,{"$f":"\"Figur XX: \"&$B$26&\". \nPriserne er vist for år \"&$F$12&\" i \"&$F$13&\" med basisår \"&$F$14&\". Priserne er vist for intervallet \"&D$24&\" i \"&$F$15&\" / kWh. \"","v":"Figur XX: Level 1: Elpris ekskl. PSO og afgifter. \nPriserne er vist for år 2015 i faste priser med basisår 2016. Priserne er vist for intervallet IA: <0,02 GWh i Euro / kWh. "},null,null,null,null,null,{"$f":"\"Figur XX: \"&$B$26&\". \nPriserne er vist for år \"&$F$12&\" i \"&$F$13&\" med basisår \"&$F$14&\". Priserne er vist for intervallet \"&J$24&\" i \"&$F$15&\" / kWh. \"","v":"Figur XX: Level 1: Elpris ekskl. PSO og afgifter. \nPriserne er vist for år 2015 i faste priser med basisår 2016. Priserne er vist for intervallet IB: 0,02 < 0,5 GWh i Euro / kWh. "},null,null,null,null,null,{"$f":"\"Figur XX: \"&$B$26&\". \nPriserne er vist for år \"&$F$12&\" i \"&$F$13&\" med basisår \"&$F$14&\". Priserne er vist for intervallet \"&P$24&\" i \"&$F$15&\" / kWh. \"","v":"Figur XX: Level 1: Elpris ekskl. PSO og afgifter. \nPriserne er vist for år 2015 i faste priser med basisår 2016. Priserne er vist for intervallet IC: 0,5 < 2 GWh i Euro / kWh. "},null,null,null,null,null,{"$f":"\"Figur XX: \"&$B$26&\". \nPriserne er vist for år \"&$F$12&\" i \"&$F$13&\" med basisår \"&$F$14&\". Priserne er vist for intervallet \"&V$24&\" i \"&$F$15&\" / kWh. \"","v":"Figur XX: Level 1: Elpris ekskl. PSO og afgifter. \nPriserne er vist for år 2015 i faste priser med basisår 2016. Priserne er vist for intervallet ID: 2 < 20 GWh i Euro / kWh. "},null,null,null,null,null,{"$f":"\"Figur XX: \"&$B$26&\". \nPriserne er vist for år \"&$F$12&\" i \"&$F$13&\" med basisår \"&$F$14&\". Priserne er vist for intervallet \"&AB$24&\" i \"&$F$15&\" / kWh. \"","v":"Figur XX: Level 1: Elpris ekskl. PSO og afgifter. \nPriserne er vist for år 2015 i faste priser med basisår 2016. Priserne er vist for intervallet IE:20 < 70 GWh i Euro / kWh. "},null,null,null,null,null,{"$f":"\"Figur XX: \"&$B$26&\". \nPriserne er vist for år \"&$F$12&\" i \"&$F$13&\" med basisår \"&$F$14&\". Priserne er vist for intervallet \"&AH$24&\" i \"&$F$15&\" / kWh. \"","v":"Figur XX: Level 1: Elpris ekskl. PSO og afgifter. \nPriserne er vist for år 2015 i faste priser med basisår 2016. Priserne er vist for intervallet IF: 70 < 150 GWh i Euro / kWh. "},null,null,null,null,null,{"$f":"\"Figur XX: \"&$B$26&\". \nPriserne er vist for år \"&$F$12&\" i \"&$F$13&\" med basisår \"&$F$14&\". Priserne er vist for intervallet \"&AN$24&\" i \"&$F$15&\" / kWh. \"","v":"Figur XX: Level 1: Elpris ekskl. PSO og afgifter. \nPriserne er vist for år 2015 i faste priser med basisår 2016. Priserne er vist for intervallet IG: > 150 GWh i Euro / kWh. "},null,null,null,null,null,{"$f":"B26","v":"Level 1: Elpris ekskl. PSO og afgifter"}]
[]
[]
[]
[]
[]
[]
[]
[]
[]
[]
[]
[]
[]
[]
[]
[]
[]
[]
[]
[]
[]
[]
[null,"Level 2: Elpris inkl. PSO og ikke-refunderbare afgifter",null,{"$f":"\"Figur XX: \"&$B49&\". \nPriserne er vist for år \"&$F$12&\" i \"&$F$13&\" med basisår \"&$F$14&\". Priserne er vist for intervallet \"&D$24&\" i \"&$F$15&\" / kWh. \"","v":"Figur XX: Level 2: Elpris inkl. PSO og ikke-refunderbare afgifter. \nPriserne er vist for år 2015 i faste priser med basisår 2016. Priserne er vist for intervallet IA: <0,02 GWh i Euro / kWh. "},null,null,null,null,null,{"$f":"\"Figur XX: \"&$B49&\". \nPriserne er vist for år \"&$F$12&\" i \"&$F$13&\" med basisår \"&$F$14&\". Priserne er vist for intervallet \"&J$24&\" i \"&$F$15&\" / kWh. \"","v":"Figur XX: Level 2: Elpris inkl. PSO og ikke-refunderbare afgifter. \nPriserne er vist for år 2015 i faste priser med basisår 2016. Priserne er vist for intervallet IB: 0,02 < 0,5 GWh i Euro / kWh. "},null,null,null,null,null,{"$f":"\"Figur XX: \"&$B49&\". \nPriserne er vist for år \"&$F$12&\" i \"&$F$13&\" med basisår \"&$F$14&\". Priserne er vist for intervallet \"&P$24&\" i \"&$F$15&\" / kWh. \"","v":"Figur XX: Level 2: Elpris inkl. PSO og ikke-refunderbare afgifter. \nPriserne er vist for år 2015 i faste priser med basisår 2016. Priserne er vist for intervallet IC: 0,5 < 2 GWh i Euro / kWh. "},null,null,null,null,null,{"$f":"\"Figur XX: \"&$B49&\". \nPriserne er vist for år \"&$F$12&\" i \"&$F$13&\" med basisår \"&$F$14&\". Priserne er vist for intervallet \"&V$24&\" i \"&$F$15&\" / kWh. \"","v":"Figur XX: Level 2: Elpris inkl. PSO og ikke-refunderbare afgifter. \nPriserne er vist for år 2015 i faste priser med basisår 2016. Priserne er vist for intervallet ID: 2 < 20 GWh i Euro / kWh. "},null,null,null,null,null,{"$f":"\"Figur XX: \"&$B49&\". \nPriserne er vist for år \"&$F$12&\" i \"&$F$13&\" med basisår \"&$F$14&\". Priserne er vist for intervallet \"&AB$24&\" i \"&$F$15&\" / kWh. \"","v":"Figur XX: Level 2: Elpris inkl. PSO og ikke-refunderbare afgifter. \nPriserne er vist for år 2015 i faste priser med basisår 2016. Priserne er vist for intervallet IE:20 < 70 GWh i Euro / kWh. "},null,null,null,null,null,{"$f":"\"Figur XX: \"&$B49&\". \nPriserne er vist for år \"&$F$12&\" i \"&$F$13&\" med basisår \"&$F$14&\". Priserne er vist for intervallet \"&AH$24&\" i \"&$F$15&\" / kWh. \"","v":"Figur XX: Level 2: Elpris inkl. PSO og ikke-refunderbare afgifter. \nPriserne er vist for år 2015 i faste priser med basisår 2016. Priserne er vist for intervallet IF: 70 < 150 GWh i Euro / kWh. "},null,null,null,null,null,{"$f":"\"Figur XX: \"&$B49&\". \nPriserne er vist for år \"&$F$12&\" i \"&$F$13&\" med basisår \"&$F$14&\". Priserne er vist for intervallet \"&AN$24&\" i \"&$F$15&\" / kWh. \"","v":"Figur XX: Level 2: Elpris inkl. PSO og ikke-refunderbare afgifter. \nPriserne er vist for år 2015 i faste priser med basisår 2016. Priserne er vist for intervallet IG: > 150 GWh i Euro / kWh. "},null,null,null,null,null,{"$f":"B49","v":"Level 2: Elpris inkl. PSO og ikke-refunderbare afgifter"}]
[]
[]
[]
[]
[]
[]
[]
[]
[]
[]
[]
[]
[]
[]
[]
[]
[]
[]
[]
[]
[]
[]
[]
[]
[]
[]
[]
[]
[null,null,null,{"$f":"'Baggrundstabeller for alle land'!D26","v":"IA: <0,02 GWh"},null,null,null,null,null,{"$f":"'Baggrundstabeller for alle land'!I26","v":"IB: 0,02 < 0,5 GWh"},null,null,null,null,null,{"$f":"'Baggrundstabeller for alle land'!N26","v":"IC: 0,5 < 2 GWh"},null,null,null,null,null,{"$f":"'Baggrundstabeller for alle land'!S71","v":"ID: 2 < 20 GWh"},null,null,null,null,null,{"$f":"'Baggrundstabeller for alle land'!X71","v":"IE:20 < 70 GWh"},null,null,null,null,null,{"$f":"'Baggrundstabeller for alle land'!AD71","v":"IF: 70 < 150 GWh"},null,null,null,null,null,{"$f":"'Baggrundstabeller for alle land'!AI71","v":"IG: > 150 GWh"}]
[]
[null,null,null,{"$f":"$F$15 &\" / kWh \"&$F$12","v":"Euro / kWh 2015"},null,"Elpris inkl. PSO, eksl. afgifter \n","Ikke-refunderbare\n afgifter","Elpris inkl. PSO og ikke-refunderbare afgifter",null,{"$f":"$F$15 &\" / kWh \"&$F$12","v":"Euro / kWh 2015"},null,"Elpris inkl. PSO, eksl. afgifter \n","Ikke-refunderbare\n afgifter","Elpris inkl. PSO og ikke-refunderbare afgifter",null,{"$f":"$F$15 &\" / kWh \"&$F$12","v":"Euro / kWh 2015"},null,"Elpris inkl. PSO, eksl. afgifter \n","Ikke-refunderbare\n afgifter","Elpris inkl. PSO og ikke-refunderbare afgifter",null,{"$f":"$F$15 &\" / kWh \"&$F$12","v":"Euro / kWh 2015"},null,"Elpris inkl. PSO, eksl. afgifter \n","Ikke-refunderbare\n afgifter","Elpris inkl. PSO og ikke-refunderbare afgifter",null,{"$f":"$F$15 &\" / kWh \"&$F$12","v":"Euro / kWh 2015"},null,"Elpris inkl. PSO, eksl. afgifter \n","Ikke-refunderbare\n afgifter","Elpris inkl. PSO og ikke-refunderbare afgifter",null,{"$f":"$F$15 &\" / kWh \"&$F$12","v":"Euro / kWh 2015"},null,"Elpris inkl. PSO, eksl. afgifter \n","Ikke-refunderbare\n afgifter","Elpris inkl. PSO og ikke-refunderbare afgifter",null,{"$f":"$F$15 &\" / kWh \"&$F$12","v":"Euro / kWh 2015"},null,"Elpris inkl. PSO, eksl. afgifter \n","Ikke-refunderbare\n afgifter","Elpris inkl. PSO og ikke-refunderbare afgifter"]
[null,null,null,"Land","orig. rækkefølge","(Total pris level 1)"," ","(Total pris level 2)",null,"land","orig. rækkefølge","(Total pris level 1)"," ","(Total pris level 2)",null," ","orig. rækkefølge","(Total pris level 1)","    ","(Total pris level 2)",null," ","orig. rækkefølge","(Total pris level 1)","      ","(Total pris level 2)",null," ","orig. rækkefølge","(Total pris level 1)","  ","(Total pris level 2)",null,"  ","orig. rækkefølge","(Total pris level 1)","   ","(Total pris level 2)",null," ","orig. rækkefølge","(Total pris level 1)","  ","(Total pris level 2)"]
[null,null,null,{"$f":"'Baggrundstabeller for alle land'!D29","v":"EU-28"},1,{"$f":"'Baggrundstabeller for alle land'!E29","v":0.15218915587248005},{"$f":"'Baggrundstabeller for alle land'!F29","v":4.4577026399135175E-2},{"$f":"SUM(F82:G82)","v":0.19676618227161524},null,{"$f":"'Baggrundstabeller for alle land'!I29","v":"EU-28"},1,{"$f":"'Baggrundstabeller for alle land'!J29","v":0.11275365500957728},{"$f":"'Baggrundstabeller for alle land'!K29","v":3.6042094008989362E-2},{"$f":"SUM(L82:M82)","v":0.14879574901856663},null,{"$f":"'Baggrundstabeller for alle land'!N29","v":"EU-28"},1,{"$f":"'Baggrundstabeller for alle land'!O29","v":9.0953586735951761E-2},{"$f":"'Baggrundstabeller for alle land'!P29","v":3.2185949856815027E-2},{"$f":"SUM(R82:S82)","v":0.12313953659276679},null,{"$f":"'Baggrundstabeller for alle land'!S29","v":"EU-28"},1,{"$f":"'Baggrundstabeller for alle land'!T29","v":8.1133272961747799E-2},{"$f":"'Baggrundstabeller for alle land'!U29","v":2.8638297236814655E-2},{"$f":"SUM(X82:Y82)","v":0.10977157019856246},null,{"$f":"'Baggrundstabeller for alle land'!X29","v":"EU-28"},1,{"$f":"'Baggrundstabeller for alle land'!Y29","v":7.2804001593051268E-2},{"$f":"'Baggrundstabeller for alle land'!Z29","v":2.2982619146958976E-2},{"$f":"SUM(AD82:AE82)","v":9.5786620740010237E-2},null,{"$f":"'Baggrundstabeller for alle land'!AD29","v":"EU-28"},1,{"$f":"'Baggrundstabeller for alle land'!AE29","v":6.7353984524644889E-2},{"$f":"'Baggrundstabeller for alle land'!AF29","v":1.8406661419712114E-2},{"$f":"SUM(AJ82:AK82)","v":8.5760645944357006E-2},null,{"$f":"'Baggrundstabeller for alle land'!AI29","v":"EU-28"},1,{"$f":"'Baggrundstabeller for alle land'!AJ29","v":"*"},{"$f":"'Baggrundstabeller for alle land'!AK29","v":"*"},{"$f":"SUM(AP82:AQ82)","v":0}]
[null,null,null,{"$f":"'Baggrundstabeller for alle land'!D30","v":"Belgien"},2,{"$f":"'Baggrundstabeller for alle land'!E30","v":0.15392199762187875},{"$f":"'Baggrundstabeller for alle land'!F30","v":2.59730762697469E-2},0.17989507389162565,null,{"$f":"'Baggrundstabeller for alle land'!I30","v":"Belgien"},2,{"$f":"'Baggrundstabeller for alle land'!J30","v":0.12346037030745714},{"$f":"'Baggrundstabeller for alle land'!K30","v":2.3047953117037525E-2},0.14650832342449466,null,{"$f":"'Baggrundstabeller for alle land'!N30","v":"Belgien"},2,{"$f":"'Baggrundstabeller for alle land'!O30","v":9.1687480890096845E-2},{"$f":"'Baggrundstabeller for alle land'!P30","v":1.8307236283336168E-2},0.10999471717343301,null,{"$f":"'Baggrundstabeller for alle land'!S30","v":"Belgien"},2,{"$f":"'Baggrundstabeller for alle land'!T30","v":7.9633956174622059E-2},{"$f":"'Baggrundstabeller for alle land'!U30","v":1.7601172074061502E-2},9.7235128248683564E-2,null,{"$f":"'Baggrundstabeller for alle land'!X30","v":"Belgien"},2,{"$f":"'Baggrundstabeller for alle land'!Y30","v":6.581527093596061E-2},{"$f":"'Baggrundstabeller for alle land'!Z30","v":1.2003091557669437E-2},7.7818362493630042E-2,null,{"$f":"'Baggrundstabeller for alle land'!AD30","v":"Belgien"},2,{"$f":"'Baggrundstabeller for alle land'!AE30","v":5.9561559368099218E-2},{"$f":"'Baggrundstabeller for alle land'!AF30","v":6.3041447256667162E-3},6.5865704093765937E-2,null,{"$f":"'Baggrundstabeller for alle land'!AI30","v":"Belgien"},2,{"$f":"'Baggrundstabeller for alle land'!AJ30","v":"*"},{"$f":"'Baggrundstabeller for alle land'!AK30","v":"*"},0]
[null,null,null,{"$f":"'Baggrundstabeller for alle land'!D31","v":"Bulgarien"},3,{"$f":"'Baggrundstabeller for alle land'!E31","v":0.10746326571766411},{"$f":"'Baggrundstabeller for alle land'!F31","v":1.0015215817116886E-3},0.10846478729937579,null,{"$f":"'Baggrundstabeller for alle land'!I31","v":"Bulgarien"},3,{"$f":"'Baggrundstabeller for alle land'!J31","v":9.5595234974380605E-2},{"$f":"'Baggrundstabeller for alle land'!K31","v":1.0015215817116886E-3},9.6596756556092289E-2,null,{"$f":"'Baggrundstabeller for alle land'!N31","v":"Bulgarien"},3,{"$f":"'Baggrundstabeller for alle land'!O31","v":7.2810618990439696E-2},{"$f":"'Baggrundstabeller for alle land'!P31","v":1.0015215817116886E-3},7.381214057215138E-2,null,{"$f":"'Baggrundstabeller for alle land'!S31","v":"Bulgarien"},3,{"$f":"'Baggrundstabeller for alle land'!T31","v":6.5048826732174131E-2},{"$f":"'Baggrundstabeller for alle land'!U31","v":1.0515976607972676E-3},6.6100424392971396E-2,null,{"$f":"'Baggrundstabeller for alle land'!X31","v":"Bulgarien"},3,{"$f":"'Baggrundstabeller for alle land'!Y31","v":5.8839392925561652E-2},{"$f":"'Baggrundstabeller for alle land'!Z31","v":1.0015215817116886E-3},5.9840914507273343E-2,null,{"$f":"'Baggrundstabeller for alle land'!AD31","v":"Bulgarien"},3,{"$f":"'Baggrundstabeller for alle land'!AE31","v":5.5584447784998672E-2},{"$f":"'Baggrundstabeller for alle land'!AF31","v":1.0515976607972746E-3},5.6636045445795945E-2,null,{"$f":"'Baggrundstabeller for alle land'!AI31","v":"Bulgarien"},3,{"$f":"'Baggrundstabeller for alle land'!AJ31","v":5.2980491672548286E-2},{"$f":"'Baggrundstabeller for alle land'!AK31","v":1.0515976607972676E-3},5.4032089333345551E-2]
[null,null,null,{"$f":"'Baggrundstabeller for alle land'!D32","v":"Tjekkiet"},4,{"$f":"'Baggrundstabeller for alle land'!E32","v":0.15811293982328645},{"$f":"'Baggrundstabeller for alle land'!F32","v":1.0676436451090034E-3},0.15918058346839545,null,{"$f":"'Baggrundstabeller for alle land'!I32","v":"Tjekkiet"},4,{"$f":"'Baggrundstabeller for alle land'!J32","v":0.12252481831965284},{"$f":"'Baggrundstabeller for alle land'!K32","v":1.0168034715323897E-3},0.12354162179118523,null,{"$f":"'Baggrundstabeller for alle land'!N32","v":"Tjekkiet"},4,{"$f":"'Baggrundstabeller for alle land'!O32","v":7.7988826266534209E-2},{"$f":"'Baggrundstabeller for alle land'!P32","v":1.0676436451090177E-3},7.9056469911643223E-2,null,{"$f":"'Baggrundstabeller for alle land'!S32","v":"Tjekkiet"},4,{"$f":"'Baggrundstabeller for alle land'!T32","v":7.1989685784493121E-2},{"$f":"'Baggrundstabeller for alle land'!U32","v":1.1184838186856173E-3},7.3108169603178744E-2,null,{"$f":"'Baggrundstabeller for alle land'!X32","v":"Tjekkiet"},4,{"$f":"'Baggrundstabeller for alle land'!Y32","v":7.4531694463324097E-2},{"$f":"'Baggrundstabeller for alle land'!Z32","v":1.0676436451090034E-3},7.5599338108433098E-2,null,{"$f":"'Baggrundstabeller for alle land'!AD32","v":"Tjekkiet"},4,{"$f":"'Baggrundstabeller for alle land'!AE32","v":7.6361940712082396E-2},{"$f":"'Baggrundstabeller for alle land'!AF32","v":1.0168034715323897E-3},7.7378744183614789E-2,null,{"$f":"'Baggrundstabeller for alle land'!AI32","v":"Tjekkiet"},4,{"$f":"'Baggrundstabeller for alle land'!AJ32","v":"*"},{"$f":"'Baggrundstabeller for alle land'!AK32","v":"*"},0]
[null,null,null,{"$f":"'Baggrundstabeller for alle land'!D33","v":"Danmark"},5,{"$f":"'Baggrundstabeller for alle land'!E33","v":8.1309134447681272E-2},{"$f":"'Baggrundstabeller for alle land'!F33","v":9.9940368243912073E-2},0.18124950269159334,null,{"$f":"'Baggrundstabeller for alle land'!I33","v":"Danmark"},5,{"$f":"'Baggrundstabeller for alle land'!J33","v":6.6778797220729505E-2},{"$f":"'Baggrundstabeller for alle land'!K33","v":3.1035180209482323E-2},9.7813977430211835E-2,null,{"$f":"'Baggrundstabeller for alle land'!N33","v":"Danmark"},5,{"$f":"'Baggrundstabeller for alle land'!O33","v":6.0450253132335888E-2},{"$f":"'Baggrundstabeller for alle land'!P33","v":3.0933923504068022E-2},9.1384176636403913E-2,null,{"$f":"'Baggrundstabeller for alle land'!S33","v":"Danmark"},5,{"$f":"'Baggrundstabeller for alle land'!T33","v":6.0804651601285925E-2},{"$f":"'Baggrundstabeller for alle land'!U33","v":3.0478268329703694E-2},9.1282919930989623E-2,null,{"$f":"'Baggrundstabeller for alle land'!X33","v":"Danmark"},5,{"$f":"'Baggrundstabeller for alle land'!Y33","v":4.8198191777205836E-2},{"$f":"'Baggrundstabeller for alle land'!Z33","v":2.9870728097217896E-2},7.8068919874423728E-2,null,{"$f":"'Baggrundstabeller for alle land'!AD33","v":"Danmark"},5,{"$f":"'Baggrundstabeller for alle land'!AE33","v":4.7033739664941399E-2},{"$f":"'Baggrundstabeller for alle land'!AF33","v":2.971884303909646E-2},7.6752582704037856E-2,null,{"$f":"'Baggrundstabeller for alle land'!AI33","v":"Danmark"},5,{"$f":"'Baggrundstabeller for alle land'!AJ33","v":"*"},{"$f":"'Baggrundstabeller for alle land'!AK33","v":"*"},0]
[null,null,null,{"$f":"'Baggrundstabeller for alle land'!D34","v":"Tyskland"},6,{"$f":"'Baggrundstabeller for alle land'!E34","v":0.13713203382199837},{"$f":"'Baggrundstabeller for alle land'!F34","v":8.6736139171051538E-2},0.2238681729930499,null,{"$f":"'Baggrundstabeller for alle land'!I34","v":"Tyskland"},6,{"$f":"'Baggrundstabeller for alle land'!J34","v":0.10421625678831706},{"$f":"'Baggrundstabeller for alle land'!K34","v":7.3447160865528022E-2},0.17766341765384508,null,{"$f":"'Baggrundstabeller for alle land'!N34","v":"Tyskland"},6,{"$f":"'Baggrundstabeller for alle land'!O34","v":8.290278004445821E-2},{"$f":"'Baggrundstabeller for alle land'!P34","v":7.0533807929317099E-2},0.1534365879737753,null,{"$f":"'Baggrundstabeller for alle land'!S34","v":"Tyskland"},6,{"$f":"'Baggrundstabeller for alle land'!T34","v":7.1096033934550773E-2},{"$f":"'Baggrundstabeller for alle land'!U34","v":6.2611532401024225E-2},0.13370756633557501,null,{"$f":"'Baggrundstabeller for alle land'!X34","v":"Tyskland"},6,{"$f":"'Baggrundstabeller for alle land'!Y34","v":6.3071535496215428E-2},{"$f":"'Baggrundstabeller for alle land'!Z34","v":5.116256647626552E-2},0.11423410197248095,null,{"$f":"'Baggrundstabeller for alle land'!AD34","v":"Tyskland"},6,{"$f":"'Baggrundstabeller for alle land'!AE34","v":5.6682603618559896E-2},{"$f":"'Baggrundstabeller for alle land'!AF34","v":4.3035845127887676E-2},9.9718448746447572E-2,null,{"$f":"'Baggrundstabeller for alle land'!AI34","v":"Tyskland"},6,{"$f":"'Baggrundstabeller for alle land'!AJ34","v":"*"},{"$f":"'Baggrundstabeller for alle land'!AK34","v":"*"},0]
[null,null,null,{"$f":"'Baggrundstabeller for alle land'!D35","v":"Estland"},7,{"$f":"'Baggrundstabeller for alle land'!E35","v":9.5358152546937858E-2},{"$f":"'Baggrundstabeller for alle land'!F35","v":1.3542886558527877E-2},0.10890103910546574,null,{"$f":"'Baggrundstabeller for alle land'!I35","v":"Estland"},7,{"$f":"'Baggrundstabeller for alle land'!J35","v":8.445283190992102E-2},{"$f":"'Baggrundstabeller for alle land'!K35","v":1.3593608980095406E-2},9.804644089001642E-2,null,{"$f":"'Baggrundstabeller for alle land'!N35","v":"Estland"},7,{"$f":"'Baggrundstabeller for alle land'!O35","v":8.0090703655114281E-2},{"$f":"'Baggrundstabeller for alle land'!P35","v":1.3593608980095406E-2},9.3684312635209682E-2,null,{"$f":"'Baggrundstabeller for alle land'!S35","v":"Estland"},7,{"$f":"'Baggrundstabeller for alle land'!T35","v":7.2989564635661475E-2},{"$f":"'Baggrundstabeller for alle land'!U35","v":1.3593608980095406E-2},8.6583173615756875E-2,null,{"$f":"'Baggrundstabeller for alle land'!X35","v":"Estland"},7,{"$f":"'Baggrundstabeller for alle land'!Y35","v":6.1475574939834403E-2},{"$f":"'Baggrundstabeller for alle land'!Z35","v":1.3137107185987719E-2},7.4612682125822116E-2,null,{"$f":"'Baggrundstabeller for alle land'!AD35","v":"Estland"},7,{"$f":"'Baggrundstabeller for alle land'!AE35","v":5.812789511637808E-2},{"$f":"'Baggrundstabeller for alle land'!AF35","v":1.3289274450690261E-2},7.1417169567068339E-2,null,{"$f":"'Baggrundstabeller for alle land'!AI35","v":"Estland"},7,{"$f":"'Baggrundstabeller for alle land'!AJ35","v":"*"},{"$f":"'Baggrundstabeller for alle land'!AK35","v":"*"},0]
[null,null,null,{"$f":"'Baggrundstabeller for alle land'!D36","v":"Irland"},8,{"$f":"'Baggrundstabeller for alle land'!E36","v":0.18042791989639834},{"$f":"'Baggrundstabeller for alle land'!F36","v":3.8848369963026236E-2},0.21927628985942457,null,{"$f":"'Baggrundstabeller for alle land'!I36","v":"Irland"},8,{"$f":"'Baggrundstabeller for alle land'!J36","v":0.15703421482329538},{"$f":"'Baggrundstabeller for alle land'!K36","v":1.6671984384677482E-2},0.17370619920797287,null,{"$f":"'Baggrundstabeller for alle land'!N36","v":"Irland"},8,{"$f":"'Baggrundstabeller for alle land'!O36","v":0.1336405097501924},{"$f":"'Baggrundstabeller for alle land'!P36","v":1.3178806704078366E-2},0.14681931645427077,null,{"$f":"'Baggrundstabeller for alle land'!S36","v":"Irland"},8,{"$f":"'Baggrundstabeller for alle land'!T36","v":0.11178168577917082},{"$f":"'Baggrundstabeller for alle land'!U36","v":8.8387980706067792E-3},0.1206204838497776,null,{"$f":"'Baggrundstabeller for alle land'!X36","v":"Irland"},8,{"$f":"'Baggrundstabeller for alle land'!Y36","v":9.8285317467765254E-2},{"$f":"'Baggrundstabeller for alle land'!Z36","v":6.1395244083256697E-3},0.10442484187609093,null,{"$f":"'Baggrundstabeller for alle land'!AD36","v":"Irland"},8,{"$f":"'Baggrundstabeller for alle land'!AE36","v":9.1034327433794415E-2},{"$f":"'Baggrundstabeller for alle land'!AF36","v":4.2341547643625346E-3},9.5268482198156951E-2,null,{"$f":"'Baggrundstabeller for alle land'!AI36","v":"Irland"},8,{"$f":"'Baggrundstabeller for alle land'!AJ36","v":"*"},{"$f":"'Baggrundstabeller for alle land'!AK36","v":"*"},0]
[null,null,null,{"$f":"'Baggrundstabeller for alle land'!D37","v":"Grækenland"},9,{"$f":"'Baggrundstabeller for alle land'!E37","v":0.15578904637810123},{"$f":"'Baggrundstabeller for alle land'!F37","v":6.3983025064090371E-2},0.2197720714421916,null,{"$f":"'Baggrundstabeller for alle land'!I37","v":"Grækenland"},9,{"$f":"'Baggrundstabeller for alle land'!J37","v":0.12663409818004623},{"$f":"'Baggrundstabeller for alle land'!K37","v":4.9627542956418559E-2},0.17626164113646478,null,{"$f":"'Baggrundstabeller for alle land'!N37","v":"Grækenland"},9,{"$f":"'Baggrundstabeller for alle land'!O37","v":0.10157366893366386},{"$f":"'Baggrundstabeller for alle land'!P37","v":1.8893985042055993E-2},0.12046765397571985,null,{"$f":"'Baggrundstabeller for alle land'!S37","v":"Grækenland"},9,{"$f":"'Baggrundstabeller for alle land'!T37","v":8.159438971164644E-2},{"$f":"'Baggrundstabeller for alle land'!U37","v":1.2086230640479683E-2},9.3680620352126126E-2,null,{"$f":"'Baggrundstabeller for alle land'!X37","v":"Grækenland"},9,{"$f":"'Baggrundstabeller for alle land'!Y37","v":6.4624335261340288E-2},{"$f":"'Baggrundstabeller for alle land'!Z37","v":7.6957223669993028E-3},7.2320057628339596E-2,null,{"$f":"'Baggrundstabeller for alle land'!AD37","v":"Grækenland"},9,{"$f":"'Baggrundstabeller for alle land'!AE37","v":4.1685162821246215E-2},{"$f":"'Baggrundstabeller for alle land'!AF37","v":7.3997330451916424E-3},4.9084895866437855E-2,null,{"$f":"'Baggrundstabeller for alle land'!AI37","v":"Grækenland"},9,{"$f":"'Baggrundstabeller for alle land'!AJ37","v":"*"},{"$f":"'Baggrundstabeller for alle land'!AK37","v":"*"},0]
[null,null,null,{"$f":"'Baggrundstabeller for alle land'!D38","v":"Spanien"},10,{"$f":"'Baggrundstabeller for alle land'!E38","v":0.25879631998544966},{"$f":"'Baggrundstabeller for alle land'!F38","v":1.3235611870623531E-2},0.27203193185607322,null,{"$f":"'Baggrundstabeller for alle land'!I38","v":"Spanien"},10,{"$f":"'Baggrundstabeller for alle land'!J38","v":0.14744672163448425},{"$f":"'Baggrundstabeller for alle land'!K38","v":7.5202340173997463E-3},0.15496695565188398,null,{"$f":"'Baggrundstabeller for alle land'!N38","v":"Spanien"},10,{"$f":"'Baggrundstabeller for alle land'!O38","v":0.10999595622783352},{"$f":"'Baggrundstabeller for alle land'!P38","v":5.6151080663251326E-3},0.11561106429415866,null,{"$f":"'Baggrundstabeller for alle land'!S38","v":"Spanien"},10,{"$f":"'Baggrundstabeller for alle land'!T38","v":9.1746855012276821E-2},{"$f":"'Baggrundstabeller for alle land'!U38","v":4.6625450907878396E-3},9.640940010306466E-2,null,{"$f":"'Baggrundstabeller for alle land'!X38","v":"Spanien"},10,{"$f":"'Baggrundstabeller for alle land'!Y38","v":7.8511243141653281E-2},{"$f":"'Baggrundstabeller for alle land'!Z38","v":4.0609263693958571E-3},8.2572169511049134E-2,null,{"$f":"'Baggrundstabeller for alle land'!AD38","v":"Spanien"},10,{"$f":"'Baggrundstabeller for alle land'!AE38","v":7.4099372518112092E-2},{"$f":"'Baggrundstabeller for alle land'!AF38","v":3.7601170086998732E-3},7.7859489526811959E-2,null,{"$f":"'Baggrundstabeller for alle land'!AI38","v":"Spanien"},10,{"$f":"'Baggrundstabeller for alle land'!AJ38","v":6.7682106156597657E-2},{"$f":"'Baggrundstabeller for alle land'!AK38","v":3.459307648003875E-3},7.1141413804601539E-2]
[null,null,null,{"$f":"'Baggrundstabeller for alle land'!D39","v":"Frankrig"},11,{"$f":"'Baggrundstabeller for alle land'!E39","v":0.11986282767511817},{"$f":"'Baggrundstabeller for alle land'!F39","v":3.2648447571981092E-2},0.15251127524709926,null,{"$f":"'Baggrundstabeller for alle land'!I39","v":"Frankrig"},11,{"$f":"'Baggrundstabeller for alle land'!J39","v":9.4047776106574985E-2},{"$f":"'Baggrundstabeller for alle land'!K39","v":2.7637290502793298E-2},0.12168506660936829,null,{"$f":"'Baggrundstabeller for alle land'!N39","v":"Frankrig"},11,{"$f":"'Baggrundstabeller for alle land'!O39","v":7.3800676837129334E-2},{"$f":"'Baggrundstabeller for alle land'!P39","v":2.525825633863343E-2},9.9058933175762767E-2,null,{"$f":"'Baggrundstabeller for alle land'!S39","v":"Frankrig"},11,{"$f":"'Baggrundstabeller for alle land'!T39","v":6.6612956596476147E-2},{"$f":"'Baggrundstabeller for alle land'!U39","v":2.0905129995702623E-2},8.7518086592178773E-2,null,{"$f":"'Baggrundstabeller for alle land'!X39","v":"Frankrig"},11,{"$f":"'Baggrundstabeller for alle land'!Y39","v":6.0640062311989679E-2},{"$f":"'Baggrundstabeller for alle land'!Z39","v":1.533717769660508E-2},7.5977240008594765E-2,null,{"$f":"'Baggrundstabeller for alle land'!AD39","v":"Frankrig"},11,{"$f":"'Baggrundstabeller for alle land'!AE39","v":5.5426434250107431E-2},{"$f":"'Baggrundstabeller for alle land'!AF39","v":6.1753652771809201E-3},6.1601799527288351E-2,null,{"$f":"'Baggrundstabeller for alle land'!AI39","v":"Frankrig"},11,{"$f":"'Baggrundstabeller for alle land'!AJ39","v":"*"},{"$f":"'Baggrundstabeller for alle land'!AK39","v":"*"},0]
[null,null,null,{"$f":"'Baggrundstabeller for alle land'!D40","v":"Kroatien"},12,{"$f":"'Baggrundstabeller for alle land'!E40","v":0.11729878129217529},{"$f":"'Baggrundstabeller for alle land'!F40","v":5.8524338640445752E-3},0.12315121515621986,null,{"$f":"'Baggrundstabeller for alle land'!I40","v":"Kroatien"},12,{"$f":"'Baggrundstabeller for alle land'!J40","v":0.10264268623093549},{"$f":"'Baggrundstabeller for alle land'!K40","v":5.2021634347062919E-3},0.10784484966564178,null,{"$f":"'Baggrundstabeller for alle land'!N40","v":"Kroatien"},12,{"$f":"'Baggrundstabeller for alle land'!O40","v":8.7236279135843808E-2},{"$f":"'Baggrundstabeller for alle land'!P40","v":5.202163434706278E-3},9.2438442570550089E-2,null,{"$f":"'Baggrundstabeller for alle land'!S40","v":"Kroatien"},12,{"$f":"'Baggrundstabeller for alle land'!T40","v":7.5181265791957122E-2},{"$f":"'Baggrundstabeller for alle land'!U40","v":4.6519346098815939E-3},7.9833200401838722E-2,null,{"$f":"'Baggrundstabeller for alle land'!X40","v":"Kroatien"},12,{"$f":"'Baggrundstabeller for alle land'!Y40","v":6.17756907871371E-2},{"$f":"'Baggrundstabeller for alle land'!Z40","v":2.851185728637102E-3},6.4626876515774201E-2,null,{"$f":"'Baggrundstabeller for alle land'!AD40","v":"Kroatien"},12,{"$f":"'Baggrundstabeller for alle land'!AE40","v":5.3372196007996177E-2},{"$f":"'Baggrundstabeller for alle land'!AF40","v":2.851185728637102E-3},5.6223381736633278E-2,null,{"$f":"'Baggrundstabeller for alle land'!AI40","v":"Kroatien"},12,{"$f":"'Baggrundstabeller for alle land'!AJ40","v":"*"},{"$f":"'Baggrundstabeller for alle land'!AK40","v":"*"},0]
[null,null,null,{"$f":"'Baggrundstabeller for alle land'!D41","v":"Italien"},13,{"$f":"'Baggrundstabeller for alle land'!E41","v":0.16799808899441507},{"$f":"'Baggrundstabeller for alle land'!F41","v":0.10310807082640414},0.2711061598208192,null,{"$f":"'Baggrundstabeller for alle land'!I41","v":"Italien"},13,{"$f":"'Baggrundstabeller for alle land'!J41","v":0.11198191946476464},{"$f":"'Baggrundstabeller for alle land'!K41","v":7.7293238423901026E-2},0.18927515788866567,null,{"$f":"'Baggrundstabeller for alle land'!N41","v":"Italien"},13,{"$f":"'Baggrundstabeller for alle land'!O41","v":9.3881285026290742E-2},{"$f":"'Baggrundstabeller for alle land'!P41","v":6.7713515462034649E-2},0.16159480048832539,null,{"$f":"'Baggrundstabeller for alle land'!S41","v":"Italien"},13,{"$f":"'Baggrundstabeller for alle land'!T41","v":8.6469604629478322E-2},{"$f":"'Baggrundstabeller for alle land'!U41","v":6.3478269520998956E-2},0.14994787415047728,null,{"$f":"'Baggrundstabeller for alle land'!X41","v":"Italien"},13,{"$f":"'Baggrundstabeller for alle land'!Y41","v":7.7242818829364901E-2},{"$f":"'Baggrundstabeller for alle land'!Z41","v":5.0419594536138951E-2},0.12766241336550385,null,{"$f":"'Baggrundstabeller for alle land'!AD41","v":"Italien"},13,{"$f":"'Baggrundstabeller for alle land'!AE41","v":6.7562256678426219E-2},{"$f":"'Baggrundstabeller for alle land'!AF41","v":3.8772668198290859E-2},0.10633492487671709,null,{"$f":"'Baggrundstabeller for alle land'!AI41","v":"Italien"},13,{"$f":"'Baggrundstabeller for alle land'!AJ41","v":6.6755543165847989E-2},{"$f":"'Baggrundstabeller for alle land'!AK41","v":2.0369516192600152E-2},8.7125059358448137E-2]
[null,null,null,{"$f":"'Baggrundstabeller for alle land'!D42","v":"Cypern"},14,{"$f":"'Baggrundstabeller for alle land'!E42","v":0.17099330628104861},{"$f":"'Baggrundstabeller for alle land'!F42","v":8.4337627268702975E-3},0.17942706900791891,null,{"$f":"'Baggrundstabeller for alle land'!I42","v":"Cypern"},14,{"$f":"'Baggrundstabeller for alle land'!J42","v":0.15323801632974271},{"$f":"'Baggrundstabeller for alle land'!K42","v":8.4337627268702975E-3},0.16167177905661301,null,{"$f":"'Baggrundstabeller for alle land'!N42","v":"Cypern"},14,{"$f":"'Baggrundstabeller for alle land'!O42","v":0.12995885839358612},{"$f":"'Baggrundstabeller for alle land'!P42","v":8.3844424770055642E-3},0.13834330087059168,null,{"$f":"'Baggrundstabeller for alle land'!S42","v":"Cypern"},14,{"$f":"'Baggrundstabeller for alle land'!T42","v":0.11486686193497612},{"$f":"'Baggrundstabeller for alle land'!U42","v":8.4337627268702975E-3},0.12330062466184642,null,{"$f":"'Baggrundstabeller for alle land'!X42","v":"Cypern"},14,{"$f":"'Baggrundstabeller for alle land'!Y42","v":0.11018143819782596},{"$f":"'Baggrundstabeller for alle land'!Z42","v":8.3844424770055642E-3},0.11856588067483152,null,{"$f":"'Baggrundstabeller for alle land'!AD42","v":"Cypern"},14,{"$f":"'Baggrundstabeller for alle land'!AE42","v":9.992282622596034E-2},{"$f":"'Baggrundstabeller for alle land'!AF42","v":8.4337627268702975E-3},0.10835658895283064,null,{"$f":"'Baggrundstabeller for alle land'!AI42","v":"Cypern"},14,{"$f":"'Baggrundstabeller for alle land'!AJ42","v":"*"},{"$f":"'Baggrundstabeller for alle land'!AK42","v":"*"},0]
[null,null,null,{"$f":"'Baggrundstabeller for alle land'!D43","v":"Letland"},15,{"$f":"'Baggrundstabeller for alle land'!E43","v":0.1360464253567652},{"$f":"'Baggrundstabeller for alle land'!F43","v":2.6927427882304615E-2},0.16297385323906982,null,{"$f":"'Baggrundstabeller for alle land'!I43","v":"Letland"},15,{"$f":"'Baggrundstabeller for alle land'!J43","v":0.10524346112504478},{"$f":"'Baggrundstabeller for alle land'!K43","v":2.6977759523206114E-2},0.1322212206482509,null,{"$f":"'Baggrundstabeller for alle land'!N43","v":"Letland"},15,{"$f":"'Baggrundstabeller for alle land'!O43","v":9.1855244645244721E-2},{"$f":"'Baggrundstabeller for alle land'!P43","v":2.6977759523206128E-2},0.11883300416845086,null,{"$f":"'Baggrundstabeller for alle land'!S43","v":"Letland"},15,{"$f":"'Baggrundstabeller for alle land'!T43","v":8.1386263337731912E-2},{"$f":"'Baggrundstabeller for alle land'!U43","v":2.6977759523206114E-2},0.10836402286093802,null,{"$f":"'Baggrundstabeller for alle land'!X43","v":"Letland"},15,{"$f":"'Baggrundstabeller for alle land'!Y43","v":7.2376899616362692E-2},{"$f":"'Baggrundstabeller for alle land'!Z43","v":2.6977759523206142E-2},9.9354659139568841E-2,null,{"$f":"'Baggrundstabeller for alle land'!AD43","v":"Letland"},15,{"$f":"'Baggrundstabeller for alle land'!AE43","v":5.7478733909517521E-2},{"$f":"'Baggrundstabeller for alle land'!AF43","v":2.6977759523206128E-2},8.4456493432723656E-2,null,{"$f":"'Baggrundstabeller for alle land'!AI43","v":"Letland"},15,{"$f":"'Baggrundstabeller for alle land'!AJ43","v":"*"},{"$f":"'Baggrundstabeller for alle land'!AK43","v":"*"},0]
[null,null,null,{"$f":"'Baggrundstabeller for alle land'!D44","v":"Litaun"},16,{"$f":"'Baggrundstabeller for alle land'!E44","v":0.11454588286107638},{"$f":"'Baggrundstabeller for alle land'!F44","v":1.6812701447814771E-2},0.13135858430889114,null,{"$f":"'Baggrundstabeller for alle land'!I44","v":"Litaun"},16,{"$f":"'Baggrundstabeller for alle land'!J44","v":9.2295245336668677E-2},{"$f":"'Baggrundstabeller for alle land'!K44","v":1.701225873502921E-2},0.10930750407169788,null,{"$f":"'Baggrundstabeller for alle land'!N44","v":"Litaun"},16,{"$f":"'Baggrundstabeller for alle land'!O44","v":8.2117823688733327E-2},{"$f":"'Baggrundstabeller for alle land'!P44","v":1.6962369413225598E-2},9.9080193101958924E-2,null,{"$f":"'Baggrundstabeller for alle land'!S44","v":"Litaun"},16,{"$f":"'Baggrundstabeller for alle land'!T44","v":7.3486971016709715E-2},{"$f":"'Baggrundstabeller for alle land'!U44","v":1.6762812126011186E-2},9.0249783142720905E-2,null,{"$f":"'Baggrundstabeller for alle land'!X44","v":"Litaun"},16,{"$f":"'Baggrundstabeller for alle land'!Y44","v":6.7001359182241108E-2},{"$f":"'Baggrundstabeller for alle land'!Z44","v":1.6762812126011172E-2},8.3764171308252283E-2,null,{"$f":"'Baggrundstabeller for alle land'!AD44","v":"Litaun"},16,{"$f":"'Baggrundstabeller for alle land'!AE44","v":6.3259660046970756E-2},{"$f":"'Baggrundstabeller for alle land'!AF44","v":1.6613144160600377E-2},7.9872804207571133E-2,null,{"$f":"'Baggrundstabeller for alle land'!AI44","v":"Litaun"},16,{"$f":"'Baggrundstabeller for alle land'!AJ44","v":"*"},{"$f":"'Baggrundstabeller for alle land'!AK44","v":"*"},0]
[null,null,null,{"$f":"'Baggrundstabeller for alle land'!D45","v":"luxembourg"},17,{"$f":"'Baggrundstabeller for alle land'!E45","v":0.13920443879320307},{"$f":"'Baggrundstabeller for alle land'!F45","v":3.1403368218880873E-2},0.17060780701208395,null,{"$f":"'Baggrundstabeller for alle land'!I45","v":"luxembourg"},17,{"$f":"'Baggrundstabeller for alle land'!J45","v":9.7144517752505252E-2},{"$f":"'Baggrundstabeller for alle land'!K45","v":8.8547202190942913E-3},0.10599923797159955,null,{"$f":"'Baggrundstabeller for alle land'!N45","v":"luxembourg"},17,{"$f":"'Baggrundstabeller for alle land'!O45","v":8.4737613259472003E-2},{"$f":"'Baggrundstabeller for alle land'!P45","v":9.0091630136133593E-3},9.3746776273085364E-2,null,{"$f":"'Baggrundstabeller for alle land'!S45","v":"luxembourg"},17,{"$f":"'Baggrundstabeller for alle land'!T45","v":5.7349757698087367E-2},{"$f":"'Baggrundstabeller for alle land'!U45","v":5.6114215341934648E-3},6.2961179232280826E-2,null,{"$f":"'Baggrundstabeller for alle land'!X45","v":"luxembourg"},17,{"$f":"'Baggrundstabeller for alle land'!Y45","v":5.1583893369374814E-2},{"$f":"'Baggrundstabeller for alle land'!Z45","v":4.684764767078956E-3},5.6268658136453771E-2,null,{"$f":"'Baggrundstabeller for alle land'!AD45","v":"luxembourg"},17,{"$f":"'Baggrundstabeller for alle land'!AE45","v":"*"},{"$f":"'Baggrundstabeller for alle land'!AF45","v":"*"},0,null,{"$f":"'Baggrundstabeller for alle land'!AI45","v":"luxembourg"},17,{"$f":"'Baggrundstabeller for alle land'!AJ45","v":"*"},{"$f":"'Baggrundstabeller for alle land'!AK45","v":"*"},0]
[null,null,null,{"$f":"'Baggrundstabeller for alle land'!D46","v":"Ungarn"},18,{"$f":"'Baggrundstabeller for alle land'!E46","v":9.893006818090129E-2},{"$f":"'Baggrundstabeller for alle land'!F46","v":8.8699398878444389E-3},0.10780000806874573,null,{"$f":"'Baggrundstabeller for alle land'!I46","v":"Ungarn"},18,{"$f":"'Baggrundstabeller for alle land'!J46","v":8.8749796264170761E-2},{"$f":"'Baggrundstabeller for alle land'!K46","v":8.869939887844425E-3},9.7619736152015191E-2,null,{"$f":"'Baggrundstabeller for alle land'!N46","v":"Ungarn"},18,{"$f":"'Baggrundstabeller for alle land'!O46","v":7.8670319118892981E-2},{"$f":"'Baggrundstabeller for alle land'!P46","v":8.8699398878444389E-3},8.7540259006737425E-2,null,{"$f":"'Baggrundstabeller for alle land'!S46","v":"Ungarn"},18,{"$f":"'Baggrundstabeller for alle land'!T46","v":7.7108000161374951E-2},{"$f":"'Baggrundstabeller for alle land'!U46","v":8.869939887844425E-3},8.5977940049219381E-2,null,{"$f":"'Baggrundstabeller for alle land'!X46","v":"Ungarn"},18,{"$f":"'Baggrundstabeller for alle land'!Y46","v":7.6200847218299936E-2},{"$f":"'Baggrundstabeller for alle land'!Z46","v":8.819542502118043E-3},8.5020389720417977E-2,null,{"$f":"'Baggrundstabeller for alle land'!AD46","v":"Ungarn"},18,{"$f":"'Baggrundstabeller for alle land'!AE46","v":7.6906410618469395E-2},{"$f":"'Baggrundstabeller for alle land'!AF46","v":8.9203372735708227E-3},8.5826747892040214E-2,null,{"$f":"'Baggrundstabeller for alle land'!AI46","v":"Ungarn"},18,{"$f":"'Baggrundstabeller for alle land'!AJ46","v":7.4033759632065224E-2},{"$f":"'Baggrundstabeller for alle land'!AK46","v":8.8699398878444389E-3},8.2903699519909668E-2]
[null,null,null,{"$f":"'Baggrundstabeller for alle land'!D47","v":"Malta"},19,{"$f":"'Baggrundstabeller for alle land'!E47","v":"*"},{"$f":"'Baggrundstabeller for alle land'!F47","v":"*"},0,null,{"$f":"'Baggrundstabeller for alle land'!I47","v":"Malta"},19,{"$f":"'Baggrundstabeller for alle land'!J47","v":"*"},{"$f":"'Baggrundstabeller for alle land'!K47","v":"*"},0,null,{"$f":"'Baggrundstabeller for alle land'!N47","v":"Malta"},19,{"$f":"'Baggrundstabeller for alle land'!O47","v":"*"},{"$f":"'Baggrundstabeller for alle land'!P47","v":"*"},0,null,{"$f":"'Baggrundstabeller for alle land'!S47","v":"Malta"},19,{"$f":"'Baggrundstabeller for alle land'!T47","v":"*"},{"$f":"'Baggrundstabeller for alle land'!U47","v":"*"},0,null,{"$f":"'Baggrundstabeller for alle land'!X47","v":"Malta"},19,{"$f":"'Baggrundstabeller for alle land'!Y47","v":"*"},{"$f":"'Baggrundstabeller for alle land'!Z47","v":"*"},0,null,{"$f":"'Baggrundstabeller for alle land'!AD47","v":"Malta"},19,{"$f":"'Baggrundstabeller for alle land'!AE47","v":"*"},{"$f":"'Baggrundstabeller for alle land'!AF47","v":"*"},0,null,{"$f":"'Baggrundstabeller for alle land'!AI47","v":"Malta"},19,{"$f":"'Baggrundstabeller for alle land'!AJ47","v":"*"},{"$f":"'Baggrundstabeller for alle land'!AK47","v":"*"},0]
[null,null,null,{"$f":"'Baggrundstabeller for alle land'!D48","v":"Holland"},20,{"$f":"'Baggrundstabeller for alle land'!E48","v":0.13071023558989692},{"$f":"'Baggrundstabeller for alle land'!F48","v":4.9650793065289557E-2},0.18036102865518647,null,{"$f":"'Baggrundstabeller for alle land'!I48","v":"Holland"},20,{"$f":"'Baggrundstabeller for alle land'!J48","v":8.8899041429653061E-2},{"$f":"'Baggrundstabeller for alle land'!K48","v":3.5981748820594454E-2},0.12488079025024751,null,{"$f":"'Baggrundstabeller for alle land'!N48","v":"Holland"},20,{"$f":"'Baggrundstabeller for alle land'!O48","v":7.2064005319458738E-2},{"$f":"'Baggrundstabeller for alle land'!P48","v":1.5779705488361263E-2},8.7843710807819997E-2,null,{"$f":"'Baggrundstabeller for alle land'!S48","v":"Holland"},20,{"$f":"'Baggrundstabeller for alle land'!T48","v":6.6938113727698062E-2},{"$f":"'Baggrundstabeller for alle land'!U48","v":1.4171582636044188E-2},8.1109696363742254E-2,null,{"$f":"'Baggrundstabeller for alle land'!X48","v":"Holland"},20,{"$f":"'Baggrundstabeller for alle land'!Y48","v":6.3520852666524297E-2},{"$f":"'Baggrundstabeller for alle land'!Z48","v":3.8695456133879436E-3},6.7390398279912236E-2,null,{"$f":"'Baggrundstabeller for alle land'!AD48","v":"Holland"},20,{"$f":"'Baggrundstabeller for alle land'!AE48","v":6.7239636762507521E-2},{"$f":"'Baggrundstabeller for alle land'!AF48","v":2.11066124366616E-3},6.9350298006173677E-2,null,{"$f":"'Baggrundstabeller for alle land'!AI48","v":"Holland"},20,{"$f":"'Baggrundstabeller for alle land'!AJ48","v":6.487770632316682E-2},{"$f":"'Baggrundstabeller for alle land'!AK48","v":9.5482294356326715E-4},6.5832529266730083E-2]
[null,null,null,{"$f":"'Baggrundstabeller for alle land'!D49","v":"Østrig"},21,{"$f":"'Baggrundstabeller for alle land'!E49","v":0.11956211467756872},{"$f":"'Baggrundstabeller for alle land'!F49","v":4.376328783527144E-2},0.16332540251284017,null,{"$f":"'Baggrundstabeller for alle land'!I49","v":"Østrig"},21,{"$f":"'Baggrundstabeller for alle land'!J49","v":9.3009679018813546E-2},{"$f":"'Baggrundstabeller for alle land'!K49","v":3.391400959856302E-2},0.12692368861737657,null,{"$f":"'Baggrundstabeller for alle land'!N49","v":"Østrig"},21,{"$f":"'Baggrundstabeller for alle land'!O49","v":7.4123434152547921E-2},{"$f":"'Baggrundstabeller for alle land'!P49","v":3.1781691629791088E-2},0.10590512578233902,null,{"$f":"'Baggrundstabeller for alle land'!S49","v":"Østrig"},21,{"$f":"'Baggrundstabeller for alle land'!T49","v":6.5898779130141916E-2},{"$f":"'Baggrundstabeller for alle land'!U49","v":2.5790893527050912E-2},9.1689672657192828E-2,null,{"$f":"'Baggrundstabeller for alle land'!X49","v":"Østrig"},21,{"$f":"'Baggrundstabeller for alle land'!Y49","v":5.6861812500584703E-2},{"$f":"'Baggrundstabeller for alle land'!Z49","v":2.178010496674181E-2},7.8641917467326516E-2,null,{"$f":"'Baggrundstabeller for alle land'!AD49","v":"Østrig"},21,{"$f":"'Baggrundstabeller for alle land'!AE49","v":5.1226400725973176E-2},{"$f":"'Baggrundstabeller for alle land'!AF49","v":2.0155481752439405E-2},7.1381882478412581E-2,null,{"$f":"'Baggrundstabeller for alle land'!AI49","v":"Østrig"},21,{"$f":"'Baggrundstabeller for alle land'!AJ49","v":4.5590988951361669E-2},{"$f":"'Baggrundstabeller for alle land'!AK49","v":1.9495478571629043E-2},6.5086467522990715E-2]
[null,null,null,{"$f":"'Baggrundstabeller for alle land'!D50","v":"Polen"},22,{"$f":"'Baggrundstabeller for alle land'!E50","v":0.14841631392350665},{"$f":"'Baggrundstabeller for alle land'!F50","v":4.781129136226905E-3},0.15319744305973357,null,{"$f":"'Baggrundstabeller for alle land'!I50","v":"Polen"},22,{"$f":"'Baggrundstabeller for alle land'!J50","v":0.11062022990975504},{"$f":"'Baggrundstabeller for alle land'!K50","v":4.781129136226905E-3},0.11540135904598194,null,{"$f":"'Baggrundstabeller for alle land'!N50","v":"Polen"},22,{"$f":"'Baggrundstabeller for alle land'!O50","v":8.2839353244520839E-2},{"$f":"'Baggrundstabeller for alle land'!P50","v":4.8817844864632639E-3},8.7721137730984097E-2,null,{"$f":"'Baggrundstabeller for alle land'!S50","v":"Polen"},22,{"$f":"'Baggrundstabeller for alle land'!T50","v":7.1666609368285339E-2},{"$f":"'Baggrundstabeller for alle land'!U50","v":4.8314568113450775E-3},7.6498066179630411E-2,null,{"$f":"'Baggrundstabeller for alle land'!X50","v":"Polen"},22,{"$f":"'Baggrundstabeller for alle land'!Y50","v":6.5023356252685849E-2},{"$f":"'Baggrundstabeller for alle land'!Z50","v":4.8817844864632639E-3},6.9905140739149108E-2,null,{"$f":"'Baggrundstabeller for alle land'!AD50","v":"Polen"},22,{"$f":"'Baggrundstabeller for alle land'!AE50","v":6.0141571766222597E-2},{"$f":"'Baggrundstabeller for alle land'!AF50","v":4.8314568113450775E-3},6.4973028577567676E-2,null,{"$f":"'Baggrundstabeller for alle land'!AI50","v":"Polen"},22,{"$f":"'Baggrundstabeller for alle land'!AJ50","v":5.4907493553932096E-2},{"$f":"'Baggrundstabeller for alle land'!AK50","v":4.8314568113450775E-3},5.9738950365277176E-2]
[null,null,null,{"$f":"'Baggrundstabeller for alle land'!D51","v":"Portugal"},23,{"$f":"'Baggrundstabeller for alle land'!E51","v":0.17198057748669179},{"$f":"'Baggrundstabeller for alle land'!F51","v":2.6450724724365521E-2},0.19843130221105731,null,{"$f":"'Baggrundstabeller for alle land'!I51","v":"Portugal"},23,{"$f":"'Baggrundstabeller for alle land'!J51","v":0.12589527633231654},{"$f":"'Baggrundstabeller for alle land'!K51","v":2.2025315010865888E-2},0.14792059134318242,null,{"$f":"'Baggrundstabeller for alle land'!N51","v":"Portugal"},23,{"$f":"'Baggrundstabeller for alle land'!O51","v":0.10122488884901412},{"$f":"'Baggrundstabeller for alle land'!P51","v":1.546350060809059E-2},0.11668838945710472,null,{"$f":"'Baggrundstabeller for alle land'!S51","v":"Portugal"},23,{"$f":"'Baggrundstabeller for alle land'!T51","v":9.2068868752118366E-2},{"$f":"'Baggrundstabeller for alle land'!U51","v":1.3276229140498842E-2},0.1053450978926172,null,{"$f":"'Baggrundstabeller for alle land'!X51","v":"Portugal"},23,{"$f":"'Baggrundstabeller for alle land'!Y51","v":7.563889935602211E-2},{"$f":"'Baggrundstabeller for alle land'!Z51","v":1.3937497258607977E-2},8.9576396614630086E-2,null,{"$f":"'Baggrundstabeller for alle land'!AD51","v":"Portugal"},23,{"$f":"'Baggrundstabeller for alle land'!AE51","v":6.9229685288195078E-2},{"$f":"'Baggrundstabeller for alle land'!AF51","v":1.38357637019758E-2},8.3065448990170876E-2,null,{"$f":"'Baggrundstabeller for alle land'!AI51","v":"Portugal"},23,{"$f":"'Baggrundstabeller for alle land'!AJ51","v":"*"},{"$f":"'Baggrundstabeller for alle land'!AK51","v":"*"},0]
[null,null,null,{"$f":"'Baggrundstabeller for alle land'!D52","v":"Rumænien"},24,{"$f":"'Baggrundstabeller for alle land'!E52","v":0.10057403701827894},{"$f":"'Baggrundstabeller for alle land'!F52","v":1.1886488328191905E-2},0.11246052534647084,null,{"$f":"'Baggrundstabeller for alle land'!I52","v":"Rumænien"},24,{"$f":"'Baggrundstabeller for alle land'!J52","v":8.7509146829964551E-2},{"$f":"'Baggrundstabeller for alle land'!K52","v":1.2347602099544185E-2},9.9856748929508743E-2,null,{"$f":"'Baggrundstabeller for alle land'!N52","v":"Rumænien"},24,{"$f":"'Baggrundstabeller for alle land'!O52","v":7.1113990515217079E-2},{"$f":"'Baggrundstabeller for alle land'!P52","v":1.2501306689994952E-2},8.3615297205212033E-2,null,{"$f":"'Baggrundstabeller for alle land'!S52","v":"Rumænien"},24,{"$f":"'Baggrundstabeller for alle land'!T52","v":6.2660238040425434E-2},{"$f":"'Baggrundstabeller for alle land'!U52","v":1.2450071826511358E-2},7.5110309866936786E-2,null,{"$f":"'Baggrundstabeller for alle land'!X52","v":"Rumænien"},24,{"$f":"'Baggrundstabeller for alle land'!Y52","v":5.4257720429117362E-2},{"$f":"'Baggrundstabeller for alle land'!Z52","v":1.2091427782126254E-2},6.6349148211243617E-2,null,{"$f":"'Baggrundstabeller for alle land'!AD52","v":"Rumænien"},24,{"$f":"'Baggrundstabeller for alle land'!AE52","v":5.2003386435839592E-2},{"$f":"'Baggrundstabeller for alle land'!AF52","v":1.1015495648970943E-2},6.3018882084810532E-2,null,{"$f":"'Baggrundstabeller for alle land'!AI52","v":"Rumænien"},24,{"$f":"'Baggrundstabeller for alle land'!AJ52","v":"*"},{"$f":"'Baggrundstabeller for alle land'!AK52","v":"*"},0]
[null,null,null,{"$f":"'Baggrundstabeller for alle land'!D53","v":"Slovenien"},25,{"$f":"'Baggrundstabeller for alle land'!E53","v":0.11433051250074232},{"$f":"'Baggrundstabeller for alle land'!F53","v":3.0139853910564725E-2},0.14447036641130703,null,{"$f":"'Baggrundstabeller for alle land'!I53","v":"Slovenien"},25,{"$f":"'Baggrundstabeller for alle land'!J53","v":9.0520027911396156E-2},{"$f":"'Baggrundstabeller for alle land'!K53","v":1.4969460775580493E-2},0.10548948868697665,null,{"$f":"'Baggrundstabeller for alle land'!N53","v":"Slovenien"},25,{"$f":"'Baggrundstabeller for alle land'!O53","v":7.1582153037591301E-2},{"$f":"'Baggrundstabeller for alle land'!P53","v":1.3663400439456009E-2},8.5245553477047306E-2,null,{"$f":"'Baggrundstabeller for alle land'!S53","v":"Slovenien"},25,{"$f":"'Baggrundstabeller for alle land'!T53","v":6.3343926302036918E-2},{"$f":"'Baggrundstabeller for alle land'!U53","v":1.0800114317952381E-2},7.4144040619989304E-2,null,{"$f":"'Baggrundstabeller for alle land'!X53","v":"Slovenien"},25,{"$f":"'Baggrundstabeller for alle land'!Y53","v":5.6813624621414566E-2},{"$f":"'Baggrundstabeller for alle land'!Z53","v":8.5898583645109428E-3},6.5403482985925507E-2,null,{"$f":"'Baggrundstabeller for alle land'!AD53","v":"Slovenien"},25,{"$f":"'Baggrundstabeller for alle land'!AE53","v":5.6210827543203272E-2},{"$f":"'Baggrundstabeller for alle land'!AF53","v":7.0326325791317829E-3},6.324346012233506E-2,null,{"$f":"'Baggrundstabeller for alle land'!AI53","v":"Slovenien"},25,{"$f":"'Baggrundstabeller for alle land'!AJ53","v":"*"},{"$f":"'Baggrundstabeller for alle land'!AK53","v":"*"},0]
[null,null,null,{"$f":"'Baggrundstabeller for alle land'!D54","v":"Slovakiet"},26,{"$f":"'Baggrundstabeller for alle land'!E54","v":0.20286429110908843},{"$f":"'Baggrundstabeller for alle land'!F54","v":4.4881480333869165E-3},0.20735243914247536,null,{"$f":"'Baggrundstabeller for alle land'!I54","v":"Slovakiet"},26,{"$f":"'Baggrundstabeller for alle land'!J54","v":0.13314839165714507},{"$f":"'Baggrundstabeller for alle land'!K54","v":4.4881480333869165E-3},0.13763653969053199,null,{"$f":"'Baggrundstabeller for alle land'!N54","v":"Slovakiet"},26,{"$f":"'Baggrundstabeller for alle land'!O54","v":0.10761581617832174},{"$f":"'Baggrundstabeller for alle land'!P54","v":4.4881480333869165E-3},0.11210396421170865,null,{"$f":"'Baggrundstabeller for alle land'!S54","v":"Slovakiet"},26,{"$f":"'Baggrundstabeller for alle land'!T54","v":9.5049001684838388E-2},{"$f":"'Baggrundstabeller for alle land'!U54","v":4.4881480333869165E-3},9.9537149718225304E-2,null,{"$f":"'Baggrundstabeller for alle land'!X54","v":"Slovakiet"},26,{"$f":"'Baggrundstabeller for alle land'!Y54","v":9.2854795979626994E-2},{"$f":"'Baggrundstabeller for alle land'!Z54","v":4.4881480333869165E-3},9.734294401301391E-2,null,{"$f":"'Baggrundstabeller for alle land'!AD54","v":"Slovakiet"},26,{"$f":"'Baggrundstabeller for alle land'!AE54","v":9.0311512094041077E-2},{"$f":"'Baggrundstabeller for alle land'!AF54","v":4.4881480333869165E-3},9.4799660127427993E-2,null,{"$f":"'Baggrundstabeller for alle land'!AI54","v":"Slovakiet"},26,{"$f":"'Baggrundstabeller for alle land'!AJ54","v":6.4529595057807393E-2},{"$f":"'Baggrundstabeller for alle land'!AK54","v":4.4881480333869026E-3},6.9017743091194295E-2]
[null,null,null,{"$f":"'Baggrundstabeller for alle land'!D55","v":"Finland"},27,{"$f":"'Baggrundstabeller for alle land'!E55","v":8.3487048028256183E-2},{"$f":"'Baggrundstabeller for alle land'!F55","v":7.0241506754542523E-3},9.0511198703710438E-2,null,{"$f":"'Baggrundstabeller for alle land'!I55","v":"Finland"},27,{"$f":"'Baggrundstabeller for alle land'!J55","v":7.7064967410698029E-2},{"$f":"'Baggrundstabeller for alle land'!K55","v":7.0743231802789059E-3},8.413929059097694E-2,null,{"$f":"'Baggrundstabeller for alle land'!N55","v":"Finland"},27,{"$f":"'Baggrundstabeller for alle land'!O55","v":6.3819426136984297E-2},{"$f":"'Baggrundstabeller for alle land'!P55","v":7.0743231802789059E-3},7.0893749317263208E-2,null,{"$f":"'Baggrundstabeller for alle land'!S55","v":"Finland"},27,{"$f":"'Baggrundstabeller for alle land'!T55","v":6.0357523304081846E-2},{"$f":"'Baggrundstabeller for alle land'!U55","v":7.0743231802789129E-3},6.7431846484360763E-2,null,{"$f":"'Baggrundstabeller for alle land'!X55","v":"Finland"},27,{"$f":"'Baggrundstabeller for alle land'!Y55","v":4.6208876943523998E-2},{"$f":"'Baggrundstabeller for alle land'!Z55","v":7.0743231802789268E-3},5.3283200123802922E-2,null,{"$f":"'Baggrundstabeller for alle land'!AD55","v":"Finland"},27,{"$f":"'Baggrundstabeller for alle land'!AE55","v":4.3750424207115023E-2},{"$f":"'Baggrundstabeller for alle land'!AF55","v":7.0743231802789198E-3},5.082474738739394E-2,null,{"$f":"'Baggrundstabeller for alle land'!AI55","v":"Finland"},27,{"$f":"'Baggrundstabeller for alle land'!AJ55","v":"*"},{"$f":"'Baggrundstabeller for alle land'!AK55","v":"*"},0]
[null,null,null,{"$f":"'Baggrundstabeller for alle land'!D56","v":"Sverige"},28,{"$f":"'Baggrundstabeller for alle land'!E56","v":0.13441210879791179},{"$f":"'Baggrundstabeller for alle land'!F56","v":4.9635195272493325E-4},0.13490846075063673,null,{"$f":"'Baggrundstabeller for alle land'!I56","v":"Sverige"},28,{"$f":"'Baggrundstabeller for alle land'!J56","v":7.0134530920032995E-2},{"$f":"'Baggrundstabeller for alle land'!K56","v":4.9635195272493325E-4},7.0630882872757927E-2,null,{"$f":"'Baggrundstabeller for alle land'!N56","v":"Sverige"},28,{"$f":"'Baggrundstabeller for alle land'!O56","v":5.9661504717536923E-2},{"$f":"'Baggrundstabeller for alle land'!P56","v":4.9635195272493325E-4},6.0157856670261856E-2,null,{"$f":"'Baggrundstabeller for alle land'!S56","v":"Sverige"},28,{"$f":"'Baggrundstabeller for alle land'!T56","v":5.2067319840845443E-2},{"$f":"'Baggrundstabeller for alle land'!U56","v":5.4598714799742795E-4},5.2613306988842867E-2,null,{"$f":"'Baggrundstabeller for alle land'!X56","v":"Sverige"},28,{"$f":"'Baggrundstabeller for alle land'!Y56","v":4.5465838869603842E-2},{"$f":"'Baggrundstabeller for alle land'!Z56","v":4.9635195272493325E-4},4.5962190822328775E-2,null,{"$f":"'Baggrundstabeller for alle land'!AD56","v":"Sverige"},28,{"$f":"'Baggrundstabeller for alle land'!AE56","v":3.7226396454369953E-2},{"$f":"'Baggrundstabeller for alle land'!AF56","v":5.9562234326992266E-4},3.7822018797639877E-2,null,{"$f":"'Baggrundstabeller for alle land'!AI56","v":"Sverige"},28,{"$f":"'Baggrundstabeller for alle land'!AJ56","v":"*"},{"$f":"'Baggrundstabeller for alle land'!AK56","v":"*"},0]
[null,null,null,{"$f":"'Baggrundstabeller for alle land'!D57","v":"UK"},29,{"$f":"'Baggrundstabeller for alle land'!E57","v":0.19968635328134585},{"$f":"'Baggrundstabeller for alle land'!F57","v":5.4586506615262849E-3},0.20514500394287213,null,{"$f":"'Baggrundstabeller for alle land'!I57","v":"UK"},29,{"$f":"'Baggrundstabeller for alle land'!J57","v":0.18091527906772975},{"$f":"'Baggrundstabeller for alle land'!K57","v":6.7397625514763861E-3},0.18765504161920613,null,{"$f":"'Baggrundstabeller for alle land'!N57","v":"UK"},29,{"$f":"'Baggrundstabeller for alle land'!O57","v":0.16136439761675278},{"$f":"'Baggrundstabeller for alle land'!P57","v":6.2384578988872574E-3},0.16760285551564003,null,{"$f":"'Baggrundstabeller for alle land'!S57","v":"UK"},29,{"$f":"'Baggrundstabeller for alle land'!T57","v":0.14955588802243053},{"$f":"'Baggrundstabeller for alle land'!U57","v":4.5117418733024032E-3},0.15406762989573294,null,{"$f":"'Baggrundstabeller for alle land'!X57","v":"UK"},29,{"$f":"'Baggrundstabeller for alle land'!Y57","v":0.14688226320862174},{"$f":"'Baggrundstabeller for alle land'!Z57","v":3.2306299833523015E-3},0.15011289319197405,null,{"$f":"'Baggrundstabeller for alle land'!AD57","v":"UK"},29,{"$f":"'Baggrundstabeller for alle land'!AE57","v":0.14309462805572593},{"$f":"'Baggrundstabeller for alle land'!AF57","v":3.286330500306646E-3},0.14638095855603256,null,{"$f":"'Baggrundstabeller for alle land'!AI57","v":"UK"},29,{"$f":"'Baggrundstabeller for alle land'!AJ57","v":0.13908419083501269},{"$f":"'Baggrundstabeller for alle land'!AK57","v":2.8407263646718925E-3},0.14192491719968459]
[null,null,null,null,"Level 1",null,null,null,null,null,"Level 1",null,null,null,null,"Level 1",null,null,null,null,null,"Level 1",null,null,null,null,null,"Level 1",null,null,null,null,null,"Level 1",null,null,null,null,null,"Level 1"]
[null,null,null,null,"Level 2",null,null,null,null,null,"Level 2",null,null,null,null,"Level 2",null,null,null,null,null,"Level 2",null,null,null,null,null,"Level 2",null,null,null,null,null,"Level 2",null,null,null,null,null,"Level 2"]

{"sheet":"Baggrundstabeller for alle land","index":3,"n_rows":145,"n_cols":39,"rows_kept":145,"cut":false,"hidden":false,"merged":[[4,3,4,5],[25,3,25,6],[25,8,25,11],[25,13,25,16],[25,18,25,21],[25,29,25,32],[57,3,57,4],[57,8,57,9],[57,13,57,14],[57,18,57,19],[57,23,57,24],[57,29,57,30],[25,23,25,27],[113,3,113,4],[102,3,102,4],[103,3,103,5],[102,18,102,19],[58,29,58,31],[58,3,58,5],[58,8,58,10],[58,13,58,15],[58,18,58,20],[58,23,58,25],[102,23,102,24],[102,29,102,30],[68,0,68,5],[68,7,68,10],[68,12,68,16],[68,18,68,22],[120,6,120,10],[122,6,122,10],[25,34,25,38],[57,34,57,35],[58,34,58,36],[102,34,102,35],[103,34,103,36],[68,31,68,34],[68,36,68,41],[103,29,103,31],[102,8,102,9],[103,8,103,10],[103,13,103,15],[103,18,103,20],[103,23,103,25],[102,13,102,14],[68,24,68,29],[70,3,70,6],[70,8,70,11],[70,13,70,16],[70,18,70,21]]}
[null,null,null,"NAVN PÅ ARK:","Baggrundstabeller for alle lande, valgt år"]
[null,null,null,"Data hentes fra:","'Level 1', 'Level 2', 'Afgifter og moms' og 'Baggrundsdata -BVT-deflator'"]
[]
[null,null,null,"Sådan bruges arket:"]
[null,null,null,"Arket 'Baggrundstabeller for alle lande, valgt år' skal give et indblik i hvordan de grå-blå resultatfigurer og -tabeller i arket 'Alle lande, valgt år' fremkommer. Værdierne i resultattabellerne er ens for de to ark, men i dette ark ses udregningen. \n\nNedenstående resultattabeller (de grå-blå) viser gasprisen for industrielle forbrugere opdelt på level 1 og 2 for hvert forbrugsintervalinterval. Prisen vises for alle lande i det valgte år.\n\nResultattabellerne er fremkommet ved at gange tabel A, B og C sammen. Disse tabeller ses under resultattabellerne. Tabellerne A, B og C er et resultat af valgene truffet i rullemenuerne i arket 'Alle lande, valgt år', disse valg kan ses i de farvede kasser nedenfor.\n\nHvis år, pristype, basisår, valuta eller enhed ønskes ændret, gøres det i arket 'Alle lande, valgt år'.\n\n"]
[]
[]
[]
[]
[]
[null,null,null,{"$f":"\"Valg truffet i arket: \"&'Baggrundstabeller for alle land'!E1","v":"Valg truffet i arket: Baggrundstabeller for alle lande, valgt år"}]
[null,null,null,"Valgt år",{"$f":"'Alle lande, valgt år'!F12","v":2015},"Tabel A"]
[null,null,null,"Valgt pristype",{"$f":"'Alle lande, valgt år'!F13","v":"faste priser"},"Tabel B"]
[null,null,null,"Valgt basisår",{"$f":"'Alle lande, valgt år'!F14","v":2016},"Tabel B "]
[null,null,null,"Valgt valuta",{"$f":"'Alle lande, valgt år'!F15","v":"Euro"},"Tabel C"]
[]
[]
[]
[null,null,null,"Resultattabeller:"]
[null,null,null,"Valgene truffet ovenfor giver tabeller og figurer der er:"]
[null,null,null,{"$f":"\"Oppgjort for året \"&E12&\" i \"&$E$13&\" med basisår \"&$E$14","v":"Oppgjort for året 2015 i faste priser med basisår 2016"}]
[null,null,null,{"$f":"\"Vist i \"&E15&\" / kWh\"","v":"Vist i Euro / kWh"}]
[]
[]
[null,null,null,"Tal hentet for år 2014"]
[null,null,null,{"$f":"D71","v":"IA: <0,02 GWh"},null,null,null,null,{"$f":"I71","v":"IB: 0,02 < 0,5 GWh"},null,null,null,null,{"$f":"N71","v":"IC: 0,5 < 2 GWh"},null,null,null,null,{"$f":"S71","v":"ID: 2 < 20 GWh"},null,null,null,null,{"$f":"X71","v":"IE:20 < 70 GWh"},null,null,null,null,null,{"$f":"AD71","v":"IF: 70 < 150 GWh"},null,null,null,null,{"$f":"AI71","v":"IG: > 150 GWh"}]
[]
[null,null,null,{"$f":"$E$15&\" / kWh år \"&$E$12","v":"Euro / kWh år 2015"},"Elpris ekskl. PSO og afgifter ","PSO og Ikke-refunderbare\n afgifter",null,null,{"$f":"$E$15&\" / kWh år \"&$E$12","v":"Euro / kWh år 2015"},"Elpris ekskl. PSO og afgifter ","PSO og Ikke-refunderbare\n afgifter",null,null,{"$f":"$E$15&\" / kWh år \"&$E$12","v":"Euro / kWh år 2015"},"Elpris ekskl. PSO og afgifter ","PSO og Ikke-refunderbare\n afgifter",null,null,{"$f":"$E$15&\" / kWh år \"&$E$12","v":"Euro / kWh år 2015"},"Elpris ekskl. PSO og afgifter ","PSO og Ikke-refunderbare\n afgifter",null,null,{"$f":"$E$15&\" / kWh år \"&$E$12","v":"Euro / kWh år 2015"},"Elpris ekskl. PSO og afgifter ","PSO og Ikke-refunderbare\n afgifter",null,null,null,{"$f":"$E$15&\" / kWh år \"&$E$12","v":"Euro / kWh år 2015"},"Elpris ekskl. PSO og afgifter ","PSO og Ikke-refunderbare\n afgifter",null,null,{"$f":"$E$15&\" / kWh år \"&$E$12","v":"Euro / kWh år 2015"},"Elpris ekskl. PSO og afgifter ","PSO og Ikke-refunderbare\n afgifter"]
[null,null,null,{"$f":"D74","v":"EU-28"},{"$f":"IFERROR(E74/$E117*$H$117,\"*\")","v":0.15218915587248005},{"$f":"IFERROR(F74/$E117*$H$117,\"*\")","v":4.4577026399135175E-2},null,null,{"$f":"I74","v":"EU-28"},{"$f":"IFERROR(J74/$E117*$H$117,\"*\")","v":0.11275365500957728},{"$f":"IFERROR(K74/$E117*$H$117,\"*\")","v":3.6042094008989362E-2},{"$f":"SUM(J29:K29)","v":0.14879574901856663},null,{"$f":"N74","v":"EU-28"},{"$f":"IFERROR(O74/$E117*$H$117,\"*\")","v":9.0953586735951761E-2},{"$f":"IFERROR(P74/$E117*$H$117,\"*\")","v":3.2185949856815027E-2},{"$f":"SUM(O29:P29)","v":0.12313953659276679},null,{"$f":"S74","v":"EU-28"},{"$f":"IFERROR(T74/$E117*$H$117,\"*\")","v":8.1133272961747799E-2},{"$f":"IFERROR(U74/$E117*$H$117,\"*\")","v":2.8638297236814655E-2},{"$f":"SUM(T29:U29)","v":0.10977157019856246},null,{"$f":"X74","v":"EU-28"},{"$f":"IFERROR(Y74/$E117*$H$117,\"*\")","v":7.2804001593051268E-2},{"$f":"IFERROR(Z74/$E117*$H$117,\"*\")","v":2.2982619146958976E-2},null,{"$f":"SUM(Y29:Z29)","v":9.5786620740010237E-2},null,{"$f":"AD74","v":"EU-28"},{"$f":"IFERROR(AE74/$E117*$H$117,\"*\")","v":6.7353984524644889E-2},{"$f":"IFERROR(AF74/$E117*$H$117,\"*\")","v":1.8406661419712114E-2},{"$f":"SUM(AE29:AF29)","v":8.5760645944357006E-2},null,{"$f":"AI74","v":"EU-28"},{"$f":"IFERROR(AJ74/$E117*$H$117,\"*\")","v":"*"},{"$f":"IFERROR(AK74/$E117*$H$117,\"*\")","v":"*"},null,{"$f":"SUM(AJ29:AK29)","v":0}]
[null,null,null,"Belgien",{"$f":"IFERROR(E75/$E118*$H$117,\"*\")","v":0.15392199762187875},2.59730762697469E-2,null,null,"Belgien",{"$f":"IFERROR(J75/$E118*$H$117,\"*\")","v":0.12346037030745714},2.3047953117037525E-2,0.14650832342449466,null,"Belgien",{"$f":"IFERROR(O75/$E118*$H$117,\"*\")","v":9.1687480890096845E-2},1.8307236283336168E-2,0.10999471717343301,null,"Belgien",{"$f":"IFERROR(T75/$E118*$H$117,\"*\")","v":7.9633956174622059E-2},1.7601172074061502E-2,9.7235128248683564E-2,null,"Belgien",{"$f":"IFERROR(Y75/$E118*$H$117,\"*\")","v":6.581527093596061E-2},1.2003091557669437E-2,null,7.7818362493630042E-2,null,"Belgien",{"$f":"IFERROR(AE75/$E118*$H$117,\"*\")","v":5.9561559368099218E-2},6.3041447256667162E-3,6.5865704093765937E-2,null,"Belgien",{"$f":"IFERROR(AJ75/$E118*$H$117,\"*\")","v":"*"},"*",null,0]
[null,null,null,"Bulgarien",{"$f":"IFERROR(E76/$E119*$H$117,\"*\")","v":0.10746326571766411},1.0015215817116886E-3,null,null,"Bulgarien",{"$f":"IFERROR(J76/$E119*$H$117,\"*\")","v":9.5595234974380605E-2},1.0015215817116886E-3,9.6596756556092289E-2,null,"Bulgarien",{"$f":"IFERROR(O76/$E119*$H$117,\"*\")","v":7.2810618990439696E-2},1.0015215817116886E-3,7.381214057215138E-2,null,"Bulgarien",{"$f":"IFERROR(T76/$E119*$H$117,\"*\")","v":6.5048826732174131E-2},1.0515976607972676E-3,6.6100424392971396E-2,null,"Bulgarien",{"$f":"IFERROR(Y76/$E119*$H$117,\"*\")","v":5.8839392925561652E-2},1.0015215817116886E-3,null,5.9840914507273343E-2,null,"Bulgarien",{"$f":"IFERROR(AE76/$E119*$H$117,\"*\")","v":5.5584447784998672E-2},1.0515976607972746E-3,5.6636045445795945E-2,null,"Bulgarien",{"$f":"IFERROR(AJ76/$E119*$H$117,\"*\")","v":5.2980491672548286E-2},1.0515976607972676E-3,null,5.4032089333345551E-2]
[null,null,null,"Tjekkiet",{"$f":"IFERROR(E77/$E120*$H$117,\"*\")","v":0.15811293982328645},1.0676436451090034E-3,null,null,"Tjekkiet",{"$f":"IFERROR(J77/$E120*$H$117,\"*\")","v":0.12252481831965284},1.0168034715323897E-3,0.12354162179118523,null,"Tjekkiet",{"$f":"IFERROR(O77/$E120*$H$117,\"*\")","v":7.7988826266534209E-2},1.0676436451090177E-3,7.9056469911643223E-2,null,"Tjekkiet",{"$f":"IFERROR(T77/$E120*$H$117,\"*\")","v":7.1989685784493121E-2},1.1184838186856173E-3,7.3108169603178744E-2,null,"Tjekkiet",{"$f":"IFERROR(Y77/$E120*$H$117,\"*\")","v":7.4531694463324097E-2},1.0676436451090034E-3,null,7.5599338108433098E-2,null,"Tjekkiet",{"$f":"IFERROR(AE77/$E120*$H$117,\"*\")","v":7.6361940712082396E-2},1.0168034715323897E-3,7.7378744183614789E-2,null,"Tjekkiet",{"$f":"IFERROR(AJ77/$E120*$H$117,\"*\")","v":"*"},"*",null,0]
[null,null,null,"Danmark",{"$f":"IFERROR(E78/$E121*$H$117,\"*\")","v":8.1309134447681272E-2},9.9940368243912073E-2,null,null,"Danmark",{"$f":"IFERROR(J78/$E121*$H$117,\"*\")","v":6.6778797220729505E-2},3.1035180209482323E-2,9.7813977430211835E-2,null,"Danmark",{"$f":"IFERROR(O78/$E121*$H$117,\"*\")","v":6.0450253132335888E-2},3.0933923504068022E-2,9.1384176636403913E-2,null,"Danmark",{"$f":"IFERROR(T78/$E121*$H$117,\"*\")","v":6.0804651601285925E-2},3.0478268329703694E-2,9.1282919930989623E-2,null,"Danmark",{"$f":"IFERROR(Y78/$E121*$H$117,\"*\")","v":4.8198191777205836E-2},2.9870728097217896E-2,null,7.8068919874423728E-2,null,"Danmark",{"$f":"IFERROR(AE78/$E121*$H$117,\"*\")","v":4.7033739664941399E-2},2.971884303909646E-2,7.6752582704037856E-2,null,"Danmark",{"$f":"IFERROR(AJ78/$E121*$H$117,\"*\")","v":"*"},"*",null,0]
[null,null,null,"Tyskland",{"$f":"IFERROR(E79/$E122*$H$117,\"*\")","v":0.13713203382199837},8.6736139171051538E-2,null,null,"Tyskland",{"$f":"IFERROR(J79/$E122*$H$117,\"*\")","v":0.10421625678831706},7.3447160865528022E-2,0.17766341765384508,null,"Tyskland",{"$f":"IFERROR(O79/$E122*$H$117,\"*\")","v":8.290278004445821E-2},7.0533807929317099E-2,0.1534365879737753,null,"Tyskland",{"$f":"IFERROR(T79/$E122*$H$117,\"*\")","v":7.1096033934550773E-2},6.2611532401024225E-2,0.13370756633557501,null,"Tyskland",{"$f":"IFERROR(Y79/$E122*$H$117,\"*\")","v":6.3071535496215428E-2},5.116256647626552E-2,null,0.11423410197248095,null,"Tyskland",{"$f":"IFERROR(AE79/$E122*$H$117,\"*\")","v":5.6682603618559896E-2},4.3035845127887676E-2,9.9718448746447572E-2,null,"Tyskland",{"$f":"IFERROR(AJ79/$E122*$H$117,\"*\")","v":"*"},"*",null,0]
[null,null,null,"Estland",{"$f":"IFERROR(E80/$E123*$H$117,\"*\")","v":9.5358152546937858E-2},1.3542886558527877E-2,null,null,"Estland",{"$f":"IFERROR(J80/$E123*$H$117,\"*\")","v":8.445283190992102E-2},1.3593608980095406E-2,9.804644089001642E-2,null,"Estland",{"$f":"IFERROR(O80/$E123*$H$117,\"*\")","v":8.0090703655114281E-2},1.3593608980095406E-2,9.3684312635209682E-2,null,"Estland",{"$f":"IFERROR(T80/$E123*$H$117,\"*\")","v":7.2989564635661475E-2},1.3593608980095406E-2,8.6583173615756875E-2,null,"Estland",{"$f":"IFERROR(Y80/$E123*$H$117,\"*\")","v":6.1475574939834403E-2},1.3137107185987719E-2,null,7.4612682125822116E-2,null,"Estland",{"$f":"IFERROR(AE80/$E123*$H$117,\"*\")","v":5.812789511637808E-2},1.3289274450690261E-2,7.1417169567068339E-2,null,"Estland",{"$f":"IFERROR(AJ80/$E123*$H$117,\"*\")","v":"*"},"*",null,0]
[null,null,null,"Irland",{"$f":"IFERROR(E81/$E124*$H$117,\"*\")","v":0.18042791989639834},3.8848369963026236E-2,null,null,"Irland",{"$f":"IFERROR(J81/$E124*$H$117,\"*\")","v":0.15703421482329538},1.6671984384677482E-2,0.17370619920797287,null,"Irland",{"$f":"IFERROR(O81/$E124*$H$117,\"*\")","v":0.1336405097501924},1.3178806704078366E-2,0.14681931645427077,null,"Irland",{"$f":"IFERROR(T81/$E124*$H$117,\"*\")","v":0.11178168577917082},8.8387980706067792E-3,0.1206204838497776,null,"Irland",{"$f":"IFERROR(Y81/$E124*$H$117,\"*\")","v":9.8285317467765254E-2},6.1395244083256697E-3,null,0.10442484187609093,null,"Irland",{"$f":"IFERROR(AE81/$E124*$H$117,\"*\")","v":9.1034327433794415E-2},4.2341547643625346E-3,9.5268482198156951E-2,null,"Irland",{"$f":"IFERROR(AJ81/$E124*$H$117,\"*\")","v":"*"},"*",null,0]
[null,null,null,"Grækenland",{"$f":"IFERROR(E82/$E125*$H$117,\"*\")","v":0.15578904637810123},6.3983025064090371E-2,null,null,"Grækenland",{"$f":"IFERROR(J82/$E125*$H$117,\"*\")","v":0.12663409818004623},4.9627542956418559E-2,0.17626164113646478,null,"Grækenland",{"$f":"IFERROR(O82/$E125*$H$117,\"*\")","v":0.10157366893366386},{"$f":"IFERROR(P82/$E125*$H$117,\"*\")","v":1.8893985042055993E-2},0.12046765397571985,null,"Grækenland",{"$f":"IFERROR(T82/$E125*$H$117,\"*\")","v":8.159438971164644E-2},1.2086230640479683E-2,9.3680620352126126E-2,null,"Grækenland",{"$f":"IFERROR(Y82/$E125*$H$117,\"*\")","v":6.4624335261340288E-2},7.6957223669993028E-3,null,7.2320057628339596E-2,null,"Grækenland",{"$f":"IFERROR(AE82/$E125*$H$117,\"*\")","v":4.1685162821246215E-2},7.3997330451916424E-3,4.9084895866437855E-2,null,"Grækenland",{"$f":"IFERROR(AJ82/$E125*$H$117,\"*\")","v":"*"},"*",null,0]
[null,null,null,"Spanien",{"$f":"IFERROR(E83/$E126*$H$117,\"*\")","v":0.25879631998544966},1.3235611870623531E-2,null,null,"Spanien",{"$f":"IFERROR(J83/$E126*$H$117,\"*\")","v":0.14744672163448425},7.5202340173997463E-3,0.15496695565188398,null,"Spanien",{"$f":"IFERROR(O83/$E126*$H$117,\"*\")","v":0.10999595622783352},5.6151080663251326E-3,0.11561106429415866,null,"Spanien",{"$f":"IFERROR(T83/$E126*$H$117,\"*\")","v":9.1746855012276821E-2},4.6625450907878396E-3,9.640940010306466E-2,null,"Spanien",{"$f":"IFERROR(Y83/$E126*$H$117,\"*\")","v":7.8511243141653281E-2},4.0609263693958571E-3,null,8.2572169511049134E-2,null,"Spanien",{"$f":"IFERROR(AE83/$E126*$H$117,\"*\")","v":7.4099372518112092E-2},3.7601170086998732E-3,7.7859489526811959E-2,null,"Spanien",{"$f":"IFERROR(AJ83/$E126*$H$117,\"*\")","v":6.7682106156597657E-2},3.459307648003875E-3,null,7.1141413804601539E-2]
[null,null,null,"Frankrig",{"$f":"IFERROR(E84/$E127*$H$117,\"*\")","v":0.11986282767511817},3.2648447571981092E-2,null,null,"Frankrig",{"$f":"IFERROR(J84/$E127*$H$117,\"*\")","v":9.4047776106574985E-2},2.7637290502793298E-2,0.12168506660936829,null,"Frankrig",{"$f":"IFERROR(O84/$E127*$H$117,\"*\")","v":7.3800676837129334E-2},2.525825633863343E-2,9.9058933175762767E-2,null,"Frankrig",{"$f":"IFERROR(T84/$E127*$H$117,\"*\")","v":6.6612956596476147E-2},2.0905129995702623E-2,8.7518086592178773E-2,null,"Frankrig",{"$f":"IFERROR(Y84/$E127*$H$117,\"*\")","v":6.0640062311989679E-2},1.533717769660508E-2,null,7.5977240008594765E-2,null,"Frankrig",{"$f":"IFERROR(AE84/$E127*$H$117,\"*\")","v":5.5426434250107431E-2},6.1753652771809201E-3,6.1601799527288351E-2,null,"Frankrig",{"$f":"IFERROR(AJ84/$E127*$H$117,\"*\")","v":"*"},"*",null,0]
[null,null,null,"Kroatien",{"$f":"IFERROR(E85/$E128*$H$117,\"*\")","v":0.11729878129217529},5.8524338640445752E-3,null,null,"Kroatien",{"$f":"IFERROR(J85/$E128*$H$117,\"*\")","v":0.10264268623093549},5.2021634347062919E-3,0.10784484966564178,null,"Kroatien",{"$f":"IFERROR(O85/$E128*$H$117,\"*\")","v":8.7236279135843808E-2},5.202163434706278E-3,9.2438442570550089E-2,null,"Kroatien",{"$f":"IFERROR(T85/$E128*$H$117,\"*\")","v":7.5181265791957122E-2},4.6519346098815939E-3,7.9833200401838722E-2,null,"Kroatien",{"$f":"IFERROR(Y85/$E128*$H$117,\"*\")","v":6.17756907871371E-2},2.851185728637102E-3,null,6.4626876515774201E-2,null,"Kroatien",{"$f":"IFERROR(AE85/$E128*$H$117,\"*\")","v":5.3372196007996177E-2},2.851185728637102E-3,5.6223381736633278E-2,null,"Kroatien",{"$f":"IFERROR(AJ85/$E128*$H$117,\"*\")","v":"*"},"*",null,0]
[null,null,null,"Italien",{"$f":"IFERROR(E86/$E129*$H$117,\"*\")","v":0.16799808899441507},0.10310807082640414,null,null,"Italien",{"$f":"IFERROR(J86/$E129*$H$117,\"*\")","v":0.11198191946476464},7.7293238423901026E-2,0.18927515788866567,null,"Italien",{"$f":"IFERROR(O86/$E129*$H$117,\"*\")","v":9.3881285026290742E-2},6.7713515462034649E-2,0.16159480048832539,null,"Italien",{"$f":"IFERROR(T86/$E129*$H$117,\"*\")","v":8.6469604629478322E-2},6.3478269520998956E-2,0.14994787415047728,null,"Italien",{"$f":"IFERROR(Y86/$E129*$H$117,\"*\")","v":7.7242818829364901E-2},5.0419594536138951E-2,null,0.12766241336550385,null,"Italien",{"$f":"IFERROR(AE86/$E129*$H$117,\"*\")","v":6.7562256678426219E-2},3.8772668198290859E-2,0.10633492487671709,null,"Italien",{"$f":"IFERROR(AJ86/$E129*$H$117,\"*\")","v":6.6755543165847989E-2},2.0369516192600152E-2,null,8.7125059358448137E-2]
[null,null,null,"Cypern",{"$f":"IFERROR(E87/$E130*$H$117,\"*\")","v":0.17099330628104861},8.4337627268702975E-3,null,null,"Cypern",{"$f":"IFERROR(J87/$E130*$H$117,\"*\")","v":0.15323801632974271},8.4337627268702975E-3,0.16167177905661301,null,"Cypern",{"$f":"IFERROR(O87/$E130*$H$117,\"*\")","v":0.12995885839358612},8.3844424770055642E-3,0.13834330087059168,null,"Cypern",{"$f":"IFERROR(T87/$E130*$H$117,\"*\")","v":0.11486686193497612},8.4337627268702975E-3,0.12330062466184642,null,"Cypern",{"$f":"IFERROR(Y87/$E130*$H$117,\"*\")","v":0.11018143819782596},8.3844424770055642E-3,null,0.11856588067483152,null,"Cypern",{"$f":"IFERROR(AE87/$E130*$H$117,\"*\")","v":9.992282622596034E-2},8.4337627268702975E-3,0.10835658895283064,null,"Cypern",{"$f":"IFERROR(AJ87/$E130*$H$117,\"*\")","v":"*"},"*",null,0]
[null,null,null,"Letland",{"$f":"IFERROR(E88/$E131*$H$117,\"*\")","v":0.1360464253567652},2.6927427882304615E-2,null,null,"Letland",{"$f":"IFERROR(J88/$E131*$H$117,\"*\")","v":0.10524346112504478},{"$f":"IFERROR(K88/$E131*$H$117,\"*\")","v":2.6977759523206114E-2},0.1322212206482509,null,"Letland",{"$f":"IFERROR(O88/$E131*$H$117,\"*\")","v":9.1855244645244721E-2},2.6977759523206128E-2,0.11883300416845086,null,"Letland",{"$f":"IFERROR(T88/$E131*$H$117,\"*\")","v":8.1386263337731912E-2},2.6977759523206114E-2,0.10836402286093802,null,"Letland",{"$f":"IFERROR(Y88/$E131*$H$117,\"*\")","v":7.2376899616362692E-2},2.6977759523206142E-2,null,9.9354659139568841E-2,null,"Letland",{"$f":"IFERROR(AE88/$E131*$H$117,\"*\")","v":5.7478733909517521E-2},2.6977759523206128E-2,8.4456493432723656E-2,null,"Letland",{"$f":"IFERROR(AJ88/$E131*$H$117,\"*\")","v":"*"},"*",null,0]
[null,null,null,"Litaun",{"$f":"IFERROR(E89/$E132*$H$117,\"*\")","v":0.11454588286107638},1.6812701447814771E-2,null,null,"Litaun",{"$f":"IFERROR(J89/$E132*$H$117,\"*\")","v":9.2295245336668677E-2},1.701225873502921E-2,0.10930750407169788,null,"Litaun",{"$f":"IFERROR(O89/$E132*$H$117,\"*\")","v":8.2117823688733327E-2},1.6962369413225598E-2,9.9080193101958924E-2,null,"Litaun",{"$f":"IFERROR(T89/$E132*$H$117,\"*\")","v":7.3486971016709715E-2},1.6762812126011186E-2,9.0249783142720905E-2,null,"Litaun",{"$f":"IFERROR(Y89/$E132*$H$117,\"*\")","v":6.7001359182241108E-2},1.6762812126011172E-2,null,8.3764171308252283E-2,null,"Litaun",{"$f":"IFERROR(AE89/$E132*$H$117,\"*\")","v":6.3259660046970756E-2},1.6613144160600377E-2,7.9872804207571133E-2,null,"Litaun",{"$f":"IFERROR(AJ89/$E132*$H$117,\"*\")","v":"*"},"*",null,0]
[null,null,null,"luxembourg",{"$f":"IFERROR(E90/$E133*$H$117,\"*\")","v":0.13920443879320307},3.1403368218880873E-2,null,null,"luxembourg",{"$f":"IFERROR(J90/$E133*$H$117,\"*\")","v":9.7144517752505252E-2},8.8547202190942913E-3,0.10599923797159955,null,"luxembourg",{"$f":"IFERROR(O90/$E133*$H$117,\"*\")","v":8.4737613259472003E-2},9.0091630136133593E-3,9.3746776273085364E-2,null,"luxembourg",{"$f":"IFERROR(T90/$E133*$H$117,\"*\")","v":5.7349757698087367E-2},5.6114215341934648E-3,6.2961179232280826E-2,null,"luxembourg",{"$f":"IFERROR(Y90/$E133*$H$117,\"*\")","v":5.1583893369374814E-2},4.684764767078956E-3,null,5.6268658136453771E-2,null,"luxembourg",{"$f":"IFERROR(AE90/$E133*$H$117,\"*\")","v":"*"},"*",0,null,"luxembourg",{"$f":"IFERROR(AJ90/$E133*$H$117,\"*\")","v":"*"},"*",null,0]
[null,null,null,"Ungarn",{"$f":"IFERROR(E91/$E134*$H$117,\"*\")","v":9.893006818090129E-2},8.8699398878444389E-3,null,null,"Ungarn",{"$f":"IFERROR(J91/$E134*$H$117,\"*\")","v":8.8749796264170761E-2},8.869939887844425E-3,9.7619736152015191E-2,null,"Ungarn",{"$f":"IFERROR(O91/$E134*$H$117,\"*\")","v":7.8670319118892981E-2},8.8699398878444389E-3,8.7540259006737425E-2,null,"Ungarn",{"$f":"IFERROR(T91/$E134*$H$117,\"*\")","v":7.7108000161374951E-2},8.869939887844425E-3,8.5977940049219381E-2,null,"Ungarn",{"$f":"IFERROR(Y91/$E134*$H$117,\"*\")","v":7.6200847218299936E-2},8.819542502118043E-3,null,8.5020389720417977E-2,null,"Ungarn",{"$f":"IFERROR(AE91/$E134*$H$117,\"*\")","v":7.6906410618469395E-2},8.9203372735708227E-3,8.5826747892040214E-2,null,"Ungarn",{"$f":"IFERROR(AJ91/$E134*$H$117,\"*\")","v":7.4033759632065224E-2},8.8699398878444389E-3,null,8.2903699519909668E-2]
[null,null,null,"Malta",{"$f":"IFERROR(E92/$E135*$H$117,\"*\")","v":"*"},"*",null,null,"Malta",{"$f":"IFERROR(J92/$E135*$H$117,\"*\")","v":"*"},"*",0,null,"Malta",{"$f":"IFERROR(O92/$E135*$H$117,\"*\")","v":"*"},"*",0,null,"Malta",{"$f":"IFERROR(T92/$E135*$H$117,\"*\")","v":"*"},"*",0,null,"Malta",{"$f":"IFERROR(Y92/$E135*$H$117,\"*\")","v":"*"},"*",null,0,null,"Malta",{"$f":"IFERROR(AE92/$E135*$H$117,\"*\")","v":"*"},"*",0,null,"Malta",{"$f":"IFERROR(AJ92/$E135*$H$117,\"*\")","v":"*"},"*",null,0]
[null,null,null,"Holland",{"$f":"IFERROR(E93/$E136*$H$117,\"*\")","v":0.13071023558989692},4.9650793065289557E-2,null,null,"Holland",{"$f":"IFERROR(J93/$E136*$H$117,\"*\")","v":8.8899041429653061E-2},3.5981748820594454E-2,0.12488079025024751,null,"Holland",{"$f":"IFERROR(O93/$E136*$H$117,\"*\")","v":7.2064005319458738E-2},1.5779705488361263E-2,8.7843710807819997E-2,null,"Holland",{"$f":"IFERROR(T93/$E136*$H$117,\"*\")","v":6.6938113727698062E-2},1.4171582636044188E-2,8.1109696363742254E-2,null,"Holland",{"$f":"IFERROR(Y93/$E136*$H$117,\"*\")","v":6.3520852666524297E-2},3.8695456133879436E-3,null,6.7390398279912236E-2,null,"Holland",{"$f":"IFERROR(AE93/$E136*$H$117,\"*\")","v":6.7239636762507521E-2},2.11066124366616E-3,6.9350298006173677E-2,null,"Holland",{"$f":"IFERROR(AJ93/$E136*$H$117,\"*\")","v":6.487770632316682E-2},9.5482294356326715E-4,null,6.5832529266730083E-2]
[null,null,null,"Østrig",{"$f":"IFERROR(E94/$E137*$H$117,\"*\")","v":0.11956211467756872},4.376328783527144E-2,null,null,"Østrig",{"$f":"IFERROR(J94/$E137*$H$117,\"*\")","v":9.3009679018813546E-2},3.391400959856302E-2,0.12692368861737657,null,"Østrig",{"$f":"IFERROR(O94/$E137*$H$117,\"*\")","v":7.4123434152547921E-2},3.1781691629791088E-2,0.10590512578233902,null,"Østrig",{"$f":"IFERROR(T94/$E137*$H$117,\"*\")","v":6.5898779130141916E-2},2.5790893527050912E-2,9.1689672657192828E-2,null,"Østrig",{"$f":"IFERROR(Y94/$E137*$H$117,\"*\")","v":5.6861812500584703E-2},2.178010496674181E-2,null,7.8641917467326516E-2,null,"Østrig",{"$f":"IFERROR(AE94/$E137*$H$117,\"*\")","v":5.1226400725973176E-2},2.0155481752439405E-2,7.1381882478412581E-2,null,"Østrig",{"$f":"IFERROR(AJ94/$E137*$H$117,\"*\")","v":4.5590988951361669E-2},1.9495478571629043E-2,null,6.5086467522990715E-2]
[null,null,null,"Polen",{"$f":"IFERROR(E95/$E138*$H$117,\"*\")","v":0.14841631392350665},4.781129136226905E-3,null,null,"Polen",{"$f":"IFERROR(J95/$E138*$H$117,\"*\")","v":0.11062022990975504},4.781129136226905E-3,0.11540135904598194,null,"Polen",{"$f":"IFERROR(O95/$E138*$H$117,\"*\")","v":8.2839353244520839E-2},4.8817844864632639E-3,8.7721137730984097E-2,null,"Polen",{"$f":"IFERROR(T95/$E138*$H$117,\"*\")","v":7.1666609368285339E-2},4.8314568113450775E-3,7.6498066179630411E-2,null,"Polen",{"$f":"IFERROR(Y95/$E138*$H$117,\"*\")","v":6.5023356252685849E-2},4.8817844864632639E-3,null,6.9905140739149108E-2,null,"Polen",{"$f":"IFERROR(AE95/$E138*$H$117,\"*\")","v":6.0141571766222597E-2},4.8314568113450775E-3,6.4973028577567676E-2,null,"Polen",{"$f":"IFERROR(AJ95/$E138*$H$117,\"*\")","v":5.4907493553932096E-2},4.8314568113450775E-3,null,5.9738950365277176E-2]
[null,null,null,"Portugal",{"$f":"IFERROR(E96/$E139*$H$117,\"*\")","v":0.17198057748669179},2.6450724724365521E-2,null,null,"Portugal",{"$f":"IFERROR(J96/$E139*$H$117,\"*\")","v":0.12589527633231654},2.2025315010865888E-2,0.14792059134318242,null,"Portugal",{"$f":"IFERROR(O96/$E139*$H$117,\"*\")","v":0.10122488884901412},1.546350060809059E-2,0.11668838945710472,null,"Portugal",{"$f":"IFERROR(T96/$E139*$H$117,\"*\")","v":9.2068868752118366E-2},1.3276229140498842E-2,0.1053450978926172,null,"Portugal",{"$f":"IFERROR(Y96/$E139*$H$117,\"*\")","v":7.563889935602211E-2},1.3937497258607977E-2,null,8.9576396614630086E-2,null,"Portugal",{"$f":"IFERROR(AE96/$E139*$H$117,\"*\")","v":6.9229685288195078E-2},1.38357637019758E-2,8.3065448990170876E-2,null,"Portugal",{"$f":"IFERROR(AJ96/$E139*$H$117,\"*\")","v":"*"},"*",null,0]
[null,null,null,"Rumænien",{"$f":"IFERROR(E97/$E140*$H$117,\"*\")","v":0.10057403701827894},1.1886488328191905E-2,null,null,"Rumænien",{"$f":"IFERROR(J97/$E140*$H$117,\"*\")","v":8.7509146829964551E-2},1.2347602099544185E-2,9.9856748929508743E-2,null,"Rumænien",{"$f":"IFERROR(O97/$E140*$H$117,\"*\")","v":7.1113990515217079E-2},1.2501306689994952E-2,8.3615297205212033E-2,null,"Rumænien",{"$f":"IFERROR(T97/$E140*$H$117,\"*\")","v":6.2660238040425434E-2},1.2450071826511358E-2,7.5110309866936786E-2,null,"Rumænien",{"$f":"IFERROR(Y97/$E140*$H$117,\"*\")","v":5.4257720429117362E-2},1.2091427782126254E-2,null,6.6349148211243617E-2,null,"Rumænien",{"$f":"IFERROR(AE97/$E140*$H$117,\"*\")","v":5.2003386435839592E-2},1.1015495648970943E-2,6.3018882084810532E-2,null,"Rumænien",{"$f":"IFERROR(AJ97/$E140*$H$117,\"*\")","v":"*"},"*",null,0]
[null,null,null,"Slovenien",{"$f":"IFERROR(E98/$E141*$H$117,\"*\")","v":0.11433051250074232},3.0139853910564725E-2,null,null,"Slovenien",{"$f":"IFERROR(J98/$E141*$H$117,\"*\")","v":9.0520027911396156E-2},1.4969460775580493E-2,0.10548948868697665,null,"Slovenien",{"$f":"IFERROR(O98/$E141*$H$117,\"*\")","v":7.1582153037591301E-2},1.3663400439456009E-2,8.5245553477047306E-2,null,"Slovenien",{"$f":"IFERROR(T98/$E141*$H$117,\"*\")","v":6.3343926302036918E-2},1.0800114317952381E-2,7.4144040619989304E-2,null,"Slovenien",{"$f":"IFERROR(Y98/$E141*$H$117,\"*\")","v":5.6813624621414566E-2},8.5898583645109428E-3,null,6.5403482985925507E-2,null,"Slovenien",{"$f":"IFERROR(AE98/$E141*$H$117,\"*\")","v":5.6210827543203272E-2},7.0326325791317829E-3,6.324346012233506E-2,null,"Slovenien",{"$f":"IFERROR(AJ98/$E141*$H$117,\"*\")","v":"*"},"*",null,0]
[null,null,null,"Slovakiet",{"$f":"IFERROR(E99/$E142*$H$117,\"*\")","v":0.20286429110908843},4.4881480333869165E-3,null,null,"Slovakiet",{"$f":"IFERROR(J99/$E142*$H$117,\"*\")","v":0.13314839165714507},4.4881480333869165E-3,0.13763653969053199,null,"Slovakiet",{"$f":"IFERROR(O99/$E142*$H$117,\"*\")","v":0.10761581617832174},4.4881480333869165E-3,0.11210396421170865,null,"Slovakiet",{"$f":"IFERROR(T99/$E142*$H$117,\"*\")","v":9.5049001684838388E-2},4.4881480333869165E-3,9.9537149718225304E-2,null,"Slovakiet",{"$f":"IFERROR(Y99/$E142*$H$117,\"*\")","v":9.2854795979626994E-2},4.4881480333869165E-3,null,9.734294401301391E-2,null,"Slovakiet",{"$f":"IFERROR(AE99/$E142*$H$117,\"*\")","v":9.0311512094041077E-2},4.4881480333869165E-3,9.4799660127427993E-2,null,"Slovakiet",{"$f":"IFERROR(AJ99/$E142*$H$117,\"*\")","v":6.4529595057807393E-2},4.4881480333869026E-3,null,6.9017743091194295E-2]
[null,null,null,"Finland",{"$f":"IFERROR(E100/$E143*$H$117,\"*\")","v":8.3487048028256183E-2},7.0241506754542523E-3,null,null,"Finland",{"$f":"IFERROR(J100/$E143*$H$117,\"*\")","v":7.7064967410698029E-2},7.0743231802789059E-3,8.413929059097694E-2,null,"Finland",{"$f":"IFERROR(O100/$E143*$H$117,\"*\")","v":6.3819426136984297E-2},7.0743231802789059E-3,7.0893749317263208E-2,null,"Finland",{"$f":"IFERROR(T100/$E143*$H$117,\"*\")","v":6.0357523304081846E-2},7.0743231802789129E-3,6.7431846484360763E-2,null,"Finland",{"$f":"IFERROR(Y100/$E143*$H$117,\"*\")","v":4.6208876943523998E-2},7.0743231802789268E-3,null,5.3283200123802922E-2,null,"Finland",{"$f":"IFERROR(AE100/$E143*$H$117,\"*\")","v":4.3750424207115023E-2},7.0743231802789198E-3,5.082474738739394E-2,null,"Finland",{"$f":"IFERROR(AJ100/$E143*$H$117,\"*\")","v":"*"},"*",null,0]
[null,null,null,"Sverige",{"$f":"IFERROR(E101/$E144*$H$117,\"*\")","v":0.13441210879791179},4.9635195272493325E-4,null,null,"Sverige",{"$f":"IFERROR(J101/$E144*$H$117,\"*\")","v":7.0134530920032995E-2},4.9635195272493325E-4,7.0630882872757927E-2,null,"Sverige",{"$f":"IFERROR(O101/$E144*$H$117,\"*\")","v":5.9661504717536923E-2},4.9635195272493325E-4,6.0157856670261856E-2,null,"Sverige",{"$f":"IFERROR(T101/$E144*$H$117,\"*\")","v":5.2067319840845443E-2},5.4598714799742795E-4,5.2613306988842867E-2,null,"Sverige",{"$f":"IFERROR(Y101/$E144*$H$117,\"*\")","v":4.5465838869603842E-2},4.9635195272493325E-4,null,4.5962190822328775E-2,null,"Sverige",{"$f":"IFERROR(AE101/$E144*$H$117,\"*\")","v":3.7226396454369953E-2},5.9562234326992266E-4,3.7822018797639877E-2,null,"Sverige",{"$f":"IFERROR(AJ101/$E144*$H$117,\"*\")","v":"*"},"*",null,0]
[null,null,null,"UK",{"$f":"IFERROR(E102/$E145*$H$117,\"*\")","v":0.19968635328134585},5.4586506615262849E-3,null,null,"UK",{"$f":"IFERROR(J102/$E145*$H$117,\"*\")","v":0.18091527906772975},6.7397625514763861E-3,0.18765504161920613,null,"UK",{"$f":"IFERROR(O102/$E145*$H$117,\"*\")","v":0.16136439761675278},6.2384578988872574E-3,0.16760285551564003,null,"UK",{"$f":"IFERROR(T102/$E145*$H$117,\"*\")","v":0.14955588802243053},4.5117418733024032E-3,0.15406762989573294,null,"UK",{"$f":"IFERROR(Y102/$E145*$H$117,\"*\")","v":0.14688226320862174},3.2306299833523015E-3,null,0.15011289319197405,null,"UK",{"$f":"IFERROR(AE102/$E145*$H$117,\"*\")","v":0.14309462805572593},3.286330500306646E-3,0.14638095855603256,null,"UK",{"$f":"IFERROR(AJ102/$E145*$H$117,\"*\")","v":0.13908419083501269},2.8407263646718925E-3,null,0.14192491719968459]
[null,null,null,"Level 1",null,null,null,null,"Level 1",null,null,null,null,"Level 1",null,null,null,null,"Level 1",null,null,null,null,"Level 1",null,null,null,null,null,"Level 1",null,null,null,null,"Level 1"]
[null,null,null,"Level 2",null,null,null,null,"Level 2",null,null,null,null,"Level 2",null,null,null,null,"Level 2",null,null,null,null,"Level 2",null,null,null,null,null,"Level 2",null,null,null,null,"Level 2"]
[]
[]
[]
[]
[null,null,null,"Baggrundstabeller"]
[]
[null,null,null,"Tabel A"]
[null,null,null,"Nedenstående  tabeller (de orange) henter data fra 'Level 1' og 'Afgifter og moms', der hentes data fra det år der er valgt i valgmenuen øverst. Priserne vises i original enheden i Eurostat EURO / GJ."]
[null,null,null,"'Gaspris inkl. PSO, eksl. afgifter' udgør level 1 prisen. 'Ikke refundrebare afgifter' svarer til level 2 prisen fratrukket level 1 prisen. 'Ikke refunderbare afgifter' er level 3 prisen fratrukket level 2 prisen. Beregningen er foretaget i arket \"Afgifter og moms\"."]
[]
[null,null,null,"Data er hentet for år 2014"]
[null,null,null,"IA: <0,02 GWh",null,null,null,null,"IB: 0,02 < 0,5 GWh",null,null,null,null,"IC: 0,5 < 2 GWh",null,null,null,null,"ID: 2 < 20 GWh",null,null,null,null,"IE:20 < 70 GWh",null,null,null,null,null,"IF: 70 < 150 GWh",null,null,null,null,"IG: > 150 GWh"]
[]
[null,null,null,{"$f":"\"Euro/kWH år \"&$E$12","v":"Euro/kWH år 2015"},"Elpris ekskl. PSO og afgifter ","PSO og Ikke-refunderbare\n afgifter",null,null,{"$f":"\"Euro/kWH år \"&$E$12","v":"Euro/kWH år 2015"},"Elpris ekskl. PSO og afgifter ","PSO og Ikke-refunderbare\n afgifter",null,null,{"$f":"\"Euro/kWH år \"&$E$12","v":"Euro/kWH år 2015"},"Elpris ekskl. PSO og afgifter ","PSO og Ikke-refunderbare\n afgifter",null,null,{"$f":"\"Euro/kWH år \"&$E$12","v":"Euro/kWH år 2015"},"Elpris ekskl. PSO og afgifter ","PSO og Ikke-refunderbare\n afgifter",null,null,{"$f":"\"Euro/kWH år \"&$E$12","v":"Euro/kWH år 2015"},"Elpris ekskl. PSO og afgifter ","PSO og Ikke-refunderbare\n afgifter",null,null,null,{"$f":"\"Euro/kWH år \"&$E$12","v":"Euro/kWH år 2015"},"Elpris ekskl. PSO og afgifter ","PSO og Ikke-refunderbare\n afgifter",null,null,{"$f":"\"Euro/kWH år \"&$E$12","v":"Euro/kWH år 2015"},"Elpris ekskl. PSO og afgifter ","PSO og Ikke-refunderbare\n afgifter"]
[null,null,null,{"$f":"'Oversættelse af landenavne'!$B6","v":"EU-28"},{"$f":"HLOOKUP($E$12,'Level 1'!$B$5:$L$34,'Oversættelse af landenavne'!$E6,FALSE)","v":0.14800000000000002},{"$f":"HLOOKUP($E$12,'Afgifter og Moms'!$B$5:$L$34,'Oversættelse af landenavne'!$E6,FALSE)","v":4.3349999999999972E-2},null,null,{"$f":"'Oversættelse af landenavne'!$B6","v":"EU-28"},{"$f":"HLOOKUP($E$12,'Level 1'!$O$5:$Y$34,'Oversættelse af landenavne'!$E6,FALSE)","v":0.10965},{"$f":"HLOOKUP($E$12,'Afgifter og Moms'!$O$5:$Y$34,'Oversættelse af landenavne'!E6,FALSE)","v":3.5049999999999998E-2},null,null,{"$f":"'Oversættelse af landenavne'!$B6","v":"EU-28"},{"$f":"HLOOKUP($E$12,'Level 1'!$AB$5:$AL$34,'Oversættelse af landenavne'!E6,FALSE)","v":8.8450000000000001E-2},{"$f":"HLOOKUP($E$12,'Afgifter og Moms'!$AB$5:$AL$34,'Oversættelse af landenavne'!E6,FALSE)","v":3.1299999999999994E-2},null,null,{"$f":"'Oversættelse af landenavne'!$B6","v":"EU-28"},{"$f":"HLOOKUP($E$12,'Level 1'!$AO$5:$AY$34,'Oversættelse af landenavne'!E6,FALSE)","v":7.8899999999999998E-2},{"$f":"HLOOKUP($E$12,'Afgifter og Moms'!$AO$5:$AY$34,'Oversættelse af landenavne'!E6,FALSE)","v":2.785E-2},null,null,{"$f":"'Oversættelse af landenavne'!$B6","v":"EU-28"},{"$f":"HLOOKUP($E$12,'Level 1'!$BB$5:$BL$34,'Oversættelse af landenavne'!$E6,FALSE)","v":7.0800000000000002E-2},{"$f":"HLOOKUP($E$12,'Afgifter og Moms'!$BB$5:$BL$34,'Oversættelse af landenavne'!$E6,FALSE)","v":2.2349999999999995E-2},null,null,null,{"$f":"'Oversættelse af landenavne'!$B6","v":"EU-28"},{"$f":"HLOOKUP($E$12,'Level 1'!$BO$5:$BY$34,'Oversættelse af landenavne'!$E6,FALSE)","v":6.5500000000000003E-2},{"$f":"HLOOKUP($E$12,'Afgifter og Moms'!$BO$5:$BY$34,'Oversættelse af landenavne'!$E6,FALSE)","v":1.7899999999999999E-2},null,null,{"$f":"'Oversættelse af landenavne'!$B6","v":"EU-28"},{"$f":"HLOOKUP($E$12,'Level 1'!$CB$5:$CL$34,'Oversættelse af landenavne'!$E6,FALSE)","v":"*"},{"$f":"HLOOKUP($E$12,'Afgifter og Moms'!$CB$5:$CL$34,'Oversættelse af landenavne'!$E6,FALSE)","v":"*"}]
[null,null,null,{"$f":"'Oversættelse af landenavne'!$B7","v":"Belgien"},{"$f":"HLOOKUP($E$12,'Level 1'!$B$5:$L$34,'Oversættelse af landenavne'!$E7,FALSE)","v":0.15260000000000001},{"$f":"HLOOKUP($E$12,'Afgifter og Moms'!$B$5:$L$34,'Oversættelse af landenavne'!$E7,FALSE)","v":2.5749999999999995E-2},null,null,{"$f":"'Oversættelse af landenavne'!$B7","v":"Belgien"},{"$f":"HLOOKUP($E$12,'Level 1'!$O$5:$Y$34,'Oversættelse af landenavne'!$E7,FALSE)","v":0.12240000000000001},{"$f":"HLOOKUP($E$12,'Afgifter og Moms'!$O$5:$Y$34,'Oversættelse af landenavne'!E7,FALSE)","v":2.2849999999999981E-2},null,null,{"$f":"'Oversættelse af landenavne'!$B7","v":"Belgien"},{"$f":"HLOOKUP($E$12,'Level 1'!$AB$5:$AL$34,'Oversættelse af landenavne'!E7,FALSE)","v":9.0900000000000009E-2},{"$f":"HLOOKUP($E$12,'Afgifter og Moms'!$AB$5:$AL$34,'Oversættelse af landenavne'!E7,FALSE)","v":1.8149999999999999E-2},null,null,{"$f":"'Oversættelse af landenavne'!$B7","v":"Belgien"},{"$f":"HLOOKUP($E$12,'Level 1'!$AO$5:$AY$34,'Oversættelse af landenavne'!E7,FALSE)","v":7.8949999999999992E-2},{"$f":"HLOOKUP($E$12,'Afgifter og Moms'!$AO$5:$AY$34,'Oversættelse af landenavne'!E7,FALSE)","v":1.7450000000000007E-2},null,null,{"$f":"'Oversættelse af landenavne'!$B7","v":"Belgien"},{"$f":"HLOOKUP($E$12,'Level 1'!$BB$5:$BL$34,'Oversættelse af landenavne'!$E7,FALSE)","v":6.5250000000000002E-2},{"$f":"HLOOKUP($E$12,'Afgifter og Moms'!$BB$5:$BL$34,'Oversættelse af landenavne'!$E7,FALSE)","v":1.1899999999999994E-2},null,null,null,{"$f":"'Oversættelse af landenavne'!$B7","v":"Belgien"},{"$f":"HLOOKUP($E$12,'Level 1'!$BO$5:$BY$34,'Oversættelse af landenavne'!$E7,FALSE)","v":5.9050000000000005E-2},{"$f":"HLOOKUP($E$12,'Afgifter og Moms'!$BO$5:$BY$34,'Oversættelse af landenavne'!$E7,FALSE)","v":6.2499999999999917E-3},null,null,{"$f":"'Oversættelse af landenavne'!$B7","v":"Belgien"},{"$f":"HLOOKUP($E$12,'Level 1'!$CB$5:$CL$34,'Oversættelse af landenavne'!$E7,FALSE)","v":"*"},{"$f":"HLOOKUP($E$12,'Afgifter og Moms'!$CB$5:$CL$34,'Oversættelse af landenavne'!$E7,FALSE)","v":"*"}]
[null,null,null,{"$f":"'Oversættelse af landenavne'!$B8","v":"Bulgarien"},{"$f":"HLOOKUP($E$12,'Level 1'!$B$5:$L$34,'Oversættelse af landenavne'!$E8,FALSE)","v":0.10730000000000001},{"$f":"HLOOKUP($E$12,'Afgifter og Moms'!$B$5:$L$34,'Oversættelse af landenavne'!$E8,FALSE)","v":1.0000000000000009E-3},null,null,{"$f":"'Oversættelse af landenavne'!$B8","v":"Bulgarien"},{"$f":"HLOOKUP($E$12,'Level 1'!$O$5:$Y$34,'Oversættelse af landenavne'!$E8,FALSE)","v":9.5450000000000007E-2},{"$f":"HLOOKUP($E$12,'Afgifter og Moms'!$O$5:$Y$34,'Oversættelse af landenavne'!E8,FALSE)","v":1.0000000000000009E-3},null,null,{"$f":"'Oversættelse af landenavne'!$B8","v":"Bulgarien"},{"$f":"HLOOKUP($E$12,'Level 1'!$AB$5:$AL$34,'Oversættelse af landenavne'!E8,FALSE)","v":7.2700000000000001E-2},{"$f":"HLOOKUP($E$12,'Afgifter og Moms'!$AB$5:$AL$34,'Oversættelse af landenavne'!E8,FALSE)","v":1.0000000000000009E-3},null,null,{"$f":"'Oversættelse af landenavne'!$B8","v":"Bulgarien"},{"$f":"HLOOKUP($E$12,'Level 1'!$AO$5:$AY$34,'Oversættelse af landenavne'!E8,FALSE)","v":6.4950000000000008E-2},{"$f":"HLOOKUP($E$12,'Afgifter og Moms'!$AO$5:$AY$34,'Oversættelse af landenavne'!E8,FALSE)","v":1.0499999999999954E-3},null,null,{"$f":"'Oversættelse af landenavne'!$B8","v":"Bulgarien"},{"$f":"HLOOKUP($E$12,'Level 1'!$BB$5:$BL$34,'Oversættelse af landenavne'!$E8,FALSE)","v":5.8749999999999997E-2},{"$f":"HLOOKUP($E$12,'Afgifter og Moms'!$BB$5:$BL$34,'Oversættelse af landenavne'!$E8,FALSE)","v":1.0000000000000009E-3},null,null,null,{"$f":"'Oversættelse af landenavne'!$B8","v":"Bulgarien"},{"$f":"HLOOKUP($E$12,'Level 1'!$BO$5:$BY$34,'Oversættelse af landenavne'!$E8,FALSE)","v":5.5500000000000001E-2},{"$f":"HLOOKUP($E$12,'Afgifter og Moms'!$BO$5:$BY$34,'Oversættelse af landenavne'!$E8,FALSE)","v":1.0500000000000023E-3},null,null,{"$f":"'Oversættelse af landenavne'!$B8","v":"Bulgarien"},{"$f":"HLOOKUP($E$12,'Level 1'!$CB$5:$CL$34,'Oversættelse af landenavne'!$E8,FALSE)","v":5.2900000000000003E-2},{"$f":"HLOOKUP($E$12,'Afgifter og Moms'!$CB$5:$CL$34,'Oversættelse af landenavne'!$E8,FALSE)","v":1.0499999999999954E-3}]
[null,null,null,{"$f":"'Oversættelse af landenavne'!$B9","v":"Tjekkiet"},{"$f":"HLOOKUP($E$12,'Level 1'!$B$5:$L$34,'Oversættelse af landenavne'!$E9,FALSE)","v":0.1555},{"$f":"HLOOKUP($E$12,'Afgifter og Moms'!$B$5:$L$34,'Oversættelse af landenavne'!$E9,FALSE)","v":1.0499999999999954E-3},null,null,{"$f":"'Oversættelse af landenavne'!$B9","v":"Tjekkiet"},{"$f":"HLOOKUP($E$12,'Level 1'!$O$5:$Y$34,'Oversættelse af landenavne'!$E9,FALSE)","v":0.1205},{"$f":"HLOOKUP($E$12,'Afgifter og Moms'!$O$5:$Y$34,'Oversættelse af landenavne'!E9,FALSE)","v":1.0000000000000009E-3},null,null,{"$f":"'Oversættelse af landenavne'!$B9","v":"Tjekkiet"},{"$f":"HLOOKUP($E$12,'Level 1'!$AB$5:$AL$34,'Oversættelse af landenavne'!E9,FALSE)","v":7.669999999999999E-2},{"$f":"HLOOKUP($E$12,'Afgifter og Moms'!$AB$5:$AL$34,'Oversættelse af landenavne'!E9,FALSE)","v":1.0500000000000093E-3},null,null,{"$f":"'Oversættelse af landenavne'!$B9","v":"Tjekkiet"},{"$f":"HLOOKUP($E$12,'Level 1'!$AO$5:$AY$34,'Oversættelse af landenavne'!E9,FALSE)","v":7.0800000000000002E-2},{"$f":"HLOOKUP($E$12,'Afgifter og Moms'!$AO$5:$AY$34,'Oversættelse af landenavne'!E9,FALSE)","v":1.0999999999999899E-3},null,null,{"$f":"'Oversættelse af landenavne'!$B9","v":"Tjekkiet"},{"$f":"HLOOKUP($E$12,'Level 1'!$BB$5:$BL$34,'Oversættelse af landenavne'!$E9,FALSE)","v":7.3300000000000004E-2},{"$f":"HLOOKUP($E$12,'Afgifter og Moms'!$BB$5:$BL$34,'Oversættelse af landenavne'!$E9,FALSE)","v":1.0499999999999954E-3},null,null,null,{"$f":"'Oversættelse af landenavne'!$B9","v":"Tjekkiet"},{"$f":"HLOOKUP($E$12,'Level 1'!$BO$5:$BY$34,'Oversættelse af landenavne'!$E9,FALSE)","v":7.51E-2},{"$f":"HLOOKUP($E$12,'Afgifter og Moms'!$BO$5:$BY$34,'Oversættelse af landenavne'!$E9,FALSE)","v":1.0000000000000009E-3},null,null,{"$f":"'Oversættelse af landenavne'!$B9","v":"Tjekkiet"},{"$f":"HLOOKUP($E$12,'Level 1'!$CB$5:$CL$34,'Oversættelse af landenavne'!$E9,FALSE)","v":"*"},{"$f":"HLOOKUP($E$12,'Afgifter og Moms'!$CB$5:$CL$34,'Oversættelse af landenavne'!$E9,FALSE)","v":"*"}]
[null,null,null,{"$f":"'Oversættelse af landenavne'!$B10","v":"Danmark"},{"$f":"HLOOKUP($E$12,'Level 1'!$B$5:$L$34,'Oversættelse af landenavne'!$E10,FALSE)","v":8.030000000000001E-2},{"$f":"HLOOKUP($E$12,'Afgifter og Moms'!$B$5:$L$34,'Oversættelse af landenavne'!$E10,FALSE)","v":9.8699999999999982E-2},null,null,{"$f":"'Oversættelse af landenavne'!$B10","v":"Danmark"},{"$f":"HLOOKUP($E$12,'Level 1'!$O$5:$Y$34,'Oversættelse af landenavne'!$E10,FALSE)","v":6.5949999999999995E-2},{"$f":"HLOOKUP($E$12,'Afgifter og Moms'!$O$5:$Y$34,'Oversættelse af landenavne'!E10,FALSE)","v":3.0649999999999997E-2},null,null,{"$f":"'Oversættelse af landenavne'!$B10","v":"Danmark"},{"$f":"HLOOKUP($E$12,'Level 1'!$AB$5:$AL$34,'Oversættelse af landenavne'!E10,FALSE)","v":5.9700000000000003E-2},{"$f":"HLOOKUP($E$12,'Afgifter og Moms'!$AB$5:$AL$34,'Oversættelse af landenavne'!E10,FALSE)","v":3.0549999999999994E-2},null,null,{"$f":"'Oversættelse af landenavne'!$B10","v":"Danmark"},{"$f":"HLOOKUP($E$12,'Level 1'!$AO$5:$AY$34,'Oversættelse af landenavne'!E10,FALSE)","v":6.0049999999999999E-2},{"$f":"HLOOKUP($E$12,'Afgifter og Moms'!$AO$5:$AY$34,'Oversættelse af landenavne'!E10,FALSE)","v":3.0100000000000009E-2},null,null,{"$f":"'Oversættelse af landenavne'!$B10","v":"Danmark"},{"$f":"HLOOKUP($E$12,'Level 1'!$BB$5:$BL$34,'Oversættelse af landenavne'!$E10,FALSE)","v":4.7600000000000003E-2},{"$f":"HLOOKUP($E$12,'Afgifter og Moms'!$BB$5:$BL$34,'Oversættelse af landenavne'!$E10,FALSE)","v":2.9499999999999998E-2},null,null,null,{"$f":"'Oversættelse af landenavne'!$B10","v":"Danmark"},{"$f":"HLOOKUP($E$12,'Level 1'!$BO$5:$BY$34,'Oversættelse af landenavne'!$E10,FALSE)","v":4.6449999999999998E-2},{"$f":"HLOOKUP($E$12,'Afgifter og Moms'!$BO$5:$BY$34,'Oversættelse af landenavne'!$E10,FALSE)","v":2.9350000000000008E-2},null,null,{"$f":"'Oversættelse af landenavne'!$B10","v":"Danmark"},{"$f":"HLOOKUP($E$12,'Level 1'!$CB$5:$CL$34,'Oversættelse af landenavne'!$E10,FALSE)","v":"*"},{"$f":"HLOOKUP($E$12,'Afgifter og Moms'!$CB$5:$CL$34,'Oversættelse af landenavne'!$E10,FALSE)","v":"*"}]
[null,null,null,{"$f":"'Oversættelse af landenavne'!$B11","v":"Tyskland"},{"$f":"HLOOKUP($E$12,'Level 1'!$B$5:$L$34,'Oversættelse af landenavne'!$E11,FALSE)","v":0.13414999999999999},{"$f":"HLOOKUP($E$12,'Afgifter og Moms'!$B$5:$L$34,'Oversættelse af landenavne'!$E11,FALSE)","v":8.4850000000000009E-2},null,null,{"$f":"'Oversættelse af landenavne'!$B11","v":"Tyskland"},{"$f":"HLOOKUP($E$12,'Level 1'!$O$5:$Y$34,'Oversættelse af landenavne'!$E11,FALSE)","v":0.10195},{"$f":"HLOOKUP($E$12,'Afgifter og Moms'!$O$5:$Y$34,'Oversættelse af landenavne'!E11,FALSE)","v":7.1850000000000011E-2},null,null,{"$f":"'Oversættelse af landenavne'!$B11","v":"Tyskland"},{"$f":"HLOOKUP($E$12,'Level 1'!$AB$5:$AL$34,'Oversættelse af landenavne'!E11,FALSE)","v":8.1100000000000005E-2},{"$f":"HLOOKUP($E$12,'Afgifter og Moms'!$AB$5:$AL$34,'Oversættelse af landenavne'!E11,FALSE)","v":6.9000000000000006E-2},null,null,{"$f":"'Oversættelse af landenavne'!$B11","v":"Tyskland"},{"$f":"HLOOKUP($E$12,'Level 1'!$AO$5:$AY$34,'Oversættelse af landenavne'!E11,FALSE)","v":6.9550000000000001E-2},{"$f":"HLOOKUP($E$12,'Afgifter og Moms'!$AO$5:$AY$34,'Oversættelse af landenavne'!E11,FALSE)","v":6.1249999999999999E-2},null,null,{"$f":"'Oversættelse af landenavne'!$B11","v":"Tyskland"},{"$f":"HLOOKUP($E$12,'Level 1'!$BB$5:$BL$34,'Oversættelse af landenavne'!$E11,FALSE)","v":6.1699999999999998E-2},{"$f":"HLOOKUP($E$12,'Afgifter og Moms'!$BB$5:$BL$34,'Oversættelse af landenavne'!$E11,FALSE)","v":5.0050000000000004E-2},null,null,null,{"$f":"'Oversættelse af landenavne'!$B11","v":"Tyskland"},{"$f":"HLOOKUP($E$12,'Level 1'!$BO$5:$BY$34,'Oversættelse af landenavne'!$E11,FALSE)","v":5.5449999999999999E-2},{"$f":"HLOOKUP($E$12,'Afgifter og Moms'!$BO$5:$BY$34,'Oversættelse af landenavne'!$E11,FALSE)","v":4.2099999999999999E-2},null,null,{"$f":"'Oversættelse af landenavne'!$B11","v":"Tyskland"},{"$f":"HLOOKUP($E$12,'Level 1'!$CB$5:$CL$34,'Oversættelse af landenavne'!$E11,FALSE)","v":"*"},{"$f":"HLOOKUP($E$12,'Afgifter og Moms'!$CB$5:$CL$34,'Oversættelse af landenavne'!$E11,FALSE)","v":"*"}]
[null,null,null,{"$f":"'Oversættelse af landenavne'!$B12","v":"Estland"},{"$f":"HLOOKUP($E$12,'Level 1'!$B$5:$L$34,'Oversættelse af landenavne'!$E12,FALSE)","v":9.4E-2},{"$f":"HLOOKUP($E$12,'Afgifter og Moms'!$B$5:$L$34,'Oversættelse af landenavne'!$E12,FALSE)","v":1.3350000000000001E-2},null,null,{"$f":"'Oversættelse af landenavne'!$B12","v":"Estland"},{"$f":"HLOOKUP($E$12,'Level 1'!$O$5:$Y$34,'Oversættelse af landenavne'!$E12,FALSE)","v":8.3249999999999991E-2},{"$f":"HLOOKUP($E$12,'Afgifter og Moms'!$O$5:$Y$34,'Oversættelse af landenavne'!E12,FALSE)","v":1.3400000000000009E-2},null,null,{"$f":"'Oversættelse af landenavne'!$B12","v":"Estland"},{"$f":"HLOOKUP($E$12,'Level 1'!$AB$5:$AL$34,'Oversættelse af landenavne'!E12,FALSE)","v":7.8949999999999992E-2},{"$f":"HLOOKUP($E$12,'Afgifter og Moms'!$AB$5:$AL$34,'Oversættelse af landenavne'!E12,FALSE)","v":1.3400000000000009E-2},null,null,{"$f":"'Oversættelse af landenavne'!$B12","v":"Estland"},{"$f":"HLOOKUP($E$12,'Level 1'!$AO$5:$AY$34,'Oversættelse af landenavne'!E12,FALSE)","v":7.195E-2},{"$f":"HLOOKUP($E$12,'Afgifter og Moms'!$AO$5:$AY$34,'Oversættelse af landenavne'!E12,FALSE)","v":1.3400000000000009E-2},null,null,{"$f":"'Oversættelse af landenavne'!$B12","v":"Estland"},{"$f":"HLOOKUP($E$12,'Level 1'!$BB$5:$BL$34,'Oversættelse af landenavne'!$E12,FALSE)","v":6.0600000000000001E-2},{"$f":"HLOOKUP($E$12,'Afgifter og Moms'!$BB$5:$BL$34,'Oversættelse af landenavne'!$E12,FALSE)","v":1.2950000000000003E-2},null,null,null,{"$f":"'Oversættelse af landenavne'!$B12","v":"Estland"},{"$f":"HLOOKUP($E$12,'Level 1'!$BO$5:$BY$34,'Oversættelse af landenavne'!$E12,FALSE)","v":5.7300000000000004E-2},{"$f":"HLOOKUP($E$12,'Afgifter og Moms'!$BO$5:$BY$34,'Oversættelse af landenavne'!$E12,FALSE)","v":1.3099999999999987E-2},null,null,{"$f":"'Oversættelse af landenavne'!$B12","v":"Estland"},{"$f":"HLOOKUP($E$12,'Level 1'!$CB$5:$CL$34,'Oversættelse af landenavne'!$E12,FALSE)","v":"*"},{"$f":"HLOOKUP($E$12,'Afgifter og Moms'!$CB$5:$CL$34,'Oversættelse af landenavne'!$E12,FALSE)","v":"*"}]
[null,null,null,{"$f":"'Oversættelse af landenavne'!$B13","v":"Irland"},{"$f":"HLOOKUP($E$12,'Level 1'!$B$5:$L$34,'Oversættelse af landenavne'!$E13,FALSE)","v":0.17044999999999999},{"$f":"HLOOKUP($E$12,'Afgifter og Moms'!$B$5:$L$34,'Oversættelse af landenavne'!$E13,FALSE)","v":3.670000000000001E-2},null,null,{"$f":"'Oversættelse af landenavne'!$B13","v":"Irland"},{"$f":"HLOOKUP($E$12,'Level 1'!$O$5:$Y$34,'Oversættelse af landenavne'!$E13,FALSE)","v":0.14835000000000001},{"$f":"HLOOKUP($E$12,'Afgifter og Moms'!$O$5:$Y$34,'Oversættelse af landenavne'!E13,FALSE)","v":1.5750000000000014E-2},null,null,{"$f":"'Oversættelse af landenavne'!$B13","v":"Irland"},{"$f":"HLOOKUP($E$12,'Level 1'!$AB$5:$AL$34,'Oversættelse af landenavne'!E13,FALSE)","v":0.12625},{"$f":"HLOOKUP($E$12,'Afgifter og Moms'!$AB$5:$AL$34,'Oversættelse af landenavne'!E13,FALSE)","v":1.2449999999999989E-2},null,null,{"$f":"'Oversættelse af landenavne'!$B13","v":"Irland"},{"$f":"HLOOKUP($E$12,'Level 1'!$AO$5:$AY$34,'Oversættelse af landenavne'!E13,FALSE)","v":0.1056},{"$f":"HLOOKUP($E$12,'Afgifter og Moms'!$AO$5:$AY$34,'Oversættelse af landenavne'!E13,FALSE)","v":8.3499999999999963E-3},null,null,{"$f":"'Oversættelse af landenavne'!$B13","v":"Irland"},{"$f":"HLOOKUP($E$12,'Level 1'!$BB$5:$BL$34,'Oversættelse af landenavne'!$E13,FALSE)","v":9.2850000000000002E-2},{"$f":"HLOOKUP($E$12,'Afgifter og Moms'!$BB$5:$BL$34,'Oversættelse af landenavne'!$E13,FALSE)","v":5.7999999999999996E-3},null,null,null,{"$f":"'Oversættelse af landenavne'!$B13","v":"Irland"},{"$f":"HLOOKUP($E$12,'Level 1'!$BO$5:$BY$34,'Oversættelse af landenavne'!$E13,FALSE)","v":8.5999999999999993E-2},{"$f":"HLOOKUP($E$12,'Afgifter og Moms'!$BO$5:$BY$34,'Oversættelse af landenavne'!$E13,FALSE)","v":4.0000000000000036E-3},null,null,{"$f":"'Oversættelse af landenavne'!$B13","v":"Irland"},{"$f":"HLOOKUP($E$12,'Level 1'!$CB$5:$CL$34,'Oversættelse af landenavne'!$E13,FALSE)","v":"*"},{"$f":"HLOOKUP($E$12,'Afgifter og Moms'!$CB$5:$CL$34,'Oversættelse af landenavne'!$E13,FALSE)","v":"*"}]
[null,null,null,{"$f":"'Oversættelse af landenavne'!$B14","v":"Grækenland"},{"$f":"HLOOKUP($E$12,'Level 1'!$B$5:$L$34,'Oversættelse af landenavne'!$E14,FALSE)","v":0.15789999999999998},{"$f":"HLOOKUP($E$12,'Afgifter og Moms'!$B$5:$L$34,'Oversættelse af landenavne'!$E14,FALSE)","v":6.4850000000000019E-2},null,null,{"$f":"'Oversættelse af landenavne'!$B14","v":"Grækenland"},{"$f":"HLOOKUP($E$12,'Level 1'!$O$5:$Y$34,'Oversættelse af landenavne'!$E14,FALSE)","v":0.12835000000000002},{"$f":"HLOOKUP($E$12,'Afgifter og Moms'!$O$5:$Y$34,'Oversættelse af landenavne'!E14,FALSE)","v":5.0299999999999984E-2},null,null,{"$f":"'Oversættelse af landenavne'!$B14","v":"Grækenland"},{"$f":"HLOOKUP($E$12,'Level 1'!$AB$5:$AL$34,'Oversættelse af landenavne'!E14,FALSE)","v":0.10295},{"$f":"HLOOKUP($E$12,'Afgifter og Moms'!$AB$5:$AL$34,'Oversættelse af landenavne'!E14,FALSE)","v":1.9150000000000014E-2},null,null,{"$f":"'Oversættelse af landenavne'!$B14","v":"Grækenland"},{"$f":"HLOOKUP($E$12,'Level 1'!$AO$5:$AY$34,'Oversættelse af landenavne'!E14,FALSE)","v":8.2699999999999996E-2},{"$f":"HLOOKUP($E$12,'Afgifter og Moms'!$AO$5:$AY$34,'Oversættelse af landenavne'!E14,FALSE)","v":1.2250000000000011E-2},null,null,{"$f":"'Oversættelse af landenavne'!$B14","v":"Grækenland"},{"$f":"HLOOKUP($E$12,'Level 1'!$BB$5:$BL$34,'Oversættelse af landenavne'!$E14,FALSE)","v":6.5500000000000003E-2},{"$f":"HLOOKUP($E$12,'Afgifter og Moms'!$BB$5:$BL$34,'Oversættelse af landenavne'!$E14,FALSE)","v":7.8000000000000014E-3},null,null,null,{"$f":"'Oversættelse af landenavne'!$B14","v":"Grækenland"},{"$f":"HLOOKUP($E$12,'Level 1'!$BO$5:$BY$34,'Oversættelse af landenavne'!$E14,FALSE)","v":4.2249999999999996E-2},{"$f":"HLOOKUP($E$12,'Afgifter og Moms'!$BO$5:$BY$34,'Oversættelse af landenavne'!$E14,FALSE)","v":7.5000000000000067E-3},null,null,{"$f":"'Oversættelse af landenavne'!$B14","v":"Grækenland"},{"$f":"HLOOKUP($E$12,'Level 1'!$CB$5:$CL$34,'Oversættelse af landenavne'!$E14,FALSE)","v":"*"},{"$f":"HLOOKUP($E$12,'Afgifter og Moms'!$CB$5:$CL$34,'Oversættelse af landenavne'!$E14,FALSE)","v":"*"}]
[null,null,null,{"$f":"'Oversættelse af landenavne'!$B15","v":"Spanien"},{"$f":"HLOOKUP($E$12,'Level 1'!$B$5:$L$34,'Oversættelse af landenavne'!$E15,FALSE)","v":0.2581},{"$f":"HLOOKUP($E$12,'Afgifter og Moms'!$B$5:$L$34,'Oversættelse af landenavne'!$E15,FALSE)","v":1.319999999999999E-2},null,null,{"$f":"'Oversættelse af landenavne'!$B15","v":"Spanien"},{"$f":"HLOOKUP($E$12,'Level 1'!$O$5:$Y$34,'Oversættelse af landenavne'!$E15,FALSE)","v":0.14705000000000001},{"$f":"HLOOKUP($E$12,'Afgifter og Moms'!$O$5:$Y$34,'Oversættelse af landenavne'!E15,FALSE)","v":7.5000000000000067E-3},null,null,{"$f":"'Oversættelse af landenavne'!$B15","v":"Spanien"},{"$f":"HLOOKUP($E$12,'Level 1'!$AB$5:$AL$34,'Oversættelse af landenavne'!E15,FALSE)","v":0.10970000000000001},{"$f":"HLOOKUP($E$12,'Afgifter og Moms'!$AB$5:$AL$34,'Oversættelse af landenavne'!E15,FALSE)","v":5.5999999999999939E-3},null,null,{"$f":"'Oversættelse af landenavne'!$B15","v":"Spanien"},{"$f":"HLOOKUP($E$12,'Level 1'!$AO$5:$AY$34,'Oversættelse af landenavne'!E15,FALSE)","v":9.1499999999999998E-2},{"$f":"HLOOKUP($E$12,'Afgifter og Moms'!$AO$5:$AY$34,'Oversættelse af landenavne'!E15,FALSE)","v":4.6500000000000014E-3},null,null,{"$f":"'Oversættelse af landenavne'!$B15","v":"Spanien"},{"$f":"HLOOKUP($E$12,'Level 1'!$BB$5:$BL$34,'Oversættelse af landenavne'!$E15,FALSE)","v":7.8300000000000008E-2},{"$f":"HLOOKUP($E$12,'Afgifter og Moms'!$BB$5:$BL$34,'Oversættelse af landenavne'!$E15,FALSE)","v":4.049999999999998E-3},null,null,null,{"$f":"'Oversættelse af landenavne'!$B15","v":"Spanien"},{"$f":"HLOOKUP($E$12,'Level 1'!$BO$5:$BY$34,'Oversættelse af landenavne'!$E15,FALSE)","v":7.3899999999999993E-2},{"$f":"HLOOKUP($E$12,'Afgifter og Moms'!$BO$5:$BY$34,'Oversættelse af landenavne'!$E15,FALSE)","v":3.7500000000000033E-3},null,null,{"$f":"'Oversættelse af landenavne'!$B15","v":"Spanien"},{"$f":"HLOOKUP($E$12,'Level 1'!$CB$5:$CL$34,'Oversættelse af landenavne'!$E15,FALSE)","v":6.7500000000000004E-2},{"$f":"HLOOKUP($E$12,'Afgifter og Moms'!$CB$5:$CL$34,'Oversættelse af landenavne'!$E15,FALSE)","v":3.4499999999999947E-3}]
[null,null,null,{"$f":"'Oversættelse af landenavne'!$B16","v":"Frankrig"},{"$f":"HLOOKUP($E$12,'Level 1'!$B$5:$L$34,'Oversættelse af landenavne'!$E16,FALSE)","v":0.11840000000000001},{"$f":"HLOOKUP($E$12,'Afgifter og Moms'!$B$5:$L$34,'Oversættelse af landenavne'!$E16,FALSE)","v":3.2250000000000001E-2},null,null,{"$f":"'Oversættelse af landenavne'!$B16","v":"Frankrig"},{"$f":"HLOOKUP($E$12,'Level 1'!$O$5:$Y$34,'Oversættelse af landenavne'!$E16,FALSE)","v":9.2899999999999996E-2},{"$f":"HLOOKUP($E$12,'Afgifter og Moms'!$O$5:$Y$34,'Oversættelse af landenavne'!E16,FALSE)","v":2.7300000000000005E-2},null,null,{"$f":"'Oversættelse af landenavne'!$B16","v":"Frankrig"},{"$f":"HLOOKUP($E$12,'Level 1'!$AB$5:$AL$34,'Oversættelse af landenavne'!E16,FALSE)","v":7.2899999999999993E-2},{"$f":"HLOOKUP($E$12,'Afgifter og Moms'!$AB$5:$AL$34,'Oversættelse af landenavne'!E16,FALSE)","v":2.495E-2},null,null,{"$f":"'Oversættelse af landenavne'!$B16","v":"Frankrig"},{"$f":"HLOOKUP($E$12,'Level 1'!$AO$5:$AY$34,'Oversættelse af landenavne'!E16,FALSE)","v":6.5799999999999997E-2},{"$f":"HLOOKUP($E$12,'Afgifter og Moms'!$AO$5:$AY$34,'Oversættelse af landenavne'!E16,FALSE)","v":2.0650000000000002E-2},null,null,{"$f":"'Oversættelse af landenavne'!$B16","v":"Frankrig"},{"$f":"HLOOKUP($E$12,'Level 1'!$BB$5:$BL$34,'Oversættelse af landenavne'!$E16,FALSE)","v":5.9899999999999995E-2},{"$f":"HLOOKUP($E$12,'Afgifter og Moms'!$BB$5:$BL$34,'Oversættelse af landenavne'!$E16,FALSE)","v":1.5150000000000011E-2},null,null,null,{"$f":"'Oversættelse af landenavne'!$B16","v":"Frankrig"},{"$f":"HLOOKUP($E$12,'Level 1'!$BO$5:$BY$34,'Oversættelse af landenavne'!$E16,FALSE)","v":5.475E-2},{"$f":"HLOOKUP($E$12,'Afgifter og Moms'!$BO$5:$BY$34,'Oversættelse af landenavne'!$E16,FALSE)","v":6.1000000000000013E-3},null,null,{"$f":"'Oversættelse af landenavne'!$B16","v":"Frankrig"},{"$f":"HLOOKUP($E$12,'Level 1'!$CB$5:$CL$34,'Oversættelse af landenavne'!$E16,FALSE)","v":"*"},{"$f":"HLOOKUP($E$12,'Afgifter og Moms'!$CB$5:$CL$34,'Oversættelse af landenavne'!$E16,FALSE)","v":"*"}]
[null,null,null,{"$f":"'Oversættelse af landenavne'!$B17","v":"Kroatien"},{"$f":"HLOOKUP($E$12,'Level 1'!$B$5:$L$34,'Oversættelse af landenavne'!$E17,FALSE)","v":0.11724999999999999},{"$f":"HLOOKUP($E$12,'Afgifter og Moms'!$B$5:$L$34,'Oversættelse af landenavne'!$E17,FALSE)","v":5.850000000000008E-3},null,null,{"$f":"'Oversættelse af landenavne'!$B17","v":"Kroatien"},{"$f":"HLOOKUP($E$12,'Level 1'!$O$5:$Y$34,'Oversættelse af landenavne'!$E17,FALSE)","v":0.1026},{"$f":"HLOOKUP($E$12,'Afgifter og Moms'!$O$5:$Y$34,'Oversættelse af landenavne'!E17,FALSE)","v":5.2000000000000102E-3},null,null,{"$f":"'Oversættelse af landenavne'!$B17","v":"Kroatien"},{"$f":"HLOOKUP($E$12,'Level 1'!$AB$5:$AL$34,'Oversættelse af landenavne'!E17,FALSE)","v":8.72E-2},{"$f":"HLOOKUP($E$12,'Afgifter og Moms'!$AB$5:$AL$34,'Oversættelse af landenavne'!E17,FALSE)","v":5.1999999999999963E-3},null,null,{"$f":"'Oversættelse af landenavne'!$B17","v":"Kroatien"},{"$f":"HLOOKUP($E$12,'Level 1'!$AO$5:$AY$34,'Oversættelse af landenavne'!E17,FALSE)","v":7.5149999999999995E-2},{"$f":"HLOOKUP($E$12,'Afgifter og Moms'!$AO$5:$AY$34,'Oversættelse af landenavne'!E17,FALSE)","v":4.6500000000000152E-3},null,null,{"$f":"'Oversættelse af landenavne'!$B17","v":"Kroatien"},{"$f":"HLOOKUP($E$12,'Level 1'!$BB$5:$BL$34,'Oversættelse af landenavne'!$E17,FALSE)","v":6.1749999999999999E-2},{"$f":"HLOOKUP($E$12,'Afgifter og Moms'!$BB$5:$BL$34,'Oversættelse af landenavne'!$E17,FALSE)","v":2.8500000000000053E-3},null,null,null,{"$f":"'Oversættelse af landenavne'!$B17","v":"Kroatien"},{"$f":"HLOOKUP($E$12,'Level 1'!$BO$5:$BY$34,'Oversættelse af landenavne'!$E17,FALSE)","v":5.3349999999999995E-2},{"$f":"HLOOKUP($E$12,'Afgifter og Moms'!$BO$5:$BY$34,'Oversættelse af landenavne'!$E17,FALSE)","v":2.8500000000000053E-3},null,null,{"$f":"'Oversættelse af landenavne'!$B17","v":"Kroatien"},{"$f":"HLOOKUP($E$12,'Level 1'!$CB$5:$CL$34,'Oversættelse af landenavne'!$E17,FALSE)","v":"*"},{"$f":"HLOOKUP($E$12,'Afgifter og Moms'!$CB$5:$CL$34,'Oversættelse af landenavne'!$E17,FALSE)","v":"*"}]
[null,null,null,{"$f":"'Oversættelse af landenavne'!$B18","v":"Italien"},{"$f":"HLOOKUP($E$12,'Level 1'!$B$5:$L$34,'Oversættelse af landenavne'!$E18,FALSE)","v":0.16660000000000003},{"$f":"HLOOKUP($E$12,'Afgifter og Moms'!$B$5:$L$34,'Oversættelse af landenavne'!$E18,FALSE)","v":0.10224999999999995},null,null,{"$f":"'Oversættelse af landenavne'!$B18","v":"Italien"},{"$f":"HLOOKUP($E$12,'Level 1'!$O$5:$Y$34,'Oversættelse af landenavne'!$E18,FALSE)","v":0.11105000000000001},{"$f":"HLOOKUP($E$12,'Afgifter og Moms'!$O$5:$Y$34,'Oversættelse af landenavne'!E18,FALSE)","v":7.6649999999999996E-2},null,null,{"$f":"'Oversættelse af landenavne'!$B18","v":"Italien"},{"$f":"HLOOKUP($E$12,'Level 1'!$AB$5:$AL$34,'Oversættelse af landenavne'!E18,FALSE)","v":9.3099999999999988E-2},{"$f":"HLOOKUP($E$12,'Afgifter og Moms'!$AB$5:$AL$34,'Oversættelse af landenavne'!E18,FALSE)","v":6.7150000000000015E-2},null,null,{"$f":"'Oversættelse af landenavne'!$B18","v":"Italien"},{"$f":"HLOOKUP($E$12,'Level 1'!$AO$5:$AY$34,'Oversættelse af landenavne'!E18,FALSE)","v":8.5749999999999993E-2},{"$f":"HLOOKUP($E$12,'Afgifter og Moms'!$AO$5:$AY$34,'Oversættelse af landenavne'!E18,FALSE)","v":6.2950000000000006E-2},null,null,{"$f":"'Oversættelse af landenavne'!$B18","v":"Italien"},{"$f":"HLOOKUP($E$12,'Level 1'!$BB$5:$BL$34,'Oversættelse af landenavne'!$E18,FALSE)","v":7.6600000000000001E-2},{"$f":"HLOOKUP($E$12,'Afgifter og Moms'!$BB$5:$BL$34,'Oversættelse af landenavne'!$E18,FALSE)","v":4.9999999999999989E-2},null,null,null,{"$f":"'Oversættelse af landenavne'!$B18","v":"Italien"},{"$f":"HLOOKUP($E$12,'Level 1'!$BO$5:$BY$34,'Oversættelse af landenavne'!$E18,FALSE)","v":6.7000000000000004E-2},{"$f":"HLOOKUP($E$12,'Afgifter og Moms'!$BO$5:$BY$34,'Oversættelse af landenavne'!$E18,FALSE)","v":3.8449999999999998E-2},null,null,{"$f":"'Oversættelse af landenavne'!$B18","v":"Italien"},{"$f":"HLOOKUP($E$12,'Level 1'!$CB$5:$CL$34,'Oversættelse af landenavne'!$E18,FALSE)","v":6.6199999999999995E-2},{"$f":"HLOOKUP($E$12,'Afgifter og Moms'!$CB$5:$CL$34,'Oversættelse af landenavne'!$E18,FALSE)","v":2.020000000000001E-2}]
[null,null,null,{"$f":"'Oversættelse af landenavne'!$B19","v":"Cypern"},{"$f":"HLOOKUP($E$12,'Level 1'!$B$5:$L$34,'Oversættelse af landenavne'!$E19,FALSE)","v":0.17335},{"$f":"HLOOKUP($E$12,'Afgifter og Moms'!$B$5:$L$34,'Oversættelse af landenavne'!$E19,FALSE)","v":8.550000000000002E-3},null,null,{"$f":"'Oversættelse af landenavne'!$B19","v":"Cypern"},{"$f":"HLOOKUP($E$12,'Level 1'!$O$5:$Y$34,'Oversættelse af landenavne'!$E19,FALSE)","v":0.15534999999999999},{"$f":"HLOOKUP($E$12,'Afgifter og Moms'!$O$5:$Y$34,'Oversættelse af landenavne'!E19,FALSE)","v":8.550000000000002E-3},null,null,{"$f":"'Oversættelse af landenavne'!$B19","v":"Cypern"},{"$f":"HLOOKUP($E$12,'Level 1'!$AB$5:$AL$34,'Oversættelse af landenavne'!E19,FALSE)","v":0.13174999999999998},{"$f":"HLOOKUP($E$12,'Afgifter og Moms'!$AB$5:$AL$34,'Oversættelse af landenavne'!E19,FALSE)","v":8.5000000000000075E-3},null,null,{"$f":"'Oversættelse af landenavne'!$B19","v":"Cypern"},{"$f":"HLOOKUP($E$12,'Level 1'!$AO$5:$AY$34,'Oversættelse af landenavne'!E19,FALSE)","v":0.11645},{"$f":"HLOOKUP($E$12,'Afgifter og Moms'!$AO$5:$AY$34,'Oversættelse af landenavne'!E19,FALSE)","v":8.550000000000002E-3},null,null,{"$f":"'Oversættelse af landenavne'!$B19","v":"Cypern"},{"$f":"HLOOKUP($E$12,'Level 1'!$BB$5:$BL$34,'Oversættelse af landenavne'!$E19,FALSE)","v":0.11169999999999999},{"$f":"HLOOKUP($E$12,'Afgifter og Moms'!$BB$5:$BL$34,'Oversættelse af landenavne'!$E19,FALSE)","v":8.5000000000000075E-3},null,null,null,{"$f":"'Oversættelse af landenavne'!$B19","v":"Cypern"},{"$f":"HLOOKUP($E$12,'Level 1'!$BO$5:$BY$34,'Oversættelse af landenavne'!$E19,FALSE)","v":0.1013},{"$f":"HLOOKUP($E$12,'Afgifter og Moms'!$BO$5:$BY$34,'Oversættelse af landenavne'!$E19,FALSE)","v":8.550000000000002E-3},null,null,{"$f":"'Oversættelse af landenavne'!$B19","v":"Cypern"},{"$f":"HLOOKUP($E$12,'Level 1'!$CB$5:$CL$34,'Oversættelse af landenavne'!$E19,FALSE)","v":"*"},{"$f":"HLOOKUP($E$12,'Afgifter og Moms'!$CB$5:$CL$34,'Oversættelse af landenavne'!$E19,FALSE)","v":"*"}]
[null,null,null,{"$f":"'Oversættelse af landenavne'!$B20","v":"Letland"},{"$f":"HLOOKUP($E$12,'Level 1'!$B$5:$L$34,'Oversættelse af landenavne'!$E20,FALSE)","v":0.13514999999999999},{"$f":"HLOOKUP($E$12,'Afgifter og Moms'!$B$5:$L$34,'Oversættelse af landenavne'!$E20,FALSE)","v":2.6749999999999996E-2},null,null,{"$f":"'Oversættelse af landenavne'!$B20","v":"Letland"},{"$f":"HLOOKUP($E$12,'Level 1'!$O$5:$Y$34,'Oversættelse af landenavne'!$E20,FALSE)","v":0.10455},{"$f":"HLOOKUP($E$12,'Afgifter og Moms'!$O$5:$Y$34,'Oversættelse af landenavne'!E20,FALSE)","v":2.679999999999999E-2},null,null,{"$f":"'Oversættelse af landenavne'!$B20","v":"Letland"},{"$f":"HLOOKUP($E$12,'Level 1'!$AB$5:$AL$34,'Oversættelse af landenavne'!E20,FALSE)","v":9.1249999999999998E-2},{"$f":"HLOOKUP($E$12,'Afgifter og Moms'!$AB$5:$AL$34,'Oversættelse af landenavne'!E20,FALSE)","v":2.6800000000000004E-2},null,null,{"$f":"'Oversættelse af landenavne'!$B20","v":"Letland"},{"$f":"HLOOKUP($E$12,'Level 1'!$AO$5:$AY$34,'Oversættelse af landenavne'!E20,FALSE)","v":8.0850000000000005E-2},{"$f":"HLOOKUP($E$12,'Afgifter og Moms'!$AO$5:$AY$34,'Oversættelse af landenavne'!E20,FALSE)","v":2.679999999999999E-2},null,null,{"$f":"'Oversættelse af landenavne'!$B20","v":"Letland"},{"$f":"HLOOKUP($E$12,'Level 1'!$BB$5:$BL$34,'Oversættelse af landenavne'!$E20,FALSE)","v":7.1899999999999992E-2},{"$f":"HLOOKUP($E$12,'Afgifter og Moms'!$BB$5:$BL$34,'Oversættelse af landenavne'!$E20,FALSE)","v":2.6800000000000018E-2},null,null,null,{"$f":"'Oversættelse af landenavne'!$B20","v":"Letland"},{"$f":"HLOOKUP($E$12,'Level 1'!$BO$5:$BY$34,'Oversættelse af landenavne'!$E20,FALSE)","v":5.7099999999999998E-2},{"$f":"HLOOKUP($E$12,'Afgifter og Moms'!$BO$5:$BY$34,'Oversættelse af landenavne'!$E20,FALSE)","v":2.6800000000000004E-2},null,null,{"$f":"'Oversættelse af landenavne'!$B20","v":"Letland"},{"$f":"HLOOKUP($E$12,'Level 1'!$CB$5:$CL$34,'Oversættelse af landenavne'!$E20,FALSE)","v":"*"},{"$f":"HLOOKUP($E$12,'Afgifter og Moms'!$CB$5:$CL$34,'Oversættelse af landenavne'!$E20,FALSE)","v":"*"}]
[null,null,null,{"$f":"'Oversættelse af landenavne'!$B21","v":"Litaun"},{"$f":"HLOOKUP($E$12,'Level 1'!$B$5:$L$34,'Oversættelse af landenavne'!$E21,FALSE)","v":0.1148},{"$f":"HLOOKUP($E$12,'Afgifter og Moms'!$B$5:$L$34,'Oversættelse af landenavne'!$E21,FALSE)","v":1.684999999999999E-2},null,null,{"$f":"'Oversættelse af landenavne'!$B21","v":"Litaun"},{"$f":"HLOOKUP($E$12,'Level 1'!$O$5:$Y$34,'Oversættelse af landenavne'!$E21,FALSE)","v":9.2499999999999999E-2},{"$f":"HLOOKUP($E$12,'Afgifter og Moms'!$O$5:$Y$34,'Oversættelse af landenavne'!E21,FALSE)","v":1.705000000000001E-2},null,null,{"$f":"'Oversættelse af landenavne'!$B21","v":"Litaun"},{"$f":"HLOOKUP($E$12,'Level 1'!$AB$5:$AL$34,'Oversættelse af landenavne'!E21,FALSE)","v":8.2299999999999998E-2},{"$f":"HLOOKUP($E$12,'Afgifter og Moms'!$AB$5:$AL$34,'Oversættelse af landenavne'!E21,FALSE)","v":1.7000000000000001E-2},null,null,{"$f":"'Oversættelse af landenavne'!$B21","v":"Litaun"},{"$f":"HLOOKUP($E$12,'Level 1'!$AO$5:$AY$34,'Oversættelse af landenavne'!E21,FALSE)","v":7.3649999999999993E-2},{"$f":"HLOOKUP($E$12,'Afgifter og Moms'!$AO$5:$AY$34,'Oversættelse af landenavne'!E21,FALSE)","v":1.6800000000000009E-2},null,null,{"$f":"'Oversættelse af landenavne'!$B21","v":"Litaun"},{"$f":"HLOOKUP($E$12,'Level 1'!$BB$5:$BL$34,'Oversættelse af landenavne'!$E21,FALSE)","v":6.7150000000000001E-2},{"$f":"HLOOKUP($E$12,'Afgifter og Moms'!$BB$5:$BL$34,'Oversættelse af landenavne'!$E21,FALSE)","v":1.6799999999999995E-2},null,null,null,{"$f":"'Oversættelse af landenavne'!$B21","v":"Litaun"},{"$f":"HLOOKUP($E$12,'Level 1'!$BO$5:$BY$34,'Oversættelse af landenavne'!$E21,FALSE)","v":6.3399999999999998E-2},{"$f":"HLOOKUP($E$12,'Afgifter og Moms'!$BO$5:$BY$34,'Oversættelse af landenavne'!$E21,FALSE)","v":1.6650000000000012E-2},null,null,{"$f":"'Oversættelse af landenavne'!$B21","v":"Litaun"},{"$f":"HLOOKUP($E$12,'Level 1'!$CB$5:$CL$34,'Oversættelse af landenavne'!$E21,FALSE)","v":"*"},{"$f":"HLOOKUP($E$12,'Afgifter og Moms'!$CB$5:$CL$34,'Oversættelse af landenavne'!$E21,FALSE)","v":"*"}]
[null,null,null,{"$f":"'Oversættelse af landenavne'!$B22","v":"luxembourg"},{"$f":"HLOOKUP($E$12,'Level 1'!$B$5:$L$34,'Oversættelse af landenavne'!$E22,FALSE)","v":0.13519999999999999},{"$f":"HLOOKUP($E$12,'Afgifter og Moms'!$B$5:$L$34,'Oversættelse af landenavne'!$E22,FALSE)","v":3.0499999999999999E-2},null,null,{"$f":"'Oversættelse af landenavne'!$B22","v":"luxembourg"},{"$f":"HLOOKUP($E$12,'Level 1'!$O$5:$Y$34,'Oversættelse af landenavne'!$E22,FALSE)","v":9.4349999999999989E-2},{"$f":"HLOOKUP($E$12,'Afgifter og Moms'!$O$5:$Y$34,'Oversættelse af landenavne'!E22,FALSE)","v":8.6000000000000104E-3},null,null,{"$f":"'Oversættelse af landenavne'!$B22","v":"luxembourg"},{"$f":"HLOOKUP($E$12,'Level 1'!$AB$5:$AL$34,'Oversættelse af landenavne'!E22,FALSE)","v":8.2299999999999998E-2},{"$f":"HLOOKUP($E$12,'Afgifter og Moms'!$AB$5:$AL$34,'Oversættelse af landenavne'!E22,FALSE)","v":8.7499999999999939E-3},null,null,{"$f":"'Oversættelse af landenavne'!$B22","v":"luxembourg"},{"$f":"HLOOKUP($E$12,'Level 1'!$AO$5:$AY$34,'Oversættelse af landenavne'!E22,FALSE)","v":5.57E-2},{"$f":"HLOOKUP($E$12,'Afgifter og Moms'!$AO$5:$AY$34,'Oversættelse af landenavne'!E22,FALSE)","v":5.4499999999999965E-3},null,null,{"$f":"'Oversættelse af landenavne'!$B22","v":"luxembourg"},{"$f":"HLOOKUP($E$12,'Level 1'!$BB$5:$BL$34,'Oversættelse af landenavne'!$E22,FALSE)","v":5.0099999999999999E-2},{"$f":"HLOOKUP($E$12,'Afgifter og Moms'!$BB$5:$BL$34,'Oversættelse af landenavne'!$E22,FALSE)","v":4.5500000000000054E-3},null,null,null,{"$f":"'Oversættelse af landenavne'!$B22","v":"luxembourg"},{"$f":"HLOOKUP($E$12,'Level 1'!$BO$5:$BY$34,'Oversættelse af landenavne'!$E22,FALSE)","v":"*"},{"$f":"HLOOKUP($E$12,'Afgifter og Moms'!$BO$5:$BY$34,'Oversættelse af landenavne'!$E22,FALSE)","v":"*"},null,null,{"$f":"'Oversættelse af landenavne'!$B22","v":"luxembourg"},{"$f":"HLOOKUP($E$12,'Level 1'!$CB$5:$CL$34,'Oversættelse af landenavne'!$E22,FALSE)","v":"*"},{"$f":"HLOOKUP($E$12,'Afgifter og Moms'!$CB$5:$CL$34,'Oversættelse af landenavne'!$E22,FALSE)","v":"*"}]
[null,null,null,{"$f":"'Oversættelse af landenavne'!$B23","v":"Ungarn"},{"$f":"HLOOKUP($E$12,'Level 1'!$B$5:$L$34,'Oversættelse af landenavne'!$E23,FALSE)","v":9.8149999999999987E-2},{"$f":"HLOOKUP($E$12,'Afgifter og Moms'!$B$5:$L$34,'Oversættelse af landenavne'!$E23,FALSE)","v":8.8000000000000023E-3},null,null,{"$f":"'Oversættelse af landenavne'!$B23","v":"Ungarn"},{"$f":"HLOOKUP($E$12,'Level 1'!$O$5:$Y$34,'Oversættelse af landenavne'!$E23,FALSE)","v":8.8050000000000003E-2},{"$f":"HLOOKUP($E$12,'Afgifter og Moms'!$O$5:$Y$34,'Oversættelse af landenavne'!E23,FALSE)","v":8.7999999999999884E-3},null,null,{"$f":"'Oversættelse af landenavne'!$B23","v":"Ungarn"},{"$f":"HLOOKUP($E$12,'Level 1'!$AB$5:$AL$34,'Oversættelse af landenavne'!E23,FALSE)","v":7.8049999999999994E-2},{"$f":"HLOOKUP($E$12,'Afgifter og Moms'!$AB$5:$AL$34,'Oversættelse af landenavne'!E23,FALSE)","v":8.8000000000000023E-3},null,null,{"$f":"'Oversættelse af landenavne'!$B23","v":"Ungarn"},{"$f":"HLOOKUP($E$12,'Level 1'!$AO$5:$AY$34,'Oversættelse af landenavne'!E23,FALSE)","v":7.6500000000000012E-2},{"$f":"HLOOKUP($E$12,'Afgifter og Moms'!$AO$5:$AY$34,'Oversættelse af landenavne'!E23,FALSE)","v":8.7999999999999884E-3},null,null,{"$f":"'Oversættelse af landenavne'!$B23","v":"Ungarn"},{"$f":"HLOOKUP($E$12,'Level 1'!$BB$5:$BL$34,'Oversættelse af landenavne'!$E23,FALSE)","v":7.5600000000000001E-2},{"$f":"HLOOKUP($E$12,'Afgifter og Moms'!$BB$5:$BL$34,'Oversættelse af landenavne'!$E23,FALSE)","v":8.7499999999999939E-3},null,null,null,{"$f":"'Oversættelse af landenavne'!$B23","v":"Ungarn"},{"$f":"HLOOKUP($E$12,'Level 1'!$BO$5:$BY$34,'Oversættelse af landenavne'!$E23,FALSE)","v":7.6300000000000007E-2},{"$f":"HLOOKUP($E$12,'Afgifter og Moms'!$BO$5:$BY$34,'Oversættelse af landenavne'!$E23,FALSE)","v":8.8499999999999968E-3},null,null,{"$f":"'Oversættelse af landenavne'!$B23","v":"Ungarn"},{"$f":"HLOOKUP($E$12,'Level 1'!$CB$5:$CL$34,'Oversættelse af landenavne'!$E23,FALSE)","v":7.3450000000000001E-2},{"$f":"HLOOKUP($E$12,'Afgifter og Moms'!$CB$5:$CL$34,'Oversættelse af landenavne'!$E23,FALSE)","v":8.8000000000000023E-3}]
[null,null,null,{"$f":"'Oversættelse af landenavne'!$B24","v":"Malta"},{"$f":"HLOOKUP($E$12,'Level 1'!$B$5:$L$34,'Oversættelse af landenavne'!$E24,FALSE)","v":0.20800000000000002},{"$f":"HLOOKUP($E$12,'Afgifter og Moms'!$B$5:$L$34,'Oversættelse af landenavne'!$E24,FALSE)","v":0},null,null,{"$f":"'Oversættelse af landenavne'!$B24","v":"Malta"},{"$f":"HLOOKUP($E$12,'Level 1'!$O$5:$Y$34,'Oversættelse af landenavne'!$E24,FALSE)","v":0.16694999999999999},{"$f":"HLOOKUP($E$12,'Afgifter og Moms'!$O$5:$Y$34,'Oversættelse af landenavne'!E24,FALSE)","v":0},null,null,{"$f":"'Oversættelse af landenavne'!$B24","v":"Malta"},{"$f":"HLOOKUP($E$12,'Level 1'!$AB$5:$AL$34,'Oversættelse af landenavne'!E24,FALSE)","v":0.1502},{"$f":"HLOOKUP($E$12,'Afgifter og Moms'!$AB$5:$AL$34,'Oversættelse af landenavne'!E24,FALSE)","v":0},null,null,{"$f":"'Oversættelse af landenavne'!$B24","v":"Malta"},{"$f":"HLOOKUP($E$12,'Level 1'!$AO$5:$AY$34,'Oversættelse af landenavne'!E24,FALSE)","v":0.13255},{"$f":"HLOOKUP($E$12,'Afgifter og Moms'!$AO$5:$AY$34,'Oversættelse af landenavne'!E24,FALSE)","v":0},null,null,{"$f":"'Oversættelse af landenavne'!$B24","v":"Malta"},{"$f":"HLOOKUP($E$12,'Level 1'!$BB$5:$BL$34,'Oversættelse af landenavne'!$E24,FALSE)","v":0.1198},{"$f":"HLOOKUP($E$12,'Afgifter og Moms'!$BB$5:$BL$34,'Oversættelse af landenavne'!$E24,FALSE)","v":0},null,null,null,{"$f":"'Oversættelse af landenavne'!$B24","v":"Malta"},{"$f":"HLOOKUP($E$12,'Level 1'!$BO$5:$BY$34,'Oversættelse af landenavne'!$E24,FALSE)","v":0.10635},{"$f":"HLOOKUP($E$12,'Afgifter og Moms'!$BO$5:$BY$34,'Oversættelse af landenavne'!$E24,FALSE)","v":0},null,null,{"$f":"'Oversættelse af landenavne'!$B24","v":"Malta"},{"$f":"HLOOKUP($E$12,'Level 1'!$CB$5:$CL$34,'Oversættelse af landenavne'!$E24,FALSE)","v":"*"},{"$f":"HLOOKUP($E$12,'Afgifter og Moms'!$CB$5:$CL$34,'Oversættelse af landenavne'!$E24,FALSE)","v":"*"}]
[null,null,null,{"$f":"'Oversættelse af landenavne'!$B25","v":"Holland"},{"$f":"HLOOKUP($E$12,'Level 1'!$B$5:$L$34,'Oversættelse af landenavne'!$E25,FALSE)","v":0.13005},{"$f":"HLOOKUP($E$12,'Afgifter og Moms'!$B$5:$L$34,'Oversættelse af landenavne'!$E25,FALSE)","v":4.9399999999999999E-2},null,null,{"$f":"'Oversættelse af landenavne'!$B25","v":"Holland"},{"$f":"HLOOKUP($E$12,'Level 1'!$O$5:$Y$34,'Oversættelse af landenavne'!$E25,FALSE)","v":8.8450000000000001E-2},{"$f":"HLOOKUP($E$12,'Afgifter og Moms'!$O$5:$Y$34,'Oversættelse af landenavne'!E25,FALSE)","v":3.5799999999999998E-2},null,null,{"$f":"'Oversættelse af landenavne'!$B25","v":"Holland"},{"$f":"HLOOKUP($E$12,'Level 1'!$AB$5:$AL$34,'Oversættelse af landenavne'!E25,FALSE)","v":7.17E-2},{"$f":"HLOOKUP($E$12,'Afgifter og Moms'!$AB$5:$AL$34,'Oversættelse af landenavne'!E25,FALSE)","v":1.5700000000000006E-2},null,null,{"$f":"'Oversættelse af landenavne'!$B25","v":"Holland"},{"$f":"HLOOKUP($E$12,'Level 1'!$AO$5:$AY$34,'Oversættelse af landenavne'!E25,FALSE)","v":6.6599999999999993E-2},{"$f":"HLOOKUP($E$12,'Afgifter og Moms'!$AO$5:$AY$34,'Oversættelse af landenavne'!E25,FALSE)","v":1.4100000000000001E-2},null,null,{"$f":"'Oversættelse af landenavne'!$B25","v":"Holland"},{"$f":"HLOOKUP($E$12,'Level 1'!$BB$5:$BL$34,'Oversættelse af landenavne'!$E25,FALSE)","v":6.3200000000000006E-2},{"$f":"HLOOKUP($E$12,'Afgifter og Moms'!$BB$5:$BL$34,'Oversættelse af landenavne'!$E25,FALSE)","v":3.8499999999999923E-3},null,null,null,{"$f":"'Oversættelse af landenavne'!$B25","v":"Holland"},{"$f":"HLOOKUP($E$12,'Level 1'!$BO$5:$BY$34,'Oversættelse af landenavne'!$E25,FALSE)","v":6.6900000000000001E-2},{"$f":"HLOOKUP($E$12,'Afgifter og Moms'!$BO$5:$BY$34,'Oversættelse af landenavne'!$E25,FALSE)","v":2.1000000000000046E-3},null,null,{"$f":"'Oversættelse af landenavne'!$B25","v":"Holland"},{"$f":"HLOOKUP($E$12,'Level 1'!$CB$5:$CL$34,'Oversættelse af landenavne'!$E25,FALSE)","v":6.4549999999999996E-2},{"$f":"HLOOKUP($E$12,'Afgifter og Moms'!$CB$5:$CL$34,'Oversættelse af landenavne'!$E25,FALSE)","v":9.5000000000000639E-4}]
[null,null,null,{"$f":"'Oversættelse af landenavne'!$B26","v":"Østrig"},{"$f":"HLOOKUP($E$12,'Level 1'!$B$5:$L$34,'Oversættelse af landenavne'!$E26,FALSE)","v":0.11774999999999999},{"$f":"HLOOKUP($E$12,'Afgifter og Moms'!$B$5:$L$34,'Oversættelse af landenavne'!$E26,FALSE)","v":4.3099999999999999E-2},null,null,{"$f":"'Oversættelse af landenavne'!$B26","v":"Østrig"},{"$f":"HLOOKUP($E$12,'Level 1'!$O$5:$Y$34,'Oversættelse af landenavne'!$E26,FALSE)","v":9.1600000000000001E-2},{"$f":"HLOOKUP($E$12,'Afgifter og Moms'!$O$5:$Y$34,'Oversættelse af landenavne'!E26,FALSE)","v":3.3399999999999999E-2},null,null,{"$f":"'Oversættelse af landenavne'!$B26","v":"Østrig"},{"$f":"HLOOKUP($E$12,'Level 1'!$AB$5:$AL$34,'Oversættelse af landenavne'!E26,FALSE)","v":7.3000000000000009E-2},{"$f":"HLOOKUP($E$12,'Afgifter og Moms'!$AB$5:$AL$34,'Oversættelse af landenavne'!E26,FALSE)","v":3.1299999999999994E-2},null,null,{"$f":"'Oversættelse af landenavne'!$B26","v":"Østrig"},{"$f":"HLOOKUP($E$12,'Level 1'!$AO$5:$AY$34,'Oversættelse af landenavne'!E26,FALSE)","v":6.4899999999999999E-2},{"$f":"HLOOKUP($E$12,'Afgifter og Moms'!$AO$5:$AY$34,'Oversættelse af landenavne'!E26,FALSE)","v":2.5399999999999992E-2},null,null,{"$f":"'Oversættelse af landenavne'!$B26","v":"Østrig"},{"$f":"HLOOKUP($E$12,'Level 1'!$BB$5:$BL$34,'Oversættelse af landenavne'!$E26,FALSE)","v":5.6000000000000001E-2},{"$f":"HLOOKUP($E$12,'Afgifter og Moms'!$BB$5:$BL$34,'Oversættelse af landenavne'!$E26,FALSE)","v":2.144999999999999E-2},null,null,null,{"$f":"'Oversættelse af landenavne'!$B26","v":"Østrig"},{"$f":"HLOOKUP($E$12,'Level 1'!$BO$5:$BY$34,'Oversættelse af landenavne'!$E26,FALSE)","v":5.0449999999999995E-2},{"$f":"HLOOKUP($E$12,'Afgifter og Moms'!$BO$5:$BY$34,'Oversættelse af landenavne'!$E26,FALSE)","v":1.9850000000000007E-2},null,null,{"$f":"'Oversættelse af landenavne'!$B26","v":"Østrig"},{"$f":"HLOOKUP($E$12,'Level 1'!$CB$5:$CL$34,'Oversættelse af landenavne'!$E26,FALSE)","v":4.4900000000000002E-2},{"$f":"HLOOKUP($E$12,'Afgifter og Moms'!$CB$5:$CL$34,'Oversættelse af landenavne'!$E26,FALSE)","v":1.9200000000000002E-2}]
[null,null,null,{"$f":"'Oversættelse af landenavne'!$B27","v":"Polen"},{"$f":"HLOOKUP($E$12,'Level 1'!$B$5:$L$34,'Oversættelse af landenavne'!$E27,FALSE)","v":0.14745},{"$f":"HLOOKUP($E$12,'Afgifter og Moms'!$B$5:$L$34,'Oversættelse af landenavne'!$E27,FALSE)","v":4.7500000000000042E-3},null,null,{"$f":"'Oversættelse af landenavne'!$B27","v":"Polen"},{"$f":"HLOOKUP($E$12,'Level 1'!$O$5:$Y$34,'Oversættelse af landenavne'!$E27,FALSE)","v":0.1099},{"$f":"HLOOKUP($E$12,'Afgifter og Moms'!$O$5:$Y$34,'Oversættelse af landenavne'!E27,FALSE)","v":4.7500000000000042E-3},null,null,{"$f":"'Oversættelse af landenavne'!$B27","v":"Polen"},{"$f":"HLOOKUP($E$12,'Level 1'!$AB$5:$AL$34,'Oversættelse af landenavne'!E27,FALSE)","v":8.2299999999999998E-2},{"$f":"HLOOKUP($E$12,'Afgifter og Moms'!$AB$5:$AL$34,'Oversættelse af landenavne'!E27,FALSE)","v":4.8500000000000071E-3},null,null,{"$f":"'Oversættelse af landenavne'!$B27","v":"Polen"},{"$f":"HLOOKUP($E$12,'Level 1'!$AO$5:$AY$34,'Oversættelse af landenavne'!E27,FALSE)","v":7.1199999999999999E-2},{"$f":"HLOOKUP($E$12,'Afgifter og Moms'!$AO$5:$AY$34,'Oversættelse af landenavne'!E27,FALSE)","v":4.7999999999999987E-3},null,null,{"$f":"'Oversættelse af landenavne'!$B27","v":"Polen"},{"$f":"HLOOKUP($E$12,'Level 1'!$BB$5:$BL$34,'Oversættelse af landenavne'!$E27,FALSE)","v":6.4599999999999991E-2},{"$f":"HLOOKUP($E$12,'Afgifter og Moms'!$BB$5:$BL$34,'Oversættelse af landenavne'!$E27,FALSE)","v":4.8500000000000071E-3},null,null,null,{"$f":"'Oversættelse af landenavne'!$B27","v":"Polen"},{"$f":"HLOOKUP($E$12,'Level 1'!$BO$5:$BY$34,'Oversættelse af landenavne'!$E27,FALSE)","v":5.9749999999999998E-2},{"$f":"HLOOKUP($E$12,'Afgifter og Moms'!$BO$5:$BY$34,'Oversættelse af landenavne'!$E27,FALSE)","v":4.7999999999999987E-3},null,null,{"$f":"'Oversættelse af landenavne'!$B27","v":"Polen"},{"$f":"HLOOKUP($E$12,'Level 1'!$CB$5:$CL$34,'Oversættelse af landenavne'!$E27,FALSE)","v":5.4550000000000001E-2},{"$f":"HLOOKUP($E$12,'Afgifter og Moms'!$CB$5:$CL$34,'Oversættelse af landenavne'!$E27,FALSE)","v":4.7999999999999987E-3}]
[null,null,null,{"$f":"'Oversættelse af landenavne'!$B28","v":"Portugal"},{"$f":"HLOOKUP($E$12,'Level 1'!$B$5:$L$34,'Oversættelse af landenavne'!$E28,FALSE)","v":0.16904999999999998},{"$f":"HLOOKUP($E$12,'Afgifter og Moms'!$B$5:$L$34,'Oversættelse af landenavne'!$E28,FALSE)","v":2.6000000000000023E-2},null,null,{"$f":"'Oversættelse af landenavne'!$B28","v":"Portugal"},{"$f":"HLOOKUP($E$12,'Level 1'!$O$5:$Y$34,'Oversættelse af landenavne'!$E28,FALSE)","v":0.12375},{"$f":"HLOOKUP($E$12,'Afgifter og Moms'!$O$5:$Y$34,'Oversættelse af landenavne'!E28,FALSE)","v":2.1650000000000003E-2},null,null,{"$f":"'Oversættelse af landenavne'!$B28","v":"Portugal"},{"$f":"HLOOKUP($E$12,'Level 1'!$AB$5:$AL$34,'Oversættelse af landenavne'!E28,FALSE)","v":9.9500000000000005E-2},{"$f":"HLOOKUP($E$12,'Afgifter og Moms'!$AB$5:$AL$34,'Oversættelse af landenavne'!E28,FALSE)","v":1.5199999999999991E-2},null,null,{"$f":"'Oversættelse af landenavne'!$B28","v":"Portugal"},{"$f":"HLOOKUP($E$12,'Level 1'!$AO$5:$AY$34,'Oversættelse af landenavne'!E28,FALSE)","v":9.0499999999999997E-2},{"$f":"HLOOKUP($E$12,'Afgifter og Moms'!$AO$5:$AY$34,'Oversættelse af landenavne'!E28,FALSE)","v":1.3050000000000006E-2},null,null,{"$f":"'Oversættelse af landenavne'!$B28","v":"Portugal"},{"$f":"HLOOKUP($E$12,'Level 1'!$BB$5:$BL$34,'Oversættelse af landenavne'!$E28,FALSE)","v":7.4349999999999999E-2},{"$f":"HLOOKUP($E$12,'Afgifter og Moms'!$BB$5:$BL$34,'Oversættelse af landenavne'!$E28,FALSE)","v":1.3700000000000004E-2},null,null,null,{"$f":"'Oversættelse af landenavne'!$B28","v":"Portugal"},{"$f":"HLOOKUP($E$12,'Level 1'!$BO$5:$BY$34,'Oversættelse af landenavne'!$E28,FALSE)","v":6.8049999999999999E-2},{"$f":"HLOOKUP($E$12,'Afgifter og Moms'!$BO$5:$BY$34,'Oversættelse af landenavne'!$E28,FALSE)","v":1.3600000000000001E-2},null,null,{"$f":"'Oversættelse af landenavne'!$B28","v":"Portugal"},{"$f":"HLOOKUP($E$12,'Level 1'!$CB$5:$CL$34,'Oversættelse af landenavne'!$E28,FALSE)","v":"*"},{"$f":"HLOOKUP($E$12,'Afgifter og Moms'!$CB$5:$CL$34,'Oversættelse af landenavne'!$E28,FALSE)","v":"*"}]
[null,null,null,{"$f":"'Oversættelse af landenavne'!$B29","v":"Rumænien"},{"$f":"HLOOKUP($E$12,'Level 1'!$B$5:$L$34,'Oversættelse af landenavne'!$E29,FALSE)","v":9.8150000000000001E-2},{"$f":"HLOOKUP($E$12,'Afgifter og Moms'!$B$5:$L$34,'Oversættelse af landenavne'!$E29,FALSE)","v":1.1599999999999999E-2},null,null,{"$f":"'Oversættelse af landenavne'!$B29","v":"Rumænien"},{"$f":"HLOOKUP($E$12,'Level 1'!$O$5:$Y$34,'Oversættelse af landenavne'!$E29,FALSE)","v":8.5400000000000004E-2},{"$f":"HLOOKUP($E$12,'Afgifter og Moms'!$O$5:$Y$34,'Oversættelse af landenavne'!E29,FALSE)","v":1.2050000000000005E-2},null,null,{"$f":"'Oversættelse af landenavne'!$B29","v":"Rumænien"},{"$f":"HLOOKUP($E$12,'Level 1'!$AB$5:$AL$34,'Oversættelse af landenavne'!E29,FALSE)","v":6.9399999999999989E-2},{"$f":"HLOOKUP($E$12,'Afgifter og Moms'!$AB$5:$AL$34,'Oversættelse af landenavne'!E29,FALSE)","v":1.2200000000000016E-2},null,null,{"$f":"'Oversættelse af landenavne'!$B29","v":"Rumænien"},{"$f":"HLOOKUP($E$12,'Level 1'!$AO$5:$AY$34,'Oversættelse af landenavne'!E29,FALSE)","v":6.1149999999999996E-2},{"$f":"HLOOKUP($E$12,'Afgifter og Moms'!$AO$5:$AY$34,'Oversættelse af landenavne'!E29,FALSE)","v":1.2150000000000008E-2},null,null,{"$f":"'Oversættelse af landenavne'!$B29","v":"Rumænien"},{"$f":"HLOOKUP($E$12,'Level 1'!$BB$5:$BL$34,'Oversættelse af landenavne'!$E29,FALSE)","v":5.2949999999999997E-2},{"$f":"HLOOKUP($E$12,'Afgifter og Moms'!$BB$5:$BL$34,'Oversættelse af landenavne'!$E29,FALSE)","v":1.1800000000000005E-2},null,null,null,{"$f":"'Oversættelse af landenavne'!$B29","v":"Rumænien"},{"$f":"HLOOKUP($E$12,'Level 1'!$BO$5:$BY$34,'Oversættelse af landenavne'!$E29,FALSE)","v":5.0750000000000003E-2},{"$f":"HLOOKUP($E$12,'Afgifter og Moms'!$BO$5:$BY$34,'Oversættelse af landenavne'!$E29,FALSE)","v":1.0749999999999996E-2},null,null,{"$f":"'Oversættelse af landenavne'!$B29","v":"Rumænien"},{"$f":"HLOOKUP($E$12,'Level 1'!$CB$5:$CL$34,'Oversættelse af landenavne'!$E29,FALSE)","v":"*"},{"$f":"HLOOKUP($E$12,'Afgifter og Moms'!$CB$5:$CL$34,'Oversættelse af landenavne'!$E29,FALSE)","v":"*"}]
[null,null,null,{"$f":"'Oversættelse af landenavne'!$B30","v":"Slovenien"},{"$f":"HLOOKUP($E$12,'Level 1'!$B$5:$L$34,'Oversættelse af landenavne'!$E30,FALSE)","v":0.11380000000000001},{"$f":"HLOOKUP($E$12,'Afgifter og Moms'!$B$5:$L$34,'Oversættelse af landenavne'!$E30,FALSE)","v":2.9999999999999971E-2},null,null,{"$f":"'Oversættelse af landenavne'!$B30","v":"Slovenien"},{"$f":"HLOOKUP($E$12,'Level 1'!$O$5:$Y$34,'Oversættelse af landenavne'!$E30,FALSE)","v":9.01E-2},{"$f":"HLOOKUP($E$12,'Afgifter og Moms'!$O$5:$Y$34,'Oversættelse af landenavne'!E30,FALSE)","v":1.4899999999999997E-2},null,null,{"$f":"'Oversættelse af landenavne'!$B30","v":"Slovenien"},{"$f":"HLOOKUP($E$12,'Level 1'!$AB$5:$AL$34,'Oversættelse af landenavne'!E30,FALSE)","v":7.1250000000000008E-2},{"$f":"HLOOKUP($E$12,'Afgifter og Moms'!$AB$5:$AL$34,'Oversættelse af landenavne'!E30,FALSE)","v":1.3599999999999987E-2},null,null,{"$f":"'Oversættelse af landenavne'!$B30","v":"Slovenien"},{"$f":"HLOOKUP($E$12,'Level 1'!$AO$5:$AY$34,'Oversættelse af landenavne'!E30,FALSE)","v":6.3049999999999995E-2},{"$f":"HLOOKUP($E$12,'Afgifter og Moms'!$AO$5:$AY$34,'Oversættelse af landenavne'!E30,FALSE)","v":1.075000000000001E-2},null,null,{"$f":"'Oversættelse af landenavne'!$B30","v":"Slovenien"},{"$f":"HLOOKUP($E$12,'Level 1'!$BB$5:$BL$34,'Oversættelse af landenavne'!$E30,FALSE)","v":5.6550000000000003E-2},{"$f":"HLOOKUP($E$12,'Afgifter og Moms'!$BB$5:$BL$34,'Oversættelse af landenavne'!$E30,FALSE)","v":8.5499999999999882E-3},null,null,null,{"$f":"'Oversættelse af landenavne'!$B30","v":"Slovenien"},{"$f":"HLOOKUP($E$12,'Level 1'!$BO$5:$BY$34,'Oversættelse af landenavne'!$E30,FALSE)","v":5.595E-2},{"$f":"HLOOKUP($E$12,'Afgifter og Moms'!$BO$5:$BY$34,'Oversættelse af landenavne'!$E30,FALSE)","v":7.0000000000000062E-3},null,null,{"$f":"'Oversættelse af landenavne'!$B30","v":"Slovenien"},{"$f":"HLOOKUP($E$12,'Level 1'!$CB$5:$CL$34,'Oversættelse af landenavne'!$E30,FALSE)","v":"*"},{"$f":"HLOOKUP($E$12,'Afgifter og Moms'!$CB$5:$CL$34,'Oversættelse af landenavne'!$E30,FALSE)","v":"*"}]
[null,null,null,{"$f":"'Oversættelse af landenavne'!$B31","v":"Slovakiet"},{"$f":"HLOOKUP($E$12,'Level 1'!$B$5:$L$34,'Oversættelse af landenavne'!$E31,FALSE)","v":0.2034},{"$f":"HLOOKUP($E$12,'Afgifter og Moms'!$B$5:$L$34,'Oversættelse af landenavne'!$E31,FALSE)","v":4.500000000000004E-3},null,null,{"$f":"'Oversættelse af landenavne'!$B31","v":"Slovakiet"},{"$f":"HLOOKUP($E$12,'Level 1'!$O$5:$Y$34,'Oversættelse af landenavne'!$E31,FALSE)","v":0.13350000000000001},{"$f":"HLOOKUP($E$12,'Afgifter og Moms'!$O$5:$Y$34,'Oversættelse af landenavne'!E31,FALSE)","v":4.500000000000004E-3},null,null,{"$f":"'Oversættelse af landenavne'!$B31","v":"Slovakiet"},{"$f":"HLOOKUP($E$12,'Level 1'!$AB$5:$AL$34,'Oversættelse af landenavne'!E31,FALSE)","v":0.1079},{"$f":"HLOOKUP($E$12,'Afgifter og Moms'!$AB$5:$AL$34,'Oversættelse af landenavne'!E31,FALSE)","v":4.500000000000004E-3},null,null,{"$f":"'Oversættelse af landenavne'!$B31","v":"Slovakiet"},{"$f":"HLOOKUP($E$12,'Level 1'!$AO$5:$AY$34,'Oversættelse af landenavne'!E31,FALSE)","v":9.5299999999999996E-2},{"$f":"HLOOKUP($E$12,'Afgifter og Moms'!$AO$5:$AY$34,'Oversættelse af landenavne'!E31,FALSE)","v":4.500000000000004E-3},null,null,{"$f":"'Oversættelse af landenavne'!$B31","v":"Slovakiet"},{"$f":"HLOOKUP($E$12,'Level 1'!$BB$5:$BL$34,'Oversættelse af landenavne'!$E31,FALSE)","v":9.3099999999999988E-2},{"$f":"HLOOKUP($E$12,'Afgifter og Moms'!$BB$5:$BL$34,'Oversættelse af landenavne'!$E31,FALSE)","v":4.500000000000004E-3},null,null,null,{"$f":"'Oversættelse af landenavne'!$B31","v":"Slovakiet"},{"$f":"HLOOKUP($E$12,'Level 1'!$BO$5:$BY$34,'Oversættelse af landenavne'!$E31,FALSE)","v":9.0549999999999992E-2},{"$f":"HLOOKUP($E$12,'Afgifter og Moms'!$BO$5:$BY$34,'Oversættelse af landenavne'!$E31,FALSE)","v":4.500000000000004E-3},null,null,{"$f":"'Oversættelse af landenavne'!$B31","v":"Slovakiet"},{"$f":"HLOOKUP($E$12,'Level 1'!$CB$5:$CL$34,'Oversættelse af landenavne'!$E31,FALSE)","v":6.4700000000000008E-2},{"$f":"HLOOKUP($E$12,'Afgifter og Moms'!$CB$5:$CL$34,'Oversættelse af landenavne'!$E31,FALSE)","v":4.4999999999999901E-3}]
[null,null,null,{"$f":"'Oversættelse af landenavne'!$B32","v":"Finland"},{"$f":"HLOOKUP($E$12,'Level 1'!$B$5:$L$34,'Oversættelse af landenavne'!$E32,FALSE)","v":8.3199999999999996E-2},{"$f":"HLOOKUP($E$12,'Afgifter og Moms'!$B$5:$L$34,'Oversættelse af landenavne'!$E32,FALSE)","v":7.0000000000000062E-3},null,null,{"$f":"'Oversættelse af landenavne'!$B32","v":"Finland"},{"$f":"HLOOKUP($E$12,'Level 1'!$O$5:$Y$34,'Oversættelse af landenavne'!$E32,FALSE)","v":7.6800000000000007E-2},{"$f":"HLOOKUP($E$12,'Afgifter og Moms'!$O$5:$Y$34,'Oversættelse af landenavne'!E32,FALSE)","v":7.0499999999999868E-3},null,null,{"$f":"'Oversættelse af landenavne'!$B32","v":"Finland"},{"$f":"HLOOKUP($E$12,'Level 1'!$AB$5:$AL$34,'Oversættelse af landenavne'!E32,FALSE)","v":6.3600000000000004E-2},{"$f":"HLOOKUP($E$12,'Afgifter og Moms'!$AB$5:$AL$34,'Oversættelse af landenavne'!E32,FALSE)","v":7.0499999999999868E-3},null,null,{"$f":"'Oversættelse af landenavne'!$B32","v":"Finland"},{"$f":"HLOOKUP($E$12,'Level 1'!$AO$5:$AY$34,'Oversættelse af landenavne'!E32,FALSE)","v":6.0150000000000002E-2},{"$f":"HLOOKUP($E$12,'Afgifter og Moms'!$AO$5:$AY$34,'Oversættelse af landenavne'!E32,FALSE)","v":7.0499999999999938E-3},null,null,{"$f":"'Oversættelse af landenavne'!$B32","v":"Finland"},{"$f":"HLOOKUP($E$12,'Level 1'!$BB$5:$BL$34,'Oversættelse af landenavne'!$E32,FALSE)","v":4.6049999999999994E-2},{"$f":"HLOOKUP($E$12,'Afgifter og Moms'!$BB$5:$BL$34,'Oversættelse af landenavne'!$E32,FALSE)","v":7.0500000000000076E-3},null,null,null,{"$f":"'Oversættelse af landenavne'!$B32","v":"Finland"},{"$f":"HLOOKUP($E$12,'Level 1'!$BO$5:$BY$34,'Oversættelse af landenavne'!$E32,FALSE)","v":4.36E-2},{"$f":"HLOOKUP($E$12,'Afgifter og Moms'!$BO$5:$BY$34,'Oversættelse af landenavne'!$E32,FALSE)","v":7.0500000000000007E-3},null,null,{"$f":"'Oversættelse af landenavne'!$B32","v":"Finland"},{"$f":"HLOOKUP($E$12,'Level 1'!$CB$5:$CL$34,'Oversættelse af landenavne'!$E32,FALSE)","v":"*"},{"$f":"HLOOKUP($E$12,'Afgifter og Moms'!$CB$5:$CL$34,'Oversættelse af landenavne'!$E32,FALSE)","v":"*"}]
[null,null,null,{"$f":"'Oversættelse af landenavne'!$B33","v":"Sverige"},{"$f":"HLOOKUP($E$12,'Level 1'!$B$5:$L$34,'Oversættelse af landenavne'!$E33,FALSE)","v":0.13539999999999999},{"$f":"HLOOKUP($E$12,'Afgifter og Moms'!$B$5:$L$34,'Oversættelse af landenavne'!$E33,FALSE)","v":5.0000000000000044E-4},null,null,{"$f":"'Oversættelse af landenavne'!$B33","v":"Sverige"},{"$f":"HLOOKUP($E$12,'Level 1'!$O$5:$Y$34,'Oversættelse af landenavne'!$E33,FALSE)","v":7.0649999999999991E-2},{"$f":"HLOOKUP($E$12,'Afgifter og Moms'!$O$5:$Y$34,'Oversættelse af landenavne'!E33,FALSE)","v":5.0000000000000044E-4},null,null,{"$f":"'Oversættelse af landenavne'!$B33","v":"Sverige"},{"$f":"HLOOKUP($E$12,'Level 1'!$AB$5:$AL$34,'Oversættelse af landenavne'!E33,FALSE)","v":6.0100000000000001E-2},{"$f":"HLOOKUP($E$12,'Afgifter og Moms'!$AB$5:$AL$34,'Oversættelse af landenavne'!E33,FALSE)","v":5.0000000000000044E-4},null,null,{"$f":"'Oversættelse af landenavne'!$B33","v":"Sverige"},{"$f":"HLOOKUP($E$12,'Level 1'!$AO$5:$AY$34,'Oversættelse af landenavne'!E33,FALSE)","v":5.2449999999999997E-2},{"$f":"HLOOKUP($E$12,'Afgifter og Moms'!$AO$5:$AY$34,'Oversættelse af landenavne'!E33,FALSE)","v":5.5000000000000188E-4},null,null,{"$f":"'Oversættelse af landenavne'!$B33","v":"Sverige"},{"$f":"HLOOKUP($E$12,'Level 1'!$BB$5:$BL$34,'Oversættelse af landenavne'!$E33,FALSE)","v":4.58E-2},{"$f":"HLOOKUP($E$12,'Afgifter og Moms'!$BB$5:$BL$34,'Oversættelse af landenavne'!$E33,FALSE)","v":5.0000000000000044E-4},null,null,null,{"$f":"'Oversættelse af landenavne'!$B33","v":"Sverige"},{"$f":"HLOOKUP($E$12,'Level 1'!$BO$5:$BY$34,'Oversættelse af landenavne'!$E33,FALSE)","v":3.7499999999999999E-2},{"$f":"HLOOKUP($E$12,'Afgifter og Moms'!$BO$5:$BY$34,'Oversættelse af landenavne'!$E33,FALSE)","v":6.0000000000000331E-4},null,null,{"$f":"'Oversættelse af landenavne'!$B33","v":"Sverige"},{"$f":"HLOOKUP($E$12,'Level 1'!$CB$5:$CL$34,'Oversættelse af landenavne'!$E33,FALSE)","v":"*"},{"$f":"HLOOKUP($E$12,'Afgifter og Moms'!$CB$5:$CL$34,'Oversættelse af landenavne'!$E33,FALSE)","v":"*"}]
[null,null,null,{"$f":"'Oversættelse af landenavne'!$B34","v":"UK"},{"$f":"HLOOKUP($E$12,'Level 1'!$B$5:$L$34,'Oversættelse af landenavne'!$E34,FALSE)","v":0.17925000000000002},{"$f":"HLOOKUP($E$12,'Afgifter og Moms'!$B$5:$L$34,'Oversættelse af landenavne'!$E34,FALSE)","v":4.8999999999999599E-3},null,null,{"$f":"'Oversættelse af landenavne'!$B34","v":"UK"},{"$f":"HLOOKUP($E$12,'Level 1'!$O$5:$Y$34,'Oversættelse af landenavne'!$E34,FALSE)","v":0.16239999999999999},{"$f":"HLOOKUP($E$12,'Afgifter og Moms'!$O$5:$Y$34,'Oversættelse af landenavne'!E34,FALSE)","v":6.0499999999999998E-3},null,null,{"$f":"'Oversættelse af landenavne'!$B34","v":"UK"},{"$f":"HLOOKUP($E$12,'Level 1'!$AB$5:$AL$34,'Oversættelse af landenavne'!E34,FALSE)","v":0.14484999999999998},{"$f":"HLOOKUP($E$12,'Afgifter og Moms'!$AB$5:$AL$34,'Oversættelse af landenavne'!E34,FALSE)","v":5.6000000000000216E-3},null,null,{"$f":"'Oversættelse af landenavne'!$B34","v":"UK"},{"$f":"HLOOKUP($E$12,'Level 1'!$AO$5:$AY$34,'Oversættelse af landenavne'!E34,FALSE)","v":0.13424999999999998},{"$f":"HLOOKUP($E$12,'Afgifter og Moms'!$AO$5:$AY$34,'Oversættelse af landenavne'!E34,FALSE)","v":4.0500000000000258E-3},null,null,{"$f":"'Oversættelse af landenavne'!$B34","v":"UK"},{"$f":"HLOOKUP($E$12,'Level 1'!$BB$5:$BL$34,'Oversættelse af landenavne'!$E34,FALSE)","v":0.13184999999999999},{"$f":"HLOOKUP($E$12,'Afgifter og Moms'!$BB$5:$BL$34,'Oversættelse af landenavne'!$E34,FALSE)","v":2.8999999999999859E-3},null,null,null,{"$f":"'Oversættelse af landenavne'!$B34","v":"UK"},{"$f":"HLOOKUP($E$12,'Level 1'!$BO$5:$BY$34,'Oversættelse af landenavne'!$E34,FALSE)","v":0.12845000000000001},{"$f":"HLOOKUP($E$12,'Afgifter og Moms'!$BO$5:$BY$34,'Oversættelse af landenavne'!$E34,FALSE)","v":2.9499999999999804E-3},null,null,{"$f":"'Oversættelse af landenavne'!$B34","v":"UK"},{"$f":"HLOOKUP($E$12,'Level 1'!$CB$5:$CL$34,'Oversættelse af landenavne'!$E34,FALSE)","v":0.12484999999999999},{"$f":"HLOOKUP($E$12,'Afgifter og Moms'!$CB$5:$CL$34,'Oversættelse af landenavne'!$E34,FALSE)","v":2.5500000000000245E-3}]
[null,null,null,"Level 1",null,null,null,null,"Level 1",null,null,null,null,"Level 1",null,null,null,null,"Level 1",null,null,null,null,"Level 1",null,null,null,null,null,"Level 1",null,null,null,null,"Level 1"]
[null,null,null,"Level 2",null,null,null,null,"Level 2",null,null,null,null,"Level 2",null,null,null,null,"Level 2",null,null,null,null,"Level 2",null,null,null,null,null,"Level 2",null,null,null,null,"Level 2"]
[]
[]
[]
[]
[]
[null,null,null,"Herunder vises de tabeller der er resultatet er valgene truffet øverst i valgmenuen"]
[]
[]
[null,null,null,"Tabel B - BVT Deflatoren",null,null,null,"Tabel C"]
[null,null,null,"Tabel B fremkommer som resultat af valgene truffet for faste/løbende priser og basisår.\n\nBVT deflatoren vises for samtlige lande for det valgte år. Væles løbende priser deflaterer man ikke, hvorfor der vil stå et 1-tal i alle celler.\n\nFormlen gør at \"fejlværdien\" svarer til at man har valgt løbende priser (gælder både for overskrift og formler). Med denne metode kan indeksværdien ganges direkte på rådata uanset hvilken valuta der vælges.",null,null,null,"Tabel C viser hvilken kurs der ganges på rådata (opgivet i euro) for at få priserne vist i den valuta der er valgt i valgmenuen øverst.\n\nKursen ændres efter valgt år og valuta."]
[]
[null,null,null,null,{"$f":"IF(E13=\"faste priser\",\"BVT deflatoenfor år \"&E12&\" med basisåret \"&E14&\"\",\"Prisindeks for løbende priser år \"&E12)","v":"BVT deflatoenfor år 2015 med basisåret 2016"},null,null,{"$f":"\"Valutakursen for \"&E15&\" i fht. Euro år \"&E12","v":"Valutakursen for Euro i fht. Euro år 2015"}]
[null,null,null,{"$f":"'Baggrundsdata - BVT - deflator'!B18","v":"European Union (28 countries)"},{"$f":"IF($E$13=\"faste priser\",HLOOKUP($E$12,'Baggrundsdata - BVT - deflator'!$C$17:$M$46,'Oversættelse af landenavne'!$E6,FALSE),1)","v":0.97247401860885441},null,null,{"$f":"IF($E$15=\"Euro\",1,IF($E$15=\"eurocent\",100,IF($E$15=\"DKK øre\",HLOOKUP(E12,Forside!$E$55:$M$56,2,FALSE),IF($E$15=\"DKK\",((HLOOKUP(E12,Forside!$E$55:$M$56,2,FALSE))/100),\"F\"))))","v":1}]
[null,null,null,{"$f":"'Baggrundsdata - BVT - deflator'!B19","v":"Belgium"},{"$f":"IF($E$13=\"faste priser\",HLOOKUP($E$12,'Baggrundsdata - BVT - deflator'!$C$17:$M$46,'Oversættelse af landenavne'!$E7,FALSE),1)","v":0.99141124957898263}]
[null,null,null,{"$f":"'Baggrundsdata - BVT - deflator'!B20","v":"Bulgaria"},{"$f":"IF($E$13=\"faste priser\",HLOOKUP($E$12,'Baggrundsdata - BVT - deflator'!$C$17:$M$46,'Oversættelse af landenavne'!$E8,FALSE),1)","v":0.99848072998178705}]
[null,null,null,{"$f":"'Baggrundsdata - BVT - deflator'!B21","v":"Czech Republic"},{"$f":"IF($E$13=\"faste priser\",HLOOKUP($E$12,'Baggrundsdata - BVT - deflator'!$C$17:$M$46,'Oversættelse af landenavne'!$E9,FALSE),1)","v":0.98347421895888609}]
[null,null,null,{"$f":"'Baggrundsdata - BVT - deflator'!B22","v":"Denmark"},{"$f":"IF($E$13=\"faste priser\",HLOOKUP($E$12,'Baggrundsdata - BVT - deflator'!$C$17:$M$46,'Oversættelse af landenavne'!$E10,FALSE),1)","v":0.98758891661390646}]
[null,null,null,{"$f":"'Baggrundsdata - BVT - deflator'!B23","v":"Germany (until 1990 former territory of the FRG)"},{"$f":"IF($E$13=\"faste priser\",HLOOKUP($E$12,'Baggrundsdata - BVT - deflator'!$C$17:$M$46,'Oversættelse af landenavne'!$E11,FALSE),1)","v":0.97825428720856611}]
[null,null,null,{"$f":"'Baggrundsdata - BVT - deflator'!B24","v":"Estonia"},{"$f":"IF($E$13=\"faste priser\",HLOOKUP($E$12,'Baggrundsdata - BVT - deflator'!$C$17:$M$46,'Oversættelse af landenavne'!$E12,FALSE),1)","v":0.98575735256333397}]
[null,null,null,{"$f":"'Baggrundsdata - BVT - deflator'!B25","v":"Ireland"},{"$f":"IF($E$13=\"faste priser\",HLOOKUP($E$12,'Baggrundsdata - BVT - deflator'!$C$17:$M$46,'Oversættelse af landenavne'!$E13,FALSE),1)","v":0.94469858156028363}]
[null,null,null,{"$f":"'Baggrundsdata - BVT - deflator'!B26","v":"Greece"},{"$f":"IF($E$13=\"faste priser\",HLOOKUP($E$12,'Baggrundsdata - BVT - deflator'!$C$17:$M$46,'Oversættelse af landenavne'!$E14,FALSE),1)","v":1.0135500773063046}]
[null,null,null,{"$f":"'Baggrundsdata - BVT - deflator'!B27","v":"Spain"},{"$f":"IF($E$13=\"faste priser\",HLOOKUP($E$12,'Baggrundsdata - BVT - deflator'!$C$17:$M$46,'Oversættelse af landenavne'!$E15,FALSE),1)","v":0.9973093899268396}]
[null,null,null,{"$f":"'Baggrundsdata - BVT - deflator'!B28","v":"France"},{"$f":"IF($E$13=\"faste priser\",HLOOKUP($E$12,'Baggrundsdata - BVT - deflator'!$C$17:$M$46,'Oversættelse af landenavne'!$E16,FALSE),1)","v":0.98779581874137756}]
[null,null,null,{"$f":"'Baggrundsdata - BVT - deflator'!B29","v":"Croatia"},{"$f":"IF($E$13=\"faste priser\",HLOOKUP($E$12,'Baggrundsdata - BVT - deflator'!$C$17:$M$46,'Oversættelse af landenavne'!$E17,FALSE),1)","v":0.9995841278857468}]
[null,null,null,{"$f":"'Baggrundsdata - BVT - deflator'!B30","v":"Italy"},{"$f":"IF($E$13=\"faste priser\",HLOOKUP($E$12,'Baggrundsdata - BVT - deflator'!$C$17:$M$46,'Oversættelse af landenavne'!$E18,FALSE),1)","v":0.99167794703628143}]
[null,null,null,{"$f":"'Baggrundsdata - BVT - deflator'!B31","v":"Cyprus"},{"$f":"IF($E$13=\"faste priser\",HLOOKUP($E$12,'Baggrundsdata - BVT - deflator'!$C$17:$M$46,'Oversættelse af landenavne'!$E19,FALSE),1)","v":1.0137823741186562}]
[null,null,null,{"$f":"'Baggrundsdata - BVT - deflator'!B32","v":"Latvia"},{"$f":"IF($E$13=\"faste priser\",HLOOKUP($E$12,'Baggrundsdata - BVT - deflator'!$C$17:$M$46,'Oversættelse af landenavne'!$E20,FALSE),1)","v":0.99341088636166341}]
[null,null,null,{"$f":"'Baggrundsdata - BVT - deflator'!B33","v":"Lithuania"},{"$f":"IF($E$13=\"faste priser\",HLOOKUP($E$12,'Baggrundsdata - BVT - deflator'!$C$17:$M$46,'Oversættelse af landenavne'!$E21,FALSE),1)","v":1.002218474663396}]
[null,null,null,{"$f":"'Baggrundsdata - BVT - deflator'!B34","v":"Luxembourg"},{"$f":"IF($E$13=\"faste priser\",HLOOKUP($E$12,'Baggrundsdata - BVT - deflator'!$C$17:$M$46,'Oversættelse af landenavne'!$E22,FALSE),1)","v":0.97123339723992608}]
[null,null,null,{"$f":"'Baggrundsdata - BVT - deflator'!B35","v":"Hungary"},{"$f":"IF($E$13=\"faste priser\",HLOOKUP($E$12,'Baggrundsdata - BVT - deflator'!$C$17:$M$46,'Oversættelse af landenavne'!$E23,FALSE),1)","v":0.99211495357028467}]
[null,null,null,{"$f":"'Baggrundsdata - BVT - deflator'!B36","v":"Malta"},{"$f":"IF($E$13=\"faste priser\",HLOOKUP($E$12,'Baggrundsdata - BVT - deflator'!$C$17:$M$46,'Oversættelse af landenavne'!$E24,FALSE),1)","v":"*"}]
[null,null,null,{"$f":"'Baggrundsdata - BVT - deflator'!B37","v":"Netherlands"},{"$f":"IF($E$13=\"faste priser\",HLOOKUP($E$12,'Baggrundsdata - BVT - deflator'!$C$17:$M$46,'Oversættelse af landenavne'!$E25,FALSE),1)","v":0.99494886083773582}]
[null,null,null,{"$f":"'Baggrundsdata - BVT - deflator'!B38","v":"Austria"},{"$f":"IF($E$13=\"faste priser\",HLOOKUP($E$12,'Baggrundsdata - BVT - deflator'!$C$17:$M$46,'Oversættelse af landenavne'!$E26,FALSE),1)","v":0.98484373848308404}]
[null,null,null,{"$f":"'Baggrundsdata - BVT - deflator'!B39","v":"Poland"},{"$f":"IF($E$13=\"faste priser\",HLOOKUP($E$12,'Baggrundsdata - BVT - deflator'!$C$17:$M$46,'Oversættelse af landenavne'!$E27,FALSE),1)","v":0.99348916639982932}]
[null,null,null,{"$f":"'Baggrundsdata - BVT - deflator'!B40","v":"Portugal"},{"$f":"IF($E$13=\"faste priser\",HLOOKUP($E$12,'Baggrundsdata - BVT - deflator'!$C$17:$M$46,'Oversættelse af landenavne'!$E28,FALSE),1)","v":0.98295983459574909}]
[null,null,null,{"$f":"'Baggrundsdata - BVT - deflator'!B41","v":"Romania"},{"$f":"IF($E$13=\"faste priser\",HLOOKUP($E$12,'Baggrundsdata - BVT - deflator'!$C$17:$M$46,'Oversættelse af landenavne'!$E29,FALSE),1)","v":0.97589798430942598}]
[null,null,null,{"$f":"'Baggrundsdata - BVT - deflator'!B42","v":"Slovenia"},{"$f":"IF($E$13=\"faste priser\",HLOOKUP($E$12,'Baggrundsdata - BVT - deflator'!$C$17:$M$46,'Oversættelse af landenavne'!$E30,FALSE),1)","v":0.99535983449091192}]
[null,null,null,{"$f":"'Baggrundsdata - BVT - deflator'!B43","v":"Slovakia"},{"$f":"IF($E$13=\"faste priser\",HLOOKUP($E$12,'Baggrundsdata - BVT - deflator'!$C$17:$M$46,'Oversættelse af landenavne'!$E31,FALSE),1)","v":1.0026407254228074}]
[null,null,null,{"$f":"'Baggrundsdata - BVT - deflator'!B44","v":"Finland"},{"$f":"IF($E$13=\"faste priser\",HLOOKUP($E$12,'Baggrundsdata - BVT - deflator'!$C$17:$M$46,'Oversættelse af landenavne'!$E32,FALSE),1)","v":0.99656176574647803}]
[null,null,null,{"$f":"'Baggrundsdata - BVT - deflator'!B45","v":"Sweden"},{"$f":"IF($E$13=\"faste priser\",HLOOKUP($E$12,'Baggrundsdata - BVT - deflator'!$C$17:$M$46,'Oversættelse af landenavne'!$E33,FALSE),1)","v":1.0073497187933678}]
[null,null,null,{"$f":"'Baggrundsdata - BVT - deflator'!B46","v":"United Kingdom"},{"$f":"IF($E$13=\"faste priser\",HLOOKUP($E$12,'Baggrundsdata - BVT - deflator'!$C$17:$M$46,'Oversættelse af landenavne'!$E34,FALSE),1)","v":0.89765773701845186}]

{"sheet":"Baggrundsdata - BVT - deflator","index":4,"n_rows":99,"n_cols":31,"rows_kept":99,"cut":false,"hidden":false,"merged":[[5,1,5,8],[6,1,6,8],[8,1,8,8]]}
[null,"Samlet BVT-deflator for forskellige basisår"]
[null,"NAVN PÅ ARK:","Baggrundsdata - BVT deflator"]
[null,"Data hentes fra:","Kun baggrundsdata længere nede på BVT arket benyttes"]
[]
[null,"Sådan bruges arket:"]
[null,{"$f":"\"Arket 'Baggrundsdata -BVT deflator' viser deflatoren for det enkelte land i det enkte år for \"&C17&\" til \"&I17&\".\nBasisået retter sig efter de valg der er truffuet i akrene '\"&'Udvalgte lande, 10 års oversigt'!E1&\"' og ' \"&'Alle lande, valgt år'!F1&\"'\"","v":"Arket 'Baggrundsdata -BVT deflator' viser deflatoren for det enkelte land i det enkte år for 2007 til 2013.\nBasisået retter sig efter de valg der er truffuet i akrene 'Udvalgte lande, 10 års oversigt' og ' Alle lande, valgt år'"}]
[null,"Nederst i arket er der en baggrundsdata tabel med rådata fra eurostat. De øverste tabeller er bearbejdet og fungerer som baggrundsdata for deflatortabellerne (de røde) i ovennævnte ark.\nDer træffes ingen valg i arket, det bruges som baggrundsdata og til at kontrollere at man har trukket korrekt data."]
[]
[null,"BVT-indekset er hentet for alle erhverv samlet (Total - all NACE acticities)"]
[]
[]
[null,"Baggrundsdata til tabel B i arket 'Baggrundstabeller for alle lande, valgt år'",null,null,null,null,null,null,null,null,null,null,null,null,null,null,null,"Baggrundsdata til tabel B i arket 'Udvalgte lande, 7 års oversigt'"]
[null,"Baggrundstal til tabel B: BVT-deflator for forskellige basisår",null,null,null,null,null,null,null,null,null,null,null,null,null,null,null,"Baggrundstal til tabel B: BVT-deflator for forskellige basisår"]
[]
[null,"Vælg Basisår",{"$f":"'Alle lande, valgt år'!F14","v":2016},null,null,null,null,null,null,null,null,null,null,null,null,null,null,"Valgt Basisår",{"$f":"'Udvalgte lande, 10 års oversigt'!E14","v":2016}]
[]
[null,"Dansk",{"$f":"'Baggrundsdata - BVT - deflator'!B67+0","v":2007},{"$f":"'Baggrundsdata - BVT - deflator'!C67+0","v":2008},{"$f":"'Baggrundsdata - BVT - deflator'!D67+0","v":2009},{"$f":"'Baggrundsdata - BVT - deflator'!E67+0","v":2010},{"$f":"'Baggrundsdata - BVT - deflator'!F67+0","v":2011},{"$f":"'Baggrundsdata - BVT - deflator'!G67+0","v":2012},{"$f":"'Baggrundsdata - BVT - deflator'!H67+0","v":2013},{"$f":"'Baggrundsdata - BVT - deflator'!I67+0","v":2014},{"$f":"'Baggrundsdata - BVT - deflator'!J67+0","v":2015},{"$f":"'Baggrundsdata - BVT - deflator'!K67+0","v":2016},{"$f":"'Baggrundsdata - BVT - deflator'!L67+0","v":2017},null,"Tjek: Er BVT trukket for de korrekte lande (jf.  level 1)",null,null,"Dansk",{"$f":"'Baggrundsdata - BVT - deflator'!C17+0","v":2007},{"$f":"'Baggrundsdata - BVT - deflator'!D17+0","v":2008},{"$f":"'Baggrundsdata - BVT - deflator'!E17+0","v":2009},{"$f":"'Baggrundsdata - BVT - deflator'!F17+0","v":2010},{"$f":"'Baggrundsdata - BVT - deflator'!G17+0","v":2011},{"$f":"'Baggrundsdata - BVT - deflator'!H17+0","v":2012},{"$f":"'Baggrundsdata - BVT - deflator'!I17+0","v":2013},{"$f":"'Baggrundsdata - BVT - deflator'!J17+0","v":2014},{"$f":"'Baggrundsdata - BVT - deflator'!K17+0","v":2015},{"$f":"'Baggrundsdata - BVT - deflator'!L17+0","v":2016},{"$f":"'Baggrundsdata - BVT - deflator'!M17+0","v":2017},null,"Tjek: Er BVT trukket for de korrekte lande (jf liste på forsiden)"]
[null,{"$f":"A68","v":"European Union (28 countries)"},{"$f":"IFERROR('Baggrundsdata - BVT - deflator'!B68/IF($M$17=$C$15,$L68,IF($L$17=$C$15,$K68,IF($K$17=$C$15,$J68,IF($J$17=$C$15,$I68,IF($I$17=$C$15,'Baggrundsdata - BVT - deflator'!$H68,IF($H$17=$C$15,'Baggrundsdata - BVT - deflator'!$G68,IF($C$15=$G$17,'Baggrundsdata - BVT - deflator'!$F68,IF($F$17=$C$15,'Baggrundsdata - BVT - deflator'!$E68,IF($E$17=$C$15,'Baggrundsdata - BVT - deflator'!$D68,IF($D$17=$C$15,'Baggrundsdata - BVT - deflator'!$C68,IF('Baggrundsdata - BVT - deflator'!$C$17='Baggrundsdata - BVT - deflator'!$C$15,'Baggrundsdata - BVT - deflator'!$B68,\"*\"))))))))))),\"*\")","v":0.88662713333140397},{"$f":"IFERROR('Baggrundsdata - BVT - deflator'!C68/IF($M$17=$C$15,$L68,IF($L$17=$C$15,$K68,IF($K$17=$C$15,$J68,IF($J$17=$C$15,$I68,IF($I$17=$C$15,'Baggrundsdata - BVT - deflator'!$H68,IF($H$17=$C$15,'Baggrundsdata - BVT - deflator'!$G68,IF($C$15=$G$17,'Baggrundsdata - BVT - deflator'!$F68,IF($F$17=$C$15,'Baggrundsdata - BVT - deflator'!$E68,IF($E$17=$C$15,'Baggrundsdata - BVT - deflator'!$D68,IF($D$17=$C$15,'Baggrundsdata - BVT - deflator'!$C68,IF('Baggrundsdata - BVT - deflator'!$C$17='Baggrundsdata - BVT - deflator'!$C$15,'Baggrundsdata - BVT - deflator'!$B68,\"*\"))))))))))),\"*\")","v":0.88955954025564155},{"$f":"IFERROR('Baggrundsdata - BVT - deflator'!D68/IF($M$17=$C$15,$L68,IF($L$17=$C$15,$K68,IF($K$17=$C$15,$J68,IF($J$17=$C$15,$I68,IF($I$17=$C$15,'Baggrundsdata - BVT - deflator'!$H68,IF($H$17=$C$15,'Baggrundsdata - BVT - deflator'!$G68,IF($C$15=$G$17,'Baggrundsdata - BVT - deflator'!$F68,IF($F$17=$C$15,'Baggrundsdata - BVT - deflator'!$E68,IF($E$17=$C$15,'Baggrundsdata - BVT - deflator'!$D68,IF($D$17=$C$15,'Baggrundsdata - BVT - deflator'!$C68,IF('Baggrundsdata - BVT - deflator'!$C$17='Baggrundsdata - BVT - deflator'!$C$15,'Baggrundsdata - BVT - deflator'!$B68,\"*\"))))))))))),\"*\")","v":0.88090580116729511},{"$f":"IFERROR('Baggrundsdata - BVT - deflator'!E68/IF($M$17=$C$15,$L68,IF($L$17=$C$15,$K68,IF($K$17=$C$15,$J68,IF($J$17=$C$15,$I68,IF($I$17=$C$15,'Baggrundsdata - BVT - deflator'!$H68,IF($H$17=$C$15,'Baggrundsdata - BVT - deflator'!$G68,IF($C$15=$G$17,'Baggrundsdata - BVT - deflator'!$F68,IF($F$17=$C$15,'Baggrundsdata - BVT - deflator'!$E68,IF($E$17=$C$15,'Baggrundsdata - BVT - deflator'!$D68,IF($D$17=$C$15,'Baggrundsdata - BVT - deflator'!$C68,IF('Baggrundsdata - BVT - deflator'!$C$17='Baggrundsdata - BVT - deflator'!$C$15,'Baggrundsdata - BVT - deflator'!$B68,\"*\"))))))))))),\"*\")","v":0.8967605272897784},{"$f":"IFERROR('Baggrundsdata - BVT - deflator'!F68/IF($M$17=$C$15,$L68,IF($L$17=$C$15,$K68,IF($K$17=$C$15,$J68,IF($J$17=$C$15,$I68,IF($I$17=$C$15,'Baggrundsdata - BVT - deflator'!$H68,IF($H$17=$C$15,'Baggrundsdata - BVT - deflator'!$G68,IF($C$15=$G$17,'Baggrundsdata - BVT - deflator'!$F68,IF($F$17=$C$15,'Baggrundsdata - BVT - deflator'!$E68,IF($E$17=$C$15,'Baggrundsdata - BVT - deflator'!$D68,IF($D$17=$C$15,'Baggrundsdata - BVT - deflator'!$C68,IF('Baggrundsdata - BVT - deflator'!$C$17='Baggrundsdata - BVT - deflator'!$C$15,'Baggrundsdata - BVT - deflator'!$B68,\"*\"))))))))))),\"*\")","v":0.90536942835176026},{"$f":"IFERROR('Baggrundsdata - BVT - deflator'!G68/IF($M$17=$C$15,$L68,IF($L$17=$C$15,$K68,IF($K$17=$C$15,$J68,IF($J$17=$C$15,$I68,IF($I$17=$C$15,'Baggrundsdata - BVT - deflator'!$H68,IF($H$17=$C$15,'Baggrundsdata - BVT - deflator'!$G68,IF($C$15=$G$17,'Baggrundsdata - BVT - deflator'!$F68,IF($F$17=$C$15,'Baggrundsdata - BVT - deflator'!$E68,IF($E$17=$C$15,'Baggrundsdata - BVT - deflator'!$D68,IF($D$17=$C$15,'Baggrundsdata - BVT - deflator'!$C68,IF('Baggrundsdata - BVT - deflator'!$C$17='Baggrundsdata - BVT - deflator'!$C$15,'Baggrundsdata - BVT - deflator'!$B68,\"*\"))))))))))),\"*\")","v":0.92609356413742705},{"$f":"IFERROR('Baggrundsdata - BVT - deflator'!H68/IF($M$17=$C$15,$L68,IF($L$17=$C$15,$K68,IF($K$17=$C$15,$J68,IF($J$17=$C$15,$I68,IF($I$17=$C$15,'Baggrundsdata - BVT - deflator'!$H68,IF($H$17=$C$15,'Baggrundsdata - BVT - deflator'!$G68,IF($C$15=$G$17,'Baggrundsdata - BVT - deflator'!$F68,IF($F$17=$C$15,'Baggrundsdata - BVT - deflator'!$E68,IF($E$17=$C$15,'Baggrundsdata - BVT - deflator'!$D68,IF($D$17=$C$15,'Baggrundsdata - BVT - deflator'!$C68,IF('Baggrundsdata - BVT - deflator'!$C$17='Baggrundsdata - BVT - deflator'!$C$15,'Baggrundsdata - BVT - deflator'!$B68,\"*\"))))))))))),\"*\")","v":0.93108852027443123},{"$f":"IFERROR('Baggrundsdata - BVT - deflator'!I68/IF($M$17=$C$15,$L68,IF($L$17=$C$15,$K68,IF($K$17=$C$15,$J68,IF($J$17=$C$15,$I68,IF($I$17=$C$15,'Baggrundsdata - BVT - deflator'!$H68,IF($H$17=$C$15,'Baggrundsdata - BVT - deflator'!$G68,IF($C$15=$G$17,'Baggrundsdata - BVT - deflator'!$F68,IF($F$17=$C$15,'Baggrundsdata - BVT - deflator'!$E68,IF($E$17=$C$15,'Baggrundsdata - BVT - deflator'!$D68,IF($D$17=$C$15,'Baggrundsdata - BVT - deflator'!$C68,IF('Baggrundsdata - BVT - deflator'!$C$17='Baggrundsdata - BVT - deflator'!$C$15,'Baggrundsdata - BVT - deflator'!$B68,\"*\"))))))))))),\"*\")","v":0.94570571686925453},{"$f":"IFERROR('Baggrundsdata - BVT - deflator'!J68/IF($M$17=$C$15,$L68,IF($L$17=$C$15,$K68,IF($K$17=$C$15,$J68,IF($J$17=$C$15,$I68,IF($I$17=$C$15,'Baggrundsdata - BVT - deflator'!$H68,IF($H$17=$C$15,'Baggrundsdata - BVT - deflator'!$G68,IF($C$15=$G$17,'Baggrundsdata - BVT - deflator'!$F68,IF($F$17=$C$15,'Baggrundsdata - BVT - deflator'!$E68,IF($E$17=$C$15,'Baggrundsdata - BVT - deflator'!$D68,IF($D$17=$C$15,'Baggrundsdata - BVT - deflator'!$C68,IF('Baggrundsdata - BVT - deflator'!$C$17='Baggrundsdata - BVT - deflator'!$C$15,'Baggrundsdata - BVT - deflator'!$B68,\"*\"))))))))))),\"*\")","v":0.97247401860885441},{"$f":"IFERROR('Baggrundsdata - BVT - deflator'!K68/IF($M$17=$C$15,$L68,IF($L$17=$C$15,$K68,IF($K$17=$C$15,$J68,IF($J$17=$C$15,$I68,IF($I$17=$C$15,'Baggrundsdata - BVT - deflator'!$H68,IF($H$17=$C$15,'Baggrundsdata - BVT - deflator'!$G68,IF($C$15=$G$17,'Baggrundsdata - BVT - deflator'!$F68,IF($F$17=$C$15,'Baggrundsdata - BVT - deflator'!$E68,IF($E$17=$C$15,'Baggrundsdata - BVT - deflator'!$D68,IF($D$17=$C$15,'Baggrundsdata - BVT - deflator'!$C68,IF('Baggrundsdata - BVT - deflator'!$C$17='Baggrundsdata - BVT - deflator'!$C$15,'Baggrundsdata - BVT - deflator'!$B68,\"*\"))))))))))),\"*\")","v":1},{"$f":"IFERROR('Baggrundsdata - BVT - deflator'!L68/IF($M$17=$C$15,$L68,IF($L$17=$C$15,$K68,IF($K$17=$C$15,$J68,IF($J$17=$C$15,$I68,IF($I$17=$C$15,'Baggrundsdata - BVT - deflator'!$H68,IF($H$17=$C$15,'Baggrundsdata - BVT - deflator'!$G68,IF($C$15=$G$17,'Baggrundsdata - BVT - deflator'!$F68,IF($F$17=$C$15,'Baggrundsdata - BVT - deflator'!$E68,IF($E$17=$C$15,'Baggrundsdata - BVT - deflator'!$D68,IF($D$17=$C$15,'Baggrundsdata - BVT - deflator'!$C68,IF('Baggrundsdata - BVT - deflator'!$C$17='Baggrundsdata - BVT - deflator'!$C$15,'Baggrundsdata - BVT - deflator'!$B68,\"*\"))))))))))),\"*\")","v":0},null,{"$f":"IF(A68='Level 1'!A51,\"sand\",\"falsk\")","v":"sand"},null,null,"EU-28",{"$f":"IFERROR('Baggrundsdata - BVT - deflator'!B68/IF($AC$17=$S$15,$L68,IF($AB$17=$S$15,$K68,IF($AA$17=$S$15,$J68,IF($Z$17=$S$15,$I68,IF($Y$17=$S$15,'Baggrundsdata - BVT - deflator'!$H68,IF($X$17=$S$15,'Baggrundsdata - BVT - deflator'!$G68,IF($S$15=$W$17,'Baggrundsdata - BVT - deflator'!$F68,IF($V$17=$S$15,'Baggrundsdata - BVT - deflator'!$E68,IF($U$17=$S$15,'Baggrundsdata - BVT - deflator'!$D68,IF($T$17=$S$15,'Baggrundsdata - BVT - deflator'!$C68,IF($S$17=$S$15,'Baggrundsdata - BVT - deflator'!$B68,\"*\"))))))))))),\"*\")","v":0.88662713333140397},{"$f":"IFERROR('Baggrundsdata - BVT - deflator'!C68/IF($AC$17=$S$15,$L68,IF($AB$17=$S$15,$K68,IF($AA$17=$S$15,$J68,IF($Z$17=$S$15,$I68,IF($Y$17=$S$15,'Baggrundsdata - BVT - deflator'!$H68,IF($X$17=$S$15,'Baggrundsdata - BVT - deflator'!$G68,IF($S$15=$W$17,'Baggrundsdata - BVT - deflator'!$F68,IF($V$17=$S$15,'Baggrundsdata - BVT - deflator'!$E68,IF($U$17=$S$15,'Baggrundsdata - BVT - deflator'!$D68,IF($T$17=$S$15,'Baggrundsdata - BVT - deflator'!$C68,IF($S$17=$S$15,'Baggrundsdata - BVT - deflator'!$B68,\"*\"))))))))))),\"*\")","v":0.88955954025564155},{"$f":"IFERROR('Baggrundsdata - BVT - deflator'!D68/IF($AC$17=$S$15,$L68,IF($AB$17=$S$15,$K68,IF($AA$17=$S$15,$J68,IF($Z$17=$S$15,$I68,IF($Y$17=$S$15,'Baggrundsdata - BVT - deflator'!$H68,IF($X$17=$S$15,'Baggrundsdata - BVT - deflator'!$G68,IF($S$15=$W$17,'Baggrundsdata - BVT - deflator'!$F68,IF($V$17=$S$15,'Baggrundsdata - BVT - deflator'!$E68,IF($U$17=$S$15,'Baggrundsdata - BVT - deflator'!$D68,IF($T$17=$S$15,'Baggrundsdata - BVT - deflator'!$C68,IF($S$17=$S$15,'Baggrundsdata - BVT - deflator'!$B68,\"*\"))))))))))),\"*\")","v":0.88090580116729511},{"$f":"IFERROR('Baggrundsdata - BVT - deflator'!E68/IF($AC$17=$S$15,$L68,IF($AB$17=$S$15,$K68,IF($AA$17=$S$15,$J68,IF($Z$17=$S$15,$I68,IF($Y$17=$S$15,'Baggrundsdata - BVT - deflator'!$H68,IF($X$17=$S$15,'Baggrundsdata - BVT - deflator'!$G68,IF($S$15=$W$17,'Baggrundsdata - BVT - deflator'!$F68,IF($V$17=$S$15,'Baggrundsdata - BVT - deflator'!$E68,IF($U$17=$S$15,'Baggrundsdata - BVT - deflator'!$D68,IF($T$17=$S$15,'Baggrundsdata - BVT - deflator'!$C68,IF($S$17=$S$15,'Baggrundsdata - BVT - deflator'!$B68,\"*\"))))))))))),\"*\")","v":0.8967605272897784},{"$f":"IFERROR('Baggrundsdata - BVT - deflator'!F68/IF($AC$17=$S$15,$L68,IF($AB$17=$S$15,$K68,IF($AA$17=$S$15,$J68,IF($Z$17=$S$15,$I68,IF($Y$17=$S$15,'Baggrundsdata - BVT - deflator'!$H68,IF($X$17=$S$15,'Baggrundsdata - BVT - deflator'!$G68,IF($S$15=$W$17,'Baggrundsdata - BVT - deflator'!$F68,IF($V$17=$S$15,'Baggrundsdata - BVT - deflator'!$E68,IF($U$17=$S$15,'Baggrundsdata - BVT - deflator'!$D68,IF($T$17=$S$15,'Baggrundsdata - BVT - deflator'!$C68,IF($S$17=$S$15,'Baggrundsdata - BVT - deflator'!$B68,\"*\"))))))))))),\"*\")","v":0.90536942835176026},{"$f":"IFERROR('Baggrundsdata - BVT - deflator'!G68/IF($AC$17=$S$15,$L68,IF($AB$17=$S$15,$K68,IF($AA$17=$S$15,$J68,IF($Z$17=$S$15,$I68,IF($Y$17=$S$15,'Baggrundsdata - BVT - deflator'!$H68,IF($X$17=$S$15,'Baggrundsdata - BVT - deflator'!$G68,IF($S$15=$W$17,'Baggrundsdata - BVT - deflator'!$F68,IF($V$17=$S$15,'Baggrundsdata - BVT - deflator'!$E68,IF($U$17=$S$15,'Baggrundsdata - BVT - deflator'!$D68,IF($T$17=$S$15,'Baggrundsdata - BVT - deflator'!$C68,IF($S$17=$S$15,'Baggrundsdata - BVT - deflator'!$B68,\"*\"))))))))))),\"*\")","v":0.92609356413742705},{"$f":"IFERROR('Baggrundsdata - BVT - deflator'!H68/IF($AC$17=$S$15,$L68,IF($AB$17=$S$15,$K68,IF($AA$17=$S$15,$J68,IF($Z$17=$S$15,$I68,IF($Y$17=$S$15,'Baggrundsdata - BVT - deflator'!$H68,IF($X$17=$S$15,'Baggrundsdata - BVT - deflator'!$G68,IF($S$15=$W$17,'Baggrundsdata - BVT - deflator'!$F68,IF($V$17=$S$15,'Baggrundsdata - BVT - deflator'!$E68,IF($U$17=$S$15,'Baggrundsdata - BVT - deflator'!$D68,IF($T$17=$S$15,'Baggrundsdata - BVT - deflator'!$C68,IF($S$17=$S$15,'Baggrundsdata - BVT - deflator'!$B68,\"*\"))))))))))),\"*\")","v":0.93108852027443123},{"$f":"IFERROR('Baggrundsdata - BVT - deflator'!I68/IF($AC$17=$S$15,$L68,IF($AB$17=$S$15,$K68,IF($AA$17=$S$15,$J68,IF($Z$17=$S$15,$I68,IF($Y$17=$S$15,'Baggrundsdata - BVT - deflator'!$H68,IF($X$17=$S$15,'Baggrundsdata - BVT - deflator'!$G68,IF($S$15=$W$17,'Baggrundsdata - BVT - deflator'!$F68,IF($V$17=$S$15,'Baggrundsdata - BVT - deflator'!$E68,IF($U$17=$S$15,'Baggrundsdata - BVT - deflator'!$D68,IF($T$17=$S$15,'Baggrundsdata - BVT - deflator'!$C68,IF($S$17=$S$15,'Baggrundsdata - BVT - deflator'!$B68,\"*\"))))))))))),\"*\")","v":0.94570571686925453},{"$f":"IFERROR('Baggrundsdata - BVT - deflator'!J68/IF($AC$17=$S$15,$L68,IF($AB$17=$S$15,$K68,IF($AA$17=$S$15,$J68,IF($Z$17=$S$15,$I68,IF($Y$17=$S$15,'Baggrundsdata - BVT - deflator'!$H68,IF($X$17=$S$15,'Baggrundsdata - BVT - deflator'!$G68,IF($S$15=$W$17,'Baggrundsdata - BVT - deflator'!$F68,IF($V$17=$S$15,'Baggrundsdata - BVT - deflator'!$E68,IF($U$17=$S$15,'Baggrundsdata - BVT - deflator'!$D68,IF($T$17=$S$15,'Baggrundsdata - BVT - deflator'!$C68,IF($S$17=$S$15,'Baggrundsdata - BVT - deflator'!$B68,\"*\"))))))))))),\"*\")","v":0.97247401860885441},{"$f":"IFERROR('Baggrundsdata - BVT - deflator'!K68/IF($AC$17=$S$15,$L68,IF($AB$17=$S$15,$K68,IF($AA$17=$S$15,$J68,IF($Z$17=$S$15,$I68,IF($Y$17=$S$15,'Baggrundsdata - BVT - deflator'!$H68,IF($X$17=$S$15,'Baggrundsdata - BVT - deflator'!$G68,IF($S$15=$W$17,'Baggrundsdata - BVT - deflator'!$F68,IF($V$17=$S$15,'Baggrundsdata - BVT - deflator'!$E68,IF($U$17=$S$15,'Baggrundsdata - BVT - deflator'!$D68,IF($T$17=$S$15,'Baggrundsdata - BVT - deflator'!$C68,IF($S$17=$S$15,'Baggrundsdata - BVT - deflator'!$B68,\"*\"))))))))))),\"*\")","v":1},{"$f":"IFERROR('Baggrundsdata - BVT - deflator'!L68/IF($AC$17=$S$15,$L68,IF($AB$17=$S$15,$K68,IF($AA$17=$S$15,$J68,IF($Z$17=$S$15,$I68,IF($Y$17=$S$15,'Baggrundsdata - BVT - deflator'!$H68,IF($X$17=$S$15,'Baggrundsdata - BVT - deflator'!$G68,IF($S$15=$W$17,'Baggrundsdata - BVT - deflator'!$F68,IF($V$17=$S$15,'Baggrundsdata - BVT - deflator'!$E68,IF($U$17=$S$15,'Baggrundsdata - BVT - deflator'!$D68,IF($T$17=$S$15,'Baggrundsdata - BVT - deflator'!$C68,IF($S$17=$S$15,'Baggrundsdata - BVT - deflator'!$B68,\"*\"))))))))))),\"*\")","v":0},null,{"$f":"IF(R18=Forside!B39,\"sand\",\"falsk\")","v":"sand"}]
[null,{"$f":"A69","v":"Belgium"},{"$f":"IFERROR('Baggrundsdata - BVT - deflator'!B69/IF($M$17=$C$15,$L69,IF($L$17=$C$15,$K69,IF($K$17=$C$15,$J69,IF($J$17=$C$15,$I69,IF($I$17=$C$15,'Baggrundsdata - BVT - deflator'!$H69,IF($H$17=$C$15,'Baggrundsdata - BVT - deflator'!$G69,IF($C$15=$G$17,'Baggrundsdata - BVT - deflator'!$F69,IF($F$17=$C$15,'Baggrundsdata - BVT - deflator'!$E69,IF($E$17=$C$15,'Baggrundsdata - BVT - deflator'!$D69,IF($D$17=$C$15,'Baggrundsdata - BVT - deflator'!$C69,IF('Baggrundsdata - BVT - deflator'!$C$17='Baggrundsdata - BVT - deflator'!$C$15,'Baggrundsdata - BVT - deflator'!$B69,\"*\"))))))))))),\"*\")","v":0.88717226504651181},{"$f":"IFERROR('Baggrundsdata - BVT - deflator'!C69/IF($M$17=$C$15,$L69,IF($L$17=$C$15,$K69,IF($K$17=$C$15,$J69,IF($J$17=$C$15,$I69,IF($I$17=$C$15,'Baggrundsdata - BVT - deflator'!$H69,IF($H$17=$C$15,'Baggrundsdata - BVT - deflator'!$G69,IF($C$15=$G$17,'Baggrundsdata - BVT - deflator'!$F69,IF($F$17=$C$15,'Baggrundsdata - BVT - deflator'!$E69,IF($E$17=$C$15,'Baggrundsdata - BVT - deflator'!$D69,IF($D$17=$C$15,'Baggrundsdata - BVT - deflator'!$C69,IF('Baggrundsdata - BVT - deflator'!$C$17='Baggrundsdata - BVT - deflator'!$C$15,'Baggrundsdata - BVT - deflator'!$B69,\"*\"))))))))))),\"*\")","v":0.90198536865020962},{"$f":"IFERROR('Baggrundsdata - BVT - deflator'!D69/IF($M$17=$C$15,$L69,IF($L$17=$C$15,$K69,IF($K$17=$C$15,$J69,IF($J$17=$C$15,$I69,IF($I$17=$C$15,'Baggrundsdata - BVT - deflator'!$H69,IF($H$17=$C$15,'Baggrundsdata - BVT - deflator'!$G69,IF($C$15=$G$17,'Baggrundsdata - BVT - deflator'!$F69,IF($F$17=$C$15,'Baggrundsdata - BVT - deflator'!$E69,IF($E$17=$C$15,'Baggrundsdata - BVT - deflator'!$D69,IF($D$17=$C$15,'Baggrundsdata - BVT - deflator'!$C69,IF('Baggrundsdata - BVT - deflator'!$C$17='Baggrundsdata - BVT - deflator'!$C$15,'Baggrundsdata - BVT - deflator'!$B69,\"*\"))))))))))),\"*\")","v":0.91025918731927569},{"$f":"IFERROR('Baggrundsdata - BVT - deflator'!E69/IF($M$17=$C$15,$L69,IF($L$17=$C$15,$K69,IF($K$17=$C$15,$J69,IF($J$17=$C$15,$I69,IF($I$17=$C$15,'Baggrundsdata - BVT - deflator'!$H69,IF($H$17=$C$15,'Baggrundsdata - BVT - deflator'!$G69,IF($C$15=$G$17,'Baggrundsdata - BVT - deflator'!$F69,IF($F$17=$C$15,'Baggrundsdata - BVT - deflator'!$E69,IF($E$17=$C$15,'Baggrundsdata - BVT - deflator'!$D69,IF($D$17=$C$15,'Baggrundsdata - BVT - deflator'!$C69,IF('Baggrundsdata - BVT - deflator'!$C$17='Baggrundsdata - BVT - deflator'!$C$15,'Baggrundsdata - BVT - deflator'!$B69,\"*\"))))))))))),\"*\")","v":0.92755814675628023},{"$f":"IFERROR('Baggrundsdata - BVT - deflator'!F69/IF($M$17=$C$15,$L69,IF($L$17=$C$15,$K69,IF($K$17=$C$15,$J69,IF($J$17=$C$15,$I69,IF($I$17=$C$15,'Baggrundsdata - BVT - deflator'!$H69,IF($H$17=$C$15,'Baggrundsdata - BVT - deflator'!$G69,IF($C$15=$G$17,'Baggrundsdata - BVT - deflator'!$F69,IF($F$17=$C$15,'Baggrundsdata - BVT - deflator'!$E69,IF($E$17=$C$15,'Baggrundsdata - BVT - deflator'!$D69,IF($D$17=$C$15,'Baggrundsdata - BVT - deflator'!$C69,IF('Baggrundsdata - BVT - deflator'!$C$17='Baggrundsdata - BVT - deflator'!$C$15,'Baggrundsdata - BVT - deflator'!$B69,\"*\"))))))))))),\"*\")","v":0.94455101200485525},{"$f":"IFERROR('Baggrundsdata - BVT - deflator'!G69/IF($M$17=$C$15,$L69,IF($L$17=$C$15,$K69,IF($K$17=$C$15,$J69,IF($J$17=$C$15,$I69,IF($I$17=$C$15,'Baggrundsdata - BVT - deflator'!$H69,IF($H$17=$C$15,'Baggrundsdata - BVT - deflator'!$G69,IF($C$15=$G$17,'Baggrundsdata - BVT - deflator'!$F69,IF($F$17=$C$15,'Baggrundsdata - BVT - deflator'!$E69,IF($E$17=$C$15,'Baggrundsdata - BVT - deflator'!$D69,IF($D$17=$C$15,'Baggrundsdata - BVT - deflator'!$C69,IF('Baggrundsdata - BVT - deflator'!$C$17='Baggrundsdata - BVT - deflator'!$C$15,'Baggrundsdata - BVT - deflator'!$B69,\"*\"))))))))))),\"*\")","v":0.96297231679943507},{"$f":"IFERROR('Baggrundsdata - BVT - deflator'!H69/IF($M$17=$C$15,$L69,IF($L$17=$C$15,$K69,IF($K$17=$C$15,$J69,IF($J$17=$C$15,$I69,IF($I$17=$C$15,'Baggrundsdata - BVT - deflator'!$H69,IF($H$17=$C$15,'Baggrundsdata - BVT - deflator'!$G69,IF($C$15=$G$17,'Baggrundsdata - BVT - deflator'!$F69,IF($F$17=$C$15,'Baggrundsdata - BVT - deflator'!$E69,IF($E$17=$C$15,'Baggrundsdata - BVT - deflator'!$D69,IF($D$17=$C$15,'Baggrundsdata - BVT - deflator'!$C69,IF('Baggrundsdata - BVT - deflator'!$C$17='Baggrundsdata - BVT - deflator'!$C$15,'Baggrundsdata - BVT - deflator'!$B69,\"*\"))))))))))),\"*\")","v":0.97620857155364726},{"$f":"IFERROR('Baggrundsdata - BVT - deflator'!I69/IF($M$17=$C$15,$L69,IF($L$17=$C$15,$K69,IF($K$17=$C$15,$J69,IF($J$17=$C$15,$I69,IF($I$17=$C$15,'Baggrundsdata - BVT - deflator'!$H69,IF($H$17=$C$15,'Baggrundsdata - BVT - deflator'!$G69,IF($C$15=$G$17,'Baggrundsdata - BVT - deflator'!$F69,IF($F$17=$C$15,'Baggrundsdata - BVT - deflator'!$E69,IF($E$17=$C$15,'Baggrundsdata - BVT - deflator'!$D69,IF($D$17=$C$15,'Baggrundsdata - BVT - deflator'!$C69,IF('Baggrundsdata - BVT - deflator'!$C$17='Baggrundsdata - BVT - deflator'!$C$15,'Baggrundsdata - BVT - deflator'!$B69,\"*\"))))))))))),\"*\")","v":0.98289626579175993},{"$f":"IFERROR('Baggrundsdata - BVT - deflator'!J69/IF($M$17=$C$15,$L69,IF($L$17=$C$15,$K69,IF($K$17=$C$15,$J69,IF($J$17=$C$15,$I69,IF($I$17=$C$15,'Baggrundsdata - BVT - deflator'!$H69,IF($H$17=$C$15,'Baggrundsdata - BVT - deflator'!$G69,IF($C$15=$G$17,'Baggrundsdata - BVT - deflator'!$F69,IF($F$17=$C$15,'Baggrundsdata - BVT - deflator'!$E69,IF($E$17=$C$15,'Baggrundsdata - BVT - deflator'!$D69,IF($D$17=$C$15,'Baggrundsdata - BVT - deflator'!$C69,IF('Baggrundsdata - BVT - deflator'!$C$17='Baggrundsdata - BVT - deflator'!$C$15,'Baggrundsdata - BVT - deflator'!$B69,\"*\"))))))))))),\"*\")","v":0.99141124957898263},{"$f":"IFERROR('Baggrundsdata - BVT - deflator'!K69/IF($M$17=$C$15,$L69,IF($L$17=$C$15,$K69,IF($K$17=$C$15,$J69,IF($J$17=$C$15,$I69,IF($I$17=$C$15,'Baggrundsdata - BVT - deflator'!$H69,IF($H$17=$C$15,'Baggrundsdata - BVT - deflator'!$G69,IF($C$15=$G$17,'Baggrundsdata - BVT - deflator'!$F69,IF($F$17=$C$15,'Baggrundsdata - BVT - deflator'!$E69,IF($E$17=$C$15,'Baggrundsdata - BVT - deflator'!$D69,IF($D$17=$C$15,'Baggrundsdata - BVT - deflator'!$C69,IF('Baggrundsdata - BVT - deflator'!$C$17='Baggrundsdata - BVT - deflator'!$C$15,'Baggrundsdata - BVT - deflator'!$B69,\"*\"))))))))))),\"*\")","v":1},{"$f":"IFERROR('Baggrundsdata - BVT - deflator'!L69/IF($M$17=$C$15,$L69,IF($L$17=$C$15,$K69,IF($K$17=$C$15,$J69,IF($J$17=$C$15,$I69,IF($I$17=$C$15,'Baggrundsdata - BVT - deflator'!$H69,IF($H$17=$C$15,'Baggrundsdata - BVT - deflator'!$G69,IF($C$15=$G$17,'Baggrundsdata - BVT - deflator'!$F69,IF($F$17=$C$15,'Baggrundsdata - BVT - deflator'!$E69,IF($E$17=$C$15,'Baggrundsdata - BVT - deflator'!$D69,IF($D$17=$C$15,'Baggrundsdata - BVT - deflator'!$C69,IF('Baggrundsdata - BVT - deflator'!$C$17='Baggrundsdata - BVT - deflator'!$C$15,'Baggrundsdata - BVT - deflator'!$B69,\"*\"))))))))))),\"*\")","v":0},null,{"$f":"IF(A69='Level 1'!A52,\"sand\",\"falsk\")","v":"sand"},null,null,"Belgien",{"$f":"IFERROR('Baggrundsdata - BVT - deflator'!B69/IF($AC$17=$S$15,$L69,IF($AB$17=$S$15,$K69,IF($AA$17=$S$15,$J69,IF($Z$17=$S$15,$I69,IF($Y$17=$S$15,'Baggrundsdata - BVT - deflator'!$H69,IF($X$17=$S$15,'Baggrundsdata - BVT - deflator'!$G69,IF($S$15=$W$17,'Baggrundsdata - BVT - deflator'!$F69,IF($V$17=$S$15,'Baggrundsdata - BVT - deflator'!$E69,IF($U$17=$S$15,'Baggrundsdata - BVT - deflator'!$D69,IF($T$17=$S$15,'Baggrundsdata - BVT - deflator'!$C69,IF($S$17=$S$15,'Baggrundsdata - BVT - deflator'!$B69,\"*\"))))))))))),\"*\")","v":0.88717226504651181},{"$f":"IFERROR('Baggrundsdata - BVT - deflator'!C69/IF($AC$17=$S$15,$L69,IF($AB$17=$S$15,$K69,IF($AA$17=$S$15,$J69,IF($Z$17=$S$15,$I69,IF($Y$17=$S$15,'Baggrundsdata - BVT - deflator'!$H69,IF($X$17=$S$15,'Baggrundsdata - BVT - deflator'!$G69,IF($S$15=$W$17,'Baggrundsdata - BVT - deflator'!$F69,IF($V$17=$S$15,'Baggrundsdata - BVT - deflator'!$E69,IF($U$17=$S$15,'Baggrundsdata - BVT - deflator'!$D69,IF($T$17=$S$15,'Baggrundsdata - BVT - deflator'!$C69,IF($S$17=$S$15,'Baggrundsdata - BVT - deflator'!$B69,\"*\"))))))))))),\"*\")","v":0.90198536865020962},{"$f":"IFERROR('Baggrundsdata - BVT - deflator'!D69/IF($AC$17=$S$15,$L69,IF($AB$17=$S$15,$K69,IF($AA$17=$S$15,$J69,IF($Z$17=$S$15,$I69,IF($Y$17=$S$15,'Baggrundsdata - BVT - deflator'!$H69,IF($X$17=$S$15,'Baggrundsdata - BVT - deflator'!$G69,IF($S$15=$W$17,'Baggrundsdata - BVT - deflator'!$F69,IF($V$17=$S$15,'Baggrundsdata - BVT - deflator'!$E69,IF($U$17=$S$15,'Baggrundsdata - BVT - deflator'!$D69,IF($T$17=$S$15,'Baggrundsdata - BVT - deflator'!$C69,IF($S$17=$S$15,'Baggrundsdata - BVT - deflator'!$B69,\"*\"))))))))))),\"*\")","v":0.91025918731927569},{"$f":"IFERROR('Baggrundsdata - BVT - deflator'!E69/IF($AC$17=$S$15,$L69,IF($AB$17=$S$15,$K69,IF($AA$17=$S$15,$J69,IF($Z$17=$S$15,$I69,IF($Y$17=$S$15,'Baggrundsdata - BVT - deflator'!$H69,IF($X$17=$S$15,'Baggrundsdata - BVT - deflator'!$G69,IF($S$15=$W$17,'Baggrundsdata - BVT - deflator'!$F69,IF($V$17=$S$15,'Baggrundsdata - BVT - deflator'!$E69,IF($U$17=$S$15,'Baggrundsdata - BVT - deflator'!$D69,IF($T$17=$S$15,'Baggrundsdata - BVT - deflator'!$C69,IF($S$17=$S$15,'Baggrundsdata - BVT - deflator'!$B69,\"*\"))))))))))),\"*\")","v":0.92755814675628023},{"$f":"IFERROR('Baggrundsdata - BVT - deflator'!F69/IF($AC$17=$S$15,$L69,IF($AB$17=$S$15,$K69,IF($AA$17=$S$15,$J69,IF($Z$17=$S$15,$I69,IF($Y$17=$S$15,'Baggrundsdata - BVT - deflator'!$H69,IF($X$17=$S$15,'Baggrundsdata - BVT - deflator'!$G69,IF($S$15=$W$17,'Baggrundsdata - BVT - deflator'!$F69,IF($V$17=$S$15,'Baggrundsdata - BVT - deflator'!$E69,IF($U$17=$S$15,'Baggrundsdata - BVT - deflator'!$D69,IF($T$17=$S$15,'Baggrundsdata - BVT - deflator'!$C69,IF($S$17=$S$15,'Baggrundsdata - BVT - deflator'!$B69,\"*\"))))))))))),\"*\")","v":0.94455101200485525},{"$f":"IFERROR('Baggrundsdata - BVT - deflator'!G69/IF($AC$17=$S$15,$L69,IF($AB$17=$S$15,$K69,IF($AA$17=$S$15,$J69,IF($Z$17=$S$15,$I69,IF($Y$17=$S$15,'Baggrundsdata - BVT - deflator'!$H69,IF($X$17=$S$15,'Baggrundsdata - BVT - deflator'!$G69,IF($S$15=$W$17,'Baggrundsdata - BVT - deflator'!$F69,IF($V$17=$S$15,'Baggrundsdata - BVT - deflator'!$E69,IF($U$17=$S$15,'Baggrundsdata - BVT - deflator'!$D69,IF($T$17=$S$15,'Baggrundsdata - BVT - deflator'!$C69,IF($S$17=$S$15,'Baggrundsdata - BVT - deflator'!$B69,\"*\"))))))))))),\"*\")","v":0.96297231679943507},{"$f":"IFERROR('Baggrundsdata - BVT - deflator'!H69/IF($AC$17=$S$15,$L69,IF($AB$17=$S$15,$K69,IF($AA$17=$S$15,$J69,IF($Z$17=$S$15,$I69,IF($Y$17=$S$15,'Baggrundsdata - BVT - deflator'!$H69,IF($X$17=$S$15,'Baggrundsdata - BVT - deflator'!$G69,IF($S$15=$W$17,'Baggrundsdata - BVT - deflator'!$F69,IF($V$17=$S$15,'Baggrundsdata - BVT - deflator'!$E69,IF($U$17=$S$15,'Baggrundsdata - BVT - deflator'!$D69,IF($T$17=$S$15,'Baggrundsdata - BVT - deflator'!$C69,IF($S$17=$S$15,'Baggrundsdata - BVT - deflator'!$B69,\"*\"))))))))))),\"*\")","v":0.97620857155364726},{"$f":"IFERROR('Baggrundsdata - BVT - deflator'!I69/IF($AC$17=$S$15,$L69,IF($AB$17=$S$15,$K69,IF($AA$17=$S$15,$J69,IF($Z$17=$S$15,$I69,IF($Y$17=$S$15,'Baggrundsdata - BVT - deflator'!$H69,IF($X$17=$S$15,'Baggrundsdata - BVT - deflator'!$G69,IF($S$15=$W$17,'Baggrundsdata - BVT - deflator'!$F69,IF($V$17=$S$15,'Baggrundsdata - BVT - deflator'!$E69,IF($U$17=$S$15,'Baggrundsdata - BVT - deflator'!$D69,IF($T$17=$S$15,'Baggrundsdata - BVT - deflator'!$C69,IF($S$17=$S$15,'Baggrundsdata - BVT - deflator'!$B69,\"*\"))))))))))),\"*\")","v":0.98289626579175993},{"$f":"IFERROR('Baggrundsdata - BVT - deflator'!J69/IF($AC$17=$S$15,$L69,IF($AB$17=$S$15,$K69,IF($AA$17=$S$15,$J69,IF($Z$17=$S$15,$I69,IF($Y$17=$S$15,'Baggrundsdata - BVT - deflator'!$H69,IF($X$17=$S$15,'Baggrundsdata - BVT - deflator'!$G69,IF($S$15=$W$17,'Baggrundsdata - BVT - deflator'!$F69,IF($V$17=$S$15,'Baggrundsdata - BVT - deflator'!$E69,IF($U$17=$S$15,'Baggrundsdata - BVT - deflator'!$D69,IF($T$17=$S$15,'Baggrundsdata - BVT - deflator'!$C69,IF($S$17=$S$15,'Baggrundsdata - BVT - deflator'!$B69,\"*\"))))))))))),\"*\")","v":0.99141124957898263},{"$f":"IFERROR('Baggrundsdata - BVT - deflator'!K69/IF($AC$17=$S$15,$L69,IF($AB$17=$S$15,$K69,IF($AA$17=$S$15,$J69,IF($Z$17=$S$15,$I69,IF($Y$17=$S$15,'Baggrundsdata - BVT - deflator'!$H69,IF($X$17=$S$15,'Baggrundsdata - BVT - deflator'!$G69,IF($S$15=$W$17,'Baggrundsdata - BVT - deflator'!$F69,IF($V$17=$S$15,'Baggrundsdata - BVT - deflator'!$E69,IF($U$17=$S$15,'Baggrundsdata - BVT - deflator'!$D69,IF($T$17=$S$15,'Baggrundsdata - BVT - deflator'!$C69,IF($S$17=$S$15,'Baggrundsdata - BVT - deflator'!$B69,\"*\"))))))))))),\"*\")","v":1},{"$f":"IFERROR('Baggrundsdata - BVT - deflator'!L69/IF($AC$17=$S$15,$L69,IF($AB$17=$S$15,$K69,IF($AA$17=$S$15,$J69,IF($Z$17=$S$15,$I69,IF($Y$17=$S$15,'Baggrundsdata - BVT - deflator'!$H69,IF($X$17=$S$15,'Baggrundsdata - BVT - deflator'!$G69,IF($S$15=$W$17,'Baggrundsdata - BVT - deflator'!$F69,IF($V$17=$S$15,'Baggrundsdata - BVT - deflator'!$E69,IF($U$17=$S$15,'Baggrundsdata - BVT - deflator'!$D69,IF($T$17=$S$15,'Baggrundsdata - BVT - deflator'!$C69,IF($S$17=$S$15,'Baggrundsdata - BVT - deflator'!$B69,\"*\"))))))))))),\"*\")","v":0},null,{"$f":"IF(R19=Forside!B40,\"sand\",\"falsk\")","v":"sand"}]
[null,"Bulgaria",{"$f":"IFERROR('Baggrundsdata - BVT - deflator'!B70/IF($M$17=$C$15,$L70,IF($L$17=$C$15,$K70,IF($K$17=$C$15,$J70,IF($J$17=$C$15,$I70,IF($I$17=$C$15,'Baggrundsdata - BVT - deflator'!$H70,IF($H$17=$C$15,'Baggrundsdata - BVT - deflator'!$G70,IF($C$15=$G$17,'Baggrundsdata - BVT - deflator'!$F70,IF($F$17=$C$15,'Baggrundsdata - BVT - deflator'!$E70,IF($E$17=$C$15,'Baggrundsdata - BVT - deflator'!$D70,IF($D$17=$C$15,'Baggrundsdata - BVT - deflator'!$C70,IF('Baggrundsdata - BVT - deflator'!$C$17='Baggrundsdata - BVT - deflator'!$C$15,'Baggrundsdata - BVT - deflator'!$B70,\"*\"))))))))))),\"*\")","v":0.80557070362414063},{"$f":"IFERROR('Baggrundsdata - BVT - deflator'!C70/IF($M$17=$C$15,$L70,IF($L$17=$C$15,$K70,IF($K$17=$C$15,$J70,IF($J$17=$C$15,$I70,IF($I$17=$C$15,'Baggrundsdata - BVT - deflator'!$H70,IF($H$17=$C$15,'Baggrundsdata - BVT - deflator'!$G70,IF($C$15=$G$17,'Baggrundsdata - BVT - deflator'!$F70,IF($F$17=$C$15,'Baggrundsdata - BVT - deflator'!$E70,IF($E$17=$C$15,'Baggrundsdata - BVT - deflator'!$D70,IF($D$17=$C$15,'Baggrundsdata - BVT - deflator'!$C70,IF('Baggrundsdata - BVT - deflator'!$C$17='Baggrundsdata - BVT - deflator'!$C$15,'Baggrundsdata - BVT - deflator'!$B70,\"*\"))))))))))),\"*\")","v":0.86317870012620601},{"$f":"IFERROR('Baggrundsdata - BVT - deflator'!D70/IF($M$17=$C$15,$L70,IF($L$17=$C$15,$K70,IF($K$17=$C$15,$J70,IF($J$17=$C$15,$I70,IF($I$17=$C$15,'Baggrundsdata - BVT - deflator'!$H70,IF($H$17=$C$15,'Baggrundsdata - BVT - deflator'!$G70,IF($C$15=$G$17,'Baggrundsdata - BVT - deflator'!$F70,IF($F$17=$C$15,'Baggrundsdata - BVT - deflator'!$E70,IF($E$17=$C$15,'Baggrundsdata - BVT - deflator'!$D70,IF($D$17=$C$15,'Baggrundsdata - BVT - deflator'!$C70,IF('Baggrundsdata - BVT - deflator'!$C$17='Baggrundsdata - BVT - deflator'!$C$15,'Baggrundsdata - BVT - deflator'!$B70,\"*\"))))))))))),\"*\")","v":0.90406356312592706},{"$f":"IFERROR('Baggrundsdata - BVT - deflator'!E70/IF($M$17=$C$15,$L70,IF($L$17=$C$15,$K70,IF($K$17=$C$15,$J70,IF($J$17=$C$15,$I70,IF($I$17=$C$15,'Baggrundsdata - BVT - deflator'!$H70,IF($H$17=$C$15,'Baggrundsdata - BVT - deflator'!$G70,IF($C$15=$G$17,'Baggrundsdata - BVT - deflator'!$F70,IF($F$17=$C$15,'Baggrundsdata - BVT - deflator'!$E70,IF($E$17=$C$15,'Baggrundsdata - BVT - deflator'!$D70,IF($D$17=$C$15,'Baggrundsdata - BVT - deflator'!$C70,IF('Baggrundsdata - BVT - deflator'!$C$17='Baggrundsdata - BVT - deflator'!$C$15,'Baggrundsdata - BVT - deflator'!$B70,\"*\"))))))))))),\"*\")","v":0.91383243182210538},{"$f":"IFERROR('Baggrundsdata - BVT - deflator'!F70/IF($M$17=$C$15,$L70,IF($L$17=$C$15,$K70,IF($K$17=$C$15,$J70,IF($J$17=$C$15,$I70,IF($I$17=$C$15,'Baggrundsdata - BVT - deflator'!$H70,IF($H$17=$C$15,'Baggrundsdata - BVT - deflator'!$G70,IF($C$15=$G$17,'Baggrundsdata - BVT - deflator'!$F70,IF($F$17=$C$15,'Baggrundsdata - BVT - deflator'!$E70,IF($E$17=$C$15,'Baggrundsdata - BVT - deflator'!$D70,IF($D$17=$C$15,'Baggrundsdata - BVT - deflator'!$C70,IF('Baggrundsdata - BVT - deflator'!$C$17='Baggrundsdata - BVT - deflator'!$C$15,'Baggrundsdata - BVT - deflator'!$B70,\"*\"))))))))))),\"*\")","v":0.98158396831739625},{"$f":"IFERROR('Baggrundsdata - BVT - deflator'!G70/IF($M$17=$C$15,$L70,IF($L$17=$C$15,$K70,IF($K$17=$C$15,$J70,IF($J$17=$C$15,$I70,IF($I$17=$C$15,'Baggrundsdata - BVT - deflator'!$H70,IF($H$17=$C$15,'Baggrundsdata - BVT - deflator'!$G70,IF($C$15=$G$17,'Baggrundsdata - BVT - deflator'!$F70,IF($F$17=$C$15,'Baggrundsdata - BVT - deflator'!$E70,IF($E$17=$C$15,'Baggrundsdata - BVT - deflator'!$D70,IF($D$17=$C$15,'Baggrundsdata - BVT - deflator'!$C70,IF('Baggrundsdata - BVT - deflator'!$C$17='Baggrundsdata - BVT - deflator'!$C$15,'Baggrundsdata - BVT - deflator'!$B70,\"*\"))))))))))),\"*\")","v":0.99453297387631556},{"$f":"IFERROR('Baggrundsdata - BVT - deflator'!H70/IF($M$17=$C$15,$L70,IF($L$17=$C$15,$K70,IF($K$17=$C$15,$J70,IF($J$17=$C$15,$I70,IF($I$17=$C$15,'Baggrundsdata - BVT - deflator'!$H70,IF($H$17=$C$15,'Baggrundsdata - BVT - deflator'!$G70,IF($C$15=$G$17,'Baggrundsdata - BVT - deflator'!$F70,IF($F$17=$C$15,'Baggrundsdata - BVT - deflator'!$E70,IF($E$17=$C$15,'Baggrundsdata - BVT - deflator'!$D70,IF($D$17=$C$15,'Baggrundsdata - BVT - deflator'!$C70,IF('Baggrundsdata - BVT - deflator'!$C$17='Baggrundsdata - BVT - deflator'!$C$15,'Baggrundsdata - BVT - deflator'!$B70,\"*\"))))))))))),\"*\")","v":0.98656435507082674},{"$f":"IFERROR('Baggrundsdata - BVT - deflator'!I70/IF($M$17=$C$15,$L70,IF($L$17=$C$15,$K70,IF($K$17=$C$15,$J70,IF($J$17=$C$15,$I70,IF($I$17=$C$15,'Baggrundsdata - BVT - deflator'!$H70,IF($H$17=$C$15,'Baggrundsdata - BVT - deflator'!$G70,IF($C$15=$G$17,'Baggrundsdata - BVT - deflator'!$F70,IF($F$17=$C$15,'Baggrundsdata - BVT - deflator'!$E70,IF($E$17=$C$15,'Baggrundsdata - BVT - deflator'!$D70,IF($D$17=$C$15,'Baggrundsdata - BVT - deflator'!$C70,IF('Baggrundsdata - BVT - deflator'!$C$17='Baggrundsdata - BVT - deflator'!$C$15,'Baggrundsdata - BVT - deflator'!$B70,\"*\"))))))))))),\"*\")","v":0.99696376814496224},{"$f":"IFERROR('Baggrundsdata - BVT - deflator'!J70/IF($M$17=$C$15,$L70,IF($L$17=$C$15,$K70,IF($K$17=$C$15,$J70,IF($J$17=$C$15,$I70,IF($I$17=$C$15,'Baggrundsdata - BVT - deflator'!$H70,IF($H$17=$C$15,'Baggrundsdata - BVT - deflator'!$G70,IF($C$15=$G$17,'Baggrundsdata - BVT - deflator'!$F70,IF($F$17=$C$15,'Baggrundsdata - BVT - deflator'!$E70,IF($E$17=$C$15,'Baggrundsdata - BVT - deflator'!$D70,IF($D$17=$C$15,'Baggrundsdata - BVT - deflator'!$C70,IF('Baggrundsdata - BVT - deflator'!$C$17='Baggrundsdata - BVT - deflator'!$C$15,'Baggrundsdata - BVT - deflator'!$B70,\"*\"))))))))))),\"*\")","v":0.99848072998178705},{"$f":"IFERROR('Baggrundsdata - BVT - deflator'!K70/IF($M$17=$C$15,$L70,IF($L$17=$C$15,$K70,IF($K$17=$C$15,$J70,IF($J$17=$C$15,$I70,IF($I$17=$C$15,'Baggrundsdata - BVT - deflator'!$H70,IF($H$17=$C$15,'Baggrundsdata - BVT - deflator'!$G70,IF($C$15=$G$17,'Baggrundsdata - BVT - deflator'!$F70,IF($F$17=$C$15,'Baggrundsdata - BVT - deflator'!$E70,IF($E$17=$C$15,'Baggrundsdata - BVT - deflator'!$D70,IF($D$17=$C$15,'Baggrundsdata - BVT - deflator'!$C70,IF('Baggrundsdata - BVT - deflator'!$C$17='Baggrundsdata - BVT - deflator'!$C$15,'Baggrundsdata - BVT - deflator'!$B70,\"*\"))))))))))),\"*\")","v":1},{"$f":"IFERROR('Baggrundsdata - BVT - deflator'!L70/IF($M$17=$C$15,$L70,IF($L$17=$C$15,$K70,IF($K$17=$C$15,$J70,IF($J$17=$C$15,$I70,IF($I$17=$C$15,'Baggrundsdata - BVT - deflator'!$H70,IF($H$17=$C$15,'Baggrundsdata - BVT - deflator'!$G70,IF($C$15=$G$17,'Baggrundsdata - BVT - deflator'!$F70,IF($F$17=$C$15,'Baggrundsdata - BVT - deflator'!$E70,IF($E$17=$C$15,'Baggrundsdata - BVT - deflator'!$D70,IF($D$17=$C$15,'Baggrundsdata - BVT - deflator'!$C70,IF('Baggrundsdata - BVT - deflator'!$C$17='Baggrundsdata - BVT - deflator'!$C$15,'Baggrundsdata - BVT - deflator'!$B70,\"*\"))))))))))),\"*\")","v":0},null,{"$f":"IF(A70='Level 1'!A53,\"sand\",\"falsk\")","v":"sand"},null,null,"Danmark",{"$f":"IFERROR('Baggrundsdata - BVT - deflator'!B72/IF($AC$17=$S$15,$L72,IF($AB$17=$S$15,$K72,IF($AA$17=$S$15,$J72,IF($Z$17=$S$15,$I72,IF($Y$17=$S$15,'Baggrundsdata - BVT - deflator'!$H72,IF($X$17=$S$15,'Baggrundsdata - BVT - deflator'!$G72,IF($S$15=$W$17,'Baggrundsdata - BVT - deflator'!$F72,IF($V$17=$S$15,'Baggrundsdata - BVT - deflator'!$E72,IF($U$17=$S$15,'Baggrundsdata - BVT - deflator'!$D72,IF($T$17=$S$15,'Baggrundsdata - BVT - deflator'!$C72,IF($S$17=$S$15,'Baggrundsdata - BVT - deflator'!$B72,\"*\"))))))))))),\"*\")","v":0.8450283177239023},{"$f":"IFERROR('Baggrundsdata - BVT - deflator'!C72/IF($AC$17=$S$15,$L72,IF($AB$17=$S$15,$K72,IF($AA$17=$S$15,$J72,IF($Z$17=$S$15,$I72,IF($Y$17=$S$15,'Baggrundsdata - BVT - deflator'!$H72,IF($X$17=$S$15,'Baggrundsdata - BVT - deflator'!$G72,IF($S$15=$W$17,'Baggrundsdata - BVT - deflator'!$F72,IF($V$17=$S$15,'Baggrundsdata - BVT - deflator'!$E72,IF($U$17=$S$15,'Baggrundsdata - BVT - deflator'!$D72,IF($T$17=$S$15,'Baggrundsdata - BVT - deflator'!$C72,IF($S$17=$S$15,'Baggrundsdata - BVT - deflator'!$B72,\"*\"))))))))))),\"*\")","v":0.88429133096308687},{"$f":"IFERROR('Baggrundsdata - BVT - deflator'!D72/IF($AC$17=$S$15,$L72,IF($AB$17=$S$15,$K72,IF($AA$17=$S$15,$J72,IF($Z$17=$S$15,$I72,IF($Y$17=$S$15,'Baggrundsdata - BVT - deflator'!$H72,IF($X$17=$S$15,'Baggrundsdata - BVT - deflator'!$G72,IF($S$15=$W$17,'Baggrundsdata - BVT - deflator'!$F72,IF($V$17=$S$15,'Baggrundsdata - BVT - deflator'!$E72,IF($U$17=$S$15,'Baggrundsdata - BVT - deflator'!$D72,IF($T$17=$S$15,'Baggrundsdata - BVT - deflator'!$C72,IF($S$17=$S$15,'Baggrundsdata - BVT - deflator'!$B72,\"*\"))))))))))),\"*\")","v":0.88977160166345082},{"$f":"IFERROR('Baggrundsdata - BVT - deflator'!E72/IF($AC$17=$S$15,$L72,IF($AB$17=$S$15,$K72,IF($AA$17=$S$15,$J72,IF($Z$17=$S$15,$I72,IF($Y$17=$S$15,'Baggrundsdata - BVT - deflator'!$H72,IF($X$17=$S$15,'Baggrundsdata - BVT - deflator'!$G72,IF($S$15=$W$17,'Baggrundsdata - BVT - deflator'!$F72,IF($V$17=$S$15,'Baggrundsdata - BVT - deflator'!$E72,IF($U$17=$S$15,'Baggrundsdata - BVT - deflator'!$D72,IF($T$17=$S$15,'Baggrundsdata - BVT - deflator'!$C72,IF($S$17=$S$15,'Baggrundsdata - BVT - deflator'!$B72,\"*\"))))))))))),\"*\")","v":0.91950850677247253},{"$f":"IFERROR('Baggrundsdata - BVT - deflator'!F72/IF($AC$17=$S$15,$L72,IF($AB$17=$S$15,$K72,IF($AA$17=$S$15,$J72,IF($Z$17=$S$15,$I72,IF($Y$17=$S$15,'Baggrundsdata - BVT - deflator'!$H72,IF($X$17=$S$15,'Baggrundsdata - BVT - deflator'!$G72,IF($S$15=$W$17,'Baggrundsdata - BVT - deflator'!$F72,IF($V$17=$S$15,'Baggrundsdata - BVT - deflator'!$E72,IF($U$17=$S$15,'Baggrundsdata - BVT - deflator'!$D72,IF($T$17=$S$15,'Baggrundsdata - BVT - deflator'!$C72,IF($S$17=$S$15,'Baggrundsdata - BVT - deflator'!$B72,\"*\"))))))))))),\"*\")","v":0.92443707236877304},{"$f":"IFERROR('Baggrundsdata - BVT - deflator'!G72/IF($AC$17=$S$15,$L72,IF($AB$17=$S$15,$K72,IF($AA$17=$S$15,$J72,IF($Z$17=$S$15,$I72,IF($Y$17=$S$15,'Baggrundsdata - BVT - deflator'!$H72,IF($X$17=$S$15,'Baggrundsdata - BVT - deflator'!$G72,IF($S$15=$W$17,'Baggrundsdata - BVT - deflator'!$F72,IF($V$17=$S$15,'Baggrundsdata - BVT - deflator'!$E72,IF($U$17=$S$15,'Baggrundsdata - BVT - deflator'!$D72,IF($T$17=$S$15,'Baggrundsdata - BVT - deflator'!$C72,IF($S$17=$S$15,'Baggrundsdata - BVT - deflator'!$B72,\"*\"))))))))))),\"*\")","v":0.95184762095566045},{"$f":"IFERROR('Baggrundsdata - BVT - deflator'!H72/IF($AC$17=$S$15,$L72,IF($AB$17=$S$15,$K72,IF($AA$17=$S$15,$J72,IF($Z$17=$S$15,$I72,IF($Y$17=$S$15,'Baggrundsdata - BVT - deflator'!$H72,IF($X$17=$S$15,'Baggrundsdata - BVT - deflator'!$G72,IF($S$15=$W$17,'Baggrundsdata - BVT - deflator'!$F72,IF($V$17=$S$15,'Baggrundsdata - BVT - deflator'!$E72,IF($U$17=$S$15,'Baggrundsdata - BVT - deflator'!$D72,IF($T$17=$S$15,'Baggrundsdata - BVT - deflator'!$C72,IF($S$17=$S$15,'Baggrundsdata - BVT - deflator'!$B72,\"*\"))))))))))),\"*\")","v":0.9660724175554305},{"$f":"IFERROR('Baggrundsdata - BVT - deflator'!I72/IF($AC$17=$S$15,$L72,IF($AB$17=$S$15,$K72,IF($AA$17=$S$15,$J72,IF($Z$17=$S$15,$I72,IF($Y$17=$S$15,'Baggrundsdata - BVT - deflator'!$H72,IF($X$17=$S$15,'Baggrundsdata - BVT - deflator'!$G72,IF($S$15=$W$17,'Baggrundsdata - BVT - deflator'!$F72,IF($V$17=$S$15,'Baggrundsdata - BVT - deflator'!$E72,IF($U$17=$S$15,'Baggrundsdata - BVT - deflator'!$D72,IF($T$17=$S$15,'Baggrundsdata - BVT - deflator'!$C72,IF($S$17=$S$15,'Baggrundsdata - BVT - deflator'!$B72,\"*\"))))))))))),\"*\")","v":0.97533186821862938},{"$f":"IFERROR('Baggrundsdata - BVT - deflator'!J72/IF($AC$17=$S$15,$L72,IF($AB$17=$S$15,$K72,IF($AA$17=$S$15,$J72,IF($Z$17=$S$15,$I72,IF($Y$17=$S$15,'Baggrundsdata - BVT - deflator'!$H72,IF($X$17=$S$15,'Baggrundsdata - BVT - deflator'!$G72,IF($S$15=$W$17,'Baggrundsdata - BVT - deflator'!$F72,IF($V$17=$S$15,'Baggrundsdata - BVT - deflator'!$E72,IF($U$17=$S$15,'Baggrundsdata - BVT - deflator'!$D72,IF($T$17=$S$15,'Baggrundsdata - BVT - deflator'!$C72,IF($S$17=$S$15,'Baggrundsdata - BVT - deflator'!$B72,\"*\"))))))))))),\"*\")","v":0.98758891661390646},{"$f":"IFERROR('Baggrundsdata - BVT - deflator'!K72/IF($AC$17=$S$15,$L72,IF($AB$17=$S$15,$K72,IF($AA$17=$S$15,$J72,IF($Z$17=$S$15,$I72,IF($Y$17=$S$15,'Baggrundsdata - BVT - deflator'!$H72,IF($X$17=$S$15,'Baggrundsdata - BVT - deflator'!$G72,IF($S$15=$W$17,'Baggrundsdata - BVT - deflator'!$F72,IF($V$17=$S$15,'Baggrundsdata - BVT - deflator'!$E72,IF($U$17=$S$15,'Baggrundsdata - BVT - deflator'!$D72,IF($T$17=$S$15,'Baggrundsdata - BVT - deflator'!$C72,IF($S$17=$S$15,'Baggrundsdata - BVT - deflator'!$B72,\"*\"))))))))))),\"*\")","v":1},{"$f":"IFERROR('Baggrundsdata - BVT - deflator'!L72/IF($AC$17=$S$15,$L72,IF($AB$17=$S$15,$K72,IF($AA$17=$S$15,$J72,IF($Z$17=$S$15,$I72,IF($Y$17=$S$15,'Baggrundsdata - BVT - deflator'!$H72,IF($X$17=$S$15,'Baggrundsdata - BVT - deflator'!$G72,IF($S$15=$W$17,'Baggrundsdata - BVT - deflator'!$F72,IF($V$17=$S$15,'Baggrundsdata - BVT - deflator'!$E72,IF($U$17=$S$15,'Baggrundsdata - BVT - deflator'!$D72,IF($T$17=$S$15,'Baggrundsdata - BVT - deflator'!$C72,IF($S$17=$S$15,'Baggrundsdata - BVT - deflator'!$B72,\"*\"))))))))))),\"*\")","v":0},null,{"$f":"IF(R20=Forside!B41,\"sand\",\"falsk\")","v":"sand"}]
[null,"Czech Republic",{"$f":"IFERROR('Baggrundsdata - BVT - deflator'!B71/IF($M$17=$C$15,$L71,IF($L$17=$C$15,$K71,IF($K$17=$C$15,$J71,IF($J$17=$C$15,$I71,IF($I$17=$C$15,'Baggrundsdata - BVT - deflator'!$H71,IF($H$17=$C$15,'Baggrundsdata - BVT - deflator'!$G71,IF($C$15=$G$17,'Baggrundsdata - BVT - deflator'!$F71,IF($F$17=$C$15,'Baggrundsdata - BVT - deflator'!$E71,IF($E$17=$C$15,'Baggrundsdata - BVT - deflator'!$D71,IF($D$17=$C$15,'Baggrundsdata - BVT - deflator'!$C71,IF('Baggrundsdata - BVT - deflator'!$C$17='Baggrundsdata - BVT - deflator'!$C$15,'Baggrundsdata - BVT - deflator'!$B71,\"*\"))))))))))),\"*\")","v":0.8991362630149714},{"$f":"IFERROR('Baggrundsdata - BVT - deflator'!C71/IF($M$17=$C$15,$L71,IF($L$17=$C$15,$K71,IF($K$17=$C$15,$J71,IF($J$17=$C$15,$I71,IF($I$17=$C$15,'Baggrundsdata - BVT - deflator'!$H71,IF($H$17=$C$15,'Baggrundsdata - BVT - deflator'!$G71,IF($C$15=$G$17,'Baggrundsdata - BVT - deflator'!$F71,IF($F$17=$C$15,'Baggrundsdata - BVT - deflator'!$E71,IF($E$17=$C$15,'Baggrundsdata - BVT - deflator'!$D71,IF($D$17=$C$15,'Baggrundsdata - BVT - deflator'!$C71,IF('Baggrundsdata - BVT - deflator'!$C$17='Baggrundsdata - BVT - deflator'!$C$15,'Baggrundsdata - BVT - deflator'!$B71,\"*\"))))))))))),\"*\")","v":1.014432185518944},{"$f":"IFERROR('Baggrundsdata - BVT - deflator'!D71/IF($M$17=$C$15,$L71,IF($L$17=$C$15,$K71,IF($K$17=$C$15,$J71,IF($J$17=$C$15,$I71,IF($I$17=$C$15,'Baggrundsdata - BVT - deflator'!$H71,IF($H$17=$C$15,'Baggrundsdata - BVT - deflator'!$G71,IF($C$15=$G$17,'Baggrundsdata - BVT - deflator'!$F71,IF($F$17=$C$15,'Baggrundsdata - BVT - deflator'!$E71,IF($E$17=$C$15,'Baggrundsdata - BVT - deflator'!$D71,IF($D$17=$C$15,'Baggrundsdata - BVT - deflator'!$C71,IF('Baggrundsdata - BVT - deflator'!$C$17='Baggrundsdata - BVT - deflator'!$C$15,'Baggrundsdata - BVT - deflator'!$B71,\"*\"))))))))))),\"*\")","v":0.98683195985987893},{"$f":"IFERROR('Baggrundsdata - BVT - deflator'!E71/IF($M$17=$C$15,$L71,IF($L$17=$C$15,$K71,IF($K$17=$C$15,$J71,IF($J$17=$C$15,$I71,IF($I$17=$C$15,'Baggrundsdata - BVT - deflator'!$H71,IF($H$17=$C$15,'Baggrundsdata - BVT - deflator'!$G71,IF($C$15=$G$17,'Baggrundsdata - BVT - deflator'!$F71,IF($F$17=$C$15,'Baggrundsdata - BVT - deflator'!$E71,IF($E$17=$C$15,'Baggrundsdata - BVT - deflator'!$D71,IF($D$17=$C$15,'Baggrundsdata - BVT - deflator'!$C71,IF('Baggrundsdata - BVT - deflator'!$C$17='Baggrundsdata - BVT - deflator'!$C$15,'Baggrundsdata - BVT - deflator'!$B71,\"*\"))))))))))),\"*\")","v":1.0113677412629172},{"$f":"IFERROR('Baggrundsdata - BVT - deflator'!F71/IF($M$17=$C$15,$L71,IF($L$17=$C$15,$K71,IF($K$17=$C$15,$J71,IF($J$17=$C$15,$I71,IF($I$17=$C$15,'Baggrundsdata - BVT - deflator'!$H71,IF($H$17=$C$15,'Baggrundsdata - BVT - deflator'!$G71,IF($C$15=$G$17,'Baggrundsdata - BVT - deflator'!$F71,IF($F$17=$C$15,'Baggrundsdata - BVT - deflator'!$E71,IF($E$17=$C$15,'Baggrundsdata - BVT - deflator'!$D71,IF($D$17=$C$15,'Baggrundsdata - BVT - deflator'!$C71,IF('Baggrundsdata - BVT - deflator'!$C$17='Baggrundsdata - BVT - deflator'!$C$15,'Baggrundsdata - BVT - deflator'!$B71,\"*\"))))))))))),\"*\")","v":1.035104542150358},{"$f":"IFERROR('Baggrundsdata - BVT - deflator'!G71/IF($M$17=$C$15,$L71,IF($L$17=$C$15,$K71,IF($K$17=$C$15,$J71,IF($J$17=$C$15,$I71,IF($I$17=$C$15,'Baggrundsdata - BVT - deflator'!$H71,IF($H$17=$C$15,'Baggrundsdata - BVT - deflator'!$G71,IF($C$15=$G$17,'Baggrundsdata - BVT - deflator'!$F71,IF($F$17=$C$15,'Baggrundsdata - BVT - deflator'!$E71,IF($E$17=$C$15,'Baggrundsdata - BVT - deflator'!$D71,IF($D$17=$C$15,'Baggrundsdata - BVT - deflator'!$C71,IF('Baggrundsdata - BVT - deflator'!$C$17='Baggrundsdata - BVT - deflator'!$C$15,'Baggrundsdata - BVT - deflator'!$B71,\"*\"))))))))))),\"*\")","v":1.0211780083531676},{"$f":"IFERROR('Baggrundsdata - BVT - deflator'!H71/IF($M$17=$C$15,$L71,IF($L$17=$C$15,$K71,IF($K$17=$C$15,$J71,IF($J$17=$C$15,$I71,IF($I$17=$C$15,'Baggrundsdata - BVT - deflator'!$H71,IF($H$17=$C$15,'Baggrundsdata - BVT - deflator'!$G71,IF($C$15=$G$17,'Baggrundsdata - BVT - deflator'!$F71,IF($F$17=$C$15,'Baggrundsdata - BVT - deflator'!$E71,IF($E$17=$C$15,'Baggrundsdata - BVT - deflator'!$D71,IF($D$17=$C$15,'Baggrundsdata - BVT - deflator'!$C71,IF('Baggrundsdata - BVT - deflator'!$C$17='Baggrundsdata - BVT - deflator'!$C$15,'Baggrundsdata - BVT - deflator'!$B71,\"*\"))))))))))),\"*\")","v":0.99857393933594141},{"$f":"IFERROR('Baggrundsdata - BVT - deflator'!I71/IF($M$17=$C$15,$L71,IF($L$17=$C$15,$K71,IF($K$17=$C$15,$J71,IF($J$17=$C$15,$I71,IF($I$17=$C$15,'Baggrundsdata - BVT - deflator'!$H71,IF($H$17=$C$15,'Baggrundsdata - BVT - deflator'!$G71,IF($C$15=$G$17,'Baggrundsdata - BVT - deflator'!$F71,IF($F$17=$C$15,'Baggrundsdata - BVT - deflator'!$E71,IF($E$17=$C$15,'Baggrundsdata - BVT - deflator'!$D71,IF($D$17=$C$15,'Baggrundsdata - BVT - deflator'!$C71,IF('Baggrundsdata - BVT - deflator'!$C$17='Baggrundsdata - BVT - deflator'!$C$15,'Baggrundsdata - BVT - deflator'!$B71,\"*\"))))))))))),\"*\")","v":0.967221539356791},{"$f":"IFERROR('Baggrundsdata - BVT - deflator'!J71/IF($M$17=$C$15,$L71,IF($L$17=$C$15,$K71,IF($K$17=$C$15,$J71,IF($J$17=$C$15,$I71,IF($I$17=$C$15,'Baggrundsdata - BVT - deflator'!$H71,IF($H$17=$C$15,'Baggrundsdata - BVT - deflator'!$G71,IF($C$15=$G$17,'Baggrundsdata - BVT - deflator'!$F71,IF($F$17=$C$15,'Baggrundsdata - BVT - deflator'!$E71,IF($E$17=$C$15,'Baggrundsdata - BVT - deflator'!$D71,IF($D$17=$C$15,'Baggrundsdata - BVT - deflator'!$C71,IF('Baggrundsdata - BVT - deflator'!$C$17='Baggrundsdata - BVT - deflator'!$C$15,'Baggrundsdata - BVT - deflator'!$B71,\"*\"))))))))))),\"*\")","v":0.98347421895888609},{"$f":"IFERROR('Baggrundsdata - BVT - deflator'!K71/IF($M$17=$C$15,$L71,IF($L$17=$C$15,$K71,IF($K$17=$C$15,$J71,IF($J$17=$C$15,$I71,IF($I$17=$C$15,'Baggrundsdata - BVT - deflator'!$H71,IF($H$17=$C$15,'Baggrundsdata - BVT - deflator'!$G71,IF($C$15=$G$17,'Baggrundsdata - BVT - deflator'!$F71,IF($F$17=$C$15,'Baggrundsdata - BVT - deflator'!$E71,IF($E$17=$C$15,'Baggrundsdata - BVT - deflator'!$D71,IF($D$17=$C$15,'Baggrundsdata - BVT - deflator'!$C71,IF('Baggrundsdata - BVT - deflator'!$C$17='Baggrundsdata - BVT - deflator'!$C$15,'Baggrundsdata - BVT - deflator'!$B71,\"*\"))))))))))),\"*\")","v":1},{"$f":"IFERROR('Baggrundsdata - BVT - deflator'!L71/IF($M$17=$C$15,$L71,IF($L$17=$C$15,$K71,IF($K$17=$C$15,$J71,IF($J$17=$C$15,$I71,IF($I$17=$C$15,'Baggrundsdata - BVT - deflator'!$H71,IF($H$17=$C$15,'Baggrundsdata - BVT - deflator'!$G71,IF($C$15=$G$17,'Baggrundsdata - BVT - deflator'!$F71,IF($F$17=$C$15,'Baggrundsdata - BVT - deflator'!$E71,IF($E$17=$C$15,'Baggrundsdata - BVT - deflator'!$D71,IF($D$17=$C$15,'Baggrundsdata - BVT - deflator'!$C71,IF('Baggrundsdata - BVT - deflator'!$C$17='Baggrundsdata - BVT - deflator'!$C$15,'Baggrundsdata - BVT - deflator'!$B71,\"*\"))))))))))),\"*\")","v":0},null,{"$f":"IF(A71='Level 1'!A54,\"sand\",\"falsk\")","v":"sand"},null,null,"Tyskland",{"$f":"IFERROR('Baggrundsdata - BVT - deflator'!B73/IF($AC$17=$S$15,$L73,IF($AB$17=$S$15,$K73,IF($AA$17=$S$15,$J73,IF($Z$17=$S$15,$I73,IF($Y$17=$S$15,'Baggrundsdata - BVT - deflator'!$H73,IF($X$17=$S$15,'Baggrundsdata - BVT - deflator'!$G73,IF($S$15=$W$17,'Baggrundsdata - BVT - deflator'!$F73,IF($V$17=$S$15,'Baggrundsdata - BVT - deflator'!$E73,IF($U$17=$S$15,'Baggrundsdata - BVT - deflator'!$D73,IF($T$17=$S$15,'Baggrundsdata - BVT - deflator'!$C73,IF($S$17=$S$15,'Baggrundsdata - BVT - deflator'!$B73,\"*\"))))))))))),\"*\")","v":0.86568776995529162},{"$f":"IFERROR('Baggrundsdata - BVT - deflator'!C73/IF($AC$17=$S$15,$L73,IF($AB$17=$S$15,$K73,IF($AA$17=$S$15,$J73,IF($Z$17=$S$15,$I73,IF($Y$17=$S$15,'Baggrundsdata - BVT - deflator'!$H73,IF($X$17=$S$15,'Baggrundsdata - BVT - deflator'!$G73,IF($S$15=$W$17,'Baggrundsdata - BVT - deflator'!$F73,IF($V$17=$S$15,'Baggrundsdata - BVT - deflator'!$E73,IF($U$17=$S$15,'Baggrundsdata - BVT - deflator'!$D73,IF($T$17=$S$15,'Baggrundsdata - BVT - deflator'!$C73,IF($S$17=$S$15,'Baggrundsdata - BVT - deflator'!$B73,\"*\"))))))))))),\"*\")","v":0.87190805513641911},{"$f":"IFERROR('Baggrundsdata - BVT - deflator'!D73/IF($AC$17=$S$15,$L73,IF($AB$17=$S$15,$K73,IF($AA$17=$S$15,$J73,IF($Z$17=$S$15,$I73,IF($Y$17=$S$15,'Baggrundsdata - BVT - deflator'!$H73,IF($X$17=$S$15,'Baggrundsdata - BVT - deflator'!$G73,IF($S$15=$W$17,'Baggrundsdata - BVT - deflator'!$F73,IF($V$17=$S$15,'Baggrundsdata - BVT - deflator'!$E73,IF($U$17=$S$15,'Baggrundsdata - BVT - deflator'!$D73,IF($T$17=$S$15,'Baggrundsdata - BVT - deflator'!$C73,IF($S$17=$S$15,'Baggrundsdata - BVT - deflator'!$B73,\"*\"))))))))))),\"*\")","v":0.88963541910860777},{"$f":"IFERROR('Baggrundsdata - BVT - deflator'!E73/IF($AC$17=$S$15,$L73,IF($AB$17=$S$15,$K73,IF($AA$17=$S$15,$J73,IF($Z$17=$S$15,$I73,IF($Y$17=$S$15,'Baggrundsdata - BVT - deflator'!$H73,IF($X$17=$S$15,'Baggrundsdata - BVT - deflator'!$G73,IF($S$15=$W$17,'Baggrundsdata - BVT - deflator'!$F73,IF($V$17=$S$15,'Baggrundsdata - BVT - deflator'!$E73,IF($U$17=$S$15,'Baggrundsdata - BVT - deflator'!$D73,IF($T$17=$S$15,'Baggrundsdata - BVT - deflator'!$C73,IF($S$17=$S$15,'Baggrundsdata - BVT - deflator'!$B73,\"*\"))))))))))),\"*\")","v":0.89758804922473889},{"$f":"IFERROR('Baggrundsdata - BVT - deflator'!F73/IF($AC$17=$S$15,$L73,IF($AB$17=$S$15,$K73,IF($AA$17=$S$15,$J73,IF($Z$17=$S$15,$I73,IF($Y$17=$S$15,'Baggrundsdata - BVT - deflator'!$H73,IF($X$17=$S$15,'Baggrundsdata - BVT - deflator'!$G73,IF($S$15=$W$17,'Baggrundsdata - BVT - deflator'!$F73,IF($V$17=$S$15,'Baggrundsdata - BVT - deflator'!$E73,IF($U$17=$S$15,'Baggrundsdata - BVT - deflator'!$D73,IF($T$17=$S$15,'Baggrundsdata - BVT - deflator'!$C73,IF($S$17=$S$15,'Baggrundsdata - BVT - deflator'!$B73,\"*\"))))))))))),\"*\")","v":0.90644724327058701},{"$f":"IFERROR('Baggrundsdata - BVT - deflator'!G73/IF($AC$17=$S$15,$L73,IF($AB$17=$S$15,$K73,IF($AA$17=$S$15,$J73,IF($Z$17=$S$15,$I73,IF($Y$17=$S$15,'Baggrundsdata - BVT - deflator'!$H73,IF($X$17=$S$15,'Baggrundsdata - BVT - deflator'!$G73,IF($S$15=$W$17,'Baggrundsdata - BVT - deflator'!$F73,IF($V$17=$S$15,'Baggrundsdata - BVT - deflator'!$E73,IF($U$17=$S$15,'Baggrundsdata - BVT - deflator'!$D73,IF($T$17=$S$15,'Baggrundsdata - BVT - deflator'!$C73,IF($S$17=$S$15,'Baggrundsdata - BVT - deflator'!$B73,\"*\"))))))))))),\"*\")","v":0.91930070413548526},{"$f":"IFERROR('Baggrundsdata - BVT - deflator'!H73/IF($AC$17=$S$15,$L73,IF($AB$17=$S$15,$K73,IF($AA$17=$S$15,$J73,IF($Z$17=$S$15,$I73,IF($Y$17=$S$15,'Baggrundsdata - BVT - deflator'!$H73,IF($X$17=$S$15,'Baggrundsdata - BVT - deflator'!$G73,IF($S$15=$W$17,'Baggrundsdata - BVT - deflator'!$F73,IF($V$17=$S$15,'Baggrundsdata - BVT - deflator'!$E73,IF($U$17=$S$15,'Baggrundsdata - BVT - deflator'!$D73,IF($T$17=$S$15,'Baggrundsdata - BVT - deflator'!$C73,IF($S$17=$S$15,'Baggrundsdata - BVT - deflator'!$B73,\"*\"))))))))))),\"*\")","v":0.93943360407959631},{"$f":"IFERROR('Baggrundsdata - BVT - deflator'!I73/IF($AC$17=$S$15,$L73,IF($AB$17=$S$15,$K73,IF($AA$17=$S$15,$J73,IF($Z$17=$S$15,$I73,IF($Y$17=$S$15,'Baggrundsdata - BVT - deflator'!$H73,IF($X$17=$S$15,'Baggrundsdata - BVT - deflator'!$G73,IF($S$15=$W$17,'Baggrundsdata - BVT - deflator'!$F73,IF($V$17=$S$15,'Baggrundsdata - BVT - deflator'!$E73,IF($U$17=$S$15,'Baggrundsdata - BVT - deflator'!$D73,IF($T$17=$S$15,'Baggrundsdata - BVT - deflator'!$C73,IF($S$17=$S$15,'Baggrundsdata - BVT - deflator'!$B73,\"*\"))))))))))),\"*\")","v":0.95698145044193994},{"$f":"IFERROR('Baggrundsdata - BVT - deflator'!J73/IF($AC$17=$S$15,$L73,IF($AB$17=$S$15,$K73,IF($AA$17=$S$15,$J73,IF($Z$17=$S$15,$I73,IF($Y$17=$S$15,'Baggrundsdata - BVT - deflator'!$H73,IF($X$17=$S$15,'Baggrundsdata - BVT - deflator'!$G73,IF($S$15=$W$17,'Baggrundsdata - BVT - deflator'!$F73,IF($V$17=$S$15,'Baggrundsdata - BVT - deflator'!$E73,IF($U$17=$S$15,'Baggrundsdata - BVT - deflator'!$D73,IF($T$17=$S$15,'Baggrundsdata - BVT - deflator'!$C73,IF($S$17=$S$15,'Baggrundsdata - BVT - deflator'!$B73,\"*\"))))))))))),\"*\")","v":0.97825428720856611},{"$f":"IFERROR('Baggrundsdata - BVT - deflator'!K73/IF($AC$17=$S$15,$L73,IF($AB$17=$S$15,$K73,IF($AA$17=$S$15,$J73,IF($Z$17=$S$15,$I73,IF($Y$17=$S$15,'Baggrundsdata - BVT - deflator'!$H73,IF($X$17=$S$15,'Baggrundsdata - BVT - deflator'!$G73,IF($S$15=$W$17,'Baggrundsdata - BVT - deflator'!$F73,IF($V$17=$S$15,'Baggrundsdata - BVT - deflator'!$E73,IF($U$17=$S$15,'Baggrundsdata - BVT - deflator'!$D73,IF($T$17=$S$15,'Baggrundsdata - BVT - deflator'!$C73,IF($S$17=$S$15,'Baggrundsdata - BVT - deflator'!$B73,\"*\"))))))))))),\"*\")","v":1},{"$f":"IFERROR('Baggrundsdata - BVT - deflator'!L73/IF($AC$17=$S$15,$L73,IF($AB$17=$S$15,$K73,IF($AA$17=$S$15,$J73,IF($Z$17=$S$15,$I73,IF($Y$17=$S$15,'Baggrundsdata - BVT - deflator'!$H73,IF($X$17=$S$15,'Baggrundsdata - BVT - deflator'!$G73,IF($S$15=$W$17,'Baggrundsdata - BVT - deflator'!$F73,IF($V$17=$S$15,'Baggrundsdata - BVT - deflator'!$E73,IF($U$17=$S$15,'Baggrundsdata - BVT - deflator'!$D73,IF($T$17=$S$15,'Baggrundsdata - BVT - deflator'!$C73,IF($S$17=$S$15,'Baggrundsdata - BVT - deflator'!$B73,\"*\"))))))))))),\"*\")","v":0},null,{"$f":"IF(R21=Forside!B42,\"sand\",\"falsk\")","v":"sand"}]
[null,"Denmark",{"$f":"IFERROR('Baggrundsdata - BVT - deflator'!B72/IF($M$17=$C$15,$L72,IF($L$17=$C$15,$K72,IF($K$17=$C$15,$J72,IF($J$17=$C$15,$I72,IF($I$17=$C$15,'Baggrundsdata - BVT - deflator'!$H72,IF($H$17=$C$15,'Baggrundsdata - BVT - deflator'!$G72,IF($C$15=$G$17,'Baggrundsdata - BVT - deflator'!$F72,IF($F$17=$C$15,'Baggrundsdata - BVT - deflator'!$E72,IF($E$17=$C$15,'Baggrundsdata - BVT - deflator'!$D72,IF($D$17=$C$15,'Baggrundsdata - BVT - deflator'!$C72,IF('Baggrundsdata - BVT - deflator'!$C$17='Baggrundsdata - BVT - deflator'!$C$15,'Baggrundsdata - BVT - deflator'!$B72,\"*\"))))))))))),\"*\")","v":0.8450283177239023},{"$f":"IFERROR('Baggrundsdata - BVT - deflator'!C72/IF($M$17=$C$15,$L72,IF($L$17=$C$15,$K72,IF($K$17=$C$15,$J72,IF($J$17=$C$15,$I72,IF($I$17=$C$15,'Baggrundsdata - BVT - deflator'!$H72,IF($H$17=$C$15,'Baggrundsdata - BVT - deflator'!$G72,IF($C$15=$G$17,'Baggrundsdata - BVT - deflator'!$F72,IF($F$17=$C$15,'Baggrundsdata - BVT - deflator'!$E72,IF($E$17=$C$15,'Baggrundsdata - BVT - deflator'!$D72,IF($D$17=$C$15,'Baggrundsdata - BVT - deflator'!$C72,IF('Baggrundsdata - BVT - deflator'!$C$17='Baggrundsdata - BVT - deflator'!$C$15,'Baggrundsdata - BVT - deflator'!$B72,\"*\"))))))))))),\"*\")","v":0.88429133096308687},{"$f":"IFERROR('Baggrundsdata - BVT - deflator'!D72/IF($M$17=$C$15,$L72,IF($L$17=$C$15,$K72,IF($K$17=$C$15,$J72,IF($J$17=$C$15,$I72,IF($I$17=$C$15,'Baggrundsdata - BVT - deflator'!$H72,IF($H$17=$C$15,'Baggrundsdata - BVT - deflator'!$G72,IF($C$15=$G$17,'Baggrundsdata - BVT - deflator'!$F72,IF($F$17=$C$15,'Baggrundsdata - BVT - deflator'!$E72,IF($E$17=$C$15,'Baggrundsdata - BVT - deflator'!$D72,IF($D$17=$C$15,'Baggrundsdata - BVT - deflator'!$C72,IF('Baggrundsdata - BVT - deflator'!$C$17='Baggrundsdata - BVT - deflator'!$C$15,'Baggrundsdata - BVT - deflator'!$B72,\"*\"))))))))))),\"*\")","v":0.88977160166345082},{"$f":"IFERROR('Baggrundsdata - BVT - deflator'!E72/IF($M$17=$C$15,$L72,IF($L$17=$C$15,$K72,IF($K$17=$C$15,$J72,IF($J$17=$C$15,$I72,IF($I$17=$C$15,'Baggrundsdata - BVT - deflator'!$H72,IF($H$17=$C$15,'Baggrundsdata - BVT - deflator'!$G72,IF($C$15=$G$17,'Baggrundsdata - BVT - deflator'!$F72,IF($F$17=$C$15,'Baggrundsdata - BVT - deflator'!$E72,IF($E$17=$C$15,'Baggrundsdata - BVT - deflator'!$D72,IF($D$17=$C$15,'Baggrundsdata - BVT - deflator'!$C72,IF('Baggrundsdata - BVT - deflator'!$C$17='Baggrundsdata - BVT - deflator'!$C$15,'Baggrundsdata - BVT - deflator'!$B72,\"*\"))))))))))),\"*\")","v":0.91950850677247253},{"$f":"IFERROR('Baggrundsdata - BVT - deflator'!F72/IF($M$17=$C$15,$L72,IF($L$17=$C$15,$K72,IF($K$17=$C$15,$J72,IF($J$17=$C$15,$I72,IF($I$17=$C$15,'Baggrundsdata - BVT - deflator'!$H72,IF($H$17=$C$15,'Baggrundsdata - BVT - deflator'!$G72,IF($C$15=$G$17,'Baggrundsdata - BVT - deflator'!$F72,IF($F$17=$C$15,'Baggrundsdata - BVT - deflator'!$E72,IF($E$17=$C$15,'Baggrundsdata - BVT - deflator'!$D72,IF($D$17=$C$15,'Baggrundsdata - BVT - deflator'!$C72,IF('Baggrundsdata - BVT - deflator'!$C$17='Baggrundsdata - BVT - deflator'!$C$15,'Baggrundsdata - BVT - deflator'!$B72,\"*\"))))))))))),\"*\")","v":0.92443707236877304},{"$f":"IFERROR('Baggrundsdata - BVT - deflator'!G72/IF($M$17=$C$15,$L72,IF($L$17=$C$15,$K72,IF($K$17=$C$15,$J72,IF($J$17=$C$15,$I72,IF($I$17=$C$15,'Baggrundsdata - BVT - deflator'!$H72,IF($H$17=$C$15,'Baggrundsdata - BVT - deflator'!$G72,IF($C$15=$G$17,'Baggrundsdata - BVT - deflator'!$F72,IF($F$17=$C$15,'Baggrundsdata - BVT - deflator'!$E72,IF($E$17=$C$15,'Baggrundsdata - BVT - deflator'!$D72,IF($D$17=$C$15,'Baggrundsdata - BVT - deflator'!$C72,IF('Baggrundsdata - BVT - deflator'!$C$17='Baggrundsdata - BVT - deflator'!$C$15,'Baggrundsdata - BVT - deflator'!$B72,\"*\"))))))))))),\"*\")","v":0.95184762095566045},{"$f":"IFERROR('Baggrundsdata - BVT - deflator'!H72/IF($M$17=$C$15,$L72,IF($L$17=$C$15,$K72,IF($K$17=$C$15,$J72,IF($J$17=$C$15,$I72,IF($I$17=$C$15,'Baggrundsdata - BVT - deflator'!$H72,IF($H$17=$C$15,'Baggrundsdata - BVT - deflator'!$G72,IF($C$15=$G$17,'Baggrundsdata - BVT - deflator'!$F72,IF($F$17=$C$15,'Baggrundsdata - BVT - deflator'!$E72,IF($E$17=$C$15,'Baggrundsdata - BVT - deflator'!$D72,IF($D$17=$C$15,'Baggrundsdata - BVT - deflator'!$C72,IF('Baggrundsdata - BVT - deflator'!$C$17='Baggrundsdata - BVT - deflator'!$C$15,'Baggrundsdata - BVT - deflator'!$B72,\"*\"))))))))))),\"*\")","v":0.9660724175554305},{"$f":"IFERROR('Baggrundsdata - BVT - deflator'!I72/IF($M$17=$C$15,$L72,IF($L$17=$C$15,$K72,IF($K$17=$C$15,$J72,IF($J$17=$C$15,$I72,IF($I$17=$C$15,'Baggrundsdata - BVT - deflator'!$H72,IF($H$17=$C$15,'Baggrundsdata - BVT - deflator'!$G72,IF($C$15=$G$17,'Baggrundsdata - BVT - deflator'!$F72,IF($F$17=$C$15,'Baggrundsdata - BVT - deflator'!$E72,IF($E$17=$C$15,'Baggrundsdata - BVT - deflator'!$D72,IF($D$17=$C$15,'Baggrundsdata - BVT - deflator'!$C72,IF('Baggrundsdata - BVT - deflator'!$C$17='Baggrundsdata - BVT - deflator'!$C$15,'Baggrundsdata - BVT - deflator'!$B72,\"*\"))))))))))),\"*\")","v":0.97533186821862938},{"$f":"IFERROR('Baggrundsdata - BVT - deflator'!J72/IF($M$17=$C$15,$L72,IF($L$17=$C$15,$K72,IF($K$17=$C$15,$J72,IF($J$17=$C$15,$I72,IF($I$17=$C$15,'Baggrundsdata - BVT - deflator'!$H72,IF($H$17=$C$15,'Baggrundsdata - BVT - deflator'!$G72,IF($C$15=$G$17,'Baggrundsdata - BVT - deflator'!$F72,IF($F$17=$C$15,'Baggrundsdata - BVT - deflator'!$E72,IF($E$17=$C$15,'Baggrundsdata - BVT - deflator'!$D72,IF($D$17=$C$15,'Baggrundsdata - BVT - deflator'!$C72,IF('Baggrundsdata - BVT - deflator'!$C$17='Baggrundsdata - BVT - deflator'!$C$15,'Baggrundsdata - BVT - deflator'!$B72,\"*\"))))))))))),\"*\")","v":0.98758891661390646},{"$f":"IFERROR('Baggrundsdata - BVT - deflator'!K72/IF($M$17=$C$15,$L72,IF($L$17=$C$15,$K72,IF($K$17=$C$15,$J72,IF($J$17=$C$15,$I72,IF($I$17=$C$15,'Baggrundsdata - BVT - deflator'!$H72,IF($H$17=$C$15,'Baggrundsdata - BVT - deflator'!$G72,IF($C$15=$G$17,'Baggrundsdata - BVT - deflator'!$F72,IF($F$17=$C$15,'Baggrundsdata - BVT - deflator'!$E72,IF($E$17=$C$15,'Baggrundsdata - BVT - deflator'!$D72,IF($D$17=$C$15,'Baggrundsdata - BVT - deflator'!$C72,IF('Baggrundsdata - BVT - deflator'!$C$17='Baggrundsdata - BVT - deflator'!$C$15,'Baggrundsdata - BVT - deflator'!$B72,\"*\"))))))))))),\"*\")","v":1},{"$f":"IFERROR('Baggrundsdata - BVT - deflator'!L72/IF($M$17=$C$15,$L72,IF($L$17=$C$15,$K72,IF($K$17=$C$15,$J72,IF($J$17=$C$15,$I72,IF($I$17=$C$15,'Baggrundsdata - BVT - deflator'!$H72,IF($H$17=$C$15,'Baggrundsdata - BVT - deflator'!$G72,IF($C$15=$G$17,'Baggrundsdata - BVT - deflator'!$F72,IF($F$17=$C$15,'Baggrundsdata - BVT - deflator'!$E72,IF($E$17=$C$15,'Baggrundsdata - BVT - deflator'!$D72,IF($D$17=$C$15,'Baggrundsdata - BVT - deflator'!$C72,IF('Baggrundsdata - BVT - deflator'!$C$17='Baggrundsdata - BVT - deflator'!$C$15,'Baggrundsdata - BVT - deflator'!$B72,\"*\"))))))))))),\"*\")","v":0},null,{"$f":"IF(A72='Level 1'!A55,\"sand\",\"falsk\")","v":"sand"},null,null,"Frankrig",{"$f":"IFERROR('Baggrundsdata - BVT - deflator'!B78/IF($AC$17=$S$15,$L78,IF($AB$17=$S$15,$K78,IF($AA$17=$S$15,$J78,IF($Z$17=$S$15,$I78,IF($Y$17=$S$15,'Baggrundsdata - BVT - deflator'!$H78,IF($X$17=$S$15,'Baggrundsdata - BVT - deflator'!$G78,IF($S$15=$W$17,'Baggrundsdata - BVT - deflator'!$F78,IF($V$17=$S$15,'Baggrundsdata - BVT - deflator'!$E78,IF($U$17=$S$15,'Baggrundsdata - BVT - deflator'!$D78,IF($T$17=$S$15,'Baggrundsdata - BVT - deflator'!$C78,IF($S$17=$S$15,'Baggrundsdata - BVT - deflator'!$B78,\"*\"))))))))))),\"*\")","v":0.91927631678050314},{"$f":"IFERROR('Baggrundsdata - BVT - deflator'!C78/IF($AC$17=$S$15,$L78,IF($AB$17=$S$15,$K78,IF($AA$17=$S$15,$J78,IF($Z$17=$S$15,$I78,IF($Y$17=$S$15,'Baggrundsdata - BVT - deflator'!$H78,IF($X$17=$S$15,'Baggrundsdata - BVT - deflator'!$G78,IF($S$15=$W$17,'Baggrundsdata - BVT - deflator'!$F78,IF($V$17=$S$15,'Baggrundsdata - BVT - deflator'!$E78,IF($U$17=$S$15,'Baggrundsdata - BVT - deflator'!$D78,IF($T$17=$S$15,'Baggrundsdata - BVT - deflator'!$C78,IF($S$17=$S$15,'Baggrundsdata - BVT - deflator'!$B78,\"*\"))))))))))),\"*\")","v":0.94110916504091535},{"$f":"IFERROR('Baggrundsdata - BVT - deflator'!D78/IF($AC$17=$S$15,$L78,IF($AB$17=$S$15,$K78,IF($AA$17=$S$15,$J78,IF($Z$17=$S$15,$I78,IF($Y$17=$S$15,'Baggrundsdata - BVT - deflator'!$H78,IF($X$17=$S$15,'Baggrundsdata - BVT - deflator'!$G78,IF($S$15=$W$17,'Baggrundsdata - BVT - deflator'!$F78,IF($V$17=$S$15,'Baggrundsdata - BVT - deflator'!$E78,IF($U$17=$S$15,'Baggrundsdata - BVT - deflator'!$D78,IF($T$17=$S$15,'Baggrundsdata - BVT - deflator'!$C78,IF($S$17=$S$15,'Baggrundsdata - BVT - deflator'!$B78,\"*\"))))))))))),\"*\")","v":0.943777518385706},{"$f":"IFERROR('Baggrundsdata - BVT - deflator'!E78/IF($AC$17=$S$15,$L78,IF($AB$17=$S$15,$K78,IF($AA$17=$S$15,$J78,IF($Z$17=$S$15,$I78,IF($Y$17=$S$15,'Baggrundsdata - BVT - deflator'!$H78,IF($X$17=$S$15,'Baggrundsdata - BVT - deflator'!$G78,IF($S$15=$W$17,'Baggrundsdata - BVT - deflator'!$F78,IF($V$17=$S$15,'Baggrundsdata - BVT - deflator'!$E78,IF($U$17=$S$15,'Baggrundsdata - BVT - deflator'!$D78,IF($T$17=$S$15,'Baggrundsdata - BVT - deflator'!$C78,IF($S$17=$S$15,'Baggrundsdata - BVT - deflator'!$B78,\"*\"))))))))))),\"*\")","v":0.95298333742523367},{"$f":"IFERROR('Baggrundsdata - BVT - deflator'!F78/IF($AC$17=$S$15,$L78,IF($AB$17=$S$15,$K78,IF($AA$17=$S$15,$J78,IF($Z$17=$S$15,$I78,IF($Y$17=$S$15,'Baggrundsdata - BVT - deflator'!$H78,IF($X$17=$S$15,'Baggrundsdata - BVT - deflator'!$G78,IF($S$15=$W$17,'Baggrundsdata - BVT - deflator'!$F78,IF($V$17=$S$15,'Baggrundsdata - BVT - deflator'!$E78,IF($U$17=$S$15,'Baggrundsdata - BVT - deflator'!$D78,IF($T$17=$S$15,'Baggrundsdata - BVT - deflator'!$C78,IF($S$17=$S$15,'Baggrundsdata - BVT - deflator'!$B78,\"*\"))))))))))),\"*\")","v":0.95841534244855742},{"$f":"IFERROR('Baggrundsdata - BVT - deflator'!G78/IF($AC$17=$S$15,$L78,IF($AB$17=$S$15,$K78,IF($AA$17=$S$15,$J78,IF($Z$17=$S$15,$I78,IF($Y$17=$S$15,'Baggrundsdata - BVT - deflator'!$H78,IF($X$17=$S$15,'Baggrundsdata - BVT - deflator'!$G78,IF($S$15=$W$17,'Baggrundsdata - BVT - deflator'!$F78,IF($V$17=$S$15,'Baggrundsdata - BVT - deflator'!$E78,IF($U$17=$S$15,'Baggrundsdata - BVT - deflator'!$D78,IF($T$17=$S$15,'Baggrundsdata - BVT - deflator'!$C78,IF($S$17=$S$15,'Baggrundsdata - BVT - deflator'!$B78,\"*\"))))))))))),\"*\")","v":0.96677300631777685},{"$f":"IFERROR('Baggrundsdata - BVT - deflator'!H78/IF($AC$17=$S$15,$L78,IF($AB$17=$S$15,$K78,IF($AA$17=$S$15,$J78,IF($Z$17=$S$15,$I78,IF($Y$17=$S$15,'Baggrundsdata - BVT - deflator'!$H78,IF($X$17=$S$15,'Baggrundsdata - BVT - deflator'!$G78,IF($S$15=$W$17,'Baggrundsdata - BVT - deflator'!$F78,IF($V$17=$S$15,'Baggrundsdata - BVT - deflator'!$E78,IF($U$17=$S$15,'Baggrundsdata - BVT - deflator'!$D78,IF($T$17=$S$15,'Baggrundsdata - BVT - deflator'!$C78,IF($S$17=$S$15,'Baggrundsdata - BVT - deflator'!$B78,\"*\"))))))))))),\"*\")","v":0.97311034551165454},{"$f":"IFERROR('Baggrundsdata - BVT - deflator'!I78/IF($AC$17=$S$15,$L78,IF($AB$17=$S$15,$K78,IF($AA$17=$S$15,$J78,IF($Z$17=$S$15,$I78,IF($Y$17=$S$15,'Baggrundsdata - BVT - deflator'!$H78,IF($X$17=$S$15,'Baggrundsdata - BVT - deflator'!$G78,IF($S$15=$W$17,'Baggrundsdata - BVT - deflator'!$F78,IF($V$17=$S$15,'Baggrundsdata - BVT - deflator'!$E78,IF($U$17=$S$15,'Baggrundsdata - BVT - deflator'!$D78,IF($T$17=$S$15,'Baggrundsdata - BVT - deflator'!$C78,IF($S$17=$S$15,'Baggrundsdata - BVT - deflator'!$B78,\"*\"))))))))))),\"*\")","v":0.97574057952294835},{"$f":"IFERROR('Baggrundsdata - BVT - deflator'!J78/IF($AC$17=$S$15,$L78,IF($AB$17=$S$15,$K78,IF($AA$17=$S$15,$J78,IF($Z$17=$S$15,$I78,IF($Y$17=$S$15,'Baggrundsdata - BVT - deflator'!$H78,IF($X$17=$S$15,'Baggrundsdata - BVT - deflator'!$G78,IF($S$15=$W$17,'Baggrundsdata - BVT - deflator'!$F78,IF($V$17=$S$15,'Baggrundsdata - BVT - deflator'!$E78,IF($U$17=$S$15,'Baggrundsdata - BVT - deflator'!$D78,IF($T$17=$S$15,'Baggrundsdata - BVT - deflator'!$C78,IF($S$17=$S$15,'Baggrundsdata - BVT - deflator'!$B78,\"*\"))))))))))),\"*\")","v":0.98779581874137756},{"$f":"IFERROR('Baggrundsdata - BVT - deflator'!K78/IF($AC$17=$S$15,$L78,IF($AB$17=$S$15,$K78,IF($AA$17=$S$15,$J78,IF($Z$17=$S$15,$I78,IF($Y$17=$S$15,'Baggrundsdata - BVT - deflator'!$H78,IF($X$17=$S$15,'Baggrundsdata - BVT - deflator'!$G78,IF($S$15=$W$17,'Baggrundsdata - BVT - deflator'!$F78,IF($V$17=$S$15,'Baggrundsdata - BVT - deflator'!$E78,IF($U$17=$S$15,'Baggrundsdata - BVT - deflator'!$D78,IF($T$17=$S$15,'Baggrundsdata - BVT - deflator'!$C78,IF($S$17=$S$15,'Baggrundsdata - BVT - deflator'!$B78,\"*\"))))))))))),\"*\")","v":1},{"$f":"IFERROR('Baggrundsdata - BVT - deflator'!L78/IF($AC$17=$S$15,$L78,IF($AB$17=$S$15,$K78,IF($AA$17=$S$15,$J78,IF($Z$17=$S$15,$I78,IF($Y$17=$S$15,'Baggrundsdata - BVT - deflator'!$H78,IF($X$17=$S$15,'Baggrundsdata - BVT - deflator'!$G78,IF($S$15=$W$17,'Baggrundsdata - BVT - deflator'!$F78,IF($V$17=$S$15,'Baggrundsdata - BVT - deflator'!$E78,IF($U$17=$S$15,'Baggrundsdata - BVT - deflator'!$D78,IF($T$17=$S$15,'Baggrundsdata - BVT - deflator'!$C78,IF($S$17=$S$15,'Baggrundsdata - BVT - deflator'!$B78,\"*\"))))))))))),\"*\")","v":0},null,{"$f":"IF(R22=Forside!B43,\"sand\",\"falsk\")","v":"sand"}]
[null,"Germany (until 1990 former territory of the FRG)",{"$f":"IFERROR('Baggrundsdata - BVT - deflator'!B73/IF($M$17=$C$15,$L73,IF($L$17=$C$15,$K73,IF($K$17=$C$15,$J73,IF($J$17=$C$15,$I73,IF($I$17=$C$15,'Baggrundsdata - BVT - deflator'!$H73,IF($H$17=$C$15,'Baggrundsdata - BVT - deflator'!$G73,IF($C$15=$G$17,'Baggrundsdata - BVT - deflator'!$F73,IF($F$17=$C$15,'Baggrundsdata - BVT - deflator'!$E73,IF($E$17=$C$15,'Baggrundsdata - BVT - deflator'!$D73,IF($D$17=$C$15,'Baggrundsdata - BVT - deflator'!$C73,IF('Baggrundsdata - BVT - deflator'!$C$17='Baggrundsdata - BVT - deflator'!$C$15,'Baggrundsdata - BVT - deflator'!$B73,\"*\"))))))))))),\"*\")","v":0.86568776995529162},{"$f":"IFERROR('Baggrundsdata - BVT - deflator'!C73/IF($M$17=$C$15,$L73,IF($L$17=$C$15,$K73,IF($K$17=$C$15,$J73,IF($J$17=$C$15,$I73,IF($I$17=$C$15,'Baggrundsdata - BVT - deflator'!$H73,IF($H$17=$C$15,'Baggrundsdata - BVT - deflator'!$G73,IF($C$15=$G$17,'Baggrundsdata - BVT - deflator'!$F73,IF($F$17=$C$15,'Baggrundsdata - BVT - deflator'!$E73,IF($E$17=$C$15,'Baggrundsdata - BVT - deflator'!$D73,IF($D$17=$C$15,'Baggrundsdata - BVT - deflator'!$C73,IF('Baggrundsdata - BVT - deflator'!$C$17='Baggrundsdata - BVT - deflator'!$C$15,'Baggrundsdata - BVT - deflator'!$B73,\"*\"))))))))))),\"*\")","v":0.87190805513641911},{"$f":"IFERROR('Baggrundsdata - BVT - deflator'!D73/IF($M$17=$C$15,$L73,IF($L$17=$C$15,$K73,IF($K$17=$C$15,$J73,IF($J$17=$C$15,$I73,IF($I$17=$C$15,'Baggrundsdata - BVT - deflator'!$H73,IF($H$17=$C$15,'Baggrundsdata - BVT - deflator'!$G73,IF($C$15=$G$17,'Baggrundsdata - BVT - deflator'!$F73,IF($F$17=$C$15,'Baggrundsdata - BVT - deflator'!$E73,IF($E$17=$C$15,'Baggrundsdata - BVT - deflator'!$D73,IF($D$17=$C$15,'Baggrundsdata - BVT - deflator'!$C73,IF('Baggrundsdata - BVT - deflator'!$C$17='Baggrundsdata - BVT - deflator'!$C$15,'Baggrundsdata - BVT - deflator'!$B73,\"*\"))))))))))),\"*\")","v":0.88963541910860777},{"$f":"IFERROR('Baggrundsdata - BVT - deflator'!E73/IF($M$17=$C$15,$L73,IF($L$17=$C$15,$K73,IF($K$17=$C$15,$J73,IF($J$17=$C$15,$I73,IF($I$17=$C$15,'Baggrundsdata - BVT - deflator'!$H73,IF($H$17=$C$15,'Baggrundsdata - BVT - deflator'!$G73,IF($C$15=$G$17,'Baggrundsdata - BVT - deflator'!$F73,IF($F$17=$C$15,'Baggrundsdata - BVT - deflator'!$E73,IF($E$17=$C$15,'Baggrundsdata - BVT - deflator'!$D73,IF($D$17=$C$15,'Baggrundsdata - BVT - deflator'!$C73,IF('Baggrundsdata - BVT - deflator'!$C$17='Baggrundsdata - BVT - deflator'!$C$15,'Baggrundsdata - BVT - deflator'!$B73,\"*\"))))))))))),\"*\")","v":0.89758804922473889},{"$f":"IFERROR('Baggrundsdata - BVT - deflator'!F73/IF($M$17=$C$15,$L73,IF($L$17=$C$15,$K73,IF($K$17=$C$15,$J73,IF($J$17=$C$15,$I73,IF($I$17=$C$15,'Baggrundsdata - BVT - deflator'!$H73,IF($H$17=$C$15,'Baggrundsdata - BVT - deflator'!$G73,IF($C$15=$G$17,'Baggrundsdata - BVT - deflator'!$F73,IF($F$17=$C$15,'Baggrundsdata - BVT - deflator'!$E73,IF($E$17=$C$15,'Baggrundsdata - BVT - deflator'!$D73,IF($D$17=$C$15,'Baggrundsdata - BVT - deflator'!$C73,IF('Baggrundsdata - BVT - deflator'!$C$17='Baggrundsdata - BVT - deflator'!$C$15,'Baggrundsdata - BVT - deflator'!$B73,\"*\"))))))))))),\"*\")","v":0.90644724327058701},{"$f":"IFERROR('Baggrundsdata - BVT - deflator'!G73/IF($M$17=$C$15,$L73,IF($L$17=$C$15,$K73,IF($K$17=$C$15,$J73,IF($J$17=$C$15,$I73,IF($I$17=$C$15,'Baggrundsdata - BVT - deflator'!$H73,IF($H$17=$C$15,'Baggrundsdata - BVT - deflator'!$G73,IF($C$15=$G$17,'Baggrundsdata - BVT - deflator'!$F73,IF($F$17=$C$15,'Baggrundsdata - BVT - deflator'!$E73,IF($E$17=$C$15,'Baggrundsdata - BVT - deflator'!$D73,IF($D$17=$C$15,'Baggrundsdata - BVT - deflator'!$C73,IF('Baggrundsdata - BVT - deflator'!$C$17='Baggrundsdata - BVT - deflator'!$C$15,'Baggrundsdata - BVT - deflator'!$B73,\"*\"))))))))))),\"*\")","v":0.91930070413548526},{"$f":"IFERROR('Baggrundsdata - BVT - deflator'!H73/IF($M$17=$C$15,$L73,IF($L$17=$C$15,$K73,IF($K$17=$C$15,$J73,IF($J$17=$C$15,$I73,IF($I$17=$C$15,'Baggrundsdata - BVT - deflator'!$H73,IF($H$17=$C$15,'Baggrundsdata - BVT - deflator'!$G73,IF($C$15=$G$17,'Baggrundsdata - BVT - deflator'!$F73,IF($F$17=$C$15,'Baggrundsdata - BVT - deflator'!$E73,IF($E$17=$C$15,'Baggrundsdata - BVT - deflator'!$D73,IF($D$17=$C$15,'Baggrundsdata - BVT - deflator'!$C73,IF('Baggrundsdata - BVT - deflator'!$C$17='Baggrundsdata - BVT - deflator'!$C$15,'Baggrundsdata - BVT - deflator'!$B73,\"*\"))))))))))),\"*\")","v":0.93943360407959631},{"$f":"IFERROR('Baggrundsdata - BVT - deflator'!I73/IF($M$17=$C$15,$L73,IF($L$17=$C$15,$K73,IF($K$17=$C$15,$J73,IF($J$17=$C$15,$I73,IF($I$17=$C$15,'Baggrundsdata - BVT - deflator'!$H73,IF($H$17=$C$15,'Baggrundsdata - BVT - deflator'!$G73,IF($C$15=$G$17,'Baggrundsdata - BVT - deflator'!$F73,IF($F$17=$C$15,'Baggrundsdata - BVT - deflator'!$E73,IF($E$17=$C$15,'Baggrundsdata - BVT - deflator'!$D73,IF($D$17=$C$15,'Baggrundsdata - BVT - deflator'!$C73,IF('Baggrundsdata - BVT - deflator'!$C$17='Baggrundsdata - BVT - deflator'!$C$15,'Baggrundsdata - BVT - deflator'!$B73,\"*\"))))))))))),\"*\")","v":0.95698145044193994},{"$f":"IFERROR('Baggrundsdata - BVT - deflator'!J73/IF($M$17=$C$15,$L73,IF($L$17=$C$15,$K73,IF($K$17=$C$15,$J73,IF($J$17=$C$15,$I73,IF($I$17=$C$15,'Baggrundsdata - BVT - deflator'!$H73,IF($H$17=$C$15,'Baggrundsdata - BVT - deflator'!$G73,IF($C$15=$G$17,'Baggrundsdata - BVT - deflator'!$F73,IF($F$17=$C$15,'Baggrundsdata - BVT - deflator'!$E73,IF($E$17=$C$15,'Baggrundsdata - BVT - deflator'!$D73,IF($D$17=$C$15,'Baggrundsdata - BVT - deflator'!$C73,IF('Baggrundsdata - BVT - deflator'!$C$17='Baggrundsdata - BVT - deflator'!$C$15,'Baggrundsdata - BVT - deflator'!$B73,\"*\"))))))))))),\"*\")","v":0.97825428720856611},{"$f":"IFERROR('Baggrundsdata - BVT - deflator'!K73/IF($M$17=$C$15,$L73,IF($L$17=$C$15,$K73,IF($K$17=$C$15,$J73,IF($J$17=$C$15,$I73,IF($I$17=$C$15,'Baggrundsdata - BVT - deflator'!$H73,IF($H$17=$C$15,'Baggrundsdata - BVT - deflator'!$G73,IF($C$15=$G$17,'Baggrundsdata - BVT - deflator'!$F73,IF($F$17=$C$15,'Baggrundsdata - BVT - deflator'!$E73,IF($E$17=$C$15,'Baggrundsdata - BVT - deflator'!$D73,IF($D$17=$C$15,'Baggrundsdata - BVT - deflator'!$C73,IF('Baggrundsdata - BVT - deflator'!$C$17='Baggrundsdata - BVT - deflator'!$C$15,'Baggrundsdata - BVT - deflator'!$B73,\"*\"))))))))))),\"*\")","v":1},{"$f":"IFERROR('Baggrundsdata - BVT - deflator'!L73/IF($M$17=$C$15,$L73,IF($L$17=$C$15,$K73,IF($K$17=$C$15,$J73,IF($J$17=$C$15,$I73,IF($I$17=$C$15,'Baggrundsdata - BVT - deflator'!$H73,IF($H$17=$C$15,'Baggrundsdata - BVT - deflator'!$G73,IF($C$15=$G$17,'Baggrundsdata - BVT - deflator'!$F73,IF($F$17=$C$15,'Baggrundsdata - BVT - deflator'!$E73,IF($E$17=$C$15,'Baggrundsdata - BVT - deflator'!$D73,IF($D$17=$C$15,'Baggrundsdata - BVT - deflator'!$C73,IF('Baggrundsdata - BVT - deflator'!$C$17='Baggrundsdata - BVT - deflator'!$C$15,'Baggrundsdata - BVT - deflator'!$B73,\"*\"))))))))))),\"*\")","v":0},null,{"$f":"IF(A73='Level 1'!A56,\"sand\",\"falsk\")","v":"sand"},null,null,"Italien",{"$f":"IFERROR('Baggrundsdata - BVT - deflator'!B80/IF($AC$17=$S$15,$L80,IF($AB$17=$S$15,$K80,IF($AA$17=$S$15,$J80,IF($Z$17=$S$15,$I80,IF($Y$17=$S$15,'Baggrundsdata - BVT - deflator'!$H80,IF($X$17=$S$15,'Baggrundsdata - BVT - deflator'!$G80,IF($S$15=$W$17,'Baggrundsdata - BVT - deflator'!$F80,IF($V$17=$S$15,'Baggrundsdata - BVT - deflator'!$E80,IF($U$17=$S$15,'Baggrundsdata - BVT - deflator'!$D80,IF($T$17=$S$15,'Baggrundsdata - BVT - deflator'!$C80,IF($S$17=$S$15,'Baggrundsdata - BVT - deflator'!$B80,\"*\"))))))))))),\"*\")","v":0.90251371378575984},{"$f":"IFERROR('Baggrundsdata - BVT - deflator'!C80/IF($AC$17=$S$15,$L80,IF($AB$17=$S$15,$K80,IF($AA$17=$S$15,$J80,IF($Z$17=$S$15,$I80,IF($Y$17=$S$15,'Baggrundsdata - BVT - deflator'!$H80,IF($X$17=$S$15,'Baggrundsdata - BVT - deflator'!$G80,IF($S$15=$W$17,'Baggrundsdata - BVT - deflator'!$F80,IF($V$17=$S$15,'Baggrundsdata - BVT - deflator'!$E80,IF($U$17=$S$15,'Baggrundsdata - BVT - deflator'!$D80,IF($T$17=$S$15,'Baggrundsdata - BVT - deflator'!$C80,IF($S$17=$S$15,'Baggrundsdata - BVT - deflator'!$B80,\"*\"))))))))))),\"*\")","v":0.92735718335556161},{"$f":"IFERROR('Baggrundsdata - BVT - deflator'!D80/IF($AC$17=$S$15,$L80,IF($AB$17=$S$15,$K80,IF($AA$17=$S$15,$J80,IF($Z$17=$S$15,$I80,IF($Y$17=$S$15,'Baggrundsdata - BVT - deflator'!$H80,IF($X$17=$S$15,'Baggrundsdata - BVT - deflator'!$G80,IF($S$15=$W$17,'Baggrundsdata - BVT - deflator'!$F80,IF($V$17=$S$15,'Baggrundsdata - BVT - deflator'!$E80,IF($U$17=$S$15,'Baggrundsdata - BVT - deflator'!$D80,IF($T$17=$S$15,'Baggrundsdata - BVT - deflator'!$C80,IF($S$17=$S$15,'Baggrundsdata - BVT - deflator'!$B80,\"*\"))))))))))),\"*\")","v":0.94738888503684404},{"$f":"IFERROR('Baggrundsdata - BVT - deflator'!E80/IF($AC$17=$S$15,$L80,IF($AB$17=$S$15,$K80,IF($AA$17=$S$15,$J80,IF($Z$17=$S$15,$I80,IF($Y$17=$S$15,'Baggrundsdata - BVT - deflator'!$H80,IF($X$17=$S$15,'Baggrundsdata - BVT - deflator'!$G80,IF($S$15=$W$17,'Baggrundsdata - BVT - deflator'!$F80,IF($V$17=$S$15,'Baggrundsdata - BVT - deflator'!$E80,IF($U$17=$S$15,'Baggrundsdata - BVT - deflator'!$D80,IF($T$17=$S$15,'Baggrundsdata - BVT - deflator'!$C80,IF($S$17=$S$15,'Baggrundsdata - BVT - deflator'!$B80,\"*\"))))))))))),\"*\")","v":0.9453375026560803},{"$f":"IFERROR('Baggrundsdata - BVT - deflator'!F80/IF($AC$17=$S$15,$L80,IF($AB$17=$S$15,$K80,IF($AA$17=$S$15,$J80,IF($Z$17=$S$15,$I80,IF($Y$17=$S$15,'Baggrundsdata - BVT - deflator'!$H80,IF($X$17=$S$15,'Baggrundsdata - BVT - deflator'!$G80,IF($S$15=$W$17,'Baggrundsdata - BVT - deflator'!$F80,IF($V$17=$S$15,'Baggrundsdata - BVT - deflator'!$E80,IF($U$17=$S$15,'Baggrundsdata - BVT - deflator'!$D80,IF($T$17=$S$15,'Baggrundsdata - BVT - deflator'!$C80,IF($S$17=$S$15,'Baggrundsdata - BVT - deflator'!$B80,\"*\"))))))))))),\"*\")","v":0.95747563619018439},{"$f":"IFERROR('Baggrundsdata - BVT - deflator'!G80/IF($AC$17=$S$15,$L80,IF($AB$17=$S$15,$K80,IF($AA$17=$S$15,$J80,IF($Z$17=$S$15,$I80,IF($Y$17=$S$15,'Baggrundsdata - BVT - deflator'!$H80,IF($X$17=$S$15,'Baggrundsdata - BVT - deflator'!$G80,IF($S$15=$W$17,'Baggrundsdata - BVT - deflator'!$F80,IF($V$17=$S$15,'Baggrundsdata - BVT - deflator'!$E80,IF($U$17=$S$15,'Baggrundsdata - BVT - deflator'!$D80,IF($T$17=$S$15,'Baggrundsdata - BVT - deflator'!$C80,IF($S$17=$S$15,'Baggrundsdata - BVT - deflator'!$B80,\"*\"))))))))))),\"*\")","v":0.96661704984086871},{"$f":"IFERROR('Baggrundsdata - BVT - deflator'!H80/IF($AC$17=$S$15,$L80,IF($AB$17=$S$15,$K80,IF($AA$17=$S$15,$J80,IF($Z$17=$S$15,$I80,IF($Y$17=$S$15,'Baggrundsdata - BVT - deflator'!$H80,IF($X$17=$S$15,'Baggrundsdata - BVT - deflator'!$G80,IF($S$15=$W$17,'Baggrundsdata - BVT - deflator'!$F80,IF($V$17=$S$15,'Baggrundsdata - BVT - deflator'!$E80,IF($U$17=$S$15,'Baggrundsdata - BVT - deflator'!$D80,IF($T$17=$S$15,'Baggrundsdata - BVT - deflator'!$C80,IF($S$17=$S$15,'Baggrundsdata - BVT - deflator'!$B80,\"*\"))))))))))),\"*\")","v":0.97881190362513204},{"$f":"IFERROR('Baggrundsdata - BVT - deflator'!I80/IF($AC$17=$S$15,$L80,IF($AB$17=$S$15,$K80,IF($AA$17=$S$15,$J80,IF($Z$17=$S$15,$I80,IF($Y$17=$S$15,'Baggrundsdata - BVT - deflator'!$H80,IF($X$17=$S$15,'Baggrundsdata - BVT - deflator'!$G80,IF($S$15=$W$17,'Baggrundsdata - BVT - deflator'!$F80,IF($V$17=$S$15,'Baggrundsdata - BVT - deflator'!$E80,IF($U$17=$S$15,'Baggrundsdata - BVT - deflator'!$D80,IF($T$17=$S$15,'Baggrundsdata - BVT - deflator'!$C80,IF($S$17=$S$15,'Baggrundsdata - BVT - deflator'!$B80,\"*\"))))))))))),\"*\")","v":0.98342515063809377},{"$f":"IFERROR('Baggrundsdata - BVT - deflator'!J80/IF($AC$17=$S$15,$L80,IF($AB$17=$S$15,$K80,IF($AA$17=$S$15,$J80,IF($Z$17=$S$15,$I80,IF($Y$17=$S$15,'Baggrundsdata - BVT - deflator'!$H80,IF($X$17=$S$15,'Baggrundsdata - BVT - deflator'!$G80,IF($S$15=$W$17,'Baggrundsdata - BVT - deflator'!$F80,IF($V$17=$S$15,'Baggrundsdata - BVT - deflator'!$E80,IF($U$17=$S$15,'Baggrundsdata - BVT - deflator'!$D80,IF($T$17=$S$15,'Baggrundsdata - BVT - deflator'!$C80,IF($S$17=$S$15,'Baggrundsdata - BVT - deflator'!$B80,\"*\"))))))))))),\"*\")","v":0.99167794703628143},{"$f":"IFERROR('Baggrundsdata - BVT - deflator'!K80/IF($AC$17=$S$15,$L80,IF($AB$17=$S$15,$K80,IF($AA$17=$S$15,$J80,IF($Z$17=$S$15,$I80,IF($Y$17=$S$15,'Baggrundsdata - BVT - deflator'!$H80,IF($X$17=$S$15,'Baggrundsdata - BVT - deflator'!$G80,IF($S$15=$W$17,'Baggrundsdata - BVT - deflator'!$F80,IF($V$17=$S$15,'Baggrundsdata - BVT - deflator'!$E80,IF($U$17=$S$15,'Baggrundsdata - BVT - deflator'!$D80,IF($T$17=$S$15,'Baggrundsdata - BVT - deflator'!$C80,IF($S$17=$S$15,'Baggrundsdata - BVT - deflator'!$B80,\"*\"))))))))))),\"*\")","v":1},{"$f":"IFERROR('Baggrundsdata - BVT - deflator'!L80/IF($AC$17=$S$15,$L80,IF($AB$17=$S$15,$K80,IF($AA$17=$S$15,$J80,IF($Z$17=$S$15,$I80,IF($Y$17=$S$15,'Baggrundsdata - BVT - deflator'!$H80,IF($X$17=$S$15,'Baggrundsdata - BVT - deflator'!$G80,IF($S$15=$W$17,'Baggrundsdata - BVT - deflator'!$F80,IF($V$17=$S$15,'Baggrundsdata - BVT - deflator'!$E80,IF($U$17=$S$15,'Baggrundsdata - BVT - deflator'!$D80,IF($T$17=$S$15,'Baggrundsdata - BVT - deflator'!$C80,IF($S$17=$S$15,'Baggrundsdata - BVT - deflator'!$B80,\"*\"))))))))))),\"*\")","v":0},null,{"$f":"IF(R23=Forside!B44,\"sand\",\"falsk\")","v":"sand"}]
[null,"Estonia",{"$f":"IFERROR('Baggrundsdata - BVT - deflator'!B74/IF($M$17=$C$15,$L74,IF($L$17=$C$15,$K74,IF($K$17=$C$15,$J74,IF($J$17=$C$15,$I74,IF($I$17=$C$15,'Baggrundsdata - BVT - deflator'!$H74,IF($H$17=$C$15,'Baggrundsdata - BVT - deflator'!$G74,IF($C$15=$G$17,'Baggrundsdata - BVT - deflator'!$F74,IF($F$17=$C$15,'Baggrundsdata - BVT - deflator'!$E74,IF($E$17=$C$15,'Baggrundsdata - BVT - deflator'!$D74,IF($D$17=$C$15,'Baggrundsdata - BVT - deflator'!$C74,IF('Baggrundsdata - BVT - deflator'!$C$17='Baggrundsdata - BVT - deflator'!$C$15,'Baggrundsdata - BVT - deflator'!$B74,\"*\"))))))))))),\"*\")","v":0.79543920111992561},{"$f":"IFERROR('Baggrundsdata - BVT - deflator'!C74/IF($M$17=$C$15,$L74,IF($L$17=$C$15,$K74,IF($K$17=$C$15,$J74,IF($J$17=$C$15,$I74,IF($I$17=$C$15,'Baggrundsdata - BVT - deflator'!$H74,IF($H$17=$C$15,'Baggrundsdata - BVT - deflator'!$G74,IF($C$15=$G$17,'Baggrundsdata - BVT - deflator'!$F74,IF($F$17=$C$15,'Baggrundsdata - BVT - deflator'!$E74,IF($E$17=$C$15,'Baggrundsdata - BVT - deflator'!$D74,IF($D$17=$C$15,'Baggrundsdata - BVT - deflator'!$C74,IF('Baggrundsdata - BVT - deflator'!$C$17='Baggrundsdata - BVT - deflator'!$C$15,'Baggrundsdata - BVT - deflator'!$B74,\"*\"))))))))))),\"*\")","v":0.84887146747690256},{"$f":"IFERROR('Baggrundsdata - BVT - deflator'!D74/IF($M$17=$C$15,$L74,IF($L$17=$C$15,$K74,IF($K$17=$C$15,$J74,IF($J$17=$C$15,$I74,IF($I$17=$C$15,'Baggrundsdata - BVT - deflator'!$H74,IF($H$17=$C$15,'Baggrundsdata - BVT - deflator'!$G74,IF($C$15=$G$17,'Baggrundsdata - BVT - deflator'!$F74,IF($F$17=$C$15,'Baggrundsdata - BVT - deflator'!$E74,IF($E$17=$C$15,'Baggrundsdata - BVT - deflator'!$D74,IF($D$17=$C$15,'Baggrundsdata - BVT - deflator'!$C74,IF('Baggrundsdata - BVT - deflator'!$C$17='Baggrundsdata - BVT - deflator'!$C$15,'Baggrundsdata - BVT - deflator'!$B74,\"*\"))))))))))),\"*\")","v":0.83605582830327463},{"$f":"IFERROR('Baggrundsdata - BVT - deflator'!E74/IF($M$17=$C$15,$L74,IF($L$17=$C$15,$K74,IF($K$17=$C$15,$J74,IF($J$17=$C$15,$I74,IF($I$17=$C$15,'Baggrundsdata - BVT - deflator'!$H74,IF($H$17=$C$15,'Baggrundsdata - BVT - deflator'!$G74,IF($C$15=$G$17,'Baggrundsdata - BVT - deflator'!$F74,IF($F$17=$C$15,'Baggrundsdata - BVT - deflator'!$E74,IF($E$17=$C$15,'Baggrundsdata - BVT - deflator'!$D74,IF($D$17=$C$15,'Baggrundsdata - BVT - deflator'!$C74,IF('Baggrundsdata - BVT - deflator'!$C$17='Baggrundsdata - BVT - deflator'!$C$15,'Baggrundsdata - BVT - deflator'!$B74,\"*\"))))))))))),\"*\")","v":0.84424500485032283},{"$f":"IFERROR('Baggrundsdata - BVT - deflator'!F74/IF($M$17=$C$15,$L74,IF($L$17=$C$15,$K74,IF($K$17=$C$15,$J74,IF($J$17=$C$15,$I74,IF($I$17=$C$15,'Baggrundsdata - BVT - deflator'!$H74,IF($H$17=$C$15,'Baggrundsdata - BVT - deflator'!$G74,IF($C$15=$G$17,'Baggrundsdata - BVT - deflator'!$F74,IF($F$17=$C$15,'Baggrundsdata - BVT - deflator'!$E74,IF($E$17=$C$15,'Baggrundsdata - BVT - deflator'!$D74,IF($D$17=$C$15,'Baggrundsdata - BVT - deflator'!$C74,IF('Baggrundsdata - BVT - deflator'!$C$17='Baggrundsdata - BVT - deflator'!$C$15,'Baggrundsdata - BVT - deflator'!$B74,\"*\"))))))))))),\"*\")","v":0.88922637870874799},{"$f":"IFERROR('Baggrundsdata - BVT - deflator'!G74/IF($M$17=$C$15,$L74,IF($L$17=$C$15,$K74,IF($K$17=$C$15,$J74,IF($J$17=$C$15,$I74,IF($I$17=$C$15,'Baggrundsdata - BVT - deflator'!$H74,IF($H$17=$C$15,'Baggrundsdata - BVT - deflator'!$G74,IF($C$15=$G$17,'Baggrundsdata - BVT - deflator'!$F74,IF($F$17=$C$15,'Baggrundsdata - BVT - deflator'!$E74,IF($E$17=$C$15,'Baggrundsdata - BVT - deflator'!$D74,IF($D$17=$C$15,'Baggrundsdata - BVT - deflator'!$C74,IF('Baggrundsdata - BVT - deflator'!$C$17='Baggrundsdata - BVT - deflator'!$C$15,'Baggrundsdata - BVT - deflator'!$B74,\"*\"))))))))))),\"*\")","v":0.91286523884455706},{"$f":"IFERROR('Baggrundsdata - BVT - deflator'!H74/IF($M$17=$C$15,$L74,IF($L$17=$C$15,$K74,IF($K$17=$C$15,$J74,IF($J$17=$C$15,$I74,IF($I$17=$C$15,'Baggrundsdata - BVT - deflator'!$H74,IF($H$17=$C$15,'Baggrundsdata - BVT - deflator'!$G74,IF($C$15=$G$17,'Baggrundsdata - BVT - deflator'!$F74,IF($F$17=$C$15,'Baggrundsdata - BVT - deflator'!$E74,IF($E$17=$C$15,'Baggrundsdata - BVT - deflator'!$D74,IF($D$17=$C$15,'Baggrundsdata - BVT - deflator'!$C74,IF('Baggrundsdata - BVT - deflator'!$C$17='Baggrundsdata - BVT - deflator'!$C$15,'Baggrundsdata - BVT - deflator'!$B74,\"*\"))))))))))),\"*\")","v":0.95051012361083298},{"$f":"IFERROR('Baggrundsdata - BVT - deflator'!I74/IF($M$17=$C$15,$L74,IF($L$17=$C$15,$K74,IF($K$17=$C$15,$J74,IF($J$17=$C$15,$I74,IF($I$17=$C$15,'Baggrundsdata - BVT - deflator'!$H74,IF($H$17=$C$15,'Baggrundsdata - BVT - deflator'!$G74,IF($C$15=$G$17,'Baggrundsdata - BVT - deflator'!$F74,IF($F$17=$C$15,'Baggrundsdata - BVT - deflator'!$E74,IF($E$17=$C$15,'Baggrundsdata - BVT - deflator'!$D74,IF($D$17=$C$15,'Baggrundsdata - BVT - deflator'!$C74,IF('Baggrundsdata - BVT - deflator'!$C$17='Baggrundsdata - BVT - deflator'!$C$15,'Baggrundsdata - BVT - deflator'!$B74,\"*\"))))))))))),\"*\")","v":0.97171755813267302},{"$f":"IFERROR('Baggrundsdata - BVT - deflator'!J74/IF($M$17=$C$15,$L74,IF($L$17=$C$15,$K74,IF($K$17=$C$15,$J74,IF($J$17=$C$15,$I74,IF($I$17=$C$15,'Baggrundsdata - BVT - deflator'!$H74,IF($H$17=$C$15,'Baggrundsdata - BVT - deflator'!$G74,IF($C$15=$G$17,'Baggrundsdata - BVT - deflator'!$F74,IF($F$17=$C$15,'Baggrundsdata - BVT - deflator'!$E74,IF($E$17=$C$15,'Baggrundsdata - BVT - deflator'!$D74,IF($D$17=$C$15,'Baggrundsdata - BVT - deflator'!$C74,IF('Baggrundsdata - BVT - deflator'!$C$17='Baggrundsdata - BVT - deflator'!$C$15,'Baggrundsdata - BVT - deflator'!$B74,\"*\"))))))))))),\"*\")","v":0.98575735256333397},{"$f":"IFERROR('Baggrundsdata - BVT - deflator'!K74/IF($M$17=$C$15,$L74,IF($L$17=$C$15,$K74,IF($K$17=$C$15,$J74,IF($J$17=$C$15,$I74,IF($I$17=$C$15,'Baggrundsdata - BVT - deflator'!$H74,IF($H$17=$C$15,'Baggrundsdata - BVT - deflator'!$G74,IF($C$15=$G$17,'Baggrundsdata - BVT - deflator'!$F74,IF($F$17=$C$15,'Baggrundsdata - BVT - deflator'!$E74,IF($E$17=$C$15,'Baggrundsdata - BVT - deflator'!$D74,IF($D$17=$C$15,'Baggrundsdata - BVT - deflator'!$C74,IF('Baggrundsdata - BVT - deflator'!$C$17='Baggrundsdata - BVT - deflator'!$C$15,'Baggrundsdata - BVT - deflator'!$B74,\"*\"))))))))))),\"*\")","v":1},{"$f":"IFERROR('Baggrundsdata - BVT - deflator'!L74/IF($M$17=$C$15,$L74,IF($L$17=$C$15,$K74,IF($K$17=$C$15,$J74,IF($J$17=$C$15,$I74,IF($I$17=$C$15,'Baggrundsdata - BVT - deflator'!$H74,IF($H$17=$C$15,'Baggrundsdata - BVT - deflator'!$G74,IF($C$15=$G$17,'Baggrundsdata - BVT - deflator'!$F74,IF($F$17=$C$15,'Baggrundsdata - BVT - deflator'!$E74,IF($E$17=$C$15,'Baggrundsdata - BVT - deflator'!$D74,IF($D$17=$C$15,'Baggrundsdata - BVT - deflator'!$C74,IF('Baggrundsdata - BVT - deflator'!$C$17='Baggrundsdata - BVT - deflator'!$C$15,'Baggrundsdata - BVT - deflator'!$B74,\"*\"))))))))))),\"*\")","v":0},null,{"$f":"IF(A74='Level 1'!A57,\"sand\",\"falsk\")","v":"sand"},null,null,"Holland",{"$f":"IFERROR('Baggrundsdata - BVT - deflator'!B87/IF($AC$17=$S$15,$L87,IF($AB$17=$S$15,$K87,IF($AA$17=$S$15,$J87,IF($Z$17=$S$15,$I87,IF($Y$17=$S$15,'Baggrundsdata - BVT - deflator'!$H87,IF($X$17=$S$15,'Baggrundsdata - BVT - deflator'!$G87,IF($S$15=$W$17,'Baggrundsdata - BVT - deflator'!$F87,IF($V$17=$S$15,'Baggrundsdata - BVT - deflator'!$E87,IF($U$17=$S$15,'Baggrundsdata - BVT - deflator'!$D87,IF($T$17=$S$15,'Baggrundsdata - BVT - deflator'!$C87,IF($S$17=$S$15,'Baggrundsdata - BVT - deflator'!$B87,\"*\"))))))))))),\"*\")","v":0.9279533377332585},{"$f":"IFERROR('Baggrundsdata - BVT - deflator'!C87/IF($AC$17=$S$15,$L87,IF($AB$17=$S$15,$K87,IF($AA$17=$S$15,$J87,IF($Z$17=$S$15,$I87,IF($Y$17=$S$15,'Baggrundsdata - BVT - deflator'!$H87,IF($X$17=$S$15,'Baggrundsdata - BVT - deflator'!$G87,IF($S$15=$W$17,'Baggrundsdata - BVT - deflator'!$F87,IF($V$17=$S$15,'Baggrundsdata - BVT - deflator'!$E87,IF($U$17=$S$15,'Baggrundsdata - BVT - deflator'!$D87,IF($T$17=$S$15,'Baggrundsdata - BVT - deflator'!$C87,IF($S$17=$S$15,'Baggrundsdata - BVT - deflator'!$B87,\"*\"))))))))))),\"*\")","v":0.94911285320601513},{"$f":"IFERROR('Baggrundsdata - BVT - deflator'!D87/IF($AC$17=$S$15,$L87,IF($AB$17=$S$15,$K87,IF($AA$17=$S$15,$J87,IF($Z$17=$S$15,$I87,IF($Y$17=$S$15,'Baggrundsdata - BVT - deflator'!$H87,IF($X$17=$S$15,'Baggrundsdata - BVT - deflator'!$G87,IF($S$15=$W$17,'Baggrundsdata - BVT - deflator'!$F87,IF($V$17=$S$15,'Baggrundsdata - BVT - deflator'!$E87,IF($U$17=$S$15,'Baggrundsdata - BVT - deflator'!$D87,IF($T$17=$S$15,'Baggrundsdata - BVT - deflator'!$C87,IF($S$17=$S$15,'Baggrundsdata - BVT - deflator'!$B87,\"*\"))))))))))),\"*\")","v":0.95322560189917571},{"$f":"IFERROR('Baggrundsdata - BVT - deflator'!E87/IF($AC$17=$S$15,$L87,IF($AB$17=$S$15,$K87,IF($AA$17=$S$15,$J87,IF($Z$17=$S$15,$I87,IF($Y$17=$S$15,'Baggrundsdata - BVT - deflator'!$H87,IF($X$17=$S$15,'Baggrundsdata - BVT - deflator'!$G87,IF($S$15=$W$17,'Baggrundsdata - BVT - deflator'!$F87,IF($V$17=$S$15,'Baggrundsdata - BVT - deflator'!$E87,IF($U$17=$S$15,'Baggrundsdata - BVT - deflator'!$D87,IF($T$17=$S$15,'Baggrundsdata - BVT - deflator'!$C87,IF($S$17=$S$15,'Baggrundsdata - BVT - deflator'!$B87,\"*\"))))))))))),\"*\")","v":0.9609225918599742},{"$f":"IFERROR('Baggrundsdata - BVT - deflator'!F87/IF($AC$17=$S$15,$L87,IF($AB$17=$S$15,$K87,IF($AA$17=$S$15,$J87,IF($Z$17=$S$15,$I87,IF($Y$17=$S$15,'Baggrundsdata - BVT - deflator'!$H87,IF($X$17=$S$15,'Baggrundsdata - BVT - deflator'!$G87,IF($S$15=$W$17,'Baggrundsdata - BVT - deflator'!$F87,IF($V$17=$S$15,'Baggrundsdata - BVT - deflator'!$E87,IF($U$17=$S$15,'Baggrundsdata - BVT - deflator'!$D87,IF($T$17=$S$15,'Baggrundsdata - BVT - deflator'!$C87,IF($S$17=$S$15,'Baggrundsdata - BVT - deflator'!$B87,\"*\"))))))))))),\"*\")","v":0.96165289302978763},{"$f":"IFERROR('Baggrundsdata - BVT - deflator'!G87/IF($AC$17=$S$15,$L87,IF($AB$17=$S$15,$K87,IF($AA$17=$S$15,$J87,IF($Z$17=$S$15,$I87,IF($Y$17=$S$15,'Baggrundsdata - BVT - deflator'!$H87,IF($X$17=$S$15,'Baggrundsdata - BVT - deflator'!$G87,IF($S$15=$W$17,'Baggrundsdata - BVT - deflator'!$F87,IF($V$17=$S$15,'Baggrundsdata - BVT - deflator'!$E87,IF($U$17=$S$15,'Baggrundsdata - BVT - deflator'!$D87,IF($T$17=$S$15,'Baggrundsdata - BVT - deflator'!$C87,IF($S$17=$S$15,'Baggrundsdata - BVT - deflator'!$B87,\"*\"))))))))))),\"*\")","v":0.97620126107054783},{"$f":"IFERROR('Baggrundsdata - BVT - deflator'!H87/IF($AC$17=$S$15,$L87,IF($AB$17=$S$15,$K87,IF($AA$17=$S$15,$J87,IF($Z$17=$S$15,$I87,IF($Y$17=$S$15,'Baggrundsdata - BVT - deflator'!$H87,IF($X$17=$S$15,'Baggrundsdata - BVT - deflator'!$G87,IF($S$15=$W$17,'Baggrundsdata - BVT - deflator'!$F87,IF($V$17=$S$15,'Baggrundsdata - BVT - deflator'!$E87,IF($U$17=$S$15,'Baggrundsdata - BVT - deflator'!$D87,IF($T$17=$S$15,'Baggrundsdata - BVT - deflator'!$C87,IF($S$17=$S$15,'Baggrundsdata - BVT - deflator'!$B87,\"*\"))))))))))),\"*\")","v":0.98288928230989314},{"$f":"IFERROR('Baggrundsdata - BVT - deflator'!I87/IF($AC$17=$S$15,$L87,IF($AB$17=$S$15,$K87,IF($AA$17=$S$15,$J87,IF($Z$17=$S$15,$I87,IF($Y$17=$S$15,'Baggrundsdata - BVT - deflator'!$H87,IF($X$17=$S$15,'Baggrundsdata - BVT - deflator'!$G87,IF($S$15=$W$17,'Baggrundsdata - BVT - deflator'!$F87,IF($V$17=$S$15,'Baggrundsdata - BVT - deflator'!$E87,IF($U$17=$S$15,'Baggrundsdata - BVT - deflator'!$D87,IF($T$17=$S$15,'Baggrundsdata - BVT - deflator'!$C87,IF($S$17=$S$15,'Baggrundsdata - BVT - deflator'!$B87,\"*\"))))))))))),\"*\")","v":0.98992323568230822},{"$f":"IFERROR('Baggrundsdata - BVT - deflator'!J87/IF($AC$17=$S$15,$L87,IF($AB$17=$S$15,$K87,IF($AA$17=$S$15,$J87,IF($Z$17=$S$15,$I87,IF($Y$17=$S$15,'Baggrundsdata - BVT - deflator'!$H87,IF($X$17=$S$15,'Baggrundsdata - BVT - deflator'!$G87,IF($S$15=$W$17,'Baggrundsdata - BVT - deflator'!$F87,IF($V$17=$S$15,'Baggrundsdata - BVT - deflator'!$E87,IF($U$17=$S$15,'Baggrundsdata - BVT - deflator'!$D87,IF($T$17=$S$15,'Baggrundsdata - BVT - deflator'!$C87,IF($S$17=$S$15,'Baggrundsdata - BVT - deflator'!$B87,\"*\"))))))))))),\"*\")","v":0.99494886083773582},{"$f":"IFERROR('Baggrundsdata - BVT - deflator'!K87/IF($AC$17=$S$15,$L87,IF($AB$17=$S$15,$K87,IF($AA$17=$S$15,$J87,IF($Z$17=$S$15,$I87,IF($Y$17=$S$15,'Baggrundsdata - BVT - deflator'!$H87,IF($X$17=$S$15,'Baggrundsdata - BVT - deflator'!$G87,IF($S$15=$W$17,'Baggrundsdata - BVT - deflator'!$F87,IF($V$17=$S$15,'Baggrundsdata - BVT - deflator'!$E87,IF($U$17=$S$15,'Baggrundsdata - BVT - deflator'!$D87,IF($T$17=$S$15,'Baggrundsdata - BVT - deflator'!$C87,IF($S$17=$S$15,'Baggrundsdata - BVT - deflator'!$B87,\"*\"))))))))))),\"*\")","v":1},{"$f":"IFERROR('Baggrundsdata - BVT - deflator'!L87/IF($AC$17=$S$15,$L87,IF($AB$17=$S$15,$K87,IF($AA$17=$S$15,$J87,IF($Z$17=$S$15,$I87,IF($Y$17=$S$15,'Baggrundsdata - BVT - deflator'!$H87,IF($X$17=$S$15,'Baggrundsdata - BVT - deflator'!$G87,IF($S$15=$W$17,'Baggrundsdata - BVT - deflator'!$F87,IF($V$17=$S$15,'Baggrundsdata - BVT - deflator'!$E87,IF($U$17=$S$15,'Baggrundsdata - BVT - deflator'!$D87,IF($T$17=$S$15,'Baggrundsdata - BVT - deflator'!$C87,IF($S$17=$S$15,'Baggrundsdata - BVT - deflator'!$B87,\"*\"))))))))))),\"*\")","v":0},null,{"$f":"IF(R24=Forside!B45,\"sand\",\"falsk\")","v":"sand"}]
[null,"Ireland",{"$f":"IFERROR('Baggrundsdata - BVT - deflator'!B75/IF($M$17=$C$15,$L75,IF($L$17=$C$15,$K75,IF($K$17=$C$15,$J75,IF($J$17=$C$15,$I75,IF($I$17=$C$15,'Baggrundsdata - BVT - deflator'!$H75,IF($H$17=$C$15,'Baggrundsdata - BVT - deflator'!$G75,IF($C$15=$G$17,'Baggrundsdata - BVT - deflator'!$F75,IF($F$17=$C$15,'Baggrundsdata - BVT - deflator'!$E75,IF($E$17=$C$15,'Baggrundsdata - BVT - deflator'!$D75,IF($D$17=$C$15,'Baggrundsdata - BVT - deflator'!$C75,IF('Baggrundsdata - BVT - deflator'!$C$17='Baggrundsdata - BVT - deflator'!$C$15,'Baggrundsdata - BVT - deflator'!$B75,\"*\"))))))))))),\"*\")","v":0.92027711822845937},{"$f":"IFERROR('Baggrundsdata - BVT - deflator'!C75/IF($M$17=$C$15,$L75,IF($L$17=$C$15,$K75,IF($K$17=$C$15,$J75,IF($J$17=$C$15,$I75,IF($I$17=$C$15,'Baggrundsdata - BVT - deflator'!$H75,IF($H$17=$C$15,'Baggrundsdata - BVT - deflator'!$G75,IF($C$15=$G$17,'Baggrundsdata - BVT - deflator'!$F75,IF($F$17=$C$15,'Baggrundsdata - BVT - deflator'!$E75,IF($E$17=$C$15,'Baggrundsdata - BVT - deflator'!$D75,IF($D$17=$C$15,'Baggrundsdata - BVT - deflator'!$C75,IF('Baggrundsdata - BVT - deflator'!$C$17='Baggrundsdata - BVT - deflator'!$C$15,'Baggrundsdata - BVT - deflator'!$B75,\"*\"))))))))))),\"*\")","v":0.89703652812358536},{"$f":"IFERROR('Baggrundsdata - BVT - deflator'!D75/IF($M$17=$C$15,$L75,IF($L$17=$C$15,$K75,IF($K$17=$C$15,$J75,IF($J$17=$C$15,$I75,IF($I$17=$C$15,'Baggrundsdata - BVT - deflator'!$H75,IF($H$17=$C$15,'Baggrundsdata - BVT - deflator'!$G75,IF($C$15=$G$17,'Baggrundsdata - BVT - deflator'!$F75,IF($F$17=$C$15,'Baggrundsdata - BVT - deflator'!$E75,IF($E$17=$C$15,'Baggrundsdata - BVT - deflator'!$D75,IF($D$17=$C$15,'Baggrundsdata - BVT - deflator'!$C75,IF('Baggrundsdata - BVT - deflator'!$C$17='Baggrundsdata - BVT - deflator'!$C$15,'Baggrundsdata - BVT - deflator'!$B75,\"*\"))))))))))),\"*\")","v":0.84753197745334741},{"$f":"IFERROR('Baggrundsdata - BVT - deflator'!E75/IF($M$17=$C$15,$L75,IF($L$17=$C$15,$K75,IF($K$17=$C$15,$J75,IF($J$17=$C$15,$I75,IF($I$17=$C$15,'Baggrundsdata - BVT - deflator'!$H75,IF($H$17=$C$15,'Baggrundsdata - BVT - deflator'!$G75,IF($C$15=$G$17,'Baggrundsdata - BVT - deflator'!$F75,IF($F$17=$C$15,'Baggrundsdata - BVT - deflator'!$E75,IF($E$17=$C$15,'Baggrundsdata - BVT - deflator'!$D75,IF($D$17=$C$15,'Baggrundsdata - BVT - deflator'!$C75,IF('Baggrundsdata - BVT - deflator'!$C$17='Baggrundsdata - BVT - deflator'!$C$15,'Baggrundsdata - BVT - deflator'!$B75,\"*\"))))))))))),\"*\")","v":0.83749874251798206},{"$f":"IFERROR('Baggrundsdata - BVT - deflator'!F75/IF($M$17=$C$15,$L75,IF($L$17=$C$15,$K75,IF($K$17=$C$15,$J75,IF($J$17=$C$15,$I75,IF($I$17=$C$15,'Baggrundsdata - BVT - deflator'!$H75,IF($H$17=$C$15,'Baggrundsdata - BVT - deflator'!$G75,IF($C$15=$G$17,'Baggrundsdata - BVT - deflator'!$F75,IF($F$17=$C$15,'Baggrundsdata - BVT - deflator'!$E75,IF($E$17=$C$15,'Baggrundsdata - BVT - deflator'!$D75,IF($D$17=$C$15,'Baggrundsdata - BVT - deflator'!$C75,IF('Baggrundsdata - BVT - deflator'!$C$17='Baggrundsdata - BVT - deflator'!$C$15,'Baggrundsdata - BVT - deflator'!$B75,\"*\"))))))))))),\"*\")","v":0.87829330626603286},{"$f":"IFERROR('Baggrundsdata - BVT - deflator'!G75/IF($M$17=$C$15,$L75,IF($L$17=$C$15,$K75,IF($K$17=$C$15,$J75,IF($J$17=$C$15,$I75,IF($I$17=$C$15,'Baggrundsdata - BVT - deflator'!$H75,IF($H$17=$C$15,'Baggrundsdata - BVT - deflator'!$G75,IF($C$15=$G$17,'Baggrundsdata - BVT - deflator'!$F75,IF($F$17=$C$15,'Baggrundsdata - BVT - deflator'!$E75,IF($E$17=$C$15,'Baggrundsdata - BVT - deflator'!$D75,IF($D$17=$C$15,'Baggrundsdata - BVT - deflator'!$C75,IF('Baggrundsdata - BVT - deflator'!$C$17='Baggrundsdata - BVT - deflator'!$C$15,'Baggrundsdata - BVT - deflator'!$B75,\"*\"))))))))))),\"*\")","v":0.88359467330617181},{"$f":"IFERROR('Baggrundsdata - BVT - deflator'!H75/IF($M$17=$C$15,$L75,IF($L$17=$C$15,$K75,IF($K$17=$C$15,$J75,IF($J$17=$C$15,$I75,IF($I$17=$C$15,'Baggrundsdata - BVT - deflator'!$H75,IF($H$17=$C$15,'Baggrundsdata - BVT - deflator'!$G75,IF($C$15=$G$17,'Baggrundsdata - BVT - deflator'!$F75,IF($F$17=$C$15,'Baggrundsdata - BVT - deflator'!$E75,IF($E$17=$C$15,'Baggrundsdata - BVT - deflator'!$D75,IF($D$17=$C$15,'Baggrundsdata - BVT - deflator'!$C75,IF('Baggrundsdata - BVT - deflator'!$C$17='Baggrundsdata - BVT - deflator'!$C$15,'Baggrundsdata - BVT - deflator'!$B75,\"*\"))))))))))),\"*\")","v":0.900654522691263},{"$f":"IFERROR('Baggrundsdata - BVT - deflator'!I75/IF($M$17=$C$15,$L75,IF($L$17=$C$15,$K75,IF($K$17=$C$15,$J75,IF($J$17=$C$15,$I75,IF($I$17=$C$15,'Baggrundsdata - BVT - deflator'!$H75,IF($H$17=$C$15,'Baggrundsdata - BVT - deflator'!$G75,IF($C$15=$G$17,'Baggrundsdata - BVT - deflator'!$F75,IF($F$17=$C$15,'Baggrundsdata - BVT - deflator'!$E75,IF($E$17=$C$15,'Baggrundsdata - BVT - deflator'!$D75,IF($D$17=$C$15,'Baggrundsdata - BVT - deflator'!$C75,IF('Baggrundsdata - BVT - deflator'!$C$17='Baggrundsdata - BVT - deflator'!$C$15,'Baggrundsdata - BVT - deflator'!$B75,\"*\"))))))))))),\"*\")","v":0.89245541000201201},{"$f":"IFERROR('Baggrundsdata - BVT - deflator'!J75/IF($M$17=$C$15,$L75,IF($L$17=$C$15,$K75,IF($K$17=$C$15,$J75,IF($J$17=$C$15,$I75,IF($I$17=$C$15,'Baggrundsdata - BVT - deflator'!$H75,IF($H$17=$C$15,'Baggrundsdata - BVT - deflator'!$G75,IF($C$15=$G$17,'Baggrundsdata - BVT - deflator'!$F75,IF($F$17=$C$15,'Baggrundsdata - BVT - deflator'!$E75,IF($E$17=$C$15,'Baggrundsdata - BVT - deflator'!$D75,IF($D$17=$C$15,'Baggrundsdata - BVT - deflator'!$C75,IF('Baggrundsdata - BVT - deflator'!$C$17='Baggrundsdata - BVT - deflator'!$C$15,'Baggrundsdata - BVT - deflator'!$B75,\"*\"))))))))))),\"*\")","v":0.94469858156028363},{"$f":"IFERROR('Baggrundsdata - BVT - deflator'!K75/IF($M$17=$C$15,$L75,IF($L$17=$C$15,$K75,IF($K$17=$C$15,$J75,IF($J$17=$C$15,$I75,IF($I$17=$C$15,'Baggrundsdata - BVT - deflator'!$H75,IF($H$17=$C$15,'Baggrundsdata - BVT - deflator'!$G75,IF($C$15=$G$17,'Baggrundsdata - BVT - deflator'!$F75,IF($F$17=$C$15,'Baggrundsdata - BVT - deflator'!$E75,IF($E$17=$C$15,'Baggrundsdata - BVT - deflator'!$D75,IF($D$17=$C$15,'Baggrundsdata - BVT - deflator'!$C75,IF('Baggrundsdata - BVT - deflator'!$C$17='Baggrundsdata - BVT - deflator'!$C$15,'Baggrundsdata - BVT - deflator'!$B75,\"*\"))))))))))),\"*\")","v":1},{"$f":"IFERROR('Baggrundsdata - BVT - deflator'!L75/IF($M$17=$C$15,$L75,IF($L$17=$C$15,$K75,IF($K$17=$C$15,$J75,IF($J$17=$C$15,$I75,IF($I$17=$C$15,'Baggrundsdata - BVT - deflator'!$H75,IF($H$17=$C$15,'Baggrundsdata - BVT - deflator'!$G75,IF($C$15=$G$17,'Baggrundsdata - BVT - deflator'!$F75,IF($F$17=$C$15,'Baggrundsdata - BVT - deflator'!$E75,IF($E$17=$C$15,'Baggrundsdata - BVT - deflator'!$D75,IF($D$17=$C$15,'Baggrundsdata - BVT - deflator'!$C75,IF('Baggrundsdata - BVT - deflator'!$C$17='Baggrundsdata - BVT - deflator'!$C$15,'Baggrundsdata - BVT - deflator'!$B75,\"*\"))))))))))),\"*\")","v":0},null,{"$f":"IF(A75='Level 1'!A58,\"sand\",\"falsk\")","v":"sand"},null,null,"Sverige",{"$f":"IFERROR('Baggrundsdata - BVT - deflator'!B95/IF($AC$17=$S$15,$L95,IF($AB$17=$S$15,$K95,IF($AA$17=$S$15,$J95,IF($Z$17=$S$15,$I95,IF($Y$17=$S$15,'Baggrundsdata - BVT - deflator'!$H95,IF($X$17=$S$15,'Baggrundsdata - BVT - deflator'!$G95,IF($S$15=$W$17,'Baggrundsdata - BVT - deflator'!$F95,IF($V$17=$S$15,'Baggrundsdata - BVT - deflator'!$E95,IF($U$17=$S$15,'Baggrundsdata - BVT - deflator'!$D95,IF($T$17=$S$15,'Baggrundsdata - BVT - deflator'!$C95,IF($S$17=$S$15,'Baggrundsdata - BVT - deflator'!$B95,\"*\"))))))))))),\"*\")","v":0.88937737525598437},{"$f":"IFERROR('Baggrundsdata - BVT - deflator'!C95/IF($AC$17=$S$15,$L95,IF($AB$17=$S$15,$K95,IF($AA$17=$S$15,$J95,IF($Z$17=$S$15,$I95,IF($Y$17=$S$15,'Baggrundsdata - BVT - deflator'!$H95,IF($X$17=$S$15,'Baggrundsdata - BVT - deflator'!$G95,IF($S$15=$W$17,'Baggrundsdata - BVT - deflator'!$F95,IF($V$17=$S$15,'Baggrundsdata - BVT - deflator'!$E95,IF($U$17=$S$15,'Baggrundsdata - BVT - deflator'!$D95,IF($T$17=$S$15,'Baggrundsdata - BVT - deflator'!$C95,IF($S$17=$S$15,'Baggrundsdata - BVT - deflator'!$B95,\"*\"))))))))))),\"*\")","v":0.88299452607730322},{"$f":"IFERROR('Baggrundsdata - BVT - deflator'!D95/IF($AC$17=$S$15,$L95,IF($AB$17=$S$15,$K95,IF($AA$17=$S$15,$J95,IF($Z$17=$S$15,$I95,IF($Y$17=$S$15,'Baggrundsdata - BVT - deflator'!$H95,IF($X$17=$S$15,'Baggrundsdata - BVT - deflator'!$G95,IF($S$15=$W$17,'Baggrundsdata - BVT - deflator'!$F95,IF($V$17=$S$15,'Baggrundsdata - BVT - deflator'!$E95,IF($U$17=$S$15,'Baggrundsdata - BVT - deflator'!$D95,IF($T$17=$S$15,'Baggrundsdata - BVT - deflator'!$C95,IF($S$17=$S$15,'Baggrundsdata - BVT - deflator'!$B95,\"*\"))))))))))),\"*\")","v":0.81881654110779656},{"$f":"IFERROR('Baggrundsdata - BVT - deflator'!E95/IF($AC$17=$S$15,$L95,IF($AB$17=$S$15,$K95,IF($AA$17=$S$15,$J95,IF($Z$17=$S$15,$I95,IF($Y$17=$S$15,'Baggrundsdata - BVT - deflator'!$H95,IF($X$17=$S$15,'Baggrundsdata - BVT - deflator'!$G95,IF($S$15=$W$17,'Baggrundsdata - BVT - deflator'!$F95,IF($V$17=$S$15,'Baggrundsdata - BVT - deflator'!$E95,IF($U$17=$S$15,'Baggrundsdata - BVT - deflator'!$D95,IF($T$17=$S$15,'Baggrundsdata - BVT - deflator'!$C95,IF($S$17=$S$15,'Baggrundsdata - BVT - deflator'!$B95,\"*\"))))))))))),\"*\")","v":0.9197189018272659},{"$f":"IFERROR('Baggrundsdata - BVT - deflator'!F95/IF($AC$17=$S$15,$L95,IF($AB$17=$S$15,$K95,IF($AA$17=$S$15,$J95,IF($Z$17=$S$15,$I95,IF($Y$17=$S$15,'Baggrundsdata - BVT - deflator'!$H95,IF($X$17=$S$15,'Baggrundsdata - BVT - deflator'!$G95,IF($S$15=$W$17,'Baggrundsdata - BVT - deflator'!$F95,IF($V$17=$S$15,'Baggrundsdata - BVT - deflator'!$E95,IF($U$17=$S$15,'Baggrundsdata - BVT - deflator'!$D95,IF($T$17=$S$15,'Baggrundsdata - BVT - deflator'!$C95,IF($S$17=$S$15,'Baggrundsdata - BVT - deflator'!$B95,\"*\"))))))))))),\"*\")","v":0.98268285784636056},{"$f":"IFERROR('Baggrundsdata - BVT - deflator'!G95/IF($AC$17=$S$15,$L95,IF($AB$17=$S$15,$K95,IF($AA$17=$S$15,$J95,IF($Z$17=$S$15,$I95,IF($Y$17=$S$15,'Baggrundsdata - BVT - deflator'!$H95,IF($X$17=$S$15,'Baggrundsdata - BVT - deflator'!$G95,IF($S$15=$W$17,'Baggrundsdata - BVT - deflator'!$F95,IF($V$17=$S$15,'Baggrundsdata - BVT - deflator'!$E95,IF($U$17=$S$15,'Baggrundsdata - BVT - deflator'!$D95,IF($T$17=$S$15,'Baggrundsdata - BVT - deflator'!$C95,IF($S$17=$S$15,'Baggrundsdata - BVT - deflator'!$B95,\"*\"))))))))))),\"*\")","v":1.0305450294974514},{"$f":"IFERROR('Baggrundsdata - BVT - deflator'!H95/IF($AC$17=$S$15,$L95,IF($AB$17=$S$15,$K95,IF($AA$17=$S$15,$J95,IF($Z$17=$S$15,$I95,IF($Y$17=$S$15,'Baggrundsdata - BVT - deflator'!$H95,IF($X$17=$S$15,'Baggrundsdata - BVT - deflator'!$G95,IF($S$15=$W$17,'Baggrundsdata - BVT - deflator'!$F95,IF($V$17=$S$15,'Baggrundsdata - BVT - deflator'!$E95,IF($U$17=$S$15,'Baggrundsdata - BVT - deflator'!$D95,IF($T$17=$S$15,'Baggrundsdata - BVT - deflator'!$C95,IF($S$17=$S$15,'Baggrundsdata - BVT - deflator'!$B95,\"*\"))))))))))),\"*\")","v":1.0480656745772607},{"$f":"IFERROR('Baggrundsdata - BVT - deflator'!I95/IF($AC$17=$S$15,$L95,IF($AB$17=$S$15,$K95,IF($AA$17=$S$15,$J95,IF($Z$17=$S$15,$I95,IF($Y$17=$S$15,'Baggrundsdata - BVT - deflator'!$H95,IF($X$17=$S$15,'Baggrundsdata - BVT - deflator'!$G95,IF($S$15=$W$17,'Baggrundsdata - BVT - deflator'!$F95,IF($V$17=$S$15,'Baggrundsdata - BVT - deflator'!$E95,IF($U$17=$S$15,'Baggrundsdata - BVT - deflator'!$D95,IF($T$17=$S$15,'Baggrundsdata - BVT - deflator'!$C95,IF($S$17=$S$15,'Baggrundsdata - BVT - deflator'!$B95,\"*\"))))))))))),\"*\")","v":1.0147534559530773},{"$f":"IFERROR('Baggrundsdata - BVT - deflator'!J95/IF($AC$17=$S$15,$L95,IF($AB$17=$S$15,$K95,IF($AA$17=$S$15,$J95,IF($Z$17=$S$15,$I95,IF($Y$17=$S$15,'Baggrundsdata - BVT - deflator'!$H95,IF($X$17=$S$15,'Baggrundsdata - BVT - deflator'!$G95,IF($S$15=$W$17,'Baggrundsdata - BVT - deflator'!$F95,IF($V$17=$S$15,'Baggrundsdata - BVT - deflator'!$E95,IF($U$17=$S$15,'Baggrundsdata - BVT - deflator'!$D95,IF($T$17=$S$15,'Baggrundsdata - BVT - deflator'!$C95,IF($S$17=$S$15,'Baggrundsdata - BVT - deflator'!$B95,\"*\"))))))))))),\"*\")","v":1.0073497187933678},{"$f":"IFERROR('Baggrundsdata - BVT - deflator'!K95/IF($AC$17=$S$15,$L95,IF($AB$17=$S$15,$K95,IF($AA$17=$S$15,$J95,IF($Z$17=$S$15,$I95,IF($Y$17=$S$15,'Baggrundsdata - BVT - deflator'!$H95,IF($X$17=$S$15,'Baggrundsdata - BVT - deflator'!$G95,IF($S$15=$W$17,'Baggrundsdata - BVT - deflator'!$F95,IF($V$17=$S$15,'Baggrundsdata - BVT - deflator'!$E95,IF($U$17=$S$15,'Baggrundsdata - BVT - deflator'!$D95,IF($T$17=$S$15,'Baggrundsdata - BVT - deflator'!$C95,IF($S$17=$S$15,'Baggrundsdata - BVT - deflator'!$B95,\"*\"))))))))))),\"*\")","v":1},{"$f":"IFERROR('Baggrundsdata - BVT - deflator'!L95/IF($AC$17=$S$15,$L95,IF($AB$17=$S$15,$K95,IF($AA$17=$S$15,$J95,IF($Z$17=$S$15,$I95,IF($Y$17=$S$15,'Baggrundsdata - BVT - deflator'!$H95,IF($X$17=$S$15,'Baggrundsdata - BVT - deflator'!$G95,IF($S$15=$W$17,'Baggrundsdata - BVT - deflator'!$F95,IF($V$17=$S$15,'Baggrundsdata - BVT - deflator'!$E95,IF($U$17=$S$15,'Baggrundsdata - BVT - deflator'!$D95,IF($T$17=$S$15,'Baggrundsdata - BVT - deflator'!$C95,IF($S$17=$S$15,'Baggrundsdata - BVT - deflator'!$B95,\"*\"))))))))))),\"*\")","v":0},null,{"$f":"IF(R25=Forside!B46,\"sand\",\"falsk\")","v":"sand"}]
[null,"Greece",{"$f":"IFERROR('Baggrundsdata - BVT - deflator'!B76/IF($M$17=$C$15,$L76,IF($L$17=$C$15,$K76,IF($K$17=$C$15,$J76,IF($J$17=$C$15,$I76,IF($I$17=$C$15,'Baggrundsdata - BVT - deflator'!$H76,IF($H$17=$C$15,'Baggrundsdata - BVT - deflator'!$G76,IF($C$15=$G$17,'Baggrundsdata - BVT - deflator'!$F76,IF($F$17=$C$15,'Baggrundsdata - BVT - deflator'!$E76,IF($E$17=$C$15,'Baggrundsdata - BVT - deflator'!$D76,IF($D$17=$C$15,'Baggrundsdata - BVT - deflator'!$C76,IF('Baggrundsdata - BVT - deflator'!$C$17='Baggrundsdata - BVT - deflator'!$C$15,'Baggrundsdata - BVT - deflator'!$B76,\"*\"))))))))))),\"*\")","v":1.0176854173399803},{"$f":"IFERROR('Baggrundsdata - BVT - deflator'!C76/IF($M$17=$C$15,$L76,IF($L$17=$C$15,$K76,IF($K$17=$C$15,$J76,IF($J$17=$C$15,$I76,IF($I$17=$C$15,'Baggrundsdata - BVT - deflator'!$H76,IF($H$17=$C$15,'Baggrundsdata - BVT - deflator'!$G76,IF($C$15=$G$17,'Baggrundsdata - BVT - deflator'!$F76,IF($F$17=$C$15,'Baggrundsdata - BVT - deflator'!$E76,IF($E$17=$C$15,'Baggrundsdata - BVT - deflator'!$D76,IF($D$17=$C$15,'Baggrundsdata - BVT - deflator'!$C76,IF('Baggrundsdata - BVT - deflator'!$C$17='Baggrundsdata - BVT - deflator'!$C$15,'Baggrundsdata - BVT - deflator'!$B76,\"*\"))))))))))),\"*\")","v":1.0620532629118087},{"$f":"IFERROR('Baggrundsdata - BVT - deflator'!D76/IF($M$17=$C$15,$L76,IF($L$17=$C$15,$K76,IF($K$17=$C$15,$J76,IF($J$17=$C$15,$I76,IF($I$17=$C$15,'Baggrundsdata - BVT - deflator'!$H76,IF($H$17=$C$15,'Baggrundsdata - BVT - deflator'!$G76,IF($C$15=$G$17,'Baggrundsdata - BVT - deflator'!$F76,IF($F$17=$C$15,'Baggrundsdata - BVT - deflator'!$E76,IF($E$17=$C$15,'Baggrundsdata - BVT - deflator'!$D76,IF($D$17=$C$15,'Baggrundsdata - BVT - deflator'!$C76,IF('Baggrundsdata - BVT - deflator'!$C$17='Baggrundsdata - BVT - deflator'!$C$15,'Baggrundsdata - BVT - deflator'!$B76,\"*\"))))))))))),\"*\")","v":1.0918930059969085},{"$f":"IFERROR('Baggrundsdata - BVT - deflator'!E76/IF($M$17=$C$15,$L76,IF($L$17=$C$15,$K76,IF($K$17=$C$15,$J76,IF($J$17=$C$15,$I76,IF($I$17=$C$15,'Baggrundsdata - BVT - deflator'!$H76,IF($H$17=$C$15,'Baggrundsdata - BVT - deflator'!$G76,IF($C$15=$G$17,'Baggrundsdata - BVT - deflator'!$F76,IF($F$17=$C$15,'Baggrundsdata - BVT - deflator'!$E76,IF($E$17=$C$15,'Baggrundsdata - BVT - deflator'!$D76,IF($D$17=$C$15,'Baggrundsdata - BVT - deflator'!$C76,IF('Baggrundsdata - BVT - deflator'!$C$17='Baggrundsdata - BVT - deflator'!$C$15,'Baggrundsdata - BVT - deflator'!$B76,\"*\"))))))))))),\"*\")","v":1.0882473772830106},{"$f":"IFERROR('Baggrundsdata - BVT - deflator'!F76/IF($M$17=$C$15,$L76,IF($L$17=$C$15,$K76,IF($K$17=$C$15,$J76,IF($J$17=$C$15,$I76,IF($I$17=$C$15,'Baggrundsdata - BVT - deflator'!$H76,IF($H$17=$C$15,'Baggrundsdata - BVT - deflator'!$G76,IF($C$15=$G$17,'Baggrundsdata - BVT - deflator'!$F76,IF($F$17=$C$15,'Baggrundsdata - BVT - deflator'!$E76,IF($E$17=$C$15,'Baggrundsdata - BVT - deflator'!$D76,IF($D$17=$C$15,'Baggrundsdata - BVT - deflator'!$C76,IF('Baggrundsdata - BVT - deflator'!$C$17='Baggrundsdata - BVT - deflator'!$C$15,'Baggrundsdata - BVT - deflator'!$B76,\"*\"))))))))))),\"*\")","v":1.0896729813472514},{"$f":"IFERROR('Baggrundsdata - BVT - deflator'!G76/IF($M$17=$C$15,$L76,IF($L$17=$C$15,$K76,IF($K$17=$C$15,$J76,IF($J$17=$C$15,$I76,IF($I$17=$C$15,'Baggrundsdata - BVT - deflator'!$H76,IF($H$17=$C$15,'Baggrundsdata - BVT - deflator'!$G76,IF($C$15=$G$17,'Baggrundsdata - BVT - deflator'!$F76,IF($F$17=$C$15,'Baggrundsdata - BVT - deflator'!$E76,IF($E$17=$C$15,'Baggrundsdata - BVT - deflator'!$D76,IF($D$17=$C$15,'Baggrundsdata - BVT - deflator'!$C76,IF('Baggrundsdata - BVT - deflator'!$C$17='Baggrundsdata - BVT - deflator'!$C$15,'Baggrundsdata - BVT - deflator'!$B76,\"*\"))))))))))),\"*\")","v":1.0819137775472236},{"$f":"IFERROR('Baggrundsdata - BVT - deflator'!H76/IF($M$17=$C$15,$L76,IF($L$17=$C$15,$K76,IF($K$17=$C$15,$J76,IF($J$17=$C$15,$I76,IF($I$17=$C$15,'Baggrundsdata - BVT - deflator'!$H76,IF($H$17=$C$15,'Baggrundsdata - BVT - deflator'!$G76,IF($C$15=$G$17,'Baggrundsdata - BVT - deflator'!$F76,IF($F$17=$C$15,'Baggrundsdata - BVT - deflator'!$E76,IF($E$17=$C$15,'Baggrundsdata - BVT - deflator'!$D76,IF($D$17=$C$15,'Baggrundsdata - BVT - deflator'!$C76,IF('Baggrundsdata - BVT - deflator'!$C$17='Baggrundsdata - BVT - deflator'!$C$15,'Baggrundsdata - BVT - deflator'!$B76,\"*\"))))))))))),\"*\")","v":1.0516605004587558},{"$f":"IFERROR('Baggrundsdata - BVT - deflator'!I76/IF($M$17=$C$15,$L76,IF($L$17=$C$15,$K76,IF($K$17=$C$15,$J76,IF($J$17=$C$15,$I76,IF($I$17=$C$15,'Baggrundsdata - BVT - deflator'!$H76,IF($H$17=$C$15,'Baggrundsdata - BVT - deflator'!$G76,IF($C$15=$G$17,'Baggrundsdata - BVT - deflator'!$F76,IF($F$17=$C$15,'Baggrundsdata - BVT - deflator'!$E76,IF($E$17=$C$15,'Baggrundsdata - BVT - deflator'!$D76,IF($D$17=$C$15,'Baggrundsdata - BVT - deflator'!$C76,IF('Baggrundsdata - BVT - deflator'!$C$17='Baggrundsdata - BVT - deflator'!$C$15,'Baggrundsdata - BVT - deflator'!$B76,\"*\"))))))))))),\"*\")","v":1.0272837592076163},{"$f":"IFERROR('Baggrundsdata - BVT - deflator'!J76/IF($M$17=$C$15,$L76,IF($L$17=$C$15,$K76,IF($K$17=$C$15,$J76,IF($J$17=$C$15,$I76,IF($I$17=$C$15,'Baggrundsdata - BVT - deflator'!$H76,IF($H$17=$C$15,'Baggrundsdata - BVT - deflator'!$G76,IF($C$15=$G$17,'Baggrundsdata - BVT - deflator'!$F76,IF($F$17=$C$15,'Baggrundsdata - BVT - deflator'!$E76,IF($E$17=$C$15,'Baggrundsdata - BVT - deflator'!$D76,IF($D$17=$C$15,'Baggrundsdata - BVT - deflator'!$C76,IF('Baggrundsdata - BVT - deflator'!$C$17='Baggrundsdata - BVT - deflator'!$C$15,'Baggrundsdata - BVT - deflator'!$B76,\"*\"))))))))))),\"*\")","v":1.0135500773063046},{"$f":"IFERROR('Baggrundsdata - BVT - deflator'!K76/IF($M$17=$C$15,$L76,IF($L$17=$C$15,$K76,IF($K$17=$C$15,$J76,IF($J$17=$C$15,$I76,IF($I$17=$C$15,'Baggrundsdata - BVT - deflator'!$H76,IF($H$17=$C$15,'Baggrundsdata - BVT - deflator'!$G76,IF($C$15=$G$17,'Baggrundsdata - BVT - deflator'!$F76,IF($F$17=$C$15,'Baggrundsdata - BVT - deflator'!$E76,IF($E$17=$C$15,'Baggrundsdata - BVT - deflator'!$D76,IF($D$17=$C$15,'Baggrundsdata - BVT - deflator'!$C76,IF('Baggrundsdata - BVT - deflator'!$C$17='Baggrundsdata - BVT - deflator'!$C$15,'Baggrundsdata - BVT - deflator'!$B76,\"*\"))))))))))),\"*\")","v":1},{"$f":"IFERROR('Baggrundsdata - BVT - deflator'!L76/IF($M$17=$C$15,$L76,IF($L$17=$C$15,$K76,IF($K$17=$C$15,$J76,IF($J$17=$C$15,$I76,IF($I$17=$C$15,'Baggrundsdata - BVT - deflator'!$H76,IF($H$17=$C$15,'Baggrundsdata - BVT - deflator'!$G76,IF($C$15=$G$17,'Baggrundsdata - BVT - deflator'!$F76,IF($F$17=$C$15,'Baggrundsdata - BVT - deflator'!$E76,IF($E$17=$C$15,'Baggrundsdata - BVT - deflator'!$D76,IF($D$17=$C$15,'Baggrundsdata - BVT - deflator'!$C76,IF('Baggrundsdata - BVT - deflator'!$C$17='Baggrundsdata - BVT - deflator'!$C$15,'Baggrundsdata - BVT - deflator'!$B76,\"*\"))))))))))),\"*\")","v":0},null,{"$f":"IF(A76='Level 1'!A59,\"sand\",\"falsk\")","v":"sand"},null,null,"UK",{"$f":"IFERROR('Baggrundsdata - BVT - deflator'!B96/IF($AC$17=$S$15,$L96,IF($AB$17=$S$15,$K96,IF($AA$17=$S$15,$J96,IF($Z$17=$S$15,$I96,IF($Y$17=$S$15,'Baggrundsdata - BVT - deflator'!$H96,IF($X$17=$S$15,'Baggrundsdata - BVT - deflator'!$G96,IF($S$15=$W$17,'Baggrundsdata - BVT - deflator'!$F96,IF($V$17=$S$15,'Baggrundsdata - BVT - deflator'!$E96,IF($U$17=$S$15,'Baggrundsdata - BVT - deflator'!$D96,IF($T$17=$S$15,'Baggrundsdata - BVT - deflator'!$C96,IF($S$17=$S$15,'Baggrundsdata - BVT - deflator'!$B96,\"*\"))))))))))),\"*\")","v":0.81852615251842198},{"$f":"IFERROR('Baggrundsdata - BVT - deflator'!C96/IF($AC$17=$S$15,$L96,IF($AB$17=$S$15,$K96,IF($AA$17=$S$15,$J96,IF($Z$17=$S$15,$I96,IF($Y$17=$S$15,'Baggrundsdata - BVT - deflator'!$H96,IF($X$17=$S$15,'Baggrundsdata - BVT - deflator'!$G96,IF($S$15=$W$17,'Baggrundsdata - BVT - deflator'!$F96,IF($V$17=$S$15,'Baggrundsdata - BVT - deflator'!$E96,IF($U$17=$S$15,'Baggrundsdata - BVT - deflator'!$D96,IF($T$17=$S$15,'Baggrundsdata - BVT - deflator'!$C96,IF($S$17=$S$15,'Baggrundsdata - BVT - deflator'!$B96,\"*\"))))))))))),\"*\")","v":0.72540109902489991},{"$f":"IFERROR('Baggrundsdata - BVT - deflator'!D96/IF($AC$17=$S$15,$L96,IF($AB$17=$S$15,$K96,IF($AA$17=$S$15,$J96,IF($Z$17=$S$15,$I96,IF($Y$17=$S$15,'Baggrundsdata - BVT - deflator'!$H96,IF($X$17=$S$15,'Baggrundsdata - BVT - deflator'!$G96,IF($S$15=$W$17,'Baggrundsdata - BVT - deflator'!$F96,IF($V$17=$S$15,'Baggrundsdata - BVT - deflator'!$E96,IF($U$17=$S$15,'Baggrundsdata - BVT - deflator'!$D96,IF($T$17=$S$15,'Baggrundsdata - BVT - deflator'!$C96,IF($S$17=$S$15,'Baggrundsdata - BVT - deflator'!$B96,\"*\"))))))))))),\"*\")","v":0.66725971801510808},{"$f":"IFERROR('Baggrundsdata - BVT - deflator'!E96/IF($AC$17=$S$15,$L96,IF($AB$17=$S$15,$K96,IF($AA$17=$S$15,$J96,IF($Z$17=$S$15,$I96,IF($Y$17=$S$15,'Baggrundsdata - BVT - deflator'!$H96,IF($X$17=$S$15,'Baggrundsdata - BVT - deflator'!$G96,IF($S$15=$W$17,'Baggrundsdata - BVT - deflator'!$F96,IF($V$17=$S$15,'Baggrundsdata - BVT - deflator'!$E96,IF($U$17=$S$15,'Baggrundsdata - BVT - deflator'!$D96,IF($T$17=$S$15,'Baggrundsdata - BVT - deflator'!$C96,IF($S$17=$S$15,'Baggrundsdata - BVT - deflator'!$B96,\"*\"))))))))))),\"*\")","v":0.70602769896529227},{"$f":"IFERROR('Baggrundsdata - BVT - deflator'!F96/IF($AC$17=$S$15,$L96,IF($AB$17=$S$15,$K96,IF($AA$17=$S$15,$J96,IF($Z$17=$S$15,$I96,IF($Y$17=$S$15,'Baggrundsdata - BVT - deflator'!$H96,IF($X$17=$S$15,'Baggrundsdata - BVT - deflator'!$G96,IF($S$15=$W$17,'Baggrundsdata - BVT - deflator'!$F96,IF($V$17=$S$15,'Baggrundsdata - BVT - deflator'!$E96,IF($U$17=$S$15,'Baggrundsdata - BVT - deflator'!$D96,IF($T$17=$S$15,'Baggrundsdata - BVT - deflator'!$C96,IF($S$17=$S$15,'Baggrundsdata - BVT - deflator'!$B96,\"*\"))))))))))),\"*\")","v":0.70749623657914007},{"$f":"IFERROR('Baggrundsdata - BVT - deflator'!G96/IF($AC$17=$S$15,$L96,IF($AB$17=$S$15,$K96,IF($AA$17=$S$15,$J96,IF($Z$17=$S$15,$I96,IF($Y$17=$S$15,'Baggrundsdata - BVT - deflator'!$H96,IF($X$17=$S$15,'Baggrundsdata - BVT - deflator'!$G96,IF($S$15=$W$17,'Baggrundsdata - BVT - deflator'!$F96,IF($V$17=$S$15,'Baggrundsdata - BVT - deflator'!$E96,IF($U$17=$S$15,'Baggrundsdata - BVT - deflator'!$D96,IF($T$17=$S$15,'Baggrundsdata - BVT - deflator'!$C96,IF($S$17=$S$15,'Baggrundsdata - BVT - deflator'!$B96,\"*\"))))))))))),\"*\")","v":0.77169533524605416},{"$f":"IFERROR('Baggrundsdata - BVT - deflator'!H96/IF($AC$17=$S$15,$L96,IF($AB$17=$S$15,$K96,IF($AA$17=$S$15,$J96,IF($Z$17=$S$15,$I96,IF($Y$17=$S$15,'Baggrundsdata - BVT - deflator'!$H96,IF($X$17=$S$15,'Baggrundsdata - BVT - deflator'!$G96,IF($S$15=$W$17,'Baggrundsdata - BVT - deflator'!$F96,IF($V$17=$S$15,'Baggrundsdata - BVT - deflator'!$E96,IF($U$17=$S$15,'Baggrundsdata - BVT - deflator'!$D96,IF($T$17=$S$15,'Baggrundsdata - BVT - deflator'!$C96,IF($S$17=$S$15,'Baggrundsdata - BVT - deflator'!$B96,\"*\"))))))))))),\"*\")","v":0.75061334815495051},{"$f":"IFERROR('Baggrundsdata - BVT - deflator'!I96/IF($AC$17=$S$15,$L96,IF($AB$17=$S$15,$K96,IF($AA$17=$S$15,$J96,IF($Z$17=$S$15,$I96,IF($Y$17=$S$15,'Baggrundsdata - BVT - deflator'!$H96,IF($X$17=$S$15,'Baggrundsdata - BVT - deflator'!$G96,IF($S$15=$W$17,'Baggrundsdata - BVT - deflator'!$F96,IF($V$17=$S$15,'Baggrundsdata - BVT - deflator'!$E96,IF($U$17=$S$15,'Baggrundsdata - BVT - deflator'!$D96,IF($T$17=$S$15,'Baggrundsdata - BVT - deflator'!$C96,IF($S$17=$S$15,'Baggrundsdata - BVT - deflator'!$B96,\"*\"))))))))))),\"*\")","v":0.80578941282908811},{"$f":"IFERROR('Baggrundsdata - BVT - deflator'!J96/IF($AC$17=$S$15,$L96,IF($AB$17=$S$15,$K96,IF($AA$17=$S$15,$J96,IF($Z$17=$S$15,$I96,IF($Y$17=$S$15,'Baggrundsdata - BVT - deflator'!$H96,IF($X$17=$S$15,'Baggrundsdata - BVT - deflator'!$G96,IF($S$15=$W$17,'Baggrundsdata - BVT - deflator'!$F96,IF($V$17=$S$15,'Baggrundsdata - BVT - deflator'!$E96,IF($U$17=$S$15,'Baggrundsdata - BVT - deflator'!$D96,IF($T$17=$S$15,'Baggrundsdata - BVT - deflator'!$C96,IF($S$17=$S$15,'Baggrundsdata - BVT - deflator'!$B96,\"*\"))))))))))),\"*\")","v":0.89765773701845186},{"$f":"IFERROR('Baggrundsdata - BVT - deflator'!K96/IF($AC$17=$S$15,$L96,IF($AB$17=$S$15,$K96,IF($AA$17=$S$15,$J96,IF($Z$17=$S$15,$I96,IF($Y$17=$S$15,'Baggrundsdata - BVT - deflator'!$H96,IF($X$17=$S$15,'Baggrundsdata - BVT - deflator'!$G96,IF($S$15=$W$17,'Baggrundsdata - BVT - deflator'!$F96,IF($V$17=$S$15,'Baggrundsdata - BVT - deflator'!$E96,IF($U$17=$S$15,'Baggrundsdata - BVT - deflator'!$D96,IF($T$17=$S$15,'Baggrundsdata - BVT - deflator'!$C96,IF($S$17=$S$15,'Baggrundsdata - BVT - deflator'!$B96,\"*\"))))))))))),\"*\")","v":1},{"$f":"IFERROR('Baggrundsdata - BVT - deflator'!L96/IF($AC$17=$S$15,$L96,IF($AB$17=$S$15,$K96,IF($AA$17=$S$15,$J96,IF($Z$17=$S$15,$I96,IF($Y$17=$S$15,'Baggrundsdata - BVT - deflator'!$H96,IF($X$17=$S$15,'Baggrundsdata - BVT - deflator'!$G96,IF($S$15=$W$17,'Baggrundsdata - BVT - deflator'!$F96,IF($V$17=$S$15,'Baggrundsdata - BVT - deflator'!$E96,IF($U$17=$S$15,'Baggrundsdata - BVT - deflator'!$D96,IF($T$17=$S$15,'Baggrundsdata - BVT - deflator'!$C96,IF($S$17=$S$15,'Baggrundsdata - BVT - deflator'!$B96,\"*\"))))))))))),\"*\")","v":0},null,{"$f":"IF(R26=Forside!B47,\"sand\",\"falsk\")","v":"sand"}]
[null,"Spain",{"$f":"IFERROR('Baggrundsdata - BVT - deflator'!B77/IF($M$17=$C$15,$L77,IF($L$17=$C$15,$K77,IF($K$17=$C$15,$J77,IF($J$17=$C$15,$I77,IF($I$17=$C$15,'Baggrundsdata - BVT - deflator'!$H77,IF($H$17=$C$15,'Baggrundsdata - BVT - deflator'!$G77,IF($C$15=$G$17,'Baggrundsdata - BVT - deflator'!$F77,IF($F$17=$C$15,'Baggrundsdata - BVT - deflator'!$E77,IF($E$17=$C$15,'Baggrundsdata - BVT - deflator'!$D77,IF($D$17=$C$15,'Baggrundsdata - BVT - deflator'!$C77,IF('Baggrundsdata - BVT - deflator'!$C$17='Baggrundsdata - BVT - deflator'!$C$15,'Baggrundsdata - BVT - deflator'!$B77,\"*\"))))))))))),\"*\")","v":0.96726970830066994},{"$f":"IFERROR('Baggrundsdata - BVT - deflator'!C77/IF($M$17=$C$15,$L77,IF($L$17=$C$15,$K77,IF($K$17=$C$15,$J77,IF($J$17=$C$15,$I77,IF($I$17=$C$15,'Baggrundsdata - BVT - deflator'!$H77,IF($H$17=$C$15,'Baggrundsdata - BVT - deflator'!$G77,IF($C$15=$G$17,'Baggrundsdata - BVT - deflator'!$F77,IF($F$17=$C$15,'Baggrundsdata - BVT - deflator'!$E77,IF($E$17=$C$15,'Baggrundsdata - BVT - deflator'!$D77,IF($D$17=$C$15,'Baggrundsdata - BVT - deflator'!$C77,IF('Baggrundsdata - BVT - deflator'!$C$17='Baggrundsdata - BVT - deflator'!$C$15,'Baggrundsdata - BVT - deflator'!$B77,\"*\"))))))))))),\"*\")","v":1.0063142593604455},{"$f":"IFERROR('Baggrundsdata - BVT - deflator'!D77/IF($M$17=$C$15,$L77,IF($L$17=$C$15,$K77,IF($K$17=$C$15,$J77,IF($J$17=$C$15,$I77,IF($I$17=$C$15,'Baggrundsdata - BVT - deflator'!$H77,IF($H$17=$C$15,'Baggrundsdata - BVT - deflator'!$G77,IF($C$15=$G$17,'Baggrundsdata - BVT - deflator'!$F77,IF($F$17=$C$15,'Baggrundsdata - BVT - deflator'!$E77,IF($E$17=$C$15,'Baggrundsdata - BVT - deflator'!$D77,IF($D$17=$C$15,'Baggrundsdata - BVT - deflator'!$C77,IF('Baggrundsdata - BVT - deflator'!$C$17='Baggrundsdata - BVT - deflator'!$C$15,'Baggrundsdata - BVT - deflator'!$B77,\"*\"))))))))))),\"*\")","v":1.0215702769946127},{"$f":"IFERROR('Baggrundsdata - BVT - deflator'!E77/IF($M$17=$C$15,$L77,IF($L$17=$C$15,$K77,IF($K$17=$C$15,$J77,IF($J$17=$C$15,$I77,IF($I$17=$C$15,'Baggrundsdata - BVT - deflator'!$H77,IF($H$17=$C$15,'Baggrundsdata - BVT - deflator'!$G77,IF($C$15=$G$17,'Baggrundsdata - BVT - deflator'!$F77,IF($F$17=$C$15,'Baggrundsdata - BVT - deflator'!$E77,IF($E$17=$C$15,'Baggrundsdata - BVT - deflator'!$D77,IF($D$17=$C$15,'Baggrundsdata - BVT - deflator'!$C77,IF('Baggrundsdata - BVT - deflator'!$C$17='Baggrundsdata - BVT - deflator'!$C$15,'Baggrundsdata - BVT - deflator'!$B77,\"*\"))))))))))),\"*\")","v":1.0050077492863732},{"$f":"IFERROR('Baggrundsdata - BVT - deflator'!F77/IF($M$17=$C$15,$L77,IF($L$17=$C$15,$K77,IF($K$17=$C$15,$J77,IF($J$17=$C$15,$I77,IF($I$17=$C$15,'Baggrundsdata - BVT - deflator'!$H77,IF($H$17=$C$15,'Baggrundsdata - BVT - deflator'!$G77,IF($C$15=$G$17,'Baggrundsdata - BVT - deflator'!$F77,IF($F$17=$C$15,'Baggrundsdata - BVT - deflator'!$E77,IF($E$17=$C$15,'Baggrundsdata - BVT - deflator'!$D77,IF($D$17=$C$15,'Baggrundsdata - BVT - deflator'!$C77,IF('Baggrundsdata - BVT - deflator'!$C$17='Baggrundsdata - BVT - deflator'!$C$15,'Baggrundsdata - BVT - deflator'!$B77,\"*\"))))))))))),\"*\")","v":1.0045554957991945},{"$f":"IFERROR('Baggrundsdata - BVT - deflator'!G77/IF($M$17=$C$15,$L77,IF($L$17=$C$15,$K77,IF($K$17=$C$15,$J77,IF($J$17=$C$15,$I77,IF($I$17=$C$15,'Baggrundsdata - BVT - deflator'!$H77,IF($H$17=$C$15,'Baggrundsdata - BVT - deflator'!$G77,IF($C$15=$G$17,'Baggrundsdata - BVT - deflator'!$F77,IF($F$17=$C$15,'Baggrundsdata - BVT - deflator'!$E77,IF($E$17=$C$15,'Baggrundsdata - BVT - deflator'!$D77,IF($D$17=$C$15,'Baggrundsdata - BVT - deflator'!$C77,IF('Baggrundsdata - BVT - deflator'!$C$17='Baggrundsdata - BVT - deflator'!$C$15,'Baggrundsdata - BVT - deflator'!$B77,\"*\"))))))))))),\"*\")","v":1.0021032768909357},{"$f":"IFERROR('Baggrundsdata - BVT - deflator'!H77/IF($M$17=$C$15,$L77,IF($L$17=$C$15,$K77,IF($K$17=$C$15,$J77,IF($J$17=$C$15,$I77,IF($I$17=$C$15,'Baggrundsdata - BVT - deflator'!$H77,IF($H$17=$C$15,'Baggrundsdata - BVT - deflator'!$G77,IF($C$15=$G$17,'Baggrundsdata - BVT - deflator'!$F77,IF($F$17=$C$15,'Baggrundsdata - BVT - deflator'!$E77,IF($E$17=$C$15,'Baggrundsdata - BVT - deflator'!$D77,IF($D$17=$C$15,'Baggrundsdata - BVT - deflator'!$C77,IF('Baggrundsdata - BVT - deflator'!$C$17='Baggrundsdata - BVT - deflator'!$C$15,'Baggrundsdata - BVT - deflator'!$B77,\"*\"))))))))))),\"*\")","v":1.001188719839085},{"$f":"IFERROR('Baggrundsdata - BVT - deflator'!I77/IF($M$17=$C$15,$L77,IF($L$17=$C$15,$K77,IF($K$17=$C$15,$J77,IF($J$17=$C$15,$I77,IF($I$17=$C$15,'Baggrundsdata - BVT - deflator'!$H77,IF($H$17=$C$15,'Baggrundsdata - BVT - deflator'!$G77,IF($C$15=$G$17,'Baggrundsdata - BVT - deflator'!$F77,IF($F$17=$C$15,'Baggrundsdata - BVT - deflator'!$E77,IF($E$17=$C$15,'Baggrundsdata - BVT - deflator'!$D77,IF($D$17=$C$15,'Baggrundsdata - BVT - deflator'!$C77,IF('Baggrundsdata - BVT - deflator'!$C$17='Baggrundsdata - BVT - deflator'!$C$15,'Baggrundsdata - BVT - deflator'!$B77,\"*\"))))))))))),\"*\")","v":0.99462601923624494},{"$f":"IFERROR('Baggrundsdata - BVT - deflator'!J77/IF($M$17=$C$15,$L77,IF($L$17=$C$15,$K77,IF($K$17=$C$15,$J77,IF($J$17=$C$15,$I77,IF($I$17=$C$15,'Baggrundsdata - BVT - deflator'!$H77,IF($H$17=$C$15,'Baggrundsdata - BVT - deflator'!$G77,IF($C$15=$G$17,'Baggrundsdata - BVT - deflator'!$F77,IF($F$17=$C$15,'Baggrundsdata - BVT - deflator'!$E77,IF($E$17=$C$15,'Baggrundsdata - BVT - deflator'!$D77,IF($D$17=$C$15,'Baggrundsdata - BVT - deflator'!$C77,IF('Baggrundsdata - BVT - deflator'!$C$17='Baggrundsdata - BVT - deflator'!$C$15,'Baggrundsdata - BVT - deflator'!$B77,\"*\"))))))))))),\"*\")","v":0.9973093899268396},{"$f":"IFERROR('Baggrundsdata - BVT - deflator'!K77/IF($M$17=$C$15,$L77,IF($L$17=$C$15,$K77,IF($K$17=$C$15,$J77,IF($J$17=$C$15,$I77,IF($I$17=$C$15,'Baggrundsdata - BVT - deflator'!$H77,IF($H$17=$C$15,'Baggrundsdata - BVT - deflator'!$G77,IF($C$15=$G$17,'Baggrundsdata - BVT - deflator'!$F77,IF($F$17=$C$15,'Baggrundsdata - BVT - deflator'!$E77,IF($E$17=$C$15,'Baggrundsdata - BVT - deflator'!$D77,IF($D$17=$C$15,'Baggrundsdata - BVT - deflator'!$C77,IF('Baggrundsdata - BVT - deflator'!$C$17='Baggrundsdata - BVT - deflator'!$C$15,'Baggrundsdata - BVT - deflator'!$B77,\"*\"))))))))))),\"*\")","v":1},{"$f":"IFERROR('Baggrundsdata - BVT - deflator'!L77/IF($M$17=$C$15,$L77,IF($L$17=$C$15,$K77,IF($K$17=$C$15,$J77,IF($J$17=$C$15,$I77,IF($I$17=$C$15,'Baggrundsdata - BVT - deflator'!$H77,IF($H$17=$C$15,'Baggrundsdata - BVT - deflator'!$G77,IF($C$15=$G$17,'Baggrundsdata - BVT - deflator'!$F77,IF($F$17=$C$15,'Baggrundsdata - BVT - deflator'!$E77,IF($E$17=$C$15,'Baggrundsdata - BVT - deflator'!$D77,IF($D$17=$C$15,'Baggrundsdata - BVT - deflator'!$C77,IF('Baggrundsdata - BVT - deflator'!$C$17='Baggrundsdata - BVT - deflator'!$C$15,'Baggrundsdata - BVT - deflator'!$B77,\"*\"))))))))))),\"*\")","v":0},null,{"$f":"IF(A77='Level 1'!A60,\"sand\",\"falsk\")","v":"sand"},null,null,"Kilde: Eurostat"]
[null,"France",{"$f":"IFERROR('Baggrundsdata - BVT - deflator'!B78/IF($M$17=$C$15,$L78,IF($L$17=$C$15,$K78,IF($K$17=$C$15,$J78,IF($J$17=$C$15,$I78,IF($I$17=$C$15,'Baggrundsdata - BVT - deflator'!$H78,IF($H$17=$C$15,'Baggrundsdata - BVT - deflator'!$G78,IF($C$15=$G$17,'Baggrundsdata - BVT - deflator'!$F78,IF($F$17=$C$15,'Baggrundsdata - BVT - deflator'!$E78,IF($E$17=$C$15,'Baggrundsdata - BVT - deflator'!$D78,IF($D$17=$C$15,'Baggrundsdata - BVT - deflator'!$C78,IF('Baggrundsdata - BVT - deflator'!$C$17='Baggrundsdata - BVT - deflator'!$C$15,'Baggrundsdata - BVT - deflator'!$B78,\"*\"))))))))))),\"*\")","v":0.91927631678050314},{"$f":"IFERROR('Baggrundsdata - BVT - deflator'!C78/IF($M$17=$C$15,$L78,IF($L$17=$C$15,$K78,IF($K$17=$C$15,$J78,IF($J$17=$C$15,$I78,IF($I$17=$C$15,'Baggrundsdata - BVT - deflator'!$H78,IF($H$17=$C$15,'Baggrundsdata - BVT - deflator'!$G78,IF($C$15=$G$17,'Baggrundsdata - BVT - deflator'!$F78,IF($F$17=$C$15,'Baggrundsdata - BVT - deflator'!$E78,IF($E$17=$C$15,'Baggrundsdata - BVT - deflator'!$D78,IF($D$17=$C$15,'Baggrundsdata - BVT - deflator'!$C78,IF('Baggrundsdata - BVT - deflator'!$C$17='Baggrundsdata - BVT - deflator'!$C$15,'Baggrundsdata - BVT - deflator'!$B78,\"*\"))))))))))),\"*\")","v":0.94110916504091535},{"$f":"IFERROR('Baggrundsdata - BVT - deflator'!D78/IF($M$17=$C$15,$L78,IF($L$17=$C$15,$K78,IF($K$17=$C$15,$J78,IF($J$17=$C$15,$I78,IF($I$17=$C$15,'Baggrundsdata - BVT - deflator'!$H78,IF($H$17=$C$15,'Baggrundsdata - BVT - deflator'!$G78,IF($C$15=$G$17,'Baggrundsdata - BVT - deflator'!$F78,IF($F$17=$C$15,'Baggrundsdata - BVT - deflator'!$E78,IF($E$17=$C$15,'Baggrundsdata - BVT - deflator'!$D78,IF($D$17=$C$15,'Baggrundsdata - BVT - deflator'!$C78,IF('Baggrundsdata - BVT - deflator'!$C$17='Baggrundsdata - BVT - deflator'!$C$15,'Baggrundsdata - BVT - deflator'!$B78,\"*\"))))))))))),\"*\")","v":0.943777518385706},{"$f":"IFERROR('Baggrundsdata - BVT - deflator'!E78/IF($M$17=$C$15,$L78,IF($L$17=$C$15,$K78,IF($K$17=$C$15,$J78,IF($J$17=$C$15,$I78,IF($I$17=$C$15,'Baggrundsdata - BVT - deflator'!$H78,IF($H$17=$C$15,'Baggrundsdata - BVT - deflator'!$G78,IF($C$15=$G$17,'Baggrundsdata - BVT - deflator'!$F78,IF($F$17=$C$15,'Baggrundsdata - BVT - deflator'!$E78,IF($E$17=$C$15,'Baggrundsdata - BVT - deflator'!$D78,IF($D$17=$C$15,'Baggrundsdata - BVT - deflator'!$C78,IF('Baggrundsdata - BVT - deflator'!$C$17='Baggrundsdata - BVT - deflator'!$C$15,'Baggrundsdata - BVT - deflator'!$B78,\"*\"))))))))))),\"*\")","v":0.95298333742523367},{"$f":"IFERROR('Baggrundsdata - BVT - deflator'!F78/IF($M$17=$C$15,$L78,IF($L$17=$C$15,$K78,IF($K$17=$C$15,$J78,IF($J$17=$C$15,$I78,IF($I$17=$C$15,'Baggrundsdata - BVT - deflator'!$H78,IF($H$17=$C$15,'Baggrundsdata - BVT - deflator'!$G78,IF($C$15=$G$17,'Baggrundsdata - BVT - deflator'!$F78,IF($F$17=$C$15,'Baggrundsdata - BVT - deflator'!$E78,IF($E$17=$C$15,'Baggrundsdata - BVT - deflator'!$D78,IF($D$17=$C$15,'Baggrundsdata - BVT - deflator'!$C78,IF('Baggrundsdata - BVT - deflator'!$C$17='Baggrundsdata - BVT - deflator'!$C$15,'Baggrundsdata - BVT - deflator'!$B78,\"*\"))))))))))),\"*\")","v":0.95841534244855742},{"$f":"IFERROR('Baggrundsdata - BVT - deflator'!G78/IF($M$17=$C$15,$L78,IF($L$17=$C$15,$K78,IF($K$17=$C$15,$J78,IF($J$17=$C$15,$I78,IF($I$17=$C$15,'Baggrundsdata - BVT - deflator'!$H78,IF($H$17=$C$15,'Baggrundsdata - BVT - deflator'!$G78,IF($C$15=$G$17,'Baggrundsdata - BVT - deflator'!$F78,IF($F$17=$C$15,'Baggrundsdata - BVT - deflator'!$E78,IF($E$17=$C$15,'Baggrundsdata - BVT - deflator'!$D78,IF($D$17=$C$15,'Baggrundsdata - BVT - deflator'!$C78,IF('Baggrundsdata - BVT - deflator'!$C$17='Baggrundsdata - BVT - deflator'!$C$15,'Baggrundsdata - BVT - deflator'!$B78,\"*\"))))))))))),\"*\")","v":0.96677300631777685},{"$f":"IFERROR('Baggrundsdata - BVT - deflator'!H78/IF($M$17=$C$15,$L78,IF($L$17=$C$15,$K78,IF($K$17=$C$15,$J78,IF($J$17=$C$15,$I78,IF($I$17=$C$15,'Baggrundsdata - BVT - deflator'!$H78,IF($H$17=$C$15,'Baggrundsdata - BVT - deflator'!$G78,IF($C$15=$G$17,'Baggrundsdata - BVT - deflator'!$F78,IF($F$17=$C$15,'Baggrundsdata - BVT - deflator'!$E78,IF($E$17=$C$15,'Baggrundsdata - BVT - deflator'!$D78,IF($D$17=$C$15,'Baggrundsdata - BVT - deflator'!$C78,IF('Baggrundsdata - BVT - deflator'!$C$17='Baggrundsdata - BVT - deflator'!$C$15,'Baggrundsdata - BVT - deflator'!$B78,\"*\"))))))))))),\"*\")","v":0.97311034551165454},{"$f":"IFERROR('Baggrundsdata - BVT - deflator'!I78/IF($M$17=$C$15,$L78,IF($L$17=$C$15,$K78,IF($K$17=$C$15,$J78,IF($J$17=$C$15,$I78,IF($I$17=$C$15,'Baggrundsdata - BVT - deflator'!$H78,IF($H$17=$C$15,'Baggrundsdata - BVT - deflator'!$G78,IF($C$15=$G$17,'Baggrundsdata - BVT - deflator'!$F78,IF($F$17=$C$15,'Baggrundsdata - BVT - deflator'!$E78,IF($E$17=$C$15,'Baggrundsdata - BVT - deflator'!$D78,IF($D$17=$C$15,'Baggrundsdata - BVT - deflator'!$C78,IF('Baggrundsdata - BVT - deflator'!$C$17='Baggrundsdata - BVT - deflator'!$C$15,'Baggrundsdata - BVT - deflator'!$B78,\"*\"))))))))))),\"*\")","v":0.97574057952294835},{"$f":"IFERROR('Baggrundsdata - BVT - deflator'!J78/IF($M$17=$C$15,$L78,IF($L$17=$C$15,$K78,IF($K$17=$C$15,$J78,IF($J$17=$C$15,$I78,IF($I$17=$C$15,'Baggrundsdata - BVT - deflator'!$H78,IF($H$17=$C$15,'Baggrundsdata - BVT - deflator'!$G78,IF($C$15=$G$17,'Baggrundsdata - BVT - deflator'!$F78,IF($F$17=$C$15,'Baggrundsdata - BVT - deflator'!$E78,IF($E$17=$C$15,'Baggrundsdata - BVT - deflator'!$D78,IF($D$17=$C$15,'Baggrundsdata - BVT - deflator'!$C78,IF('Baggrundsdata - BVT - deflator'!$C$17='Baggrundsdata - BVT - deflator'!$C$15,'Baggrundsdata - BVT - deflator'!$B78,\"*\"))))))))))),\"*\")","v":0.98779581874137756},{"$f":"IFERROR('Baggrundsdata - BVT - deflator'!K78/IF($M$17=$C$15,$L78,IF($L$17=$C$15,$K78,IF($K$17=$C$15,$J78,IF($J$17=$C$15,$I78,IF($I$17=$C$15,'Baggrundsdata - BVT - deflator'!$H78,IF($H$17=$C$15,'Baggrundsdata - BVT - deflator'!$G78,IF($C$15=$G$17,'Baggrundsdata - BVT - deflator'!$F78,IF($F$17=$C$15,'Baggrundsdata - BVT - deflator'!$E78,IF($E$17=$C$15,'Baggrundsdata - BVT - deflator'!$D78,IF($D$17=$C$15,'Baggrundsdata - BVT - deflator'!$C78,IF('Baggrundsdata - BVT - deflator'!$C$17='Baggrundsdata - BVT - deflator'!$C$15,'Baggrundsdata - BVT - deflator'!$B78,\"*\"))))))))))),\"*\")","v":1},{"$f":"IFERROR('Baggrundsdata - BVT - deflator'!L78/IF($M$17=$C$15,$L78,IF($L$17=$C$15,$K78,IF($K$17=$C$15,$J78,IF($J$17=$C$15,$I78,IF($I$17=$C$15,'Baggrundsdata - BVT - deflator'!$H78,IF($H$17=$C$15,'Baggrundsdata - BVT - deflator'!$G78,IF($C$15=$G$17,'Baggrundsdata - BVT - deflator'!$F78,IF($F$17=$C$15,'Baggrundsdata - BVT - deflator'!$E78,IF($E$17=$C$15,'Baggrundsdata - BVT - deflator'!$D78,IF($D$17=$C$15,'Baggrundsdata - BVT - deflator'!$C78,IF('Baggrundsdata - BVT - deflator'!$C$17='Baggrundsdata - BVT - deflator'!$C$15,'Baggrundsdata - BVT - deflator'!$B78,\"*\"))))))))))),\"*\")","v":0},null,{"$f":"IF(A78='Level 1'!A61,\"sand\",\"falsk\")","v":"sand"},null,null,"Bemærk: Deflatoren er hentet for alle erhverv samlet i de enkelte lande. * hvis manglende baggrundsdata"]
[null,"Croatia",{"$f":"IFERROR('Baggrundsdata - BVT - deflator'!B79/IF($M$17=$C$15,$L79,IF($L$17=$C$15,$K79,IF($K$17=$C$15,$J79,IF($J$17=$C$15,$I79,IF($I$17=$C$15,'Baggrundsdata - BVT - deflator'!$H79,IF($H$17=$C$15,'Baggrundsdata - BVT - deflator'!$G79,IF($C$15=$G$17,'Baggrundsdata - BVT - deflator'!$F79,IF($F$17=$C$15,'Baggrundsdata - BVT - deflator'!$E79,IF($E$17=$C$15,'Baggrundsdata - BVT - deflator'!$D79,IF($D$17=$C$15,'Baggrundsdata - BVT - deflator'!$C79,IF('Baggrundsdata - BVT - deflator'!$C$17='Baggrundsdata - BVT - deflator'!$C$15,'Baggrundsdata - BVT - deflator'!$B79,\"*\"))))))))))),\"*\")","v":0.92134143389769241},{"$f":"IFERROR('Baggrundsdata - BVT - deflator'!C79/IF($M$17=$C$15,$L79,IF($L$17=$C$15,$K79,IF($K$17=$C$15,$J79,IF($J$17=$C$15,$I79,IF($I$17=$C$15,'Baggrundsdata - BVT - deflator'!$H79,IF($H$17=$C$15,'Baggrundsdata - BVT - deflator'!$G79,IF($C$15=$G$17,'Baggrundsdata - BVT - deflator'!$F79,IF($F$17=$C$15,'Baggrundsdata - BVT - deflator'!$E79,IF($E$17=$C$15,'Baggrundsdata - BVT - deflator'!$D79,IF($D$17=$C$15,'Baggrundsdata - BVT - deflator'!$C79,IF('Baggrundsdata - BVT - deflator'!$C$17='Baggrundsdata - BVT - deflator'!$C$15,'Baggrundsdata - BVT - deflator'!$B79,\"*\"))))))))))),\"*\")","v":0.98933359482601857},{"$f":"IFERROR('Baggrundsdata - BVT - deflator'!D79/IF($M$17=$C$15,$L79,IF($L$17=$C$15,$K79,IF($K$17=$C$15,$J79,IF($J$17=$C$15,$I79,IF($I$17=$C$15,'Baggrundsdata - BVT - deflator'!$H79,IF($H$17=$C$15,'Baggrundsdata - BVT - deflator'!$G79,IF($C$15=$G$17,'Baggrundsdata - BVT - deflator'!$F79,IF($F$17=$C$15,'Baggrundsdata - BVT - deflator'!$E79,IF($E$17=$C$15,'Baggrundsdata - BVT - deflator'!$D79,IF($D$17=$C$15,'Baggrundsdata - BVT - deflator'!$C79,IF('Baggrundsdata - BVT - deflator'!$C$17='Baggrundsdata - BVT - deflator'!$C$15,'Baggrundsdata - BVT - deflator'!$B79,\"*\"))))))))))),\"*\")","v":0.99991871501826013},{"$f":"IFERROR('Baggrundsdata - BVT - deflator'!E79/IF($M$17=$C$15,$L79,IF($L$17=$C$15,$K79,IF($K$17=$C$15,$J79,IF($J$17=$C$15,$I79,IF($I$17=$C$15,'Baggrundsdata - BVT - deflator'!$H79,IF($H$17=$C$15,'Baggrundsdata - BVT - deflator'!$G79,IF($C$15=$G$17,'Baggrundsdata - BVT - deflator'!$F79,IF($F$17=$C$15,'Baggrundsdata - BVT - deflator'!$E79,IF($E$17=$C$15,'Baggrundsdata - BVT - deflator'!$D79,IF($D$17=$C$15,'Baggrundsdata - BVT - deflator'!$C79,IF('Baggrundsdata - BVT - deflator'!$C$17='Baggrundsdata - BVT - deflator'!$C$15,'Baggrundsdata - BVT - deflator'!$B79,\"*\"))))))))))),\"*\")","v":1.0139004015557136},{"$f":"IFERROR('Baggrundsdata - BVT - deflator'!F79/IF($M$17=$C$15,$L79,IF($L$17=$C$15,$K79,IF($K$17=$C$15,$J79,IF($J$17=$C$15,$I79,IF($I$17=$C$15,'Baggrundsdata - BVT - deflator'!$H79,IF($H$17=$C$15,'Baggrundsdata - BVT - deflator'!$G79,IF($C$15=$G$17,'Baggrundsdata - BVT - deflator'!$F79,IF($F$17=$C$15,'Baggrundsdata - BVT - deflator'!$E79,IF($E$17=$C$15,'Baggrundsdata - BVT - deflator'!$D79,IF($D$17=$C$15,'Baggrundsdata - BVT - deflator'!$C79,IF('Baggrundsdata - BVT - deflator'!$C$17='Baggrundsdata - BVT - deflator'!$C$15,'Baggrundsdata - BVT - deflator'!$B79,\"*\"))))))))))),\"*\")","v":1.012308577925271},{"$f":"IFERROR('Baggrundsdata - BVT - deflator'!G79/IF($M$17=$C$15,$L79,IF($L$17=$C$15,$K79,IF($K$17=$C$15,$J79,IF($J$17=$C$15,$I79,IF($I$17=$C$15,'Baggrundsdata - BVT - deflator'!$H79,IF($H$17=$C$15,'Baggrundsdata - BVT - deflator'!$G79,IF($C$15=$G$17,'Baggrundsdata - BVT - deflator'!$F79,IF($F$17=$C$15,'Baggrundsdata - BVT - deflator'!$E79,IF($E$17=$C$15,'Baggrundsdata - BVT - deflator'!$D79,IF($D$17=$C$15,'Baggrundsdata - BVT - deflator'!$C79,IF('Baggrundsdata - BVT - deflator'!$C$17='Baggrundsdata - BVT - deflator'!$C$15,'Baggrundsdata - BVT - deflator'!$B79,\"*\"))))))))))),\"*\")","v":1.0145594368167248},{"$f":"IFERROR('Baggrundsdata - BVT - deflator'!H79/IF($M$17=$C$15,$L79,IF($L$17=$C$15,$K79,IF($K$17=$C$15,$J79,IF($J$17=$C$15,$I79,IF($I$17=$C$15,'Baggrundsdata - BVT - deflator'!$H79,IF($H$17=$C$15,'Baggrundsdata - BVT - deflator'!$G79,IF($C$15=$G$17,'Baggrundsdata - BVT - deflator'!$F79,IF($F$17=$C$15,'Baggrundsdata - BVT - deflator'!$E79,IF($E$17=$C$15,'Baggrundsdata - BVT - deflator'!$D79,IF($D$17=$C$15,'Baggrundsdata - BVT - deflator'!$C79,IF('Baggrundsdata - BVT - deflator'!$C$17='Baggrundsdata - BVT - deflator'!$C$15,'Baggrundsdata - BVT - deflator'!$B79,\"*\"))))))))))),\"*\")","v":1.0091249306643861},{"$f":"IFERROR('Baggrundsdata - BVT - deflator'!I79/IF($M$17=$C$15,$L79,IF($L$17=$C$15,$K79,IF($K$17=$C$15,$J79,IF($J$17=$C$15,$I79,IF($I$17=$C$15,'Baggrundsdata - BVT - deflator'!$H79,IF($H$17=$C$15,'Baggrundsdata - BVT - deflator'!$G79,IF($C$15=$G$17,'Baggrundsdata - BVT - deflator'!$F79,IF($F$17=$C$15,'Baggrundsdata - BVT - deflator'!$E79,IF($E$17=$C$15,'Baggrundsdata - BVT - deflator'!$D79,IF($D$17=$C$15,'Baggrundsdata - BVT - deflator'!$C79,IF('Baggrundsdata - BVT - deflator'!$C$17='Baggrundsdata - BVT - deflator'!$C$15,'Baggrundsdata - BVT - deflator'!$B79,\"*\"))))))))))),\"*\")","v":0.999168428721109},{"$f":"IFERROR('Baggrundsdata - BVT - deflator'!J79/IF($M$17=$C$15,$L79,IF($L$17=$C$15,$K79,IF($K$17=$C$15,$J79,IF($J$17=$C$15,$I79,IF($I$17=$C$15,'Baggrundsdata - BVT - deflator'!$H79,IF($H$17=$C$15,'Baggrundsdata - BVT - deflator'!$G79,IF($C$15=$G$17,'Baggrundsdata - BVT - deflator'!$F79,IF($F$17=$C$15,'Baggrundsdata - BVT - deflator'!$E79,IF($E$17=$C$15,'Baggrundsdata - BVT - deflator'!$D79,IF($D$17=$C$15,'Baggrundsdata - BVT - deflator'!$C79,IF('Baggrundsdata - BVT - deflator'!$C$17='Baggrundsdata - BVT - deflator'!$C$15,'Baggrundsdata - BVT - deflator'!$B79,\"*\"))))))))))),\"*\")","v":0.9995841278857468},{"$f":"IFERROR('Baggrundsdata - BVT - deflator'!K79/IF($M$17=$C$15,$L79,IF($L$17=$C$15,$K79,IF($K$17=$C$15,$J79,IF($J$17=$C$15,$I79,IF($I$17=$C$15,'Baggrundsdata - BVT - deflator'!$H79,IF($H$17=$C$15,'Baggrundsdata - BVT - deflator'!$G79,IF($C$15=$G$17,'Baggrundsdata - BVT - deflator'!$F79,IF($F$17=$C$15,'Baggrundsdata - BVT - deflator'!$E79,IF($E$17=$C$15,'Baggrundsdata - BVT - deflator'!$D79,IF($D$17=$C$15,'Baggrundsdata - BVT - deflator'!$C79,IF('Baggrundsdata - BVT - deflator'!$C$17='Baggrundsdata - BVT - deflator'!$C$15,'Baggrundsdata - BVT - deflator'!$B79,\"*\"))))))))))),\"*\")","v":1},{"$f":"IFERROR('Baggrundsdata - BVT - deflator'!L79/IF($M$17=$C$15,$L79,IF($L$17=$C$15,$K79,IF($K$17=$C$15,$J79,IF($J$17=$C$15,$I79,IF($I$17=$C$15,'Baggrundsdata - BVT - deflator'!$H79,IF($H$17=$C$15,'Baggrundsdata - BVT - deflator'!$G79,IF($C$15=$G$17,'Baggrundsdata - BVT - deflator'!$F79,IF($F$17=$C$15,'Baggrundsdata - BVT - deflator'!$E79,IF($E$17=$C$15,'Baggrundsdata - BVT - deflator'!$D79,IF($D$17=$C$15,'Baggrundsdata - BVT - deflator'!$C79,IF('Baggrundsdata - BVT - deflator'!$C$17='Baggrundsdata - BVT - deflator'!$C$15,'Baggrundsdata - BVT - deflator'!$B79,\"*\"))))))))))),\"*\")","v":0},null,{"$f":"IF(A79='Level 1'!A62,\"sand\",\"falsk\")","v":"sand"},null,null,"Bemærk: Hvis der i valgmenuen vælges løbende priser, skal der ikke deflateres. Det medfører at alle felter i deflatoren vil vise \"*\"."]
[null,"Italy",{"$f":"IFERROR('Baggrundsdata - BVT - deflator'!B80/IF($M$17=$C$15,$L80,IF($L$17=$C$15,$K80,IF($K$17=$C$15,$J80,IF($J$17=$C$15,$I80,IF($I$17=$C$15,'Baggrundsdata - BVT - deflator'!$H80,IF($H$17=$C$15,'Baggrundsdata - BVT - deflator'!$G80,IF($C$15=$G$17,'Baggrundsdata - BVT - deflator'!$F80,IF($F$17=$C$15,'Baggrundsdata - BVT - deflator'!$E80,IF($E$17=$C$15,'Baggrundsdata - BVT - deflator'!$D80,IF($D$17=$C$15,'Baggrundsdata - BVT - deflator'!$C80,IF('Baggrundsdata - BVT - deflator'!$C$17='Baggrundsdata - BVT - deflator'!$C$15,'Baggrundsdata - BVT - deflator'!$B80,\"*\"))))))))))),\"*\")","v":0.90251371378575984},{"$f":"IFERROR('Baggrundsdata - BVT - deflator'!C80/IF($M$17=$C$15,$L80,IF($L$17=$C$15,$K80,IF($K$17=$C$15,$J80,IF($J$17=$C$15,$I80,IF($I$17=$C$15,'Baggrundsdata - BVT - deflator'!$H80,IF($H$17=$C$15,'Baggrundsdata - BVT - deflator'!$G80,IF($C$15=$G$17,'Baggrundsdata - BVT - deflator'!$F80,IF($F$17=$C$15,'Baggrundsdata - BVT - deflator'!$E80,IF($E$17=$C$15,'Baggrundsdata - BVT - deflator'!$D80,IF($D$17=$C$15,'Baggrundsdata - BVT - deflator'!$C80,IF('Baggrundsdata - BVT - deflator'!$C$17='Baggrundsdata - BVT - deflator'!$C$15,'Baggrundsdata - BVT - deflator'!$B80,\"*\"))))))))))),\"*\")","v":0.92735718335556161},{"$f":"IFERROR('Baggrundsdata - BVT - deflator'!D80/IF($M$17=$C$15,$L80,IF($L$17=$C$15,$K80,IF($K$17=$C$15,$J80,IF($J$17=$C$15,$I80,IF($I$17=$C$15,'Baggrundsdata - BVT - deflator'!$H80,IF($H$17=$C$15,'Baggrundsdata - BVT - deflator'!$G80,IF($C$15=$G$17,'Baggrundsdata - BVT - deflator'!$F80,IF($F$17=$C$15,'Baggrundsdata - BVT - deflator'!$E80,IF($E$17=$C$15,'Baggrundsdata - BVT - deflator'!$D80,IF($D$17=$C$15,'Baggrundsdata - BVT - deflator'!$C80,IF('Baggrundsdata - BVT - deflator'!$C$17='Baggrundsdata - BVT - deflator'!$C$15,'Baggrundsdata - BVT - deflator'!$B80,\"*\"))))))))))),\"*\")","v":0.94738888503684404},{"$f":"IFERROR('Baggrundsdata - BVT - deflator'!E80/IF($M$17=$C$15,$L80,IF($L$17=$C$15,$K80,IF($K$17=$C$15,$J80,IF($J$17=$C$15,$I80,IF($I$17=$C$15,'Baggrundsdata - BVT - deflator'!$H80,IF($H$17=$C$15,'Baggrundsdata - BVT - deflator'!$G80,IF($C$15=$G$17,'Baggrundsdata - BVT - deflator'!$F80,IF($F$17=$C$15,'Baggrundsdata - BVT - deflator'!$E80,IF($E$17=$C$15,'Baggrundsdata - BVT - deflator'!$D80,IF($D$17=$C$15,'Baggrundsdata - BVT - deflator'!$C80,IF('Baggrundsdata - BVT - deflator'!$C$17='Baggrundsdata - BVT - deflator'!$C$15,'Baggrundsdata - BVT - deflator'!$B80,\"*\"))))))))))),\"*\")","v":0.9453375026560803},{"$f":"IFERROR('Baggrundsdata - BVT - deflator'!F80/IF($M$17=$C$15,$L80,IF($L$17=$C$15,$K80,IF($K$17=$C$15,$J80,IF($J$17=$C$15,$I80,IF($I$17=$C$15,'Baggrundsdata - BVT - deflator'!$H80,IF($H$17=$C$15,'Baggrundsdata - BVT - deflator'!$G80,IF($C$15=$G$17,'Baggrundsdata - BVT - deflator'!$F80,IF($F$17=$C$15,'Baggrundsdata - BVT - deflator'!$E80,IF($E$17=$C$15,'Baggrundsdata - BVT - deflator'!$D80,IF($D$17=$C$15,'Baggrundsdata - BVT - deflator'!$C80,IF('Baggrundsdata - BVT - deflator'!$C$17='Baggrundsdata - BVT - deflator'!$C$15,'Baggrundsdata - BVT - deflator'!$B80,\"*\"))))))))))),\"*\")","v":0.95747563619018439},{"$f":"IFERROR('Baggrundsdata - BVT - deflator'!G80/IF($M$17=$C$15,$L80,IF($L$17=$C$15,$K80,IF($K$17=$C$15,$J80,IF($J$17=$C$15,$I80,IF($I$17=$C$15,'Baggrundsdata - BVT - deflator'!$H80,IF($H$17=$C$15,'Baggrundsdata - BVT - deflator'!$G80,IF($C$15=$G$17,'Baggrundsdata - BVT - deflator'!$F80,IF($F$17=$C$15,'Baggrundsdata - BVT - deflator'!$E80,IF($E$17=$C$15,'Baggrundsdata - BVT - deflator'!$D80,IF($D$17=$C$15,'Baggrundsdata - BVT - deflator'!$C80,IF('Baggrundsdata - BVT - deflator'!$C$17='Baggrundsdata - BVT - deflator'!$C$15,'Baggrundsdata - BVT - deflator'!$B80,\"*\"))))))))))),\"*\")","v":0.96661704984086871},{"$f":"IFERROR('Baggrundsdata - BVT - deflator'!H80/IF($M$17=$C$15,$L80,IF($L$17=$C$15,$K80,IF($K$17=$C$15,$J80,IF($J$17=$C$15,$I80,IF($I$17=$C$15,'Baggrundsdata - BVT - deflator'!$H80,IF($H$17=$C$15,'Baggrundsdata - BVT - deflator'!$G80,IF($C$15=$G$17,'Baggrundsdata - BVT - deflator'!$F80,IF($F$17=$C$15,'Baggrundsdata - BVT - deflator'!$E80,IF($E$17=$C$15,'Baggrundsdata - BVT - deflator'!$D80,IF($D$17=$C$15,'Baggrundsdata - BVT - deflator'!$C80,IF('Baggrundsdata - BVT - deflator'!$C$17='Baggrundsdata - BVT - deflator'!$C$15,'Baggrundsdata - BVT - deflator'!$B80,\"*\"))))))))))),\"*\")","v":0.97881190362513204},{"$f":"IFERROR('Baggrundsdata - BVT - deflator'!I80/IF($M$17=$C$15,$L80,IF($L$17=$C$15,$K80,IF($K$17=$C$15,$J80,IF($J$17=$C$15,$I80,IF($I$17=$C$15,'Baggrundsdata - BVT - deflator'!$H80,IF($H$17=$C$15,'Baggrundsdata - BVT - deflator'!$G80,IF($C$15=$G$17,'Baggrundsdata - BVT - deflator'!$F80,IF($F$17=$C$15,'Baggrundsdata - BVT - deflator'!$E80,IF($E$17=$C$15,'Baggrundsdata - BVT - deflator'!$D80,IF($D$17=$C$15,'Baggrundsdata - BVT - deflator'!$C80,IF('Baggrundsdata - BVT - deflator'!$C$17='Baggrundsdata - BVT - deflator'!$C$15,'Baggrundsdata - BVT - deflator'!$B80,\"*\"))))))))))),\"*\")","v":0.98342515063809377},{"$f":"IFERROR('Baggrundsdata - BVT - deflator'!J80/IF($M$17=$C$15,$L80,IF($L$17=$C$15,$K80,IF($K$17=$C$15,$J80,IF($J$17=$C$15,$I80,IF($I$17=$C$15,'Baggrundsdata - BVT - deflator'!$H80,IF($H$17=$C$15,'Baggrundsdata - BVT - deflator'!$G80,IF($C$15=$G$17,'Baggrundsdata - BVT - deflator'!$F80,IF($F$17=$C$15,'Baggrundsdata - BVT - deflator'!$E80,IF($E$17=$C$15,'Baggrundsdata - BVT - deflator'!$D80,IF($D$17=$C$15,'Baggrundsdata - BVT - deflator'!$C80,IF('Baggrundsdata - BVT - deflator'!$C$17='Baggrundsdata - BVT - deflator'!$C$15,'Baggrundsdata - BVT - deflator'!$B80,\"*\"))))))))))),\"*\")","v":0.99167794703628143},{"$f":"IFERROR('Baggrundsdata - BVT - deflator'!K80/IF($M$17=$C$15,$L80,IF($L$17=$C$15,$K80,IF($K$17=$C$15,$J80,IF($J$17=$C$15,$I80,IF($I$17=$C$15,'Baggrundsdata - BVT - deflator'!$H80,IF($H$17=$C$15,'Baggrundsdata - BVT - deflator'!$G80,IF($C$15=$G$17,'Baggrundsdata - BVT - deflator'!$F80,IF($F$17=$C$15,'Baggrundsdata - BVT - deflator'!$E80,IF($E$17=$C$15,'Baggrundsdata - BVT - deflator'!$D80,IF($D$17=$C$15,'Baggrundsdata - BVT - deflator'!$C80,IF('Baggrundsdata - BVT - deflator'!$C$17='Baggrundsdata - BVT - deflator'!$C$15,'Baggrundsdata - BVT - deflator'!$B80,\"*\"))))))))))),\"*\")","v":1},{"$f":"IFERROR('Baggrundsdata - BVT - deflator'!L80/IF($M$17=$C$15,$L80,IF($L$17=$C$15,$K80,IF($K$17=$C$15,$J80,IF($J$17=$C$15,$I80,IF($I$17=$C$15,'Baggrundsdata - BVT - deflator'!$H80,IF($H$17=$C$15,'Baggrundsdata - BVT - deflator'!$G80,IF($C$15=$G$17,'Baggrundsdata - BVT - deflator'!$F80,IF($F$17=$C$15,'Baggrundsdata - BVT - deflator'!$E80,IF($E$17=$C$15,'Baggrundsdata - BVT - deflator'!$D80,IF($D$17=$C$15,'Baggrundsdata - BVT - deflator'!$C80,IF('Baggrundsdata - BVT - deflator'!$C$17='Baggrundsdata - BVT - deflator'!$C$15,'Baggrundsdata - BVT - deflator'!$B80,\"*\"))))))))))),\"*\")","v":0},null,{"$f":"IF(A80='Level 1'!A63,\"sand\",\"falsk\")","v":"sand"}]
[null,"Cyprus",{"$f":"IFERROR('Baggrundsdata - BVT - deflator'!B81/IF($M$17=$C$15,$L81,IF($L$17=$C$15,$K81,IF($K$17=$C$15,$J81,IF($J$17=$C$15,$I81,IF($I$17=$C$15,'Baggrundsdata - BVT - deflator'!$H81,IF($H$17=$C$15,'Baggrundsdata - BVT - deflator'!$G81,IF($C$15=$G$17,'Baggrundsdata - BVT - deflator'!$F81,IF($F$17=$C$15,'Baggrundsdata - BVT - deflator'!$E81,IF($E$17=$C$15,'Baggrundsdata - BVT - deflator'!$D81,IF($D$17=$C$15,'Baggrundsdata - BVT - deflator'!$C81,IF('Baggrundsdata - BVT - deflator'!$C$17='Baggrundsdata - BVT - deflator'!$C$15,'Baggrundsdata - BVT - deflator'!$B81,\"*\"))))))))))),\"*\")","v":0.93478109290274392},{"$f":"IFERROR('Baggrundsdata - BVT - deflator'!C81/IF($M$17=$C$15,$L81,IF($L$17=$C$15,$K81,IF($K$17=$C$15,$J81,IF($J$17=$C$15,$I81,IF($I$17=$C$15,'Baggrundsdata - BVT - deflator'!$H81,IF($H$17=$C$15,'Baggrundsdata - BVT - deflator'!$G81,IF($C$15=$G$17,'Baggrundsdata - BVT - deflator'!$F81,IF($F$17=$C$15,'Baggrundsdata - BVT - deflator'!$E81,IF($E$17=$C$15,'Baggrundsdata - BVT - deflator'!$D81,IF($D$17=$C$15,'Baggrundsdata - BVT - deflator'!$C81,IF('Baggrundsdata - BVT - deflator'!$C$17='Baggrundsdata - BVT - deflator'!$C$15,'Baggrundsdata - BVT - deflator'!$B81,\"*\"))))))))))),\"*\")","v":0.96820548958815544},{"$f":"IFERROR('Baggrundsdata - BVT - deflator'!D81/IF($M$17=$C$15,$L81,IF($L$17=$C$15,$K81,IF($K$17=$C$15,$J81,IF($J$17=$C$15,$I81,IF($I$17=$C$15,'Baggrundsdata - BVT - deflator'!$H81,IF($H$17=$C$15,'Baggrundsdata - BVT - deflator'!$G81,IF($C$15=$G$17,'Baggrundsdata - BVT - deflator'!$F81,IF($F$17=$C$15,'Baggrundsdata - BVT - deflator'!$E81,IF($E$17=$C$15,'Baggrundsdata - BVT - deflator'!$D81,IF($D$17=$C$15,'Baggrundsdata - BVT - deflator'!$C81,IF('Baggrundsdata - BVT - deflator'!$C$17='Baggrundsdata - BVT - deflator'!$C$15,'Baggrundsdata - BVT - deflator'!$B81,\"*\"))))))))))),\"*\")","v":0.9886180294876854},{"$f":"IFERROR('Baggrundsdata - BVT - deflator'!E81/IF($M$17=$C$15,$L81,IF($L$17=$C$15,$K81,IF($K$17=$C$15,$J81,IF($J$17=$C$15,$I81,IF($I$17=$C$15,'Baggrundsdata - BVT - deflator'!$H81,IF($H$17=$C$15,'Baggrundsdata - BVT - deflator'!$G81,IF($C$15=$G$17,'Baggrundsdata - BVT - deflator'!$F81,IF($F$17=$C$15,'Baggrundsdata - BVT - deflator'!$E81,IF($E$17=$C$15,'Baggrundsdata - BVT - deflator'!$D81,IF($D$17=$C$15,'Baggrundsdata - BVT - deflator'!$C81,IF('Baggrundsdata - BVT - deflator'!$C$17='Baggrundsdata - BVT - deflator'!$C$15,'Baggrundsdata - BVT - deflator'!$B81,\"*\"))))))))))),\"*\")","v":1.0110222832852873},{"$f":"IFERROR('Baggrundsdata - BVT - deflator'!F81/IF($M$17=$C$15,$L81,IF($L$17=$C$15,$K81,IF($K$17=$C$15,$J81,IF($J$17=$C$15,$I81,IF($I$17=$C$15,'Baggrundsdata - BVT - deflator'!$H81,IF($H$17=$C$15,'Baggrundsdata - BVT - deflator'!$G81,IF($C$15=$G$17,'Baggrundsdata - BVT - deflator'!$F81,IF($F$17=$C$15,'Baggrundsdata - BVT - deflator'!$E81,IF($E$17=$C$15,'Baggrundsdata - BVT - deflator'!$D81,IF($D$17=$C$15,'Baggrundsdata - BVT - deflator'!$C81,IF('Baggrundsdata - BVT - deflator'!$C$17='Baggrundsdata - BVT - deflator'!$C$15,'Baggrundsdata - BVT - deflator'!$B81,\"*\"))))))))))),\"*\")","v":1.0386838529559728},{"$f":"IFERROR('Baggrundsdata - BVT - deflator'!G81/IF($M$17=$C$15,$L81,IF($L$17=$C$15,$K81,IF($K$17=$C$15,$J81,IF($J$17=$C$15,$I81,IF($I$17=$C$15,'Baggrundsdata - BVT - deflator'!$H81,IF($H$17=$C$15,'Baggrundsdata - BVT - deflator'!$G81,IF($C$15=$G$17,'Baggrundsdata - BVT - deflator'!$F81,IF($F$17=$C$15,'Baggrundsdata - BVT - deflator'!$E81,IF($E$17=$C$15,'Baggrundsdata - BVT - deflator'!$D81,IF($D$17=$C$15,'Baggrundsdata - BVT - deflator'!$C81,IF('Baggrundsdata - BVT - deflator'!$C$17='Baggrundsdata - BVT - deflator'!$C$15,'Baggrundsdata - BVT - deflator'!$B81,\"*\"))))))))))),\"*\")","v":1.0574180958652493},{"$f":"IFERROR('Baggrundsdata - BVT - deflator'!H81/IF($M$17=$C$15,$L81,IF($L$17=$C$15,$K81,IF($K$17=$C$15,$J81,IF($J$17=$C$15,$I81,IF($I$17=$C$15,'Baggrundsdata - BVT - deflator'!$H81,IF($H$17=$C$15,'Baggrundsdata - BVT - deflator'!$G81,IF($C$15=$G$17,'Baggrundsdata - BVT - deflator'!$F81,IF($F$17=$C$15,'Baggrundsdata - BVT - deflator'!$E81,IF($E$17=$C$15,'Baggrundsdata - BVT - deflator'!$D81,IF($D$17=$C$15,'Baggrundsdata - BVT - deflator'!$C81,IF('Baggrundsdata - BVT - deflator'!$C$17='Baggrundsdata - BVT - deflator'!$C$15,'Baggrundsdata - BVT - deflator'!$B81,\"*\"))))))))))),\"*\")","v":1.0487435246746613},{"$f":"IFERROR('Baggrundsdata - BVT - deflator'!I81/IF($M$17=$C$15,$L81,IF($L$17=$C$15,$K81,IF($K$17=$C$15,$J81,IF($J$17=$C$15,$I81,IF($I$17=$C$15,'Baggrundsdata - BVT - deflator'!$H81,IF($H$17=$C$15,'Baggrundsdata - BVT - deflator'!$G81,IF($C$15=$G$17,'Baggrundsdata - BVT - deflator'!$F81,IF($F$17=$C$15,'Baggrundsdata - BVT - deflator'!$E81,IF($E$17=$C$15,'Baggrundsdata - BVT - deflator'!$D81,IF($D$17=$C$15,'Baggrundsdata - BVT - deflator'!$C81,IF('Baggrundsdata - BVT - deflator'!$C$17='Baggrundsdata - BVT - deflator'!$C$15,'Baggrundsdata - BVT - deflator'!$B81,\"*\"))))))))))),\"*\")","v":1.0277547020736588},{"$f":"IFERROR('Baggrundsdata - BVT - deflator'!J81/IF($M$17=$C$15,$L81,IF($L$17=$C$15,$K81,IF($K$17=$C$15,$J81,IF($J$17=$C$15,$I81,IF($I$17=$C$15,'Baggrundsdata - BVT - deflator'!$H81,IF($H$17=$C$15,'Baggrundsdata - BVT - deflator'!$G81,IF($C$15=$G$17,'Baggrundsdata - BVT - deflator'!$F81,IF($F$17=$C$15,'Baggrundsdata - BVT - deflator'!$E81,IF($E$17=$C$15,'Baggrundsdata - BVT - deflator'!$D81,IF($D$17=$C$15,'Baggrundsdata - BVT - deflator'!$C81,IF('Baggrundsdata - BVT - deflator'!$C$17='Baggrundsdata - BVT - deflator'!$C$15,'Baggrundsdata - BVT - deflator'!$B81,\"*\"))))))))))),\"*\")","v":1.0137823741186562},{"$f":"IFERROR('Baggrundsdata - BVT - deflator'!K81/IF($M$17=$C$15,$L81,IF($L$17=$C$15,$K81,IF($K$17=$C$15,$J81,IF($J$17=$C$15,$I81,IF($I$17=$C$15,'Baggrundsdata - BVT - deflator'!$H81,IF($H$17=$C$15,'Baggrundsdata - BVT - deflator'!$G81,IF($C$15=$G$17,'Baggrundsdata - BVT - deflator'!$F81,IF($F$17=$C$15,'Baggrundsdata - BVT - deflator'!$E81,IF($E$17=$C$15,'Baggrundsdata - BVT - deflator'!$D81,IF($D$17=$C$15,'Baggrundsdata - BVT - deflator'!$C81,IF('Baggrundsdata - BVT - deflator'!$C$17='Baggrundsdata - BVT - deflator'!$C$15,'Baggrundsdata - BVT - deflator'!$B81,\"*\"))))))))))),\"*\")","v":1},{"$f":"IFERROR('Baggrundsdata - BVT - deflator'!L81/IF($M$17=$C$15,$L81,IF($L$17=$C$15,$K81,IF($K$17=$C$15,$J81,IF($J$17=$C$15,$I81,IF($I$17=$C$15,'Baggrundsdata - BVT - deflator'!$H81,IF($H$17=$C$15,'Baggrundsdata - BVT - deflator'!$G81,IF($C$15=$G$17,'Baggrundsdata - BVT - deflator'!$F81,IF($F$17=$C$15,'Baggrundsdata - BVT - deflator'!$E81,IF($E$17=$C$15,'Baggrundsdata - BVT - deflator'!$D81,IF($D$17=$C$15,'Baggrundsdata - BVT - deflator'!$C81,IF('Baggrundsdata - BVT - deflator'!$C$17='Baggrundsdata - BVT - deflator'!$C$15,'Baggrundsdata - BVT - deflator'!$B81,\"*\"))))))))))),\"*\")","v":0},null,{"$f":"IF(A81='Level 1'!A64,\"sand\",\"falsk\")","v":"sand"}]
[null,"Latvia",{"$f":"IFERROR('Baggrundsdata - BVT - deflator'!B82/IF($M$17=$C$15,$L82,IF($L$17=$C$15,$K82,IF($K$17=$C$15,$J82,IF($J$17=$C$15,$I82,IF($I$17=$C$15,'Baggrundsdata - BVT - deflator'!$H82,IF($H$17=$C$15,'Baggrundsdata - BVT - deflator'!$G82,IF($C$15=$G$17,'Baggrundsdata - BVT - deflator'!$F82,IF($F$17=$C$15,'Baggrundsdata - BVT - deflator'!$E82,IF($E$17=$C$15,'Baggrundsdata - BVT - deflator'!$D82,IF($D$17=$C$15,'Baggrundsdata - BVT - deflator'!$C82,IF('Baggrundsdata - BVT - deflator'!$C$17='Baggrundsdata - BVT - deflator'!$C$15,'Baggrundsdata - BVT - deflator'!$B82,\"*\"))))))))))),\"*\")","v":0.90188323867561138},{"$f":"IFERROR('Baggrundsdata - BVT - deflator'!C82/IF($M$17=$C$15,$L82,IF($L$17=$C$15,$K82,IF($K$17=$C$15,$J82,IF($J$17=$C$15,$I82,IF($I$17=$C$15,'Baggrundsdata - BVT - deflator'!$H82,IF($H$17=$C$15,'Baggrundsdata - BVT - deflator'!$G82,IF($C$15=$G$17,'Baggrundsdata - BVT - deflator'!$F82,IF($F$17=$C$15,'Baggrundsdata - BVT - deflator'!$E82,IF($E$17=$C$15,'Baggrundsdata - BVT - deflator'!$D82,IF($D$17=$C$15,'Baggrundsdata - BVT - deflator'!$C82,IF('Baggrundsdata - BVT - deflator'!$C$17='Baggrundsdata - BVT - deflator'!$C$15,'Baggrundsdata - BVT - deflator'!$B82,\"*\"))))))))))),\"*\")","v":1.0019056317654853},{"$f":"IFERROR('Baggrundsdata - BVT - deflator'!D82/IF($M$17=$C$15,$L82,IF($L$17=$C$15,$K82,IF($K$17=$C$15,$J82,IF($J$17=$C$15,$I82,IF($I$17=$C$15,'Baggrundsdata - BVT - deflator'!$H82,IF($H$17=$C$15,'Baggrundsdata - BVT - deflator'!$G82,IF($C$15=$G$17,'Baggrundsdata - BVT - deflator'!$F82,IF($F$17=$C$15,'Baggrundsdata - BVT - deflator'!$E82,IF($E$17=$C$15,'Baggrundsdata - BVT - deflator'!$D82,IF($D$17=$C$15,'Baggrundsdata - BVT - deflator'!$C82,IF('Baggrundsdata - BVT - deflator'!$C$17='Baggrundsdata - BVT - deflator'!$C$15,'Baggrundsdata - BVT - deflator'!$B82,\"*\"))))))))))),\"*\")","v":0.87745114351923859},{"$f":"IFERROR('Baggrundsdata - BVT - deflator'!E82/IF($M$17=$C$15,$L82,IF($L$17=$C$15,$K82,IF($K$17=$C$15,$J82,IF($J$17=$C$15,$I82,IF($I$17=$C$15,'Baggrundsdata - BVT - deflator'!$H82,IF($H$17=$C$15,'Baggrundsdata - BVT - deflator'!$G82,IF($C$15=$G$17,'Baggrundsdata - BVT - deflator'!$F82,IF($F$17=$C$15,'Baggrundsdata - BVT - deflator'!$E82,IF($E$17=$C$15,'Baggrundsdata - BVT - deflator'!$D82,IF($D$17=$C$15,'Baggrundsdata - BVT - deflator'!$C82,IF('Baggrundsdata - BVT - deflator'!$C$17='Baggrundsdata - BVT - deflator'!$C$15,'Baggrundsdata - BVT - deflator'!$B82,\"*\"))))))))))),\"*\")","v":0.862410700895619},{"$f":"IFERROR('Baggrundsdata - BVT - deflator'!F82/IF($M$17=$C$15,$L82,IF($L$17=$C$15,$K82,IF($K$17=$C$15,$J82,IF($J$17=$C$15,$I82,IF($I$17=$C$15,'Baggrundsdata - BVT - deflator'!$H82,IF($H$17=$C$15,'Baggrundsdata - BVT - deflator'!$G82,IF($C$15=$G$17,'Baggrundsdata - BVT - deflator'!$F82,IF($F$17=$C$15,'Baggrundsdata - BVT - deflator'!$E82,IF($E$17=$C$15,'Baggrundsdata - BVT - deflator'!$D82,IF($D$17=$C$15,'Baggrundsdata - BVT - deflator'!$C82,IF('Baggrundsdata - BVT - deflator'!$C$17='Baggrundsdata - BVT - deflator'!$C$15,'Baggrundsdata - BVT - deflator'!$B82,\"*\"))))))))))),\"*\")","v":0.9196833955420971},{"$f":"IFERROR('Baggrundsdata - BVT - deflator'!G82/IF($M$17=$C$15,$L82,IF($L$17=$C$15,$K82,IF($K$17=$C$15,$J82,IF($J$17=$C$15,$I82,IF($I$17=$C$15,'Baggrundsdata - BVT - deflator'!$H82,IF($H$17=$C$15,'Baggrundsdata - BVT - deflator'!$G82,IF($C$15=$G$17,'Baggrundsdata - BVT - deflator'!$F82,IF($F$17=$C$15,'Baggrundsdata - BVT - deflator'!$E82,IF($E$17=$C$15,'Baggrundsdata - BVT - deflator'!$D82,IF($D$17=$C$15,'Baggrundsdata - BVT - deflator'!$C82,IF('Baggrundsdata - BVT - deflator'!$C$17='Baggrundsdata - BVT - deflator'!$C$15,'Baggrundsdata - BVT - deflator'!$B82,\"*\"))))))))))),\"*\")","v":0.96830611085859197},{"$f":"IFERROR('Baggrundsdata - BVT - deflator'!H82/IF($M$17=$C$15,$L82,IF($L$17=$C$15,$K82,IF($K$17=$C$15,$J82,IF($J$17=$C$15,$I82,IF($I$17=$C$15,'Baggrundsdata - BVT - deflator'!$H82,IF($H$17=$C$15,'Baggrundsdata - BVT - deflator'!$G82,IF($C$15=$G$17,'Baggrundsdata - BVT - deflator'!$F82,IF($F$17=$C$15,'Baggrundsdata - BVT - deflator'!$E82,IF($E$17=$C$15,'Baggrundsdata - BVT - deflator'!$D82,IF($D$17=$C$15,'Baggrundsdata - BVT - deflator'!$C82,IF('Baggrundsdata - BVT - deflator'!$C$17='Baggrundsdata - BVT - deflator'!$C$15,'Baggrundsdata - BVT - deflator'!$B82,\"*\"))))))))))),\"*\")","v":0.97803410356469456},{"$f":"IFERROR('Baggrundsdata - BVT - deflator'!I82/IF($M$17=$C$15,$L82,IF($L$17=$C$15,$K82,IF($K$17=$C$15,$J82,IF($J$17=$C$15,$I82,IF($I$17=$C$15,'Baggrundsdata - BVT - deflator'!$H82,IF($H$17=$C$15,'Baggrundsdata - BVT - deflator'!$G82,IF($C$15=$G$17,'Baggrundsdata - BVT - deflator'!$F82,IF($F$17=$C$15,'Baggrundsdata - BVT - deflator'!$E82,IF($E$17=$C$15,'Baggrundsdata - BVT - deflator'!$D82,IF($D$17=$C$15,'Baggrundsdata - BVT - deflator'!$C82,IF('Baggrundsdata - BVT - deflator'!$C$17='Baggrundsdata - BVT - deflator'!$C$15,'Baggrundsdata - BVT - deflator'!$B82,\"*\"))))))))))),\"*\")","v":0.98686518914186572},{"$f":"IFERROR('Baggrundsdata - BVT - deflator'!J82/IF($M$17=$C$15,$L82,IF($L$17=$C$15,$K82,IF($K$17=$C$15,$J82,IF($J$17=$C$15,$I82,IF($I$17=$C$15,'Baggrundsdata - BVT - deflator'!$H82,IF($H$17=$C$15,'Baggrundsdata - BVT - deflator'!$G82,IF($C$15=$G$17,'Baggrundsdata - BVT - deflator'!$F82,IF($F$17=$C$15,'Baggrundsdata - BVT - deflator'!$E82,IF($E$17=$C$15,'Baggrundsdata - BVT - deflator'!$D82,IF($D$17=$C$15,'Baggrundsdata - BVT - deflator'!$C82,IF('Baggrundsdata - BVT - deflator'!$C$17='Baggrundsdata - BVT - deflator'!$C$15,'Baggrundsdata - BVT - deflator'!$B82,\"*\"))))))))))),\"*\")","v":0.99341088636166341},{"$f":"IFERROR('Baggrundsdata - BVT - deflator'!K82/IF($M$17=$C$15,$L82,IF($L$17=$C$15,$K82,IF($K$17=$C$15,$J82,IF($J$17=$C$15,$I82,IF($I$17=$C$15,'Baggrundsdata - BVT - deflator'!$H82,IF($H$17=$C$15,'Baggrundsdata - BVT - deflator'!$G82,IF($C$15=$G$17,'Baggrundsdata - BVT - deflator'!$F82,IF($F$17=$C$15,'Baggrundsdata - BVT - deflator'!$E82,IF($E$17=$C$15,'Baggrundsdata - BVT - deflator'!$D82,IF($D$17=$C$15,'Baggrundsdata - BVT - deflator'!$C82,IF('Baggrundsdata - BVT - deflator'!$C$17='Baggrundsdata - BVT - deflator'!$C$15,'Baggrundsdata - BVT - deflator'!$B82,\"*\"))))))))))),\"*\")","v":1},{"$f":"IFERROR('Baggrundsdata - BVT - deflator'!L82/IF($M$17=$C$15,$L82,IF($L$17=$C$15,$K82,IF($K$17=$C$15,$J82,IF($J$17=$C$15,$I82,IF($I$17=$C$15,'Baggrundsdata - BVT - deflator'!$H82,IF($H$17=$C$15,'Baggrundsdata - BVT - deflator'!$G82,IF($C$15=$G$17,'Baggrundsdata - BVT - deflator'!$F82,IF($F$17=$C$15,'Baggrundsdata - BVT - deflator'!$E82,IF($E$17=$C$15,'Baggrundsdata - BVT - deflator'!$D82,IF($D$17=$C$15,'Baggrundsdata - BVT - deflator'!$C82,IF('Baggrundsdata - BVT - deflator'!$C$17='Baggrundsdata - BVT - deflator'!$C$15,'Baggrundsdata - BVT - deflator'!$B82,\"*\"))))))))))),\"*\")","v":0},null,{"$f":"IF(A82='Level 1'!A65,\"sand\",\"falsk\")","v":"sand"}]
[null,"Lithuania",{"$f":"IFERROR('Baggrundsdata - BVT - deflator'!B83/IF($M$17=$C$15,$L83,IF($L$17=$C$15,$K83,IF($K$17=$C$15,$J83,IF($J$17=$C$15,$I83,IF($I$17=$C$15,'Baggrundsdata - BVT - deflator'!$H83,IF($H$17=$C$15,'Baggrundsdata - BVT - deflator'!$G83,IF($C$15=$G$17,'Baggrundsdata - BVT - deflator'!$F83,IF($F$17=$C$15,'Baggrundsdata - BVT - deflator'!$E83,IF($E$17=$C$15,'Baggrundsdata - BVT - deflator'!$D83,IF($D$17=$C$15,'Baggrundsdata - BVT - deflator'!$C83,IF('Baggrundsdata - BVT - deflator'!$C$17='Baggrundsdata - BVT - deflator'!$C$15,'Baggrundsdata - BVT - deflator'!$B83,\"*\"))))))))))),\"*\")","v":0.83072773780277864},{"$f":"IFERROR('Baggrundsdata - BVT - deflator'!C83/IF($M$17=$C$15,$L83,IF($L$17=$C$15,$K83,IF($K$17=$C$15,$J83,IF($J$17=$C$15,$I83,IF($I$17=$C$15,'Baggrundsdata - BVT - deflator'!$H83,IF($H$17=$C$15,'Baggrundsdata - BVT - deflator'!$G83,IF($C$15=$G$17,'Baggrundsdata - BVT - deflator'!$F83,IF($F$17=$C$15,'Baggrundsdata - BVT - deflator'!$E83,IF($E$17=$C$15,'Baggrundsdata - BVT - deflator'!$D83,IF($D$17=$C$15,'Baggrundsdata - BVT - deflator'!$C83,IF('Baggrundsdata - BVT - deflator'!$C$17='Baggrundsdata - BVT - deflator'!$C$15,'Baggrundsdata - BVT - deflator'!$B83,\"*\"))))))))))),\"*\")","v":0.91105018844472585},{"$f":"IFERROR('Baggrundsdata - BVT - deflator'!D83/IF($M$17=$C$15,$L83,IF($L$17=$C$15,$K83,IF($K$17=$C$15,$J83,IF($J$17=$C$15,$I83,IF($I$17=$C$15,'Baggrundsdata - BVT - deflator'!$H83,IF($H$17=$C$15,'Baggrundsdata - BVT - deflator'!$G83,IF($C$15=$G$17,'Baggrundsdata - BVT - deflator'!$F83,IF($F$17=$C$15,'Baggrundsdata - BVT - deflator'!$E83,IF($E$17=$C$15,'Baggrundsdata - BVT - deflator'!$D83,IF($D$17=$C$15,'Baggrundsdata - BVT - deflator'!$C83,IF('Baggrundsdata - BVT - deflator'!$C$17='Baggrundsdata - BVT - deflator'!$C$15,'Baggrundsdata - BVT - deflator'!$B83,\"*\"))))))))))),\"*\")","v":0.88549920746522948},{"$f":"IFERROR('Baggrundsdata - BVT - deflator'!E83/IF($M$17=$C$15,$L83,IF($L$17=$C$15,$K83,IF($K$17=$C$15,$J83,IF($J$17=$C$15,$I83,IF($I$17=$C$15,'Baggrundsdata - BVT - deflator'!$H83,IF($H$17=$C$15,'Baggrundsdata - BVT - deflator'!$G83,IF($C$15=$G$17,'Baggrundsdata - BVT - deflator'!$F83,IF($F$17=$C$15,'Baggrundsdata - BVT - deflator'!$E83,IF($E$17=$C$15,'Baggrundsdata - BVT - deflator'!$D83,IF($D$17=$C$15,'Baggrundsdata - BVT - deflator'!$C83,IF('Baggrundsdata - BVT - deflator'!$C$17='Baggrundsdata - BVT - deflator'!$C$15,'Baggrundsdata - BVT - deflator'!$B83,\"*\"))))))))))),\"*\")","v":0.90381963139357724},{"$f":"IFERROR('Baggrundsdata - BVT - deflator'!F83/IF($M$17=$C$15,$L83,IF($L$17=$C$15,$K83,IF($K$17=$C$15,$J83,IF($J$17=$C$15,$I83,IF($I$17=$C$15,'Baggrundsdata - BVT - deflator'!$H83,IF($H$17=$C$15,'Baggrundsdata - BVT - deflator'!$G83,IF($C$15=$G$17,'Baggrundsdata - BVT - deflator'!$F83,IF($F$17=$C$15,'Baggrundsdata - BVT - deflator'!$E83,IF($E$17=$C$15,'Baggrundsdata - BVT - deflator'!$D83,IF($D$17=$C$15,'Baggrundsdata - BVT - deflator'!$C83,IF('Baggrundsdata - BVT - deflator'!$C$17='Baggrundsdata - BVT - deflator'!$C$15,'Baggrundsdata - BVT - deflator'!$B83,\"*\"))))))))))),\"*\")","v":0.95163168989429758},{"$f":"IFERROR('Baggrundsdata - BVT - deflator'!G83/IF($M$17=$C$15,$L83,IF($L$17=$C$15,$K83,IF($K$17=$C$15,$J83,IF($J$17=$C$15,$I83,IF($I$17=$C$15,'Baggrundsdata - BVT - deflator'!$H83,IF($H$17=$C$15,'Baggrundsdata - BVT - deflator'!$G83,IF($C$15=$G$17,'Baggrundsdata - BVT - deflator'!$F83,IF($F$17=$C$15,'Baggrundsdata - BVT - deflator'!$E83,IF($E$17=$C$15,'Baggrundsdata - BVT - deflator'!$D83,IF($D$17=$C$15,'Baggrundsdata - BVT - deflator'!$C83,IF('Baggrundsdata - BVT - deflator'!$C$17='Baggrundsdata - BVT - deflator'!$C$15,'Baggrundsdata - BVT - deflator'!$B83,\"*\"))))))))))),\"*\")","v":0.98171080722707571},{"$f":"IFERROR('Baggrundsdata - BVT - deflator'!H83/IF($M$17=$C$15,$L83,IF($L$17=$C$15,$K83,IF($K$17=$C$15,$J83,IF($J$17=$C$15,$I83,IF($I$17=$C$15,'Baggrundsdata - BVT - deflator'!$H83,IF($H$17=$C$15,'Baggrundsdata - BVT - deflator'!$G83,IF($C$15=$G$17,'Baggrundsdata - BVT - deflator'!$F83,IF($F$17=$C$15,'Baggrundsdata - BVT - deflator'!$E83,IF($E$17=$C$15,'Baggrundsdata - BVT - deflator'!$D83,IF($D$17=$C$15,'Baggrundsdata - BVT - deflator'!$C83,IF('Baggrundsdata - BVT - deflator'!$C$17='Baggrundsdata - BVT - deflator'!$C$15,'Baggrundsdata - BVT - deflator'!$B83,\"*\"))))))))))),\"*\")","v":0.99534040726849093},{"$f":"IFERROR('Baggrundsdata - BVT - deflator'!I83/IF($M$17=$C$15,$L83,IF($L$17=$C$15,$K83,IF($K$17=$C$15,$J83,IF($J$17=$C$15,$I83,IF($I$17=$C$15,'Baggrundsdata - BVT - deflator'!$H83,IF($H$17=$C$15,'Baggrundsdata - BVT - deflator'!$G83,IF($C$15=$G$17,'Baggrundsdata - BVT - deflator'!$F83,IF($F$17=$C$15,'Baggrundsdata - BVT - deflator'!$E83,IF($E$17=$C$15,'Baggrundsdata - BVT - deflator'!$D83,IF($D$17=$C$15,'Baggrundsdata - BVT - deflator'!$C83,IF('Baggrundsdata - BVT - deflator'!$C$17='Baggrundsdata - BVT - deflator'!$C$15,'Baggrundsdata - BVT - deflator'!$B83,\"*\"))))))))))),\"*\")","v":1.0044418709566241},{"$f":"IFERROR('Baggrundsdata - BVT - deflator'!J83/IF($M$17=$C$15,$L83,IF($L$17=$C$15,$K83,IF($K$17=$C$15,$J83,IF($J$17=$C$15,$I83,IF($I$17=$C$15,'Baggrundsdata - BVT - deflator'!$H83,IF($H$17=$C$15,'Baggrundsdata - BVT - deflator'!$G83,IF($C$15=$G$17,'Baggrundsdata - BVT - deflator'!$F83,IF($F$17=$C$15,'Baggrundsdata - BVT - deflator'!$E83,IF($E$17=$C$15,'Baggrundsdata - BVT - deflator'!$D83,IF($D$17=$C$15,'Baggrundsdata - BVT - deflator'!$C83,IF('Baggrundsdata - BVT - deflator'!$C$17='Baggrundsdata - BVT - deflator'!$C$15,'Baggrundsdata - BVT - deflator'!$B83,\"*\"))))))))))),\"*\")","v":1.002218474663396},{"$f":"IFERROR('Baggrundsdata - BVT - deflator'!K83/IF($M$17=$C$15,$L83,IF($L$17=$C$15,$K83,IF($K$17=$C$15,$J83,IF($J$17=$C$15,$I83,IF($I$17=$C$15,'Baggrundsdata - BVT - deflator'!$H83,IF($H$17=$C$15,'Baggrundsdata - BVT - deflator'!$G83,IF($C$15=$G$17,'Baggrundsdata - BVT - deflator'!$F83,IF($F$17=$C$15,'Baggrundsdata - BVT - deflator'!$E83,IF($E$17=$C$15,'Baggrundsdata - BVT - deflator'!$D83,IF($D$17=$C$15,'Baggrundsdata - BVT - deflator'!$C83,IF('Baggrundsdata - BVT - deflator'!$C$17='Baggrundsdata - BVT - deflator'!$C$15,'Baggrundsdata - BVT - deflator'!$B83,\"*\"))))))))))),\"*\")","v":1},{"$f":"IFERROR('Baggrundsdata - BVT - deflator'!L83/IF($M$17=$C$15,$L83,IF($L$17=$C$15,$K83,IF($K$17=$C$15,$J83,IF($J$17=$C$15,$I83,IF($I$17=$C$15,'Baggrundsdata - BVT - deflator'!$H83,IF($H$17=$C$15,'Baggrundsdata - BVT - deflator'!$G83,IF($C$15=$G$17,'Baggrundsdata - BVT - deflator'!$F83,IF($F$17=$C$15,'Baggrundsdata - BVT - deflator'!$E83,IF($E$17=$C$15,'Baggrundsdata - BVT - deflator'!$D83,IF($D$17=$C$15,'Baggrundsdata - BVT - deflator'!$C83,IF('Baggrundsdata - BVT - deflator'!$C$17='Baggrundsdata - BVT - deflator'!$C$15,'Baggrundsdata - BVT - deflator'!$B83,\"*\"))))))))))),\"*\")","v":0},null,{"$f":"IF(A83='Level 1'!A66,\"sand\",\"falsk\")","v":"sand"}]
[null,"Luxembourg",{"$f":"IFERROR('Baggrundsdata - BVT - deflator'!B84/IF($M$17=$C$15,$L84,IF($L$17=$C$15,$K84,IF($K$17=$C$15,$J84,IF($J$17=$C$15,$I84,IF($I$17=$C$15,'Baggrundsdata - BVT - deflator'!$H84,IF($H$17=$C$15,'Baggrundsdata - BVT - deflator'!$G84,IF($C$15=$G$17,'Baggrundsdata - BVT - deflator'!$F84,IF($F$17=$C$15,'Baggrundsdata - BVT - deflator'!$E84,IF($E$17=$C$15,'Baggrundsdata - BVT - deflator'!$D84,IF($D$17=$C$15,'Baggrundsdata - BVT - deflator'!$C84,IF('Baggrundsdata - BVT - deflator'!$C$17='Baggrundsdata - BVT - deflator'!$C$15,'Baggrundsdata - BVT - deflator'!$B84,\"*\"))))))))))),\"*\")","v":0.76707090071837025},{"$f":"IFERROR('Baggrundsdata - BVT - deflator'!C84/IF($M$17=$C$15,$L84,IF($L$17=$C$15,$K84,IF($K$17=$C$15,$J84,IF($J$17=$C$15,$I84,IF($I$17=$C$15,'Baggrundsdata - BVT - deflator'!$H84,IF($H$17=$C$15,'Baggrundsdata - BVT - deflator'!$G84,IF($C$15=$G$17,'Baggrundsdata - BVT - deflator'!$F84,IF($F$17=$C$15,'Baggrundsdata - BVT - deflator'!$E84,IF($E$17=$C$15,'Baggrundsdata - BVT - deflator'!$D84,IF($D$17=$C$15,'Baggrundsdata - BVT - deflator'!$C84,IF('Baggrundsdata - BVT - deflator'!$C$17='Baggrundsdata - BVT - deflator'!$C$15,'Baggrundsdata - BVT - deflator'!$B84,\"*\"))))))))))),\"*\")","v":0.79592423410788393},{"$f":"IFERROR('Baggrundsdata - BVT - deflator'!D84/IF($M$17=$C$15,$L84,IF($L$17=$C$15,$K84,IF($K$17=$C$15,$J84,IF($J$17=$C$15,$I84,IF($I$17=$C$15,'Baggrundsdata - BVT - deflator'!$H84,IF($H$17=$C$15,'Baggrundsdata - BVT - deflator'!$G84,IF($C$15=$G$17,'Baggrundsdata - BVT - deflator'!$F84,IF($F$17=$C$15,'Baggrundsdata - BVT - deflator'!$E84,IF($E$17=$C$15,'Baggrundsdata - BVT - deflator'!$D84,IF($D$17=$C$15,'Baggrundsdata - BVT - deflator'!$C84,IF('Baggrundsdata - BVT - deflator'!$C$17='Baggrundsdata - BVT - deflator'!$C$15,'Baggrundsdata - BVT - deflator'!$B84,\"*\"))))))))))),\"*\")","v":0.81194454421659634},{"$f":"IFERROR('Baggrundsdata - BVT - deflator'!E84/IF($M$17=$C$15,$L84,IF($L$17=$C$15,$K84,IF($K$17=$C$15,$J84,IF($J$17=$C$15,$I84,IF($I$17=$C$15,'Baggrundsdata - BVT - deflator'!$H84,IF($H$17=$C$15,'Baggrundsdata - BVT - deflator'!$G84,IF($C$15=$G$17,'Baggrundsdata - BVT - deflator'!$F84,IF($F$17=$C$15,'Baggrundsdata - BVT - deflator'!$E84,IF($E$17=$C$15,'Baggrundsdata - BVT - deflator'!$D84,IF($D$17=$C$15,'Baggrundsdata - BVT - deflator'!$C84,IF('Baggrundsdata - BVT - deflator'!$C$17='Baggrundsdata - BVT - deflator'!$C$15,'Baggrundsdata - BVT - deflator'!$B84,\"*\"))))))))))),\"*\")","v":0.8387596915556299},{"$f":"IFERROR('Baggrundsdata - BVT - deflator'!F84/IF($M$17=$C$15,$L84,IF($L$17=$C$15,$K84,IF($K$17=$C$15,$J84,IF($J$17=$C$15,$I84,IF($I$17=$C$15,'Baggrundsdata - BVT - deflator'!$H84,IF($H$17=$C$15,'Baggrundsdata - BVT - deflator'!$G84,IF($C$15=$G$17,'Baggrundsdata - BVT - deflator'!$F84,IF($F$17=$C$15,'Baggrundsdata - BVT - deflator'!$E84,IF($E$17=$C$15,'Baggrundsdata - BVT - deflator'!$D84,IF($D$17=$C$15,'Baggrundsdata - BVT - deflator'!$C84,IF('Baggrundsdata - BVT - deflator'!$C$17='Baggrundsdata - BVT - deflator'!$C$15,'Baggrundsdata - BVT - deflator'!$B84,\"*\"))))))))))),\"*\")","v":0.87626063736508208},{"$f":"IFERROR('Baggrundsdata - BVT - deflator'!G84/IF($M$17=$C$15,$L84,IF($L$17=$C$15,$K84,IF($K$17=$C$15,$J84,IF($J$17=$C$15,$I84,IF($I$17=$C$15,'Baggrundsdata - BVT - deflator'!$H84,IF($H$17=$C$15,'Baggrundsdata - BVT - deflator'!$G84,IF($C$15=$G$17,'Baggrundsdata - BVT - deflator'!$F84,IF($F$17=$C$15,'Baggrundsdata - BVT - deflator'!$E84,IF($E$17=$C$15,'Baggrundsdata - BVT - deflator'!$D84,IF($D$17=$C$15,'Baggrundsdata - BVT - deflator'!$C84,IF('Baggrundsdata - BVT - deflator'!$C$17='Baggrundsdata - BVT - deflator'!$C$15,'Baggrundsdata - BVT - deflator'!$B84,\"*\"))))))))))),\"*\")","v":0.91185759867470306},{"$f":"IFERROR('Baggrundsdata - BVT - deflator'!H84/IF($M$17=$C$15,$L84,IF($L$17=$C$15,$K84,IF($K$17=$C$15,$J84,IF($J$17=$C$15,$I84,IF($I$17=$C$15,'Baggrundsdata - BVT - deflator'!$H84,IF($H$17=$C$15,'Baggrundsdata - BVT - deflator'!$G84,IF($C$15=$G$17,'Baggrundsdata - BVT - deflator'!$F84,IF($F$17=$C$15,'Baggrundsdata - BVT - deflator'!$E84,IF($E$17=$C$15,'Baggrundsdata - BVT - deflator'!$D84,IF($D$17=$C$15,'Baggrundsdata - BVT - deflator'!$C84,IF('Baggrundsdata - BVT - deflator'!$C$17='Baggrundsdata - BVT - deflator'!$C$15,'Baggrundsdata - BVT - deflator'!$B84,\"*\"))))))))))),\"*\")","v":0.93468024988193177},{"$f":"IFERROR('Baggrundsdata - BVT - deflator'!I84/IF($M$17=$C$15,$L84,IF($L$17=$C$15,$K84,IF($K$17=$C$15,$J84,IF($J$17=$C$15,$I84,IF($I$17=$C$15,'Baggrundsdata - BVT - deflator'!$H84,IF($H$17=$C$15,'Baggrundsdata - BVT - deflator'!$G84,IF($C$15=$G$17,'Baggrundsdata - BVT - deflator'!$F84,IF($F$17=$C$15,'Baggrundsdata - BVT - deflator'!$E84,IF($E$17=$C$15,'Baggrundsdata - BVT - deflator'!$D84,IF($D$17=$C$15,'Baggrundsdata - BVT - deflator'!$C84,IF('Baggrundsdata - BVT - deflator'!$C$17='Baggrundsdata - BVT - deflator'!$C$15,'Baggrundsdata - BVT - deflator'!$B84,\"*\"))))))))))),\"*\")","v":0.94329431191420798},{"$f":"IFERROR('Baggrundsdata - BVT - deflator'!J84/IF($M$17=$C$15,$L84,IF($L$17=$C$15,$K84,IF($K$17=$C$15,$J84,IF($J$17=$C$15,$I84,IF($I$17=$C$15,'Baggrundsdata - BVT - deflator'!$H84,IF($H$17=$C$15,'Baggrundsdata - BVT - deflator'!$G84,IF($C$15=$G$17,'Baggrundsdata - BVT - deflator'!$F84,IF($F$17=$C$15,'Baggrundsdata - BVT - deflator'!$E84,IF($E$17=$C$15,'Baggrundsdata - BVT - deflator'!$D84,IF($D$17=$C$15,'Baggrundsdata - BVT - deflator'!$C84,IF('Baggrundsdata - BVT - deflator'!$C$17='Baggrundsdata - BVT - deflator'!$C$15,'Baggrundsdata - BVT - deflator'!$B84,\"*\"))))))))))),\"*\")","v":0.97123339723992608},{"$f":"IFERROR('Baggrundsdata - BVT - deflator'!K84/IF($M$17=$C$15,$L84,IF($L$17=$C$15,$K84,IF($K$17=$C$15,$J84,IF($J$17=$C$15,$I84,IF($I$17=$C$15,'Baggrundsdata - BVT - deflator'!$H84,IF($H$17=$C$15,'Baggrundsdata - BVT - deflator'!$G84,IF($C$15=$G$17,'Baggrundsdata - BVT - deflator'!$F84,IF($F$17=$C$15,'Baggrundsdata - BVT - deflator'!$E84,IF($E$17=$C$15,'Baggrundsdata - BVT - deflator'!$D84,IF($D$17=$C$15,'Baggrundsdata - BVT - deflator'!$C84,IF('Baggrundsdata - BVT - deflator'!$C$17='Baggrundsdata - BVT - deflator'!$C$15,'Baggrundsdata - BVT - deflator'!$B84,\"*\"))))))))))),\"*\")","v":1},{"$f":"IFERROR('Baggrundsdata - BVT - deflator'!L84/IF($M$17=$C$15,$L84,IF($L$17=$C$15,$K84,IF($K$17=$C$15,$J84,IF($J$17=$C$15,$I84,IF($I$17=$C$15,'Baggrundsdata - BVT - deflator'!$H84,IF($H$17=$C$15,'Baggrundsdata - BVT - deflator'!$G84,IF($C$15=$G$17,'Baggrundsdata - BVT - deflator'!$F84,IF($F$17=$C$15,'Baggrundsdata - BVT - deflator'!$E84,IF($E$17=$C$15,'Baggrundsdata - BVT - deflator'!$D84,IF($D$17=$C$15,'Baggrundsdata - BVT - deflator'!$C84,IF('Baggrundsdata - BVT - deflator'!$C$17='Baggrundsdata - BVT - deflator'!$C$15,'Baggrundsdata - BVT - deflator'!$B84,\"*\"))))))))))),\"*\")","v":0},null,{"$f":"IF(A84='Level 1'!A67,\"sand\",\"falsk\")","v":"sand"}]
[null,"Hungary",{"$f":"IFERROR('Baggrundsdata - BVT - deflator'!B85/IF($M$17=$C$15,$L85,IF($L$17=$C$15,$K85,IF($K$17=$C$15,$J85,IF($J$17=$C$15,$I85,IF($I$17=$C$15,'Baggrundsdata - BVT - deflator'!$H85,IF($H$17=$C$15,'Baggrundsdata - BVT - deflator'!$G85,IF($C$15=$G$17,'Baggrundsdata - BVT - deflator'!$F85,IF($F$17=$C$15,'Baggrundsdata - BVT - deflator'!$E85,IF($E$17=$C$15,'Baggrundsdata - BVT - deflator'!$D85,IF($D$17=$C$15,'Baggrundsdata - BVT - deflator'!$C85,IF('Baggrundsdata - BVT - deflator'!$C$17='Baggrundsdata - BVT - deflator'!$C$15,'Baggrundsdata - BVT - deflator'!$B85,\"*\"))))))))))),\"*\")","v":0.9887495300066006},{"$f":"IFERROR('Baggrundsdata - BVT - deflator'!C85/IF($M$17=$C$15,$L85,IF($L$17=$C$15,$K85,IF($K$17=$C$15,$J85,IF($J$17=$C$15,$I85,IF($I$17=$C$15,'Baggrundsdata - BVT - deflator'!$H85,IF($H$17=$C$15,'Baggrundsdata - BVT - deflator'!$G85,IF($C$15=$G$17,'Baggrundsdata - BVT - deflator'!$F85,IF($F$17=$C$15,'Baggrundsdata - BVT - deflator'!$E85,IF($E$17=$C$15,'Baggrundsdata - BVT - deflator'!$D85,IF($D$17=$C$15,'Baggrundsdata - BVT - deflator'!$C85,IF('Baggrundsdata - BVT - deflator'!$C$17='Baggrundsdata - BVT - deflator'!$C$15,'Baggrundsdata - BVT - deflator'!$B85,\"*\"))))))))))),\"*\")","v":1.035210244691088},{"$f":"IFERROR('Baggrundsdata - BVT - deflator'!D85/IF($M$17=$C$15,$L85,IF($L$17=$C$15,$K85,IF($K$17=$C$15,$J85,IF($J$17=$C$15,$I85,IF($I$17=$C$15,'Baggrundsdata - BVT - deflator'!$H85,IF($H$17=$C$15,'Baggrundsdata - BVT - deflator'!$G85,IF($C$15=$G$17,'Baggrundsdata - BVT - deflator'!$F85,IF($F$17=$C$15,'Baggrundsdata - BVT - deflator'!$E85,IF($E$17=$C$15,'Baggrundsdata - BVT - deflator'!$D85,IF($D$17=$C$15,'Baggrundsdata - BVT - deflator'!$C85,IF('Baggrundsdata - BVT - deflator'!$C$17='Baggrundsdata - BVT - deflator'!$C$15,'Baggrundsdata - BVT - deflator'!$B85,\"*\"))))))))))),\"*\")","v":0.95805369030479826},{"$f":"IFERROR('Baggrundsdata - BVT - deflator'!E85/IF($M$17=$C$15,$L85,IF($L$17=$C$15,$K85,IF($K$17=$C$15,$J85,IF($J$17=$C$15,$I85,IF($I$17=$C$15,'Baggrundsdata - BVT - deflator'!$H85,IF($H$17=$C$15,'Baggrundsdata - BVT - deflator'!$G85,IF($C$15=$G$17,'Baggrundsdata - BVT - deflator'!$F85,IF($F$17=$C$15,'Baggrundsdata - BVT - deflator'!$E85,IF($E$17=$C$15,'Baggrundsdata - BVT - deflator'!$D85,IF($D$17=$C$15,'Baggrundsdata - BVT - deflator'!$C85,IF('Baggrundsdata - BVT - deflator'!$C$17='Baggrundsdata - BVT - deflator'!$C$15,'Baggrundsdata - BVT - deflator'!$B85,\"*\"))))))))))),\"*\")","v":0.99275031377109813},{"$f":"IFERROR('Baggrundsdata - BVT - deflator'!F85/IF($M$17=$C$15,$L85,IF($L$17=$C$15,$K85,IF($K$17=$C$15,$J85,IF($J$17=$C$15,$I85,IF($I$17=$C$15,'Baggrundsdata - BVT - deflator'!$H85,IF($H$17=$C$15,'Baggrundsdata - BVT - deflator'!$G85,IF($C$15=$G$17,'Baggrundsdata - BVT - deflator'!$F85,IF($F$17=$C$15,'Baggrundsdata - BVT - deflator'!$E85,IF($E$17=$C$15,'Baggrundsdata - BVT - deflator'!$D85,IF($D$17=$C$15,'Baggrundsdata - BVT - deflator'!$C85,IF('Baggrundsdata - BVT - deflator'!$C$17='Baggrundsdata - BVT - deflator'!$C$15,'Baggrundsdata - BVT - deflator'!$B85,\"*\"))))))))))),\"*\")","v":1.002578541877432},{"$f":"IFERROR('Baggrundsdata - BVT - deflator'!G85/IF($M$17=$C$15,$L85,IF($L$17=$C$15,$K85,IF($K$17=$C$15,$J85,IF($J$17=$C$15,$I85,IF($I$17=$C$15,'Baggrundsdata - BVT - deflator'!$H85,IF($H$17=$C$15,'Baggrundsdata - BVT - deflator'!$G85,IF($C$15=$G$17,'Baggrundsdata - BVT - deflator'!$F85,IF($F$17=$C$15,'Baggrundsdata - BVT - deflator'!$E85,IF($E$17=$C$15,'Baggrundsdata - BVT - deflator'!$D85,IF($D$17=$C$15,'Baggrundsdata - BVT - deflator'!$C85,IF('Baggrundsdata - BVT - deflator'!$C$17='Baggrundsdata - BVT - deflator'!$C$15,'Baggrundsdata - BVT - deflator'!$B85,\"*\"))))))))))),\"*\")","v":0.99219437359538643},{"$f":"IFERROR('Baggrundsdata - BVT - deflator'!H85/IF($M$17=$C$15,$L85,IF($L$17=$C$15,$K85,IF($K$17=$C$15,$J85,IF($J$17=$C$15,$I85,IF($I$17=$C$15,'Baggrundsdata - BVT - deflator'!$H85,IF($H$17=$C$15,'Baggrundsdata - BVT - deflator'!$G85,IF($C$15=$G$17,'Baggrundsdata - BVT - deflator'!$F85,IF($F$17=$C$15,'Baggrundsdata - BVT - deflator'!$E85,IF($E$17=$C$15,'Baggrundsdata - BVT - deflator'!$D85,IF($D$17=$C$15,'Baggrundsdata - BVT - deflator'!$C85,IF('Baggrundsdata - BVT - deflator'!$C$17='Baggrundsdata - BVT - deflator'!$C$15,'Baggrundsdata - BVT - deflator'!$B85,\"*\"))))))))))),\"*\")","v":0.9939118316382104},{"$f":"IFERROR('Baggrundsdata - BVT - deflator'!I85/IF($M$17=$C$15,$L85,IF($L$17=$C$15,$K85,IF($K$17=$C$15,$J85,IF($J$17=$C$15,$I85,IF($I$17=$C$15,'Baggrundsdata - BVT - deflator'!$H85,IF($H$17=$C$15,'Baggrundsdata - BVT - deflator'!$G85,IF($C$15=$G$17,'Baggrundsdata - BVT - deflator'!$F85,IF($F$17=$C$15,'Baggrundsdata - BVT - deflator'!$E85,IF($E$17=$C$15,'Baggrundsdata - BVT - deflator'!$D85,IF($D$17=$C$15,'Baggrundsdata - BVT - deflator'!$C85,IF('Baggrundsdata - BVT - deflator'!$C$17='Baggrundsdata - BVT - deflator'!$C$15,'Baggrundsdata - BVT - deflator'!$B85,\"*\"))))))))))),\"*\")","v":0.98429208109776833},{"$f":"IFERROR('Baggrundsdata - BVT - deflator'!J85/IF($M$17=$C$15,$L85,IF($L$17=$C$15,$K85,IF($K$17=$C$15,$J85,IF($J$17=$C$15,$I85,IF($I$17=$C$15,'Baggrundsdata - BVT - deflator'!$H85,IF($H$17=$C$15,'Baggrundsdata - BVT - deflator'!$G85,IF($C$15=$G$17,'Baggrundsdata - BVT - deflator'!$F85,IF($F$17=$C$15,'Baggrundsdata - BVT - deflator'!$E85,IF($E$17=$C$15,'Baggrundsdata - BVT - deflator'!$D85,IF($D$17=$C$15,'Baggrundsdata - BVT - deflator'!$C85,IF('Baggrundsdata - BVT - deflator'!$C$17='Baggrundsdata - BVT - deflator'!$C$15,'Baggrundsdata - BVT - deflator'!$B85,\"*\"))))))))))),\"*\")","v":0.99211495357028467},{"$f":"IFERROR('Baggrundsdata - BVT - deflator'!K85/IF($M$17=$C$15,$L85,IF($L$17=$C$15,$K85,IF($K$17=$C$15,$J85,IF($J$17=$C$15,$I85,IF($I$17=$C$15,'Baggrundsdata - BVT - deflator'!$H85,IF($H$17=$C$15,'Baggrundsdata - BVT - deflator'!$G85,IF($C$15=$G$17,'Baggrundsdata - BVT - deflator'!$F85,IF($F$17=$C$15,'Baggrundsdata - BVT - deflator'!$E85,IF($E$17=$C$15,'Baggrundsdata - BVT - deflator'!$D85,IF($D$17=$C$15,'Baggrundsdata - BVT - deflator'!$C85,IF('Baggrundsdata - BVT - deflator'!$C$17='Baggrundsdata - BVT - deflator'!$C$15,'Baggrundsdata - BVT - deflator'!$B85,\"*\"))))))))))),\"*\")","v":1},{"$f":"IFERROR('Baggrundsdata - BVT - deflator'!L85/IF($M$17=$C$15,$L85,IF($L$17=$C$15,$K85,IF($K$17=$C$15,$J85,IF($J$17=$C$15,$I85,IF($I$17=$C$15,'Baggrundsdata - BVT - deflator'!$H85,IF($H$17=$C$15,'Baggrundsdata - BVT - deflator'!$G85,IF($C$15=$G$17,'Baggrundsdata - BVT - deflator'!$F85,IF($F$17=$C$15,'Baggrundsdata - BVT - deflator'!$E85,IF($E$17=$C$15,'Baggrundsdata - BVT - deflator'!$D85,IF($D$17=$C$15,'Baggrundsdata - BVT - deflator'!$C85,IF('Baggrundsdata - BVT - deflator'!$C$17='Baggrundsdata - BVT - deflator'!$C$15,'Baggrundsdata - BVT - deflator'!$B85,\"*\"))))))))))),\"*\")","v":0},null,{"$f":"IF(A85='Level 1'!A68,\"sand\",\"falsk\")","v":"sand"}]
[null,"Malta",{"$f":"IFERROR('Baggrundsdata - BVT - deflator'!B86/IF($M$17=$C$15,$L86,IF($L$17=$C$15,$K86,IF($K$17=$C$15,$J86,IF($J$17=$C$15,$I86,IF($I$17=$C$15,'Baggrundsdata - BVT - deflator'!$H86,IF($H$17=$C$15,'Baggrundsdata - BVT - deflator'!$G86,IF($C$15=$G$17,'Baggrundsdata - BVT - deflator'!$F86,IF($F$17=$C$15,'Baggrundsdata - BVT - deflator'!$E86,IF($E$17=$C$15,'Baggrundsdata - BVT - deflator'!$D86,IF($D$17=$C$15,'Baggrundsdata - BVT - deflator'!$C86,IF('Baggrundsdata - BVT - deflator'!$C$17='Baggrundsdata - BVT - deflator'!$C$15,'Baggrundsdata - BVT - deflator'!$B86,\"*\"))))))))))),\"*\")","v":"*"},{"$f":"IFERROR('Baggrundsdata - BVT - deflator'!C86/IF($M$17=$C$15,$L86,IF($L$17=$C$15,$K86,IF($K$17=$C$15,$J86,IF($J$17=$C$15,$I86,IF($I$17=$C$15,'Baggrundsdata - BVT - deflator'!$H86,IF($H$17=$C$15,'Baggrundsdata - BVT - deflator'!$G86,IF($C$15=$G$17,'Baggrundsdata - BVT - deflator'!$F86,IF($F$17=$C$15,'Baggrundsdata - BVT - deflator'!$E86,IF($E$17=$C$15,'Baggrundsdata - BVT - deflator'!$D86,IF($D$17=$C$15,'Baggrundsdata - BVT - deflator'!$C86,IF('Baggrundsdata - BVT - deflator'!$C$17='Baggrundsdata - BVT - deflator'!$C$15,'Baggrundsdata - BVT - deflator'!$B86,\"*\"))))))))))),\"*\")","v":"*"},{"$f":"IFERROR('Baggrundsdata - BVT - deflator'!D86/IF($M$17=$C$15,$L86,IF($L$17=$C$15,$K86,IF($K$17=$C$15,$J86,IF($J$17=$C$15,$I86,IF($I$17=$C$15,'Baggrundsdata - BVT - deflator'!$H86,IF($H$17=$C$15,'Baggrundsdata - BVT - deflator'!$G86,IF($C$15=$G$17,'Baggrundsdata - BVT - deflator'!$F86,IF($F$17=$C$15,'Baggrundsdata - BVT - deflator'!$E86,IF($E$17=$C$15,'Baggrundsdata - BVT - deflator'!$D86,IF($D$17=$C$15,'Baggrundsdata - BVT - deflator'!$C86,IF('Baggrundsdata - BVT - deflator'!$C$17='Baggrundsdata - BVT - deflator'!$C$15,'Baggrundsdata - BVT - deflator'!$B86,\"*\"))))))))))),\"*\")","v":"*"},{"$f":"IFERROR('Baggrundsdata - BVT - deflator'!E86/IF($M$17=$C$15,$L86,IF($L$17=$C$15,$K86,IF($K$17=$C$15,$J86,IF($J$17=$C$15,$I86,IF($I$17=$C$15,'Baggrundsdata - BVT - deflator'!$H86,IF($H$17=$C$15,'Baggrundsdata - BVT - deflator'!$G86,IF($C$15=$G$17,'Baggrundsdata - BVT - deflator'!$F86,IF($F$17=$C$15,'Baggrundsdata - BVT - deflator'!$E86,IF($E$17=$C$15,'Baggrundsdata - BVT - deflator'!$D86,IF($D$17=$C$15,'Baggrundsdata - BVT - deflator'!$C86,IF('Baggrundsdata - BVT - deflator'!$C$17='Baggrundsdata - BVT - deflator'!$C$15,'Baggrundsdata - BVT - deflator'!$B86,\"*\"))))))))))),\"*\")","v":"*"},{"$f":"IFERROR('Baggrundsdata - BVT - deflator'!F86/IF($M$17=$C$15,$L86,IF($L$17=$C$15,$K86,IF($K$17=$C$15,$J86,IF($J$17=$C$15,$I86,IF($I$17=$C$15,'Baggrundsdata - BVT - deflator'!$H86,IF($H$17=$C$15,'Baggrundsdata - BVT - deflator'!$G86,IF($C$15=$G$17,'Baggrundsdata - BVT - deflator'!$F86,IF($F$17=$C$15,'Baggrundsdata - BVT - deflator'!$E86,IF($E$17=$C$15,'Baggrundsdata - BVT - deflator'!$D86,IF($D$17=$C$15,'Baggrundsdata - BVT - deflator'!$C86,IF('Baggrundsdata - BVT - deflator'!$C$17='Baggrundsdata - BVT - deflator'!$C$15,'Baggrundsdata - BVT - deflator'!$B86,\"*\"))))))))))),\"*\")","v":"*"},{"$f":"IFERROR('Baggrundsdata - BVT - deflator'!G86/IF($M$17=$C$15,$L86,IF($L$17=$C$15,$K86,IF($K$17=$C$15,$J86,IF($J$17=$C$15,$I86,IF($I$17=$C$15,'Baggrundsdata - BVT - deflator'!$H86,IF($H$17=$C$15,'Baggrundsdata - BVT - deflator'!$G86,IF($C$15=$G$17,'Baggrundsdata - BVT - deflator'!$F86,IF($F$17=$C$15,'Baggrundsdata - BVT - deflator'!$E86,IF($E$17=$C$15,'Baggrundsdata - BVT - deflator'!$D86,IF($D$17=$C$15,'Baggrundsdata - BVT - deflator'!$C86,IF('Baggrundsdata - BVT - deflator'!$C$17='Baggrundsdata - BVT - deflator'!$C$15,'Baggrundsdata - BVT - deflator'!$B86,\"*\"))))))))))),\"*\")","v":"*"},{"$f":"IFERROR('Baggrundsdata - BVT - deflator'!H86/IF($M$17=$C$15,$L86,IF($L$17=$C$15,$K86,IF($K$17=$C$15,$J86,IF($J$17=$C$15,$I86,IF($I$17=$C$15,'Baggrundsdata - BVT - deflator'!$H86,IF($H$17=$C$15,'Baggrundsdata - BVT - deflator'!$G86,IF($C$15=$G$17,'Baggrundsdata - BVT - deflator'!$F86,IF($F$17=$C$15,'Baggrundsdata - BVT - deflator'!$E86,IF($E$17=$C$15,'Baggrundsdata - BVT - deflator'!$D86,IF($D$17=$C$15,'Baggrundsdata - BVT - deflator'!$C86,IF('Baggrundsdata - BVT - deflator'!$C$17='Baggrundsdata - BVT - deflator'!$C$15,'Baggrundsdata - BVT - deflator'!$B86,\"*\"))))))))))),\"*\")","v":"*"},{"$f":"IFERROR('Baggrundsdata - BVT - deflator'!I86/IF($M$17=$C$15,$L86,IF($L$17=$C$15,$K86,IF($K$17=$C$15,$J86,IF($J$17=$C$15,$I86,IF($I$17=$C$15,'Baggrundsdata - BVT - deflator'!$H86,IF($H$17=$C$15,'Baggrundsdata - BVT - deflator'!$G86,IF($C$15=$G$17,'Baggrundsdata - BVT - deflator'!$F86,IF($F$17=$C$15,'Baggrundsdata - BVT - deflator'!$E86,IF($E$17=$C$15,'Baggrundsdata - BVT - deflator'!$D86,IF($D$17=$C$15,'Baggrundsdata - BVT - deflator'!$C86,IF('Baggrundsdata - BVT - deflator'!$C$17='Baggrundsdata - BVT - deflator'!$C$15,'Baggrundsdata - BVT - deflator'!$B86,\"*\"))))))))))),\"*\")","v":"*"},{"$f":"IFERROR('Baggrundsdata - BVT - deflator'!J86/IF($M$17=$C$15,$L86,IF($L$17=$C$15,$K86,IF($K$17=$C$15,$J86,IF($J$17=$C$15,$I86,IF($I$17=$C$15,'Baggrundsdata - BVT - deflator'!$H86,IF($H$17=$C$15,'Baggrundsdata - BVT - deflator'!$G86,IF($C$15=$G$17,'Baggrundsdata - BVT - deflator'!$F86,IF($F$17=$C$15,'Baggrundsdata - BVT - deflator'!$E86,IF($E$17=$C$15,'Baggrundsdata - BVT - deflator'!$D86,IF($D$17=$C$15,'Baggrundsdata - BVT - deflator'!$C86,IF('Baggrundsdata - BVT - deflator'!$C$17='Baggrundsdata - BVT - deflator'!$C$15,'Baggrundsdata - BVT - deflator'!$B86,\"*\"))))))))))),\"*\")","v":"*"},{"$f":"IFERROR('Baggrundsdata - BVT - deflator'!K86/IF($M$17=$C$15,$L86,IF($L$17=$C$15,$K86,IF($K$17=$C$15,$J86,IF($J$17=$C$15,$I86,IF($I$17=$C$15,'Baggrundsdata - BVT - deflator'!$H86,IF($H$17=$C$15,'Baggrundsdata - BVT - deflator'!$G86,IF($C$15=$G$17,'Baggrundsdata - BVT - deflator'!$F86,IF($F$17=$C$15,'Baggrundsdata - BVT - deflator'!$E86,IF($E$17=$C$15,'Baggrundsdata - BVT - deflator'!$D86,IF($D$17=$C$15,'Baggrundsdata - BVT - deflator'!$C86,IF('Baggrundsdata - BVT - deflator'!$C$17='Baggrundsdata - BVT - deflator'!$C$15,'Baggrundsdata - BVT - deflator'!$B86,\"*\"))))))))))),\"*\")","v":"*"},{"$f":"IFERROR('Baggrundsdata - BVT - deflator'!L86/IF($M$17=$C$15,$L86,IF($L$17=$C$15,$K86,IF($K$17=$C$15,$J86,IF($J$17=$C$15,$I86,IF($I$17=$C$15,'Baggrundsdata - BVT - deflator'!$H86,IF($H$17=$C$15,'Baggrundsdata - BVT - deflator'!$G86,IF($C$15=$G$17,'Baggrundsdata - BVT - deflator'!$F86,IF($F$17=$C$15,'Baggrundsdata - BVT - deflator'!$E86,IF($E$17=$C$15,'Baggrundsdata - BVT - deflator'!$D86,IF($D$17=$C$15,'Baggrundsdata - BVT - deflator'!$C86,IF('Baggrundsdata - BVT - deflator'!$C$17='Baggrundsdata - BVT - deflator'!$C$15,'Baggrundsdata - BVT - deflator'!$B86,\"*\"))))))))))),\"*\")","v":"*"},null,{"$f":"IF(A86='Level 1'!A69,\"sand\",\"falsk\")","v":"sand"}]
[null,"Netherlands",{"$f":"IFERROR('Baggrundsdata - BVT - deflator'!B87/IF($M$17=$C$15,$L87,IF($L$17=$C$15,$K87,IF($K$17=$C$15,$J87,IF($J$17=$C$15,$I87,IF($I$17=$C$15,'Baggrundsdata - BVT - deflator'!$H87,IF($H$17=$C$15,'Baggrundsdata - BVT - deflator'!$G87,IF($C$15=$G$17,'Baggrundsdata - BVT - deflator'!$F87,IF($F$17=$C$15,'Baggrundsdata - BVT - deflator'!$E87,IF($E$17=$C$15,'Baggrundsdata - BVT - deflator'!$D87,IF($D$17=$C$15,'Baggrundsdata - BVT - deflator'!$C87,IF('Baggrundsdata - BVT - deflator'!$C$17='Baggrundsdata - BVT - deflator'!$C$15,'Baggrundsdata - BVT - deflator'!$B87,\"*\"))))))))))),\"*\")","v":0.9279533377332585},{"$f":"IFERROR('Baggrundsdata - BVT - deflator'!C87/IF($M$17=$C$15,$L87,IF($L$17=$C$15,$K87,IF($K$17=$C$15,$J87,IF($J$17=$C$15,$I87,IF($I$17=$C$15,'Baggrundsdata - BVT - deflator'!$H87,IF($H$17=$C$15,'Baggrundsdata - BVT - deflator'!$G87,IF($C$15=$G$17,'Baggrundsdata - BVT - deflator'!$F87,IF($F$17=$C$15,'Baggrundsdata - BVT - deflator'!$E87,IF($E$17=$C$15,'Baggrundsdata - BVT - deflator'!$D87,IF($D$17=$C$15,'Baggrundsdata - BVT - deflator'!$C87,IF('Baggrundsdata - BVT - deflator'!$C$17='Baggrundsdata - BVT - deflator'!$C$15,'Baggrundsdata - BVT - deflator'!$B87,\"*\"))))))))))),\"*\")","v":0.94911285320601513},{"$f":"IFERROR('Baggrundsdata - BVT - deflator'!D87/IF($M$17=$C$15,$L87,IF($L$17=$C$15,$K87,IF($K$17=$C$15,$J87,IF($J$17=$C$15,$I87,IF($I$17=$C$15,'Baggrundsdata - BVT - deflator'!$H87,IF($H$17=$C$15,'Baggrundsdata - BVT - deflator'!$G87,IF($C$15=$G$17,'Baggrundsdata - BVT - deflator'!$F87,IF($F$17=$C$15,'Baggrundsdata - BVT - deflator'!$E87,IF($E$17=$C$15,'Baggrundsdata - BVT - deflator'!$D87,IF($D$17=$C$15,'Baggrundsdata - BVT - deflator'!$C87,IF('Baggrundsdata - BVT - deflator'!$C$17='Baggrundsdata - BVT - deflator'!$C$15,'Baggrundsdata - BVT - deflator'!$B87,\"*\"))))))))))),\"*\")","v":0.95322560189917571},{"$f":"IFERROR('Baggrundsdata - BVT - deflator'!E87/IF($M$17=$C$15,$L87,IF($L$17=$C$15,$K87,IF($K$17=$C$15,$J87,IF($J$17=$C$15,$I87,IF($I$17=$C$15,'Baggrundsdata - BVT - deflator'!$H87,IF($H$17=$C$15,'Baggrundsdata - BVT - deflator'!$G87,IF($C$15=$G$17,'Baggrundsdata - BVT - deflator'!$F87,IF($F$17=$C$15,'Baggrundsdata - BVT - deflator'!$E87,IF($E$17=$C$15,'Baggrundsdata - BVT - deflator'!$D87,IF($D$17=$C$15,'Baggrundsdata - BVT - deflator'!$C87,IF('Baggrundsdata - BVT - deflator'!$C$17='Baggrundsdata - BVT - deflator'!$C$15,'Baggrundsdata - BVT - deflator'!$B87,\"*\"))))))))))),\"*\")","v":0.9609225918599742},{"$f":"IFERROR('Baggrundsdata - BVT - deflator'!F87/IF($M$17=$C$15,$L87,IF($L$17=$C$15,$K87,IF($K$17=$C$15,$J87,IF($J$17=$C$15,$I87,IF($I$17=$C$15,'Baggrundsdata - BVT - deflator'!$H87,IF($H$17=$C$15,'Baggrundsdata - BVT - deflator'!$G87,IF($C$15=$G$17,'Baggrundsdata - BVT - deflator'!$F87,IF($F$17=$C$15,'Baggrundsdata - BVT - deflator'!$E87,IF($E$17=$C$15,'Baggrundsdata - BVT - deflator'!$D87,IF($D$17=$C$15,'Baggrundsdata - BVT - deflator'!$C87,IF('Baggrundsdata - BVT - deflator'!$C$17='Baggrundsdata - BVT - deflator'!$C$15,'Baggrundsdata - BVT - deflator'!$B87,\"*\"))))))))))),\"*\")","v":0.96165289302978763},{"$f":"IFERROR('Baggrundsdata - BVT - deflator'!G87/IF($M$17=$C$15,$L87,IF($L$17=$C$15,$K87,IF($K$17=$C$15,$J87,IF($J$17=$C$15,$I87,IF($I$17=$C$15,'Baggrundsdata - BVT - deflator'!$H87,IF($H$17=$C$15,'Baggrundsdata - BVT - deflator'!$G87,IF($C$15=$G$17,'Baggrundsdata - BVT - deflator'!$F87,IF($F$17=$C$15,'Baggrundsdata - BVT - deflator'!$E87,IF($E$17=$C$15,'Baggrundsdata - BVT - deflator'!$D87,IF($D$17=$C$15,'Baggrundsdata - BVT - deflator'!$C87,IF('Baggrundsdata - BVT - deflator'!$C$17='Baggrundsdata - BVT - deflator'!$C$15,'Baggrundsdata - BVT - deflator'!$B87,\"*\"))))))))))),\"*\")","v":0.97620126107054783},{"$f":"IFERROR('Baggrundsdata - BVT - deflator'!H87/IF($M$17=$C$15,$L87,IF($L$17=$C$15,$K87,IF($K$17=$C$15,$J87,IF($J$17=$C$15,$I87,IF($I$17=$C$15,'Baggrundsdata - BVT - deflator'!$H87,IF($H$17=$C$15,'Baggrundsdata - BVT - deflator'!$G87,IF($C$15=$G$17,'Baggrundsdata - BVT - deflator'!$F87,IF($F$17=$C$15,'Baggrundsdata - BVT - deflator'!$E87,IF($E$17=$C$15,'Baggrundsdata - BVT - deflator'!$D87,IF($D$17=$C$15,'Baggrundsdata - BVT - deflator'!$C87,IF('Baggrundsdata - BVT - deflator'!$C$17='Baggrundsdata - BVT - deflator'!$C$15,'Baggrundsdata - BVT - deflator'!$B87,\"*\"))))))))))),\"*\")","v":0.98288928230989314},{"$f":"IFERROR('Baggrundsdata - BVT - deflator'!I87/IF($M$17=$C$15,$L87,IF($L$17=$C$15,$K87,IF($K$17=$C$15,$J87,IF($J$17=$C$15,$I87,IF($I$17=$C$15,'Baggrundsdata - BVT - deflator'!$H87,IF($H$17=$C$15,'Baggrundsdata - BVT - deflator'!$G87,IF($C$15=$G$17,'Baggrundsdata - BVT - deflator'!$F87,IF($F$17=$C$15,'Baggrundsdata - BVT - deflator'!$E87,IF($E$17=$C$15,'Baggrundsdata - BVT - deflator'!$D87,IF($D$17=$C$15,'Baggrundsdata - BVT - deflator'!$C87,IF('Baggrundsdata - BVT - deflator'!$C$17='Baggrundsdata - BVT - deflator'!$C$15,'Baggrundsdata - BVT - deflator'!$B87,\"*\"))))))))))),\"*\")","v":0.98992323568230822},{"$f":"IFERROR('Baggrundsdata - BVT - deflator'!J87/IF($M$17=$C$15,$L87,IF($L$17=$C$15,$K87,IF($K$17=$C$15,$J87,IF($J$17=$C$15,$I87,IF($I$17=$C$15,'Baggrundsdata - BVT - deflator'!$H87,IF($H$17=$C$15,'Baggrundsdata - BVT - deflator'!$G87,IF($C$15=$G$17,'Baggrundsdata - BVT - deflator'!$F87,IF($F$17=$C$15,'Baggrundsdata - BVT - deflator'!$E87,IF($E$17=$C$15,'Baggrundsdata - BVT - deflator'!$D87,IF($D$17=$C$15,'Baggrundsdata - BVT - deflator'!$C87,IF('Baggrundsdata - BVT - deflator'!$C$17='Baggrundsdata - BVT - deflator'!$C$15,'Baggrundsdata - BVT - deflator'!$B87,\"*\"))))))))))),\"*\")","v":0.99494886083773582},{"$f":"IFERROR('Baggrundsdata - BVT - deflator'!K87/IF($M$17=$C$15,$L87,IF($L$17=$C$15,$K87,IF($K$17=$C$15,$J87,IF($J$17=$C$15,$I87,IF($I$17=$C$15,'Baggrundsdata - BVT - deflator'!$H87,IF($H$17=$C$15,'Baggrundsdata - BVT - deflator'!$G87,IF($C$15=$G$17,'Baggrundsdata - BVT - deflator'!$F87,IF($F$17=$C$15,'Baggrundsdata - BVT - deflator'!$E87,IF($E$17=$C$15,'Baggrundsdata - BVT - deflator'!$D87,IF($D$17=$C$15,'Baggrundsdata - BVT - deflator'!$C87,IF('Baggrundsdata - BVT - deflator'!$C$17='Baggrundsdata - BVT - deflator'!$C$15,'Baggrundsdata - BVT - deflator'!$B87,\"*\"))))))))))),\"*\")","v":1},{"$f":"IFERROR('Baggrundsdata - BVT - deflator'!L87/IF($M$17=$C$15,$L87,IF($L$17=$C$15,$K87,IF($K$17=$C$15,$J87,IF($J$17=$C$15,$I87,IF($I$17=$C$15,'Baggrundsdata - BVT - deflator'!$H87,IF($H$17=$C$15,'Baggrundsdata - BVT - deflator'!$G87,IF($C$15=$G$17,'Baggrundsdata - BVT - deflator'!$F87,IF($F$17=$C$15,'Baggrundsdata - BVT - deflator'!$E87,IF($E$17=$C$15,'Baggrundsdata - BVT - deflator'!$D87,IF($D$17=$C$15,'Baggrundsdata - BVT - deflator'!$C87,IF('Baggrundsdata - BVT - deflator'!$C$17='Baggrundsdata - BVT - deflator'!$C$15,'Baggrundsdata - BVT - deflator'!$B87,\"*\"))))))))))),\"*\")","v":0},null,{"$f":"IF(A87='Level 1'!A70,\"sand\",\"falsk\")","v":"sand"}]
[null,"Austria",{"$f":"IFERROR('Baggrundsdata - BVT - deflator'!B88/IF($M$17=$C$15,$L88,IF($L$17=$C$15,$K88,IF($K$17=$C$15,$J88,IF($J$17=$C$15,$I88,IF($I$17=$C$15,'Baggrundsdata - BVT - deflator'!$H88,IF($H$17=$C$15,'Baggrundsdata - BVT - deflator'!$G88,IF($C$15=$G$17,'Baggrundsdata - BVT - deflator'!$F88,IF($F$17=$C$15,'Baggrundsdata - BVT - deflator'!$E88,IF($E$17=$C$15,'Baggrundsdata - BVT - deflator'!$D88,IF($D$17=$C$15,'Baggrundsdata - BVT - deflator'!$C88,IF('Baggrundsdata - BVT - deflator'!$C$17='Baggrundsdata - BVT - deflator'!$C$15,'Baggrundsdata - BVT - deflator'!$B88,\"*\"))))))))))),\"*\")","v":0.86613003399264599},{"$f":"IFERROR('Baggrundsdata - BVT - deflator'!C88/IF($M$17=$C$15,$L88,IF($L$17=$C$15,$K88,IF($K$17=$C$15,$J88,IF($J$17=$C$15,$I88,IF($I$17=$C$15,'Baggrundsdata - BVT - deflator'!$H88,IF($H$17=$C$15,'Baggrundsdata - BVT - deflator'!$G88,IF($C$15=$G$17,'Baggrundsdata - BVT - deflator'!$F88,IF($F$17=$C$15,'Baggrundsdata - BVT - deflator'!$E88,IF($E$17=$C$15,'Baggrundsdata - BVT - deflator'!$D88,IF($D$17=$C$15,'Baggrundsdata - BVT - deflator'!$C88,IF('Baggrundsdata - BVT - deflator'!$C$17='Baggrundsdata - BVT - deflator'!$C$15,'Baggrundsdata - BVT - deflator'!$B88,\"*\"))))))))))),\"*\")","v":0.88049400205871364},{"$f":"IFERROR('Baggrundsdata - BVT - deflator'!D88/IF($M$17=$C$15,$L88,IF($L$17=$C$15,$K88,IF($K$17=$C$15,$J88,IF($J$17=$C$15,$I88,IF($I$17=$C$15,'Baggrundsdata - BVT - deflator'!$H88,IF($H$17=$C$15,'Baggrundsdata - BVT - deflator'!$G88,IF($C$15=$G$17,'Baggrundsdata - BVT - deflator'!$F88,IF($F$17=$C$15,'Baggrundsdata - BVT - deflator'!$E88,IF($E$17=$C$15,'Baggrundsdata - BVT - deflator'!$D88,IF($D$17=$C$15,'Baggrundsdata - BVT - deflator'!$C88,IF('Baggrundsdata - BVT - deflator'!$C$17='Baggrundsdata - BVT - deflator'!$C$15,'Baggrundsdata - BVT - deflator'!$B88,\"*\"))))))))))),\"*\")","v":0.89905010736200386},{"$f":"IFERROR('Baggrundsdata - BVT - deflator'!E88/IF($M$17=$C$15,$L88,IF($L$17=$C$15,$K88,IF($K$17=$C$15,$J88,IF($J$17=$C$15,$I88,IF($I$17=$C$15,'Baggrundsdata - BVT - deflator'!$H88,IF($H$17=$C$15,'Baggrundsdata - BVT - deflator'!$G88,IF($C$15=$G$17,'Baggrundsdata - BVT - deflator'!$F88,IF($F$17=$C$15,'Baggrundsdata - BVT - deflator'!$E88,IF($E$17=$C$15,'Baggrundsdata - BVT - deflator'!$D88,IF($D$17=$C$15,'Baggrundsdata - BVT - deflator'!$C88,IF('Baggrundsdata - BVT - deflator'!$C$17='Baggrundsdata - BVT - deflator'!$C$15,'Baggrundsdata - BVT - deflator'!$B88,\"*\"))))))))))),\"*\")","v":0.90738901238582959},{"$f":"IFERROR('Baggrundsdata - BVT - deflator'!F88/IF($M$17=$C$15,$L88,IF($L$17=$C$15,$K88,IF($K$17=$C$15,$J88,IF($J$17=$C$15,$I88,IF($I$17=$C$15,'Baggrundsdata - BVT - deflator'!$H88,IF($H$17=$C$15,'Baggrundsdata - BVT - deflator'!$G88,IF($C$15=$G$17,'Baggrundsdata - BVT - deflator'!$F88,IF($F$17=$C$15,'Baggrundsdata - BVT - deflator'!$E88,IF($E$17=$C$15,'Baggrundsdata - BVT - deflator'!$D88,IF($D$17=$C$15,'Baggrundsdata - BVT - deflator'!$C88,IF('Baggrundsdata - BVT - deflator'!$C$17='Baggrundsdata - BVT - deflator'!$C$15,'Baggrundsdata - BVT - deflator'!$B88,\"*\"))))))))))),\"*\")","v":0.92186186713338358},{"$f":"IFERROR('Baggrundsdata - BVT - deflator'!G88/IF($M$17=$C$15,$L88,IF($L$17=$C$15,$K88,IF($K$17=$C$15,$J88,IF($J$17=$C$15,$I88,IF($I$17=$C$15,'Baggrundsdata - BVT - deflator'!$H88,IF($H$17=$C$15,'Baggrundsdata - BVT - deflator'!$G88,IF($C$15=$G$17,'Baggrundsdata - BVT - deflator'!$F88,IF($F$17=$C$15,'Baggrundsdata - BVT - deflator'!$E88,IF($E$17=$C$15,'Baggrundsdata - BVT - deflator'!$D88,IF($D$17=$C$15,'Baggrundsdata - BVT - deflator'!$C88,IF('Baggrundsdata - BVT - deflator'!$C$17='Baggrundsdata - BVT - deflator'!$C$15,'Baggrundsdata - BVT - deflator'!$B88,\"*\"))))))))))),\"*\")","v":0.93976465234775597},{"$f":"IFERROR('Baggrundsdata - BVT - deflator'!H88/IF($M$17=$C$15,$L88,IF($L$17=$C$15,$K88,IF($K$17=$C$15,$J88,IF($J$17=$C$15,$I88,IF($I$17=$C$15,'Baggrundsdata - BVT - deflator'!$H88,IF($H$17=$C$15,'Baggrundsdata - BVT - deflator'!$G88,IF($C$15=$G$17,'Baggrundsdata - BVT - deflator'!$F88,IF($F$17=$C$15,'Baggrundsdata - BVT - deflator'!$E88,IF($E$17=$C$15,'Baggrundsdata - BVT - deflator'!$D88,IF($D$17=$C$15,'Baggrundsdata - BVT - deflator'!$C88,IF('Baggrundsdata - BVT - deflator'!$C$17='Baggrundsdata - BVT - deflator'!$C$15,'Baggrundsdata - BVT - deflator'!$B88,\"*\"))))))))))),\"*\")","v":0.95399251206196578},{"$f":"IFERROR('Baggrundsdata - BVT - deflator'!I88/IF($M$17=$C$15,$L88,IF($L$17=$C$15,$K88,IF($K$17=$C$15,$J88,IF($J$17=$C$15,$I88,IF($I$17=$C$15,'Baggrundsdata - BVT - deflator'!$H88,IF($H$17=$C$15,'Baggrundsdata - BVT - deflator'!$G88,IF($C$15=$G$17,'Baggrundsdata - BVT - deflator'!$F88,IF($F$17=$C$15,'Baggrundsdata - BVT - deflator'!$E88,IF($E$17=$C$15,'Baggrundsdata - BVT - deflator'!$D88,IF($D$17=$C$15,'Baggrundsdata - BVT - deflator'!$C88,IF('Baggrundsdata - BVT - deflator'!$C$17='Baggrundsdata - BVT - deflator'!$C$15,'Baggrundsdata - BVT - deflator'!$B88,\"*\"))))))))))),\"*\")","v":0.96991718922933723},{"$f":"IFERROR('Baggrundsdata - BVT - deflator'!J88/IF($M$17=$C$15,$L88,IF($L$17=$C$15,$K88,IF($K$17=$C$15,$J88,IF($J$17=$C$15,$I88,IF($I$17=$C$15,'Baggrundsdata - BVT - deflator'!$H88,IF($H$17=$C$15,'Baggrundsdata - BVT - deflator'!$G88,IF($C$15=$G$17,'Baggrundsdata - BVT - deflator'!$F88,IF($F$17=$C$15,'Baggrundsdata - BVT - deflator'!$E88,IF($E$17=$C$15,'Baggrundsdata - BVT - deflator'!$D88,IF($D$17=$C$15,'Baggrundsdata - BVT - deflator'!$C88,IF('Baggrundsdata - BVT - deflator'!$C$17='Baggrundsdata - BVT - deflator'!$C$15,'Baggrundsdata - BVT - deflator'!$B88,\"*\"))))))))))),\"*\")","v":0.98484373848308404},{"$f":"IFERROR('Baggrundsdata - BVT - deflator'!K88/IF($M$17=$C$15,$L88,IF($L$17=$C$15,$K88,IF($K$17=$C$15,$J88,IF($J$17=$C$15,$I88,IF($I$17=$C$15,'Baggrundsdata - BVT - deflator'!$H88,IF($H$17=$C$15,'Baggrundsdata - BVT - deflator'!$G88,IF($C$15=$G$17,'Baggrundsdata - BVT - deflator'!$F88,IF($F$17=$C$15,'Baggrundsdata - BVT - deflator'!$E88,IF($E$17=$C$15,'Baggrundsdata - BVT - deflator'!$D88,IF($D$17=$C$15,'Baggrundsdata - BVT - deflator'!$C88,IF('Baggrundsdata - BVT - deflator'!$C$17='Baggrundsdata - BVT - deflator'!$C$15,'Baggrundsdata - BVT - deflator'!$B88,\"*\"))))))))))),\"*\")","v":1},{"$f":"IFERROR('Baggrundsdata - BVT - deflator'!L88/IF($M$17=$C$15,$L88,IF($L$17=$C$15,$K88,IF($K$17=$C$15,$J88,IF($J$17=$C$15,$I88,IF($I$17=$C$15,'Baggrundsdata - BVT - deflator'!$H88,IF($H$17=$C$15,'Baggrundsdata - BVT - deflator'!$G88,IF($C$15=$G$17,'Baggrundsdata - BVT - deflator'!$F88,IF($F$17=$C$15,'Baggrundsdata - BVT - deflator'!$E88,IF($E$17=$C$15,'Baggrundsdata - BVT - deflator'!$D88,IF($D$17=$C$15,'Baggrundsdata - BVT - deflator'!$C88,IF('Baggrundsdata - BVT - deflator'!$C$17='Baggrundsdata - BVT - deflator'!$C$15,'Baggrundsdata - BVT - deflator'!$B88,\"*\"))))))))))),\"*\")","v":0},null,{"$f":"IF(A88='Level 1'!A71,\"sand\",\"falsk\")","v":"sand"}]
[null,"Poland",{"$f":"IFERROR('Baggrundsdata - BVT - deflator'!B89/IF($M$17=$C$15,$L89,IF($L$17=$C$15,$K89,IF($K$17=$C$15,$J89,IF($J$17=$C$15,$I89,IF($I$17=$C$15,'Baggrundsdata - BVT - deflator'!$H89,IF($H$17=$C$15,'Baggrundsdata - BVT - deflator'!$G89,IF($C$15=$G$17,'Baggrundsdata - BVT - deflator'!$F89,IF($F$17=$C$15,'Baggrundsdata - BVT - deflator'!$E89,IF($E$17=$C$15,'Baggrundsdata - BVT - deflator'!$D89,IF($D$17=$C$15,'Baggrundsdata - BVT - deflator'!$C89,IF('Baggrundsdata - BVT - deflator'!$C$17='Baggrundsdata - BVT - deflator'!$C$15,'Baggrundsdata - BVT - deflator'!$B89,\"*\"))))))))))),\"*\")","v":0.9176705353852197},{"$f":"IFERROR('Baggrundsdata - BVT - deflator'!C89/IF($M$17=$C$15,$L89,IF($L$17=$C$15,$K89,IF($K$17=$C$15,$J89,IF($J$17=$C$15,$I89,IF($I$17=$C$15,'Baggrundsdata - BVT - deflator'!$H89,IF($H$17=$C$15,'Baggrundsdata - BVT - deflator'!$G89,IF($C$15=$G$17,'Baggrundsdata - BVT - deflator'!$F89,IF($F$17=$C$15,'Baggrundsdata - BVT - deflator'!$E89,IF($E$17=$C$15,'Baggrundsdata - BVT - deflator'!$D89,IF($D$17=$C$15,'Baggrundsdata - BVT - deflator'!$C89,IF('Baggrundsdata - BVT - deflator'!$C$17='Baggrundsdata - BVT - deflator'!$C$15,'Baggrundsdata - BVT - deflator'!$B89,\"*\"))))))))))),\"*\")","v":1.0251854993656317},{"$f":"IFERROR('Baggrundsdata - BVT - deflator'!D89/IF($M$17=$C$15,$L89,IF($L$17=$C$15,$K89,IF($K$17=$C$15,$J89,IF($J$17=$C$15,$I89,IF($I$17=$C$15,'Baggrundsdata - BVT - deflator'!$H89,IF($H$17=$C$15,'Baggrundsdata - BVT - deflator'!$G89,IF($C$15=$G$17,'Baggrundsdata - BVT - deflator'!$F89,IF($F$17=$C$15,'Baggrundsdata - BVT - deflator'!$E89,IF($E$17=$C$15,'Baggrundsdata - BVT - deflator'!$D89,IF($D$17=$C$15,'Baggrundsdata - BVT - deflator'!$C89,IF('Baggrundsdata - BVT - deflator'!$C$17='Baggrundsdata - BVT - deflator'!$C$15,'Baggrundsdata - BVT - deflator'!$B89,\"*\"))))))))))),\"*\")","v":0.87719215882700663},{"$f":"IFERROR('Baggrundsdata - BVT - deflator'!E89/IF($M$17=$C$15,$L89,IF($L$17=$C$15,$K89,IF($K$17=$C$15,$J89,IF($J$17=$C$15,$I89,IF($I$17=$C$15,'Baggrundsdata - BVT - deflator'!$H89,IF($H$17=$C$15,'Baggrundsdata - BVT - deflator'!$G89,IF($C$15=$G$17,'Baggrundsdata - BVT - deflator'!$F89,IF($F$17=$C$15,'Baggrundsdata - BVT - deflator'!$E89,IF($E$17=$C$15,'Baggrundsdata - BVT - deflator'!$D89,IF($D$17=$C$15,'Baggrundsdata - BVT - deflator'!$C89,IF('Baggrundsdata - BVT - deflator'!$C$17='Baggrundsdata - BVT - deflator'!$C$15,'Baggrundsdata - BVT - deflator'!$B89,\"*\"))))))))))),\"*\")","v":0.96400039433705864},{"$f":"IFERROR('Baggrundsdata - BVT - deflator'!F89/IF($M$17=$C$15,$L89,IF($L$17=$C$15,$K89,IF($K$17=$C$15,$J89,IF($J$17=$C$15,$I89,IF($I$17=$C$15,'Baggrundsdata - BVT - deflator'!$H89,IF($H$17=$C$15,'Baggrundsdata - BVT - deflator'!$G89,IF($C$15=$G$17,'Baggrundsdata - BVT - deflator'!$F89,IF($F$17=$C$15,'Baggrundsdata - BVT - deflator'!$E89,IF($E$17=$C$15,'Baggrundsdata - BVT - deflator'!$D89,IF($D$17=$C$15,'Baggrundsdata - BVT - deflator'!$C89,IF('Baggrundsdata - BVT - deflator'!$C$17='Baggrundsdata - BVT - deflator'!$C$15,'Baggrundsdata - BVT - deflator'!$B89,\"*\"))))))))))),\"*\")","v":0.96348947412806007},{"$f":"IFERROR('Baggrundsdata - BVT - deflator'!G89/IF($M$17=$C$15,$L89,IF($L$17=$C$15,$K89,IF($K$17=$C$15,$J89,IF($J$17=$C$15,$I89,IF($I$17=$C$15,'Baggrundsdata - BVT - deflator'!$H89,IF($H$17=$C$15,'Baggrundsdata - BVT - deflator'!$G89,IF($C$15=$G$17,'Baggrundsdata - BVT - deflator'!$F89,IF($F$17=$C$15,'Baggrundsdata - BVT - deflator'!$E89,IF($E$17=$C$15,'Baggrundsdata - BVT - deflator'!$D89,IF($D$17=$C$15,'Baggrundsdata - BVT - deflator'!$C89,IF('Baggrundsdata - BVT - deflator'!$C$17='Baggrundsdata - BVT - deflator'!$C$15,'Baggrundsdata - BVT - deflator'!$B89,\"*\"))))))))))),\"*\")","v":0.97852788027971815},{"$f":"IFERROR('Baggrundsdata - BVT - deflator'!H89/IF($M$17=$C$15,$L89,IF($L$17=$C$15,$K89,IF($K$17=$C$15,$J89,IF($J$17=$C$15,$I89,IF($I$17=$C$15,'Baggrundsdata - BVT - deflator'!$H89,IF($H$17=$C$15,'Baggrundsdata - BVT - deflator'!$G89,IF($C$15=$G$17,'Baggrundsdata - BVT - deflator'!$F89,IF($F$17=$C$15,'Baggrundsdata - BVT - deflator'!$E89,IF($E$17=$C$15,'Baggrundsdata - BVT - deflator'!$D89,IF($D$17=$C$15,'Baggrundsdata - BVT - deflator'!$C89,IF('Baggrundsdata - BVT - deflator'!$C$17='Baggrundsdata - BVT - deflator'!$C$15,'Baggrundsdata - BVT - deflator'!$B89,\"*\"))))))))))),\"*\")","v":0.97981000080418645},{"$f":"IFERROR('Baggrundsdata - BVT - deflator'!I89/IF($M$17=$C$15,$L89,IF($L$17=$C$15,$K89,IF($K$17=$C$15,$J89,IF($J$17=$C$15,$I89,IF($I$17=$C$15,'Baggrundsdata - BVT - deflator'!$H89,IF($H$17=$C$15,'Baggrundsdata - BVT - deflator'!$G89,IF($C$15=$G$17,'Baggrundsdata - BVT - deflator'!$F89,IF($F$17=$C$15,'Baggrundsdata - BVT - deflator'!$E89,IF($E$17=$C$15,'Baggrundsdata - BVT - deflator'!$D89,IF($D$17=$C$15,'Baggrundsdata - BVT - deflator'!$C89,IF('Baggrundsdata - BVT - deflator'!$C$17='Baggrundsdata - BVT - deflator'!$C$15,'Baggrundsdata - BVT - deflator'!$B89,\"*\"))))))))))),\"*\")","v":0.98702072375382766},{"$f":"IFERROR('Baggrundsdata - BVT - deflator'!J89/IF($M$17=$C$15,$L89,IF($L$17=$C$15,$K89,IF($K$17=$C$15,$J89,IF($J$17=$C$15,$I89,IF($I$17=$C$15,'Baggrundsdata - BVT - deflator'!$H89,IF($H$17=$C$15,'Baggrundsdata - BVT - deflator'!$G89,IF($C$15=$G$17,'Baggrundsdata - BVT - deflator'!$F89,IF($F$17=$C$15,'Baggrundsdata - BVT - deflator'!$E89,IF($E$17=$C$15,'Baggrundsdata - BVT - deflator'!$D89,IF($D$17=$C$15,'Baggrundsdata - BVT - deflator'!$C89,IF('Baggrundsdata - BVT - deflator'!$C$17='Baggrundsdata - BVT - deflator'!$C$15,'Baggrundsdata - BVT - deflator'!$B89,\"*\"))))))))))),\"*\")","v":0.99348916639982932},{"$f":"IFERROR('Baggrundsdata - BVT - deflator'!K89/IF($M$17=$C$15,$L89,IF($L$17=$C$15,$K89,IF($K$17=$C$15,$J89,IF($J$17=$C$15,$I89,IF($I$17=$C$15,'Baggrundsdata - BVT - deflator'!$H89,IF($H$17=$C$15,'Baggrundsdata - BVT - deflator'!$G89,IF($C$15=$G$17,'Baggrundsdata - BVT - deflator'!$F89,IF($F$17=$C$15,'Baggrundsdata - BVT - deflator'!$E89,IF($E$17=$C$15,'Baggrundsdata - BVT - deflator'!$D89,IF($D$17=$C$15,'Baggrundsdata - BVT - deflator'!$C89,IF('Baggrundsdata - BVT - deflator'!$C$17='Baggrundsdata - BVT - deflator'!$C$15,'Baggrundsdata - BVT - deflator'!$B89,\"*\"))))))))))),\"*\")","v":1},{"$f":"IFERROR('Baggrundsdata - BVT - deflator'!L89/IF($M$17=$C$15,$L89,IF($L$17=$C$15,$K89,IF($K$17=$C$15,$J89,IF($J$17=$C$15,$I89,IF($I$17=$C$15,'Baggrundsdata - BVT - deflator'!$H89,IF($H$17=$C$15,'Baggrundsdata - BVT - deflator'!$G89,IF($C$15=$G$17,'Baggrundsdata - BVT - deflator'!$F89,IF($F$17=$C$15,'Baggrundsdata - BVT - deflator'!$E89,IF($E$17=$C$15,'Baggrundsdata - BVT - deflator'!$D89,IF($D$17=$C$15,'Baggrundsdata - BVT - deflator'!$C89,IF('Baggrundsdata - BVT - deflator'!$C$17='Baggrundsdata - BVT - deflator'!$C$15,'Baggrundsdata - BVT - deflator'!$B89,\"*\"))))))))))),\"*\")","v":0},null,{"$f":"IF(A89='Level 1'!A72,\"sand\",\"falsk\")","v":"sand"}]
[null,"Portugal",{"$f":"IFERROR('Baggrundsdata - BVT - deflator'!B90/IF($M$17=$C$15,$L90,IF($L$17=$C$15,$K90,IF($K$17=$C$15,$J90,IF($J$17=$C$15,$I90,IF($I$17=$C$15,'Baggrundsdata - BVT - deflator'!$H90,IF($H$17=$C$15,'Baggrundsdata - BVT - deflator'!$G90,IF($C$15=$G$17,'Baggrundsdata - BVT - deflator'!$F90,IF($F$17=$C$15,'Baggrundsdata - BVT - deflator'!$E90,IF($E$17=$C$15,'Baggrundsdata - BVT - deflator'!$D90,IF($D$17=$C$15,'Baggrundsdata - BVT - deflator'!$C90,IF('Baggrundsdata - BVT - deflator'!$C$17='Baggrundsdata - BVT - deflator'!$C$15,'Baggrundsdata - BVT - deflator'!$B90,\"*\"))))))))))),\"*\")","v":0.92401287382315078},{"$f":"IFERROR('Baggrundsdata - BVT - deflator'!C90/IF($M$17=$C$15,$L90,IF($L$17=$C$15,$K90,IF($K$17=$C$15,$J90,IF($J$17=$C$15,$I90,IF($I$17=$C$15,'Baggrundsdata - BVT - deflator'!$H90,IF($H$17=$C$15,'Baggrundsdata - BVT - deflator'!$G90,IF($C$15=$G$17,'Baggrundsdata - BVT - deflator'!$F90,IF($F$17=$C$15,'Baggrundsdata - BVT - deflator'!$E90,IF($E$17=$C$15,'Baggrundsdata - BVT - deflator'!$D90,IF($D$17=$C$15,'Baggrundsdata - BVT - deflator'!$C90,IF('Baggrundsdata - BVT - deflator'!$C$17='Baggrundsdata - BVT - deflator'!$C$15,'Baggrundsdata - BVT - deflator'!$B90,\"*\"))))))))))),\"*\")","v":0.94210150002101678},{"$f":"IFERROR('Baggrundsdata - BVT - deflator'!D90/IF($M$17=$C$15,$L90,IF($L$17=$C$15,$K90,IF($K$17=$C$15,$J90,IF($J$17=$C$15,$I90,IF($I$17=$C$15,'Baggrundsdata - BVT - deflator'!$H90,IF($H$17=$C$15,'Baggrundsdata - BVT - deflator'!$G90,IF($C$15=$G$17,'Baggrundsdata - BVT - deflator'!$F90,IF($F$17=$C$15,'Baggrundsdata - BVT - deflator'!$E90,IF($E$17=$C$15,'Baggrundsdata - BVT - deflator'!$D90,IF($D$17=$C$15,'Baggrundsdata - BVT - deflator'!$C90,IF('Baggrundsdata - BVT - deflator'!$C$17='Baggrundsdata - BVT - deflator'!$C$15,'Baggrundsdata - BVT - deflator'!$B90,\"*\"))))))))))),\"*\")","v":0.96338790252223283},{"$f":"IFERROR('Baggrundsdata - BVT - deflator'!E90/IF($M$17=$C$15,$L90,IF($L$17=$C$15,$K90,IF($K$17=$C$15,$J90,IF($J$17=$C$15,$I90,IF($I$17=$C$15,'Baggrundsdata - BVT - deflator'!$H90,IF($H$17=$C$15,'Baggrundsdata - BVT - deflator'!$G90,IF($C$15=$G$17,'Baggrundsdata - BVT - deflator'!$F90,IF($F$17=$C$15,'Baggrundsdata - BVT - deflator'!$E90,IF($E$17=$C$15,'Baggrundsdata - BVT - deflator'!$D90,IF($D$17=$C$15,'Baggrundsdata - BVT - deflator'!$C90,IF('Baggrundsdata - BVT - deflator'!$C$17='Baggrundsdata - BVT - deflator'!$C$15,'Baggrundsdata - BVT - deflator'!$B90,\"*\"))))))))))),\"*\")","v":0.96318563353918962},{"$f":"IFERROR('Baggrundsdata - BVT - deflator'!F90/IF($M$17=$C$15,$L90,IF($L$17=$C$15,$K90,IF($K$17=$C$15,$J90,IF($J$17=$C$15,$I90,IF($I$17=$C$15,'Baggrundsdata - BVT - deflator'!$H90,IF($H$17=$C$15,'Baggrundsdata - BVT - deflator'!$G90,IF($C$15=$G$17,'Baggrundsdata - BVT - deflator'!$F90,IF($F$17=$C$15,'Baggrundsdata - BVT - deflator'!$E90,IF($E$17=$C$15,'Baggrundsdata - BVT - deflator'!$D90,IF($D$17=$C$15,'Baggrundsdata - BVT - deflator'!$C90,IF('Baggrundsdata - BVT - deflator'!$C$17='Baggrundsdata - BVT - deflator'!$C$15,'Baggrundsdata - BVT - deflator'!$B90,\"*\"))))))))))),\"*\")","v":0.94920980999653604},{"$f":"IFERROR('Baggrundsdata - BVT - deflator'!G90/IF($M$17=$C$15,$L90,IF($L$17=$C$15,$K90,IF($K$17=$C$15,$J90,IF($J$17=$C$15,$I90,IF($I$17=$C$15,'Baggrundsdata - BVT - deflator'!$H90,IF($H$17=$C$15,'Baggrundsdata - BVT - deflator'!$G90,IF($C$15=$G$17,'Baggrundsdata - BVT - deflator'!$F90,IF($F$17=$C$15,'Baggrundsdata - BVT - deflator'!$E90,IF($E$17=$C$15,'Baggrundsdata - BVT - deflator'!$D90,IF($D$17=$C$15,'Baggrundsdata - BVT - deflator'!$C90,IF('Baggrundsdata - BVT - deflator'!$C$17='Baggrundsdata - BVT - deflator'!$C$15,'Baggrundsdata - BVT - deflator'!$B90,\"*\"))))))))))),\"*\")","v":0.93709293472661293},{"$f":"IFERROR('Baggrundsdata - BVT - deflator'!H90/IF($M$17=$C$15,$L90,IF($L$17=$C$15,$K90,IF($K$17=$C$15,$J90,IF($J$17=$C$15,$I90,IF($I$17=$C$15,'Baggrundsdata - BVT - deflator'!$H90,IF($H$17=$C$15,'Baggrundsdata - BVT - deflator'!$G90,IF($C$15=$G$17,'Baggrundsdata - BVT - deflator'!$F90,IF($F$17=$C$15,'Baggrundsdata - BVT - deflator'!$E90,IF($E$17=$C$15,'Baggrundsdata - BVT - deflator'!$D90,IF($D$17=$C$15,'Baggrundsdata - BVT - deflator'!$C90,IF('Baggrundsdata - BVT - deflator'!$C$17='Baggrundsdata - BVT - deflator'!$C$15,'Baggrundsdata - BVT - deflator'!$B90,\"*\"))))))))))),\"*\")","v":0.95975669268379016},{"$f":"IFERROR('Baggrundsdata - BVT - deflator'!I90/IF($M$17=$C$15,$L90,IF($L$17=$C$15,$K90,IF($K$17=$C$15,$J90,IF($J$17=$C$15,$I90,IF($I$17=$C$15,'Baggrundsdata - BVT - deflator'!$H90,IF($H$17=$C$15,'Baggrundsdata - BVT - deflator'!$G90,IF($C$15=$G$17,'Baggrundsdata - BVT - deflator'!$F90,IF($F$17=$C$15,'Baggrundsdata - BVT - deflator'!$E90,IF($E$17=$C$15,'Baggrundsdata - BVT - deflator'!$D90,IF($D$17=$C$15,'Baggrundsdata - BVT - deflator'!$C90,IF('Baggrundsdata - BVT - deflator'!$C$17='Baggrundsdata - BVT - deflator'!$C$15,'Baggrundsdata - BVT - deflator'!$B90,\"*\"))))))))))),\"*\")","v":0.96621003642850256},{"$f":"IFERROR('Baggrundsdata - BVT - deflator'!J90/IF($M$17=$C$15,$L90,IF($L$17=$C$15,$K90,IF($K$17=$C$15,$J90,IF($J$17=$C$15,$I90,IF($I$17=$C$15,'Baggrundsdata - BVT - deflator'!$H90,IF($H$17=$C$15,'Baggrundsdata - BVT - deflator'!$G90,IF($C$15=$G$17,'Baggrundsdata - BVT - deflator'!$F90,IF($F$17=$C$15,'Baggrundsdata - BVT - deflator'!$E90,IF($E$17=$C$15,'Baggrundsdata - BVT - deflator'!$D90,IF($D$17=$C$15,'Baggrundsdata - BVT - deflator'!$C90,IF('Baggrundsdata - BVT - deflator'!$C$17='Baggrundsdata - BVT - deflator'!$C$15,'Baggrundsdata - BVT - deflator'!$B90,\"*\"))))))))))),\"*\")","v":0.98295983459574909},{"$f":"IFERROR('Baggrundsdata - BVT - deflator'!K90/IF($M$17=$C$15,$L90,IF($L$17=$C$15,$K90,IF($K$17=$C$15,$J90,IF($J$17=$C$15,$I90,IF($I$17=$C$15,'Baggrundsdata - BVT - deflator'!$H90,IF($H$17=$C$15,'Baggrundsdata - BVT - deflator'!$G90,IF($C$15=$G$17,'Baggrundsdata - BVT - deflator'!$F90,IF($F$17=$C$15,'Baggrundsdata - BVT - deflator'!$E90,IF($E$17=$C$15,'Baggrundsdata - BVT - deflator'!$D90,IF($D$17=$C$15,'Baggrundsdata - BVT - deflator'!$C90,IF('Baggrundsdata - BVT - deflator'!$C$17='Baggrundsdata - BVT - deflator'!$C$15,'Baggrundsdata - BVT - deflator'!$B90,\"*\"))))))))))),\"*\")","v":1},{"$f":"IFERROR('Baggrundsdata - BVT - deflator'!L90/IF($M$17=$C$15,$L90,IF($L$17=$C$15,$K90,IF($K$17=$C$15,$J90,IF($J$17=$C$15,$I90,IF($I$17=$C$15,'Baggrundsdata - BVT - deflator'!$H90,IF($H$17=$C$15,'Baggrundsdata - BVT - deflator'!$G90,IF($C$15=$G$17,'Baggrundsdata - BVT - deflator'!$F90,IF($F$17=$C$15,'Baggrundsdata - BVT - deflator'!$E90,IF($E$17=$C$15,'Baggrundsdata - BVT - deflator'!$D90,IF($D$17=$C$15,'Baggrundsdata - BVT - deflator'!$C90,IF('Baggrundsdata - BVT - deflator'!$C$17='Baggrundsdata - BVT - deflator'!$C$15,'Baggrundsdata - BVT - deflator'!$B90,\"*\"))))))))))),\"*\")","v":0},null,{"$f":"IF(A90='Level 1'!A73,\"sand\",\"falsk\")","v":"sand"}]
[null,"Romania",{"$f":"IFERROR('Baggrundsdata - BVT - deflator'!B91/IF($M$17=$C$15,$L91,IF($L$17=$C$15,$K91,IF($K$17=$C$15,$J91,IF($J$17=$C$15,$I91,IF($I$17=$C$15,'Baggrundsdata - BVT - deflator'!$H91,IF($H$17=$C$15,'Baggrundsdata - BVT - deflator'!$G91,IF($C$15=$G$17,'Baggrundsdata - BVT - deflator'!$F91,IF($F$17=$C$15,'Baggrundsdata - BVT - deflator'!$E91,IF($E$17=$C$15,'Baggrundsdata - BVT - deflator'!$D91,IF($D$17=$C$15,'Baggrundsdata - BVT - deflator'!$C91,IF('Baggrundsdata - BVT - deflator'!$C$17='Baggrundsdata - BVT - deflator'!$C$15,'Baggrundsdata - BVT - deflator'!$B91,\"*\"))))))))))),\"*\")","v":0.86473838303403239},{"$f":"IFERROR('Baggrundsdata - BVT - deflator'!C91/IF($M$17=$C$15,$L91,IF($L$17=$C$15,$K91,IF($K$17=$C$15,$J91,IF($J$17=$C$15,$I91,IF($I$17=$C$15,'Baggrundsdata - BVT - deflator'!$H91,IF($H$17=$C$15,'Baggrundsdata - BVT - deflator'!$G91,IF($C$15=$G$17,'Baggrundsdata - BVT - deflator'!$F91,IF($F$17=$C$15,'Baggrundsdata - BVT - deflator'!$E91,IF($E$17=$C$15,'Baggrundsdata - BVT - deflator'!$D91,IF($D$17=$C$15,'Baggrundsdata - BVT - deflator'!$C91,IF('Baggrundsdata - BVT - deflator'!$C$17='Baggrundsdata - BVT - deflator'!$C$15,'Baggrundsdata - BVT - deflator'!$B91,\"*\"))))))))))),\"*\")","v":0.9095442530865756},{"$f":"IFERROR('Baggrundsdata - BVT - deflator'!D91/IF($M$17=$C$15,$L91,IF($L$17=$C$15,$K91,IF($K$17=$C$15,$J91,IF($J$17=$C$15,$I91,IF($I$17=$C$15,'Baggrundsdata - BVT - deflator'!$H91,IF($H$17=$C$15,'Baggrundsdata - BVT - deflator'!$G91,IF($C$15=$G$17,'Baggrundsdata - BVT - deflator'!$F91,IF($F$17=$C$15,'Baggrundsdata - BVT - deflator'!$E91,IF($E$17=$C$15,'Baggrundsdata - BVT - deflator'!$D91,IF($D$17=$C$15,'Baggrundsdata - BVT - deflator'!$C91,IF('Baggrundsdata - BVT - deflator'!$C$17='Baggrundsdata - BVT - deflator'!$C$15,'Baggrundsdata - BVT - deflator'!$B91,\"*\"))))))))))),\"*\")","v":0.82985136971067808},{"$f":"IFERROR('Baggrundsdata - BVT - deflator'!E91/IF($M$17=$C$15,$L91,IF($L$17=$C$15,$K91,IF($K$17=$C$15,$J91,IF($J$17=$C$15,$I91,IF($I$17=$C$15,'Baggrundsdata - BVT - deflator'!$H91,IF($H$17=$C$15,'Baggrundsdata - BVT - deflator'!$G91,IF($C$15=$G$17,'Baggrundsdata - BVT - deflator'!$F91,IF($F$17=$C$15,'Baggrundsdata - BVT - deflator'!$E91,IF($E$17=$C$15,'Baggrundsdata - BVT - deflator'!$D91,IF($D$17=$C$15,'Baggrundsdata - BVT - deflator'!$C91,IF('Baggrundsdata - BVT - deflator'!$C$17='Baggrundsdata - BVT - deflator'!$C$15,'Baggrundsdata - BVT - deflator'!$B91,\"*\"))))))))))),\"*\")","v":0.87699882663032436},{"$f":"IFERROR('Baggrundsdata - BVT - deflator'!F91/IF($M$17=$C$15,$L91,IF($L$17=$C$15,$K91,IF($K$17=$C$15,$J91,IF($J$17=$C$15,$I91,IF($I$17=$C$15,'Baggrundsdata - BVT - deflator'!$H91,IF($H$17=$C$15,'Baggrundsdata - BVT - deflator'!$G91,IF($C$15=$G$17,'Baggrundsdata - BVT - deflator'!$F91,IF($F$17=$C$15,'Baggrundsdata - BVT - deflator'!$E91,IF($E$17=$C$15,'Baggrundsdata - BVT - deflator'!$D91,IF($D$17=$C$15,'Baggrundsdata - BVT - deflator'!$C91,IF('Baggrundsdata - BVT - deflator'!$C$17='Baggrundsdata - BVT - deflator'!$C$15,'Baggrundsdata - BVT - deflator'!$B91,\"*\"))))))))))),\"*\")","v":0.90190559330662556},{"$f":"IFERROR('Baggrundsdata - BVT - deflator'!G91/IF($M$17=$C$15,$L91,IF($L$17=$C$15,$K91,IF($K$17=$C$15,$J91,IF($J$17=$C$15,$I91,IF($I$17=$C$15,'Baggrundsdata - BVT - deflator'!$H91,IF($H$17=$C$15,'Baggrundsdata - BVT - deflator'!$G91,IF($C$15=$G$17,'Baggrundsdata - BVT - deflator'!$F91,IF($F$17=$C$15,'Baggrundsdata - BVT - deflator'!$E91,IF($E$17=$C$15,'Baggrundsdata - BVT - deflator'!$D91,IF($D$17=$C$15,'Baggrundsdata - BVT - deflator'!$C91,IF('Baggrundsdata - BVT - deflator'!$C$17='Baggrundsdata - BVT - deflator'!$C$15,'Baggrundsdata - BVT - deflator'!$B91,\"*\"))))))))))),\"*\")","v":0.89927459682673461},{"$f":"IFERROR('Baggrundsdata - BVT - deflator'!H91/IF($M$17=$C$15,$L91,IF($L$17=$C$15,$K91,IF($K$17=$C$15,$J91,IF($J$17=$C$15,$I91,IF($I$17=$C$15,'Baggrundsdata - BVT - deflator'!$H91,IF($H$17=$C$15,'Baggrundsdata - BVT - deflator'!$G91,IF($C$15=$G$17,'Baggrundsdata - BVT - deflator'!$F91,IF($F$17=$C$15,'Baggrundsdata - BVT - deflator'!$E91,IF($E$17=$C$15,'Baggrundsdata - BVT - deflator'!$D91,IF($D$17=$C$15,'Baggrundsdata - BVT - deflator'!$C91,IF('Baggrundsdata - BVT - deflator'!$C$17='Baggrundsdata - BVT - deflator'!$C$15,'Baggrundsdata - BVT - deflator'!$B91,\"*\"))))))))))),\"*\")","v":0.93688907650090913},{"$f":"IFERROR('Baggrundsdata - BVT - deflator'!I91/IF($M$17=$C$15,$L91,IF($L$17=$C$15,$K91,IF($K$17=$C$15,$J91,IF($J$17=$C$15,$I91,IF($I$17=$C$15,'Baggrundsdata - BVT - deflator'!$H91,IF($H$17=$C$15,'Baggrundsdata - BVT - deflator'!$G91,IF($C$15=$G$17,'Baggrundsdata - BVT - deflator'!$F91,IF($F$17=$C$15,'Baggrundsdata - BVT - deflator'!$E91,IF($E$17=$C$15,'Baggrundsdata - BVT - deflator'!$D91,IF($D$17=$C$15,'Baggrundsdata - BVT - deflator'!$C91,IF('Baggrundsdata - BVT - deflator'!$C$17='Baggrundsdata - BVT - deflator'!$C$15,'Baggrundsdata - BVT - deflator'!$B91,\"*\"))))))))))),\"*\")","v":0.95237687577920072},{"$f":"IFERROR('Baggrundsdata - BVT - deflator'!J91/IF($M$17=$C$15,$L91,IF($L$17=$C$15,$K91,IF($K$17=$C$15,$J91,IF($J$17=$C$15,$I91,IF($I$17=$C$15,'Baggrundsdata - BVT - deflator'!$H91,IF($H$17=$C$15,'Baggrundsdata - BVT - deflator'!$G91,IF($C$15=$G$17,'Baggrundsdata - BVT - deflator'!$F91,IF($F$17=$C$15,'Baggrundsdata - BVT - deflator'!$E91,IF($E$17=$C$15,'Baggrundsdata - BVT - deflator'!$D91,IF($D$17=$C$15,'Baggrundsdata - BVT - deflator'!$C91,IF('Baggrundsdata - BVT - deflator'!$C$17='Baggrundsdata - BVT - deflator'!$C$15,'Baggrundsdata - BVT - deflator'!$B91,\"*\"))))))))))),\"*\")","v":0.97589798430942598},{"$f":"IFERROR('Baggrundsdata - BVT - deflator'!K91/IF($M$17=$C$15,$L91,IF($L$17=$C$15,$K91,IF($K$17=$C$15,$J91,IF($J$17=$C$15,$I91,IF($I$17=$C$15,'Baggrundsdata - BVT - deflator'!$H91,IF($H$17=$C$15,'Baggrundsdata - BVT - deflator'!$G91,IF($C$15=$G$17,'Baggrundsdata - BVT - deflator'!$F91,IF($F$17=$C$15,'Baggrundsdata - BVT - deflator'!$E91,IF($E$17=$C$15,'Baggrundsdata - BVT - deflator'!$D91,IF($D$17=$C$15,'Baggrundsdata - BVT - deflator'!$C91,IF('Baggrundsdata - BVT - deflator'!$C$17='Baggrundsdata - BVT - deflator'!$C$15,'Baggrundsdata - BVT - deflator'!$B91,\"*\"))))))))))),\"*\")","v":1},{"$f":"IFERROR('Baggrundsdata - BVT - deflator'!L91/IF($M$17=$C$15,$L91,IF($L$17=$C$15,$K91,IF($K$17=$C$15,$J91,IF($J$17=$C$15,$I91,IF($I$17=$C$15,'Baggrundsdata - BVT - deflator'!$H91,IF($H$17=$C$15,'Baggrundsdata - BVT - deflator'!$G91,IF($C$15=$G$17,'Baggrundsdata - BVT - deflator'!$F91,IF($F$17=$C$15,'Baggrundsdata - BVT - deflator'!$E91,IF($E$17=$C$15,'Baggrundsdata - BVT - deflator'!$D91,IF($D$17=$C$15,'Baggrundsdata - BVT - deflator'!$C91,IF('Baggrundsdata - BVT - deflator'!$C$17='Baggrundsdata - BVT - deflator'!$C$15,'Baggrundsdata - BVT - deflator'!$B91,\"*\"))))))))))),\"*\")","v":0},null,{"$f":"IF(A91='Level 1'!A74,\"sand\",\"falsk\")","v":"sand"}]
[null,"Slovenia",{"$f":"IFERROR('Baggrundsdata - BVT - deflator'!B92/IF($M$17=$C$15,$L92,IF($L$17=$C$15,$K92,IF($K$17=$C$15,$J92,IF($J$17=$C$15,$I92,IF($I$17=$C$15,'Baggrundsdata - BVT - deflator'!$H92,IF($H$17=$C$15,'Baggrundsdata - BVT - deflator'!$G92,IF($C$15=$G$17,'Baggrundsdata - BVT - deflator'!$F92,IF($F$17=$C$15,'Baggrundsdata - BVT - deflator'!$E92,IF($E$17=$C$15,'Baggrundsdata - BVT - deflator'!$D92,IF($D$17=$C$15,'Baggrundsdata - BVT - deflator'!$C92,IF('Baggrundsdata - BVT - deflator'!$C$17='Baggrundsdata - BVT - deflator'!$C$15,'Baggrundsdata - BVT - deflator'!$B92,\"*\"))))))))))),\"*\")","v":0.92417795144505666},{"$f":"IFERROR('Baggrundsdata - BVT - deflator'!C92/IF($M$17=$C$15,$L92,IF($L$17=$C$15,$K92,IF($K$17=$C$15,$J92,IF($J$17=$C$15,$I92,IF($I$17=$C$15,'Baggrundsdata - BVT - deflator'!$H92,IF($H$17=$C$15,'Baggrundsdata - BVT - deflator'!$G92,IF($C$15=$G$17,'Baggrundsdata - BVT - deflator'!$F92,IF($F$17=$C$15,'Baggrundsdata - BVT - deflator'!$E92,IF($E$17=$C$15,'Baggrundsdata - BVT - deflator'!$D92,IF($D$17=$C$15,'Baggrundsdata - BVT - deflator'!$C92,IF('Baggrundsdata - BVT - deflator'!$C$17='Baggrundsdata - BVT - deflator'!$C$15,'Baggrundsdata - BVT - deflator'!$B92,\"*\"))))))))))),\"*\")","v":0.96854037586983266},{"$f":"IFERROR('Baggrundsdata - BVT - deflator'!D92/IF($M$17=$C$15,$L92,IF($L$17=$C$15,$K92,IF($K$17=$C$15,$J92,IF($J$17=$C$15,$I92,IF($I$17=$C$15,'Baggrundsdata - BVT - deflator'!$H92,IF($H$17=$C$15,'Baggrundsdata - BVT - deflator'!$G92,IF($C$15=$G$17,'Baggrundsdata - BVT - deflator'!$F92,IF($F$17=$C$15,'Baggrundsdata - BVT - deflator'!$E92,IF($E$17=$C$15,'Baggrundsdata - BVT - deflator'!$D92,IF($D$17=$C$15,'Baggrundsdata - BVT - deflator'!$C92,IF('Baggrundsdata - BVT - deflator'!$C$17='Baggrundsdata - BVT - deflator'!$C$15,'Baggrundsdata - BVT - deflator'!$B92,\"*\"))))))))))),\"*\")","v":0.99529119236647046},{"$f":"IFERROR('Baggrundsdata - BVT - deflator'!E92/IF($M$17=$C$15,$L92,IF($L$17=$C$15,$K92,IF($K$17=$C$15,$J92,IF($J$17=$C$15,$I92,IF($I$17=$C$15,'Baggrundsdata - BVT - deflator'!$H92,IF($H$17=$C$15,'Baggrundsdata - BVT - deflator'!$G92,IF($C$15=$G$17,'Baggrundsdata - BVT - deflator'!$F92,IF($F$17=$C$15,'Baggrundsdata - BVT - deflator'!$E92,IF($E$17=$C$15,'Baggrundsdata - BVT - deflator'!$D92,IF($D$17=$C$15,'Baggrundsdata - BVT - deflator'!$C92,IF('Baggrundsdata - BVT - deflator'!$C$17='Baggrundsdata - BVT - deflator'!$C$15,'Baggrundsdata - BVT - deflator'!$B92,\"*\"))))))))))),\"*\")","v":0.98060177773598534},{"$f":"IFERROR('Baggrundsdata - BVT - deflator'!F92/IF($M$17=$C$15,$L92,IF($L$17=$C$15,$K92,IF($K$17=$C$15,$J92,IF($J$17=$C$15,$I92,IF($I$17=$C$15,'Baggrundsdata - BVT - deflator'!$H92,IF($H$17=$C$15,'Baggrundsdata - BVT - deflator'!$G92,IF($C$15=$G$17,'Baggrundsdata - BVT - deflator'!$F92,IF($F$17=$C$15,'Baggrundsdata - BVT - deflator'!$E92,IF($E$17=$C$15,'Baggrundsdata - BVT - deflator'!$D92,IF($D$17=$C$15,'Baggrundsdata - BVT - deflator'!$C92,IF('Baggrundsdata - BVT - deflator'!$C$17='Baggrundsdata - BVT - deflator'!$C$15,'Baggrundsdata - BVT - deflator'!$B92,\"*\"))))))))))),\"*\")","v":0.99354572120210027},{"$f":"IFERROR('Baggrundsdata - BVT - deflator'!G92/IF($M$17=$C$15,$L92,IF($L$17=$C$15,$K92,IF($K$17=$C$15,$J92,IF($J$17=$C$15,$I92,IF($I$17=$C$15,'Baggrundsdata - BVT - deflator'!$H92,IF($H$17=$C$15,'Baggrundsdata - BVT - deflator'!$G92,IF($C$15=$G$17,'Baggrundsdata - BVT - deflator'!$F92,IF($F$17=$C$15,'Baggrundsdata - BVT - deflator'!$E92,IF($E$17=$C$15,'Baggrundsdata - BVT - deflator'!$D92,IF($D$17=$C$15,'Baggrundsdata - BVT - deflator'!$C92,IF('Baggrundsdata - BVT - deflator'!$C$17='Baggrundsdata - BVT - deflator'!$C$15,'Baggrundsdata - BVT - deflator'!$B92,\"*\"))))))))))),\"*\")","v":0.98937816364672238},{"$f":"IFERROR('Baggrundsdata - BVT - deflator'!H92/IF($M$17=$C$15,$L92,IF($L$17=$C$15,$K92,IF($K$17=$C$15,$J92,IF($J$17=$C$15,$I92,IF($I$17=$C$15,'Baggrundsdata - BVT - deflator'!$H92,IF($H$17=$C$15,'Baggrundsdata - BVT - deflator'!$G92,IF($C$15=$G$17,'Baggrundsdata - BVT - deflator'!$F92,IF($F$17=$C$15,'Baggrundsdata - BVT - deflator'!$E92,IF($E$17=$C$15,'Baggrundsdata - BVT - deflator'!$D92,IF($D$17=$C$15,'Baggrundsdata - BVT - deflator'!$C92,IF('Baggrundsdata - BVT - deflator'!$C$17='Baggrundsdata - BVT - deflator'!$C$15,'Baggrundsdata - BVT - deflator'!$B92,\"*\"))))))))))),\"*\")","v":0.98863290629564304},{"$f":"IFERROR('Baggrundsdata - BVT - deflator'!I92/IF($M$17=$C$15,$L92,IF($L$17=$C$15,$K92,IF($K$17=$C$15,$J92,IF($J$17=$C$15,$I92,IF($I$17=$C$15,'Baggrundsdata - BVT - deflator'!$H92,IF($H$17=$C$15,'Baggrundsdata - BVT - deflator'!$G92,IF($C$15=$G$17,'Baggrundsdata - BVT - deflator'!$F92,IF($F$17=$C$15,'Baggrundsdata - BVT - deflator'!$E92,IF($E$17=$C$15,'Baggrundsdata - BVT - deflator'!$D92,IF($D$17=$C$15,'Baggrundsdata - BVT - deflator'!$C92,IF('Baggrundsdata - BVT - deflator'!$C$17='Baggrundsdata - BVT - deflator'!$C$15,'Baggrundsdata - BVT - deflator'!$B92,\"*\"))))))))))),\"*\")","v":0.99074120011777544},{"$f":"IFERROR('Baggrundsdata - BVT - deflator'!J92/IF($M$17=$C$15,$L92,IF($L$17=$C$15,$K92,IF($K$17=$C$15,$J92,IF($J$17=$C$15,$I92,IF($I$17=$C$15,'Baggrundsdata - BVT - deflator'!$H92,IF($H$17=$C$15,'Baggrundsdata - BVT - deflator'!$G92,IF($C$15=$G$17,'Baggrundsdata - BVT - deflator'!$F92,IF($F$17=$C$15,'Baggrundsdata - BVT - deflator'!$E92,IF($E$17=$C$15,'Baggrundsdata - BVT - deflator'!$D92,IF($D$17=$C$15,'Baggrundsdata - BVT - deflator'!$C92,IF('Baggrundsdata - BVT - deflator'!$C$17='Baggrundsdata - BVT - deflator'!$C$15,'Baggrundsdata - BVT - deflator'!$B92,\"*\"))))))))))),\"*\")","v":0.99535983449091192},{"$f":"IFERROR('Baggrundsdata - BVT - deflator'!K92/IF($M$17=$C$15,$L92,IF($L$17=$C$15,$K92,IF($K$17=$C$15,$J92,IF($J$17=$C$15,$I92,IF($I$17=$C$15,'Baggrundsdata - BVT - deflator'!$H92,IF($H$17=$C$15,'Baggrundsdata - BVT - deflator'!$G92,IF($C$15=$G$17,'Baggrundsdata - BVT - deflator'!$F92,IF($F$17=$C$15,'Baggrundsdata - BVT - deflator'!$E92,IF($E$17=$C$15,'Baggrundsdata - BVT - deflator'!$D92,IF($D$17=$C$15,'Baggrundsdata - BVT - deflator'!$C92,IF('Baggrundsdata - BVT - deflator'!$C$17='Baggrundsdata - BVT - deflator'!$C$15,'Baggrundsdata - BVT - deflator'!$B92,\"*\"))))))))))),\"*\")","v":1},{"$f":"IFERROR('Baggrundsdata - BVT - deflator'!L92/IF($M$17=$C$15,$L92,IF($L$17=$C$15,$K92,IF($K$17=$C$15,$J92,IF($J$17=$C$15,$I92,IF($I$17=$C$15,'Baggrundsdata - BVT - deflator'!$H92,IF($H$17=$C$15,'Baggrundsdata - BVT - deflator'!$G92,IF($C$15=$G$17,'Baggrundsdata - BVT - deflator'!$F92,IF($F$17=$C$15,'Baggrundsdata - BVT - deflator'!$E92,IF($E$17=$C$15,'Baggrundsdata - BVT - deflator'!$D92,IF($D$17=$C$15,'Baggrundsdata - BVT - deflator'!$C92,IF('Baggrundsdata - BVT - deflator'!$C$17='Baggrundsdata - BVT - deflator'!$C$15,'Baggrundsdata - BVT - deflator'!$B92,\"*\"))))))))))),\"*\")","v":0},null,{"$f":"IF(A92='Level 1'!A75,\"sand\",\"falsk\")","v":"sand"}]
[null,"Slovakia",{"$f":"IFERROR('Baggrundsdata - BVT - deflator'!B93/IF($M$17=$C$15,$L93,IF($L$17=$C$15,$K93,IF($K$17=$C$15,$J93,IF($J$17=$C$15,$I93,IF($I$17=$C$15,'Baggrundsdata - BVT - deflator'!$H93,IF($H$17=$C$15,'Baggrundsdata - BVT - deflator'!$G93,IF($C$15=$G$17,'Baggrundsdata - BVT - deflator'!$F93,IF($F$17=$C$15,'Baggrundsdata - BVT - deflator'!$E93,IF($E$17=$C$15,'Baggrundsdata - BVT - deflator'!$D93,IF($D$17=$C$15,'Baggrundsdata - BVT - deflator'!$C93,IF('Baggrundsdata - BVT - deflator'!$C$17='Baggrundsdata - BVT - deflator'!$C$15,'Baggrundsdata - BVT - deflator'!$B93,\"*\"))))))))))),\"*\")","v":0.85014495248176059},{"$f":"IFERROR('Baggrundsdata - BVT - deflator'!C93/IF($M$17=$C$15,$L93,IF($L$17=$C$15,$K93,IF($K$17=$C$15,$J93,IF($J$17=$C$15,$I93,IF($I$17=$C$15,'Baggrundsdata - BVT - deflator'!$H93,IF($H$17=$C$15,'Baggrundsdata - BVT - deflator'!$G93,IF($C$15=$G$17,'Baggrundsdata - BVT - deflator'!$F93,IF($F$17=$C$15,'Baggrundsdata - BVT - deflator'!$E93,IF($E$17=$C$15,'Baggrundsdata - BVT - deflator'!$D93,IF($D$17=$C$15,'Baggrundsdata - BVT - deflator'!$C93,IF('Baggrundsdata - BVT - deflator'!$C$17='Baggrundsdata - BVT - deflator'!$C$15,'Baggrundsdata - BVT - deflator'!$B93,\"*\"))))))))))),\"*\")","v":0.94457630019662697},{"$f":"IFERROR('Baggrundsdata - BVT - deflator'!D93/IF($M$17=$C$15,$L93,IF($L$17=$C$15,$K93,IF($K$17=$C$15,$J93,IF($J$17=$C$15,$I93,IF($I$17=$C$15,'Baggrundsdata - BVT - deflator'!$H93,IF($H$17=$C$15,'Baggrundsdata - BVT - deflator'!$G93,IF($C$15=$G$17,'Baggrundsdata - BVT - deflator'!$F93,IF($F$17=$C$15,'Baggrundsdata - BVT - deflator'!$E93,IF($E$17=$C$15,'Baggrundsdata - BVT - deflator'!$D93,IF($D$17=$C$15,'Baggrundsdata - BVT - deflator'!$C93,IF('Baggrundsdata - BVT - deflator'!$C$17='Baggrundsdata - BVT - deflator'!$C$15,'Baggrundsdata - BVT - deflator'!$B93,\"*\"))))))))))),\"*\")","v":0.96872681804845484},{"$f":"IFERROR('Baggrundsdata - BVT - deflator'!E93/IF($M$17=$C$15,$L93,IF($L$17=$C$15,$K93,IF($K$17=$C$15,$J93,IF($J$17=$C$15,$I93,IF($I$17=$C$15,'Baggrundsdata - BVT - deflator'!$H93,IF($H$17=$C$15,'Baggrundsdata - BVT - deflator'!$G93,IF($C$15=$G$17,'Baggrundsdata - BVT - deflator'!$F93,IF($F$17=$C$15,'Baggrundsdata - BVT - deflator'!$E93,IF($E$17=$C$15,'Baggrundsdata - BVT - deflator'!$D93,IF($D$17=$C$15,'Baggrundsdata - BVT - deflator'!$C93,IF('Baggrundsdata - BVT - deflator'!$C$17='Baggrundsdata - BVT - deflator'!$C$15,'Baggrundsdata - BVT - deflator'!$B93,\"*\"))))))))))),\"*\")","v":0.97341869616396515},{"$f":"IFERROR('Baggrundsdata - BVT - deflator'!F93/IF($M$17=$C$15,$L93,IF($L$17=$C$15,$K93,IF($K$17=$C$15,$J93,IF($J$17=$C$15,$I93,IF($I$17=$C$15,'Baggrundsdata - BVT - deflator'!$H93,IF($H$17=$C$15,'Baggrundsdata - BVT - deflator'!$G93,IF($C$15=$G$17,'Baggrundsdata - BVT - deflator'!$F93,IF($F$17=$C$15,'Baggrundsdata - BVT - deflator'!$E93,IF($E$17=$C$15,'Baggrundsdata - BVT - deflator'!$D93,IF($D$17=$C$15,'Baggrundsdata - BVT - deflator'!$C93,IF('Baggrundsdata - BVT - deflator'!$C$17='Baggrundsdata - BVT - deflator'!$C$15,'Baggrundsdata - BVT - deflator'!$B93,\"*\"))))))))))),\"*\")","v":0.99017123192494705},{"$f":"IFERROR('Baggrundsdata - BVT - deflator'!G93/IF($M$17=$C$15,$L93,IF($L$17=$C$15,$K93,IF($K$17=$C$15,$J93,IF($J$17=$C$15,$I93,IF($I$17=$C$15,'Baggrundsdata - BVT - deflator'!$H93,IF($H$17=$C$15,'Baggrundsdata - BVT - deflator'!$G93,IF($C$15=$G$17,'Baggrundsdata - BVT - deflator'!$F93,IF($F$17=$C$15,'Baggrundsdata - BVT - deflator'!$E93,IF($E$17=$C$15,'Baggrundsdata - BVT - deflator'!$D93,IF($D$17=$C$15,'Baggrundsdata - BVT - deflator'!$C93,IF('Baggrundsdata - BVT - deflator'!$C$17='Baggrundsdata - BVT - deflator'!$C$15,'Baggrundsdata - BVT - deflator'!$B93,\"*\"))))))))))),\"*\")","v":1.0032539792013908},{"$f":"IFERROR('Baggrundsdata - BVT - deflator'!H93/IF($M$17=$C$15,$L93,IF($L$17=$C$15,$K93,IF($K$17=$C$15,$J93,IF($J$17=$C$15,$I93,IF($I$17=$C$15,'Baggrundsdata - BVT - deflator'!$H93,IF($H$17=$C$15,'Baggrundsdata - BVT - deflator'!$G93,IF($C$15=$G$17,'Baggrundsdata - BVT - deflator'!$F93,IF($F$17=$C$15,'Baggrundsdata - BVT - deflator'!$E93,IF($E$17=$C$15,'Baggrundsdata - BVT - deflator'!$D93,IF($D$17=$C$15,'Baggrundsdata - BVT - deflator'!$C93,IF('Baggrundsdata - BVT - deflator'!$C$17='Baggrundsdata - BVT - deflator'!$C$15,'Baggrundsdata - BVT - deflator'!$B93,\"*\"))))))))))),\"*\")","v":1.0085591110954844},{"$f":"IFERROR('Baggrundsdata - BVT - deflator'!I93/IF($M$17=$C$15,$L93,IF($L$17=$C$15,$K93,IF($K$17=$C$15,$J93,IF($J$17=$C$15,$I93,IF($I$17=$C$15,'Baggrundsdata - BVT - deflator'!$H93,IF($H$17=$C$15,'Baggrundsdata - BVT - deflator'!$G93,IF($C$15=$G$17,'Baggrundsdata - BVT - deflator'!$F93,IF($F$17=$C$15,'Baggrundsdata - BVT - deflator'!$E93,IF($E$17=$C$15,'Baggrundsdata - BVT - deflator'!$D93,IF($D$17=$C$15,'Baggrundsdata - BVT - deflator'!$C93,IF('Baggrundsdata - BVT - deflator'!$C$17='Baggrundsdata - BVT - deflator'!$C$15,'Baggrundsdata - BVT - deflator'!$B93,\"*\"))))))))))),\"*\")","v":1.0052884242763733},{"$f":"IFERROR('Baggrundsdata - BVT - deflator'!J93/IF($M$17=$C$15,$L93,IF($L$17=$C$15,$K93,IF($K$17=$C$15,$J93,IF($J$17=$C$15,$I93,IF($I$17=$C$15,'Baggrundsdata - BVT - deflator'!$H93,IF($H$17=$C$15,'Baggrundsdata - BVT - deflator'!$G93,IF($C$15=$G$17,'Baggrundsdata - BVT - deflator'!$F93,IF($F$17=$C$15,'Baggrundsdata - BVT - deflator'!$E93,IF($E$17=$C$15,'Baggrundsdata - BVT - deflator'!$D93,IF($D$17=$C$15,'Baggrundsdata - BVT - deflator'!$C93,IF('Baggrundsdata - BVT - deflator'!$C$17='Baggrundsdata - BVT - deflator'!$C$15,'Baggrundsdata - BVT - deflator'!$B93,\"*\"))))))))))),\"*\")","v":1.0026407254228074},{"$f":"IFERROR('Baggrundsdata - BVT - deflator'!K93/IF($M$17=$C$15,$L93,IF($L$17=$C$15,$K93,IF($K$17=$C$15,$J93,IF($J$17=$C$15,$I93,IF($I$17=$C$15,'Baggrundsdata - BVT - deflator'!$H93,IF($H$17=$C$15,'Baggrundsdata - BVT - deflator'!$G93,IF($C$15=$G$17,'Baggrundsdata - BVT - deflator'!$F93,IF($F$17=$C$15,'Baggrundsdata - BVT - deflator'!$E93,IF($E$17=$C$15,'Baggrundsdata - BVT - deflator'!$D93,IF($D$17=$C$15,'Baggrundsdata - BVT - deflator'!$C93,IF('Baggrundsdata - BVT - deflator'!$C$17='Baggrundsdata - BVT - deflator'!$C$15,'Baggrundsdata - BVT - deflator'!$B93,\"*\"))))))))))),\"*\")","v":1},{"$f":"IFERROR('Baggrundsdata - BVT - deflator'!L93/IF($M$17=$C$15,$L93,IF($L$17=$C$15,$K93,IF($K$17=$C$15,$J93,IF($J$17=$C$15,$I93,IF($I$17=$C$15,'Baggrundsdata - BVT - deflator'!$H93,IF($H$17=$C$15,'Baggrundsdata - BVT - deflator'!$G93,IF($C$15=$G$17,'Baggrundsdata - BVT - deflator'!$F93,IF($F$17=$C$15,'Baggrundsdata - BVT - deflator'!$E93,IF($E$17=$C$15,'Baggrundsdata - BVT - deflator'!$D93,IF($D$17=$C$15,'Baggrundsdata - BVT - deflator'!$C93,IF('Baggrundsdata - BVT - deflator'!$C$17='Baggrundsdata - BVT - deflator'!$C$15,'Baggrundsdata - BVT - deflator'!$B93,\"*\"))))))))))),\"*\")","v":0},null,{"$f":"IF(A93='Level 1'!A76,\"sand\",\"falsk\")","v":"sand"}]
[null,"Finland",{"$f":"IFERROR('Baggrundsdata - BVT - deflator'!B94/IF($M$17=$C$15,$L94,IF($L$17=$C$15,$K94,IF($K$17=$C$15,$J94,IF($J$17=$C$15,$I94,IF($I$17=$C$15,'Baggrundsdata - BVT - deflator'!$H94,IF($H$17=$C$15,'Baggrundsdata - BVT - deflator'!$G94,IF($C$15=$G$17,'Baggrundsdata - BVT - deflator'!$F94,IF($F$17=$C$15,'Baggrundsdata - BVT - deflator'!$E94,IF($E$17=$C$15,'Baggrundsdata - BVT - deflator'!$D94,IF($D$17=$C$15,'Baggrundsdata - BVT - deflator'!$C94,IF('Baggrundsdata - BVT - deflator'!$C$17='Baggrundsdata - BVT - deflator'!$C$15,'Baggrundsdata - BVT - deflator'!$B94,\"*\"))))))))))),\"*\")","v":0.85687441969546851},{"$f":"IFERROR('Baggrundsdata - BVT - deflator'!C94/IF($M$17=$C$15,$L94,IF($L$17=$C$15,$K94,IF($K$17=$C$15,$J94,IF($J$17=$C$15,$I94,IF($I$17=$C$15,'Baggrundsdata - BVT - deflator'!$H94,IF($H$17=$C$15,'Baggrundsdata - BVT - deflator'!$G94,IF($C$15=$G$17,'Baggrundsdata - BVT - deflator'!$F94,IF($F$17=$C$15,'Baggrundsdata - BVT - deflator'!$E94,IF($E$17=$C$15,'Baggrundsdata - BVT - deflator'!$D94,IF($D$17=$C$15,'Baggrundsdata - BVT - deflator'!$C94,IF('Baggrundsdata - BVT - deflator'!$C$17='Baggrundsdata - BVT - deflator'!$C$15,'Baggrundsdata - BVT - deflator'!$B94,\"*\"))))))))))),\"*\")","v":0.88446653542569176},{"$f":"IFERROR('Baggrundsdata - BVT - deflator'!D94/IF($M$17=$C$15,$L94,IF($L$17=$C$15,$K94,IF($K$17=$C$15,$J94,IF($J$17=$C$15,$I94,IF($I$17=$C$15,'Baggrundsdata - BVT - deflator'!$H94,IF($H$17=$C$15,'Baggrundsdata - BVT - deflator'!$G94,IF($C$15=$G$17,'Baggrundsdata - BVT - deflator'!$F94,IF($F$17=$C$15,'Baggrundsdata - BVT - deflator'!$E94,IF($E$17=$C$15,'Baggrundsdata - BVT - deflator'!$D94,IF($D$17=$C$15,'Baggrundsdata - BVT - deflator'!$C94,IF('Baggrundsdata - BVT - deflator'!$C$17='Baggrundsdata - BVT - deflator'!$C$15,'Baggrundsdata - BVT - deflator'!$B94,\"*\"))))))))))),\"*\")","v":0.90155339608431639},{"$f":"IFERROR('Baggrundsdata - BVT - deflator'!E94/IF($M$17=$C$15,$L94,IF($L$17=$C$15,$K94,IF($K$17=$C$15,$J94,IF($J$17=$C$15,$I94,IF($I$17=$C$15,'Baggrundsdata - BVT - deflator'!$H94,IF($H$17=$C$15,'Baggrundsdata - BVT - deflator'!$G94,IF($C$15=$G$17,'Baggrundsdata - BVT - deflator'!$F94,IF($F$17=$C$15,'Baggrundsdata - BVT - deflator'!$E94,IF($E$17=$C$15,'Baggrundsdata - BVT - deflator'!$D94,IF($D$17=$C$15,'Baggrundsdata - BVT - deflator'!$C94,IF('Baggrundsdata - BVT - deflator'!$C$17='Baggrundsdata - BVT - deflator'!$C$15,'Baggrundsdata - BVT - deflator'!$B94,\"*\"))))))))))),\"*\")","v":0.90406670151452684},{"$f":"IFERROR('Baggrundsdata - BVT - deflator'!F94/IF($M$17=$C$15,$L94,IF($L$17=$C$15,$K94,IF($K$17=$C$15,$J94,IF($J$17=$C$15,$I94,IF($I$17=$C$15,'Baggrundsdata - BVT - deflator'!$H94,IF($H$17=$C$15,'Baggrundsdata - BVT - deflator'!$G94,IF($C$15=$G$17,'Baggrundsdata - BVT - deflator'!$F94,IF($F$17=$C$15,'Baggrundsdata - BVT - deflator'!$E94,IF($E$17=$C$15,'Baggrundsdata - BVT - deflator'!$D94,IF($D$17=$C$15,'Baggrundsdata - BVT - deflator'!$C94,IF('Baggrundsdata - BVT - deflator'!$C$17='Baggrundsdata - BVT - deflator'!$C$15,'Baggrundsdata - BVT - deflator'!$B94,\"*\"))))))))))),\"*\")","v":0.92375727427351317},{"$f":"IFERROR('Baggrundsdata - BVT - deflator'!G94/IF($M$17=$C$15,$L94,IF($L$17=$C$15,$K94,IF($K$17=$C$15,$J94,IF($J$17=$C$15,$I94,IF($I$17=$C$15,'Baggrundsdata - BVT - deflator'!$H94,IF($H$17=$C$15,'Baggrundsdata - BVT - deflator'!$G94,IF($C$15=$G$17,'Baggrundsdata - BVT - deflator'!$F94,IF($F$17=$C$15,'Baggrundsdata - BVT - deflator'!$E94,IF($E$17=$C$15,'Baggrundsdata - BVT - deflator'!$D94,IF($D$17=$C$15,'Baggrundsdata - BVT - deflator'!$C94,IF('Baggrundsdata - BVT - deflator'!$C$17='Baggrundsdata - BVT - deflator'!$C$15,'Baggrundsdata - BVT - deflator'!$B94,\"*\"))))))))))),\"*\")","v":0.95287726272929607},{"$f":"IFERROR('Baggrundsdata - BVT - deflator'!H94/IF($M$17=$C$15,$L94,IF($L$17=$C$15,$K94,IF($K$17=$C$15,$J94,IF($J$17=$C$15,$I94,IF($I$17=$C$15,'Baggrundsdata - BVT - deflator'!$H94,IF($H$17=$C$15,'Baggrundsdata - BVT - deflator'!$G94,IF($C$15=$G$17,'Baggrundsdata - BVT - deflator'!$F94,IF($F$17=$C$15,'Baggrundsdata - BVT - deflator'!$E94,IF($E$17=$C$15,'Baggrundsdata - BVT - deflator'!$D94,IF($D$17=$C$15,'Baggrundsdata - BVT - deflator'!$C94,IF('Baggrundsdata - BVT - deflator'!$C$17='Baggrundsdata - BVT - deflator'!$C$15,'Baggrundsdata - BVT - deflator'!$B94,\"*\"))))))))))),\"*\")","v":0.97584055694776506},{"$f":"IFERROR('Baggrundsdata - BVT - deflator'!I94/IF($M$17=$C$15,$L94,IF($L$17=$C$15,$K94,IF($K$17=$C$15,$J94,IF($J$17=$C$15,$I94,IF($I$17=$C$15,'Baggrundsdata - BVT - deflator'!$H94,IF($H$17=$C$15,'Baggrundsdata - BVT - deflator'!$G94,IF($C$15=$G$17,'Baggrundsdata - BVT - deflator'!$F94,IF($F$17=$C$15,'Baggrundsdata - BVT - deflator'!$E94,IF($E$17=$C$15,'Baggrundsdata - BVT - deflator'!$D94,IF($D$17=$C$15,'Baggrundsdata - BVT - deflator'!$C94,IF('Baggrundsdata - BVT - deflator'!$C$17='Baggrundsdata - BVT - deflator'!$C$15,'Baggrundsdata - BVT - deflator'!$B94,\"*\"))))))))))),\"*\")","v":0.99313535294773803},{"$f":"IFERROR('Baggrundsdata - BVT - deflator'!J94/IF($M$17=$C$15,$L94,IF($L$17=$C$15,$K94,IF($K$17=$C$15,$J94,IF($J$17=$C$15,$I94,IF($I$17=$C$15,'Baggrundsdata - BVT - deflator'!$H94,IF($H$17=$C$15,'Baggrundsdata - BVT - deflator'!$G94,IF($C$15=$G$17,'Baggrundsdata - BVT - deflator'!$F94,IF($F$17=$C$15,'Baggrundsdata - BVT - deflator'!$E94,IF($E$17=$C$15,'Baggrundsdata - BVT - deflator'!$D94,IF($D$17=$C$15,'Baggrundsdata - BVT - deflator'!$C94,IF('Baggrundsdata - BVT - deflator'!$C$17='Baggrundsdata - BVT - deflator'!$C$15,'Baggrundsdata - BVT - deflator'!$B94,\"*\"))))))))))),\"*\")","v":0.99656176574647803},{"$f":"IFERROR('Baggrundsdata - BVT - deflator'!K94/IF($M$17=$C$15,$L94,IF($L$17=$C$15,$K94,IF($K$17=$C$15,$J94,IF($J$17=$C$15,$I94,IF($I$17=$C$15,'Baggrundsdata - BVT - deflator'!$H94,IF($H$17=$C$15,'Baggrundsdata - BVT - deflator'!$G94,IF($C$15=$G$17,'Baggrundsdata - BVT - deflator'!$F94,IF($F$17=$C$15,'Baggrundsdata - BVT - deflator'!$E94,IF($E$17=$C$15,'Baggrundsdata - BVT - deflator'!$D94,IF($D$17=$C$15,'Baggrundsdata - BVT - deflator'!$C94,IF('Baggrundsdata - BVT - deflator'!$C$17='Baggrundsdata - BVT - deflator'!$C$15,'Baggrundsdata - BVT - deflator'!$B94,\"*\"))))))))))),\"*\")","v":1},{"$f":"IFERROR('Baggrundsdata - BVT - deflator'!L94/IF($M$17=$C$15,$L94,IF($L$17=$C$15,$K94,IF($K$17=$C$15,$J94,IF($J$17=$C$15,$I94,IF($I$17=$C$15,'Baggrundsdata - BVT - deflator'!$H94,IF($H$17=$C$15,'Baggrundsdata - BVT - deflator'!$G94,IF($C$15=$G$17,'Baggrundsdata - BVT - deflator'!$F94,IF($F$17=$C$15,'Baggrundsdata - BVT - deflator'!$E94,IF($E$17=$C$15,'Baggrundsdata - BVT - deflator'!$D94,IF($D$17=$C$15,'Baggrundsdata - BVT - deflator'!$C94,IF('Baggrundsdata - BVT - deflator'!$C$17='Baggrundsdata - BVT - deflator'!$C$15,'Baggrundsdata - BVT - deflator'!$B94,\"*\"))))))))))),\"*\")","v":0},null,{"$f":"IF(A94='Level 1'!A77,\"sand\",\"falsk\")","v":"sand"}]
[null,"Sweden",{"$f":"IFERROR('Baggrundsdata - BVT - deflator'!B95/IF($M$17=$C$15,$L95,IF($L$17=$C$15,$K95,IF($K$17=$C$15,$J95,IF($J$17=$C$15,$I95,IF($I$17=$C$15,'Baggrundsdata - BVT - deflator'!$H95,IF($H$17=$C$15,'Baggrundsdata - BVT - deflator'!$G95,IF($C$15=$G$17,'Baggrundsdata - BVT - deflator'!$F95,IF($F$17=$C$15,'Baggrundsdata - BVT - deflator'!$E95,IF($E$17=$C$15,'Baggrundsdata - BVT - deflator'!$D95,IF($D$17=$C$15,'Baggrundsdata - BVT - deflator'!$C95,IF('Baggrundsdata - BVT - deflator'!$C$17='Baggrundsdata - BVT - deflator'!$C$15,'Baggrundsdata - BVT - deflator'!$B95,\"*\"))))))))))),\"*\")","v":0.88937737525598437},{"$f":"IFERROR('Baggrundsdata - BVT - deflator'!C95/IF($M$17=$C$15,$L95,IF($L$17=$C$15,$K95,IF($K$17=$C$15,$J95,IF($J$17=$C$15,$I95,IF($I$17=$C$15,'Baggrundsdata - BVT - deflator'!$H95,IF($H$17=$C$15,'Baggrundsdata - BVT - deflator'!$G95,IF($C$15=$G$17,'Baggrundsdata - BVT - deflator'!$F95,IF($F$17=$C$15,'Baggrundsdata - BVT - deflator'!$E95,IF($E$17=$C$15,'Baggrundsdata - BVT - deflator'!$D95,IF($D$17=$C$15,'Baggrundsdata - BVT - deflator'!$C95,IF('Baggrundsdata - BVT - deflator'!$C$17='Baggrundsdata - BVT - deflator'!$C$15,'Baggrundsdata - BVT - deflator'!$B95,\"*\"))))))))))),\"*\")","v":0.88299452607730322},{"$f":"IFERROR('Baggrundsdata - BVT - deflator'!D95/IF($M$17=$C$15,$L95,IF($L$17=$C$15,$K95,IF($K$17=$C$15,$J95,IF($J$17=$C$15,$I95,IF($I$17=$C$15,'Baggrundsdata - BVT - deflator'!$H95,IF($H$17=$C$15,'Baggrundsdata - BVT - deflator'!$G95,IF($C$15=$G$17,'Baggrundsdata - BVT - deflator'!$F95,IF($F$17=$C$15,'Baggrundsdata - BVT - deflator'!$E95,IF($E$17=$C$15,'Baggrundsdata - BVT - deflator'!$D95,IF($D$17=$C$15,'Baggrundsdata - BVT - deflator'!$C95,IF('Baggrundsdata - BVT - deflator'!$C$17='Baggrundsdata - BVT - deflator'!$C$15,'Baggrundsdata - BVT - deflator'!$B95,\"*\"))))))))))),\"*\")","v":0.81881654110779656},{"$f":"IFERROR('Baggrundsdata - BVT - deflator'!E95/IF($M$17=$C$15,$L95,IF($L$17=$C$15,$K95,IF($K$17=$C$15,$J95,IF($J$17=$C$15,$I95,IF($I$17=$C$15,'Baggrundsdata - BVT - deflator'!$H95,IF($H$17=$C$15,'Baggrundsdata - BVT - deflator'!$G95,IF($C$15=$G$17,'Baggrundsdata - BVT - deflator'!$F95,IF($F$17=$C$15,'Baggrundsdata - BVT - deflator'!$E95,IF($E$17=$C$15,'Baggrundsdata - BVT - deflator'!$D95,IF($D$17=$C$15,'Baggrundsdata - BVT - deflator'!$C95,IF('Baggrundsdata - BVT - deflator'!$C$17='Baggrundsdata - BVT - deflator'!$C$15,'Baggrundsdata - BVT - deflator'!$B95,\"*\"))))))))))),\"*\")","v":0.9197189018272659},{"$f":"IFERROR('Baggrundsdata - BVT - deflator'!F95/IF($M$17=$C$15,$L95,IF($L$17=$C$15,$K95,IF($K$17=$C$15,$J95,IF($J$17=$C$15,$I95,IF($I$17=$C$15,'Baggrundsdata - BVT - deflator'!$H95,IF($H$17=$C$15,'Baggrundsdata - BVT - deflator'!$G95,IF($C$15=$G$17,'Baggrundsdata - BVT - deflator'!$F95,IF($F$17=$C$15,'Baggrundsdata - BVT - deflator'!$E95,IF($E$17=$C$15,'Baggrundsdata - BVT - deflator'!$D95,IF($D$17=$C$15,'Baggrundsdata - BVT - deflator'!$C95,IF('Baggrundsdata - BVT - deflator'!$C$17='Baggrundsdata - BVT - deflator'!$C$15,'Baggrundsdata - BVT - deflator'!$B95,\"*\"))))))))))),\"*\")","v":0.98268285784636056},{"$f":"IFERROR('Baggrundsdata - BVT - deflator'!G95/IF($M$17=$C$15,$L95,IF($L$17=$C$15,$K95,IF($K$17=$C$15,$J95,IF($J$17=$C$15,$I95,IF($I$17=$C$15,'Baggrundsdata - BVT - deflator'!$H95,IF($H$17=$C$15,'Baggrundsdata - BVT - deflator'!$G95,IF($C$15=$G$17,'Baggrundsdata - BVT - deflator'!$F95,IF($F$17=$C$15,'Baggrundsdata - BVT - deflator'!$E95,IF($E$17=$C$15,'Baggrundsdata - BVT - deflator'!$D95,IF($D$17=$C$15,'Baggrundsdata - BVT - deflator'!$C95,IF('Baggrundsdata - BVT - deflator'!$C$17='Baggrundsdata - BVT - deflator'!$C$15,'Baggrundsdata - BVT - deflator'!$B95,\"*\"))))))))))),\"*\")","v":1.0305450294974514},{"$f":"IFERROR('Baggrundsdata - BVT - deflator'!H95/IF($M$17=$C$15,$L95,IF($L$17=$C$15,$K95,IF($K$17=$C$15,$J95,IF($J$17=$C$15,$I95,IF($I$17=$C$15,'Baggrundsdata - BVT - deflator'!$H95,IF($H$17=$C$15,'Baggrundsdata - BVT - deflator'!$G95,IF($C$15=$G$17,'Baggrundsdata - BVT - deflator'!$F95,IF($F$17=$C$15,'Baggrundsdata - BVT - deflator'!$E95,IF($E$17=$C$15,'Baggrundsdata - BVT - deflator'!$D95,IF($D$17=$C$15,'Baggrundsdata - BVT - deflator'!$C95,IF('Baggrundsdata - BVT - deflator'!$C$17='Baggrundsdata - BVT - deflator'!$C$15,'Baggrundsdata - BVT - deflator'!$B95,\"*\"))))))))))),\"*\")","v":1.0480656745772607},{"$f":"IFERROR('Baggrundsdata - BVT - deflator'!I95/IF($M$17=$C$15,$L95,IF($L$17=$C$15,$K95,IF($K$17=$C$15,$J95,IF($J$17=$C$15,$I95,IF($I$17=$C$15,'Baggrundsdata - BVT - deflator'!$H95,IF($H$17=$C$15,'Baggrundsdata - BVT - deflator'!$G95,IF($C$15=$G$17,'Baggrundsdata - BVT - deflator'!$F95,IF($F$17=$C$15,'Baggrundsdata - BVT - deflator'!$E95,IF($E$17=$C$15,'Baggrundsdata - BVT - deflator'!$D95,IF($D$17=$C$15,'Baggrundsdata - BVT - deflator'!$C95,IF('Baggrundsdata - BVT - deflator'!$C$17='Baggrundsdata - BVT - deflator'!$C$15,'Baggrundsdata - BVT - deflator'!$B95,\"*\"))))))))))),\"*\")","v":1.0147534559530773},{"$f":"IFERROR('Baggrundsdata - BVT - deflator'!J95/IF($M$17=$C$15,$L95,IF($L$17=$C$15,$K95,IF($K$17=$C$15,$J95,IF($J$17=$C$15,$I95,IF($I$17=$C$15,'Baggrundsdata - BVT - deflator'!$H95,IF($H$17=$C$15,'Baggrundsdata - BVT - deflator'!$G95,IF($C$15=$G$17,'Baggrundsdata - BVT - deflator'!$F95,IF($F$17=$C$15,'Baggrundsdata - BVT - deflator'!$E95,IF($E$17=$C$15,'Baggrundsdata - BVT - deflator'!$D95,IF($D$17=$C$15,'Baggrundsdata - BVT - deflator'!$C95,IF('Baggrundsdata - BVT - deflator'!$C$17='Baggrundsdata - BVT - deflator'!$C$15,'Baggrundsdata - BVT - deflator'!$B95,\"*\"))))))))))),\"*\")","v":1.0073497187933678},{"$f":"IFERROR('Baggrundsdata - BVT - deflator'!K95/IF($M$17=$C$15,$L95,IF($L$17=$C$15,$K95,IF($K$17=$C$15,$J95,IF($J$17=$C$15,$I95,IF($I$17=$C$15,'Baggrundsdata - BVT - deflator'!$H95,IF($H$17=$C$15,'Baggrundsdata - BVT - deflator'!$G95,IF($C$15=$G$17,'Baggrundsdata - BVT - deflator'!$F95,IF($F$17=$C$15,'Baggrundsdata - BVT - deflator'!$E95,IF($E$17=$C$15,'Baggrundsdata - BVT - deflator'!$D95,IF($D$17=$C$15,'Baggrundsdata - BVT - deflator'!$C95,IF('Baggrundsdata - BVT - deflator'!$C$17='Baggrundsdata - BVT - deflator'!$C$15,'Baggrundsdata - BVT - deflator'!$B95,\"*\"))))))))))),\"*\")","v":1},{"$f":"IFERROR('Baggrundsdata - BVT - deflator'!L95/IF($M$17=$C$15,$L95,IF($L$17=$C$15,$K95,IF($K$17=$C$15,$J95,IF($J$17=$C$15,$I95,IF($I$17=$C$15,'Baggrundsdata - BVT - deflator'!$H95,IF($H$17=$C$15,'Baggrundsdata - BVT - deflator'!$G95,IF($C$15=$G$17,'Baggrundsdata - BVT - deflator'!$F95,IF($F$17=$C$15,'Baggrundsdata - BVT - deflator'!$E95,IF($E$17=$C$15,'Baggrundsdata - BVT - deflator'!$D95,IF($D$17=$C$15,'Baggrundsdata - BVT - deflator'!$C95,IF('Baggrundsdata - BVT - deflator'!$C$17='Baggrundsdata - BVT - deflator'!$C$15,'Baggrundsdata - BVT - deflator'!$B95,\"*\"))))))))))),\"*\")","v":0},null,{"$f":"IF(A95='Level 1'!A78,\"sand\",\"falsk\")","v":"sand"}]
[null,"United Kingdom",{"$f":"IFERROR('Baggrundsdata - BVT - deflator'!B96/IF($M$17=$C$15,$L96,IF($L$17=$C$15,$K96,IF($K$17=$C$15,$J96,IF($J$17=$C$15,$I96,IF($I$17=$C$15,'Baggrundsdata - BVT - deflator'!$H96,IF($H$17=$C$15,'Baggrundsdata - BVT - deflator'!$G96,IF($C$15=$G$17,'Baggrundsdata - BVT - deflator'!$F96,IF($F$17=$C$15,'Baggrundsdata - BVT - deflator'!$E96,IF($E$17=$C$15,'Baggrundsdata - BVT - deflator'!$D96,IF($D$17=$C$15,'Baggrundsdata - BVT - deflator'!$C96,IF('Baggrundsdata - BVT - deflator'!$C$17='Baggrundsdata - BVT - deflator'!$C$15,'Baggrundsdata - BVT - deflator'!$B96,\"*\"))))))))))),\"*\")","v":0.81852615251842198},{"$f":"IFERROR('Baggrundsdata - BVT - deflator'!C96/IF($M$17=$C$15,$L96,IF($L$17=$C$15,$K96,IF($K$17=$C$15,$J96,IF($J$17=$C$15,$I96,IF($I$17=$C$15,'Baggrundsdata - BVT - deflator'!$H96,IF($H$17=$C$15,'Baggrundsdata - BVT - deflator'!$G96,IF($C$15=$G$17,'Baggrundsdata - BVT - deflator'!$F96,IF($F$17=$C$15,'Baggrundsdata - BVT - deflator'!$E96,IF($E$17=$C$15,'Baggrundsdata - BVT - deflator'!$D96,IF($D$17=$C$15,'Baggrundsdata - BVT - deflator'!$C96,IF('Baggrundsdata - BVT - deflator'!$C$17='Baggrundsdata - BVT - deflator'!$C$15,'Baggrundsdata - BVT - deflator'!$B96,\"*\"))))))))))),\"*\")","v":0.72540109902489991},{"$f":"IFERROR('Baggrundsdata - BVT - deflator'!D96/IF($M$17=$C$15,$L96,IF($L$17=$C$15,$K96,IF($K$17=$C$15,$J96,IF($J$17=$C$15,$I96,IF($I$17=$C$15,'Baggrundsdata - BVT - deflator'!$H96,IF($H$17=$C$15,'Baggrundsdata - BVT - deflator'!$G96,IF($C$15=$G$17,'Baggrundsdata - BVT - deflator'!$F96,IF($F$17=$C$15,'Baggrundsdata - BVT - deflator'!$E96,IF($E$17=$C$15,'Baggrundsdata - BVT - deflator'!$D96,IF($D$17=$C$15,'Baggrundsdata - BVT - deflator'!$C96,IF('Baggrundsdata - BVT - deflator'!$C$17='Baggrundsdata - BVT - deflator'!$C$15,'Baggrundsdata - BVT - deflator'!$B96,\"*\"))))))))))),\"*\")","v":0.66725971801510808},{"$f":"IFERROR('Baggrundsdata - BVT - deflator'!E96/IF($M$17=$C$15,$L96,IF($L$17=$C$15,$K96,IF($K$17=$C$15,$J96,IF($J$17=$C$15,$I96,IF($I$17=$C$15,'Baggrundsdata - BVT - deflator'!$H96,IF($H$17=$C$15,'Baggrundsdata - BVT - deflator'!$G96,IF($C$15=$G$17,'Baggrundsdata - BVT - deflator'!$F96,IF($F$17=$C$15,'Baggrundsdata - BVT - deflator'!$E96,IF($E$17=$C$15,'Baggrundsdata - BVT - deflator'!$D96,IF($D$17=$C$15,'Baggrundsdata - BVT - deflator'!$C96,IF('Baggrundsdata - BVT - deflator'!$C$17='Baggrundsdata - BVT - deflator'!$C$15,'Baggrundsdata - BVT - deflator'!$B96,\"*\"))))))))))),\"*\")","v":0.70602769896529227},{"$f":"IFERROR('Baggrundsdata - BVT - deflator'!F96/IF($M$17=$C$15,$L96,IF($L$17=$C$15,$K96,IF($K$17=$C$15,$J96,IF($J$17=$C$15,$I96,IF($I$17=$C$15,'Baggrundsdata - BVT - deflator'!$H96,IF($H$17=$C$15,'Baggrundsdata - BVT - deflator'!$G96,IF($C$15=$G$17,'Baggrundsdata - BVT - deflator'!$F96,IF($F$17=$C$15,'Baggrundsdata - BVT - deflator'!$E96,IF($E$17=$C$15,'Baggrundsdata - BVT - deflator'!$D96,IF($D$17=$C$15,'Baggrundsdata - BVT - deflator'!$C96,IF('Baggrundsdata - BVT - deflator'!$C$17='Baggrundsdata - BVT - deflator'!$C$15,'Baggrundsdata - BVT - deflator'!$B96,\"*\"))))))))))),\"*\")","v":0.70749623657914007},{"$f":"IFERROR('Baggrundsdata - BVT - deflator'!G96/IF($M$17=$C$15,$L96,IF($L$17=$C$15,$K96,IF($K$17=$C$15,$J96,IF($J$17=$C$15,$I96,IF($I$17=$C$15,'Baggrundsdata - BVT - deflator'!$H96,IF($H$17=$C$15,'Baggrundsdata - BVT - deflator'!$G96,IF($C$15=$G$17,'Baggrundsdata - BVT - deflator'!$F96,IF($F$17=$C$15,'Baggrundsdata - BVT - deflator'!$E96,IF($E$17=$C$15,'Baggrundsdata - BVT - deflator'!$D96,IF($D$17=$C$15,'Baggrundsdata - BVT - deflator'!$C96,IF('Baggrundsdata - BVT - deflator'!$C$17='Baggrundsdata - BVT - deflator'!$C$15,'Baggrundsdata - BVT - deflator'!$B96,\"*\"))))))))))),\"*\")","v":0.77169533524605416},{"$f":"IFERROR('Baggrundsdata - BVT - deflator'!H96/IF($M$17=$C$15,$L96,IF($L$17=$C$15,$K96,IF($K$17=$C$15,$J96,IF($J$17=$C$15,$I96,IF($I$17=$C$15,'Baggrundsdata - BVT - deflator'!$H96,IF($H$17=$C$15,'Baggrundsdata - BVT - deflator'!$G96,IF($C$15=$G$17,'Baggrundsdata - BVT - deflator'!$F96,IF($F$17=$C$15,'Baggrundsdata - BVT - deflator'!$E96,IF($E$17=$C$15,'Baggrundsdata - BVT - deflator'!$D96,IF($D$17=$C$15,'Baggrundsdata - BVT - deflator'!$C96,IF('Baggrundsdata - BVT - deflator'!$C$17='Baggrundsdata - BVT - deflator'!$C$15,'Baggrundsdata - BVT - deflator'!$B96,\"*\"))))))))))),\"*\")","v":0.75061334815495051},{"$f":"IFERROR('Baggrundsdata - BVT - deflator'!I96/IF($M$17=$C$15,$L96,IF($L$17=$C$15,$K96,IF($K$17=$C$15,$J96,IF($J$17=$C$15,$I96,IF($I$17=$C$15,'Baggrundsdata - BVT - deflator'!$H96,IF($H$17=$C$15,'Baggrundsdata - BVT - deflator'!$G96,IF($C$15=$G$17,'Baggrundsdata - BVT - deflator'!$F96,IF($F$17=$C$15,'Baggrundsdata - BVT - deflator'!$E96,IF($E$17=$C$15,'Baggrundsdata - BVT - deflator'!$D96,IF($D$17=$C$15,'Baggrundsdata - BVT - deflator'!$C96,IF('Baggrundsdata - BVT - deflator'!$C$17='Baggrundsdata - BVT - deflator'!$C$15,'Baggrundsdata - BVT - deflator'!$B96,\"*\"))))))))))),\"*\")","v":0.80578941282908811},{"$f":"IFERROR('Baggrundsdata - BVT - deflator'!J96/IF($M$17=$C$15,$L96,IF($L$17=$C$15,$K96,IF($K$17=$C$15,$J96,IF($J$17=$C$15,$I96,IF($I$17=$C$15,'Baggrundsdata - BVT - deflator'!$H96,IF($H$17=$C$15,'Baggrundsdata - BVT - deflator'!$G96,IF($C$15=$G$17,'Baggrundsdata - BVT - deflator'!$F96,IF($F$17=$C$15,'Baggrundsdata - BVT - deflator'!$E96,IF($E$17=$C$15,'Baggrundsdata - BVT - deflator'!$D96,IF($D$17=$C$15,'Baggrundsdata - BVT - deflator'!$C96,IF('Baggrundsdata - BVT - deflator'!$C$17='Baggrundsdata - BVT - deflator'!$C$15,'Baggrundsdata - BVT - deflator'!$B96,\"*\"))))))))))),\"*\")","v":0.89765773701845186},{"$f":"IFERROR('Baggrundsdata - BVT - deflator'!K96/IF($M$17=$C$15,$L96,IF($L$17=$C$15,$K96,IF($K$17=$C$15,$J96,IF($J$17=$C$15,$I96,IF($I$17=$C$15,'Baggrundsdata - BVT - deflator'!$H96,IF($H$17=$C$15,'Baggrundsdata - BVT - deflator'!$G96,IF($C$15=$G$17,'Baggrundsdata - BVT - deflator'!$F96,IF($F$17=$C$15,'Baggrundsdata - BVT - deflator'!$E96,IF($E$17=$C$15,'Baggrundsdata - BVT - deflator'!$D96,IF($D$17=$C$15,'Baggrundsdata - BVT - deflator'!$C96,IF('Baggrundsdata - BVT - deflator'!$C$17='Baggrundsdata - BVT - deflator'!$C$15,'Baggrundsdata - BVT - deflator'!$B96,\"*\"))))))))))),\"*\")","v":1},{"$f":"IFERROR('Baggrundsdata - BVT - deflator'!L96/IF($M$17=$C$15,$L96,IF($L$17=$C$15,$K96,IF($K$17=$C$15,$J96,IF($J$17=$C$15,$I96,IF($I$17=$C$15,'Baggrundsdata - BVT - deflator'!$H96,IF($H$17=$C$15,'Baggrundsdata - BVT - deflator'!$G96,IF($C$15=$G$17,'Baggrundsdata - BVT - deflator'!$F96,IF($F$17=$C$15,'Baggrundsdata - BVT - deflator'!$E96,IF($E$17=$C$15,'Baggrundsdata - BVT - deflator'!$D96,IF($D$17=$C$15,'Baggrundsdata - BVT - deflator'!$C96,IF('Baggrundsdata - BVT - deflator'!$C$17='Baggrundsdata - BVT - deflator'!$C$15,'Baggrundsdata - BVT - deflator'!$B96,\"*\"))))))))))),\"*\")","v":0},null,{"$f":"IF(A96='Level 1'!A79,\"sand\",\"falsk\")","v":"sand"}]
[null,"Kilde: Eurostat"]
[null,"Bemærk: Deflatoren er hentet for  alle erhvervs samlet i de enkelte lande. * hvis manglende baggrundsdata"]
[]
[null,"Bemærk: Hvis der i valgmenuen vælges løbende priser, skal der ikke deflateres. Det medfører at alle felter i deflatoren vil vise \"*\"."]
[null,"Når løbende priser vælges, gives for valg af basisår muligheden: ","*"]
[]
[]
[]
["Baggrundsdata til BVT deflator: Eurostat, nama_10_a10"]
["Opdateret",{"$f":"B60","v":"2016-05-23T11:07:04.286"}]
["Gross value added and income by A*10 industry breakdowns [nama_10_a10]"]
[]
["Last update","2016-05-18T02:02:17"]
["Extracted on","2016-05-23T11:07:04.286"]
["Source of data","Eurostat"]
[]
["UNIT","Price index (implicit deflator), 2010=100, euro"]
["NACE_R2","Total - All NACE activities"]
["NA_ITEM","Value added, gross"]
[]
["GEO/TIME","2007","2008","2009","2010","2011","2012","2013","2014","2015",2016,2017,null,{"$f":"\"Vækstrate \"&I67&\" til \"&J67&\"\"","v":"Vækstrate 2014 til 2015"}]
["European Union (28 countries)",98.87,99.197000000000003,98.231999999999999,100,100.96,103.271,103.828,105.458,108.443,{"$f":"J68*(1+N68)","v":111.51249074513076},null,null,{"$f":"J68/I68-1","v":2.8305107246486827E-2}]
["Belgium",95.646000000000001,97.242999999999995,98.135000000000005,100,101.83199999999999,103.818,105.245,105.96599999999999,106.884,{"$f":"J69*(1+N69)","v":107.80995277730595},null,null,{"$f":"J69/I69-1","v":8.6631561066758955E-3}]
["Bulgaria",88.153000000000006,94.456999999999994,98.930999999999997,100,107.414,108.831,107.959,109.09699999999999,109.26300000000001,109.42925258256415,null,null,1.5215817116878139E-3]
["Czech Republic",88.903000000000006,100.303,97.573999999999998,100,102.34699999999999,100.97,98.734999999999999,95.635000000000005,97.242000000000004,98.876003178752555,null,null,1.6803471532388814E-2]
["Denmark",91.9,96.17,96.766000000000005,100,100.536,103.517,105.06399999999999,106.071,107.404,108.75375188317258,null,null,1.256705414297965E-2]
["Germany (until 1990 former territory of the FRG)",96.445999999999998,97.138999999999996,99.114000000000004,100,100.98699999999999,102.419,104.66200000000001,106.617,108.98699999999999,111.40968296800698,null,null,2.2229100424885351E-2]
["Estonia",94.218999999999994,100.548,99.03,100,105.328,108.128,112.587,115.099,116.762,118.44902774133573,null,null,1.4448431350402746E-2]
["Ireland",109.884,107.10899999999999,101.19799999999999,100,104.871,105.504,107.541,106.562,112.8,119.40316435502336,null,null,5.85386910906327E-2]
["Greece",93.516000000000005,97.593000000000004,100.33499999999999,100,100.131,99.418000000000006,96.638000000000005,94.397999999999996,93.135999999999996,91.890871586262421,null,null,-1.3368927307781941E-2]
["Spain",96.245000000000005,100.13,101.648,100,99.954999999999998,99.710999999999999,99.62,98.966999999999999,99.233999999999995,99.501720331019428,null,null,2.697868986631935E-3]
["France",96.462999999999994,98.754000000000005,99.034000000000006,100,100.57,101.447,102.11199999999999,102.38800000000001,103.65300000000001,104.93362902879244,null,null,1.2354963472281932E-2]
["Croatia",90.870999999999995,97.576999999999998,98.620999999999995,100,99.843000000000004,100.065,99.528999999999996,98.546999999999997,98.587999999999994,98.629017057850561,null,null,4.1604513582349512E-4]
["Italy",95.47,98.097999999999999,100.217,100,101.28400000000001,102.251,103.541,104.029,104.902,105.782326120601,null,null,8.3918907227793493E-3]
["Cyprus",92.459000000000003,95.765000000000001,97.784000000000006,100,102.736,104.589,103.73099999999999,101.655,100.273,98.909788293738615,null,null,-1.3595002705228509E-2]
["Latvia",104.577,116.175,101.744,100,106.64100000000001,112.279,113.407,114.431,115.19,115.95403430888481,null,null,6.6328180300792017E-3]
["Lithuania",91.912999999999997,100.8,97.972999999999999,100,105.29,108.61799999999999,110.126,111.133,110.887,110.64154453672627,null,null,-2.2135639279061703E-3]
["Luxembourg",91.453000000000003,94.893000000000001,96.802999999999997,100,104.471,108.715,111.43600000000001,112.46299999999999,115.794,119.22365965695384,null,null,2.9618630127241863E-2]
["Hungary",99.596999999999994,104.277,96.504999999999995,100,100.99,99.944000000000003,100.117,99.147999999999996,99.936000000000007,100.73026279904792,null,null,7.9477145277768724E-3]
["Malta",":",":",":",":",":",":",":",":",":",":",null,null,{"$error":"#VALUE!"}]
["Netherlands",96.569000000000003,98.771000000000001,99.198999999999998,100,100.07599999999999,101.59,102.286,103.018,103.541,104.06665515735114,null,null,5.0767826981692465E-3]
["Austria",95.453000000000003,97.036000000000001,99.081000000000003,100,101.595,103.568,105.136,106.89100000000001,108.536,110.20631574220467,null,null,1.5389508939012586E-2]
["Poland",95.194000000000003,106.34699999999999,90.995000000000005,100,99.947000000000003,101.50700000000001,101.64,102.38800000000001,103.059,103.73439740008594,null,null,6.5535023635581169E-3]
["Portugal",95.933000000000007,97.811000000000007,100.021,100,98.549000000000007,97.290999999999997,99.644000000000005,100.31399999999999,102.053,103.82214654983353,null,null,1.7335566321749818E-2]
["Romania",98.602000000000004,103.711,94.623999999999995,100,102.84,102.54,106.82899999999999,108.595,111.277,114.02523807725954,null,null,2.4697269671716038E-2]
["Slovenia",94.245999999999995,98.77,101.498,100,101.32,100.895,100.819,101.03400000000001,101.505,101.97819570639585,null,null,4.6617970188251867E-3]
["Slovakia",87.335999999999999,97.037000000000006,99.518000000000001,100,101.721,103.065,103.61,103.274,103.002,102.73071638553749,null,null,-2.6337703584639049E-3]
["Finland",94.78,97.831999999999994,99.721999999999994,100,102.178,105.399,107.93899999999999,109.852,110.23099999999999,110.611307586571,null,null,3.450096493463839E-3]
["Sweden",96.700999999999993,96.007000000000005,89.028999999999996,100,106.846,112.05,113.955,110.333,109.52800000000001,108.72887335611287,null,null,-7.2960945501345797E-3]
["United Kingdom",115.934,102.744,94.509,100,100.208,109.301,106.315,114.13,127.142,141.6375025322001,null,null,0.11401033908700597]
[]
["Special value:"]
[":","not available"]

{"sheet":"Level 1","index":5,"n_rows":322,"n_cols":90,"rows_kept":322,"cut":false,"hidden":false,"merged":[[2,65,2,76],[2,78,2,89],[2,0,2,11],[2,13,2,24],[2,26,2,37],[2,39,2,50],[2,52,2,63]]}
["Elpriser industri. Level 1 elpriser for forskellige forbrugsintervaller"]
[]
["Forbrugsinterval < 0,02 GWh",null,null,null,null,null,null,null,null,null,null,null,null,"Forbrugsinterval 0,02 GWh < 0,5 GWh",null,null,null,null,null,null,null,null,null,null,null,null,"Forbrugsinterval 0,5 GWh <  2 GWh",null,null,null,null,null,null,null,null,null,null,null,null,"Forbrugsinterval 2 GWh < 20 GWh",null,null,null,null,null,null,null,null,null,null,null,null,"Forbrugsinterval 20 GWh <  70 GWh",null,null,null,null,null,null,null,null,null,null,null,null,"Forbrugsinterval 70 GWh < 150 GWh",null,null,null,null,null,null,null,null,null,null,null,null,"Forbrugsinterval > 150 GWh"]
[]
["Euro/kWh",{"$f":"LEFT(B50,4)+0","v":2007},{"$f":"+B5+1","v":2008},2009,2010,2011,2012,2013,{"$f":"+H5+1","v":2014},{"$f":"+I5+1","v":2015},{"$f":"+J5+1","v":2016},{"$f":"+K5+1","v":2017},null,"Euro/kWh",{"$f":"LEFT(B90,4)+0","v":2007},{"$f":"+O5+1","v":2008},{"$f":"+P5+1","v":2009},{"$f":"+Q5+1","v":2010},{"$f":"+R5+1","v":2011},{"$f":"+S5+1","v":2012},{"$f":"+T5+1","v":2013},{"$f":"+U5+1","v":2014},{"$f":"+V5+1","v":2015},{"$f":"+W5+1","v":2016},{"$f":"+X5+1","v":2017},null,"Euro/kWh",{"$f":"LEFT(B130,4)+0","v":2007},{"$f":"+AB5+1","v":2008},{"$f":"+AC5+1","v":2009},{"$f":"+AD5+1","v":2010},{"$f":"+AE5+1","v":2011},{"$f":"+AF5+1","v":2012},{"$f":"+AG5+1","v":2013},{"$f":"+AH5+1","v":2014},{"$f":"+AI5+1","v":2015},{"$f":"+AJ5+1","v":2016},{"$f":"+AK5+1","v":2017},null,"Euro/kWh",{"$f":"LEFT(B170,4)+0","v":2007},{"$f":"+AO5+1","v":2008},{"$f":"+AP5+1","v":2009},{"$f":"+AQ5+1","v":2010},{"$f":"+AR5+1","v":2011},{"$f":"+AS5+1","v":2012},{"$f":"+AT5+1","v":2013},{"$f":"+AU5+1","v":2014},{"$f":"+AV5+1","v":2015},{"$f":"+AW5+1","v":2016},{"$f":"+AX5+1","v":2017},null,"Euro/kWh",{"$f":"LEFT(B210,4)+0","v":2007},{"$f":"+BB5+1","v":2008},{"$f":"+BC5+1","v":2009},{"$f":"+BD5+1","v":2010},{"$f":"+BE5+1","v":2011},{"$f":"+BF5+1","v":2012},{"$f":"+BG5+1","v":2013},{"$f":"+BH5+1","v":2014},{"$f":"+BI5+1","v":2015},{"$f":"+BJ5+1","v":2016},{"$f":"+BK5+1","v":2017},null,"Euro/kWh",{"$f":"LEFT(B250,4)+0","v":2007},{"$f":"+BO5+1","v":2008},{"$f":"+BP5+1","v":2009},{"$f":"+BQ5+1","v":2010},{"$f":"+BR5+1","v":2011},{"$f":"+BS5+1","v":2012},{"$f":"+BT5+1","v":2013},{"$f":"+BU5+1","v":2014},{"$f":"+BV5+1","v":2015},{"$f":"+BW5+1","v":2016},{"$f":"+BX5+1","v":2017},null,"Euro/kWh",{"$f":"LEFT(B290,4)+0","v":2007},{"$f":"+CB5+1","v":2008},{"$f":"+CC5+1","v":2009},{"$f":"+CD5+1","v":2010},{"$f":"+CE5+1","v":2011},{"$f":"+CF5+1","v":2012},{"$f":"+CG5+1","v":2013},{"$f":"+CH5+1","v":2014},{"$f":"+CI5+1","v":2015},{"$f":"+CJ5+1","v":2016},{"$f":"+CK5+1","v":2017}]
[{"$f":"A51","v":"European Union (28 countries)"},{"$f":"IFERROR(AVERAGE(B51:C51),\"*\")","v":0.1288},{"$f":"IFERROR(AVERAGE(D51:E51),\"*\")","v":0.1368},{"$f":"IFERROR(AVERAGE(F51:G51),\"*\")","v":0.1449},{"$f":"IFERROR(AVERAGE(H51:I51),\"*\")","v":0.14765},{"$f":"IFERROR(AVERAGE(J51:K51),\"*\")","v":0.14829999999999999},{"$f":"IFERROR(AVERAGE(L51:M51),\"*\")","v":0.15155000000000002},{"$f":"IFERROR(AVERAGE(N51:O51),\"*\")","v":0.15090000000000001},{"$f":"IFERROR(AVERAGE(P51:Q51),\"*\")","v":0.14945},{"$f":"IFERROR(AVERAGE(R51:S51),\"*\")","v":0.14800000000000002},{"$f":"IFERROR(AVERAGE(T51:U51),\"*\")","v":0.13980000000000001},{"$f":"IFERROR(AVERAGE(V51:W51),\"*\")","v":"*"},null,{"$f":"A91","v":"European Union (28 countries)"},{"$f":"IFERROR(AVERAGE(B91:C91),\"*\")","v":0.10059999999999999},{"$f":"IFERROR(AVERAGE(D91:E91),\"*\")","v":0.10535},{"$f":"IFERROR(AVERAGE(F91:G91),\"*\")","v":0.10830000000000001},{"$f":"IFERROR(AVERAGE(H91:I91),\"*\")","v":0.1075},{"$f":"IFERROR(AVERAGE(J91:K91),\"*\")","v":0.11135},{"$f":"IFERROR(AVERAGE(L91:M91),\"*\")","v":0.11360000000000001},{"$f":"IFERROR(AVERAGE(N91:O91),\"*\")","v":0.1132},{"$f":"IFERROR(AVERAGE(P91:Q91),\"*\")","v":0.11149999999999999},{"$f":"IFERROR(AVERAGE(R91:S91),\"*\")","v":0.10965},{"$f":"IFERROR(AVERAGE(T91:U91),\"*\")","v":0.1042},{"$f":"IFERROR(AVERAGE(V91:W91),\"*\")","v":"*"},null,{"$f":"A131","v":"European Union (28 countries)"},{"$f":"IFERROR(AVERAGE(B131:C131),\"*\")","v":8.5099999999999995E-2},{"$f":"IFERROR(AVERAGE(D131:E131),\"*\")","v":9.0149999999999994E-2},{"$f":"IFERROR(AVERAGE(F131:G131),\"*\")","v":9.3450000000000005E-2},{"$f":"IFERROR(AVERAGE(H131:I131),\"*\")","v":9.11E-2},{"$f":"IFERROR(AVERAGE(J131:K131),\"*\")","v":9.2950000000000005E-2},{"$f":"IFERROR(AVERAGE(L131:M131),\"*\")","v":9.4850000000000004E-2},{"$f":"IFERROR(AVERAGE(N131:O131),\"*\")","v":9.3299999999999994E-2},{"$f":"IFERROR(AVERAGE(P131:Q131),\"*\")","v":9.035E-2},{"$f":"IFERROR(AVERAGE(R131:S131),\"*\")","v":8.8450000000000001E-2},{"$f":"IFERROR(AVERAGE(T131:U131),\"*\")","v":8.3900000000000002E-2},{"$f":"IFERROR(AVERAGE(V131:W131),\"*\")","v":"*"},null,{"$f":"A171","v":"European Union (28 countries)"},{"$f":"IFERROR(AVERAGE(B171:C171),\"*\")","v":7.4800000000000005E-2},{"$f":"IFERROR(AVERAGE(D171:E171),\"*\")","v":8.1250000000000003E-2},{"$f":"IFERROR(AVERAGE(F171:G171),\"*\")","v":8.3199999999999996E-2},{"$f":"IFERROR(AVERAGE(H171:I171),\"*\")","v":8.055000000000001E-2},{"$f":"IFERROR(AVERAGE(J171:K171),\"*\")","v":8.1749999999999989E-2},{"$f":"IFERROR(AVERAGE(L171:M171),\"*\")","v":8.5099999999999995E-2},{"$f":"IFERROR(AVERAGE(N171:O171),\"*\")","v":8.3449999999999996E-2},{"$f":"IFERROR(AVERAGE(P171:Q171),\"*\")","v":8.0199999999999994E-2},{"$f":"IFERROR(AVERAGE(R171:S171),\"*\")","v":7.8899999999999998E-2},{"$f":"IFERROR(AVERAGE(T171:U171),\"*\")","v":7.3700000000000002E-2},{"$f":"IFERROR(AVERAGE(V171:W171),\"*\")","v":"*"},null,{"$f":"A211","v":"European Union (28 countries)"},{"$f":"IFERROR(AVERAGE(B211:C211),\"*\")","v":6.88E-2},{"$f":"IFERROR(AVERAGE(D211:E211),\"*\")","v":7.5499999999999998E-2},{"$f":"IFERROR(AVERAGE(F211:G211),\"*\")","v":7.6649999999999996E-2},{"$f":"IFERROR(AVERAGE(H211:I211),\"*\")","v":7.3050000000000004E-2},{"$f":"IFERROR(AVERAGE(J211:K211),\"*\")","v":7.46E-2},{"$f":"IFERROR(AVERAGE(L211:M211),\"*\")","v":7.6850000000000002E-2},{"$f":"IFERROR(AVERAGE(N211:O211),\"*\")","v":7.535E-2},{"$f":"IFERROR(AVERAGE(P211:Q211),\"*\")","v":7.1899999999999992E-2},{"$f":"IFERROR(AVERAGE(R211:S211),\"*\")","v":7.0800000000000002E-2},{"$f":"IFERROR(AVERAGE(T211:U211),\"*\")","v":6.4699999999999994E-2},{"$f":"IFERROR(AVERAGE(V211:W211),\"*\")","v":"*"},null,{"$f":"A251","v":"European Union (28 countries)"},{"$f":"IFERROR(AVERAGE(B251:C251),\"*\")","v":6.1199999999999997E-2},{"$f":"IFERROR(AVERAGE(D251:E251),\"*\")","v":7.2000000000000008E-2},{"$f":"IFERROR(AVERAGE(F251:G251),\"*\")","v":7.1099999999999997E-2},{"$f":"IFERROR(AVERAGE(H251:I251),\"*\")","v":6.9199999999999998E-2},{"$f":"IFERROR(AVERAGE(J251:K251),\"*\")","v":7.0000000000000007E-2},{"$f":"IFERROR(AVERAGE(L251:M251),\"*\")","v":7.1050000000000002E-2},{"$f":"IFERROR(AVERAGE(N251:O251),\"*\")","v":6.9700000000000012E-2},{"$f":"IFERROR(AVERAGE(P251:Q251),\"*\")","v":6.6700000000000009E-2},{"$f":"IFERROR(AVERAGE(R251:S251),\"*\")","v":6.5500000000000003E-2},{"$f":"IFERROR(AVERAGE(T251:U251),\"*\")","v":5.7799999999999997E-2},{"$f":"IFERROR(AVERAGE(V251:W251),\"*\")","v":"*"},null,{"$f":"A291","v":"European Union (28 countries)"},{"$f":"IFERROR(AVERAGE(B291:C291),\"*\")","v":"*"},{"$f":"IFERROR(AVERAGE(D291:E291),\"*\")","v":"*"},{"$f":"IFERROR(AVERAGE(F291:G291),\"*\")","v":"*"},{"$f":"IFERROR(AVERAGE(H291:I291),\"*\")","v":"*"},{"$f":"IFERROR(AVERAGE(J291:K291),\"*\")","v":"*"},{"$f":"IFERROR(AVERAGE(L291:M291),\"*\")","v":"*"},{"$f":"IFERROR(AVERAGE(N291:O291),\"*\")","v":"*"},{"$f":"IFERROR(AVERAGE(P291:Q291),\"*\")","v":"*"},{"$f":"IFERROR(AVERAGE(R291:S291),\"*\")","v":"*"},{"$f":"IFERROR(AVERAGE(T291:U291),\"*\")","v":"*"},{"$f":"IFERROR(AVERAGE(V291:W291),\"*\")","v":"*"}]
[{"$f":"A52","v":"Belgium"},{"$f":"IFERROR(AVERAGE(B52:C52),\"*\")","v":0.13109999999999999},{"$f":"IFERROR(AVERAGE(D52:E52),\"*\")","v":0.15534999999999999},{"$f":"IFERROR(AVERAGE(F52:G52),\"*\")","v":0.13930000000000001},{"$f":"IFERROR(AVERAGE(H52:I52),\"*\")","v":0.14535000000000001},{"$f":"IFERROR(AVERAGE(J52:K52),\"*\")","v":0.16155},{"$f":"IFERROR(AVERAGE(L52:M52),\"*\")","v":0.16365000000000002},{"$f":"IFERROR(AVERAGE(N52:O52),\"*\")","v":0.15690000000000001},{"$f":"IFERROR(AVERAGE(P52:Q52),\"*\")","v":0.15815000000000001},{"$f":"IFERROR(AVERAGE(R52:S52),\"*\")","v":0.15260000000000001},{"$f":"IFERROR(AVERAGE(T52:U52),\"*\")","v":0.15179999999999999},{"$f":"IFERROR(AVERAGE(V52:W52),\"*\")","v":"*"},null,{"$f":"A92","v":"Belgium"},{"$f":"IFERROR(AVERAGE(B92:C92),\"*\")","v":0.1079},{"$f":"IFERROR(AVERAGE(D92:E92),\"*\")","v":0.12964999999999999},{"$f":"IFERROR(AVERAGE(F92:G92),\"*\")","v":0.11874999999999999},{"$f":"IFERROR(AVERAGE(H92:I92),\"*\")","v":0.11660000000000001},{"$f":"IFERROR(AVERAGE(J92:K92),\"*\")","v":0.12830000000000003},{"$f":"IFERROR(AVERAGE(L92:M92),\"*\")","v":0.13290000000000002},0.12514999999999998,0.12455000000000001,0.12240000000000001,0.11749999999999999,"*",null,{"$f":"A132","v":"Belgium"},{"$f":"IFERROR(AVERAGE(B132:C132),\"*\")","v":8.5300000000000001E-2},{"$f":"IFERROR(AVERAGE(D132:E132),\"*\")","v":9.2350000000000002E-2},{"$f":"IFERROR(AVERAGE(F132:G132),\"*\")","v":0.10064999999999999},{"$f":"IFERROR(AVERAGE(H132:I132),\"*\")","v":9.425E-2},{"$f":"IFERROR(AVERAGE(J132:K132),\"*\")","v":9.955E-2},{"$f":"IFERROR(AVERAGE(L132:M132),\"*\")","v":9.5549999999999996E-2},9.1600000000000001E-2,8.9749999999999996E-2,9.0900000000000009E-2,8.5000000000000006E-2,"*",null,{"$f":"A172","v":"Belgium"},{"$f":"IFERROR(AVERAGE(B172:C172),\"*\")","v":7.4800000000000005E-2},{"$f":"IFERROR(AVERAGE(D172:E172),\"*\")","v":8.4699999999999998E-2},{"$f":"IFERROR(AVERAGE(F172:G172),\"*\")","v":9.1499999999999998E-2},{"$f":"IFERROR(AVERAGE(H172:I172),\"*\")","v":8.3650000000000002E-2},{"$f":"IFERROR(AVERAGE(J172:K172),\"*\")","v":8.795E-2},{"$f":"IFERROR(AVERAGE(L172:M172),\"*\")","v":8.6349999999999996E-2},8.0749999999999988E-2,7.9949999999999993E-2,7.8949999999999992E-2,7.4999999999999997E-2,"*",null,{"$f":"A212","v":"Belgium"},{"$f":"IFERROR(AVERAGE(B212:C212),\"*\")","v":6.6199999999999995E-2},{"$f":"IFERROR(AVERAGE(D212:E212),\"*\")","v":7.2950000000000001E-2},{"$f":"IFERROR(AVERAGE(F212:G212),\"*\")","v":8.4849999999999995E-2},{"$f":"IFERROR(AVERAGE(H212:I212),\"*\")","v":7.1500000000000008E-2},{"$f":"IFERROR(AVERAGE(J212:K212),\"*\")","v":7.6249999999999998E-2},{"$f":"IFERROR(AVERAGE(L212:M212),\"*\")","v":7.0599999999999996E-2},6.5850000000000006E-2,6.6250000000000003E-2,6.5250000000000002E-2,5.8700000000000002E-2,"*",null,{"$f":"A252","v":"Belgium"},{"$f":"IFERROR(AVERAGE(B252:C252),\"*\")","v":5.6899999999999999E-2},{"$f":"IFERROR(AVERAGE(D252:E252),\"*\")","v":6.8049999999999999E-2},{"$f":"IFERROR(AVERAGE(F252:G252),\"*\")","v":7.4899999999999994E-2},{"$f":"IFERROR(AVERAGE(H252:I252),\"*\")","v":6.5849999999999992E-2},{"$f":"IFERROR(AVERAGE(J252:K252),\"*\")","v":6.9699999999999998E-2},{"$f":"IFERROR(AVERAGE(L252:M252),\"*\")","v":6.83E-2},5.96E-2,6.2200000000000005E-2,5.9050000000000005E-2,5.16E-2,"*",null,{"$f":"A292","v":"Belgium"},{"$f":"IFERROR(AVERAGE(B292:C292),\"*\")","v":"*"},{"$f":"IFERROR(AVERAGE(D292:E292),\"*\")","v":"*"},{"$f":"IFERROR(AVERAGE(F292:G292),\"*\")","v":"*"},{"$f":"IFERROR(AVERAGE(H292:I292),\"*\")","v":"*"},"*","*","*","*",{"$f":"IFERROR(AVERAGE(R292:S292),\"*\")","v":"*"},5.7099999999999998E-2,"*"]
[{"$f":"A53","v":"Bulgaria"},{"$f":"IFERROR(AVERAGE(B53:C53),\"*\")","v":6.7500000000000004E-2},{"$f":"IFERROR(AVERAGE(D53:E53),\"*\")","v":7.2099999999999997E-2},{"$f":"IFERROR(AVERAGE(F53:G53),\"*\")","v":7.6700000000000004E-2},{"$f":"IFERROR(AVERAGE(H53:I53),\"*\")","v":7.7399999999999997E-2},{"$f":"IFERROR(AVERAGE(J53:K53),\"*\")","v":8.005000000000001E-2},{"$f":"IFERROR(AVERAGE(L53:M53),\"*\")","v":8.9249999999999996E-2},{"$f":"IFERROR(AVERAGE(N53:O53),\"*\")","v":0.10135},{"$f":"IFERROR(AVERAGE(P53:Q53),\"*\")","v":9.5000000000000001E-2},{"$f":"IFERROR(AVERAGE(R53:S53),\"*\")","v":0.10730000000000001},{"$f":"IFERROR(AVERAGE(T53:U53),\"*\")","v":0.10299999999999999},{"$f":"IFERROR(AVERAGE(V53:W53),\"*\")","v":"*"},null,"Bulgaria",6.3399999999999998E-2,6.8000000000000005E-2,7.2099999999999997E-2,7.0150000000000004E-2,{"$f":"IFERROR(AVERAGE(J93:K93),\"*\")","v":7.3749999999999996E-2},{"$f":"IFERROR(AVERAGE(L93:M93),\"*\")","v":8.3949999999999997E-2},8.9749999999999996E-2,8.829999999999999E-2,9.5450000000000007E-2,0.106,"*",null,"Bulgaria",5.62E-2,6.0049999999999999E-2,6.3649999999999998E-2,6.4649999999999999E-2,{"$f":"IFERROR(AVERAGE(J133:K133),\"*\")","v":6.4750000000000002E-2},{"$f":"IFERROR(AVERAGE(L133:M133),\"*\")","v":7.2500000000000009E-2},7.594999999999999E-2,7.4149999999999994E-2,7.2700000000000001E-2,9.9199999999999997E-2,"*",null,"Bulgaria",5.0099999999999999E-2,5.3949999999999998E-2,5.8299999999999998E-2,5.7800000000000004E-2,{"$f":"IFERROR(AVERAGE(J173:K173),\"*\")","v":5.7800000000000004E-2},{"$f":"IFERROR(AVERAGE(L173:M173),\"*\")","v":6.5599999999999992E-2},6.5549999999999997E-2,6.695000000000001E-2,6.4950000000000008E-2,7.5399999999999995E-2,"*",null,"Bulgaria",4.24E-2,4.5749999999999999E-2,5.1900000000000002E-2,5.16E-2,{"$f":"IFERROR(AVERAGE(J213:K213),\"*\")","v":5.0250000000000003E-2},{"$f":"IFERROR(AVERAGE(L213:M213),\"*\")","v":5.8349999999999999E-2},5.7499999999999996E-2,5.6849999999999998E-2,5.8749999999999997E-2,6.9699999999999998E-2,"*",null,"Bulgaria",3.8300000000000001E-2,3.9899999999999998E-2,4.675E-2,4.7350000000000003E-2,{"$f":"IFERROR(AVERAGE(J253:K253),\"*\")","v":4.7899999999999998E-2},{"$f":"IFERROR(AVERAGE(L253:M253),\"*\")","v":5.4550000000000001E-2},5.2499999999999998E-2,5.3000000000000005E-2,5.5500000000000001E-2,6.4199999999999993E-2,"*",null,"Bulgaria",3.5299999999999998E-2,3.8899999999999997E-2,4.65E-2,4.8399999999999999E-2,4.6550000000000001E-2,5.04E-2,5.21E-2,5.1449999999999996E-2,{"$f":"IFERROR(AVERAGE(R293:S293),\"*\")","v":5.2900000000000003E-2},6.0999999999999999E-2,"*"]
[{"$f":"A54","v":"Czech Republic"},{"$f":"IFERROR(AVERAGE(B54:C54),\"*\")","v":0.14130000000000001},{"$f":"IFERROR(AVERAGE(D54:E54),\"*\")","v":0.1651},{"$f":"IFERROR(AVERAGE(F54:G54),\"*\")","v":0.16644999999999999},{"$f":"IFERROR(AVERAGE(H54:I54),\"*\")","v":0.17335},{"$f":"IFERROR(AVERAGE(J54:K54),\"*\")","v":0.18179999999999999},{"$f":"IFERROR(AVERAGE(L54:M54),\"*\")","v":0.18720000000000001},{"$f":"IFERROR(AVERAGE(N54:O54),\"*\")","v":0.18345},{"$f":"IFERROR(AVERAGE(P54:Q54),\"*\")","v":0.15725},{"$f":"IFERROR(AVERAGE(R54:S54),\"*\")","v":0.1555},{"$f":"IFERROR(AVERAGE(T54:U54),\"*\")","v":0.15970000000000001},{"$f":"IFERROR(AVERAGE(V54:W54),\"*\")","v":"*"},null,"Czech Republic",0.10920000000000001,0.13205,0.13524999999999998,0.13600000000000001,{"$f":"IFERROR(AVERAGE(J94:K94),\"*\")","v":0.1426},{"$f":"IFERROR(AVERAGE(L94:M94),\"*\")","v":0.14445000000000002},0.14645000000000002,0.12385,0.1205,0.11559999999999999,"*",null,"Czech Republic",9.4600000000000004E-2,0.11015,0.10835,0.1046,{"$f":"IFERROR(AVERAGE(J134:K134),\"*\")","v":0.1084},{"$f":"IFERROR(AVERAGE(L134:M134),\"*\")","v":0.10225000000000001},9.955E-2,8.14E-2,7.669999999999999E-2,7.1999999999999995E-2,"*",null,"Czech Republic",7.7799999999999994E-2,9.215000000000001E-2,9.4799999999999995E-2,9.4299999999999995E-2,{"$f":"IFERROR(AVERAGE(J174:K174),\"*\")","v":9.7000000000000003E-2},{"$f":"IFERROR(AVERAGE(L174:M174),\"*\")","v":9.5950000000000008E-2},9.5250000000000001E-2,7.6749999999999999E-2,7.0800000000000002E-2,6.2799999999999995E-2,"*",null,"Czech Republic",6.6799999999999998E-2,8.1750000000000003E-2,8.8150000000000006E-2,9.0849999999999986E-2,{"$f":"IFERROR(AVERAGE(J214:K214),\"*\")","v":9.9500000000000005E-2},{"$f":"IFERROR(AVERAGE(L214:M214),\"*\")","v":9.2799999999999994E-2},9.3649999999999997E-2,7.8899999999999998E-2,7.3300000000000004E-2,6.5000000000000002E-2,"*",null,"Czech Republic",6.6799999999999998E-2,8.3299999999999999E-2,8.8200000000000001E-2,9.0249999999999997E-2,{"$f":"IFERROR(AVERAGE(J254:K254),\"*\")","v":9.4850000000000004E-2},{"$f":"IFERROR(AVERAGE(L254:M254),\"*\")","v":9.8250000000000004E-2},9.8250000000000004E-2,7.8350000000000003E-2,7.51E-2,6.6500000000000004E-2,"*",null,"Czech Republic","*","*","*","*","*","*","*","*",{"$f":"IFERROR(AVERAGE(R294:S294),\"*\")","v":"*"},"*","*"]
[{"$f":"A55","v":"Denmark"},{"$f":"IFERROR(AVERAGE(B55:C55),\"*\")","v":8.6999999999999994E-2},{"$f":"IFERROR(AVERAGE(D55:E55),\"*\")","v":0.1026},{"$f":"IFERROR(AVERAGE(F55:G55),\"*\")","v":8.6800000000000002E-2},{"$f":"IFERROR(AVERAGE(H55:I55),\"*\")","v":8.9100000000000013E-2},{"$f":"IFERROR(AVERAGE(J55:K55),\"*\")","v":0.10059999999999999},{"$f":"IFERROR(AVERAGE(L55:M55),\"*\")","v":9.1550000000000006E-2},{"$f":"IFERROR(AVERAGE(N55:O55),\"*\")","v":8.7099999999999997E-2},{"$f":"IFERROR(AVERAGE(P55:Q55),\"*\")","v":8.4850000000000009E-2},{"$f":"IFERROR(AVERAGE(R55:S55),\"*\")","v":8.030000000000001E-2},{"$f":"IFERROR(AVERAGE(T55:U55),\"*\")","v":7.9600000000000004E-2},{"$f":"IFERROR(AVERAGE(V55:W55),\"*\")","v":"*"},null,"Denmark",8.3500000000000005E-2,8.4449999999999997E-2,6.7149999999999987E-2,8.0699999999999994E-2,{"$f":"IFERROR(AVERAGE(J95:K95),\"*\")","v":8.1249999999999989E-2},{"$f":"IFERROR(AVERAGE(L95:M95),\"*\")","v":7.1250000000000008E-2},7.350000000000001E-2,7.2749999999999995E-2,6.5949999999999995E-2,6.59E-2,"*",null,"Denmark",7.6499999999999999E-2,7.6899999999999996E-2,6.2E-2,7.4249999999999997E-2,{"$f":"IFERROR(AVERAGE(J135:K135),\"*\")","v":7.3950000000000002E-2},{"$f":"IFERROR(AVERAGE(L135:M135),\"*\")","v":6.3350000000000004E-2},6.515E-2,6.6000000000000003E-2,5.9700000000000003E-2,6.0199999999999997E-2,"*",null,"Denmark",7.6100000000000001E-2,7.669999999999999E-2,6.1600000000000002E-2,7.3800000000000004E-2,{"$f":"IFERROR(AVERAGE(J175:K175),\"*\")","v":7.350000000000001E-2},{"$f":"IFERROR(AVERAGE(L175:M175),\"*\")","v":6.2899999999999998E-2},6.4700000000000008E-2,6.54E-2,6.0049999999999999E-2,0.06,"*",null,"Denmark",7.0800000000000002E-2,7.1649999999999991E-2,5.5199999999999999E-2,6.7150000000000001E-2,{"$f":"IFERROR(AVERAGE(J215:K215),\"*\")","v":6.5799999999999997E-2},{"$f":"IFERROR(AVERAGE(L215:M215),\"*\")","v":5.4699999999999999E-2},5.5899999999999998E-2,5.3449999999999998E-2,4.7600000000000003E-2,4.7300000000000002E-2,"*",null,"Denmark",7.0800000000000002E-2,7.1649999999999991E-2,5.5150000000000005E-2,6.7150000000000001E-2,{"$f":"IFERROR(AVERAGE(J255:K255),\"*\")","v":6.5799999999999997E-2},{"$f":"IFERROR(AVERAGE(L255:M255),\"*\")","v":5.4699999999999999E-2},5.5899999999999998E-2,5.135E-2,4.6449999999999998E-2,4.5600000000000002E-2,"*",null,"Denmark","*","*","*","*","*","*","*","*",{"$f":"IFERROR(AVERAGE(R295:S295),\"*\")","v":"*"},"*","*"]
[{"$f":"A56","v":"Germany (until 1990 former territory of the FRG)"},{"$f":"IFERROR(AVERAGE(B56:C56),\"*\")","v":0.1484},{"$f":"IFERROR(AVERAGE(D56:E56),\"*\")","v":0.1555},{"$f":"IFERROR(AVERAGE(F56:G56),\"*\")","v":0.16309999999999999},{"$f":"IFERROR(AVERAGE(H56:I56),\"*\")","v":0.16034999999999999},{"$f":"IFERROR(AVERAGE(J56:K56),\"*\")","v":0.16570000000000001},{"$f":"IFERROR(AVERAGE(L56:M56),\"*\")","v":0.16575000000000001},{"$f":"IFERROR(AVERAGE(N56:O56),\"*\")","v":0.15689999999999998},{"$f":"IFERROR(AVERAGE(P56:Q56),\"*\")","v":0.14130000000000001},{"$f":"IFERROR(AVERAGE(R56:S56),\"*\")","v":0.13414999999999999},{"$f":"IFERROR(AVERAGE(T56:U56),\"*\")","v":0.12870000000000001},{"$f":"IFERROR(AVERAGE(V56:W56),\"*\")","v":"*"},null,"Germany (until 1990 former territory of the FRG)",0.1099,0.11265,0.11474999999999999,0.11015,0.10994999999999999,0.10795,0.10875,0.10625000000000001,0.10195,9.8799999999999999E-2,"*",null,"Germany (until 1990 former territory of the FRG)",8.7549999999999989E-2,9.4E-2,9.665E-2,9.1749999999999998E-2,8.9950000000000002E-2,8.8650000000000007E-2,8.8249999999999995E-2,8.2600000000000007E-2,8.1100000000000005E-2,7.8799999999999995E-2,"*",null,"Germany (until 1990 former territory of the FRG)",7.5850000000000001E-2,8.3499999999999991E-2,8.3799999999999999E-2,7.9500000000000001E-2,{"$f":"IFERROR(AVERAGE(J176:K176),\"*\")","v":7.9750000000000001E-2},{"$f":"IFERROR(AVERAGE(L176:M176),\"*\")","v":7.7800000000000008E-2},7.7499999999999999E-2,7.17E-2,6.9550000000000001E-2,6.7100000000000007E-2,"*",null,"Germany (until 1990 former territory of the FRG)",6.9550000000000001E-2,7.9449999999999993E-2,7.7100000000000002E-2,7.0700000000000013E-2,{"$f":"IFERROR(AVERAGE(J216:K216),\"*\")","v":7.1149999999999991E-2},{"$f":"IFERROR(AVERAGE(L216:M216),\"*\")","v":7.1550000000000002E-2},6.9849999999999995E-2,6.3200000000000006E-2,6.1699999999999998E-2,5.4600000000000003E-2,"*",null,"Germany (until 1990 former territory of the FRG)",7.0099999999999996E-2,7.6550000000000007E-2,7.5899999999999995E-2,6.8599999999999994E-2,{"$f":"IFERROR(AVERAGE(J256:K256),\"*\")","v":7.2399999999999992E-2},{"$f":"IFERROR(AVERAGE(L256:M256),\"*\")","v":6.4750000000000002E-2},6.2850000000000003E-2,5.9700000000000003E-2,5.5449999999999999E-2,4.4900000000000002E-2,"*",null,"Germany (until 1990 former territory of the FRG)","*","*","*","*","*","*","*","*",{"$f":"IFERROR(AVERAGE(R296:S296),\"*\")","v":"*"},"*","*"]
[{"$f":"A57","v":"Estonia"},{"$f":"IFERROR(AVERAGE(B57:C57),\"*\")","v":6.7100000000000007E-2},{"$f":"IFERROR(AVERAGE(D57:E57),\"*\")","v":6.7949999999999997E-2},{"$f":"IFERROR(AVERAGE(F57:G57),\"*\")","v":7.4899999999999994E-2},{"$f":"IFERROR(AVERAGE(H57:I57),\"*\")","v":7.1849999999999997E-2},{"$f":"IFERROR(AVERAGE(J57:K57),\"*\")","v":6.855E-2},{"$f":"IFERROR(AVERAGE(L57:M57),\"*\")","v":7.145E-2},{"$f":"IFERROR(AVERAGE(N57:O57),\"*\")","v":0.1018},{"$f":"IFERROR(AVERAGE(P57:Q57),\"*\")","v":9.7799999999999998E-2},{"$f":"IFERROR(AVERAGE(R57:S57),\"*\")","v":9.4E-2},{"$f":"IFERROR(AVERAGE(T57:U57),\"*\")","v":9.0200000000000002E-2},{"$f":"IFERROR(AVERAGE(V57:W57),\"*\")","v":"*"},null,"Estonia",5.62E-2,5.74E-2,6.275E-2,6.3850000000000004E-2,{"$f":"IFERROR(AVERAGE(J97:K97),\"*\")","v":6.5549999999999997E-2},{"$f":"IFERROR(AVERAGE(L97:M97),\"*\")","v":6.8400000000000002E-2},9.0450000000000003E-2,8.6099999999999996E-2,8.3249999999999991E-2,7.9100000000000004E-2,"*",null,"Estonia",5.1799999999999999E-2,5.3199999999999997E-2,5.8099999999999999E-2,5.885E-2,{"$f":"IFERROR(AVERAGE(J137:K137),\"*\")","v":6.3250000000000001E-2},{"$f":"IFERROR(AVERAGE(L137:M137),\"*\")","v":6.6449999999999995E-2},8.3999999999999991E-2,8.0149999999999999E-2,7.8949999999999992E-2,7.3700000000000002E-2,"*",null,"Estonia",4.3499999999999997E-2,4.5200000000000004E-2,5.04E-2,5.7500000000000002E-2,6.2400000000000004E-2,6.5549999999999997E-2,7.6949999999999991E-2,7.2349999999999998E-2,7.195E-2,6.6699999999999995E-2,"*",null,"Estonia",3.32E-2,3.7349999999999994E-2,4.0800000000000003E-2,5.2000000000000005E-2,6.0150000000000002E-2,6.0950000000000004E-2,6.8750000000000006E-2,6.3350000000000004E-2,6.0600000000000001E-2,5.79E-2,"*",null,"Estonia",3.32E-2,3.49E-2,3.9750000000000001E-2,4.3650000000000001E-2,5.6649999999999999E-2,6.1899999999999997E-2,5.9149999999999994E-2,5.885E-2,5.7300000000000004E-2,5.5800000000000002E-2,"*",null,"Estonia","*","*","*","*","*","*","*","*",{"$f":"IFERROR(AVERAGE(R297:S297),\"*\")","v":"*"},"*","*"]
[{"$f":"A58","v":"Ireland"},{"$f":"IFERROR(AVERAGE(B58:C58),\"*\")","v":0.15429999999999999},{"$f":"IFERROR(AVERAGE(D58:E58),\"*\")","v":0.1615},{"$f":"IFERROR(AVERAGE(F58:G58),\"*\")","v":0.17294999999999999},{"$f":"IFERROR(AVERAGE(H58:I58),\"*\")","v":0.1633},{"$f":"IFERROR(AVERAGE(J58:K58),\"*\")","v":0.17394999999999999},{"$f":"IFERROR(AVERAGE(L58:M58),\"*\")","v":0.18385000000000001},{"$f":"IFERROR(AVERAGE(N58:O58),\"*\")","v":0.18149999999999999},{"$f":"IFERROR(AVERAGE(P58:Q58),\"*\")","v":0.17304999999999998},{"$f":"IFERROR(AVERAGE(R58:S58),\"*\")","v":0.17044999999999999},{"$f":"IFERROR(AVERAGE(T58:U58),\"*\")","v":0.16189999999999999},{"$f":"IFERROR(AVERAGE(V58:W58),\"*\")","v":"*"},null,"Ireland",0.13850000000000001,0.14695000000000003,0.14495,0.13524999999999998,0.13824999999999998,0.15379999999999999,0.15639999999999998,0.1512,0.14835000000000001,0.14369999999999999,"*",null,"Ireland",0.1235,0.13605,0.1188,0.11210000000000001,0.11905,0.13300000000000001,0.13319999999999999,0.129,0.12625,0.1198,"*",null,"Ireland",0.1086,0.12384999999999999,0.1018,8.4650000000000003E-2,9.0200000000000002E-2,0.10944999999999999,0.11360000000000001,0.10965,0.1056,9.3100000000000002E-2,"*",null,"Ireland",0.1094,0.11705,9.1999999999999998E-2,7.7550000000000008E-2,7.9500000000000001E-2,9.9049999999999999E-2,0.1011,9.4950000000000007E-2,9.2850000000000002E-2,8.2600000000000007E-2,"*",null,"Ireland",0.1026,0.1004,8.2100000000000006E-2,5.57E-2,6.7799999999999999E-2,9.0249999999999997E-2,9.035E-2,8.8850000000000012E-2,8.5999999999999993E-2,7.7299999999999994E-2,"*",null,"Ireland","*","*","*","*","*","*","*","*",{"$f":"IFERROR(AVERAGE(R298:S298),\"*\")","v":"*"},"*","*"]
[{"$f":"A59","v":"Greece"},{"$f":"IFERROR(AVERAGE(B59:C59),\"*\")","v":0.1237},{"$f":"IFERROR(AVERAGE(D59:E59),\"*\")","v":0.13340000000000002},{"$f":"IFERROR(AVERAGE(F59:G59),\"*\")","v":0.14510000000000001},{"$f":"IFERROR(AVERAGE(H59:I59),\"*\")","v":0.14269999999999999},{"$f":"IFERROR(AVERAGE(J59:K59),\"*\")","v":0.1376},{"$f":"IFERROR(AVERAGE(L59:M59),\"*\")","v":0.14530000000000001},{"$f":"IFERROR(AVERAGE(N59:O59),\"*\")","v":0.1527},{"$f":"IFERROR(AVERAGE(P59:Q59),\"*\")","v":0.16065000000000002},{"$f":"IFERROR(AVERAGE(R59:S59),\"*\")","v":0.15789999999999998},{"$f":"IFERROR(AVERAGE(T59:U59),\"*\")","v":0.152},{"$f":"IFERROR(AVERAGE(V59:W59),\"*\")","v":"*"},null,"Greece",9.7799999999999998E-2,0.10919999999999999,0.1118,0.10619999999999999,0.1134,0.11815000000000001,0.12470000000000001,0.1336,0.12835000000000002,0.1232,"*",null,"Greece",7.8899999999999998E-2,8.904999999999999E-2,9.0049999999999991E-2,8.6550000000000002E-2,9.4950000000000007E-2,0.1017,0.10295,0.1062,0.10295,9.2299999999999993E-2,"*",null,"Greece",6.7299999999999999E-2,7.6749999999999999E-2,7.8E-2,7.4300000000000005E-2,7.7899999999999997E-2,8.6449999999999999E-2,8.7150000000000005E-2,8.7349999999999997E-2,8.2699999999999996E-2,7.2900000000000006E-2,"*",null,"Greece",6.0600000000000001E-2,6.8900000000000003E-2,6.9500000000000006E-2,6.6099999999999992E-2,6.7799999999999999E-2,7.6100000000000001E-2,7.7699999999999991E-2,6.9000000000000006E-2,6.5500000000000003E-2,6.3600000000000004E-2,"*",null,"Greece",5.9900000000000002E-2,6.565E-2,6.0050000000000006E-2,5.9650000000000002E-2,5.305E-2,5.2549999999999999E-2,5.7950000000000002E-2,4.4650000000000002E-2,4.2249999999999996E-2,4.8399999999999999E-2,"*",null,"Greece","*","*",5.9200000000000003E-2,5.6800000000000003E-2,5.6399999999999999E-2,5.45E-2,"*","*",{"$f":"IFERROR(AVERAGE(R299:S299),\"*\")","v":"*"},"*","*"]
[{"$f":"A60","v":"Spain"},{"$f":"IFERROR(AVERAGE(B60:C60),\"*\")","v":0.15140000000000001},{"$f":"IFERROR(AVERAGE(D60:E60),\"*\")","v":0.13075000000000001},{"$f":"IFERROR(AVERAGE(F60:G60),\"*\")","v":0.16294999999999998},{"$f":"IFERROR(AVERAGE(H60:I60),\"*\")","v":0.17525000000000002},{"$f":"IFERROR(AVERAGE(J60:K60),\"*\")","v":0.17765},{"$f":"IFERROR(AVERAGE(L60:M60),\"*\")","v":0.19935},{"$f":"IFERROR(AVERAGE(N60:O60),\"*\")","v":0.23035},{"$f":"IFERROR(AVERAGE(P60:Q60),\"*\")","v":0.26965},{"$f":"IFERROR(AVERAGE(R60:S60),\"*\")","v":0.2581},{"$f":"IFERROR(AVERAGE(T60:U60),\"*\")","v":0.23569999999999999},{"$f":"IFERROR(AVERAGE(V60:W60),\"*\")","v":"*"},null,"Spain",0.1105,0.11545,0.12609999999999999,0.1321,0.13500000000000001,0.14695,0.14424999999999999,0.15010000000000001,0.14705000000000001,0.13950000000000001,"*",null,"Spain",9.1200000000000003E-2,9.6549999999999997E-2,0.10819999999999999,0.1075,0.1091,0.11465,0.1154,0.11474999999999999,0.10970000000000001,0.1051,"*",null,"Spain",7.9399999999999998E-2,8.2299999999999998E-2,8.9800000000000005E-2,8.6749999999999994E-2,8.8150000000000006E-2,9.6000000000000002E-2,0.1011,9.8349999999999993E-2,9.1499999999999998E-2,8.5800000000000001E-2,"*",null,"Spain",6.6199999999999995E-2,7.1250000000000008E-2,7.8850000000000003E-2,7.2450000000000001E-2,7.619999999999999E-2,8.3449999999999996E-2,8.2400000000000001E-2,7.7000000000000013E-2,7.8300000000000008E-2,6.9800000000000001E-2,"*",null,"Spain",5.28E-2,6.2900000000000011E-2,6.8349999999999994E-2,6.4049999999999996E-2,6.8500000000000005E-2,7.2700000000000001E-2,6.9250000000000006E-2,7.0849999999999996E-2,7.3899999999999993E-2,6.3500000000000001E-2,"*",null,"Spain",3.9300000000000002E-2,4.555E-2,4.9250000000000002E-2,4.8649999999999999E-2,5.0200000000000002E-2,5.3349999999999995E-2,5.7999999999999996E-2,5.8000000000000003E-2,{"$f":"IFERROR(AVERAGE(R300:S300),\"*\")","v":6.7500000000000004E-2},5.1700000000000003E-2,"*"]
[{"$f":"A61","v":"France"},{"$f":"IFERROR(AVERAGE(B61:C61),\"*\")","v":9.6500000000000002E-2},{"$f":"IFERROR(AVERAGE(D61:E61),\"*\")","v":9.715E-2},{"$f":"IFERROR(AVERAGE(F61:G61),\"*\")","v":9.9900000000000003E-2},{"$f":"IFERROR(AVERAGE(H61:I61),\"*\")","v":0.10405},{"$f":"IFERROR(AVERAGE(J61:K61),\"*\")","v":0.10819999999999999},{"$f":"IFERROR(AVERAGE(L61:M61),\"*\")","v":0.10895000000000001},{"$f":"IFERROR(AVERAGE(N61:O61),\"*\")","v":0.11105},{"$f":"IFERROR(AVERAGE(P61:Q61),\"*\")","v":0.1111},{"$f":"IFERROR(AVERAGE(R61:S61),\"*\")","v":0.11840000000000001},{"$f":"IFERROR(AVERAGE(T61:U61),\"*\")","v":0.1124},{"$f":"IFERROR(AVERAGE(V61:W61),\"*\")","v":"*"},null,"France",6.6600000000000006E-2,7.4300000000000005E-2,7.9649999999999999E-2,8.1900000000000001E-2,8.6499999999999994E-2,8.6550000000000002E-2,9.06E-2,9.1799999999999993E-2,9.2899999999999996E-2,8.9599999999999999E-2,"*",null,"France",5.1999999999999998E-2,5.8050000000000004E-2,6.2899999999999998E-2,6.5700000000000008E-2,6.9500000000000006E-2,7.2450000000000001E-2,7.2250000000000009E-2,7.3700000000000002E-2,7.2899999999999993E-2,7.1400000000000005E-2,"*",null,"France",4.7100000000000003E-2,5.21E-2,5.8599999999999999E-2,6.0100000000000001E-2,6.2149999999999997E-2,6.3950000000000007E-2,6.3250000000000001E-2,6.4049999999999996E-2,6.5799999999999997E-2,6.2700000000000006E-2,"*",null,"France",4.8099999999999997E-2,5.3499999999999999E-2,5.91E-2,5.8899999999999994E-2,5.8950000000000002E-2,6.0199999999999997E-2,5.8749999999999997E-2,5.885E-2,5.9899999999999995E-2,5.6500000000000002E-2,"*",null,"France",4.4400000000000002E-2,4.9350000000000005E-2,4.9200000000000001E-2,5.3600000000000002E-2,5.4300000000000001E-2,5.62E-2,5.4899999999999997E-2,5.4449999999999998E-2,5.475E-2,5.1299999999999998E-2,"*",null,"France","*","*","*","*","*","*","*","*",{"$f":"IFERROR(AVERAGE(R301:S301),\"*\")","v":"*"},"*","*"]
[{"$f":"A62","v":"Croatia"},{"$f":"IFERROR(AVERAGE(B62:C62),\"*\")","v":8.1799999999999998E-2},{"$f":"IFERROR(AVERAGE(D62:E62),\"*\")","v":0.10245},{"$f":"IFERROR(AVERAGE(F62:G62),\"*\")","v":0.11105},{"$f":"IFERROR(AVERAGE(H62:I62),\"*\")","v":0.1159},{"$f":"IFERROR(AVERAGE(J62:K62),\"*\")","v":0.1134},{"$f":"IFERROR(AVERAGE(L62:M62),\"*\")","v":0.123},{"$f":"IFERROR(AVERAGE(N62:O62),\"*\")","v":0.12545000000000001},{"$f":"IFERROR(AVERAGE(P62:Q62),\"*\")","v":0.1232},{"$f":"IFERROR(AVERAGE(R62:S62),\"*\")","v":0.11724999999999999},{"$f":"IFERROR(AVERAGE(T62:U62),\"*\")","v":0.11890000000000001},{"$f":"IFERROR(AVERAGE(V62:W62),\"*\")","v":"*"},null,"Croatia",7.9049999999999995E-2,8.8650000000000007E-2,9.9450000000000011E-2,0.10445,0.1026,0.10765,0.11,0.10505,0.1026,0.10050000000000001,"*",null,"Croatia",6.9500000000000006E-2,8.3799999999999999E-2,8.7150000000000005E-2,9.1450000000000004E-2,8.929999999999999E-2,9.1249999999999998E-2,9.2749999999999999E-2,8.8499999999999995E-2,8.72E-2,8.5099999999999995E-2,"*",null,"Croatia",5.1799999999999999E-2,6.9949999999999998E-2,7.425000000000001E-2,7.8149999999999997E-2,7.6149999999999995E-2,7.7350000000000002E-2,7.8699999999999992E-2,7.5249999999999997E-2,7.5149999999999995E-2,7.3200000000000001E-2,"*",null,"Croatia",4.2950000000000002E-2,5.5400000000000005E-2,6.0649999999999996E-2,6.6500000000000004E-2,5.9450000000000003E-2,5.8950000000000002E-2,6.1850000000000002E-2,6.1749999999999999E-2,6.1749999999999999E-2,6.1400000000000003E-2,"*",null,"Croatia",3.8850000000000003E-2,4.6399999999999997E-2,5.3800000000000001E-2,5.7150000000000006E-2,5.4949999999999999E-2,6.1350000000000002E-2,6.4049999999999996E-2,5.3650000000000003E-2,5.3349999999999995E-2,5.3199999999999997E-2,"*",null,"Croatia",4.1599999999999998E-2,5.1250000000000004E-2,"*",5.7700000000000001E-2,"*","*","*","*",{"$f":"IFERROR(AVERAGE(R302:S302),\"*\")","v":"*"},"*","*"]
[{"$f":"A63","v":"Italy"},{"$f":"IFERROR(AVERAGE(B63:C63),\"*\")","v":"*"},{"$f":"IFERROR(AVERAGE(D63:E63),\"*\")","v":"*"},{"$f":"IFERROR(AVERAGE(F63:G63),\"*\")","v":"*"},{"$f":"IFERROR(AVERAGE(H63:I63),\"*\")","v":0.21870000000000001},{"$f":"IFERROR(AVERAGE(J63:K63),\"*\")","v":0.186},{"$f":"IFERROR(AVERAGE(L63:M63),\"*\")","v":0.1711},{"$f":"IFERROR(AVERAGE(N63:O63),\"*\")","v":0.18054999999999999},{"$f":"IFERROR(AVERAGE(P63:Q63),\"*\")","v":0.17415},{"$f":"IFERROR(AVERAGE(R63:S63),\"*\")","v":0.16660000000000003},{"$f":"IFERROR(AVERAGE(T63:U63),\"*\")","v":0.16239999999999999},{"$f":"IFERROR(AVERAGE(V63:W63),\"*\")","v":"*"},null,"Italy","*","*","*",0.1174,0.1363,0.13675000000000001,0.13140000000000002,0.12295,0.11105000000000001,0.1013,"*",null,"Italy","*","*","*",0.1116,0.11699999999999999,0.1212,0.11205,0.1066,9.3099999999999988E-2,8.4199999999999997E-2,"*",null,"Italy","*","*","*",0.1045,0.10225000000000001,0.11595,0.10295,9.6150000000000013E-2,8.5749999999999993E-2,7.7399999999999997E-2,"*",null,"Italy","*","*","*",9.5799999999999996E-2,9.6349999999999991E-2,9.7049999999999997E-2,9.1900000000000009E-2,8.7300000000000003E-2,7.6600000000000001E-2,6.9199999999999998E-2,"*",null,"Italy","*","*","*",9.3399999999999997E-2,8.1699999999999995E-2,8.9799999999999991E-2,8.2199999999999995E-2,7.3749999999999996E-2,6.7000000000000004E-2,5.6500000000000002E-2,"*",null,"Italy","*","*","*",9.8900000000000002E-2,8.2350000000000007E-2,8.77E-2,8.4949999999999998E-2,6.795000000000001E-2,{"$f":"IFERROR(AVERAGE(R303:S303),\"*\")","v":6.6199999999999995E-2},5.5199999999999999E-2,"*"]
[{"$f":"A64","v":"Cyprus"},{"$f":"IFERROR(AVERAGE(B64:C64),\"*\")","v":0.14499999999999999},{"$f":"IFERROR(AVERAGE(D64:E64),\"*\")","v":0.17674999999999999},{"$f":"IFERROR(AVERAGE(F64:G64),\"*\")","v":0.15189999999999998},{"$f":"IFERROR(AVERAGE(H64:I64),\"*\")","v":0.1784},{"$f":"IFERROR(AVERAGE(J64:K64),\"*\")","v":0.2084},{"$f":"IFERROR(AVERAGE(L64:M64),\"*\")","v":0.2636},{"$f":"IFERROR(AVERAGE(N64:O64),\"*\")","v":0.23780000000000001},{"$f":"IFERROR(AVERAGE(P64:Q64),\"*\")","v":0.21079999999999999},{"$f":"IFERROR(AVERAGE(R64:S64),\"*\")","v":0.17335},{"$f":"IFERROR(AVERAGE(T64:U64),\"*\")","v":0.14030000000000001},{"$f":"IFERROR(AVERAGE(V64:W64),\"*\")","v":"*"},null,"Cyprus",0.1467,0.1769,0.15060000000000001,0.17469999999999999,0.20155000000000001,0.24675,0.21779999999999999,0.19359999999999999,0.15534999999999999,0.1216,"*",null,"Cyprus",0.13689999999999999,0.1595,0.1318,0.15699999999999997,0.18230000000000002,0.22165000000000001,0.19669999999999999,0.17515,0.13174999999999998,9.5399999999999999E-2,"*",null,"Cyprus",0.12609999999999999,0.14945,0.12005,0.14624999999999999,0.16744999999999999,0.2077,0.18459999999999999,0.16144999999999998,0.11645,8.1799999999999998E-2,"*",null,"Cyprus",0.1099,0.13569999999999999,0.1091,0.13474999999999998,0.15870000000000001,0.20095000000000002,0.16769999999999999,0.1532,0.11169999999999999,7.5700000000000003E-2,"*",null,"Cyprus",0.113,0.13655,0.109,0.13424999999999998,0.15684999999999999,0.19514999999999999,0.16299999999999998,0.14300000000000002,0.1013,7.3499999999999996E-2,"*",null,"Cyprus","*","*","*","*","*","*","*","*",{"$f":"IFERROR(AVERAGE(R304:S304),\"*\")","v":"*"},"*","*"]
[{"$f":"A65","v":"Latvia"},{"$f":"IFERROR(AVERAGE(B65:C65),\"*\")","v":0.13039999999999999},{"$f":"IFERROR(AVERAGE(D65:E65),\"*\")","v":9.4750000000000001E-2},{"$f":"IFERROR(AVERAGE(F65:G65),\"*\")","v":0.11545},{"$f":"IFERROR(AVERAGE(H65:I65),\"*\")","v":0.1157},{"$f":"IFERROR(AVERAGE(J65:K65),\"*\")","v":0.13495000000000001},{"$f":"IFERROR(AVERAGE(L65:M65),\"*\")","v":0.13119999999999998},{"$f":"IFERROR(AVERAGE(N65:O65),\"*\")","v":0.12275},{"$f":"IFERROR(AVERAGE(P65:Q65),\"*\")","v":0.1268},{"$f":"IFERROR(AVERAGE(R65:S65),\"*\")","v":0.13514999999999999},{"$f":"IFERROR(AVERAGE(T65:U65),\"*\")","v":0.12620000000000001},{"$f":"IFERROR(AVERAGE(V65:W65),\"*\")","v":"*"},null,"Latvia",7.1800000000000003E-2,8.3600000000000008E-2,9.6349999999999991E-2,9.5899999999999999E-2,0.1124,0.11035,0.10145,0.10245000000000001,0.10455,0.1017,"*",null,"Latvia",5.9499999999999997E-2,7.2849999999999998E-2,8.9450000000000002E-2,8.9849999999999999E-2,0.10425000000000001,0.10185,9.1650000000000009E-2,9.0900000000000009E-2,9.1249999999999998E-2,8.9700000000000002E-2,"*",null,"Latvia",4.99E-2,6.4899999999999999E-2,8.4199999999999997E-2,8.3800000000000013E-2,9.4700000000000006E-2,9.0650000000000008E-2,8.3199999999999996E-2,8.0350000000000005E-2,8.0850000000000005E-2,8.0600000000000005E-2,"*",null,"Latvia",4.4699999999999997E-2,6.0299999999999992E-2,7.9500000000000001E-2,8.199999999999999E-2,9.4350000000000003E-2,8.7400000000000005E-2,8.2650000000000001E-2,7.9000000000000001E-2,7.1899999999999992E-2,7.3300000000000004E-2,"*",null,"Latvia",4.2999999999999997E-2,6.0149999999999995E-2,7.2050000000000003E-2,7.46E-2,7.955000000000001E-2,7.1199999999999999E-2,7.6350000000000001E-2,6.6200000000000009E-2,5.7099999999999998E-2,5.1400000000000001E-2,"*",null,"Latvia","*","*","*","*","*","*","*","*",{"$f":"IFERROR(AVERAGE(R305:S305),\"*\")","v":"*"},"*","*"]
[{"$f":"A66","v":"Lithuania"},{"$f":"IFERROR(AVERAGE(B66:C66),\"*\")","v":0.10680000000000001},{"$f":"IFERROR(AVERAGE(D66:E66),\"*\")","v":0.10450000000000001},{"$f":"IFERROR(AVERAGE(F66:G66),\"*\")","v":0.1091},{"$f":"IFERROR(AVERAGE(H66:I66),\"*\")","v":0.1181},{"$f":"IFERROR(AVERAGE(J66:K66),\"*\")","v":0.13045000000000001},{"$f":"IFERROR(AVERAGE(L66:M66),\"*\")","v":0.12795000000000001},{"$f":"IFERROR(AVERAGE(N66:O66),\"*\")","v":0.11754999999999999},{"$f":"IFERROR(AVERAGE(P66:Q66),\"*\")","v":0.11924999999999999},{"$f":"IFERROR(AVERAGE(R66:S66),\"*\")","v":0.1148},{"$f":"IFERROR(AVERAGE(T66:U66),\"*\")","v":0.10979999999999999},{"$f":"IFERROR(AVERAGE(V66:W66),\"*\")","v":"*"},null,"Lithuania",8.6400000000000005E-2,9.4700000000000006E-2,9.7349999999999992E-2,0.10825000000000001,0.11375,0.11975,0.10189999999999999,0.1027,9.2499999999999999E-2,8.9399999999999993E-2,"*",null,"Lithuania",7.4399999999999994E-2,8.3350000000000007E-2,8.5699999999999998E-2,9.9299999999999999E-2,0.10395,0.11375,9.5450000000000007E-2,9.5950000000000008E-2,8.2299999999999998E-2,7.7700000000000005E-2,"*",null,"Lithuania",6.2700000000000006E-2,7.0250000000000007E-2,7.2349999999999998E-2,9.3650000000000011E-2,0.10200000000000001,0.10715,8.8650000000000007E-2,9.6049999999999996E-2,7.3649999999999993E-2,6.7500000000000004E-2,"*",null,"Lithuania",5.4800000000000001E-2,6.6450000000000009E-2,6.8150000000000002E-2,8.4249999999999992E-2,0.1002,0.11610000000000001,9.9299999999999999E-2,9.64E-2,6.7150000000000001E-2,6.0299999999999999E-2,"*",null,"Lithuania",5.5599999999999997E-2,6.3E-2,"*","*","*","*","*","*",6.3399999999999998E-2,5.6000000000000001E-2,"*",null,"Lithuania","*","*","*","*","*","*","*","*",{"$f":"IFERROR(AVERAGE(R306:S306),\"*\")","v":"*"},"*","*"]
[{"$f":"A67","v":"Luxembourg"},{"$f":"IFERROR(AVERAGE(B67:C67),\"*\")","v":0.16120000000000001},{"$f":"IFERROR(AVERAGE(D67:E67),\"*\")","v":0.14460000000000001},{"$f":"IFERROR(AVERAGE(F67:G67),\"*\")","v":0.18124999999999999},{"$f":"IFERROR(AVERAGE(H67:I67),\"*\")","v":0.1532},{"$f":"IFERROR(AVERAGE(J67:K67),\"*\")","v":0.15654999999999999},{"$f":"IFERROR(AVERAGE(L67:M67),\"*\")","v":0.15715000000000001},{"$f":"IFERROR(AVERAGE(N67:O67),\"*\")","v":0.15145},{"$f":"IFERROR(AVERAGE(P67:Q67),\"*\")","v":0.14935000000000001},{"$f":"IFERROR(AVERAGE(R67:S67),\"*\")","v":0.13519999999999999},{"$f":"IFERROR(AVERAGE(T67:U67),\"*\")","v":0.13489999999999999},{"$f":"IFERROR(AVERAGE(V67:W67),\"*\")","v":"*"},null,"Luxembourg",0.11674999999999999,0.10639999999999999,0.1263,0.10915,0.10965,0.11269999999999999,0.111,0.1066,9.4349999999999989E-2,9.2600000000000002E-2,"*",null,"Luxembourg",9.64E-2,9.2700000000000005E-2,0.11069999999999999,9.5649999999999999E-2,9.5849999999999991E-2,9.8849999999999993E-2,9.4899999999999998E-2,9.3849999999999989E-2,8.2299999999999998E-2,7.8399999999999997E-2,"*",null,"Luxembourg","*","*",9.0950000000000003E-2,7.644999999999999E-2,7.1050000000000002E-2,7.4200000000000002E-2,7.1250000000000008E-2,6.4549999999999996E-2,5.57E-2,5.1200000000000002E-2,"*",null,"Luxembourg","*","*",6.5349999999999991E-2,6.6400000000000001E-2,6.0900000000000003E-2,6.3450000000000006E-2,6.0649999999999996E-2,5.8700000000000002E-2,5.0099999999999999E-2,4.3700000000000003E-2,"*",null,"Luxembourg","*","*","*","*","*","*","*","*","*","*","*",null,"Luxembourg","*","*","*","*","*","*","*","*",{"$f":"IFERROR(AVERAGE(R307:S307),\"*\")","v":"*"},"*","*"]
[{"$f":"A68","v":"Hungary"},{"$f":"IFERROR(AVERAGE(B68:C68),\"*\")","v":0.1089},{"$f":"IFERROR(AVERAGE(D68:E68),\"*\")","v":0.14674999999999999},{"$f":"IFERROR(AVERAGE(F68:G68),\"*\")","v":0.11835},{"$f":"IFERROR(AVERAGE(H68:I68),\"*\")","v":0.12140000000000001},{"$f":"IFERROR(AVERAGE(J68:K68),\"*\")","v":0.1217},{"$f":"IFERROR(AVERAGE(L68:M68),\"*\")","v":0.12095},{"$f":"IFERROR(AVERAGE(N68:O68),\"*\")","v":0.10635},{"$f":"IFERROR(AVERAGE(P68:Q68),\"*\")","v":9.8049999999999998E-2},{"$f":"IFERROR(AVERAGE(R68:S68),\"*\")","v":9.8149999999999987E-2},{"$f":"IFERROR(AVERAGE(T68:U68),\"*\")","v":9.2200000000000004E-2},{"$f":"IFERROR(AVERAGE(V68:W68),\"*\")","v":"*"},null,"Hungary",0.1118,0.13364999999999999,0.12404999999999999,0.10514999999999999,0.1053,0.1048,0.10120000000000001,9.3049999999999994E-2,8.8050000000000003E-2,8.4400000000000003E-2,"*",null,"Hungary",9.9699999999999997E-2,0.1157,0.12484999999999999,0.10339999999999999,9.5599999999999991E-2,9.1249999999999998E-2,9.0899999999999995E-2,8.2900000000000001E-2,7.8049999999999994E-2,7.2900000000000006E-2,"*",null,"Hungary",8.6199999999999999E-2,0.10200000000000001,0.1104,9.1899999999999996E-2,8.9550000000000005E-2,8.7999999999999995E-2,8.8599999999999998E-2,8.0500000000000002E-2,7.6500000000000012E-2,6.8699999999999997E-2,"*",null,"Hungary",7.2300000000000003E-2,9.1450000000000004E-2,0.1071,8.2600000000000007E-2,9.6049999999999996E-2,8.904999999999999E-2,9.01E-2,8.0299999999999996E-2,7.5600000000000001E-2,6.6900000000000001E-2,"*",null,"Hungary",5.8999999999999997E-2,8.1600000000000006E-2,9.06E-2,8.0850000000000005E-2,7.0949999999999999E-2,9.4850000000000004E-2,8.8450000000000001E-2,7.9949999999999993E-2,7.6300000000000007E-2,6.4100000000000004E-2,"*",null,"Hungary",5.3900000000000003E-2,7.7399999999999997E-2,9.1450000000000004E-2,7.4899999999999994E-2,6.5549999999999997E-2,8.9400000000000007E-2,8.9150000000000007E-2,7.5750000000000012E-2,{"$f":"IFERROR(AVERAGE(R308:S308),\"*\")","v":7.3450000000000001E-2},6.5600000000000006E-2,"*"]
[{"$f":"A69","v":"Malta"},{"$f":"IFERROR(AVERAGE(B69:C69),\"*\")","v":0.13070000000000001},{"$f":"IFERROR(AVERAGE(D69:E69),\"*\")","v":0.15415000000000001},{"$f":"IFERROR(AVERAGE(F69:G69),\"*\")","v":0.15675},{"$f":"IFERROR(AVERAGE(H69:I69),\"*\")","v":0.24199999999999999},{"$f":"IFERROR(AVERAGE(J69:K69),\"*\")","v":0.24399999999999999},{"$f":"IFERROR(AVERAGE(L69:M69),\"*\")","v":0.24399999999999999},{"$f":"IFERROR(AVERAGE(N69:O69),\"*\")","v":0.24349999999999999},{"$f":"IFERROR(AVERAGE(P69:Q69),\"*\")","v":0.24199999999999999},{"$f":"IFERROR(AVERAGE(R69:S69),\"*\")","v":0.20800000000000002},{"$f":"IFERROR(AVERAGE(T69:U69),\"*\")","v":0.23430000000000001},{"$f":"IFERROR(AVERAGE(V69:W69),\"*\")","v":"*"},null,"Malta",0.1288,0.15265000000000001,0.15325,0.20050000000000001,0.2,0.20100000000000001,0.20050000000000001,0.20050000000000001,0.16694999999999999,0.1578,"*",null,"Malta",0.1221,0.14199999999999999,0.13985,0.17649999999999999,0.17899999999999999,0.18,0.17849999999999999,0.17749999999999999,0.1502,0.14219999999999999,"*",null,"Malta",9.1800000000000007E-2,0.11205000000000001,0.1045,0.1545,0.1575,0.1585,0.157,0.1575,0.13255,0.1221,"*",null,"Malta",5.8000000000000003E-2,9.5200000000000007E-2,0.1045,0.13650000000000001,0.13650000000000001,0.13800000000000001,0.13800000000000001,0.14000000000000001,0.1198,0.1113,"*",null,"Malta","*",9.5200000000000007E-2,0.1045,0.13550000000000001,0.13950000000000001,0.14550000000000002,0.14000000000000001,0.13100000000000001,0.10635,9.9199999999999997E-2,"*",null,"Malta","*",9.5200000000000007E-2,0.1045,"*","*","*","*","*",{"$f":"IFERROR(AVERAGE(R309:S309),\"*\")","v":"*"},"*","*"]
[{"$f":"A70","v":"Netherlands"},{"$f":"IFERROR(AVERAGE(B70:C70),\"*\")","v":0.12875},{"$f":"IFERROR(AVERAGE(D70:E70),\"*\")","v":0.12195},{"$f":"IFERROR(AVERAGE(F70:G70),\"*\")","v":0.11975},{"$f":"IFERROR(AVERAGE(H70:I70),\"*\")","v":0.1134},{"$f":"IFERROR(AVERAGE(J70:K70),\"*\")","v":0.10930000000000001},{"$f":"IFERROR(AVERAGE(L70:M70),\"*\")","v":0.11645},{"$f":"IFERROR(AVERAGE(N70:O70),\"*\")","v":0.11305000000000001},{"$f":"IFERROR(AVERAGE(P70:Q70),\"*\")","v":0.12060000000000001},{"$f":"IFERROR(AVERAGE(R70:S70),\"*\")","v":0.13005},{"$f":"IFERROR(AVERAGE(T70:U70),\"*\")","v":0.10150000000000001},{"$f":"IFERROR(AVERAGE(V70:W70),\"*\")","v":"*"},null,"Netherlands",0.10539999999999999,0.10250000000000001,0.10980000000000001,9.9299999999999999E-2,9.7299999999999998E-2,9.7900000000000001E-2,9.4049999999999995E-2,9.3299999999999994E-2,8.8450000000000001E-2,7.9500000000000001E-2,"*",null,"Netherlands",9.0799999999999992E-2,9.1899999999999996E-2,9.6049999999999996E-2,8.6400000000000005E-2,8.405E-2,8.3799999999999999E-2,8.1050000000000011E-2,7.6899999999999996E-2,7.17E-2,6.5199999999999994E-2,"*",null,"Netherlands",7.8300000000000008E-2,8.0149999999999999E-2,8.7150000000000005E-2,7.7899999999999997E-2,7.5800000000000006E-2,7.4550000000000005E-2,7.5600000000000001E-2,7.1649999999999991E-2,6.6599999999999993E-2,6.13E-2,"*",null,"Netherlands",7.5649999999999995E-2,7.7850000000000003E-2,8.3650000000000002E-2,7.0199999999999999E-2,6.9099999999999995E-2,6.9000000000000006E-2,7.2599999999999998E-2,6.7049999999999998E-2,6.3200000000000006E-2,5.67E-2,"*",null,"Netherlands",6.9599999999999995E-2,7.4999999999999997E-2,8.165E-2,7.1300000000000002E-2,7.1649999999999991E-2,6.8699999999999997E-2,7.400000000000001E-2,7.0750000000000007E-2,6.6900000000000001E-2,5.8400000000000001E-2,"*",null,"Netherlands","*","*",6.3250000000000001E-2,6.2350000000000003E-2,6.3399999999999998E-2,6.0700000000000004E-2,7.2449999999999987E-2,6.4549999999999996E-2,{"$f":"IFERROR(AVERAGE(R310:S310),\"*\")","v":6.4549999999999996E-2},5.6800000000000003E-2,"*"]
[{"$f":"A71","v":"Austria"},{"$f":"IFERROR(AVERAGE(B71:C71),\"*\")","v":0.1084},{"$f":"IFERROR(AVERAGE(D71:E71),\"*\")","v":0.11175},{"$f":"IFERROR(AVERAGE(F71:G71),\"*\")","v":0.13490000000000002},{"$f":"IFERROR(AVERAGE(H71:I71),\"*\")","v":0.1298},{"$f":"IFERROR(AVERAGE(J71:K71),\"*\")","v":0.12955},{"$f":"IFERROR(AVERAGE(L71:M71),\"*\")","v":0.12590000000000001},{"$f":"IFERROR(AVERAGE(N71:O71),\"*\")","v":0.12970000000000001},{"$f":"IFERROR(AVERAGE(P71:Q71),\"*\")","v":0.12335},{"$f":"IFERROR(AVERAGE(R71:S71),\"*\")","v":0.11774999999999999},{"$f":"IFERROR(AVERAGE(T71:U71),\"*\")","v":0.11700000000000001},{"$f":"IFERROR(AVERAGE(V71:W71),\"*\")","v":"*"},null,"Austria",0.1008,0.10589999999999999,0.113,0.10805000000000001,0.10785,0.10744999999999999,0.10575000000000001,9.8599999999999993E-2,9.1600000000000001E-2,8.9800000000000005E-2,"*",null,"Austria",7.7399999999999997E-2,9.01E-2,9.8049999999999998E-2,9.2200000000000004E-2,9.1650000000000009E-2,8.9950000000000002E-2,8.6849999999999997E-2,8.0649999999999999E-2,7.3000000000000009E-2,7.0499999999999993E-2,"*",null,"Austria",6.5500000000000003E-2,7.9049999999999995E-2,9.0649999999999994E-2,8.4449999999999997E-2,8.2350000000000007E-2,7.9949999999999993E-2,7.7249999999999999E-2,7.195E-2,6.4899999999999999E-2,6.0400000000000002E-2,"*",null,"Austria",6.5299999999999997E-2,7.4249999999999997E-2,8.2949999999999996E-2,7.6450000000000004E-2,7.4499999999999997E-2,7.1050000000000002E-2,6.6400000000000001E-2,6.1799999999999994E-2,5.6000000000000001E-2,5.1700000000000003E-2,"*",null,"Austria",5.9900000000000002E-2,6.7349999999999993E-2,7.5200000000000003E-2,7.17E-2,6.9450000000000012E-2,6.5700000000000008E-2,6.08E-2,5.4300000000000001E-2,5.0449999999999995E-2,4.6399999999999997E-2,"*",null,"Austria","*",7.2999999999999995E-2,"*","*","*","*","*","*",{"$f":"IFERROR(AVERAGE(R311:S311),\"*\")","v":4.4900000000000002E-2},"*","*"]
[{"$f":"A72","v":"Poland"},{"$f":"IFERROR(AVERAGE(B72:C72),\"*\")","v":0.1351},{"$f":"IFERROR(AVERAGE(D72:E72),\"*\")","v":0.13650000000000001},{"$f":"IFERROR(AVERAGE(F72:G72),\"*\")","v":0.13519999999999999},{"$f":"IFERROR(AVERAGE(H72:I72),\"*\")","v":0.15155000000000002},{"$f":"IFERROR(AVERAGE(J72:K72),\"*\")","v":0.15165000000000001},{"$f":"IFERROR(AVERAGE(L72:M72),\"*\")","v":0.16020000000000001},{"$f":"IFERROR(AVERAGE(N72:O72),\"*\")","v":0.14610000000000001},{"$f":"IFERROR(AVERAGE(P72:Q72),\"*\")","v":0.1459},{"$f":"IFERROR(AVERAGE(R72:S72),\"*\")","v":0.14745},{"$f":"IFERROR(AVERAGE(T72:U72),\"*\")","v":0.13569999999999999},{"$f":"IFERROR(AVERAGE(V72:W72),\"*\")","v":"*"},null,"Poland",0.1003,9.8549999999999999E-2,0.10340000000000001,0.1132,0.1125,0.1138,0.11119999999999999,0.1061,0.1099,0.1021,"*",null,"Poland",8.43E-2,8.3350000000000007E-2,8.7150000000000005E-2,9.3299999999999994E-2,9.2899999999999996E-2,8.8800000000000004E-2,8.5650000000000004E-2,7.8149999999999997E-2,8.2299999999999998E-2,7.6200000000000004E-2,"*",null,"Poland",6.2600000000000003E-2,7.5300000000000006E-2,7.775E-2,8.0600000000000005E-2,7.7649999999999997E-2,7.8199999999999992E-2,7.2700000000000001E-2,6.6049999999999998E-2,7.1199999999999999E-2,6.7100000000000007E-2,"*",null,"Poland",4.7E-2,6.8699999999999997E-2,7.325000000000001E-2,7.485E-2,7.3000000000000009E-2,7.425000000000001E-2,6.6750000000000004E-2,6.0249999999999998E-2,6.4599999999999991E-2,6.08E-2,"*",null,"Poland",4.3499999999999997E-2,6.3899999999999998E-2,6.8650000000000003E-2,7.22E-2,7.0550000000000002E-2,7.014999999999999E-2,6.3149999999999998E-2,5.6000000000000001E-2,5.9749999999999998E-2,5.4899999999999997E-2,"*",null,"Poland","*",6.6600000000000006E-2,7.17E-2,7.6700000000000004E-2,7.4300000000000005E-2,7.325000000000001E-2,6.3600000000000004E-2,5.0950000000000002E-2,{"$f":"IFERROR(AVERAGE(R312:S312),\"*\")","v":5.4550000000000001E-2},5.1400000000000001E-2,"*"]
[{"$f":"A73","v":"Portugal"},{"$f":"IFERROR(AVERAGE(B73:C73),\"*\")","v":9.5000000000000001E-2},{"$f":"IFERROR(AVERAGE(D73:E73),\"*\")","v":0.1125},{"$f":"IFERROR(AVERAGE(F73:G73),\"*\")","v":0.14150000000000001},{"$f":"IFERROR(AVERAGE(H73:I73),\"*\")","v":0.11015},{"$f":"IFERROR(AVERAGE(J73:K73),\"*\")","v":0.10725},{"$f":"IFERROR(AVERAGE(L73:M73),\"*\")","v":0.1232},{"$f":"IFERROR(AVERAGE(N73:O73),\"*\")","v":0.12755},{"$f":"IFERROR(AVERAGE(P73:Q73),\"*\")","v":0.15910000000000002},{"$f":"IFERROR(AVERAGE(R73:S73),\"*\")","v":0.16904999999999998},{"$f":"IFERROR(AVERAGE(T73:U73),\"*\")","v":0.159},{"$f":"IFERROR(AVERAGE(V73:W73),\"*\")","v":"*"},null,"Portugal",8.9599999999999999E-2,8.3249999999999991E-2,0.10439999999999999,9.3600000000000003E-2,9.3049999999999994E-2,0.1037,0.11310000000000001,0.12805,0.12375,0.12379999999999999,"*",null,"Portugal",7.2800000000000004E-2,7.8149999999999997E-2,9.2549999999999993E-2,8.8150000000000006E-2,8.9900000000000008E-2,0.1021,0.10125000000000001,0.10405,9.9500000000000005E-2,9.4299999999999995E-2,"*",null,"Portugal",6.3700000000000007E-2,7.0099999999999996E-2,8.2600000000000007E-2,7.5999999999999998E-2,8.3499999999999991E-2,9.4399999999999998E-2,9.4E-2,8.904999999999999E-2,9.0499999999999997E-2,8.5500000000000007E-2,"*",null,"Portugal",5.5399999999999998E-2,5.7249999999999995E-2,6.7549999999999999E-2,6.4899999999999999E-2,6.6900000000000001E-2,8.0850000000000005E-2,8.0999999999999989E-2,7.5050000000000006E-2,7.4349999999999999E-2,6.83E-2,"*",null,"Portugal",4.9700000000000001E-2,5.015E-2,5.7550000000000004E-2,5.33E-2,6.055E-2,7.7350000000000002E-2,7.6050000000000006E-2,6.6500000000000004E-2,6.8049999999999999E-2,4.9299999999999997E-2,"*",null,"Portugal","*","*","*","*","*","*","*","*",{"$f":"IFERROR(AVERAGE(R313:S313),\"*\")","v":"*"},"*","*"]
[{"$f":"A74","v":"Romania"},{"$f":"IFERROR(AVERAGE(B74:C74),\"*\")","v":0.12089999999999999},{"$f":"IFERROR(AVERAGE(D74:E74),\"*\")","v":0.11044999999999999},{"$f":"IFERROR(AVERAGE(F74:G74),\"*\")","v":0.1013},{"$f":"IFERROR(AVERAGE(H74:I74),\"*\")","v":0.10639999999999999},{"$f":"IFERROR(AVERAGE(J74:K74),\"*\")","v":0.10500000000000001},{"$f":"IFERROR(AVERAGE(L74:M74),\"*\")","v":0.10300000000000001},{"$f":"IFERROR(AVERAGE(N74:O74),\"*\")","v":0.11445},{"$f":"IFERROR(AVERAGE(P74:Q74),\"*\")","v":9.9699999999999997E-2},{"$f":"IFERROR(AVERAGE(R74:S74),\"*\")","v":9.8150000000000001E-2},{"$f":"IFERROR(AVERAGE(T74:U74),\"*\")","v":9.1800000000000007E-2},{"$f":"IFERROR(AVERAGE(V74:W74),\"*\")","v":"*"},null,"Romania",0.1067,0.10405,9.7000000000000003E-2,9.9699999999999997E-2,9.7750000000000004E-2,9.2600000000000002E-2,0.10195,9.0799999999999992E-2,8.5400000000000004E-2,7.9500000000000001E-2,"*",null,"Romania",9.0800000000000006E-2,9.1799999999999993E-2,8.1949999999999995E-2,8.2900000000000001E-2,8.0299999999999996E-2,7.9850000000000004E-2,8.6199999999999999E-2,7.3149999999999993E-2,6.9399999999999989E-2,6.3500000000000001E-2,"*",null,"Romania",7.9000000000000001E-2,7.9100000000000004E-2,7.2400000000000006E-2,7.0500000000000007E-2,7.0300000000000001E-2,7.0000000000000007E-2,7.3349999999999999E-2,6.5000000000000002E-2,6.1149999999999996E-2,5.5599999999999997E-2,"*",null,"Romania",6.3799999999999996E-2,6.9099999999999995E-2,6.4399999999999999E-2,6.3049999999999995E-2,6.3399999999999998E-2,6.4100000000000004E-2,6.4700000000000008E-2,5.6950000000000001E-2,5.2949999999999997E-2,4.8399999999999999E-2,"*",null,"Romania",5.7200000000000001E-2,5.8249999999999996E-2,5.8200000000000002E-2,5.7499999999999996E-2,6.0249999999999998E-2,5.8800000000000005E-2,6.4700000000000008E-2,5.595E-2,5.0750000000000003E-2,4.6399999999999997E-2,"*",null,"Romania","*","*","*","*","*","*","*","*",{"$f":"IFERROR(AVERAGE(R314:S314),\"*\")","v":"*"},"*","*"]
[{"$f":"A75","v":"Slovenia"},{"$f":"IFERROR(AVERAGE(B75:C75),\"*\")","v":0.1215},{"$f":"IFERROR(AVERAGE(D75:E75),\"*\")","v":0.1409},{"$f":"IFERROR(AVERAGE(F75:G75),\"*\")","v":0.15665000000000001},{"$f":"IFERROR(AVERAGE(H75:I75),\"*\")","v":0.1298},{"$f":"IFERROR(AVERAGE(J75:K75),\"*\")","v":0.12909999999999999},{"$f":"IFERROR(AVERAGE(L75:M75),\"*\")","v":0.1333},{"$f":"IFERROR(AVERAGE(N75:O75),\"*\")","v":0.1268},{"$f":"IFERROR(AVERAGE(P75:Q75),\"*\")","v":0.1207},{"$f":"IFERROR(AVERAGE(R75:S75),\"*\")","v":0.11380000000000001},{"$f":"IFERROR(AVERAGE(T75:U75),\"*\")","v":0.1045},{"$f":"IFERROR(AVERAGE(V75:W75),\"*\")","v":"*"},null,"Slovenia",0.1066,0.1225,0.12609999999999999,0.10994999999999999,0.10564999999999999,0.10580000000000001,0.108,9.35E-2,9.01E-2,8.7099999999999997E-2,"*",null,"Slovenia",8.72E-2,9.2749999999999999E-2,9.5399999999999999E-2,9.1049999999999992E-2,8.8900000000000007E-2,8.6900000000000005E-2,8.3199999999999996E-2,7.4499999999999997E-2,7.1250000000000008E-2,6.7799999999999999E-2,"*",null,"Slovenia",7.0900000000000005E-2,7.5600000000000001E-2,7.6649999999999996E-2,7.669999999999999E-2,7.6300000000000007E-2,7.6850000000000002E-2,7.3800000000000004E-2,6.6750000000000004E-2,6.3049999999999995E-2,5.9400000000000001E-2,"*",null,"Slovenia",6.1600000000000002E-2,6.2300000000000001E-2,6.6299999999999998E-2,6.6349999999999992E-2,6.8650000000000003E-2,7.1050000000000002E-2,6.6000000000000003E-2,6.0450000000000004E-2,5.6550000000000003E-2,5.28E-2,"*",null,"Slovenia",6.4500000000000002E-2,6.8250000000000005E-2,7.0349999999999996E-2,6.5950000000000009E-2,6.6750000000000004E-2,6.3799999999999996E-2,6.2700000000000006E-2,5.8700000000000002E-2,5.595E-2,5.1400000000000001E-2,"*",null,"Slovenia","*","*","*","*","*","*","*","*",{"$f":"IFERROR(AVERAGE(R315:S315),\"*\")","v":"*"},"*","*"]
[{"$f":"A76","v":"Slovakia"},{"$f":"IFERROR(AVERAGE(B76:C76),\"*\")","v":0.14480000000000001},{"$f":"IFERROR(AVERAGE(D76:E76),\"*\")","v":0.17559999999999998},{"$f":"IFERROR(AVERAGE(F76:G76),\"*\")","v":0.2167},{"$f":"IFERROR(AVERAGE(H76:I76),\"*\")","v":0.19395000000000001},{"$f":"IFERROR(AVERAGE(J76:K76),\"*\")","v":0.1966},{"$f":"IFERROR(AVERAGE(L76:M76),\"*\")","v":0.20115},{"$f":"IFERROR(AVERAGE(N76:O76),\"*\")","v":0.1991},{"$f":"IFERROR(AVERAGE(P76:Q76),\"*\")","v":0.19595000000000001},{"$f":"IFERROR(AVERAGE(R76:S76),\"*\")","v":0.2034},{"$f":"IFERROR(AVERAGE(T76:U76),\"*\")","v":0.2006},{"$f":"IFERROR(AVERAGE(V76:W76),\"*\")","v":"*"},null,"Slovakia",0.12540000000000001,0.14684999999999998,0.16675000000000001,0.14495000000000002,0.14629999999999999,0.15145,0.1482,0.13639999999999999,0.13350000000000001,0.13059999999999999,"*",null,"Slovakia",0.1048,0.124,0.1406,0.11729999999999999,0.12255000000000001,0.125,0.12329999999999999,0.11180000000000001,0.1079,0.1047,"*",null,"Slovakia",9.5200000000000007E-2,0.11235000000000001,0.12595000000000001,0.10589999999999999,0.1123,0.11449999999999999,0.11215,0.1,9.5299999999999996E-2,9.2299999999999993E-2,"*",null,"Slovakia",8.48E-2,9.7699999999999995E-2,0.10920000000000001,9.6250000000000002E-2,0.1013,0.1055,0.10065,8.9899999999999994E-2,9.3099999999999988E-2,8.1199999999999994E-2,"*",null,"Slovakia",7.3400000000000007E-2,9.085E-2,9.7450000000000009E-2,9.3299999999999994E-2,9.1200000000000003E-2,9.4600000000000004E-2,0.10125000000000001,8.5849999999999996E-2,9.0549999999999992E-2,7.5499999999999998E-2,"*",null,"Slovakia",7.8200000000000006E-2,9.3100000000000002E-2,9.2499999999999999E-2,8.199999999999999E-2,9.1200000000000003E-2,8.6400000000000005E-2,9.4850000000000004E-2,7.2000000000000008E-2,{"$f":"IFERROR(AVERAGE(R316:S316),\"*\")","v":6.4700000000000008E-2},6.4299999999999996E-2,"*"]
[{"$f":"A77","v":"Finland"},{"$f":"IFERROR(AVERAGE(B77:C77),\"*\")","v":7.2250000000000009E-2},{"$f":"IFERROR(AVERAGE(D77:E77),\"*\")","v":7.6600000000000001E-2},{"$f":"IFERROR(AVERAGE(F77:G77),\"*\")","v":8.1199999999999994E-2},{"$f":"IFERROR(AVERAGE(H77:I77),\"*\")","v":8.3699999999999997E-2},{"$f":"IFERROR(AVERAGE(J77:K77),\"*\")","v":8.904999999999999E-2},{"$f":"IFERROR(AVERAGE(L77:M77),\"*\")","v":8.8450000000000001E-2},{"$f":"IFERROR(AVERAGE(N77:O77),\"*\")","v":8.9099999999999999E-2},{"$f":"IFERROR(AVERAGE(P77:Q77),\"*\")","v":8.6449999999999999E-2},{"$f":"IFERROR(AVERAGE(R77:S77),\"*\")","v":8.3199999999999996E-2},{"$f":"IFERROR(AVERAGE(T77:U77),\"*\")","v":0.08},{"$f":"IFERROR(AVERAGE(V77:W77),\"*\")","v":"*"},null,"Finland",6.5849999999999992E-2,7.1349999999999997E-2,7.5000000000000011E-2,7.6999999999999999E-2,8.0750000000000002E-2,8.0949999999999994E-2,8.2250000000000004E-2,7.980000000000001E-2,7.6800000000000007E-2,7.5800000000000006E-2,"*",null,"Finland",5.5849999999999997E-2,6.3049999999999995E-2,6.5950000000000009E-2,6.6199999999999995E-2,6.83E-2,6.7849999999999994E-2,6.7849999999999994E-2,6.5799999999999997E-2,6.3600000000000004E-2,6.1400000000000003E-2,"*",null,"Finland",5.355E-2,0.06,6.3450000000000006E-2,6.4700000000000008E-2,6.5799999999999997E-2,6.4899999999999999E-2,6.4399999999999999E-2,6.2799999999999995E-2,6.0150000000000002E-2,5.8000000000000003E-2,"*",null,"Finland",3.9849999999999997E-2,5.2250000000000005E-2,5.2299999999999999E-2,5.7999999999999996E-2,5.5599999999999997E-2,5.2150000000000002E-2,5.2750000000000005E-2,4.9199999999999994E-2,4.6049999999999994E-2,4.4900000000000002E-2,"*",null,"Finland",4.1200000000000001E-2,5.11E-2,5.0799999999999998E-2,5.62E-2,5.5199999999999999E-2,5.1699999999999996E-2,5.2099999999999994E-2,4.8850000000000005E-2,4.36E-2,4.0500000000000001E-2,"*",null,"Finland","*","*","*","*","*","*","*","*",{"$f":"IFERROR(AVERAGE(R317:S317),\"*\")","v":"*"},"*","*"]
[{"$f":"A78","v":"Sweden"},{"$f":"IFERROR(AVERAGE(B78:C78),\"*\")","v":9.5149999999999998E-2},{"$f":"IFERROR(AVERAGE(D78:E78),\"*\")","v":0.1145},{"$f":"IFERROR(AVERAGE(F78:G78),\"*\")","v":0.11474999999999999},{"$f":"IFERROR(AVERAGE(H78:I78),\"*\")","v":0.14019999999999999},{"$f":"IFERROR(AVERAGE(J78:K78),\"*\")","v":0.15379999999999999},{"$f":"IFERROR(AVERAGE(L78:M78),\"*\")","v":0.17219999999999999},{"$f":"IFERROR(AVERAGE(N78:O78),\"*\")","v":0.1474},{"$f":"IFERROR(AVERAGE(P78:Q78),\"*\")","v":0.13685},{"$f":"IFERROR(AVERAGE(R78:S78),\"*\")","v":0.13539999999999999},{"$f":"IFERROR(AVERAGE(T78:U78),\"*\")","v":0.1244},{"$f":"IFERROR(AVERAGE(V78:W78),\"*\")","v":"*"},null,"Sweden",7.3649999999999993E-2,8.3000000000000004E-2,7.6649999999999996E-2,9.2049999999999993E-2,9.6799999999999997E-2,9.085E-2,8.7299999999999989E-2,7.9049999999999995E-2,7.0649999999999991E-2,7.0999999999999994E-2,"*",null,"Sweden",6.3399999999999998E-2,7.2800000000000004E-2,6.7299999999999999E-2,8.1799999999999998E-2,8.5499999999999993E-2,7.8699999999999992E-2,7.6999999999999999E-2,6.8150000000000002E-2,6.0100000000000001E-2,6.1100000000000002E-2,"*",null,"Sweden",5.475E-2,6.4750000000000002E-2,5.9150000000000001E-2,7.2149999999999992E-2,7.4300000000000005E-2,6.8699999999999997E-2,6.7549999999999999E-2,6.1149999999999996E-2,5.2449999999999997E-2,5.2499999999999998E-2,"*",null,"Sweden",4.9350000000000005E-2,5.8200000000000002E-2,5.3850000000000002E-2,6.9099999999999995E-2,6.615E-2,5.9950000000000003E-2,6.0100000000000001E-2,5.3749999999999999E-2,4.58E-2,4.5699999999999998E-2,"*",null,"Sweden",4.82E-2,5.8650000000000001E-2,4.9399999999999999E-2,6.4849999999999991E-2,6.0899999999999996E-2,5.0900000000000001E-2,5.3349999999999995E-2,4.6899999999999997E-2,3.7499999999999999E-2,3.78E-2,"*",null,"Sweden","*","*","*","*","*","*","*","*",{"$f":"IFERROR(AVERAGE(R318:S318),\"*\")","v":"*"},"*","*"]
[{"$f":"A79","v":"United Kingdom"},{"$f":"IFERROR(AVERAGE(B79:C79),\"*\")","v":0.14135},{"$f":"IFERROR(AVERAGE(D79:E79),\"*\")","v":0.12890000000000001},{"$f":"IFERROR(AVERAGE(F79:G79),\"*\")","v":0.13324999999999998},{"$f":"IFERROR(AVERAGE(H79:I79),\"*\")","v":0.13995000000000002},{"$f":"IFERROR(AVERAGE(J79:K79),\"*\")","v":0.13619999999999999},{"$f":"IFERROR(AVERAGE(L79:M79),\"*\")","v":0.1512},{"$f":"IFERROR(AVERAGE(N79:O79),\"*\")","v":0.15029999999999999},{"$f":"IFERROR(AVERAGE(P79:Q79),\"*\")","v":0.16725000000000001},{"$f":"IFERROR(AVERAGE(R79:S79),\"*\")","v":0.17925000000000002},{"$f":"IFERROR(AVERAGE(T79:U79),\"*\")","v":0.16039999999999999},{"$f":"IFERROR(AVERAGE(V79:W79),\"*\")","v":"*"},null,"United Kingdom",0.11685,0.10965,0.11265,0.11345,0.113,0.12745000000000001,0.12774999999999997,0.14194999999999999,0.16239999999999999,0.14729999999999999,"*",null,"United Kingdom",0.10675000000000001,9.9349999999999994E-2,0.10250000000000001,9.5250000000000001E-2,9.6849999999999992E-2,0.11205,0.11399999999999999,0.1268,0.14484999999999998,0.13150000000000001,"*",null,"United Kingdom",9.6200000000000008E-2,9.0950000000000003E-2,9.2599999999999988E-2,8.4600000000000009E-2,8.7299999999999989E-2,0.1018,0.105,0.11605,0.13424999999999998,0.1215,"*",null,"United Kingdom",9.0649999999999994E-2,8.9150000000000007E-2,9.085E-2,7.9050000000000009E-2,8.2400000000000001E-2,0.1002,0.1043,0.11615,0.13184999999999999,0.1205,"*",null,"United Kingdom",8.5799999999999987E-2,9.1200000000000003E-2,8.9650000000000007E-2,7.7649999999999997E-2,8.0049999999999996E-2,9.484999999999999E-2,0.10214999999999999,0.11285000000000001,0.12845000000000001,0.1179,"*",null,"United Kingdom",7.6649999999999996E-2,8.0350000000000005E-2,7.9350000000000004E-2,7.9299999999999995E-2,8.0100000000000005E-2,9.8000000000000004E-2,9.895000000000001E-2,0.1104,{"$f":"IFERROR(AVERAGE(R319:S319),\"*\")","v":0.12484999999999999},0.11509999999999999,"*"]
[]
["Baggrundsdata for level 1 priser - Eurostat nrg_pc_205"]
["Opdateret",{"$f":"B41","v":"2016-12-08T09:35:05.216"}]
["Electricity prices for industrial consumers - bi-annual data (from 2007 onwards) [nrg_pc_205]"]
[]
["Last update","2016-11-07T16:45:28"]
["Extracted on","2016-12-08T09:35:05.216"]
["Source of data","Eurostat"]
[]
["PRODUCT","Electrical energy"]
["CONSOM","Band IA : Consumption < 20 MWh"]
["UNIT","Kilowatt-hour"]
["TAX","Excluding taxes and levies"]
["CURRENCY","Euro"]
[]
["GEO/TIME","2007S1","2007S2","2008S1","2008S2","2009S1","2009S2","2010S1","2010S2","2011S1","2011S2","2012S1","2012S2","2013S1","2013S2","2014S1","2014S2","2015S1","2015S2","2016S1"]
["European Union (28 countries)",":",0.1288,0.1331,0.14050000000000001,0.1439,0.1459,0.14430000000000001,0.151,0.1449,0.1517,0.1482,0.15490000000000001,0.14990000000000001,0.15190000000000001,0.14879999999999999,0.15010000000000001,0.14860000000000001,0.1474,0.13980000000000001]
["Belgium",":",0.13109999999999999,0.155,0.15570000000000001,0.14050000000000001,0.1381,0.14360000000000001,0.14710000000000001,0.16320000000000001,0.15989999999999999,0.1656,0.16170000000000001,0.15490000000000001,0.15890000000000001,0.1595,0.15679999999999999,0.1588,0.1464,0.15179999999999999]
["Bulgaria",":",6.7500000000000004E-2,6.8000000000000005E-2,7.6200000000000004E-2,7.7200000000000005E-2,7.6200000000000004E-2,7.7200000000000005E-2,7.7600000000000002E-2,7.7499999999999999E-2,8.2600000000000007E-2,8.4199999999999997E-2,9.4299999999999995E-2,0.10440000000000001,9.8299999999999998E-2,9.4399999999999998E-2,9.5600000000000004E-2,0.1003,0.1143,0.10299999999999999]
["Czech Republic",":",0.14130000000000001,0.16350000000000001,0.16669999999999999,0.16209999999999999,0.17080000000000001,0.17030000000000001,0.1764,0.18379999999999999,0.17979999999999999,0.187,0.18740000000000001,0.18540000000000001,0.18149999999999999,0.15770000000000001,0.15679999999999999,0.1542,0.15679999999999999,0.15970000000000001]
["Denmark",":",8.6999999999999994E-2,9.5699999999999993E-2,0.1095,9.4399999999999998E-2,7.9200000000000007E-2,8.6400000000000005E-2,9.1800000000000007E-2,9.9199999999999997E-2,0.10199999999999999,9.4700000000000006E-2,8.8400000000000006E-2,8.8599999999999998E-2,8.5599999999999996E-2,8.5900000000000004E-2,8.3799999999999999E-2,8.3000000000000004E-2,7.7600000000000002E-2,7.9600000000000004E-2]
["Germany (until 1990 former territory of the FRG)",0.1489,0.1479,0.1525,0.1585,0.16259999999999999,0.1636,0.16039999999999999,0.1603,0.16159999999999999,0.16980000000000001,0.16600000000000001,0.16550000000000001,0.16250000000000001,0.15129999999999999,0.14230000000000001,0.14030000000000001,0.13489999999999999,0.13339999999999999,0.12870000000000001]
["Estonia",":",6.7100000000000007E-2,6.5699999999999995E-2,7.0199999999999999E-2,7.5399999999999995E-2,7.4399999999999994E-2,7.0199999999999999E-2,7.3499999999999996E-2,6.9199999999999998E-2,6.7900000000000002E-2,6.9400000000000003E-2,7.3499999999999996E-2,9.8299999999999998E-2,0.1053,9.6500000000000002E-2,9.9099999999999994E-2,9.3600000000000003E-2,9.4399999999999998E-2,9.0200000000000002E-2]
["Ireland",":",0.15429999999999999,0.1477,0.17530000000000001,0.17760000000000001,0.16830000000000001,0.15640000000000001,0.17019999999999999,0.1648,0.18310000000000001,0.1799,0.18779999999999999,0.18440000000000001,0.17860000000000001,0.1729,0.17319999999999999,0.17150000000000001,0.1694,0.16189999999999999]
["Greece",":",0.1237,0.129,0.13780000000000001,0.14849999999999999,0.14169999999999999,0.1409,0.14449999999999999,0.13750000000000001,0.13769999999999999,0.14380000000000001,0.14680000000000001,0.1512,0.1542,0.16020000000000001,0.16109999999999999,0.16209999999999999,0.1537,0.152]
["Spain",":",0.15140000000000001,0.1305,0.13100000000000001,0.1575,0.16839999999999999,0.17230000000000001,0.1782,0.16350000000000001,0.1918,0.1951,0.2036,0.22270000000000001,0.23799999999999999,0.2611,0.2782,0.2596,0.25659999999999999,0.23569999999999999]
["France",":",9.6500000000000002E-2,9.3100000000000002E-2,0.1012,9.9500000000000005E-2,0.1003,9.8799999999999999E-2,0.10929999999999999,0.1052,0.11119999999999999,9.6100000000000005E-2,0.12180000000000001,0.1031,0.11899999999999999,0.1082,0.114,0.114,0.12280000000000001,0.1124]
["Croatia",7.1999999999999995E-2,9.1600000000000001E-2,9.35E-2,0.1114,0.1084,0.1137,0.1164,0.1154,0.1145,0.1123,0.1164,0.12959999999999999,0.12590000000000001,0.125,0.12479999999999999,0.1216,0.1172,0.1173,0.11890000000000001]
["Italy",":",":",":",":",":",":",":",0.21870000000000001,0.18240000000000001,0.18959999999999999,0.16420000000000001,0.17799999999999999,0.17899999999999999,0.18210000000000001,0.17449999999999999,0.17380000000000001,0.16850000000000001,0.16470000000000001,0.16239999999999999]
["Cyprus",":",0.14499999999999999,0.16289999999999999,0.19059999999999999,0.1497,0.15409999999999999,0.17469999999999999,0.18210000000000001,0.192,0.2248,0.25650000000000001,0.2707,0.24859999999999999,0.22700000000000001,0.20810000000000001,0.2135,0.18029999999999999,0.16639999999999999,0.14030000000000001]
["Latvia",":",0.13039999999999999,8.8900000000000007E-2,0.10059999999999999,0.1148,0.11609999999999999,0.1152,0.1162,0.1263,0.14360000000000001,0.14219999999999999,0.1202,0.12640000000000001,0.1191,0.127,0.12659999999999999,0.13550000000000001,0.1348,0.12620000000000001]
["Lithuania",":",0.10680000000000001,0.1018,0.1072,0.1125,0.1057,0.12039999999999999,0.1158,0.13170000000000001,0.12920000000000001,0.126,0.12989999999999999,0.11749999999999999,0.1176,0.1164,0.1221,0.11609999999999999,0.1135,0.10979999999999999]
["Luxembourg",0.17780000000000001,0.14460000000000001,0.14460000000000001,0.14460000000000001,0.17599999999999999,0.1865,0.15240000000000001,0.154,0.15759999999999999,0.1555,0.16120000000000001,0.15310000000000001,0.15029999999999999,0.15260000000000001,0.15190000000000001,0.14680000000000001,0.13519999999999999,0.13519999999999999,0.13489999999999999]
["Hungary",":",0.1089,0.14630000000000001,0.1472,0.11169999999999999,0.125,0.1235,0.1193,0.12759999999999999,0.1158,0.1168,0.12509999999999999,0.107,0.1057,9.9199999999999997E-2,9.69E-2,9.9099999999999994E-2,9.7199999999999995E-2,9.2200000000000004E-2]
["Malta",":",0.13070000000000001,0.13070000000000001,0.17760000000000001,0.16750000000000001,0.14599999999999999,0.24099999999999999,0.24299999999999999,0.24399999999999999,0.24399999999999999,0.245,0.24299999999999999,0.245,0.24199999999999999,0.24299999999999999,0.24099999999999999,0.21970000000000001,0.1963,0.23430000000000001]
["Netherlands",0.13009999999999999,0.12740000000000001,0.1201,0.12379999999999999,0.1226,0.1169,0.1123,0.1145,0.1056,0.113,0.11609999999999999,0.1168,0.1111,0.115,0.1242,0.11700000000000001,0.13270000000000001,0.12740000000000001,0.10150000000000001]
["Austria",":",0.1084,0.10780000000000001,0.1157,0.13400000000000001,0.1358,0.12820000000000001,0.13139999999999999,0.1273,0.1318,0.1255,0.1263,0.12820000000000001,0.13120000000000001,0.1288,0.1179,0.1149,0.1206,0.11700000000000001]
["Poland",":",0.1351,0.13089999999999999,0.1421,0.12970000000000001,0.14069999999999999,0.14560000000000001,0.1575,0.15409999999999999,0.1492,0.16159999999999999,0.1588,0.15,0.14219999999999999,0.1454,0.1464,0.1482,0.1467,0.13569999999999999]
["Portugal",":",9.5000000000000001E-2,0.111,0.114,0.13650000000000001,0.14649999999999999,0.1123,0.108,0.10639999999999999,0.1081,0.12139999999999999,0.125,0.12839999999999999,0.12670000000000001,0.15970000000000001,0.1585,0.1704,0.16769999999999999,0.159]
["Romania",":",0.12089999999999999,0.1081,0.1128,0.10059999999999999,0.10199999999999999,0.1072,0.1056,0.1056,0.10440000000000001,0.1032,0.1028,0.1176,0.1113,0.1026,9.6799999999999997E-2,9.8799999999999999E-2,9.7500000000000003E-2,9.1800000000000007E-2]
["Slovenia",":",0.1215,0.13739999999999999,0.1444,0.15840000000000001,0.15490000000000001,0.1295,0.13009999999999999,0.12709999999999999,0.13109999999999999,0.13150000000000001,0.1351,0.1258,0.1278,0.12230000000000001,0.1191,0.11600000000000001,0.1116,0.1045]
["Slovakia",":",0.14480000000000001,0.17219999999999999,0.17899999999999999,0.21609999999999999,0.21729999999999999,0.1913,0.1966,0.19550000000000001,0.19769999999999999,0.20649999999999999,0.1958,0.2019,0.1963,0.19209999999999999,0.19980000000000001,0.20610000000000001,0.20069999999999999,0.2006]
["Finland",7.0900000000000005E-2,7.3599999999999999E-2,7.4399999999999994E-2,7.8799999999999995E-2,8.1299999999999997E-2,8.1100000000000005E-2,8.3599999999999994E-2,8.3799999999999999E-2,8.8200000000000001E-2,8.9899999999999994E-2,8.7999999999999995E-2,8.8900000000000007E-2,8.9099999999999999E-2,8.9099999999999999E-2,8.7300000000000003E-2,8.5599999999999996E-2,8.3799999999999999E-2,8.2600000000000007E-2,0.08]
["Sweden",9.5399999999999999E-2,9.4899999999999998E-2,0.11070000000000001,0.1183,0.1134,0.11609999999999999,0.13320000000000001,0.1472,0.16,0.14760000000000001,0.1651,0.17929999999999999,0.1484,0.1464,0.14119999999999999,0.13250000000000001,0.13059999999999999,0.14019999999999999,0.1244]
["United Kingdom",0.1396,0.1431,0.12659999999999999,0.13120000000000001,0.1321,0.13439999999999999,0.1376,0.14230000000000001,0.12889999999999999,0.14349999999999999,0.14699999999999999,0.15540000000000001,0.14169999999999999,0.15890000000000001,0.16189999999999999,0.1726,0.18190000000000001,0.17660000000000001,0.16039999999999999]
[]
["Special value:"]
[":","not available"]
[]
["PRODUCT","Electrical energy"]
["CONSOM","Band IB : 20 MWh < Consumption < 500 MWh"]
["UNIT","Kilowatt-hour"]
["TAX","Excluding taxes and levies"]
["CURRENCY","Euro"]
[]
["GEO/TIME","2007S1","2007S2","2008S1","2008S2","2009S1","2009S2","2010S1","2010S2","2011S1","2011S2","2012S1","2012S2","2013S1","2013S2","2014S1","2014S2","2015S1","2015S2","2016S1"]
["European Union (28 countries)",":",0.10059999999999999,0.10349999999999999,0.1072,0.1096,0.107,0.1076,0.1074,0.1108,0.1119,0.1129,0.1143,0.1128,0.11360000000000001,0.11269999999999999,0.1103,0.1106,0.1087,0.1042]
["Belgium",":",0.1079,0.1303,0.129,0.12130000000000001,0.1162,0.1159,0.1173,0.12690000000000001,0.12970000000000001,0.1321,0.13370000000000001,0.1265,0.12379999999999999,0.12590000000000001,0.1232,0.1217,0.1231,0.11749999999999999]
["Bulgaria",":",6.3399999999999998E-2,6.3399999999999998E-2,7.2599999999999998E-2,7.2599999999999998E-2,7.1599999999999997E-2,7.0000000000000007E-2,7.0300000000000001E-2,7.0999999999999994E-2,7.6499999999999999E-2,7.8399999999999997E-2,8.9499999999999996E-2,9.1499999999999998E-2,8.7999999999999995E-2,8.6499999999999994E-2,9.01E-2,8.8599999999999998E-2,0.1023,0.106]
["Czech Republic",":",0.10920000000000001,0.13059999999999999,0.13350000000000001,0.13189999999999999,0.1386,0.1341,0.13789999999999999,0.14460000000000001,0.1406,0.14410000000000001,0.14480000000000001,0.14680000000000001,0.14610000000000001,0.1242,0.1235,0.1196,0.12139999999999999,0.11559999999999999]
["Denmark",":",8.3500000000000005E-2,7.8299999999999995E-2,9.06E-2,6.6199999999999995E-2,6.8099999999999994E-2,7.8600000000000003E-2,8.2799999999999999E-2,8.5699999999999998E-2,7.6799999999999993E-2,7.2499999999999995E-2,7.0000000000000007E-2,7.4200000000000002E-2,7.2800000000000004E-2,7.3999999999999996E-2,7.1499999999999994E-2,6.7599999999999993E-2,6.4299999999999996E-2,6.59E-2]
["Germany (until 1990 former territory of the FRG)",0.1104,0.1094,0.1115,0.1138,0.1158,0.1137,0.1096,0.11070000000000001,0.1099,0.11,0.1091,0.10680000000000001,0.1056,0.1119,0.1096,0.10290000000000001,0.1031,0.1008,9.8799999999999999E-2]
["Estonia",":",5.62E-2,5.5E-2,5.9799999999999999E-2,6.3299999999999995E-2,6.2199999999999998E-2,6.2100000000000002E-2,6.5600000000000006E-2,6.3899999999999998E-2,6.7199999999999996E-2,6.5600000000000006E-2,7.1199999999999999E-2,9.01E-2,9.0800000000000006E-2,8.4699999999999998E-2,8.7499999999999994E-2,8.1699999999999995E-2,8.48E-2,7.9100000000000004E-2]
["Ireland",":",0.13850000000000001,0.13900000000000001,0.15490000000000001,0.14979999999999999,0.1401,0.1361,0.13439999999999999,0.12959999999999999,0.1469,0.15340000000000001,0.1542,0.15679999999999999,0.156,0.15279999999999999,0.14960000000000001,0.14960000000000001,0.14710000000000001,0.14369999999999999]
["Greece",":",9.7799999999999998E-2,0.1052,0.1132,0.1186,0.105,0.1055,0.1069,0.1109,0.1159,0.1178,0.11849999999999999,0.1249,0.1245,0.13020000000000001,0.13700000000000001,0.13250000000000001,0.1242,0.1232]
["Spain",":",0.1105,0.11119999999999999,0.1197,0.12520000000000001,0.127,0.1326,0.13159999999999999,0.13109999999999999,0.1389,0.14560000000000001,0.14829999999999999,0.14269999999999999,0.14580000000000001,0.152,0.1482,0.15029999999999999,0.14380000000000001,0.13950000000000001]
["France",":",6.6600000000000006E-2,7.7200000000000005E-2,7.1400000000000005E-2,8.3400000000000002E-2,7.5899999999999995E-2,8.4400000000000003E-2,7.9399999999999998E-2,8.8499999999999995E-2,8.4500000000000006E-2,8.6699999999999999E-2,8.6400000000000005E-2,9.0800000000000006E-2,9.0399999999999994E-2,9.3700000000000006E-2,8.9899999999999994E-2,9.4399999999999998E-2,9.1399999999999995E-2,8.9599999999999999E-2]
["Croatia",8.0199999999999994E-2,7.7899999999999997E-2,7.8399999999999997E-2,9.8900000000000002E-2,9.7500000000000003E-2,0.1014,0.10580000000000001,0.1031,0.1037,0.10150000000000001,0.104,0.1113,0.1118,0.1082,0.1061,0.104,0.10249999999999999,0.1027,0.10050000000000001]
["Italy",":",":",":",":",":",":",":",0.1174,0.1326,0.14000000000000001,0.13220000000000001,0.14130000000000001,0.13350000000000001,0.1293,0.1236,0.12230000000000001,0.1129,0.10920000000000001,0.1013]
["Cyprus",":",0.1467,0.1633,0.1905,0.14599999999999999,0.1552,0.17169999999999999,0.1777,0.18490000000000001,0.21820000000000001,0.26119999999999999,0.23230000000000001,0.2293,0.20630000000000001,0.19189999999999999,0.1953,0.159,0.1517,0.1216]
["Latvia",":",7.1800000000000003E-2,7.6399999999999996E-2,9.0800000000000006E-2,9.6000000000000002E-2,9.6699999999999994E-2,9.5600000000000004E-2,9.6199999999999994E-2,0.1055,0.1193,0.11840000000000001,0.1023,0.1047,9.8199999999999996E-2,0.10150000000000001,0.10340000000000001,0.105,0.1041,0.1017]
["Lithuania",":",8.6400000000000005E-2,9.4299999999999995E-2,9.5100000000000004E-2,0.1026,9.2100000000000001E-2,0.10920000000000001,0.10730000000000001,0.11360000000000001,0.1139,0.1198,0.1197,0.1017,0.1021,0.1024,0.10299999999999999,9.2100000000000001E-2,9.2899999999999996E-2,8.9399999999999993E-2]
["Luxembourg",0.12709999999999999,0.10639999999999999,0.10639999999999999,0.10639999999999999,0.1255,0.12709999999999999,0.10879999999999999,0.1095,0.10920000000000001,0.1101,0.1134,0.112,0.1105,0.1115,0.1077,0.1055,9.4299999999999995E-2,9.4399999999999998E-2,9.2600000000000002E-2]
["Hungary",":",0.1118,0.13289999999999999,0.13439999999999999,0.12759999999999999,0.1205,0.1075,0.1028,0.1071,0.10349999999999999,0.10290000000000001,0.1067,0.1024,0.1,9.4E-2,9.2100000000000001E-2,8.8300000000000003E-2,8.7800000000000003E-2,8.4400000000000003E-2]
["Malta",":",0.1288,0.12889999999999999,0.1764,0.16400000000000001,0.14249999999999999,0.2,0.20100000000000001,0.2,0.2,0.20100000000000001,0.20100000000000001,0.20100000000000001,0.2,0.2,0.20100000000000001,0.1784,0.1555,0.1578]
["Netherlands",0.10589999999999999,0.10489999999999999,0.10100000000000001,0.104,0.1109,0.1087,9.9900000000000003E-2,9.8699999999999996E-2,9.6799999999999997E-2,9.7799999999999998E-2,9.7699999999999995E-2,9.8100000000000007E-2,9.3600000000000003E-2,9.4500000000000001E-2,9.3100000000000002E-2,9.35E-2,8.9599999999999999E-2,8.7300000000000003E-2,7.9500000000000001E-2]
["Austria",":",0.1008,0.1074,0.10440000000000001,0.11360000000000001,0.1124,0.1079,0.1082,0.1077,0.108,0.1075,0.1074,0.1062,0.1053,0.1012,9.6000000000000002E-2,9.1700000000000004E-2,9.1499999999999998E-2,8.9800000000000005E-2]
["Poland",":",0.1003,9.6600000000000005E-2,0.10050000000000001,0.1,0.10680000000000001,0.1123,0.11409999999999999,0.1154,0.1096,0.1125,0.11509999999999999,0.113,0.1094,0.1051,0.1071,0.11119999999999999,0.1086,0.1021]
["Portugal",":",8.9599999999999999E-2,8.3400000000000002E-2,8.3099999999999993E-2,0.1026,0.1062,9.5200000000000007E-2,9.1999999999999998E-2,9.1999999999999998E-2,9.4100000000000003E-2,0.1021,0.1053,0.11459999999999999,0.1116,0.12889999999999999,0.12720000000000001,0.1249,0.1226,0.12379999999999999]
["Romania",":",0.1067,0.1,0.1081,9.7000000000000003E-2,9.7000000000000003E-2,0.1016,9.7799999999999998E-2,9.8699999999999996E-2,9.6799999999999997E-2,9.4700000000000006E-2,9.0499999999999997E-2,0.106,9.7900000000000001E-2,9.35E-2,8.8099999999999998E-2,8.6699999999999999E-2,8.4099999999999994E-2,7.9500000000000001E-2]
["Slovenia",":",0.1066,0.12,0.125,0.12839999999999999,0.12379999999999999,0.1105,0.1094,0.10580000000000001,0.1055,0.1057,0.10589999999999999,0.11459999999999999,0.1014,9.4200000000000006E-2,9.2799999999999994E-2,9.0700000000000003E-2,8.9499999999999996E-2,8.7099999999999997E-2]
["Slovakia",":",0.12540000000000001,0.1424,0.15129999999999999,0.16689999999999999,0.1666,0.14380000000000001,0.14610000000000001,0.14599999999999999,0.14660000000000001,0.1522,0.1507,0.14749999999999999,0.1489,0.13669999999999999,0.1361,0.13339999999999999,0.1336,0.13059999999999999]
["Finland",6.6400000000000001E-2,6.5299999999999997E-2,6.9400000000000003E-2,7.3300000000000004E-2,7.5300000000000006E-2,7.4700000000000003E-2,7.6999999999999999E-2,7.6999999999999999E-2,8.0500000000000002E-2,8.1000000000000003E-2,8.0799999999999997E-2,8.1100000000000005E-2,8.2500000000000004E-2,8.2000000000000003E-2,8.0600000000000005E-2,7.9000000000000001E-2,7.7100000000000002E-2,7.6499999999999999E-2,7.5800000000000006E-2]
["Sweden",7.1999999999999995E-2,7.5300000000000006E-2,7.9200000000000007E-2,8.6800000000000002E-2,7.5800000000000006E-2,7.7499999999999999E-2,9.0200000000000002E-2,9.3899999999999997E-2,0.10050000000000001,9.3100000000000002E-2,9.1899999999999996E-2,8.9800000000000005E-2,8.8499999999999995E-2,8.6099999999999996E-2,8.1199999999999994E-2,7.6899999999999996E-2,7.17E-2,6.9599999999999995E-2,7.0999999999999994E-2]
["United Kingdom",0.1128,0.12089999999999999,0.1067,0.11260000000000001,0.11360000000000001,0.11169999999999999,0.1124,0.1145,0.11070000000000001,0.1153,0.1249,0.13,0.12509999999999999,0.13039999999999999,0.13919999999999999,0.1447,0.1613,0.16350000000000001,0.14729999999999999]
[]
["Special value:"]
[":","not available"]
[]
["PRODUCT","Electrical energy"]
["CONSOM","Band IC : 500 MWh < Consumption < 2 000 MWh"]
["UNIT","Kilowatt-hour"]
["TAX","Excluding taxes and levies"]
["CURRENCY","Euro"]
[]
["GEO/TIME","2007S1","2007S2","2008S1","2008S2","2009S1","2009S2","2010S1","2010S2","2011S1","2011S2","2012S1","2012S2","2013S1","2013S2","2014S1","2014S2","2015S1","2015S2","2016S1"]
["European Union (28 countries)",":",8.5099999999999995E-2,8.7999999999999995E-2,9.2299999999999993E-2,9.5500000000000002E-2,9.1399999999999995E-2,9.1300000000000006E-2,9.0899999999999995E-2,9.2799999999999994E-2,9.3100000000000002E-2,9.5600000000000004E-2,9.4100000000000003E-2,9.3799999999999994E-2,9.2799999999999994E-2,9.1600000000000001E-2,8.9099999999999999E-2,8.8999999999999996E-2,8.7900000000000006E-2,8.3900000000000002E-2]
["Belgium",":",8.5300000000000001E-2,9.8799999999999999E-2,8.5900000000000004E-2,0.1026,9.8699999999999996E-2,9.4299999999999995E-2,9.4200000000000006E-2,9.7699999999999995E-2,0.1014,9.5000000000000001E-2,9.6100000000000005E-2,9.1399999999999995E-2,9.1800000000000007E-2,9.1600000000000001E-2,8.7900000000000006E-2,8.9800000000000005E-2,9.1999999999999998E-2,8.5000000000000006E-2]
["Bulgaria",":",5.62E-2,5.57E-2,6.4399999999999999E-2,6.3899999999999998E-2,6.3399999999999998E-2,6.3899999999999998E-2,6.54E-2,6.3799999999999996E-2,6.5699999999999995E-2,6.8400000000000002E-2,7.6600000000000001E-2,8.0299999999999996E-2,7.1599999999999997E-2,7.3599999999999999E-2,7.4700000000000003E-2,6.8199999999999997E-2,7.7200000000000005E-2,9.9199999999999997E-2]
["Czech Republic",":",9.4600000000000004E-2,0.1095,0.1108,0.1057,0.111,0.1022,0.107,0.10970000000000001,0.1071,0.1028,0.1017,0.1012,9.7900000000000001E-2,8.1900000000000001E-2,8.09E-2,7.6100000000000001E-2,7.7299999999999994E-2,7.1999999999999995E-2]
["Denmark",":",7.6499999999999999E-2,7.0699999999999999E-2,8.3099999999999993E-2,6.0999999999999999E-2,6.3E-2,7.2099999999999997E-2,7.6399999999999996E-2,7.8399999999999997E-2,6.9500000000000006E-2,6.4500000000000002E-2,6.2199999999999998E-2,6.6100000000000006E-2,6.4199999999999993E-2,6.54E-2,6.6600000000000006E-2,6.0900000000000003E-2,5.8500000000000003E-2,6.0199999999999997E-2]
["Germany (until 1990 former territory of the FRG)",8.5699999999999998E-2,8.9399999999999993E-2,9.2899999999999996E-2,9.5100000000000004E-2,9.7500000000000003E-2,9.5799999999999996E-2,9.2100000000000001E-2,9.1399999999999995E-2,0.09,8.9899999999999994E-2,8.9499999999999996E-2,8.7800000000000003E-2,8.5999999999999993E-2,9.0499999999999997E-2,8.4400000000000003E-2,8.0799999999999997E-2,8.09E-2,8.1299999999999997E-2,7.8799999999999995E-2]
["Estonia",":",5.1799999999999999E-2,5.1400000000000001E-2,5.5E-2,5.8700000000000002E-2,5.7500000000000002E-2,5.7299999999999997E-2,6.0400000000000002E-2,6.1600000000000002E-2,6.4899999999999999E-2,6.4699999999999994E-2,6.8199999999999997E-2,8.4199999999999997E-2,8.3799999999999999E-2,7.9399999999999998E-2,8.09E-2,7.5499999999999998E-2,8.2400000000000001E-2,7.3700000000000002E-2]
["Ireland",":",0.1235,0.13020000000000001,0.1419,0.1206,0.11700000000000001,0.1118,0.1124,0.11210000000000001,0.126,0.1293,0.13669999999999999,0.1331,0.1333,0.1303,0.12770000000000001,0.12939999999999999,0.1231,0.1198]
["Greece",":",7.8899999999999998E-2,8.6099999999999996E-2,9.1999999999999998E-2,9.4799999999999995E-2,8.5300000000000001E-2,8.5500000000000007E-2,8.7599999999999997E-2,9.1700000000000004E-2,9.8199999999999996E-2,0.10059999999999999,0.1028,0.104,0.1019,0.109,0.10340000000000001,0.1037,0.1022,9.2299999999999993E-2]
["Spain",":",9.1200000000000003E-2,9.1499999999999998E-2,0.1016,0.10979999999999999,0.1066,0.111,0.104,0.1082,0.11,0.11550000000000001,0.1138,0.11650000000000001,0.1143,0.11849999999999999,0.111,0.1116,0.10780000000000001,0.1051]
["France",":",5.1999999999999998E-2,5.9900000000000002E-2,5.62E-2,6.6699999999999995E-2,5.91E-2,6.8699999999999997E-2,6.2700000000000006E-2,7.22E-2,6.6799999999999998E-2,8.09E-2,6.4000000000000001E-2,7.8100000000000003E-2,6.6400000000000001E-2,7.6499999999999999E-2,7.0900000000000005E-2,7.5700000000000003E-2,7.0099999999999996E-2,7.1400000000000005E-2]
["Croatia",6.6600000000000006E-2,7.2400000000000006E-2,7.4300000000000005E-2,9.3299999999999994E-2,8.5300000000000001E-2,8.8999999999999996E-2,9.3200000000000005E-2,8.9700000000000002E-2,0.09,8.8599999999999998E-2,8.9200000000000002E-2,9.3299999999999994E-2,9.4200000000000006E-2,9.1300000000000006E-2,9.0300000000000005E-2,8.6699999999999999E-2,8.6900000000000005E-2,8.7499999999999994E-2,8.5099999999999995E-2]
["Italy",":",":",":",":",":",":",":",0.1116,0.1145,0.1195,0.1193,0.1231,0.11219999999999999,0.1119,0.108,0.1052,9.4299999999999995E-2,9.1899999999999996E-2,8.4199999999999997E-2]
["Cyprus",":",0.13689999999999999,0.14050000000000001,0.17849999999999999,0.1164,0.1472,0.14829999999999999,0.16569999999999999,0.1605,0.2041,0.21709999999999999,0.22620000000000001,0.20019999999999999,0.19320000000000001,0.16719999999999999,0.18310000000000001,0.13159999999999999,0.13189999999999999,9.5399999999999999E-2]
["Latvia",":",5.9499999999999997E-2,6.6000000000000003E-2,7.9699999999999993E-2,8.9599999999999999E-2,8.9300000000000004E-2,8.8999999999999996E-2,9.0700000000000003E-2,9.8400000000000001E-2,0.1101,0.1103,9.3399999999999997E-2,9.5000000000000001E-2,8.8300000000000003E-2,9.0300000000000005E-2,9.1499999999999998E-2,9.0999999999999998E-2,9.1499999999999998E-2,8.9700000000000002E-2]
["Lithuania",":",7.4399999999999994E-2,8.2900000000000001E-2,8.3799999999999999E-2,9.2399999999999996E-2,7.9000000000000001E-2,9.9099999999999994E-2,9.9500000000000005E-2,0.1045,0.10340000000000001,0.1135,0.114,9.5600000000000004E-2,9.5299999999999996E-2,9.5799999999999996E-2,9.6100000000000005E-2,8.1799999999999998E-2,8.2799999999999999E-2,7.7700000000000005E-2]
["Luxembourg",0.10009999999999999,9.2700000000000005E-2,9.2700000000000005E-2,9.2700000000000005E-2,0.1096,0.1118,9.5600000000000004E-2,9.5699999999999993E-2,9.6000000000000002E-2,9.5699999999999993E-2,0.1007,9.7000000000000003E-2,9.4E-2,9.5799999999999996E-2,9.4899999999999998E-2,9.2799999999999994E-2,8.4199999999999997E-2,8.0399999999999999E-2,7.8399999999999997E-2]
["Hungary",":",9.9699999999999997E-2,0.1119,0.1195,0.1221,0.12759999999999999,0.1037,0.1031,9.7799999999999998E-2,9.3399999999999997E-2,8.8800000000000004E-2,9.3700000000000006E-2,9.0399999999999994E-2,9.1399999999999995E-2,8.3599999999999994E-2,8.2199999999999995E-2,7.7799999999999994E-2,7.8299999999999995E-2,7.2900000000000006E-2]
["Malta",":",0.1221,0.1221,0.16189999999999999,0.15060000000000001,0.12909999999999999,0.17199999999999999,0.18099999999999999,0.17799999999999999,0.18,0.17899999999999999,0.18099999999999999,0.17899999999999999,0.17799999999999999,0.17699999999999999,0.17799999999999999,0.15989999999999999,0.14050000000000001,0.14219999999999999]
["Netherlands",9.01E-2,9.1499999999999998E-2,9.0999999999999998E-2,9.2799999999999994E-2,9.6199999999999994E-2,9.5899999999999999E-2,8.6300000000000002E-2,8.6499999999999994E-2,8.3699999999999997E-2,8.4400000000000003E-2,8.2400000000000001E-2,8.5199999999999998E-2,7.9500000000000001E-2,8.2600000000000007E-2,7.6899999999999996E-2,7.6899999999999996E-2,7.22E-2,7.1199999999999999E-2,6.5199999999999994E-2]
["Austria",":",7.7399999999999997E-2,8.9700000000000002E-2,9.0499999999999997E-2,9.9099999999999994E-2,9.7000000000000003E-2,9.2200000000000004E-2,9.2200000000000004E-2,9.1700000000000004E-2,9.1600000000000001E-2,9.06E-2,8.9300000000000004E-2,8.72E-2,8.6499999999999994E-2,8.2699999999999996E-2,7.8600000000000003E-2,7.3099999999999998E-2,7.2900000000000006E-2,7.0499999999999993E-2]
["Poland",":",8.43E-2,8.14E-2,8.5300000000000001E-2,8.5699999999999998E-2,8.8599999999999998E-2,9.2899999999999996E-2,9.3700000000000006E-2,9.6299999999999997E-2,8.9499999999999996E-2,8.6900000000000005E-2,9.0700000000000003E-2,8.8300000000000003E-2,8.3000000000000004E-2,7.7700000000000005E-2,7.8600000000000003E-2,8.3299999999999999E-2,8.1299999999999997E-2,7.6200000000000004E-2]
["Portugal",":",7.2800000000000004E-2,7.8200000000000006E-2,7.8100000000000003E-2,9.1899999999999996E-2,9.3200000000000005E-2,8.9599999999999999E-2,8.6699999999999999E-2,9.0300000000000005E-2,8.9499999999999996E-2,0.105,9.9199999999999997E-2,0.10150000000000001,0.10100000000000001,0.10290000000000001,0.1052,9.8900000000000002E-2,0.10009999999999999,9.4299999999999995E-2]
["Romania",":",9.0800000000000006E-2,8.8599999999999998E-2,9.5000000000000001E-2,8.1100000000000005E-2,8.2799999999999999E-2,8.5000000000000006E-2,8.0799999999999997E-2,8.0299999999999996E-2,8.0299999999999996E-2,8.3299999999999999E-2,7.6399999999999996E-2,9.0399999999999994E-2,8.2000000000000003E-2,7.5300000000000006E-2,7.0999999999999994E-2,7.0699999999999999E-2,6.8099999999999994E-2,6.3500000000000001E-2]
["Slovenia",":",8.72E-2,9.0399999999999994E-2,9.5100000000000004E-2,9.8699999999999996E-2,9.2100000000000001E-2,9.1700000000000004E-2,9.0399999999999994E-2,8.8900000000000007E-2,8.8900000000000007E-2,8.72E-2,8.6599999999999996E-2,8.3799999999999999E-2,8.2600000000000007E-2,7.5399999999999995E-2,7.3599999999999999E-2,7.1400000000000005E-2,7.1099999999999997E-2,6.7799999999999999E-2]
["Slovakia",":",0.1048,0.1197,0.1283,0.1416,0.1396,0.11609999999999999,0.11849999999999999,0.12330000000000001,0.12180000000000001,0.1273,0.1227,0.1242,0.12239999999999999,0.11070000000000001,0.1129,0.1081,0.1077,0.1047]
["Finland",5.5399999999999998E-2,5.6300000000000003E-2,6.1400000000000003E-2,6.4699999999999994E-2,6.6299999999999998E-2,6.5600000000000006E-2,6.6699999999999995E-2,6.5699999999999995E-2,6.8599999999999994E-2,6.8000000000000005E-2,6.8400000000000002E-2,6.7299999999999999E-2,6.7900000000000002E-2,6.7799999999999999E-2,6.6400000000000001E-2,6.5199999999999994E-2,6.3700000000000007E-2,6.3500000000000001E-2,6.1400000000000003E-2]
["Sweden",6.1699999999999998E-2,6.5100000000000005E-2,6.88E-2,7.6799999999999993E-2,6.6199999999999995E-2,6.8400000000000002E-2,0.08,8.3599999999999994E-2,8.8700000000000001E-2,8.2299999999999998E-2,8.0399999999999999E-2,7.6999999999999999E-2,7.9899999999999999E-2,7.4099999999999999E-2,7.0199999999999999E-2,6.6100000000000006E-2,6.1699999999999998E-2,5.8500000000000003E-2,6.1100000000000002E-2]
["United Kingdom",0.1057,0.10780000000000001,9.3700000000000006E-2,0.105,0.1077,9.7299999999999998E-2,9.4700000000000006E-2,9.5799999999999996E-2,9.3899999999999997E-2,9.98E-2,0.1095,0.11459999999999999,0.1124,0.11559999999999999,0.1246,0.129,0.14349999999999999,0.1462,0.13150000000000001]
[]
["Special value:"]
[":","not available"]
[]
["PRODUCT","Electrical energy"]
["CONSOM","Band ID : 2 000 MWh < Consumption < 20 000 MWh"]
["UNIT","Kilowatt-hour"]
["TAX","Excluding taxes and levies"]
["CURRENCY","Euro"]
[]
["GEO/TIME","2007S1","2007S2","2008S1","2008S2","2009S1","2009S2","2010S1","2010S2","2011S1","2011S2","2012S1","2012S2","2013S1","2013S2","2014S1","2014S2","2015S1","2015S2","2016S1"]
["European Union (28 countries)",":",7.4800000000000005E-2,7.9100000000000004E-2,8.3400000000000002E-2,8.5000000000000006E-2,8.14E-2,8.0500000000000002E-2,8.0600000000000005E-2,8.1799999999999998E-2,8.1699999999999995E-2,8.5999999999999993E-2,8.4199999999999997E-2,8.3199999999999996E-2,8.3699999999999997E-2,8.0399999999999999E-2,0.08,7.8700000000000006E-2,7.9100000000000004E-2,7.3700000000000002E-2]
["Belgium",":",7.4800000000000005E-2,8.5599999999999996E-2,8.3799999999999999E-2,9.2799999999999994E-2,9.0200000000000002E-2,8.3699999999999997E-2,8.3599999999999994E-2,8.5999999999999993E-2,8.9899999999999994E-2,8.8599999999999998E-2,8.4099999999999994E-2,7.8299999999999995E-2,8.3199999999999996E-2,8.0600000000000005E-2,7.9299999999999995E-2,7.7899999999999997E-2,0.08,7.4999999999999997E-2]
["Bulgaria",":",5.0099999999999999E-2,4.9099999999999998E-2,5.8799999999999998E-2,5.8799999999999998E-2,5.7799999999999997E-2,5.6800000000000003E-2,5.8799999999999998E-2,5.74E-2,5.8200000000000002E-2,6.2399999999999997E-2,6.88E-2,6.9099999999999995E-2,6.2E-2,6.6900000000000001E-2,6.7000000000000004E-2,6.0900000000000003E-2,6.9000000000000006E-2,7.5399999999999995E-2]
["Czech Republic",":",7.7799999999999994E-2,9.1300000000000006E-2,9.2999999999999999E-2,9.2899999999999996E-2,9.6699999999999994E-2,9.2899999999999996E-2,9.5699999999999993E-2,9.8400000000000001E-2,9.5600000000000004E-2,9.5799999999999996E-2,9.6100000000000005E-2,9.6100000000000005E-2,9.4399999999999998E-2,7.7399999999999997E-2,7.6100000000000001E-2,7.0699999999999999E-2,7.0900000000000005E-2,6.2799999999999995E-2]
["Denmark",":",7.6100000000000001E-2,7.0499999999999993E-2,8.2900000000000001E-2,6.0600000000000001E-2,6.2600000000000003E-2,7.17E-2,7.5899999999999995E-2,7.8E-2,6.9000000000000006E-2,6.4000000000000001E-2,6.1800000000000001E-2,6.5600000000000006E-2,6.3799999999999996E-2,6.5100000000000005E-2,6.5699999999999995E-2,6.0699999999999997E-2,5.9400000000000001E-2,0.06]
["Germany (until 1990 former territory of the FRG)",7.4099999999999999E-2,7.7600000000000002E-2,8.3900000000000002E-2,8.3099999999999993E-2,8.43E-2,8.3299999999999999E-2,0.08,7.9000000000000001E-2,7.9100000000000004E-2,8.0399999999999999E-2,7.8600000000000003E-2,7.6999999999999999E-2,7.5600000000000001E-2,7.9399999999999998E-2,7.1999999999999995E-2,7.1400000000000005E-2,6.8599999999999994E-2,7.0499999999999993E-2,6.7100000000000007E-2]
["Estonia",":",4.3499999999999997E-2,4.3200000000000002E-2,4.7199999999999999E-2,5.0700000000000002E-2,5.0099999999999999E-2,5.4600000000000003E-2,6.0400000000000002E-2,6.1600000000000002E-2,6.3200000000000006E-2,6.4000000000000001E-2,6.7100000000000007E-2,7.7299999999999994E-2,7.6600000000000001E-2,7.1800000000000003E-2,7.2900000000000006E-2,6.8500000000000005E-2,7.5399999999999995E-2,6.6699999999999995E-2]
["Ireland",":",0.1086,0.1201,0.12759999999999999,0.107,9.6600000000000005E-2,8.3299999999999999E-2,8.5999999999999993E-2,8.5800000000000001E-2,9.4600000000000004E-2,0.1016,0.1173,0.1134,0.1138,0.1115,0.10780000000000001,0.1082,0.10299999999999999,9.3100000000000002E-2]
["Greece",":",6.7299999999999999E-2,7.3700000000000002E-2,7.9799999999999996E-2,8.2900000000000001E-2,7.3099999999999998E-2,7.3700000000000002E-2,7.4899999999999994E-2,7.6200000000000004E-2,7.9600000000000004E-2,8.5300000000000001E-2,8.7599999999999997E-2,8.7400000000000005E-2,8.6900000000000005E-2,8.9099999999999999E-2,8.5599999999999996E-2,8.2000000000000003E-2,8.3400000000000002E-2,7.2900000000000006E-2]
["Spain",":",7.9399999999999998E-2,7.9899999999999999E-2,8.4699999999999998E-2,9.0700000000000003E-2,8.8900000000000007E-2,8.8200000000000001E-2,8.5300000000000001E-2,8.72E-2,8.9099999999999999E-2,9.6600000000000005E-2,9.5399999999999999E-2,9.9500000000000005E-2,0.1027,9.8799999999999999E-2,9.7900000000000001E-2,9.2100000000000001E-2,9.0899999999999995E-2,8.5800000000000001E-2]
["France",":",4.7100000000000003E-2,5.3400000000000003E-2,5.0799999999999998E-2,6.2E-2,5.5199999999999999E-2,6.3500000000000001E-2,5.67E-2,6.5199999999999994E-2,5.91E-2,7.0300000000000001E-2,5.7599999999999998E-2,6.8000000000000005E-2,5.8500000000000003E-2,6.6299999999999998E-2,6.1800000000000001E-2,6.7100000000000007E-2,6.4500000000000002E-2,6.2700000000000006E-2]
["Croatia",4.2099999999999999E-2,6.1499999999999999E-2,6.0499999999999998E-2,7.9399999999999998E-2,7.1800000000000003E-2,7.6700000000000004E-2,7.9299999999999995E-2,7.6999999999999999E-2,7.6799999999999993E-2,7.5499999999999998E-2,7.4999999999999997E-2,7.9699999999999993E-2,8.0500000000000002E-2,7.6899999999999996E-2,7.6799999999999993E-2,7.3700000000000002E-2,7.4499999999999997E-2,7.5800000000000006E-2,7.3200000000000001E-2]
["Italy",":",":",":",":",":",":",":",0.1045,0.1007,0.1038,0.1169,0.115,0.1019,0.104,9.4700000000000006E-2,9.7600000000000006E-2,8.6999999999999994E-2,8.4500000000000006E-2,7.7399999999999997E-2]
["Cyprus",":",0.12609999999999999,0.1295,0.1694,0.1061,0.13400000000000001,0.13780000000000001,0.1547,0.14449999999999999,0.19040000000000001,0.20250000000000001,0.21290000000000001,0.18770000000000001,0.18149999999999999,0.156,0.16689999999999999,0.1178,0.11509999999999999,8.1799999999999998E-2]
["Latvia",":",4.99E-2,5.8599999999999999E-2,7.1199999999999999E-2,8.4900000000000003E-2,8.3500000000000005E-2,8.2600000000000007E-2,8.5000000000000006E-2,9.0499999999999997E-2,9.8900000000000002E-2,9.9000000000000005E-2,8.2299999999999998E-2,8.6800000000000002E-2,7.9600000000000004E-2,8.0699999999999994E-2,0.08,8.1299999999999997E-2,8.0399999999999999E-2,8.0600000000000005E-2]
["Lithuania",":",6.2700000000000006E-2,7.0099999999999996E-2,7.0400000000000004E-2,7.8100000000000003E-2,6.6600000000000006E-2,9.1200000000000003E-2,9.6100000000000005E-2,0.1017,0.1023,0.1072,0.1071,9.1399999999999995E-2,8.5900000000000004E-2,9.6000000000000002E-2,9.6100000000000005E-2,7.3800000000000004E-2,7.3499999999999996E-2,6.7500000000000004E-2]
["Luxembourg",":",":",":",":",9.01E-2,9.1800000000000007E-2,7.6100000000000001E-2,7.6799999999999993E-2,7.0999999999999994E-2,7.1099999999999997E-2,7.1800000000000003E-2,7.6600000000000001E-2,7.2099999999999997E-2,7.0400000000000004E-2,6.3700000000000007E-2,6.54E-2,5.5599999999999997E-2,5.5800000000000002E-2,5.1200000000000002E-2]
["Hungary",":",8.6199999999999999E-2,9.7600000000000006E-2,0.10639999999999999,0.10829999999999999,0.1125,9.1899999999999996E-2,9.1899999999999996E-2,9.1700000000000004E-2,8.7400000000000005E-2,8.5699999999999998E-2,9.0300000000000005E-2,8.77E-2,8.9499999999999996E-2,8.1100000000000005E-2,7.9899999999999999E-2,7.6300000000000007E-2,7.6700000000000004E-2,6.8699999999999997E-2]
["Malta",":",9.1800000000000007E-2,9.1800000000000007E-2,0.1323,0.123,8.5999999999999993E-2,0.14899999999999999,0.16,0.158,0.157,0.159,0.158,0.159,0.155,0.157,0.158,0.14119999999999999,0.1239,0.1221]
["Netherlands",7.8399999999999997E-2,7.8200000000000006E-2,7.8700000000000006E-2,8.1600000000000006E-2,8.7499999999999994E-2,8.6800000000000002E-2,7.7499999999999999E-2,7.8299999999999995E-2,7.5200000000000003E-2,7.6399999999999996E-2,7.3099999999999998E-2,7.5999999999999998E-2,7.5999999999999998E-2,7.5200000000000003E-2,7.1499999999999994E-2,7.1800000000000003E-2,6.7199999999999996E-2,6.6000000000000003E-2,6.13E-2]
["Austria",":",6.5500000000000003E-2,7.6799999999999993E-2,8.1299999999999997E-2,9.0899999999999995E-2,9.0399999999999994E-2,8.43E-2,8.4599999999999995E-2,8.2299999999999998E-2,8.2400000000000001E-2,8.0600000000000005E-2,7.9299999999999995E-2,7.7299999999999994E-2,7.7200000000000005E-2,7.3499999999999996E-2,7.0400000000000004E-2,6.4699999999999994E-2,6.5100000000000005E-2,6.0400000000000002E-2]
["Poland",":",6.2600000000000003E-2,7.6799999999999993E-2,7.3800000000000004E-2,7.6100000000000001E-2,7.9399999999999998E-2,8.0299999999999996E-2,8.09E-2,8.1100000000000005E-2,7.4200000000000002E-2,7.6700000000000004E-2,7.9699999999999993E-2,7.4800000000000005E-2,7.0599999999999996E-2,6.5600000000000006E-2,6.6500000000000004E-2,7.1900000000000006E-2,7.0499999999999993E-2,6.7100000000000007E-2]
["Portugal",":",6.3700000000000007E-2,6.9800000000000001E-2,7.0400000000000004E-2,8.3000000000000004E-2,8.2199999999999995E-2,7.5899999999999995E-2,7.6100000000000001E-2,8.4099999999999994E-2,8.2900000000000001E-2,9.9099999999999994E-2,8.9700000000000002E-2,9.1200000000000003E-2,9.6799999999999997E-2,8.8999999999999996E-2,8.9099999999999999E-2,9.0200000000000002E-2,9.0800000000000006E-2,8.5500000000000007E-2]
["Romania",":",7.9000000000000001E-2,7.8299999999999995E-2,7.9899999999999999E-2,7.3400000000000007E-2,7.1400000000000005E-2,7.1599999999999997E-2,6.9400000000000003E-2,7.0300000000000001E-2,7.0300000000000001E-2,7.2999999999999995E-2,6.7000000000000004E-2,7.6100000000000001E-2,7.0599999999999996E-2,6.6600000000000006E-2,6.3399999999999998E-2,6.25E-2,5.9799999999999999E-2,5.5599999999999997E-2]
["Slovenia",":",7.0900000000000005E-2,7.4200000000000002E-2,7.6999999999999999E-2,7.7299999999999994E-2,7.5999999999999998E-2,7.6999999999999999E-2,7.6399999999999996E-2,7.5499999999999998E-2,7.7100000000000002E-2,7.6700000000000004E-2,7.6999999999999999E-2,7.3999999999999996E-2,7.3599999999999999E-2,6.7199999999999996E-2,6.6299999999999998E-2,6.3E-2,6.3100000000000003E-2,5.9400000000000001E-2]
["Slovakia",":",9.5200000000000007E-2,0.10829999999999999,0.1164,0.1263,0.12559999999999999,0.1045,0.10730000000000001,0.1113,0.1133,0.11749999999999999,0.1115,0.1139,0.1104,9.9199999999999997E-2,0.1008,9.6500000000000002E-2,9.4100000000000003E-2,9.2299999999999993E-2]
["Finland",5.33E-2,5.3800000000000001E-2,5.8400000000000001E-2,6.1600000000000002E-2,6.3100000000000003E-2,6.3799999999999996E-2,6.5299999999999997E-2,6.4100000000000004E-2,6.6299999999999998E-2,6.5299999999999997E-2,6.5000000000000002E-2,6.4799999999999996E-2,6.4100000000000004E-2,6.4699999999999994E-2,6.2600000000000003E-2,6.3E-2,5.9200000000000003E-2,6.1100000000000002E-2,5.8000000000000003E-2]
["Sweden",5.1799999999999999E-2,5.7700000000000001E-2,6.1400000000000003E-2,6.8099999999999994E-2,5.8700000000000002E-2,5.96E-2,7.1300000000000002E-2,7.2999999999999995E-2,7.8299999999999995E-2,7.0300000000000001E-2,7.0699999999999999E-2,6.6699999999999995E-2,6.8400000000000002E-2,6.6699999999999995E-2,6.3E-2,5.9299999999999999E-2,5.3999999999999999E-2,5.0900000000000001E-2,5.2499999999999998E-2]
["United Kingdom",9.8000000000000004E-2,9.4399999999999998E-2,8.4400000000000003E-2,9.7500000000000003E-2,9.8599999999999993E-2,8.6599999999999996E-2,8.3900000000000002E-2,8.5300000000000001E-2,8.5599999999999996E-2,8.8999999999999996E-2,9.9000000000000005E-2,0.1046,0.10249999999999999,0.1075,0.1142,0.1179,0.13339999999999999,0.1351,0.1215]
[]
["Special value:"]
[":","not available"]
[]
["PRODUCT","Electrical energy"]
["CONSOM","Band IE : 20 000 MWh < Consumption < 70 000 MWh"]
["UNIT","Kilowatt-hour"]
["TAX","Excluding taxes and levies"]
["CURRENCY","Euro"]
[]
["GEO/TIME","2007S1","2007S2","2008S1","2008S2","2009S1","2009S2","2010S1","2010S2","2011S1","2011S2","2012S1","2012S2","2013S1","2013S2","2014S1","2014S2","2015S1","2015S2","2016S1"]
["European Union (28 countries)",":",6.88E-2,7.3599999999999999E-2,7.7399999999999997E-2,7.8399999999999997E-2,7.4899999999999994E-2,7.2999999999999995E-2,7.3099999999999998E-2,7.46E-2,7.46E-2,7.6499999999999999E-2,7.7200000000000005E-2,7.5499999999999998E-2,7.5200000000000003E-2,7.1800000000000003E-2,7.1999999999999995E-2,7.0400000000000004E-2,7.1199999999999999E-2,6.4699999999999994E-2]
["Belgium",":",6.6199999999999995E-2,7.2700000000000001E-2,7.3200000000000001E-2,8.5599999999999996E-2,8.4099999999999994E-2,7.1599999999999997E-2,7.1400000000000005E-2,7.4099999999999999E-2,7.8399999999999997E-2,7.0599999999999996E-2,7.0599999999999996E-2,6.0299999999999999E-2,7.1400000000000005E-2,6.5600000000000006E-2,6.6900000000000001E-2,6.4399999999999999E-2,6.6100000000000006E-2,5.8700000000000002E-2]
["Bulgaria",":",4.24E-2,4.0399999999999998E-2,5.11E-2,5.2699999999999997E-2,5.11E-2,5.2200000000000003E-2,5.0999999999999997E-2,5.04E-2,5.0099999999999999E-2,5.5399999999999998E-2,6.13E-2,6.0999999999999999E-2,5.3999999999999999E-2,5.67E-2,5.7000000000000002E-2,5.3999999999999999E-2,6.3500000000000001E-2,6.9699999999999998E-2]
["Czech Republic",":",6.6799999999999998E-2,8.1000000000000003E-2,8.2500000000000004E-2,8.6199999999999999E-2,9.01E-2,8.9399999999999993E-2,9.2299999999999993E-2,0.1008,9.8199999999999996E-2,9.3200000000000005E-2,9.2399999999999996E-2,9.4799999999999995E-2,9.2499999999999999E-2,7.9100000000000004E-2,7.8700000000000006E-2,7.3099999999999998E-2,7.3499999999999996E-2,6.5000000000000002E-2]
["Denmark",":",7.0800000000000002E-2,6.5500000000000003E-2,7.7799999999999994E-2,5.4100000000000002E-2,5.6300000000000003E-2,6.5000000000000002E-2,6.93E-2,7.0300000000000001E-2,6.13E-2,5.57E-2,5.3699999999999998E-2,5.7099999999999998E-2,5.4699999999999999E-2,5.2999999999999999E-2,5.3900000000000003E-2,4.87E-2,4.65E-2,4.7300000000000002E-2]
["Germany (until 1990 former territory of the FRG)",6.6699999999999995E-2,7.2400000000000006E-2,7.9100000000000004E-2,7.9799999999999996E-2,7.8799999999999995E-2,7.5399999999999995E-2,7.0000000000000007E-2,7.1400000000000005E-2,7.0699999999999999E-2,7.1599999999999997E-2,7.1999999999999995E-2,7.1099999999999997E-2,7.0199999999999999E-2,6.9500000000000006E-2,6.3700000000000007E-2,6.2700000000000006E-2,5.9499999999999997E-2,6.3899999999999998E-2,5.4600000000000003E-2]
["Estonia",":",3.32E-2,3.5299999999999998E-2,3.9399999999999998E-2,4.19E-2,3.9699999999999999E-2,4.9000000000000002E-2,5.5E-2,5.8500000000000003E-2,6.1800000000000001E-2,6.0999999999999999E-2,6.0900000000000003E-2,7.0300000000000001E-2,6.7199999999999996E-2,6.3E-2,6.3700000000000007E-2,6.1199999999999997E-2,0.06,5.79E-2]
["Ireland",":",0.1094,0.1191,0.115,9.5699999999999993E-2,8.8300000000000003E-2,7.5700000000000003E-2,7.9399999999999998E-2,7.5499999999999998E-2,8.3500000000000005E-2,9.11E-2,0.107,0.1024,9.98E-2,9.8000000000000004E-2,9.1899999999999996E-2,9.3899999999999997E-2,9.1800000000000007E-2,8.2600000000000007E-2]
["Greece",":",6.0600000000000001E-2,6.54E-2,7.2400000000000006E-2,7.3899999999999993E-2,6.5100000000000005E-2,6.6400000000000001E-2,6.5799999999999997E-2,6.7199999999999996E-2,6.8400000000000002E-2,7.4899999999999994E-2,7.7299999999999994E-2,7.8E-2,7.7399999999999997E-2,7.22E-2,6.5799999999999997E-2,6.25E-2,6.8500000000000005E-2,6.3600000000000004E-2]
["Spain",":",6.6199999999999995E-2,6.8199999999999997E-2,7.4300000000000005E-2,7.9399999999999998E-2,7.8299999999999995E-2,7.22E-2,7.2700000000000001E-2,7.51E-2,7.7299999999999994E-2,8.3400000000000002E-2,8.3500000000000005E-2,8.2100000000000006E-2,8.2699999999999996E-2,7.4800000000000005E-2,7.9200000000000007E-2,7.9000000000000001E-2,7.7600000000000002E-2,6.9800000000000001E-2]
["France",":",4.8099999999999997E-2,5.5399999999999998E-2,5.16E-2,6.2399999999999997E-2,5.5800000000000002E-2,6.2899999999999998E-2,5.4899999999999997E-2,6.3799999999999996E-2,5.4100000000000002E-2,6.3299999999999995E-2,5.7099999999999998E-2,6.08E-2,5.67E-2,6.0100000000000001E-2,5.7599999999999998E-2,6.0699999999999997E-2,5.91E-2,5.6500000000000002E-2]
["Croatia",4.0800000000000003E-2,4.5100000000000001E-2,5.2299999999999999E-2,5.8500000000000003E-2,6.0999999999999999E-2,6.0299999999999999E-2,6.6100000000000006E-2,6.6900000000000001E-2,6.0299999999999999E-2,5.8599999999999999E-2,5.8500000000000003E-2,5.9400000000000001E-2,6.2600000000000003E-2,6.1100000000000002E-2,6.1400000000000003E-2,6.2100000000000002E-2,6.0400000000000002E-2,6.3100000000000003E-2,6.1400000000000003E-2]
["Italy",":",":",":",":",":",":",":",9.5799999999999996E-2,9.0499999999999997E-2,0.1022,9.3100000000000002E-2,0.10100000000000001,9.1200000000000003E-2,9.2600000000000002E-2,8.5300000000000001E-2,8.9300000000000004E-2,7.6700000000000004E-2,7.6499999999999999E-2,6.9199999999999998E-2]
["Cyprus",":",0.1099,0.1196,0.15179999999999999,9.8299999999999998E-2,0.11990000000000001,0.128,0.14149999999999999,0.13819999999999999,0.1792,0.19620000000000001,0.20569999999999999,":",0.16769999999999999,0.15029999999999999,0.15609999999999999,0.1105,0.1129,7.5700000000000003E-2]
["Latvia",":",4.4699999999999997E-2,5.1999999999999998E-2,6.8599999999999994E-2,8.2299999999999998E-2,7.6700000000000004E-2,8.09E-2,8.3099999999999993E-2,8.9200000000000002E-2,9.9500000000000005E-2,9.4799999999999995E-2,0.08,8.5300000000000001E-2,0.08,8.1799999999999998E-2,7.6200000000000004E-2,7.3700000000000002E-2,7.0099999999999996E-2,7.3300000000000004E-2]
["Lithuania",":",5.4800000000000001E-2,6.6799999999999998E-2,6.6100000000000006E-2,7.4099999999999999E-2,6.2199999999999998E-2,8.6499999999999994E-2,8.2000000000000003E-2,0.1002,":",0.11600000000000001,0.1162,9.9299999999999999E-2,":",9.8599999999999993E-2,9.4200000000000006E-2,6.6900000000000001E-2,6.7400000000000002E-2,6.0299999999999999E-2]
["Luxembourg",":",":",":",":",6.5299999999999997E-2,6.54E-2,6.6000000000000003E-2,6.6799999999999998E-2,6.0900000000000003E-2,6.0900000000000003E-2,6.3500000000000001E-2,6.3399999999999998E-2,6.0600000000000001E-2,6.0699999999999997E-2,5.8599999999999999E-2,5.8799999999999998E-2,5.0900000000000001E-2,4.9299999999999997E-2,4.3700000000000003E-2]
["Hungary",":",7.2300000000000003E-2,8.6499999999999994E-2,9.64E-2,0.1108,0.10340000000000001,8.0799999999999997E-2,8.4400000000000003E-2,9.9500000000000005E-2,9.2600000000000002E-2,8.8099999999999998E-2,0.09,8.9499999999999996E-2,9.0700000000000003E-2,8.0399999999999999E-2,8.0199999999999994E-2,7.5800000000000006E-2,7.5399999999999995E-2,6.6900000000000001E-2]
["Malta",":",5.8000000000000003E-2,5.8099999999999999E-2,0.1323,0.123,8.5999999999999993E-2,0.13500000000000001,0.13800000000000001,0.13700000000000001,0.13600000000000001,0.13800000000000001,0.13800000000000001,0.13900000000000001,0.13700000000000001,0.13600000000000001,0.14399999999999999,0.1275,0.11210000000000001,0.1113]
["Netherlands",7.5999999999999998E-2,7.5300000000000006E-2,7.5499999999999998E-2,8.0199999999999994E-2,8.4199999999999997E-2,8.3099999999999993E-2,6.93E-2,7.1099999999999997E-2,6.83E-2,6.9900000000000004E-2,6.7100000000000007E-2,7.0900000000000005E-2,7.0999999999999994E-2,7.4200000000000002E-2,6.7199999999999996E-2,6.6900000000000001E-2,6.3600000000000004E-2,6.2799999999999995E-2,5.67E-2]
["Austria",":",6.5299999999999997E-2,6.9099999999999995E-2,7.9399999999999998E-2,8.3299999999999999E-2,8.2600000000000007E-2,7.6300000000000007E-2,7.6600000000000001E-2,7.4999999999999997E-2,7.3999999999999996E-2,7.1300000000000002E-2,7.0800000000000002E-2,6.6600000000000006E-2,6.6199999999999995E-2,6.3799999999999996E-2,5.9799999999999999E-2,5.5100000000000003E-2,5.6899999999999999E-2,5.1700000000000003E-2]
["Poland",":",4.7E-2,6.6900000000000001E-2,7.0499999999999993E-2,7.0900000000000005E-2,7.5600000000000001E-2,7.4200000000000002E-2,7.5499999999999998E-2,7.6100000000000001E-2,6.9900000000000004E-2,7.2700000000000001E-2,7.5800000000000006E-2,6.88E-2,6.4699999999999994E-2,5.9400000000000001E-2,6.1100000000000002E-2,6.5699999999999995E-2,6.3500000000000001E-2,6.08E-2]
["Portugal",":",5.5399999999999998E-2,5.6599999999999998E-2,5.79E-2,6.6699999999999995E-2,6.8400000000000002E-2,6.5000000000000002E-2,6.4799999999999996E-2,6.5600000000000006E-2,6.8199999999999997E-2,8.1500000000000003E-2,8.0199999999999994E-2,8.0199999999999994E-2,8.1799999999999998E-2,7.3400000000000007E-2,7.6700000000000004E-2,7.3800000000000004E-2,7.4899999999999994E-2,6.83E-2]
["Romania",":",6.3799999999999996E-2,6.9900000000000004E-2,6.83E-2,6.6299999999999998E-2,6.25E-2,6.4600000000000005E-2,6.1499999999999999E-2,6.2799999999999995E-2,6.4000000000000001E-2,6.7500000000000004E-2,6.0699999999999997E-2,6.7400000000000002E-2,6.2E-2,6.0600000000000001E-2,5.33E-2,5.33E-2,5.2600000000000001E-2,4.8399999999999999E-2]
["Slovenia",":",6.1600000000000002E-2,6.1899999999999997E-2,6.2700000000000006E-2,6.0999999999999999E-2,7.1599999999999997E-2,6.6299999999999998E-2,6.6400000000000001E-2,6.7100000000000007E-2,7.0199999999999999E-2,7.0800000000000002E-2,7.1300000000000002E-2,6.6299999999999998E-2,6.5699999999999995E-2,6.0400000000000002E-2,6.0499999999999998E-2,5.6300000000000003E-2,5.6800000000000003E-2,5.28E-2]
["Slovakia",":",8.48E-2,9.6799999999999997E-2,9.8599999999999993E-2,0.10970000000000001,0.1087,9.6600000000000005E-2,9.5899999999999999E-2,0.1024,0.1002,0.105,0.106,0.10150000000000001,9.98E-2,8.9399999999999993E-2,9.0399999999999994E-2,8.8999999999999996E-2,9.7199999999999995E-2,8.1199999999999994E-2]
["Finland",3.9199999999999999E-2,4.0500000000000001E-2,5.0200000000000002E-2,5.4300000000000001E-2,5.1999999999999998E-2,5.2600000000000001E-2,5.96E-2,5.6399999999999999E-2,5.8099999999999999E-2,5.3100000000000001E-2,5.1400000000000001E-2,5.2900000000000003E-2,5.1900000000000002E-2,5.3600000000000002E-2,4.9299999999999997E-2,4.9099999999999998E-2,4.6399999999999997E-2,4.5699999999999998E-2,4.4900000000000002E-2]
["Sweden",4.6600000000000003E-2,5.21E-2,5.4899999999999997E-2,6.1499999999999999E-2,5.2200000000000003E-2,5.5500000000000001E-2,6.93E-2,6.8900000000000003E-2,7.1300000000000002E-2,6.0999999999999999E-2,6.2199999999999998E-2,5.7700000000000001E-2,6.1899999999999997E-2,5.8299999999999998E-2,5.4699999999999999E-2,5.28E-2,4.7500000000000001E-2,4.41E-2,4.5699999999999998E-2]
["United Kingdom",9.2799999999999994E-2,8.8499999999999995E-2,8.3000000000000004E-2,9.5299999999999996E-2,9.74E-2,8.43E-2,8.09E-2,7.7200000000000005E-2,8.1500000000000003E-2,8.3299999999999999E-2,9.7699999999999995E-2,0.1027,0.10340000000000001,0.1052,0.1147,0.1176,0.13109999999999999,0.1326,0.1205]
[]
["Special value:"]
[":","not available"]
[]
["PRODUCT","Electrical energy"]
["CONSOM","Band IF : 70 000 MWh < Consumption < 150 000 MWh"]
["UNIT","Kilowatt-hour"]
["TAX","Excluding taxes and levies"]
["CURRENCY","Euro"]
[]
["GEO/TIME","2007S1","2007S2","2008S1","2008S2","2009S1","2009S2","2010S1","2010S2","2011S1","2011S2","2012S1","2012S2","2013S1","2013S2","2014S1","2014S2","2015S1","2015S2","2016S1"]
["European Union (28 countries)",":",6.1199999999999997E-2,7.0000000000000007E-2,7.3999999999999996E-2,7.3300000000000004E-2,6.8900000000000003E-2,6.83E-2,7.0099999999999996E-2,7.0400000000000004E-2,6.9599999999999995E-2,7.0599999999999996E-2,7.1499999999999994E-2,6.9900000000000004E-2,6.9500000000000006E-2,6.6100000000000006E-2,6.7299999999999999E-2,6.6100000000000006E-2,6.4899999999999999E-2,5.7799999999999997E-2]
["Belgium",":",5.6899999999999999E-2,6.6600000000000006E-2,6.9500000000000006E-2,7.8899999999999998E-2,7.0900000000000005E-2,6.4199999999999993E-2,6.7500000000000004E-2,6.6900000000000001E-2,7.2499999999999995E-2,6.8500000000000005E-2,6.8099999999999994E-2,5.2900000000000003E-2,6.6299999999999998E-2,6.1699999999999998E-2,6.2700000000000006E-2,5.96E-2,5.8500000000000003E-2,5.16E-2]
["Bulgaria",":",3.8300000000000001E-2,3.4799999999999998E-2,4.4999999999999998E-2,4.65E-2,4.7E-2,4.5499999999999999E-2,4.9200000000000001E-2,4.8800000000000003E-2,4.7E-2,5.0500000000000003E-2,5.8599999999999999E-2,5.5199999999999999E-2,4.9799999999999997E-2,5.5500000000000001E-2,5.0500000000000003E-2,5.1799999999999999E-2,5.9200000000000003E-2,6.4199999999999993E-2]
["Czech Republic",":",6.6799999999999998E-2,8.2500000000000004E-2,8.4099999999999994E-2,8.5900000000000004E-2,9.0499999999999997E-2,8.8800000000000004E-2,9.1700000000000004E-2,9.5600000000000004E-2,9.4100000000000003E-2,9.7699999999999995E-2,9.8799999999999999E-2,9.98E-2,9.6699999999999994E-2,7.9000000000000001E-2,7.7700000000000005E-2,7.4700000000000003E-2,7.5499999999999998E-2,6.6500000000000004E-2]
["Denmark",":",7.0800000000000002E-2,6.5500000000000003E-2,7.7799999999999994E-2,5.4100000000000002E-2,5.62E-2,6.5000000000000002E-2,6.93E-2,7.0300000000000001E-2,6.13E-2,5.57E-2,5.3699999999999998E-2,5.7099999999999998E-2,5.4699999999999999E-2,0.05,5.2699999999999997E-2,4.7199999999999999E-2,4.5699999999999998E-2,4.5600000000000002E-2]
["Germany (until 1990 former territory of the FRG)",6.8000000000000005E-2,7.22E-2,7.7600000000000002E-2,7.5499999999999998E-2,7.7899999999999997E-2,7.3899999999999993E-2,6.6100000000000006E-2,7.1099999999999997E-2,7.1599999999999997E-2,7.3200000000000001E-2,6.5299999999999997E-2,6.4199999999999993E-2,6.3600000000000004E-2,6.2100000000000002E-2,5.8599999999999999E-2,6.08E-2,5.6800000000000003E-2,5.4100000000000002E-2,4.4900000000000002E-2]
["Estonia",":",3.32E-2,3.3599999999999998E-2,3.6200000000000003E-2,4.0500000000000001E-2,3.9E-2,3.6400000000000002E-2,5.0900000000000001E-2,5.5500000000000001E-2,5.7799999999999997E-2,5.9400000000000001E-2,6.4399999999999999E-2,6.0499999999999998E-2,5.7799999999999997E-2,6.1499999999999999E-2,5.62E-2,5.8700000000000002E-2,5.5899999999999998E-2,5.5800000000000002E-2]
["Ireland",":",0.1026,":",0.1004,8.7400000000000005E-2,7.6799999999999993E-2,5.57E-2,":",6.7799999999999999E-2,":",8.4699999999999998E-2,9.5799999999999996E-2,9.0399999999999994E-2,9.0300000000000005E-2,8.8800000000000004E-2,8.8900000000000007E-2,8.7599999999999997E-2,8.4400000000000003E-2,7.7299999999999994E-2]
["Greece",":",5.9900000000000002E-2,6.4899999999999999E-2,6.6400000000000001E-2,6.2700000000000006E-2,5.74E-2,5.8500000000000003E-2,6.08E-2,5.4899999999999997E-2,5.1200000000000002E-2,4.82E-2,5.6899999999999999E-2,5.9299999999999999E-2,5.6599999999999998E-2,4.8500000000000001E-2,4.0800000000000003E-2,4.3799999999999999E-2,4.07E-2,4.8399999999999999E-2]
["Spain",":",5.28E-2,5.6800000000000003E-2,6.9000000000000006E-2,6.9199999999999998E-2,6.7500000000000004E-2,6.4299999999999996E-2,6.3799999999999996E-2,6.7699999999999996E-2,6.93E-2,7.2099999999999997E-2,7.3300000000000004E-2,6.6299999999999998E-2,7.22E-2,6.8099999999999994E-2,7.3599999999999999E-2,7.1999999999999995E-2,7.5800000000000006E-2,6.3500000000000001E-2]
["France",":",4.4400000000000002E-2,5.2200000000000003E-2,4.65E-2,5.1799999999999999E-2,4.6600000000000003E-2,5.7000000000000002E-2,5.0200000000000002E-2,5.62E-2,5.2400000000000002E-2,5.7700000000000001E-2,5.4699999999999999E-2,5.6599999999999998E-2,5.3199999999999997E-2,5.6500000000000002E-2,5.2400000000000002E-2,5.57E-2,5.3800000000000001E-2,5.1299999999999998E-2]
["Croatia",3.8100000000000002E-2,3.9600000000000003E-2,3.9899999999999998E-2,5.2900000000000003E-2,5.28E-2,5.4800000000000001E-2,6.1400000000000003E-2,5.2900000000000003E-2,5.6800000000000003E-2,5.3100000000000001E-2,6.3100000000000003E-2,5.96E-2,6.1499999999999999E-2,6.6600000000000006E-2,5.5E-2,5.2299999999999999E-2,5.5199999999999999E-2,5.1499999999999997E-2,5.3199999999999997E-2]
["Italy",":",":",":",":",":",":",":",9.3399999999999997E-2,8.1699999999999995E-2,8.1699999999999995E-2,8.8099999999999998E-2,9.1499999999999998E-2,8.1799999999999998E-2,8.2600000000000007E-2,7.1099999999999997E-2,7.6399999999999996E-2,6.7599999999999993E-2,6.6400000000000001E-2,5.6500000000000002E-2]
["Cyprus",":",0.113,0.1201,0.153,9.8500000000000004E-2,0.1195,0.1283,0.14019999999999999,0.13880000000000001,0.1749,0.19370000000000001,0.1966,0.17419999999999999,0.15179999999999999,0.1444,0.1416,0.10489999999999999,9.7699999999999995E-2,7.3499999999999996E-2]
["Latvia",":",4.2999999999999997E-2,5.1999999999999998E-2,6.83E-2,7.2900000000000006E-2,7.1199999999999999E-2,7.2599999999999998E-2,7.6600000000000001E-2,8.0600000000000005E-2,7.85E-2,7.85E-2,6.3899999999999998E-2,8.3699999999999997E-2,6.9000000000000006E-2,6.8900000000000003E-2,6.3500000000000001E-2,5.8400000000000001E-2,5.5800000000000002E-2,5.1400000000000001E-2]
["Lithuania",":",5.5599999999999997E-2,6.3E-2,":",":",":",":",":",":",":",":",":",":",":",":",":",6.1199999999999997E-2,6.5600000000000006E-2,5.6000000000000001E-2]
["Luxembourg",":",":",":",":",":",":",":",":",":",":",":",":",":",":",":",":",":",":",":"]
["Hungary",":",5.8999999999999997E-2,7.5800000000000006E-2,8.7400000000000005E-2,9.5600000000000004E-2,8.5599999999999996E-2,8.1699999999999995E-2,0.08,7.4300000000000005E-2,6.7599999999999993E-2,9.3700000000000006E-2,9.6000000000000002E-2,9.2499999999999999E-2,8.4400000000000003E-2,8.0699999999999994E-2,7.9200000000000007E-2,7.5999999999999998E-2,7.6600000000000001E-2,6.4100000000000004E-2]
["Malta",":",":",5.8099999999999999E-2,0.1323,0.123,8.5999999999999993E-2,0.13100000000000001,0.14000000000000001,0.13700000000000001,0.14199999999999999,0.13800000000000001,0.153,0.13800000000000001,0.14199999999999999,0.13700000000000001,0.125,0.1138,9.8900000000000002E-2,9.9199999999999997E-2]
["Netherlands",7.0199999999999999E-2,6.9000000000000006E-2,7.46E-2,7.5399999999999995E-2,8.4699999999999998E-2,7.8600000000000003E-2,7.0400000000000004E-2,7.22E-2,6.93E-2,7.3999999999999996E-2,6.7699999999999996E-2,6.9699999999999998E-2,7.1300000000000002E-2,7.6700000000000004E-2,7.1099999999999997E-2,7.0400000000000004E-2,6.7199999999999996E-2,6.6600000000000006E-2,5.8400000000000001E-2]
["Austria",":",5.9900000000000002E-2,6.1199999999999997E-2,7.3499999999999996E-2,7.4800000000000005E-2,7.5600000000000001E-2,7.1999999999999995E-2,7.1400000000000005E-2,6.8500000000000005E-2,7.0400000000000004E-2,6.6799999999999998E-2,6.4600000000000005E-2,6.1499999999999999E-2,6.0100000000000001E-2,5.3800000000000001E-2,5.4800000000000001E-2,4.9799999999999997E-2,5.11E-2,4.6399999999999997E-2]
["Poland",":",4.3499999999999997E-2,6.1100000000000002E-2,6.6699999999999995E-2,6.9000000000000006E-2,6.83E-2,7.2700000000000001E-2,7.17E-2,7.4099999999999999E-2,6.7000000000000004E-2,6.83E-2,7.1999999999999995E-2,6.4699999999999994E-2,6.1600000000000002E-2,5.6300000000000003E-2,5.57E-2,6.1699999999999998E-2,5.7799999999999997E-2,5.4899999999999997E-2]
["Portugal",":",4.9700000000000001E-2,4.9799999999999997E-2,5.0500000000000003E-2,6.3500000000000001E-2,5.16E-2,5.0299999999999997E-2,5.6300000000000003E-2,6.0999999999999999E-2,6.0100000000000001E-2,7.9299999999999995E-2,7.5399999999999995E-2,7.4800000000000005E-2,7.7299999999999994E-2,6.3299999999999995E-2,6.9699999999999998E-2,6.5500000000000003E-2,7.0599999999999996E-2,4.9299999999999997E-2]
["Romania",":",5.7200000000000001E-2,6.1699999999999998E-2,5.4800000000000001E-2,5.9299999999999999E-2,5.7099999999999998E-2,5.91E-2,5.5899999999999998E-2,5.91E-2,6.1400000000000003E-2,6.25E-2,5.5100000000000003E-2,6.8000000000000005E-2,6.1400000000000003E-2,5.6300000000000003E-2,5.5599999999999997E-2,5.1299999999999998E-2,5.0200000000000002E-2,4.6399999999999997E-2]
["Slovenia",":",6.4500000000000002E-2,6.2399999999999997E-2,7.4099999999999999E-2,6.7400000000000002E-2,7.3300000000000004E-2,6.6000000000000003E-2,6.59E-2,6.7699999999999996E-2,6.5799999999999997E-2,6.4100000000000004E-2,6.3500000000000001E-2,6.3100000000000003E-2,6.2300000000000001E-2,5.8799999999999998E-2,5.8599999999999999E-2,5.57E-2,5.62E-2,5.1400000000000001E-2]
["Slovakia",":",7.3400000000000007E-2,8.8099999999999998E-2,9.3600000000000003E-2,9.4500000000000001E-2,0.1004,9.2600000000000002E-2,9.4E-2,0.09,9.2399999999999996E-2,9.7000000000000003E-2,9.2200000000000004E-2,9.6799999999999997E-2,0.1057,8.6499999999999994E-2,8.5199999999999998E-2,9.2999999999999999E-2,8.8099999999999998E-2,7.5499999999999998E-2]
["Finland",4.07E-2,4.1700000000000001E-2,4.8599999999999997E-2,5.3600000000000002E-2,5.1700000000000003E-2,4.99E-2,5.7799999999999997E-2,5.4600000000000003E-2,5.6300000000000003E-2,5.4100000000000002E-2,5.1799999999999999E-2,5.16E-2,5.1499999999999997E-2,5.2699999999999997E-2,4.8899999999999999E-2,4.8800000000000003E-2,4.4299999999999999E-2,4.2900000000000001E-2,4.0500000000000001E-2]
["Sweden",4.5600000000000002E-2,5.0799999999999998E-2,5.5500000000000001E-2,6.1800000000000001E-2,4.9099999999999998E-2,4.9700000000000001E-2,6.4500000000000002E-2,6.5199999999999994E-2,6.6799999999999998E-2,5.5E-2,5.33E-2,4.8500000000000001E-2,5.4399999999999997E-2,5.2299999999999999E-2,4.82E-2,4.5600000000000002E-2,4.0599999999999997E-2,3.44E-2,3.78E-2]
["United Kingdom",8.6999999999999994E-2,8.4599999999999995E-2,8.5699999999999998E-2,9.6699999999999994E-2,9.5200000000000007E-2,8.4099999999999994E-2,7.85E-2,7.6799999999999993E-2,8.0799999999999997E-2,7.9299999999999995E-2,8.9399999999999993E-2,0.1003,0.1027,0.1016,0.1108,0.1149,0.12809999999999999,0.1288,0.1179]
[]
["Special value:"]
[":","not available"]
[]
["PRODUCT","Electrical energy"]
["CONSOM","Band IG : Consumption > 150 000 MWh"]
["UNIT","Kilowatt-hour"]
["TAX","Excluding taxes and levies"]
["CURRENCY","Euro"]
[]
["GEO/TIME","2007S1","2007S2","2008S1","2008S2","2009S1","2009S2","2010S1","2010S2","2011S1","2011S2","2012S1","2012S2","2013S1","2013S2","2014S1","2014S2","2015S1","2015S2","2016S1"]
["European Union (28 countries)",":",":",":",":",":",":",":",":",":",":",":",":",":",":",":",":",":",":",":"]
["Belgium",":",":",":",":",":",":",":",":",":",":",":",":",":",":",":",":",":",":",5.7099999999999998E-2]
["Bulgaria",":",3.5299999999999998E-2,3.4299999999999997E-2,4.3499999999999997E-2,4.5999999999999999E-2,4.7E-2,4.65E-2,5.0299999999999997E-2,4.58E-2,4.7300000000000002E-2,4.9299999999999997E-2,5.1499999999999997E-2,5.4699999999999999E-2,4.9500000000000002E-2,5.1799999999999999E-2,5.11E-2,4.7600000000000003E-2,5.8200000000000002E-2,6.0999999999999999E-2]
["Czech Republic",":",":",":",":",":",":",":",":",":",":",":",":",":",":",":",":",":",":",":"]
["Denmark",":",":",":",":",":",":",":",":",":",":",":",":",":",":",":",":",":",":",":"]
["Germany (until 1990 former territory of the FRG)",":",":",":",":",":",":",":",":",":",":",":",":",":",":",":",":",":",":",":"]
["Estonia",":",":",":",":",":",":",":",":",":",":",":",":",":",":",":",":",":",":",":"]
["Ireland",":",":",":",":",":",":",":",":",":",":",":",":",":",":",":",":",":",":",":"]
["Greece",":",":",":",":",":",5.9200000000000003E-2,5.7099999999999998E-2,5.6500000000000002E-2,5.6599999999999998E-2,5.62E-2,5.45E-2,":",":",":",":",":",":",":",":"]
["Spain",":",3.9300000000000002E-2,4.2200000000000001E-2,4.8899999999999999E-2,5.0999999999999997E-2,4.7500000000000001E-2,4.87E-2,4.8599999999999997E-2,0.05,5.04E-2,5.3199999999999997E-2,5.3499999999999999E-2,5.3499999999999999E-2,6.25E-2,5.1400000000000001E-2,6.4600000000000005E-2,6.3500000000000001E-2,7.1499999999999994E-2,5.1700000000000003E-2]
["France",":",":",":",":",":",":",":",":",":",":",":",":",":",":",":",":",":",":",":"]
["Croatia",3.8100000000000002E-2,4.5100000000000001E-2,4.5400000000000003E-2,5.7099999999999998E-2,":",":",":",5.7700000000000001E-2,":",":",":",":",":",":",":",":",":",":",":"]
["Italy",":",":",":",":",":",":",":",9.8900000000000002E-2,8.0600000000000005E-2,8.4099999999999994E-2,8.5300000000000001E-2,9.01E-2,8.3699999999999997E-2,8.6199999999999999E-2,6.6500000000000004E-2,6.9400000000000003E-2,":",6.6199999999999995E-2,5.5199999999999999E-2]
["Cyprus",":",":",":",":",":",":",":",":",":",":",":",":",":",":",":",":",":",":",":"]
["Latvia",":",":",":",":",":",":",":",":",":",":",":",":",":",":",":",":",":",":",":"]
["Lithuania",":",":",":",":",":",":",":",":",":",":",":",":",":",":",":",":",":",":",":"]
["Luxembourg",":",":",":",":",":",":",":",":",":",":",":",":",":",":",":",":",":",":",":"]
["Hungary",":",5.3900000000000003E-2,7.4899999999999994E-2,7.9899999999999999E-2,8.9800000000000005E-2,9.3100000000000002E-2,7.4499999999999997E-2,7.5300000000000006E-2,6.6600000000000006E-2,6.4500000000000002E-2,8.7900000000000006E-2,9.0899999999999995E-2,9.0200000000000002E-2,8.8099999999999998E-2,7.5700000000000003E-2,7.5800000000000006E-2,7.2700000000000001E-2,7.4200000000000002E-2,6.5600000000000006E-2]
["Malta",":",":",5.8099999999999999E-2,0.1323,0.123,8.5999999999999993E-2,":",":",":",":",":",":",":",":",":",":",":",":",":"]
["Netherlands",":",":",":",":",6.6299999999999998E-2,6.0199999999999997E-2,6.1199999999999997E-2,6.3500000000000001E-2,6.2199999999999998E-2,6.4600000000000005E-2,5.8000000000000003E-2,6.3399999999999998E-2,7.0999999999999994E-2,7.3899999999999993E-2,6.3799999999999996E-2,6.5299999999999997E-2,6.5299999999999997E-2,6.3799999999999996E-2,5.6800000000000003E-2]
["Austria",":",":",":",7.2999999999999995E-2,":",":",":",":",":",":",":",":",":",":",":",":",":",4.4900000000000002E-2,":"]
["Poland",":",":",":",6.6600000000000006E-2,7.0300000000000001E-2,7.3099999999999998E-2,7.6700000000000004E-2,7.6700000000000004E-2,7.8200000000000006E-2,7.0400000000000004E-2,7.3300000000000004E-2,7.3200000000000001E-2,6.8500000000000005E-2,5.8700000000000002E-2,5.0200000000000002E-2,5.1700000000000003E-2,5.5599999999999997E-2,5.3499999999999999E-2,5.1400000000000001E-2]
["Portugal",":",":",":",":",":",":",":",":",":",":",":",":",":",":",":",":",":",":",":"]
["Romania",":",":",":",":",":",":",":",":",":",":",":",":",":",":",":",":",":",":",":"]
["Slovenia",":",":",":",":",":",":",":",":",":",":",":",":",":",":",":",":",":",":",":"]
["Slovakia",":",7.8200000000000006E-2,9.1200000000000003E-2,9.5000000000000001E-2,9.5399999999999999E-2,8.9599999999999999E-2,0.09,7.3999999999999996E-2,9.0399999999999994E-2,9.1999999999999998E-2,9.0200000000000002E-2,8.2600000000000007E-2,9.9900000000000003E-2,8.9800000000000005E-2,8.0299999999999996E-2,6.3700000000000007E-2,6.8000000000000005E-2,6.1400000000000003E-2,6.4299999999999996E-2]
["Finland",":",":",":",":",":",":",":",":",":",":",":",":",":",":",":",":",":",":",":"]
["Sweden",":",":",":",":",":",":",":",":",":",":",":",":",":",":",":",":",":",":",":"]
["United Kingdom",8.2100000000000006E-2,7.1199999999999999E-2,7.5899999999999995E-2,8.48E-2,8.1799999999999998E-2,7.6899999999999996E-2,8.1699999999999995E-2,7.6899999999999996E-2,7.8100000000000003E-2,8.2100000000000006E-2,9.4899999999999998E-2,0.1011,9.6600000000000005E-2,0.1013,0.1082,0.11260000000000001,0.1231,0.12659999999999999,0.11509999999999999]
[]
["Special value:"]
[":","not available"]

{"sheet":"Level 2","index":6,"n_rows":322,"n_cols":90,"rows_kept":322,"cut":false,"hidden":false,"merged":[[2,65,2,76],[2,78,2,89],[2,0,2,11],[2,13,2,24],[2,26,2,37],[2,39,2,50],[2,52,2,63]]}
["Elpriser industri. Level 2 elpriser for forskellige forbrugsintervaller"]
[]
["Forbrugsinterval < 0,02 GWh",null,null,null,null,null,null,null,null,null,null,null,null,"Forbrugsinterval 0,02 GWh < 0,5 GWh",null,null,null,null,null,null,null,null,null,null,null,null,"Forbrugsinterval 0,5 GWh <  2 GWh",null,null,null,null,null,null,null,null,null,null,null,null,"Forbrugsinterval 2 GWh < 20 GWh",null,null,null,null,null,null,null,null,null,null,null,null,"Forbrugsinterval 20 GWh <  70 GWh",null,null,null,null,null,null,null,null,null,null,null,null,"Forbrugsinterval 70 GWh < 150 GWh",null,null,null,null,null,null,null,null,null,null,null,null,"Forbrugsinterval > 150 GWh"]
[]
["Euro/kWh",{"$f":"LEFT(B50,4)+0","v":2007},{"$f":"+B5+1","v":2008},{"$f":"+C5+1","v":2009},2010,2011,2012,2013,{"$f":"+H5+1","v":2014},{"$f":"+I5+1","v":2015},{"$f":"+J5+1","v":2016},{"$f":"+K5+1","v":2017},null,"Euro/kWh",{"$f":"LEFT(B90,4)+0","v":2007},{"$f":"+O5+1","v":2008},{"$f":"+P5+1","v":2009},2010,2011,2012,2013,{"$f":"+U5+1","v":2014},{"$f":"+V5+1","v":2015},{"$f":"+W5+1","v":2016},{"$f":"+X5+1","v":2017},null,"Euro/kWh",{"$f":"LEFT(B130,4)+0","v":2007},{"$f":"+AB5+1","v":2008},{"$f":"+AC5+1","v":2009},2010,2011,2012,2013,{"$f":"+AH5+1","v":2014},{"$f":"+AI5+1","v":2015},{"$f":"+AJ5+1","v":2016},{"$f":"+AK5+1","v":2017},null,"Euro/kWh",{"$f":"LEFT(B170,4)+0","v":2007},{"$f":"+AO5+1","v":2008},{"$f":"+AP5+1","v":2009},2010,2011,2012,2013,{"$f":"+AU5+1","v":2014},{"$f":"+AV5+1","v":2015},{"$f":"+AW5+1","v":2016},{"$f":"+AX5+1","v":2017},null,"Euro/kWh",{"$f":"LEFT(B210,4)+0","v":2007},{"$f":"+BB5+1","v":2008},{"$f":"+BC5+1","v":2009},2010,2011,2012,2013,{"$f":"+BH5+1","v":2014},{"$f":"+BI5+1","v":2015},{"$f":"+BJ5+1","v":2016},{"$f":"+BK5+1","v":2017},null,"Euro/kWh",{"$f":"LEFT(B250,4)+0","v":2007},{"$f":"+BO5+1","v":2008},{"$f":"+BP5+1","v":2009},2010,2011,2012,2013,{"$f":"+BU5+1","v":2014},{"$f":"+BV5+1","v":2015},{"$f":"+BW5+1","v":2016},{"$f":"+BX5+1","v":2017},null,"Euro/kWh",{"$f":"LEFT(B290,4)+0","v":2007},{"$f":"+CB5+1","v":2008},{"$f":"+CC5+1","v":2009},2010,2011,2012,2013,{"$f":"+CH5+1","v":2014},{"$f":"+CI5+1","v":2015},{"$f":"+CJ5+1","v":2016},{"$f":"+CK5+1","v":2017}]
[{"$f":"A51","v":"European Union (28 countries)"},{"$f":"IFERROR(AVERAGE(B51:C51),\"*\")","v":0.14530000000000001},{"$f":"IFERROR(AVERAGE(D51:E51),\"*\")","v":0.15245},{"$f":"IFERROR(AVERAGE(F51:G51),\"*\")","v":0.16034999999999999},{"$f":"IFERROR(AVERAGE(H51:I51),\"*\")","v":0.16785},{"$f":"IFERROR(AVERAGE(J51:K51),\"*\")","v":0.1729},{"$f":"IFERROR(AVERAGE(L51:M51),\"*\")","v":0.17985000000000001},{"$f":"IFERROR(AVERAGE(N51:O51),\"*\")","v":0.18859999999999999},{"$f":"IFERROR(AVERAGE(P51:Q51),\"*\")","v":0.19084999999999999},{"$f":"IFERROR(AVERAGE(R51:S51),\"*\")","v":0.19134999999999999},{"$f":"IFERROR(AVERAGE(T51:U51),\"*\")","v":0.18590000000000001},{"$f":"IFERROR(AVERAGE(V51:W51),\"*\")","v":"*"},null,{"$f":"A91","v":"European Union (28 countries)"},{"$f":"IFERROR(AVERAGE(B91:C91),\"*\")","v":0.1111},{"$f":"IFERROR(AVERAGE(D91:E91),\"*\")","v":0.11735000000000001},{"$f":"IFERROR(AVERAGE(F91:G91),\"*\")","v":0.1212},{"$f":"IFERROR(AVERAGE(H91:I91),\"*\")","v":0.1226},{"$f":"IFERROR(AVERAGE(J91:K91),\"*\")","v":0.13069999999999998},{"$f":"IFERROR(AVERAGE(L91:M91),\"*\")","v":0.13619999999999999},{"$f":"IFERROR(AVERAGE(N91:O91),\"*\")","v":0.14144999999999999},{"$f":"IFERROR(AVERAGE(P91:Q91),\"*\")","v":0.14615},{"$f":"IFERROR(AVERAGE(R91:S91),\"*\")","v":0.1447},{"$f":"IFERROR(AVERAGE(T91:U91),\"*\")","v":0.14149999999999999},{"$f":"IFERROR(AVERAGE(V91:W91),\"*\")","v":"*"},null,{"$f":"A131","v":"European Union (28 countries)"},{"$f":"IFERROR(AVERAGE(B131:C131),\"*\")","v":9.4299999999999995E-2},{"$f":"IFERROR(AVERAGE(D131:E131),\"*\")","v":0.10034999999999999},{"$f":"IFERROR(AVERAGE(F131:G131),\"*\")","v":0.1046},{"$f":"IFERROR(AVERAGE(H131:I131),\"*\")","v":0.10450000000000001},{"$f":"IFERROR(AVERAGE(J131:K131),\"*\")","v":0.1109},{"$f":"IFERROR(AVERAGE(L131:M131),\"*\")","v":0.1154},{"$f":"IFERROR(AVERAGE(N131:O131),\"*\")","v":0.1188},{"$f":"IFERROR(AVERAGE(P131:Q131),\"*\")","v":0.12195},{"$f":"IFERROR(AVERAGE(R131:S131),\"*\")","v":0.11975},{"$f":"IFERROR(AVERAGE(T131:U131),\"*\")","v":0.1169},{"$f":"IFERROR(AVERAGE(V131:W131),\"*\")","v":"*"},null,{"$f":"A171","v":"European Union (28 countries)"},{"$f":"IFERROR(AVERAGE(B171:C171),\"*\")","v":8.3400000000000002E-2},{"$f":"IFERROR(AVERAGE(D171:E171),\"*\")","v":9.035E-2},{"$f":"IFERROR(AVERAGE(F171:G171),\"*\")","v":9.3149999999999997E-2},{"$f":"IFERROR(AVERAGE(H171:I171),\"*\")","v":9.2100000000000001E-2},{"$f":"IFERROR(AVERAGE(J171:K171),\"*\")","v":9.7450000000000009E-2},{"$f":"IFERROR(AVERAGE(L171:M171),\"*\")","v":0.10435},{"$f":"IFERROR(AVERAGE(N171:O171),\"*\")","v":0.10645},{"$f":"IFERROR(AVERAGE(P171:Q171),\"*\")","v":0.1079},{"$f":"IFERROR(AVERAGE(R171:S171),\"*\")","v":0.10675},{"$f":"IFERROR(AVERAGE(T171:U171),\"*\")","v":0.10199999999999999},{"$f":"IFERROR(AVERAGE(V171:W171),\"*\")","v":"*"},null,{"$f":"A211","v":"European Union (28 countries)"},{"$f":"IFERROR(AVERAGE(B211:C211),\"*\")","v":7.5899999999999995E-2},{"$f":"IFERROR(AVERAGE(D211:E211),\"*\")","v":8.3449999999999996E-2},{"$f":"IFERROR(AVERAGE(F211:G211),\"*\")","v":8.5300000000000001E-2},{"$f":"IFERROR(AVERAGE(H211:I211),\"*\")","v":8.3049999999999999E-2},{"$f":"IFERROR(AVERAGE(J211:K211),\"*\")","v":8.904999999999999E-2},{"$f":"IFERROR(AVERAGE(L211:M211),\"*\")","v":9.2599999999999988E-2},{"$f":"IFERROR(AVERAGE(N211:O211),\"*\")","v":9.4349999999999989E-2},{"$f":"IFERROR(AVERAGE(P211:Q211),\"*\")","v":9.4E-2},{"$f":"IFERROR(AVERAGE(R211:S211),\"*\")","v":9.3149999999999997E-2},{"$f":"IFERROR(AVERAGE(T211:U211),\"*\")","v":8.72E-2},{"$f":"IFERROR(AVERAGE(V211:W211),\"*\")","v":"*"},null,{"$f":"A251","v":"European Union (28 countries)"},{"$f":"IFERROR(AVERAGE(B251:C251),\"*\")","v":6.6900000000000001E-2},{"$f":"IFERROR(AVERAGE(D251:E251),\"*\")","v":7.85E-2},{"$f":"IFERROR(AVERAGE(F251:G251),\"*\")","v":7.7800000000000008E-2},{"$f":"IFERROR(AVERAGE(H251:I251),\"*\")","v":7.7300000000000008E-2},{"$f":"IFERROR(AVERAGE(J251:K251),\"*\")","v":8.165E-2},{"$f":"IFERROR(AVERAGE(L251:M251),\"*\")","v":8.3850000000000008E-2},{"$f":"IFERROR(AVERAGE(N251:O251),\"*\")","v":8.5549999999999987E-2},{"$f":"IFERROR(AVERAGE(P251:Q251),\"*\")","v":8.4949999999999998E-2},{"$f":"IFERROR(AVERAGE(R251:S251),\"*\")","v":8.3400000000000002E-2},{"$f":"IFERROR(AVERAGE(T251:U251),\"*\")","v":7.4499999999999997E-2},{"$f":"IFERROR(AVERAGE(V251:W251),\"*\")","v":"*"},null,{"$f":"A291","v":"European Union (28 countries)"},{"$f":"IFERROR(AVERAGE(B291:C291),\"*\")","v":"*"},{"$f":"IFERROR(AVERAGE(D291:E291),\"*\")","v":"*"},{"$f":"IFERROR(AVERAGE(F291:G291),\"*\")","v":"*"},{"$f":"IFERROR(AVERAGE(H291:I291),\"*\")","v":"*"},{"$f":"IFERROR(AVERAGE(J291:K291),\"*\")","v":"*"},{"$f":"IFERROR(AVERAGE(L291:M291),\"*\")","v":"*"},{"$f":"IFERROR(AVERAGE(N291:O291),\"*\")","v":"*"},{"$f":"IFERROR(AVERAGE(P291:Q291),\"*\")","v":"*"},{"$f":"IFERROR(AVERAGE(R291:S291),\"*\")","v":"*"},{"$f":"IFERROR(AVERAGE(T291:U291),\"*\")","v":"*"},{"$f":"IFERROR(AVERAGE(V291:W291),\"*\")","v":"*"}]
[{"$f":"A52","v":"Belgium"},0.14360000000000001,0.16955000000000001,0.15339999999999998,0.16170000000000001,0.1787,0.17845,0.1757,0.17860000000000001,0.17835000000000001,0.19550000000000001,"*",null,{"$f":"A92","v":"Belgium"},{"$f":"IFERROR(AVERAGE(B92:C92),\"*\")","v":0.11849999999999999},{"$f":"IFERROR(AVERAGE(D92:E92),\"*\")","v":0.14195000000000002},{"$f":"IFERROR(AVERAGE(F92:G92),\"*\")","v":0.13025},{"$f":"IFERROR(AVERAGE(H92:I92),\"*\")","v":0.13009999999999999},{"$f":"IFERROR(AVERAGE(J92:K92),\"*\")","v":0.1434},{"$f":"IFERROR(AVERAGE(L92:M92),\"*\")","v":0.1472},0.14384999999999998,0.14465,0.14524999999999999,0.14929999999999999,"*",null,{"$f":"A132","v":"Belgium"},{"$f":"IFERROR(AVERAGE(B132:C132),\"*\")","v":9.4899999999999998E-2},{"$f":"IFERROR(AVERAGE(D132:E132),\"*\")","v":0.10150000000000001},{"$f":"IFERROR(AVERAGE(F132:G132),\"*\")","v":0.1095},{"$f":"IFERROR(AVERAGE(H132:I132),\"*\")","v":0.10555},{"$f":"IFERROR(AVERAGE(J132:K132),\"*\")","v":0.11224999999999999},{"$f":"IFERROR(AVERAGE(L132:M132),\"*\")","v":0.10915},0.10885,0.109,0.10905000000000001,0.1115,"*",null,{"$f":"A172","v":"Belgium"},{"$f":"IFERROR(AVERAGE(B172:C172),\"*\")","v":8.4099999999999994E-2},{"$f":"IFERROR(AVERAGE(D172:E172),\"*\")","v":9.4799999999999995E-2},{"$f":"IFERROR(AVERAGE(F172:G172),\"*\")","v":9.9849999999999994E-2},{"$f":"IFERROR(AVERAGE(H172:I172),\"*\")","v":9.4E-2},{"$f":"IFERROR(AVERAGE(J172:K172),\"*\")","v":9.955E-2},{"$f":"IFERROR(AVERAGE(L172:M172),\"*\")","v":9.8500000000000004E-2},9.6600000000000005E-2,{"$f":"IFERROR(AVERAGE(P172:Q172),\"*\")","v":9.6549999999999997E-2},{"$f":"IFERROR(AVERAGE(R172:S172),\"*\")","v":9.64E-2},{"$f":"IFERROR(AVERAGE(T172:U172),\"*\")","v":9.4700000000000006E-2},{"$f":"IFERROR(AVERAGE(V172:W172),\"*\")","v":"*"},null,{"$f":"A212","v":"Belgium"},{"$f":"IFERROR(AVERAGE(B212:C212),\"*\")","v":7.2900000000000006E-2},{"$f":"IFERROR(AVERAGE(D212:E212),\"*\")","v":8.115E-2},{"$f":"IFERROR(AVERAGE(F212:G212),\"*\")","v":9.1799999999999993E-2},{"$f":"IFERROR(AVERAGE(H212:I212),\"*\")","v":8.0199999999999994E-2},{"$f":"IFERROR(AVERAGE(J212:K212),\"*\")","v":8.7100000000000011E-2},{"$f":"IFERROR(AVERAGE(L212:M212),\"*\")","v":8.0649999999999999E-2},{"$f":"IFERROR(AVERAGE(N212:O212),\"*\")","v":7.6499999999999999E-2},{"$f":"IFERROR(AVERAGE(P212:Q212),\"*\")","v":7.7649999999999997E-2},{"$f":"IFERROR(AVERAGE(R212:S212),\"*\")","v":7.7149999999999996E-2},{"$f":"IFERROR(AVERAGE(T212:U212),\"*\")","v":7.2400000000000006E-2},{"$f":"IFERROR(AVERAGE(V212:W212),\"*\")","v":"*"},null,{"$f":"A252","v":"Belgium"},{"$f":"IFERROR(AVERAGE(B252:C252),\"*\")","v":6.1499999999999999E-2},{"$f":"IFERROR(AVERAGE(D252:E252),\"*\")","v":7.3300000000000004E-2},{"$f":"IFERROR(AVERAGE(F252:G252),\"*\")","v":8.0750000000000002E-2},{"$f":"IFERROR(AVERAGE(H252:I252),\"*\")","v":7.3249999999999996E-2},{"$f":"IFERROR(AVERAGE(J252:K252),\"*\")","v":7.8E-2},{"$f":"IFERROR(AVERAGE(L252:M252),\"*\")","v":7.6050000000000006E-2},{"$f":"IFERROR(AVERAGE(N252:O252),\"*\")","v":6.6000000000000003E-2},{"$f":"IFERROR(AVERAGE(P252:Q252),\"*\")","v":6.9200000000000012E-2},{"$f":"IFERROR(AVERAGE(R252:S252),\"*\")","v":6.5299999999999997E-2},{"$f":"IFERROR(AVERAGE(T252:U252),\"*\")","v":5.6500000000000002E-2},{"$f":"IFERROR(AVERAGE(V252:W252),\"*\")","v":"*"},null,{"$f":"A292","v":"Belgium"},{"$f":"IFERROR(AVERAGE(B292:C292),\"*\")","v":"*"},{"$f":"IFERROR(AVERAGE(D292:E292),\"*\")","v":"*"},{"$f":"IFERROR(AVERAGE(F292:G292),\"*\")","v":"*"},{"$f":"IFERROR(AVERAGE(H292:I292),\"*\")","v":"*"},{"$f":"IFERROR(AVERAGE(J292:K292),\"*\")","v":"*"},{"$f":"IFERROR(AVERAGE(L292:M292),\"*\")","v":"*"},{"$f":"IFERROR(AVERAGE(N292:O292),\"*\")","v":"*"},{"$f":"IFERROR(AVERAGE(P292:Q292),\"*\")","v":"*"},{"$f":"IFERROR(AVERAGE(R292:S292),\"*\")","v":"*"},{"$f":"IFERROR(AVERAGE(T292:U292),\"*\")","v":5.8900000000000001E-2},{"$f":"IFERROR(AVERAGE(V292:W292),\"*\")","v":"*"}]
["Bulgaria",6.8000000000000005E-2,7.2599999999999998E-2,7.7200000000000005E-2,7.8399999999999997E-2,8.1049999999999997E-2,9.0299999999999991E-2,0.10239999999999999,9.6000000000000002E-2,0.10830000000000001,0.104,"*",null,"Bulgaria",{"$f":"IFERROR(AVERAGE(B93:C93),\"*\")","v":6.3899999999999998E-2},{"$f":"IFERROR(AVERAGE(D93:E93),\"*\")","v":6.8500000000000005E-2},{"$f":"IFERROR(AVERAGE(F93:G93),\"*\")","v":7.2599999999999998E-2},{"$f":"IFERROR(AVERAGE(H93:I93),\"*\")","v":7.1199999999999999E-2},{"$f":"IFERROR(AVERAGE(J93:K93),\"*\")","v":7.4749999999999997E-2},{"$f":"IFERROR(AVERAGE(L93:M93),\"*\")","v":8.4949999999999998E-2},9.085E-2,8.929999999999999E-2,9.6450000000000008E-2,0.1071,"*",null,"Bulgaria",{"$f":"IFERROR(AVERAGE(B133:C133),\"*\")","v":5.6800000000000003E-2},{"$f":"IFERROR(AVERAGE(D133:E133),\"*\")","v":6.055E-2},{"$f":"IFERROR(AVERAGE(F133:G133),\"*\")","v":6.4399999999999999E-2},{"$f":"IFERROR(AVERAGE(H133:I133),\"*\")","v":6.565E-2},{"$f":"IFERROR(AVERAGE(J133:K133),\"*\")","v":6.5750000000000003E-2},{"$f":"IFERROR(AVERAGE(L133:M133),\"*\")","v":7.350000000000001E-2},7.6949999999999991E-2,7.5149999999999995E-2,7.3700000000000002E-2,0.1002,"*",null,"Bulgaria",{"$f":"IFERROR(AVERAGE(B173:C173),\"*\")","v":5.0599999999999999E-2},{"$f":"IFERROR(AVERAGE(D173:E173),\"*\")","v":5.4449999999999998E-2},{"$f":"IFERROR(AVERAGE(F173:G173),\"*\")","v":5.9049999999999998E-2},{"$f":"IFERROR(AVERAGE(H173:I173),\"*\")","v":5.8799999999999998E-2},{"$f":"IFERROR(AVERAGE(J173:K173),\"*\")","v":5.885E-2},{"$f":"IFERROR(AVERAGE(L173:M173),\"*\")","v":6.6599999999999993E-2},6.6549999999999998E-2,6.8000000000000005E-2,6.6000000000000003E-2,7.6399999999999996E-2,"*",null,"Bulgaria",{"$f":"IFERROR(AVERAGE(B213:C213),\"*\")","v":4.2900000000000001E-2},{"$f":"IFERROR(AVERAGE(D213:E213),\"*\")","v":4.6249999999999999E-2},{"$f":"IFERROR(AVERAGE(F213:G213),\"*\")","v":5.2900000000000003E-2},{"$f":"IFERROR(AVERAGE(H213:I213),\"*\")","v":5.2650000000000002E-2},{"$f":"IFERROR(AVERAGE(J213:K213),\"*\")","v":5.1250000000000004E-2},{"$f":"IFERROR(AVERAGE(L213:M213),\"*\")","v":5.935E-2},5.8599999999999999E-2,5.7849999999999999E-2,5.9749999999999998E-2,7.0699999999999999E-2,"*",null,"Bulgaria",{"$f":"IFERROR(AVERAGE(B253:C253),\"*\")","v":3.8899999999999997E-2},{"$f":"IFERROR(AVERAGE(D253:E253),\"*\")","v":4.0399999999999998E-2},{"$f":"IFERROR(AVERAGE(F253:G253),\"*\")","v":4.7850000000000004E-2},{"$f":"IFERROR(AVERAGE(H253:I253),\"*\")","v":4.8350000000000004E-2},{"$f":"IFERROR(AVERAGE(J253:K253),\"*\")","v":4.8899999999999999E-2},{"$f":"IFERROR(AVERAGE(L253:M253),\"*\")","v":5.5550000000000002E-2},5.3499999999999999E-2,5.3999999999999999E-2,5.6550000000000003E-2,6.5199999999999994E-2,"*",null,"Bulgaria",3.5799999999999998E-2,3.9399999999999998E-2,4.7050000000000002E-2,4.9450000000000001E-2,4.7550000000000002E-2,5.1400000000000001E-2,5.3150000000000003E-2,5.2500000000000005E-2,5.3949999999999998E-2,6.2100000000000002E-2,"*"]
["Czech Republic",0.14130000000000001,0.1663,0.1676,0.17444999999999999,0.183,0.1883,0.1845,0.15825,0.15654999999999999,0.1608,"*",null,"Czech Republic",{"$f":"IFERROR(AVERAGE(B94:C94),\"*\")","v":0.10920000000000001},{"$f":"IFERROR(AVERAGE(D94:E94),\"*\")","v":0.13305},{"$f":"IFERROR(AVERAGE(F94:G94),\"*\")","v":0.13619999999999999},{"$f":"IFERROR(AVERAGE(H94:I94),\"*\")","v":0.1371},{"$f":"IFERROR(AVERAGE(J94:K94),\"*\")","v":0.14380000000000001},{"$f":"IFERROR(AVERAGE(L94:M94),\"*\")","v":0.14555000000000001},0.14755000000000001,0.12485,0.1215,0.1166,"*",null,"Czech Republic",{"$f":"IFERROR(AVERAGE(B134:C134),\"*\")","v":9.4600000000000004E-2},{"$f":"IFERROR(AVERAGE(D134:E134),\"*\")","v":0.1114},{"$f":"IFERROR(AVERAGE(F134:G134),\"*\")","v":0.10954999999999999},{"$f":"IFERROR(AVERAGE(H134:I134),\"*\")","v":0.1057},{"$f":"IFERROR(AVERAGE(J134:K134),\"*\")","v":0.1095},{"$f":"IFERROR(AVERAGE(L134:M134),\"*\")","v":0.10340000000000001},0.10065,8.2400000000000001E-2,7.775E-2,7.2999999999999995E-2,"*",null,"Czech Republic",{"$f":"IFERROR(AVERAGE(B174:C174),\"*\")","v":7.7799999999999994E-2},{"$f":"IFERROR(AVERAGE(D174:E174),\"*\")","v":9.3200000000000005E-2},{"$f":"IFERROR(AVERAGE(F174:G174),\"*\")","v":9.5899999999999999E-2},{"$f":"IFERROR(AVERAGE(H174:I174),\"*\")","v":9.5450000000000007E-2},{"$f":"IFERROR(AVERAGE(J174:K174),\"*\")","v":9.8149999999999987E-2},{"$f":"IFERROR(AVERAGE(L174:M174),\"*\")","v":9.7049999999999997E-2},9.6349999999999991E-2,7.7800000000000008E-2,7.1899999999999992E-2,6.3899999999999998E-2,"*",null,"Czech Republic",{"$f":"IFERROR(AVERAGE(B214:C214),\"*\")","v":6.6799999999999998E-2},{"$f":"IFERROR(AVERAGE(D214:E214),\"*\")","v":8.2949999999999996E-2},{"$f":"IFERROR(AVERAGE(F214:G214),\"*\")","v":8.9249999999999996E-2},{"$f":"IFERROR(AVERAGE(H214:I214),\"*\")","v":9.1899999999999996E-2},{"$f":"IFERROR(AVERAGE(J214:K214),\"*\")","v":0.1007},{"$f":"IFERROR(AVERAGE(L214:M214),\"*\")","v":9.3950000000000006E-2},9.4750000000000001E-2,7.9949999999999993E-2,7.4349999999999999E-2,6.6000000000000003E-2,"*",null,"Czech Republic",{"$f":"IFERROR(AVERAGE(B254:C254),\"*\")","v":6.6799999999999998E-2},{"$f":"IFERROR(AVERAGE(D254:E254),\"*\")","v":8.455E-2},{"$f":"IFERROR(AVERAGE(F254:G254),\"*\")","v":8.929999999999999E-2},{"$f":"IFERROR(AVERAGE(H254:I254),\"*\")","v":9.1349999999999987E-2},{"$f":"IFERROR(AVERAGE(J254:K254),\"*\")","v":9.5950000000000008E-2},{"$f":"IFERROR(AVERAGE(L254:M254),\"*\")","v":9.9349999999999994E-2},9.9349999999999994E-2,7.9399999999999998E-2,7.6100000000000001E-2,6.7500000000000004E-2,"*",null,"Czech Republic","*","*","*","*","*","*","*","*","*","*","*"]
["Denmark",0.17630000000000001,0.19350000000000001,0.18645,0.1862,0.2059,0.20905000000000001,0.17959999999999998,0.18385000000000001,0.17899999999999999,0.183,"*",null,"Denmark",{"$f":"IFERROR(AVERAGE(B95:C95),\"*\")","v":9.6699999999999994E-2},{"$f":"IFERROR(AVERAGE(D95:E95),\"*\")","v":0.1043},{"$f":"IFERROR(AVERAGE(F95:G95),\"*\")","v":9.4549999999999995E-2},{"$f":"IFERROR(AVERAGE(H95:I95),\"*\")","v":0.10175000000000001},{"$f":"IFERROR(AVERAGE(J95:K95),\"*\")","v":0.10339999999999999},{"$f":"IFERROR(AVERAGE(L95:M95),\"*\")","v":0.10595},0.10975,0.10224999999999999,9.6599999999999991E-2,0.10050000000000001,"*",null,"Denmark",{"$f":"IFERROR(AVERAGE(B135:C135),\"*\")","v":8.9499999999999996E-2},{"$f":"IFERROR(AVERAGE(D135:E135),\"*\")","v":9.6549999999999997E-2},{"$f":"IFERROR(AVERAGE(F135:G135),\"*\")","v":8.9150000000000007E-2},{"$f":"IFERROR(AVERAGE(H135:I135),\"*\")","v":9.5150000000000012E-2},{"$f":"IFERROR(AVERAGE(J135:K135),\"*\")","v":9.5950000000000008E-2},{"$f":"IFERROR(AVERAGE(L135:M135),\"*\")","v":9.7950000000000009E-2},0.10125000000000001,9.5549999999999996E-2,9.0249999999999997E-2,9.4799999999999995E-2,"*",null,"Denmark",{"$f":"IFERROR(AVERAGE(B175:C175),\"*\")","v":8.77E-2},{"$f":"IFERROR(AVERAGE(D175:E175),\"*\")","v":9.5049999999999996E-2},{"$f":"IFERROR(AVERAGE(F175:G175),\"*\")","v":8.745E-2},{"$f":"IFERROR(AVERAGE(H175:I175),\"*\")","v":9.265000000000001E-2},{"$f":"IFERROR(AVERAGE(J175:K175),\"*\")","v":9.3400000000000011E-2},{"$f":"IFERROR(AVERAGE(L175:M175),\"*\")","v":9.5399999999999999E-2},9.8649999999999988E-2,9.4950000000000007E-2,9.0150000000000008E-2,9.4100000000000003E-2,"*",null,"Denmark",{"$f":"IFERROR(AVERAGE(B215:C215),\"*\")","v":8.1100000000000005E-2},{"$f":"IFERROR(AVERAGE(D215:E215),\"*\")","v":8.8749999999999996E-2},{"$f":"IFERROR(AVERAGE(F215:G215),\"*\")","v":7.9749999999999988E-2},{"$f":"IFERROR(AVERAGE(H215:I215),\"*\")","v":8.5300000000000001E-2},{"$f":"IFERROR(AVERAGE(J215:K215),\"*\")","v":8.4949999999999998E-2},{"$f":"IFERROR(AVERAGE(L215:M215),\"*\")","v":8.6400000000000005E-2},8.9150000000000007E-2,8.3000000000000004E-2,7.7100000000000002E-2,8.0699999999999994E-2,"*",null,"Denmark",{"$f":"IFERROR(AVERAGE(B255:C255),\"*\")","v":7.9699999999999993E-2},{"$f":"IFERROR(AVERAGE(D255:E255),\"*\")","v":8.745E-2},{"$f":"IFERROR(AVERAGE(F255:G255),\"*\")","v":7.8350000000000003E-2},{"$f":"IFERROR(AVERAGE(H255:I255),\"*\")","v":8.455E-2},{"$f":"IFERROR(AVERAGE(J255:K255),\"*\")","v":8.4150000000000003E-2},{"$f":"IFERROR(AVERAGE(L255:M255),\"*\")","v":8.5599999999999996E-2},8.829999999999999E-2,8.0850000000000005E-2,7.5800000000000006E-2,7.8600000000000003E-2,"*",null,"Denmark","*","*","*","*","*","*","*","*","*","*","*"]
["Germany (until 1990 former territory of the FRG)",0.17425000000000002,0.17995,0.18640000000000001,0.1953,0.20979999999999999,0.2175,0.23935000000000001,0.2276,0.219,0.2203,"*",null,"Germany (until 1990 former territory of the FRG)",{"$f":"IFERROR(AVERAGE(B96:C96),\"*\")","v":0.1226},{"$f":"IFERROR(AVERAGE(D96:E96),\"*\")","v":0.12659999999999999},{"$f":"IFERROR(AVERAGE(F96:G96),\"*\")","v":0.13225000000000001},{"$f":"IFERROR(AVERAGE(H96:I96),\"*\")","v":0.13485},{"$f":"IFERROR(AVERAGE(J96:K96),\"*\")","v":0.14495000000000002},{"$f":"IFERROR(AVERAGE(L96:M96),\"*\")","v":0.14929999999999999},0.1666,0.18254999999999999,0.17380000000000001,0.17449999999999999,"*",null,"Germany (until 1990 former territory of the FRG)",9.8500000000000004E-2,0.10655000000000001,0.1133,0.11549999999999999,0.12454999999999999,0.12870000000000001,0.14344999999999999,0.15529999999999999,0.15010000000000001,0.15049999999999999,"*",null,"Germany (until 1990 former territory of the FRG)",{"$f":"IFERROR(AVERAGE(B176:C176),\"*\")","v":8.6999999999999994E-2},{"$f":"IFERROR(AVERAGE(D176:E176),\"*\")","v":9.5799999999999996E-2},{"$f":"IFERROR(AVERAGE(F176:G176),\"*\")","v":0.10045},{"$f":"IFERROR(AVERAGE(H176:I176),\"*\")","v":0.10255},{"$f":"IFERROR(AVERAGE(J176:K176),\"*\")","v":0.113},{"$f":"IFERROR(AVERAGE(L176:M176),\"*\")","v":0.1157},0.12755,0.1351,0.1308,0.1285,"*",null,"Germany (until 1990 former territory of the FRG)",{"$f":"IFERROR(AVERAGE(B216:C216),\"*\")","v":7.9199999999999993E-2},{"$f":"IFERROR(AVERAGE(D216:E216),\"*\")","v":8.9950000000000002E-2},{"$f":"IFERROR(AVERAGE(F216:G216),\"*\")","v":9.215000000000001E-2},{"$f":"IFERROR(AVERAGE(H216:I216),\"*\")","v":9.1749999999999998E-2},{"$f":"IFERROR(AVERAGE(J216:K216),\"*\")","v":0.10464999999999999},{"$f":"IFERROR(AVERAGE(L216:M216),\"*\")","v":0.10444999999999999},0.11205,0.11374999999999999,0.11175,0.1021,"*",null,"Germany (until 1990 former territory of the FRG)",{"$f":"IFERROR(AVERAGE(B256:C256),\"*\")","v":7.9050000000000009E-2},{"$f":"IFERROR(AVERAGE(D256:E256),\"*\")","v":8.5600000000000009E-2},{"$f":"IFERROR(AVERAGE(F256:G256),\"*\")","v":8.6900000000000005E-2},{"$f":"IFERROR(AVERAGE(H256:I256),\"*\")","v":8.6300000000000002E-2},{"$f":"IFERROR(AVERAGE(J256:K256),\"*\")","v":0.10065},{"$f":"IFERROR(AVERAGE(L256:M256),\"*\")","v":9.2600000000000002E-2},0.10175000000000001,0.1048,9.7549999999999998E-2,7.9600000000000004E-2,"*",null,"Germany (until 1990 former territory of the FRG)","*","*","*","*","*","*","*","*","*","*","*"]
["Estonia",6.9000000000000006E-2,7.3149999999999993E-2,8.115E-2,8.4400000000000003E-2,7.775E-2,8.5449999999999998E-2,0.11499999999999999,0.11,0.10735,0.1043,"*",null,"Estonia",5.7500000000000002E-2,6.25E-2,6.905E-2,7.6450000000000004E-2,7.594999999999999E-2,8.2400000000000001E-2,0.10364999999999999,9.8299999999999998E-2,9.665E-2,9.3200000000000005E-2,"*",null,"Estonia",{"$f":"IFERROR(AVERAGE(B137:C137),\"*\")","v":5.2999999999999999E-2},{"$f":"IFERROR(AVERAGE(D137:E137),\"*\")","v":5.8400000000000001E-2},{"$f":"IFERROR(AVERAGE(F137:G137),\"*\")","v":6.4399999999999999E-2},{"$f":"IFERROR(AVERAGE(H137:I137),\"*\")","v":7.1050000000000002E-2},{"$f":"IFERROR(AVERAGE(J137:K137),\"*\")","v":7.3450000000000001E-2},{"$f":"IFERROR(AVERAGE(L137:M137),\"*\")","v":8.0100000000000005E-2},9.7200000000000009E-2,9.2350000000000002E-2,9.2350000000000002E-2,8.7800000000000003E-2,"*",null,"Estonia",4.4699999999999997E-2,5.0299999999999997E-2,5.6750000000000002E-2,6.9500000000000006E-2,7.2250000000000009E-2,7.8800000000000009E-2,9.0150000000000008E-2,8.455E-2,8.5350000000000009E-2,8.0799999999999997E-2,"*",null,"Estonia",3.4500000000000003E-2,4.1750000000000002E-2,4.6399999999999997E-2,6.2600000000000003E-2,6.8099999999999994E-2,7.1199999999999999E-2,8.1600000000000006E-2,7.5199999999999989E-2,7.3550000000000004E-2,7.1300000000000002E-2,"*",null,"Estonia",3.4500000000000003E-2,3.8699999999999998E-2,4.53E-2,5.2049999999999999E-2,6.3500000000000001E-2,6.6299999999999998E-2,7.1750000000000008E-2,7.0000000000000007E-2,7.039999999999999E-2,6.9800000000000001E-2,"*",null,"Estonia","*","*","*","*","*","*","*","*","*","*","*"]
["Ireland",0.15429999999999999,0.1615,0.17320000000000002,0.16605,0.19140000000000001,0.19264999999999999,0.19490000000000002,0.19474999999999998,0.20715,0.19359999999999999,"*",null,"Ireland",0.13850000000000001,0.14695000000000003,0.1452,0.13605,0.14240000000000003,0.15634999999999999,0.16059999999999999,0.1603,0.16410000000000002,0.15920000000000001,"*",null,"Ireland",0.1235,0.13605,0.11904999999999999,0.11269999999999999,0.12245,0.13564999999999999,0.13679999999999998,0.1361,0.13869999999999999,0.13270000000000001,"*",null,"Ireland",0.1086,0.12384999999999999,0.10205,8.5199999999999998E-2,9.2499999999999999E-2,0.11169999999999999,0.11615,0.1147,0.11395,0.1018,"*",null,"Ireland",0.1094,0.11705,9.2249999999999999E-2,7.8050000000000008E-2,8.1249999999999989E-2,0.10085,0.10375000000000001,9.9099999999999994E-2,9.8650000000000002E-2,8.8700000000000001E-2,"*",null,"Ireland",0.1026,0.1004,8.3100000000000007E-2,5.62E-2,6.8699999999999997E-2,9.2350000000000002E-2,9.2649999999999996E-2,9.2249999999999999E-2,0.09,8.0699999999999994E-2,"*",null,"Ireland","*","*","*","*","*","*","*","*","*","*","*"]
["Greece",0.1237,0.13340000000000002,0.15125,0.15865000000000001,0.15710000000000002,0.17499999999999999,0.19319999999999998,0.21134999999999998,0.22275,0.20119999999999999,"*",null,"Greece",9.7799999999999998E-2,0.10919999999999999,0.11724999999999999,0.121,0.13084999999999999,0.14450000000000002,0.15920000000000001,0.17609999999999998,0.17865,0.1613,"*",null,"Greece",7.8899999999999998E-2,8.904999999999999E-2,9.4200000000000006E-2,9.8599999999999993E-2,0.10785,0.12025,0.12434999999999999,0.13169999999999998,0.12210000000000001,0.11509999999999999,"*",null,"Greece",6.7299999999999999E-2,7.6749999999999999E-2,8.2000000000000003E-2,8.5999999999999993E-2,9.0249999999999997E-2,0.10405,0.1069,0.1076,9.4950000000000007E-2,8.9800000000000005E-2,"*",null,"Greece",6.0600000000000001E-2,6.8900000000000003E-2,7.3399999999999993E-2,7.7299999999999994E-2,7.8800000000000009E-2,9.240000000000001E-2,9.4799999999999995E-2,8.09E-2,7.3300000000000004E-2,7.3899999999999993E-2,"*",null,"Greece",5.9900000000000002E-2,6.565E-2,6.3150000000000012E-2,6.9650000000000004E-2,6.055E-2,6.2399999999999997E-2,6.8000000000000005E-2,5.3749999999999999E-2,4.9750000000000003E-2,5.7500000000000002E-2,"*",null,"Greece","*","*",5.9499999999999997E-2,6.4000000000000001E-2,6.0899999999999996E-2,5.9700000000000003E-2,"*","*","*","*","*"]
["Spain",0.15909999999999999,0.13744999999999999,0.17130000000000001,0.1842,0.1867,0.20955000000000001,0.24214999999999998,0.28339999999999999,0.27129999999999999,0.24779999999999999,"*",null,"Spain",0.11609999999999999,0.12129999999999999,0.13255,0.13880000000000001,0.1419,0.15450000000000003,0.15165000000000001,0.1578,0.15455000000000002,0.1467,"*",null,"Spain",9.5799999999999996E-2,0.10145000000000001,0.1137,0.11299999999999999,0.11465,0.1205,0.12129999999999999,0.12065000000000001,0.1153,0.1105,"*",null,"Spain",8.3199999999999996E-2,{"$f":"IFERROR(AVERAGE(D180:E180),\"*\")","v":8.6449999999999999E-2},{"$f":"IFERROR(AVERAGE(F180:G180),\"*\")","v":9.4349999999999989E-2},9.1200000000000003E-2,9.265000000000001E-2,0.1009,0.10630000000000001,0.10340000000000001,9.6149999999999999E-2,9.0200000000000002E-2,"*",null,"Spain",6.93E-2,7.4700000000000003E-2,8.2850000000000007E-2,7.6149999999999995E-2,8.0049999999999996E-2,8.7650000000000006E-2,8.660000000000001E-2,8.09E-2,8.2350000000000007E-2,7.3400000000000007E-2,"*",null,"Spain",5.5300000000000002E-2,6.6000000000000003E-2,7.1849999999999997E-2,6.7349999999999993E-2,7.2050000000000003E-2,7.6399999999999996E-2,7.2749999999999995E-2,7.4499999999999997E-2,7.7649999999999997E-2,6.6699999999999995E-2,"*",null,"Spain",4.1300000000000003E-2,4.7850000000000004E-2,5.1750000000000004E-2,5.1150000000000001E-2,5.2749999999999998E-2,5.6050000000000003E-2,6.0949999999999997E-2,6.0950000000000004E-2,7.0949999999999999E-2,5.4300000000000001E-2,"*"]
["France",0.1065,0.1095,0.11280000000000001,0.12039999999999999,0.12785000000000002,0.13055,0.13705000000000001,0.14000000000000001,0.15065000000000001,0.14660000000000001,"*",null,"France",7.4099999999999999E-2,8.2699999999999996E-2,8.8249999999999995E-2,9.1499999999999998E-2,9.9949999999999997E-2,0.10145,0.1109,0.1158,0.1202,0.1196,"*",null,"France",5.74E-2,6.3399999999999998E-2,6.8649999999999989E-2,7.4699999999999989E-2,8.2850000000000007E-2,8.72E-2,9.1150000000000009E-2,9.5849999999999991E-2,9.7849999999999993E-2,9.9299999999999999E-2,"*",null,"France",5.2900000000000003E-2,5.7249999999999995E-2,6.4899999999999999E-2,6.6099999999999992E-2,7.2099999999999997E-2,7.5550000000000006E-2,7.8850000000000003E-2,8.2350000000000007E-2,8.6449999999999999E-2,8.3500000000000005E-2,"*",null,"France",5.5300000000000002E-2,6.1249999999999999E-2,6.7150000000000001E-2,6.4799999999999996E-2,6.7299999999999999E-2,6.9800000000000001E-2,7.1199999999999999E-2,7.2849999999999998E-2,7.5050000000000006E-2,7.0699999999999999E-2,"*",null,"France",5.16E-2,5.7200000000000001E-2,5.7249999999999995E-2,5.8349999999999999E-2,5.9550000000000006E-2,6.1399999999999996E-2,6.0450000000000004E-2,6.0749999999999998E-2,6.0850000000000001E-2,6.4699999999999994E-2,"*",null,"France","*","*","*","*","*","*","*","*","*","*","*"]
["Croatia",8.2449999999999996E-2,0.10385,0.1124,0.1166,0.11410000000000001,0.1237,0.12690000000000001,0.12835000000000002,0.1231,0.12429999999999999,"*",null,"Croatia",7.9749999999999988E-2,9.0049999999999991E-2,0.1008,0.10514999999999999,0.10325000000000001,0.10835,0.1116,0.1101,0.10780000000000001,0.10580000000000001,"*",null,"Croatia",7.0200000000000012E-2,8.5150000000000003E-2,8.854999999999999E-2,9.2149999999999996E-2,0.09,9.1950000000000004E-2,9.4649999999999998E-2,9.3700000000000006E-2,9.2399999999999996E-2,9.0300000000000005E-2,"*",null,"Croatia",5.2499999999999998E-2,7.1349999999999997E-2,7.5600000000000001E-2,7.8850000000000003E-2,7.6850000000000002E-2,7.7949999999999992E-2,8.0500000000000002E-2,7.9850000000000004E-2,7.980000000000001E-2,7.7799999999999994E-2,"*",null,"Croatia",4.3650000000000001E-2,5.6750000000000002E-2,6.1950000000000005E-2,6.7149999999999987E-2,6.0100000000000001E-2,5.9650000000000002E-2,6.3700000000000007E-2,6.4849999999999991E-2,6.4600000000000005E-2,6.3700000000000007E-2,"*",null,"Croatia",3.9550000000000002E-2,4.7800000000000002E-2,5.5199999999999999E-2,5.7849999999999999E-2,5.5599999999999997E-2,6.2049999999999994E-2,6.5750000000000003E-2,5.6349999999999997E-2,5.62E-2,5.4399999999999997E-2,"*",null,"Croatia",4.2300000000000004E-2,5.2650000000000002E-2,"*",5.8400000000000001E-2,"*","*","*","*","*","*","*"]
["Italy","*",0.22134999999999999,0.23765,0.24115,0.23799999999999999,0.24334999999999998,0.26919999999999999,0.26205000000000001,0.26884999999999998,0.26960000000000001,"*",null,"Italy","*",0.15760000000000002,0.15870000000000001,0.15384999999999999,0.17965,0.19235000000000002,0.19664999999999999,0.19740000000000002,0.18770000000000001,0.1797,"*",null,"Italy","*",0.14424999999999999,0.14505000000000001,0.1416,0.15915000000000001,0.17130000000000001,0.1699,0.17274999999999999,0.16025,0.15260000000000001,"*",null,"Italy","*",0.13345000000000001,0.12784999999999999,0.12534999999999999,0.13440000000000002,0.16535,0.15639999999999998,0.15570000000000001,0.1487,0.1406,"*",null,"Italy","*",0.11965000000000001,0.1109,0.11065,0.1231,0.13289999999999999,0.13505,0.13619999999999999,0.12659999999999999,0.1225,"*",null,"Italy","*",0.108,9.3400000000000011E-2,0.10075000000000001,0.10075000000000001,0.11765,0.1149,0.1101,0.10545,9.0899999999999995E-2,"*",null,"Italy","*",9.6099999999999991E-2,8.9700000000000002E-2,0.10205,9.085E-2,9.7350000000000006E-2,0.10175000000000001,8.7100000000000011E-2,8.6400000000000005E-2,7.46E-2,"*"]
["Cyprus",0.1472,0.17895,0.15410000000000001,0.18309999999999998,0.21529999999999999,0.27100000000000002,0.24564999999999998,0.21820000000000001,0.18190000000000001,0.15,"*",null,"Cyprus",0.1487,0.17910000000000001,0.15279999999999999,0.1794,0.20845,0.25419999999999998,0.22559999999999999,0.20105000000000001,0.16389999999999999,0.13109999999999999,"*",null,"Cyprus",0.1391,0.16170000000000001,0.13400000000000001,0.16175,0.18914999999999998,0.22904999999999998,0.20450000000000002,0.18254999999999999,0.14024999999999999,0.1048,"*",null,"Cyprus",0.12839999999999999,0.15165000000000001,0.12225,0.15100000000000002,0.1744,0.2152,0.19245000000000001,0.16894999999999999,0.125,9.1200000000000003E-2,"*",null,"Cyprus",0.11210000000000001,0.13789999999999999,0.11130000000000001,0.13950000000000001,0.16564999999999999,0.20845,0.17580000000000001,0.16065000000000002,0.1202,8.5099999999999995E-2,"*",null,"Cyprus",0.1152,0.13875000000000001,0.11119999999999999,0.13905000000000001,0.1638,0.20265,0.1709,0.15050000000000002,0.10985,8.3000000000000004E-2,"*",null,"Cyprus","*","*","*","*","*","*","*","*","*","*","*"]
["Latvia",0.13039999999999999,9.4750000000000001E-2,0.11545,0.1157,0.13495000000000001,0.14005000000000001,0.14495,0.15360000000000001,0.16189999999999999,0.153,"*",null,"Latvia",7.1800000000000003E-2,8.3600000000000008E-2,9.6349999999999991E-2,9.5899999999999999E-2,0.1124,0.11915000000000001,0.12365,0.12925,0.13134999999999999,0.1285,"*",null,"Latvia",5.9499999999999997E-2,7.2849999999999998E-2,8.9450000000000002E-2,8.9849999999999999E-2,0.10425000000000001,0.11065,0.11385000000000001,0.1177,0.11805,0.11650000000000001,"*",null,"Latvia",4.99E-2,6.4899999999999999E-2,8.4199999999999997E-2,8.3800000000000013E-2,9.4700000000000006E-2,9.9500000000000005E-2,0.10545,0.10715,0.10765,0.1074,"*",null,"Latvia",4.4699999999999997E-2,6.0299999999999992E-2,7.9500000000000001E-2,8.199999999999999E-2,9.4350000000000003E-2,9.6250000000000002E-2,0.10485,0.10580000000000001,9.870000000000001E-2,0.10009999999999999,"*",null,"Latvia",4.2999999999999997E-2,6.0149999999999995E-2,7.2050000000000003E-2,7.46E-2,7.955000000000001E-2,8.005000000000001E-2,9.8549999999999999E-2,9.2999999999999999E-2,8.3900000000000002E-2,7.8200000000000006E-2,"*",null,"Latvia","*","*","*","*","*","*","*","*","*","*","*"]
["Lithuania",0.10680000000000001,0.10450000000000001,0.1091,0.1215,0.13084999999999999,0.12835000000000002,0.14510000000000001,0.14035,0.13164999999999999,0.12609999999999999,"*",null,"Lithuania",8.6400000000000005E-2,9.4700000000000006E-2,9.7349999999999992E-2,0.11075,0.11415,0.12015000000000001,0.12935000000000002,0.12365000000000001,0.10955000000000001,0.1056,"*",null,"Lithuania",7.4399999999999994E-2,8.3350000000000007E-2,8.5699999999999998E-2,0.10205,0.10435,0.11415,0.12290000000000001,0.11695,9.9299999999999999E-2,9.4E-2,"*",null,"Lithuania",6.2700000000000006E-2,7.0250000000000007E-2,7.2349999999999998E-2,9.7000000000000003E-2,0.10235,0.10744999999999999,0.11610000000000001,0.1167,9.0450000000000003E-2,8.3599999999999994E-2,"*",null,"Lithuania",5.4800000000000001E-2,6.6450000000000009E-2,6.8150000000000002E-2,8.7499999999999994E-2,0.1008,0.11660000000000001,0.127,0.11760000000000001,8.3949999999999997E-2,7.6399999999999996E-2,"*",null,"Lithuania",5.5599999999999997E-2,6.3E-2,"*","*","*","*","*","*",8.005000000000001E-2,7.22E-2,"*",null,"Lithuania","*","*","*","*","*","*","*","*","*","*","*"]
["Luxembourg",0.16885,0.15659999999999999,0.19864999999999999,0.17185,0.16975000000000001,0.17035,0.16389999999999999,0.1694,0.16569999999999999,0.1633,"*",null,"Luxembourg",0.12054999999999999,0.11094999999999999,0.13114999999999999,0.11549999999999999,0.11395,0.11699999999999999,0.1153,0.1125,0.10295,0.1012,"*",null,"Luxembourg",0.10045000000000001,9.7750000000000004E-2,0.11574999999999999,0.10205,0.10015,0.10314999999999999,9.9199999999999997E-2,9.9699999999999997E-2,9.1049999999999992E-2,8.7300000000000003E-2,"*",null,"Luxembourg","*","*",9.3549999999999994E-2,7.8800000000000009E-2,7.3149999999999993E-2,7.6200000000000004E-2,7.3450000000000001E-2,6.6400000000000001E-2,6.1149999999999996E-2,5.3900000000000003E-2,"*",null,"Luxembourg","*","*",6.54E-2,6.7299999999999999E-2,6.1800000000000001E-2,6.4349999999999991E-2,6.1550000000000001E-2,5.96E-2,5.4650000000000004E-2,4.4600000000000001E-2,"*",null,"Luxembourg","*","*","*","*","*","*","*","*","*","*","*",null,"Luxembourg","*","*","*","*","*","*","*","*","*","*","*"]
["Hungary",0.122,0.14915,0.12039999999999999,0.1236,0.1258,0.12705,0.11260000000000001,0.10569999999999999,0.10694999999999999,9.98E-2,"*",null,"Hungary",0.12479999999999999,0.13600000000000001,0.12609999999999999,0.10735,0.10930000000000001,0.11085,0.1074,0.1007,9.6849999999999992E-2,9.1999999999999998E-2,"*",null,"Hungary",0.1128,0.11799999999999999,0.12690000000000001,0.10564999999999999,9.9650000000000002E-2,9.7349999999999992E-2,9.715E-2,9.0649999999999994E-2,8.6849999999999997E-2,8.0500000000000002E-2,"*",null,"Hungary",9.9299999999999999E-2,0.10435,0.11244999999999999,9.4150000000000011E-2,9.3649999999999997E-2,9.4049999999999995E-2,9.4900000000000012E-2,8.8200000000000001E-2,8.5300000000000001E-2,7.6300000000000007E-2,"*",null,"Hungary",8.5400000000000004E-2,9.3799999999999994E-2,0.10915,8.4849999999999995E-2,0.10014999999999999,9.5149999999999998E-2,9.6349999999999991E-2,8.7999999999999995E-2,8.4349999999999994E-2,7.4499999999999997E-2,"*",null,"Hungary",7.2099999999999997E-2,8.3900000000000002E-2,9.265000000000001E-2,8.3100000000000007E-2,7.5050000000000006E-2,0.10089999999999999,9.4649999999999998E-2,8.7650000000000006E-2,8.5150000000000003E-2,7.17E-2,"*",null,"Hungary",6.7000000000000004E-2,7.9799999999999996E-2,9.35E-2,7.7100000000000002E-2,6.964999999999999E-2,9.5500000000000002E-2,9.5400000000000013E-2,8.3400000000000002E-2,8.2250000000000004E-2,7.3200000000000001E-2,"*"]
["Malta",0.13070000000000001,0.15415000000000001,0.15675,0.24199999999999999,0.24399999999999999,0.24399999999999999,0.24349999999999999,0.24199999999999999,0.20800000000000002,0.23430000000000001,"*",null,"Malta",0.1288,0.15265000000000001,0.15325,0.20050000000000001,0.2,0.20100000000000001,0.20050000000000001,0.20050000000000001,0.16694999999999999,0.1578,"*",null,"Malta",0.1221,0.14199999999999999,0.13985,0.17649999999999999,0.17899999999999999,0.18,0.17849999999999999,0.17749999999999999,0.1502,0.14219999999999999,"*",null,"Malta",9.1800000000000007E-2,0.11205000000000001,0.1045,0.1545,0.1575,0.1585,0.157,0.1575,0.13255,0.1221,"*",null,"Malta",5.8000000000000003E-2,9.5200000000000007E-2,0.1045,0.13650000000000001,0.13650000000000001,0.13800000000000001,0.13800000000000001,0.14000000000000001,0.1198,0.1113,"*",null,"Malta","*",9.5200000000000007E-2,0.1045,0.13550000000000001,0.13950000000000001,0.14550000000000002,0.14000000000000001,0.13100000000000001,0.10635,9.9199999999999997E-2,"*",null,"Malta","*",9.5200000000000007E-2,0.1045,"*","*","*","*","*","*","*","*"]
["Netherlands",0.14380000000000001,0.1588,0.17774999999999999,0.1716,0.15340000000000001,0.16205,0.16305,0.17199999999999999,0.17945,0.13750000000000001,"*",null,"Netherlands",0.12740000000000001,0.1227,0.1406,0.12984999999999999,0.12445000000000001,0.12640000000000001,0.12890000000000001,0.12690000000000001,0.12425,0.13800000000000001,"*",null,"Netherlands",0.10255,0.10445,0.10855000000000001,9.9099999999999994E-2,9.6849999999999992E-2,9.6700000000000008E-2,9.4500000000000001E-2,9.11E-2,8.7400000000000005E-2,8.5699999999999998E-2,"*",null,"Netherlands",8.8150000000000006E-2,9.0900000000000009E-2,9.8049999999999998E-2,8.904999999999999E-2,8.6999999999999994E-2,8.5800000000000001E-2,8.7400000000000005E-2,8.3299999999999999E-2,8.0699999999999994E-2,7.7399999999999997E-2,"*",null,"Netherlands",8.055000000000001E-2,8.4249999999999992E-2,8.7400000000000005E-2,7.3700000000000002E-2,7.2450000000000001E-2,7.2400000000000006E-2,7.7350000000000002E-2,7.0849999999999996E-2,6.7049999999999998E-2,6.6100000000000006E-2,"*",null,"Netherlands",7.2099999999999997E-2,7.8850000000000003E-2,8.3350000000000007E-2,7.3050000000000004E-2,7.3499999999999996E-2,7.0349999999999996E-2,7.6050000000000006E-2,7.2399999999999992E-2,6.9000000000000006E-2,6.2100000000000002E-2,"*",null,"Netherlands","*","*",6.4149999999999999E-2,6.3299999999999995E-2,6.4450000000000007E-2,6.1749999999999999E-2,7.3849999999999999E-2,6.5599999999999992E-2,6.5500000000000003E-2,5.8500000000000003E-2,"*"]
["Austria",0.12559999999999999,0.12865000000000001,0.15894999999999998,0.1542,0.15444999999999998,0.14974999999999999,0.157,0.1585,0.16084999999999999,0.15989999999999999,"*",null,"Austria",0.1176,0.1215,0.13285,0.12884999999999999,0.12924999999999998,0.12920000000000001,0.13190000000000002,0.12795000000000001,0.125,0.12330000000000001,"*",null,"Austria",9.4E-2,0.10680000000000001,0.1173,0.11274999999999999,0.11269999999999999,0.1109,0.1111,0.10719999999999999,0.1043,0.10290000000000001,"*",null,"Austria",8.1199999999999994E-2,9.4549999999999995E-2,0.10835,0.1032,0.1013,9.8400000000000001E-2,9.820000000000001E-2,9.4850000000000004E-2,9.0299999999999991E-2,8.5999999999999993E-2,"*",null,"Austria",8.0600000000000005E-2,8.9450000000000002E-2,0.10009999999999999,9.5000000000000001E-2,9.3100000000000002E-2,8.8099999999999998E-2,8.5449999999999998E-2,8.2049999999999998E-2,7.7449999999999991E-2,7.1900000000000006E-2,"*",null,"Austria",7.51E-2,8.2449999999999996E-2,9.1899999999999996E-2,8.9099999999999999E-2,8.5900000000000004E-2,8.2400000000000001E-2,7.9500000000000001E-2,7.2500000000000009E-2,7.0300000000000001E-2,6.4799999999999996E-2,"*",null,"Austria","*",8.7999999999999995E-2,"*","*","*","*","*","*",6.4100000000000004E-2,"*","*"]
["Poland",0.1426,0.14315,0.13985,0.15654999999999999,0.15655000000000002,0.16494999999999999,0.15084999999999998,0.1507,0.1522,0.14030000000000001,"*",null,"Poland",0.10680000000000001,0.10475000000000001,0.108,0.1182,0.11735,0.11855,0.11595,0.11085,0.11465,0.1067,"*",null,"Poland",9.0499999999999997E-2,8.9549999999999991E-2,9.1749999999999998E-2,9.8299999999999998E-2,9.7750000000000004E-2,9.3650000000000011E-2,9.0450000000000003E-2,8.2900000000000001E-2,8.7150000000000005E-2,8.0799999999999997E-2,"*",null,"Poland",6.93E-2,8.14E-2,8.2350000000000007E-2,8.5600000000000009E-2,8.2549999999999998E-2,8.2949999999999996E-2,7.7450000000000005E-2,7.0849999999999996E-2,7.5999999999999998E-2,7.17E-2,"*",null,"Poland",5.3400000000000003E-2,7.4999999999999997E-2,7.7800000000000008E-2,7.9850000000000004E-2,7.7899999999999997E-2,7.9049999999999995E-2,7.1550000000000002E-2,6.5049999999999997E-2,6.9449999999999998E-2,6.54E-2,"*",null,"Poland",6.1199999999999997E-2,6.9599999999999995E-2,7.3300000000000004E-2,7.7200000000000005E-2,7.5399999999999995E-2,7.4899999999999994E-2,6.795000000000001E-2,6.0749999999999998E-2,6.4549999999999996E-2,5.9499999999999997E-2,"*",null,"Poland","*",7.22E-2,7.6350000000000001E-2,8.1749999999999989E-2,7.9149999999999998E-2,7.8E-2,6.8400000000000002E-2,5.5750000000000001E-2,5.935E-2,5.5899999999999998E-2,"*"]
["Portugal",0.1246,0.153,0.15789999999999998,0.16555,0.17254999999999998,0.1797,0.1847,0.19014999999999999,0.19505,0.20030000000000001,"*",null,"Portugal",0.1033,0.10925,0.1139,0.11924999999999999,0.12675,0.13769999999999999,0.14255000000000001,0.14834999999999998,0.1454,0.14990000000000001,"*",null,"Portugal",7.9299999999999995E-2,8.9799999999999991E-2,9.4349999999999989E-2,9.2749999999999999E-2,0.10009999999999999,0.11460000000000001,0.11455,0.11745,0.1147,0.1125,"*",null,"Portugal",6.8699999999999997E-2,8.1199999999999994E-2,8.3549999999999999E-2,8.030000000000001E-2,9.1499999999999998E-2,0.10475,0.1033,0.10095000000000001,0.10355,0.10199999999999999,"*",null,"Portugal",6.3200000000000006E-2,6.8750000000000006E-2,6.8849999999999995E-2,6.795000000000001E-2,7.644999999999999E-2,9.2749999999999999E-2,9.1350000000000001E-2,8.6050000000000001E-2,8.8050000000000003E-2,8.48E-2,"*",null,"Portugal",5.79E-2,6.0850000000000001E-2,5.9299999999999992E-2,5.525E-2,7.014999999999999E-2,8.2449999999999996E-2,8.1699999999999995E-2,7.9949999999999993E-2,8.165E-2,6.6500000000000004E-2,"*",null,"Portugal","*","*","*","*","*","*","*","*","*","*","*"]
["Romania",0.12089999999999999,0.11044999999999999,0.1013,0.10639999999999999,0.10500000000000001,0.10300000000000001,0.11445,0.11094999999999999,0.10975,0.105,"*",null,"Romania",0.1067,0.10405,9.7000000000000003E-2,9.9699999999999997E-2,9.7750000000000004E-2,9.2600000000000002E-2,0.10195,0.10195000000000001,9.7450000000000009E-2,9.2399999999999996E-2,"*",null,"Romania",9.0800000000000006E-2,9.1799999999999993E-2,8.1949999999999995E-2,8.2900000000000001E-2,8.0299999999999996E-2,7.9850000000000004E-2,8.6199999999999999E-2,8.4199999999999997E-2,8.1600000000000006E-2,7.5999999999999998E-2,"*",null,"Romania",7.9000000000000001E-2,7.9100000000000004E-2,7.2400000000000006E-2,7.0500000000000007E-2,7.0300000000000001E-2,7.0000000000000007E-2,7.3349999999999999E-2,7.5850000000000001E-2,7.3300000000000004E-2,6.83E-2,"*",null,"Romania",6.3799999999999996E-2,6.9099999999999995E-2,6.4399999999999999E-2,6.3049999999999995E-2,6.3399999999999998E-2,6.4100000000000004E-2,6.4700000000000008E-2,6.7699999999999996E-2,6.4750000000000002E-2,6.0299999999999999E-2,"*",null,"Romania",5.7200000000000001E-2,5.8249999999999996E-2,5.8200000000000002E-2,5.7499999999999996E-2,6.0249999999999998E-2,5.8800000000000005E-2,6.4700000000000008E-2,6.6349999999999992E-2,6.1499999999999999E-2,5.8500000000000003E-2,"*",null,"Romania","*","*","*","*","*","*","*","*","*","*","*"]
["Slovenia",0.12809999999999999,0.14484999999999998,0.16544999999999999,0.14545,0.14365,0.14595000000000002,0.1532,0.14910000000000001,0.14379999999999998,0.13780000000000001,"*",null,"Slovenia",0.1106,0.1258,0.12984999999999999,0.11805,0.11365,0.11294999999999999,0.12025,0.10600000000000001,0.105,0.1047,"*",null,"Slovenia",9.0999999999999998E-2,9.5850000000000005E-2,9.955E-2,9.9900000000000003E-2,9.7549999999999998E-2,9.4450000000000006E-2,9.5599999999999991E-2,8.5650000000000004E-2,8.4849999999999995E-2,8.4699999999999998E-2,"*",null,"Slovenia",7.4700000000000003E-2,7.85E-2,8.0399999999999999E-2,8.5549999999999987E-2,8.4650000000000003E-2,8.43E-2,8.5300000000000001E-2,7.594999999999999E-2,7.3800000000000004E-2,7.1199999999999999E-2,"*",null,"Slovenia",6.4799999999999996E-2,6.5000000000000002E-2,6.93E-2,7.3749999999999996E-2,7.6100000000000001E-2,7.775E-2,7.6050000000000006E-2,6.8400000000000002E-2,6.5099999999999991E-2,6.1699999999999998E-2,"*",null,"Slovenia",6.7900000000000002E-2,7.1050000000000002E-2,7.2650000000000006E-2,7.3699999999999988E-2,7.4649999999999994E-2,7.0449999999999999E-2,7.2699999999999987E-2,6.6400000000000001E-2,6.2950000000000006E-2,5.67E-2,"*",null,"Slovenia","*","*","*","*","*","*","*","*","*","*","*"]
["Slovakia",0.14480000000000001,0.17595,0.21739999999999998,0.19524999999999998,0.20090000000000002,0.20549999999999999,0.20355000000000001,0.20045000000000002,0.2079,0.2051,"*",null,"Slovakia",0.12540000000000001,0.1472,0.16744999999999999,0.14624999999999999,0.15060000000000001,0.15579999999999999,0.15265000000000001,0.1409,0.13800000000000001,0.1351,"*",null,"Slovakia",0.1048,0.12429999999999999,0.14130000000000001,0.11860000000000001,0.12684999999999999,0.12934999999999999,0.12775,0.1163,0.1124,0.10920000000000001,"*",null,"Slovakia",9.5200000000000007E-2,0.11265,0.12664999999999998,0.1072,0.1166,0.11885000000000001,0.11660000000000001,0.10450000000000001,9.98E-2,9.6799999999999997E-2,"*",null,"Slovakia",8.48E-2,9.8000000000000004E-2,0.1099,9.7549999999999998E-2,0.1056,0.10985,0.1051,9.4399999999999998E-2,9.7599999999999992E-2,8.5699999999999998E-2,"*",null,"Slovakia",7.3400000000000007E-2,9.1200000000000003E-2,9.8150000000000001E-2,9.459999999999999E-2,9.5500000000000002E-2,9.895000000000001E-2,0.1057,9.035E-2,9.5049999999999996E-2,0.08,"*",null,"Slovakia",7.8200000000000006E-2,9.3400000000000011E-2,9.3200000000000005E-2,8.3300000000000013E-2,9.5500000000000002E-2,9.0749999999999997E-2,9.9299999999999999E-2,7.6499999999999999E-2,6.9199999999999998E-2,6.88E-2,"*"]
["Finland",7.4550000000000005E-2,7.9199999999999993E-2,8.3799999999999999E-2,8.6349999999999996E-2,9.6049999999999996E-2,9.5500000000000002E-2,9.6149999999999999E-2,9.3549999999999994E-2,9.0200000000000002E-2,8.6999999999999994E-2,"*",null,"Finland",6.8149999999999988E-2,7.3949999999999988E-2,7.7600000000000002E-2,7.9649999999999999E-2,8.7799999999999989E-2,8.7999999999999995E-2,8.929999999999999E-2,8.6799999999999988E-2,8.3849999999999994E-2,8.2799999999999999E-2,"*",null,"Finland",5.815E-2,6.5700000000000008E-2,6.8599999999999994E-2,6.88E-2,7.5300000000000006E-2,7.4949999999999989E-2,7.4899999999999994E-2,7.2800000000000004E-2,7.0649999999999991E-2,6.8500000000000005E-2,"*",null,"Finland",5.5849999999999997E-2,6.2599999999999989E-2,6.6049999999999998E-2,6.7349999999999993E-2,7.2800000000000004E-2,7.1899999999999992E-2,7.145E-2,6.989999999999999E-2,6.7199999999999996E-2,6.5000000000000002E-2,"*",null,"Finland",4.215E-2,5.4849999999999996E-2,5.4900000000000004E-2,6.0649999999999996E-2,6.2600000000000003E-2,5.9150000000000001E-2,5.9749999999999998E-2,5.62E-2,5.3100000000000001E-2,5.1900000000000002E-2,"*",null,"Finland",4.3499999999999997E-2,5.3699999999999998E-2,5.3400000000000003E-2,5.885E-2,6.2199999999999998E-2,5.8749999999999997E-2,5.9150000000000001E-2,5.5849999999999997E-2,5.0650000000000001E-2,4.7600000000000003E-2,"*",null,"Finland","*","*","*","*","*","*","*","*","*","*","*"]
["Sweden",9.5700000000000007E-2,0.11499999999999999,0.11524999999999999,0.14074999999999999,0.15429999999999999,0.17280000000000001,0.14799999999999999,0.13740000000000002,0.13589999999999999,0.1249,"*",null,"Sweden",7.4199999999999988E-2,8.3549999999999999E-2,7.7100000000000002E-2,9.2549999999999993E-2,9.7350000000000006E-2,9.1450000000000004E-2,8.7900000000000006E-2,7.9600000000000004E-2,7.1149999999999991E-2,7.1499999999999994E-2,"*",null,"Sweden",6.3899999999999998E-2,7.3300000000000004E-2,6.7799999999999999E-2,8.2299999999999998E-2,8.6050000000000001E-2,7.9250000000000001E-2,7.7550000000000008E-2,6.8700000000000011E-2,6.0600000000000001E-2,6.1600000000000002E-2,"*",null,"Sweden",5.5300000000000002E-2,6.5299999999999997E-2,5.96E-2,7.2700000000000001E-2,7.485E-2,6.93E-2,6.8099999999999994E-2,6.1649999999999996E-2,5.2999999999999999E-2,5.3100000000000001E-2,"*",null,"Sweden",4.99E-2,5.8749999999999997E-2,5.4349999999999996E-2,6.9650000000000004E-2,6.6650000000000001E-2,6.0499999999999998E-2,6.0700000000000004E-2,5.4300000000000001E-2,4.6300000000000001E-2,4.6300000000000001E-2,"*",null,"Sweden",4.8750000000000002E-2,5.9150000000000001E-2,4.9850000000000005E-2,6.5349999999999991E-2,6.1449999999999998E-2,5.1450000000000003E-2,5.3900000000000003E-2,4.7450000000000006E-2,3.8100000000000002E-2,3.8399999999999997E-2,"*",null,"Sweden","*","*","*","*","*","*","*","*","*","*","*"]
["United Kingdom",0.14345000000000002,0.13264999999999999,0.13679999999999998,0.14324999999999999,0.14005000000000001,0.15534999999999999,0.15410000000000001,0.17165,0.18414999999999998,0.16520000000000001,"*",null,"United Kingdom",0.11945,{"$f":"IFERROR(AVERAGE(D119:E119),\"*\")","v":0.11424999999999999},0.11685000000000001,0.11799999999999999,0.1177,0.13250000000000001,0.13255,0.14695,0.16844999999999999,0.1537,"*",null,"United Kingdom",0.10905000000000001,0.10324999999999999,0.10644999999999999,9.9450000000000011E-2,0.1013,0.1168,0.11805,0.13134999999999999,0.15045,0.13769999999999999,"*",null,"United Kingdom",9.8199999999999996E-2,9.4500000000000001E-2,9.5899999999999999E-2,8.8050000000000003E-2,9.1150000000000009E-2,0.10605000000000001,0.10819999999999999,0.11935,0.13830000000000001,0.1268,"*",null,"United Kingdom",9.1950000000000004E-2,9.1499999999999998E-2,9.325E-2,8.14E-2,8.5199999999999998E-2,0.10339999999999999,0.10675,0.11855,0.13474999999999998,0.12509999999999999,"*",null,"United Kingdom",8.795E-2,9.3700000000000006E-2,9.2350000000000002E-2,8.0100000000000005E-2,8.2650000000000001E-2,9.7750000000000004E-2,0.10439999999999999,0.1152,0.13139999999999999,0.12230000000000001,"*",null,"United Kingdom",7.7550000000000008E-2,8.1799999999999998E-2,8.0600000000000005E-2,8.0499999999999988E-2,8.1350000000000006E-2,9.9699999999999997E-2,0.1004,0.11205,0.12740000000000001,0.11849999999999999,"*"]
[]
["Baggrundsdata for level 2 priser - Eurostat nrg_pc_205"]
["Opdateret",{"$f":"B41","v":"2016-12-08T09:20:25.973"}]
["Electricity prices for industrial consumers - bi-annual data (from 2007 onwards) [nrg_pc_205]"]
[]
["Last update","2016-11-07T16:45:28"]
["Extracted on","2016-12-08T09:20:25.973"]
["Source of data","Eurostat"]
[]
["PRODUCT","Electrical energy"]
["CONSOM","Band IA : Consumption < 20 MWh"]
["UNIT","Kilowatt-hour"]
["TAX","Excluding VAT and other recoverable taxes and levies"]
["CURRENCY","Euro"]
[]
["GEO/TIME","2007S1","2007S2","2008S1","2008S2","2009S1","2009S2","2010S1","2010S2","2011S1","2011S2","2012S1","2012S2","2013S1","2013S2","2014S1","2014S2","2015S1","2015S2","2016S1"]
["European Union (28 countries)",":",0.14530000000000001,0.1484,0.1565,0.1588,0.16189999999999999,0.16350000000000001,0.17219999999999999,0.16919999999999999,0.17660000000000001,0.17480000000000001,0.18490000000000001,0.18629999999999999,0.19089999999999999,0.18959999999999999,0.19209999999999999,0.1918,0.19089999999999999,0.18590000000000001]
["Belgium",":",0.14360000000000001,0.1678,0.17130000000000001,0.1545,0.15229999999999999,0.15970000000000001,0.16370000000000001,0.18190000000000001,0.17549999999999999,0.18029999999999999,0.17660000000000001,0.17349999999999999,0.1779,0.1794,0.17780000000000001,0.17860000000000001,0.17810000000000001,0.19550000000000001]
["Bulgaria",":",6.8000000000000005E-2,6.8500000000000005E-2,7.6700000000000004E-2,7.7700000000000005E-2,7.6700000000000004E-2,7.8200000000000006E-2,7.8600000000000003E-2,7.85E-2,8.3599999999999994E-2,8.5199999999999998E-2,9.5399999999999999E-2,0.1055,9.9299999999999999E-2,9.5399999999999999E-2,9.6600000000000005E-2,0.1013,0.1153,0.104]
["Czech Republic",":",0.14130000000000001,0.16470000000000001,0.16789999999999999,0.16320000000000001,0.17199999999999999,0.1714,0.17749999999999999,0.185,0.18099999999999999,0.18809999999999999,0.1885,0.1865,0.1825,0.15870000000000001,0.1578,0.15529999999999999,0.1578,0.1608]
["Denmark",":",0.17630000000000001,0.1875,0.19950000000000001,0.19220000000000001,0.1807,0.1847,0.18770000000000001,0.20319999999999999,0.20860000000000001,0.20979999999999999,0.20830000000000001,0.18149999999999999,0.1777,0.18410000000000001,0.18360000000000001,0.18029999999999999,0.1777,0.183]
["Germany (until 1990 former territory of the FRG)",0.1726,0.1759,0.17680000000000001,0.18310000000000001,0.184,0.1888,0.1923,0.1983,0.2072,0.21240000000000001,0.216,0.219,0.24149999999999999,0.23719999999999999,0.2261,0.2291,0.2198,0.21820000000000001,0.2203]
["Estonia",":",6.9000000000000006E-2,7.0900000000000005E-2,7.5399999999999995E-2,8.0799999999999997E-2,8.1500000000000003E-2,8.2799999999999999E-2,8.5999999999999993E-2,7.7299999999999994E-2,7.8200000000000006E-2,8.3400000000000002E-2,8.7499999999999994E-2,0.1115,0.11849999999999999,0.1087,0.1113,0.1069,0.10780000000000001,0.1043]
["Ireland",":",0.15429999999999999,0.1477,0.17530000000000001,0.17760000000000001,0.16880000000000001,0.15690000000000001,0.17519999999999999,0.1845,0.1983,0.185,0.20030000000000001,0.19850000000000001,0.1913,0.1923,0.19719999999999999,0.20979999999999999,0.20449999999999999,0.19359999999999999]
["Greece",":",0.1237,0.129,0.13780000000000001,0.14849999999999999,0.154,0.15479999999999999,0.16250000000000001,0.157,0.15720000000000001,0.17180000000000001,0.1782,0.1883,0.1981,0.20849999999999999,0.2142,0.21149999999999999,0.23400000000000001,0.20119999999999999]
["Spain",":",0.15909999999999999,0.13719999999999999,0.13769999999999999,0.1656,0.17699999999999999,0.18110000000000001,0.18729999999999999,0.17180000000000001,0.2016,0.2051,0.214,0.2341,0.25019999999999998,0.27439999999999998,0.29239999999999999,0.27289999999999998,0.2697,0.24779999999999999]
["France",":",0.1065,0.1052,0.1138,0.11210000000000001,0.1135,0.1147,0.12609999999999999,0.124,0.13170000000000001,0.1169,0.14419999999999999,0.1288,0.14530000000000001,0.1371,0.1429,0.1459,0.15540000000000001,0.14660000000000001]
["Croatia",7.1999999999999995E-2,9.2899999999999996E-2,9.4899999999999998E-2,0.1128,0.10970000000000001,0.11509999999999999,0.1171,0.11609999999999999,0.1152,0.113,0.1171,0.1303,0.1265,0.1273,0.1298,0.12690000000000001,0.1226,0.1236,0.12429999999999999]
["Italy",":",":",0.21049999999999999,0.23219999999999999,0.23719999999999999,0.23810000000000001,0.2278,0.2545,0.22869999999999999,0.24729999999999999,0.22789999999999999,0.25879999999999997,0.26419999999999999,0.2742,0.2621,0.26200000000000001,0.26879999999999998,0.26889999999999997,0.26960000000000001]
["Cyprus",":",0.1472,0.1651,0.1928,0.15190000000000001,0.15629999999999999,0.1769,0.1893,0.19889999999999999,0.23169999999999999,0.26329999999999998,0.2787,0.25609999999999999,0.23519999999999999,0.2157,0.22070000000000001,0.18809999999999999,0.1757,0.15]
["Latvia",":",0.13039999999999999,8.8900000000000007E-2,0.10059999999999999,0.1148,0.11609999999999999,0.1152,0.1162,0.1263,0.14360000000000001,0.14219999999999999,0.13789999999999999,0.1439,0.14599999999999999,0.15379999999999999,0.15340000000000001,0.1623,0.1615,0.153]
["Lithuania",":",0.10680000000000001,0.1018,0.1072,0.1125,0.1057,0.1208,0.1222,0.1321,0.12959999999999999,0.12640000000000001,0.1303,0.14510000000000001,0.14510000000000001,0.13750000000000001,0.14319999999999999,0.13300000000000001,0.1303,0.12609999999999999]
["Luxembourg",0.18110000000000001,0.15659999999999999,0.15659999999999999,0.15659999999999999,0.19869999999999999,0.1986,0.16969999999999999,0.17399999999999999,0.17080000000000001,0.16869999999999999,0.1744,0.1663,0.16270000000000001,0.1651,0.1711,0.16769999999999999,0.16569999999999999,0.16569999999999999,0.1633]
["Hungary",":",0.122,0.1487,0.14960000000000001,0.1137,0.12709999999999999,0.12570000000000001,0.1215,0.12970000000000001,0.12189999999999999,0.12280000000000001,0.1313,0.1129,0.1123,0.1069,0.1045,0.108,0.10589999999999999,9.98E-2]
["Malta",":",0.13070000000000001,0.13070000000000001,0.17760000000000001,0.16750000000000001,0.14599999999999999,0.24099999999999999,0.24299999999999999,0.24399999999999999,0.24399999999999999,0.245,0.24299999999999999,0.245,0.24199999999999999,0.24299999999999999,0.24099999999999999,0.21970000000000001,0.1963,0.23430000000000001]
["Netherlands",0.14480000000000001,0.14280000000000001,0.156,0.16159999999999999,0.17849999999999999,0.17699999999999999,0.1772,0.16600000000000001,0.15310000000000001,0.1537,0.16300000000000001,0.16109999999999999,0.15870000000000001,0.16739999999999999,0.1782,0.1658,0.18179999999999999,0.17710000000000001,0.13750000000000001]
["Austria",":",0.12559999999999999,0.1236,0.13370000000000001,0.158,0.15989999999999999,0.1527,0.15570000000000001,0.15179999999999999,0.15709999999999999,0.1487,0.15079999999999999,0.15529999999999999,0.15870000000000001,0.1618,0.1552,0.157,0.16470000000000001,0.15989999999999999]
["Poland",":",0.1426,0.13850000000000001,0.14779999999999999,0.13420000000000001,0.14549999999999999,0.15049999999999999,0.16259999999999999,0.15920000000000001,0.15390000000000001,0.1663,0.1636,0.15479999999999999,0.1469,0.1502,0.1512,0.153,0.15140000000000001,0.14030000000000001]
["Portugal",":",0.1246,0.15129999999999999,0.1547,0.1545,0.1613,0.1638,0.1673,0.1704,0.17469999999999999,0.17810000000000001,0.18129999999999999,0.18579999999999999,0.18360000000000001,0.191,0.1893,0.1966,0.19350000000000001,0.20030000000000001]
["Romania",":",0.12089999999999999,0.1081,0.1128,0.10059999999999999,0.10199999999999999,0.1072,0.1056,0.1056,0.10440000000000001,0.1032,0.1028,0.1176,0.1113,0.1158,0.1061,0.11070000000000001,0.10879999999999999,0.105]
["Slovenia",":",0.12809999999999999,0.14119999999999999,0.14849999999999999,0.1668,0.1641,0.1434,0.14749999999999999,0.14380000000000001,0.14349999999999999,0.14380000000000001,0.14810000000000001,0.15029999999999999,0.15609999999999999,0.15110000000000001,0.14710000000000001,0.14399999999999999,0.14360000000000001,0.13780000000000001]
["Slovakia",":",0.14480000000000001,0.17219999999999999,0.1797,0.21679999999999999,0.218,0.19259999999999999,0.19789999999999999,0.19980000000000001,0.20200000000000001,0.21079999999999999,0.20019999999999999,0.20630000000000001,0.20080000000000001,0.1966,0.20430000000000001,0.21060000000000001,0.20519999999999999,0.2051]
["Finland",7.3200000000000001E-2,7.5899999999999995E-2,7.6999999999999999E-2,8.14E-2,8.3900000000000002E-2,8.3699999999999997E-2,8.6199999999999999E-2,8.6499999999999994E-2,9.5200000000000007E-2,9.69E-2,9.5100000000000004E-2,9.5899999999999999E-2,9.6100000000000005E-2,9.6199999999999994E-2,9.4399999999999998E-2,9.2700000000000005E-2,9.0800000000000006E-2,8.9599999999999999E-2,8.6999999999999994E-2]
["Sweden",9.6000000000000002E-2,9.5399999999999999E-2,0.11119999999999999,0.1188,0.1139,0.1166,0.13370000000000001,0.14779999999999999,0.1605,0.14810000000000001,0.16569999999999999,0.1799,0.14899999999999999,0.14699999999999999,0.14180000000000001,0.13300000000000001,0.13109999999999999,0.14069999999999999,0.1249]
["United Kingdom",0.14380000000000001,0.1431,0.1303,0.13500000000000001,0.13569999999999999,0.13789999999999999,0.1409,0.14560000000000001,0.1328,0.14729999999999999,0.1512,0.1595,0.14530000000000001,0.16289999999999999,0.1663,0.17699999999999999,0.18679999999999999,0.18149999999999999,0.16520000000000001]
[]
["Special value:"]
[":","not available"]
[]
["PRODUCT","Electrical energy"]
["CONSOM","Band IB : 20 MWh < Consumption < 500 MWh"]
["UNIT","Kilowatt-hour"]
["TAX","Excluding VAT and other recoverable taxes and levies"]
["CURRENCY","Euro"]
[]
["GEO/TIME","2007S1","2007S2","2008S1","2008S2","2009S1","2009S2","2010S1","2010S2","2011S1","2011S2","2012S1","2012S2","2013S1","2013S2","2014S1","2014S2","2015S1","2015S2","2016S1"]
["European Union (28 countries)",":",0.1111,0.1154,0.1193,0.1225,0.11990000000000001,0.1221,0.1231,0.1298,0.13159999999999999,0.13439999999999999,0.13800000000000001,0.1409,0.14199999999999999,0.1479,0.1444,0.14630000000000001,0.1431,0.14149999999999999]
["Belgium",":",0.11849999999999999,0.1411,0.14280000000000001,0.1326,0.12790000000000001,0.1293,0.13089999999999999,0.14230000000000001,0.14449999999999999,0.14560000000000001,0.14879999999999999,0.14449999999999999,0.14319999999999999,0.1449,0.1444,0.1439,0.14660000000000001,0.14929999999999999]
["Bulgaria",":",6.3899999999999998E-2,6.3899999999999998E-2,7.3099999999999998E-2,7.3099999999999998E-2,7.2099999999999997E-2,7.1099999999999997E-2,7.1300000000000002E-2,7.1999999999999995E-2,7.7499999999999999E-2,7.9399999999999998E-2,9.0499999999999997E-2,9.2600000000000002E-2,8.9099999999999999E-2,8.7499999999999994E-2,9.11E-2,8.9599999999999999E-2,0.1033,0.1071]
["Czech Republic",":",0.10920000000000001,0.13139999999999999,0.13469999999999999,0.1326,0.13980000000000001,0.13519999999999999,0.13900000000000001,0.14580000000000001,0.14180000000000001,0.1452,0.1459,0.1479,0.1472,0.12520000000000001,0.1245,0.1206,0.12239999999999999,0.1166]
["Denmark",":",9.6699999999999994E-2,9.9000000000000005E-2,0.1096,9.1800000000000007E-2,9.7299999999999998E-2,0.1008,0.1027,0.1066,0.1002,0.1047,0.1072,0.111,0.1085,0.10249999999999999,0.10199999999999999,9.6699999999999994E-2,9.6500000000000002E-2,0.10050000000000001]
["Germany (until 1990 former territory of the FRG)",0.1227,0.1225,0.12520000000000001,0.128,0.13220000000000001,0.1323,0.13089999999999999,0.13880000000000001,0.14480000000000001,0.14510000000000001,0.14860000000000001,0.15,0.16500000000000001,0.16819999999999999,0.187,0.17810000000000001,0.1759,0.17169999999999999,0.17449999999999999]
["Estonia",":",5.7500000000000002E-2,6.0100000000000001E-2,6.4899999999999999E-2,6.88E-2,6.93E-2,7.4800000000000005E-2,7.8100000000000003E-2,7.4499999999999997E-2,7.7399999999999997E-2,7.9600000000000004E-2,8.5199999999999998E-2,0.1033,0.104,9.69E-2,9.9699999999999997E-2,9.5100000000000004E-2,9.8199999999999996E-2,9.3200000000000005E-2]
["Ireland",":",0.13850000000000001,0.13900000000000001,0.15490000000000001,0.14979999999999999,0.1406,0.1366,0.13550000000000001,0.13420000000000001,0.15060000000000001,0.15529999999999999,0.15740000000000001,0.16089999999999999,0.1603,0.16070000000000001,0.15989999999999999,0.16400000000000001,0.16420000000000001,0.15920000000000001]
["Greece",":",9.7799999999999998E-2,0.1052,0.1132,0.1186,0.1159,0.1178,0.1242,0.1283,0.13339999999999999,0.14269999999999999,0.14630000000000001,0.1573,0.16109999999999999,0.17019999999999999,0.182,0.17100000000000001,0.18629999999999999,0.1613]
["Spain",":",0.11609999999999999,0.1168,0.1258,0.13159999999999999,0.13350000000000001,0.13930000000000001,0.13830000000000001,0.13780000000000001,0.14599999999999999,0.15310000000000001,0.15590000000000001,0.15,0.15329999999999999,0.1598,0.15579999999999999,0.158,0.15110000000000001,0.1467]
["France",":",7.4099999999999999E-2,8.5800000000000001E-2,7.9600000000000004E-2,9.2100000000000001E-2,8.4400000000000003E-2,9.4E-2,8.8999999999999996E-2,0.1013,9.8599999999999993E-2,0.1008,0.1021,0.10970000000000001,0.11210000000000001,0.1178,0.1138,0.1215,0.11890000000000001,0.1196]
["Croatia",8.0199999999999994E-2,7.9299999999999995E-2,7.9799999999999996E-2,0.1003,9.8900000000000002E-2,0.1027,0.1065,0.1038,0.10440000000000001,0.1021,0.1047,0.112,0.1125,0.11070000000000001,0.1111,0.1091,0.1077,0.1079,0.10580000000000001]
["Italy",":",":",0.15260000000000001,0.16259999999999999,0.16439999999999999,0.153,0.1555,0.1522,0.17280000000000001,0.1865,0.1827,0.20200000000000001,0.1946,0.19869999999999999,0.1963,0.19850000000000001,0.189,0.18640000000000001,0.1797]
["Cyprus",":",0.1487,0.16550000000000001,0.19270000000000001,0.1482,0.15740000000000001,0.1739,0.18490000000000001,0.1918,0.22509999999999999,0.26800000000000002,0.2404,0.23669999999999999,0.2145,0.19950000000000001,0.2026,0.1668,0.161,0.13109999999999999]
["Latvia",":",7.1800000000000003E-2,7.6399999999999996E-2,9.0800000000000006E-2,9.6000000000000002E-2,9.6699999999999994E-2,9.5600000000000004E-2,9.6199999999999994E-2,0.1055,0.1193,0.11840000000000001,0.11990000000000001,0.1222,0.12509999999999999,0.1283,0.13020000000000001,0.1318,0.13089999999999999,0.1285]
["Lithuania",":",8.6400000000000005E-2,9.4299999999999995E-2,9.5100000000000004E-2,0.1026,9.2100000000000001E-2,0.1096,0.1119,0.114,0.1143,0.1202,0.1201,0.12920000000000001,0.1295,0.12330000000000001,0.124,0.1094,0.10970000000000001,0.1056]
["Luxembourg",0.1303,0.1108,0.1108,0.1111,0.13109999999999999,0.13120000000000001,0.1148,0.1162,0.1135,0.1144,0.1177,0.1163,0.1148,0.1158,0.1135,0.1115,0.10290000000000001,0.10299999999999999,0.1012]
["Hungary",":",0.12479999999999999,0.13519999999999999,0.1368,0.12959999999999999,0.1226,0.10970000000000001,0.105,0.1091,0.1095,0.10879999999999999,0.1129,0.10829999999999999,0.1065,0.1017,9.9699999999999997E-2,9.7199999999999995E-2,9.6500000000000002E-2,9.1999999999999998E-2]
["Malta",":",0.1288,0.12889999999999999,0.1764,0.16400000000000001,0.14249999999999999,0.2,0.20100000000000001,0.2,0.2,0.20100000000000001,0.20100000000000001,0.20100000000000001,0.2,0.2,0.20100000000000001,0.1784,0.1555,0.1578]
["Netherlands",0.13200000000000001,0.12280000000000001,0.12509999999999999,0.1203,0.1575,0.1237,0.14729999999999999,0.1124,0.14019999999999999,0.1087,0.14410000000000001,0.1087,0.1464,0.1114,0.1447,0.1091,0.14299999999999999,0.1055,0.13800000000000001]
["Austria",":",0.1176,0.123,0.12,0.13339999999999999,0.1323,0.1288,0.12889999999999999,0.12889999999999999,0.12959999999999999,0.12770000000000001,0.13070000000000001,0.13220000000000001,0.13159999999999999,0.129,0.12690000000000001,0.1246,0.12540000000000001,0.12330000000000001]
["Poland",":",0.10680000000000001,0.1033,0.1062,0.1045,0.1115,0.1173,0.1191,0.1205,0.1142,0.1172,0.11990000000000001,0.1178,0.11409999999999999,0.1099,0.1118,0.11600000000000001,0.1133,0.1067]
["Portugal",":",0.1033,0.1087,0.10979999999999999,0.113,0.1148,0.11840000000000001,0.1201,0.12479999999999999,0.12870000000000001,0.13539999999999999,0.14000000000000001,0.14449999999999999,0.1406,0.14940000000000001,0.14729999999999999,0.14680000000000001,0.14399999999999999,0.14990000000000001]
["Romania",":",0.1067,0.1,0.1081,9.7000000000000003E-2,9.7000000000000003E-2,0.1016,9.7799999999999998E-2,9.8699999999999996E-2,9.6799999999999997E-2,9.4700000000000006E-2,9.0499999999999997E-2,0.106,9.7900000000000001E-2,0.10630000000000001,9.7600000000000006E-2,9.8900000000000002E-2,9.6000000000000002E-2,9.2399999999999996E-2]
["Slovenia",":",0.1106,0.1231,0.1285,0.1321,0.12759999999999999,0.1174,0.1187,0.1147,0.11260000000000001,0.1129,0.113,0.12659999999999999,0.1139,0.10680000000000001,0.1052,0.10349999999999999,0.1065,0.1047]
["Slovakia",":",0.12540000000000001,0.1424,0.152,0.1676,0.1673,0.14510000000000001,0.1474,0.15029999999999999,0.15090000000000001,0.1565,0.15509999999999999,0.15190000000000001,0.15340000000000001,0.14119999999999999,0.1406,0.13789999999999999,0.1381,0.1351]
["Finland",6.8699999999999997E-2,6.7599999999999993E-2,7.1999999999999995E-2,7.5899999999999995E-2,7.7899999999999997E-2,7.7299999999999994E-2,7.9699999999999993E-2,7.9600000000000004E-2,8.7599999999999997E-2,8.7999999999999995E-2,8.7900000000000006E-2,8.8099999999999998E-2,8.9599999999999999E-2,8.8999999999999996E-2,8.7599999999999997E-2,8.5999999999999993E-2,8.4099999999999994E-2,8.3599999999999994E-2,8.2799999999999999E-2]
["Sweden",7.2499999999999995E-2,7.5899999999999995E-2,7.9799999999999996E-2,8.7300000000000003E-2,7.6200000000000004E-2,7.8E-2,9.0700000000000003E-2,9.4399999999999998E-2,0.10100000000000001,9.3700000000000006E-2,9.2499999999999999E-2,9.0399999999999994E-2,8.9099999999999999E-2,8.6699999999999999E-2,8.1799999999999998E-2,7.7399999999999997E-2,7.22E-2,7.0099999999999996E-2,7.1499999999999994E-2]
["United Kingdom",0.11799999999999999,0.12089999999999999,0.1114,0.1171,0.1177,0.11600000000000001,0.1169,0.1191,0.1154,0.12,0.12989999999999999,0.1351,0.13009999999999999,0.13500000000000001,0.14399999999999999,0.14990000000000001,0.16719999999999999,0.16969999999999999,0.1537]
[]
["Special value:"]
[":","not available"]
[]
["PRODUCT","Electrical energy"]
["CONSOM","Band IC : 500 MWh < Consumption < 2 000 MWh"]
["UNIT","Kilowatt-hour"]
["TAX","Excluding VAT and other recoverable taxes and levies"]
["CURRENCY","Euro"]
[]
["GEO/TIME","2007S1","2007S2","2008S1","2008S2","2009S1","2009S2","2010S1","2010S2","2011S1","2011S2","2012S1","2012S2","2013S1","2013S2","2014S1","2014S2","2015S1","2015S2","2016S1"]
["European Union (28 countries)",":",9.4299999999999995E-2,9.8000000000000004E-2,0.1027,0.1067,0.10249999999999999,0.10390000000000001,0.1051,0.11020000000000001,0.1116,0.115,0.1158,0.11940000000000001,0.1182,0.1235,0.12039999999999999,0.1207,0.1188,0.1169]
["Belgium",":",9.4899999999999998E-2,0.1069,9.6100000000000005E-2,0.1111,0.1079,0.1057,0.10539999999999999,0.10979999999999999,0.1147,0.1076,0.11070000000000001,0.10780000000000001,0.1099,0.1094,0.1086,0.11,0.1081,0.1115]
["Bulgaria",":",5.6800000000000003E-2,5.62E-2,6.4899999999999999E-2,6.4899999999999999E-2,6.3899999999999998E-2,6.4899999999999999E-2,6.6400000000000001E-2,6.4799999999999996E-2,6.6699999999999995E-2,6.9400000000000003E-2,7.7600000000000002E-2,8.1299999999999997E-2,7.2599999999999998E-2,7.46E-2,7.5700000000000003E-2,6.9199999999999998E-2,7.8200000000000006E-2,0.1002]
["Czech Republic",":",9.4600000000000004E-2,0.11070000000000001,0.11210000000000001,0.1069,0.11219999999999999,0.1033,0.1081,0.1108,0.1082,0.10390000000000001,0.10290000000000001,0.1023,9.9000000000000005E-2,8.2900000000000001E-2,8.1900000000000001E-2,7.7200000000000005E-2,7.8299999999999995E-2,7.2999999999999995E-2]
["Denmark",":",8.9499999999999996E-2,9.1300000000000006E-2,0.1018,8.6300000000000002E-2,9.1999999999999998E-2,9.4200000000000006E-2,9.6100000000000005E-2,9.9199999999999997E-2,9.2700000000000005E-2,9.6600000000000005E-2,9.9299999999999999E-2,0.1027,9.98E-2,9.3899999999999997E-2,9.7199999999999995E-2,8.9899999999999994E-2,9.06E-2,9.4799999999999995E-2]
["Germany (until 1990 former territory of the FRG)",9.5699999999999993E-2,0.1013,0.1053,0.10780000000000001,0.1132,0.1134,0.112,0.11899999999999999,0.12479999999999999,0.12429999999999999,0.12770000000000001,0.12970000000000001,0.14249999999999999,0.1444,0.15859999999999999,0.152,0.15090000000000001,0.14929999999999999,0.15049999999999999]
["Estonia",":",5.2999999999999999E-2,5.67E-2,6.0100000000000001E-2,6.4299999999999996E-2,6.4500000000000002E-2,6.9400000000000003E-2,7.2700000000000001E-2,7.1800000000000003E-2,7.51E-2,7.8399999999999997E-2,8.1799999999999998E-2,9.74E-2,9.7000000000000003E-2,9.1600000000000001E-2,9.3100000000000002E-2,8.8900000000000007E-2,9.5799999999999996E-2,8.7800000000000003E-2]
["Ireland",":",0.1235,0.13020000000000001,0.1419,0.1206,0.11749999999999999,0.1123,0.11310000000000001,0.11550000000000001,0.12939999999999999,0.13170000000000001,0.1396,0.13639999999999999,0.13719999999999999,0.13650000000000001,0.13569999999999999,0.14169999999999999,0.13569999999999999,0.13270000000000001]
["Greece",":",7.8899999999999998E-2,8.6099999999999996E-2,9.1999999999999998E-2,9.4799999999999995E-2,9.3600000000000003E-2,9.4600000000000004E-2,0.1026,0.1046,0.1111,0.1183,0.1222,0.12479999999999999,0.1239,0.1336,0.1298,0.12920000000000001,0.115,0.11509999999999999]
["Spain",":",9.5799999999999996E-2,9.6100000000000005E-2,0.10680000000000001,0.1154,0.112,0.1167,0.10929999999999999,0.1137,0.11559999999999999,0.12139999999999999,0.1196,0.12239999999999999,0.1202,0.1246,0.1167,0.1173,0.1133,0.1105]
["France",":",5.74E-2,6.5100000000000005E-2,6.1699999999999998E-2,7.2499999999999995E-2,6.4799999999999996E-2,7.7799999999999994E-2,7.1599999999999997E-2,8.4900000000000003E-2,8.0799999999999997E-2,9.4899999999999998E-2,7.9500000000000001E-2,9.6799999999999997E-2,8.5500000000000007E-2,9.8599999999999993E-2,9.3100000000000002E-2,0.1008,9.4899999999999998E-2,9.9299999999999999E-2]
["Croatia",6.6600000000000006E-2,7.3800000000000004E-2,7.5600000000000001E-2,9.4700000000000006E-2,8.6699999999999999E-2,9.0399999999999994E-2,9.3899999999999997E-2,9.0399999999999994E-2,9.0700000000000003E-2,8.9300000000000004E-2,8.9899999999999994E-2,9.4E-2,9.4899999999999998E-2,9.4399999999999998E-2,9.5600000000000004E-2,9.1800000000000007E-2,9.1999999999999998E-2,9.2799999999999994E-2,9.0300000000000005E-2]
["Italy",":",":",0.13850000000000001,0.15,0.15310000000000001,0.13700000000000001,0.1389,0.14430000000000001,0.15229999999999999,0.16600000000000001,0.1648,0.17780000000000001,0.16800000000000001,0.17180000000000001,0.17199999999999999,0.17349999999999999,0.1608,0.15970000000000001,0.15260000000000001]
["Cyprus",":",0.1391,0.14269999999999999,0.1807,0.1186,0.14940000000000001,0.15049999999999999,0.17299999999999999,0.16739999999999999,0.2109,0.22389999999999999,0.23419999999999999,0.2077,0.20130000000000001,0.17480000000000001,0.1903,0.13930000000000001,0.14119999999999999,0.1048]
["Latvia",":",5.9499999999999997E-2,6.6000000000000003E-2,7.9699999999999993E-2,8.9599999999999999E-2,8.9300000000000004E-2,8.8999999999999996E-2,9.0700000000000003E-2,9.8400000000000001E-2,0.1101,0.1103,0.111,0.1125,0.1152,0.1171,0.1183,0.1178,0.1183,0.11650000000000001]
["Lithuania",":",7.4399999999999994E-2,8.2900000000000001E-2,8.3799999999999999E-2,9.2399999999999996E-2,7.9000000000000001E-2,9.9500000000000005E-2,0.1046,0.10489999999999999,0.1038,0.1139,0.1144,0.1231,0.1227,0.1168,0.1171,9.8900000000000002E-2,9.9699999999999997E-2,9.4E-2]
["Luxembourg",0.1033,9.7600000000000006E-2,9.7600000000000006E-2,9.7900000000000001E-2,0.1157,0.1158,0.1017,0.1024,0.1003,0.1,0.105,0.1013,9.8299999999999998E-2,0.10009999999999999,0.1007,9.8699999999999996E-2,9.2799999999999994E-2,8.9300000000000004E-2,8.7300000000000003E-2]
["Hungary",":",0.1128,0.1142,0.12180000000000001,0.1241,0.12970000000000001,0.106,0.1053,9.98E-2,9.9500000000000005E-2,9.4799999999999995E-2,9.9900000000000003E-2,9.6299999999999997E-2,9.8000000000000004E-2,9.1399999999999995E-2,8.9899999999999994E-2,8.6699999999999999E-2,8.6999999999999994E-2,8.0500000000000002E-2]
["Malta",":",0.1221,0.1221,0.16189999999999999,0.15060000000000001,0.12909999999999999,0.17199999999999999,0.18099999999999999,0.17799999999999999,0.18,0.17899999999999999,0.18099999999999999,0.17899999999999999,0.17799999999999999,0.17699999999999999,0.17799999999999999,0.15989999999999999,0.14050000000000001,0.14219999999999999]
["Netherlands",0.10349999999999999,0.1016,0.1052,0.1037,0.111,0.1061,0.1012,9.7000000000000003E-2,9.8699999999999996E-2,9.5000000000000001E-2,9.74E-2,9.6000000000000002E-2,9.4500000000000001E-2,9.4500000000000001E-2,9.3399999999999997E-2,8.8800000000000004E-2,9.0200000000000002E-2,8.4599999999999995E-2,8.5699999999999998E-2]
["Austria",":",9.4E-2,0.10639999999999999,0.1072,0.11840000000000001,0.1162,0.11269999999999999,0.1128,0.11260000000000001,0.1128,0.11020000000000001,0.1116,0.1114,0.1108,0.1089,0.1055,0.10390000000000001,0.1047,0.10290000000000001]
["Poland",":",9.0499999999999997E-2,8.8099999999999998E-2,9.0999999999999998E-2,9.0200000000000002E-2,9.3299999999999994E-2,9.7900000000000001E-2,9.8699999999999996E-2,0.1014,9.4100000000000003E-2,9.1700000000000004E-2,9.5600000000000004E-2,9.3100000000000002E-2,8.7800000000000003E-2,8.2500000000000004E-2,8.3299999999999999E-2,8.8200000000000001E-2,8.6099999999999996E-2,8.0799999999999997E-2]
["Portugal",":",7.9299999999999995E-2,8.9499999999999996E-2,9.01E-2,9.4299999999999995E-2,9.4399999999999998E-2,9.35E-2,9.1999999999999998E-2,9.9099999999999994E-2,0.1011,0.1144,0.1148,0.1153,0.1138,0.1162,0.1187,0.114,0.1154,0.1125]
["Romania",":",9.0800000000000006E-2,8.8599999999999998E-2,9.5000000000000001E-2,8.1100000000000005E-2,8.2799999999999999E-2,8.5000000000000006E-2,8.0799999999999997E-2,8.0299999999999996E-2,8.0299999999999996E-2,8.3299999999999999E-2,7.6399999999999996E-2,9.0399999999999994E-2,8.2000000000000003E-2,8.77E-2,8.0699999999999994E-2,8.3000000000000004E-2,8.0199999999999994E-2,7.5999999999999998E-2]
["Slovenia",":",9.0999999999999998E-2,9.3200000000000005E-2,9.8500000000000004E-2,0.10290000000000001,9.6199999999999994E-2,9.9299999999999999E-2,0.10050000000000001,9.8699999999999996E-2,9.64E-2,9.4799999999999995E-2,9.4100000000000003E-2,9.6699999999999994E-2,9.4500000000000001E-2,8.6599999999999996E-2,8.4699999999999998E-2,8.2699999999999996E-2,8.6999999999999994E-2,8.4699999999999998E-2]
["Slovakia",":",0.1048,0.1197,0.12889999999999999,0.14230000000000001,0.14030000000000001,0.1174,0.1198,0.12759999999999999,0.12609999999999999,0.13159999999999999,0.12709999999999999,0.12859999999999999,0.12690000000000001,0.1152,0.1174,0.11260000000000001,0.11219999999999999,0.10920000000000001]
["Finland",5.7700000000000001E-2,5.8599999999999999E-2,6.4000000000000001E-2,6.7400000000000002E-2,6.8900000000000003E-2,6.83E-2,6.93E-2,6.83E-2,7.5600000000000001E-2,7.4999999999999997E-2,7.5499999999999998E-2,7.4399999999999994E-2,7.4899999999999994E-2,7.4899999999999994E-2,7.3400000000000007E-2,7.22E-2,7.0699999999999999E-2,7.0599999999999996E-2,6.8500000000000005E-2]
["Sweden",6.2199999999999998E-2,6.5600000000000006E-2,6.93E-2,7.7299999999999994E-2,6.6699999999999995E-2,6.8900000000000003E-2,8.0500000000000002E-2,8.4099999999999994E-2,8.9300000000000004E-2,8.2799999999999999E-2,8.09E-2,7.7600000000000002E-2,8.0399999999999999E-2,7.4700000000000003E-2,7.0800000000000002E-2,6.6600000000000006E-2,6.2199999999999998E-2,5.8999999999999997E-2,6.1600000000000002E-2]
["United Kingdom",0.1103,0.10780000000000001,9.7699999999999995E-2,0.10879999999999999,0.11169999999999999,0.1012,9.8900000000000002E-2,0.1,9.8199999999999996E-2,0.10440000000000001,0.1143,0.1193,0.11650000000000001,0.1196,0.12889999999999999,0.1338,0.1489,0.152,0.13769999999999999]
[]
["Special value:"]
[":","not available"]
[]
["PRODUCT","Electrical energy"]
["CONSOM","Band ID : 2 000 MWh < Consumption < 20 000 MWh"]
["UNIT","Kilowatt-hour"]
["TAX","Excluding VAT and other recoverable taxes and levies"]
["CURRENCY","Euro"]
[]
["GEO/TIME","2007S1","2007S2","2008S1","2008S2","2009S1","2009S2","2010S1","2010S2","2011S1","2011S2","2012S1","2012S2","2013S1","2013S2","2014S1","2014S2","2015S1","2015S2","2016S1"]
["European Union (28 countries)",":",8.3400000000000002E-2,8.7900000000000006E-2,9.2799999999999994E-2,9.4899999999999998E-2,9.1399999999999995E-2,9.11E-2,9.3100000000000002E-2,9.69E-2,9.8000000000000004E-2,0.1042,0.1045,0.1066,0.10630000000000001,0.1085,0.10730000000000001,0.107,0.1065,0.10199999999999999]
["Belgium",":",8.4099999999999994E-2,9.3399999999999997E-2,9.6199999999999994E-2,0.1009,9.8799999999999999E-2,9.4100000000000003E-2,9.3899999999999997E-2,9.7100000000000006E-2,0.10199999999999999,0.1,9.7000000000000003E-2,9.3200000000000005E-2,0.1,9.5799999999999996E-2,9.7299999999999998E-2,9.5600000000000004E-2,9.7199999999999995E-2,9.4700000000000006E-2]
["Bulgaria",":",5.0599999999999999E-2,4.9599999999999998E-2,5.9299999999999999E-2,5.9799999999999999E-2,5.8299999999999998E-2,5.7799999999999997E-2,5.9799999999999999E-2,5.8400000000000001E-2,5.9299999999999999E-2,6.3399999999999998E-2,6.9800000000000001E-2,7.0099999999999996E-2,6.3E-2,6.7900000000000002E-2,6.8099999999999994E-2,6.2E-2,7.0000000000000007E-2,7.6399999999999996E-2]
["Czech Republic",":",7.7799999999999994E-2,9.2499999999999999E-2,9.3899999999999997E-2,9.4E-2,9.7799999999999998E-2,9.4E-2,9.69E-2,9.9599999999999994E-2,9.6699999999999994E-2,9.69E-2,9.7199999999999995E-2,9.7199999999999995E-2,9.5500000000000002E-2,7.85E-2,7.7100000000000002E-2,7.1800000000000003E-2,7.1999999999999995E-2,6.3899999999999998E-2]
["Denmark",":",8.77E-2,8.9800000000000005E-2,0.1003,8.4599999999999995E-2,9.0300000000000005E-2,9.1700000000000004E-2,9.3600000000000003E-2,9.6600000000000005E-2,9.0200000000000002E-2,9.4100000000000003E-2,9.6699999999999994E-2,0.10009999999999999,9.7199999999999995E-2,9.3600000000000003E-2,9.6299999999999997E-2,8.9800000000000005E-2,9.0499999999999997E-2,9.4100000000000003E-2]
["Germany (until 1990 former territory of the FRG)",8.3799999999999999E-2,9.0200000000000002E-2,9.5899999999999999E-2,9.5699999999999993E-2,0.1002,0.1007,9.9299999999999999E-2,0.10580000000000001,0.11210000000000001,0.1139,0.1145,0.1169,0.1278,0.1273,0.1376,0.1326,0.13159999999999999,0.13,0.1285]
["Estonia",":",4.4699999999999997E-2,4.8300000000000003E-2,5.2299999999999999E-2,5.6300000000000003E-2,5.7200000000000001E-2,6.6799999999999998E-2,7.22E-2,7.1800000000000003E-2,7.2700000000000001E-2,7.6999999999999999E-2,8.0600000000000005E-2,9.0499999999999997E-2,8.9800000000000005E-2,8.4000000000000005E-2,8.5099999999999995E-2,8.1900000000000001E-2,8.8800000000000004E-2,8.0799999999999997E-2]
["Ireland",":",0.1086,0.1201,0.12759999999999999,0.107,9.7100000000000006E-2,8.3799999999999999E-2,8.6599999999999996E-2,8.7300000000000003E-2,9.7699999999999995E-2,0.1038,0.1196,0.1159,0.1164,0.1158,0.11360000000000001,0.1164,0.1115,0.1018]
["Greece",":",6.7299999999999999E-2,7.3700000000000002E-2,7.9799999999999996E-2,8.2900000000000001E-2,8.1100000000000005E-2,8.2500000000000004E-2,8.9499999999999996E-2,8.8499999999999995E-2,9.1999999999999998E-2,0.1022,0.10589999999999999,0.10680000000000001,0.107,0.10879999999999999,0.10639999999999999,0.1002,8.9700000000000002E-2,8.9800000000000005E-2]
["Spain",":",8.3199999999999996E-2,8.3799999999999999E-2,8.9099999999999999E-2,9.5299999999999996E-2,9.3399999999999997E-2,9.2700000000000005E-2,8.9700000000000002E-2,9.1600000000000001E-2,9.3700000000000006E-2,0.10150000000000001,0.1003,0.1046,0.108,0.10390000000000001,0.10290000000000001,9.6799999999999997E-2,9.5500000000000002E-2,9.0200000000000002E-2]
["France",":",5.2900000000000003E-2,5.8400000000000001E-2,5.6099999999999997E-2,6.8599999999999994E-2,6.1199999999999997E-2,6.9599999999999995E-2,6.2600000000000003E-2,7.4200000000000002E-2,7.0000000000000007E-2,8.1100000000000005E-2,7.0000000000000007E-2,8.3400000000000002E-2,7.4300000000000005E-2,8.4500000000000006E-2,8.0199999999999994E-2,8.8300000000000003E-2,8.4599999999999995E-2,8.3500000000000005E-2]
["Croatia",4.2099999999999999E-2,6.2899999999999998E-2,6.1899999999999997E-2,8.0799999999999997E-2,7.3099999999999998E-2,7.8100000000000003E-2,0.08,7.7700000000000005E-2,7.7499999999999999E-2,7.6200000000000004E-2,7.5600000000000001E-2,8.0299999999999996E-2,8.1100000000000005E-2,7.9899999999999999E-2,8.1500000000000003E-2,7.8200000000000006E-2,7.9100000000000004E-2,8.0500000000000002E-2,7.7799999999999994E-2]
["Italy",":",":",0.12479999999999999,0.1421,0.1333,0.12239999999999999,0.12089999999999999,0.1298,0.1295,0.13930000000000001,0.16289999999999999,0.1678,0.1537,0.15909999999999999,0.15229999999999999,0.15909999999999999,0.1489,0.14849999999999999,0.1406]
["Cyprus",":",0.12839999999999999,0.13170000000000001,0.1716,0.10829999999999999,0.13619999999999999,0.14000000000000001,0.16200000000000001,0.1515,0.1973,0.2094,0.221,0.19520000000000001,0.18970000000000001,0.16370000000000001,0.17419999999999999,0.12559999999999999,0.1244,9.1200000000000003E-2]
["Latvia",":",4.99E-2,5.8599999999999999E-2,7.1199999999999999E-2,8.4900000000000003E-2,8.3500000000000005E-2,8.2600000000000007E-2,8.5000000000000006E-2,9.0499999999999997E-2,9.8900000000000002E-2,9.9000000000000005E-2,0.1,0.10440000000000001,0.1065,0.1075,0.10680000000000001,0.1081,0.1072,0.1074]
["Lithuania",":",6.2700000000000006E-2,7.0099999999999996E-2,7.0400000000000004E-2,7.8100000000000003E-2,6.6600000000000006E-2,9.1700000000000004E-2,0.1023,0.1021,0.1026,0.1075,0.1074,0.1188,0.1134,0.1164,0.11700000000000001,9.06E-2,9.0300000000000005E-2,8.3599999999999994E-2]
["Luxembourg",":",":",":",":",9.35E-2,9.3600000000000003E-2,7.8100000000000003E-2,7.9500000000000001E-2,7.3099999999999998E-2,7.3200000000000001E-2,7.3400000000000007E-2,7.9000000000000001E-2,7.46E-2,7.2300000000000003E-2,6.5500000000000003E-2,6.7299999999999999E-2,6.3899999999999998E-2,5.8400000000000001E-2,5.3900000000000003E-2]
["Hungary",":",9.9299999999999999E-2,9.9900000000000003E-2,0.10879999999999999,0.1103,0.11459999999999999,9.4200000000000006E-2,9.4100000000000003E-2,9.3799999999999994E-2,9.35E-2,9.1600000000000001E-2,9.6500000000000002E-2,9.3700000000000006E-2,9.6100000000000005E-2,8.8900000000000007E-2,8.7499999999999994E-2,8.5199999999999998E-2,8.5400000000000004E-2,7.6300000000000007E-2]
["Malta",":",9.1800000000000007E-2,9.1800000000000007E-2,0.1323,0.123,8.5999999999999993E-2,0.14899999999999999,0.16,0.158,0.157,0.159,0.158,0.159,0.155,0.157,0.158,0.14119999999999999,0.1239,0.1221]
["Netherlands",8.8999999999999996E-2,8.7300000000000003E-2,9.0300000000000005E-2,9.1499999999999998E-2,9.8799999999999999E-2,9.7299999999999998E-2,8.8999999999999996E-2,8.9099999999999999E-2,8.6800000000000002E-2,8.72E-2,8.4900000000000003E-2,8.6699999999999999E-2,8.8300000000000003E-2,8.6499999999999994E-2,8.4400000000000003E-2,8.2199999999999995E-2,8.1699999999999995E-2,7.9699999999999993E-2,7.7399999999999997E-2]
["Austria",":",8.1199999999999994E-2,9.2600000000000002E-2,9.6500000000000002E-2,0.1086,0.1081,0.1032,0.1032,0.1012,0.1014,9.8299999999999998E-2,9.8500000000000004E-2,9.8400000000000001E-2,9.8000000000000004E-2,9.6000000000000002E-2,9.3700000000000006E-2,8.9700000000000002E-2,9.0899999999999995E-2,8.5999999999999993E-2]
["Poland",":",6.93E-2,8.3400000000000002E-2,7.9399999999999998E-2,8.0500000000000002E-2,8.4199999999999997E-2,8.5300000000000001E-2,8.5900000000000004E-2,8.6199999999999999E-2,7.8899999999999998E-2,8.14E-2,8.4500000000000006E-2,7.9600000000000004E-2,7.5300000000000006E-2,7.0400000000000004E-2,7.1300000000000002E-2,7.6799999999999993E-2,7.5200000000000003E-2,7.17E-2]
["Portugal",":",6.8699999999999997E-2,8.0699999999999994E-2,8.1699999999999995E-2,8.4400000000000003E-2,8.2699999999999996E-2,8.0100000000000005E-2,8.0500000000000002E-2,9.0300000000000005E-2,9.2700000000000005E-2,0.1055,0.104,0.1041,0.10249999999999999,0.10100000000000001,0.1009,0.1032,0.10390000000000001,0.10199999999999999]
["Romania",":",7.9000000000000001E-2,7.8299999999999995E-2,7.9899999999999999E-2,7.3400000000000007E-2,7.1400000000000005E-2,7.1599999999999997E-2,6.9400000000000003E-2,7.0300000000000001E-2,7.0300000000000001E-2,7.2999999999999995E-2,6.7000000000000004E-2,7.6100000000000001E-2,7.0599999999999996E-2,7.8700000000000006E-2,7.2999999999999995E-2,7.4800000000000005E-2,7.1800000000000003E-2,6.83E-2]
["Slovenia",":",7.4700000000000003E-2,7.6700000000000004E-2,8.0299999999999996E-2,8.1000000000000003E-2,7.9799999999999996E-2,8.4599999999999995E-2,8.6499999999999994E-2,8.4900000000000003E-2,8.4400000000000003E-2,8.4099999999999994E-2,8.4500000000000006E-2,8.6400000000000005E-2,8.4199999999999997E-2,7.6399999999999996E-2,7.5499999999999998E-2,7.2300000000000003E-2,7.5300000000000006E-2,7.1199999999999999E-2]
["Slovakia",":",9.5200000000000007E-2,0.10829999999999999,0.11700000000000001,0.127,0.1263,0.10580000000000001,0.1086,0.11559999999999999,0.1176,0.12180000000000001,0.1159,0.1183,0.1149,0.1037,0.1053,0.10100000000000001,9.8599999999999993E-2,9.6799999999999997E-2]
["Finland",5.5599999999999997E-2,5.6099999999999997E-2,6.0999999999999999E-2,6.4199999999999993E-2,6.5699999999999995E-2,6.6400000000000001E-2,6.7900000000000002E-2,6.6799999999999998E-2,7.3300000000000004E-2,7.2300000000000003E-2,7.1999999999999995E-2,7.1800000000000003E-2,7.1199999999999999E-2,7.17E-2,6.9699999999999998E-2,7.0099999999999996E-2,6.6299999999999998E-2,6.8099999999999994E-2,6.5000000000000002E-2]
["Sweden",5.2400000000000002E-2,5.8200000000000002E-2,6.2E-2,6.8599999999999994E-2,5.91E-2,6.0100000000000001E-2,7.1800000000000003E-2,7.3599999999999999E-2,7.8899999999999998E-2,7.0800000000000002E-2,7.1300000000000002E-2,6.7299999999999999E-2,6.9000000000000006E-2,6.7199999999999996E-2,6.3500000000000001E-2,5.9799999999999999E-2,5.45E-2,5.1499999999999997E-2,5.3100000000000001E-2]
["United Kingdom",0.10199999999999999,9.4399999999999998E-2,8.7999999999999995E-2,0.10100000000000001,0.1018,0.09,8.7400000000000005E-2,8.8700000000000001E-2,8.9300000000000004E-2,9.2999999999999999E-2,0.1033,0.10879999999999999,0.1061,0.1103,0.1173,0.12139999999999999,0.1371,0.13950000000000001,0.1268]
[]
["Special value:"]
[":","not available"]
[]
["PRODUCT","Electrical energy"]
["CONSOM","Band IE : 20 000 MWh < Consumption < 70 000 MWh"]
["UNIT","Kilowatt-hour"]
["TAX","Excluding VAT and other recoverable taxes and levies"]
["CURRENCY","Euro"]
[]
["GEO/TIME","2007S1","2007S2","2008S1","2008S2","2009S1","2009S2","2010S1","2010S2","2011S1","2011S2","2012S1","2012S2","2013S1","2013S2","2014S1","2014S2","2015S1","2015S2","2016S1"]
["European Union (28 countries)",":",7.5899999999999995E-2,8.1699999999999995E-2,8.5199999999999998E-2,8.7300000000000003E-2,8.3299999999999999E-2,8.2199999999999995E-2,8.3900000000000002E-2,8.7499999999999994E-2,9.06E-2,9.1399999999999995E-2,9.3799999999999994E-2,9.4299999999999995E-2,9.4399999999999998E-2,9.4399999999999998E-2,9.3600000000000003E-2,9.3299999999999994E-2,9.2999999999999999E-2,8.72E-2]
["Belgium",":",7.2900000000000006E-2,8.0600000000000005E-2,8.1699999999999995E-2,9.2700000000000005E-2,9.0899999999999995E-2,8.0500000000000002E-2,7.9899999999999999E-2,8.3900000000000002E-2,9.0300000000000005E-2,8.0299999999999996E-2,8.1000000000000003E-2,6.9800000000000001E-2,8.3199999999999996E-2,7.6899999999999996E-2,7.8399999999999997E-2,7.6799999999999993E-2,7.7499999999999999E-2,7.2400000000000006E-2]
["Bulgaria",":",4.2900000000000001E-2,4.0899999999999999E-2,5.16E-2,5.4199999999999998E-2,5.16E-2,5.3199999999999997E-2,5.21E-2,5.1400000000000001E-2,5.11E-2,5.6399999999999999E-2,6.2300000000000001E-2,6.2100000000000002E-2,5.5100000000000003E-2,5.7700000000000001E-2,5.8000000000000003E-2,5.5E-2,6.4500000000000002E-2,7.0699999999999999E-2]
["Czech Republic",":",6.6799999999999998E-2,8.2199999999999995E-2,8.3699999999999997E-2,8.7300000000000003E-2,9.1200000000000003E-2,9.0399999999999994E-2,9.3399999999999997E-2,0.10199999999999999,9.9400000000000002E-2,9.4399999999999998E-2,9.35E-2,9.5899999999999999E-2,9.3600000000000003E-2,8.0199999999999994E-2,7.9699999999999993E-2,7.4099999999999999E-2,7.46E-2,6.6000000000000003E-2]
["Denmark",":",8.1100000000000005E-2,8.3500000000000005E-2,9.4E-2,7.6799999999999993E-2,8.2699999999999996E-2,8.43E-2,8.6300000000000002E-2,8.8200000000000001E-2,8.1699999999999995E-2,8.4900000000000003E-2,8.7900000000000006E-2,9.0899999999999995E-2,8.7400000000000005E-2,8.1500000000000003E-2,8.4500000000000006E-2,7.7700000000000005E-2,7.6499999999999999E-2,8.0699999999999994E-2]
["Germany (until 1990 former territory of the FRG)",7.5200000000000003E-2,8.3199999999999996E-2,0.09,8.9899999999999994E-2,9.4200000000000006E-2,9.01E-2,8.7800000000000003E-2,9.5699999999999993E-2,0.1002,0.1091,0.104,0.10489999999999999,0.1123,0.1118,0.1158,0.11169999999999999,0.1111,0.1124,0.1021]
["Estonia",":",3.4500000000000003E-2,3.9800000000000002E-2,4.3700000000000003E-2,4.6800000000000001E-2,4.5999999999999999E-2,5.9200000000000003E-2,6.6000000000000003E-2,6.6100000000000006E-2,7.0099999999999996E-2,7.0699999999999999E-2,7.17E-2,8.3299999999999999E-2,7.9899999999999999E-2,7.4999999999999997E-2,7.5399999999999995E-2,7.4300000000000005E-2,7.2800000000000004E-2,7.1300000000000002E-2]
["Ireland",":",0.1094,0.1191,0.115,9.5699999999999993E-2,8.8800000000000004E-2,7.6200000000000004E-2,7.9899999999999999E-2,7.6899999999999996E-2,8.5599999999999996E-2,9.2799999999999994E-2,0.1089,0.10440000000000001,0.1031,0.1019,9.6299999999999997E-2,0.10050000000000001,9.6799999999999997E-2,8.8700000000000001E-2]
["Greece",":",6.0600000000000001E-2,6.54E-2,7.2400000000000006E-2,7.3899999999999993E-2,7.2900000000000006E-2,7.4899999999999994E-2,7.9699999999999993E-2,7.8E-2,7.9600000000000004E-2,9.06E-2,9.4200000000000006E-2,9.5100000000000004E-2,9.4500000000000001E-2,8.5400000000000004E-2,7.6399999999999996E-2,7.2900000000000006E-2,7.3700000000000002E-2,7.3899999999999993E-2]
["Spain",":",6.93E-2,7.1300000000000002E-2,7.8100000000000003E-2,8.3400000000000002E-2,8.2299999999999998E-2,7.5899999999999995E-2,7.6399999999999996E-2,7.8899999999999998E-2,8.1199999999999994E-2,8.7599999999999997E-2,8.77E-2,8.6300000000000002E-2,8.6900000000000005E-2,7.8600000000000003E-2,8.3199999999999996E-2,8.3099999999999993E-2,8.1600000000000006E-2,7.3400000000000007E-2]
["France",":",5.5300000000000002E-2,6.3299999999999995E-2,5.9200000000000003E-2,7.1300000000000002E-2,6.3E-2,6.9099999999999995E-2,6.0499999999999998E-2,7.1499999999999994E-2,6.3100000000000003E-2,7.2499999999999995E-2,6.7100000000000007E-2,7.3499999999999996E-2,6.8900000000000003E-2,7.4999999999999997E-2,7.0699999999999999E-2,7.8200000000000006E-2,7.1900000000000006E-2,7.0699999999999999E-2]
["Croatia",4.0800000000000003E-2,4.65E-2,5.3600000000000002E-2,5.9900000000000002E-2,6.2300000000000001E-2,6.1600000000000002E-2,6.6699999999999995E-2,6.7599999999999993E-2,6.0999999999999999E-2,5.9200000000000003E-2,5.9200000000000003E-2,6.0100000000000001E-2,6.3299999999999995E-2,6.4100000000000004E-2,6.4500000000000002E-2,6.5199999999999994E-2,6.3100000000000003E-2,6.6100000000000006E-2,6.3700000000000007E-2]
["Italy",":",":",0.1164,0.1229,0.1137,0.1081,0.1055,0.1158,0.11310000000000001,0.1331,0.1239,0.1419,0.1321,0.13800000000000001,0.13300000000000001,0.1394,0.1249,0.1283,0.1225]
["Cyprus",":",0.11210000000000001,0.12180000000000001,0.154,0.10050000000000001,0.1221,0.13020000000000001,0.14879999999999999,0.1452,0.18609999999999999,0.2031,0.21379999999999999,":",0.17580000000000001,0.158,0.1633,0.1182,0.1222,8.5099999999999995E-2]
["Latvia",":",4.4699999999999997E-2,5.1999999999999998E-2,6.8599999999999994E-2,8.2299999999999998E-2,7.6700000000000004E-2,8.09E-2,8.3099999999999993E-2,8.9200000000000002E-2,9.9500000000000005E-2,9.4799999999999995E-2,9.7699999999999995E-2,0.1028,0.1069,0.1086,0.10299999999999999,0.10050000000000001,9.69E-2,0.10009999999999999]
["Lithuania",":",5.4800000000000001E-2,6.6799999999999998E-2,6.6100000000000006E-2,7.4099999999999999E-2,6.2199999999999998E-2,8.6999999999999994E-2,8.7999999999999995E-2,0.1008,":",0.11650000000000001,0.1167,0.127,":",0.1198,0.1154,8.3699999999999997E-2,8.4199999999999997E-2,7.6399999999999996E-2]
["Luxembourg",":",":",":",":",6.5299999999999997E-2,6.5500000000000003E-2,6.6799999999999998E-2,6.7799999999999999E-2,6.1800000000000001E-2,6.1800000000000001E-2,6.4399999999999999E-2,6.4299999999999996E-2,6.1499999999999999E-2,6.1600000000000002E-2,5.9499999999999997E-2,5.9700000000000003E-2,5.91E-2,5.0200000000000002E-2,4.4600000000000001E-2]
["Hungary",":",8.5400000000000004E-2,8.8800000000000004E-2,9.8799999999999999E-2,0.1128,0.1055,8.3099999999999993E-2,8.6599999999999996E-2,0.1016,9.8699999999999996E-2,9.4100000000000003E-2,9.6199999999999994E-2,9.5399999999999999E-2,9.7299999999999998E-2,8.8099999999999998E-2,8.7900000000000006E-2,8.4599999999999995E-2,8.4099999999999994E-2,7.4499999999999997E-2]
["Malta",":",5.8000000000000003E-2,5.8099999999999999E-2,0.1323,0.123,8.5999999999999993E-2,0.13500000000000001,0.13800000000000001,0.13700000000000001,0.13600000000000001,0.13800000000000001,0.13800000000000001,0.13900000000000001,0.13700000000000001,0.13600000000000001,0.14399999999999999,0.1275,0.11210000000000001,0.1113]
["Netherlands",8.2500000000000004E-2,7.8600000000000003E-2,8.4199999999999997E-2,8.43E-2,9.1200000000000003E-2,8.3599999999999994E-2,7.5800000000000006E-2,7.1599999999999997E-2,7.4499999999999997E-2,7.0400000000000004E-2,7.3400000000000007E-2,7.1400000000000005E-2,7.7700000000000005E-2,7.6999999999999999E-2,7.4200000000000002E-2,6.7500000000000004E-2,7.0699999999999999E-2,6.3399999999999998E-2,6.6100000000000006E-2]
["Austria",":",8.0600000000000005E-2,8.43E-2,9.4600000000000004E-2,0.1,0.1002,9.4500000000000001E-2,9.5500000000000002E-2,9.3600000000000003E-2,9.2600000000000002E-2,8.7999999999999995E-2,8.8200000000000001E-2,8.5599999999999996E-2,8.5300000000000001E-2,8.3299999999999999E-2,8.0799999999999997E-2,7.6399999999999996E-2,7.85E-2,7.1900000000000006E-2]
["Poland",":",5.3400000000000003E-2,7.3899999999999993E-2,7.6100000000000001E-2,7.5300000000000006E-2,8.0299999999999996E-2,7.9200000000000007E-2,8.0500000000000002E-2,8.1199999999999994E-2,7.46E-2,7.7399999999999997E-2,8.0699999999999994E-2,7.3599999999999999E-2,6.9500000000000006E-2,6.4199999999999993E-2,6.59E-2,7.0599999999999996E-2,6.83E-2,6.54E-2]
["Portugal",":",6.3200000000000006E-2,6.8099999999999994E-2,6.9400000000000003E-2,6.8500000000000005E-2,6.9199999999999998E-2,6.7400000000000002E-2,6.8500000000000005E-2,7.3499999999999996E-2,7.9399999999999998E-2,9.3600000000000003E-2,9.1899999999999996E-2,9.1700000000000004E-2,9.0999999999999998E-2,8.4199999999999997E-2,8.7900000000000006E-2,8.7400000000000005E-2,8.8700000000000001E-2,8.48E-2]
["Romania",":",6.3799999999999996E-2,6.9900000000000004E-2,6.83E-2,6.6299999999999998E-2,6.25E-2,6.4600000000000005E-2,6.1499999999999999E-2,6.2799999999999995E-2,6.4000000000000001E-2,6.7500000000000004E-2,6.0699999999999997E-2,6.7400000000000002E-2,6.2E-2,7.2499999999999995E-2,6.2899999999999998E-2,6.5299999999999997E-2,6.4199999999999993E-2,6.0299999999999999E-2]
["Slovenia",":",6.4799999999999996E-2,6.4500000000000002E-2,6.5500000000000003E-2,6.3799999999999996E-2,7.4800000000000005E-2,7.2499999999999995E-2,7.4999999999999997E-2,7.5300000000000006E-2,7.6899999999999996E-2,7.7499999999999999E-2,7.8E-2,7.7100000000000002E-2,7.4999999999999997E-2,6.83E-2,6.8500000000000005E-2,6.4000000000000001E-2,6.6199999999999995E-2,6.1699999999999998E-2]
["Slovakia",":",8.48E-2,9.6799999999999997E-2,9.9199999999999997E-2,0.1104,0.1094,9.7900000000000001E-2,9.7199999999999995E-2,0.1067,0.1045,0.10929999999999999,0.1104,0.10589999999999999,0.1043,9.3899999999999997E-2,9.4899999999999998E-2,9.35E-2,0.1017,8.5699999999999998E-2]
["Finland",4.1500000000000002E-2,4.2799999999999998E-2,5.28E-2,5.6899999999999999E-2,5.4600000000000003E-2,5.5199999999999999E-2,6.2300000000000001E-2,5.8999999999999997E-2,6.5100000000000005E-2,6.0100000000000001E-2,5.8400000000000001E-2,5.9900000000000002E-2,5.8900000000000001E-2,6.0600000000000001E-2,5.6300000000000003E-2,5.6099999999999997E-2,5.3400000000000003E-2,5.28E-2,5.1900000000000002E-2]
["Sweden",4.7199999999999999E-2,5.2600000000000001E-2,5.5500000000000001E-2,6.2E-2,5.2699999999999997E-2,5.6000000000000001E-2,6.9800000000000001E-2,6.9500000000000006E-2,7.1800000000000003E-2,6.1499999999999999E-2,6.2700000000000006E-2,5.8299999999999998E-2,6.25E-2,5.8900000000000001E-2,5.5300000000000002E-2,5.33E-2,4.8000000000000001E-2,4.4600000000000001E-2,4.6300000000000001E-2]
["United Kingdom",9.5399999999999999E-2,8.8499999999999995E-2,8.5300000000000001E-2,9.7699999999999995E-2,9.98E-2,8.6699999999999999E-2,8.3400000000000002E-2,7.9399999999999998E-2,8.4199999999999997E-2,8.6199999999999999E-2,0.1009,0.10589999999999999,0.1061,0.1074,0.1169,0.1202,0.1336,0.13589999999999999,0.12509999999999999]
[]
["Special value:"]
[":","not available"]
[]
["PRODUCT","Electrical energy"]
["CONSOM","Band IF : 70 000 MWh < Consumption < 150 000 MWh"]
["UNIT","Kilowatt-hour"]
["TAX","Excluding VAT and other recoverable taxes and levies"]
["CURRENCY","Euro"]
[]
["GEO/TIME","2007S1","2007S2","2008S1","2008S2","2009S1","2009S2","2010S1","2010S2","2011S1","2011S2","2012S1","2012S2","2013S1","2013S2","2014S1","2014S2","2015S1","2015S2","2016S1"]
["European Union (28 countries)",":",6.6900000000000001E-2,7.6300000000000007E-2,8.0699999999999994E-2,7.9899999999999999E-2,7.5700000000000003E-2,7.5999999999999998E-2,7.8600000000000003E-2,8.2299999999999998E-2,8.1000000000000003E-2,8.3199999999999996E-2,8.4500000000000006E-2,8.6999999999999994E-2,8.4099999999999994E-2,8.5199999999999998E-2,8.4699999999999998E-2,8.4900000000000003E-2,8.1900000000000001E-2,7.4499999999999997E-2]
["Belgium",":",6.1499999999999999E-2,7.2499999999999995E-2,7.4099999999999999E-2,8.4900000000000003E-2,7.6600000000000001E-2,7.1599999999999997E-2,7.4899999999999994E-2,7.4999999999999997E-2,8.1000000000000003E-2,7.7100000000000002E-2,7.4999999999999997E-2,5.91E-2,7.2900000000000006E-2,6.8400000000000002E-2,7.0000000000000007E-2,6.7100000000000007E-2,6.3500000000000001E-2,5.6500000000000002E-2]
["Bulgaria",":",3.8899999999999997E-2,3.5299999999999998E-2,4.5499999999999999E-2,4.8099999999999997E-2,4.7600000000000003E-2,4.65E-2,5.0200000000000002E-2,4.9799999999999997E-2,4.8000000000000001E-2,5.1499999999999997E-2,5.96E-2,5.62E-2,5.0799999999999998E-2,5.6500000000000002E-2,5.1499999999999997E-2,5.2900000000000003E-2,6.0199999999999997E-2,6.5199999999999994E-2]
["Czech Republic",":",6.6799999999999998E-2,8.3699999999999997E-2,8.5400000000000004E-2,8.6999999999999994E-2,9.1600000000000001E-2,8.9899999999999994E-2,9.2799999999999994E-2,9.6699999999999994E-2,9.5200000000000007E-2,9.8799999999999999E-2,9.9900000000000003E-2,0.1009,9.7799999999999998E-2,8.0100000000000005E-2,7.8700000000000006E-2,7.5700000000000003E-2,7.6499999999999999E-2,6.7500000000000004E-2]
["Denmark",":",7.9699999999999993E-2,8.2199999999999995E-2,9.2700000000000005E-2,7.5399999999999995E-2,8.1299999999999997E-2,8.3599999999999994E-2,8.5500000000000007E-2,8.7400000000000005E-2,8.09E-2,8.4099999999999994E-2,8.7099999999999997E-2,0.09,8.6599999999999996E-2,7.85E-2,8.3199999999999996E-2,7.6200000000000004E-2,7.5399999999999995E-2,7.8600000000000003E-2]
["Germany (until 1990 former territory of the FRG)",7.5700000000000003E-2,8.2400000000000001E-2,8.5900000000000004E-2,8.5300000000000001E-2,8.77E-2,8.6099999999999996E-2,8.2400000000000001E-2,9.0200000000000002E-2,0.1013,0.1,9.3100000000000002E-2,9.2100000000000001E-2,0.10639999999999999,9.7100000000000006E-2,0.10630000000000001,0.1033,0.1012,9.3899999999999997E-2,7.9600000000000004E-2]
["Estonia",":",3.4500000000000003E-2,3.78E-2,3.9600000000000003E-2,4.4499999999999998E-2,4.6100000000000002E-2,4.4699999999999997E-2,5.9400000000000001E-2,6.5500000000000003E-2,6.1499999999999999E-2,6.3100000000000003E-2,6.9500000000000006E-2,7.3700000000000002E-2,6.9800000000000001E-2,7.2099999999999997E-2,6.7900000000000002E-2,7.1599999999999997E-2,6.9199999999999998E-2,6.9800000000000001E-2]
["Ireland",":",0.1026,":",0.1004,8.7400000000000005E-2,7.8799999999999995E-2,5.62E-2,":",6.8699999999999997E-2,":",8.6900000000000005E-2,9.7799999999999998E-2,9.2399999999999996E-2,9.2899999999999996E-2,9.1899999999999996E-2,9.2600000000000002E-2,9.2399999999999996E-2,8.7599999999999997E-2,8.0699999999999994E-2]
["Greece",":",5.9900000000000002E-2,6.4899999999999999E-2,6.6400000000000001E-2,6.2700000000000006E-2,6.3600000000000004E-2,6.5100000000000005E-2,7.4200000000000002E-2,6.2399999999999997E-2,5.8700000000000002E-2,5.7799999999999997E-2,6.7000000000000004E-2,7.0099999999999996E-2,6.59E-2,5.7799999999999997E-2,4.9700000000000001E-2,5.2699999999999997E-2,4.6800000000000001E-2,5.7500000000000002E-2]
["Spain",":",5.5300000000000002E-2,5.9499999999999997E-2,7.2499999999999995E-2,7.2800000000000004E-2,7.0900000000000005E-2,6.7599999999999993E-2,6.7100000000000007E-2,7.1199999999999999E-2,7.2900000000000006E-2,7.5800000000000006E-2,7.6999999999999999E-2,6.9599999999999995E-2,7.5899999999999995E-2,7.1599999999999997E-2,7.7399999999999997E-2,7.5600000000000001E-2,7.9699999999999993E-2,6.6699999999999995E-2]
["France",":",5.16E-2,6.0400000000000002E-2,5.3999999999999999E-2,6.08E-2,5.3699999999999998E-2,6.2100000000000002E-2,5.4600000000000003E-2,6.3100000000000003E-2,5.6000000000000001E-2,6.59E-2,5.6899999999999999E-2,6.6000000000000003E-2,5.4899999999999997E-2,6.6799999999999998E-2,5.4699999999999999E-2,6.6100000000000006E-2,5.5599999999999997E-2,6.4699999999999994E-2]
["Croatia",3.8100000000000002E-2,4.1000000000000002E-2,4.1300000000000003E-2,5.4300000000000001E-2,5.4199999999999998E-2,5.62E-2,6.2100000000000002E-2,5.3600000000000002E-2,5.7500000000000002E-2,5.3699999999999998E-2,6.3799999999999996E-2,6.0299999999999999E-2,6.2199999999999998E-2,6.93E-2,5.7500000000000002E-2,5.5199999999999999E-2,5.91E-2,5.33E-2,5.4399999999999997E-2]
["Italy",":",":",0.10199999999999999,0.114,9.8000000000000004E-2,8.8800000000000004E-2,9.4200000000000006E-2,0.10730000000000001,9.8199999999999996E-2,0.1033,0.11169999999999999,0.1236,0.11360000000000001,0.1162,0.10489999999999999,0.1153,0.10440000000000001,0.1065,9.0899999999999995E-2]
["Cyprus",":",0.1152,0.12230000000000001,0.1552,0.1007,0.1217,0.1305,0.14760000000000001,0.14580000000000001,0.18179999999999999,0.20069999999999999,0.2046,0.18179999999999999,0.16,0.15210000000000001,0.1489,0.11269999999999999,0.107,8.3000000000000004E-2]
["Latvia",":",4.2999999999999997E-2,5.1999999999999998E-2,6.83E-2,7.2900000000000006E-2,7.1199999999999999E-2,7.2599999999999998E-2,7.6600000000000001E-2,8.0600000000000005E-2,7.85E-2,7.85E-2,8.1600000000000006E-2,0.1012,9.5899999999999999E-2,9.5699999999999993E-2,9.0300000000000005E-2,8.5199999999999998E-2,8.2600000000000007E-2,7.8200000000000006E-2]
["Lithuania",":",5.5599999999999997E-2,6.3E-2,":",":",":",":",":",":",":",":",":",":",":",":",":",7.7600000000000002E-2,8.2500000000000004E-2,7.22E-2]
["Luxembourg",":",":",":",":",":",":",":",":",":",":",":",":",":",":",":",":",":",":",":"]
["Hungary",":",7.2099999999999997E-2,7.8100000000000003E-2,8.9700000000000002E-2,9.7600000000000006E-2,8.77E-2,8.4000000000000005E-2,8.2199999999999995E-2,7.6399999999999996E-2,7.3700000000000002E-2,9.9599999999999994E-2,0.1022,9.8400000000000001E-2,9.0899999999999995E-2,8.8499999999999995E-2,8.6800000000000002E-2,8.4900000000000003E-2,8.5400000000000004E-2,7.17E-2]
["Malta",":",":",5.8099999999999999E-2,0.1323,0.123,8.5999999999999993E-2,0.13100000000000001,0.14000000000000001,0.13700000000000001,0.14199999999999999,0.13800000000000001,0.153,0.13800000000000001,0.14199999999999999,0.13700000000000001,0.125,0.1138,9.8900000000000002E-2,9.9199999999999997E-2]
["Netherlands",7.3400000000000007E-2,7.0800000000000002E-2,7.9500000000000001E-2,7.8200000000000006E-2,8.7599999999999997E-2,7.9100000000000004E-2,7.3400000000000007E-2,7.2700000000000001E-2,7.2499999999999995E-2,7.4499999999999997E-2,7.0499999999999993E-2,7.0199999999999999E-2,7.3999999999999996E-2,7.8100000000000003E-2,7.3899999999999993E-2,7.0900000000000005E-2,7.0800000000000002E-2,6.7199999999999996E-2,6.2100000000000002E-2]
["Austria",":",7.51E-2,7.6300000000000007E-2,8.8599999999999998E-2,9.1899999999999996E-2,9.1899999999999996E-2,8.9399999999999993E-2,8.8800000000000004E-2,8.5900000000000004E-2,8.5900000000000004E-2,8.2699999999999996E-2,8.2100000000000006E-2,8.0299999999999996E-2,7.8700000000000006E-2,7.22E-2,7.2800000000000004E-2,6.93E-2,7.1300000000000002E-2,6.4799999999999996E-2]
["Poland",":",6.1199999999999997E-2,6.6799999999999998E-2,7.2400000000000006E-2,7.3499999999999996E-2,7.3099999999999998E-2,7.7700000000000005E-2,7.6700000000000004E-2,7.9200000000000007E-2,7.1599999999999997E-2,7.2999999999999995E-2,7.6799999999999993E-2,6.9500000000000006E-2,6.6400000000000001E-2,6.0999999999999999E-2,6.0499999999999998E-2,6.6600000000000006E-2,6.25E-2,5.9499999999999997E-2]
["Portugal",":",5.79E-2,6.0499999999999998E-2,6.1199999999999997E-2,6.4199999999999993E-2,5.4399999999999997E-2,5.16E-2,5.8900000000000001E-2,6.9800000000000001E-2,7.0499999999999993E-2,8.3400000000000002E-2,8.1500000000000003E-2,8.1600000000000006E-2,8.1799999999999998E-2,7.6100000000000001E-2,8.3799999999999999E-2,7.8600000000000003E-2,8.4699999999999998E-2,6.6500000000000004E-2]
["Romania",":",5.7200000000000001E-2,6.1699999999999998E-2,5.4800000000000001E-2,5.9299999999999999E-2,5.7099999999999998E-2,5.91E-2,5.5899999999999998E-2,5.91E-2,6.1400000000000003E-2,6.25E-2,5.5100000000000003E-2,6.8000000000000005E-2,6.1400000000000003E-2,6.7699999999999996E-2,6.5000000000000002E-2,6.3200000000000006E-2,5.9799999999999999E-2,5.8500000000000003E-2]
["Slovenia",":",6.7900000000000002E-2,6.4500000000000002E-2,7.7600000000000002E-2,6.9500000000000006E-2,7.5800000000000006E-2,7.2499999999999995E-2,7.4899999999999994E-2,7.6600000000000001E-2,7.2700000000000001E-2,7.0699999999999999E-2,7.0199999999999999E-2,7.3899999999999993E-2,7.1499999999999994E-2,6.6500000000000004E-2,6.6299999999999998E-2,6.3500000000000001E-2,6.2399999999999997E-2,5.67E-2]
["Slovakia",":",7.3400000000000007E-2,8.8099999999999998E-2,9.4299999999999995E-2,9.5200000000000007E-2,0.1011,9.3899999999999997E-2,9.5299999999999996E-2,9.4299999999999995E-2,9.6699999999999994E-2,0.1013,9.6600000000000005E-2,0.1012,0.11020000000000001,9.0999999999999998E-2,8.9700000000000002E-2,9.7500000000000003E-2,9.2600000000000002E-2,0.08]
["Finland",4.2999999999999997E-2,4.3999999999999997E-2,5.1200000000000002E-2,5.62E-2,5.4300000000000001E-2,5.2499999999999998E-2,6.0400000000000002E-2,5.7299999999999997E-2,6.3299999999999995E-2,6.1100000000000002E-2,5.8900000000000001E-2,5.8599999999999999E-2,5.8500000000000003E-2,5.9799999999999999E-2,5.5899999999999998E-2,5.5800000000000002E-2,5.1400000000000001E-2,4.99E-2,4.7600000000000003E-2]
["Sweden",4.6199999999999998E-2,5.1299999999999998E-2,5.6000000000000001E-2,6.2300000000000001E-2,4.9500000000000002E-2,5.0200000000000002E-2,6.5000000000000002E-2,6.5699999999999995E-2,6.7299999999999999E-2,5.5599999999999997E-2,5.3900000000000003E-2,4.9000000000000002E-2,5.5E-2,5.28E-2,4.8800000000000003E-2,4.6100000000000002E-2,4.1200000000000001E-2,3.5000000000000003E-2,3.8399999999999997E-2]
["United Kingdom",9.1300000000000006E-2,8.4599999999999995E-2,8.7999999999999995E-2,9.9400000000000002E-2,9.7799999999999998E-2,8.6900000000000005E-2,8.1100000000000005E-2,7.9100000000000004E-2,8.3400000000000002E-2,8.1900000000000001E-2,9.2200000000000004E-2,0.1033,0.1053,0.10349999999999999,0.11310000000000001,0.1173,0.13039999999999999,0.13239999999999999,0.12230000000000001]
[]
["Special value:"]
[":","not available"]
[]
["PRODUCT","Electrical energy"]
["CONSOM","Band IG : Consumption > 150 000 MWh"]
["UNIT","Kilowatt-hour"]
["TAX","Excluding VAT and other recoverable taxes and levies"]
["CURRENCY","Euro"]
[]
["GEO/TIME","2007S1","2007S2","2008S1","2008S2","2009S1","2009S2","2010S1","2010S2","2011S1","2011S2","2012S1","2012S2","2013S1","2013S2","2014S1","2014S2","2015S1","2015S2","2016S1"]
["European Union (28 countries)",":",":",":",":",":",":",":",":",":",":",":",":",":",":",":",":",":",":",":"]
["Belgium",":",":",":",":",":",":",":",":",":",":",":",":",":",":",":",":",":",":",5.8900000000000001E-2]
["Bulgaria",":",3.5799999999999998E-2,3.4799999999999998E-2,4.3999999999999997E-2,4.65E-2,4.7600000000000003E-2,4.7600000000000003E-2,5.1299999999999998E-2,4.6800000000000001E-2,4.8300000000000003E-2,5.0299999999999997E-2,5.2499999999999998E-2,5.57E-2,5.0599999999999999E-2,5.2900000000000003E-2,5.21E-2,4.8599999999999997E-2,5.9299999999999999E-2,6.2100000000000002E-2]
["Czech Republic",":",":",":",":",":",":",":",":",":",":",":",":",":",":",":",":",":",":",":"]
["Denmark",":",":",":",":",":",":",":",":",":",":",":",":",":",":",":",":",":",":",":"]
["Germany (until 1990 former territory of the FRG)",":",":",":",":",":",":",":",":",":",":",":",":",":",":",":",":",":",":",":"]
["Estonia",":",":",":",":",":",":",":",":",":",":",":",":",":",":",":",":",":",":",":"]
["Ireland",":",":",":",":",":",":",":",":",":",":",":",":",":",":",":",":",":",":",":"]
["Greece",":",":",":",":",":",5.9499999999999997E-2,6.0699999999999997E-2,6.7299999999999999E-2,6.1100000000000002E-2,6.0699999999999997E-2,5.9700000000000003E-2,":",":",":",":",":",":",":",":"]
["Spain",":",4.1300000000000003E-2,4.4299999999999999E-2,5.1400000000000001E-2,5.3600000000000002E-2,4.99E-2,5.1200000000000002E-2,5.11E-2,5.2499999999999998E-2,5.2999999999999999E-2,5.5899999999999998E-2,5.62E-2,5.62E-2,6.5699999999999995E-2,5.3999999999999999E-2,6.7900000000000002E-2,6.6699999999999995E-2,7.5200000000000003E-2,5.4300000000000001E-2]
["France",":",":",":",":",":",":",":",":",":",":",":",":",":",":",":",":",":",":",":"]
["Croatia",3.8100000000000002E-2,4.65E-2,4.6800000000000001E-2,5.8500000000000003E-2,":",":",":",5.8400000000000001E-2,":",":",":",":",":",":",":",":",":",":",":"]
["Italy",":",":",9.11E-2,0.1011,9.4899999999999998E-2,8.4500000000000006E-2,9.4500000000000001E-2,0.1096,8.8499999999999995E-2,9.3200000000000005E-2,9.3700000000000006E-2,0.10100000000000001,9.74E-2,0.1061,8.2100000000000006E-2,9.2100000000000001E-2,":",8.6400000000000005E-2,7.46E-2]
["Cyprus",":",":",":",":",":",":",":",":",":",":",":",":",":",":",":",":",":",":",":"]
["Latvia",":",":",":",":",":",":",":",":",":",":",":",":",":",":",":",":",":",":",":"]
["Lithuania",":",":",":",":",":",":",":",":",":",":",":",":",":",":",":",":",":",":",":"]
["Luxembourg",":",":",":",":",":",":",":",":",":",":",":",":",":",":",":",":",":",":",":"]
["Hungary",":",6.7000000000000004E-2,7.7299999999999994E-2,8.2299999999999998E-2,9.1800000000000007E-2,9.5200000000000007E-2,7.6799999999999993E-2,7.7399999999999997E-2,6.8699999999999997E-2,7.0599999999999996E-2,9.3899999999999997E-2,9.7100000000000006E-2,9.6100000000000005E-2,9.4700000000000006E-2,8.3400000000000002E-2,8.3400000000000002E-2,8.1600000000000006E-2,8.2900000000000001E-2,7.3200000000000001E-2]
["Malta",":",":",5.8099999999999999E-2,0.1323,0.123,8.5999999999999993E-2,":",":",":",":",":",":",":",":",":",":",":",":",":"]
["Netherlands",":",":",":",":",6.7599999999999993E-2,6.0699999999999997E-2,6.2600000000000003E-2,6.4000000000000001E-2,6.3799999999999996E-2,6.5100000000000005E-2,5.96E-2,6.3899999999999998E-2,7.2800000000000004E-2,7.4899999999999994E-2,6.5299999999999997E-2,6.59E-2,6.6699999999999995E-2,6.4299999999999996E-2,5.8500000000000003E-2]
["Austria",":",":",":",8.7999999999999995E-2,":",":",":",":",":",":",":",":",":",":",":",":",":",6.4100000000000004E-2,":"]
["Poland",":",":",":",7.22E-2,7.4800000000000005E-2,7.7899999999999997E-2,8.1699999999999995E-2,8.1799999999999998E-2,8.3299999999999999E-2,7.4999999999999997E-2,7.8E-2,7.8E-2,7.3300000000000004E-2,6.3500000000000001E-2,5.5E-2,5.6500000000000002E-2,6.0499999999999998E-2,5.8200000000000002E-2,5.5899999999999998E-2]
["Portugal",":",":",":",":",":",":",":",":",":",":",":",":",":",":",":",":",":",":",":"]
["Romania",":",":",":",":",":",":",":",":",":",":",":",":",":",":",":",":",":",":",":"]
["Slovenia",":",":",":",":",":",":",":",":",":",":",":",":",":",":",":",":",":",":",":"]
["Slovakia",":",7.8200000000000006E-2,9.1200000000000003E-2,9.5600000000000004E-2,9.6100000000000005E-2,9.0300000000000005E-2,9.1300000000000006E-2,7.5300000000000006E-2,9.4700000000000006E-2,9.6299999999999997E-2,9.4500000000000001E-2,8.6999999999999994E-2,0.1043,9.4299999999999995E-2,8.48E-2,6.8199999999999997E-2,7.2499999999999995E-2,6.59E-2,6.88E-2]
["Finland",":",":",":",":",":",":",":",":",":",":",":",":",":",":",":",":",":",":",":"]
["Sweden",":",":",":",":",":",":",":",":",":",":",":",":",":",":",":",":",":",":",":"]
["United Kingdom",8.3900000000000002E-2,7.1199999999999999E-2,7.7399999999999997E-2,8.6199999999999999E-2,8.3099999999999993E-2,7.8100000000000003E-2,8.3199999999999996E-2,7.7799999999999994E-2,7.9100000000000004E-2,8.3599999999999994E-2,9.6699999999999994E-2,0.1027,9.8000000000000004E-2,0.1028,0.10979999999999999,0.1143,0.125,0.1298,0.11849999999999999]
[]
["Special value:"]
[":","not available"]

{"sheet":"Afgifter og Moms","index":7,"n_rows":34,"n_cols":90,"rows_kept":34,"cut":false,"hidden":false,"merged":[[2,78,2,89],[2,65,2,76],[2,0,2,11],[2,13,2,24],[2,26,2,37],[2,39,2,50],[2,52,2,63]]}
["Ikke-refunderbare afgifter i de enklete lande"]
[]
["Forbrugsinterval < 0,02 GWh",null,null,null,null,null,null,null,null,null,null,null,null,"Forbrugsinterval 0,02 GWh < 0,5 GWh",null,null,null,null,null,null,null,null,null,null,null,null,"Forbrugsinterval 0,5 GWh <  2 GWh",null,null,null,null,null,null,null,null,null,null,null,null,"Forbrugsinterval 2 GWh < 20 GWh",null,null,null,null,null,null,null,null,null,null,null,null,"Forbrugsinterval 20 GWh <  70 GWh",null,null,null,null,null,null,null,null,null,null,null,null,"Forbrugsinterval 70 GWh < 150 GWh",null,null,null,null,null,null,null,null,null,null,null,null,"Forbrugsinterval > 150 GWh"]
[]
[{"$f":"'Level 1'!A5","v":"Euro/kWh"},{"$f":"'Level 1'!B5","v":2007},{"$f":"'Level 1'!C5","v":2008},{"$f":"'Level 1'!D5","v":2009},{"$f":"'Level 1'!E5","v":2010},{"$f":"'Level 1'!F5","v":2011},{"$f":"'Level 1'!G5","v":2012},{"$f":"'Level 1'!H5","v":2013},{"$f":"'Level 1'!I5","v":2014},{"$f":"'Level 1'!J5","v":2015},{"$f":"'Level 1'!K5","v":2016},{"$f":"'Level 1'!L5","v":2017},null,{"$f":"'Level 1'!N5","v":"Euro/kWh"},{"$f":"'Level 1'!O5","v":2007},{"$f":"'Level 1'!P5","v":2008},{"$f":"'Level 1'!Q5","v":2009},{"$f":"'Level 1'!R5","v":2010},{"$f":"'Level 1'!S5","v":2011},{"$f":"'Level 1'!T5","v":2012},{"$f":"'Level 1'!U5","v":2013},{"$f":"'Level 1'!V5","v":2014},{"$f":"'Level 1'!W5","v":2015},{"$f":"'Level 1'!X5","v":2016},{"$f":"'Level 1'!Y5","v":2017},null,{"$f":"'Level 1'!AA5","v":"Euro/kWh"},{"$f":"'Level 1'!AB5","v":2007},{"$f":"'Level 1'!AC5","v":2008},{"$f":"'Level 1'!AD5","v":2009},{"$f":"'Level 1'!AE5","v":2010},{"$f":"'Level 1'!AF5","v":2011},{"$f":"'Level 1'!AG5","v":2012},{"$f":"'Level 1'!AH5","v":2013},{"$f":"'Level 1'!AI5","v":2014},{"$f":"'Level 1'!AJ5","v":2015},{"$f":"'Level 1'!AK5","v":2016},{"$f":"'Level 1'!AL5","v":2017},null,{"$f":"'Level 1'!AN5","v":"Euro/kWh"},{"$f":"'Level 1'!AO5","v":2007},{"$f":"'Level 1'!AP5","v":2008},{"$f":"'Level 1'!AQ5","v":2009},{"$f":"'Level 1'!AR5","v":2010},{"$f":"'Level 1'!AS5","v":2011},{"$f":"'Level 1'!AT5","v":2012},{"$f":"'Level 1'!AU5","v":2013},{"$f":"'Level 1'!AV5","v":2014},{"$f":"'Level 1'!AW5","v":2015},{"$f":"'Level 1'!AX5","v":2016},{"$f":"'Level 1'!AY5","v":2017},null,{"$f":"'Level 1'!BA5","v":"Euro/kWh"},{"$f":"'Level 1'!BB5","v":2007},{"$f":"'Level 1'!BC5","v":2008},{"$f":"'Level 1'!BD5","v":2009},{"$f":"'Level 1'!BE5","v":2010},{"$f":"'Level 1'!BF5","v":2011},{"$f":"'Level 1'!BG5","v":2012},{"$f":"'Level 1'!BH5","v":2013},{"$f":"'Level 1'!BI5","v":2014},{"$f":"'Level 1'!BJ5","v":2015},{"$f":"'Level 1'!BK5","v":2016},{"$f":"'Level 1'!BL5","v":2017},null,{"$f":"'Level 1'!BN5","v":"Euro/kWh"},{"$f":"'Level 1'!BO5","v":2007},{"$f":"'Level 1'!BP5","v":2008},{"$f":"'Level 1'!BQ5","v":2009},{"$f":"'Level 1'!BR5","v":2010},{"$f":"'Level 1'!BS5","v":2011},{"$f":"'Level 1'!BT5","v":2012},{"$f":"'Level 1'!BU5","v":2013},{"$f":"'Level 1'!BV5","v":2014},{"$f":"'Level 1'!BW5","v":2015},{"$f":"'Level 1'!BX5","v":2016},{"$f":"'Level 1'!BY5","v":2017},null,{"$f":"'Level 1'!CA5","v":"Euro/kWh"},{"$f":"'Level 1'!CB5","v":2007},{"$f":"'Level 1'!CC5","v":2008},{"$f":"'Level 1'!CD5","v":2009},{"$f":"'Level 1'!CE5","v":2010},{"$f":"'Level 1'!CF5","v":2011},{"$f":"'Level 1'!CG5","v":2012},{"$f":"'Level 1'!CH5","v":2013},{"$f":"'Level 1'!CI5","v":2014},{"$f":"'Level 1'!CJ5","v":2015},{"$f":"'Level 1'!CK5","v":2016},{"$f":"'Level 1'!CL5","v":2017}]
[{"$f":"'Level 1'!A6","v":"European Union (28 countries)"},{"$f":"IFERROR('Level 2'!B6-'Level 1'!B6,\"*\")","v":1.6500000000000015E-2},{"$f":"IFERROR('Level 2'!C6-'Level 1'!C6,\"*\")","v":1.5649999999999997E-2},{"$f":"IFERROR('Level 2'!D6-'Level 1'!D6,\"*\")","v":1.5449999999999992E-2},{"$f":"IFERROR('Level 2'!E6-'Level 1'!E6,\"*\")","v":2.0199999999999996E-2},{"$f":"IFERROR('Level 2'!F6-'Level 1'!F6,\"*\")","v":2.4600000000000011E-2},{"$f":"IFERROR('Level 2'!G6-'Level 1'!G6,\"*\")","v":2.8299999999999992E-2},{"$f":"IFERROR('Level 2'!H6-'Level 1'!H6,\"*\")","v":3.7699999999999984E-2},{"$f":"IFERROR('Level 2'!I6-'Level 1'!I6,\"*\")","v":4.1399999999999992E-2},{"$f":"IFERROR('Level 2'!J6-'Level 1'!J6,\"*\")","v":4.3349999999999972E-2},{"$f":"IFERROR('Level 2'!K6-'Level 1'!K6,\"*\")","v":4.6100000000000002E-2},{"$f":"IFERROR('Level 2'!L6-'Level 1'!L6,\"*\")","v":"*"},null,{"$f":"'Level 1'!N6","v":"European Union (28 countries)"},{"$f":"IFERROR('Level 2'!O6-'Level 1'!O6,\"*\")","v":1.0500000000000009E-2},{"$f":"IFERROR('Level 2'!P6-'Level 1'!P6,\"*\")","v":1.2000000000000011E-2},{"$f":"IFERROR('Level 2'!Q6-'Level 1'!Q6,\"*\")","v":1.2899999999999995E-2},{"$f":"IFERROR('Level 2'!R6-'Level 1'!R6,\"*\")","v":1.5100000000000002E-2},{"$f":"IFERROR('Level 2'!S6-'Level 1'!S6,\"*\")","v":1.9349999999999978E-2},{"$f":"IFERROR('Level 2'!T6-'Level 1'!T6,\"*\")","v":2.2599999999999981E-2},{"$f":"IFERROR('Level 2'!U6-'Level 1'!U6,\"*\")","v":2.8249999999999997E-2},{"$f":"IFERROR('Level 2'!V6-'Level 1'!V6,\"*\")","v":3.4650000000000014E-2},{"$f":"IFERROR('Level 2'!W6-'Level 1'!W6,\"*\")","v":3.5049999999999998E-2},{"$f":"IFERROR('Level 2'!X6-'Level 1'!X6,\"*\")","v":3.7299999999999986E-2},{"$f":"IFERROR('Level 2'!Y6-'Level 1'!Y6,\"*\")","v":"*"},null,{"$f":"'Level 1'!AA6","v":"European Union (28 countries)"},{"$f":"IFERROR('Level 2'!AB6-'Level 1'!AB6,\"*\")","v":9.1999999999999998E-3},{"$f":"IFERROR('Level 2'!AC6-'Level 1'!AC6,\"*\")","v":1.0200000000000001E-2},{"$f":"IFERROR('Level 2'!AD6-'Level 1'!AD6,\"*\")","v":1.1149999999999993E-2},{"$f":"IFERROR('Level 2'!AE6-'Level 1'!AE6,\"*\")","v":1.3400000000000009E-2},{"$f":"IFERROR('Level 2'!AF6-'Level 1'!AF6,\"*\")","v":1.7949999999999994E-2},{"$f":"IFERROR('Level 2'!AG6-'Level 1'!AG6,\"*\")","v":2.0549999999999999E-2},{"$f":"IFERROR('Level 2'!AH6-'Level 1'!AH6,\"*\")","v":2.5500000000000009E-2},{"$f":"IFERROR('Level 2'!AI6-'Level 1'!AI6,\"*\")","v":3.1600000000000003E-2},{"$f":"IFERROR('Level 2'!AJ6-'Level 1'!AJ6,\"*\")","v":3.1299999999999994E-2},{"$f":"IFERROR('Level 2'!AK6-'Level 1'!AK6,\"*\")","v":3.3000000000000002E-2},{"$f":"IFERROR('Level 2'!AL6-'Level 1'!AL6,\"*\")","v":"*"},null,{"$f":"'Level 1'!AN6","v":"European Union (28 countries)"},{"$f":"IFERROR('Level 2'!AO6-'Level 1'!AO6,\"*\")","v":8.5999999999999965E-3},{"$f":"IFERROR('Level 2'!AP6-'Level 1'!AP6,\"*\")","v":9.099999999999997E-3},{"$f":"IFERROR('Level 2'!AQ6-'Level 1'!AQ6,\"*\")","v":9.9500000000000005E-3},{"$f":"IFERROR('Level 2'!AR6-'Level 1'!AR6,\"*\")","v":1.1549999999999991E-2},{"$f":"IFERROR('Level 2'!AS6-'Level 1'!AS6,\"*\")","v":1.5700000000000019E-2},{"$f":"IFERROR('Level 2'!AT6-'Level 1'!AT6,\"*\")","v":1.9250000000000003E-2},{"$f":"IFERROR('Level 2'!AU6-'Level 1'!AU6,\"*\")","v":2.3000000000000007E-2},{"$f":"IFERROR('Level 2'!AV6-'Level 1'!AV6,\"*\")","v":2.7700000000000002E-2},{"$f":"IFERROR('Level 2'!AW6-'Level 1'!AW6,\"*\")","v":2.785E-2},{"$f":"IFERROR('Level 2'!AX6-'Level 1'!AX6,\"*\")","v":2.8299999999999992E-2},{"$f":"IFERROR('Level 2'!AY6-'Level 1'!AY6,\"*\")","v":"*"},null,{"$f":"'Level 1'!BA6","v":"European Union (28 countries)"},{"$f":"IFERROR('Level 2'!BB6-'Level 1'!BB6,\"*\")","v":7.0999999999999952E-3},{"$f":"IFERROR('Level 2'!BC6-'Level 1'!BC6,\"*\")","v":7.9499999999999987E-3},{"$f":"IFERROR('Level 2'!BD6-'Level 1'!BD6,\"*\")","v":8.6500000000000049E-3},{"$f":"IFERROR('Level 2'!BE6-'Level 1'!BE6,\"*\")","v":9.999999999999995E-3},{"$f":"IFERROR('Level 2'!BF6-'Level 1'!BF6,\"*\")","v":1.4449999999999991E-2},{"$f":"IFERROR('Level 2'!BG6-'Level 1'!BG6,\"*\")","v":1.5749999999999986E-2},{"$f":"IFERROR('Level 2'!BH6-'Level 1'!BH6,\"*\")","v":1.8999999999999989E-2},{"$f":"IFERROR('Level 2'!BI6-'Level 1'!BI6,\"*\")","v":2.2100000000000009E-2},{"$f":"IFERROR('Level 2'!BJ6-'Level 1'!BJ6,\"*\")","v":2.2349999999999995E-2},{"$f":"IFERROR('Level 2'!BK6-'Level 1'!BK6,\"*\")","v":2.2500000000000006E-2},{"$f":"IFERROR('Level 2'!BL6-'Level 1'!BL6,\"*\")","v":"*"},null,{"$f":"'Level 1'!BN6","v":"European Union (28 countries)"},{"$f":"IFERROR('Level 2'!BO6-'Level 1'!BO6,\"*\")","v":5.7000000000000037E-3},{"$f":"IFERROR('Level 2'!BP6-'Level 1'!BP6,\"*\")","v":6.4999999999999919E-3},{"$f":"IFERROR('Level 2'!BQ6-'Level 1'!BQ6,\"*\")","v":6.7000000000000115E-3},{"$f":"IFERROR('Level 2'!BR6-'Level 1'!BR6,\"*\")","v":8.10000000000001E-3},{"$f":"IFERROR('Level 2'!BS6-'Level 1'!BS6,\"*\")","v":1.1649999999999994E-2},{"$f":"IFERROR('Level 2'!BT6-'Level 1'!BT6,\"*\")","v":1.2800000000000006E-2},{"$f":"IFERROR('Level 2'!BU6-'Level 1'!BU6,\"*\")","v":1.5849999999999975E-2},{"$f":"IFERROR('Level 2'!BV6-'Level 1'!BV6,\"*\")","v":1.8249999999999988E-2},{"$f":"IFERROR('Level 2'!BW6-'Level 1'!BW6,\"*\")","v":1.7899999999999999E-2},{"$f":"IFERROR('Level 2'!BX6-'Level 1'!BX6,\"*\")","v":1.67E-2},{"$f":"IFERROR('Level 2'!BY6-'Level 1'!BY6,\"*\")","v":"*"},null,{"$f":"'Level 1'!CA6","v":"European Union (28 countries)"},{"$f":"IFERROR('Level 2'!CB6-'Level 1'!CB6,\"*\")","v":"*"},{"$f":"IFERROR('Level 2'!CC6-'Level 1'!CC6,\"*\")","v":"*"},{"$f":"IFERROR('Level 2'!CD6-'Level 1'!CD6,\"*\")","v":"*"},{"$f":"IFERROR('Level 2'!CE6-'Level 1'!CE6,\"*\")","v":"*"},{"$f":"IFERROR('Level 2'!CF6-'Level 1'!CF6,\"*\")","v":"*"},{"$f":"IFERROR('Level 2'!CG6-'Level 1'!CG6,\"*\")","v":"*"},{"$f":"IFERROR('Level 2'!CH6-'Level 1'!CH6,\"*\")","v":"*"},{"$f":"IFERROR('Level 2'!CI6-'Level 1'!CI6,\"*\")","v":"*"},{"$f":"IFERROR('Level 2'!CJ6-'Level 1'!CJ6,\"*\")","v":"*"},{"$f":"IFERROR('Level 2'!CK6-'Level 1'!CK6,\"*\")","v":"*"},{"$f":"IFERROR('Level 2'!CL6-'Level 1'!CL6,\"*\")","v":"*"}]
[{"$f":"'Level 1'!A7","v":"Belgium"},{"$f":"IFERROR('Level 2'!B7-'Level 1'!B7,\"*\")","v":1.2500000000000011E-2},{"$f":"IFERROR('Level 2'!C7-'Level 1'!C7,\"*\")","v":1.4200000000000018E-2},{"$f":"IFERROR('Level 2'!D7-'Level 1'!D7,\"*\")","v":1.4099999999999974E-2},{"$f":"IFERROR('Level 2'!E7-'Level 1'!E7,\"*\")","v":1.6350000000000003E-2},{"$f":"IFERROR('Level 2'!F7-'Level 1'!F7,\"*\")","v":1.7149999999999999E-2},{"$f":"IFERROR('Level 2'!G7-'Level 1'!G7,\"*\")","v":1.479999999999998E-2},{"$f":"IFERROR('Level 2'!H7-'Level 1'!H7,\"*\")","v":1.8799999999999983E-2},{"$f":"IFERROR('Level 2'!I7-'Level 1'!I7,\"*\")","v":2.0449999999999996E-2},{"$f":"IFERROR('Level 2'!J7-'Level 1'!J7,\"*\")","v":2.5749999999999995E-2},{"$f":"IFERROR('Level 2'!K7-'Level 1'!K7,\"*\")","v":4.3700000000000017E-2},{"$f":"IFERROR('Level 2'!L7-'Level 1'!L7,\"*\")","v":"*"},null,{"$f":"'Level 1'!N7","v":"Belgium"},{"$f":"IFERROR('Level 2'!O7-'Level 1'!O7,\"*\")","v":1.0599999999999998E-2},{"$f":"IFERROR('Level 2'!P7-'Level 1'!P7,\"*\")","v":1.2300000000000033E-2},{"$f":"IFERROR('Level 2'!Q7-'Level 1'!Q7,\"*\")","v":1.150000000000001E-2},{"$f":"IFERROR('Level 2'!R7-'Level 1'!R7,\"*\")","v":1.3499999999999984E-2},{"$f":"IFERROR('Level 2'!S7-'Level 1'!S7,\"*\")","v":1.5099999999999975E-2},{"$f":"IFERROR('Level 2'!T7-'Level 1'!T7,\"*\")","v":1.4299999999999979E-2},{"$f":"IFERROR('Level 2'!U7-'Level 1'!U7,\"*\")","v":1.8699999999999994E-2},{"$f":"IFERROR('Level 2'!V7-'Level 1'!V7,\"*\")","v":2.0099999999999993E-2},{"$f":"IFERROR('Level 2'!W7-'Level 1'!W7,\"*\")","v":2.2849999999999981E-2},{"$f":"IFERROR('Level 2'!X7-'Level 1'!X7,\"*\")","v":3.1799999999999995E-2},{"$f":"IFERROR('Level 2'!Y7-'Level 1'!Y7,\"*\")","v":"*"},null,{"$f":"'Level 1'!AA7","v":"Belgium"},{"$f":"IFERROR('Level 2'!AB7-'Level 1'!AB7,\"*\")","v":9.5999999999999974E-3},{"$f":"IFERROR('Level 2'!AC7-'Level 1'!AC7,\"*\")","v":9.1500000000000054E-3},{"$f":"IFERROR('Level 2'!AD7-'Level 1'!AD7,\"*\")","v":8.8500000000000106E-3},{"$f":"IFERROR('Level 2'!AE7-'Level 1'!AE7,\"*\")","v":1.1300000000000004E-2},{"$f":"IFERROR('Level 2'!AF7-'Level 1'!AF7,\"*\")","v":1.2699999999999989E-2},{"$f":"IFERROR('Level 2'!AG7-'Level 1'!AG7,\"*\")","v":1.3600000000000001E-2},{"$f":"IFERROR('Level 2'!AH7-'Level 1'!AH7,\"*\")","v":1.7250000000000001E-2},{"$f":"IFERROR('Level 2'!AI7-'Level 1'!AI7,\"*\")","v":1.9250000000000003E-2},{"$f":"IFERROR('Level 2'!AJ7-'Level 1'!AJ7,\"*\")","v":1.8149999999999999E-2},{"$f":"IFERROR('Level 2'!AK7-'Level 1'!AK7,\"*\")","v":2.6499999999999996E-2},{"$f":"IFERROR('Level 2'!AL7-'Level 1'!AL7,\"*\")","v":"*"},null,{"$f":"'Level 1'!AN7","v":"Belgium"},{"$f":"IFERROR('Level 2'!AO7-'Level 1'!AO7,\"*\")","v":9.2999999999999888E-3},{"$f":"IFERROR('Level 2'!AP7-'Level 1'!AP7,\"*\")","v":1.0099999999999998E-2},{"$f":"IFERROR('Level 2'!AQ7-'Level 1'!AQ7,\"*\")","v":8.3499999999999963E-3},{"$f":"IFERROR('Level 2'!AR7-'Level 1'!AR7,\"*\")","v":1.0349999999999998E-2},{"$f":"IFERROR('Level 2'!AS7-'Level 1'!AS7,\"*\")","v":1.1599999999999999E-2},{"$f":"IFERROR('Level 2'!AT7-'Level 1'!AT7,\"*\")","v":1.2150000000000008E-2},{"$f":"IFERROR('Level 2'!AU7-'Level 1'!AU7,\"*\")","v":1.5850000000000017E-2},{"$f":"IFERROR('Level 2'!AV7-'Level 1'!AV7,\"*\")","v":1.6600000000000004E-2},{"$f":"IFERROR('Level 2'!AW7-'Level 1'!AW7,\"*\")","v":1.7450000000000007E-2},{"$f":"IFERROR('Level 2'!AX7-'Level 1'!AX7,\"*\")","v":1.9700000000000009E-2},{"$f":"IFERROR('Level 2'!AY7-'Level 1'!AY7,\"*\")","v":"*"},null,{"$f":"'Level 1'!BA7","v":"Belgium"},{"$f":"IFERROR('Level 2'!BB7-'Level 1'!BB7,\"*\")","v":6.7000000000000115E-3},{"$f":"IFERROR('Level 2'!BC7-'Level 1'!BC7,\"*\")","v":8.199999999999999E-3},{"$f":"IFERROR('Level 2'!BD7-'Level 1'!BD7,\"*\")","v":6.9499999999999978E-3},{"$f":"IFERROR('Level 2'!BE7-'Level 1'!BE7,\"*\")","v":8.6999999999999855E-3},{"$f":"IFERROR('Level 2'!BF7-'Level 1'!BF7,\"*\")","v":1.0850000000000012E-2},{"$f":"IFERROR('Level 2'!BG7-'Level 1'!BG7,\"*\")","v":1.0050000000000003E-2},{"$f":"IFERROR('Level 2'!BH7-'Level 1'!BH7,\"*\")","v":1.0649999999999993E-2},{"$f":"IFERROR('Level 2'!BI7-'Level 1'!BI7,\"*\")","v":1.1399999999999993E-2},{"$f":"IFERROR('Level 2'!BJ7-'Level 1'!BJ7,\"*\")","v":1.1899999999999994E-2},{"$f":"IFERROR('Level 2'!BK7-'Level 1'!BK7,\"*\")","v":1.3700000000000004E-2},{"$f":"IFERROR('Level 2'!BL7-'Level 1'!BL7,\"*\")","v":"*"},null,{"$f":"'Level 1'!BN7","v":"Belgium"},{"$f":"IFERROR('Level 2'!BO7-'Level 1'!BO7,\"*\")","v":4.5999999999999999E-3},{"$f":"IFERROR('Level 2'!BP7-'Level 1'!BP7,\"*\")","v":5.2500000000000047E-3},{"$f":"IFERROR('Level 2'!BQ7-'Level 1'!BQ7,\"*\")","v":5.850000000000008E-3},{"$f":"IFERROR('Level 2'!BR7-'Level 1'!BR7,\"*\")","v":7.4000000000000038E-3},{"$f":"IFERROR('Level 2'!BS7-'Level 1'!BS7,\"*\")","v":8.3000000000000018E-3},{"$f":"IFERROR('Level 2'!BT7-'Level 1'!BT7,\"*\")","v":7.7500000000000069E-3},{"$f":"IFERROR('Level 2'!BU7-'Level 1'!BU7,\"*\")","v":6.4000000000000029E-3},{"$f":"IFERROR('Level 2'!BV7-'Level 1'!BV7,\"*\")","v":7.0000000000000062E-3},{"$f":"IFERROR('Level 2'!BW7-'Level 1'!BW7,\"*\")","v":6.2499999999999917E-3},{"$f":"IFERROR('Level 2'!BX7-'Level 1'!BX7,\"*\")","v":4.9000000000000016E-3},{"$f":"IFERROR('Level 2'!BY7-'Level 1'!BY7,\"*\")","v":"*"},null,{"$f":"'Level 1'!CA7","v":"Belgium"},{"$f":"IFERROR('Level 2'!CB7-'Level 1'!CB7,\"*\")","v":"*"},{"$f":"IFERROR('Level 2'!CC7-'Level 1'!CC7,\"*\")","v":"*"},{"$f":"IFERROR('Level 2'!CD7-'Level 1'!CD7,\"*\")","v":"*"},{"$f":"IFERROR('Level 2'!CE7-'Level 1'!CE7,\"*\")","v":"*"},{"$f":"IFERROR('Level 2'!CF7-'Level 1'!CF7,\"*\")","v":"*"},{"$f":"IFERROR('Level 2'!CG7-'Level 1'!CG7,\"*\")","v":"*"},{"$f":"IFERROR('Level 2'!CH7-'Level 1'!CH7,\"*\")","v":"*"},{"$f":"IFERROR('Level 2'!CI7-'Level 1'!CI7,\"*\")","v":"*"},{"$f":"IFERROR('Level 2'!CJ7-'Level 1'!CJ7,\"*\")","v":"*"},{"$f":"IFERROR('Level 2'!CK7-'Level 1'!CK7,\"*\")","v":1.800000000000003E-3},{"$f":"IFERROR('Level 2'!CL7-'Level 1'!CL7,\"*\")","v":"*"}]
[{"$f":"'Level 1'!A8","v":"Bulgaria"},{"$f":"IFERROR('Level 2'!B8-'Level 1'!B8,\"*\")","v":5.0000000000000044E-4},{"$f":"IFERROR('Level 2'!C8-'Level 1'!C8,\"*\")","v":5.0000000000000044E-4},{"$f":"IFERROR('Level 2'!D8-'Level 1'!D8,\"*\")","v":5.0000000000000044E-4},{"$f":"IFERROR('Level 2'!E8-'Level 1'!E8,\"*\")","v":1.0000000000000009E-3},{"$f":"IFERROR('Level 2'!F8-'Level 1'!F8,\"*\")","v":9.9999999999998701E-4},{"$f":"IFERROR('Level 2'!G8-'Level 1'!G8,\"*\")","v":1.0499999999999954E-3},{"$f":"IFERROR('Level 2'!H8-'Level 1'!H8,\"*\")","v":1.0499999999999954E-3},{"$f":"IFERROR('Level 2'!I8-'Level 1'!I8,\"*\")","v":1.0000000000000009E-3},{"$f":"IFERROR('Level 2'!J8-'Level 1'!J8,\"*\")","v":1.0000000000000009E-3},{"$f":"IFERROR('Level 2'!K8-'Level 1'!K8,\"*\")","v":1.0000000000000009E-3},{"$f":"IFERROR('Level 2'!L8-'Level 1'!L8,\"*\")","v":"*"},null,{"$f":"'Level 1'!N8","v":"Bulgaria"},{"$f":"IFERROR('Level 2'!O8-'Level 1'!O8,\"*\")","v":5.0000000000000044E-4},{"$f":"IFERROR('Level 2'!P8-'Level 1'!P8,\"*\")","v":5.0000000000000044E-4},{"$f":"IFERROR('Level 2'!Q8-'Level 1'!Q8,\"*\")","v":5.0000000000000044E-4},{"$f":"IFERROR('Level 2'!R8-'Level 1'!R8,\"*\")","v":1.0499999999999954E-3},{"$f":"IFERROR('Level 2'!S8-'Level 1'!S8,\"*\")","v":1.0000000000000009E-3},{"$f":"IFERROR('Level 2'!T8-'Level 1'!T8,\"*\")","v":1.0000000000000009E-3},{"$f":"IFERROR('Level 2'!U8-'Level 1'!U8,\"*\")","v":1.1000000000000038E-3},{"$f":"IFERROR('Level 2'!V8-'Level 1'!V8,\"*\")","v":1.0000000000000009E-3},{"$f":"IFERROR('Level 2'!W8-'Level 1'!W8,\"*\")","v":1.0000000000000009E-3},{"$f":"IFERROR('Level 2'!X8-'Level 1'!X8,\"*\")","v":1.1000000000000038E-3},{"$f":"IFERROR('Level 2'!Y8-'Level 1'!Y8,\"*\")","v":"*"},null,{"$f":"'Level 1'!AA8","v":"Bulgaria"},{"$f":"IFERROR('Level 2'!AB8-'Level 1'!AB8,\"*\")","v":6.0000000000000331E-4},{"$f":"IFERROR('Level 2'!AC8-'Level 1'!AC8,\"*\")","v":5.0000000000000044E-4},{"$f":"IFERROR('Level 2'!AD8-'Level 1'!AD8,\"*\")","v":7.5000000000000067E-4},{"$f":"IFERROR('Level 2'!AE8-'Level 1'!AE8,\"*\")","v":1.0000000000000009E-3},{"$f":"IFERROR('Level 2'!AF8-'Level 1'!AF8,\"*\")","v":1.0000000000000009E-3},{"$f":"IFERROR('Level 2'!AG8-'Level 1'!AG8,\"*\")","v":1.0000000000000009E-3},{"$f":"IFERROR('Level 2'!AH8-'Level 1'!AH8,\"*\")","v":1.0000000000000009E-3},{"$f":"IFERROR('Level 2'!AI8-'Level 1'!AI8,\"*\")","v":1.0000000000000009E-3},{"$f":"IFERROR('Level 2'!AJ8-'Level 1'!AJ8,\"*\")","v":1.0000000000000009E-3},{"$f":"IFERROR('Level 2'!AK8-'Level 1'!AK8,\"*\")","v":1.0000000000000009E-3},{"$f":"IFERROR('Level 2'!AL8-'Level 1'!AL8,\"*\")","v":"*"},null,{"$f":"'Level 1'!AN8","v":"Bulgaria"},{"$f":"IFERROR('Level 2'!AO8-'Level 1'!AO8,\"*\")","v":5.0000000000000044E-4},{"$f":"IFERROR('Level 2'!AP8-'Level 1'!AP8,\"*\")","v":5.0000000000000044E-4},{"$f":"IFERROR('Level 2'!AQ8-'Level 1'!AQ8,\"*\")","v":7.5000000000000067E-4},{"$f":"IFERROR('Level 2'!AR8-'Level 1'!AR8,\"*\")","v":9.9999999999999395E-4},{"$f":"IFERROR('Level 2'!AS8-'Level 1'!AS8,\"*\")","v":1.0499999999999954E-3},{"$f":"IFERROR('Level 2'!AT8-'Level 1'!AT8,\"*\")","v":1.0000000000000009E-3},{"$f":"IFERROR('Level 2'!AU8-'Level 1'!AU8,\"*\")","v":1.0000000000000009E-3},{"$f":"IFERROR('Level 2'!AV8-'Level 1'!AV8,\"*\")","v":1.0499999999999954E-3},{"$f":"IFERROR('Level 2'!AW8-'Level 1'!AW8,\"*\")","v":1.0499999999999954E-3},{"$f":"IFERROR('Level 2'!AX8-'Level 1'!AX8,\"*\")","v":1.0000000000000009E-3},{"$f":"IFERROR('Level 2'!AY8-'Level 1'!AY8,\"*\")","v":"*"},null,{"$f":"'Level 1'!BA8","v":"Bulgaria"},{"$f":"IFERROR('Level 2'!BB8-'Level 1'!BB8,\"*\")","v":5.0000000000000044E-4},{"$f":"IFERROR('Level 2'!BC8-'Level 1'!BC8,\"*\")","v":5.0000000000000044E-4},{"$f":"IFERROR('Level 2'!BD8-'Level 1'!BD8,\"*\")","v":1.0000000000000009E-3},{"$f":"IFERROR('Level 2'!BE8-'Level 1'!BE8,\"*\")","v":1.0500000000000023E-3},{"$f":"IFERROR('Level 2'!BF8-'Level 1'!BF8,\"*\")","v":1.0000000000000009E-3},{"$f":"IFERROR('Level 2'!BG8-'Level 1'!BG8,\"*\")","v":1.0000000000000009E-3},{"$f":"IFERROR('Level 2'!BH8-'Level 1'!BH8,\"*\")","v":1.1000000000000038E-3},{"$f":"IFERROR('Level 2'!BI8-'Level 1'!BI8,\"*\")","v":1.0000000000000009E-3},{"$f":"IFERROR('Level 2'!BJ8-'Level 1'!BJ8,\"*\")","v":1.0000000000000009E-3},{"$f":"IFERROR('Level 2'!BK8-'Level 1'!BK8,\"*\")","v":1.0000000000000009E-3},{"$f":"IFERROR('Level 2'!BL8-'Level 1'!BL8,\"*\")","v":"*"},null,{"$f":"'Level 1'!BN8","v":"Bulgaria"},{"$f":"IFERROR('Level 2'!BO8-'Level 1'!BO8,\"*\")","v":5.9999999999999637E-4},{"$f":"IFERROR('Level 2'!BP8-'Level 1'!BP8,\"*\")","v":5.0000000000000044E-4},{"$f":"IFERROR('Level 2'!BQ8-'Level 1'!BQ8,\"*\")","v":1.1000000000000038E-3},{"$f":"IFERROR('Level 2'!BR8-'Level 1'!BR8,\"*\")","v":1.0000000000000009E-3},{"$f":"IFERROR('Level 2'!BS8-'Level 1'!BS8,\"*\")","v":1.0000000000000009E-3},{"$f":"IFERROR('Level 2'!BT8-'Level 1'!BT8,\"*\")","v":1.0000000000000009E-3},{"$f":"IFERROR('Level 2'!BU8-'Level 1'!BU8,\"*\")","v":1.0000000000000009E-3},{"$f":"IFERROR('Level 2'!BV8-'Level 1'!BV8,\"*\")","v":9.9999999999999395E-4},{"$f":"IFERROR('Level 2'!BW8-'Level 1'!BW8,\"*\")","v":1.0500000000000023E-3},{"$f":"IFERROR('Level 2'!BX8-'Level 1'!BX8,\"*\")","v":1.0000000000000009E-3},{"$f":"IFERROR('Level 2'!BY8-'Level 1'!BY8,\"*\")","v":"*"},null,{"$f":"'Level 1'!CA8","v":"Bulgaria"},{"$f":"IFERROR('Level 2'!CB8-'Level 1'!CB8,\"*\")","v":5.0000000000000044E-4},{"$f":"IFERROR('Level 2'!CC8-'Level 1'!CC8,\"*\")","v":5.0000000000000044E-4},{"$f":"IFERROR('Level 2'!CD8-'Level 1'!CD8,\"*\")","v":5.5000000000000188E-4},{"$f":"IFERROR('Level 2'!CE8-'Level 1'!CE8,\"*\")","v":1.0500000000000023E-3},{"$f":"IFERROR('Level 2'!CF8-'Level 1'!CF8,\"*\")","v":1.0000000000000009E-3},{"$f":"IFERROR('Level 2'!CG8-'Level 1'!CG8,\"*\")","v":1.0000000000000009E-3},{"$f":"IFERROR('Level 2'!CH8-'Level 1'!CH8,\"*\")","v":1.0500000000000023E-3},{"$f":"IFERROR('Level 2'!CI8-'Level 1'!CI8,\"*\")","v":1.0500000000000093E-3},{"$f":"IFERROR('Level 2'!CJ8-'Level 1'!CJ8,\"*\")","v":1.0499999999999954E-3},{"$f":"IFERROR('Level 2'!CK8-'Level 1'!CK8,\"*\")","v":1.1000000000000038E-3},{"$f":"IFERROR('Level 2'!CL8-'Level 1'!CL8,\"*\")","v":"*"}]
[{"$f":"'Level 1'!A9","v":"Czech Republic"},{"$f":"IFERROR('Level 2'!B9-'Level 1'!B9,\"*\")","v":0},{"$f":"IFERROR('Level 2'!C9-'Level 1'!C9,\"*\")","v":1.2000000000000066E-3},{"$f":"IFERROR('Level 2'!D9-'Level 1'!D9,\"*\")","v":1.1500000000000121E-3},{"$f":"IFERROR('Level 2'!E9-'Level 1'!E9,\"*\")","v":1.0999999999999899E-3},{"$f":"IFERROR('Level 2'!F9-'Level 1'!F9,\"*\")","v":1.2000000000000066E-3},{"$f":"IFERROR('Level 2'!G9-'Level 1'!G9,\"*\")","v":1.0999999999999899E-3},{"$f":"IFERROR('Level 2'!H9-'Level 1'!H9,\"*\")","v":1.0499999999999954E-3},{"$f":"IFERROR('Level 2'!I9-'Level 1'!I9,\"*\")","v":1.0000000000000009E-3},{"$f":"IFERROR('Level 2'!J9-'Level 1'!J9,\"*\")","v":1.0499999999999954E-3},{"$f":"IFERROR('Level 2'!K9-'Level 1'!K9,\"*\")","v":1.0999999999999899E-3},{"$f":"IFERROR('Level 2'!L9-'Level 1'!L9,\"*\")","v":"*"},null,{"$f":"'Level 1'!N9","v":"Czech Republic"},{"$f":"IFERROR('Level 2'!O9-'Level 1'!O9,\"*\")","v":0},{"$f":"IFERROR('Level 2'!P9-'Level 1'!P9,\"*\")","v":1.0000000000000009E-3},{"$f":"IFERROR('Level 2'!Q9-'Level 1'!Q9,\"*\")","v":9.5000000000000639E-4},{"$f":"IFERROR('Level 2'!R9-'Level 1'!R9,\"*\")","v":1.0999999999999899E-3},{"$f":"IFERROR('Level 2'!S9-'Level 1'!S9,\"*\")","v":1.2000000000000066E-3},{"$f":"IFERROR('Level 2'!T9-'Level 1'!T9,\"*\")","v":1.0999999999999899E-3},{"$f":"IFERROR('Level 2'!U9-'Level 1'!U9,\"*\")","v":1.0999999999999899E-3},{"$f":"IFERROR('Level 2'!V9-'Level 1'!V9,\"*\")","v":1.0000000000000009E-3},{"$f":"IFERROR('Level 2'!W9-'Level 1'!W9,\"*\")","v":1.0000000000000009E-3},{"$f":"IFERROR('Level 2'!X9-'Level 1'!X9,\"*\")","v":1.0000000000000009E-3},{"$f":"IFERROR('Level 2'!Y9-'Level 1'!Y9,\"*\")","v":"*"},null,{"$f":"'Level 1'!AA9","v":"Czech Republic"},{"$f":"IFERROR('Level 2'!AB9-'Level 1'!AB9,\"*\")","v":0},{"$f":"IFERROR('Level 2'!AC9-'Level 1'!AC9,\"*\")","v":1.2500000000000011E-3},{"$f":"IFERROR('Level 2'!AD9-'Level 1'!AD9,\"*\")","v":1.1999999999999927E-3},{"$f":"IFERROR('Level 2'!AE9-'Level 1'!AE9,\"*\")","v":1.1000000000000038E-3},{"$f":"IFERROR('Level 2'!AF9-'Level 1'!AF9,\"*\")","v":1.1000000000000038E-3},{"$f":"IFERROR('Level 2'!AG9-'Level 1'!AG9,\"*\")","v":1.1499999999999982E-3},{"$f":"IFERROR('Level 2'!AH9-'Level 1'!AH9,\"*\")","v":1.1000000000000038E-3},{"$f":"IFERROR('Level 2'!AI9-'Level 1'!AI9,\"*\")","v":1.0000000000000009E-3},{"$f":"IFERROR('Level 2'!AJ9-'Level 1'!AJ9,\"*\")","v":1.0500000000000093E-3},{"$f":"IFERROR('Level 2'!AK9-'Level 1'!AK9,\"*\")","v":1.0000000000000009E-3},{"$f":"IFERROR('Level 2'!AL9-'Level 1'!AL9,\"*\")","v":"*"},null,{"$f":"'Level 1'!AN9","v":"Czech Republic"},{"$f":"IFERROR('Level 2'!AO9-'Level 1'!AO9,\"*\")","v":0},{"$f":"IFERROR('Level 2'!AP9-'Level 1'!AP9,\"*\")","v":1.0499999999999954E-3},{"$f":"IFERROR('Level 2'!AQ9-'Level 1'!AQ9,\"*\")","v":1.1000000000000038E-3},{"$f":"IFERROR('Level 2'!AR9-'Level 1'!AR9,\"*\")","v":1.1500000000000121E-3},{"$f":"IFERROR('Level 2'!AS9-'Level 1'!AS9,\"*\")","v":1.1499999999999844E-3},{"$f":"IFERROR('Level 2'!AT9-'Level 1'!AT9,\"*\")","v":1.0999999999999899E-3},{"$f":"IFERROR('Level 2'!AU9-'Level 1'!AU9,\"*\")","v":1.0999999999999899E-3},{"$f":"IFERROR('Level 2'!AV9-'Level 1'!AV9,\"*\")","v":1.0500000000000093E-3},{"$f":"IFERROR('Level 2'!AW9-'Level 1'!AW9,\"*\")","v":1.0999999999999899E-3},{"$f":"IFERROR('Level 2'!AX9-'Level 1'!AX9,\"*\")","v":1.1000000000000038E-3},{"$f":"IFERROR('Level 2'!AY9-'Level 1'!AY9,\"*\")","v":"*"},null,{"$f":"'Level 1'!BA9","v":"Czech Republic"},{"$f":"IFERROR('Level 2'!BB9-'Level 1'!BB9,\"*\")","v":0},{"$f":"IFERROR('Level 2'!BC9-'Level 1'!BC9,\"*\")","v":1.1999999999999927E-3},{"$f":"IFERROR('Level 2'!BD9-'Level 1'!BD9,\"*\")","v":1.0999999999999899E-3},{"$f":"IFERROR('Level 2'!BE9-'Level 1'!BE9,\"*\")","v":1.0500000000000093E-3},{"$f":"IFERROR('Level 2'!BF9-'Level 1'!BF9,\"*\")","v":1.1999999999999927E-3},{"$f":"IFERROR('Level 2'!BG9-'Level 1'!BG9,\"*\")","v":1.1500000000000121E-3},{"$f":"IFERROR('Level 2'!BH9-'Level 1'!BH9,\"*\")","v":1.1000000000000038E-3},{"$f":"IFERROR('Level 2'!BI9-'Level 1'!BI9,\"*\")","v":1.0499999999999954E-3},{"$f":"IFERROR('Level 2'!BJ9-'Level 1'!BJ9,\"*\")","v":1.0499999999999954E-3},{"$f":"IFERROR('Level 2'!BK9-'Level 1'!BK9,\"*\")","v":1.0000000000000009E-3},{"$f":"IFERROR('Level 2'!BL9-'Level 1'!BL9,\"*\")","v":"*"},null,{"$f":"'Level 1'!BN9","v":"Czech Republic"},{"$f":"IFERROR('Level 2'!BO9-'Level 1'!BO9,\"*\")","v":0},{"$f":"IFERROR('Level 2'!BP9-'Level 1'!BP9,\"*\")","v":1.2500000000000011E-3},{"$f":"IFERROR('Level 2'!BQ9-'Level 1'!BQ9,\"*\")","v":1.0999999999999899E-3},{"$f":"IFERROR('Level 2'!BR9-'Level 1'!BR9,\"*\")","v":1.0999999999999899E-3},{"$f":"IFERROR('Level 2'!BS9-'Level 1'!BS9,\"*\")","v":1.1000000000000038E-3},{"$f":"IFERROR('Level 2'!BT9-'Level 1'!BT9,\"*\")","v":1.0999999999999899E-3},{"$f":"IFERROR('Level 2'!BU9-'Level 1'!BU9,\"*\")","v":1.0999999999999899E-3},{"$f":"IFERROR('Level 2'!BV9-'Level 1'!BV9,\"*\")","v":1.0499999999999954E-3},{"$f":"IFERROR('Level 2'!BW9-'Level 1'!BW9,\"*\")","v":1.0000000000000009E-3},{"$f":"IFERROR('Level 2'!BX9-'Level 1'!BX9,\"*\")","v":1.0000000000000009E-3},{"$f":"IFERROR('Level 2'!BY9-'Level 1'!BY9,\"*\")","v":"*"},null,{"$f":"'Level 1'!CA9","v":"Czech Republic"},{"$f":"IFERROR('Level 2'!CB9-'Level 1'!CB9,\"*\")","v":"*"},{"$f":"IFERROR('Level 2'!CC9-'Level 1'!CC9,\"*\")","v":"*"},{"$f":"IFERROR('Level 2'!CD9-'Level 1'!CD9,\"*\")","v":"*"},{"$f":"IFERROR('Level 2'!CE9-'Level 1'!CE9,\"*\")","v":"*"},{"$f":"IFERROR('Level 2'!CF9-'Level 1'!CF9,\"*\")","v":"*"},{"$f":"IFERROR('Level 2'!CG9-'Level 1'!CG9,\"*\")","v":"*"},{"$f":"IFERROR('Level 2'!CH9-'Level 1'!CH9,\"*\")","v":"*"},{"$f":"IFERROR('Level 2'!CI9-'Level 1'!CI9,\"*\")","v":"*"},{"$f":"IFERROR('Level 2'!CJ9-'Level 1'!CJ9,\"*\")","v":"*"},{"$f":"IFERROR('Level 2'!CK9-'Level 1'!CK9,\"*\")","v":"*"},{"$f":"IFERROR('Level 2'!CL9-'Level 1'!CL9,\"*\")","v":"*"}]
[{"$f":"'Level 1'!A10","v":"Denmark"},{"$f":"IFERROR('Level 2'!B10-'Level 1'!B10,\"*\")","v":8.9300000000000018E-2},{"$f":"IFERROR('Level 2'!C10-'Level 1'!C10,\"*\")","v":9.0900000000000009E-2},{"$f":"IFERROR('Level 2'!D10-'Level 1'!D10,\"*\")","v":9.9650000000000002E-2},{"$f":"IFERROR('Level 2'!E10-'Level 1'!E10,\"*\")","v":9.7099999999999992E-2},{"$f":"IFERROR('Level 2'!F10-'Level 1'!F10,\"*\")","v":0.1053},{"$f":"IFERROR('Level 2'!G10-'Level 1'!G10,\"*\")","v":0.11750000000000001},{"$f":"IFERROR('Level 2'!H10-'Level 1'!H10,\"*\")","v":9.2499999999999985E-2},{"$f":"IFERROR('Level 2'!I10-'Level 1'!I10,\"*\")","v":9.9000000000000005E-2},{"$f":"IFERROR('Level 2'!J10-'Level 1'!J10,\"*\")","v":9.8699999999999982E-2},{"$f":"IFERROR('Level 2'!K10-'Level 1'!K10,\"*\")","v":0.10339999999999999},{"$f":"IFERROR('Level 2'!L10-'Level 1'!L10,\"*\")","v":"*"},null,{"$f":"'Level 1'!N10","v":"Denmark"},{"$f":"IFERROR('Level 2'!O10-'Level 1'!O10,\"*\")","v":1.319999999999999E-2},{"$f":"IFERROR('Level 2'!P10-'Level 1'!P10,\"*\")","v":1.9850000000000007E-2},{"$f":"IFERROR('Level 2'!Q10-'Level 1'!Q10,\"*\")","v":2.7400000000000008E-2},{"$f":"IFERROR('Level 2'!R10-'Level 1'!R10,\"*\")","v":2.1050000000000013E-2},{"$f":"IFERROR('Level 2'!S10-'Level 1'!S10,\"*\")","v":2.2150000000000003E-2},{"$f":"IFERROR('Level 2'!T10-'Level 1'!T10,\"*\")","v":3.4699999999999995E-2},{"$f":"IFERROR('Level 2'!U10-'Level 1'!U10,\"*\")","v":3.6249999999999991E-2},{"$f":"IFERROR('Level 2'!V10-'Level 1'!V10,\"*\")","v":2.9499999999999998E-2},{"$f":"IFERROR('Level 2'!W10-'Level 1'!W10,\"*\")","v":3.0649999999999997E-2},{"$f":"IFERROR('Level 2'!X10-'Level 1'!X10,\"*\")","v":3.4600000000000006E-2},{"$f":"IFERROR('Level 2'!Y10-'Level 1'!Y10,\"*\")","v":"*"},null,{"$f":"'Level 1'!AA10","v":"Denmark"},{"$f":"IFERROR('Level 2'!AB10-'Level 1'!AB10,\"*\")","v":1.2999999999999998E-2},{"$f":"IFERROR('Level 2'!AC10-'Level 1'!AC10,\"*\")","v":1.9650000000000001E-2},{"$f":"IFERROR('Level 2'!AD10-'Level 1'!AD10,\"*\")","v":2.7150000000000007E-2},{"$f":"IFERROR('Level 2'!AE10-'Level 1'!AE10,\"*\")","v":2.0900000000000016E-2},{"$f":"IFERROR('Level 2'!AF10-'Level 1'!AF10,\"*\")","v":2.2000000000000006E-2},{"$f":"IFERROR('Level 2'!AG10-'Level 1'!AG10,\"*\")","v":3.4600000000000006E-2},{"$f":"IFERROR('Level 2'!AH10-'Level 1'!AH10,\"*\")","v":3.6100000000000007E-2},{"$f":"IFERROR('Level 2'!AI10-'Level 1'!AI10,\"*\")","v":2.9549999999999993E-2},{"$f":"IFERROR('Level 2'!AJ10-'Level 1'!AJ10,\"*\")","v":3.0549999999999994E-2},{"$f":"IFERROR('Level 2'!AK10-'Level 1'!AK10,\"*\")","v":3.4599999999999999E-2},{"$f":"IFERROR('Level 2'!AL10-'Level 1'!AL10,\"*\")","v":"*"},null,{"$f":"'Level 1'!AN10","v":"Denmark"},{"$f":"IFERROR('Level 2'!AO10-'Level 1'!AO10,\"*\")","v":1.1599999999999999E-2},{"$f":"IFERROR('Level 2'!AP10-'Level 1'!AP10,\"*\")","v":1.8350000000000005E-2},{"$f":"IFERROR('Level 2'!AQ10-'Level 1'!AQ10,\"*\")","v":2.5849999999999998E-2},{"$f":"IFERROR('Level 2'!AR10-'Level 1'!AR10,\"*\")","v":1.8850000000000006E-2},{"$f":"IFERROR('Level 2'!AS10-'Level 1'!AS10,\"*\")","v":1.9900000000000001E-2},{"$f":"IFERROR('Level 2'!AT10-'Level 1'!AT10,\"*\")","v":3.2500000000000001E-2},{"$f":"IFERROR('Level 2'!AU10-'Level 1'!AU10,\"*\")","v":3.394999999999998E-2},{"$f":"IFERROR('Level 2'!AV10-'Level 1'!AV10,\"*\")","v":2.9550000000000007E-2},{"$f":"IFERROR('Level 2'!AW10-'Level 1'!AW10,\"*\")","v":3.0100000000000009E-2},{"$f":"IFERROR('Level 2'!AX10-'Level 1'!AX10,\"*\")","v":3.4100000000000005E-2},{"$f":"IFERROR('Level 2'!AY10-'Level 1'!AY10,\"*\")","v":"*"},null,{"$f":"'Level 1'!BA10","v":"Denmark"},{"$f":"IFERROR('Level 2'!BB10-'Level 1'!BB10,\"*\")","v":1.0300000000000004E-2},{"$f":"IFERROR('Level 2'!BC10-'Level 1'!BC10,\"*\")","v":1.7100000000000004E-2},{"$f":"IFERROR('Level 2'!BD10-'Level 1'!BD10,\"*\")","v":2.4549999999999988E-2},{"$f":"IFERROR('Level 2'!BE10-'Level 1'!BE10,\"*\")","v":1.8149999999999999E-2},{"$f":"IFERROR('Level 2'!BF10-'Level 1'!BF10,\"*\")","v":1.915E-2},{"$f":"IFERROR('Level 2'!BG10-'Level 1'!BG10,\"*\")","v":3.1700000000000006E-2},{"$f":"IFERROR('Level 2'!BH10-'Level 1'!BH10,\"*\")","v":3.3250000000000009E-2},{"$f":"IFERROR('Level 2'!BI10-'Level 1'!BI10,\"*\")","v":2.9550000000000007E-2},{"$f":"IFERROR('Level 2'!BJ10-'Level 1'!BJ10,\"*\")","v":2.9499999999999998E-2},{"$f":"IFERROR('Level 2'!BK10-'Level 1'!BK10,\"*\")","v":3.3399999999999992E-2},{"$f":"IFERROR('Level 2'!BL10-'Level 1'!BL10,\"*\")","v":"*"},null,{"$f":"'Level 1'!BN10","v":"Denmark"},{"$f":"IFERROR('Level 2'!BO10-'Level 1'!BO10,\"*\")","v":8.8999999999999913E-3},{"$f":"IFERROR('Level 2'!BP10-'Level 1'!BP10,\"*\")","v":1.5800000000000008E-2},{"$f":"IFERROR('Level 2'!BQ10-'Level 1'!BQ10,\"*\")","v":2.3199999999999998E-2},{"$f":"IFERROR('Level 2'!BR10-'Level 1'!BR10,\"*\")","v":1.7399999999999999E-2},{"$f":"IFERROR('Level 2'!BS10-'Level 1'!BS10,\"*\")","v":1.8350000000000005E-2},{"$f":"IFERROR('Level 2'!BT10-'Level 1'!BT10,\"*\")","v":3.0899999999999997E-2},{"$f":"IFERROR('Level 2'!BU10-'Level 1'!BU10,\"*\")","v":3.2399999999999991E-2},{"$f":"IFERROR('Level 2'!BV10-'Level 1'!BV10,\"*\")","v":2.9500000000000005E-2},{"$f":"IFERROR('Level 2'!BW10-'Level 1'!BW10,\"*\")","v":2.9350000000000008E-2},{"$f":"IFERROR('Level 2'!BX10-'Level 1'!BX10,\"*\")","v":3.3000000000000002E-2},{"$f":"IFERROR('Level 2'!BY10-'Level 1'!BY10,\"*\")","v":"*"},null,{"$f":"'Level 1'!CA10","v":"Denmark"},{"$f":"IFERROR('Level 2'!CB10-'Level 1'!CB10,\"*\")","v":"*"},{"$f":"IFERROR('Level 2'!CC10-'Level 1'!CC10,\"*\")","v":"*"},{"$f":"IFERROR('Level 2'!CD10-'Level 1'!CD10,\"*\")","v":"*"},{"$f":"IFERROR('Level 2'!CE10-'Level 1'!CE10,\"*\")","v":"*"},{"$f":"IFERROR('Level 2'!CF10-'Level 1'!CF10,\"*\")","v":"*"},{"$f":"IFERROR('Level 2'!CG10-'Level 1'!CG10,\"*\")","v":"*"},{"$f":"IFERROR('Level 2'!CH10-'Level 1'!CH10,\"*\")","v":"*"},{"$f":"IFERROR('Level 2'!CI10-'Level 1'!CI10,\"*\")","v":"*"},{"$f":"IFERROR('Level 2'!CJ10-'Level 1'!CJ10,\"*\")","v":"*"},{"$f":"IFERROR('Level 2'!CK10-'Level 1'!CK10,\"*\")","v":"*"},{"$f":"IFERROR('Level 2'!CL10-'Level 1'!CL10,\"*\")","v":"*"}]
[{"$f":"'Level 1'!A11","v":"Germany (until 1990 former territory of the FRG)"},{"$f":"IFERROR('Level 2'!B11-'Level 1'!B11,\"*\")","v":2.5850000000000012E-2},{"$f":"IFERROR('Level 2'!C11-'Level 1'!C11,\"*\")","v":2.445E-2},{"$f":"IFERROR('Level 2'!D11-'Level 1'!D11,\"*\")","v":2.3300000000000015E-2},{"$f":"IFERROR('Level 2'!E11-'Level 1'!E11,\"*\")","v":3.4950000000000009E-2},{"$f":"IFERROR('Level 2'!F11-'Level 1'!F11,\"*\")","v":4.4099999999999973E-2},{"$f":"IFERROR('Level 2'!G11-'Level 1'!G11,\"*\")","v":5.174999999999999E-2},{"$f":"IFERROR('Level 2'!H11-'Level 1'!H11,\"*\")","v":8.2450000000000023E-2},{"$f":"IFERROR('Level 2'!I11-'Level 1'!I11,\"*\")","v":8.6299999999999988E-2},{"$f":"IFERROR('Level 2'!J11-'Level 1'!J11,\"*\")","v":8.4850000000000009E-2},{"$f":"IFERROR('Level 2'!K11-'Level 1'!K11,\"*\")","v":9.1599999999999987E-2},{"$f":"IFERROR('Level 2'!L11-'Level 1'!L11,\"*\")","v":"*"},null,{"$f":"'Level 1'!N11","v":"Germany (until 1990 former territory of the FRG)"},{"$f":"IFERROR('Level 2'!O11-'Level 1'!O11,\"*\")","v":1.2700000000000003E-2},{"$f":"IFERROR('Level 2'!P11-'Level 1'!P11,\"*\")","v":1.394999999999999E-2},{"$f":"IFERROR('Level 2'!Q11-'Level 1'!Q11,\"*\")","v":1.7500000000000016E-2},{"$f":"IFERROR('Level 2'!R11-'Level 1'!R11,\"*\")","v":2.47E-2},{"$f":"IFERROR('Level 2'!S11-'Level 1'!S11,\"*\")","v":3.5000000000000031E-2},{"$f":"IFERROR('Level 2'!T11-'Level 1'!T11,\"*\")","v":4.1349999999999984E-2},{"$f":"IFERROR('Level 2'!U11-'Level 1'!U11,\"*\")","v":5.7849999999999999E-2},{"$f":"IFERROR('Level 2'!V11-'Level 1'!V11,\"*\")","v":7.6299999999999979E-2},{"$f":"IFERROR('Level 2'!W11-'Level 1'!W11,\"*\")","v":7.1850000000000011E-2},{"$f":"IFERROR('Level 2'!X11-'Level 1'!X11,\"*\")","v":7.569999999999999E-2},{"$f":"IFERROR('Level 2'!Y11-'Level 1'!Y11,\"*\")","v":"*"},null,{"$f":"'Level 1'!AA11","v":"Germany (until 1990 former territory of the FRG)"},{"$f":"IFERROR('Level 2'!AB11-'Level 1'!AB11,\"*\")","v":1.0950000000000015E-2},{"$f":"IFERROR('Level 2'!AC11-'Level 1'!AC11,\"*\")","v":1.2550000000000006E-2},{"$f":"IFERROR('Level 2'!AD11-'Level 1'!AD11,\"*\")","v":1.6649999999999998E-2},{"$f":"IFERROR('Level 2'!AE11-'Level 1'!AE11,\"*\")","v":2.3749999999999993E-2},{"$f":"IFERROR('Level 2'!AF11-'Level 1'!AF11,\"*\")","v":3.4599999999999992E-2},{"$f":"IFERROR('Level 2'!AG11-'Level 1'!AG11,\"*\")","v":4.0050000000000002E-2},{"$f":"IFERROR('Level 2'!AH11-'Level 1'!AH11,\"*\")","v":5.5199999999999999E-2},{"$f":"IFERROR('Level 2'!AI11-'Level 1'!AI11,\"*\")","v":7.2699999999999987E-2},{"$f":"IFERROR('Level 2'!AJ11-'Level 1'!AJ11,\"*\")","v":6.9000000000000006E-2},{"$f":"IFERROR('Level 2'!AK11-'Level 1'!AK11,\"*\")","v":7.17E-2},{"$f":"IFERROR('Level 2'!AL11-'Level 1'!AL11,\"*\")","v":"*"},null,{"$f":"'Level 1'!AN11","v":"Germany (until 1990 former territory of the FRG)"},{"$f":"IFERROR('Level 2'!AO11-'Level 1'!AO11,\"*\")","v":1.1149999999999993E-2},{"$f":"IFERROR('Level 2'!AP11-'Level 1'!AP11,\"*\")","v":1.2300000000000005E-2},{"$f":"IFERROR('Level 2'!AQ11-'Level 1'!AQ11,\"*\")","v":1.6649999999999998E-2},{"$f":"IFERROR('Level 2'!AR11-'Level 1'!AR11,\"*\")","v":2.3050000000000001E-2},{"$f":"IFERROR('Level 2'!AS11-'Level 1'!AS11,\"*\")","v":3.3250000000000002E-2},{"$f":"IFERROR('Level 2'!AT11-'Level 1'!AT11,\"*\")","v":3.7899999999999989E-2},{"$f":"IFERROR('Level 2'!AU11-'Level 1'!AU11,\"*\")","v":5.0049999999999997E-2},{"$f":"IFERROR('Level 2'!AV11-'Level 1'!AV11,\"*\")","v":6.3399999999999998E-2},{"$f":"IFERROR('Level 2'!AW11-'Level 1'!AW11,\"*\")","v":6.1249999999999999E-2},{"$f":"IFERROR('Level 2'!AX11-'Level 1'!AX11,\"*\")","v":6.1399999999999996E-2},{"$f":"IFERROR('Level 2'!AY11-'Level 1'!AY11,\"*\")","v":"*"},null,{"$f":"'Level 1'!BA11","v":"Germany (until 1990 former territory of the FRG)"},{"$f":"IFERROR('Level 2'!BB11-'Level 1'!BB11,\"*\")","v":9.6499999999999919E-3},{"$f":"IFERROR('Level 2'!BC11-'Level 1'!BC11,\"*\")","v":1.0500000000000009E-2},{"$f":"IFERROR('Level 2'!BD11-'Level 1'!BD11,\"*\")","v":1.5050000000000008E-2},{"$f":"IFERROR('Level 2'!BE11-'Level 1'!BE11,\"*\")","v":2.1049999999999985E-2},{"$f":"IFERROR('Level 2'!BF11-'Level 1'!BF11,\"*\")","v":3.3500000000000002E-2},{"$f":"IFERROR('Level 2'!BG11-'Level 1'!BG11,\"*\")","v":3.2899999999999985E-2},{"$f":"IFERROR('Level 2'!BH11-'Level 1'!BH11,\"*\")","v":4.2200000000000001E-2},{"$f":"IFERROR('Level 2'!BI11-'Level 1'!BI11,\"*\")","v":5.0549999999999984E-2},{"$f":"IFERROR('Level 2'!BJ11-'Level 1'!BJ11,\"*\")","v":5.0050000000000004E-2},{"$f":"IFERROR('Level 2'!BK11-'Level 1'!BK11,\"*\")","v":4.7499999999999994E-2},{"$f":"IFERROR('Level 2'!BL11-'Level 1'!BL11,\"*\")","v":"*"},null,{"$f":"'Level 1'!BN11","v":"Germany (until 1990 former territory of the FRG)"},{"$f":"IFERROR('Level 2'!BO11-'Level 1'!BO11,\"*\")","v":8.9500000000000135E-3},{"$f":"IFERROR('Level 2'!BP11-'Level 1'!BP11,\"*\")","v":9.0500000000000025E-3},{"$f":"IFERROR('Level 2'!BQ11-'Level 1'!BQ11,\"*\")","v":1.100000000000001E-2},{"$f":"IFERROR('Level 2'!BR11-'Level 1'!BR11,\"*\")","v":1.7700000000000007E-2},{"$f":"IFERROR('Level 2'!BS11-'Level 1'!BS11,\"*\")","v":2.8250000000000011E-2},{"$f":"IFERROR('Level 2'!BT11-'Level 1'!BT11,\"*\")","v":2.785E-2},{"$f":"IFERROR('Level 2'!BU11-'Level 1'!BU11,\"*\")","v":3.8900000000000004E-2},{"$f":"IFERROR('Level 2'!BV11-'Level 1'!BV11,\"*\")","v":4.5100000000000001E-2},{"$f":"IFERROR('Level 2'!BW11-'Level 1'!BW11,\"*\")","v":4.2099999999999999E-2},{"$f":"IFERROR('Level 2'!BX11-'Level 1'!BX11,\"*\")","v":3.4700000000000002E-2},{"$f":"IFERROR('Level 2'!BY11-'Level 1'!BY11,\"*\")","v":"*"},null,{"$f":"'Level 1'!CA11","v":"Germany (until 1990 former territory of the FRG)"},{"$f":"IFERROR('Level 2'!CB11-'Level 1'!CB11,\"*\")","v":"*"},{"$f":"IFERROR('Level 2'!CC11-'Level 1'!CC11,\"*\")","v":"*"},{"$f":"IFERROR('Level 2'!CD11-'Level 1'!CD11,\"*\")","v":"*"},{"$f":"IFERROR('Level 2'!CE11-'Level 1'!CE11,\"*\")","v":"*"},{"$f":"IFERROR('Level 2'!CF11-'Level 1'!CF11,\"*\")","v":"*"},{"$f":"IFERROR('Level 2'!CG11-'Level 1'!CG11,\"*\")","v":"*"},{"$f":"IFERROR('Level 2'!CH11-'Level 1'!CH11,\"*\")","v":"*"},{"$f":"IFERROR('Level 2'!CI11-'Level 1'!CI11,\"*\")","v":"*"},{"$f":"IFERROR('Level 2'!CJ11-'Level 1'!CJ11,\"*\")","v":"*"},{"$f":"IFERROR('Level 2'!CK11-'Level 1'!CK11,\"*\")","v":"*"},{"$f":"IFERROR('Level 2'!CL11-'Level 1'!CL11,\"*\")","v":"*"}]
[{"$f":"'Level 1'!A12","v":"Estonia"},{"$f":"IFERROR('Level 2'!B12-'Level 1'!B12,\"*\")","v":1.8999999999999989E-3},{"$f":"IFERROR('Level 2'!C12-'Level 1'!C12,\"*\")","v":5.1999999999999963E-3},{"$f":"IFERROR('Level 2'!D12-'Level 1'!D12,\"*\")","v":6.2500000000000056E-3},{"$f":"IFERROR('Level 2'!E12-'Level 1'!E12,\"*\")","v":1.2550000000000006E-2},{"$f":"IFERROR('Level 2'!F12-'Level 1'!F12,\"*\")","v":9.1999999999999998E-3},{"$f":"IFERROR('Level 2'!G12-'Level 1'!G12,\"*\")","v":1.3999999999999999E-2},{"$f":"IFERROR('Level 2'!H12-'Level 1'!H12,\"*\")","v":1.319999999999999E-2},{"$f":"IFERROR('Level 2'!I12-'Level 1'!I12,\"*\")","v":1.2200000000000003E-2},{"$f":"IFERROR('Level 2'!J12-'Level 1'!J12,\"*\")","v":1.3350000000000001E-2},{"$f":"IFERROR('Level 2'!K12-'Level 1'!K12,\"*\")","v":1.4100000000000001E-2},{"$f":"IFERROR('Level 2'!L12-'Level 1'!L12,\"*\")","v":"*"},null,{"$f":"'Level 1'!N12","v":"Estonia"},{"$f":"IFERROR('Level 2'!O12-'Level 1'!O12,\"*\")","v":1.3000000000000025E-3},{"$f":"IFERROR('Level 2'!P12-'Level 1'!P12,\"*\")","v":5.1000000000000004E-3},{"$f":"IFERROR('Level 2'!Q12-'Level 1'!Q12,\"*\")","v":6.3E-3},{"$f":"IFERROR('Level 2'!R12-'Level 1'!R12,\"*\")","v":1.26E-2},{"$f":"IFERROR('Level 2'!S12-'Level 1'!S12,\"*\")","v":1.0399999999999993E-2},{"$f":"IFERROR('Level 2'!T12-'Level 1'!T12,\"*\")","v":1.3999999999999999E-2},{"$f":"IFERROR('Level 2'!U12-'Level 1'!U12,\"*\")","v":1.319999999999999E-2},{"$f":"IFERROR('Level 2'!V12-'Level 1'!V12,\"*\")","v":1.2200000000000003E-2},{"$f":"IFERROR('Level 2'!W12-'Level 1'!W12,\"*\")","v":1.3400000000000009E-2},{"$f":"IFERROR('Level 2'!X12-'Level 1'!X12,\"*\")","v":1.4100000000000001E-2},{"$f":"IFERROR('Level 2'!Y12-'Level 1'!Y12,\"*\")","v":"*"},null,{"$f":"'Level 1'!AA12","v":"Estonia"},{"$f":"IFERROR('Level 2'!AB12-'Level 1'!AB12,\"*\")","v":1.1999999999999997E-3},{"$f":"IFERROR('Level 2'!AC12-'Level 1'!AC12,\"*\")","v":5.2000000000000032E-3},{"$f":"IFERROR('Level 2'!AD12-'Level 1'!AD12,\"*\")","v":6.3E-3},{"$f":"IFERROR('Level 2'!AE12-'Level 1'!AE12,\"*\")","v":1.2200000000000003E-2},{"$f":"IFERROR('Level 2'!AF12-'Level 1'!AF12,\"*\")","v":1.0200000000000001E-2},{"$f":"IFERROR('Level 2'!AG12-'Level 1'!AG12,\"*\")","v":1.3650000000000009E-2},{"$f":"IFERROR('Level 2'!AH12-'Level 1'!AH12,\"*\")","v":1.3200000000000017E-2},{"$f":"IFERROR('Level 2'!AI12-'Level 1'!AI12,\"*\")","v":1.2200000000000003E-2},{"$f":"IFERROR('Level 2'!AJ12-'Level 1'!AJ12,\"*\")","v":1.3400000000000009E-2},{"$f":"IFERROR('Level 2'!AK12-'Level 1'!AK12,\"*\")","v":1.4100000000000001E-2},{"$f":"IFERROR('Level 2'!AL12-'Level 1'!AL12,\"*\")","v":"*"},null,{"$f":"'Level 1'!AN12","v":"Estonia"},{"$f":"IFERROR('Level 2'!AO12-'Level 1'!AO12,\"*\")","v":1.1999999999999997E-3},{"$f":"IFERROR('Level 2'!AP12-'Level 1'!AP12,\"*\")","v":5.0999999999999934E-3},{"$f":"IFERROR('Level 2'!AQ12-'Level 1'!AQ12,\"*\")","v":6.3500000000000015E-3},{"$f":"IFERROR('Level 2'!AR12-'Level 1'!AR12,\"*\")","v":1.2000000000000004E-2},{"$f":"IFERROR('Level 2'!AS12-'Level 1'!AS12,\"*\")","v":9.8500000000000046E-3},{"$f":"IFERROR('Level 2'!AT12-'Level 1'!AT12,\"*\")","v":1.3250000000000012E-2},{"$f":"IFERROR('Level 2'!AU12-'Level 1'!AU12,\"*\")","v":1.3200000000000017E-2},{"$f":"IFERROR('Level 2'!AV12-'Level 1'!AV12,\"*\")","v":1.2200000000000003E-2},{"$f":"IFERROR('Level 2'!AW12-'Level 1'!AW12,\"*\")","v":1.3400000000000009E-2},{"$f":"IFERROR('Level 2'!AX12-'Level 1'!AX12,\"*\")","v":1.4100000000000001E-2},{"$f":"IFERROR('Level 2'!AY12-'Level 1'!AY12,\"*\")","v":"*"},null,{"$f":"'Level 1'!BA12","v":"Estonia"},{"$f":"IFERROR('Level 2'!BB12-'Level 1'!BB12,\"*\")","v":1.3000000000000025E-3},{"$f":"IFERROR('Level 2'!BC12-'Level 1'!BC12,\"*\")","v":4.4000000000000081E-3},{"$f":"IFERROR('Level 2'!BD12-'Level 1'!BD12,\"*\")","v":5.5999999999999939E-3},{"$f":"IFERROR('Level 2'!BE12-'Level 1'!BE12,\"*\")","v":1.0599999999999998E-2},{"$f":"IFERROR('Level 2'!BF12-'Level 1'!BF12,\"*\")","v":7.9499999999999918E-3},{"$f":"IFERROR('Level 2'!BG12-'Level 1'!BG12,\"*\")","v":1.0249999999999995E-2},{"$f":"IFERROR('Level 2'!BH12-'Level 1'!BH12,\"*\")","v":1.285E-2},{"$f":"IFERROR('Level 2'!BI12-'Level 1'!BI12,\"*\")","v":1.1849999999999986E-2},{"$f":"IFERROR('Level 2'!BJ12-'Level 1'!BJ12,\"*\")","v":1.2950000000000003E-2},{"$f":"IFERROR('Level 2'!BK12-'Level 1'!BK12,\"*\")","v":1.3400000000000002E-2},{"$f":"IFERROR('Level 2'!BL12-'Level 1'!BL12,\"*\")","v":"*"},null,{"$f":"'Level 1'!BN12","v":"Estonia"},{"$f":"IFERROR('Level 2'!BO12-'Level 1'!BO12,\"*\")","v":1.3000000000000025E-3},{"$f":"IFERROR('Level 2'!BP12-'Level 1'!BP12,\"*\")","v":3.7999999999999978E-3},{"$f":"IFERROR('Level 2'!BQ12-'Level 1'!BQ12,\"*\")","v":5.5499999999999994E-3},{"$f":"IFERROR('Level 2'!BR12-'Level 1'!BR12,\"*\")","v":8.3999999999999977E-3},{"$f":"IFERROR('Level 2'!BS12-'Level 1'!BS12,\"*\")","v":6.8500000000000019E-3},{"$f":"IFERROR('Level 2'!BT12-'Level 1'!BT12,\"*\")","v":4.4000000000000011E-3},{"$f":"IFERROR('Level 2'!BU12-'Level 1'!BU12,\"*\")","v":1.2600000000000014E-2},{"$f":"IFERROR('Level 2'!BV12-'Level 1'!BV12,\"*\")","v":1.1150000000000007E-2},{"$f":"IFERROR('Level 2'!BW12-'Level 1'!BW12,\"*\")","v":1.3099999999999987E-2},{"$f":"IFERROR('Level 2'!BX12-'Level 1'!BX12,\"*\")","v":1.3999999999999999E-2},{"$f":"IFERROR('Level 2'!BY12-'Level 1'!BY12,\"*\")","v":"*"},null,{"$f":"'Level 1'!CA12","v":"Estonia"},{"$f":"IFERROR('Level 2'!CB12-'Level 1'!CB12,\"*\")","v":"*"},{"$f":"IFERROR('Level 2'!CC12-'Level 1'!CC12,\"*\")","v":"*"},{"$f":"IFERROR('Level 2'!CD12-'Level 1'!CD12,\"*\")","v":"*"},{"$f":"IFERROR('Level 2'!CE12-'Level 1'!CE12,\"*\")","v":"*"},{"$f":"IFERROR('Level 2'!CF12-'Level 1'!CF12,\"*\")","v":"*"},{"$f":"IFERROR('Level 2'!CG12-'Level 1'!CG12,\"*\")","v":"*"},{"$f":"IFERROR('Level 2'!CH12-'Level 1'!CH12,\"*\")","v":"*"},{"$f":"IFERROR('Level 2'!CI12-'Level 1'!CI12,\"*\")","v":"*"},{"$f":"IFERROR('Level 2'!CJ12-'Level 1'!CJ12,\"*\")","v":"*"},{"$f":"IFERROR('Level 2'!CK12-'Level 1'!CK12,\"*\")","v":"*"},{"$f":"IFERROR('Level 2'!CL12-'Level 1'!CL12,\"*\")","v":"*"}]
[{"$f":"'Level 1'!A13","v":"Ireland"},{"$f":"IFERROR('Level 2'!B13-'Level 1'!B13,\"*\")","v":0},{"$f":"IFERROR('Level 2'!C13-'Level 1'!C13,\"*\")","v":0},{"$f":"IFERROR('Level 2'!D13-'Level 1'!D13,\"*\")","v":2.5000000000002798E-4},{"$f":"IFERROR('Level 2'!E13-'Level 1'!E13,\"*\")","v":2.7500000000000024E-3},{"$f":"IFERROR('Level 2'!F13-'Level 1'!F13,\"*\")","v":1.7450000000000021E-2},{"$f":"IFERROR('Level 2'!G13-'Level 1'!G13,\"*\")","v":8.7999999999999745E-3},{"$f":"IFERROR('Level 2'!H13-'Level 1'!H13,\"*\")","v":1.3400000000000023E-2},{"$f":"IFERROR('Level 2'!I13-'Level 1'!I13,\"*\")","v":2.1699999999999997E-2},{"$f":"IFERROR('Level 2'!J13-'Level 1'!J13,\"*\")","v":3.670000000000001E-2},{"$f":"IFERROR('Level 2'!K13-'Level 1'!K13,\"*\")","v":3.1700000000000006E-2},{"$f":"IFERROR('Level 2'!L13-'Level 1'!L13,\"*\")","v":"*"},null,{"$f":"'Level 1'!N13","v":"Ireland"},{"$f":"IFERROR('Level 2'!O13-'Level 1'!O13,\"*\")","v":0},{"$f":"IFERROR('Level 2'!P13-'Level 1'!P13,\"*\")","v":0},{"$f":"IFERROR('Level 2'!Q13-'Level 1'!Q13,\"*\")","v":2.5000000000000022E-4},{"$f":"IFERROR('Level 2'!R13-'Level 1'!R13,\"*\")","v":8.0000000000002292E-4},{"$f":"IFERROR('Level 2'!S13-'Level 1'!S13,\"*\")","v":4.1500000000000425E-3},{"$f":"IFERROR('Level 2'!T13-'Level 1'!T13,\"*\")","v":2.5499999999999967E-3},{"$f":"IFERROR('Level 2'!U13-'Level 1'!U13,\"*\")","v":4.2000000000000093E-3},{"$f":"IFERROR('Level 2'!V13-'Level 1'!V13,\"*\")","v":9.099999999999997E-3},{"$f":"IFERROR('Level 2'!W13-'Level 1'!W13,\"*\")","v":1.5750000000000014E-2},{"$f":"IFERROR('Level 2'!X13-'Level 1'!X13,\"*\")","v":1.5500000000000014E-2},{"$f":"IFERROR('Level 2'!Y13-'Level 1'!Y13,\"*\")","v":"*"},null,{"$f":"'Level 1'!AA13","v":"Ireland"},{"$f":"IFERROR('Level 2'!AB13-'Level 1'!AB13,\"*\")","v":0},{"$f":"IFERROR('Level 2'!AC13-'Level 1'!AC13,\"*\")","v":0},{"$f":"IFERROR('Level 2'!AD13-'Level 1'!AD13,\"*\")","v":2.4999999999998634E-4},{"$f":"IFERROR('Level 2'!AE13-'Level 1'!AE13,\"*\")","v":5.9999999999998943E-4},{"$f":"IFERROR('Level 2'!AF13-'Level 1'!AF13,\"*\")","v":3.4000000000000002E-3},{"$f":"IFERROR('Level 2'!AG13-'Level 1'!AG13,\"*\")","v":2.6499999999999857E-3},{"$f":"IFERROR('Level 2'!AH13-'Level 1'!AH13,\"*\")","v":3.5999999999999921E-3},{"$f":"IFERROR('Level 2'!AI13-'Level 1'!AI13,\"*\")","v":7.0999999999999952E-3},{"$f":"IFERROR('Level 2'!AJ13-'Level 1'!AJ13,\"*\")","v":1.2449999999999989E-2},{"$f":"IFERROR('Level 2'!AK13-'Level 1'!AK13,\"*\")","v":1.2900000000000009E-2},{"$f":"IFERROR('Level 2'!AL13-'Level 1'!AL13,\"*\")","v":"*"},null,{"$f":"'Level 1'!AN13","v":"Ireland"},{"$f":"IFERROR('Level 2'!AO13-'Level 1'!AO13,\"*\")","v":0},{"$f":"IFERROR('Level 2'!AP13-'Level 1'!AP13,\"*\")","v":0},{"$f":"IFERROR('Level 2'!AQ13-'Level 1'!AQ13,\"*\")","v":2.5000000000000022E-4},{"$f":"IFERROR('Level 2'!AR13-'Level 1'!AR13,\"*\")","v":5.4999999999999494E-4},{"$f":"IFERROR('Level 2'!AS13-'Level 1'!AS13,\"*\")","v":2.2999999999999965E-3},{"$f":"IFERROR('Level 2'!AT13-'Level 1'!AT13,\"*\")","v":2.250000000000002E-3},{"$f":"IFERROR('Level 2'!AU13-'Level 1'!AU13,\"*\")","v":2.5499999999999967E-3},{"$f":"IFERROR('Level 2'!AV13-'Level 1'!AV13,\"*\")","v":5.0499999999999989E-3},{"$f":"IFERROR('Level 2'!AW13-'Level 1'!AW13,\"*\")","v":8.3499999999999963E-3},{"$f":"IFERROR('Level 2'!AX13-'Level 1'!AX13,\"*\")","v":8.6999999999999994E-3},{"$f":"IFERROR('Level 2'!AY13-'Level 1'!AY13,\"*\")","v":"*"},null,{"$f":"'Level 1'!BA13","v":"Ireland"},{"$f":"IFERROR('Level 2'!BB13-'Level 1'!BB13,\"*\")","v":0},{"$f":"IFERROR('Level 2'!BC13-'Level 1'!BC13,\"*\")","v":0},{"$f":"IFERROR('Level 2'!BD13-'Level 1'!BD13,\"*\")","v":2.5000000000000022E-4},{"$f":"IFERROR('Level 2'!BE13-'Level 1'!BE13,\"*\")","v":5.0000000000000044E-4},{"$f":"IFERROR('Level 2'!BF13-'Level 1'!BF13,\"*\")","v":1.7499999999999877E-3},{"$f":"IFERROR('Level 2'!BG13-'Level 1'!BG13,\"*\")","v":1.799999999999996E-3},{"$f":"IFERROR('Level 2'!BH13-'Level 1'!BH13,\"*\")","v":2.6500000000000135E-3},{"$f":"IFERROR('Level 2'!BI13-'Level 1'!BI13,\"*\")","v":4.149999999999987E-3},{"$f":"IFERROR('Level 2'!BJ13-'Level 1'!BJ13,\"*\")","v":5.7999999999999996E-3},{"$f":"IFERROR('Level 2'!BK13-'Level 1'!BK13,\"*\")","v":6.0999999999999943E-3},{"$f":"IFERROR('Level 2'!BL13-'Level 1'!BL13,\"*\")","v":"*"},null,{"$f":"'Level 1'!BN13","v":"Ireland"},{"$f":"IFERROR('Level 2'!BO13-'Level 1'!BO13,\"*\")","v":0},{"$f":"IFERROR('Level 2'!BP13-'Level 1'!BP13,\"*\")","v":0},{"$f":"IFERROR('Level 2'!BQ13-'Level 1'!BQ13,\"*\")","v":1.0000000000000009E-3},{"$f":"IFERROR('Level 2'!BR13-'Level 1'!BR13,\"*\")","v":5.0000000000000044E-4},{"$f":"IFERROR('Level 2'!BS13-'Level 1'!BS13,\"*\")","v":8.9999999999999802E-4},{"$f":"IFERROR('Level 2'!BT13-'Level 1'!BT13,\"*\")","v":2.1000000000000046E-3},{"$f":"IFERROR('Level 2'!BU13-'Level 1'!BU13,\"*\")","v":2.2999999999999965E-3},{"$f":"IFERROR('Level 2'!BV13-'Level 1'!BV13,\"*\")","v":3.3999999999999864E-3},{"$f":"IFERROR('Level 2'!BW13-'Level 1'!BW13,\"*\")","v":4.0000000000000036E-3},{"$f":"IFERROR('Level 2'!BX13-'Level 1'!BX13,\"*\")","v":3.4000000000000002E-3},{"$f":"IFERROR('Level 2'!BY13-'Level 1'!BY13,\"*\")","v":"*"},null,{"$f":"'Level 1'!CA13","v":"Ireland"},{"$f":"IFERROR('Level 2'!CB13-'Level 1'!CB13,\"*\")","v":"*"},{"$f":"IFERROR('Level 2'!CC13-'Level 1'!CC13,\"*\")","v":"*"},{"$f":"IFERROR('Level 2'!CD13-'Level 1'!CD13,\"*\")","v":"*"},{"$f":"IFERROR('Level 2'!CE13-'Level 1'!CE13,\"*\")","v":"*"},{"$f":"IFERROR('Level 2'!CF13-'Level 1'!CF13,\"*\")","v":"*"},{"$f":"IFERROR('Level 2'!CG13-'Level 1'!CG13,\"*\")","v":"*"},{"$f":"IFERROR('Level 2'!CH13-'Level 1'!CH13,\"*\")","v":"*"},{"$f":"IFERROR('Level 2'!CI13-'Level 1'!CI13,\"*\")","v":"*"},{"$f":"IFERROR('Level 2'!CJ13-'Level 1'!CJ13,\"*\")","v":"*"},{"$f":"IFERROR('Level 2'!CK13-'Level 1'!CK13,\"*\")","v":"*"},{"$f":"IFERROR('Level 2'!CL13-'Level 1'!CL13,\"*\")","v":"*"}]
[{"$f":"'Level 1'!A14","v":"Greece"},{"$f":"IFERROR('Level 2'!B14-'Level 1'!B14,\"*\")","v":0},{"$f":"IFERROR('Level 2'!C14-'Level 1'!C14,\"*\")","v":0},{"$f":"IFERROR('Level 2'!D14-'Level 1'!D14,\"*\")","v":6.1499999999999888E-3},{"$f":"IFERROR('Level 2'!E14-'Level 1'!E14,\"*\")","v":1.595000000000002E-2},{"$f":"IFERROR('Level 2'!F14-'Level 1'!F14,\"*\")","v":1.9500000000000017E-2},{"$f":"IFERROR('Level 2'!G14-'Level 1'!G14,\"*\")","v":2.9699999999999976E-2},{"$f":"IFERROR('Level 2'!H14-'Level 1'!H14,\"*\")","v":4.049999999999998E-2},{"$f":"IFERROR('Level 2'!I14-'Level 1'!I14,\"*\")","v":5.0699999999999967E-2},{"$f":"IFERROR('Level 2'!J14-'Level 1'!J14,\"*\")","v":6.4850000000000019E-2},{"$f":"IFERROR('Level 2'!K14-'Level 1'!K14,\"*\")","v":4.9199999999999994E-2},{"$f":"IFERROR('Level 2'!L14-'Level 1'!L14,\"*\")","v":"*"},null,{"$f":"'Level 1'!N14","v":"Greece"},{"$f":"IFERROR('Level 2'!O14-'Level 1'!O14,\"*\")","v":0},{"$f":"IFERROR('Level 2'!P14-'Level 1'!P14,\"*\")","v":0},{"$f":"IFERROR('Level 2'!Q14-'Level 1'!Q14,\"*\")","v":5.4499999999999965E-3},{"$f":"IFERROR('Level 2'!R14-'Level 1'!R14,\"*\")","v":1.4800000000000008E-2},{"$f":"IFERROR('Level 2'!S14-'Level 1'!S14,\"*\")","v":1.7449999999999993E-2},{"$f":"IFERROR('Level 2'!T14-'Level 1'!T14,\"*\")","v":2.6350000000000012E-2},{"$f":"IFERROR('Level 2'!U14-'Level 1'!U14,\"*\")","v":3.4500000000000003E-2},{"$f":"IFERROR('Level 2'!V14-'Level 1'!V14,\"*\")","v":4.2499999999999982E-2},{"$f":"IFERROR('Level 2'!W14-'Level 1'!W14,\"*\")","v":5.0299999999999984E-2},{"$f":"IFERROR('Level 2'!X14-'Level 1'!X14,\"*\")","v":3.8099999999999995E-2},{"$f":"IFERROR('Level 2'!Y14-'Level 1'!Y14,\"*\")","v":"*"},null,{"$f":"'Level 1'!AA14","v":"Greece"},{"$f":"IFERROR('Level 2'!AB14-'Level 1'!AB14,\"*\")","v":0},{"$f":"IFERROR('Level 2'!AC14-'Level 1'!AC14,\"*\")","v":0},{"$f":"IFERROR('Level 2'!AD14-'Level 1'!AD14,\"*\")","v":4.1500000000000148E-3},{"$f":"IFERROR('Level 2'!AE14-'Level 1'!AE14,\"*\")","v":1.2049999999999991E-2},{"$f":"IFERROR('Level 2'!AF14-'Level 1'!AF14,\"*\")","v":1.2899999999999995E-2},{"$f":"IFERROR('Level 2'!AG14-'Level 1'!AG14,\"*\")","v":1.8549999999999997E-2},{"$f":"IFERROR('Level 2'!AH14-'Level 1'!AH14,\"*\")","v":2.1399999999999988E-2},{"$f":"IFERROR('Level 2'!AI14-'Level 1'!AI14,\"*\")","v":2.5499999999999981E-2},{"$f":"IFERROR('Level 2'!AJ14-'Level 1'!AJ14,\"*\")","v":1.9150000000000014E-2},{"$f":"IFERROR('Level 2'!AK14-'Level 1'!AK14,\"*\")","v":2.2800000000000001E-2},{"$f":"IFERROR('Level 2'!AL14-'Level 1'!AL14,\"*\")","v":"*"},null,{"$f":"'Level 1'!AN14","v":"Greece"},{"$f":"IFERROR('Level 2'!AO14-'Level 1'!AO14,\"*\")","v":0},{"$f":"IFERROR('Level 2'!AP14-'Level 1'!AP14,\"*\")","v":0},{"$f":"IFERROR('Level 2'!AQ14-'Level 1'!AQ14,\"*\")","v":4.0000000000000036E-3},{"$f":"IFERROR('Level 2'!AR14-'Level 1'!AR14,\"*\")","v":1.1699999999999988E-2},{"$f":"IFERROR('Level 2'!AS14-'Level 1'!AS14,\"*\")","v":1.235E-2},{"$f":"IFERROR('Level 2'!AT14-'Level 1'!AT14,\"*\")","v":1.7600000000000005E-2},{"$f":"IFERROR('Level 2'!AU14-'Level 1'!AU14,\"*\")","v":1.974999999999999E-2},{"$f":"IFERROR('Level 2'!AV14-'Level 1'!AV14,\"*\")","v":2.0250000000000004E-2},{"$f":"IFERROR('Level 2'!AW14-'Level 1'!AW14,\"*\")","v":1.2250000000000011E-2},{"$f":"IFERROR('Level 2'!AX14-'Level 1'!AX14,\"*\")","v":1.6899999999999998E-2},{"$f":"IFERROR('Level 2'!AY14-'Level 1'!AY14,\"*\")","v":"*"},null,{"$f":"'Level 1'!BA14","v":"Greece"},{"$f":"IFERROR('Level 2'!BB14-'Level 1'!BB14,\"*\")","v":0},{"$f":"IFERROR('Level 2'!BC14-'Level 1'!BC14,\"*\")","v":0},{"$f":"IFERROR('Level 2'!BD14-'Level 1'!BD14,\"*\")","v":3.8999999999999868E-3},{"$f":"IFERROR('Level 2'!BE14-'Level 1'!BE14,\"*\")","v":1.1200000000000002E-2},{"$f":"IFERROR('Level 2'!BF14-'Level 1'!BF14,\"*\")","v":1.100000000000001E-2},{"$f":"IFERROR('Level 2'!BG14-'Level 1'!BG14,\"*\")","v":1.6300000000000009E-2},{"$f":"IFERROR('Level 2'!BH14-'Level 1'!BH14,\"*\")","v":1.7100000000000004E-2},{"$f":"IFERROR('Level 2'!BI14-'Level 1'!BI14,\"*\")","v":1.1899999999999994E-2},{"$f":"IFERROR('Level 2'!BJ14-'Level 1'!BJ14,\"*\")","v":7.8000000000000014E-3},{"$f":"IFERROR('Level 2'!BK14-'Level 1'!BK14,\"*\")","v":1.029999999999999E-2},{"$f":"IFERROR('Level 2'!BL14-'Level 1'!BL14,\"*\")","v":"*"},null,{"$f":"'Level 1'!BN14","v":"Greece"},{"$f":"IFERROR('Level 2'!BO14-'Level 1'!BO14,\"*\")","v":0},{"$f":"IFERROR('Level 2'!BP14-'Level 1'!BP14,\"*\")","v":0},{"$f":"IFERROR('Level 2'!BQ14-'Level 1'!BQ14,\"*\")","v":3.1000000000000055E-3},{"$f":"IFERROR('Level 2'!BR14-'Level 1'!BR14,\"*\")","v":1.0000000000000002E-2},{"$f":"IFERROR('Level 2'!BS14-'Level 1'!BS14,\"*\")","v":7.4999999999999997E-3},{"$f":"IFERROR('Level 2'!BT14-'Level 1'!BT14,\"*\")","v":9.8499999999999976E-3},{"$f":"IFERROR('Level 2'!BU14-'Level 1'!BU14,\"*\")","v":1.0050000000000003E-2},{"$f":"IFERROR('Level 2'!BV14-'Level 1'!BV14,\"*\")","v":9.099999999999997E-3},{"$f":"IFERROR('Level 2'!BW14-'Level 1'!BW14,\"*\")","v":7.5000000000000067E-3},{"$f":"IFERROR('Level 2'!BX14-'Level 1'!BX14,\"*\")","v":9.1000000000000039E-3},{"$f":"IFERROR('Level 2'!BY14-'Level 1'!BY14,\"*\")","v":"*"},null,{"$f":"'Level 1'!CA14","v":"Greece"},{"$f":"IFERROR('Level 2'!CB14-'Level 1'!CB14,\"*\")","v":"*"},{"$f":"IFERROR('Level 2'!CC14-'Level 1'!CC14,\"*\")","v":"*"},{"$f":"IFERROR('Level 2'!CD14-'Level 1'!CD14,\"*\")","v":2.9999999999999472E-4},{"$f":"IFERROR('Level 2'!CE14-'Level 1'!CE14,\"*\")","v":7.1999999999999981E-3},{"$f":"IFERROR('Level 2'!CF14-'Level 1'!CF14,\"*\")","v":4.4999999999999971E-3},{"$f":"IFERROR('Level 2'!CG14-'Level 1'!CG14,\"*\")","v":5.2000000000000032E-3},{"$f":"IFERROR('Level 2'!CH14-'Level 1'!CH14,\"*\")","v":"*"},{"$f":"IFERROR('Level 2'!CI14-'Level 1'!CI14,\"*\")","v":"*"},{"$f":"IFERROR('Level 2'!CJ14-'Level 1'!CJ14,\"*\")","v":"*"},{"$f":"IFERROR('Level 2'!CK14-'Level 1'!CK14,\"*\")","v":"*"},{"$f":"IFERROR('Level 2'!CL14-'Level 1'!CL14,\"*\")","v":"*"}]
[{"$f":"'Level 1'!A15","v":"Spain"},{"$f":"IFERROR('Level 2'!B15-'Level 1'!B15,\"*\")","v":7.6999999999999846E-3},{"$f":"IFERROR('Level 2'!C15-'Level 1'!C15,\"*\")","v":6.6999999999999837E-3},{"$f":"IFERROR('Level 2'!D15-'Level 1'!D15,\"*\")","v":8.3500000000000241E-3},{"$f":"IFERROR('Level 2'!E15-'Level 1'!E15,\"*\")","v":8.9499999999999857E-3},{"$f":"IFERROR('Level 2'!F15-'Level 1'!F15,\"*\")","v":9.0500000000000025E-3},{"$f":"IFERROR('Level 2'!G15-'Level 1'!G15,\"*\")","v":1.0200000000000015E-2},{"$f":"IFERROR('Level 2'!H15-'Level 1'!H15,\"*\")","v":1.1799999999999977E-2},{"$f":"IFERROR('Level 2'!I15-'Level 1'!I15,\"*\")","v":1.3749999999999984E-2},{"$f":"IFERROR('Level 2'!J15-'Level 1'!J15,\"*\")","v":1.319999999999999E-2},{"$f":"IFERROR('Level 2'!K15-'Level 1'!K15,\"*\")","v":1.21E-2},{"$f":"IFERROR('Level 2'!L15-'Level 1'!L15,\"*\")","v":"*"},null,{"$f":"'Level 1'!N15","v":"Spain"},{"$f":"IFERROR('Level 2'!O15-'Level 1'!O15,\"*\")","v":5.5999999999999939E-3},{"$f":"IFERROR('Level 2'!P15-'Level 1'!P15,\"*\")","v":5.8499999999999941E-3},{"$f":"IFERROR('Level 2'!Q15-'Level 1'!Q15,\"*\")","v":6.4500000000000113E-3},{"$f":"IFERROR('Level 2'!R15-'Level 1'!R15,\"*\")","v":6.7000000000000115E-3},{"$f":"IFERROR('Level 2'!S15-'Level 1'!S15,\"*\")","v":6.8999999999999895E-3},{"$f":"IFERROR('Level 2'!T15-'Level 1'!T15,\"*\")","v":7.5500000000000289E-3},{"$f":"IFERROR('Level 2'!U15-'Level 1'!U15,\"*\")","v":7.4000000000000177E-3},{"$f":"IFERROR('Level 2'!V15-'Level 1'!V15,\"*\")","v":7.6999999999999846E-3},{"$f":"IFERROR('Level 2'!W15-'Level 1'!W15,\"*\")","v":7.5000000000000067E-3},{"$f":"IFERROR('Level 2'!X15-'Level 1'!X15,\"*\")","v":7.1999999999999842E-3},{"$f":"IFERROR('Level 2'!Y15-'Level 1'!Y15,\"*\")","v":"*"},null,{"$f":"'Level 1'!AA15","v":"Spain"},{"$f":"IFERROR('Level 2'!AB15-'Level 1'!AB15,\"*\")","v":4.599999999999993E-3},{"$f":"IFERROR('Level 2'!AC15-'Level 1'!AC15,\"*\")","v":4.9000000000000155E-3},{"$f":"IFERROR('Level 2'!AD15-'Level 1'!AD15,\"*\")","v":5.5000000000000049E-3},{"$f":"IFERROR('Level 2'!AE15-'Level 1'!AE15,\"*\")","v":5.499999999999991E-3},{"$f":"IFERROR('Level 2'!AF15-'Level 1'!AF15,\"*\")","v":5.5499999999999994E-3},{"$f":"IFERROR('Level 2'!AG15-'Level 1'!AG15,\"*\")","v":5.8499999999999941E-3},{"$f":"IFERROR('Level 2'!AH15-'Level 1'!AH15,\"*\")","v":5.8999999999999886E-3},{"$f":"IFERROR('Level 2'!AI15-'Level 1'!AI15,\"*\")","v":5.9000000000000163E-3},{"$f":"IFERROR('Level 2'!AJ15-'Level 1'!AJ15,\"*\")","v":5.5999999999999939E-3},{"$f":"IFERROR('Level 2'!AK15-'Level 1'!AK15,\"*\")","v":5.400000000000002E-3},{"$f":"IFERROR('Level 2'!AL15-'Level 1'!AL15,\"*\")","v":"*"},null,{"$f":"'Level 1'!AN15","v":"Spain"},{"$f":"IFERROR('Level 2'!AO15-'Level 1'!AO15,\"*\")","v":3.7999999999999978E-3},{"$f":"IFERROR('Level 2'!AP15-'Level 1'!AP15,\"*\")","v":4.1500000000000009E-3},{"$f":"IFERROR('Level 2'!AQ15-'Level 1'!AQ15,\"*\")","v":4.5499999999999846E-3},{"$f":"IFERROR('Level 2'!AR15-'Level 1'!AR15,\"*\")","v":4.4500000000000095E-3},{"$f":"IFERROR('Level 2'!AS15-'Level 1'!AS15,\"*\")","v":4.500000000000004E-3},{"$f":"IFERROR('Level 2'!AT15-'Level 1'!AT15,\"*\")","v":4.9000000000000016E-3},{"$f":"IFERROR('Level 2'!AU15-'Level 1'!AU15,\"*\")","v":5.2000000000000102E-3},{"$f":"IFERROR('Level 2'!AV15-'Level 1'!AV15,\"*\")","v":5.0500000000000128E-3},{"$f":"IFERROR('Level 2'!AW15-'Level 1'!AW15,\"*\")","v":4.6500000000000014E-3},{"$f":"IFERROR('Level 2'!AX15-'Level 1'!AX15,\"*\")","v":4.4000000000000011E-3},{"$f":"IFERROR('Level 2'!AY15-'Level 1'!AY15,\"*\")","v":"*"},null,{"$f":"'Level 1'!BA15","v":"Spain"},{"$f":"IFERROR('Level 2'!BB15-'Level 1'!BB15,\"*\")","v":3.1000000000000055E-3},{"$f":"IFERROR('Level 2'!BC15-'Level 1'!BC15,\"*\")","v":3.4499999999999947E-3},{"$f":"IFERROR('Level 2'!BD15-'Level 1'!BD15,\"*\")","v":4.0000000000000036E-3},{"$f":"IFERROR('Level 2'!BE15-'Level 1'!BE15,\"*\")","v":3.699999999999995E-3},{"$f":"IFERROR('Level 2'!BF15-'Level 1'!BF15,\"*\")","v":3.8500000000000062E-3},{"$f":"IFERROR('Level 2'!BG15-'Level 1'!BG15,\"*\")","v":4.2000000000000093E-3},{"$f":"IFERROR('Level 2'!BH15-'Level 1'!BH15,\"*\")","v":4.2000000000000093E-3},{"$f":"IFERROR('Level 2'!BI15-'Level 1'!BI15,\"*\")","v":3.8999999999999868E-3},{"$f":"IFERROR('Level 2'!BJ15-'Level 1'!BJ15,\"*\")","v":4.049999999999998E-3},{"$f":"IFERROR('Level 2'!BK15-'Level 1'!BK15,\"*\")","v":3.600000000000006E-3},{"$f":"IFERROR('Level 2'!BL15-'Level 1'!BL15,\"*\")","v":"*"},null,{"$f":"'Level 1'!BN15","v":"Spain"},{"$f":"IFERROR('Level 2'!BO15-'Level 1'!BO15,\"*\")","v":2.5000000000000022E-3},{"$f":"IFERROR('Level 2'!BP15-'Level 1'!BP15,\"*\")","v":3.0999999999999917E-3},{"$f":"IFERROR('Level 2'!BQ15-'Level 1'!BQ15,\"*\")","v":3.5000000000000031E-3},{"$f":"IFERROR('Level 2'!BR15-'Level 1'!BR15,\"*\")","v":3.2999999999999974E-3},{"$f":"IFERROR('Level 2'!BS15-'Level 1'!BS15,\"*\")","v":3.5499999999999976E-3},{"$f":"IFERROR('Level 2'!BT15-'Level 1'!BT15,\"*\")","v":3.699999999999995E-3},{"$f":"IFERROR('Level 2'!BU15-'Level 1'!BU15,\"*\")","v":3.4999999999999892E-3},{"$f":"IFERROR('Level 2'!BV15-'Level 1'!BV15,\"*\")","v":3.6500000000000005E-3},{"$f":"IFERROR('Level 2'!BW15-'Level 1'!BW15,\"*\")","v":3.7500000000000033E-3},{"$f":"IFERROR('Level 2'!BX15-'Level 1'!BX15,\"*\")","v":3.1999999999999945E-3},{"$f":"IFERROR('Level 2'!BY15-'Level 1'!BY15,\"*\")","v":"*"},null,{"$f":"'Level 1'!CA15","v":"Spain"},{"$f":"IFERROR('Level 2'!CB15-'Level 1'!CB15,\"*\")","v":2.0000000000000018E-3},{"$f":"IFERROR('Level 2'!CC15-'Level 1'!CC15,\"*\")","v":2.3000000000000034E-3},{"$f":"IFERROR('Level 2'!CD15-'Level 1'!CD15,\"*\")","v":2.5000000000000022E-3},{"$f":"IFERROR('Level 2'!CE15-'Level 1'!CE15,\"*\")","v":2.5000000000000022E-3},{"$f":"IFERROR('Level 2'!CF15-'Level 1'!CF15,\"*\")","v":2.5499999999999967E-3},{"$f":"IFERROR('Level 2'!CG15-'Level 1'!CG15,\"*\")","v":2.7000000000000079E-3},{"$f":"IFERROR('Level 2'!CH15-'Level 1'!CH15,\"*\")","v":2.9500000000000012E-3},{"$f":"IFERROR('Level 2'!CI15-'Level 1'!CI15,\"*\")","v":2.9500000000000012E-3},{"$f":"IFERROR('Level 2'!CJ15-'Level 1'!CJ15,\"*\")","v":3.4499999999999947E-3},{"$f":"IFERROR('Level 2'!CK15-'Level 1'!CK15,\"*\")","v":2.5999999999999981E-3},{"$f":"IFERROR('Level 2'!CL15-'Level 1'!CL15,\"*\")","v":"*"}]
[{"$f":"'Level 1'!A16","v":"France"},{"$f":"IFERROR('Level 2'!B16-'Level 1'!B16,\"*\")","v":9.999999999999995E-3},{"$f":"IFERROR('Level 2'!C16-'Level 1'!C16,\"*\")","v":1.235E-2},{"$f":"IFERROR('Level 2'!D16-'Level 1'!D16,\"*\")","v":1.2900000000000009E-2},{"$f":"IFERROR('Level 2'!E16-'Level 1'!E16,\"*\")","v":1.634999999999999E-2},{"$f":"IFERROR('Level 2'!F16-'Level 1'!F16,\"*\")","v":1.9650000000000029E-2},{"$f":"IFERROR('Level 2'!G16-'Level 1'!G16,\"*\")","v":2.1599999999999994E-2},{"$f":"IFERROR('Level 2'!H16-'Level 1'!H16,\"*\")","v":2.6000000000000009E-2},{"$f":"IFERROR('Level 2'!I16-'Level 1'!I16,\"*\")","v":2.8900000000000009E-2},{"$f":"IFERROR('Level 2'!J16-'Level 1'!J16,\"*\")","v":3.2250000000000001E-2},{"$f":"IFERROR('Level 2'!K16-'Level 1'!K16,\"*\")","v":3.4200000000000008E-2},{"$f":"IFERROR('Level 2'!L16-'Level 1'!L16,\"*\")","v":"*"},null,{"$f":"'Level 1'!N16","v":"France"},{"$f":"IFERROR('Level 2'!O16-'Level 1'!O16,\"*\")","v":7.4999999999999928E-3},{"$f":"IFERROR('Level 2'!P16-'Level 1'!P16,\"*\")","v":8.3999999999999908E-3},{"$f":"IFERROR('Level 2'!Q16-'Level 1'!Q16,\"*\")","v":8.5999999999999965E-3},{"$f":"IFERROR('Level 2'!R16-'Level 1'!R16,\"*\")","v":9.5999999999999974E-3},{"$f":"IFERROR('Level 2'!S16-'Level 1'!S16,\"*\")","v":1.3450000000000004E-2},{"$f":"IFERROR('Level 2'!T16-'Level 1'!T16,\"*\")","v":1.4899999999999997E-2},{"$f":"IFERROR('Level 2'!U16-'Level 1'!U16,\"*\")","v":2.0299999999999999E-2},{"$f":"IFERROR('Level 2'!V16-'Level 1'!V16,\"*\")","v":2.4000000000000007E-2},{"$f":"IFERROR('Level 2'!W16-'Level 1'!W16,\"*\")","v":2.7300000000000005E-2},{"$f":"IFERROR('Level 2'!X16-'Level 1'!X16,\"*\")","v":0.03},{"$f":"IFERROR('Level 2'!Y16-'Level 1'!Y16,\"*\")","v":"*"},null,{"$f":"'Level 1'!AA16","v":"France"},{"$f":"IFERROR('Level 2'!AB16-'Level 1'!AB16,\"*\")","v":5.400000000000002E-3},{"$f":"IFERROR('Level 2'!AC16-'Level 1'!AC16,\"*\")","v":5.3499999999999936E-3},{"$f":"IFERROR('Level 2'!AD16-'Level 1'!AD16,\"*\")","v":5.7499999999999912E-3},{"$f":"IFERROR('Level 2'!AE16-'Level 1'!AE16,\"*\")","v":8.9999999999999802E-3},{"$f":"IFERROR('Level 2'!AF16-'Level 1'!AF16,\"*\")","v":1.3350000000000001E-2},{"$f":"IFERROR('Level 2'!AG16-'Level 1'!AG16,\"*\")","v":1.4749999999999999E-2},{"$f":"IFERROR('Level 2'!AH16-'Level 1'!AH16,\"*\")","v":1.89E-2},{"$f":"IFERROR('Level 2'!AI16-'Level 1'!AI16,\"*\")","v":2.2149999999999989E-2},{"$f":"IFERROR('Level 2'!AJ16-'Level 1'!AJ16,\"*\")","v":2.495E-2},{"$f":"IFERROR('Level 2'!AK16-'Level 1'!AK16,\"*\")","v":2.7899999999999994E-2},{"$f":"IFERROR('Level 2'!AL16-'Level 1'!AL16,\"*\")","v":"*"},null,{"$f":"'Level 1'!AN16","v":"France"},{"$f":"IFERROR('Level 2'!AO16-'Level 1'!AO16,\"*\")","v":5.7999999999999996E-3},{"$f":"IFERROR('Level 2'!AP16-'Level 1'!AP16,\"*\")","v":5.1499999999999949E-3},{"$f":"IFERROR('Level 2'!AQ16-'Level 1'!AQ16,\"*\")","v":6.3E-3},{"$f":"IFERROR('Level 2'!AR16-'Level 1'!AR16,\"*\")","v":5.9999999999999915E-3},{"$f":"IFERROR('Level 2'!AS16-'Level 1'!AS16,\"*\")","v":9.9500000000000005E-3},{"$f":"IFERROR('Level 2'!AT16-'Level 1'!AT16,\"*\")","v":1.1599999999999999E-2},{"$f":"IFERROR('Level 2'!AU16-'Level 1'!AU16,\"*\")","v":1.5600000000000003E-2},{"$f":"IFERROR('Level 2'!AV16-'Level 1'!AV16,\"*\")","v":1.8300000000000011E-2},{"$f":"IFERROR('Level 2'!AW16-'Level 1'!AW16,\"*\")","v":2.0650000000000002E-2},{"$f":"IFERROR('Level 2'!AX16-'Level 1'!AX16,\"*\")","v":2.0799999999999999E-2},{"$f":"IFERROR('Level 2'!AY16-'Level 1'!AY16,\"*\")","v":"*"},null,{"$f":"'Level 1'!BA16","v":"France"},{"$f":"IFERROR('Level 2'!BB16-'Level 1'!BB16,\"*\")","v":7.200000000000005E-3},{"$f":"IFERROR('Level 2'!BC16-'Level 1'!BC16,\"*\")","v":7.7499999999999999E-3},{"$f":"IFERROR('Level 2'!BD16-'Level 1'!BD16,\"*\")","v":8.0500000000000016E-3},{"$f":"IFERROR('Level 2'!BE16-'Level 1'!BE16,\"*\")","v":5.9000000000000025E-3},{"$f":"IFERROR('Level 2'!BF16-'Level 1'!BF16,\"*\")","v":8.3499999999999963E-3},{"$f":"IFERROR('Level 2'!BG16-'Level 1'!BG16,\"*\")","v":9.6000000000000044E-3},{"$f":"IFERROR('Level 2'!BH16-'Level 1'!BH16,\"*\")","v":1.2450000000000003E-2},{"$f":"IFERROR('Level 2'!BI16-'Level 1'!BI16,\"*\")","v":1.3999999999999999E-2},{"$f":"IFERROR('Level 2'!BJ16-'Level 1'!BJ16,\"*\")","v":1.5150000000000011E-2},{"$f":"IFERROR('Level 2'!BK16-'Level 1'!BK16,\"*\")","v":1.4199999999999997E-2},{"$f":"IFERROR('Level 2'!BL16-'Level 1'!BL16,\"*\")","v":"*"},null,{"$f":"'Level 1'!BN16","v":"France"},{"$f":"IFERROR('Level 2'!BO16-'Level 1'!BO16,\"*\")","v":7.1999999999999981E-3},{"$f":"IFERROR('Level 2'!BP16-'Level 1'!BP16,\"*\")","v":7.8499999999999959E-3},{"$f":"IFERROR('Level 2'!BQ16-'Level 1'!BQ16,\"*\")","v":8.0499999999999947E-3},{"$f":"IFERROR('Level 2'!BR16-'Level 1'!BR16,\"*\")","v":4.7499999999999973E-3},{"$f":"IFERROR('Level 2'!BS16-'Level 1'!BS16,\"*\")","v":5.2500000000000047E-3},{"$f":"IFERROR('Level 2'!BT16-'Level 1'!BT16,\"*\")","v":5.1999999999999963E-3},{"$f":"IFERROR('Level 2'!BU16-'Level 1'!BU16,\"*\")","v":5.5500000000000063E-3},{"$f":"IFERROR('Level 2'!BV16-'Level 1'!BV16,\"*\")","v":6.3E-3},{"$f":"IFERROR('Level 2'!BW16-'Level 1'!BW16,\"*\")","v":6.1000000000000013E-3},{"$f":"IFERROR('Level 2'!BX16-'Level 1'!BX16,\"*\")","v":1.3399999999999995E-2},{"$f":"IFERROR('Level 2'!BY16-'Level 1'!BY16,\"*\")","v":"*"},null,{"$f":"'Level 1'!CA16","v":"France"},{"$f":"IFERROR('Level 2'!CB16-'Level 1'!CB16,\"*\")","v":"*"},{"$f":"IFERROR('Level 2'!CC16-'Level 1'!CC16,\"*\")","v":"*"},{"$f":"IFERROR('Level 2'!CD16-'Level 1'!CD16,\"*\")","v":"*"},{"$f":"IFERROR('Level 2'!CE16-'Level 1'!CE16,\"*\")","v":"*"},{"$f":"IFERROR('Level 2'!CF16-'Level 1'!CF16,\"*\")","v":"*"},{"$f":"IFERROR('Level 2'!CG16-'Level 1'!CG16,\"*\")","v":"*"},{"$f":"IFERROR('Level 2'!CH16-'Level 1'!CH16,\"*\")","v":"*"},{"$f":"IFERROR('Level 2'!CI16-'Level 1'!CI16,\"*\")","v":"*"},{"$f":"IFERROR('Level 2'!CJ16-'Level 1'!CJ16,\"*\")","v":"*"},{"$f":"IFERROR('Level 2'!CK16-'Level 1'!CK16,\"*\")","v":"*"},{"$f":"IFERROR('Level 2'!CL16-'Level 1'!CL16,\"*\")","v":"*"}]
[{"$f":"'Level 1'!A17","v":"Croatia"},{"$f":"IFERROR('Level 2'!B17-'Level 1'!B17,\"*\")","v":6.499999999999978E-4},{"$f":"IFERROR('Level 2'!C17-'Level 1'!C17,\"*\")","v":1.3999999999999985E-3},{"$f":"IFERROR('Level 2'!D17-'Level 1'!D17,\"*\")","v":1.350000000000004E-3},{"$f":"IFERROR('Level 2'!E17-'Level 1'!E17,\"*\")","v":6.999999999999923E-4},{"$f":"IFERROR('Level 2'!F17-'Level 1'!F17,\"*\")","v":7.0000000000000617E-4},{"$f":"IFERROR('Level 2'!G17-'Level 1'!G17,\"*\")","v":7.0000000000000617E-4},{"$f":"IFERROR('Level 2'!H17-'Level 1'!H17,\"*\")","v":1.4500000000000068E-3},{"$f":"IFERROR('Level 2'!I17-'Level 1'!I17,\"*\")","v":5.1500000000000157E-3},{"$f":"IFERROR('Level 2'!J17-'Level 1'!J17,\"*\")","v":5.850000000000008E-3},{"$f":"IFERROR('Level 2'!K17-'Level 1'!K17,\"*\")","v":5.3999999999999881E-3},{"$f":"IFERROR('Level 2'!L17-'Level 1'!L17,\"*\")","v":"*"},null,{"$f":"'Level 1'!N17","v":"Croatia"},{"$f":"IFERROR('Level 2'!O17-'Level 1'!O17,\"*\")","v":6.999999999999923E-4},{"$f":"IFERROR('Level 2'!P17-'Level 1'!P17,\"*\")","v":1.3999999999999846E-3},{"$f":"IFERROR('Level 2'!Q17-'Level 1'!Q17,\"*\")","v":1.3499999999999901E-3},{"$f":"IFERROR('Level 2'!R17-'Level 1'!R17,\"*\")","v":6.999999999999923E-4},{"$f":"IFERROR('Level 2'!S17-'Level 1'!S17,\"*\")","v":6.5000000000001168E-4},{"$f":"IFERROR('Level 2'!T17-'Level 1'!T17,\"*\")","v":7.0000000000000617E-4},{"$f":"IFERROR('Level 2'!U17-'Level 1'!U17,\"*\")","v":1.6000000000000042E-3},{"$f":"IFERROR('Level 2'!V17-'Level 1'!V17,\"*\")","v":5.0499999999999989E-3},{"$f":"IFERROR('Level 2'!W17-'Level 1'!W17,\"*\")","v":5.2000000000000102E-3},{"$f":"IFERROR('Level 2'!X17-'Level 1'!X17,\"*\")","v":5.2999999999999992E-3},{"$f":"IFERROR('Level 2'!Y17-'Level 1'!Y17,\"*\")","v":"*"},null,{"$f":"'Level 1'!AA17","v":"Croatia"},{"$f":"IFERROR('Level 2'!AB17-'Level 1'!AB17,\"*\")","v":7.0000000000000617E-4},{"$f":"IFERROR('Level 2'!AC17-'Level 1'!AC17,\"*\")","v":1.350000000000004E-3},{"$f":"IFERROR('Level 2'!AD17-'Level 1'!AD17,\"*\")","v":1.3999999999999846E-3},{"$f":"IFERROR('Level 2'!AE17-'Level 1'!AE17,\"*\")","v":6.999999999999923E-4},{"$f":"IFERROR('Level 2'!AF17-'Level 1'!AF17,\"*\")","v":7.0000000000000617E-4},{"$f":"IFERROR('Level 2'!AG17-'Level 1'!AG17,\"*\")","v":7.0000000000000617E-4},{"$f":"IFERROR('Level 2'!AH17-'Level 1'!AH17,\"*\")","v":1.8999999999999989E-3},{"$f":"IFERROR('Level 2'!AI17-'Level 1'!AI17,\"*\")","v":5.2000000000000102E-3},{"$f":"IFERROR('Level 2'!AJ17-'Level 1'!AJ17,\"*\")","v":5.1999999999999963E-3},{"$f":"IFERROR('Level 2'!AK17-'Level 1'!AK17,\"*\")","v":5.2000000000000102E-3},{"$f":"IFERROR('Level 2'!AL17-'Level 1'!AL17,\"*\")","v":"*"},null,{"$f":"'Level 1'!AN17","v":"Croatia"},{"$f":"IFERROR('Level 2'!AO17-'Level 1'!AO17,\"*\")","v":6.9999999999999923E-4},{"$f":"IFERROR('Level 2'!AP17-'Level 1'!AP17,\"*\")","v":1.3999999999999985E-3},{"$f":"IFERROR('Level 2'!AQ17-'Level 1'!AQ17,\"*\")","v":1.3499999999999901E-3},{"$f":"IFERROR('Level 2'!AR17-'Level 1'!AR17,\"*\")","v":7.0000000000000617E-4},{"$f":"IFERROR('Level 2'!AS17-'Level 1'!AS17,\"*\")","v":7.0000000000000617E-4},{"$f":"IFERROR('Level 2'!AT17-'Level 1'!AT17,\"*\")","v":5.9999999999998943E-4},{"$f":"IFERROR('Level 2'!AU17-'Level 1'!AU17,\"*\")","v":1.8000000000000099E-3},{"$f":"IFERROR('Level 2'!AV17-'Level 1'!AV17,\"*\")","v":4.6000000000000069E-3},{"$f":"IFERROR('Level 2'!AW17-'Level 1'!AW17,\"*\")","v":4.6500000000000152E-3},{"$f":"IFERROR('Level 2'!AX17-'Level 1'!AX17,\"*\")","v":4.599999999999993E-3},{"$f":"IFERROR('Level 2'!AY17-'Level 1'!AY17,\"*\")","v":"*"},null,{"$f":"'Level 1'!BA17","v":"Croatia"},{"$f":"IFERROR('Level 2'!BB17-'Level 1'!BB17,\"*\")","v":6.9999999999999923E-4},{"$f":"IFERROR('Level 2'!BC17-'Level 1'!BC17,\"*\")","v":1.349999999999997E-3},{"$f":"IFERROR('Level 2'!BD17-'Level 1'!BD17,\"*\")","v":1.3000000000000095E-3},{"$f":"IFERROR('Level 2'!BE17-'Level 1'!BE17,\"*\")","v":6.4999999999998392E-4},{"$f":"IFERROR('Level 2'!BF17-'Level 1'!BF17,\"*\")","v":6.499999999999978E-4},{"$f":"IFERROR('Level 2'!BG17-'Level 1'!BG17,\"*\")","v":6.9999999999999923E-4},{"$f":"IFERROR('Level 2'!BH17-'Level 1'!BH17,\"*\")","v":1.8500000000000044E-3},{"$f":"IFERROR('Level 2'!BI17-'Level 1'!BI17,\"*\")","v":3.0999999999999917E-3},{"$f":"IFERROR('Level 2'!BJ17-'Level 1'!BJ17,\"*\")","v":2.8500000000000053E-3},{"$f":"IFERROR('Level 2'!BK17-'Level 1'!BK17,\"*\")","v":2.3000000000000034E-3},{"$f":"IFERROR('Level 2'!BL17-'Level 1'!BL17,\"*\")","v":"*"},null,{"$f":"'Level 1'!BN17","v":"Croatia"},{"$f":"IFERROR('Level 2'!BO17-'Level 1'!BO17,\"*\")","v":6.9999999999999923E-4},{"$f":"IFERROR('Level 2'!BP17-'Level 1'!BP17,\"*\")","v":1.4000000000000054E-3},{"$f":"IFERROR('Level 2'!BQ17-'Level 1'!BQ17,\"*\")","v":1.3999999999999985E-3},{"$f":"IFERROR('Level 2'!BR17-'Level 1'!BR17,\"*\")","v":6.999999999999923E-4},{"$f":"IFERROR('Level 2'!BS17-'Level 1'!BS17,\"*\")","v":6.499999999999978E-4},{"$f":"IFERROR('Level 2'!BT17-'Level 1'!BT17,\"*\")","v":6.999999999999923E-4},{"$f":"IFERROR('Level 2'!BU17-'Level 1'!BU17,\"*\")","v":1.7000000000000071E-3},{"$f":"IFERROR('Level 2'!BV17-'Level 1'!BV17,\"*\")","v":2.6999999999999941E-3},{"$f":"IFERROR('Level 2'!BW17-'Level 1'!BW17,\"*\")","v":2.8500000000000053E-3},{"$f":"IFERROR('Level 2'!BX17-'Level 1'!BX17,\"*\")","v":1.1999999999999997E-3},{"$f":"IFERROR('Level 2'!BY17-'Level 1'!BY17,\"*\")","v":"*"},null,{"$f":"'Level 1'!CA17","v":"Croatia"},{"$f":"IFERROR('Level 2'!CB17-'Level 1'!CB17,\"*\")","v":7.0000000000000617E-4},{"$f":"IFERROR('Level 2'!CC17-'Level 1'!CC17,\"*\")","v":1.3999999999999985E-3},{"$f":"IFERROR('Level 2'!CD17-'Level 1'!CD17,\"*\")","v":"*"},{"$f":"IFERROR('Level 2'!CE17-'Level 1'!CE17,\"*\")","v":6.9999999999999923E-4},{"$f":"IFERROR('Level 2'!CF17-'Level 1'!CF17,\"*\")","v":"*"},{"$f":"IFERROR('Level 2'!CG17-'Level 1'!CG17,\"*\")","v":"*"},{"$f":"IFERROR('Level 2'!CH17-'Level 1'!CH17,\"*\")","v":"*"},{"$f":"IFERROR('Level 2'!CI17-'Level 1'!CI17,\"*\")","v":"*"},{"$f":"IFERROR('Level 2'!CJ17-'Level 1'!CJ17,\"*\")","v":"*"},{"$f":"IFERROR('Level 2'!CK17-'Level 1'!CK17,\"*\")","v":"*"},{"$f":"IFERROR('Level 2'!CL17-'Level 1'!CL17,\"*\")","v":"*"}]
[{"$f":"'Level 1'!A18","v":"Italy"},{"$f":"IFERROR('Level 2'!B18-'Level 1'!B18,\"*\")","v":"*"},{"$f":"IFERROR('Level 2'!C18-'Level 1'!C18,\"*\")","v":"*"},{"$f":"IFERROR('Level 2'!D18-'Level 1'!D18,\"*\")","v":"*"},{"$f":"IFERROR('Level 2'!E18-'Level 1'!E18,\"*\")","v":2.2449999999999998E-2},{"$f":"IFERROR('Level 2'!F18-'Level 1'!F18,\"*\")","v":5.1999999999999991E-2},{"$f":"IFERROR('Level 2'!G18-'Level 1'!G18,\"*\")","v":7.2249999999999981E-2},{"$f":"IFERROR('Level 2'!H18-'Level 1'!H18,\"*\")","v":8.8650000000000007E-2},{"$f":"IFERROR('Level 2'!I18-'Level 1'!I18,\"*\")","v":8.7900000000000006E-2},{"$f":"IFERROR('Level 2'!J18-'Level 1'!J18,\"*\")","v":0.10224999999999995},{"$f":"IFERROR('Level 2'!K18-'Level 1'!K18,\"*\")","v":0.10720000000000002},{"$f":"IFERROR('Level 2'!L18-'Level 1'!L18,\"*\")","v":"*"},null,{"$f":"'Level 1'!N18","v":"Italy"},{"$f":"IFERROR('Level 2'!O18-'Level 1'!O18,\"*\")","v":"*"},{"$f":"IFERROR('Level 2'!P18-'Level 1'!P18,\"*\")","v":"*"},{"$f":"IFERROR('Level 2'!Q18-'Level 1'!Q18,\"*\")","v":"*"},{"$f":"IFERROR('Level 2'!R18-'Level 1'!R18,\"*\")","v":3.6449999999999982E-2},{"$f":"IFERROR('Level 2'!S18-'Level 1'!S18,\"*\")","v":4.335E-2},{"$f":"IFERROR('Level 2'!T18-'Level 1'!T18,\"*\")","v":5.5600000000000011E-2},{"$f":"IFERROR('Level 2'!U18-'Level 1'!U18,\"*\")","v":6.5249999999999975E-2},{"$f":"IFERROR('Level 2'!V18-'Level 1'!V18,\"*\")","v":7.4450000000000016E-2},{"$f":"IFERROR('Level 2'!W18-'Level 1'!W18,\"*\")","v":7.6649999999999996E-2},{"$f":"IFERROR('Level 2'!X18-'Level 1'!X18,\"*\")","v":7.8399999999999997E-2},{"$f":"IFERROR('Level 2'!Y18-'Level 1'!Y18,\"*\")","v":"*"},null,{"$f":"'Level 1'!AA18","v":"Italy"},{"$f":"IFERROR('Level 2'!AB18-'Level 1'!AB18,\"*\")","v":"*"},{"$f":"IFERROR('Level 2'!AC18-'Level 1'!AC18,\"*\")","v":"*"},{"$f":"IFERROR('Level 2'!AD18-'Level 1'!AD18,\"*\")","v":"*"},{"$f":"IFERROR('Level 2'!AE18-'Level 1'!AE18,\"*\")","v":0.03},{"$f":"IFERROR('Level 2'!AF18-'Level 1'!AF18,\"*\")","v":4.2150000000000021E-2},{"$f":"IFERROR('Level 2'!AG18-'Level 1'!AG18,\"*\")","v":5.0100000000000006E-2},{"$f":"IFERROR('Level 2'!AH18-'Level 1'!AH18,\"*\")","v":5.7849999999999999E-2},{"$f":"IFERROR('Level 2'!AI18-'Level 1'!AI18,\"*\")","v":6.6149999999999987E-2},{"$f":"IFERROR('Level 2'!AJ18-'Level 1'!AJ18,\"*\")","v":6.7150000000000015E-2},{"$f":"IFERROR('Level 2'!AK18-'Level 1'!AK18,\"*\")","v":6.8400000000000016E-2},{"$f":"IFERROR('Level 2'!AL18-'Level 1'!AL18,\"*\")","v":"*"},null,{"$f":"'Level 1'!AN18","v":"Italy"},{"$f":"IFERROR('Level 2'!AO18-'Level 1'!AO18,\"*\")","v":"*"},{"$f":"IFERROR('Level 2'!AP18-'Level 1'!AP18,\"*\")","v":"*"},{"$f":"IFERROR('Level 2'!AQ18-'Level 1'!AQ18,\"*\")","v":"*"},{"$f":"IFERROR('Level 2'!AR18-'Level 1'!AR18,\"*\")","v":2.0849999999999994E-2},{"$f":"IFERROR('Level 2'!AS18-'Level 1'!AS18,\"*\")","v":3.2150000000000012E-2},{"$f":"IFERROR('Level 2'!AT18-'Level 1'!AT18,\"*\")","v":4.9399999999999999E-2},{"$f":"IFERROR('Level 2'!AU18-'Level 1'!AU18,\"*\")","v":5.3449999999999984E-2},{"$f":"IFERROR('Level 2'!AV18-'Level 1'!AV18,\"*\")","v":5.9549999999999992E-2},{"$f":"IFERROR('Level 2'!AW18-'Level 1'!AW18,\"*\")","v":6.2950000000000006E-2},{"$f":"IFERROR('Level 2'!AX18-'Level 1'!AX18,\"*\")","v":6.3200000000000006E-2},{"$f":"IFERROR('Level 2'!AY18-'Level 1'!AY18,\"*\")","v":"*"},null,{"$f":"'Level 1'!BA18","v":"Italy"},{"$f":"IFERROR('Level 2'!BB18-'Level 1'!BB18,\"*\")","v":"*"},{"$f":"IFERROR('Level 2'!BC18-'Level 1'!BC18,\"*\")","v":"*"},{"$f":"IFERROR('Level 2'!BD18-'Level 1'!BD18,\"*\")","v":"*"},{"$f":"IFERROR('Level 2'!BE18-'Level 1'!BE18,\"*\")","v":1.4850000000000002E-2},{"$f":"IFERROR('Level 2'!BF18-'Level 1'!BF18,\"*\")","v":2.675000000000001E-2},{"$f":"IFERROR('Level 2'!BG18-'Level 1'!BG18,\"*\")","v":3.5849999999999993E-2},{"$f":"IFERROR('Level 2'!BH18-'Level 1'!BH18,\"*\")","v":4.3149999999999994E-2},{"$f":"IFERROR('Level 2'!BI18-'Level 1'!BI18,\"*\")","v":4.8899999999999985E-2},{"$f":"IFERROR('Level 2'!BJ18-'Level 1'!BJ18,\"*\")","v":4.9999999999999989E-2},{"$f":"IFERROR('Level 2'!BK18-'Level 1'!BK18,\"*\")","v":5.33E-2},{"$f":"IFERROR('Level 2'!BL18-'Level 1'!BL18,\"*\")","v":"*"},null,{"$f":"'Level 1'!BN18","v":"Italy"},{"$f":"IFERROR('Level 2'!BO18-'Level 1'!BO18,\"*\")","v":"*"},{"$f":"IFERROR('Level 2'!BP18-'Level 1'!BP18,\"*\")","v":"*"},{"$f":"IFERROR('Level 2'!BQ18-'Level 1'!BQ18,\"*\")","v":"*"},{"$f":"IFERROR('Level 2'!BR18-'Level 1'!BR18,\"*\")","v":7.3500000000000093E-3},{"$f":"IFERROR('Level 2'!BS18-'Level 1'!BS18,\"*\")","v":1.9050000000000011E-2},{"$f":"IFERROR('Level 2'!BT18-'Level 1'!BT18,\"*\")","v":2.7850000000000014E-2},{"$f":"IFERROR('Level 2'!BU18-'Level 1'!BU18,\"*\")","v":3.2700000000000007E-2},{"$f":"IFERROR('Level 2'!BV18-'Level 1'!BV18,\"*\")","v":3.6350000000000007E-2},{"$f":"IFERROR('Level 2'!BW18-'Level 1'!BW18,\"*\")","v":3.8449999999999998E-2},{"$f":"IFERROR('Level 2'!BX18-'Level 1'!BX18,\"*\")","v":3.4399999999999993E-2},{"$f":"IFERROR('Level 2'!BY18-'Level 1'!BY18,\"*\")","v":"*"},null,{"$f":"'Level 1'!CA18","v":"Italy"},{"$f":"IFERROR('Level 2'!CB18-'Level 1'!CB18,\"*\")","v":"*"},{"$f":"IFERROR('Level 2'!CC18-'Level 1'!CC18,\"*\")","v":"*"},{"$f":"IFERROR('Level 2'!CD18-'Level 1'!CD18,\"*\")","v":"*"},{"$f":"IFERROR('Level 2'!CE18-'Level 1'!CE18,\"*\")","v":3.15E-3},{"$f":"IFERROR('Level 2'!CF18-'Level 1'!CF18,\"*\")","v":8.4999999999999937E-3},{"$f":"IFERROR('Level 2'!CG18-'Level 1'!CG18,\"*\")","v":9.6500000000000058E-3},{"$f":"IFERROR('Level 2'!CH18-'Level 1'!CH18,\"*\")","v":1.6800000000000009E-2},{"$f":"IFERROR('Level 2'!CI18-'Level 1'!CI18,\"*\")","v":1.915E-2},{"$f":"IFERROR('Level 2'!CJ18-'Level 1'!CJ18,\"*\")","v":2.020000000000001E-2},{"$f":"IFERROR('Level 2'!CK18-'Level 1'!CK18,\"*\")","v":1.9400000000000001E-2},{"$f":"IFERROR('Level 2'!CL18-'Level 1'!CL18,\"*\")","v":"*"}]
[{"$f":"'Level 1'!A19","v":"Cyprus"},{"$f":"IFERROR('Level 2'!B19-'Level 1'!B19,\"*\")","v":2.2000000000000075E-3},{"$f":"IFERROR('Level 2'!C19-'Level 1'!C19,\"*\")","v":2.2000000000000075E-3},{"$f":"IFERROR('Level 2'!D19-'Level 1'!D19,\"*\")","v":2.2000000000000353E-3},{"$f":"IFERROR('Level 2'!E19-'Level 1'!E19,\"*\")","v":4.699999999999982E-3},{"$f":"IFERROR('Level 2'!F19-'Level 1'!F19,\"*\")","v":6.8999999999999895E-3},{"$f":"IFERROR('Level 2'!G19-'Level 1'!G19,\"*\")","v":7.4000000000000177E-3},{"$f":"IFERROR('Level 2'!H19-'Level 1'!H19,\"*\")","v":7.8499999999999681E-3},{"$f":"IFERROR('Level 2'!I19-'Level 1'!I19,\"*\")","v":7.4000000000000177E-3},{"$f":"IFERROR('Level 2'!J19-'Level 1'!J19,\"*\")","v":8.550000000000002E-3},{"$f":"IFERROR('Level 2'!K19-'Level 1'!K19,\"*\")","v":9.6999999999999864E-3},{"$f":"IFERROR('Level 2'!L19-'Level 1'!L19,\"*\")","v":"*"},null,{"$f":"'Level 1'!N19","v":"Cyprus"},{"$f":"IFERROR('Level 2'!O19-'Level 1'!O19,\"*\")","v":2.0000000000000018E-3},{"$f":"IFERROR('Level 2'!P19-'Level 1'!P19,\"*\")","v":2.2000000000000075E-3},{"$f":"IFERROR('Level 2'!Q19-'Level 1'!Q19,\"*\")","v":2.1999999999999797E-3},{"$f":"IFERROR('Level 2'!R19-'Level 1'!R19,\"*\")","v":4.7000000000000097E-3},{"$f":"IFERROR('Level 2'!S19-'Level 1'!S19,\"*\")","v":6.8999999999999895E-3},{"$f":"IFERROR('Level 2'!T19-'Level 1'!T19,\"*\")","v":7.4499999999999844E-3},{"$f":"IFERROR('Level 2'!U19-'Level 1'!U19,\"*\")","v":7.8000000000000014E-3},{"$f":"IFERROR('Level 2'!V19-'Level 1'!V19,\"*\")","v":7.4500000000000122E-3},{"$f":"IFERROR('Level 2'!W19-'Level 1'!W19,\"*\")","v":8.550000000000002E-3},{"$f":"IFERROR('Level 2'!X19-'Level 1'!X19,\"*\")","v":9.4999999999999946E-3},{"$f":"IFERROR('Level 2'!Y19-'Level 1'!Y19,\"*\")","v":"*"},null,{"$f":"'Level 1'!AA19","v":"Cyprus"},{"$f":"IFERROR('Level 2'!AB19-'Level 1'!AB19,\"*\")","v":2.2000000000000075E-3},{"$f":"IFERROR('Level 2'!AC19-'Level 1'!AC19,\"*\")","v":2.2000000000000075E-3},{"$f":"IFERROR('Level 2'!AD19-'Level 1'!AD19,\"*\")","v":2.2000000000000075E-3},{"$f":"IFERROR('Level 2'!AE19-'Level 1'!AE19,\"*\")","v":4.750000000000032E-3},{"$f":"IFERROR('Level 2'!AF19-'Level 1'!AF19,\"*\")","v":6.8499999999999672E-3},{"$f":"IFERROR('Level 2'!AG19-'Level 1'!AG19,\"*\")","v":7.3999999999999622E-3},{"$f":"IFERROR('Level 2'!AH19-'Level 1'!AH19,\"*\")","v":7.8000000000000291E-3},{"$f":"IFERROR('Level 2'!AI19-'Level 1'!AI19,\"*\")","v":7.3999999999999899E-3},{"$f":"IFERROR('Level 2'!AJ19-'Level 1'!AJ19,\"*\")","v":8.5000000000000075E-3},{"$f":"IFERROR('Level 2'!AK19-'Level 1'!AK19,\"*\")","v":9.4000000000000056E-3},{"$f":"IFERROR('Level 2'!AL19-'Level 1'!AL19,\"*\")","v":"*"},null,{"$f":"'Level 1'!AN19","v":"Cyprus"},{"$f":"IFERROR('Level 2'!AO19-'Level 1'!AO19,\"*\")","v":2.2999999999999965E-3},{"$f":"IFERROR('Level 2'!AP19-'Level 1'!AP19,\"*\")","v":2.2000000000000075E-3},{"$f":"IFERROR('Level 2'!AQ19-'Level 1'!AQ19,\"*\")","v":2.1999999999999936E-3},{"$f":"IFERROR('Level 2'!AR19-'Level 1'!AR19,\"*\")","v":4.750000000000032E-3},{"$f":"IFERROR('Level 2'!AS19-'Level 1'!AS19,\"*\")","v":6.9500000000000117E-3},{"$f":"IFERROR('Level 2'!AT19-'Level 1'!AT19,\"*\")","v":7.5000000000000067E-3},{"$f":"IFERROR('Level 2'!AU19-'Level 1'!AU19,\"*\")","v":7.8500000000000236E-3},{"$f":"IFERROR('Level 2'!AV19-'Level 1'!AV19,\"*\")","v":7.5000000000000067E-3},{"$f":"IFERROR('Level 2'!AW19-'Level 1'!AW19,\"*\")","v":8.550000000000002E-3},{"$f":"IFERROR('Level 2'!AX19-'Level 1'!AX19,\"*\")","v":9.4000000000000056E-3},{"$f":"IFERROR('Level 2'!AY19-'Level 1'!AY19,\"*\")","v":"*"},null,{"$f":"'Level 1'!BA19","v":"Cyprus"},{"$f":"IFERROR('Level 2'!BB19-'Level 1'!BB19,\"*\")","v":2.2000000000000075E-3},{"$f":"IFERROR('Level 2'!BC19-'Level 1'!BC19,\"*\")","v":2.2000000000000075E-3},{"$f":"IFERROR('Level 2'!BD19-'Level 1'!BD19,\"*\")","v":2.2000000000000075E-3},{"$f":"IFERROR('Level 2'!BE19-'Level 1'!BE19,\"*\")","v":4.750000000000032E-3},{"$f":"IFERROR('Level 2'!BF19-'Level 1'!BF19,\"*\")","v":6.949999999999984E-3},{"$f":"IFERROR('Level 2'!BG19-'Level 1'!BG19,\"*\")","v":7.4999999999999789E-3},{"$f":"IFERROR('Level 2'!BH19-'Level 1'!BH19,\"*\")","v":8.1000000000000238E-3},{"$f":"IFERROR('Level 2'!BI19-'Level 1'!BI19,\"*\")","v":7.4500000000000122E-3},{"$f":"IFERROR('Level 2'!BJ19-'Level 1'!BJ19,\"*\")","v":8.5000000000000075E-3},{"$f":"IFERROR('Level 2'!BK19-'Level 1'!BK19,\"*\")","v":9.3999999999999917E-3},{"$f":"IFERROR('Level 2'!BL19-'Level 1'!BL19,\"*\")","v":"*"},null,{"$f":"'Level 1'!BN19","v":"Cyprus"},{"$f":"IFERROR('Level 2'!BO19-'Level 1'!BO19,\"*\")","v":2.1999999999999936E-3},{"$f":"IFERROR('Level 2'!BP19-'Level 1'!BP19,\"*\")","v":2.2000000000000075E-3},{"$f":"IFERROR('Level 2'!BQ19-'Level 1'!BQ19,\"*\")","v":2.1999999999999936E-3},{"$f":"IFERROR('Level 2'!BR19-'Level 1'!BR19,\"*\")","v":4.8000000000000265E-3},{"$f":"IFERROR('Level 2'!BS19-'Level 1'!BS19,\"*\")","v":6.9500000000000117E-3},{"$f":"IFERROR('Level 2'!BT19-'Level 1'!BT19,\"*\")","v":7.5000000000000067E-3},{"$f":"IFERROR('Level 2'!BU19-'Level 1'!BU19,\"*\")","v":7.9000000000000181E-3},{"$f":"IFERROR('Level 2'!BV19-'Level 1'!BV19,\"*\")","v":7.5000000000000067E-3},{"$f":"IFERROR('Level 2'!BW19-'Level 1'!BW19,\"*\")","v":8.550000000000002E-3},{"$f":"IFERROR('Level 2'!BX19-'Level 1'!BX19,\"*\")","v":9.5000000000000084E-3},{"$f":"IFERROR('Level 2'!BY19-'Level 1'!BY19,\"*\")","v":"*"},null,{"$f":"'Level 1'!CA19","v":"Cyprus"},{"$f":"IFERROR('Level 2'!CB19-'Level 1'!CB19,\"*\")","v":"*"},{"$f":"IFERROR('Level 2'!CC19-'Level 1'!CC19,\"*\")","v":"*"},{"$f":"IFERROR('Level 2'!CD19-'Level 1'!CD19,\"*\")","v":"*"},{"$f":"IFERROR('Level 2'!CE19-'Level 1'!CE19,\"*\")","v":"*"},{"$f":"IFERROR('Level 2'!CF19-'Level 1'!CF19,\"*\")","v":"*"},{"$f":"IFERROR('Level 2'!CG19-'Level 1'!CG19,\"*\")","v":"*"},{"$f":"IFERROR('Level 2'!CH19-'Level 1'!CH19,\"*\")","v":"*"},{"$f":"IFERROR('Level 2'!CI19-'Level 1'!CI19,\"*\")","v":"*"},{"$f":"IFERROR('Level 2'!CJ19-'Level 1'!CJ19,\"*\")","v":"*"},{"$f":"IFERROR('Level 2'!CK19-'Level 1'!CK19,\"*\")","v":"*"},{"$f":"IFERROR('Level 2'!CL19-'Level 1'!CL19,\"*\")","v":"*"}]
[{"$f":"'Level 1'!A20","v":"Latvia"},{"$f":"IFERROR('Level 2'!B20-'Level 1'!B20,\"*\")","v":0},{"$f":"IFERROR('Level 2'!C20-'Level 1'!C20,\"*\")","v":0},{"$f":"IFERROR('Level 2'!D20-'Level 1'!D20,\"*\")","v":0},{"$f":"IFERROR('Level 2'!E20-'Level 1'!E20,\"*\")","v":0},{"$f":"IFERROR('Level 2'!F20-'Level 1'!F20,\"*\")","v":0},{"$f":"IFERROR('Level 2'!G20-'Level 1'!G20,\"*\")","v":8.8500000000000245E-3},{"$f":"IFERROR('Level 2'!H20-'Level 1'!H20,\"*\")","v":2.2199999999999998E-2},{"$f":"IFERROR('Level 2'!I20-'Level 1'!I20,\"*\")","v":2.6800000000000018E-2},{"$f":"IFERROR('Level 2'!J20-'Level 1'!J20,\"*\")","v":2.6749999999999996E-2},{"$f":"IFERROR('Level 2'!K20-'Level 1'!K20,\"*\")","v":2.679999999999999E-2},{"$f":"IFERROR('Level 2'!L20-'Level 1'!L20,\"*\")","v":"*"},null,{"$f":"'Level 1'!N20","v":"Latvia"},{"$f":"IFERROR('Level 2'!O20-'Level 1'!O20,\"*\")","v":0},{"$f":"IFERROR('Level 2'!P20-'Level 1'!P20,\"*\")","v":0},{"$f":"IFERROR('Level 2'!Q20-'Level 1'!Q20,\"*\")","v":0},{"$f":"IFERROR('Level 2'!R20-'Level 1'!R20,\"*\")","v":0},{"$f":"IFERROR('Level 2'!S20-'Level 1'!S20,\"*\")","v":0},{"$f":"IFERROR('Level 2'!T20-'Level 1'!T20,\"*\")","v":8.8000000000000023E-3},{"$f":"IFERROR('Level 2'!U20-'Level 1'!U20,\"*\")","v":2.2199999999999998E-2},{"$f":"IFERROR('Level 2'!V20-'Level 1'!V20,\"*\")","v":2.679999999999999E-2},{"$f":"IFERROR('Level 2'!W20-'Level 1'!W20,\"*\")","v":2.679999999999999E-2},{"$f":"IFERROR('Level 2'!X20-'Level 1'!X20,\"*\")","v":2.6800000000000004E-2},{"$f":"IFERROR('Level 2'!Y20-'Level 1'!Y20,\"*\")","v":"*"},null,{"$f":"'Level 1'!AA20","v":"Latvia"},{"$f":"IFERROR('Level 2'!AB20-'Level 1'!AB20,\"*\")","v":0},{"$f":"IFERROR('Level 2'!AC20-'Level 1'!AC20,\"*\")","v":0},{"$f":"IFERROR('Level 2'!AD20-'Level 1'!AD20,\"*\")","v":0},{"$f":"IFERROR('Level 2'!AE20-'Level 1'!AE20,\"*\")","v":0},{"$f":"IFERROR('Level 2'!AF20-'Level 1'!AF20,\"*\")","v":0},{"$f":"IFERROR('Level 2'!AG20-'Level 1'!AG20,\"*\")","v":8.8000000000000023E-3},{"$f":"IFERROR('Level 2'!AH20-'Level 1'!AH20,\"*\")","v":2.2199999999999998E-2},{"$f":"IFERROR('Level 2'!AI20-'Level 1'!AI20,\"*\")","v":2.679999999999999E-2},{"$f":"IFERROR('Level 2'!AJ20-'Level 1'!AJ20,\"*\")","v":2.6800000000000004E-2},{"$f":"IFERROR('Level 2'!AK20-'Level 1'!AK20,\"*\")","v":2.6800000000000004E-2},{"$f":"IFERROR('Level 2'!AL20-'Level 1'!AL20,\"*\")","v":"*"},null,{"$f":"'Level 1'!AN20","v":"Latvia"},{"$f":"IFERROR('Level 2'!AO20-'Level 1'!AO20,\"*\")","v":0},{"$f":"IFERROR('Level 2'!AP20-'Level 1'!AP20,\"*\")","v":0},{"$f":"IFERROR('Level 2'!AQ20-'Level 1'!AQ20,\"*\")","v":0},{"$f":"IFERROR('Level 2'!AR20-'Level 1'!AR20,\"*\")","v":0},{"$f":"IFERROR('Level 2'!AS20-'Level 1'!AS20,\"*\")","v":0},{"$f":"IFERROR('Level 2'!AT20-'Level 1'!AT20,\"*\")","v":8.8499999999999968E-3},{"$f":"IFERROR('Level 2'!AU20-'Level 1'!AU20,\"*\")","v":2.2250000000000006E-2},{"$f":"IFERROR('Level 2'!AV20-'Level 1'!AV20,\"*\")","v":2.679999999999999E-2},{"$f":"IFERROR('Level 2'!AW20-'Level 1'!AW20,\"*\")","v":2.679999999999999E-2},{"$f":"IFERROR('Level 2'!AX20-'Level 1'!AX20,\"*\")","v":2.679999999999999E-2},{"$f":"IFERROR('Level 2'!AY20-'Level 1'!AY20,\"*\")","v":"*"},null,{"$f":"'Level 1'!BA20","v":"Latvia"},{"$f":"IFERROR('Level 2'!BB20-'Level 1'!BB20,\"*\")","v":0},{"$f":"IFERROR('Level 2'!BC20-'Level 1'!BC20,\"*\")","v":0},{"$f":"IFERROR('Level 2'!BD20-'Level 1'!BD20,\"*\")","v":0},{"$f":"IFERROR('Level 2'!BE20-'Level 1'!BE20,\"*\")","v":0},{"$f":"IFERROR('Level 2'!BF20-'Level 1'!BF20,\"*\")","v":0},{"$f":"IFERROR('Level 2'!BG20-'Level 1'!BG20,\"*\")","v":8.8499999999999968E-3},{"$f":"IFERROR('Level 2'!BH20-'Level 1'!BH20,\"*\")","v":2.2199999999999998E-2},{"$f":"IFERROR('Level 2'!BI20-'Level 1'!BI20,\"*\")","v":2.6800000000000004E-2},{"$f":"IFERROR('Level 2'!BJ20-'Level 1'!BJ20,\"*\")","v":2.6800000000000018E-2},{"$f":"IFERROR('Level 2'!BK20-'Level 1'!BK20,\"*\")","v":2.679999999999999E-2},{"$f":"IFERROR('Level 2'!BL20-'Level 1'!BL20,\"*\")","v":"*"},null,{"$f":"'Level 1'!BN20","v":"Latvia"},{"$f":"IFERROR('Level 2'!BO20-'Level 1'!BO20,\"*\")","v":0},{"$f":"IFERROR('Level 2'!BP20-'Level 1'!BP20,\"*\")","v":0},{"$f":"IFERROR('Level 2'!BQ20-'Level 1'!BQ20,\"*\")","v":0},{"$f":"IFERROR('Level 2'!BR20-'Level 1'!BR20,\"*\")","v":0},{"$f":"IFERROR('Level 2'!BS20-'Level 1'!BS20,\"*\")","v":0},{"$f":"IFERROR('Level 2'!BT20-'Level 1'!BT20,\"*\")","v":8.8500000000000106E-3},{"$f":"IFERROR('Level 2'!BU20-'Level 1'!BU20,\"*\")","v":2.2199999999999998E-2},{"$f":"IFERROR('Level 2'!BV20-'Level 1'!BV20,\"*\")","v":2.679999999999999E-2},{"$f":"IFERROR('Level 2'!BW20-'Level 1'!BW20,\"*\")","v":2.6800000000000004E-2},{"$f":"IFERROR('Level 2'!BX20-'Level 1'!BX20,\"*\")","v":2.6800000000000004E-2},{"$f":"IFERROR('Level 2'!BY20-'Level 1'!BY20,\"*\")","v":"*"},null,{"$f":"'Level 1'!CA20","v":"Latvia"},{"$f":"IFERROR('Level 2'!CB20-'Level 1'!CB20,\"*\")","v":"*"},{"$f":"IFERROR('Level 2'!CC20-'Level 1'!CC20,\"*\")","v":"*"},{"$f":"IFERROR('Level 2'!CD20-'Level 1'!CD20,\"*\")","v":"*"},{"$f":"IFERROR('Level 2'!CE20-'Level 1'!CE20,\"*\")","v":"*"},{"$f":"IFERROR('Level 2'!CF20-'Level 1'!CF20,\"*\")","v":"*"},{"$f":"IFERROR('Level 2'!CG20-'Level 1'!CG20,\"*\")","v":"*"},{"$f":"IFERROR('Level 2'!CH20-'Level 1'!CH20,\"*\")","v":"*"},{"$f":"IFERROR('Level 2'!CI20-'Level 1'!CI20,\"*\")","v":"*"},{"$f":"IFERROR('Level 2'!CJ20-'Level 1'!CJ20,\"*\")","v":"*"},{"$f":"IFERROR('Level 2'!CK20-'Level 1'!CK20,\"*\")","v":"*"},{"$f":"IFERROR('Level 2'!CL20-'Level 1'!CL20,\"*\")","v":"*"}]
[{"$f":"'Level 1'!A21","v":"Lithuania"},{"$f":"IFERROR('Level 2'!B21-'Level 1'!B21,\"*\")","v":0},{"$f":"IFERROR('Level 2'!C21-'Level 1'!C21,\"*\")","v":0},{"$f":"IFERROR('Level 2'!D21-'Level 1'!D21,\"*\")","v":0},{"$f":"IFERROR('Level 2'!E21-'Level 1'!E21,\"*\")","v":3.4000000000000002E-3},{"$f":"IFERROR('Level 2'!F21-'Level 1'!F21,\"*\")","v":3.999999999999837E-4},{"$f":"IFERROR('Level 2'!G21-'Level 1'!G21,\"*\")","v":4.0000000000001146E-4},{"$f":"IFERROR('Level 2'!H21-'Level 1'!H21,\"*\")","v":2.7550000000000019E-2},{"$f":"IFERROR('Level 2'!I21-'Level 1'!I21,\"*\")","v":2.1100000000000008E-2},{"$f":"IFERROR('Level 2'!J21-'Level 1'!J21,\"*\")","v":1.684999999999999E-2},{"$f":"IFERROR('Level 2'!K21-'Level 1'!K21,\"*\")","v":1.6299999999999995E-2},{"$f":"IFERROR('Level 2'!L21-'Level 1'!L21,\"*\")","v":"*"},null,{"$f":"'Level 1'!N21","v":"Lithuania"},{"$f":"IFERROR('Level 2'!O21-'Level 1'!O21,\"*\")","v":0},{"$f":"IFERROR('Level 2'!P21-'Level 1'!P21,\"*\")","v":0},{"$f":"IFERROR('Level 2'!Q21-'Level 1'!Q21,\"*\")","v":0},{"$f":"IFERROR('Level 2'!R21-'Level 1'!R21,\"*\")","v":2.4999999999999883E-3},{"$f":"IFERROR('Level 2'!S21-'Level 1'!S21,\"*\")","v":3.9999999999999758E-4},{"$f":"IFERROR('Level 2'!T21-'Level 1'!T21,\"*\")","v":4.0000000000001146E-4},{"$f":"IFERROR('Level 2'!U21-'Level 1'!U21,\"*\")","v":2.745000000000003E-2},{"$f":"IFERROR('Level 2'!V21-'Level 1'!V21,\"*\")","v":2.095000000000001E-2},{"$f":"IFERROR('Level 2'!W21-'Level 1'!W21,\"*\")","v":1.705000000000001E-2},{"$f":"IFERROR('Level 2'!X21-'Level 1'!X21,\"*\")","v":1.6200000000000006E-2},{"$f":"IFERROR('Level 2'!Y21-'Level 1'!Y21,\"*\")","v":"*"},null,{"$f":"'Level 1'!AA21","v":"Lithuania"},{"$f":"IFERROR('Level 2'!AB21-'Level 1'!AB21,\"*\")","v":0},{"$f":"IFERROR('Level 2'!AC21-'Level 1'!AC21,\"*\")","v":0},{"$f":"IFERROR('Level 2'!AD21-'Level 1'!AD21,\"*\")","v":0},{"$f":"IFERROR('Level 2'!AE21-'Level 1'!AE21,\"*\")","v":2.7500000000000024E-3},{"$f":"IFERROR('Level 2'!AF21-'Level 1'!AF21,\"*\")","v":3.9999999999999758E-4},{"$f":"IFERROR('Level 2'!AG21-'Level 1'!AG21,\"*\")","v":3.9999999999999758E-4},{"$f":"IFERROR('Level 2'!AH21-'Level 1'!AH21,\"*\")","v":2.7450000000000002E-2},{"$f":"IFERROR('Level 2'!AI21-'Level 1'!AI21,\"*\")","v":2.0999999999999991E-2},{"$f":"IFERROR('Level 2'!AJ21-'Level 1'!AJ21,\"*\")","v":1.7000000000000001E-2},{"$f":"IFERROR('Level 2'!AK21-'Level 1'!AK21,\"*\")","v":1.6299999999999995E-2},{"$f":"IFERROR('Level 2'!AL21-'Level 1'!AL21,\"*\")","v":"*"},null,{"$f":"'Level 1'!AN21","v":"Lithuania"},{"$f":"IFERROR('Level 2'!AO21-'Level 1'!AO21,\"*\")","v":0},{"$f":"IFERROR('Level 2'!AP21-'Level 1'!AP21,\"*\")","v":0},{"$f":"IFERROR('Level 2'!AQ21-'Level 1'!AQ21,\"*\")","v":0},{"$f":"IFERROR('Level 2'!AR21-'Level 1'!AR21,\"*\")","v":3.3499999999999919E-3},{"$f":"IFERROR('Level 2'!AS21-'Level 1'!AS21,\"*\")","v":3.4999999999998921E-4},{"$f":"IFERROR('Level 2'!AT21-'Level 1'!AT21,\"*\")","v":2.9999999999999472E-4},{"$f":"IFERROR('Level 2'!AU21-'Level 1'!AU21,\"*\")","v":2.7450000000000002E-2},{"$f":"IFERROR('Level 2'!AV21-'Level 1'!AV21,\"*\")","v":2.0650000000000002E-2},{"$f":"IFERROR('Level 2'!AW21-'Level 1'!AW21,\"*\")","v":1.6800000000000009E-2},{"$f":"IFERROR('Level 2'!AX21-'Level 1'!AX21,\"*\")","v":1.6099999999999989E-2},{"$f":"IFERROR('Level 2'!AY21-'Level 1'!AY21,\"*\")","v":"*"},null,{"$f":"'Level 1'!BA21","v":"Lithuania"},{"$f":"IFERROR('Level 2'!BB21-'Level 1'!BB21,\"*\")","v":0},{"$f":"IFERROR('Level 2'!BC21-'Level 1'!BC21,\"*\")","v":0},{"$f":"IFERROR('Level 2'!BD21-'Level 1'!BD21,\"*\")","v":0},{"$f":"IFERROR('Level 2'!BE21-'Level 1'!BE21,\"*\")","v":3.2500000000000029E-3},{"$f":"IFERROR('Level 2'!BF21-'Level 1'!BF21,\"*\")","v":6.0000000000000331E-4},{"$f":"IFERROR('Level 2'!BG21-'Level 1'!BG21,\"*\")","v":5.0000000000000044E-4},{"$f":"IFERROR('Level 2'!BH21-'Level 1'!BH21,\"*\")","v":2.7700000000000002E-2},{"$f":"IFERROR('Level 2'!BI21-'Level 1'!BI21,\"*\")","v":2.1200000000000011E-2},{"$f":"IFERROR('Level 2'!BJ21-'Level 1'!BJ21,\"*\")","v":1.6799999999999995E-2},{"$f":"IFERROR('Level 2'!BK21-'Level 1'!BK21,\"*\")","v":1.6099999999999996E-2},{"$f":"IFERROR('Level 2'!BL21-'Level 1'!BL21,\"*\")","v":"*"},null,{"$f":"'Level 1'!BN21","v":"Lithuania"},{"$f":"IFERROR('Level 2'!BO21-'Level 1'!BO21,\"*\")","v":0},{"$f":"IFERROR('Level 2'!BP21-'Level 1'!BP21,\"*\")","v":0},{"$f":"IFERROR('Level 2'!BQ21-'Level 1'!BQ21,\"*\")","v":"*"},{"$f":"IFERROR('Level 2'!BR21-'Level 1'!BR21,\"*\")","v":"*"},{"$f":"IFERROR('Level 2'!BS21-'Level 1'!BS21,\"*\")","v":"*"},{"$f":"IFERROR('Level 2'!BT21-'Level 1'!BT21,\"*\")","v":"*"},{"$f":"IFERROR('Level 2'!BU21-'Level 1'!BU21,\"*\")","v":"*"},{"$f":"IFERROR('Level 2'!BV21-'Level 1'!BV21,\"*\")","v":"*"},{"$f":"IFERROR('Level 2'!BW21-'Level 1'!BW21,\"*\")","v":1.6650000000000012E-2},{"$f":"IFERROR('Level 2'!BX21-'Level 1'!BX21,\"*\")","v":1.6199999999999999E-2},{"$f":"IFERROR('Level 2'!BY21-'Level 1'!BY21,\"*\")","v":"*"},null,{"$f":"'Level 1'!CA21","v":"Lithuania"},{"$f":"IFERROR('Level 2'!CB21-'Level 1'!CB21,\"*\")","v":"*"},{"$f":"IFERROR('Level 2'!CC21-'Level 1'!CC21,\"*\")","v":"*"},{"$f":"IFERROR('Level 2'!CD21-'Level 1'!CD21,\"*\")","v":"*"},{"$f":"IFERROR('Level 2'!CE21-'Level 1'!CE21,\"*\")","v":"*"},{"$f":"IFERROR('Level 2'!CF21-'Level 1'!CF21,\"*\")","v":"*"},{"$f":"IFERROR('Level 2'!CG21-'Level 1'!CG21,\"*\")","v":"*"},{"$f":"IFERROR('Level 2'!CH21-'Level 1'!CH21,\"*\")","v":"*"},{"$f":"IFERROR('Level 2'!CI21-'Level 1'!CI21,\"*\")","v":"*"},{"$f":"IFERROR('Level 2'!CJ21-'Level 1'!CJ21,\"*\")","v":"*"},{"$f":"IFERROR('Level 2'!CK21-'Level 1'!CK21,\"*\")","v":"*"},{"$f":"IFERROR('Level 2'!CL21-'Level 1'!CL21,\"*\")","v":"*"}]
[{"$f":"'Level 1'!A22","v":"Luxembourg"},{"$f":"IFERROR('Level 2'!B22-'Level 1'!B22,\"*\")","v":7.6499999999999901E-3},{"$f":"IFERROR('Level 2'!C22-'Level 1'!C22,\"*\")","v":1.1999999999999983E-2},{"$f":"IFERROR('Level 2'!D22-'Level 1'!D22,\"*\")","v":1.7399999999999999E-2},{"$f":"IFERROR('Level 2'!E22-'Level 1'!E22,\"*\")","v":1.865E-2},{"$f":"IFERROR('Level 2'!F22-'Level 1'!F22,\"*\")","v":1.3200000000000017E-2},{"$f":"IFERROR('Level 2'!G22-'Level 1'!G22,\"*\")","v":1.319999999999999E-2},{"$f":"IFERROR('Level 2'!H22-'Level 1'!H22,\"*\")","v":1.2449999999999989E-2},{"$f":"IFERROR('Level 2'!I22-'Level 1'!I22,\"*\")","v":2.0049999999999985E-2},{"$f":"IFERROR('Level 2'!J22-'Level 1'!J22,\"*\")","v":3.0499999999999999E-2},{"$f":"IFERROR('Level 2'!K22-'Level 1'!K22,\"*\")","v":2.8400000000000009E-2},{"$f":"IFERROR('Level 2'!L22-'Level 1'!L22,\"*\")","v":"*"},null,{"$f":"'Level 1'!N22","v":"Luxembourg"},{"$f":"IFERROR('Level 2'!O22-'Level 1'!O22,\"*\")","v":3.7999999999999978E-3},{"$f":"IFERROR('Level 2'!P22-'Level 1'!P22,\"*\")","v":4.5499999999999985E-3},{"$f":"IFERROR('Level 2'!Q22-'Level 1'!Q22,\"*\")","v":4.8499999999999932E-3},{"$f":"IFERROR('Level 2'!R22-'Level 1'!R22,\"*\")","v":6.3499999999999945E-3},{"$f":"IFERROR('Level 2'!S22-'Level 1'!S22,\"*\")","v":4.2999999999999983E-3},{"$f":"IFERROR('Level 2'!T22-'Level 1'!T22,\"*\")","v":4.2999999999999983E-3},{"$f":"IFERROR('Level 2'!U22-'Level 1'!U22,\"*\")","v":4.2999999999999983E-3},{"$f":"IFERROR('Level 2'!V22-'Level 1'!V22,\"*\")","v":5.9000000000000025E-3},{"$f":"IFERROR('Level 2'!W22-'Level 1'!W22,\"*\")","v":8.6000000000000104E-3},{"$f":"IFERROR('Level 2'!X22-'Level 1'!X22,\"*\")","v":8.5999999999999965E-3},{"$f":"IFERROR('Level 2'!Y22-'Level 1'!Y22,\"*\")","v":"*"},null,{"$f":"'Level 1'!AA22","v":"Luxembourg"},{"$f":"IFERROR('Level 2'!AB22-'Level 1'!AB22,\"*\")","v":4.0500000000000119E-3},{"$f":"IFERROR('Level 2'!AC22-'Level 1'!AC22,\"*\")","v":5.0499999999999989E-3},{"$f":"IFERROR('Level 2'!AD22-'Level 1'!AD22,\"*\")","v":5.0499999999999989E-3},{"$f":"IFERROR('Level 2'!AE22-'Level 1'!AE22,\"*\")","v":6.4000000000000029E-3},{"$f":"IFERROR('Level 2'!AF22-'Level 1'!AF22,\"*\")","v":4.3000000000000121E-3},{"$f":"IFERROR('Level 2'!AG22-'Level 1'!AG22,\"*\")","v":4.2999999999999983E-3},{"$f":"IFERROR('Level 2'!AH22-'Level 1'!AH22,\"*\")","v":4.2999999999999983E-3},{"$f":"IFERROR('Level 2'!AI22-'Level 1'!AI22,\"*\")","v":5.850000000000008E-3},{"$f":"IFERROR('Level 2'!AJ22-'Level 1'!AJ22,\"*\")","v":8.7499999999999939E-3},{"$f":"IFERROR('Level 2'!AK22-'Level 1'!AK22,\"*\")","v":8.9000000000000051E-3},{"$f":"IFERROR('Level 2'!AL22-'Level 1'!AL22,\"*\")","v":"*"},null,{"$f":"'Level 1'!AN22","v":"Luxembourg"},{"$f":"IFERROR('Level 2'!AO22-'Level 1'!AO22,\"*\")","v":"*"},{"$f":"IFERROR('Level 2'!AP22-'Level 1'!AP22,\"*\")","v":"*"},{"$f":"IFERROR('Level 2'!AQ22-'Level 1'!AQ22,\"*\")","v":2.5999999999999912E-3},{"$f":"IFERROR('Level 2'!AR22-'Level 1'!AR22,\"*\")","v":2.3500000000000187E-3},{"$f":"IFERROR('Level 2'!AS22-'Level 1'!AS22,\"*\")","v":2.0999999999999908E-3},{"$f":"IFERROR('Level 2'!AT22-'Level 1'!AT22,\"*\")","v":2.0000000000000018E-3},{"$f":"IFERROR('Level 2'!AU22-'Level 1'!AU22,\"*\")","v":2.1999999999999936E-3},{"$f":"IFERROR('Level 2'!AV22-'Level 1'!AV22,\"*\")","v":1.8500000000000044E-3},{"$f":"IFERROR('Level 2'!AW22-'Level 1'!AW22,\"*\")","v":5.4499999999999965E-3},{"$f":"IFERROR('Level 2'!AX22-'Level 1'!AX22,\"*\")","v":2.700000000000001E-3},{"$f":"IFERROR('Level 2'!AY22-'Level 1'!AY22,\"*\")","v":"*"},null,{"$f":"'Level 1'!BA22","v":"Luxembourg"},{"$f":"IFERROR('Level 2'!BB22-'Level 1'!BB22,\"*\")","v":"*"},{"$f":"IFERROR('Level 2'!BC22-'Level 1'!BC22,\"*\")","v":"*"},{"$f":"IFERROR('Level 2'!BD22-'Level 1'!BD22,\"*\")","v":5.0000000000008371E-5},{"$f":"IFERROR('Level 2'!BE22-'Level 1'!BE22,\"*\")","v":8.9999999999999802E-4},{"$f":"IFERROR('Level 2'!BF22-'Level 1'!BF22,\"*\")","v":8.9999999999999802E-4},{"$f":"IFERROR('Level 2'!BG22-'Level 1'!BG22,\"*\")","v":8.9999999999998415E-4},{"$f":"IFERROR('Level 2'!BH22-'Level 1'!BH22,\"*\")","v":9.0000000000000496E-4},{"$f":"IFERROR('Level 2'!BI22-'Level 1'!BI22,\"*\")","v":8.9999999999999802E-4},{"$f":"IFERROR('Level 2'!BJ22-'Level 1'!BJ22,\"*\")","v":4.5500000000000054E-3},{"$f":"IFERROR('Level 2'!BK22-'Level 1'!BK22,\"*\")","v":8.9999999999999802E-4},{"$f":"IFERROR('Level 2'!BL22-'Level 1'!BL22,\"*\")","v":"*"},null,{"$f":"'Level 1'!BN22","v":"Luxembourg"},{"$f":"IFERROR('Level 2'!BO22-'Level 1'!BO22,\"*\")","v":"*"},{"$f":"IFERROR('Level 2'!BP22-'Level 1'!BP22,\"*\")","v":"*"},{"$f":"IFERROR('Level 2'!BQ22-'Level 1'!BQ22,\"*\")","v":"*"},{"$f":"IFERROR('Level 2'!BR22-'Level 1'!BR22,\"*\")","v":"*"},{"$f":"IFERROR('Level 2'!BS22-'Level 1'!BS22,\"*\")","v":"*"},{"$f":"IFERROR('Level 2'!BT22-'Level 1'!BT22,\"*\")","v":"*"},{"$f":"IFERROR('Level 2'!BU22-'Level 1'!BU22,\"*\")","v":"*"},{"$f":"IFERROR('Level 2'!BV22-'Level 1'!BV22,\"*\")","v":"*"},{"$f":"IFERROR('Level 2'!BW22-'Level 1'!BW22,\"*\")","v":"*"},{"$f":"IFERROR('Level 2'!BX22-'Level 1'!BX22,\"*\")","v":"*"},{"$f":"IFERROR('Level 2'!BY22-'Level 1'!BY22,\"*\")","v":"*"},null,{"$f":"'Level 1'!CA22","v":"Luxembourg"},{"$f":"IFERROR('Level 2'!CB22-'Level 1'!CB22,\"*\")","v":"*"},{"$f":"IFERROR('Level 2'!CC22-'Level 1'!CC22,\"*\")","v":"*"},{"$f":"IFERROR('Level 2'!CD22-'Level 1'!CD22,\"*\")","v":"*"},{"$f":"IFERROR('Level 2'!CE22-'Level 1'!CE22,\"*\")","v":"*"},{"$f":"IFERROR('Level 2'!CF22-'Level 1'!CF22,\"*\")","v":"*"},{"$f":"IFERROR('Level 2'!CG22-'Level 1'!CG22,\"*\")","v":"*"},{"$f":"IFERROR('Level 2'!CH22-'Level 1'!CH22,\"*\")","v":"*"},{"$f":"IFERROR('Level 2'!CI22-'Level 1'!CI22,\"*\")","v":"*"},{"$f":"IFERROR('Level 2'!CJ22-'Level 1'!CJ22,\"*\")","v":"*"},{"$f":"IFERROR('Level 2'!CK22-'Level 1'!CK22,\"*\")","v":"*"},{"$f":"IFERROR('Level 2'!CL22-'Level 1'!CL22,\"*\")","v":"*"}]
[{"$f":"'Level 1'!A23","v":"Hungary"},{"$f":"IFERROR('Level 2'!B23-'Level 1'!B23,\"*\")","v":1.3100000000000001E-2},{"$f":"IFERROR('Level 2'!C23-'Level 1'!C23,\"*\")","v":2.4000000000000132E-3},{"$f":"IFERROR('Level 2'!D23-'Level 1'!D23,\"*\")","v":2.0499999999999963E-3},{"$f":"IFERROR('Level 2'!E23-'Level 1'!E23,\"*\")","v":2.1999999999999936E-3},{"$f":"IFERROR('Level 2'!F23-'Level 1'!F23,\"*\")","v":4.0999999999999925E-3},{"$f":"IFERROR('Level 2'!G23-'Level 1'!G23,\"*\")","v":6.0999999999999943E-3},{"$f":"IFERROR('Level 2'!H23-'Level 1'!H23,\"*\")","v":6.2500000000000056E-3},{"$f":"IFERROR('Level 2'!I23-'Level 1'!I23,\"*\")","v":7.6499999999999901E-3},{"$f":"IFERROR('Level 2'!J23-'Level 1'!J23,\"*\")","v":8.8000000000000023E-3},{"$f":"IFERROR('Level 2'!K23-'Level 1'!K23,\"*\")","v":7.5999999999999956E-3},{"$f":"IFERROR('Level 2'!L23-'Level 1'!L23,\"*\")","v":"*"},null,{"$f":"'Level 1'!N23","v":"Hungary"},{"$f":"IFERROR('Level 2'!O23-'Level 1'!O23,\"*\")","v":1.2999999999999998E-2},{"$f":"IFERROR('Level 2'!P23-'Level 1'!P23,\"*\")","v":2.3500000000000187E-3},{"$f":"IFERROR('Level 2'!Q23-'Level 1'!Q23,\"*\")","v":2.0499999999999963E-3},{"$f":"IFERROR('Level 2'!R23-'Level 1'!R23,\"*\")","v":2.2000000000000075E-3},{"$f":"IFERROR('Level 2'!S23-'Level 1'!S23,\"*\")","v":4.0000000000000036E-3},{"$f":"IFERROR('Level 2'!T23-'Level 1'!T23,\"*\")","v":6.0499999999999998E-3},{"$f":"IFERROR('Level 2'!U23-'Level 1'!U23,\"*\")","v":6.1999999999999833E-3},{"$f":"IFERROR('Level 2'!V23-'Level 1'!V23,\"*\")","v":7.650000000000004E-3},{"$f":"IFERROR('Level 2'!W23-'Level 1'!W23,\"*\")","v":8.7999999999999884E-3},{"$f":"IFERROR('Level 2'!X23-'Level 1'!X23,\"*\")","v":7.5999999999999956E-3},{"$f":"IFERROR('Level 2'!Y23-'Level 1'!Y23,\"*\")","v":"*"},null,{"$f":"'Level 1'!AA23","v":"Hungary"},{"$f":"IFERROR('Level 2'!AB23-'Level 1'!AB23,\"*\")","v":1.3100000000000001E-2},{"$f":"IFERROR('Level 2'!AC23-'Level 1'!AC23,\"*\")","v":2.2999999999999965E-3},{"$f":"IFERROR('Level 2'!AD23-'Level 1'!AD23,\"*\")","v":2.050000000000024E-3},{"$f":"IFERROR('Level 2'!AE23-'Level 1'!AE23,\"*\")","v":2.250000000000002E-3},{"$f":"IFERROR('Level 2'!AF23-'Level 1'!AF23,\"*\")","v":4.0500000000000119E-3},{"$f":"IFERROR('Level 2'!AG23-'Level 1'!AG23,\"*\")","v":6.0999999999999943E-3},{"$f":"IFERROR('Level 2'!AH23-'Level 1'!AH23,\"*\")","v":6.2500000000000056E-3},{"$f":"IFERROR('Level 2'!AI23-'Level 1'!AI23,\"*\")","v":7.749999999999993E-3},{"$f":"IFERROR('Level 2'!AJ23-'Level 1'!AJ23,\"*\")","v":8.8000000000000023E-3},{"$f":"IFERROR('Level 2'!AK23-'Level 1'!AK23,\"*\")","v":7.5999999999999956E-3},{"$f":"IFERROR('Level 2'!AL23-'Level 1'!AL23,\"*\")","v":"*"},null,{"$f":"'Level 1'!AN23","v":"Hungary"},{"$f":"IFERROR('Level 2'!AO23-'Level 1'!AO23,\"*\")","v":1.3100000000000001E-2},{"$f":"IFERROR('Level 2'!AP23-'Level 1'!AP23,\"*\")","v":2.349999999999991E-3},{"$f":"IFERROR('Level 2'!AQ23-'Level 1'!AQ23,\"*\")","v":2.0499999999999963E-3},{"$f":"IFERROR('Level 2'!AR23-'Level 1'!AR23,\"*\")","v":2.2500000000000159E-3},{"$f":"IFERROR('Level 2'!AS23-'Level 1'!AS23,\"*\")","v":4.0999999999999925E-3},{"$f":"IFERROR('Level 2'!AT23-'Level 1'!AT23,\"*\")","v":6.0499999999999998E-3},{"$f":"IFERROR('Level 2'!AU23-'Level 1'!AU23,\"*\")","v":6.3000000000000139E-3},{"$f":"IFERROR('Level 2'!AV23-'Level 1'!AV23,\"*\")","v":7.6999999999999985E-3},{"$f":"IFERROR('Level 2'!AW23-'Level 1'!AW23,\"*\")","v":8.7999999999999884E-3},{"$f":"IFERROR('Level 2'!AX23-'Level 1'!AX23,\"*\")","v":7.6000000000000095E-3},{"$f":"IFERROR('Level 2'!AY23-'Level 1'!AY23,\"*\")","v":"*"},null,{"$f":"'Level 1'!BA23","v":"Hungary"},{"$f":"IFERROR('Level 2'!BB23-'Level 1'!BB23,\"*\")","v":1.3100000000000001E-2},{"$f":"IFERROR('Level 2'!BC23-'Level 1'!BC23,\"*\")","v":2.349999999999991E-3},{"$f":"IFERROR('Level 2'!BD23-'Level 1'!BD23,\"*\")","v":2.0499999999999963E-3},{"$f":"IFERROR('Level 2'!BE23-'Level 1'!BE23,\"*\")","v":2.2499999999999881E-3},{"$f":"IFERROR('Level 2'!BF23-'Level 1'!BF23,\"*\")","v":4.0999999999999925E-3},{"$f":"IFERROR('Level 2'!BG23-'Level 1'!BG23,\"*\")","v":6.1000000000000082E-3},{"$f":"IFERROR('Level 2'!BH23-'Level 1'!BH23,\"*\")","v":6.2499999999999917E-3},{"$f":"IFERROR('Level 2'!BI23-'Level 1'!BI23,\"*\")","v":7.6999999999999985E-3},{"$f":"IFERROR('Level 2'!BJ23-'Level 1'!BJ23,\"*\")","v":8.7499999999999939E-3},{"$f":"IFERROR('Level 2'!BK23-'Level 1'!BK23,\"*\")","v":7.5999999999999956E-3},{"$f":"IFERROR('Level 2'!BL23-'Level 1'!BL23,\"*\")","v":"*"},null,{"$f":"'Level 1'!BN23","v":"Hungary"},{"$f":"IFERROR('Level 2'!BO23-'Level 1'!BO23,\"*\")","v":1.3100000000000001E-2},{"$f":"IFERROR('Level 2'!BP23-'Level 1'!BP23,\"*\")","v":2.2999999999999965E-3},{"$f":"IFERROR('Level 2'!BQ23-'Level 1'!BQ23,\"*\")","v":2.0500000000000101E-3},{"$f":"IFERROR('Level 2'!BR23-'Level 1'!BR23,\"*\")","v":2.250000000000002E-3},{"$f":"IFERROR('Level 2'!BS23-'Level 1'!BS23,\"*\")","v":4.1000000000000064E-3},{"$f":"IFERROR('Level 2'!BT23-'Level 1'!BT23,\"*\")","v":6.0499999999999859E-3},{"$f":"IFERROR('Level 2'!BU23-'Level 1'!BU23,\"*\")","v":6.1999999999999972E-3},{"$f":"IFERROR('Level 2'!BV23-'Level 1'!BV23,\"*\")","v":7.7000000000000124E-3},{"$f":"IFERROR('Level 2'!BW23-'Level 1'!BW23,\"*\")","v":8.8499999999999968E-3},{"$f":"IFERROR('Level 2'!BX23-'Level 1'!BX23,\"*\")","v":7.5999999999999956E-3},{"$f":"IFERROR('Level 2'!BY23-'Level 1'!BY23,\"*\")","v":"*"},null,{"$f":"'Level 1'!CA23","v":"Hungary"},{"$f":"IFERROR('Level 2'!CB23-'Level 1'!CB23,\"*\")","v":1.3100000000000001E-2},{"$f":"IFERROR('Level 2'!CC23-'Level 1'!CC23,\"*\")","v":2.3999999999999994E-3},{"$f":"IFERROR('Level 2'!CD23-'Level 1'!CD23,\"*\")","v":2.0499999999999963E-3},{"$f":"IFERROR('Level 2'!CE23-'Level 1'!CE23,\"*\")","v":2.2000000000000075E-3},{"$f":"IFERROR('Level 2'!CF23-'Level 1'!CF23,\"*\")","v":4.0999999999999925E-3},{"$f":"IFERROR('Level 2'!CG23-'Level 1'!CG23,\"*\")","v":6.0999999999999943E-3},{"$f":"IFERROR('Level 2'!CH23-'Level 1'!CH23,\"*\")","v":6.2500000000000056E-3},{"$f":"IFERROR('Level 2'!CI23-'Level 1'!CI23,\"*\")","v":7.6499999999999901E-3},{"$f":"IFERROR('Level 2'!CJ23-'Level 1'!CJ23,\"*\")","v":8.8000000000000023E-3},{"$f":"IFERROR('Level 2'!CK23-'Level 1'!CK23,\"*\")","v":7.5999999999999956E-3},{"$f":"IFERROR('Level 2'!CL23-'Level 1'!CL23,\"*\")","v":"*"}]
[{"$f":"'Level 1'!A24","v":"Malta"},{"$f":"IFERROR('Level 2'!B24-'Level 1'!B24,\"*\")","v":0},{"$f":"IFERROR('Level 2'!C24-'Level 1'!C24,\"*\")","v":0},{"$f":"IFERROR('Level 2'!D24-'Level 1'!D24,\"*\")","v":0},{"$f":"IFERROR('Level 2'!E24-'Level 1'!E24,\"*\")","v":0},{"$f":"IFERROR('Level 2'!F24-'Level 1'!F24,\"*\")","v":0},{"$f":"IFERROR('Level 2'!G24-'Level 1'!G24,\"*\")","v":0},{"$f":"IFERROR('Level 2'!H24-'Level 1'!H24,\"*\")","v":0},{"$f":"IFERROR('Level 2'!I24-'Level 1'!I24,\"*\")","v":0},{"$f":"IFERROR('Level 2'!J24-'Level 1'!J24,\"*\")","v":0},{"$f":"IFERROR('Level 2'!K24-'Level 1'!K24,\"*\")","v":0},{"$f":"IFERROR('Level 2'!L24-'Level 1'!L24,\"*\")","v":"*"},null,{"$f":"'Level 1'!N24","v":"Malta"},{"$f":"IFERROR('Level 2'!O24-'Level 1'!O24,\"*\")","v":0},{"$f":"IFERROR('Level 2'!P24-'Level 1'!P24,\"*\")","v":0},{"$f":"IFERROR('Level 2'!Q24-'Level 1'!Q24,\"*\")","v":0},{"$f":"IFERROR('Level 2'!R24-'Level 1'!R24,\"*\")","v":0},{"$f":"IFERROR('Level 2'!S24-'Level 1'!S24,\"*\")","v":0},{"$f":"IFERROR('Level 2'!T24-'Level 1'!T24,\"*\")","v":0},{"$f":"IFERROR('Level 2'!U24-'Level 1'!U24,\"*\")","v":0},{"$f":"IFERROR('Level 2'!V24-'Level 1'!V24,\"*\")","v":0},{"$f":"IFERROR('Level 2'!W24-'Level 1'!W24,\"*\")","v":0},{"$f":"IFERROR('Level 2'!X24-'Level 1'!X24,\"*\")","v":0},{"$f":"IFERROR('Level 2'!Y24-'Level 1'!Y24,\"*\")","v":"*"},null,{"$f":"'Level 1'!AA24","v":"Malta"},{"$f":"IFERROR('Level 2'!AB24-'Level 1'!AB24,\"*\")","v":0},{"$f":"IFERROR('Level 2'!AC24-'Level 1'!AC24,\"*\")","v":0},{"$f":"IFERROR('Level 2'!AD24-'Level 1'!AD24,\"*\")","v":0},{"$f":"IFERROR('Level 2'!AE24-'Level 1'!AE24,\"*\")","v":0},{"$f":"IFERROR('Level 2'!AF24-'Level 1'!AF24,\"*\")","v":0},{"$f":"IFERROR('Level 2'!AG24-'Level 1'!AG24,\"*\")","v":0},{"$f":"IFERROR('Level 2'!AH24-'Level 1'!AH24,\"*\")","v":0},{"$f":"IFERROR('Level 2'!AI24-'Level 1'!AI24,\"*\")","v":0},{"$f":"IFERROR('Level 2'!AJ24-'Level 1'!AJ24,\"*\")","v":0},{"$f":"IFERROR('Level 2'!AK24-'Level 1'!AK24,\"*\")","v":0},{"$f":"IFERROR('Level 2'!AL24-'Level 1'!AL24,\"*\")","v":"*"},null,{"$f":"'Level 1'!AN24","v":"Malta"},{"$f":"IFERROR('Level 2'!AO24-'Level 1'!AO24,\"*\")","v":0},{"$f":"IFERROR('Level 2'!AP24-'Level 1'!AP24,\"*\")","v":0},{"$f":"IFERROR('Level 2'!AQ24-'Level 1'!AQ24,\"*\")","v":0},{"$f":"IFERROR('Level 2'!AR24-'Level 1'!AR24,\"*\")","v":0},{"$f":"IFERROR('Level 2'!AS24-'Level 1'!AS24,\"*\")","v":0},{"$f":"IFERROR('Level 2'!AT24-'Level 1'!AT24,\"*\")","v":0},{"$f":"IFERROR('Level 2'!AU24-'Level 1'!AU24,\"*\")","v":0},{"$f":"IFERROR('Level 2'!AV24-'Level 1'!AV24,\"*\")","v":0},{"$f":"IFERROR('Level 2'!AW24-'Level 1'!AW24,\"*\")","v":0},{"$f":"IFERROR('Level 2'!AX24-'Level 1'!AX24,\"*\")","v":0},{"$f":"IFERROR('Level 2'!AY24-'Level 1'!AY24,\"*\")","v":"*"},null,{"$f":"'Level 1'!BA24","v":"Malta"},{"$f":"IFERROR('Level 2'!BB24-'Level 1'!BB24,\"*\")","v":0},{"$f":"IFERROR('Level 2'!BC24-'Level 1'!BC24,\"*\")","v":0},{"$f":"IFERROR('Level 2'!BD24-'Level 1'!BD24,\"*\")","v":0},{"$f":"IFERROR('Level 2'!BE24-'Level 1'!BE24,\"*\")","v":0},{"$f":"IFERROR('Level 2'!BF24-'Level 1'!BF24,\"*\")","v":0},{"$f":"IFERROR('Level 2'!BG24-'Level 1'!BG24,\"*\")","v":0},{"$f":"IFERROR('Level 2'!BH24-'Level 1'!BH24,\"*\")","v":0},{"$f":"IFERROR('Level 2'!BI24-'Level 1'!BI24,\"*\")","v":0},{"$f":"IFERROR('Level 2'!BJ24-'Level 1'!BJ24,\"*\")","v":0},{"$f":"IFERROR('Level 2'!BK24-'Level 1'!BK24,\"*\")","v":0},{"$f":"IFERROR('Level 2'!BL24-'Level 1'!BL24,\"*\")","v":"*"},null,{"$f":"'Level 1'!BN24","v":"Malta"},{"$f":"IFERROR('Level 2'!BO24-'Level 1'!BO24,\"*\")","v":"*"},{"$f":"IFERROR('Level 2'!BP24-'Level 1'!BP24,\"*\")","v":0},{"$f":"IFERROR('Level 2'!BQ24-'Level 1'!BQ24,\"*\")","v":0},{"$f":"IFERROR('Level 2'!BR24-'Level 1'!BR24,\"*\")","v":0},{"$f":"IFERROR('Level 2'!BS24-'Level 1'!BS24,\"*\")","v":0},{"$f":"IFERROR('Level 2'!BT24-'Level 1'!BT24,\"*\")","v":0},{"$f":"IFERROR('Level 2'!BU24-'Level 1'!BU24,\"*\")","v":0},{"$f":"IFERROR('Level 2'!BV24-'Level 1'!BV24,\"*\")","v":0},{"$f":"IFERROR('Level 2'!BW24-'Level 1'!BW24,\"*\")","v":0},{"$f":"IFERROR('Level 2'!BX24-'Level 1'!BX24,\"*\")","v":0},{"$f":"IFERROR('Level 2'!BY24-'Level 1'!BY24,\"*\")","v":"*"},null,{"$f":"'Level 1'!CA24","v":"Malta"},{"$f":"IFERROR('Level 2'!CB24-'Level 1'!CB24,\"*\")","v":"*"},{"$f":"IFERROR('Level 2'!CC24-'Level 1'!CC24,\"*\")","v":0},{"$f":"IFERROR('Level 2'!CD24-'Level 1'!CD24,\"*\")","v":0},{"$f":"IFERROR('Level 2'!CE24-'Level 1'!CE24,\"*\")","v":"*"},{"$f":"IFERROR('Level 2'!CF24-'Level 1'!CF24,\"*\")","v":"*"},{"$f":"IFERROR('Level 2'!CG24-'Level 1'!CG24,\"*\")","v":"*"},{"$f":"IFERROR('Level 2'!CH24-'Level 1'!CH24,\"*\")","v":"*"},{"$f":"IFERROR('Level 2'!CI24-'Level 1'!CI24,\"*\")","v":"*"},{"$f":"IFERROR('Level 2'!CJ24-'Level 1'!CJ24,\"*\")","v":"*"},{"$f":"IFERROR('Level 2'!CK24-'Level 1'!CK24,\"*\")","v":"*"},{"$f":"IFERROR('Level 2'!CL24-'Level 1'!CL24,\"*\")","v":"*"}]
[{"$f":"'Level 1'!A25","v":"Netherlands"},{"$f":"IFERROR('Level 2'!B25-'Level 1'!B25,\"*\")","v":1.5050000000000008E-2},{"$f":"IFERROR('Level 2'!C25-'Level 1'!C25,\"*\")","v":3.6849999999999994E-2},{"$f":"IFERROR('Level 2'!D25-'Level 1'!D25,\"*\")","v":5.7999999999999996E-2},{"$f":"IFERROR('Level 2'!E25-'Level 1'!E25,\"*\")","v":5.8200000000000002E-2},{"$f":"IFERROR('Level 2'!F25-'Level 1'!F25,\"*\")","v":4.41E-2},{"$f":"IFERROR('Level 2'!G25-'Level 1'!G25,\"*\")","v":4.5600000000000002E-2},{"$f":"IFERROR('Level 2'!H25-'Level 1'!H25,\"*\")","v":4.9999999999999989E-2},{"$f":"IFERROR('Level 2'!I25-'Level 1'!I25,\"*\")","v":5.1399999999999973E-2},{"$f":"IFERROR('Level 2'!J25-'Level 1'!J25,\"*\")","v":4.9399999999999999E-2},{"$f":"IFERROR('Level 2'!K25-'Level 1'!K25,\"*\")","v":3.6000000000000004E-2},{"$f":"IFERROR('Level 2'!L25-'Level 1'!L25,\"*\")","v":"*"},null,{"$f":"'Level 1'!N25","v":"Netherlands"},{"$f":"IFERROR('Level 2'!O25-'Level 1'!O25,\"*\")","v":2.200000000000002E-2},{"$f":"IFERROR('Level 2'!P25-'Level 1'!P25,\"*\")","v":2.0199999999999996E-2},{"$f":"IFERROR('Level 2'!Q25-'Level 1'!Q25,\"*\")","v":3.0799999999999994E-2},{"$f":"IFERROR('Level 2'!R25-'Level 1'!R25,\"*\")","v":3.0549999999999994E-2},{"$f":"IFERROR('Level 2'!S25-'Level 1'!S25,\"*\")","v":2.7150000000000007E-2},{"$f":"IFERROR('Level 2'!T25-'Level 1'!T25,\"*\")","v":2.8500000000000011E-2},{"$f":"IFERROR('Level 2'!U25-'Level 1'!U25,\"*\")","v":3.485000000000002E-2},{"$f":"IFERROR('Level 2'!V25-'Level 1'!V25,\"*\")","v":3.3600000000000019E-2},{"$f":"IFERROR('Level 2'!W25-'Level 1'!W25,\"*\")","v":3.5799999999999998E-2},{"$f":"IFERROR('Level 2'!X25-'Level 1'!X25,\"*\")","v":5.850000000000001E-2},{"$f":"IFERROR('Level 2'!Y25-'Level 1'!Y25,\"*\")","v":"*"},null,{"$f":"'Level 1'!AA25","v":"Netherlands"},{"$f":"IFERROR('Level 2'!AB25-'Level 1'!AB25,\"*\")","v":1.175000000000001E-2},{"$f":"IFERROR('Level 2'!AC25-'Level 1'!AC25,\"*\")","v":1.2550000000000006E-2},{"$f":"IFERROR('Level 2'!AD25-'Level 1'!AD25,\"*\")","v":1.2500000000000011E-2},{"$f":"IFERROR('Level 2'!AE25-'Level 1'!AE25,\"*\")","v":1.2699999999999989E-2},{"$f":"IFERROR('Level 2'!AF25-'Level 1'!AF25,\"*\")","v":1.2799999999999992E-2},{"$f":"IFERROR('Level 2'!AG25-'Level 1'!AG25,\"*\")","v":1.2900000000000009E-2},{"$f":"IFERROR('Level 2'!AH25-'Level 1'!AH25,\"*\")","v":1.344999999999999E-2},{"$f":"IFERROR('Level 2'!AI25-'Level 1'!AI25,\"*\")","v":1.4200000000000004E-2},{"$f":"IFERROR('Level 2'!AJ25-'Level 1'!AJ25,\"*\")","v":1.5700000000000006E-2},{"$f":"IFERROR('Level 2'!AK25-'Level 1'!AK25,\"*\")","v":2.0500000000000004E-2},{"$f":"IFERROR('Level 2'!AL25-'Level 1'!AL25,\"*\")","v":"*"},null,{"$f":"'Level 1'!AN25","v":"Netherlands"},{"$f":"IFERROR('Level 2'!AO25-'Level 1'!AO25,\"*\")","v":9.8499999999999976E-3},{"$f":"IFERROR('Level 2'!AP25-'Level 1'!AP25,\"*\")","v":1.075000000000001E-2},{"$f":"IFERROR('Level 2'!AQ25-'Level 1'!AQ25,\"*\")","v":1.0899999999999993E-2},{"$f":"IFERROR('Level 2'!AR25-'Level 1'!AR25,\"*\")","v":1.1149999999999993E-2},{"$f":"IFERROR('Level 2'!AS25-'Level 1'!AS25,\"*\")","v":1.1199999999999988E-2},{"$f":"IFERROR('Level 2'!AT25-'Level 1'!AT25,\"*\")","v":1.1249999999999996E-2},{"$f":"IFERROR('Level 2'!AU25-'Level 1'!AU25,\"*\")","v":1.1800000000000005E-2},{"$f":"IFERROR('Level 2'!AV25-'Level 1'!AV25,\"*\")","v":1.1650000000000008E-2},{"$f":"IFERROR('Level 2'!AW25-'Level 1'!AW25,\"*\")","v":1.4100000000000001E-2},{"$f":"IFERROR('Level 2'!AX25-'Level 1'!AX25,\"*\")","v":1.6099999999999996E-2},{"$f":"IFERROR('Level 2'!AY25-'Level 1'!AY25,\"*\")","v":"*"},null,{"$f":"'Level 1'!BA25","v":"Netherlands"},{"$f":"IFERROR('Level 2'!BB25-'Level 1'!BB25,\"*\")","v":4.9000000000000155E-3},{"$f":"IFERROR('Level 2'!BC25-'Level 1'!BC25,\"*\")","v":6.399999999999989E-3},{"$f":"IFERROR('Level 2'!BD25-'Level 1'!BD25,\"*\")","v":3.7500000000000033E-3},{"$f":"IFERROR('Level 2'!BE25-'Level 1'!BE25,\"*\")","v":3.5000000000000031E-3},{"$f":"IFERROR('Level 2'!BF25-'Level 1'!BF25,\"*\")","v":3.3500000000000058E-3},{"$f":"IFERROR('Level 2'!BG25-'Level 1'!BG25,\"*\")","v":3.4000000000000002E-3},{"$f":"IFERROR('Level 2'!BH25-'Level 1'!BH25,\"*\")","v":4.7500000000000042E-3},{"$f":"IFERROR('Level 2'!BI25-'Level 1'!BI25,\"*\")","v":3.7999999999999978E-3},{"$f":"IFERROR('Level 2'!BJ25-'Level 1'!BJ25,\"*\")","v":3.8499999999999923E-3},{"$f":"IFERROR('Level 2'!BK25-'Level 1'!BK25,\"*\")","v":9.4000000000000056E-3},{"$f":"IFERROR('Level 2'!BL25-'Level 1'!BL25,\"*\")","v":"*"},null,{"$f":"'Level 1'!BN25","v":"Netherlands"},{"$f":"IFERROR('Level 2'!BO25-'Level 1'!BO25,\"*\")","v":2.5000000000000022E-3},{"$f":"IFERROR('Level 2'!BP25-'Level 1'!BP25,\"*\")","v":3.8500000000000062E-3},{"$f":"IFERROR('Level 2'!BQ25-'Level 1'!BQ25,\"*\")","v":1.7000000000000071E-3},{"$f":"IFERROR('Level 2'!BR25-'Level 1'!BR25,\"*\")","v":1.7500000000000016E-3},{"$f":"IFERROR('Level 2'!BS25-'Level 1'!BS25,\"*\")","v":1.8500000000000044E-3},{"$f":"IFERROR('Level 2'!BT25-'Level 1'!BT25,\"*\")","v":1.6499999999999987E-3},{"$f":"IFERROR('Level 2'!BU25-'Level 1'!BU25,\"*\")","v":2.0499999999999963E-3},{"$f":"IFERROR('Level 2'!BV25-'Level 1'!BV25,\"*\")","v":1.6499999999999848E-3},{"$f":"IFERROR('Level 2'!BW25-'Level 1'!BW25,\"*\")","v":2.1000000000000046E-3},{"$f":"IFERROR('Level 2'!BX25-'Level 1'!BX25,\"*\")","v":3.7000000000000019E-3},{"$f":"IFERROR('Level 2'!BY25-'Level 1'!BY25,\"*\")","v":"*"},null,{"$f":"'Level 1'!CA25","v":"Netherlands"},{"$f":"IFERROR('Level 2'!CB25-'Level 1'!CB25,\"*\")","v":"*"},{"$f":"IFERROR('Level 2'!CC25-'Level 1'!CC25,\"*\")","v":"*"},{"$f":"IFERROR('Level 2'!CD25-'Level 1'!CD25,\"*\")","v":8.9999999999999802E-4},{"$f":"IFERROR('Level 2'!CE25-'Level 1'!CE25,\"*\")","v":9.4999999999999252E-4},{"$f":"IFERROR('Level 2'!CF25-'Level 1'!CF25,\"*\")","v":1.0500000000000093E-3},{"$f":"IFERROR('Level 2'!CG25-'Level 1'!CG25,\"*\")","v":1.0499999999999954E-3},{"$f":"IFERROR('Level 2'!CH25-'Level 1'!CH25,\"*\")","v":1.4000000000000123E-3},{"$f":"IFERROR('Level 2'!CI25-'Level 1'!CI25,\"*\")","v":1.0499999999999954E-3},{"$f":"IFERROR('Level 2'!CJ25-'Level 1'!CJ25,\"*\")","v":9.5000000000000639E-4},{"$f":"IFERROR('Level 2'!CK25-'Level 1'!CK25,\"*\")","v":1.7000000000000001E-3},{"$f":"IFERROR('Level 2'!CL25-'Level 1'!CL25,\"*\")","v":"*"}]
[{"$f":"'Level 1'!A26","v":"Austria"},{"$f":"IFERROR('Level 2'!B26-'Level 1'!B26,\"*\")","v":1.7199999999999993E-2},{"$f":"IFERROR('Level 2'!C26-'Level 1'!C26,\"*\")","v":1.6900000000000012E-2},{"$f":"IFERROR('Level 2'!D26-'Level 1'!D26,\"*\")","v":2.404999999999996E-2},{"$f":"IFERROR('Level 2'!E26-'Level 1'!E26,\"*\")","v":2.4400000000000005E-2},{"$f":"IFERROR('Level 2'!F26-'Level 1'!F26,\"*\")","v":2.4899999999999978E-2},{"$f":"IFERROR('Level 2'!G26-'Level 1'!G26,\"*\")","v":2.3849999999999982E-2},{"$f":"IFERROR('Level 2'!H26-'Level 1'!H26,\"*\")","v":2.7299999999999991E-2},{"$f":"IFERROR('Level 2'!I26-'Level 1'!I26,\"*\")","v":3.5150000000000001E-2},{"$f":"IFERROR('Level 2'!J26-'Level 1'!J26,\"*\")","v":4.3099999999999999E-2},{"$f":"IFERROR('Level 2'!K26-'Level 1'!K26,\"*\")","v":4.289999999999998E-2},{"$f":"IFERROR('Level 2'!L26-'Level 1'!L26,\"*\")","v":"*"},null,{"$f":"'Level 1'!N26","v":"Austria"},{"$f":"IFERROR('Level 2'!O26-'Level 1'!O26,\"*\")","v":1.6799999999999995E-2},{"$f":"IFERROR('Level 2'!P26-'Level 1'!P26,\"*\")","v":1.5600000000000003E-2},{"$f":"IFERROR('Level 2'!Q26-'Level 1'!Q26,\"*\")","v":1.9849999999999993E-2},{"$f":"IFERROR('Level 2'!R26-'Level 1'!R26,\"*\")","v":2.0799999999999985E-2},{"$f":"IFERROR('Level 2'!S26-'Level 1'!S26,\"*\")","v":2.1399999999999975E-2},{"$f":"IFERROR('Level 2'!T26-'Level 1'!T26,\"*\")","v":2.1750000000000019E-2},{"$f":"IFERROR('Level 2'!U26-'Level 1'!U26,\"*\")","v":2.6150000000000007E-2},{"$f":"IFERROR('Level 2'!V26-'Level 1'!V26,\"*\")","v":2.9350000000000015E-2},{"$f":"IFERROR('Level 2'!W26-'Level 1'!W26,\"*\")","v":3.3399999999999999E-2},{"$f":"IFERROR('Level 2'!X26-'Level 1'!X26,\"*\")","v":3.3500000000000002E-2},{"$f":"IFERROR('Level 2'!Y26-'Level 1'!Y26,\"*\")","v":"*"},null,{"$f":"'Level 1'!AA26","v":"Austria"},{"$f":"IFERROR('Level 2'!AB26-'Level 1'!AB26,\"*\")","v":1.6600000000000004E-2},{"$f":"IFERROR('Level 2'!AC26-'Level 1'!AC26,\"*\")","v":1.6700000000000007E-2},{"$f":"IFERROR('Level 2'!AD26-'Level 1'!AD26,\"*\")","v":1.9250000000000003E-2},{"$f":"IFERROR('Level 2'!AE26-'Level 1'!AE26,\"*\")","v":2.0549999999999985E-2},{"$f":"IFERROR('Level 2'!AF26-'Level 1'!AF26,\"*\")","v":2.1049999999999985E-2},{"$f":"IFERROR('Level 2'!AG26-'Level 1'!AG26,\"*\")","v":2.0949999999999996E-2},{"$f":"IFERROR('Level 2'!AH26-'Level 1'!AH26,\"*\")","v":2.4250000000000008E-2},{"$f":"IFERROR('Level 2'!AI26-'Level 1'!AI26,\"*\")","v":2.654999999999999E-2},{"$f":"IFERROR('Level 2'!AJ26-'Level 1'!AJ26,\"*\")","v":3.1299999999999994E-2},{"$f":"IFERROR('Level 2'!AK26-'Level 1'!AK26,\"*\")","v":3.2400000000000012E-2},{"$f":"IFERROR('Level 2'!AL26-'Level 1'!AL26,\"*\")","v":"*"},null,{"$f":"'Level 1'!AN26","v":"Austria"},{"$f":"IFERROR('Level 2'!AO26-'Level 1'!AO26,\"*\")","v":1.5699999999999992E-2},{"$f":"IFERROR('Level 2'!AP26-'Level 1'!AP26,\"*\")","v":1.55E-2},{"$f":"IFERROR('Level 2'!AQ26-'Level 1'!AQ26,\"*\")","v":1.7700000000000007E-2},{"$f":"IFERROR('Level 2'!AR26-'Level 1'!AR26,\"*\")","v":1.8750000000000003E-2},{"$f":"IFERROR('Level 2'!AS26-'Level 1'!AS26,\"*\")","v":1.8949999999999995E-2},{"$f":"IFERROR('Level 2'!AT26-'Level 1'!AT26,\"*\")","v":1.8450000000000008E-2},{"$f":"IFERROR('Level 2'!AU26-'Level 1'!AU26,\"*\")","v":2.095000000000001E-2},{"$f":"IFERROR('Level 2'!AV26-'Level 1'!AV26,\"*\")","v":2.2900000000000004E-2},{"$f":"IFERROR('Level 2'!AW26-'Level 1'!AW26,\"*\")","v":2.5399999999999992E-2},{"$f":"IFERROR('Level 2'!AX26-'Level 1'!AX26,\"*\")","v":2.5599999999999991E-2},{"$f":"IFERROR('Level 2'!AY26-'Level 1'!AY26,\"*\")","v":"*"},null,{"$f":"'Level 1'!BA26","v":"Austria"},{"$f":"IFERROR('Level 2'!BB26-'Level 1'!BB26,\"*\")","v":1.5300000000000008E-2},{"$f":"IFERROR('Level 2'!BC26-'Level 1'!BC26,\"*\")","v":1.5200000000000005E-2},{"$f":"IFERROR('Level 2'!BD26-'Level 1'!BD26,\"*\")","v":1.7149999999999999E-2},{"$f":"IFERROR('Level 2'!BE26-'Level 1'!BE26,\"*\")","v":1.8549999999999997E-2},{"$f":"IFERROR('Level 2'!BF26-'Level 1'!BF26,\"*\")","v":1.8600000000000005E-2},{"$f":"IFERROR('Level 2'!BG26-'Level 1'!BG26,\"*\")","v":1.7049999999999996E-2},{"$f":"IFERROR('Level 2'!BH26-'Level 1'!BH26,\"*\")","v":1.9049999999999997E-2},{"$f":"IFERROR('Level 2'!BI26-'Level 1'!BI26,\"*\")","v":2.0250000000000004E-2},{"$f":"IFERROR('Level 2'!BJ26-'Level 1'!BJ26,\"*\")","v":2.144999999999999E-2},{"$f":"IFERROR('Level 2'!BK26-'Level 1'!BK26,\"*\")","v":2.0200000000000003E-2},{"$f":"IFERROR('Level 2'!BL26-'Level 1'!BL26,\"*\")","v":"*"},null,{"$f":"'Level 1'!BN26","v":"Austria"},{"$f":"IFERROR('Level 2'!BO26-'Level 1'!BO26,\"*\")","v":1.5199999999999998E-2},{"$f":"IFERROR('Level 2'!BP26-'Level 1'!BP26,\"*\")","v":1.5100000000000002E-2},{"$f":"IFERROR('Level 2'!BQ26-'Level 1'!BQ26,\"*\")","v":1.6699999999999993E-2},{"$f":"IFERROR('Level 2'!BR26-'Level 1'!BR26,\"*\")","v":1.7399999999999999E-2},{"$f":"IFERROR('Level 2'!BS26-'Level 1'!BS26,\"*\")","v":1.6449999999999992E-2},{"$f":"IFERROR('Level 2'!BT26-'Level 1'!BT26,\"*\")","v":1.6699999999999993E-2},{"$f":"IFERROR('Level 2'!BU26-'Level 1'!BU26,\"*\")","v":1.8700000000000001E-2},{"$f":"IFERROR('Level 2'!BV26-'Level 1'!BV26,\"*\")","v":1.8200000000000008E-2},{"$f":"IFERROR('Level 2'!BW26-'Level 1'!BW26,\"*\")","v":1.9850000000000007E-2},{"$f":"IFERROR('Level 2'!BX26-'Level 1'!BX26,\"*\")","v":1.84E-2},{"$f":"IFERROR('Level 2'!BY26-'Level 1'!BY26,\"*\")","v":"*"},null,{"$f":"'Level 1'!CA26","v":"Austria"},{"$f":"IFERROR('Level 2'!CB26-'Level 1'!CB26,\"*\")","v":"*"},{"$f":"IFERROR('Level 2'!CC26-'Level 1'!CC26,\"*\")","v":1.4999999999999999E-2},{"$f":"IFERROR('Level 2'!CD26-'Level 1'!CD26,\"*\")","v":"*"},{"$f":"IFERROR('Level 2'!CE26-'Level 1'!CE26,\"*\")","v":"*"},{"$f":"IFERROR('Level 2'!CF26-'Level 1'!CF26,\"*\")","v":"*"},{"$f":"IFERROR('Level 2'!CG26-'Level 1'!CG26,\"*\")","v":"*"},{"$f":"IFERROR('Level 2'!CH26-'Level 1'!CH26,\"*\")","v":"*"},{"$f":"IFERROR('Level 2'!CI26-'Level 1'!CI26,\"*\")","v":"*"},{"$f":"IFERROR('Level 2'!CJ26-'Level 1'!CJ26,\"*\")","v":1.9200000000000002E-2},{"$f":"IFERROR('Level 2'!CK26-'Level 1'!CK26,\"*\")","v":"*"},{"$f":"IFERROR('Level 2'!CL26-'Level 1'!CL26,\"*\")","v":"*"}]
[{"$f":"'Level 1'!A27","v":"Poland"},{"$f":"IFERROR('Level 2'!B27-'Level 1'!B27,\"*\")","v":7.5000000000000067E-3},{"$f":"IFERROR('Level 2'!C27-'Level 1'!C27,\"*\")","v":6.6499999999999893E-3},{"$f":"IFERROR('Level 2'!D27-'Level 1'!D27,\"*\")","v":4.6500000000000152E-3},{"$f":"IFERROR('Level 2'!E27-'Level 1'!E27,\"*\")","v":4.9999999999999767E-3},{"$f":"IFERROR('Level 2'!F27-'Level 1'!F27,\"*\")","v":4.9000000000000155E-3},{"$f":"IFERROR('Level 2'!G27-'Level 1'!G27,\"*\")","v":4.7499999999999765E-3},{"$f":"IFERROR('Level 2'!H27-'Level 1'!H27,\"*\")","v":4.7499999999999765E-3},{"$f":"IFERROR('Level 2'!I27-'Level 1'!I27,\"*\")","v":4.7999999999999987E-3},{"$f":"IFERROR('Level 2'!J27-'Level 1'!J27,\"*\")","v":4.7500000000000042E-3},{"$f":"IFERROR('Level 2'!K27-'Level 1'!K27,\"*\")","v":4.6000000000000207E-3},{"$f":"IFERROR('Level 2'!L27-'Level 1'!L27,\"*\")","v":"*"},null,{"$f":"'Level 1'!N27","v":"Poland"},{"$f":"IFERROR('Level 2'!O27-'Level 1'!O27,\"*\")","v":6.5000000000000058E-3},{"$f":"IFERROR('Level 2'!P27-'Level 1'!P27,\"*\")","v":6.2000000000000111E-3},{"$f":"IFERROR('Level 2'!Q27-'Level 1'!Q27,\"*\")","v":4.599999999999993E-3},{"$f":"IFERROR('Level 2'!R27-'Level 1'!R27,\"*\")","v":5.0000000000000044E-3},{"$f":"IFERROR('Level 2'!S27-'Level 1'!S27,\"*\")","v":4.8499999999999932E-3},{"$f":"IFERROR('Level 2'!T27-'Level 1'!T27,\"*\")","v":4.7500000000000042E-3},{"$f":"IFERROR('Level 2'!U27-'Level 1'!U27,\"*\")","v":4.7500000000000042E-3},{"$f":"IFERROR('Level 2'!V27-'Level 1'!V27,\"*\")","v":4.7500000000000042E-3},{"$f":"IFERROR('Level 2'!W27-'Level 1'!W27,\"*\")","v":4.7500000000000042E-3},{"$f":"IFERROR('Level 2'!X27-'Level 1'!X27,\"*\")","v":4.6000000000000069E-3},{"$f":"IFERROR('Level 2'!Y27-'Level 1'!Y27,\"*\")","v":"*"},null,{"$f":"'Level 1'!AA27","v":"Poland"},{"$f":"IFERROR('Level 2'!AB27-'Level 1'!AB27,\"*\")","v":6.1999999999999972E-3},{"$f":"IFERROR('Level 2'!AC27-'Level 1'!AC27,\"*\")","v":6.1999999999999833E-3},{"$f":"IFERROR('Level 2'!AD27-'Level 1'!AD27,\"*\")","v":4.599999999999993E-3},{"$f":"IFERROR('Level 2'!AE27-'Level 1'!AE27,\"*\")","v":5.0000000000000044E-3},{"$f":"IFERROR('Level 2'!AF27-'Level 1'!AF27,\"*\")","v":4.8500000000000071E-3},{"$f":"IFERROR('Level 2'!AG27-'Level 1'!AG27,\"*\")","v":4.8500000000000071E-3},{"$f":"IFERROR('Level 2'!AH27-'Level 1'!AH27,\"*\")","v":4.7999999999999987E-3},{"$f":"IFERROR('Level 2'!AI27-'Level 1'!AI27,\"*\")","v":4.7500000000000042E-3},{"$f":"IFERROR('Level 2'!AJ27-'Level 1'!AJ27,\"*\")","v":4.8500000000000071E-3},{"$f":"IFERROR('Level 2'!AK27-'Level 1'!AK27,\"*\")","v":4.599999999999993E-3},{"$f":"IFERROR('Level 2'!AL27-'Level 1'!AL27,\"*\")","v":"*"},null,{"$f":"'Level 1'!AN27","v":"Poland"},{"$f":"IFERROR('Level 2'!AO27-'Level 1'!AO27,\"*\")","v":6.6999999999999976E-3},{"$f":"IFERROR('Level 2'!AP27-'Level 1'!AP27,\"*\")","v":6.0999999999999943E-3},{"$f":"IFERROR('Level 2'!AQ27-'Level 1'!AQ27,\"*\")","v":4.6000000000000069E-3},{"$f":"IFERROR('Level 2'!AR27-'Level 1'!AR27,\"*\")","v":5.0000000000000044E-3},{"$f":"IFERROR('Level 2'!AS27-'Level 1'!AS27,\"*\")","v":4.9000000000000016E-3},{"$f":"IFERROR('Level 2'!AT27-'Level 1'!AT27,\"*\")","v":4.7500000000000042E-3},{"$f":"IFERROR('Level 2'!AU27-'Level 1'!AU27,\"*\")","v":4.7500000000000042E-3},{"$f":"IFERROR('Level 2'!AV27-'Level 1'!AV27,\"*\")","v":4.7999999999999987E-3},{"$f":"IFERROR('Level 2'!AW27-'Level 1'!AW27,\"*\")","v":4.7999999999999987E-3},{"$f":"IFERROR('Level 2'!AX27-'Level 1'!AX27,\"*\")","v":4.599999999999993E-3},{"$f":"IFERROR('Level 2'!AY27-'Level 1'!AY27,\"*\")","v":"*"},null,{"$f":"'Level 1'!BA27","v":"Poland"},{"$f":"IFERROR('Level 2'!BB27-'Level 1'!BB27,\"*\")","v":6.4000000000000029E-3},{"$f":"IFERROR('Level 2'!BC27-'Level 1'!BC27,\"*\")","v":6.3E-3},{"$f":"IFERROR('Level 2'!BD27-'Level 1'!BD27,\"*\")","v":4.5499999999999985E-3},{"$f":"IFERROR('Level 2'!BE27-'Level 1'!BE27,\"*\")","v":5.0000000000000044E-3},{"$f":"IFERROR('Level 2'!BF27-'Level 1'!BF27,\"*\")","v":4.8999999999999877E-3},{"$f":"IFERROR('Level 2'!BG27-'Level 1'!BG27,\"*\")","v":4.7999999999999848E-3},{"$f":"IFERROR('Level 2'!BH27-'Level 1'!BH27,\"*\")","v":4.7999999999999987E-3},{"$f":"IFERROR('Level 2'!BI27-'Level 1'!BI27,\"*\")","v":4.7999999999999987E-3},{"$f":"IFERROR('Level 2'!BJ27-'Level 1'!BJ27,\"*\")","v":4.8500000000000071E-3},{"$f":"IFERROR('Level 2'!BK27-'Level 1'!BK27,\"*\")","v":4.5999999999999999E-3},{"$f":"IFERROR('Level 2'!BL27-'Level 1'!BL27,\"*\")","v":"*"},null,{"$f":"'Level 1'!BN27","v":"Poland"},{"$f":"IFERROR('Level 2'!BO27-'Level 1'!BO27,\"*\")","v":1.77E-2},{"$f":"IFERROR('Level 2'!BP27-'Level 1'!BP27,\"*\")","v":5.6999999999999967E-3},{"$f":"IFERROR('Level 2'!BQ27-'Level 1'!BQ27,\"*\")","v":4.6500000000000014E-3},{"$f":"IFERROR('Level 2'!BR27-'Level 1'!BR27,\"*\")","v":5.0000000000000044E-3},{"$f":"IFERROR('Level 2'!BS27-'Level 1'!BS27,\"*\")","v":4.8499999999999932E-3},{"$f":"IFERROR('Level 2'!BT27-'Level 1'!BT27,\"*\")","v":4.7500000000000042E-3},{"$f":"IFERROR('Level 2'!BU27-'Level 1'!BU27,\"*\")","v":4.8000000000000126E-3},{"$f":"IFERROR('Level 2'!BV27-'Level 1'!BV27,\"*\")","v":4.7499999999999973E-3},{"$f":"IFERROR('Level 2'!BW27-'Level 1'!BW27,\"*\")","v":4.7999999999999987E-3},{"$f":"IFERROR('Level 2'!BX27-'Level 1'!BX27,\"*\")","v":4.5999999999999999E-3},{"$f":"IFERROR('Level 2'!BY27-'Level 1'!BY27,\"*\")","v":"*"},null,{"$f":"'Level 1'!CA27","v":"Poland"},{"$f":"IFERROR('Level 2'!CB27-'Level 1'!CB27,\"*\")","v":"*"},{"$f":"IFERROR('Level 2'!CC27-'Level 1'!CC27,\"*\")","v":5.5999999999999939E-3},{"$f":"IFERROR('Level 2'!CD27-'Level 1'!CD27,\"*\")","v":4.6500000000000014E-3},{"$f":"IFERROR('Level 2'!CE27-'Level 1'!CE27,\"*\")","v":5.0499999999999851E-3},{"$f":"IFERROR('Level 2'!CF27-'Level 1'!CF27,\"*\")","v":4.8499999999999932E-3},{"$f":"IFERROR('Level 2'!CG27-'Level 1'!CG27,\"*\")","v":4.7499999999999903E-3},{"$f":"IFERROR('Level 2'!CH27-'Level 1'!CH27,\"*\")","v":4.7999999999999987E-3},{"$f":"IFERROR('Level 2'!CI27-'Level 1'!CI27,\"*\")","v":4.7999999999999987E-3},{"$f":"IFERROR('Level 2'!CJ27-'Level 1'!CJ27,\"*\")","v":4.7999999999999987E-3},{"$f":"IFERROR('Level 2'!CK27-'Level 1'!CK27,\"*\")","v":4.4999999999999971E-3},{"$f":"IFERROR('Level 2'!CL27-'Level 1'!CL27,\"*\")","v":"*"}]
[{"$f":"'Level 1'!A28","v":"Portugal"},{"$f":"IFERROR('Level 2'!B28-'Level 1'!B28,\"*\")","v":2.9600000000000001E-2},{"$f":"IFERROR('Level 2'!C28-'Level 1'!C28,\"*\")","v":4.0499999999999994E-2},{"$f":"IFERROR('Level 2'!D28-'Level 1'!D28,\"*\")","v":1.639999999999997E-2},{"$f":"IFERROR('Level 2'!E28-'Level 1'!E28,\"*\")","v":5.5400000000000005E-2},{"$f":"IFERROR('Level 2'!F28-'Level 1'!F28,\"*\")","v":6.5299999999999983E-2},{"$f":"IFERROR('Level 2'!G28-'Level 1'!G28,\"*\")","v":5.6499999999999995E-2},{"$f":"IFERROR('Level 2'!H28-'Level 1'!H28,\"*\")","v":5.7150000000000006E-2},{"$f":"IFERROR('Level 2'!I28-'Level 1'!I28,\"*\")","v":3.1049999999999967E-2},{"$f":"IFERROR('Level 2'!J28-'Level 1'!J28,\"*\")","v":2.6000000000000023E-2},{"$f":"IFERROR('Level 2'!K28-'Level 1'!K28,\"*\")","v":4.1300000000000003E-2},{"$f":"IFERROR('Level 2'!L28-'Level 1'!L28,\"*\")","v":"*"},null,{"$f":"'Level 1'!N28","v":"Portugal"},{"$f":"IFERROR('Level 2'!O28-'Level 1'!O28,\"*\")","v":1.3700000000000004E-2},{"$f":"IFERROR('Level 2'!P28-'Level 1'!P28,\"*\")","v":2.6000000000000009E-2},{"$f":"IFERROR('Level 2'!Q28-'Level 1'!Q28,\"*\")","v":9.5000000000000084E-3},{"$f":"IFERROR('Level 2'!R28-'Level 1'!R28,\"*\")","v":2.5649999999999992E-2},{"$f":"IFERROR('Level 2'!S28-'Level 1'!S28,\"*\")","v":3.3700000000000008E-2},{"$f":"IFERROR('Level 2'!T28-'Level 1'!T28,\"*\")","v":3.3999999999999989E-2},{"$f":"IFERROR('Level 2'!U28-'Level 1'!U28,\"*\")","v":2.9450000000000004E-2},{"$f":"IFERROR('Level 2'!V28-'Level 1'!V28,\"*\")","v":2.0299999999999985E-2},{"$f":"IFERROR('Level 2'!W28-'Level 1'!W28,\"*\")","v":2.1650000000000003E-2},{"$f":"IFERROR('Level 2'!X28-'Level 1'!X28,\"*\")","v":2.6100000000000012E-2},{"$f":"IFERROR('Level 2'!Y28-'Level 1'!Y28,\"*\")","v":"*"},null,{"$f":"'Level 1'!AA28","v":"Portugal"},{"$f":"IFERROR('Level 2'!AB28-'Level 1'!AB28,\"*\")","v":6.4999999999999919E-3},{"$f":"IFERROR('Level 2'!AC28-'Level 1'!AC28,\"*\")","v":1.1649999999999994E-2},{"$f":"IFERROR('Level 2'!AD28-'Level 1'!AD28,\"*\")","v":1.799999999999996E-3},{"$f":"IFERROR('Level 2'!AE28-'Level 1'!AE28,\"*\")","v":4.599999999999993E-3},{"$f":"IFERROR('Level 2'!AF28-'Level 1'!AF28,\"*\")","v":1.0199999999999987E-2},{"$f":"IFERROR('Level 2'!AG28-'Level 1'!AG28,\"*\")","v":1.2500000000000011E-2},{"$f":"IFERROR('Level 2'!AH28-'Level 1'!AH28,\"*\")","v":1.3299999999999992E-2},{"$f":"IFERROR('Level 2'!AI28-'Level 1'!AI28,\"*\")","v":1.3399999999999995E-2},{"$f":"IFERROR('Level 2'!AJ28-'Level 1'!AJ28,\"*\")","v":1.5199999999999991E-2},{"$f":"IFERROR('Level 2'!AK28-'Level 1'!AK28,\"*\")","v":1.8200000000000008E-2},{"$f":"IFERROR('Level 2'!AL28-'Level 1'!AL28,\"*\")","v":"*"},null,{"$f":"'Level 1'!AN28","v":"Portugal"},{"$f":"IFERROR('Level 2'!AO28-'Level 1'!AO28,\"*\")","v":4.9999999999999906E-3},{"$f":"IFERROR('Level 2'!AP28-'Level 1'!AP28,\"*\")","v":1.1099999999999999E-2},{"$f":"IFERROR('Level 2'!AQ28-'Level 1'!AQ28,\"*\")","v":9.4999999999999252E-4},{"$f":"IFERROR('Level 2'!AR28-'Level 1'!AR28,\"*\")","v":4.3000000000000121E-3},{"$f":"IFERROR('Level 2'!AS28-'Level 1'!AS28,\"*\")","v":8.0000000000000071E-3},{"$f":"IFERROR('Level 2'!AT28-'Level 1'!AT28,\"*\")","v":1.0349999999999998E-2},{"$f":"IFERROR('Level 2'!AU28-'Level 1'!AU28,\"*\")","v":9.3000000000000027E-3},{"$f":"IFERROR('Level 2'!AV28-'Level 1'!AV28,\"*\")","v":1.1900000000000022E-2},{"$f":"IFERROR('Level 2'!AW28-'Level 1'!AW28,\"*\")","v":1.3050000000000006E-2},{"$f":"IFERROR('Level 2'!AX28-'Level 1'!AX28,\"*\")","v":1.6499999999999987E-2},{"$f":"IFERROR('Level 2'!AY28-'Level 1'!AY28,\"*\")","v":"*"},null,{"$f":"'Level 1'!BA28","v":"Portugal"},{"$f":"IFERROR('Level 2'!BB28-'Level 1'!BB28,\"*\")","v":7.8000000000000083E-3},{"$f":"IFERROR('Level 2'!BC28-'Level 1'!BC28,\"*\")","v":1.150000000000001E-2},{"$f":"IFERROR('Level 2'!BD28-'Level 1'!BD28,\"*\")","v":1.2999999999999956E-3},{"$f":"IFERROR('Level 2'!BE28-'Level 1'!BE28,\"*\")","v":3.050000000000011E-3},{"$f":"IFERROR('Level 2'!BF28-'Level 1'!BF28,\"*\")","v":9.5499999999999891E-3},{"$f":"IFERROR('Level 2'!BG28-'Level 1'!BG28,\"*\")","v":1.1899999999999994E-2},{"$f":"IFERROR('Level 2'!BH28-'Level 1'!BH28,\"*\")","v":1.0350000000000012E-2},{"$f":"IFERROR('Level 2'!BI28-'Level 1'!BI28,\"*\")","v":1.0999999999999996E-2},{"$f":"IFERROR('Level 2'!BJ28-'Level 1'!BJ28,\"*\")","v":1.3700000000000004E-2},{"$f":"IFERROR('Level 2'!BK28-'Level 1'!BK28,\"*\")","v":1.6500000000000001E-2},{"$f":"IFERROR('Level 2'!BL28-'Level 1'!BL28,\"*\")","v":"*"},null,{"$f":"'Level 1'!BN28","v":"Portugal"},{"$f":"IFERROR('Level 2'!BO28-'Level 1'!BO28,\"*\")","v":8.199999999999999E-3},{"$f":"IFERROR('Level 2'!BP28-'Level 1'!BP28,\"*\")","v":1.0700000000000001E-2},{"$f":"IFERROR('Level 2'!BQ28-'Level 1'!BQ28,\"*\")","v":1.7499999999999877E-3},{"$f":"IFERROR('Level 2'!BR28-'Level 1'!BR28,\"*\")","v":1.9500000000000003E-3},{"$f":"IFERROR('Level 2'!BS28-'Level 1'!BS28,\"*\")","v":9.5999999999999905E-3},{"$f":"IFERROR('Level 2'!BT28-'Level 1'!BT28,\"*\")","v":5.0999999999999934E-3},{"$f":"IFERROR('Level 2'!BU28-'Level 1'!BU28,\"*\")","v":5.6499999999999884E-3},{"$f":"IFERROR('Level 2'!BV28-'Level 1'!BV28,\"*\")","v":1.344999999999999E-2},{"$f":"IFERROR('Level 2'!BW28-'Level 1'!BW28,\"*\")","v":1.3600000000000001E-2},{"$f":"IFERROR('Level 2'!BX28-'Level 1'!BX28,\"*\")","v":1.7200000000000007E-2},{"$f":"IFERROR('Level 2'!BY28-'Level 1'!BY28,\"*\")","v":"*"},null,{"$f":"'Level 1'!CA28","v":"Portugal"},{"$f":"IFERROR('Level 2'!CB28-'Level 1'!CB28,\"*\")","v":"*"},{"$f":"IFERROR('Level 2'!CC28-'Level 1'!CC28,\"*\")","v":"*"},{"$f":"IFERROR('Level 2'!CD28-'Level 1'!CD28,\"*\")","v":"*"},{"$f":"IFERROR('Level 2'!CE28-'Level 1'!CE28,\"*\")","v":"*"},{"$f":"IFERROR('Level 2'!CF28-'Level 1'!CF28,\"*\")","v":"*"},{"$f":"IFERROR('Level 2'!CG28-'Level 1'!CG28,\"*\")","v":"*"},{"$f":"IFERROR('Level 2'!CH28-'Level 1'!CH28,\"*\")","v":"*"},{"$f":"IFERROR('Level 2'!CI28-'Level 1'!CI28,\"*\")","v":"*"},{"$f":"IFERROR('Level 2'!CJ28-'Level 1'!CJ28,\"*\")","v":"*"},{"$f":"IFERROR('Level 2'!CK28-'Level 1'!CK28,\"*\")","v":"*"},{"$f":"IFERROR('Level 2'!CL28-'Level 1'!CL28,\"*\")","v":"*"}]
[{"$f":"'Level 1'!A29","v":"Romania"},{"$f":"IFERROR('Level 2'!B29-'Level 1'!B29,\"*\")","v":0},{"$f":"IFERROR('Level 2'!C29-'Level 1'!C29,\"*\")","v":0},{"$f":"IFERROR('Level 2'!D29-'Level 1'!D29,\"*\")","v":0},{"$f":"IFERROR('Level 2'!E29-'Level 1'!E29,\"*\")","v":0},{"$f":"IFERROR('Level 2'!F29-'Level 1'!F29,\"*\")","v":0},{"$f":"IFERROR('Level 2'!G29-'Level 1'!G29,\"*\")","v":0},{"$f":"IFERROR('Level 2'!H29-'Level 1'!H29,\"*\")","v":0},{"$f":"IFERROR('Level 2'!I29-'Level 1'!I29,\"*\")","v":1.1249999999999996E-2},{"$f":"IFERROR('Level 2'!J29-'Level 1'!J29,\"*\")","v":1.1599999999999999E-2},{"$f":"IFERROR('Level 2'!K29-'Level 1'!K29,\"*\")","v":1.319999999999999E-2},{"$f":"IFERROR('Level 2'!L29-'Level 1'!L29,\"*\")","v":"*"},null,{"$f":"'Level 1'!N29","v":"Romania"},{"$f":"IFERROR('Level 2'!O29-'Level 1'!O29,\"*\")","v":0},{"$f":"IFERROR('Level 2'!P29-'Level 1'!P29,\"*\")","v":0},{"$f":"IFERROR('Level 2'!Q29-'Level 1'!Q29,\"*\")","v":0},{"$f":"IFERROR('Level 2'!R29-'Level 1'!R29,\"*\")","v":0},{"$f":"IFERROR('Level 2'!S29-'Level 1'!S29,\"*\")","v":0},{"$f":"IFERROR('Level 2'!T29-'Level 1'!T29,\"*\")","v":0},{"$f":"IFERROR('Level 2'!U29-'Level 1'!U29,\"*\")","v":0},{"$f":"IFERROR('Level 2'!V29-'Level 1'!V29,\"*\")","v":1.1150000000000021E-2},{"$f":"IFERROR('Level 2'!W29-'Level 1'!W29,\"*\")","v":1.2050000000000005E-2},{"$f":"IFERROR('Level 2'!X29-'Level 1'!X29,\"*\")","v":1.2899999999999995E-2},{"$f":"IFERROR('Level 2'!Y29-'Level 1'!Y29,\"*\")","v":"*"},null,{"$f":"'Level 1'!AA29","v":"Romania"},{"$f":"IFERROR('Level 2'!AB29-'Level 1'!AB29,\"*\")","v":0},{"$f":"IFERROR('Level 2'!AC29-'Level 1'!AC29,\"*\")","v":0},{"$f":"IFERROR('Level 2'!AD29-'Level 1'!AD29,\"*\")","v":0},{"$f":"IFERROR('Level 2'!AE29-'Level 1'!AE29,\"*\")","v":0},{"$f":"IFERROR('Level 2'!AF29-'Level 1'!AF29,\"*\")","v":0},{"$f":"IFERROR('Level 2'!AG29-'Level 1'!AG29,\"*\")","v":0},{"$f":"IFERROR('Level 2'!AH29-'Level 1'!AH29,\"*\")","v":0},{"$f":"IFERROR('Level 2'!AI29-'Level 1'!AI29,\"*\")","v":1.1050000000000004E-2},{"$f":"IFERROR('Level 2'!AJ29-'Level 1'!AJ29,\"*\")","v":1.2200000000000016E-2},{"$f":"IFERROR('Level 2'!AK29-'Level 1'!AK29,\"*\")","v":1.2499999999999997E-2},{"$f":"IFERROR('Level 2'!AL29-'Level 1'!AL29,\"*\")","v":"*"},null,{"$f":"'Level 1'!AN29","v":"Romania"},{"$f":"IFERROR('Level 2'!AO29-'Level 1'!AO29,\"*\")","v":0},{"$f":"IFERROR('Level 2'!AP29-'Level 1'!AP29,\"*\")","v":0},{"$f":"IFERROR('Level 2'!AQ29-'Level 1'!AQ29,\"*\")","v":0},{"$f":"IFERROR('Level 2'!AR29-'Level 1'!AR29,\"*\")","v":0},{"$f":"IFERROR('Level 2'!AS29-'Level 1'!AS29,\"*\")","v":0},{"$f":"IFERROR('Level 2'!AT29-'Level 1'!AT29,\"*\")","v":0},{"$f":"IFERROR('Level 2'!AU29-'Level 1'!AU29,\"*\")","v":0},{"$f":"IFERROR('Level 2'!AV29-'Level 1'!AV29,\"*\")","v":1.0849999999999999E-2},{"$f":"IFERROR('Level 2'!AW29-'Level 1'!AW29,\"*\")","v":1.2150000000000008E-2},{"$f":"IFERROR('Level 2'!AX29-'Level 1'!AX29,\"*\")","v":1.2700000000000003E-2},{"$f":"IFERROR('Level 2'!AY29-'Level 1'!AY29,\"*\")","v":"*"},null,{"$f":"'Level 1'!BA29","v":"Romania"},{"$f":"IFERROR('Level 2'!BB29-'Level 1'!BB29,\"*\")","v":0},{"$f":"IFERROR('Level 2'!BC29-'Level 1'!BC29,\"*\")","v":0},{"$f":"IFERROR('Level 2'!BD29-'Level 1'!BD29,\"*\")","v":0},{"$f":"IFERROR('Level 2'!BE29-'Level 1'!BE29,\"*\")","v":0},{"$f":"IFERROR('Level 2'!BF29-'Level 1'!BF29,\"*\")","v":0},{"$f":"IFERROR('Level 2'!BG29-'Level 1'!BG29,\"*\")","v":0},{"$f":"IFERROR('Level 2'!BH29-'Level 1'!BH29,\"*\")","v":0},{"$f":"IFERROR('Level 2'!BI29-'Level 1'!BI29,\"*\")","v":1.0749999999999996E-2},{"$f":"IFERROR('Level 2'!BJ29-'Level 1'!BJ29,\"*\")","v":1.1800000000000005E-2},{"$f":"IFERROR('Level 2'!BK29-'Level 1'!BK29,\"*\")","v":1.1900000000000001E-2},{"$f":"IFERROR('Level 2'!BL29-'Level 1'!BL29,\"*\")","v":"*"},null,{"$f":"'Level 1'!BN29","v":"Romania"},{"$f":"IFERROR('Level 2'!BO29-'Level 1'!BO29,\"*\")","v":0},{"$f":"IFERROR('Level 2'!BP29-'Level 1'!BP29,\"*\")","v":0},{"$f":"IFERROR('Level 2'!BQ29-'Level 1'!BQ29,\"*\")","v":0},{"$f":"IFERROR('Level 2'!BR29-'Level 1'!BR29,\"*\")","v":0},{"$f":"IFERROR('Level 2'!BS29-'Level 1'!BS29,\"*\")","v":0},{"$f":"IFERROR('Level 2'!BT29-'Level 1'!BT29,\"*\")","v":0},{"$f":"IFERROR('Level 2'!BU29-'Level 1'!BU29,\"*\")","v":0},{"$f":"IFERROR('Level 2'!BV29-'Level 1'!BV29,\"*\")","v":1.0399999999999993E-2},{"$f":"IFERROR('Level 2'!BW29-'Level 1'!BW29,\"*\")","v":1.0749999999999996E-2},{"$f":"IFERROR('Level 2'!BX29-'Level 1'!BX29,\"*\")","v":1.2100000000000007E-2},{"$f":"IFERROR('Level 2'!BY29-'Level 1'!BY29,\"*\")","v":"*"},null,{"$f":"'Level 1'!CA29","v":"Romania"},{"$f":"IFERROR('Level 2'!CB29-'Level 1'!CB29,\"*\")","v":"*"},{"$f":"IFERROR('Level 2'!CC29-'Level 1'!CC29,\"*\")","v":"*"},{"$f":"IFERROR('Level 2'!CD29-'Level 1'!CD29,\"*\")","v":"*"},{"$f":"IFERROR('Level 2'!CE29-'Level 1'!CE29,\"*\")","v":"*"},{"$f":"IFERROR('Level 2'!CF29-'Level 1'!CF29,\"*\")","v":"*"},{"$f":"IFERROR('Level 2'!CG29-'Level 1'!CG29,\"*\")","v":"*"},{"$f":"IFERROR('Level 2'!CH29-'Level 1'!CH29,\"*\")","v":"*"},{"$f":"IFERROR('Level 2'!CI29-'Level 1'!CI29,\"*\")","v":"*"},{"$f":"IFERROR('Level 2'!CJ29-'Level 1'!CJ29,\"*\")","v":"*"},{"$f":"IFERROR('Level 2'!CK29-'Level 1'!CK29,\"*\")","v":"*"},{"$f":"IFERROR('Level 2'!CL29-'Level 1'!CL29,\"*\")","v":"*"}]
[{"$f":"'Level 1'!A30","v":"Slovenia"},{"$f":"IFERROR('Level 2'!B30-'Level 1'!B30,\"*\")","v":6.5999999999999948E-3},{"$f":"IFERROR('Level 2'!C30-'Level 1'!C30,\"*\")","v":3.9499999999999813E-3},{"$f":"IFERROR('Level 2'!D30-'Level 1'!D30,\"*\")","v":8.7999999999999745E-3},{"$f":"IFERROR('Level 2'!E30-'Level 1'!E30,\"*\")","v":1.5649999999999997E-2},{"$f":"IFERROR('Level 2'!F30-'Level 1'!F30,\"*\")","v":1.4550000000000007E-2},{"$f":"IFERROR('Level 2'!G30-'Level 1'!G30,\"*\")","v":1.2650000000000022E-2},{"$f":"IFERROR('Level 2'!H30-'Level 1'!H30,\"*\")","v":2.6400000000000007E-2},{"$f":"IFERROR('Level 2'!I30-'Level 1'!I30,\"*\")","v":2.8400000000000009E-2},{"$f":"IFERROR('Level 2'!J30-'Level 1'!J30,\"*\")","v":2.9999999999999971E-2},{"$f":"IFERROR('Level 2'!K30-'Level 1'!K30,\"*\")","v":3.330000000000001E-2},{"$f":"IFERROR('Level 2'!L30-'Level 1'!L30,\"*\")","v":"*"},null,{"$f":"'Level 1'!N30","v":"Slovenia"},{"$f":"IFERROR('Level 2'!O30-'Level 1'!O30,\"*\")","v":4.0000000000000036E-3},{"$f":"IFERROR('Level 2'!P30-'Level 1'!P30,\"*\")","v":3.2999999999999974E-3},{"$f":"IFERROR('Level 2'!Q30-'Level 1'!Q30,\"*\")","v":3.7500000000000033E-3},{"$f":"IFERROR('Level 2'!R30-'Level 1'!R30,\"*\")","v":8.10000000000001E-3},{"$f":"IFERROR('Level 2'!S30-'Level 1'!S30,\"*\")","v":8.0000000000000071E-3},{"$f":"IFERROR('Level 2'!T30-'Level 1'!T30,\"*\")","v":7.1499999999999897E-3},{"$f":"IFERROR('Level 2'!U30-'Level 1'!U30,\"*\")","v":1.2249999999999997E-2},{"$f":"IFERROR('Level 2'!V30-'Level 1'!V30,\"*\")","v":1.2500000000000011E-2},{"$f":"IFERROR('Level 2'!W30-'Level 1'!W30,\"*\")","v":1.4899999999999997E-2},{"$f":"IFERROR('Level 2'!X30-'Level 1'!X30,\"*\")","v":1.7600000000000005E-2},{"$f":"IFERROR('Level 2'!Y30-'Level 1'!Y30,\"*\")","v":"*"},null,{"$f":"'Level 1'!AA30","v":"Slovenia"},{"$f":"IFERROR('Level 2'!AB30-'Level 1'!AB30,\"*\")","v":3.7999999999999978E-3},{"$f":"IFERROR('Level 2'!AC30-'Level 1'!AC30,\"*\")","v":3.1000000000000055E-3},{"$f":"IFERROR('Level 2'!AD30-'Level 1'!AD30,\"*\")","v":4.1500000000000009E-3},{"$f":"IFERROR('Level 2'!AE30-'Level 1'!AE30,\"*\")","v":8.8500000000000106E-3},{"$f":"IFERROR('Level 2'!AF30-'Level 1'!AF30,\"*\")","v":8.649999999999991E-3},{"$f":"IFERROR('Level 2'!AG30-'Level 1'!AG30,\"*\")","v":7.5500000000000012E-3},{"$f":"IFERROR('Level 2'!AH30-'Level 1'!AH30,\"*\")","v":1.2399999999999994E-2},{"$f":"IFERROR('Level 2'!AI30-'Level 1'!AI30,\"*\")","v":1.1150000000000007E-2},{"$f":"IFERROR('Level 2'!AJ30-'Level 1'!AJ30,\"*\")","v":1.3599999999999987E-2},{"$f":"IFERROR('Level 2'!AK30-'Level 1'!AK30,\"*\")","v":1.6899999999999998E-2},{"$f":"IFERROR('Level 2'!AL30-'Level 1'!AL30,\"*\")","v":"*"},null,{"$f":"'Level 1'!AN30","v":"Slovenia"},{"$f":"IFERROR('Level 2'!AO30-'Level 1'!AO30,\"*\")","v":3.7999999999999978E-3},{"$f":"IFERROR('Level 2'!AP30-'Level 1'!AP30,\"*\")","v":2.8999999999999998E-3},{"$f":"IFERROR('Level 2'!AQ30-'Level 1'!AQ30,\"*\")","v":3.7500000000000033E-3},{"$f":"IFERROR('Level 2'!AR30-'Level 1'!AR30,\"*\")","v":8.8499999999999968E-3},{"$f":"IFERROR('Level 2'!AS30-'Level 1'!AS30,\"*\")","v":8.3499999999999963E-3},{"$f":"IFERROR('Level 2'!AT30-'Level 1'!AT30,\"*\")","v":7.4499999999999983E-3},{"$f":"IFERROR('Level 2'!AU30-'Level 1'!AU30,\"*\")","v":1.1499999999999996E-2},{"$f":"IFERROR('Level 2'!AV30-'Level 1'!AV30,\"*\")","v":9.199999999999986E-3},{"$f":"IFERROR('Level 2'!AW30-'Level 1'!AW30,\"*\")","v":1.075000000000001E-2},{"$f":"IFERROR('Level 2'!AX30-'Level 1'!AX30,\"*\")","v":1.1799999999999998E-2},{"$f":"IFERROR('Level 2'!AY30-'Level 1'!AY30,\"*\")","v":"*"},null,{"$f":"'Level 1'!BA30","v":"Slovenia"},{"$f":"IFERROR('Level 2'!BB30-'Level 1'!BB30,\"*\")","v":3.1999999999999945E-3},{"$f":"IFERROR('Level 2'!BC30-'Level 1'!BC30,\"*\")","v":2.700000000000001E-3},{"$f":"IFERROR('Level 2'!BD30-'Level 1'!BD30,\"*\")","v":3.0000000000000027E-3},{"$f":"IFERROR('Level 2'!BE30-'Level 1'!BE30,\"*\")","v":7.4000000000000038E-3},{"$f":"IFERROR('Level 2'!BF30-'Level 1'!BF30,\"*\")","v":7.4499999999999983E-3},{"$f":"IFERROR('Level 2'!BG30-'Level 1'!BG30,\"*\")","v":6.6999999999999976E-3},{"$f":"IFERROR('Level 2'!BH30-'Level 1'!BH30,\"*\")","v":1.0050000000000003E-2},{"$f":"IFERROR('Level 2'!BI30-'Level 1'!BI30,\"*\")","v":7.9499999999999987E-3},{"$f":"IFERROR('Level 2'!BJ30-'Level 1'!BJ30,\"*\")","v":8.5499999999999882E-3},{"$f":"IFERROR('Level 2'!BK30-'Level 1'!BK30,\"*\")","v":8.8999999999999982E-3},{"$f":"IFERROR('Level 2'!BL30-'Level 1'!BL30,\"*\")","v":"*"},null,{"$f":"'Level 1'!BN30","v":"Slovenia"},{"$f":"IFERROR('Level 2'!BO30-'Level 1'!BO30,\"*\")","v":3.4000000000000002E-3},{"$f":"IFERROR('Level 2'!BP30-'Level 1'!BP30,\"*\")","v":2.7999999999999969E-3},{"$f":"IFERROR('Level 2'!BQ30-'Level 1'!BQ30,\"*\")","v":2.3000000000000104E-3},{"$f":"IFERROR('Level 2'!BR30-'Level 1'!BR30,\"*\")","v":7.7499999999999791E-3},{"$f":"IFERROR('Level 2'!BS30-'Level 1'!BS30,\"*\")","v":7.8999999999999904E-3},{"$f":"IFERROR('Level 2'!BT30-'Level 1'!BT30,\"*\")","v":6.6500000000000031E-3},{"$f":"IFERROR('Level 2'!BU30-'Level 1'!BU30,\"*\")","v":9.9999999999999811E-3},{"$f":"IFERROR('Level 2'!BV30-'Level 1'!BV30,\"*\")","v":7.6999999999999985E-3},{"$f":"IFERROR('Level 2'!BW30-'Level 1'!BW30,\"*\")","v":7.0000000000000062E-3},{"$f":"IFERROR('Level 2'!BX30-'Level 1'!BX30,\"*\")","v":5.2999999999999992E-3},{"$f":"IFERROR('Level 2'!BY30-'Level 1'!BY30,\"*\")","v":"*"},null,{"$f":"'Level 1'!CA30","v":"Slovenia"},{"$f":"IFERROR('Level 2'!CB30-'Level 1'!CB30,\"*\")","v":"*"},{"$f":"IFERROR('Level 2'!CC30-'Level 1'!CC30,\"*\")","v":"*"},{"$f":"IFERROR('Level 2'!CD30-'Level 1'!CD30,\"*\")","v":"*"},{"$f":"IFERROR('Level 2'!CE30-'Level 1'!CE30,\"*\")","v":"*"},{"$f":"IFERROR('Level 2'!CF30-'Level 1'!CF30,\"*\")","v":"*"},{"$f":"IFERROR('Level 2'!CG30-'Level 1'!CG30,\"*\")","v":"*"},{"$f":"IFERROR('Level 2'!CH30-'Level 1'!CH30,\"*\")","v":"*"},{"$f":"IFERROR('Level 2'!CI30-'Level 1'!CI30,\"*\")","v":"*"},{"$f":"IFERROR('Level 2'!CJ30-'Level 1'!CJ30,\"*\")","v":"*"},{"$f":"IFERROR('Level 2'!CK30-'Level 1'!CK30,\"*\")","v":"*"},{"$f":"IFERROR('Level 2'!CL30-'Level 1'!CL30,\"*\")","v":"*"}]
[{"$f":"'Level 1'!A31","v":"Slovakia"},{"$f":"IFERROR('Level 2'!B31-'Level 1'!B31,\"*\")","v":0},{"$f":"IFERROR('Level 2'!C31-'Level 1'!C31,\"*\")","v":3.5000000000001696E-4},{"$f":"IFERROR('Level 2'!D31-'Level 1'!D31,\"*\")","v":6.9999999999997842E-4},{"$f":"IFERROR('Level 2'!E31-'Level 1'!E31,\"*\")","v":1.2999999999999678E-3},{"$f":"IFERROR('Level 2'!F31-'Level 1'!F31,\"*\")","v":4.300000000000026E-3},{"$f":"IFERROR('Level 2'!G31-'Level 1'!G31,\"*\")","v":4.3499999999999928E-3},{"$f":"IFERROR('Level 2'!H31-'Level 1'!H31,\"*\")","v":4.4500000000000095E-3},{"$f":"IFERROR('Level 2'!I31-'Level 1'!I31,\"*\")","v":4.500000000000004E-3},{"$f":"IFERROR('Level 2'!J31-'Level 1'!J31,\"*\")","v":4.500000000000004E-3},{"$f":"IFERROR('Level 2'!K31-'Level 1'!K31,\"*\")","v":4.500000000000004E-3},{"$f":"IFERROR('Level 2'!L31-'Level 1'!L31,\"*\")","v":"*"},null,{"$f":"'Level 1'!N31","v":"Slovakia"},{"$f":"IFERROR('Level 2'!O31-'Level 1'!O31,\"*\")","v":0},{"$f":"IFERROR('Level 2'!P31-'Level 1'!P31,\"*\")","v":3.5000000000001696E-4},{"$f":"IFERROR('Level 2'!Q31-'Level 1'!Q31,\"*\")","v":6.9999999999997842E-4},{"$f":"IFERROR('Level 2'!R31-'Level 1'!R31,\"*\")","v":1.2999999999999678E-3},{"$f":"IFERROR('Level 2'!S31-'Level 1'!S31,\"*\")","v":4.300000000000026E-3},{"$f":"IFERROR('Level 2'!T31-'Level 1'!T31,\"*\")","v":4.3499999999999928E-3},{"$f":"IFERROR('Level 2'!U31-'Level 1'!U31,\"*\")","v":4.4500000000000095E-3},{"$f":"IFERROR('Level 2'!V31-'Level 1'!V31,\"*\")","v":4.500000000000004E-3},{"$f":"IFERROR('Level 2'!W31-'Level 1'!W31,\"*\")","v":4.500000000000004E-3},{"$f":"IFERROR('Level 2'!X31-'Level 1'!X31,\"*\")","v":4.500000000000004E-3},{"$f":"IFERROR('Level 2'!Y31-'Level 1'!Y31,\"*\")","v":"*"},null,{"$f":"'Level 1'!AA31","v":"Slovakia"},{"$f":"IFERROR('Level 2'!AB31-'Level 1'!AB31,\"*\")","v":0},{"$f":"IFERROR('Level 2'!AC31-'Level 1'!AC31,\"*\")","v":2.9999999999999472E-4},{"$f":"IFERROR('Level 2'!AD31-'Level 1'!AD31,\"*\")","v":7.0000000000000617E-4},{"$f":"IFERROR('Level 2'!AE31-'Level 1'!AE31,\"*\")","v":1.3000000000000234E-3},{"$f":"IFERROR('Level 2'!AF31-'Level 1'!AF31,\"*\")","v":4.2999999999999844E-3},{"$f":"IFERROR('Level 2'!AG31-'Level 1'!AG31,\"*\")","v":4.3499999999999928E-3},{"$f":"IFERROR('Level 2'!AH31-'Level 1'!AH31,\"*\")","v":4.4500000000000095E-3},{"$f":"IFERROR('Level 2'!AI31-'Level 1'!AI31,\"*\")","v":4.4999999999999901E-3},{"$f":"IFERROR('Level 2'!AJ31-'Level 1'!AJ31,\"*\")","v":4.500000000000004E-3},{"$f":"IFERROR('Level 2'!AK31-'Level 1'!AK31,\"*\")","v":4.500000000000004E-3},{"$f":"IFERROR('Level 2'!AL31-'Level 1'!AL31,\"*\")","v":"*"},null,{"$f":"'Level 1'!AN31","v":"Slovakia"},{"$f":"IFERROR('Level 2'!AO31-'Level 1'!AO31,\"*\")","v":0},{"$f":"IFERROR('Level 2'!AP31-'Level 1'!AP31,\"*\")","v":2.9999999999999472E-4},{"$f":"IFERROR('Level 2'!AQ31-'Level 1'!AQ31,\"*\")","v":6.9999999999997842E-4},{"$f":"IFERROR('Level 2'!AR31-'Level 1'!AR31,\"*\")","v":1.3000000000000095E-3},{"$f":"IFERROR('Level 2'!AS31-'Level 1'!AS31,\"*\")","v":4.2999999999999983E-3},{"$f":"IFERROR('Level 2'!AT31-'Level 1'!AT31,\"*\")","v":4.3500000000000205E-3},{"$f":"IFERROR('Level 2'!AU31-'Level 1'!AU31,\"*\")","v":4.4500000000000095E-3},{"$f":"IFERROR('Level 2'!AV31-'Level 1'!AV31,\"*\")","v":4.500000000000004E-3},{"$f":"IFERROR('Level 2'!AW31-'Level 1'!AW31,\"*\")","v":4.500000000000004E-3},{"$f":"IFERROR('Level 2'!AX31-'Level 1'!AX31,\"*\")","v":4.500000000000004E-3},{"$f":"IFERROR('Level 2'!AY31-'Level 1'!AY31,\"*\")","v":"*"},null,{"$f":"'Level 1'!BA31","v":"Slovakia"},{"$f":"IFERROR('Level 2'!BB31-'Level 1'!BB31,\"*\")","v":0},{"$f":"IFERROR('Level 2'!BC31-'Level 1'!BC31,\"*\")","v":3.0000000000000859E-4},{"$f":"IFERROR('Level 2'!BD31-'Level 1'!BD31,\"*\")","v":6.999999999999923E-4},{"$f":"IFERROR('Level 2'!BE31-'Level 1'!BE31,\"*\")","v":1.2999999999999956E-3},{"$f":"IFERROR('Level 2'!BF31-'Level 1'!BF31,\"*\")","v":4.2999999999999983E-3},{"$f":"IFERROR('Level 2'!BG31-'Level 1'!BG31,\"*\")","v":4.3500000000000066E-3},{"$f":"IFERROR('Level 2'!BH31-'Level 1'!BH31,\"*\")","v":4.4499999999999956E-3},{"$f":"IFERROR('Level 2'!BI31-'Level 1'!BI31,\"*\")","v":4.500000000000004E-3},{"$f":"IFERROR('Level 2'!BJ31-'Level 1'!BJ31,\"*\")","v":4.500000000000004E-3},{"$f":"IFERROR('Level 2'!BK31-'Level 1'!BK31,\"*\")","v":4.500000000000004E-3},{"$f":"IFERROR('Level 2'!BL31-'Level 1'!BL31,\"*\")","v":"*"},null,{"$f":"'Level 1'!BN31","v":"Slovakia"},{"$f":"IFERROR('Level 2'!BO31-'Level 1'!BO31,\"*\")","v":0},{"$f":"IFERROR('Level 2'!BP31-'Level 1'!BP31,\"*\")","v":3.5000000000000309E-4},{"$f":"IFERROR('Level 2'!BQ31-'Level 1'!BQ31,\"*\")","v":6.999999999999923E-4},{"$f":"IFERROR('Level 2'!BR31-'Level 1'!BR31,\"*\")","v":1.2999999999999956E-3},{"$f":"IFERROR('Level 2'!BS31-'Level 1'!BS31,\"*\")","v":4.2999999999999983E-3},{"$f":"IFERROR('Level 2'!BT31-'Level 1'!BT31,\"*\")","v":4.3500000000000066E-3},{"$f":"IFERROR('Level 2'!BU31-'Level 1'!BU31,\"*\")","v":4.4499999999999956E-3},{"$f":"IFERROR('Level 2'!BV31-'Level 1'!BV31,\"*\")","v":4.500000000000004E-3},{"$f":"IFERROR('Level 2'!BW31-'Level 1'!BW31,\"*\")","v":4.500000000000004E-3},{"$f":"IFERROR('Level 2'!BX31-'Level 1'!BX31,\"*\")","v":4.500000000000004E-3},{"$f":"IFERROR('Level 2'!BY31-'Level 1'!BY31,\"*\")","v":"*"},null,{"$f":"'Level 1'!CA31","v":"Slovakia"},{"$f":"IFERROR('Level 2'!CB31-'Level 1'!CB31,\"*\")","v":0},{"$f":"IFERROR('Level 2'!CC31-'Level 1'!CC31,\"*\")","v":3.0000000000000859E-4},{"$f":"IFERROR('Level 2'!CD31-'Level 1'!CD31,\"*\")","v":7.0000000000000617E-4},{"$f":"IFERROR('Level 2'!CE31-'Level 1'!CE31,\"*\")","v":1.3000000000000234E-3},{"$f":"IFERROR('Level 2'!CF31-'Level 1'!CF31,\"*\")","v":4.2999999999999983E-3},{"$f":"IFERROR('Level 2'!CG31-'Level 1'!CG31,\"*\")","v":4.3499999999999928E-3},{"$f":"IFERROR('Level 2'!CH31-'Level 1'!CH31,\"*\")","v":4.4499999999999956E-3},{"$f":"IFERROR('Level 2'!CI31-'Level 1'!CI31,\"*\")","v":4.4999999999999901E-3},{"$f":"IFERROR('Level 2'!CJ31-'Level 1'!CJ31,\"*\")","v":4.4999999999999901E-3},{"$f":"IFERROR('Level 2'!CK31-'Level 1'!CK31,\"*\")","v":4.500000000000004E-3},{"$f":"IFERROR('Level 2'!CL31-'Level 1'!CL31,\"*\")","v":"*"}]
[{"$f":"'Level 1'!A32","v":"Finland"},{"$f":"IFERROR('Level 2'!B32-'Level 1'!B32,\"*\")","v":2.2999999999999965E-3},{"$f":"IFERROR('Level 2'!C32-'Level 1'!C32,\"*\")","v":2.5999999999999912E-3},{"$f":"IFERROR('Level 2'!D32-'Level 1'!D32,\"*\")","v":2.6000000000000051E-3},{"$f":"IFERROR('Level 2'!E32-'Level 1'!E32,\"*\")","v":2.6499999999999996E-3},{"$f":"IFERROR('Level 2'!F32-'Level 1'!F32,\"*\")","v":7.0000000000000062E-3},{"$f":"IFERROR('Level 2'!G32-'Level 1'!G32,\"*\")","v":7.0500000000000007E-3},{"$f":"IFERROR('Level 2'!H32-'Level 1'!H32,\"*\")","v":7.0500000000000007E-3},{"$f":"IFERROR('Level 2'!I32-'Level 1'!I32,\"*\")","v":7.0999999999999952E-3},{"$f":"IFERROR('Level 2'!J32-'Level 1'!J32,\"*\")","v":7.0000000000000062E-3},{"$f":"IFERROR('Level 2'!K32-'Level 1'!K32,\"*\")","v":6.9999999999999923E-3},{"$f":"IFERROR('Level 2'!L32-'Level 1'!L32,\"*\")","v":"*"},null,{"$f":"'Level 1'!N32","v":"Finland"},{"$f":"IFERROR('Level 2'!O32-'Level 1'!O32,\"*\")","v":2.2999999999999965E-3},{"$f":"IFERROR('Level 2'!P32-'Level 1'!P32,\"*\")","v":2.5999999999999912E-3},{"$f":"IFERROR('Level 2'!Q32-'Level 1'!Q32,\"*\")","v":2.5999999999999912E-3},{"$f":"IFERROR('Level 2'!R32-'Level 1'!R32,\"*\")","v":2.6499999999999996E-3},{"$f":"IFERROR('Level 2'!S32-'Level 1'!S32,\"*\")","v":7.0499999999999868E-3},{"$f":"IFERROR('Level 2'!T32-'Level 1'!T32,\"*\")","v":7.0500000000000007E-3},{"$f":"IFERROR('Level 2'!U32-'Level 1'!U32,\"*\")","v":7.0499999999999868E-3},{"$f":"IFERROR('Level 2'!V32-'Level 1'!V32,\"*\")","v":6.9999999999999785E-3},{"$f":"IFERROR('Level 2'!W32-'Level 1'!W32,\"*\")","v":7.0499999999999868E-3},{"$f":"IFERROR('Level 2'!X32-'Level 1'!X32,\"*\")","v":6.9999999999999923E-3},{"$f":"IFERROR('Level 2'!Y32-'Level 1'!Y32,\"*\")","v":"*"},null,{"$f":"'Level 1'!AA32","v":"Finland"},{"$f":"IFERROR('Level 2'!AB32-'Level 1'!AB32,\"*\")","v":2.3000000000000034E-3},{"$f":"IFERROR('Level 2'!AC32-'Level 1'!AC32,\"*\")","v":2.6500000000000135E-3},{"$f":"IFERROR('Level 2'!AD32-'Level 1'!AD32,\"*\")","v":2.6499999999999857E-3},{"$f":"IFERROR('Level 2'!AE32-'Level 1'!AE32,\"*\")","v":2.6000000000000051E-3},{"$f":"IFERROR('Level 2'!AF32-'Level 1'!AF32,\"*\")","v":7.0000000000000062E-3},{"$f":"IFERROR('Level 2'!AG32-'Level 1'!AG32,\"*\")","v":7.0999999999999952E-3},{"$f":"IFERROR('Level 2'!AH32-'Level 1'!AH32,\"*\")","v":7.0500000000000007E-3},{"$f":"IFERROR('Level 2'!AI32-'Level 1'!AI32,\"*\")","v":7.0000000000000062E-3},{"$f":"IFERROR('Level 2'!AJ32-'Level 1'!AJ32,\"*\")","v":7.0499999999999868E-3},{"$f":"IFERROR('Level 2'!AK32-'Level 1'!AK32,\"*\")","v":7.1000000000000021E-3},{"$f":"IFERROR('Level 2'!AL32-'Level 1'!AL32,\"*\")","v":"*"},null,{"$f":"'Level 1'!AN32","v":"Finland"},{"$f":"IFERROR('Level 2'!AO32-'Level 1'!AO32,\"*\")","v":2.2999999999999965E-3},{"$f":"IFERROR('Level 2'!AP32-'Level 1'!AP32,\"*\")","v":2.5999999999999912E-3},{"$f":"IFERROR('Level 2'!AQ32-'Level 1'!AQ32,\"*\")","v":2.5999999999999912E-3},{"$f":"IFERROR('Level 2'!AR32-'Level 1'!AR32,\"*\")","v":2.6499999999999857E-3},{"$f":"IFERROR('Level 2'!AS32-'Level 1'!AS32,\"*\")","v":7.0000000000000062E-3},{"$f":"IFERROR('Level 2'!AT32-'Level 1'!AT32,\"*\")","v":6.9999999999999923E-3},{"$f":"IFERROR('Level 2'!AU32-'Level 1'!AU32,\"*\")","v":7.0500000000000007E-3},{"$f":"IFERROR('Level 2'!AV32-'Level 1'!AV32,\"*\")","v":7.0999999999999952E-3},{"$f":"IFERROR('Level 2'!AW32-'Level 1'!AW32,\"*\")","v":7.0499999999999938E-3},{"$f":"IFERROR('Level 2'!AX32-'Level 1'!AX32,\"*\")","v":6.9999999999999993E-3},{"$f":"IFERROR('Level 2'!AY32-'Level 1'!AY32,\"*\")","v":"*"},null,{"$f":"'Level 1'!BA32","v":"Finland"},{"$f":"IFERROR('Level 2'!BB32-'Level 1'!BB32,\"*\")","v":2.3000000000000034E-3},{"$f":"IFERROR('Level 2'!BC32-'Level 1'!BC32,\"*\")","v":2.5999999999999912E-3},{"$f":"IFERROR('Level 2'!BD32-'Level 1'!BD32,\"*\")","v":2.6000000000000051E-3},{"$f":"IFERROR('Level 2'!BE32-'Level 1'!BE32,\"*\")","v":2.6499999999999996E-3},{"$f":"IFERROR('Level 2'!BF32-'Level 1'!BF32,\"*\")","v":7.0000000000000062E-3},{"$f":"IFERROR('Level 2'!BG32-'Level 1'!BG32,\"*\")","v":6.9999999999999993E-3},{"$f":"IFERROR('Level 2'!BH32-'Level 1'!BH32,\"*\")","v":6.9999999999999923E-3},{"$f":"IFERROR('Level 2'!BI32-'Level 1'!BI32,\"*\")","v":7.0000000000000062E-3},{"$f":"IFERROR('Level 2'!BJ32-'Level 1'!BJ32,\"*\")","v":7.0500000000000076E-3},{"$f":"IFERROR('Level 2'!BK32-'Level 1'!BK32,\"*\")","v":6.9999999999999993E-3},{"$f":"IFERROR('Level 2'!BL32-'Level 1'!BL32,\"*\")","v":"*"},null,{"$f":"'Level 1'!BN32","v":"Finland"},{"$f":"IFERROR('Level 2'!BO32-'Level 1'!BO32,\"*\")","v":2.2999999999999965E-3},{"$f":"IFERROR('Level 2'!BP32-'Level 1'!BP32,\"*\")","v":2.5999999999999981E-3},{"$f":"IFERROR('Level 2'!BQ32-'Level 1'!BQ32,\"*\")","v":2.6000000000000051E-3},{"$f":"IFERROR('Level 2'!BR32-'Level 1'!BR32,\"*\")","v":2.6499999999999996E-3},{"$f":"IFERROR('Level 2'!BS32-'Level 1'!BS32,\"*\")","v":6.9999999999999993E-3},{"$f":"IFERROR('Level 2'!BT32-'Level 1'!BT32,\"*\")","v":7.0500000000000007E-3},{"$f":"IFERROR('Level 2'!BU32-'Level 1'!BU32,\"*\")","v":7.0500000000000076E-3},{"$f":"IFERROR('Level 2'!BV32-'Level 1'!BV32,\"*\")","v":6.9999999999999923E-3},{"$f":"IFERROR('Level 2'!BW32-'Level 1'!BW32,\"*\")","v":7.0500000000000007E-3},{"$f":"IFERROR('Level 2'!BX32-'Level 1'!BX32,\"*\")","v":7.1000000000000021E-3},{"$f":"IFERROR('Level 2'!BY32-'Level 1'!BY32,\"*\")","v":"*"},null,{"$f":"'Level 1'!CA32","v":"Finland"},{"$f":"IFERROR('Level 2'!CB32-'Level 1'!CB32,\"*\")","v":"*"},{"$f":"IFERROR('Level 2'!CC32-'Level 1'!CC32,\"*\")","v":"*"},{"$f":"IFERROR('Level 2'!CD32-'Level 1'!CD32,\"*\")","v":"*"},{"$f":"IFERROR('Level 2'!CE32-'Level 1'!CE32,\"*\")","v":"*"},{"$f":"IFERROR('Level 2'!CF32-'Level 1'!CF32,\"*\")","v":"*"},{"$f":"IFERROR('Level 2'!CG32-'Level 1'!CG32,\"*\")","v":"*"},{"$f":"IFERROR('Level 2'!CH32-'Level 1'!CH32,\"*\")","v":"*"},{"$f":"IFERROR('Level 2'!CI32-'Level 1'!CI32,\"*\")","v":"*"},{"$f":"IFERROR('Level 2'!CJ32-'Level 1'!CJ32,\"*\")","v":"*"},{"$f":"IFERROR('Level 2'!CK32-'Level 1'!CK32,\"*\")","v":"*"},{"$f":"IFERROR('Level 2'!CL32-'Level 1'!CL32,\"*\")","v":"*"}]
[{"$f":"'Level 1'!A33","v":"Sweden"},{"$f":"IFERROR('Level 2'!B33-'Level 1'!B33,\"*\")","v":5.5000000000000882E-4},{"$f":"IFERROR('Level 2'!C33-'Level 1'!C33,\"*\")","v":4.9999999999998657E-4},{"$f":"IFERROR('Level 2'!D33-'Level 1'!D33,\"*\")","v":5.0000000000000044E-4},{"$f":"IFERROR('Level 2'!E33-'Level 1'!E33,\"*\")","v":5.4999999999999494E-4},{"$f":"IFERROR('Level 2'!F33-'Level 1'!F33,\"*\")","v":5.0000000000000044E-4},{"$f":"IFERROR('Level 2'!G33-'Level 1'!G33,\"*\")","v":6.0000000000001719E-4},{"$f":"IFERROR('Level 2'!H33-'Level 1'!H33,\"*\")","v":5.9999999999998943E-4},{"$f":"IFERROR('Level 2'!I33-'Level 1'!I33,\"*\")","v":5.5000000000002269E-4},{"$f":"IFERROR('Level 2'!J33-'Level 1'!J33,\"*\")","v":5.0000000000000044E-4},{"$f":"IFERROR('Level 2'!K33-'Level 1'!K33,\"*\")","v":5.0000000000000044E-4},{"$f":"IFERROR('Level 2'!L33-'Level 1'!L33,\"*\")","v":"*"},null,{"$f":"'Level 1'!N33","v":"Sweden"},{"$f":"IFERROR('Level 2'!O33-'Level 1'!O33,\"*\")","v":5.4999999999999494E-4},{"$f":"IFERROR('Level 2'!P33-'Level 1'!P33,\"*\")","v":5.4999999999999494E-4},{"$f":"IFERROR('Level 2'!Q33-'Level 1'!Q33,\"*\")","v":4.5000000000000595E-4},{"$f":"IFERROR('Level 2'!R33-'Level 1'!R33,\"*\")","v":5.0000000000000044E-4},{"$f":"IFERROR('Level 2'!S33-'Level 1'!S33,\"*\")","v":5.5000000000000882E-4},{"$f":"IFERROR('Level 2'!T33-'Level 1'!T33,\"*\")","v":6.0000000000000331E-4},{"$f":"IFERROR('Level 2'!U33-'Level 1'!U33,\"*\")","v":6.0000000000001719E-4},{"$f":"IFERROR('Level 2'!V33-'Level 1'!V33,\"*\")","v":5.5000000000000882E-4},{"$f":"IFERROR('Level 2'!W33-'Level 1'!W33,\"*\")","v":5.0000000000000044E-4},{"$f":"IFERROR('Level 2'!X33-'Level 1'!X33,\"*\")","v":5.0000000000000044E-4},{"$f":"IFERROR('Level 2'!Y33-'Level 1'!Y33,\"*\")","v":"*"},null,{"$f":"'Level 1'!AA33","v":"Sweden"},{"$f":"IFERROR('Level 2'!AB33-'Level 1'!AB33,\"*\")","v":5.0000000000000044E-4},{"$f":"IFERROR('Level 2'!AC33-'Level 1'!AC33,\"*\")","v":5.0000000000000044E-4},{"$f":"IFERROR('Level 2'!AD33-'Level 1'!AD33,\"*\")","v":5.0000000000000044E-4},{"$f":"IFERROR('Level 2'!AE33-'Level 1'!AE33,\"*\")","v":5.0000000000000044E-4},{"$f":"IFERROR('Level 2'!AF33-'Level 1'!AF33,\"*\")","v":5.5000000000000882E-4},{"$f":"IFERROR('Level 2'!AG33-'Level 1'!AG33,\"*\")","v":5.5000000000000882E-4},{"$f":"IFERROR('Level 2'!AH33-'Level 1'!AH33,\"*\")","v":5.5000000000000882E-4},{"$f":"IFERROR('Level 2'!AI33-'Level 1'!AI33,\"*\")","v":5.5000000000000882E-4},{"$f":"IFERROR('Level 2'!AJ33-'Level 1'!AJ33,\"*\")","v":5.0000000000000044E-4},{"$f":"IFERROR('Level 2'!AK33-'Level 1'!AK33,\"*\")","v":5.0000000000000044E-4},{"$f":"IFERROR('Level 2'!AL33-'Level 1'!AL33,\"*\")","v":"*"},null,{"$f":"'Level 1'!AN33","v":"Sweden"},{"$f":"IFERROR('Level 2'!AO33-'Level 1'!AO33,\"*\")","v":5.5000000000000188E-4},{"$f":"IFERROR('Level 2'!AP33-'Level 1'!AP33,\"*\")","v":5.4999999999999494E-4},{"$f":"IFERROR('Level 2'!AQ33-'Level 1'!AQ33,\"*\")","v":4.4999999999999901E-4},{"$f":"IFERROR('Level 2'!AR33-'Level 1'!AR33,\"*\")","v":5.5000000000000882E-4},{"$f":"IFERROR('Level 2'!AS33-'Level 1'!AS33,\"*\")","v":5.4999999999999494E-4},{"$f":"IFERROR('Level 2'!AT33-'Level 1'!AT33,\"*\")","v":6.0000000000000331E-4},{"$f":"IFERROR('Level 2'!AU33-'Level 1'!AU33,\"*\")","v":5.4999999999999494E-4},{"$f":"IFERROR('Level 2'!AV33-'Level 1'!AV33,\"*\")","v":5.0000000000000044E-4},{"$f":"IFERROR('Level 2'!AW33-'Level 1'!AW33,\"*\")","v":5.5000000000000188E-4},{"$f":"IFERROR('Level 2'!AX33-'Level 1'!AX33,\"*\")","v":6.0000000000000331E-4},{"$f":"IFERROR('Level 2'!AY33-'Level 1'!AY33,\"*\")","v":"*"},null,{"$f":"'Level 1'!BA33","v":"Sweden"},{"$f":"IFERROR('Level 2'!BB33-'Level 1'!BB33,\"*\")","v":5.4999999999999494E-4},{"$f":"IFERROR('Level 2'!BC33-'Level 1'!BC33,\"*\")","v":5.4999999999999494E-4},{"$f":"IFERROR('Level 2'!BD33-'Level 1'!BD33,\"*\")","v":4.9999999999999351E-4},{"$f":"IFERROR('Level 2'!BE33-'Level 1'!BE33,\"*\")","v":5.5000000000000882E-4},{"$f":"IFERROR('Level 2'!BF33-'Level 1'!BF33,\"*\")","v":5.0000000000000044E-4},{"$f":"IFERROR('Level 2'!BG33-'Level 1'!BG33,\"*\")","v":5.4999999999999494E-4},{"$f":"IFERROR('Level 2'!BH33-'Level 1'!BH33,\"*\")","v":6.0000000000000331E-4},{"$f":"IFERROR('Level 2'!BI33-'Level 1'!BI33,\"*\")","v":5.5000000000000188E-4},{"$f":"IFERROR('Level 2'!BJ33-'Level 1'!BJ33,\"*\")","v":5.0000000000000044E-4},{"$f":"IFERROR('Level 2'!BK33-'Level 1'!BK33,\"*\")","v":6.0000000000000331E-4},{"$f":"IFERROR('Level 2'!BL33-'Level 1'!BL33,\"*\")","v":"*"},null,{"$f":"'Level 1'!BN33","v":"Sweden"},{"$f":"IFERROR('Level 2'!BO33-'Level 1'!BO33,\"*\")","v":5.5000000000000188E-4},{"$f":"IFERROR('Level 2'!BP33-'Level 1'!BP33,\"*\")","v":5.0000000000000044E-4},{"$f":"IFERROR('Level 2'!BQ33-'Level 1'!BQ33,\"*\")","v":4.5000000000000595E-4},{"$f":"IFERROR('Level 2'!BR33-'Level 1'!BR33,\"*\")","v":5.0000000000000044E-4},{"$f":"IFERROR('Level 2'!BS33-'Level 1'!BS33,\"*\")","v":5.5000000000000188E-4},{"$f":"IFERROR('Level 2'!BT33-'Level 1'!BT33,\"*\")","v":5.5000000000000188E-4},{"$f":"IFERROR('Level 2'!BU33-'Level 1'!BU33,\"*\")","v":5.5000000000000882E-4},{"$f":"IFERROR('Level 2'!BV33-'Level 1'!BV33,\"*\")","v":5.5000000000000882E-4},{"$f":"IFERROR('Level 2'!BW33-'Level 1'!BW33,\"*\")","v":6.0000000000000331E-4},{"$f":"IFERROR('Level 2'!BX33-'Level 1'!BX33,\"*\")","v":5.9999999999999637E-4},{"$f":"IFERROR('Level 2'!BY33-'Level 1'!BY33,\"*\")","v":"*"},null,{"$f":"'Level 1'!CA33","v":"Sweden"},{"$f":"IFERROR('Level 2'!CB33-'Level 1'!CB33,\"*\")","v":"*"},{"$f":"IFERROR('Level 2'!CC33-'Level 1'!CC33,\"*\")","v":"*"},{"$f":"IFERROR('Level 2'!CD33-'Level 1'!CD33,\"*\")","v":"*"},{"$f":"IFERROR('Level 2'!CE33-'Level 1'!CE33,\"*\")","v":"*"},{"$f":"IFERROR('Level 2'!CF33-'Level 1'!CF33,\"*\")","v":"*"},{"$f":"IFERROR('Level 2'!CG33-'Level 1'!CG33,\"*\")","v":"*"},{"$f":"IFERROR('Level 2'!CH33-'Level 1'!CH33,\"*\")","v":"*"},{"$f":"IFERROR('Level 2'!CI33-'Level 1'!CI33,\"*\")","v":"*"},{"$f":"IFERROR('Level 2'!CJ33-'Level 1'!CJ33,\"*\")","v":"*"},{"$f":"IFERROR('Level 2'!CK33-'Level 1'!CK33,\"*\")","v":"*"},{"$f":"IFERROR('Level 2'!CL33-'Level 1'!CL33,\"*\")","v":"*"}]
[{"$f":"'Level 1'!A34","v":"United Kingdom"},{"$f":"IFERROR('Level 2'!B34-'Level 1'!B34,\"*\")","v":2.1000000000000185E-3},{"$f":"IFERROR('Level 2'!C34-'Level 1'!C34,\"*\")","v":3.7499999999999756E-3},{"$f":"IFERROR('Level 2'!D34-'Level 1'!D34,\"*\")","v":3.5499999999999976E-3},{"$f":"IFERROR('Level 2'!E34-'Level 1'!E34,\"*\")","v":3.2999999999999696E-3},{"$f":"IFERROR('Level 2'!F34-'Level 1'!F34,\"*\")","v":3.8500000000000201E-3},{"$f":"IFERROR('Level 2'!G34-'Level 1'!G34,\"*\")","v":4.149999999999987E-3},{"$f":"IFERROR('Level 2'!H34-'Level 1'!H34,\"*\")","v":3.8000000000000256E-3},{"$f":"IFERROR('Level 2'!I34-'Level 1'!I34,\"*\")","v":4.3999999999999873E-3},{"$f":"IFERROR('Level 2'!J34-'Level 1'!J34,\"*\")","v":4.8999999999999599E-3},{"$f":"IFERROR('Level 2'!K34-'Level 1'!K34,\"*\")","v":4.8000000000000265E-3},{"$f":"IFERROR('Level 2'!L34-'Level 1'!L34,\"*\")","v":"*"},null,{"$f":"'Level 1'!N34","v":"United Kingdom"},{"$f":"IFERROR('Level 2'!O34-'Level 1'!O34,\"*\")","v":2.6000000000000051E-3},{"$f":"IFERROR('Level 2'!P34-'Level 1'!P34,\"*\")","v":4.599999999999993E-3},{"$f":"IFERROR('Level 2'!Q34-'Level 1'!Q34,\"*\")","v":4.2000000000000093E-3},{"$f":"IFERROR('Level 2'!R34-'Level 1'!R34,\"*\")","v":4.5499999999999985E-3},{"$f":"IFERROR('Level 2'!S34-'Level 1'!S34,\"*\")","v":4.6999999999999958E-3},{"$f":"IFERROR('Level 2'!T34-'Level 1'!T34,\"*\")","v":5.0499999999999989E-3},{"$f":"IFERROR('Level 2'!U34-'Level 1'!U34,\"*\")","v":4.8000000000000265E-3},{"$f":"IFERROR('Level 2'!V34-'Level 1'!V34,\"*\")","v":5.0000000000000044E-3},{"$f":"IFERROR('Level 2'!W34-'Level 1'!W34,\"*\")","v":6.0499999999999998E-3},{"$f":"IFERROR('Level 2'!X34-'Level 1'!X34,\"*\")","v":6.4000000000000168E-3},{"$f":"IFERROR('Level 2'!Y34-'Level 1'!Y34,\"*\")","v":"*"},null,{"$f":"'Level 1'!AA34","v":"United Kingdom"},{"$f":"IFERROR('Level 2'!AB34-'Level 1'!AB34,\"*\")","v":2.2999999999999965E-3},{"$f":"IFERROR('Level 2'!AC34-'Level 1'!AC34,\"*\")","v":3.9000000000000007E-3},{"$f":"IFERROR('Level 2'!AD34-'Level 1'!AD34,\"*\")","v":3.9499999999999813E-3},{"$f":"IFERROR('Level 2'!AE34-'Level 1'!AE34,\"*\")","v":4.2000000000000093E-3},{"$f":"IFERROR('Level 2'!AF34-'Level 1'!AF34,\"*\")","v":4.4500000000000095E-3},{"$f":"IFERROR('Level 2'!AG34-'Level 1'!AG34,\"*\")","v":4.7500000000000042E-3},{"$f":"IFERROR('Level 2'!AH34-'Level 1'!AH34,\"*\")","v":4.0500000000000119E-3},{"$f":"IFERROR('Level 2'!AI34-'Level 1'!AI34,\"*\")","v":4.5499999999999985E-3},{"$f":"IFERROR('Level 2'!AJ34-'Level 1'!AJ34,\"*\")","v":5.6000000000000216E-3},{"$f":"IFERROR('Level 2'!AK34-'Level 1'!AK34,\"*\")","v":6.1999999999999833E-3},{"$f":"IFERROR('Level 2'!AL34-'Level 1'!AL34,\"*\")","v":"*"},null,{"$f":"'Level 1'!AN34","v":"United Kingdom"},{"$f":"IFERROR('Level 2'!AO34-'Level 1'!AO34,\"*\")","v":1.9999999999999879E-3},{"$f":"IFERROR('Level 2'!AP34-'Level 1'!AP34,\"*\")","v":3.5499999999999976E-3},{"$f":"IFERROR('Level 2'!AQ34-'Level 1'!AQ34,\"*\")","v":3.3000000000000113E-3},{"$f":"IFERROR('Level 2'!AR34-'Level 1'!AR34,\"*\")","v":3.4499999999999947E-3},{"$f":"IFERROR('Level 2'!AS34-'Level 1'!AS34,\"*\")","v":3.8500000000000201E-3},{"$f":"IFERROR('Level 2'!AT34-'Level 1'!AT34,\"*\")","v":4.2500000000000038E-3},{"$f":"IFERROR('Level 2'!AU34-'Level 1'!AU34,\"*\")","v":3.1999999999999945E-3},{"$f":"IFERROR('Level 2'!AV34-'Level 1'!AV34,\"*\")","v":3.2999999999999974E-3},{"$f":"IFERROR('Level 2'!AW34-'Level 1'!AW34,\"*\")","v":4.0500000000000258E-3},{"$f":"IFERROR('Level 2'!AX34-'Level 1'!AX34,\"*\")","v":5.2999999999999992E-3},{"$f":"IFERROR('Level 2'!AY34-'Level 1'!AY34,\"*\")","v":"*"},null,{"$f":"'Level 1'!BA34","v":"United Kingdom"},{"$f":"IFERROR('Level 2'!BB34-'Level 1'!BB34,\"*\")","v":1.3000000000000095E-3},{"$f":"IFERROR('Level 2'!BC34-'Level 1'!BC34,\"*\")","v":2.349999999999991E-3},{"$f":"IFERROR('Level 2'!BD34-'Level 1'!BD34,\"*\")","v":2.3999999999999994E-3},{"$f":"IFERROR('Level 2'!BE34-'Level 1'!BE34,\"*\")","v":2.349999999999991E-3},{"$f":"IFERROR('Level 2'!BF34-'Level 1'!BF34,\"*\")","v":2.7999999999999969E-3},{"$f":"IFERROR('Level 2'!BG34-'Level 1'!BG34,\"*\")","v":3.1999999999999945E-3},{"$f":"IFERROR('Level 2'!BH34-'Level 1'!BH34,\"*\")","v":2.4499999999999938E-3},{"$f":"IFERROR('Level 2'!BI34-'Level 1'!BI34,\"*\")","v":2.3999999999999994E-3},{"$f":"IFERROR('Level 2'!BJ34-'Level 1'!BJ34,\"*\")","v":2.8999999999999859E-3},{"$f":"IFERROR('Level 2'!BK34-'Level 1'!BK34,\"*\")","v":4.599999999999993E-3},{"$f":"IFERROR('Level 2'!BL34-'Level 1'!BL34,\"*\")","v":"*"},null,{"$f":"'Level 1'!BN34","v":"United Kingdom"},{"$f":"IFERROR('Level 2'!BO34-'Level 1'!BO34,\"*\")","v":2.150000000000013E-3},{"$f":"IFERROR('Level 2'!BP34-'Level 1'!BP34,\"*\")","v":2.5000000000000022E-3},{"$f":"IFERROR('Level 2'!BQ34-'Level 1'!BQ34,\"*\")","v":2.6999999999999941E-3},{"$f":"IFERROR('Level 2'!BR34-'Level 1'!BR34,\"*\")","v":2.4500000000000077E-3},{"$f":"IFERROR('Level 2'!BS34-'Level 1'!BS34,\"*\")","v":2.6000000000000051E-3},{"$f":"IFERROR('Level 2'!BT34-'Level 1'!BT34,\"*\")","v":2.9000000000000137E-3},{"$f":"IFERROR('Level 2'!BU34-'Level 1'!BU34,\"*\")","v":2.250000000000002E-3},{"$f":"IFERROR('Level 2'!BV34-'Level 1'!BV34,\"*\")","v":2.349999999999991E-3},{"$f":"IFERROR('Level 2'!BW34-'Level 1'!BW34,\"*\")","v":2.9499999999999804E-3},{"$f":"IFERROR('Level 2'!BX34-'Level 1'!BX34,\"*\")","v":4.4000000000000011E-3},{"$f":"IFERROR('Level 2'!BY34-'Level 1'!BY34,\"*\")","v":"*"},null,{"$f":"'Level 1'!CA34","v":"United Kingdom"},{"$f":"IFERROR('Level 2'!CB34-'Level 1'!CB34,\"*\")","v":9.000000000000119E-4},{"$f":"IFERROR('Level 2'!CC34-'Level 1'!CC34,\"*\")","v":1.449999999999993E-3},{"$f":"IFERROR('Level 2'!CD34-'Level 1'!CD34,\"*\")","v":1.2500000000000011E-3},{"$f":"IFERROR('Level 2'!CE34-'Level 1'!CE34,\"*\")","v":1.1999999999999927E-3},{"$f":"IFERROR('Level 2'!CF34-'Level 1'!CF34,\"*\")","v":1.2500000000000011E-3},{"$f":"IFERROR('Level 2'!CG34-'Level 1'!CG34,\"*\")","v":1.6999999999999932E-3},{"$f":"IFERROR('Level 2'!CH34-'Level 1'!CH34,\"*\")","v":1.449999999999993E-3},{"$f":"IFERROR('Level 2'!CI34-'Level 1'!CI34,\"*\")","v":1.6499999999999987E-3},{"$f":"IFERROR('Level 2'!CJ34-'Level 1'!CJ34,\"*\")","v":2.5500000000000245E-3},{"$f":"IFERROR('Level 2'!CK34-'Level 1'!CK34,\"*\")","v":3.4000000000000002E-3},{"$f":"IFERROR('Level 2'!CL34-'Level 1'!CL34,\"*\")","v":"*"}]

{"sheet":"Oversættelse af landenavne","index":8,"n_rows":35,"n_cols":6,"rows_kept":35,"cut":false,"hidden":true,"merged":[]}
["På denne side er en helt lavpraktisk oversættelse af landenavne fra engelsk til dansk. På regnearkene er de danske navne hentet direkte fra denne side"]
["Yderligere er der opgivet rækkenumre som bruges til vopslag og fortæller hvilken række de enkelte lande står på i Level 1,2 og 3 arkene. Disse informationer indgår ikke i nogle beregninger."]
[]
[]
["Engelsk (fra Level 1)","Dansk oversættelse (automatisk)","Dansk oversættelse (manuel)","Tjek oversættelse","rækkenummer til vopslag","rækkenummer i level 1,2 og 3"]
[{"$f":"'Level 1'!A6","v":"European Union (28 countries)"},{"$f":"IF(A6=\"European Union (28 countries)\",\"EU-28\",IF(A6=\"European Union (27 countries)\",\"EU-27\",IF(A6=\"Euro area (EA11-2000, EA12-2006, EA13-2007, EA15-2008, EA16-2010, EA17-2013, EA18-2014, EA19)\",\"EU-området\",IF(A6=\"Belgium\",\"Belgien\",IF(A6=\"Bulgaria\",\"Bulgarien\",IF(A6=\"czech republic\",\"Tjekkiet\",IF(A6=\"Denmark\",\"Danmark\",IF(A6=\"Germany (until 1990 former territory of the FRG)\",\"Tyskland\",IF(A6=\"Estonia\",\"Estland\",IF(A6=\"Ireland\",\"Irland\",IF(A6=\"Greece\",\"Grækenland\",IF(A6=\"Spain\",\"Spanien\",IF(A6=\"france\",\"Frankrig\",IF(A6=\"Croatia\",\"Kroatien\",IF(A6=\"italy\",\"Italien\",IF(A6=\"Cyprus\",\"Cypern\",IF(A6=\"Latvia\",\"Letland\",IF(A6=\"Lithuania\",\"Litaun\",IF(A6=\"Luxembourg\",\"luxembourg\",IF(A6=\"Hungary\",\"Ungarn\",IF(A6=\"Malta\",\"Malta\",IF(A6=\"Netherlands\",\"Holland\",IF(A6=\"Austria\",\"Østrig\",IF(A6=\"Poland\",\"Polen\",IF(A6=\"portugal\",\"Portugal\",IF(A6=\"Romania\",\"Rumænien\",IF(A6=\"Slovenia\",\"Slovenien\",IF(A6=\"slovakia\",\"Slovakiet\",IF(A6=\"Finland\",\"Finland\",IF(A6=\"sweden\",\"Sverige\",IF(A6=\"United kingdom\",\"UK\",IF(A6=\"liechtenstein\",\"Liechtenstein\",IF(A6=\"Norway\",\"Norge\",IF(A6=\"Montenegro\",\"Montenegro\",IF(A6=\"Former Yugoslav Republic of Macedonia, the\",\"Rep. Makedonien\",IF(A6=\"Serbia\",\"Serbien\",IF(A6=\"Turkey\",\"Tyrkiet\",IF(A6=\"Bosnia and Herzegovina\",\"Bosnien-Hercegovina\",IF(A6=\"Kosovo (under United Nations Security Council Resolution 1244/99)\",\"Kosovo\",IF(A6=\"New Country\",\"Nyt land\",0))))))))))))))))))))))))))))))))))))))))","v":"EU-28"},"EU-28",{"$f":"IF(C6=B6,\"Sand\",\"Falsk\")","v":"Sand"},2,6]
[{"$f":"'Level 1'!A7","v":"Belgium"},"Belgien","Belgien","Sand",3,7]
[{"$f":"'Level 1'!A8","v":"Bulgaria"},"Bulgarien","Bulgarien","Sand",4,{"$f":"F7+1","v":8}]
[{"$f":"'Level 1'!A9","v":"Czech Republic"},"Tjekkiet","Tjekkiet","Sand",5,9]
[{"$f":"'Level 1'!A10","v":"Denmark"},"Danmark","Danmark","Sand",6,10]
[{"$f":"'Level 1'!A11","v":"Germany (until 1990 former territory of the FRG)"},"Tyskland","Tyskland","Sand",7,11]
[{"$f":"'Level 1'!A12","v":"Estonia"},"Estland","Estland","Sand",8,12]
[{"$f":"'Level 1'!A13","v":"Ireland"},"Irland","Irland","Sand",9,13]
[{"$f":"'Level 1'!A14","v":"Greece"},"Grækenland","Grækenland","Sand",10,14]
[{"$f":"'Level 1'!A15","v":"Spain"},"Spanien","Spanien","Sand",11,15]
[{"$f":"'Level 1'!A16","v":"France"},"Frankrig","Frankrig","Sand",12,16]
[{"$f":"'Level 1'!A17","v":"Croatia"},"Kroatien","Kroatien","Sand",13,17]
[{"$f":"'Level 1'!A18","v":"Italy"},"Italien","Italien","Sand",14,18]
[{"$f":"'Level 1'!A19","v":"Cyprus"},"Cypern","Cypern","Sand",15,19]
[{"$f":"'Level 1'!A20","v":"Latvia"},"Letland","Letland","Sand",16,20]
[{"$f":"'Level 1'!A21","v":"Lithuania"},"Litaun","Litaun","Sand",17,21]
[{"$f":"'Level 1'!A22","v":"Luxembourg"},"luxembourg","Luxembourg","Sand",18,22]
[{"$f":"'Level 1'!A23","v":"Hungary"},"Ungarn","Ungarn","Sand",19,23]
[{"$f":"'Level 1'!A24","v":"Malta"},"Malta","Malta","Sand",20,24]
[{"$f":"'Level 1'!A25","v":"Netherlands"},"Holland","Holland","Sand",21,25]
[{"$f":"'Level 1'!A26","v":"Austria"},"Østrig","Østrig","Sand",22,26]
[{"$f":"'Level 1'!A27","v":"Poland"},{"$f":"IF(A27=\"European Union (28 countries)\",\"EU-28\",IF(A27=\"European Union (27 countries)\",\"EU-27\",IF(A27=\"Euro area (EA11-2000, EA12-2006, EA13-2007, EA15-2008, EA16-2010, EA17-2013, EA18-2014, EA19)\",\"EU-området\",IF(A27=\"Belgium\",\"Belgien\",IF(A27=\"Bulgaria\",\"Bulgarien\",IF(A27=\"czech republic\",\"Tjekkiet\",IF(A27=\"Denmark\",\"Danmark\",IF(A27=\"Germany (until 1990 former territory of the FRG)\",\"Tyskland\",IF(A27=\"Estonia\",\"Estland\",IF(A27=\"Ireland\",\"Irland\",IF(A27=\"Greece\",\"Grækenland\",IF(A27=\"Spain\",\"Spanien\",IF(A27=\"france\",\"Frankrig\",IF(A27=\"Croatia\",\"Kroatien\",IF(A27=\"italy\",\"Italien\",IF(A27=\"Cyprus\",\"Cypern\",IF(A27=\"Latvia\",\"Letland\",IF(A27=\"Lithuania\",\"Litaun\",IF(A27=\"Luxembourg\",\"luxembourg\",IF(A27=\"Hungary\",\"Ungarn\",IF(A27=\"Malta\",\"Malta\",IF(A27=\"Netherlands\",\"Holland\",IF(A27=\"Austria\",\"Østrig\",IF(A27=\"Poland\",\"Polen\",IF(A27=\"portugal\",\"Portugal\",IF(A27=\"Romania\",\"Rumænien\",IF(A27=\"Slovenia\",\"Slovenien\",IF(A27=\"slovakia\",\"Slovakiet\",IF(A27=\"Finland\",\"Finland\",IF(A27=\"sweden\",\"Sverige\",IF(A27=\"United kingdom\",\"UK\",IF(A27=\"liechtenstein\",\"Liechtenstein\",IF(A27=\"Norway\",\"Norge\",IF(A27=\"Montenegro\",\"Montenegro\",IF(A27=\"Former Yugoslav Republic of Macedonia, the\",\"Rep. Makedonien\",IF(A27=\"Serbia\",\"Serbien\",IF(A27=\"Turkey\",\"Tyrkiet\",IF(A27=\"Bosnia and Herzegovina\",\"Bosnien-Hercegovina\",IF(A27=\"Kosovo (under United Nations Security Council Resolution 1244/99)\",\"Kosovo\",IF(A27=\"New Country\",\"Nyt land\",0))))))))))))))))))))))))))))))))))))))))","v":"Polen"},"Polen","Sand",23,27]
[{"$f":"'Level 1'!A28","v":"Portugal"},"Portugal","Portugal","Sand",24,28]
[{"$f":"'Level 1'!A29","v":"Romania"},"Rumænien","Rumænien","Sand",25,29]
[{"$f":"'Level 1'!A30","v":"Slovenia"},"Slovenien","Slovenien","Sand",26,30]
[{"$f":"'Level 1'!A31","v":"Slovakia"},"Slovakiet","Slovakiet","Sand",27,31]
[{"$f":"'Level 1'!A32","v":"Finland"},"Finland","Finland","Sand",28,32]
[{"$f":"'Level 1'!A33","v":"Sweden"},"Sverige","Sverige","Sand",29,33]
[{"$f":"'Level 1'!A34","v":"United Kingdom"},"UK","UK","Sand",30,34]
["New country",{"$f":"IF(A35=\"European Union (28 countries)\",\"EU-28\",IF(A35=\"European Union (27 countries)\",\"EU-27\",IF(A35=\"Euro area (EA11-2000, EA12-2006, EA13-2007, EA15-2008, EA16-2010, EA17-2013, EA18-2014, EA19)\",\"EU-området\",IF(A35=\"Belgium\",\"Belgien\",IF(A35=\"Bulgaria\",\"Bulgarien\",IF(A35=\"czech republic\",\"Tjekkiet\",IF(A35=\"Denmark\",\"Danmark\",IF(A35=\"Germany (until 1990 former territory of the FRG)\",\"Tyskland\",IF(A35=\"Estonia\",\"Estland\",IF(A35=\"Ireland\",\"Irland\",IF(A35=\"Greece\",\"Grækenland\",IF(A35=\"Spain\",\"Spanien\",IF(A35=\"france\",\"Frankrig\",IF(A35=\"Croatia\",\"Kroatien\",IF(A35=\"italy\",\"Italien\",IF(A35=\"Cyprus\",\"Cypern\",IF(A35=\"Latvia\",\"Letland\",IF(A35=\"Lithuania\",\"Litaun\",IF(A35=\"Luxembourg\",\"luxembourg\",IF(A35=\"Hungary\",\"Ungarn\",IF(A35=\"Malta\",\"Malta\",IF(A35=\"Netherlands\",\"Holland\",IF(A35=\"Austria\",\"Østrig\",IF(A35=\"Poland\",\"Polen\",IF(A35=\"portugal\",\"Portugal\",IF(A35=\"Romania\",\"Rumænien\",IF(A35=\"Slovenia\",\"Slovenien\",IF(A35=\"slovakia\",\"Slovakiet\",IF(A35=\"Finland\",\"Finland\",IF(A35=\"sweden\",\"Sverige\",IF(A35=\"United kingdom\",\"UK\",IF(A35=\"liechtenstein\",\"Liechtenstein\",IF(A35=\"Norway\",\"Norge\",IF(A35=\"Montenegro\",\"Montenegro\",IF(A35=\"Former Yugoslav Republic of Macedonia, the\",\"Republikken Makedonien\",IF(A35=\"Serbia\",\"Serbien\",IF(A35=\"Turkey\",\"Tyrkiet\",IF(A35=\"Bosnia and Herzegovina\",\"Bosnien-Hercegovina\",IF(A35=\"Kosovo (under United Nations Security Council Resolution 1244/99)\",\"Kosovo\",IF(A35=\"New Country\",\"Nyt land\",0))))))))))))))))))))))))))))))))))))))))","v":"Nyt land"},"nyt land","Sand",31,35]

{"sheet":"Sådan opdateres arket","index":9,"n_rows":8,"n_cols":2,"rows_kept":8,"cut":false,"hidden":true,"merged":[]}
[]
[]
[null,"Sådan foretages opdatering"]
[null,"Der skal foretages opdateringer på følgende ark: Forside, Baggrundsdata - BVT deflator, Level 1 og Level 2. De resterende ark indeholder kun værdier der hantes fra disse opdateringer.\nDer hentes ikke tal for level 3 når man kigger på industriens priser da ken betaler svarende til level 2.\nOpdateringer foretages halvårigt når Eurostat frigiver ny data, omkring 1. september og 1. marts.\nBVT deflatoren opdateres ligeledes når der er nye tal. Tal for året før offentligøres ca. 1 sebtember. Inden BVT offentligøres bruges seneste års tal som approksimation.\n\nNedenfor findes en oversigt over hvordan de enkelte ark opdateres.\n\n\nA) FORSIDEN:\nFrsiden opdateres halvårigt.\n1) Anfør i celle ’C3’ manuelt hvem der senest har opdateret i arket og datoen for denne opdatering.\n\n2) Valutakursen opdateres med nye tal for det seneste år. Hvis der er data for mere end 10 år slettes det ældste data således at serien er 10 år. Ved halvårsopdateringer beregnes kursen for det nyeste år som gennemsnitskursen for de første 6 mdr. af året. Data til opdatering af valutakursen findes på Danmarks statistik i tabel ”DNVALA”. \nOBS: Husk at årstallene skal være formateret som tal.\n\n"]
[null,"B) Level 1, 2 og 3 \nDenne opdatering omhandler level 1,2 og 3 og skal laves både når der kommer nye års og halvårsdata. Data hentes fra eurostattabellen 'nrg_pc_204' (Electricity prices for domestic consumers - bi-annual data (from 2007 onwards))\n\nElpriser, indutstri:\nArkene \"Level 1\", \"Level 2\" og \"Level 3\" opdateres med nye tal fra Eurostat, tabel ’nrg_pc_205’.  Det relevante data findes ved at dialogboksen åbnes.\nFor alle levels gælder: \n• I fanen ’Consom’ vælges alle forbrugsbånd (IA, IB, IC, ID, IE, IF og IG). \n• I ’currency vælges kun EUR. \n• I ’GEO’ vælges enten alle lande eller landene fra 2014-opdateringen som er: European Union (28 countries), European Union (27 countries), Euro area (EA11-2000, EA12-2006, EA13-2007, EA15-2008, EA16-2010, EA17-2013, EA18), Belgium, Bulgaria, Czech Republic, Denmark, Germany , Estonia, Ireland, Greece, Spain, France, Croatia, Italy, Cyprus , Latvia, Lithuania, Luxembourg, Hungary, Malta, Netherlands, Austria, Poland, Portugal, Romania, Slovenia, Slovakia, Finland,  Sweden, United Kingdom, Iceland, Liechtenstein, Norway, Montenegro, FYR Macedonia,  Serbia, Turkey, Bosnia and Herzegovina.\n• I fanen ‘Product’ vælges den eneste mulighed ‘Electical energy’. \n• I fanen ’Time’ vælges data for årnene fra 2007S1 og frem. Efter 2017 vælges kun data for de seneste 10 år. Det er vigtigt, at data altid starter med tal fra første halvår af et givent startår. Det betyder, at man ved en halvårs opdatering (altså når der kun er nye data for det første halvår) har tal for de seneste x,5 år. \n• I fanen ’Unit’ vælges ’KWh’\nOBS! Det er meget vigtigt at vælge de samme for begge levels. \n\n"]
[null,"Når man opdaterer data for level 1 vælger man i fanen ’Excluding taxes and levies’, opdateres data for level 2 vælges ’ Excluding VAT and other recoverable taxes and levies’.\nDet er vigtigt at man kun henter data for et level ad gangen da formateringen i Excel er lavet til det.\nFor at få data i det korrekte excel-format vælges download og der sættes hak i ’Short decription’ og ’Full extraction’. Hele det downloadede ark kopieres ind i fanen for det level man opdaterer data for. Data indsættes i cellen ’A52’ lige nedenfor det blå bånd med teksten ’baggrundsdata til level [1 eller 2]’. Proceduren gentages for begge levels.\nNu er alt relevant data indhentet i arket. Alle de resterende ark burde tilpasse sig det nye data, således alle årstal, overskrifter mv. passer til det nyeste år."]
[null,"C) Baggrundsdata-BVT-defaltoren\nBaggrundsdata (nederst i arket) opdateres når der kommer nye tal i eurostat tabellen \"nama_nace10_c. (typisk en gang årligt i september) Hvis man ikke har tal for nyeste år bruges seneste år som approksimation. Det er kun baggrundsdata der skal opdateres tabellerne øverst tilpasser sig når de nye tal er kopieret ind.\n\nData hentes fra Eurostat tabellen ’nama_nace10_c’. Det relevante data findes ved at dialog-boksen åbnes.\n• I fanen ’Geo’ vælges de relevante lande (se lande fra den seneste opdatering af data).\n• I ’Indic_NA’ vælges ’ Gross value added (at basic prices)’\n• I ‘NACE_R2’ vælges ‘Industry (except construction)’\n• I ‘Time’ vælges tal fra 2007 og frem (dog max 10 år, efter 2017 slettes 2007).\n• I ’Unit’ vælges ’Million euro’\n• Klik ’update’\nFor at få data i det korrekte excel-format vælges download og der sættes hak i ’Short decription’ og ’Full extraction’. Hele det downloadede ark kopieres ind i fanen ’BVT baggrundsdata’. Data indsættes cellen 'A 69' lige nedenfor det blå bånd med teksten ’baggrundsdata til BVT deflator’. Denne handling opdaterer BVT deflatoren øverst i arket.\n\n\n\n\n"]
[null,"D) Kontrol  \nKontrollen skal sikre, at opdateringen er foretaget korrekt, og at figurer og tabeller dermed viser de korrekte data. Kontrollen skal også tjekke om der er tilføjet eller fjernet lande siden sidste opdatering, eller om Eurostat har byttet om på rækkefølgen. I så fald skal kontrollen sikre at der reageres på dette.\n\nLevel 1 og 2 :\n1) Tjek at data starter med tal fra S1, således at middelværdierne for de enkelte år altid tages af to tal fra samme kalenderår.\n2) Tag evt. par stikprøver fra tabeller og figurer for at se om data hentes korrekt, dette burde være tilfældet.\n3) I fanen ’Oversættelse af landenavne’ skal det engelske navn hentet fra level 1 arket stemme overens med begge danske oversættelser. Den første er programmeret således at der ungås fejl hvis kontrollen ikke udføres grundigt. anden række er for at tjekke om eurostat har lavet ændringer i medtagne lande eller rækkefølgen siden sidste opdatering. Hvis der er sket ændringer siden sidst vil det gule felt vise falsk.\n\nBVT deflatoren:\n4) BVT -deflatoren skal hentes for de samme lande som indgår i prisstatistikken. For at sikre at dette opfyles skal alle de orange tjekceller vise 'sand'. Er dette tilfældet har man BVT deflatoren for de korrekte lande.\n\nAlle tabeller og figurer burde nu være opdaterede og korrekte.\n\n\n"]