{"text_format":"1","workbook":"xlsx","n_sheets":11,"sheets":["Forside","Udvalgte lande, 10 års oversigt","Alle lande, valgt år","Baggrundstabeller for alle land","Level 1","Level 2","Level 3","Afgifter og moms","Baggrundsdata - HICP - deflator","Oversættelse af landenavne","Sådan opdateres arket"],"not_rendered":{"charts":18,"images":0,"macros":1,"external_links":0,"defined_names":3,"comments":0,"pivot_tables":0},"unopened":[],"bounds":{"document_bytes":16777216,"sheet_cells":100000,"rows_first":2000,"rows_last":500,"rows_between":2000,"halvings":0,"cell_chars":16384,"cell_head_chars":4096},"cells_cut":0,"cells_raw":0,"read":"whole","date_system":"1900"}

{"sheet":"Forside","index":0,"n_rows":75,"n_cols":15,"rows_kept":75,"cut":false,"hidden":false,"merged":[[32,1,32,2]]}
[null,"Navn på filen:","EU - Gaspriser - forbrugere (2007-2017) "]
[]
[null,"Sidst opdateret","2016-12-08"]
[null,"Opdateret af","b014318"]
[]
[null,"Datakilder:",{"$f":"LEFT(B57,34)","v":"Danmarks Statistik, DNVALA: Valuta"}]
[null,null,{"$f":"\"Eurostat: \"&RIGHT('Baggrundsdata - HICP - deflator'!A60,15)","v":"Eurostat: [prc_hicp_aind]"}]
[null,null,{"$f":"\"Eurostat: \"&RIGHT('Level 1'!A39,12)","v":"Eurostat: [nrg_pc_202]"}]
[]
[]
[null,"Kode til at låse arkene op:","ens1256"]
[]
[]
[null,"Oversigt over ark:"]
[null,"Forside","Formål, oversigt og smådata"]
[null,{"$f":"'Udvalgte lande, 10 års oversigt'!E1","v":"Udvalgte lande, 10 års oversigt"},"Her findes sammenligning af relevante lande for en 10 års periode."]
[null,{"$f":"'Alle lande, valgt år'!F1","v":"Alle lande, valgt år"},"Her findes resultattabellerne for alle EU lande i de enheder du vælger."]
[null,{"$f":"'Baggrundstabeller for alle land'!F1","v":"Baggrundstabeller for alle lande, valgt år"},"Her findes baggrundstabeller for resultattabellerne."]
[null,{"$f":"'Baggrundsdata - HICP - deflator'!C2","v":"Baggrundsdata - HICP - deflator"},"HICP deflatorerne der bruges i til beregning af priser i det valte år for resultattabellerne. Og kontrol af at man har hentet korrekt data"]
[null,"Level 1","Rådata fra Eurostat og samling af dette"]
[null,"Level 2","Rådata fra Eurostat og samling af dette"]
[null,"Level 3","Rådata fra Eurostat og samling af dette"]
[null,"Afgifter og moms","Bearbejelse af rådata fra Eurostat. Dette ark opdateres automatisk når level 1, 2 og 3 er opdateret. Tallene danner baggrund for figurer og tabeller resultatark."]
[null,{"$f":"'Sådan opdateres arket'!B3","v":"Sådan foretages opdatering"},"Her er en beskrivelse af hvordan og hvornår arkene skal opdateres."]
[null,"Oversættelse af landenavne","Lavpraktisk oversættelses-, hjælpe- og  og kontrolark"]
[]
[]
[null,"Arkene har farvekoder, de er opdelt således:"]
[null,"Beskrivelser og forklaringer"]
[null,"Resultattabeller"]
[null,"Baggrundstabeller og rådata"]
[]
[null,"Formålet med dette ark er at give et overblik over gaspriserne for industrielle forbrugere i de europæiske lande. Særligt at kunne sammenligne den danske gaspris med de øvrige gaspriser.\n\nFor ar gøre det mere overskueligt træffes valg omkring enheder i rullemenuer øverst i de to ark med resultattabeller. Når man vælger tilpasses tabeller og figurer til valgene.\n\nRådata opdateres halvårligt, når eurostat opdaterer deres databank.\n\nPå forsiden findes også tabeller med grundlæggende oplysninger, der bruges til enhedsomregning. Det drejer sig om de udvalgte sammenligningslande og valutakursomregning.\n\nDet er vigigt at hente data 10 år tilbage, dvs. at man skal have hele år, således at 20xx S1 som det første data, for halvårsopdateringer har man således kun data for fx 6,5 år mens man for årsopdateringerne har data for 7 år."]
[]
[]
[null,"Tabel 1"]
[null,"Sammenligningslande"]
[null,"Disse lande bruges til grundlag for sammenligning over tid. De er taget fra det effektive kronekurs indeks og udgøres af de europæiske lande som danmark har mest samhandel med."]
[null,"EU-28"]
[null,"Belgien"]
[null,"Danmark"]
[null,"Tyskland"]
[null,"Frankrig"]
[null,"Italien"]
[null,"Holland"]
[null,"Sverige"]
[null,"UK"]
[null,"Norge"]
[]
[]
[]
[null,"Tabel 2"]
[null,"Valutakurser efter opgørelsesmetode, kurstype, valuta og tid"]
[null,"Enhed: DKK pr. 100 enheder valuta og indekstal"]
[null,null,null,null,2007,2008,2009,2010,2011,2012,2013,2014,2015,2016,2017]
[null,"Årsgennemsnit","Valutakurser (DKK pr. 100 enheder valuta)","Euro  (Jan. 1999-)",745.59739999999999,744.62509999999997,744.62509999999997,744.73659999999995,745.05290000000002,744.37509999999997,745.79819999999995,745.47410000000002,745.61029999999994,744.74884444444444]
[null,"Danmarks Statistik, DNVALA: Valutakurser efter valuta, kurstype og opgørelsesmetode (årsobservationer) "]
[null,"OBS! Årstallene skal være formateret som tal!"]
[]
[]
[]
[null,"Tabel 3"]
[null,"Brændværdier på naturgas"]
[null,null,"Enhed",null,2007,2008,2009,2010,2011,2012,2013,2014,2015,2016,2017]
[null,"- Nedre brændværdi","GJ/1000 Nm3",null,{"$f":"F65","v":39.479999999999997},39.479999999999997,39.46,39.46,39.51,39.549999999999997,38.988,39.531999999999996,{"$f":"L65","v":39.531999999999996},{"$f":"M65","v":39.531999999999996}]
[null,"- Øvre brændværdi","GJ/1000 Nm3",null,{"$f":"F66","v":43.664400000000001},43.664400000000001,43.635600000000004,43.635600000000004,{"$f":"I65/0.9","v":43.9},{"$f":"J65/0.9","v":43.944444444444443},{"$f":"K65/0.9","v":43.32},{"$f":"L65/0.9","v":43.92444444444444},{"$f":"L66","v":43.92444444444444},{"$f":"M66","v":43.92444444444444}]
[null,"Kilde: Månedsstatistik for naturgas (ark: Beregningsforudsætninger)",null,null,"OBS 2007 værdierne er ikke hentet fra statistikken, men blot sat lig 2008. For 2015 er tallene sat lig 2014"]
[]
[]
[null,"Tabel 4"]
[null,"Enhedsomregner"]
[null,null,null,null,2007,2008,2009,2010,2011,2012,2013,2014,2015,2016,2017]
[null,null,"GJ/Nm3",null,{"$f":"IFERROR(E65/1000,\"*\")","v":3.9479999999999994E-2},3.9479999999999994E-2,{"$f":"IFERROR(G65/1000,\"*\")","v":3.9460000000000002E-2},3.9460000000000002E-2,3.9509999999999997E-2,3.9549999999999995E-2,3.8988000000000002E-2,3.9531999999999998E-2,3.9531999999999998E-2,{"$f":"IFERROR(N65/1000,\"*\")","v":3.9531999999999998E-2}]
[null,null,"Nm3/GJ",null,{"$f":"IFERROR(1/E73,\"*\")","v":25.329280648429588},25.329280648429588,{"$f":"IFERROR(1/G73,\"*\")","v":25.34211860111505},25.34211860111505,25.310048089091371,25.284450063211128,25.648917615676616,25.295962764342811,25.295962764342811,{"$f":"IFERROR(1/N73,\"*\")","v":25.295962764342811}]
[null,"Note: I nøgletalskataloget benyttes den nedre brændværdi."]

{"sheet":"Udvalgte lande, 10 års oversigt","index":1,"n_rows":155,"n_cols":44,"rows_kept":155,"cut":false,"hidden":false,"merged":[[272,3,272,6],[271,3,271,5],[270,3,270,4],[234,3,234,9],[220,3,220,6],[272,16,272,20],[272,29,272,33],[270,16,270,17],[270,29,270,30],[220,16,220,20],[220,29,220,33],[271,16,271,18],[271,29,271,31],[27,1,60,1],[64,1,97,1],[101,1,133,1],[218,16,218,17],[218,29,218,30],[101,29,101,36],[142,16,142,23],[142,29,142,36],[64,3,64,10],[64,16,64,23],[121,3,121,10],[85,3,85,10],[48,3,48,10],[48,16,48,23],[48,29,48,36],[85,16,85,23],[27,29,27,36],[26,29,26,40],[219,29,219,31],[101,43,133,43],[234,16,234,23],[234,29,234,36],[121,16,121,23],[121,29,121,36],[27,43,60,43],[64,43,97,43],[85,29,85,36],[64,29,64,36],[4,3,4,6],[4,10,4,19],[5,3,5,6],[219,3,219,5],[218,3,218,4],[142,3,142,10],[101,3,101,10],[101,16,101,23],[219,16,219,18],[26,3,26,14],[26,16,26,27],[27,3,27,10],[27,16,27,23]]}
[null,null,null,"NAVN PÅ ARK:","Udvalgte lande, 10 års oversigt"]
[null,null,null,"Data hentes fra:","'Forside', 'Level 1' og 'Afgifter og moms'"]
[]
[null,null,null,"Sådan bruges arket:"]
[null,null,null,{"$f":"\"Arket 'Udvalgte lande, 10 års oversigt' viser figurer og tabeller (de grå-blå) for gasprisen på level 1, 2 og 3 for hvert interval. Prisen vises for udvalgte lande for årene \"&E50&\" til \"&M50&\".\nLandene er valgt på baggrund af Natinalbankens effektive kronekursindeks og udgøres af de europæiske lande Danmark har mest samhandel med.\"","v":"Arket 'Udvalgte lande, 10 års oversigt' viser figurer og tabeller (de grå-blå) for gasprisen på level 1, 2 og 3 for hvert interval. Prisen vises for udvalgte lande for årene 2007 til 2015.\nLandene er valgt på baggrund af Natinalbankens effektive kronekursindeks og udgøres af de europæiske lande Danmark har mest samhandel med."}]
[null,null,null,"Pristypen, basisået, valuta og enhed kan ændres. Dette gøres i de farvede rullemenuer nedenfor. \nRent teknisk styrer hver menu en tabel længere nede i tilsvarende farve. Disse tabeller ganges på rådata (arkene level1, 2 og 3) for hvert level, heraf fremkommer resultattabellerne med som følge af de valg man traf i rullemenuerne.\n\nTil hver resultattabel er tilkoblet en figur der viser prisudviklingen grafisk. \n\n"]
[]
[]
[]
[]
[null,null,null,"Vælg",null,"Vises i"]
[null,null,null,"År",{"$f":"E50&\" til \"&N50","v":"2007 til 2016"},"Resultattabeller"]
[null,null,null,"Vælg pristype","faste priser","Tabel B"]
[null,null,null,"Vælg Basisår (kun ved fast pris)",2016,"Tabel B"]
[null,null,null,"Vælg valuta","DKK øre","Tabel C"]
[null,null,null,"Vælg enhed (NM3/GJ)","Kwh","Tabel D"]
[]
[]
[]
[null,null,null,"Resultattabeller:"]
[null,null,null,"Valgene truffet ovenfor giver tabeller og figurer der er:"]
[null,null,null,{"$f":"\"Oppgjort i \"&$E$13&\" med basisår \"&$E$14","v":"Oppgjort i faste priser med basisår 2016"}]
[null,null,null,{"$f":"\"Vist i \"&E15&\" / \"&E16&\".\"","v":"Vist i DKK øre / Kwh."}]
[]
[]
[]
[null,null,null,"Forbrugsinterval < 20 GJ",null,null,null,null,null,null,null,null,null,null,null,null,"Forbrugsinterval  20 GJ <  200 GJ",null,null,null,null,null,null,null,null,null,null,null,null,"Forbrugsinterval  >200 GJ"]
[null,"Level 1: Gaspris",null,{"$f":"\"Figur XX:\n\"&$B$28&\" for intervalet   \"&D27&\". \nPriserne er vist i \"&$E$15&\" / \"&$E$16&\" i \"&$E$13&\" med basisår \"&$E$14&\". \"","v":"Figur XX:\nLevel 1: Gaspris for intervalet   Forbrugsinterval < 20 GJ. \nPriserne er vist i DKK øre / Kwh i faste priser med basisår 2016. "},null,null,null,null,null,null,null,null,null,null,null,null,{"$f":"\"Figur XX:\n\"&$B$28&\" for intervalet   \"&Q27&\". \nPriserne er vist i \"&$E$15&\" / \"&$E$16&\" i \"&$E$13&\" med basisår \"&$E$14&\". \"","v":"Figur XX:\nLevel 1: Gaspris for intervalet   Forbrugsinterval  20 GJ <  200 GJ. \nPriserne er vist i DKK øre / Kwh i faste priser med basisår 2016. "},null,null,null,null,null,null,null,null,null,null,null,null,{"$f":"\"Figur XX:\n\"&$B$28&\" for intervalet   \"&AD27&\". \nPriserne er vist i \"&$E$15&\" / \"&$E$16&\" i \"&$E$13&\" med basisår \"&$E$14&\". \"","v":"Figur XX:\nLevel 1: Gaspris for intervalet   Forbrugsinterval  >200 GJ. \nPriserne er vist i DKK øre / Kwh i faste priser med basisår 2016. "},null,null,null,null,null,null,null,null,null,null,null,null,null,{"$f":"B28","v":"Level 1: Gaspris"}]
[]
[]
[]
[]
[]
[]
[]
[]
[]
[]
[]
[]
[]
[]
[]
[]
[]
[]
[null,null,null,"Kilde: Eurostat",null,null,null,null,null,null,null,null,null,null,null,null,"Kilde: Eurostat",null,null,null,null,null,null,null,null,null,null,null,null,"Kilde: Eurostat"]
[]
[null,null,null,{"$f":"\"Tabel XX:\n\"&$B$28&\" for forbrugsinterval \"&D27&\". \nPriserne er vist i \"&$E$15&\" / \"&$E$16&\" i \"&$E$13&\" med basisår \"&$E$14&\". \"","v":"Tabel XX:\nLevel 1: Gaspris for forbrugsinterval Forbrugsinterval < 20 GJ. \nPriserne er vist i DKK øre / Kwh i faste priser med basisår 2016. "},null,null,null,null,null,null,null,null,null,null,null,null,{"$f":"\"Tabel XX:\n\"&$B$28&\" for forbrugsinterval \"&Q27&\". \nPriserne er vist i \"&$E$15&\" / \"&$E$16&\" i \"&$E$13&\" med basisår \"&$E$14&\". \"","v":"Tabel XX:\nLevel 1: Gaspris for forbrugsinterval Forbrugsinterval  20 GJ <  200 GJ. \nPriserne er vist i DKK øre / Kwh i faste priser med basisår 2016. "},null,null,null,null,null,null,null,null,null,null,null,null,{"$f":"\"Tabel XX:\n\"&$B$28&\" for forbrugsinterval \"&AD27&\". \nPriserne er vist i \"&$E$15&\" / \"&$E$16&\" i \"&$E$13&\" med basisår \"&$E$14&\". \"","v":"Tabel XX:\nLevel 1: Gaspris for forbrugsinterval Forbrugsinterval  >200 GJ. \nPriserne er vist i DKK øre / Kwh i faste priser med basisår 2016. "}]
[null,null,null,{"$f":"$E$15&\"/\"&$E$16","v":"DKK øre/Kwh"},{"$f":"'Level 1'!B5","v":2007},{"$f":"'Level 1'!C5","v":2008},{"$f":"'Level 1'!D5","v":2009},{"$f":"'Level 1'!E5","v":2010},{"$f":"'Level 1'!F5","v":2011},{"$f":"'Level 1'!G5","v":2012},{"$f":"'Level 1'!H5","v":2013},{"$f":"'Level 1'!I5","v":2014},{"$f":"'Level 1'!J5","v":2015},{"$f":"'Level 1'!K5","v":2016},{"$f":"'Level 1'!L5","v":2017},null,{"$f":"$E$15&\"/\"&$E$16","v":"DKK øre/Kwh"},{"$f":"'Level 1'!O5","v":2007},{"$f":"'Level 1'!P5","v":2008},{"$f":"'Level 1'!Q5","v":2009},{"$f":"'Level 1'!R5","v":2010},{"$f":"'Level 1'!S5","v":2011},{"$f":"'Level 1'!T5","v":2012},{"$f":"'Level 1'!U5","v":2013},{"$f":"'Level 1'!V5","v":2014},{"$f":"'Level 1'!W5","v":2015},{"$f":"'Level 1'!X5","v":2016},{"$f":"'Level 1'!Y5","v":2017},null,{"$f":"$E$15&\"/\"&$E$16","v":"DKK øre/Kwh"},{"$f":"'Level 1'!AB5","v":2007},{"$f":"'Level 1'!AC5","v":2008},{"$f":"'Level 1'!AD5","v":2009},{"$f":"'Level 1'!AE5","v":2010},{"$f":"'Level 1'!AF5","v":2011},{"$f":"'Level 1'!AG5","v":2012},{"$f":"'Level 1'!AH5","v":2013},{"$f":"'Level 1'!AI5","v":2014},{"$f":"'Level 1'!AJ5","v":2015},{"$f":"'Level 1'!AK5","v":2016},{"$f":"'Level 1'!AL5","v":2017}]
[null,null,null,{"$f":"'Oversættelse af landenavne'!$B$6","v":"EU-28"},{"$f":"IFERROR('Level 1'!B$6/E$147*R$147*AE$147,\"*\")","v":47.135432674668735},{"$f":"IFERROR('Level 1'!C$6/F$147*S$147*AF$147,\"*\")","v":52.106701493506506},{"$f":"IFERROR('Level 1'!D$6/G$147*T$147*AG$147,\"*\")","v":51.040103343738267},{"$f":"IFERROR('Level 1'!E$6/H$147*U$147*AH$147,\"*\")","v":49.586243418236236},{"$f":"IFERROR('Level 1'!F$6/I$147*V$147*AI$147,\"*\")","v":52.874111288013715},{"$f":"IFERROR('Level 1'!G$6/J$147*W$147*AJ$147,\"*\")","v":55.874695406923728},{"$f":"IFERROR('Level 1'!H$6/K$147*X$147*AK$147,\"*\")","v":57.57565257756395},{"$f":"IFERROR('Level 1'!I$6/L$147*Y$147*AL$147,\"*\")","v":61.596555783309434},{"$f":"IFERROR('Level 1'!J$6/M$147*Z$147*AM$147,\"*\")","v":60.554666022606362},{"$f":"IFERROR('Level 1'!K$6/N$147*AA$147*AN$147,\"*\")","v":53.92731740527578},{"$f":"IFERROR('Level 1'!L$6/O$147*AB$147*AO$147,\"*\")","v":"*"},null,{"$f":"'Oversættelse af landenavne'!$B$6","v":"EU-28"},{"$f":"IFERROR('Level 1'!O$6/E$147*R$147*AE$147,\"*\")","v":34.136823532606442},{"$f":"IFERROR('Level 1'!P$6/F$147*S$147*AF$147,\"*\")","v":37.734495416327597},{"$f":"IFERROR('Level 1'!Q$6/G$147*T$147*AG$147,\"*\")","v":35.478556070293038},{"$f":"IFERROR('Level 1'!R$6/H$147*U$147*AH$147,\"*\")","v":33.428765618303359},{"$f":"IFERROR('Level 1'!S$6/I$147*V$147*AI$147,\"*\")","v":36.100932899594177},{"$f":"IFERROR('Level 1'!T$6/J$147*W$147*AJ$147,\"*\")","v":39.043980311244006},{"$f":"IFERROR('Level 1'!U$6/K$147*X$147*AK$147,\"*\")","v":39.278191090970438},{"$f":"IFERROR('Level 1'!V$6/L$147*Y$147*AL$147,\"*\")","v":39.880251024014271},{"$f":"IFERROR('Level 1'!W$6/M$147*Z$147*AM$147,\"*\")","v":39.314942599265258},{"$f":"IFERROR('Level 1'!X$6/N$147*AA$147*AN$147,\"*\")","v":34.82638481215028},{"$f":"IFERROR('Level 1'!Y$6/O$147*AB$147*AO$147,\"*\")","v":"*"},null,{"$f":"'Oversættelse af landenavne'!$B$6","v":"EU-28"},{"$f":"IFERROR('Level 1'!AB$6/E$147*R$147*AE$147,\"*\")","v":30.577680553232248},{"$f":"IFERROR('Level 1'!AC$6/F$147*S$147*AF$147,\"*\")","v":34.320351026624316},{"$f":"IFERROR('Level 1'!AD$6/G$147*T$147*AG$147,\"*\")","v":31.876072640766829},{"$f":"IFERROR('Level 1'!AE$6/H$147*U$147*AH$147,\"*\")","v":29.986080106768878},{"$f":"IFERROR('Level 1'!AF$6/I$147*V$147*AI$147,\"*\")","v":32.577863631398948},{"$f":"IFERROR('Level 1'!AG$6/J$147*W$147*AJ$147,\"*\")","v":34.836301537324083},{"$f":"IFERROR('Level 1'!AH$6/K$147*X$147*AK$147,\"*\")","v":35.192611997058997},{"$f":"IFERROR('Level 1'!AI$6/L$147*Y$147*AL$147,\"*\")","v":34.82651837324002},{"$f":"IFERROR('Level 1'!AJ$6/M$147*Z$147*AM$147,\"*\")","v":34.380461399903176},{"$f":"IFERROR('Level 1'!AK$6/N$147*AA$147*AN$147,\"*\")","v":31.075851063149479},{"$f":"IFERROR('Level 1'!AL$6/O$147*AB$147*AO$147,\"*\")","v":"*"}]
[null,null,null,{"$f":"'Oversættelse af landenavne'!$B$7","v":"Belgien"},{"$f":"IFERROR('Level 1'!B$7/E$148*R$147*AE$147,\"*\")","v":54.645276772343045},{"$f":"IFERROR('Level 1'!C$7/F$148*S$147*AF$147,\"*\")","v":63.307673901128659},{"$f":"IFERROR('Level 1'!D$7/G$148*T$147*AG$147,\"*\")","v":56.171587740491141},{"$f":"IFERROR('Level 1'!E$7/H$148*U$147*AH$147,\"*\")","v":53.08404349463261},{"$f":"IFERROR('Level 1'!F$7/I$148*V$147*AI$147,\"*\")","v":56.524993452164587},{"$f":"IFERROR('Level 1'!G$7/J$148*W$147*AJ$147,\"*\")","v":59.08290823233795},{"$f":"IFERROR('Level 1'!H$7/K$148*X$147*AK$147,\"*\")","v":54.589767745654946},{"$f":"IFERROR('Level 1'!I$7/L$148*Y$147*AL$147,\"*\")","v":53.569410084842062},{"$f":"IFERROR('Level 1'!J$7/M$148*Z$147*AM$147,\"*\")","v":50.831594738095625},{"$f":"IFERROR('Level 1'!K$7/N$148*AA$147*AN$147,\"*\")","v":42.434610417266185},{"$f":"IFERROR('Level 1'!L$7/O$148*AB$147*AO$147,\"*\")","v":"*"},null,{"$f":"'Oversættelse af landenavne'!$B$7","v":"Belgien"},{"$f":"IFERROR('Level 1'!O$7/E$148*R$147*AE$147,\"*\")","v":34.905297204352145},{"$f":"IFERROR('Level 1'!P$7/F$148*S$147*AF$147,\"*\")","v":43.991945582193942},{"$f":"IFERROR('Level 1'!Q$7/G$148*T$147*AG$147,\"*\")","v":37.422766665819076},{"$f":"IFERROR('Level 1'!R$7/H$148*U$147*AH$147,\"*\")","v":36.66267685526735},{"$f":"IFERROR('Level 1'!S$7/I$148*V$147*AI$147,\"*\")","v":43.024161682762866},{"$f":"IFERROR('Level 1'!T$7/J$148*W$147*AJ$147,\"*\")","v":43.360565705525325},{"$f":"IFERROR('Level 1'!U$7/K$148*X$147*AK$147,\"*\")","v":39.659466267218313},{"$f":"IFERROR('Level 1'!V$7/L$148*Y$147*AL$147,\"*\")","v":38.256106847208542},{"$f":"IFERROR('Level 1'!W$7/M$148*Z$147*AM$147,\"*\")","v":35.812862340033391},{"$f":"IFERROR('Level 1'!X$7/N$148*AA$147*AN$147,\"*\")","v":30.88832437569944},{"$f":"IFERROR('Level 1'!Y$7/O$148*AB$147*AO$147,\"*\")","v":"*"},null,{"$f":"'Oversættelse af landenavne'!$B$7","v":"Belgien"},{"$f":"IFERROR('Level 1'!AB$7/E$148*R$147*AE$147,\"*\")","v":31.239300998868124},{"$f":"IFERROR('Level 1'!AC$7/F$148*S$147*AF$147,\"*\")","v":41.296727677226308},{"$f":"IFERROR('Level 1'!AD$7/G$148*T$147*AG$147,\"*\")","v":34.367846937997115},{"$f":"IFERROR('Level 1'!AE$7/H$148*U$147*AH$147,\"*\")","v":32.052400124964272},{"$f":"IFERROR('Level 1'!AF$7/I$148*V$147*AI$147,\"*\")","v":38.986662150465399},{"$f":"IFERROR('Level 1'!AG$7/J$148*W$147*AJ$147,\"*\")","v":39.154149503176335},{"$f":"IFERROR('Level 1'!AH$7/K$148*X$147*AK$147,\"*\")","v":36.411375086351846},{"$f":"IFERROR('Level 1'!AI$7/L$148*Y$147*AL$147,\"*\")","v":33.341731162790708},{"$f":"IFERROR('Level 1'!AJ$7/M$148*Z$147*AM$147,\"*\")","v":30.469270219968116},{"$f":"IFERROR('Level 1'!AK$7/N$148*AA$147*AN$147,\"*\")","v":28.182582171063149},{"$f":"IFERROR('Level 1'!AL$7/O$148*AB$147*AO$147,\"*\")","v":"*"}]
[null,null,null,{"$f":"'Oversættelse af landenavne'!$B$10","v":"Danmark"},{"$f":"IFERROR('Level 1'!B$10/E$149*R$147*AE$147,\"*\")","v":36.786412100402572},{"$f":"IFERROR('Level 1'!C$10/F$149*S$147*AF$147,\"*\")","v":42.830765304510962},{"$f":"IFERROR('Level 1'!D$10/G$149*T$147*AG$147,\"*\")","v":32.950178983483497},{"$f":"IFERROR('Level 1'!E$10/H$149*U$147*AH$147,\"*\")","v":37.82135146825582},{"$f":"IFERROR('Level 1'!F$10/I$149*V$147*AI$147,\"*\")","v":40.75871240139918},{"$f":"IFERROR('Level 1'!G$10/J$149*W$147*AJ$147,\"*\")","v":35.496237261478029},{"$f":"IFERROR('Level 1'!H$10/K$149*X$147*AK$147,\"*\")","v":32.644232097288103},{"$f":"IFERROR('Level 1'!I$10/L$149*Y$147*AL$147,\"*\")","v":26.353639915407733},{"$f":"IFERROR('Level 1'!J$10/M$149*Z$147*AM$147,\"*\")","v":25.499509994935917},{"$f":"IFERROR('Level 1'!K$10/N$149*AA$147*AN$147,\"*\")","v":21.288029559328539},{"$f":"IFERROR('Level 1'!L$10/O$149*AB$147*AO$147,\"*\")","v":"*"},null,{"$f":"'Oversættelse af landenavne'!$B$10","v":"Danmark"},{"$f":"IFERROR('Level 1'!O$10/E$149*R$147*AE$147,\"*\")","v":47.241541041410819},{"$f":"IFERROR('Level 1'!P$10/F$149*S$147*AF$147,\"*\")","v":42.830765304510962},{"$f":"IFERROR('Level 1'!Q$10/G$149*T$147*AG$147,\"*\")","v":32.950178983483497},{"$f":"IFERROR('Level 1'!R$10/H$149*U$147*AH$147,\"*\")","v":37.82135146825582},{"$f":"IFERROR('Level 1'!S$10/I$149*V$147*AI$147,\"*\")","v":40.75871240139918},{"$f":"IFERROR('Level 1'!T$10/J$149*W$147*AJ$147,\"*\")","v":35.496237261478029},{"$f":"IFERROR('Level 1'!U$10/K$149*X$147*AK$147,\"*\")","v":32.644232097288103},{"$f":"IFERROR('Level 1'!V$10/L$149*Y$147*AL$147,\"*\")","v":26.353639915407733},{"$f":"IFERROR('Level 1'!W$10/M$149*Z$147*AM$147,\"*\")","v":25.499509994935917},{"$f":"IFERROR('Level 1'!X$10/N$149*AA$147*AN$147,\"*\")","v":21.288029559328539},{"$f":"IFERROR('Level 1'!Y$10/O$149*AB$147*AO$147,\"*\")","v":"*"},null,{"$f":"'Oversættelse af landenavne'!$B$10","v":"Danmark"},{"$f":"IFERROR('Level 1'!AB$10/E$149*R$147*AE$147,\"*\")","v":54.157726714137901},{"$f":"IFERROR('Level 1'!AC$10/F$149*S$147*AF$147,\"*\")","v":42.830765304510962},{"$f":"IFERROR('Level 1'!AD$10/G$149*T$147*AG$147,\"*\")","v":32.950178983483497},{"$f":"IFERROR('Level 1'!AE$10/H$149*U$147*AH$147,\"*\")","v":37.82135146825582},{"$f":"IFERROR('Level 1'!AF$10/I$149*V$147*AI$147,\"*\")","v":40.75871240139918},{"$f":"IFERROR('Level 1'!AG$10/J$149*W$147*AJ$147,\"*\")","v":35.496237261478029},{"$f":"IFERROR('Level 1'!AH$10/K$149*X$147*AK$147,\"*\")","v":32.644232097288103},{"$f":"IFERROR('Level 1'!AI$10/L$149*Y$147*AL$147,\"*\")","v":26.353639915407733},{"$f":"IFERROR('Level 1'!AJ$10/M$149*Z$147*AM$147,\"*\")","v":25.499509994935917},{"$f":"IFERROR('Level 1'!AK$10/N$149*AA$147*AN$147,\"*\")","v":21.288029559328539},{"$f":"IFERROR('Level 1'!AL$10/O$149*AB$147*AO$147,\"*\")","v":"*"}]
[null,null,null,{"$f":"'Oversættelse af landenavne'!$B$11","v":"Tyskland"},{"$f":"IFERROR('Level 1'!B$11/E$150*R$147*AE$147,\"*\")","v":53.153856915474201},{"$f":"IFERROR('Level 1'!C$11/F$150*S$147*AF$147,\"*\")","v":62.142894689336309},{"$f":"IFERROR('Level 1'!D$11/G$150*T$147*AG$147,\"*\")","v":59.344226406004339},{"$f":"IFERROR('Level 1'!E$11/H$150*U$147*AH$147,\"*\")","v":58.091530696101962},{"$f":"IFERROR('Level 1'!F$11/I$150*V$147*AI$147,\"*\")","v":61.506130204557643},{"$f":"IFERROR('Level 1'!G$11/J$150*W$147*AJ$147,\"*\")","v":60.698227125853023},{"$f":"IFERROR('Level 1'!H$11/K$150*X$147*AK$147,\"*\")","v":62.650598184010384},{"$f":"IFERROR('Level 1'!I$11/L$150*Y$147*AL$147,\"*\")","v":61.906929160023978},{"$f":"IFERROR('Level 1'!J$11/M$150*Z$147*AM$147,\"*\")","v":61.064324300919608},{"$f":"IFERROR('Level 1'!K$11/N$150*AA$147*AN$147,\"*\")","v":62.017754492406077},{"$f":"IFERROR('Level 1'!L$11/O$150*AB$147*AO$147,\"*\")","v":"*"},null,{"$f":"'Oversættelse af landenavne'!$B$11","v":"Tyskland"},{"$f":"IFERROR('Level 1'!O$11/E$150*R$147*AE$147,\"*\")","v":38.035604158477035},{"$f":"IFERROR('Level 1'!P$11/F$150*S$147*AF$147,\"*\")","v":42.974875059808632},{"$f":"IFERROR('Level 1'!Q$11/G$150*T$147*AG$147,\"*\")","v":37.219324729004931},{"$f":"IFERROR('Level 1'!R$11/H$150*U$147*AH$147,\"*\")","v":33.404788082305288},{"$f":"IFERROR('Level 1'!S$11/I$150*V$147*AI$147,\"*\")","v":35.619900936003241},{"$f":"IFERROR('Level 1'!T$11/J$150*W$147*AJ$147,\"*\")","v":36.713080763848154},{"$f":"IFERROR('Level 1'!U$11/K$150*X$147*AK$147,\"*\")","v":38.208193529175894},{"$f":"IFERROR('Level 1'!V$11/L$150*Y$147*AL$147,\"*\")","v":38.208182840952297},{"$f":"IFERROR('Level 1'!W$11/M$150*Z$147*AM$147,\"*\")","v":38.109830004464889},{"$f":"IFERROR('Level 1'!X$11/N$150*AA$147*AN$147,\"*\")","v":36.915967900879295},{"$f":"IFERROR('Level 1'!Y$11/O$150*AB$147*AO$147,\"*\")","v":"*"},null,{"$f":"'Oversættelse af landenavne'!$B$11","v":"Tyskland"},{"$f":"IFERROR('Level 1'!AB$11/E$150*R$147*AE$147,\"*\")","v":35.695874565132229},{"$f":"IFERROR('Level 1'!AC$11/F$150*S$147*AF$147,\"*\")","v":38.9341281516053},{"$f":"IFERROR('Level 1'!AD$11/G$150*T$147*AG$147,\"*\")","v":33.012682239101757},{"$f":"IFERROR('Level 1'!AE$11/H$150*U$147*AH$147,\"*\")","v":31.4770354539552},{"$f":"IFERROR('Level 1'!AF$11/I$150*V$147*AI$147,\"*\")","v":33.737776832917895},{"$f":"IFERROR('Level 1'!AG$11/J$150*W$147*AJ$147,\"*\")","v":34.775025957519958},{"$f":"IFERROR('Level 1'!AH$11/K$150*X$147*AK$147,\"*\")","v":35.579686598445349},{"$f":"IFERROR('Level 1'!AI$11/L$150*Y$147*AL$147,\"*\")","v":35.239122219345248},{"$f":"IFERROR('Level 1'!AJ$11/M$150*Z$147*AM$147,\"*\")","v":35.156620211938552},{"$f":"IFERROR('Level 1'!AK$11/N$150*AA$147*AN$147,\"*\")","v":33.728014214228615},{"$f":"IFERROR('Level 1'!AL$11/O$150*AB$147*AO$147,\"*\")","v":"*"}]
[null,null,null,{"$f":"'Oversættelse af landenavne'!$B$16","v":"Frankrig"},{"$f":"IFERROR('Level 1'!B$16/E$151*R$147*AE$147,\"*\")","v":68.280011739189874},{"$f":"IFERROR('Level 1'!C$16/F$151*S$147*AF$147,\"*\")","v":72.357849499560643},{"$f":"IFERROR('Level 1'!D$16/G$151*T$147*AG$147,\"*\")","v":76.187557813765451},{"$f":"IFERROR('Level 1'!E$16/H$151*U$147*AH$147,\"*\")","v":73.084194498443082},{"$f":"IFERROR('Level 1'!F$16/I$151*V$147*AI$147,\"*\")","v":77.601745304751731},{"$f":"IFERROR('Level 1'!G$16/J$151*W$147*AJ$147,\"*\")","v":77.582403744167621},{"$f":"IFERROR('Level 1'!H$16/K$151*X$147*AK$147,\"*\")","v":82.884994793934737},{"$f":"IFERROR('Level 1'!I$16/L$151*Y$147*AL$147,\"*\")","v":87.267536557155807},{"$f":"IFERROR('Level 1'!J$16/M$151*Z$147*AM$147,\"*\")","v":83.809074087542086},{"$f":"IFERROR('Level 1'!K$16/N$151*AA$147*AN$147,\"*\")","v":76.564467533173456},{"$f":"IFERROR('Level 1'!L$16/O$151*AB$147*AO$147,\"*\")","v":"*"},null,{"$f":"'Oversættelse af landenavne'!$B$16","v":"Frankrig"},{"$f":"IFERROR('Level 1'!O$16/E$151*R$147*AE$147,\"*\")","v":36.583932508481176},{"$f":"IFERROR('Level 1'!P$16/F$151*S$147*AF$147,\"*\")","v":37.741633647087518},{"$f":"IFERROR('Level 1'!Q$16/G$151*T$147*AG$147,\"*\")","v":38.949330089031974},{"$f":"IFERROR('Level 1'!R$16/H$151*U$147*AH$147,\"*\")","v":36.549224633120353},{"$f":"IFERROR('Level 1'!S$16/I$151*V$147*AI$147,\"*\")","v":39.553746214441375},{"$f":"IFERROR('Level 1'!T$16/J$151*W$147*AJ$147,\"*\")","v":41.550807836987012},{"$f":"IFERROR('Level 1'!U$16/K$151*X$147*AK$147,\"*\")","v":43.977310074159135},{"$f":"IFERROR('Level 1'!V$16/L$151*Y$147*AL$147,\"*\")","v":45.050841559596833},{"$f":"IFERROR('Level 1'!W$16/M$151*Z$147*AM$147,\"*\")","v":42.602498583257301},{"$f":"IFERROR('Level 1'!X$16/N$151*AA$147*AN$147,\"*\")","v":37.398179382893687},{"$f":"IFERROR('Level 1'!Y$16/O$151*AB$147*AO$147,\"*\")","v":"*"},null,{"$f":"'Oversættelse af landenavne'!$B$16","v":"Frankrig"},{"$f":"IFERROR('Level 1'!AB$16/E$151*R$147*AE$147,\"*\")","v":32.025934359883529},{"$f":"IFERROR('Level 1'!AC$16/F$151*S$147*AF$147,\"*\")","v":33.653767177215656},{"$f":"IFERROR('Level 1'!AD$16/G$151*T$147*AG$147,\"*\")","v":34.17854468348785},{"$f":"IFERROR('Level 1'!AE$16/H$151*U$147*AH$147,\"*\")","v":31.360489154783458},{"$f":"IFERROR('Level 1'!AF$16/I$151*V$147*AI$147,\"*\")","v":34.144210249970719},{"$f":"IFERROR('Level 1'!AG$16/J$151*W$147*AJ$147,\"*\")","v":36.576703258272602},{"$f":"IFERROR('Level 1'!AH$16/K$151*X$147*AK$147,\"*\")","v":37.258366604482816},{"$f":"IFERROR('Level 1'!AI$16/L$151*Y$147*AL$147,\"*\")","v":37.931895218933057},{"$f":"IFERROR('Level 1'!AJ$16/M$151*Z$147*AM$147,\"*\")","v":35.166523720269105},{"$f":"IFERROR('Level 1'!AK$16/N$151*AA$147*AN$147,\"*\")","v":31.397325384492408},{"$f":"IFERROR('Level 1'!AL$16/O$151*AB$147*AO$147,\"*\")","v":"*"}]
[null,null,null,{"$f":"'Oversættelse af landenavne'!$B$18","v":"Italien"},{"$f":"IFERROR('Level 1'!B$18/E$152*R$147*AE$147,\"*\")","v":42.982712824817703},{"$f":"IFERROR('Level 1'!C$18/F$152*S$147*AF$147,\"*\")","v":47.01719529164199},{"$f":"IFERROR('Level 1'!D$18/G$152*T$147*AG$147,\"*\")","v":42.055813983320519},{"$f":"IFERROR('Level 1'!E$18/H$152*U$147*AH$147,\"*\")","v":47.515693719419808},{"$f":"IFERROR('Level 1'!F$18/I$152*V$147*AI$147,\"*\")","v":52.880447790978337},{"$f":"IFERROR('Level 1'!G$18/J$152*W$147*AJ$147,\"*\")","v":59.58466696393122},{"$f":"IFERROR('Level 1'!H$18/K$152*X$147*AK$147,\"*\")","v":60.738272349400695},{"$f":"IFERROR('Level 1'!I$18/L$152*Y$147*AL$147,\"*\")","v":67.038970596466939},{"$f":"IFERROR('Level 1'!J$18/M$152*Z$147*AM$147,\"*\")","v":63.42689213494068},{"$f":"IFERROR('Level 1'!K$18/N$152*AA$147*AN$147,\"*\")","v":51.194785673860913},{"$f":"IFERROR('Level 1'!L$18/O$152*AB$147*AO$147,\"*\")","v":"*"},null,{"$f":"'Oversættelse af landenavne'!$B$18","v":"Italien"},{"$f":"IFERROR('Level 1'!O$18/E$152*R$147*AE$147,\"*\")","v":34.90096643405996},{"$f":"IFERROR('Level 1'!P$18/F$152*S$147*AF$147,\"*\")","v":37.941490034274103},{"$f":"IFERROR('Level 1'!Q$18/G$152*T$147*AG$147,\"*\")","v":35.098261636732481},{"$f":"IFERROR('Level 1'!R$18/H$152*U$147*AH$147,\"*\")","v":35.169084737658089},{"$f":"IFERROR('Level 1'!S$18/I$152*V$147*AI$147,\"*\")","v":39.227524086626723},{"$f":"IFERROR('Level 1'!T$18/J$152*W$147*AJ$147,\"*\")","v":43.731740713413295},{"$f":"IFERROR('Level 1'!U$18/K$152*X$147*AK$147,\"*\")","v":44.321431109063781},{"$f":"IFERROR('Level 1'!V$18/L$152*Y$147*AL$147,\"*\")","v":43.232746969825769},{"$f":"IFERROR('Level 1'!W$18/M$152*Z$147*AM$147,\"*\")","v":40.566363604611801},{"$f":"IFERROR('Level 1'!X$18/N$152*AA$147*AN$147,\"*\")","v":35.255017240607515},{"$f":"IFERROR('Level 1'!Y$18/O$152*AB$147*AO$147,\"*\")","v":"*"},null,{"$f":"'Oversættelse af landenavne'!$B$18","v":"Italien"},{"$f":"IFERROR('Level 1'!AB$18/E$152*R$147*AE$147,\"*\")","v":31.86262342261832},{"$f":"IFERROR('Level 1'!AC$18/F$152*S$147*AF$147,\"*\")","v":32.917227058463247},{"$f":"IFERROR('Level 1'!AD$18/G$152*T$147*AG$147,\"*\")","v":33.475127068566955},{"$f":"IFERROR('Level 1'!AE$18/H$152*U$147*AH$147,\"*\")","v":29.933323264918506},{"$f":"IFERROR('Level 1'!AF$18/I$152*V$147*AI$147,\"*\")","v":33.414475127969808},{"$f":"IFERROR('Level 1'!AG$18/J$152*W$147*AJ$147,\"*\")","v":36.826729021821727},{"$f":"IFERROR('Level 1'!AH$18/K$152*X$147*AK$147,\"*\")","v":37.129804183436299},{"$f":"IFERROR('Level 1'!AI$18/L$152*Y$147*AL$147,\"*\")","v":34.567389047035959},{"$f":"IFERROR('Level 1'!AJ$18/M$152*Z$147*AM$147,\"*\")","v":32.632968207416042},{"$f":"IFERROR('Level 1'!AK$18/N$152*AA$147*AN$147,\"*\")","v":29.68279567066347},{"$f":"IFERROR('Level 1'!AL$18/O$152*AB$147*AO$147,\"*\")","v":"*"}]
[null,null,null,{"$f":"'Oversættelse af landenavne'!$B$23","v":"Holland"},{"$f":"IFERROR('Level 1'!B$23/E$153*R$147*AE$147,\"*\")","v":64.316817790891321},{"$f":"IFERROR('Level 1'!C$23/F$153*S$147*AF$147,\"*\")","v":61.858351093109867},{"$f":"IFERROR('Level 1'!D$23/G$153*T$147*AG$147,\"*\")","v":60.201941639050595},{"$f":"IFERROR('Level 1'!E$23/H$153*U$147*AH$147,\"*\")","v":56.286519582165496},{"$f":"IFERROR('Level 1'!F$23/I$153*V$147*AI$147,\"*\")","v":59.041249307673617},{"$f":"IFERROR('Level 1'!G$23/J$153*W$147*AJ$147,\"*\")","v":60.323863742149193},{"$f":"IFERROR('Level 1'!H$23/K$153*X$147*AK$147,\"*\")","v":60.878254801925188},{"$f":"IFERROR('Level 1'!I$23/L$153*Y$147*AL$147,\"*\")","v":59.768019838368041},{"$f":"IFERROR('Level 1'!J$23/M$153*Z$147*AM$147,\"*\")","v":58.994918411397748},{"$f":"IFERROR('Level 1'!K$23/N$153*AA$147*AN$147,\"*\")","v":46.80130328217426},{"$f":"IFERROR('Level 1'!L$23/O$153*AB$147*AO$147,\"*\")","v":"*"},null,{"$f":"'Oversættelse af landenavne'!$B$23","v":"Holland"},{"$f":"IFERROR('Level 1'!O$23/E$153*R$147*AE$147,\"*\")","v":37.549828121473318},{"$f":"IFERROR('Level 1'!P$23/F$153*S$147*AF$147,\"*\")","v":37.251714194193234},{"$f":"IFERROR('Level 1'!Q$23/G$153*T$147*AG$147,\"*\")","v":37.760494315767254},{"$f":"IFERROR('Level 1'!R$23/H$153*U$147*AH$147,\"*\")","v":34.136461746593113},{"$f":"IFERROR('Level 1'!S$23/I$153*V$147*AI$147,\"*\")","v":35.763592539396228},{"$f":"IFERROR('Level 1'!T$23/J$153*W$147*AJ$147,\"*\")","v":37.70760205482658},{"$f":"IFERROR('Level 1'!U$23/K$153*X$147*AK$147,\"*\")","v":36.810736088888838},{"$f":"IFERROR('Level 1'!V$23/L$153*Y$147*AL$147,\"*\")","v":34.899461009472844},{"$f":"IFERROR('Level 1'!W$23/M$153*Z$147*AM$147,\"*\")","v":32.924271095199195},{"$f":"IFERROR('Level 1'!X$23/N$153*AA$147*AN$147,\"*\")","v":27.887897376498803},{"$f":"IFERROR('Level 1'!Y$23/O$153*AB$147*AO$147,\"*\")","v":"*"},null,{"$f":"'Oversættelse af landenavne'!$B$23","v":"Holland"},{"$f":"IFERROR('Level 1'!AB$23/E$153*R$147*AE$147,\"*\")","v":33.641239289063989},{"$f":"IFERROR('Level 1'!AC$23/F$153*S$147*AF$147,\"*\")","v":"*"},{"$f":"IFERROR('Level 1'!AD$23/G$153*T$147*AG$147,\"*\")","v":33.389930476413063},{"$f":"IFERROR('Level 1'!AE$23/H$153*U$147*AH$147,\"*\")","v":29.616041780149775},{"$f":"IFERROR('Level 1'!AF$23/I$153*V$147*AI$147,\"*\")","v":32.389400090416565},{"$f":"IFERROR('Level 1'!AG$23/J$153*W$147*AJ$147,\"*\")","v":33.543996692206328},{"$f":"IFERROR('Level 1'!AH$23/K$153*X$147*AK$147,\"*\")","v":33.270202735258565},{"$f":"IFERROR('Level 1'!AI$23/L$153*Y$147*AL$147,\"*\")","v":30.146563734648808},{"$f":"IFERROR('Level 1'!AJ$23/M$153*Z$147*AM$147,\"*\")","v":27.71014163195948},{"$f":"IFERROR('Level 1'!AK$23/N$153*AA$147*AN$147,\"*\")","v":23.842678832933657},{"$f":"IFERROR('Level 1'!AL$23/O$153*AB$147*AO$147,\"*\")","v":"*"}]
[null,null,null,{"$f":"'Oversættelse af landenavne'!$B$30","v":"Sverige"},{"$f":"IFERROR('Level 1'!B$30/E$154*R$147*AE$147,\"*\")","v":62.955863539042412},{"$f":"IFERROR('Level 1'!C$30/F$154*S$147*AF$147,\"*\")","v":64.724557481252418},{"$f":"IFERROR('Level 1'!D$30/G$154*T$147*AG$147,\"*\")","v":68.208346524453475},{"$f":"IFERROR('Level 1'!E$30/H$154*U$147*AH$147,\"*\")","v":81.414854919020939},{"$f":"IFERROR('Level 1'!F$30/I$154*V$147*AI$147,\"*\")","v":87.312125422160179},{"$f":"IFERROR('Level 1'!G$30/J$154*W$147*AJ$147,\"*\")","v":95.164609587728307},{"$f":"IFERROR('Level 1'!H$30/K$154*X$147*AK$147,\"*\")","v":81.753062518654758},{"$f":"IFERROR('Level 1'!I$30/L$154*Y$147*AL$147,\"*\")","v":81.124626626023684},{"$f":"IFERROR('Level 1'!J$30/M$154*Z$147*AM$147,\"*\")","v":85.330965558749369},{"$f":"IFERROR('Level 1'!K$30/N$154*AA$147*AN$147,\"*\")","v":76.416321450087935},{"$f":"IFERROR('Level 1'!L$30/O$154*AB$147*AO$147,\"*\")","v":"*"},null,{"$f":"'Oversættelse af landenavne'!$B$30","v":"Sverige"},{"$f":"IFERROR('Level 1'!O$30/E$154*R$147*AE$147,\"*\")","v":44.492268315005091},{"$f":"IFERROR('Level 1'!P$30/F$154*S$147*AF$147,\"*\")","v":46.147207759918672},{"$f":"IFERROR('Level 1'!Q$30/G$154*T$147*AG$147,\"*\")","v":42.04840228084656},{"$f":"IFERROR('Level 1'!R$30/H$154*U$147*AH$147,\"*\")","v":47.348746341570703},{"$f":"IFERROR('Level 1'!S$30/I$154*V$147*AI$147,\"*\")","v":50.181627773649758},{"$f":"IFERROR('Level 1'!T$30/J$154*W$147*AJ$147,\"*\")","v":49.748019015825484},{"$f":"IFERROR('Level 1'!U$30/K$154*X$147*AK$147,\"*\")","v":51.058111022085605},{"$f":"IFERROR('Level 1'!V$30/L$154*Y$147*AL$147,\"*\")","v":48.254966564093223},{"$f":"IFERROR('Level 1'!W$30/M$154*Z$147*AM$147,\"*\")","v":47.147115106863147},{"$f":"IFERROR('Level 1'!X$30/N$154*AA$147*AN$147,\"*\")","v":45.334308795779378},{"$f":"IFERROR('Level 1'!Y$30/O$154*AB$147*AO$147,\"*\")","v":"*"},null,{"$f":"'Oversættelse af landenavne'!$B$30","v":"Sverige"},{"$f":"IFERROR('Level 1'!AB$30/E$154*R$147*AE$147,\"*\")","v":42.554389933836738},{"$f":"IFERROR('Level 1'!AC$30/F$154*S$147*AF$147,\"*\")","v":43.729349719435696},{"$f":"IFERROR('Level 1'!AD$30/G$154*T$147*AG$147,\"*\")","v":38.013577675228923},{"$f":"IFERROR('Level 1'!AE$30/H$154*U$147*AH$147,\"*\")","v":43.119788362687125},{"$f":"IFERROR('Level 1'!AF$30/I$154*V$147*AI$147,\"*\")","v":44.08754781433197},{"$f":"IFERROR('Level 1'!AG$30/J$154*W$147*AJ$147,\"*\")","v":44.326490726585718},{"$f":"IFERROR('Level 1'!AH$30/K$154*X$147*AK$147,\"*\")","v":44.438414394485491},{"$f":"IFERROR('Level 1'!AI$30/L$154*Y$147*AL$147,\"*\")","v":40.760293005690009},{"$f":"IFERROR('Level 1'!AJ$30/M$154*Z$147*AM$147,\"*\")","v":40.457111875357711},{"$f":"IFERROR('Level 1'!AK$30/N$154*AA$147*AN$147,\"*\")","v":38.670414009608315},{"$f":"IFERROR('Level 1'!AL$30/O$154*AB$147*AO$147,\"*\")","v":"*"}]
[null,null,null,{"$f":"'Oversættelse af landenavne'!$B$31","v":"UK"},{"$f":"IFERROR('Level 1'!B$31/E$155*R$147*AE$147,\"*\")","v":33.537850015215206},{"$f":"IFERROR('Level 1'!C$31/F$155*S$147*AF$147,\"*\")","v":39.815524625848312},{"$f":"IFERROR('Level 1'!D$31/G$155*T$147*AG$147,\"*\")","v":38.954500362225232},{"$f":"IFERROR('Level 1'!E$31/H$155*U$147*AH$147,\"*\")","v":37.006995221299469},{"$f":"IFERROR('Level 1'!F$31/I$155*V$147*AI$147,\"*\")","v":41.000118878113788},{"$f":"IFERROR('Level 1'!G$31/J$155*W$147*AJ$147,\"*\")","v":46.88001702657229},{"$f":"IFERROR('Level 1'!H$31/K$155*X$147*AK$147,\"*\")","v":49.448929078150684},{"$f":"IFERROR('Level 1'!I$31/L$155*Y$147*AL$147,\"*\")","v":62.715019833633093},{"$f":"IFERROR('Level 1'!J$31/M$155*Z$147*AM$147,\"*\")","v":64.273619398579143},{"$f":"IFERROR('Level 1'!K$31/N$155*AA$147*AN$147,\"*\")","v":53.952499560447642},{"$f":"IFERROR('Level 1'!L$31/O$155*AB$147*AO$147,\"*\")","v":"*"},null,{"$f":"'Oversættelse af landenavne'!$B$31","v":"UK"},{"$f":"IFERROR('Level 1'!O$31/E$155*R$147*AE$147,\"*\")","v":30.948633173031258},{"$f":"IFERROR('Level 1'!P$31/F$155*S$147*AF$147,\"*\")","v":36.677844348356032},{"$f":"IFERROR('Level 1'!Q$31/G$155*T$147*AG$147,\"*\")","v":34.886478352592746},{"$f":"IFERROR('Level 1'!R$31/H$155*U$147*AH$147,\"*\")","v":32.802247353338799},{"$f":"IFERROR('Level 1'!S$31/I$155*V$147*AI$147,\"*\")","v":35.974457986978727},{"$f":"IFERROR('Level 1'!T$31/J$155*W$147*AJ$147,\"*\")","v":40.542082021930845},{"$f":"IFERROR('Level 1'!U$31/K$155*X$147*AK$147,\"*\")","v":40.285032085016255},{"$f":"IFERROR('Level 1'!V$31/L$155*Y$147*AL$147,\"*\")","v":44.176044328776982},{"$f":"IFERROR('Level 1'!W$31/M$155*Z$147*AM$147,\"*\")","v":46.265923730431652},{"$f":"IFERROR('Level 1'!X$31/N$155*AA$147*AN$147,\"*\")","v":39.191202410183855},{"$f":"IFERROR('Level 1'!Y$31/O$155*AB$147*AO$147,\"*\")","v":"*"},null,{"$f":"'Oversættelse af landenavne'!$B$31","v":"UK"},{"$f":"IFERROR('Level 1'!AB$31/E$155*R$147*AE$147,\"*\")","v":26.776443187366983},{"$f":"IFERROR('Level 1'!AC$31/F$155*S$147*AF$147,\"*\")","v":33.943205142589591},{"$f":"IFERROR('Level 1'!AD$31/G$155*T$147*AG$147,\"*\")","v":30.781959357813982},{"$f":"IFERROR('Level 1'!AE$31/H$155*U$147*AH$147,\"*\")","v":28.926369980324466},{"$f":"IFERROR('Level 1'!AF$31/I$155*V$147*AI$147,\"*\")","v":31.394706315337448},{"$f":"IFERROR('Level 1'!AG$31/J$155*W$147*AJ$147,\"*\")","v":35.757076227663028},{"$f":"IFERROR('Level 1'!AH$31/K$155*X$147*AK$147,\"*\")","v":36.16125801124786},{"$f":"IFERROR('Level 1'!AI$31/L$155*Y$147*AL$147,\"*\")","v":38.53336851969425},{"$f":"IFERROR('Level 1'!AJ$31/M$155*Z$147*AM$147,\"*\")","v":41.269932412715832},{"$f":"IFERROR('Level 1'!AK$31/N$155*AA$147*AN$147,\"*\")","v":36.094333114580337},{"$f":"IFERROR('Level 1'!AL$31/O$155*AB$147*AO$147,\"*\")","v":"*"}]
[null,null,null,"Kilde: Eurostat",null,null,null,null,null,null,null,null,null,null,null,null,"Kilde: Eurostat",null,null,null,null,null,null,null,null,null,null,null,null,"Kilde: Eurostat"]
[]
[]
[]
[]
[null,"Level 2: Gaspris inkl.  afgifter",null,{"$f":"\"Figur XX:\n\"&$B$65&\" for forbrugsinterval \"&D27&\". \nPriserne er vist i \"&$E$15&\" / \"&$E$16&\" i \"&$E$13&\" med basisår \"&$E$14&\". \"","v":"Figur XX:\nLevel 2: Gaspris inkl.  afgifter for forbrugsinterval Forbrugsinterval < 20 GJ. \nPriserne er vist i DKK øre / Kwh i faste priser med basisår 2016. "},null,null,null,null,null,null,null,null,null,null,null,null,{"$f":"\"Figur XX:\n\"&$B$65&\" for forbrugsinterval \"&Q27&\". \nPriserne er vist i \"&$E$15&\" / \"&$E$16&\" i \"&$E$13&\" med basisår \"&$E$14&\". \"","v":"Figur XX:\nLevel 2: Gaspris inkl.  afgifter for forbrugsinterval Forbrugsinterval  20 GJ <  200 GJ. \nPriserne er vist i DKK øre / Kwh i faste priser med basisår 2016. "},null,null,null,null,null,null,null,null,null,null,null,null,{"$f":"\"Figur XX:\n\"&$B$65&\" for forbrugsinterval \"&AD27&\". \nPriserne er vist i \"&$E$15&\" / \"&$E$16&\" i \"&$E$13&\" med basisår \"&$E$14&\". \"","v":"Figur XX:\nLevel 2: Gaspris inkl.  afgifter for forbrugsinterval Forbrugsinterval  >200 GJ. \nPriserne er vist i DKK øre / Kwh i faste priser med basisår 2016. "},null,null,null,null,null,null,null,null,null,null,null,null,null,{"$f":"B65","v":"Level 2: Gaspris inkl.  afgifter"}]
[]
[]
[]
[]
[]
[]
[]
[]
[]
[]
[]
[]
[]
[]
[]
[]
[]
[]
[null,null,null,"Kilde: Eurostat",null,null,null,null,null,null,null,null,null,null,null,null,"Kilde: Eurostat",null,null,null,null,null,null,null,null,null,null,null,null,"Kilde: Eurostat"]
[]
[null,null,null,{"$f":"\"Tabel XX:\n\"&$B$65&\" for forbrugsinterval \"&D27&\". \nPriserne er vist i \"&$E$15&\" / \"&$E$16&\" i \"&$E$13&\" med basisår \"&$E$14&\". \"","v":"Tabel XX:\nLevel 2: Gaspris inkl.  afgifter for forbrugsinterval Forbrugsinterval < 20 GJ. \nPriserne er vist i DKK øre / Kwh i faste priser med basisår 2016. "},null,null,null,null,null,null,null,null,null,null,null,null,{"$f":"\"Tabel XX:\n\"&$B$65&\" for forbrugsinterval \"&Q27&\". \nPriserne er vist i \"&$E$15&\" / \"&$E$16&\" i \"&$E$13&\" med basisår \"&$E$14&\". \"","v":"Tabel XX:\nLevel 2: Gaspris inkl.  afgifter for forbrugsinterval Forbrugsinterval  20 GJ <  200 GJ. \nPriserne er vist i DKK øre / Kwh i faste priser med basisår 2016. "},null,null,null,null,null,null,null,null,null,null,null,null,{"$f":"\"Tabel XX:\n\"&$B$65&\" for forbrugsinterval \"&AD27&\". \nPriserne er vist i \"&$E$15&\" / \"&$E$16&\" i \"&$E$13&\" med basisår \"&$E$14&\". \"","v":"Tabel XX:\nLevel 2: Gaspris inkl.  afgifter for forbrugsinterval Forbrugsinterval  >200 GJ. \nPriserne er vist i DKK øre / Kwh i faste priser med basisår 2016. "}]
[null,null,null,{"$f":"$E$15&\"/\"&$E$16","v":"DKK øre/Kwh"},{"$f":"'Level 1'!B5","v":2007},{"$f":"'Level 1'!C5","v":2008},{"$f":"'Level 1'!D5","v":2009},{"$f":"'Level 1'!E5","v":2010},{"$f":"'Level 1'!F5","v":2011},{"$f":"'Level 1'!G5","v":2012},{"$f":"'Level 1'!H5","v":2013},{"$f":"'Level 1'!I5","v":2014},{"$f":"'Level 1'!J5","v":2015},{"$f":"'Level 1'!K5","v":2016},{"$f":"'Level 1'!L5","v":2017},null,{"$f":"$E$15&\"/\"&$E$16","v":"DKK øre/Kwh"},{"$f":"'Level 1'!O5","v":2007},{"$f":"'Level 1'!P5","v":2008},{"$f":"'Level 1'!Q5","v":2009},{"$f":"'Level 1'!R5","v":2010},{"$f":"'Level 1'!S5","v":2011},{"$f":"'Level 1'!T5","v":2012},{"$f":"'Level 1'!U5","v":2013},{"$f":"'Level 1'!V5","v":2014},{"$f":"'Level 1'!W5","v":2015},{"$f":"'Level 1'!X5","v":2016},{"$f":"'Level 1'!Y5","v":2017},null,{"$f":"$E$15&\"/\"&$E$16","v":"DKK øre/Kwh"},{"$f":"'Level 1'!AB5","v":2007},{"$f":"'Level 1'!AC5","v":2008},{"$f":"'Level 1'!AD5","v":2009},{"$f":"'Level 1'!AE5","v":2010},{"$f":"'Level 1'!AF5","v":2011},{"$f":"'Level 1'!AG5","v":2012},{"$f":"'Level 1'!AH5","v":2013},{"$f":"'Level 1'!AI5","v":2014},{"$f":"'Level 1'!AJ5","v":2015},{"$f":"'Level 1'!AK5","v":2016},{"$f":"'Level 1'!AL5","v":2017}]
[null,null,null,{"$f":"'Oversættelse af landenavne'!$B$6","v":"EU-28"},{"$f":"IFERROR('Level 2'!B$6/E$147*R$147*AE$147,\"*\")","v":52.303927262107784},{"$f":"IFERROR('Level 2'!C$6/F$147*S$147*AF$147,\"*\")","v":56.281201183973401},{"$f":"IFERROR('Level 2'!D$6/G$147*T$147*AG$147,\"*\")","v":55.336507761738808},{"$f":"IFERROR('Level 2'!E$6/H$147*U$147*AH$147,\"*\")","v":54.157204013382852},{"$f":"IFERROR('Level 2'!F$6/I$147*V$147*AI$147,\"*\")","v":57.955191268438725},{"$f":"IFERROR('Level 2'!G$6/J$147*W$147*AJ$147,\"*\")","v":60.738116327428578},{"$f":"IFERROR('Level 2'!H$6/K$147*X$147*AK$147,\"*\")","v":62.659029866028021},{"$f":"IFERROR('Level 2'!I$6/L$147*Y$147*AL$147,\"*\")","v":66.690503813267568},{"$f":"IFERROR('Level 2'!J$6/M$147*Z$147*AM$147,\"*\")","v":65.770734464323354},{"$f":"IFERROR('Level 2'!K$6/N$147*AA$147*AN$147,\"*\")","v":59.419170394884098},{"$f":"IFERROR('Level 2'!L$6/O$147*AB$147*AO$147,\"*\")","v":"*"},null,{"$f":"'Oversættelse af landenavne'!$B$6","v":"EU-28"},{"$f":"IFERROR('Level 2'!O$6/E$147*R$147*AE$147,\"*\")","v":37.85071185890996},{"$f":"IFERROR('Level 2'!P$6/F$147*S$147*AF$147,\"*\")","v":41.253002298292557},{"$f":"IFERROR('Level 2'!Q$6/G$147*T$147*AG$147,\"*\")","v":39.140096605221331},{"$f":"IFERROR('Level 2'!R$6/H$147*U$147*AH$147,\"*\")","v":37.681494779610667},{"$f":"IFERROR('Level 2'!S$6/I$147*V$147*AI$147,\"*\")","v":40.592495313229541},{"$f":"IFERROR('Level 2'!T$6/J$147*W$147*AJ$147,\"*\")","v":43.429255916530693},{"$f":"IFERROR('Level 2'!U$6/K$147*X$147*AK$147,\"*\")","v":43.903120560315742},{"$f":"IFERROR('Level 2'!V$6/L$147*Y$147*AL$147,\"*\")","v":44.518424756555085},{"$f":"IFERROR('Level 2'!W$6/M$147*Z$147*AM$147,\"*\")","v":44.115334635601194},{"$f":"IFERROR('Level 2'!X$6/N$147*AA$147*AN$147,\"*\")","v":39.996763480415673},{"$f":"IFERROR('Level 2'!Y$6/O$147*AB$147*AO$147,\"*\")","v":"*"},null,{"$f":"'Oversættelse af landenavne'!$B$6","v":"EU-28"},{"$f":"IFERROR('Level 2'!AB$6/E$147*R$147*AE$147,\"*\")","v":33.920180046905415},{"$f":"IFERROR('Level 2'!AC$6/F$147*S$147*AF$147,\"*\")","v":37.40649901207663},{"$f":"IFERROR('Level 2'!AD$6/G$147*T$147*AG$147,\"*\")","v":35.25709192503529},{"$f":"IFERROR('Level 2'!AE$6/H$147*U$147*AH$147,\"*\")","v":33.83378744318977},{"$f":"IFERROR('Level 2'!AF$6/I$147*V$147*AI$147,\"*\")","v":36.662378201298594},{"$f":"IFERROR('Level 2'!AG$6/J$147*W$147*AJ$147,\"*\")","v":39.330867500374914},{"$f":"IFERROR('Level 2'!AH$6/K$147*X$147*AK$147,\"*\")","v":39.804057707018451},{"$f":"IFERROR('Level 2'!AI$6/L$147*Y$147*AL$147,\"*\")","v":39.585338243332487},{"$f":"IFERROR('Level 2'!AJ$6/M$147*Z$147*AM$147,\"*\")","v":39.27471585035741},{"$f":"IFERROR('Level 2'!AK$6/N$147*AA$147*AN$147,\"*\")","v":36.406966892086338},{"$f":"IFERROR('Level 2'!AL$6/O$147*AB$147*AO$147,\"*\")","v":"*"}]
[null,null,null,{"$f":"'Oversættelse af landenavne'!$B$7","v":"Belgien"},{"$f":"IFERROR('Level 2'!B$7/E$148*R$147*AE$147,\"*\")","v":55.679275702094941},{"$f":"IFERROR('Level 2'!C$7/F$148*S$147*AF$147,\"*\")","v":64.355814197504955},{"$f":"IFERROR('Level 2'!D$7/G$148*T$147*AG$147,\"*\")","v":57.354620380186901},{"$f":"IFERROR('Level 2'!E$7/H$148*U$147*AH$147,\"*\")","v":55.557493549938059},{"$f":"IFERROR('Level 2'!F$7/I$148*V$147*AI$147,\"*\")","v":59.655826422823324},{"$f":"IFERROR('Level 2'!G$7/J$148*W$147*AJ$147,\"*\")","v":62.061878395312966},{"$f":"IFERROR('Level 2'!H$7/K$148*X$147*AK$147,\"*\")","v":57.073602178082247},{"$f":"IFERROR('Level 2'!I$7/L$148*Y$147*AL$147,\"*\")","v":55.863690445799556},{"$f":"IFERROR('Level 2'!J$7/M$148*Z$147*AM$147,\"*\")","v":52.774719145392076},{"$f":"IFERROR('Level 2'!K$7/N$148*AA$147*AN$147,\"*\")","v":46.319091800159875},{"$f":"IFERROR('Level 2'!L$7/O$148*AB$147*AO$147,\"*\")","v":"*"},null,{"$f":"'Oversættelse af landenavne'!$B$7","v":"Belgien"},{"$f":"IFERROR('Level 2'!O$7/E$148*R$147*AE$147,\"*\")","v":35.970629435005627},{"$f":"IFERROR('Level 2'!P$7/F$148*S$147*AF$147,\"*\")","v":45.249713937845499},{"$f":"IFERROR('Level 2'!Q$7/G$148*T$147*AG$147,\"*\")","v":38.620774402219851},{"$f":"IFERROR('Level 2'!R$7/H$148*U$147*AH$147,\"*\")","v":38.170164167080728},{"$f":"IFERROR('Level 2'!S$7/I$148*V$147*AI$147,\"*\")","v":44.398328190246573},{"$f":"IFERROR('Level 2'!T$7/J$148*W$147*AJ$147,\"*\")","v":45.043132186464916},{"$f":"IFERROR('Level 2'!U$7/K$148*X$147*AK$147,\"*\")","v":41.611050464125483},{"$f":"IFERROR('Level 2'!V$7/L$148*Y$147*AL$147,\"*\")","v":40.808324053480796},{"$f":"IFERROR('Level 2'!W$7/M$148*Z$147*AM$147,\"*\")","v":37.378157001466647},{"$f":"IFERROR('Level 2'!X$7/N$148*AA$147*AN$147,\"*\")","v":33.754803741007194},{"$f":"IFERROR('Level 2'!Y$7/O$148*AB$147*AO$147,\"*\")","v":"*"},null,{"$f":"'Oversættelse af landenavne'!$B$7","v":"Belgien"},{"$f":"IFERROR('Level 2'!AB$7/E$148*R$147*AE$147,\"*\")","v":32.273299928620027},{"$f":"IFERROR('Level 2'!AC$7/F$148*S$147*AF$147,\"*\")","v":42.374814839213357},{"$f":"IFERROR('Level 2'!AD$7/G$148*T$147*AG$147,\"*\")","v":35.50595428757785},{"$f":"IFERROR('Level 2'!AE$7/H$148*U$147*AH$147,\"*\")","v":34.320948992256255},{"$f":"IFERROR('Level 2'!AF$7/I$148*V$147*AI$147,\"*\")","v":40.672495288512415},{"$f":"IFERROR('Level 2'!AG$7/J$148*W$147*AJ$147,\"*\")","v":41.415960182472183},{"$f":"IFERROR('Level 2'!AH$7/K$148*X$147*AK$147,\"*\")","v":38.03542067678508},{"$f":"IFERROR('Level 2'!AI$7/L$148*Y$147*AL$147,\"*\")","v":35.758192134686766},{"$f":"IFERROR('Level 2'!AJ$7/M$148*Z$147*AM$147,\"*\")","v":32.048058800896492},{"$f":"IFERROR('Level 2'!AK$7/N$148*AA$147*AN$147,\"*\")","v":30.593639581135093},{"$f":"IFERROR('Level 2'!AL$7/O$148*AB$147*AO$147,\"*\")","v":"*"}]
[null,null,null,{"$f":"'Oversættelse af landenavne'!$B$10","v":"Danmark"},{"$f":"IFERROR('Level 2'!B$10/E$149*R$147*AE$147,\"*\")","v":47.238945276835551},{"$f":"IFERROR('Level 2'!C$10/F$149*S$147*AF$147,\"*\")","v":63.369032787330163},{"$f":"IFERROR('Level 2'!D$10/G$149*T$147*AG$147,\"*\")","v":53.548849093820337},{"$f":"IFERROR('Level 2'!E$10/H$149*U$147*AH$147,\"*\")","v":60.830541927171211},{"$f":"IFERROR('Level 2'!F$10/I$149*V$147*AI$147,\"*\")","v":63.572527204770019},{"$f":"IFERROR('Level 2'!G$10/J$149*W$147*AJ$147,\"*\")","v":58.323220668501293},{"$f":"IFERROR('Level 2'!H$10/K$149*X$147*AK$147,\"*\")","v":59.198178893758751},{"$f":"IFERROR('Level 2'!I$10/L$149*Y$147*AL$147,\"*\")","v":53.421417716544241},{"$f":"IFERROR('Level 2'!J$10/M$149*Z$147*AM$147,\"*\")","v":46.772235918707914},{"$f":"IFERROR('Level 2'!K$10/N$149*AA$147*AN$147,\"*\")","v":42.683753016306959},{"$f":"IFERROR('Level 2'!L$10/O$149*AB$147*AO$147,\"*\")","v":"*"},null,{"$f":"'Oversættelse af landenavne'!$B$10","v":"Danmark"},{"$f":"IFERROR('Level 2'!O$10/E$149*R$147*AE$147,\"*\")","v":57.694074217843799},{"$f":"IFERROR('Level 2'!P$10/F$149*S$147*AF$147,\"*\")","v":63.369032787330163},{"$f":"IFERROR('Level 2'!Q$10/G$149*T$147*AG$147,\"*\")","v":53.548849093820337},{"$f":"IFERROR('Level 2'!R$10/H$149*U$147*AH$147,\"*\")","v":60.830541927171211},{"$f":"IFERROR('Level 2'!S$10/I$149*V$147*AI$147,\"*\")","v":63.572527204770019},{"$f":"IFERROR('Level 2'!T$10/J$149*W$147*AJ$147,\"*\")","v":58.323220668501293},{"$f":"IFERROR('Level 2'!U$10/K$149*X$147*AK$147,\"*\")","v":59.198178893758751},{"$f":"IFERROR('Level 2'!V$10/L$149*Y$147*AL$147,\"*\")","v":53.421417716544241},{"$f":"IFERROR('Level 2'!W$10/M$149*Z$147*AM$147,\"*\")","v":46.772235918707914},{"$f":"IFERROR('Level 2'!X$10/N$149*AA$147*AN$147,\"*\")","v":42.683753016306959},{"$f":"IFERROR('Level 2'!Y$10/O$149*AB$147*AO$147,\"*\")","v":"*"},null,{"$f":"'Oversættelse af landenavne'!$B$10","v":"Danmark"},{"$f":"IFERROR('Level 2'!AB$10/E$149*R$147*AE$147,\"*\")","v":64.610259890570873},{"$f":"IFERROR('Level 2'!AC$10/F$149*S$147*AF$147,\"*\")","v":63.369032787330163},{"$f":"IFERROR('Level 2'!AD$10/G$149*T$147*AG$147,\"*\")","v":53.548849093820337},{"$f":"IFERROR('Level 2'!AE$10/H$149*U$147*AH$147,\"*\")","v":60.830541927171211},{"$f":"IFERROR('Level 2'!AF$10/I$149*V$147*AI$147,\"*\")","v":63.572527204770019},{"$f":"IFERROR('Level 2'!AG$10/J$149*W$147*AJ$147,\"*\")","v":58.323220668501293},{"$f":"IFERROR('Level 2'!AH$10/K$149*X$147*AK$147,\"*\")","v":59.198178893758751},{"$f":"IFERROR('Level 2'!AI$10/L$149*Y$147*AL$147,\"*\")","v":53.421417716544241},{"$f":"IFERROR('Level 2'!AJ$10/M$149*Z$147*AM$147,\"*\")","v":46.772235918707914},{"$f":"IFERROR('Level 2'!AK$10/N$149*AA$147*AN$147,\"*\")","v":42.683753016306959},{"$f":"IFERROR('Level 2'!AL$10/O$149*AB$147*AO$147,\"*\")","v":"*"}]
[null,null,null,{"$f":"'Oversættelse af landenavne'!$B$11","v":"Tyskland"},{"$f":"IFERROR('Level 2'!B$11/E$150*R$147*AE$147,\"*\")","v":65.48243208040644},{"$f":"IFERROR('Level 2'!C$11/F$150*S$147*AF$147,\"*\")","v":69.14491099236011},{"$f":"IFERROR('Level 2'!D$11/G$150*T$147*AG$147,\"*\")","v":66.214590610967321},{"$f":"IFERROR('Level 2'!E$11/H$150*U$147*AH$147,\"*\")","v":64.83866489532727},{"$f":"IFERROR('Level 2'!F$11/I$150*V$147*AI$147,\"*\")","v":68.051427458570856},{"$f":"IFERROR('Level 2'!G$11/J$150*W$147*AJ$147,\"*\")","v":67.103429535419949},{"$f":"IFERROR('Level 2'!H$11/K$150*X$147*AK$147,\"*\")","v":68.964434419682746},{"$f":"IFERROR('Level 2'!I$11/L$150*Y$147*AL$147,\"*\")","v":68.167482325946551},{"$f":"IFERROR('Level 2'!J$11/M$150*Z$147*AM$147,\"*\")","v":67.319759588725404},{"$f":"IFERROR('Level 2'!K$11/N$150*AA$147*AN$147,\"*\")","v":68.259714231814556},{"$f":"IFERROR('Level 2'!L$11/O$150*AB$147*AO$147,\"*\")","v":"*"},null,{"$f":"'Oversættelse af landenavne'!$B$11","v":"Tyskland"},{"$f":"IFERROR('Level 2'!O$11/E$150*R$147*AE$147,\"*\")","v":42.955035611150713},{"$f":"IFERROR('Level 2'!P$11/F$150*S$147*AF$147,\"*\")","v":47.788761268137506},{"$f":"IFERROR('Level 2'!Q$11/G$150*T$147*AG$147,\"*\")","v":42.022757329932439},{"$f":"IFERROR('Level 2'!R$11/H$150*U$147*AH$147,\"*\")","v":38.152238584958504},{"$f":"IFERROR('Level 2'!S$11/I$150*V$147*AI$147,\"*\")","v":40.254982682407451},{"$f":"IFERROR('Level 2'!T$11/J$150*W$147*AJ$147,\"*\")","v":41.248953714829014},{"$f":"IFERROR('Level 2'!U$11/K$150*X$147*AK$147,\"*\")","v":42.679365112377326},{"$f":"IFERROR('Level 2'!V$11/L$150*Y$147*AL$147,\"*\")","v":42.641621778193596},{"$f":"IFERROR('Level 2'!W$11/M$150*Z$147*AM$147,\"*\")","v":42.539644693254395},{"$f":"IFERROR('Level 2'!X$11/N$150*AA$147*AN$147,\"*\")","v":41.336239819344527},{"$f":"IFERROR('Level 2'!Y$11/O$150*AB$147*AO$147,\"*\")","v":"*"},null,{"$f":"'Oversættelse af landenavne'!$B$11","v":"Tyskland"},{"$f":"IFERROR('Level 2'!AB$11/E$150*R$147*AE$147,\"*\")","v":40.585309484557904},{"$f":"IFERROR('Level 2'!AC$11/F$150*S$147*AF$147,\"*\")","v":43.748014359934189},{"$f":"IFERROR('Level 2'!AD$11/G$150*T$147*AG$147,\"*\")","v":37.816114840029257},{"$f":"IFERROR('Level 2'!AE$11/H$150*U$147*AH$147,\"*\")","v":36.224485956608405},{"$f":"IFERROR('Level 2'!AF$11/I$150*V$147*AI$147,\"*\")","v":38.372858579322106},{"$f":"IFERROR('Level 2'!AG$11/J$150*W$147*AJ$147,\"*\")","v":39.310898908500832},{"$f":"IFERROR('Level 2'!AH$11/K$150*X$147*AK$147,\"*\")","v":40.050858181646788},{"$f":"IFERROR('Level 2'!AI$11/L$150*Y$147*AL$147,\"*\")","v":39.672561156586546},{"$f":"IFERROR('Level 2'!AJ$11/M$150*Z$147*AM$147,\"*\")","v":39.586434900728065},{"$f":"IFERROR('Level 2'!AK$11/N$150*AA$147*AN$147,\"*\")","v":38.148286132693848},{"$f":"IFERROR('Level 2'!AL$11/O$150*AB$147*AO$147,\"*\")","v":"*"}]
[null,null,null,{"$f":"'Oversættelse af landenavne'!$B$16","v":"Frankrig"},{"$f":"IFERROR('Level 2'!B$16/E$151*R$147*AE$147,\"*\")","v":68.280011739189874},{"$f":"IFERROR('Level 2'!C$16/F$151*S$147*AF$147,\"*\")","v":72.357849499560643},{"$f":"IFERROR('Level 2'!D$16/G$151*T$147*AG$147,\"*\")","v":76.303564753717893},{"$f":"IFERROR('Level 2'!E$16/H$151*U$147*AH$147,\"*\")","v":74.766257098563287},{"$f":"IFERROR('Level 2'!F$16/I$151*V$147*AI$147,\"*\")","v":82.816091827205426},{"$f":"IFERROR('Level 2'!G$16/J$151*W$147*AJ$147,\"*\")","v":82.570136006659354},{"$f":"IFERROR('Level 2'!H$16/K$151*X$147*AK$147,\"*\")","v":88.238519168163762},{"$f":"IFERROR('Level 2'!I$16/L$151*Y$147*AL$147,\"*\")","v":93.567132469931892},{"$f":"IFERROR('Level 2'!J$16/M$151*Z$147*AM$147,\"*\")","v":91.325582974317157},{"$f":"IFERROR('Level 2'!K$16/N$151*AA$147*AN$147,\"*\")","v":84.708483673860925},{"$f":"IFERROR('Level 2'!L$16/O$151*AB$147*AO$147,\"*\")","v":"*"},null,{"$f":"'Oversættelse af landenavne'!$B$16","v":"Frankrig"},{"$f":"IFERROR('Level 2'!O$16/E$151*R$147*AE$147,\"*\")","v":36.583932508481176},{"$f":"IFERROR('Level 2'!P$16/F$151*S$147*AF$147,\"*\")","v":37.741633647087518},{"$f":"IFERROR('Level 2'!Q$16/G$151*T$147*AG$147,\"*\")","v":38.949330089031974},{"$f":"IFERROR('Level 2'!R$16/H$151*U$147*AH$147,\"*\")","v":37.07665104163263},{"$f":"IFERROR('Level 2'!S$16/I$151*V$147*AI$147,\"*\")","v":40.627288145534777},{"$f":"IFERROR('Level 2'!T$16/J$151*W$147*AJ$147,\"*\")","v":42.641022539171004},{"$f":"IFERROR('Level 2'!U$16/K$151*X$147*AK$147,\"*\")","v":45.085868151650999},{"$f":"IFERROR('Level 2'!V$16/L$151*Y$147*AL$147,\"*\")","v":46.716406363827602},{"$f":"IFERROR('Level 2'!W$16/M$151*Z$147*AM$147,\"*\")","v":45.729903173647642},{"$f":"IFERROR('Level 2'!X$16/N$151*AA$147*AN$147,\"*\")","v":41.363029346123099},{"$f":"IFERROR('Level 2'!Y$16/O$151*AB$147*AO$147,\"*\")","v":"*"},null,{"$f":"'Oversættelse af landenavne'!$B$16","v":"Frankrig"},{"$f":"IFERROR('Level 2'!AB$16/E$151*R$147*AE$147,\"*\")","v":32.025934359883529},{"$f":"IFERROR('Level 2'!AC$16/F$151*S$147*AF$147,\"*\")","v":33.653767177215656},{"$f":"IFERROR('Level 2'!AD$16/G$151*T$147*AG$147,\"*\")","v":34.17854468348785},{"$f":"IFERROR('Level 2'!AE$16/H$151*U$147*AH$147,\"*\")","v":31.488782064962116},{"$f":"IFERROR('Level 2'!AF$16/I$151*V$147*AI$147,\"*\")","v":34.436994412996192},{"$f":"IFERROR('Level 2'!AG$16/J$151*W$147*AJ$147,\"*\")","v":36.849256933818602},{"$f":"IFERROR('Level 2'!AH$16/K$151*X$147*AK$147,\"*\")","v":37.542265624328287},{"$f":"IFERROR('Level 2'!AI$16/L$151*Y$147*AL$147,\"*\")","v":38.643789852999433},{"$f":"IFERROR('Level 2'!AJ$16/M$151*Z$147*AM$147,\"*\")","v":37.166451977643185},{"$f":"IFERROR('Level 2'!AK$16/N$151*AA$147*AN$147,\"*\")","v":34.290594276578737},{"$f":"IFERROR('Level 2'!AL$16/O$151*AB$147*AO$147,\"*\")","v":"*"}]
[null,null,null,{"$f":"'Oversættelse af landenavne'!$B$18","v":"Italien"},{"$f":"IFERROR('Level 2'!B$18/E$152*R$147*AE$147,\"*\")","v":52.38527735668292},{"$f":"IFERROR('Level 2'!C$18/F$152*S$147*AF$147,\"*\")","v":56.954499365109676},{"$f":"IFERROR('Level 2'!D$18/G$152*T$147*AG$147,\"*\")","v":51.990339341149586},{"$f":"IFERROR('Level 2'!E$18/H$152*U$147*AH$147,\"*\")","v":57.998800207980238},{"$f":"IFERROR('Level 2'!F$18/I$152*V$147*AI$147,\"*\")","v":62.986426368013866},{"$f":"IFERROR('Level 2'!G$18/J$152*W$147*AJ$147,\"*\")","v":69.3088846124448},{"$f":"IFERROR('Level 2'!H$18/K$152*X$147*AK$147,\"*\")","v":70.273238385625902},{"$f":"IFERROR('Level 2'!I$18/L$152*Y$147*AL$147,\"*\")","v":76.161107076427058},{"$f":"IFERROR('Level 2'!J$18/M$152*Z$147*AM$147,\"*\")","v":72.608689853522591},{"$f":"IFERROR('Level 2'!K$18/N$152*AA$147*AN$147,\"*\")","v":59.178064653876895},{"$f":"IFERROR('Level 2'!L$18/O$152*AB$147*AO$147,\"*\")","v":"*"},null,{"$f":"'Oversættelse af landenavne'!$B$18","v":"Italien"},{"$f":"IFERROR('Level 2'!O$18/E$152*R$147*AE$147,\"*\")","v":45.282996805139923},{"$f":"IFERROR('Level 2'!P$18/F$152*S$147*AF$147,\"*\")","v":46.269784270446991},{"$f":"IFERROR('Level 2'!Q$18/G$152*T$147*AG$147,\"*\")","v":44.020351289305083},{"$f":"IFERROR('Level 2'!R$18/H$152*U$147*AH$147,\"*\")","v":48.109350302335514},{"$f":"IFERROR('Level 2'!S$18/I$152*V$147*AI$147,\"*\")","v":52.078162583609227},{"$f":"IFERROR('Level 2'!T$18/J$152*W$147*AJ$147,\"*\")","v":55.852964392933032},{"$f":"IFERROR('Level 2'!U$18/K$152*X$147*AK$147,\"*\")","v":56.428683180485343},{"$f":"IFERROR('Level 2'!V$18/L$152*Y$147*AL$147,\"*\")","v":55.162728110038735},{"$f":"IFERROR('Level 2'!W$18/M$152*Z$147*AM$147,\"*\")","v":52.634252711344431},{"$f":"IFERROR('Level 2'!X$18/N$152*AA$147*AN$147,\"*\")","v":46.667355648281379},{"$f":"IFERROR('Level 2'!Y$18/O$152*AB$147*AO$147,\"*\")","v":"*"},null,{"$f":"'Oversættelse af landenavne'!$B$18","v":"Italien"},{"$f":"IFERROR('Level 2'!AB$18/E$152*R$147*AE$147,\"*\")","v":44.448067526186065},{"$f":"IFERROR('Level 2'!AC$18/F$152*S$147*AF$147,\"*\")","v":43.690919655649154},{"$f":"IFERROR('Level 2'!AD$18/G$152*T$147*AG$147,\"*\")","v":45.512516703738299},{"$f":"IFERROR('Level 2'!AE$18/H$152*U$147*AH$147,\"*\")","v":44.127507368144741},{"$f":"IFERROR('Level 2'!AF$18/I$152*V$147*AI$147,\"*\")","v":47.151849906781322},{"$f":"IFERROR('Level 2'!AG$18/J$152*W$147*AJ$147,\"*\")","v":50.037500897253338},{"$f":"IFERROR('Level 2'!AH$18/K$152*X$147*AK$147,\"*\")","v":49.856559697889431},{"$f":"IFERROR('Level 2'!AI$18/L$152*Y$147*AL$147,\"*\")","v":47.961748502883168},{"$f":"IFERROR('Level 2'!AJ$18/M$152*Z$147*AM$147,\"*\")","v":46.123767486911362},{"$f":"IFERROR('Level 2'!AK$18/N$152*AA$147*AN$147,\"*\")","v":42.997190479616307},{"$f":"IFERROR('Level 2'!AL$18/O$152*AB$147*AO$147,\"*\")","v":"*"}]
[null,null,null,{"$f":"'Oversættelse af landenavne'!$B$23","v":"Holland"},{"$f":"IFERROR('Level 2'!B$23/E$153*R$147*AE$147,\"*\")","v":77.548227457024069},{"$f":"IFERROR('Level 2'!C$23/F$153*S$147*AF$147,\"*\")","v":74.652019190916164},{"$f":"IFERROR('Level 2'!D$23/G$153*T$147*AG$147,\"*\")","v":73.431358782415671},{"$f":"IFERROR('Level 2'!E$23/H$153*U$147*AH$147,\"*\")","v":69.804033481820269},{"$f":"IFERROR('Level 2'!F$23/I$153*V$147*AI$147,\"*\")","v":72.310225520538779},{"$f":"IFERROR('Level 2'!G$23/J$153*W$147*AJ$147,\"*\")","v":73.437145748009641},{"$f":"IFERROR('Level 2'!H$23/K$153*X$147*AK$147,\"*\")","v":75.364711882427713},{"$f":"IFERROR('Level 2'!I$23/L$153*Y$147*AL$147,\"*\")","v":74.632605083143517},{"$f":"IFERROR('Level 2'!J$23/M$153*Z$147*AM$147,\"*\")","v":74.166960071185443},{"$f":"IFERROR('Level 2'!K$23/N$153*AA$147*AN$147,\"*\")","v":66.839869312549965},{"$f":"IFERROR('Level 2'!L$23/O$153*AB$147*AO$147,\"*\")","v":"*"},null,{"$f":"'Oversættelse af landenavne'!$B$23","v":"Holland"},{"$f":"IFERROR('Level 2'!O$23/E$153*R$147*AE$147,\"*\")","v":50.781237787606095},{"$f":"IFERROR('Level 2'!P$23/F$153*S$147*AF$147,\"*\")","v":50.446577458829687},{"$f":"IFERROR('Level 2'!Q$23/G$153*T$147*AG$147,\"*\")","v":50.975195755969516},{"$f":"IFERROR('Level 2'!R$23/H$153*U$147*AH$147,\"*\")","v":47.639393646356126},{"$f":"IFERROR('Level 2'!S$23/I$153*V$147*AI$147,\"*\")","v":49.032568752261376},{"$f":"IFERROR('Level 2'!T$23/J$153*W$147*AJ$147,\"*\")","v":50.820884060687021},{"$f":"IFERROR('Level 2'!U$23/K$153*X$147*AK$147,\"*\")","v":51.297193169391342},{"$f":"IFERROR('Level 2'!V$23/L$153*Y$147*AL$147,\"*\")","v":49.737117657790385},{"$f":"IFERROR('Level 2'!W$23/M$153*Z$147*AM$147,\"*\")","v":48.096312754986904},{"$f":"IFERROR('Level 2'!X$23/N$153*AA$147*AN$147,\"*\")","v":47.926463406874504},{"$f":"IFERROR('Level 2'!Y$23/O$153*AB$147*AO$147,\"*\")","v":"*"},null,{"$f":"'Oversættelse af landenavne'!$B$23","v":"Holland"},{"$f":"IFERROR('Level 2'!AB$23/E$153*R$147*AE$147,\"*\")","v":46.106139705572517},{"$f":"IFERROR('Level 2'!AC$23/F$153*S$147*AF$147,\"*\")","v":"*"},{"$f":"IFERROR('Level 2'!AD$23/G$153*T$147*AG$147,\"*\")","v":45.471522773079037},{"$f":"IFERROR('Level 2'!AE$23/H$153*U$147*AH$147,\"*\")","v":41.850339689330298},{"$f":"IFERROR('Level 2'!AF$23/I$153*V$147*AI$147,\"*\")","v":44.690253575304432},{"$f":"IFERROR('Level 2'!AG$23/J$153*W$147*AJ$147,\"*\")","v":45.619835501400615},{"$f":"IFERROR('Level 2'!AH$23/K$153*X$147*AK$147,\"*\")","v":47.75665981576109},{"$f":"IFERROR('Level 2'!AI$23/L$153*Y$147*AL$147,\"*\")","v":44.997684681195324},{"$f":"IFERROR('Level 2'!AJ$23/M$153*Z$147*AM$147,\"*\")","v":42.89562176974524},{"$f":"IFERROR('Level 2'!AK$23/N$153*AA$147*AN$147,\"*\")","v":43.854455336530783},{"$f":"IFERROR('Level 2'!AL$23/O$153*AB$147*AO$147,\"*\")","v":"*"}]
[null,null,null,{"$f":"'Oversættelse af landenavne'!$B$30","v":"Sverige"},{"$f":"IFERROR('Level 2'!B$30/E$154*R$147*AE$147,\"*\")","v":79.411516658920903},{"$f":"IFERROR('Level 2'!C$30/F$154*S$147*AF$147,\"*\")","v":81.358409605690326},{"$f":"IFERROR('Level 2'!D$30/G$154*T$147*AG$147,\"*\")","v":83.6109438382544},{"$f":"IFERROR('Level 2'!E$30/H$154*U$147*AH$147,\"*\")","v":98.262423686444137},{"$f":"IFERROR('Level 2'!F$30/I$154*V$147*AI$147,\"*\")","v":109.26022850016167},{"$f":"IFERROR('Level 2'!G$30/J$154*W$147*AJ$147,\"*\")","v":119.56661146548871},{"$f":"IFERROR('Level 2'!H$30/K$154*X$147*AK$147,\"*\")","v":104.95117078111268},{"$f":"IFERROR('Level 2'!I$30/L$154*Y$147*AL$147,\"*\")","v":103.06121169496799},{"$f":"IFERROR('Level 2'!J$30/M$154*Z$147*AM$147,\"*\")","v":107.34377444758996},{"$f":"IFERROR('Level 2'!K$30/N$154*AA$147*AN$147,\"*\")","v":98.277378987210241},{"$f":"IFERROR('Level 2'!L$30/O$154*AB$147*AO$147,\"*\")","v":"*"},null,{"$f":"'Oversættelse af landenavne'!$B$30","v":"Sverige"},{"$f":"IFERROR('Level 2'!O$30/E$154*R$147*AE$147,\"*\")","v":60.94807178622046},{"$f":"IFERROR('Level 2'!P$30/F$154*S$147*AF$147,\"*\")","v":62.779607019291973},{"$f":"IFERROR('Level 2'!Q$30/G$154*T$147*AG$147,\"*\")","v":57.451284640539782},{"$f":"IFERROR('Level 2'!R$30/H$154*U$147*AH$147,\"*\")","v":64.196175225493675},{"$f":"IFERROR('Level 2'!S$30/I$154*V$147*AI$147,\"*\")","v":72.12973085165126},{"$f":"IFERROR('Level 2'!T$30/J$154*W$147*AJ$147,\"*\")","v":74.153163966977161},{"$f":"IFERROR('Level 2'!U$30/K$154*X$147*AK$147,\"*\")","v":74.256082975824569},{"$f":"IFERROR('Level 2'!V$30/L$154*Y$147*AL$147,\"*\")","v":70.191551633037548},{"$f":"IFERROR('Level 2'!W$30/M$154*Z$147*AM$147,\"*\")","v":69.161409522683954},{"$f":"IFERROR('Level 2'!X$30/N$154*AA$147*AN$147,\"*\")","v":67.195098437633902},{"$f":"IFERROR('Level 2'!Y$30/O$154*AB$147*AO$147,\"*\")","v":"*"},null,{"$f":"'Oversættelse af landenavne'!$B$30","v":"Sverige"},{"$f":"IFERROR('Level 2'!AB$30/E$154*R$147*AE$147,\"*\")","v":59.0101934050521},{"$f":"IFERROR('Level 2'!AC$30/F$154*S$147*AF$147,\"*\")","v":60.364799995444628},{"$f":"IFERROR('Level 2'!AD$30/G$154*T$147*AG$147,\"*\")","v":53.417600218491387},{"$f":"IFERROR('Level 2'!AE$30/H$154*U$147*AH$147,\"*\")","v":59.96721724661009},{"$f":"IFERROR('Level 2'!AF$30/I$154*V$147*AI$147,\"*\")","v":66.035650892333464},{"$f":"IFERROR('Level 2'!AG$30/J$154*W$147*AJ$147,\"*\")","v":68.72835594898126},{"$f":"IFERROR('Level 2'!AH$30/K$154*X$147*AK$147,\"*\")","v":67.638022052851994},{"$f":"IFERROR('Level 2'!AI$30/L$154*Y$147*AL$147,\"*\")","v":62.697014049697991},{"$f":"IFERROR('Level 2'!AJ$30/M$154*Z$147*AM$147,\"*\")","v":62.471406291178532},{"$f":"IFERROR('Level 2'!AK$30/N$154*AA$147*AN$147,\"*\")","v":60.531203651462832},{"$f":"IFERROR('Level 2'!AL$30/O$154*AB$147*AO$147,\"*\")","v":"*"}]
[null,null,null,{"$f":"'Oversættelse af landenavne'!$B$31","v":"UK"},{"$f":"IFERROR('Level 2'!B$31/E$155*R$147*AE$147,\"*\")","v":33.537850015215206},{"$f":"IFERROR('Level 2'!C$31/F$155*S$147*AF$147,\"*\")","v":39.815524625848312},{"$f":"IFERROR('Level 2'!D$31/G$155*T$147*AG$147,\"*\")","v":38.954500362225232},{"$f":"IFERROR('Level 2'!E$31/H$155*U$147*AH$147,\"*\")","v":37.006995221299469},{"$f":"IFERROR('Level 2'!F$31/I$155*V$147*AI$147,\"*\")","v":41.000118878113788},{"$f":"IFERROR('Level 2'!G$31/J$155*W$147*AJ$147,\"*\")","v":46.88001702657229},{"$f":"IFERROR('Level 2'!H$31/K$155*X$147*AK$147,\"*\")","v":49.448929078150684},{"$f":"IFERROR('Level 2'!I$31/L$155*Y$147*AL$147,\"*\")","v":62.715019833633093},{"$f":"IFERROR('Level 2'!J$31/M$155*Z$147*AM$147,\"*\")","v":64.273619398579143},{"$f":"IFERROR('Level 2'!K$31/N$155*AA$147*AN$147,\"*\")","v":53.952499560447642},{"$f":"IFERROR('Level 2'!L$31/O$155*AB$147*AO$147,\"*\")","v":"*"},null,{"$f":"'Oversættelse af landenavne'!$B$31","v":"UK"},{"$f":"IFERROR('Level 2'!O$31/E$155*R$147*AE$147,\"*\")","v":30.948633173031258},{"$f":"IFERROR('Level 2'!P$31/F$155*S$147*AF$147,\"*\")","v":36.677844348356032},{"$f":"IFERROR('Level 2'!Q$31/G$155*T$147*AG$147,\"*\")","v":34.886478352592746},{"$f":"IFERROR('Level 2'!R$31/H$155*U$147*AH$147,\"*\")","v":32.802247353338799},{"$f":"IFERROR('Level 2'!S$31/I$155*V$147*AI$147,\"*\")","v":35.974457986978727},{"$f":"IFERROR('Level 2'!T$31/J$155*W$147*AJ$147,\"*\")","v":40.542082021930845},{"$f":"IFERROR('Level 2'!U$31/K$155*X$147*AK$147,\"*\")","v":40.285032085016255},{"$f":"IFERROR('Level 2'!V$31/L$155*Y$147*AL$147,\"*\")","v":44.176044328776982},{"$f":"IFERROR('Level 2'!W$31/M$155*Z$147*AM$147,\"*\")","v":46.265923730431652},{"$f":"IFERROR('Level 2'!X$31/N$155*AA$147*AN$147,\"*\")","v":39.191202410183855},{"$f":"IFERROR('Level 2'!Y$31/O$155*AB$147*AO$147,\"*\")","v":"*"},null,{"$f":"'Oversættelse af landenavne'!$B$31","v":"UK"},{"$f":"IFERROR('Level 2'!AB$31/E$155*R$147*AE$147,\"*\")","v":26.776443187366983},{"$f":"IFERROR('Level 2'!AC$31/F$155*S$147*AF$147,\"*\")","v":33.943205142589591},{"$f":"IFERROR('Level 2'!AD$31/G$155*T$147*AG$147,\"*\")","v":30.781959357813982},{"$f":"IFERROR('Level 2'!AE$31/H$155*U$147*AH$147,\"*\")","v":28.926369980324466},{"$f":"IFERROR('Level 2'!AF$31/I$155*V$147*AI$147,\"*\")","v":31.394706315337448},{"$f":"IFERROR('Level 2'!AG$31/J$155*W$147*AJ$147,\"*\")","v":35.757076227663028},{"$f":"IFERROR('Level 2'!AH$31/K$155*X$147*AK$147,\"*\")","v":36.16125801124786},{"$f":"IFERROR('Level 2'!AI$31/L$155*Y$147*AL$147,\"*\")","v":38.53336851969425},{"$f":"IFERROR('Level 2'!AJ$31/M$155*Z$147*AM$147,\"*\")","v":41.269932412715832},{"$f":"IFERROR('Level 2'!AK$31/N$155*AA$147*AN$147,\"*\")","v":36.094333114580337},{"$f":"IFERROR('Level 2'!AL$31/O$155*AB$147*AO$147,\"*\")","v":"*"}]
[null,null,null,"Kilde: Eurostat",null,null,null,null,null,null,null,null,null,null,null,null,"Kilde: Eurostat",null,null,null,null,null,null,null,null,null,null,null,null,"Kilde: Eurostat"]
[]
[]
[]
[]
[null,"Level 3: Gaspris inkl.  afgifter og moms",null,{"$f":"\"Figur XX:\n\"&$B$102&\" for forbrugsinterval \"&D27&\". \nPriserne er vist i \"&$E$15&\" / \"&$E$16&\" i \"&$E$13&\" med basisår \"&$E$14&\". \"","v":"Figur XX:\nLevel 3: Gaspris inkl.  afgifter og moms for forbrugsinterval Forbrugsinterval < 20 GJ. \nPriserne er vist i DKK øre / Kwh i faste priser med basisår 2016. "},null,null,null,null,null,null,null,null,null,null,null,null,{"$f":"\"Figur XX:\n\"&$B$102&\" for forbrugsinterval \"&Q27&\". \nPriserne er vist i \"&$E$15&\" / \"&$E$16&\" i \"&$E$13&\" med basisår \"&$E$14&\". \"","v":"Figur XX:\nLevel 3: Gaspris inkl.  afgifter og moms for forbrugsinterval Forbrugsinterval  20 GJ <  200 GJ. \nPriserne er vist i DKK øre / Kwh i faste priser med basisår 2016. "},null,null,null,null,null,null,null,null,null,null,null,null,{"$f":"\"Figur XX:\n\"&$B$102&\" for forbrugsinterval \"&AD27&\". \nPriserne er vist i \"&$E$15&\" / \"&$E$16&\" i \"&$E$13&\" med basisår \"&$E$14&\". \"","v":"Figur XX:\nLevel 3: Gaspris inkl.  afgifter og moms for forbrugsinterval Forbrugsinterval  >200 GJ. \nPriserne er vist i DKK øre / Kwh i faste priser med basisår 2016. "},null,null,null,null,null,null,null,null,null,null,null,null,null,{"$f":"B102","v":"Level 3: Gaspris inkl.  afgifter og moms"}]
[]
[]
[]
[]
[]
[]
[]
[]
[]
[]
[]
[]
[]
[]
[]
[]
[]
[]
[null,null,null,"Kilde: Eurostat",null,null,null,null,null,null,null,null,null,null,null,null,"Kilde: Eurostat",null,null,null,null,null,null,null,null,null,null,null,null,"Kilde: Eurostat"]
[null,null,null,{"$f":"\"Tabel XX:\n\"&$B$102&\" for forbrugsinterval \"&D27&\". \nPriserne er vist i \"&$E$15&\" / \"&$E$16&\" i \"&$E$13&\" med basisår \"&$E$14&\". \"","v":"Tabel XX:\nLevel 3: Gaspris inkl.  afgifter og moms for forbrugsinterval Forbrugsinterval < 20 GJ. \nPriserne er vist i DKK øre / Kwh i faste priser med basisår 2016. "},null,null,null,null,null,null,null,null,null,null,null,null,{"$f":"\"Tabel XX:\n\"&$B$102&\" for forbrugsinterval \"&Q27&\". \nPriserne er vist i \"&$E$15&\" / \"&$E$16&\" i \"&$E$13&\" med basisår \"&$E$14&\". \"","v":"Tabel XX:\nLevel 3: Gaspris inkl.  afgifter og moms for forbrugsinterval Forbrugsinterval  20 GJ <  200 GJ. \nPriserne er vist i DKK øre / Kwh i faste priser med basisår 2016. "},null,null,null,null,null,null,null,null,null,null,null,null,{"$f":"\"Tabel XX:\n\"&$B$102&\" for forbrugsinterval \"&AD27&\". \nPriserne er vist i \"&$E$15&\" / \"&$E$16&\" i \"&$E$13&\" med basisår \"&$E$14&\". \"","v":"Tabel XX:\nLevel 3: Gaspris inkl.  afgifter og moms for forbrugsinterval Forbrugsinterval  >200 GJ. \nPriserne er vist i DKK øre / Kwh i faste priser med basisår 2016. "}]
[null,null,null,{"$f":"$E$15&\"/\"&$E$16","v":"DKK øre/Kwh"},{"$f":"'Level 1'!B5","v":2007},{"$f":"'Level 1'!C5","v":2008},{"$f":"'Level 1'!D5","v":2009},{"$f":"'Level 1'!E5","v":2010},{"$f":"'Level 1'!F5","v":2011},{"$f":"'Level 1'!G5","v":2012},{"$f":"'Level 1'!H5","v":2013},{"$f":"'Level 1'!I5","v":2014},{"$f":"'Level 1'!J5","v":2015},{"$f":"'Level 1'!K5","v":2016},{"$f":"'Level 1'!L5","v":2017},null,{"$f":"$E$15&\"/\"&$E$16","v":"DKK øre/Kwh"},{"$f":"'Level 1'!O5","v":2007},{"$f":"'Level 1'!P5","v":2008},{"$f":"'Level 1'!Q5","v":2009},{"$f":"'Level 1'!R5","v":2010},{"$f":"'Level 1'!S5","v":2011},{"$f":"'Level 1'!T5","v":2012},{"$f":"'Level 1'!U5","v":2013},{"$f":"'Level 1'!V5","v":2014},{"$f":"'Level 1'!W5","v":2015},{"$f":"'Level 1'!X5","v":2016},{"$f":"'Level 1'!Y5","v":2017},null,{"$f":"$E$15&\"/\"&$E$16","v":"DKK øre/Kwh"},{"$f":"'Level 1'!AB5","v":2007},{"$f":"'Level 1'!AC5","v":2008},{"$f":"'Level 1'!AD5","v":2009},{"$f":"'Level 1'!AE5","v":2010},{"$f":"'Level 1'!AF5","v":2011},{"$f":"'Level 1'!AG5","v":2012},{"$f":"'Level 1'!AH5","v":2013},{"$f":"'Level 1'!AI5","v":2014},{"$f":"'Level 1'!AJ5","v":2015},{"$f":"'Level 1'!AK5","v":2016},{"$f":"'Level 1'!AL5","v":2017}]
[null,null,null,{"$f":"'Oversættelse af landenavne'!$B$6","v":"EU-28"},{"$f":"IFERROR('Level 3'!B$6/E$147*R$147*AE$147,\"*\")","v":60.010245539187586},{"$f":"IFERROR('Level 3'!C$6/F$147*S$147*AF$147,\"*\")","v":64.332022015588137},{"$f":"IFERROR('Level 3'!D$6/G$147*T$147*AG$147,\"*\")","v":63.279688438317102},{"$f":"IFERROR('Level 3'!E$6/H$147*U$147*AH$147,\"*\")","v":62.460151423554258},{"$f":"IFERROR('Level 3'!F$6/I$147*V$147*AI$147,\"*\")","v":66.82602703536854},{"$f":"IFERROR('Level 3'!G$6/J$147*W$147*AJ$147,\"*\")","v":69.904845084896991},{"$f":"IFERROR('Level 3'!H$6/K$147*X$147*AK$147,\"*\")","v":72.165080233049693},{"$f":"IFERROR('Level 3'!I$6/L$147*Y$147*AL$147,\"*\")","v":76.529866586923518},{"$f":"IFERROR('Level 3'!J$6/M$147*Z$147*AM$147,\"*\")","v":75.384927453297834},{"$f":"IFERROR('Level 3'!K$6/N$147*AA$147*AN$147,\"*\")","v":68.179345651478812},{"$f":"IFERROR('Level 3'!L$6/O$147*AB$147*AO$147,\"*\")","v":"*"},null,{"$f":"'Oversættelse af landenavne'!$B$6","v":"EU-28"},{"$f":"IFERROR('Level 3'!O$6/E$147*R$147*AE$147,\"*\")","v":43.978627597310755},{"$f":"IFERROR('Level 3'!P$6/F$147*S$147*AF$147,\"*\")","v":47.827839310777925},{"$f":"IFERROR('Level 3'!Q$6/G$147*T$147*AG$147,\"*\")","v":45.429678330541705},{"$f":"IFERROR('Level 3'!R$6/H$147*U$147*AH$147,\"*\")","v":43.597706435987156},{"$f":"IFERROR('Level 3'!S$6/I$147*V$147*AI$147,\"*\")","v":47.105260813000804},{"$f":"IFERROR('Level 3'!T$6/J$147*W$147*AJ$147,\"*\")","v":50.273564571510832},{"$f":"IFERROR('Level 3'!U$6/K$147*X$147*AK$147,\"*\")","v":50.968610478499222},{"$f":"IFERROR('Level 3'!V$6/L$147*Y$147*AL$147,\"*\")","v":51.569521240128701},{"$f":"IFERROR('Level 3'!W$6/M$147*Z$147*AM$147,\"*\")","v":51.020926531447572},{"$f":"IFERROR('Level 3'!X$6/N$147*AA$147*AN$147,\"*\")","v":46.238723219824145},{"$f":"IFERROR('Level 3'!Y$6/O$147*AB$147*AO$147,\"*\")","v":"*"},null,{"$f":"'Oversættelse af landenavne'!$B$6","v":"EU-28"},{"$f":"IFERROR('Level 3'!AB$6/E$147*R$147*AE$147,\"*\")","v":39.460063466974816},{"$f":"IFERROR('Level 3'!AC$6/F$147*S$147*AF$147,\"*\")","v":43.310434288594102},{"$f":"IFERROR('Level 3'!AD$6/G$147*T$147*AG$147,\"*\")","v":40.970866872685477},{"$f":"IFERROR('Level 3'!AE$6/H$147*U$147*AH$147,\"*\")","v":39.301582079156312},{"$f":"IFERROR('Level 3'!AF$6/I$147*V$147*AI$147,\"*\")","v":42.740023592248939},{"$f":"IFERROR('Level 3'!AG$6/J$147*W$147*AJ$147,\"*\")","v":45.874627671503632},{"$f":"IFERROR('Level 3'!AH$6/K$147*X$147*AK$147,\"*\")","v":46.532453640555779},{"$f":"IFERROR('Level 3'!AI$6/L$147*Y$147*AL$147,\"*\")","v":46.247686061461927},{"$f":"IFERROR('Level 3'!AJ$6/M$147*Z$147*AM$147,\"*\")","v":45.778040257125369},{"$f":"IFERROR('Level 3'!AK$6/N$147*AA$147*AN$147,\"*\")","v":42.488189470823343},{"$f":"IFERROR('Level 3'!AL$6/O$147*AB$147*AO$147,\"*\")","v":"*"}]
[null,null,null,{"$f":"'Oversættelse af landenavne'!$B$7","v":"Belgien"},{"$f":"IFERROR('Level 3'!B$7/E$148*R$147*AE$147,\"*\")","v":67.30393033657846},{"$f":"IFERROR('Level 3'!C$7/F$148*S$147*AF$147,\"*\")","v":77.876824020759258},{"$f":"IFERROR('Level 3'!D$7/G$148*T$147*AG$147,\"*\")","v":69.424548324424677},{"$f":"IFERROR('Level 3'!E$7/H$148*U$147*AH$147,\"*\")","v":67.163682270986769},{"$f":"IFERROR('Level 3'!F$7/I$148*V$147*AI$147,\"*\")","v":72.207491635509498},{"$f":"IFERROR('Level 3'!G$7/J$148*W$147*AJ$147,\"*\")","v":75.246579672183898},{"$f":"IFERROR('Level 3'!H$7/K$148*X$147*AK$147,\"*\")","v":68.946876662762179},{"$f":"IFERROR('Level 3'!I$7/L$148*Y$147*AL$147,\"*\")","v":67.552302225588974},{"$f":"IFERROR('Level 3'!J$7/M$148*Z$147*AM$147,\"*\")","v":63.772263533910262},{"$f":"IFERROR('Level 3'!K$7/N$148*AA$147*AN$147,\"*\")","v":55.909742386890493},{"$f":"IFERROR('Level 3'!L$7/O$148*AB$147*AO$147,\"*\")","v":"*"},null,{"$f":"'Oversættelse af landenavne'!$B$7","v":"Belgien"},{"$f":"IFERROR('Level 3'!O$7/E$148*R$147*AE$147,\"*\")","v":43.521954952284673},{"$f":"IFERROR('Level 3'!P$7/F$148*S$147*AF$147,\"*\")","v":54.653029739621473},{"$f":"IFERROR('Level 3'!Q$7/G$148*T$147*AG$147,\"*\")","v":46.647426236105012},{"$f":"IFERROR('Level 3'!R$7/H$148*U$147*AH$147,\"*\")","v":46.073495704743166},{"$f":"IFERROR('Level 3'!S$7/I$148*V$147*AI$147,\"*\")","v":53.705827112069159},{"$f":"IFERROR('Level 3'!T$7/J$148*W$147*AJ$147,\"*\")","v":54.504120759617066},{"$f":"IFERROR('Level 3'!U$7/K$148*X$147*AK$147,\"*\")","v":50.318118419557443},{"$f":"IFERROR('Level 3'!V$7/L$148*Y$147*AL$147,\"*\")","v":49.32023994886751},{"$f":"IFERROR('Level 3'!W$7/M$148*Z$147*AM$147,\"*\")","v":45.164148550147608},{"$f":"IFERROR('Level 3'!X$7/N$148*AA$147*AN$147,\"*\")","v":40.693291176658668},{"$f":"IFERROR('Level 3'!Y$7/O$148*AB$147*AO$147,\"*\")","v":"*"},null,{"$f":"'Oversættelse af landenavne'!$B$7","v":"Belgien"},{"$f":"IFERROR('Level 3'!AB$7/E$148*R$147*AE$147,\"*\")","v":39.103959525162914},{"$f":"IFERROR('Level 3'!AC$7/F$148*S$147*AF$147,\"*\")","v":51.284007358411934},{"$f":"IFERROR('Level 3'!AD$7/G$148*T$147*AG$147,\"*\")","v":42.978527543377659},{"$f":"IFERROR('Level 3'!AE$7/H$148*U$147*AH$147,\"*\")","v":41.521762171015354},{"$f":"IFERROR('Level 3'!AF$7/I$148*V$147*AI$147,\"*\")","v":49.17249430387551},{"$f":"IFERROR('Level 3'!AG$7/J$148*W$147*AJ$147,\"*\")","v":50.366662199929529},{"$f":"IFERROR('Level 3'!AH$7/K$148*X$147*AK$147,\"*\")","v":46.005526767650707},{"$f":"IFERROR('Level 3'!AI$7/L$148*Y$147*AL$147,\"*\")","v":43.170482531626391},{"$f":"IFERROR('Level 3'!AJ$7/M$148*Z$147*AM$147,\"*\")","v":38.781524628958543},{"$f":"IFERROR('Level 3'!AK$7/N$148*AA$147*AN$147,\"*\")","v":36.755230740207836},{"$f":"IFERROR('Level 3'!AL$7/O$148*AB$147*AO$147,\"*\")","v":"*"}]
[null,null,null,{"$f":"'Oversættelse af landenavne'!$B$10","v":"Danmark"},{"$f":"IFERROR('Level 3'!B$10/E$149*R$147*AE$147,\"*\")","v":54.752462185939905},{"$f":"IFERROR('Level 3'!C$10/F$149*S$147*AF$147,\"*\")","v":79.214197044319789},{"$f":"IFERROR('Level 3'!D$10/G$149*T$147*AG$147,\"*\")","v":66.935150714688362},{"$f":"IFERROR('Level 3'!E$10/H$149*U$147*AH$147,\"*\")","v":76.039211468985741},{"$f":"IFERROR('Level 3'!F$10/I$149*V$147*AI$147,\"*\")","v":79.549230802751239},{"$f":"IFERROR('Level 3'!G$10/J$149*W$147*AJ$147,\"*\")","v":72.90311026050037},{"$f":"IFERROR('Level 3'!H$10/K$149*X$147*AK$147,\"*\")","v":73.998163070745818},{"$f":"IFERROR('Level 3'!I$10/L$149*Y$147*AL$147,\"*\")","v":66.774651943663301},{"$f":"IFERROR('Level 3'!J$10/M$149*Z$147*AM$147,\"*\")","v":58.464421484840187},{"$f":"IFERROR('Level 3'!K$10/N$149*AA$147*AN$147,\"*\")","v":53.352949951143096},{"$f":"IFERROR('Level 3'!L$10/O$149*AB$147*AO$147,\"*\")","v":"*"},null,{"$f":"'Oversættelse af landenavne'!$B$10","v":"Danmark"},{"$f":"IFERROR('Level 3'!O$10/E$149*R$147*AE$147,\"*\")","v":65.207591126948145},{"$f":"IFERROR('Level 3'!P$10/F$149*S$147*AF$147,\"*\")","v":79.214197044319789},{"$f":"IFERROR('Level 3'!Q$10/G$149*T$147*AG$147,\"*\")","v":66.935150714688362},{"$f":"IFERROR('Level 3'!R$10/H$149*U$147*AH$147,\"*\")","v":76.039211468985741},{"$f":"IFERROR('Level 3'!S$10/I$149*V$147*AI$147,\"*\")","v":79.549230802751239},{"$f":"IFERROR('Level 3'!T$10/J$149*W$147*AJ$147,\"*\")","v":72.90311026050037},{"$f":"IFERROR('Level 3'!U$10/K$149*X$147*AK$147,\"*\")","v":73.998163070745818},{"$f":"IFERROR('Level 3'!V$10/L$149*Y$147*AL$147,\"*\")","v":66.774651943663301},{"$f":"IFERROR('Level 3'!W$10/M$149*Z$147*AM$147,\"*\")","v":58.464421484840187},{"$f":"IFERROR('Level 3'!X$10/N$149*AA$147*AN$147,\"*\")","v":53.352949951143096},{"$f":"IFERROR('Level 3'!Y$10/O$149*AB$147*AO$147,\"*\")","v":"*"},null,{"$f":"'Oversættelse af landenavne'!$B$10","v":"Danmark"},{"$f":"IFERROR('Level 3'!AB$10/E$149*R$147*AE$147,\"*\")","v":72.123776799675213},{"$f":"IFERROR('Level 3'!AC$10/F$149*S$147*AF$147,\"*\")","v":79.214197044319789},{"$f":"IFERROR('Level 3'!AD$10/G$149*T$147*AG$147,\"*\")","v":66.935150714688362},{"$f":"IFERROR('Level 3'!AE$10/H$149*U$147*AH$147,\"*\")","v":76.039211468985741},{"$f":"IFERROR('Level 3'!AF$10/I$149*V$147*AI$147,\"*\")","v":79.549230802751239},{"$f":"IFERROR('Level 3'!AG$10/J$149*W$147*AJ$147,\"*\")","v":72.90311026050037},{"$f":"IFERROR('Level 3'!AH$10/K$149*X$147*AK$147,\"*\")","v":73.998163070745818},{"$f":"IFERROR('Level 3'!AI$10/L$149*Y$147*AL$147,\"*\")","v":66.774651943663301},{"$f":"IFERROR('Level 3'!AJ$10/M$149*Z$147*AM$147,\"*\")","v":58.464421484840187},{"$f":"IFERROR('Level 3'!AK$10/N$149*AA$147*AN$147,\"*\")","v":53.352949951143096},{"$f":"IFERROR('Level 3'!AL$10/O$149*AB$147*AO$147,\"*\")","v":"*"}]
[null,null,null,{"$f":"'Oversættelse af landenavne'!$B$11","v":"Tyskland"},{"$f":"IFERROR('Level 3'!B$11/E$150*R$147*AE$147,\"*\")","v":77.930993378330697},{"$f":"IFERROR('Level 3'!C$11/F$150*S$147*AF$147,\"*\")","v":82.288279094494385},{"$f":"IFERROR('Level 3'!D$11/G$150*T$147*AG$147,\"*\")","v":78.790850511577517},{"$f":"IFERROR('Level 3'!E$11/H$150*U$147*AH$147,\"*\")","v":77.153263774936804},{"$f":"IFERROR('Level 3'!F$11/I$150*V$147*AI$147,\"*\")","v":80.973473539455327},{"$f":"IFERROR('Level 3'!G$11/J$150*W$147*AJ$147,\"*\")","v":79.858854076360061},{"$f":"IFERROR('Level 3'!H$11/K$150*X$147*AK$147,\"*\")","v":82.039224049347524},{"$f":"IFERROR('Level 3'!I$11/L$150*Y$147*AL$147,\"*\")","v":81.131932551515803},{"$f":"IFERROR('Level 3'!J$11/M$150*Z$147*AM$147,\"*\")","v":80.099103781839389},{"$f":"IFERROR('Level 3'!K$11/N$150*AA$147*AN$147,\"*\")","v":81.225845192645878},{"$f":"IFERROR('Level 3'!L$11/O$150*AB$147*AO$147,\"*\")","v":"*"},null,{"$f":"'Oversættelse af landenavne'!$B$11","v":"Tyskland"},{"$f":"IFERROR('Level 3'!O$11/E$150*R$147*AE$147,\"*\")","v":51.114092654609514},{"$f":"IFERROR('Level 3'!P$11/F$150*S$147*AF$147,\"*\")","v":56.862207394139183},{"$f":"IFERROR('Level 3'!Q$11/G$150*T$147*AG$147,\"*\")","v":49.999366618745391},{"$f":"IFERROR('Level 3'!R$11/H$150*U$147*AH$147,\"*\")","v":45.402890261737937},{"$f":"IFERROR('Level 3'!S$11/I$150*V$147*AI$147,\"*\")","v":47.909890415105302},{"$f":"IFERROR('Level 3'!T$11/J$150*W$147*AJ$147,\"*\")","v":49.083643357432329},{"$f":"IFERROR('Level 3'!U$11/K$150*X$147*AK$147,\"*\")","v":50.781669981330239},{"$f":"IFERROR('Level 3'!V$11/L$150*Y$147*AL$147,\"*\")","v":50.742723836243606},{"$f":"IFERROR('Level 3'!W$11/M$150*Z$147*AM$147,\"*\")","v":50.620700580076473},{"$f":"IFERROR('Level 3'!X$11/N$150*AA$147*AN$147,\"*\")","v":49.185571165467628},{"$f":"IFERROR('Level 3'!Y$11/O$150*AB$147*AO$147,\"*\")","v":"*"},null,{"$f":"'Oversættelse af landenavne'!$B$11","v":"Tyskland"},{"$f":"IFERROR('Level 3'!AB$11/E$150*R$147*AE$147,\"*\")","v":48.29441852929655},{"$f":"IFERROR('Level 3'!AC$11/F$150*S$147*AF$147,\"*\")","v":52.062908719774946},{"$f":"IFERROR('Level 3'!AD$11/G$150*T$147*AG$147,\"*\")","v":45.00670788505407},{"$f":"IFERROR('Level 3'!AE$11/H$150*U$147*AH$147,\"*\")","v":43.115482292277761},{"$f":"IFERROR('Level 3'!AF$11/I$150*V$147*AI$147,\"*\")","v":45.662578053212357},{"$f":"IFERROR('Level 3'!AG$11/J$150*W$147*AJ$147,\"*\")","v":46.77447167329661},{"$f":"IFERROR('Level 3'!AH$11/K$150*X$147*AK$147,\"*\")","v":47.651849873089219},{"$f":"IFERROR('Level 3'!AI$11/L$150*Y$147*AL$147,\"*\")","v":47.209407349896765},{"$f":"IFERROR('Level 3'!AJ$11/M$150*Z$147*AM$147,\"*\")","v":47.103696190795105},{"$f":"IFERROR('Level 3'!AK$11/N$150*AA$147*AN$147,\"*\")","v":45.408247889688255},{"$f":"IFERROR('Level 3'!AL$11/O$150*AB$147*AO$147,\"*\")","v":"*"}]
[null,null,null,{"$f":"'Oversættelse af landenavne'!$B$16","v":"Frankrig"},{"$f":"IFERROR('Level 3'!B$16/E$151*R$147*AE$147,\"*\")","v":78.295612934134724},{"$f":"IFERROR('Level 3'!C$16/F$151*S$147*AF$147,\"*\")","v":81.860397053460233},{"$f":"IFERROR('Level 3'!D$16/G$151*T$147*AG$147,\"*\")","v":86.207657252157532},{"$f":"IFERROR('Level 3'!E$16/H$151*U$147*AH$147,\"*\")","v":84.559282575534326},{"$f":"IFERROR('Level 3'!F$16/I$151*V$147*AI$147,\"*\")","v":93.328437490120038},{"$f":"IFERROR('Level 3'!G$16/J$151*W$147*AJ$147,\"*\")","v":93.145218617843966},{"$f":"IFERROR('Level 3'!H$16/K$151*X$147*AK$147,\"*\")","v":99.648555965763009},{"$f":"IFERROR('Level 3'!I$16/L$151*Y$147*AL$147,\"*\")","v":105.54845348101131},{"$f":"IFERROR('Level 3'!J$16/M$151*Z$147*AM$147,\"*\")","v":102.90906006232944},{"$f":"IFERROR('Level 3'!K$16/N$151*AA$147*AN$147,\"*\")","v":95.397504858513187},{"$f":"IFERROR('Level 3'!L$16/O$151*AB$147*AO$147,\"*\")","v":"*"},null,{"$f":"'Oversættelse af landenavne'!$B$16","v":"Frankrig"},{"$f":"IFERROR('Level 3'!O$16/E$151*R$147*AE$147,\"*\")","v":42.941140452577919},{"$f":"IFERROR('Level 3'!P$16/F$151*S$147*AF$147,\"*\")","v":44.297317233004179},{"$f":"IFERROR('Level 3'!Q$16/G$151*T$147*AG$147,\"*\")","v":45.663231738779487},{"$f":"IFERROR('Level 3'!R$16/H$151*U$147*AH$147,\"*\")","v":43.391513175982197},{"$f":"IFERROR('Level 3'!S$16/I$151*V$147*AI$147,\"*\")","v":47.486802822131601},{"$f":"IFERROR('Level 3'!T$16/J$151*W$147*AJ$147,\"*\")","v":49.850067257362582},{"$f":"IFERROR('Level 3'!U$16/K$151*X$147*AK$147,\"*\")","v":52.818736692204027},{"$f":"IFERROR('Level 3'!V$16/L$151*Y$147*AL$147,\"*\")","v":54.574111287013103},{"$f":"IFERROR('Level 3'!W$16/M$151*Z$147*AM$147,\"*\")","v":53.4343247825921},{"$f":"IFERROR('Level 3'!X$16/N$151*AA$147*AN$147,\"*\")","v":48.355095835331738},{"$f":"IFERROR('Level 3'!Y$16/O$151*AB$147*AO$147,\"*\")","v":"*"},null,{"$f":"'Oversættelse af landenavne'!$B$16","v":"Frankrig"},{"$f":"IFERROR('Level 3'!AB$16/E$151*R$147*AE$147,\"*\")","v":38.02330034488044},{"$f":"IFERROR('Level 3'!AC$16/F$151*S$147*AF$147,\"*\")","v":39.968475680036185},{"$f":"IFERROR('Level 3'!AD$16/G$151*T$147*AG$147,\"*\")","v":40.631430718342365},{"$f":"IFERROR('Level 3'!AE$16/H$151*U$147*AH$147,\"*\")","v":37.433020236573348},{"$f":"IFERROR('Level 3'!AF$16/I$151*V$147*AI$147,\"*\")","v":40.878245999556619},{"$f":"IFERROR('Level 3'!AG$16/J$151*W$147*AJ$147,\"*\")","v":43.690354190023086},{"$f":"IFERROR('Level 3'!AH$16/K$151*X$147*AK$147,\"*\")","v":44.666779122355308},{"$f":"IFERROR('Level 3'!AI$16/L$151*Y$147*AL$147,\"*\")","v":45.910487910167561},{"$f":"IFERROR('Level 3'!AJ$16/M$151*Z$147*AM$147,\"*\")","v":44.159489709803566},{"$f":"IFERROR('Level 3'!AK$16/N$151*AA$147*AN$147,\"*\")","v":40.827238810551563},{"$f":"IFERROR('Level 3'!AL$16/O$151*AB$147*AO$147,\"*\")","v":"*"}]
[null,null,null,{"$f":"'Oversættelse af landenavne'!$B$18","v":"Italien"},{"$f":"IFERROR('Level 3'!B$18/E$152*R$147*AE$147,\"*\")","v":57.633184592538349},{"$f":"IFERROR('Level 3'!C$18/F$152*S$147*AF$147,\"*\")","v":62.67723573572777},{"$f":"IFERROR('Level 3'!D$18/G$152*T$147*AG$147,\"*\")","v":57.209975164615678},{"$f":"IFERROR('Level 3'!E$18/H$152*U$147*AH$147,\"*\")","v":66.983285810399792},{"$f":"IFERROR('Level 3'!F$18/I$152*V$147*AI$147,\"*\")","v":72.599773677366585},{"$f":"IFERROR('Level 3'!G$18/J$152*W$147*AJ$147,\"*\")","v":79.863882760341184},{"$f":"IFERROR('Level 3'!H$18/K$152*X$147*AK$147,\"*\")","v":80.764394518704208},{"$f":"IFERROR('Level 3'!I$18/L$152*Y$147*AL$147,\"*\")","v":88.252304177994262},{"$f":"IFERROR('Level 3'!J$18/M$152*Z$147*AM$147,\"*\")","v":84.045665959124591},{"$f":"IFERROR('Level 3'!K$18/N$152*AA$147*AN$147,\"*\")","v":67.991818964028781},{"$f":"IFERROR('Level 3'!L$18/O$152*AB$147*AO$147,\"*\")","v":"*"},null,{"$f":"'Oversættelse af landenavne'!$B$18","v":"Italien"},{"$f":"IFERROR('Level 3'!O$18/E$152*R$147*AE$147,\"*\")","v":54.328832805297409},{"$f":"IFERROR('Level 3'!P$18/F$152*S$147*AF$147,\"*\")","v":55.548654825242885},{"$f":"IFERROR('Level 3'!Q$18/G$152*T$147*AG$147,\"*\")","v":52.802642406994885},{"$f":"IFERROR('Level 3'!R$18/H$152*U$147*AH$147,\"*\")","v":56.48135606433226},{"$f":"IFERROR('Level 3'!S$18/I$152*V$147*AI$147,\"*\")","v":61.353705595122335},{"$f":"IFERROR('Level 3'!T$18/J$152*W$147*AJ$147,\"*\")","v":65.713375565935578},{"$f":"IFERROR('Level 3'!U$18/K$152*X$147*AK$147,\"*\")","v":66.610087592047861},{"$f":"IFERROR('Level 3'!V$18/L$152*Y$147*AL$147,\"*\")","v":65.225291031231862},{"$f":"IFERROR('Level 3'!W$18/M$152*Z$147*AM$147,\"*\")","v":62.285879260555504},{"$f":"IFERROR('Level 3'!X$18/N$152*AA$147*AN$147,\"*\")","v":54.436318414068744},{"$f":"IFERROR('Level 3'!Y$18/O$152*AB$147*AO$147,\"*\")","v":"*"},null,{"$f":"'Oversættelse af landenavne'!$B$18","v":"Italien"},{"$f":"IFERROR('Level 3'!AB$18/E$152*R$147*AE$147,\"*\")","v":53.353979835027168},{"$f":"IFERROR('Level 3'!AC$18/F$152*S$147*AF$147,\"*\")","v":52.432959278554989},{"$f":"IFERROR('Level 3'!AD$18/G$152*T$147*AG$147,\"*\")","v":54.620023360471237},{"$f":"IFERROR('Level 3'!AE$18/H$152*U$147*AH$147,\"*\")","v":52.751455192159391},{"$f":"IFERROR('Level 3'!AF$18/I$152*V$147*AI$147,\"*\")","v":56.25849076937461},{"$f":"IFERROR('Level 3'!AG$18/J$152*W$147*AJ$147,\"*\")","v":60.27925393882505},{"$f":"IFERROR('Level 3'!AH$18/K$152*X$147*AK$147,\"*\")","v":60.334248364814876},{"$f":"IFERROR('Level 3'!AI$18/L$152*Y$147*AL$147,\"*\")","v":58.319874019892367},{"$f":"IFERROR('Level 3'!AJ$18/M$152*Z$147*AM$147,\"*\")","v":56.110986058000435},{"$f":"IFERROR('Level 3'!AK$18/N$152*AA$147*AN$147,\"*\")","v":52.212787691446842},{"$f":"IFERROR('Level 3'!AL$18/O$152*AB$147*AO$147,\"*\")","v":"*"}]
[null,null,null,{"$f":"'Oversættelse af landenavne'!$B$23","v":"Holland"},{"$f":"IFERROR('Level 3'!B$23/E$153*R$147*AE$147,\"*\")","v":92.300488808919226},{"$f":"IFERROR('Level 3'!C$23/F$153*S$147*AF$147,\"*\")","v":88.842440832501524},{"$f":"IFERROR('Level 3'!D$23/G$153*T$147*AG$147,\"*\")","v":87.381845380758364},{"$f":"IFERROR('Level 3'!E$23/H$153*U$147*AH$147,\"*\")","v":83.059071383423472},{"$f":"IFERROR('Level 3'!F$23/I$153*V$147*AI$147,\"*\")","v":86.049025998451754},{"$f":"IFERROR('Level 3'!G$23/J$153*W$147*AJ$147,\"*\")","v":87.933685349424991},{"$f":"IFERROR('Level 3'!H$23/K$153*X$147*AK$147,\"*\")","v":91.20251757118605},{"$f":"IFERROR('Level 3'!I$23/L$153*Y$147*AL$147,\"*\")","v":90.305048221656776},{"$f":"IFERROR('Level 3'!J$23/M$153*Z$147*AM$147,\"*\")","v":89.755594548912413},{"$f":"IFERROR('Level 3'!K$23/N$153*AA$147*AN$147,\"*\")","v":80.877581344524387},{"$f":"IFERROR('Level 3'!L$23/O$153*AB$147*AO$147,\"*\")","v":"*"},null,{"$f":"'Oversættelse af landenavne'!$B$23","v":"Holland"},{"$f":"IFERROR('Level 3'!O$23/E$153*R$147*AE$147,\"*\")","v":60.423437475339611},{"$f":"IFERROR('Level 3'!P$23/F$153*S$147*AF$147,\"*\")","v":60.045543302247651},{"$f":"IFERROR('Level 3'!Q$23/G$153*T$147*AG$147,\"*\")","v":60.658128437097673},{"$f":"IFERROR('Level 3'!R$23/H$153*U$147*AH$147,\"*\")","v":56.694815579134563},{"$f":"IFERROR('Level 3'!S$23/I$153*V$147*AI$147,\"*\")","v":58.357868558513182},{"$f":"IFERROR('Level 3'!T$23/J$153*W$147*AJ$147,\"*\")","v":60.890999356326695},{"$f":"IFERROR('Level 3'!U$23/K$153*X$147*AK$147,\"*\")","v":62.06744157719033},{"$f":"IFERROR('Level 3'!V$23/L$153*Y$147*AL$147,\"*\")","v":60.185413083465903},{"$f":"IFERROR('Level 3'!W$23/M$153*Z$147*AM$147,\"*\")","v":58.188609731515307},{"$f":"IFERROR('Level 3'!X$23/N$153*AA$147*AN$147,\"*\")","v":57.999325475619507},{"$f":"IFERROR('Level 3'!Y$23/O$153*AB$147*AO$147,\"*\")","v":"*"},null,{"$f":"'Oversættelse af landenavne'!$B$23","v":"Holland"},{"$f":"IFERROR('Level 3'!AB$23/E$153*R$147*AE$147,\"*\")","v":54.866245415563853},{"$f":"IFERROR('Level 3'!AC$23/F$153*S$147*AF$147,\"*\")","v":"*"},{"$f":"IFERROR('Level 3'!AD$23/G$153*T$147*AG$147,\"*\")","v":54.124356232810598},{"$f":"IFERROR('Level 3'!AE$23/H$153*U$147*AH$147,\"*\")","v":49.812111630227271},{"$f":"IFERROR('Level 3'!AF$23/I$153*V$147*AI$147,\"*\")","v":53.189801642987383},{"$f":"IFERROR('Level 3'!AG$23/J$153*W$147*AJ$147,\"*\")","v":54.652507600374115},{"$f":"IFERROR('Level 3'!AH$23/K$153*X$147*AK$147,\"*\")","v":57.783666489019353},{"$f":"IFERROR('Level 3'!AI$23/L$153*Y$147*AL$147,\"*\")","v":54.463086336156508},{"$f":"IFERROR('Level 3'!AJ$23/M$153*Z$147*AM$147,\"*\")","v":51.899402028432362},{"$f":"IFERROR('Level 3'!AK$23/N$153*AA$147*AN$147,\"*\")","v":53.070052548361311},{"$f":"IFERROR('Level 3'!AL$23/O$153*AB$147*AO$147,\"*\")","v":"*"}]
[null,null,null,{"$f":"'Oversættelse af landenavne'!$B$30","v":"Sverige"},{"$f":"IFERROR('Level 3'!B$30/E$154*R$147*AE$147,\"*\")","v":99.265861749185774},{"$f":"IFERROR('Level 3'!C$30/F$154*S$147*AF$147,\"*\")","v":101.69881108289844},{"$f":"IFERROR('Level 3'!D$30/G$154*T$147*AG$147,\"*\")","v":104.51335912118915},{"$f":"IFERROR('Level 3'!E$30/H$154*U$147*AH$147,\"*\")","v":122.82960329743271},{"$f":"IFERROR('Level 3'!F$30/I$154*V$147*AI$147,\"*\")","v":136.5756997846357},{"$f":"IFERROR('Level 3'!G$30/J$154*W$147*AJ$147,\"*\")","v":149.45860597027297},{"$f":"IFERROR('Level 3'!H$30/K$154*X$147*AK$147,\"*\")","v":131.18964501998568},{"$f":"IFERROR('Level 3'!I$30/L$154*Y$147*AL$147,\"*\")","v":128.82535883066899},{"$f":"IFERROR('Level 3'!J$30/M$154*Z$147*AM$147,\"*\")","v":134.18062963286167},{"$f":"IFERROR('Level 3'!K$30/N$154*AA$147*AN$147,\"*\")","v":122.84525031003997},{"$f":"IFERROR('Level 3'!L$30/O$154*AB$147*AO$147,\"*\")","v":"*"},null,{"$f":"'Oversættelse af landenavne'!$B$30","v":"Sverige"},{"$f":"IFERROR('Level 3'!O$30/E$154*R$147*AE$147,\"*\")","v":76.187081887989351},{"$f":"IFERROR('Level 3'!P$30/F$154*S$147*AF$147,\"*\")","v":78.476070604059402},{"$f":"IFERROR('Level 3'!Q$30/G$154*T$147*AG$147,\"*\")","v":71.815602291609352},{"$f":"IFERROR('Level 3'!R$30/H$154*U$147*AH$147,\"*\")","v":80.243890138614944},{"$f":"IFERROR('Level 3'!S$30/I$154*V$147*AI$147,\"*\")","v":90.162922856859041},{"$f":"IFERROR('Level 3'!T$30/J$154*W$147*AJ$147,\"*\")","v":92.689507619772513},{"$f":"IFERROR('Level 3'!U$30/K$154*X$147*AK$147,\"*\")","v":92.821739424408236},{"$f":"IFERROR('Level 3'!V$30/L$154*Y$147*AL$147,\"*\")","v":87.738725672212738},{"$f":"IFERROR('Level 3'!W$30/M$154*Z$147*AM$147,\"*\")","v":86.452133285100018},{"$f":"IFERROR('Level 3'!X$30/N$154*AA$147*AN$147,\"*\")","v":83.996150156818544},{"$f":"IFERROR('Level 3'!Y$30/O$154*AB$147*AO$147,\"*\")","v":"*"},null,{"$f":"'Oversættelse af landenavne'!$B$30","v":"Sverige"},{"$f":"IFERROR('Level 3'!AB$30/E$154*R$147*AE$147,\"*\")","v":73.7638693913418},{"$f":"IFERROR('Level 3'!AC$30/F$154*S$147*AF$147,\"*\")","v":75.455999994305799},{"$f":"IFERROR('Level 3'!AD$30/G$154*T$147*AG$147,\"*\")","v":66.771715227221918},{"$f":"IFERROR('Level 3'!AE$30/H$154*U$147*AH$147,\"*\")","v":74.957692665010455},{"$f":"IFERROR('Level 3'!AF$30/I$154*V$147*AI$147,\"*\")","v":82.545702553859272},{"$f":"IFERROR('Level 3'!AG$30/J$154*W$147*AJ$147,\"*\")","v":85.912084800604646},{"$f":"IFERROR('Level 3'!AH$30/K$154*X$147*AK$147,\"*\")","v":84.547527566064971},{"$f":"IFERROR('Level 3'!AI$30/L$154*Y$147*AL$147,\"*\")","v":78.371131587058827},{"$f":"IFERROR('Level 3'!AJ$30/M$154*Z$147*AM$147,\"*\")","v":78.088886482228105},{"$f":"IFERROR('Level 3'!AK$30/N$154*AA$147*AN$147,\"*\")","v":75.66487522394884},{"$f":"IFERROR('Level 3'!AL$30/O$154*AB$147*AO$147,\"*\")","v":"*"}]
[null,null,null,{"$f":"'Oversættelse af landenavne'!$B$31","v":"UK"},{"$f":"IFERROR('Level 3'!B$31/E$155*R$147*AE$147,\"*\")","v":35.215250719864208},{"$f":"IFERROR('Level 3'!C$31/F$155*S$147*AF$147,\"*\")","v":41.753884962563603},{"$f":"IFERROR('Level 3'!D$31/G$155*T$147*AG$147,\"*\")","v":40.910491328879161},{"$f":"IFERROR('Level 3'!E$31/H$155*U$147*AH$147,\"*\")","v":38.853014979036899},{"$f":"IFERROR('Level 3'!F$31/I$155*V$147*AI$147,\"*\")","v":43.033539524151564},{"$f":"IFERROR('Level 3'!G$31/J$155*W$147*AJ$147,\"*\")","v":49.201678934787651},{"$f":"IFERROR('Level 3'!H$31/K$155*X$147*AK$147,\"*\")","v":51.918944735967571},{"$f":"IFERROR('Level 3'!I$31/L$155*Y$147*AL$147,\"*\")","v":65.830189840719427},{"$f":"IFERROR('Level 3'!J$31/M$155*Z$147*AM$147,\"*\")","v":67.490069586618716},{"$f":"IFERROR('Level 3'!K$31/N$155*AA$147*AN$147,\"*\")","v":56.670564947402084},{"$f":"IFERROR('Level 3'!L$31/O$155*AB$147*AO$147,\"*\")","v":"*"},null,{"$f":"'Oversættelse af landenavne'!$B$31","v":"UK"},{"$f":"IFERROR('Level 3'!O$31/E$155*R$147*AE$147,\"*\")","v":32.493572993263093},{"$f":"IFERROR('Level 3'!P$31/F$155*S$147*AF$147,\"*\")","v":38.378870574180567},{"$f":"IFERROR('Level 3'!Q$31/G$155*T$147*AG$147,\"*\")","v":36.62039444352601},{"$f":"IFERROR('Level 3'!R$31/H$155*U$147*AH$147,\"*\")","v":34.437010893365844},{"$f":"IFERROR('Level 3'!S$31/I$155*V$147*AI$147,\"*\")","v":37.776459208613836},{"$f":"IFERROR('Level 3'!T$31/J$155*W$147*AJ$147,\"*\")","v":42.55391038175911},{"$f":"IFERROR('Level 3'!U$31/K$155*X$147*AK$147,\"*\")","v":42.305793047985972},{"$f":"IFERROR('Level 3'!V$31/L$155*Y$147*AL$147,\"*\")","v":46.389137043633106},{"$f":"IFERROR('Level 3'!W$31/M$155*Z$147*AM$147,\"*\")","v":48.556932069496398},{"$f":"IFERROR('Level 3'!X$31/N$155*AA$147*AN$147,\"*\")","v":41.152463665643488},{"$f":"IFERROR('Level 3'!Y$31/O$155*AB$147*AO$147,\"*\")","v":"*"},null,{"$f":"'Oversættelse af landenavne'!$B$31","v":"UK"},{"$f":"IFERROR('Level 3'!AB$31/E$155*R$147*AE$147,\"*\")","v":28.113511223637236},{"$f":"IFERROR('Level 3'!AC$31/F$155*S$147*AF$147,\"*\")","v":35.548728501673281},{"$f":"IFERROR('Level 3'!AD$31/G$155*T$147*AG$147,\"*\")","v":32.314368789231899},{"$f":"IFERROR('Level 3'!AE$31/H$155*U$147*AH$147,\"*\")","v":30.365009840221784},{"$f":"IFERROR('Level 3'!AF$31/I$155*V$147*AI$147,\"*\")","v":32.948788897562892},{"$f":"IFERROR('Level 3'!AG$31/J$155*W$147*AJ$147,\"*\")","v":37.545306185890006},{"$f":"IFERROR('Level 3'!AH$31/K$155*X$147*AK$147,\"*\")","v":37.957187358214952},{"$f":"IFERROR('Level 3'!AI$31/L$155*Y$147*AL$147,\"*\")","v":40.446394501492811},{"$f":"IFERROR('Level 3'!AJ$31/M$155*Z$147*AM$147,\"*\")","v":43.35737304757194},{"$f":"IFERROR('Level 3'!AK$31/N$155*AA$147*AN$147,\"*\")","v":37.918164097665866},{"$f":"IFERROR('Level 3'!AL$31/O$155*AB$147*AO$147,\"*\")","v":"*"}]
[null,null,null,"Kilde: Eurostat",null,null,null,null,null,null,null,null,null,null,null,null,"Kilde: Eurostat",null,null,null,null,null,null,null,null,null,null,null,null,"Kilde: Eurostat"]
[]
[]
[]
[]
[null,null,null,"Baggrundstabeller"]
[null,null,null,"Herunder vises de tabeller, der framkoller som resultatet er valgene truffet øverst i valgmenuen. De ganges på rådata for at få resultattabellerne som kan ses længere oppe."]
[]
[]
[null,null,null,"Tabel B - BVT Deflatoren",null,null,null,null,null,null,null,null,null,null,null,null,"Tabel C - Valutakurs",null,null,null,null,null,null,null,null,null,null,null,null,"Tabel D - Omregningsfaktor for valgt enhed"]
[null,null,null,"Tabel B fremkommer som resultat af valgene truffet for faste/løbende priser og basisår.\n\nBVT deflatoren vises for samtlige lande for det valgte år. Væles løbende priser deflaterer man ikke, hvorfor der vil stå et 1-tal i alle celler.\n\nFormlen gør at \"fejlværdien\" svarer til at man har valgt løbende priser (gælder både for overskrift og formler). Med denne metode kan indeksværdien ganges direkte på rådata uanset hvilken valuta der vælges.",null,null,null,null,null,null,null,null,null,null,null,null,"Tabel C viser hvilken kurs der ganges på rådata (opgivet i euro) for at få priserne vist i den valuta der er valgt i valgmenuen øverst.\n\nKursen ændres efter valgt år og valuta.",null,null,null,null,null,null,null,null,null,null,null,null,"Tabel D viser hvilken faktor der ganges på den oprindelige (opgivet i GJ), for at få vist priserne i den enhed der er valgt i valgmenuen øverst.\n\nFormlen gør så \"fejlværdien\" svarer til at man har valgt GJ (gælder både for overskrift og formler). \nMed denne metode kan omregningsfaktoren ganges direkte på rådata uanset hvilken enhed der vælges."]
[]
[null,null,null,{"$f":"IF($E$13=\"faste priser\",\"HICP deflatoren med basisåret \"&$E$14&\"\",\"Prisindeks for løbende priser år \"&$E$12)","v":"HICP deflatoren med basisåret 2016"},null,null,null,null,null,null,null,null,null,null,null,null,{"$f":"\"Valutakursen for \"&E15&\" i fht. Euro\"","v":"Valutakursen for DKK øre i fht. Euro"},null,null,null,null,null,null,null,null,null,null,null,null,{"$f":"\"Omregningsfaktoren for \"&$E$16&\" i fht. GJ\"","v":"Omregningsfaktoren for Kwh i fht. GJ"}]
[null,null,null,null,{"$f":"'Baggrundsdata - HICP - deflator'!C22","v":"2007"},{"$f":"'Baggrundsdata - HICP - deflator'!D22","v":2008},{"$f":"'Baggrundsdata - HICP - deflator'!E22","v":2009},{"$f":"'Baggrundsdata - HICP - deflator'!F22","v":2010},{"$f":"'Baggrundsdata - HICP - deflator'!G22","v":2011},{"$f":"'Baggrundsdata - HICP - deflator'!H22","v":2012},{"$f":"'Baggrundsdata - HICP - deflator'!I22","v":2013},{"$f":"'Baggrundsdata - HICP - deflator'!J22","v":2014},{"$f":"'Baggrundsdata - HICP - deflator'!K22","v":2015},{"$f":"'Baggrundsdata - HICP - deflator'!L22","v":2016},{"$f":"'Baggrundsdata - HICP - deflator'!M22","v":2017},null,null,{"$f":"Forside!E55","v":2007},{"$f":"Forside!F55","v":2008},{"$f":"Forside!G55","v":2009},{"$f":"Forside!H55","v":2010},{"$f":"Forside!I55","v":2011},{"$f":"Forside!J55","v":2012},{"$f":"Forside!K55","v":2013},{"$f":"Forside!L55","v":2014},{"$f":"Forside!M55","v":2015},{"$f":"Forside!N55","v":2016},{"$f":"Forside!O55","v":2017},null,null,{"$f":"Forside!E72","v":2007},{"$f":"Forside!F72","v":2008},{"$f":"Forside!G72","v":2009},{"$f":"Forside!H72","v":2010},{"$f":"Forside!I72","v":2011},{"$f":"Forside!J72","v":2012},{"$f":"Forside!K72","v":2013},{"$f":"Forside!L72","v":2014},{"$f":"Forside!M72","v":2015},{"$f":"Forside!N72","v":2016},{"$f":"Forside!O72","v":2017}]
[null,null,null,{"$f":"'Oversættelse af landenavne'!B6","v":"EU-28"},{"$f":"IF($E$13=\"faste priser\",HLOOKUP(E$146,'Baggrundsdata - HICP - deflator'!$R$22:$AC$32,2,FALSE),1)","v":0.86658665000000012},{"$f":"IF($E$13=\"faste priser\",HLOOKUP(F$146,'Baggrundsdata - HICP - deflator'!$R$22:$AC$32,2,FALSE),1)","v":0.89828982000000002},{"$f":"IF($E$13=\"faste priser\",HLOOKUP(G$146,'Baggrundsdata - HICP - deflator'!$R$22:$AC$32,2,FALSE),1)","v":0.90709070000000003},{"$f":"IF($E$13=\"faste priser\",HLOOKUP(H$146,'Baggrundsdata - HICP - deflator'!$R$22:$AC$32,2,FALSE),1)","v":0.92599259000000012},{"$f":"IF($E$13=\"faste priser\",HLOOKUP(I$146,'Baggrundsdata - HICP - deflator'!$R$22:$AC$32,2,FALSE),1)","v":0.95469545999999994},{"$f":"IF($E$13=\"faste priser\",HLOOKUP(J$146,'Baggrundsdata - HICP - deflator'!$R$22:$AC$32,2,FALSE),1)","v":0.97999798999999999},{"$f":"IF($E$13=\"faste priser\",HLOOKUP(K$146,'Baggrundsdata - HICP - deflator'!$R$22:$AC$32,2,FALSE),1)","v":0.99479947000000002},{"$f":"IF($E$13=\"faste priser\",HLOOKUP(L$146,'Baggrundsdata - HICP - deflator'!$R$22:$AC$32,2,FALSE),1)","v":1.0002000100000001},{"$f":"IF($E$13=\"faste priser\",HLOOKUP(M$146,'Baggrundsdata - HICP - deflator'!$R$22:$AC$32,2,FALSE),1)","v":1.0001},{"$f":"IF($E$13=\"faste priser\",HLOOKUP(N$146,'Baggrundsdata - HICP - deflator'!$R$22:$AC$32,2,FALSE),1)","v":1},{"$f":"IF($E$13=\"faste priser\",HLOOKUP(O$146,'Baggrundsdata - HICP - deflator'!$R$22:$AC$32,2,FALSE),1)","v":0},null,"Alle lande",{"$f":"IF($E$15=\"Euro\",1,IF($E$15=\"eurocent\",100,IF($E$15=\"DKK øre\",HLOOKUP(R146,Forside!$E$55:$O$56,2,FALSE),IF($E$15=\"DKK\",((HLOOKUP(R146,Forside!$E$55:$O$56,2,FALSE))/100),\"F\"))))","v":745.59739999999999},{"$f":"IF($E$15=\"Euro\",1,IF($E$15=\"eurocent\",100,IF($E$15=\"DKK øre\",HLOOKUP(S146,Forside!$E$55:$O$56,2,FALSE),IF($E$15=\"DKK\",((HLOOKUP(S146,Forside!$E$55:$O$56,2,FALSE))/100),\"F\"))))","v":744.62509999999997},{"$f":"IF($E$15=\"Euro\",1,IF($E$15=\"eurocent\",100,IF($E$15=\"DKK øre\",HLOOKUP(T146,Forside!$E$55:$O$56,2,FALSE),IF($E$15=\"DKK\",((HLOOKUP(T146,Forside!$E$55:$O$56,2,FALSE))/100),\"F\"))))","v":744.62509999999997},{"$f":"IF($E$15=\"Euro\",1,IF($E$15=\"eurocent\",100,IF($E$15=\"DKK øre\",HLOOKUP(U146,Forside!$E$55:$O$56,2,FALSE),IF($E$15=\"DKK\",((HLOOKUP(U146,Forside!$E$55:$O$56,2,FALSE))/100),\"F\"))))","v":744.73659999999995},{"$f":"IF($E$15=\"Euro\",1,IF($E$15=\"eurocent\",100,IF($E$15=\"DKK øre\",HLOOKUP(V146,Forside!$E$55:$O$56,2,FALSE),IF($E$15=\"DKK\",((HLOOKUP(V146,Forside!$E$55:$O$56,2,FALSE))/100),\"F\"))))","v":745.05290000000002},{"$f":"IF($E$15=\"Euro\",1,IF($E$15=\"eurocent\",100,IF($E$15=\"DKK øre\",HLOOKUP(W146,Forside!$E$55:$O$56,2,FALSE),IF($E$15=\"DKK\",((HLOOKUP(W146,Forside!$E$55:$O$56,2,FALSE))/100),\"F\"))))","v":744.37509999999997},{"$f":"IF($E$15=\"Euro\",1,IF($E$15=\"eurocent\",100,IF($E$15=\"DKK øre\",HLOOKUP(X146,Forside!$E$55:$O$56,2,FALSE),IF($E$15=\"DKK\",((HLOOKUP(X146,Forside!$E$55:$O$56,2,FALSE))/100),\"F\"))))","v":745.79819999999995},{"$f":"IF($E$15=\"Euro\",1,IF($E$15=\"eurocent\",100,IF($E$15=\"DKK øre\",HLOOKUP(Y146,Forside!$E$55:$O$56,2,FALSE),IF($E$15=\"DKK\",((HLOOKUP(Y146,Forside!$E$55:$O$56,2,FALSE))/100),\"F\"))))","v":745.47410000000002},{"$f":"IF($E$15=\"Euro\",1,IF($E$15=\"eurocent\",100,IF($E$15=\"DKK øre\",HLOOKUP(Z146,Forside!$E$55:$O$56,2,FALSE),IF($E$15=\"DKK\",((HLOOKUP(Z146,Forside!$E$55:$O$56,2,FALSE))/100),\"F\"))))","v":745.61029999999994},{"$f":"IF($E$15=\"Euro\",1,IF($E$15=\"eurocent\",100,IF($E$15=\"DKK øre\",HLOOKUP(AA146,Forside!$E$55:$O$56,2,FALSE),IF($E$15=\"DKK\",((HLOOKUP(AA146,Forside!$E$55:$O$56,2,FALSE))/100),\"F\"))))","v":744.74884444444444},{"$f":"IF($E$15=\"Euro\",1,IF($E$15=\"eurocent\",100,IF($E$15=\"DKK øre\",HLOOKUP(AB146,Forside!$E$55:$O$56,2,FALSE),IF($E$15=\"DKK\",((HLOOKUP(AB146,Forside!$E$55:$O$56,2,FALSE))/100),\"F\"))))","v":0},null,"Alle lande",{"$f":"IF($E$16=\"Nm3\",HLOOKUP(AE146,Forside!E72:K74,2,FALSE),IF($E$16=\"kwh\",1/278,1))","v":3.5971223021582736E-3},{"$f":"IF($E$16=\"Nm3\",HLOOKUP(AF146,Forside!F72:L74,2,FALSE),IF($E$16=\"kwh\",1/278,1))","v":3.5971223021582736E-3},{"$f":"IF($E$16=\"Nm3\",HLOOKUP(AG146,Forside!G72:M74,2,FALSE),IF($E$16=\"kwh\",1/278,1))","v":3.5971223021582736E-3},{"$f":"IF($E$16=\"Nm3\",HLOOKUP(AH146,Forside!H72:N74,2,FALSE),IF($E$16=\"kwh\",1/278,1))","v":3.5971223021582736E-3},{"$f":"IF($E$16=\"Nm3\",HLOOKUP(AI146,Forside!I72:O74,2,FALSE),IF($E$16=\"kwh\",1/278,1))","v":3.5971223021582736E-3},{"$f":"IF($E$16=\"Nm3\",HLOOKUP(AJ146,Forside!J72:P74,2,FALSE),IF($E$16=\"kwh\",1/278,1))","v":3.5971223021582736E-3},{"$f":"IF($E$16=\"Nm3\",HLOOKUP(AK146,Forside!K72:Q74,2,FALSE),IF($E$16=\"kwh\",1/278,1))","v":3.5971223021582736E-3},{"$f":"IF($E$16=\"Nm3\",HLOOKUP(AL146,Forside!L72:R74,2,FALSE),IF($E$16=\"kwh\",1/278,1))","v":3.5971223021582736E-3},{"$f":"IF($E$16=\"Nm3\",HLOOKUP(AM146,Forside!M72:S74,2,FALSE),IF($E$16=\"kwh\",1/278,1))","v":3.5971223021582736E-3},{"$f":"IF($E$16=\"Nm3\",HLOOKUP(AN146,Forside!N72:T74,2,FALSE),IF($E$16=\"kwh\",1/278,1))","v":3.5971223021582736E-3},{"$f":"IF($E$16=\"Nm3\",HLOOKUP(AO146,Forside!O72:U74,2,FALSE),IF($E$16=\"kwh\",1/278,1))","v":3.5971223021582736E-3}]
[null,null,null,{"$f":"'Oversættelse af landenavne'!B7","v":"Belgien"},{"$f":"IF($E$13=\"faste priser\",HLOOKUP(E$146,'Baggrundsdata - HICP - deflator'!$R$22:$AC$32,3,FALSE),1)","v":0.85595993999999986},{"$f":"IF($E$13=\"faste priser\",HLOOKUP(F$146,'Baggrundsdata - HICP - deflator'!$R$22:$AC$32,3,FALSE),1)","v":0.89441999999999988},{"$f":"IF($E$13=\"faste priser\",HLOOKUP(G$146,'Baggrundsdata - HICP - deflator'!$R$22:$AC$32,3,FALSE),1)","v":0.8943206199999999},{"$f":"IF($E$13=\"faste priser\",HLOOKUP(H$146,'Baggrundsdata - HICP - deflator'!$R$22:$AC$32,3,FALSE),1)","v":0.91519041999999995},{"$f":"IF($E$13=\"faste priser\",HLOOKUP(I$146,'Baggrundsdata - HICP - deflator'!$R$22:$AC$32,3,FALSE),1)","v":0.94589884000000002},{"$f":"IF($E$13=\"faste priser\",HLOOKUP(J$146,'Baggrundsdata - HICP - deflator'!$R$22:$AC$32,3,FALSE),1)","v":0.97074383999999991},{"$f":"IF($E$13=\"faste priser\",HLOOKUP(K$146,'Baggrundsdata - HICP - deflator'!$R$22:$AC$32,3,FALSE),1)","v":0.98286819999999997},{"$f":"IF($E$13=\"faste priser\",HLOOKUP(L$146,'Baggrundsdata - HICP - deflator'!$R$22:$AC$32,3,FALSE),1)","v":0.9876384399999999},{"$f":"IF($E$13=\"faste priser\",HLOOKUP(M$146,'Baggrundsdata - HICP - deflator'!$R$22:$AC$32,3,FALSE),1)","v":0.99379999999999991},{"$f":"IF($E$13=\"faste priser\",HLOOKUP(N$146,'Baggrundsdata - HICP - deflator'!$R$22:$AC$32,3,FALSE),1)","v":1},{"$f":"IF($E$13=\"faste priser\",HLOOKUP(O$146,'Baggrundsdata - HICP - deflator'!$R$22:$AC$32,3,FALSE),1)","v":0}]
[null,null,null,{"$f":"'Oversættelse af landenavne'!B10","v":"Danmark"},{"$f":"IF($E$13=\"faste priser\",HLOOKUP(E$146,'Baggrundsdata - HICP - deflator'!$R$22:$AC$32,4,FALSE),1)","v":0.87823999999999991},{"$f":"IF($E$13=\"faste priser\",HLOOKUP(F$146,'Baggrundsdata - HICP - deflator'!$R$22:$AC$32,4,FALSE),1)","v":0.91017599999999987},{"$f":"IF($E$13=\"faste priser\",HLOOKUP(G$146,'Baggrundsdata - HICP - deflator'!$R$22:$AC$32,4,FALSE),1)","v":0.91915799999999981},{"$f":"IF($E$13=\"faste priser\",HLOOKUP(H$146,'Baggrundsdata - HICP - deflator'!$R$22:$AC$32,4,FALSE),1)","v":0.93911799999999979},{"$f":"IF($E$13=\"faste priser\",HLOOKUP(I$146,'Baggrundsdata - HICP - deflator'!$R$22:$AC$32,4,FALSE),1)","v":0.96406799999999981},{"$f":"IF($E$13=\"faste priser\",HLOOKUP(J$146,'Baggrundsdata - HICP - deflator'!$R$22:$AC$32,4,FALSE),1)","v":0.98702199999999984},{"$f":"IF($E$13=\"faste priser\",HLOOKUP(K$146,'Baggrundsdata - HICP - deflator'!$R$22:$AC$32,4,FALSE),1)","v":0.99201199999999989},{"$f":"IF($E$13=\"faste priser\",HLOOKUP(L$146,'Baggrundsdata - HICP - deflator'!$R$22:$AC$32,4,FALSE),1)","v":0.99600399999999978},{"$f":"IF($E$13=\"faste priser\",HLOOKUP(M$146,'Baggrundsdata - HICP - deflator'!$R$22:$AC$32,4,FALSE),1)","v":0.99799999999999989},{"$f":"IF($E$13=\"faste priser\",HLOOKUP(N$146,'Baggrundsdata - HICP - deflator'!$R$22:$AC$32,4,FALSE),1)","v":1},{"$f":"IF($E$13=\"faste priser\",HLOOKUP(O$146,'Baggrundsdata - HICP - deflator'!$R$22:$AC$32,4,FALSE),1)","v":0}]
[null,null,null,{"$f":"'Oversættelse af landenavne'!B11","v":"Tyskland"},{"$f":"IF($E$13=\"faste priser\",HLOOKUP(E$146,'Baggrundsdata - HICP - deflator'!$R$22:$AC$32,5,FALSE),1)","v":0.89410500000000004},{"$f":"IF($E$13=\"faste priser\",HLOOKUP(F$146,'Baggrundsdata - HICP - deflator'!$R$22:$AC$32,5,FALSE),1)","v":0.91808100000000015},{"$f":"IF($E$13=\"faste priser\",HLOOKUP(G$146,'Baggrundsdata - HICP - deflator'!$R$22:$AC$32,5,FALSE),1)","v":0.92007899999999998},{"$f":"IF($E$13=\"faste priser\",HLOOKUP(H$146,'Baggrundsdata - HICP - deflator'!$R$22:$AC$32,5,FALSE),1)","v":0.93106800000000012},{"$f":"IF($E$13=\"faste priser\",HLOOKUP(I$146,'Baggrundsdata - HICP - deflator'!$R$22:$AC$32,5,FALSE),1)","v":0.95404500000000003},{"$f":"IF($E$13=\"faste priser\",HLOOKUP(J$146,'Baggrundsdata - HICP - deflator'!$R$22:$AC$32,5,FALSE),1)","v":0.97402500000000003},{"$f":"IF($E$13=\"faste priser\",HLOOKUP(K$146,'Baggrundsdata - HICP - deflator'!$R$22:$AC$32,5,FALSE),1)","v":0.99000900000000003},{"$f":"IF($E$13=\"faste priser\",HLOOKUP(L$146,'Baggrundsdata - HICP - deflator'!$R$22:$AC$32,5,FALSE),1)","v":0.99800100000000014},{"$f":"IF($E$13=\"faste priser\",HLOOKUP(M$146,'Baggrundsdata - HICP - deflator'!$R$22:$AC$32,5,FALSE),1)","v":0.99900000000000011},{"$f":"IF($E$13=\"faste priser\",HLOOKUP(N$146,'Baggrundsdata - HICP - deflator'!$R$22:$AC$32,5,FALSE),1)","v":1},{"$f":"IF($E$13=\"faste priser\",HLOOKUP(O$146,'Baggrundsdata - HICP - deflator'!$R$22:$AC$32,5,FALSE),1)","v":0}]
[null,null,null,{"$f":"'Oversættelse af landenavne'!B16","v":"Frankrig"},{"$f":"IF($E$13=\"faste priser\",HLOOKUP(E$146,'Baggrundsdata - HICP - deflator'!$R$22:$AC$32,6,FALSE),1)","v":0.89439432000000008},{"$f":"IF($E$13=\"faste priser\",HLOOKUP(F$146,'Baggrundsdata - HICP - deflator'!$R$22:$AC$32,6,FALSE),1)","v":0.92256894000000012},{"$f":"IF($E$13=\"faste priser\",HLOOKUP(G$146,'Baggrundsdata - HICP - deflator'!$R$22:$AC$32,6,FALSE),1)","v":0.92356804000000003},{"$f":"IF($E$13=\"faste priser\",HLOOKUP(H$146,'Baggrundsdata - HICP - deflator'!$R$22:$AC$32,6,FALSE),1)","v":0.93965355000000006},{"$f":"IF($E$13=\"faste priser\",HLOOKUP(I$146,'Baggrundsdata - HICP - deflator'!$R$22:$AC$32,6,FALSE),1)","v":0.96113420000000016},{"$f":"IF($E$13=\"faste priser\",HLOOKUP(J$146,'Baggrundsdata - HICP - deflator'!$R$22:$AC$32,6,FALSE),1)","v":0.98241503000000008},{"$f":"IF($E$13=\"faste priser\",HLOOKUP(K$146,'Baggrundsdata - HICP - deflator'!$R$22:$AC$32,6,FALSE),1)","v":0.99220621000000009},{"$f":"IF($E$13=\"faste priser\",HLOOKUP(L$146,'Baggrundsdata - HICP - deflator'!$R$22:$AC$32,6,FALSE),1)","v":0.99820081000000005},{"$f":"IF($E$13=\"faste priser\",HLOOKUP(M$146,'Baggrundsdata - HICP - deflator'!$R$22:$AC$32,6,FALSE),1)","v":0.9991000000000001},{"$f":"IF($E$13=\"faste priser\",HLOOKUP(N$146,'Baggrundsdata - HICP - deflator'!$R$22:$AC$32,6,FALSE),1)","v":1},{"$f":"IF($E$13=\"faste priser\",HLOOKUP(O$146,'Baggrundsdata - HICP - deflator'!$R$22:$AC$32,6,FALSE),1)","v":0}]
[null,null,null,{"$f":"'Oversættelse af landenavne'!B18","v":"Italien"},{"$f":"IF($E$13=\"faste priser\",HLOOKUP(E$146,'Baggrundsdata - HICP - deflator'!$R$22:$AC$32,7,FALSE),1)","v":0.87212699999999999},{"$f":"IF($E$13=\"faste priser\",HLOOKUP(F$146,'Baggrundsdata - HICP - deflator'!$R$22:$AC$32,7,FALSE),1)","v":0.90309600000000012},{"$f":"IF($E$13=\"faste priser\",HLOOKUP(G$146,'Baggrundsdata - HICP - deflator'!$R$22:$AC$32,7,FALSE),1)","v":0.91008900000000004},{"$f":"IF($E$13=\"faste priser\",HLOOKUP(H$146,'Baggrundsdata - HICP - deflator'!$R$22:$AC$32,7,FALSE),1)","v":0.92507400000000006},{"$f":"IF($E$13=\"faste priser\",HLOOKUP(I$146,'Baggrundsdata - HICP - deflator'!$R$22:$AC$32,7,FALSE),1)","v":0.95204700000000009},{"$f":"IF($E$13=\"faste priser\",HLOOKUP(J$146,'Baggrundsdata - HICP - deflator'!$R$22:$AC$32,7,FALSE),1)","v":0.98301600000000011},{"$f":"IF($E$13=\"faste priser\",HLOOKUP(K$146,'Baggrundsdata - HICP - deflator'!$R$22:$AC$32,7,FALSE),1)","v":0.99600300000000008},{"$f":"IF($E$13=\"faste priser\",HLOOKUP(L$146,'Baggrundsdata - HICP - deflator'!$R$22:$AC$32,7,FALSE),1)","v":0.99800100000000014},{"$f":"IF($E$13=\"faste priser\",HLOOKUP(M$146,'Baggrundsdata - HICP - deflator'!$R$22:$AC$32,7,FALSE),1)","v":0.99900000000000011},{"$f":"IF($E$13=\"faste priser\",HLOOKUP(N$146,'Baggrundsdata - HICP - deflator'!$R$22:$AC$32,7,FALSE),1)","v":1},{"$f":"IF($E$13=\"faste priser\",HLOOKUP(O$146,'Baggrundsdata - HICP - deflator'!$R$22:$AC$32,7,FALSE),1)","v":0}]
[null,null,null,{"$f":"'Oversættelse af landenavne'!B23","v":"Holland"},{"$f":"IF($E$13=\"faste priser\",HLOOKUP(E$146,'Baggrundsdata - HICP - deflator'!$R$22:$AC$32,8,FALSE),1)","v":0.88174444000000007},{"$f":"IF($E$13=\"faste priser\",HLOOKUP(F$146,'Baggrundsdata - HICP - deflator'!$R$22:$AC$32,8,FALSE),1)","v":0.90130328000000004},{"$f":"IF($E$13=\"faste priser\",HLOOKUP(G$146,'Baggrundsdata - HICP - deflator'!$R$22:$AC$32,8,FALSE),1)","v":0.91008480000000014},{"$f":"IF($E$13=\"faste priser\",HLOOKUP(H$146,'Baggrundsdata - HICP - deflator'!$R$22:$AC$32,8,FALSE),1)","v":0.9185669500000001},{"$f":"IF($E$13=\"faste priser\",HLOOKUP(I$146,'Baggrundsdata - HICP - deflator'!$R$22:$AC$32,8,FALSE),1)","v":0.94121927999999999},{"$f":"IF($E$13=\"faste priser\",HLOOKUP(J$146,'Baggrundsdata - HICP - deflator'!$R$22:$AC$32,8,FALSE),1)","v":0.96786321000000008},{"$f":"IF($E$13=\"faste priser\",HLOOKUP(K$146,'Baggrundsdata - HICP - deflator'!$R$22:$AC$32,8,FALSE),1)","v":0.99261113000000012},{"$f":"IF($E$13=\"faste priser\",HLOOKUP(L$146,'Baggrundsdata - HICP - deflator'!$R$22:$AC$32,8,FALSE),1)","v":0.9958044100000002},{"$f":"IF($E$13=\"faste priser\",HLOOKUP(M$146,'Baggrundsdata - HICP - deflator'!$R$22:$AC$32,8,FALSE),1)","v":0.99790000000000012},{"$f":"IF($E$13=\"faste priser\",HLOOKUP(N$146,'Baggrundsdata - HICP - deflator'!$R$22:$AC$32,8,FALSE),1)","v":1},{"$f":"IF($E$13=\"faste priser\",HLOOKUP(O$146,'Baggrundsdata - HICP - deflator'!$R$22:$AC$32,8,FALSE),1)","v":0}]
[null,null,null,{"$f":"'Oversættelse af landenavne'!B30","v":"Sverige"},{"$f":"IF($E$13=\"faste priser\",HLOOKUP(E$146,'Baggrundsdata - HICP - deflator'!$R$22:$AC$32,9,FALSE),1)","v":0.89191260000000006},{"$f":"IF($E$13=\"faste priser\",HLOOKUP(F$146,'Baggrundsdata - HICP - deflator'!$R$22:$AC$32,9,FALSE),1)","v":0.92180190000000006},{"$f":"IF($E$13=\"faste priser\",HLOOKUP(G$146,'Baggrundsdata - HICP - deflator'!$R$22:$AC$32,9,FALSE),1)","v":0.93967590000000001},{"$f":"IF($E$13=\"faste priser\",HLOOKUP(H$146,'Baggrundsdata - HICP - deflator'!$R$22:$AC$32,9,FALSE),1)","v":0.95754990000000018},{"$f":"IF($E$13=\"faste priser\",HLOOKUP(I$146,'Baggrundsdata - HICP - deflator'!$R$22:$AC$32,9,FALSE),1)","v":0.97065750000000006},{"$f":"IF($E$13=\"faste priser\",HLOOKUP(J$146,'Baggrundsdata - HICP - deflator'!$R$22:$AC$32,9,FALSE),1)","v":0.97969380000000006},{"$f":"IF($E$13=\"faste priser\",HLOOKUP(K$146,'Baggrundsdata - HICP - deflator'!$R$22:$AC$32,9,FALSE),1)","v":0.98406300000000002},{"$f":"IF($E$13=\"faste priser\",HLOOKUP(L$146,'Baggrundsdata - HICP - deflator'!$R$22:$AC$32,9,FALSE),1)","v":0.98604900000000006},{"$f":"IF($E$13=\"faste priser\",HLOOKUP(M$146,'Baggrundsdata - HICP - deflator'!$R$22:$AC$32,9,FALSE),1)","v":0.9930000000000001},{"$f":"IF($E$13=\"faste priser\",HLOOKUP(N$146,'Baggrundsdata - HICP - deflator'!$R$22:$AC$32,9,FALSE),1)","v":1},{"$f":"IF($E$13=\"faste priser\",HLOOKUP(O$146,'Baggrundsdata - HICP - deflator'!$R$22:$AC$32,9,FALSE),1)","v":0}]
[null,null,null,{"$f":"'Oversættelse af landenavne'!B31","v":"UK"},{"$f":"IF($E$13=\"faste priser\",HLOOKUP(E$146,'Baggrundsdata - HICP - deflator'!$R$22:$AC$32,10,FALSE),1)","v":0.81799999999999995},{"$f":"IF($E$13=\"faste priser\",HLOOKUP(F$146,'Baggrundsdata - HICP - deflator'!$R$22:$AC$32,10,FALSE),1)","v":0.84699999999999998},{"$f":"IF($E$13=\"faste priser\",HLOOKUP(G$146,'Baggrundsdata - HICP - deflator'!$R$22:$AC$32,10,FALSE),1)","v":0.86599999999999999},{"$f":"IF($E$13=\"faste priser\",HLOOKUP(H$146,'Baggrundsdata - HICP - deflator'!$R$22:$AC$32,10,FALSE),1)","v":0.89400000000000002},{"$f":"IF($E$13=\"faste priser\",HLOOKUP(I$146,'Baggrundsdata - HICP - deflator'!$R$22:$AC$32,10,FALSE),1)","v":0.93400000000000005},{"$f":"IF($E$13=\"faste priser\",HLOOKUP(J$146,'Baggrundsdata - HICP - deflator'!$R$22:$AC$32,10,FALSE),1)","v":0.96099999999999997},{"$f":"IF($E$13=\"faste priser\",HLOOKUP(K$146,'Baggrundsdata - HICP - deflator'!$R$22:$AC$32,10,FALSE),1)","v":0.98499999999999999},{"$f":"IF($E$13=\"faste priser\",HLOOKUP(L$146,'Baggrundsdata - HICP - deflator'!$R$22:$AC$32,10,FALSE),1)","v":1},{"$f":"IF($E$13=\"faste priser\",HLOOKUP(M$146,'Baggrundsdata - HICP - deflator'!$R$22:$AC$32,10,FALSE),1)","v":1},{"$f":"IF($E$13=\"faste priser\",HLOOKUP(N$146,'Baggrundsdata - HICP - deflator'!$R$22:$AC$32,10,FALSE),1)","v":1},{"$f":"IF($E$13=\"faste priser\",HLOOKUP(O$146,'Baggrundsdata - HICP - deflator'!$R$22:$AC$32,10,FALSE),1)","v":0}]

{"sheet":"Alle lande, valgt år","index":2,"n_rows":131,"n_cols":31,"rows_kept":131,"cut":false,"hidden":false,"merged":[[23,21,23,28],[4,3,4,7],[6,3,6,7],[5,3,5,7],[71,3,71,10],[71,12,71,19],[71,21,71,28],[48,3,48,10],[48,12,48,19],[48,21,48,28],[98,3,98,10],[98,12,98,19],[98,21,98,28],[129,21,129,24],[25,30,44,30],[48,30,67,30],[71,30,91,30],[130,21,130,25],[25,1,44,1],[48,1,67,1],[71,1,91,1],[23,3,23,10],[130,3,130,7],[128,12,128,14],[129,12,129,15],[130,12,130,16],[23,12,23,19],[128,3,128,5],[129,3,129,6],[25,3,25,10],[25,12,25,19],[25,21,25,28],[128,21,128,23]]}
[null,null,null,"NAVN PÅ ARK:",null,"Alle lande, valgt år"]
[null,null,null,"Data hentes fra:",null,"'Baggrundstabeller for alle lande'"]
[]
[null,null,null,"Sådan bruges arket:"]
[null,null,null,"Arket 'alle lande, udvalgt år' viser figurer og tabeller (de grå-blå) for gasprisen for industrielle forbrugere opdelt på level 1, 2 og 3 for hvert interval. Prisen vises for alle lande i det valgte år."]
[null,null,null,"Året, pristypen, basisået, valuta og enhed kan ændres. Dette gøres i de farvede rullemenuer nedenfor. \n\nTil hver resultattabel hører tre figurer. En for hvert level. I resultattabellen er totalprisen for hvert level opgjort i hver sin totalprissøjle. Hvis man ønsker at sortere figurerne efter stigende priser kan man kopiere de ønskede tabeller og figurer over i et seperat ark."]
[null,null,null,{"$f":"\"Rent teknisk styrer hver menu styrer en tabel i tilsvarende farve i arket '\"&'Baggrundstabeller for alle land'!F1&\"'. Disse tabeller ganges sammen og heraf fremkommer resultattabellen som følge af de valg der træffes i rullemenuerne.\"","v":"Rent teknisk styrer hver menu styrer en tabel i tilsvarende farve i arket 'Baggrundstabeller for alle lande, valgt år'. Disse tabeller ganges sammen og heraf fremkommer resultattabellen som følge af de valg der træffes i rullemenuerne."}]
[]
[]
[]
[null,null,null,"Vælg",null,null,"Resultater vises i"]
[null,null,null,"Vælg år",null,2016,"Tabel A"]
[null,null,null,"Vælg pristype",null,"faste priser","Tabel B"]
[null,null,null,"Vælg Basisår (kun ved fast pris)",null,2016,"Tabel B"]
[null,null,null,"Vælg valuta",null,"DKK øre","Tabel C"]
[null,null,null,"Vælg enhed (NM3/GJ)",null,"kwh","Tabel D"]
[]
[]
[null,null,null,"Resultatfigurer og -tabeller"]
[null,null,null,"Valgene truffet ovenfor giver tabeller og figurer der er:"]
[null,null,null,{"$f":"\"Oppgjort for året \"&F12&\" i \"&$F$13&\" med basisår \"&$F$14","v":"Oppgjort for året 2016 i faste priser med basisår 2016"}]
[null,null,null,{"$f":"\"Vist i \"&F15&\" / \"&F16&\".\"","v":"Vist i DKK øre / kwh."}]
[]
[null,null,null,"IA: < 20 GJ",null,null,null,null,null,null,null,null,"IB: 20 GJ <  200 GJ",null,null,null,null,null,null,null,null,"IC: >200 GJ"]
[]
[null,"Level 1: Gaspris",null,{"$f":"\"Figur XX: \"&RIGHT($B$26,8)&\". \nPriserne er vist for år \"&$F$12&\" i \"&$F$13&\" med basisår \"&$F$14&\". Priserne er vist i \"&$F$15&\" / \"&$F$16&\". \"","v":"Figur XX:  Gaspris. \nPriserne er vist for år 2016 i faste priser med basisår 2016. Priserne er vist i DKK øre / kwh. "},null,null,null,null,null,null,null,null,{"$f":"\"Figur XX: \"&RIGHT($B$26,8)&\". \nPriserne er vist for år \"&$F$12&\" i \"&$F$13&\" med basisår \"&$F$14&\". Priserne er vist i \"&$F$15&\" / \"&$F$16&\". \"","v":"Figur XX:  Gaspris. \nPriserne er vist for år 2016 i faste priser med basisår 2016. Priserne er vist i DKK øre / kwh. "},null,null,null,null,null,null,null,null,{"$f":"\"Figur XX: \"&RIGHT($B$26,8)&\". \nPriserne er vist for år \"&$F$12&\" i \"&$F$13&\" med basisår \"&$F$14&\". Priserne er vist i \"&$F$15&\" / \"&$F$16&\". \"","v":"Figur XX:  Gaspris. \nPriserne er vist for år 2016 i faste priser med basisår 2016. Priserne er vist i DKK øre / kwh. "},null,null,null,null,null,null,null,null,{"$f":"B26","v":"Level 1: Gaspris"}]
[]
[]
[]
[]
[]
[]
[]
[]
[]
[]
[]
[]
[]
[]
[]
[]
[]
[]
[null,null,null,"Kilde:Eurostat",null,null,null,null,null,null,null,null,"Kilde:Eurostat",null,null,null,null,null,null,null,null,"Kilde:Eurostat"]
[]
[]
[]
[null,"Level 2: Gaspris inkl.  afgifter",null,{"$f":"\"Figur XX: \"&RIGHT($B$49,31)&\". \nPriserne er vist for år \"&$F$12&\" i \"&$F$13&\" med basisår \"&$F$14&\". Priserne er vist i \"&$F$15&\" / \"&$F$16&\". \"","v":"Figur XX: evel 2: Gaspris inkl.  afgifter. \nPriserne er vist for år 2016 i faste priser med basisår 2016. Priserne er vist i DKK øre / kwh. "},null,null,null,null,null,null,null,null,{"$f":"\"Figur XX: \"&RIGHT($B$49,31)&\". \nPriserne er vist for år \"&$F$12&\" i \"&$F$13&\" med basisår \"&$F$14&\". Priserne er vist i \"&$F$15&\" / \"&$F$16&\". \"","v":"Figur XX: evel 2: Gaspris inkl.  afgifter. \nPriserne er vist for år 2016 i faste priser med basisår 2016. Priserne er vist i DKK øre / kwh. "},null,null,null,null,null,null,null,null,{"$f":"\"Figur XX: \"&RIGHT($B$49,31)&\". \nPriserne er vist for år \"&$F$12&\" i \"&$F$13&\" med basisår \"&$F$14&\". Priserne er vist i \"&$F$15&\" / \"&$F$16&\". \"","v":"Figur XX: evel 2: Gaspris inkl.  afgifter. \nPriserne er vist for år 2016 i faste priser med basisår 2016. Priserne er vist i DKK øre / kwh. "},null,null,null,null,null,null,null,null,{"$f":"B49","v":"Level 2: Gaspris inkl.  afgifter"}]
[]
[]
[]
[]
[]
[]
[]
[]
[]
[]
[]
[]
[]
[]
[]
[]
[]
[]
[null,null,null,"Kilde:Eurostat",null,null,null,null,null,null,null,null,"Kilde:Eurostat",null,null,null,null,null,null,null,null,"Kilde:Eurostat"]
[]
[]
[]
[null,"Level 3: Gaspris inkl.  afgifter og moms",null,{"$f":"\"Figur XX: \"&RIGHT($B$72,35)&\". \nPriserne er vist for år \"&$F$12&\" i \"&$F$13&\" med basisår \"&$F$14&\". Priserne er vist i \"&$F$15&\" / \"&$F$16&\". \"","v":"Figur XX:  3: Gaspris inkl.  afgifter og moms. \nPriserne er vist for år 2016 i faste priser med basisår 2016. Priserne er vist i DKK øre / kwh. "},null,null,null,null,null,null,null,null,{"$f":"\"Figur XX: \"&RIGHT($B$72,35)&\". \nPriserne er vist for år \"&$F$12&\" i \"&$F$13&\" med basisår \"&$F$14&\". Priserne er vist i \"&$F$15&\" / \"&$F$16&\". \"","v":"Figur XX:  3: Gaspris inkl.  afgifter og moms. \nPriserne er vist for år 2016 i faste priser med basisår 2016. Priserne er vist i DKK øre / kwh. "},null,null,null,null,null,null,null,null,{"$f":"\"Figur XX: \"&RIGHT($B$72,35)&\". \nPriserne er vist for år \"&$F$12&\" i \"&$F$13&\" med basisår \"&$F$14&\". Priserne er vist i \"&$F$15&\" / \"&$F$16&\". \"","v":"Figur XX:  3: Gaspris inkl.  afgifter og moms. \nPriserne er vist for år 2016 i faste priser med basisår 2016. Priserne er vist i DKK øre / kwh. "},null,null,null,null,null,null,null,null,{"$f":"B72","v":"Level 3: Gaspris inkl.  afgifter og moms"}]
[]
[]
[]
[]
[]
[]
[]
[]
[]
[]
[]
[]
[]
[]
[]
[]
[]
[]
[]
[null,null,null,"Kilde:Eurostat",null,null,null,null,null,null,null,null,"Kilde:Eurostat",null,null,null,null,null,null,null,null,"Kilde:Eurostat"]
[]
[]
[]
[]
[]
[]
[null,null,null,{"$f":"D24","v":"IA: < 20 GJ"},null,null,null,null,null,null,null,null,{"$f":"M24","v":"IB: 20 GJ <  200 GJ"},null,null,null,null,null,null,null,null,{"$f":"V24","v":"IC: >200 GJ"}]
[]
[null,null,null,{"$f":"'Alle lande, valgt år'!$F$15 &\" / \"& 'Alle lande, valgt år'!$F$16&\" år \"&'Alle lande, valgt år'!$F$12","v":"DKK øre / kwh år 2016"},null,null,null,null,null,null,null,null,{"$f":"'Alle lande, valgt år'!$F$15 &\" / \"& 'Alle lande, valgt år'!$F$16&\" år \"&'Alle lande, valgt år'!$F$12","v":"DKK øre / kwh år 2016"},null,null,null,null,null,null,null,null,{"$f":"'Alle lande, valgt år'!$F$15 &\" / \"& 'Alle lande, valgt år'!$F$16&\" år \"&'Alle lande, valgt år'!$F$12","v":"DKK øre / kwh år 2016"}]
[null,null,null,"       ","original rækkefølge ","Gaspris","Afgifter ","Moms","Total pris\n(level 1)","Total pris\n(level 2)","Total pris\n(level 3)",null,"     ","original rækkefølge ","Gaspris","Afgifter ","Moms","Total pris\n(level 1)","Total pris\n(level 2)","Total pris\n(level 3)",null,"     ","original rækkefølge ","Gaspris","Afgifter ","Moms","Total pris\n(level 1)","Total pris\n(level 2)","Total pris\n(level 3)"]
[null,null,null,{"$f":"'Baggrundstabeller for alle land'!D52","v":"Rumænien"},24,{"$f":"'Baggrundstabeller for alle land'!F52","v":13.294838454404475},{"$f":"'Baggrundstabeller for alle land'!G52","v":6.888926811111113},{"$f":"'Baggrundstabeller for alle land'!H52","v":4.8448859179056765},{"$f":"F103","v":13.294838454404475},{"$f":"SUM(F103:G103)","v":20.183765265515589},{"$f":"SUM(F103:H103)","v":25.028651183421267},null,{"$f":"'Baggrundstabeller for alle land'!M31","v":"EU-28"},1,{"$f":"'Baggrundstabeller for alle land'!O31","v":34.82638481215028},{"$f":"'Baggrundstabeller for alle land'!P31","v":5.1703786682653865},{"$f":"'Baggrundstabeller for alle land'!Q31","v":6.241959739408478},{"$f":"O103","v":34.82638481215028},{"$f":"SUM(O103:P103)","v":39.996763480415666},{"$f":"SUM(O103:Q103)","v":46.238723219824145},null,{"$f":"'Baggrundstabeller for alle land'!V31","v":"EU-28"},1,{"$f":"'Baggrundstabeller for alle land'!X31","v":31.075851063149479},{"$f":"'Baggrundstabeller for alle land'!Y31","v":5.3311158289368512},{"$f":"'Baggrundstabeller for alle land'!Z31","v":6.0812225787370098},{"$f":"X103","v":31.075851063149479},{"$f":"SUM(X103:Y103)","v":36.406966892086331},{"$f":"SUM(X103:Z103)","v":42.488189470823343}]
[null,null,null,{"$f":"'Baggrundstabeller for alle land'!D47","v":"Ungarn"},19,{"$f":"'Baggrundstabeller for alle land'!F47","v":20.717412638944843},{"$f":"'Baggrundstabeller for alle land'!G47","v":0},{"$f":"'Baggrundstabeller for alle land'!H47","v":5.5936531913669096},20.717412638944843,20.717412638944843,26.311065830311755,null,{"$f":"'Baggrundstabeller for alle land'!M32","v":"Belgien"},4,{"$f":"'Baggrundstabeller for alle land'!O32","v":30.88832437569944},{"$f":"'Baggrundstabeller for alle land'!P32","v":2.8664793653077547},{"$f":"'Baggrundstabeller for alle land'!Q32","v":6.9384874356514787},30.88832437569944,33.754803741007194,40.693291176658676,null,{"$f":"'Baggrundstabeller for alle land'!V32","v":"Belgien"},4,{"$f":"'Baggrundstabeller for alle land'!X32","v":28.182582171063149},{"$f":"'Baggrundstabeller for alle land'!Y32","v":2.4110574100719435},{"$f":"'Baggrundstabeller for alle land'!Z32","v":6.1615911590727439},28.182582171063149,30.593639581135093,36.755230740207836]
[null,null,null,{"$f":"'Baggrundstabeller for alle land'!D33","v":"Bulgarien"},5,{"$f":"'Baggrundstabeller for alle land'!F33","v":24.148615228745005},{"$f":"'Baggrundstabeller for alle land'!G33","v":0},{"$f":"'Baggrundstabeller for alle land'!H33","v":4.8352416882653877},24.148615228745005,24.148615228745005,28.983856917010392,null,{"$f":"'Baggrundstabeller for alle land'!M33","v":"Bulgarien"},5,{"$f":"'Baggrundstabeller for alle land'!O33","v":22.820122595795365},{"$f":"'Baggrundstabeller for alle land'!P33","v":0},{"$f":"'Baggrundstabeller for alle land'!Q33","v":4.5748474879776202},22.820122595795365,22.820122595795365,27.394970083772986,null,{"$f":"'Baggrundstabeller for alle land'!V33","v":"Bulgarien"},5,{"$f":"'Baggrundstabeller for alle land'!X33","v":22.641972242717827},{"$f":"'Baggrundstabeller for alle land'!Y33","v":0},{"$f":"'Baggrundstabeller for alle land'!Z33","v":4.5338595120063925},22.641972242717827,22.641972242717827,27.175831754724221]
[null,null,null,{"$f":"'Baggrundstabeller for alle land'!D37","v":"Estland"},9,{"$f":"'Baggrundstabeller for alle land'!F37","v":26.521631510791369},{"$f":"'Baggrundstabeller for alle land'!G37","v":2.6521631510791375},{"$f":"'Baggrundstabeller for alle land'!H37","v":5.8401168377298154},26.521631510791369,29.173794661870506,35.013911499600319,null,{"$f":"'Baggrundstabeller for alle land'!M34","v":"Tjekkiet"},6,{"$f":"'Baggrundstabeller for alle land'!O34","v":35.839832610183855},{"$f":"'Baggrundstabeller for alle land'!P34","v":0},{"$f":"'Baggrundstabeller for alle land'!Q34","v":7.5267854437090316},35.839832610183855,35.839832610183855,43.366618053892886,null,{"$f":"'Baggrundstabeller for alle land'!V34","v":"Tjekkiet"},6,{"$f":"'Baggrundstabeller for alle land'!X34","v":33.430382571718624},{"$f":"'Baggrundstabeller for alle land'!Y34","v":0},{"$f":"'Baggrundstabeller for alle land'!Z34","v":7.0204633875939289},33.430382571718624,33.430382571718624,40.450845959312552]
[null,null,null,{"$f":"'Baggrundstabeller for alle land'!D42","v":"Kroatien"},14,{"$f":"'Baggrundstabeller for alle land'!F42","v":30.613463830951243},{"$f":"'Baggrundstabeller for alle land'!G42","v":0},{"$f":"'Baggrundstabeller for alle land'!H42","v":7.6534999053717021},30.613463830951243,30.613463830951243,38.266963736322943,null,{"$f":"'Baggrundstabeller for alle land'!M35","v":"Danmark"},7,{"$f":"'Baggrundstabeller for alle land'!O35","v":21.288029559328539},{"$f":"'Baggrundstabeller for alle land'!P35","v":21.39572345697842},{"$f":"'Baggrundstabeller for alle land'!Q35","v":10.669196934836135},21.288029559328539,42.683753016306959,53.352949951143096,null,{"$f":"'Baggrundstabeller for alle land'!V35","v":"Danmark"},7,{"$f":"'Baggrundstabeller for alle land'!X35","v":21.288029559328539},{"$f":"'Baggrundstabeller for alle land'!Y35","v":21.39572345697842},{"$f":"'Baggrundstabeller for alle land'!Z35","v":10.669196934836135},21.288029559328539,42.683753016306959,53.352949951143096]
[null,null,null,{"$f":"'Baggrundstabeller for alle land'!D46","v":"luxembourg"},18,{"$f":"'Baggrundstabeller for alle land'!F46","v":34.558489544364512},{"$f":"'Baggrundstabeller for alle land'!G46","v":1.4198449192645868},{"$f":"'Baggrundstabeller for alle land'!H46","v":3.1343746330935254},34.558489544364512,35.978334463629096,39.112709096722625,null,{"$f":"'Baggrundstabeller for alle land'!M36","v":"Tyskland"},8,{"$f":"'Baggrundstabeller for alle land'!O36","v":36.915967900879295},{"$f":"'Baggrundstabeller for alle land'!P36","v":4.4202719184652297},{"$f":"'Baggrundstabeller for alle land'!Q36","v":7.8493313461231002},36.915967900879295,41.336239819344527,49.185571165467628,null,{"$f":"'Baggrundstabeller for alle land'!V36","v":"Tyskland"},8,{"$f":"'Baggrundstabeller for alle land'!X36","v":33.728014214228615},{"$f":"'Baggrundstabeller for alle land'!Y36","v":4.4202719184652297},{"$f":"'Baggrundstabeller for alle land'!Z36","v":7.2599617569944019},33.728014214228615,38.148286132693848,45.408247889688248]
[null,null,null,{"$f":"'Baggrundstabeller for alle land'!D50","v":"Polen"},22,{"$f":"'Baggrundstabeller for alle land'!F50","v":34.382482353429261},{"$f":"'Baggrundstabeller for alle land'!G50","v":0},{"$f":"'Baggrundstabeller for alle land'!H50","v":7.9104114671782577},34.382482353429261,34.382482353429261,42.292893820607517,null,{"$f":"'Baggrundstabeller for alle land'!M37","v":"Estland"},9,{"$f":"'Baggrundstabeller for alle land'!O37","v":24.753522743405277},{"$f":"'Baggrundstabeller for alle land'!P37","v":2.6521631510791375},{"$f":"'Baggrundstabeller for alle land'!Q37","v":5.4918529896083106},24.753522743405277,27.405685894484414,32.897538884092725,null,{"$f":"'Baggrundstabeller for alle land'!V37","v":"Estland"},9,{"$f":"'Baggrundstabeller for alle land'!X37","v":22.985413976019188},{"$f":"'Baggrundstabeller for alle land'!Y37","v":2.6521631510791375},{"$f":"'Baggrundstabeller for alle land'!Z37","v":5.116799614708234},22.985413976019188,25.637577127098325,30.75437674180656]
[null,null,null,{"$f":"'Baggrundstabeller for alle land'!D53","v":"Slovenien"},25,{"$f":"'Baggrundstabeller for alle land'!F53","v":37.371389856115108},{"$f":"'Baggrundstabeller for alle land'!G53","v":4.8489043469224633},{"$f":"'Baggrundstabeller for alle land'!H53","v":9.2691762653876886},37.371389856115108,42.220294203037568,51.489470468425253,null,{"$f":"'Baggrundstabeller for alle land'!M38","v":"Irland"},10,{"$f":"'Baggrundstabeller for alle land'!O38","v":40.023553007194245},{"$f":"'Baggrundstabeller for alle land'!P38","v":2.732531731414872},{"$f":"'Baggrundstabeller for alle land'!Q38","v":5.786537784172662},40.023553007194245,42.756084738609118,48.542622522781784,null,{"$f":"'Baggrundstabeller for alle land'!V38","v":"Irland"},10,{"$f":"'Baggrundstabeller for alle land'!X38","v":37.157073641886491},{"$f":"'Baggrundstabeller for alle land'!Y38","v":2.7593212581934483},{"$f":"'Baggrundstabeller for alle land'!Z38","v":5.3846948824940046},37.157073641886491,39.916394900079936,45.301089782573939]
[null,null,null,{"$f":"'Baggrundstabeller for alle land'!D44","v":"Letland"},16,{"$f":"'Baggrundstabeller for alle land'!F44","v":41.657714140687453},{"$f":"'Baggrundstabeller for alle land'!G44","v":1.2858972853717039},{"$f":"'Baggrundstabeller for alle land'!H44","v":9.0280705243804888},41.657714140687453,42.943611426059157,51.971681950439645,null,{"$f":"'Baggrundstabeller for alle land'!M39","v":"Grækenland"},11,{"$f":"'Baggrundstabeller for alle land'!O39","v":32.897538884092725},{"$f":"'Baggrundstabeller for alle land'!P39","v":4.2863242845723466},{"$f":"'Baggrundstabeller for alle land'!Q39","v":4.8221148201438826},32.897538884092725,37.18386316866507,42.005977988808951,null,{"$f":"'Baggrundstabeller for alle land'!V39","v":"Grækenland"},11,{"$f":"'Baggrundstabeller for alle land'!X39","v":31.933115920063948},{"$f":"'Baggrundstabeller for alle land'!Y39","v":4.3934823916866526},{"$f":"'Baggrundstabeller for alle land'!Z39","v":4.6881671862509995},31.933115920063948,36.326598311750601,41.014765498001601]
[null,null,null,{"$f":"'Baggrundstabeller for alle land'!D45","v":"Litaun"},17,{"$f":"'Baggrundstabeller for alle land'!F45","v":45.917248898481219},{"$f":"'Baggrundstabeller for alle land'!G45","v":0},{"$f":"'Baggrundstabeller for alle land'!H45","v":9.6442296402877652},45.917248898481219,45.917248898481219,55.561478538768981,null,{"$f":"'Baggrundstabeller for alle land'!M40","v":"Spanien"},12,{"$f":"'Baggrundstabeller for alle land'!O40","v":39.916394900079943},{"$f":"'Baggrundstabeller for alle land'!P40","v":1.7413192406075149},{"$f":"'Baggrundstabeller for alle land'!Q40","v":8.7601752565947226},39.916394900079943,41.65771414068746,50.417889397282181,null,{"$f":"'Baggrundstabeller for alle land'!V40","v":"Spanien"},12,{"$f":"'Baggrundstabeller for alle land'!X40","v":32.790380776978424},{"$f":"'Baggrundstabeller for alle land'!Y40","v":1.7413192406075149},{"$f":"'Baggrundstabeller for alle land'!Z40","v":7.2599617569944019},32.790380776978424,34.531700017585941,41.791661774580341]
[null,null,null,{"$f":"'Baggrundstabeller for alle land'!D35","v":"Danmark"},7,{"$f":"'Baggrundstabeller for alle land'!F35","v":21.288029559328539},{"$f":"'Baggrundstabeller for alle land'!G35","v":21.39572345697842},{"$f":"'Baggrundstabeller for alle land'!H35","v":10.669196934836135},21.288029559328539,42.683753016306959,53.352949951143096,null,{"$f":"'Baggrundstabeller for alle land'!M41","v":"Frankrig"},13,{"$f":"'Baggrundstabeller for alle land'!O41","v":37.398179382893687},{"$f":"'Baggrundstabeller for alle land'!P41","v":3.9648499632294132},{"$f":"'Baggrundstabeller for alle land'!Q41","v":6.9920664892086366},37.398179382893687,41.363029346123099,48.355095835331738,null,{"$f":"'Baggrundstabeller for alle land'!V41","v":"Frankrig"},13,{"$f":"'Baggrundstabeller for alle land'!X41","v":31.397325384492408},{"$f":"'Baggrundstabeller for alle land'!Y41","v":2.893268892086331},{"$f":"'Baggrundstabeller for alle land'!Z41","v":6.5366445339728205},31.397325384492408,34.290594276578737,40.827238810551556]
[null,null,null,{"$f":"'Baggrundstabeller for alle land'!D38","v":"Irland"},10,{"$f":"'Baggrundstabeller for alle land'!F38","v":45.086773568345322},{"$f":"'Baggrundstabeller for alle land'!G38","v":2.7593212581934483},{"$f":"'Baggrundstabeller for alle land'!H38","v":6.4562759536370917},45.086773568345322,47.846094826538767,54.302370780175856,null,{"$f":"'Baggrundstabeller for alle land'!M42","v":"Kroatien"},14,{"$f":"'Baggrundstabeller for alle land'!O42","v":25.511398455971225},{"$f":"'Baggrundstabeller for alle land'!P42","v":0},{"$f":"'Baggrundstabeller for alle land'!Q42","v":6.3777826401758624},25.511398455971225,25.511398455971225,31.889181096147087,null,{"$f":"'Baggrundstabeller for alle land'!V42","v":"Kroatien"},14,{"$f":"'Baggrundstabeller for alle land'!X42","v":24.154241029368507},{"$f":"'Baggrundstabeller for alle land'!Y42","v":0},{"$f":"'Baggrundstabeller for alle land'!Z42","v":6.041306183836932},24.154241029368507,24.154241029368507,30.195547213205437]
[null,null,null,{"$f":"'Baggrundstabeller for alle land'!D32","v":"Belgien"},4,{"$f":"'Baggrundstabeller for alle land'!F32","v":42.434610417266185},{"$f":"'Baggrundstabeller for alle land'!G32","v":3.8844813828936831},{"$f":"'Baggrundstabeller for alle land'!H32","v":9.5906505867306215},42.434610417266185,46.319091800159867,55.909742386890485,null,{"$f":"'Baggrundstabeller for alle land'!M43","v":"Italien"},15,{"$f":"'Baggrundstabeller for alle land'!O43","v":35.255017240607515},{"$f":"'Baggrundstabeller for alle land'!P43","v":11.412338407673866},{"$f":"'Baggrundstabeller for alle land'!Q43","v":7.7689627657873661},35.255017240607515,46.667355648281379,54.436318414068744,null,{"$f":"'Baggrundstabeller for alle land'!V43","v":"Italien"},15,{"$f":"'Baggrundstabeller for alle land'!X43","v":29.68279567066347},{"$f":"'Baggrundstabeller for alle land'!Y43","v":13.314394808952841},{"$f":"'Baggrundstabeller for alle land'!Z43","v":9.2155972118305289},29.68279567066347,42.997190479616307,52.212787691446835]
[null,null,null,{"$f":"'Baggrundstabeller for alle land'!D49","v":"Østrig"},21,{"$f":"'Baggrundstabeller for alle land'!F49","v":47.631778612310157},{"$f":"'Baggrundstabeller for alle land'!G49","v":5.2775367753796942},{"$f":"'Baggrundstabeller for alle land'!H49","v":10.635442131095122},47.631778612310157,52.909315387689851,63.544757518784976,null,{"$f":"'Baggrundstabeller for alle land'!M44","v":"Letland"},16,{"$f":"'Baggrundstabeller for alle land'!O44","v":24.780312270183856},{"$f":"'Baggrundstabeller for alle land'!P44","v":1.2858972853717039},{"$f":"'Baggrundstabeller for alle land'!Q44","v":5.4918529896083106},24.780312270183856,26.06620955555556,31.558062545163871,null,{"$f":"'Baggrundstabeller for alle land'!V44","v":"Letland"},16,{"$f":"'Baggrundstabeller for alle land'!X44","v":24.780312270183856},{"$f":"'Baggrundstabeller for alle land'!Y44","v":1.2858972853717039},{"$f":"'Baggrundstabeller for alle land'!Z44","v":5.4650634628297343},24.780312270183856,26.06620955555556,31.531273018385292]
[null,null,null,{"$f":"'Baggrundstabeller for alle land'!D56","v":"UK"},28,{"$f":"'Baggrundstabeller for alle land'!F56","v":53.952499560447642},{"$f":"'Baggrundstabeller for alle land'!G56","v":0},{"$f":"'Baggrundstabeller for alle land'!H56","v":2.7180653869544402},53.952499560447642,53.952499560447642,56.670564947402084,null,{"$f":"'Baggrundstabeller for alle land'!M45","v":"Litaun"},17,{"$f":"'Baggrundstabeller for alle land'!O45","v":25.396471386091129},{"$f":"'Baggrundstabeller for alle land'!P45","v":0},{"$f":"'Baggrundstabeller for alle land'!Q45","v":5.3311158289368512},25.396471386091129,25.396471386091129,30.727587215027981,null,{"$f":"'Baggrundstabeller for alle land'!V45","v":"Litaun"},17,{"$f":"'Baggrundstabeller for alle land'!X45","v":25.396471386091129},{"$f":"'Baggrundstabeller for alle land'!Y45","v":0},{"$f":"'Baggrundstabeller for alle land'!Z45","v":5.3311158289368512},25.396471386091129,25.396471386091129,30.727587215027981]
[null,null,null,{"$f":"'Baggrundstabeller for alle land'!D34","v":"Tjekkiet"},6,{"$f":"'Baggrundstabeller for alle land'!F34","v":56.776115682909676},{"$f":"'Baggrundstabeller for alle land'!G34","v":0},{"$f":"'Baggrundstabeller for alle land'!H34","v":11.922678892805751},56.776115682909676,56.776115682909676,68.698794575715425,null,{"$f":"'Baggrundstabeller for alle land'!M46","v":"luxembourg"},18,{"$f":"'Baggrundstabeller for alle land'!O46","v":29.254163242206236},{"$f":"'Baggrundstabeller for alle land'!P46","v":1.6877401870503619},{"$f":"'Baggrundstabeller for alle land'!Q46","v":2.8664793653077503},29.254163242206236,30.941903429256598,33.808382794564352,null,{"$f":"'Baggrundstabeller for alle land'!V46","v":"luxembourg"},18,{"$f":"'Baggrundstabeller for alle land'!X46","v":29.361321349320548},{"$f":"'Baggrundstabeller for alle land'!Y46","v":1.7413192406075102},{"$f":"'Baggrundstabeller for alle land'!Z46","v":2.9200584188649077},29.361321349320548,31.102640589928058,34.022699008792962]
[null,null,null,{"$f":"'Baggrundstabeller for alle land'!D39","v":"Grækenland"},11,{"$f":"'Baggrundstabeller for alle land'!F39","v":40.318237801758592},{"$f":"'Baggrundstabeller for alle land'!G39","v":4.2327452310151834},{"$f":"'Baggrundstabeller for alle land'!H39","v":5.759748257394091},40.318237801758592,44.550983032773772,50.310731290167865,null,{"$f":"'Baggrundstabeller for alle land'!M47","v":"Ungarn"},19,{"$f":"'Baggrundstabeller for alle land'!O47","v":20.168763130519586},{"$f":"'Baggrundstabeller for alle land'!P47","v":0},{"$f":"'Baggrundstabeller for alle land'!Q47","v":5.4455071082813733},20.168763130519586,20.168763130519586,25.614270238800959,null,{"$f":"'Baggrundstabeller for alle land'!V47","v":"Ungarn"},19,{"$f":"'Baggrundstabeller for alle land'!X47","v":20.176264198017584},{"$f":"'Baggrundstabeller for alle land'!Y47","v":0},{"$f":"'Baggrundstabeller for alle land'!Z47","v":5.4476502704236616},20.176264198017584,20.176264198017584,25.623914468441246]
[null,null,null,{"$f":"'Baggrundstabeller for alle land'!D31","v":"EU-28"},1,{"$f":"'Baggrundstabeller for alle land'!F31","v":53.92731740527578},{"$f":"'Baggrundstabeller for alle land'!G31","v":5.4918529896083159},{"$f":"'Baggrundstabeller for alle land'!H31","v":8.7601752565947226},53.92731740527578,59.419170394884098,68.179345651478826,null,{"$f":"'Baggrundstabeller for alle land'!M48","v":"Holland"},20,{"$f":"'Baggrundstabeller for alle land'!O48","v":27.887897376498803},{"$f":"'Baggrundstabeller for alle land'!P48","v":20.038566030375701},{"$f":"'Baggrundstabeller for alle land'!Q48","v":10.072862068745},27.887897376498803,47.926463406874504,57.9993254756195,null,{"$f":"'Baggrundstabeller for alle land'!V48","v":"Holland"},20,{"$f":"'Baggrundstabeller for alle land'!X48","v":23.842678832933657},{"$f":"'Baggrundstabeller for alle land'!Y48","v":20.011776503597122},{"$f":"'Baggrundstabeller for alle land'!Z48","v":9.2155972118305289},23.842678832933657,43.854455336530776,53.070052548361303]
[null,null,null,{"$f":"'Baggrundstabeller for alle land'!D54","v":"Slovakiet"},26,{"$f":"'Baggrundstabeller for alle land'!F54","v":62.714282188649079},{"$f":"'Baggrundstabeller for alle land'!G54","v":0},{"$f":"'Baggrundstabeller for alle land'!H54","v":12.537498532374102},62.714282188649079,62.714282188649079,75.251780721023181,null,{"$f":"'Baggrundstabeller for alle land'!M49","v":"Østrig"},21,{"$f":"'Baggrundstabeller for alle land'!O49","v":37.666074650679455},{"$f":"'Baggrundstabeller for alle land'!P49","v":5.116799614708234},{"$f":"'Baggrundstabeller for alle land'!Q49","v":8.5726485691446879},37.666074650679455,42.78287426538769,51.35552283453238,null,{"$f":"'Baggrundstabeller for alle land'!V49","v":"Østrig"},21,{"$f":"'Baggrundstabeller for alle land'!X49","v":31.986694973621102},{"$f":"'Baggrundstabeller for alle land'!Y49","v":5.009641507593928},{"$f":"'Baggrundstabeller for alle land'!Z49","v":7.4206989176658613},31.986694973621102,36.996336481215032,44.417035398880891]
[null,null,null,{"$f":"'Baggrundstabeller for alle land'!D36","v":"Tyskland"},8,{"$f":"'Baggrundstabeller for alle land'!F36","v":62.017754492406077},{"$f":"'Baggrundstabeller for alle land'!G36","v":6.241959739408478},{"$f":"'Baggrundstabeller for alle land'!H36","v":12.966130960831336},62.017754492406077,68.259714231814556,81.225845192645892,null,{"$f":"'Baggrundstabeller for alle land'!M50","v":"Polen"},22,{"$f":"'Baggrundstabeller for alle land'!O50","v":23.688103263421265},{"$f":"'Baggrundstabeller for alle land'!P50","v":6.1615911590726579E-3},{"$f":"'Baggrundstabeller for alle land'!Q50","v":5.4514008041726632},23.688103263421265,23.694264854580339,29.145665658753003,null,{"$f":"'Baggrundstabeller for alle land'!V50","v":"Polen"},22,{"$f":"'Baggrundstabeller for alle land'!X50","v":21.934460840495603},{"$f":"'Baggrundstabeller for alle land'!Y50","v":0.22690729181454777},{"$f":"'Baggrundstabeller for alle land'!Z50","v":5.101797479712233},21.934460840495603,22.161368132310152,27.263165612022384]
[null,null,null,{"$f":"'Baggrundstabeller for alle land'!D40","v":"Spanien"},12,{"$f":"'Baggrundstabeller for alle land'!F40","v":51.194785673860913},{"$f":"'Baggrundstabeller for alle land'!G40","v":1.74131924060752},{"$f":"'Baggrundstabeller for alle land'!H40","v":11.117653613109511},51.194785673860913,52.93610491446843,64.053758527577941,null,{"$f":"'Baggrundstabeller for alle land'!M51","v":"Portugal"},23,{"$f":"'Baggrundstabeller for alle land'!O51","v":51.918102896882495},{"$f":"'Baggrundstabeller for alle land'!P51","v":3.2951117937649892},{"$f":"'Baggrundstabeller for alle land'!Q51","v":12.69823569304557},51.918102896882495,55.213214690647483,67.911450383693051,null,{"$f":"'Baggrundstabeller for alle land'!V51","v":"Portugal"},23,{"$f":"'Baggrundstabeller for alle land'!X51","v":50.498257977617911},{"$f":"'Baggrundstabeller for alle land'!Y51","v":3.268322266986408},{"$f":"'Baggrundstabeller for alle land'!Z51","v":12.37676137170264},50.498257977617911,53.76658024460432,66.143341616306955]
[null,null,null,{"$f":"'Baggrundstabeller for alle land'!D43","v":"Italien"},15,{"$f":"'Baggrundstabeller for alle land'!F43","v":51.194785673860913},{"$f":"'Baggrundstabeller for alle land'!G43","v":7.9832789800159887},{"$f":"'Baggrundstabeller for alle land'!H43","v":8.8137543101518769},51.194785673860913,59.178064653876902,67.991818964028781,null,{"$f":"'Baggrundstabeller for alle land'!M52","v":"Rumænien"},24,{"$f":"'Baggrundstabeller for alle land'!O52","v":13.169731364348523},{"$f":"'Baggrundstabeller for alle land'!P52","v":6.7994497916706642},{"$f":"'Baggrundstabeller for alle land'!Q52","v":4.7913068643485186},13.169731364348523,19.969181156019189,24.76048802036771,null,{"$f":"'Baggrundstabeller for alle land'!V52","v":"Rumænien"},24,{"$f":"'Baggrundstabeller for alle land'!X52","v":12.812359077122304},{"$f":"'Baggrundstabeller for alle land'!Y52","v":6.2033828208473221},{"$f":"'Baggrundstabeller for alle land'!Z52","v":4.5646674678017565},12.812359077122304,19.015741897969626,23.580409365771381]
[null,null,null,{"$f":"'Baggrundstabeller for alle land'!D48","v":"Holland"},20,{"$f":"'Baggrundstabeller for alle land'!F48","v":46.80130328217426},{"$f":"'Baggrundstabeller for alle land'!G48","v":20.038566030375701},{"$f":"'Baggrundstabeller for alle land'!H48","v":14.037712031974426},46.80130328217426,66.839869312549965,80.877581344524387,null,{"$f":"'Baggrundstabeller for alle land'!M53","v":"Slovenien"},25,{"$f":"'Baggrundstabeller for alle land'!O53","v":31.71879970583533},{"$f":"'Baggrundstabeller for alle land'!P53","v":4.8489043469224633},{"$f":"'Baggrundstabeller for alle land'!Q53","v":8.0368580335731377},31.71879970583533,36.56770405275779,44.60456208633093,null,{"$f":"'Baggrundstabeller for alle land'!V53","v":"Slovenien"},25,{"$f":"'Baggrundstabeller for alle land'!X53","v":28.745162233413271},{"$f":"'Baggrundstabeller for alle land'!Y53","v":4.8489043469224589},{"$f":"'Baggrundstabeller for alle land'!Z53","v":7.3939093908872939},28.745162233413271,33.594066580335728,40.987975971223022]
[null,null,null,{"$f":"'Baggrundstabeller for alle land'!D51","v":"Portugal"},23,{"$f":"'Baggrundstabeller for alle land'!F51","v":62.955387929656276},{"$f":"'Baggrundstabeller for alle land'!G51","v":3.6701651686650711},{"$f":"'Baggrundstabeller for alle land'!H51","v":15.32360931734612},62.955387929656276,66.625553098321348,81.949162415667473,null,{"$f":"'Baggrundstabeller for alle land'!M54","v":"Slovakiet"},26,{"$f":"'Baggrundstabeller for alle land'!O54","v":28.530846019184658},{"$f":"'Baggrundstabeller for alle land'!P54","v":0},{"$f":"'Baggrundstabeller for alle land'!Q54","v":5.7061692038369278},28.530846019184658,28.530846019184658,34.237015223021587,null,{"$f":"'Baggrundstabeller for alle land'!V54","v":"Slovakiet"},26,{"$f":"'Baggrundstabeller for alle land'!X54","v":30.004269992006396},{"$f":"'Baggrundstabeller for alle land'!Y54","v":0},{"$f":"'Baggrundstabeller for alle land'!Z54","v":6.0008539984012801},30.004269992006396,30.004269992006396,36.005123990407675]
[null,null,null,{"$f":"'Baggrundstabeller for alle land'!D41","v":"Frankrig"},13,{"$f":"'Baggrundstabeller for alle land'!F41","v":76.564467533173456},{"$f":"'Baggrundstabeller for alle land'!G41","v":8.1440161406874587},{"$f":"'Baggrundstabeller for alle land'!H41","v":10.689021184652274},76.564467533173456,84.708483673860911,95.397504858513187,null,{"$f":"'Baggrundstabeller for alle land'!M55","v":"Sverige"},27,{"$f":"'Baggrundstabeller for alle land'!O55","v":45.334308795779378},{"$f":"'Baggrundstabeller for alle land'!P55","v":21.860789641854517},{"$f":"'Baggrundstabeller for alle land'!Q55","v":16.801051719184652},45.334308795779378,67.195098437633902,83.996150156818558,null,{"$f":"'Baggrundstabeller for alle land'!V55","v":"Sverige"},27,{"$f":"'Baggrundstabeller for alle land'!X55","v":38.670414009608315},{"$f":"'Baggrundstabeller for alle land'!Y55","v":21.860789641854513},{"$f":"'Baggrundstabeller for alle land'!Z55","v":15.133671572486016},38.670414009608315,60.531203651462832,75.664875223948854]
[null,null,null,{"$f":"'Baggrundstabeller for alle land'!D55","v":"Sverige"},27,{"$f":"'Baggrundstabeller for alle land'!F55","v":76.416321450087935},{"$f":"'Baggrundstabeller for alle land'!G55","v":21.86105753712231},{"$f":"'Baggrundstabeller for alle land'!H55","v":24.567871322829728},76.416321450087935,98.277378987210241,122.84525031003997,null,{"$f":"'Baggrundstabeller for alle land'!M56","v":"UK"},28,{"$f":"'Baggrundstabeller for alle land'!O56","v":39.191202410183855},{"$f":"'Baggrundstabeller for alle land'!P56","v":0},{"$f":"'Baggrundstabeller for alle land'!Q56","v":1.96126125545963},39.191202410183855,39.191202410183855,41.152463665643488,null,{"$f":"'Baggrundstabeller for alle land'!V56","v":"UK"},28,{"$f":"'Baggrundstabeller for alle land'!X56","v":36.094333114580337},{"$f":"'Baggrundstabeller for alle land'!Y56","v":0},{"$f":"'Baggrundstabeller for alle land'!Z56","v":1.8238309830855306},36.094333114580337,36.094333114580337,37.918164097665866]
[null,null,null,"Level 1",null,null,null,null,null,null,null,null,"Level 1",null,null,null,null,null,null,null,null,"Level 1"]
[null,null,null,"Level 2",null,null,null,null,null,null,null,null,"Level 2",null,null,null,null,null,null,null,null,"Level 2"]
[null,null,null,"Level 3",null,null,null,null,null,null,null,null,"Level 3",null,null,null,null,null,null,null,null,"Level 3"]

{"sheet":"Baggrundstabeller for alle land","index":3,"n_rows":142,"n_cols":29,"rows_kept":142,"cut":false,"hidden":false,"merged":[[27,3,27,8],[103,21,103,25],[124,7,124,15],[4,3,4,7],[122,7,122,15],[113,3,113,5],[71,12,71,19],[59,12,59,16],[57,3,57,5],[58,3,58,6],[103,12,103,16],[103,3,103,7],[27,12,27,19],[27,21,27,28],[101,12,101,14],[102,12,102,15],[101,21,101,23],[101,3,101,5],[102,3,102,6],[57,12,57,14],[58,12,58,15],[71,3,71,10],[59,3,59,7],[71,21,71,28],[57,21,57,23],[58,21,58,24],[59,21,59,25],[102,21,102,24]]}
[null,null,null,"NAVN PÅ ARK:",null,"Baggrundstabeller for alle lande, valgt år"]
[null,null,null,"Data hentes fra:",null,"'Level 1', 'Level 2', Level 3', 'Afgifter og moms' og 'Baggrundsdata -HICP-deflator'"]
[]
[null,null,null,"Sådan bruges arket:"]
[null,null,null,"Arket 'Baggrundstabeller for alle lande, valgt år' skal give et indblik i hvordan de grå-blå resultatfigurer og -tabeller i arket 'Alle lande, valgt år' fremkommer. Værdierne i resultattabellerne er ens for de to ark, men i dette ark ses udregningen. \n\nNedenstående resultattabeller (de grå-blå) viser gasprisen for industrielle forbrugere opdelt på level 1, 2 og 3 for hvert forbrugsintervalinterval. Prisen vises for alle lande i det valgte år.\n\nResultattabellerne er fremkommet ved at gange tabel A, B, C og D sammen. Disse tabeller ses under resultattabellerne. Taballerne A, B, C og D er et resultat af valgene truffet i rullemenuerne i arket 'Alle lande, valgt år', disse valg kan ses i de farvede kasser nedenfor.\n\nHvis år, pristype, basiså, valuta eller enhed ønskes ændret, gøres det i arket 'Alle lande, valgt år'.\n\n"]
[]
[]
[]
[]
[]
[null,null,null,{"$f":"\"Valg truffet i arket: \"&'Baggrundstabeller for alle land'!F1","v":"Valg truffet i arket: Baggrundstabeller for alle lande, valgt år"}]
[null,null,null,"Valgt år",null,{"$f":"'Alle lande, valgt år'!F12","v":2016}]
[null,null,null,"Valgt pristype",null,{"$f":"'Alle lande, valgt år'!F13","v":"faste priser"}]
[null,null,null,"Valgt basisår",null,{"$f":"'Alle lande, valgt år'!F14","v":2016}]
[null,null,null,"Valgt valuta",null,{"$f":"'Alle lande, valgt år'!F15","v":"DKK øre"}]
[null,null,null,"Valgt enhed",null,{"$f":"'Alle lande, valgt år'!F16","v":"kwh"}]
[]
[]
[]
[]
[null,null,null,"Resultattabeller:"]
[null,null,null,"Valgene truffet ovenfor giver tabeller og figurer der er:"]
[null,null,null,{"$f":"\"Oppgjort for året \"&F12&\" i \"&$F$13&\" med basisår \"&$F$14","v":"Oppgjort for året 2016 i faste priser med basisår 2016"}]
[null,null,null,{"$f":"\"Vist i \"&F15&\" / \"&F16&\".\"","v":"Vist i DKK øre / kwh."}]
[]
[]
[null,null,null,{"$f":"\"Tal hentet for år \"&'Alle lande, valgt år'!F12","v":"Tal hentet for år 2016"}]
[null,null,null,"IA: < 20 GJ",null,null,null,null,null,null,null,null,"IB: 20 < 200 GJ",null,null,null,null,null,null,null,null,"IC: > 200 GJ"]
[]
[null,null,null,{"$f":"'Alle lande, valgt år'!$F$15&\" / \"&'Alle lande, valgt år'!$F$16&\" år \"&'Alle lande, valgt år'!$F$12","v":"DKK øre / kwh år 2016"},null,"Gaspris","Afgifter","Moms",null,null,null,null,{"$f":"'Alle lande, valgt år'!$F$15&\" / \"&'Alle lande, valgt år'!$F$16&\" år \"&'Alle lande, valgt år'!$F$12","v":"DKK øre / kwh år 2016"},null,"Gaspris","Afgifter","Moms",null,null,null,null,{"$f":"'Alle lande, valgt år'!$F$15&\" / \"&'Alle lande, valgt år'!$F$16&\" år \"&'Alle lande, valgt år'!$F$12","v":"DKK øre / kwh år 2016"},null,"Gaspris","Afgifter","Moms"]
[null,null,null,{"$f":"D75","v":"EU-28"},null,{"$f":"IFERROR(F75/$F117*$H$117*$M$117,\"*\")","v":53.92731740527578},{"$f":"IFERROR(G75/$F117*$H$117*$M$117,\"*\")","v":5.4918529896083159},8.7601752565947226,null,null,{"$f":"SUM(F31:H31)","v":68.179345651478826},null,{"$f":"M75","v":"EU-28"},null,{"$f":"IFERROR(O75/$F117*$H$117*$M$117,\"*\")","v":34.82638481215028},{"$f":"IFERROR(P75/$F117*$H$117*$M$117,\"*\")","v":5.1703786682653865},6.241959739408478,null,null,{"$f":"SUM(O31:Q31)","v":46.238723219824145},null,{"$f":"V75","v":"EU-28"},null,{"$f":"IFERROR(X75/$F117*$H$117*$M$117,\"*\")","v":31.075851063149479},{"$f":"IFERROR(Y75/$F117*$H$117*$M$117,\"*\")","v":5.3311158289368512},6.0812225787370098,null,null,{"$f":"SUM(X31:Z31)","v":42.488189470823343}]
[null,null,null,"Belgien",null,{"$f":"IFERROR(F76/$F118*$H$117*$M$117,\"*\")","v":42.434610417266185},3.8844813828936831,9.5906505867306215,null,null,55.909742386890485,null,"Belgien",null,{"$f":"IFERROR(O76/$F118*$H$117*$M$117,\"*\")","v":30.88832437569944},2.8664793653077547,6.9384874356514787,null,null,40.693291176658676,null,"Belgien",null,{"$f":"IFERROR(X76/$F118*$H$117*$M$117,\"*\")","v":28.182582171063149},2.4110574100719435,6.1615911590727439,null,null,36.755230740207836]
[null,null,null,"Bulgarien",null,{"$f":"IFERROR(F77/$F119*$H$117*$M$117,\"*\")","v":24.148615228745005},0,4.8352416882653877,null,null,28.983856917010392,null,"Bulgarien",null,{"$f":"IFERROR(O77/$F119*$H$117*$M$117,\"*\")","v":22.820122595795365},0,4.5748474879776202,null,null,27.394970083772986,null,"Bulgarien",null,{"$f":"IFERROR(X77/$F119*$H$117*$M$117,\"*\")","v":22.641972242717827},0,4.5338595120063925,null,null,27.175831754724221]
[null,null,null,"Tjekkiet",null,{"$f":"IFERROR(F78/$F120*$H$117*$M$117,\"*\")","v":56.776115682909676},0,11.922678892805751,null,null,68.698794575715425,null,"Tjekkiet",null,{"$f":"IFERROR(O78/$F120*$H$117*$M$117,\"*\")","v":35.839832610183855},0,7.5267854437090316,null,null,43.366618053892886,null,"Tjekkiet",null,{"$f":"IFERROR(X78/$F120*$H$117*$M$117,\"*\")","v":33.430382571718624},0,7.0204633875939289,null,null,40.450845959312552]
[null,null,null,"Danmark",null,{"$f":"IFERROR(F79/$F121*$H$117*$M$117,\"*\")","v":21.288029559328539},21.39572345697842,10.669196934836135,null,null,53.352949951143096,null,"Danmark",null,{"$f":"IFERROR(O79/$F121*$H$117*$M$117,\"*\")","v":21.288029559328539},21.39572345697842,10.669196934836135,null,null,53.352949951143096,null,"Danmark",null,{"$f":"IFERROR(X79/$F121*$H$117*$M$117,\"*\")","v":21.288029559328539},21.39572345697842,10.669196934836135,null,null,53.352949951143096]
[null,null,null,"Tyskland",null,{"$f":"IFERROR(F80/$F122*$H$117*$M$117,\"*\")","v":62.017754492406077},6.241959739408478,12.966130960831336,null,null,81.225845192645892,null,"Tyskland",null,{"$f":"IFERROR(O80/$F122*$H$117*$M$117,\"*\")","v":36.915967900879295},4.4202719184652297,7.8493313461231002,null,null,49.185571165467628,null,"Tyskland",null,{"$f":"IFERROR(X80/$F122*$H$117*$M$117,\"*\")","v":33.728014214228615},4.4202719184652297,7.2599617569944019,null,null,45.408247889688248]
[null,null,null,"Estland",null,{"$f":"IFERROR(F81/$F123*$H$117*$M$117,\"*\")","v":26.521631510791369},2.6521631510791375,5.8401168377298154,null,null,35.013911499600319,null,"Estland",null,{"$f":"IFERROR(O81/$F123*$H$117*$M$117,\"*\")","v":24.753522743405277},2.6521631510791375,5.4918529896083106,null,null,32.897538884092725,null,"Estland",null,{"$f":"IFERROR(X81/$F123*$H$117*$M$117,\"*\")","v":22.985413976019188},2.6521631510791375,5.116799614708234,null,null,30.75437674180656]
[null,null,null,"Irland",null,{"$f":"IFERROR(F82/$F124*$H$117*$M$117,\"*\")","v":45.086773568345322},2.7593212581934483,6.4562759536370917,null,null,54.302370780175856,null,"Irland",null,{"$f":"IFERROR(O82/$F124*$H$117*$M$117,\"*\")","v":40.023553007194245},2.732531731414872,5.786537784172662,null,null,48.542622522781784,null,"Irland",null,{"$f":"IFERROR(X82/$F124*$H$117*$M$117,\"*\")","v":37.157073641886491},2.7593212581934483,5.3846948824940046,null,null,45.301089782573939]
[null,null,null,"Grækenland",null,{"$f":"IFERROR(F83/$F125*$H$117*$M$117,\"*\")","v":40.318237801758592},4.2327452310151834,5.759748257394091,null,null,50.310731290167865,null,"Grækenland",null,{"$f":"IFERROR(O83/$F125*$H$117*$M$117,\"*\")","v":32.897538884092725},4.2863242845723466,4.8221148201438826,null,null,42.005977988808951,null,"Grækenland",null,{"$f":"IFERROR(X83/$F125*$H$117*$M$117,\"*\")","v":31.933115920063948},4.3934823916866526,4.6881671862509995,null,null,41.014765498001601]
[null,null,null,"Spanien",null,{"$f":"IFERROR(F84/$F126*$H$117*$M$117,\"*\")","v":51.194785673860913},1.74131924060752,11.117653613109511,null,null,64.053758527577941,null,"Spanien",null,{"$f":"IFERROR(O84/$F126*$H$117*$M$117,\"*\")","v":39.916394900079943},1.7413192406075149,8.7601752565947226,null,null,50.417889397282181,null,"Spanien",null,{"$f":"IFERROR(X84/$F126*$H$117*$M$117,\"*\")","v":32.790380776978424},1.7413192406075149,7.2599617569944019,null,null,41.791661774580341]
[null,null,null,"Frankrig",null,{"$f":"IFERROR(F85/$F127*$H$117*$M$117,\"*\")","v":76.564467533173456},8.1440161406874587,10.689021184652274,null,null,95.397504858513187,null,"Frankrig",null,{"$f":"IFERROR(O85/$F127*$H$117*$M$117,\"*\")","v":37.398179382893687},3.9648499632294132,6.9920664892086366,null,null,48.355095835331738,null,"Frankrig",null,{"$f":"IFERROR(X85/$F127*$H$117*$M$117,\"*\")","v":31.397325384492408},2.893268892086331,6.5366445339728205,null,null,40.827238810551556]
[null,null,null,"Kroatien",null,{"$f":"IFERROR(F86/$F128*$H$117*$M$117,\"*\")","v":30.613463830951243},0,7.6534999053717021,null,null,38.266963736322943,null,"Kroatien",null,{"$f":"IFERROR(O86/$F128*$H$117*$M$117,\"*\")","v":25.511398455971225},0,6.3777826401758624,null,null,31.889181096147087,null,"Kroatien",null,{"$f":"IFERROR(X86/$F128*$H$117*$M$117,\"*\")","v":24.154241029368507},0,6.041306183836932,null,null,30.195547213205437]
[null,null,null,"Italien",null,{"$f":"IFERROR(F87/$F129*$H$117*$M$117,\"*\")","v":51.194785673860913},7.9832789800159887,8.8137543101518769,null,null,67.991818964028781,null,"Italien",null,{"$f":"IFERROR(O87/$F129*$H$117*$M$117,\"*\")","v":35.255017240607515},11.412338407673866,7.7689627657873661,null,null,54.436318414068744,null,"Italien",null,{"$f":"IFERROR(X87/$F129*$H$117*$M$117,\"*\")","v":29.68279567066347},13.314394808952841,9.2155972118305289,null,null,52.212787691446835]
[null,null,null,"Letland",null,{"$f":"IFERROR(F88/$F130*$H$117*$M$117,\"*\")","v":41.657714140687453},1.2858972853717039,9.0280705243804888,null,null,51.971681950439645,null,"Letland",null,{"$f":"IFERROR(O88/$F130*$H$117*$M$117,\"*\")","v":24.780312270183856},1.2858972853717039,5.4918529896083106,null,null,31.558062545163871,null,"Letland",null,{"$f":"IFERROR(X88/$F130*$H$117*$M$117,\"*\")","v":24.780312270183856},1.2858972853717039,5.4650634628297343,null,null,31.531273018385292]
[null,null,null,"Litaun",null,{"$f":"IFERROR(F89/$F131*$H$117*$M$117,\"*\")","v":45.917248898481219},0,9.6442296402877652,null,null,55.561478538768981,null,"Litaun",null,{"$f":"IFERROR(O89/$F131*$H$117*$M$117,\"*\")","v":25.396471386091129},0,5.3311158289368512,null,null,30.727587215027981,null,"Litaun",null,{"$f":"IFERROR(X89/$F131*$H$117*$M$117,\"*\")","v":25.396471386091129},0,5.3311158289368512,null,null,30.727587215027981]
[null,null,null,"luxembourg",null,{"$f":"IFERROR(F90/$F132*$H$117*$M$117,\"*\")","v":34.558489544364512},1.4198449192645868,3.1343746330935254,null,null,39.112709096722625,null,"luxembourg",null,{"$f":"IFERROR(O90/$F132*$H$117*$M$117,\"*\")","v":29.254163242206236},1.6877401870503619,2.8664793653077503,null,null,33.808382794564352,null,"luxembourg",null,{"$f":"IFERROR(X90/$F132*$H$117*$M$117,\"*\")","v":29.361321349320548},1.7413192406075102,2.9200584188649077,null,null,34.022699008792962]
[null,null,null,"Ungarn",null,{"$f":"IFERROR(F91/$F133*$H$117*$M$117,\"*\")","v":20.717412638944843},0,5.5936531913669096,null,null,26.311065830311755,null,"Ungarn",null,{"$f":"IFERROR(O91/$F133*$H$117*$M$117,\"*\")","v":20.168763130519586},0,5.4455071082813733,null,null,25.614270238800959,null,"Ungarn",null,{"$f":"IFERROR(X91/$F133*$H$117*$M$117,\"*\")","v":20.176264198017584},0,5.4476502704236616,null,null,25.623914468441246]
[null,null,null,"Holland",null,{"$f":"IFERROR(F92/$F134*$H$117*$M$117,\"*\")","v":46.80130328217426},20.038566030375701,14.037712031974426,null,null,80.877581344524387,null,"Holland",null,{"$f":"IFERROR(O92/$F134*$H$117*$M$117,\"*\")","v":27.887897376498803},20.038566030375701,10.072862068745,null,null,57.9993254756195,null,"Holland",null,{"$f":"IFERROR(X92/$F134*$H$117*$M$117,\"*\")","v":23.842678832933657},20.011776503597122,9.2155972118305289,null,null,53.070052548361303]
[null,null,null,"Østrig",null,{"$f":"IFERROR(F93/$F135*$H$117*$M$117,\"*\")","v":47.631778612310157},5.2775367753796942,10.635442131095122,null,null,63.544757518784976,null,"Østrig",null,{"$f":"IFERROR(O93/$F135*$H$117*$M$117,\"*\")","v":37.666074650679455},5.116799614708234,8.5726485691446879,null,null,51.35552283453238,null,"Østrig",null,{"$f":"IFERROR(X93/$F135*$H$117*$M$117,\"*\")","v":31.986694973621102},5.009641507593928,7.4206989176658613,null,null,44.417035398880891]
[null,null,null,"Polen",null,{"$f":"IFERROR(F94/$F136*$H$117*$M$117,\"*\")","v":34.382482353429261},0,7.9104114671782577,null,null,42.292893820607517,null,"Polen",null,{"$f":"IFERROR(O94/$F136*$H$117*$M$117,\"*\")","v":23.688103263421265},6.1615911590726579E-3,5.4514008041726632,null,null,29.145665658753003,null,"Polen",null,{"$f":"IFERROR(X94/$F136*$H$117*$M$117,\"*\")","v":21.934460840495603},0.22690729181454777,5.101797479712233,null,null,27.263165612022384]
[null,null,null,"Portugal",null,{"$f":"IFERROR(F95/$F137*$H$117*$M$117,\"*\")","v":62.955387929656276},3.6701651686650711,15.32360931734612,null,null,81.949162415667473,null,"Portugal",null,{"$f":"IFERROR(O95/$F137*$H$117*$M$117,\"*\")","v":51.918102896882495},3.2951117937649892,12.69823569304557,null,null,67.911450383693051,null,"Portugal",null,{"$f":"IFERROR(X95/$F137*$H$117*$M$117,\"*\")","v":50.498257977617911},3.268322266986408,12.37676137170264,null,null,66.143341616306955]
[null,null,null,"Rumænien",null,{"$f":"IFERROR(F96/$F138*$H$117*$M$117,\"*\")","v":13.294838454404475},6.888926811111113,4.8448859179056765,null,null,25.028651183421267,null,"Rumænien",null,{"$f":"IFERROR(O96/$F138*$H$117*$M$117,\"*\")","v":13.169731364348523},6.7994497916706642,4.7913068643485186,null,null,24.76048802036771,null,"Rumænien",null,{"$f":"IFERROR(X96/$F138*$H$117*$M$117,\"*\")","v":12.812359077122304},6.2033828208473221,4.5646674678017565,null,null,23.580409365771381]
[null,null,null,"Slovenien",null,{"$f":"IFERROR(F97/$F139*$H$117*$M$117,\"*\")","v":37.371389856115108},4.8489043469224633,9.2691762653876886,null,null,51.489470468425253,null,"Slovenien",null,{"$f":"IFERROR(O97/$F139*$H$117*$M$117,\"*\")","v":31.71879970583533},4.8489043469224633,8.0368580335731377,null,null,44.60456208633093,null,"Slovenien",null,{"$f":"IFERROR(X97/$F139*$H$117*$M$117,\"*\")","v":28.745162233413271},4.8489043469224589,7.3939093908872939,null,null,40.987975971223022]
[null,null,null,"Slovakiet",null,{"$f":"IFERROR(F98/$F140*$H$117*$M$117,\"*\")","v":62.714282188649079},0,12.537498532374102,null,null,75.251780721023181,null,"Slovakiet",null,{"$f":"IFERROR(O98/$F140*$H$117*$M$117,\"*\")","v":28.530846019184658},0,5.7061692038369278,null,null,34.237015223021587,null,"Slovakiet",null,{"$f":"IFERROR(X98/$F140*$H$117*$M$117,\"*\")","v":30.004269992006396},0,6.0008539984012801,null,null,36.005123990407675]
[null,null,null,"Sverige",null,{"$f":"IFERROR(F99/$F141*$H$117*$M$117,\"*\")","v":76.416321450087935},21.86105753712231,24.567871322829728,null,null,122.84525031003997,null,"Sverige",null,{"$f":"IFERROR(O99/$F141*$H$117*$M$117,\"*\")","v":45.334308795779378},21.860789641854517,16.801051719184652,null,null,83.996150156818558,null,"Sverige",null,{"$f":"IFERROR(X99/$F141*$H$117*$M$117,\"*\")","v":38.670414009608315},21.860789641854513,15.133671572486016,null,null,75.664875223948854]
[null,null,null,"UK",null,{"$f":"IFERROR(F100/$F142*$H$117*$M$117,\"*\")","v":53.952499560447642},0,2.7180653869544402,null,null,56.670564947402084,null,"UK",null,{"$f":"IFERROR(O100/$F142*$H$117*$M$117,\"*\")","v":39.191202410183855},0,1.96126125545963,null,null,41.152463665643488,null,"UK",null,{"$f":"IFERROR(X100/$F142*$H$117*$M$117,\"*\")","v":36.094333114580337},0,1.8238309830855306,null,null,37.918164097665866]
[]
[null,null,null,"Level 1",null,null,null,null,null,null,null,null,"Level 1",null,null,null,null,null,null,null,null,"Level 1"]
[null,null,null,"Level 2",null,null,null,null,null,null,null,null,"Level 2",null,null,null,null,null,null,null,null,"Level 2"]
[null,null,null,"Level 3",null,null,null,null,null,null,null,null,"Level 3",null,null,null,null,null,null,null,null,"Level 3"]
[]
[]
[]
[]
[null,null,null,"Baggrundstabeller"]
[]
[null,null,null,"Tabel A"]
[null,null,null,"Nedenstående  tabeller (de orange) henter data fra 'Level 1' og 'Afgifter og moms', der hentes data fra det år der er valgt i valgmenuen øverst. Priserne vises i original enheden i Eurostat EURO / GJ."]
[null,null,null,"'Gaspris inkl. PSO, eksl. afgifter' udgør level 1 prisen. 'Ikke refundrebare afgifter' svarer til level 2 prisen fratrukket level 1 prisen. 'Ikke refunderbare afgifter' er level 3 prisen fratrukket level 2 prisen. Beregningen er foretaget i arket \"Afgifter og moms\"."]
[]
[null,null,null,{"$f":"\"Data er hentet for år \"&'Alle lande, valgt år'!F12","v":"Data er hentet for år 2016"}]
[null,null,null,{"$f":"D28","v":"IA: < 20 GJ"},null,null,null,null,null,null,null,null,{"$f":"M28","v":"IB: 20 < 200 GJ"},null,null,null,null,null,null,null,null,{"$f":"V28","v":"IC: > 200 GJ"}]
[]
[null,null,null,{"$f":"\"Euro/GJ år \"&'Alle lande, valgt år'!$F$12","v":"Euro/GJ år 2016"},null,"Gaspris","Afgifter","Moms",null,null,null,null,{"$f":"'Alle lande, valgt år'!$F$15&\" / \"&'Alle lande, valgt år'!$F$16&\" år \"&'Alle lande, valgt år'!$F$12","v":"DKK øre / kwh år 2016"},null,"Gaspris","Afgifter","Moms",null,null,null,null,{"$f":"\"Euro/GJ år \"&'Alle lande, valgt år'!$F$12","v":"Euro/GJ år 2016"},null,"Gaspris","Afgifter","Moms"]
[null,null,null,{"$f":"'Oversættelse af landenavne'!$B6","v":"EU-28"},null,{"$f":"HLOOKUP('Alle lande, valgt år'!$F$12,'Level 1'!$A$5:$L$32,'Oversættelse af landenavne'!$C6,FALSE)","v":20.13},{"$f":"HLOOKUP('Alle lande, valgt år'!$F$12,'Afgifter og moms'!$A$5:$L$31,'Oversættelse af landenavne'!$C6,FALSE)","v":2.0500000000000007},{"$f":"HLOOKUP('Alle lande, valgt år'!$F$12,'Afgifter og moms'!$A$38:$L$64,'Oversættelse af landenavne'!$C6,FALSE)","v":3.2699999999999996},null,null,null,null,{"$f":"'Oversættelse af landenavne'!$B6","v":"EU-28"},null,{"$f":"HLOOKUP('Alle lande, valgt år'!$F$12,'Level 1'!$O$5:$Y$32,'Oversættelse af landenavne'!$C6,FALSE)","v":13},{"$f":"HLOOKUP('Alle lande, valgt år'!$F$12,'Afgifter og moms'!$O$5:$Y$31,'Oversættelse af landenavne'!$C6,FALSE)","v":1.9299999999999997},{"$f":"HLOOKUP('Alle lande, valgt år'!$F$12,'Afgifter og moms'!$O$38:$Y$64,'Oversættelse af landenavne'!$C6,FALSE)","v":2.3300000000000018},null,null,null,null,{"$f":"'Oversættelse af landenavne'!$B6","v":"EU-28"},null,{"$f":"HLOOKUP('Alle lande, valgt år'!$F$12,'Level 1'!$AA$5:$AL$32,'Oversættelse af landenavne'!$C6,FALSE)","v":11.6},{"$f":"HLOOKUP('Alle lande, valgt år'!$F$12,'Afgifter og moms'!$AB$5:$AL$31,'Oversættelse af landenavne'!$C6,FALSE)","v":1.9900000000000002},{"$f":"HLOOKUP('Alle lande, valgt år'!$F$12,'Afgifter og moms'!$AB$38:$AL$64,'Oversættelse af landenavne'!$C6,FALSE)","v":2.2699999999999996}]
[null,null,null,{"$f":"'Oversættelse af landenavne'!$B7","v":"Belgien"},null,{"$f":"HLOOKUP('Alle lande, valgt år'!$F$12,'Level 1'!$A$5:$L$32,'Oversættelse af landenavne'!$C7,FALSE)","v":15.84},{"$f":"HLOOKUP('Alle lande, valgt år'!$F$12,'Afgifter og moms'!$A$5:$L$31,'Oversættelse af landenavne'!$C7,FALSE)","v":1.4499999999999993},{"$f":"HLOOKUP('Alle lande, valgt år'!$F$12,'Afgifter og moms'!$A$38:$L$64,'Oversættelse af landenavne'!$C7,FALSE)","v":3.5800000000000018},null,null,null,null,{"$f":"'Oversættelse af landenavne'!$B7","v":"Belgien"},null,{"$f":"HLOOKUP('Alle lande, valgt år'!$F$12,'Level 1'!$O$5:$Y$32,'Oversættelse af landenavne'!$C7,FALSE)","v":11.53},{"$f":"HLOOKUP('Alle lande, valgt år'!$F$12,'Afgifter og moms'!$O$5:$Y$31,'Oversættelse af landenavne'!$C7,FALSE)","v":1.0700000000000003},{"$f":"HLOOKUP('Alle lande, valgt år'!$F$12,'Afgifter og moms'!$O$38:$Y$64,'Oversættelse af landenavne'!$C7,FALSE)","v":2.59},null,null,null,null,{"$f":"'Oversættelse af landenavne'!$B7","v":"Belgien"},null,{"$f":"HLOOKUP('Alle lande, valgt år'!$F$12,'Level 1'!$AA$5:$AL$32,'Oversættelse af landenavne'!$C7,FALSE)","v":10.52},{"$f":"HLOOKUP('Alle lande, valgt år'!$F$12,'Afgifter og moms'!$AB$5:$AL$31,'Oversættelse af landenavne'!$C7,FALSE)","v":0.90000000000000036},{"$f":"HLOOKUP('Alle lande, valgt år'!$F$12,'Afgifter og moms'!$AB$38:$AL$64,'Oversættelse af landenavne'!$C7,FALSE)","v":2.3000000000000007}]
[null,null,null,{"$f":"'Oversættelse af landenavne'!$B8","v":"Bulgarien"},null,{"$f":"HLOOKUP('Alle lande, valgt år'!$F$12,'Level 1'!$A$5:$L$32,'Oversættelse af landenavne'!$C8,FALSE)","v":9.0142000000000007},{"$f":"HLOOKUP('Alle lande, valgt år'!$F$12,'Afgifter og moms'!$A$5:$L$31,'Oversættelse af landenavne'!$C8,FALSE)","v":0},{"$f":"HLOOKUP('Alle lande, valgt år'!$F$12,'Afgifter og moms'!$A$38:$L$64,'Oversættelse af landenavne'!$C8,FALSE)","v":1.8048999999999999},null,null,null,null,{"$f":"'Oversættelse af landenavne'!$B8","v":"Bulgarien"},null,{"$f":"HLOOKUP('Alle lande, valgt år'!$F$12,'Level 1'!$O$5:$Y$32,'Oversættelse af landenavne'!$C8,FALSE)","v":8.5183},{"$f":"HLOOKUP('Alle lande, valgt år'!$F$12,'Afgifter og moms'!$O$5:$Y$31,'Oversættelse af landenavne'!$C8,FALSE)","v":0},{"$f":"HLOOKUP('Alle lande, valgt år'!$F$12,'Afgifter og moms'!$O$38:$Y$64,'Oversættelse af landenavne'!$C8,FALSE)","v":1.7077000000000009},null,null,null,null,{"$f":"'Oversættelse af landenavne'!$B8","v":"Bulgarien"},null,{"$f":"HLOOKUP('Alle lande, valgt år'!$F$12,'Level 1'!$AA$5:$AL$32,'Oversættelse af landenavne'!$C8,FALSE)","v":8.4518000000000004},{"$f":"HLOOKUP('Alle lande, valgt år'!$F$12,'Afgifter og moms'!$AB$5:$AL$31,'Oversættelse af landenavne'!$C8,FALSE)","v":0},{"$f":"HLOOKUP('Alle lande, valgt år'!$F$12,'Afgifter og moms'!$AB$38:$AL$64,'Oversættelse af landenavne'!$C8,FALSE)","v":1.6923999999999992}]
[null,null,null,{"$f":"'Oversættelse af landenavne'!$B9","v":"Tjekkiet"},null,{"$f":"HLOOKUP('Alle lande, valgt år'!$F$12,'Level 1'!$A$5:$L$32,'Oversættelse af landenavne'!$C9,FALSE)","v":21.1934},{"$f":"HLOOKUP('Alle lande, valgt år'!$F$12,'Afgifter og moms'!$A$5:$L$31,'Oversættelse af landenavne'!$C9,FALSE)","v":0},{"$f":"HLOOKUP('Alle lande, valgt år'!$F$12,'Afgifter og moms'!$A$38:$L$64,'Oversættelse af landenavne'!$C9,FALSE)","v":4.4504999999999981},null,null,null,null,{"$f":"'Oversættelse af landenavne'!$B9","v":"Tjekkiet"},null,{"$f":"HLOOKUP('Alle lande, valgt år'!$F$12,'Level 1'!$O$5:$Y$32,'Oversættelse af landenavne'!$C9,FALSE)","v":13.378299999999999},{"$f":"HLOOKUP('Alle lande, valgt år'!$F$12,'Afgifter og moms'!$O$5:$Y$31,'Oversættelse af landenavne'!$C9,FALSE)","v":0},{"$f":"HLOOKUP('Alle lande, valgt år'!$F$12,'Afgifter og moms'!$O$38:$Y$64,'Oversættelse af landenavne'!$C9,FALSE)","v":2.8095999999999997},null,null,null,null,{"$f":"'Oversættelse af landenavne'!$B9","v":"Tjekkiet"},null,{"$f":"HLOOKUP('Alle lande, valgt år'!$F$12,'Level 1'!$AA$5:$AL$32,'Oversættelse af landenavne'!$C9,FALSE)","v":12.478899999999999},{"$f":"HLOOKUP('Alle lande, valgt år'!$F$12,'Afgifter og moms'!$AB$5:$AL$31,'Oversættelse af landenavne'!$C9,FALSE)","v":0},{"$f":"HLOOKUP('Alle lande, valgt år'!$F$12,'Afgifter og moms'!$AB$38:$AL$64,'Oversættelse af landenavne'!$C9,FALSE)","v":2.6206000000000014}]
[null,null,null,{"$f":"'Oversættelse af landenavne'!$B10","v":"Danmark"},null,{"$f":"HLOOKUP('Alle lande, valgt år'!$F$12,'Level 1'!$A$5:$L$32,'Oversættelse af landenavne'!$C10,FALSE)","v":7.9463999999999997},{"$f":"HLOOKUP('Alle lande, valgt år'!$F$12,'Afgifter og moms'!$A$5:$L$31,'Oversættelse af landenavne'!$C10,FALSE)","v":7.9866000000000001},{"$f":"HLOOKUP('Alle lande, valgt år'!$F$12,'Afgifter og moms'!$A$38:$L$64,'Oversættelse af landenavne'!$C10,FALSE)","v":3.9826000000000015},null,null,null,null,{"$f":"'Oversættelse af landenavne'!$B10","v":"Danmark"},null,{"$f":"HLOOKUP('Alle lande, valgt år'!$F$12,'Level 1'!$O$5:$Y$32,'Oversættelse af landenavne'!$C10,FALSE)","v":7.9463999999999997},{"$f":"HLOOKUP('Alle lande, valgt år'!$F$12,'Afgifter og moms'!$O$5:$Y$31,'Oversættelse af landenavne'!$C10,FALSE)","v":7.9866000000000001},{"$f":"HLOOKUP('Alle lande, valgt år'!$F$12,'Afgifter og moms'!$O$38:$Y$64,'Oversættelse af landenavne'!$C10,FALSE)","v":3.9826000000000015},null,null,null,null,{"$f":"'Oversættelse af landenavne'!$B10","v":"Danmark"},null,{"$f":"HLOOKUP('Alle lande, valgt år'!$F$12,'Level 1'!$AA$5:$AL$32,'Oversættelse af landenavne'!$C10,FALSE)","v":7.9463999999999997},{"$f":"HLOOKUP('Alle lande, valgt år'!$F$12,'Afgifter og moms'!$AB$5:$AL$31,'Oversættelse af landenavne'!$C10,FALSE)","v":7.9866000000000001},{"$f":"HLOOKUP('Alle lande, valgt år'!$F$12,'Afgifter og moms'!$AB$38:$AL$64,'Oversættelse af landenavne'!$C10,FALSE)","v":3.9826000000000015}]
[null,null,null,{"$f":"'Oversættelse af landenavne'!$B11","v":"Tyskland"},null,{"$f":"HLOOKUP('Alle lande, valgt år'!$F$12,'Level 1'!$A$5:$L$32,'Oversættelse af landenavne'!$C11,FALSE)","v":23.15},{"$f":"HLOOKUP('Alle lande, valgt år'!$F$12,'Afgifter og moms'!$A$5:$L$31,'Oversættelse af landenavne'!$C11,FALSE)","v":2.3300000000000018},{"$f":"HLOOKUP('Alle lande, valgt år'!$F$12,'Afgifter og moms'!$A$38:$L$64,'Oversættelse af landenavne'!$C11,FALSE)","v":4.84},null,null,null,null,{"$f":"'Oversættelse af landenavne'!$B11","v":"Tyskland"},null,{"$f":"HLOOKUP('Alle lande, valgt år'!$F$12,'Level 1'!$O$5:$Y$32,'Oversættelse af landenavne'!$C11,FALSE)","v":13.78},{"$f":"HLOOKUP('Alle lande, valgt år'!$F$12,'Afgifter og moms'!$O$5:$Y$31,'Oversættelse af landenavne'!$C11,FALSE)","v":1.6500000000000004},{"$f":"HLOOKUP('Alle lande, valgt år'!$F$12,'Afgifter og moms'!$O$38:$Y$64,'Oversættelse af landenavne'!$C11,FALSE)","v":2.9299999999999997},null,null,null,null,{"$f":"'Oversættelse af landenavne'!$B11","v":"Tyskland"},null,{"$f":"HLOOKUP('Alle lande, valgt år'!$F$12,'Level 1'!$AA$5:$AL$32,'Oversættelse af landenavne'!$C11,FALSE)","v":12.59},{"$f":"HLOOKUP('Alle lande, valgt år'!$F$12,'Afgifter og moms'!$AB$5:$AL$31,'Oversættelse af landenavne'!$C11,FALSE)","v":1.6500000000000004},{"$f":"HLOOKUP('Alle lande, valgt år'!$F$12,'Afgifter og moms'!$AB$38:$AL$64,'Oversættelse af landenavne'!$C11,FALSE)","v":2.7099999999999991}]
[null,null,null,{"$f":"'Oversættelse af landenavne'!$B12","v":"Estland"},null,{"$f":"HLOOKUP('Alle lande, valgt år'!$F$12,'Level 1'!$A$5:$L$32,'Oversættelse af landenavne'!$C12,FALSE)","v":9.9},{"$f":"HLOOKUP('Alle lande, valgt år'!$F$12,'Afgifter og moms'!$A$5:$L$31,'Oversættelse af landenavne'!$C12,FALSE)","v":0.99000000000000021},{"$f":"HLOOKUP('Alle lande, valgt år'!$F$12,'Afgifter og moms'!$A$38:$L$64,'Oversættelse af landenavne'!$C12,FALSE)","v":2.1799999999999997},null,null,null,null,{"$f":"'Oversættelse af landenavne'!$B12","v":"Estland"},null,{"$f":"HLOOKUP('Alle lande, valgt år'!$F$12,'Level 1'!$O$5:$Y$32,'Oversættelse af landenavne'!$C12,FALSE)","v":9.24},{"$f":"HLOOKUP('Alle lande, valgt år'!$F$12,'Afgifter og moms'!$O$5:$Y$31,'Oversættelse af landenavne'!$C12,FALSE)","v":0.99000000000000021},{"$f":"HLOOKUP('Alle lande, valgt år'!$F$12,'Afgifter og moms'!$O$38:$Y$64,'Oversættelse af landenavne'!$C12,FALSE)","v":2.0499999999999989},null,null,null,null,{"$f":"'Oversættelse af landenavne'!$B12","v":"Estland"},null,{"$f":"HLOOKUP('Alle lande, valgt år'!$F$12,'Level 1'!$AA$5:$AL$32,'Oversættelse af landenavne'!$C12,FALSE)","v":8.58},{"$f":"HLOOKUP('Alle lande, valgt år'!$F$12,'Afgifter og moms'!$AB$5:$AL$31,'Oversættelse af landenavne'!$C12,FALSE)","v":0.99000000000000021},{"$f":"HLOOKUP('Alle lande, valgt år'!$F$12,'Afgifter og moms'!$AB$38:$AL$64,'Oversættelse af landenavne'!$C12,FALSE)","v":1.9100000000000001}]
[null,null,null,{"$f":"'Oversættelse af landenavne'!$B13","v":"Irland"},null,{"$f":"HLOOKUP('Alle lande, valgt år'!$F$12,'Level 1'!$A$5:$L$32,'Oversættelse af landenavne'!$C13,FALSE)","v":16.829999999999998},{"$f":"HLOOKUP('Alle lande, valgt år'!$F$12,'Afgifter og moms'!$A$5:$L$31,'Oversættelse af landenavne'!$C13,FALSE)","v":1.0300000000000011},{"$f":"HLOOKUP('Alle lande, valgt år'!$F$12,'Afgifter og moms'!$A$38:$L$64,'Oversættelse af landenavne'!$C13,FALSE)","v":2.41},null,null,null,null,{"$f":"'Oversættelse af landenavne'!$B13","v":"Irland"},null,{"$f":"HLOOKUP('Alle lande, valgt år'!$F$12,'Level 1'!$O$5:$Y$32,'Oversættelse af landenavne'!$C13,FALSE)","v":14.94},{"$f":"HLOOKUP('Alle lande, valgt år'!$F$12,'Afgifter og moms'!$O$5:$Y$31,'Oversættelse af landenavne'!$C13,FALSE)","v":1.0200000000000014},{"$f":"HLOOKUP('Alle lande, valgt år'!$F$12,'Afgifter og moms'!$O$38:$Y$64,'Oversættelse af landenavne'!$C13,FALSE)","v":2.16},null,null,null,null,{"$f":"'Oversættelse af landenavne'!$B13","v":"Irland"},null,{"$f":"HLOOKUP('Alle lande, valgt år'!$F$12,'Level 1'!$AA$5:$AL$32,'Oversættelse af landenavne'!$C13,FALSE)","v":13.87},{"$f":"HLOOKUP('Alle lande, valgt år'!$F$12,'Afgifter og moms'!$AB$5:$AL$31,'Oversættelse af landenavne'!$C13,FALSE)","v":1.0300000000000011},{"$f":"HLOOKUP('Alle lande, valgt år'!$F$12,'Afgifter og moms'!$AB$38:$AL$64,'Oversættelse af landenavne'!$C13,FALSE)","v":2.0099999999999998}]
[null,null,null,{"$f":"'Oversættelse af landenavne'!$B14","v":"Grækenland"},null,{"$f":"HLOOKUP('Alle lande, valgt år'!$F$12,'Level 1'!$A$5:$L$32,'Oversættelse af landenavne'!$C14,FALSE)","v":15.05},{"$f":"HLOOKUP('Alle lande, valgt år'!$F$12,'Afgifter og moms'!$A$5:$L$31,'Oversættelse af landenavne'!$C14,FALSE)","v":1.5799999999999983},{"$f":"HLOOKUP('Alle lande, valgt år'!$F$12,'Afgifter og moms'!$A$38:$L$64,'Oversættelse af landenavne'!$C14,FALSE)","v":2.1500000000000021},null,null,null,null,{"$f":"'Oversættelse af landenavne'!$B14","v":"Grækenland"},null,{"$f":"HLOOKUP('Alle lande, valgt år'!$F$12,'Level 1'!$O$5:$Y$32,'Oversættelse af landenavne'!$C14,FALSE)","v":12.28},{"$f":"HLOOKUP('Alle lande, valgt år'!$F$12,'Afgifter og moms'!$O$5:$Y$31,'Oversættelse af landenavne'!$C14,FALSE)","v":1.6000000000000014},{"$f":"HLOOKUP('Alle lande, valgt år'!$F$12,'Afgifter og moms'!$O$38:$Y$64,'Oversættelse af landenavne'!$C14,FALSE)","v":1.7999999999999989},null,null,null,null,{"$f":"'Oversættelse af landenavne'!$B14","v":"Grækenland"},null,{"$f":"HLOOKUP('Alle lande, valgt år'!$F$12,'Level 1'!$AA$5:$AL$32,'Oversættelse af landenavne'!$C14,FALSE)","v":11.92},{"$f":"HLOOKUP('Alle lande, valgt år'!$F$12,'Afgifter og moms'!$AB$5:$AL$31,'Oversættelse af landenavne'!$C14,FALSE)","v":1.6400000000000006},{"$f":"HLOOKUP('Alle lande, valgt år'!$F$12,'Afgifter og moms'!$AB$38:$AL$64,'Oversættelse af landenavne'!$C14,FALSE)","v":1.75}]
[null,null,null,{"$f":"'Oversættelse af landenavne'!$B15","v":"Spanien"},null,{"$f":"HLOOKUP('Alle lande, valgt år'!$F$12,'Level 1'!$A$5:$L$32,'Oversættelse af landenavne'!$C15,FALSE)","v":19.11},{"$f":"HLOOKUP('Alle lande, valgt år'!$F$12,'Afgifter og moms'!$A$5:$L$31,'Oversættelse af landenavne'!$C15,FALSE)","v":0.65000000000000213},{"$f":"HLOOKUP('Alle lande, valgt år'!$F$12,'Afgifter og moms'!$A$38:$L$64,'Oversættelse af landenavne'!$C15,FALSE)","v":4.1499999999999986},null,null,null,null,{"$f":"'Oversættelse af landenavne'!$B15","v":"Spanien"},null,{"$f":"HLOOKUP('Alle lande, valgt år'!$F$12,'Level 1'!$O$5:$Y$32,'Oversættelse af landenavne'!$C15,FALSE)","v":14.9},{"$f":"HLOOKUP('Alle lande, valgt år'!$F$12,'Afgifter og moms'!$O$5:$Y$31,'Oversættelse af landenavne'!$C15,FALSE)","v":0.65000000000000036},{"$f":"HLOOKUP('Alle lande, valgt år'!$F$12,'Afgifter og moms'!$O$38:$Y$64,'Oversættelse af landenavne'!$C15,FALSE)","v":3.2699999999999996},null,null,null,null,{"$f":"'Oversættelse af landenavne'!$B15","v":"Spanien"},null,{"$f":"HLOOKUP('Alle lande, valgt år'!$F$12,'Level 1'!$AA$5:$AL$32,'Oversættelse af landenavne'!$C15,FALSE)","v":12.24},{"$f":"HLOOKUP('Alle lande, valgt år'!$F$12,'Afgifter og moms'!$AB$5:$AL$31,'Oversættelse af landenavne'!$C15,FALSE)","v":0.65000000000000036},{"$f":"HLOOKUP('Alle lande, valgt år'!$F$12,'Afgifter og moms'!$AB$38:$AL$64,'Oversættelse af landenavne'!$C15,FALSE)","v":2.7099999999999991}]
[null,null,null,{"$f":"'Oversættelse af landenavne'!$B16","v":"Frankrig"},null,{"$f":"HLOOKUP('Alle lande, valgt år'!$F$12,'Level 1'!$A$5:$L$32,'Oversættelse af landenavne'!$C16,FALSE)","v":28.58},{"$f":"HLOOKUP('Alle lande, valgt år'!$F$12,'Afgifter og moms'!$A$5:$L$31,'Oversættelse af landenavne'!$C16,FALSE)","v":3.0400000000000027},{"$f":"HLOOKUP('Alle lande, valgt år'!$F$12,'Afgifter og moms'!$A$38:$L$64,'Oversættelse af landenavne'!$C16,FALSE)","v":3.9899999999999984},null,null,null,null,{"$f":"'Oversættelse af landenavne'!$B16","v":"Frankrig"},null,{"$f":"HLOOKUP('Alle lande, valgt år'!$F$12,'Level 1'!$O$5:$Y$32,'Oversættelse af landenavne'!$C16,FALSE)","v":13.96},{"$f":"HLOOKUP('Alle lande, valgt år'!$F$12,'Afgifter og moms'!$O$5:$Y$31,'Oversættelse af landenavne'!$C16,FALSE)","v":1.4799999999999986},{"$f":"HLOOKUP('Alle lande, valgt år'!$F$12,'Afgifter og moms'!$O$38:$Y$64,'Oversættelse af landenavne'!$C16,FALSE)","v":2.6100000000000012},null,null,null,null,{"$f":"'Oversættelse af landenavne'!$B16","v":"Frankrig"},null,{"$f":"HLOOKUP('Alle lande, valgt år'!$F$12,'Level 1'!$AA$5:$AL$32,'Oversættelse af landenavne'!$C16,FALSE)","v":11.72},{"$f":"HLOOKUP('Alle lande, valgt år'!$F$12,'Afgifter og moms'!$AB$5:$AL$31,'Oversættelse af landenavne'!$C16,FALSE)","v":1.08},{"$f":"HLOOKUP('Alle lande, valgt år'!$F$12,'Afgifter og moms'!$AB$38:$AL$64,'Oversættelse af landenavne'!$C16,FALSE)","v":2.4399999999999995}]
[null,null,null,{"$f":"'Oversættelse af landenavne'!$B17","v":"Kroatien"},null,{"$f":"HLOOKUP('Alle lande, valgt år'!$F$12,'Level 1'!$A$5:$L$32,'Oversættelse af landenavne'!$C17,FALSE)","v":11.4274},{"$f":"HLOOKUP('Alle lande, valgt år'!$F$12,'Afgifter og moms'!$A$5:$L$31,'Oversættelse af landenavne'!$C17,FALSE)","v":0},{"$f":"HLOOKUP('Alle lande, valgt år'!$F$12,'Afgifter og moms'!$A$38:$L$64,'Oversættelse af landenavne'!$C17,FALSE)","v":2.8568999999999996},null,null,null,null,{"$f":"'Oversættelse af landenavne'!$B17","v":"Kroatien"},null,{"$f":"HLOOKUP('Alle lande, valgt år'!$F$12,'Level 1'!$O$5:$Y$32,'Oversættelse af landenavne'!$C17,FALSE)","v":9.5228999999999999},{"$f":"HLOOKUP('Alle lande, valgt år'!$F$12,'Afgifter og moms'!$O$5:$Y$31,'Oversættelse af landenavne'!$C17,FALSE)","v":0},{"$f":"HLOOKUP('Alle lande, valgt år'!$F$12,'Afgifter og moms'!$O$38:$Y$64,'Oversættelse af landenavne'!$C17,FALSE)","v":2.3807000000000009},null,null,null,null,{"$f":"'Oversættelse af landenavne'!$B17","v":"Kroatien"},null,{"$f":"HLOOKUP('Alle lande, valgt år'!$F$12,'Level 1'!$AA$5:$AL$32,'Oversættelse af landenavne'!$C17,FALSE)","v":9.0162999999999993},{"$f":"HLOOKUP('Alle lande, valgt år'!$F$12,'Afgifter og moms'!$AB$5:$AL$31,'Oversættelse af landenavne'!$C17,FALSE)","v":0},{"$f":"HLOOKUP('Alle lande, valgt år'!$F$12,'Afgifter og moms'!$AB$38:$AL$64,'Oversættelse af landenavne'!$C17,FALSE)","v":2.2551000000000005}]
[null,null,null,{"$f":"'Oversættelse af landenavne'!$B18","v":"Italien"},null,{"$f":"HLOOKUP('Alle lande, valgt år'!$F$12,'Level 1'!$A$5:$L$32,'Oversættelse af landenavne'!$C18,FALSE)","v":19.11},{"$f":"HLOOKUP('Alle lande, valgt år'!$F$12,'Afgifter og moms'!$A$5:$L$31,'Oversættelse af landenavne'!$C18,FALSE)","v":2.9800000000000004},{"$f":"HLOOKUP('Alle lande, valgt år'!$F$12,'Afgifter og moms'!$A$38:$L$64,'Oversættelse af landenavne'!$C18,FALSE)","v":3.2899999999999991},null,null,null,null,{"$f":"'Oversættelse af landenavne'!$B18","v":"Italien"},null,{"$f":"HLOOKUP('Alle lande, valgt år'!$F$12,'Level 1'!$O$5:$Y$32,'Oversættelse af landenavne'!$C18,FALSE)","v":13.16},{"$f":"HLOOKUP('Alle lande, valgt år'!$F$12,'Afgifter og moms'!$O$5:$Y$31,'Oversættelse af landenavne'!$C18,FALSE)","v":4.2600000000000016},{"$f":"HLOOKUP('Alle lande, valgt år'!$F$12,'Afgifter og moms'!$O$38:$Y$64,'Oversættelse af landenavne'!$C18,FALSE)","v":2.8999999999999986},null,null,null,null,{"$f":"'Oversættelse af landenavne'!$B18","v":"Italien"},null,{"$f":"HLOOKUP('Alle lande, valgt år'!$F$12,'Level 1'!$AA$5:$AL$32,'Oversættelse af landenavne'!$C18,FALSE)","v":11.08},{"$f":"HLOOKUP('Alle lande, valgt år'!$F$12,'Afgifter og moms'!$AB$5:$AL$31,'Oversættelse af landenavne'!$C18,FALSE)","v":4.9700000000000006},{"$f":"HLOOKUP('Alle lande, valgt år'!$F$12,'Afgifter og moms'!$AB$38:$AL$64,'Oversættelse af landenavne'!$C18,FALSE)","v":3.4399999999999977}]
[null,null,null,{"$f":"'Oversættelse af landenavne'!$B19","v":"Letland"},null,{"$f":"HLOOKUP('Alle lande, valgt år'!$F$12,'Level 1'!$A$5:$L$32,'Oversættelse af landenavne'!$C19,FALSE)","v":15.55},{"$f":"HLOOKUP('Alle lande, valgt år'!$F$12,'Afgifter og moms'!$A$5:$L$31,'Oversættelse af landenavne'!$C19,FALSE)","v":0.48000000000000043},{"$f":"HLOOKUP('Alle lande, valgt år'!$F$12,'Afgifter og moms'!$A$38:$L$64,'Oversættelse af landenavne'!$C19,FALSE)","v":3.3699999999999974},null,null,null,null,{"$f":"'Oversættelse af landenavne'!$B19","v":"Letland"},null,{"$f":"HLOOKUP('Alle lande, valgt år'!$F$12,'Level 1'!$O$5:$Y$32,'Oversættelse af landenavne'!$C19,FALSE)","v":9.25},{"$f":"HLOOKUP('Alle lande, valgt år'!$F$12,'Afgifter og moms'!$O$5:$Y$31,'Oversættelse af landenavne'!$C19,FALSE)","v":0.48000000000000043},{"$f":"HLOOKUP('Alle lande, valgt år'!$F$12,'Afgifter og moms'!$O$38:$Y$64,'Oversættelse af landenavne'!$C19,FALSE)","v":2.0499999999999989},null,null,null,null,{"$f":"'Oversættelse af landenavne'!$B19","v":"Letland"},null,{"$f":"HLOOKUP('Alle lande, valgt år'!$F$12,'Level 1'!$AA$5:$AL$32,'Oversættelse af landenavne'!$C19,FALSE)","v":9.25},{"$f":"HLOOKUP('Alle lande, valgt år'!$F$12,'Afgifter og moms'!$AB$5:$AL$31,'Oversættelse af landenavne'!$C19,FALSE)","v":0.48000000000000043},{"$f":"HLOOKUP('Alle lande, valgt år'!$F$12,'Afgifter og moms'!$AB$38:$AL$64,'Oversættelse af landenavne'!$C19,FALSE)","v":2.0399999999999991}]
[null,null,null,{"$f":"'Oversættelse af landenavne'!$B20","v":"Litaun"},null,{"$f":"HLOOKUP('Alle lande, valgt år'!$F$12,'Level 1'!$A$5:$L$32,'Oversættelse af landenavne'!$C20,FALSE)","v":17.14},{"$f":"HLOOKUP('Alle lande, valgt år'!$F$12,'Afgifter og moms'!$A$5:$L$31,'Oversættelse af landenavne'!$C20,FALSE)","v":0},{"$f":"HLOOKUP('Alle lande, valgt år'!$F$12,'Afgifter og moms'!$A$38:$L$64,'Oversættelse af landenavne'!$C20,FALSE)","v":3.5999999999999979},null,null,null,null,{"$f":"'Oversættelse af landenavne'!$B20","v":"Litaun"},null,{"$f":"HLOOKUP('Alle lande, valgt år'!$F$12,'Level 1'!$O$5:$Y$32,'Oversættelse af landenavne'!$C20,FALSE)","v":9.48},{"$f":"HLOOKUP('Alle lande, valgt år'!$F$12,'Afgifter og moms'!$O$5:$Y$31,'Oversættelse af landenavne'!$C20,FALSE)","v":0},{"$f":"HLOOKUP('Alle lande, valgt år'!$F$12,'Afgifter og moms'!$O$38:$Y$64,'Oversættelse af landenavne'!$C20,FALSE)","v":1.9900000000000002},null,null,null,null,{"$f":"'Oversættelse af landenavne'!$B20","v":"Litaun"},null,{"$f":"HLOOKUP('Alle lande, valgt år'!$F$12,'Level 1'!$AA$5:$AL$32,'Oversættelse af landenavne'!$C20,FALSE)","v":9.48},{"$f":"HLOOKUP('Alle lande, valgt år'!$F$12,'Afgifter og moms'!$AB$5:$AL$31,'Oversættelse af landenavne'!$C20,FALSE)","v":0},{"$f":"HLOOKUP('Alle lande, valgt år'!$F$12,'Afgifter og moms'!$AB$38:$AL$64,'Oversættelse af landenavne'!$C20,FALSE)","v":1.9900000000000002}]
[null,null,null,{"$f":"'Oversættelse af landenavne'!$B21","v":"luxembourg"},null,{"$f":"HLOOKUP('Alle lande, valgt år'!$F$12,'Level 1'!$A$5:$L$32,'Oversættelse af landenavne'!$C21,FALSE)","v":12.9},{"$f":"HLOOKUP('Alle lande, valgt år'!$F$12,'Afgifter og moms'!$A$5:$L$31,'Oversættelse af landenavne'!$C21,FALSE)","v":0.52999999999999936},{"$f":"HLOOKUP('Alle lande, valgt år'!$F$12,'Afgifter og moms'!$A$38:$L$64,'Oversættelse af landenavne'!$C21,FALSE)","v":1.17},null,null,null,null,{"$f":"'Oversættelse af landenavne'!$B21","v":"luxembourg"},null,{"$f":"HLOOKUP('Alle lande, valgt år'!$F$12,'Level 1'!$O$5:$Y$32,'Oversættelse af landenavne'!$C21,FALSE)","v":10.92},{"$f":"HLOOKUP('Alle lande, valgt år'!$F$12,'Afgifter og moms'!$O$5:$Y$31,'Oversættelse af landenavne'!$C21,FALSE)","v":0.63000000000000078},{"$f":"HLOOKUP('Alle lande, valgt år'!$F$12,'Afgifter og moms'!$O$38:$Y$64,'Oversættelse af landenavne'!$C21,FALSE)","v":1.0699999999999985},null,null,null,null,{"$f":"'Oversættelse af landenavne'!$B21","v":"luxembourg"},null,{"$f":"HLOOKUP('Alle lande, valgt år'!$F$12,'Level 1'!$AA$5:$AL$32,'Oversættelse af landenavne'!$C21,FALSE)","v":10.96},{"$f":"HLOOKUP('Alle lande, valgt år'!$F$12,'Afgifter og moms'!$AB$5:$AL$31,'Oversættelse af landenavne'!$C21,FALSE)","v":0.64999999999999858},{"$f":"HLOOKUP('Alle lande, valgt år'!$F$12,'Afgifter og moms'!$AB$38:$AL$64,'Oversættelse af landenavne'!$C21,FALSE)","v":1.0899999999999999}]
[null,null,null,{"$f":"'Oversættelse af landenavne'!$B22","v":"Ungarn"},null,{"$f":"HLOOKUP('Alle lande, valgt år'!$F$12,'Level 1'!$A$5:$L$32,'Oversættelse af landenavne'!$C22,FALSE)","v":7.7333999999999996},{"$f":"HLOOKUP('Alle lande, valgt år'!$F$12,'Afgifter og moms'!$A$5:$L$31,'Oversættelse af landenavne'!$C22,FALSE)","v":0},{"$f":"HLOOKUP('Alle lande, valgt år'!$F$12,'Afgifter og moms'!$A$38:$L$64,'Oversættelse af landenavne'!$C22,FALSE)","v":2.088000000000001},null,null,null,null,{"$f":"'Oversættelse af landenavne'!$B22","v":"Ungarn"},null,{"$f":"HLOOKUP('Alle lande, valgt år'!$F$12,'Level 1'!$O$5:$Y$32,'Oversættelse af landenavne'!$C22,FALSE)","v":7.5286},{"$f":"HLOOKUP('Alle lande, valgt år'!$F$12,'Afgifter og moms'!$O$5:$Y$31,'Oversættelse af landenavne'!$C22,FALSE)","v":0},{"$f":"HLOOKUP('Alle lande, valgt år'!$F$12,'Afgifter og moms'!$O$38:$Y$64,'Oversættelse af landenavne'!$C22,FALSE)","v":2.0326999999999993},null,null,null,null,{"$f":"'Oversættelse af landenavne'!$B22","v":"Ungarn"},null,{"$f":"HLOOKUP('Alle lande, valgt år'!$F$12,'Level 1'!$AA$5:$AL$32,'Oversættelse af landenavne'!$C22,FALSE)","v":7.5313999999999997},{"$f":"HLOOKUP('Alle lande, valgt år'!$F$12,'Afgifter og moms'!$AB$5:$AL$31,'Oversættelse af landenavne'!$C22,FALSE)","v":0},{"$f":"HLOOKUP('Alle lande, valgt år'!$F$12,'Afgifter og moms'!$AB$38:$AL$64,'Oversættelse af landenavne'!$C22,FALSE)","v":2.0335000000000001}]
[null,null,null,{"$f":"'Oversættelse af landenavne'!$B23","v":"Holland"},null,{"$f":"HLOOKUP('Alle lande, valgt år'!$F$12,'Level 1'!$A$5:$L$32,'Oversættelse af landenavne'!$C23,FALSE)","v":17.47},{"$f":"HLOOKUP('Alle lande, valgt år'!$F$12,'Afgifter og moms'!$A$5:$L$31,'Oversættelse af landenavne'!$C23,FALSE)","v":7.48},{"$f":"HLOOKUP('Alle lande, valgt år'!$F$12,'Afgifter og moms'!$A$38:$L$64,'Oversættelse af landenavne'!$C23,FALSE)","v":5.240000000000002},null,null,null,null,{"$f":"'Oversættelse af landenavne'!$B23","v":"Holland"},null,{"$f":"HLOOKUP('Alle lande, valgt år'!$F$12,'Level 1'!$O$5:$Y$32,'Oversættelse af landenavne'!$C23,FALSE)","v":10.41},{"$f":"HLOOKUP('Alle lande, valgt år'!$F$12,'Afgifter og moms'!$O$5:$Y$31,'Oversættelse af landenavne'!$C23,FALSE)","v":7.48},{"$f":"HLOOKUP('Alle lande, valgt år'!$F$12,'Afgifter og moms'!$O$38:$Y$64,'Oversættelse af landenavne'!$C23,FALSE)","v":3.759999999999998},null,null,null,null,{"$f":"'Oversættelse af landenavne'!$B23","v":"Holland"},null,{"$f":"HLOOKUP('Alle lande, valgt år'!$F$12,'Level 1'!$AA$5:$AL$32,'Oversættelse af landenavne'!$C23,FALSE)","v":8.9},{"$f":"HLOOKUP('Alle lande, valgt år'!$F$12,'Afgifter og moms'!$AB$5:$AL$31,'Oversættelse af landenavne'!$C23,FALSE)","v":7.4700000000000006},{"$f":"HLOOKUP('Alle lande, valgt år'!$F$12,'Afgifter og moms'!$AB$38:$AL$64,'Oversættelse af landenavne'!$C23,FALSE)","v":3.4399999999999977}]
[null,null,null,{"$f":"'Oversættelse af landenavne'!$B24","v":"Østrig"},null,{"$f":"HLOOKUP('Alle lande, valgt år'!$F$12,'Level 1'!$A$5:$L$32,'Oversættelse af landenavne'!$C24,FALSE)","v":17.78},{"$f":"HLOOKUP('Alle lande, valgt år'!$F$12,'Afgifter og moms'!$A$5:$L$31,'Oversættelse af landenavne'!$C24,FALSE)","v":1.9699999999999989},{"$f":"HLOOKUP('Alle lande, valgt år'!$F$12,'Afgifter og moms'!$A$38:$L$64,'Oversættelse af landenavne'!$C24,FALSE)","v":3.9699999999999989},null,null,null,null,{"$f":"'Oversættelse af landenavne'!$B24","v":"Østrig"},null,{"$f":"HLOOKUP('Alle lande, valgt år'!$F$12,'Level 1'!$O$5:$Y$32,'Oversættelse af landenavne'!$C24,FALSE)","v":14.06},{"$f":"HLOOKUP('Alle lande, valgt år'!$F$12,'Afgifter og moms'!$O$5:$Y$31,'Oversættelse af landenavne'!$C24,FALSE)","v":1.9100000000000001},{"$f":"HLOOKUP('Alle lande, valgt år'!$F$12,'Afgifter og moms'!$O$38:$Y$64,'Oversættelse af landenavne'!$C24,FALSE)","v":3.2000000000000011},null,null,null,null,{"$f":"'Oversættelse af landenavne'!$B24","v":"Østrig"},null,{"$f":"HLOOKUP('Alle lande, valgt år'!$F$12,'Level 1'!$AA$5:$AL$32,'Oversættelse af landenavne'!$C24,FALSE)","v":11.94},{"$f":"HLOOKUP('Alle lande, valgt år'!$F$12,'Afgifter og moms'!$AB$5:$AL$31,'Oversættelse af landenavne'!$C24,FALSE)","v":1.870000000000001},{"$f":"HLOOKUP('Alle lande, valgt år'!$F$12,'Afgifter og moms'!$AB$38:$AL$64,'Oversættelse af landenavne'!$C24,FALSE)","v":2.7699999999999978}]
[null,null,null,{"$f":"'Oversættelse af landenavne'!$B25","v":"Polen"},null,{"$f":"HLOOKUP('Alle lande, valgt år'!$F$12,'Level 1'!$A$5:$L$32,'Oversættelse af landenavne'!$C25,FALSE)","v":12.834300000000001},{"$f":"HLOOKUP('Alle lande, valgt år'!$F$12,'Afgifter og moms'!$A$5:$L$31,'Oversættelse af landenavne'!$C25,FALSE)","v":0},{"$f":"HLOOKUP('Alle lande, valgt år'!$F$12,'Afgifter og moms'!$A$38:$L$64,'Oversættelse af landenavne'!$C25,FALSE)","v":2.9527999999999999},null,null,null,null,{"$f":"'Oversættelse af landenavne'!$B25","v":"Polen"},null,{"$f":"HLOOKUP('Alle lande, valgt år'!$F$12,'Level 1'!$O$5:$Y$32,'Oversættelse af landenavne'!$C25,FALSE)","v":8.8422999999999998},{"$f":"HLOOKUP('Alle lande, valgt år'!$F$12,'Afgifter og moms'!$O$5:$Y$31,'Oversættelse af landenavne'!$C25,FALSE)","v":2.2999999999999687E-3},{"$f":"HLOOKUP('Alle lande, valgt år'!$F$12,'Afgifter og moms'!$O$38:$Y$64,'Oversættelse af landenavne'!$C25,FALSE)","v":2.0349000000000004},null,null,null,null,{"$f":"'Oversættelse af landenavne'!$B25","v":"Polen"},null,{"$f":"HLOOKUP('Alle lande, valgt år'!$F$12,'Level 1'!$AA$5:$AL$32,'Oversættelse af landenavne'!$C25,FALSE)","v":8.1876999999999995},{"$f":"HLOOKUP('Alle lande, valgt år'!$F$12,'Afgifter og moms'!$AB$5:$AL$31,'Oversættelse af landenavne'!$C25,FALSE)","v":8.4699999999999775E-2},{"$f":"HLOOKUP('Alle lande, valgt år'!$F$12,'Afgifter og moms'!$AB$38:$AL$64,'Oversættelse af landenavne'!$C25,FALSE)","v":1.9044000000000008}]
[null,null,null,{"$f":"'Oversættelse af landenavne'!$B26","v":"Portugal"},null,{"$f":"HLOOKUP('Alle lande, valgt år'!$F$12,'Level 1'!$A$5:$L$32,'Oversættelse af landenavne'!$C26,FALSE)","v":23.5},{"$f":"HLOOKUP('Alle lande, valgt år'!$F$12,'Afgifter og moms'!$A$5:$L$31,'Oversættelse af landenavne'!$C26,FALSE)","v":1.370000000000001},{"$f":"HLOOKUP('Alle lande, valgt år'!$F$12,'Afgifter og moms'!$A$38:$L$64,'Oversættelse af landenavne'!$C26,FALSE)","v":5.7199999999999989},null,null,null,null,{"$f":"'Oversættelse af landenavne'!$B26","v":"Portugal"},null,{"$f":"HLOOKUP('Alle lande, valgt år'!$F$12,'Level 1'!$O$5:$Y$32,'Oversættelse af landenavne'!$C26,FALSE)","v":19.38},{"$f":"HLOOKUP('Alle lande, valgt år'!$F$12,'Afgifter og moms'!$O$5:$Y$31,'Oversættelse af landenavne'!$C26,FALSE)","v":1.2300000000000004},{"$f":"HLOOKUP('Alle lande, valgt år'!$F$12,'Afgifter og moms'!$O$38:$Y$64,'Oversættelse af landenavne'!$C26,FALSE)","v":4.740000000000002},null,null,null,null,{"$f":"'Oversættelse af landenavne'!$B26","v":"Portugal"},null,{"$f":"HLOOKUP('Alle lande, valgt år'!$F$12,'Level 1'!$AA$5:$AL$32,'Oversættelse af landenavne'!$C26,FALSE)","v":18.850000000000001},{"$f":"HLOOKUP('Alle lande, valgt år'!$F$12,'Afgifter og moms'!$AB$5:$AL$31,'Oversættelse af landenavne'!$C26,FALSE)","v":1.2199999999999989},{"$f":"HLOOKUP('Alle lande, valgt år'!$F$12,'Afgifter og moms'!$AB$38:$AL$64,'Oversættelse af landenavne'!$C26,FALSE)","v":4.620000000000001}]
[null,null,null,{"$f":"'Oversættelse af landenavne'!$B27","v":"Rumænien"},null,{"$f":"HLOOKUP('Alle lande, valgt år'!$F$12,'Level 1'!$A$5:$L$32,'Oversættelse af landenavne'!$C27,FALSE)","v":4.9626999999999999},{"$f":"HLOOKUP('Alle lande, valgt år'!$F$12,'Afgifter og moms'!$A$5:$L$31,'Oversættelse af landenavne'!$C27,FALSE)","v":2.5715000000000003},{"$f":"HLOOKUP('Alle lande, valgt år'!$F$12,'Afgifter og moms'!$A$38:$L$64,'Oversættelse af landenavne'!$C27,FALSE)","v":1.8085000000000004},null,null,null,null,{"$f":"'Oversættelse af landenavne'!$B27","v":"Rumænien"},null,{"$f":"HLOOKUP('Alle lande, valgt år'!$F$12,'Level 1'!$O$5:$Y$32,'Oversættelse af landenavne'!$C27,FALSE)","v":4.9160000000000004},{"$f":"HLOOKUP('Alle lande, valgt år'!$F$12,'Afgifter og moms'!$O$5:$Y$31,'Oversættelse af landenavne'!$C27,FALSE)","v":2.5381},{"$f":"HLOOKUP('Alle lande, valgt år'!$F$12,'Afgifter og moms'!$O$38:$Y$64,'Oversættelse af landenavne'!$C27,FALSE)","v":1.7884999999999991},null,null,null,null,{"$f":"'Oversættelse af landenavne'!$B27","v":"Rumænien"},null,{"$f":"HLOOKUP('Alle lande, valgt år'!$F$12,'Level 1'!$AA$5:$AL$32,'Oversættelse af landenavne'!$C27,FALSE)","v":4.7826000000000004},{"$f":"HLOOKUP('Alle lande, valgt år'!$F$12,'Afgifter og moms'!$AB$5:$AL$31,'Oversættelse af landenavne'!$C27,FALSE)","v":2.3155999999999999},{"$f":"HLOOKUP('Alle lande, valgt år'!$F$12,'Afgifter og moms'!$AB$38:$AL$64,'Oversættelse af landenavne'!$C27,FALSE)","v":1.7038999999999991}]
[null,null,null,{"$f":"'Oversættelse af landenavne'!$B28","v":"Slovenien"},null,{"$f":"HLOOKUP('Alle lande, valgt år'!$F$12,'Level 1'!$A$5:$L$32,'Oversættelse af landenavne'!$C28,FALSE)","v":13.95},{"$f":"HLOOKUP('Alle lande, valgt år'!$F$12,'Afgifter og moms'!$A$5:$L$31,'Oversættelse af landenavne'!$C28,FALSE)","v":1.8100000000000005},{"$f":"HLOOKUP('Alle lande, valgt år'!$F$12,'Afgifter og moms'!$A$38:$L$64,'Oversættelse af landenavne'!$C28,FALSE)","v":3.4599999999999991},null,null,null,null,{"$f":"'Oversættelse af landenavne'!$B28","v":"Slovenien"},null,{"$f":"HLOOKUP('Alle lande, valgt år'!$F$12,'Level 1'!$O$5:$Y$32,'Oversættelse af landenavne'!$C28,FALSE)","v":11.84},{"$f":"HLOOKUP('Alle lande, valgt år'!$F$12,'Afgifter og moms'!$O$5:$Y$31,'Oversættelse af landenavne'!$C28,FALSE)","v":1.8100000000000005},{"$f":"HLOOKUP('Alle lande, valgt år'!$F$12,'Afgifter og moms'!$O$38:$Y$64,'Oversættelse af landenavne'!$C28,FALSE)","v":2.9999999999999982},null,null,null,null,{"$f":"'Oversættelse af landenavne'!$B28","v":"Slovenien"},null,{"$f":"HLOOKUP('Alle lande, valgt år'!$F$12,'Level 1'!$AA$5:$AL$32,'Oversættelse af landenavne'!$C28,FALSE)","v":10.73},{"$f":"HLOOKUP('Alle lande, valgt år'!$F$12,'Afgifter og moms'!$AB$5:$AL$31,'Oversættelse af landenavne'!$C28,FALSE)","v":1.8099999999999987},{"$f":"HLOOKUP('Alle lande, valgt år'!$F$12,'Afgifter og moms'!$AB$38:$AL$64,'Oversættelse af landenavne'!$C28,FALSE)","v":2.7600000000000016}]
[null,null,null,{"$f":"'Oversættelse af landenavne'!$B29","v":"Slovakiet"},null,{"$f":"HLOOKUP('Alle lande, valgt år'!$F$12,'Level 1'!$A$5:$L$32,'Oversættelse af landenavne'!$C29,FALSE)","v":23.41},{"$f":"HLOOKUP('Alle lande, valgt år'!$F$12,'Afgifter og moms'!$A$5:$L$31,'Oversættelse af landenavne'!$C29,FALSE)","v":0},{"$f":"HLOOKUP('Alle lande, valgt år'!$F$12,'Afgifter og moms'!$A$38:$L$64,'Oversættelse af landenavne'!$C29,FALSE)","v":4.68},null,null,null,null,{"$f":"'Oversættelse af landenavne'!$B29","v":"Slovakiet"},null,{"$f":"HLOOKUP('Alle lande, valgt år'!$F$12,'Level 1'!$O$5:$Y$32,'Oversættelse af landenavne'!$C29,FALSE)","v":10.65},{"$f":"HLOOKUP('Alle lande, valgt år'!$F$12,'Afgifter og moms'!$O$5:$Y$31,'Oversættelse af landenavne'!$C29,FALSE)","v":0},{"$f":"HLOOKUP('Alle lande, valgt år'!$F$12,'Afgifter og moms'!$O$38:$Y$64,'Oversættelse af landenavne'!$C29,FALSE)","v":2.129999999999999},null,null,null,null,{"$f":"'Oversættelse af landenavne'!$B29","v":"Slovakiet"},null,{"$f":"HLOOKUP('Alle lande, valgt år'!$F$12,'Level 1'!$AA$5:$AL$32,'Oversættelse af landenavne'!$C29,FALSE)","v":11.2},{"$f":"HLOOKUP('Alle lande, valgt år'!$F$12,'Afgifter og moms'!$AB$5:$AL$31,'Oversættelse af landenavne'!$C29,FALSE)","v":0},{"$f":"HLOOKUP('Alle lande, valgt år'!$F$12,'Afgifter og moms'!$AB$38:$AL$64,'Oversættelse af landenavne'!$C29,FALSE)","v":2.2400000000000002}]
[null,null,null,{"$f":"'Oversættelse af landenavne'!$B30","v":"Sverige"},null,{"$f":"HLOOKUP('Alle lande, valgt år'!$F$12,'Level 1'!$A$5:$L$32,'Oversættelse af landenavne'!$C30,FALSE)","v":28.524699999999999},{"$f":"HLOOKUP('Alle lande, valgt år'!$F$12,'Afgifter og moms'!$A$5:$L$31,'Oversættelse af landenavne'!$C30,FALSE)","v":8.160300000000003},{"$f":"HLOOKUP('Alle lande, valgt år'!$F$12,'Afgifter og moms'!$A$38:$L$64,'Oversættelse af landenavne'!$C30,FALSE)","v":9.1706999999999965},null,null,null,null,{"$f":"'Oversættelse af landenavne'!$B30","v":"Sverige"},null,{"$f":"HLOOKUP('Alle lande, valgt år'!$F$12,'Level 1'!$O$5:$Y$32,'Oversættelse af landenavne'!$C30,FALSE)","v":16.9224},{"$f":"HLOOKUP('Alle lande, valgt år'!$F$12,'Afgifter og moms'!$O$5:$Y$31,'Oversættelse af landenavne'!$C30,FALSE)","v":8.1601999999999997},{"$f":"HLOOKUP('Alle lande, valgt år'!$F$12,'Afgifter og moms'!$O$38:$Y$64,'Oversættelse af landenavne'!$C30,FALSE)","v":6.2714999999999996},null,null,null,null,{"$f":"'Oversættelse af landenavne'!$B30","v":"Sverige"},null,{"$f":"HLOOKUP('Alle lande, valgt år'!$F$12,'Level 1'!$AA$5:$AL$32,'Oversættelse af landenavne'!$C30,FALSE)","v":14.434900000000001},{"$f":"HLOOKUP('Alle lande, valgt år'!$F$12,'Afgifter og moms'!$AB$5:$AL$31,'Oversættelse af landenavne'!$C30,FALSE)","v":8.1601999999999979},{"$f":"HLOOKUP('Alle lande, valgt år'!$F$12,'Afgifter og moms'!$AB$38:$AL$64,'Oversættelse af landenavne'!$C30,FALSE)","v":5.6491000000000007}]
[null,null,null,{"$f":"'Oversættelse af landenavne'!$B31","v":"UK"},null,{"$f":"HLOOKUP('Alle lande, valgt år'!$F$12,'Level 1'!$A$5:$L$32,'Oversættelse af landenavne'!$C31,FALSE)","v":20.139399999999998},{"$f":"HLOOKUP('Alle lande, valgt år'!$F$12,'Afgifter og moms'!$A$5:$L$31,'Oversættelse af landenavne'!$C31,FALSE)","v":0},{"$f":"HLOOKUP('Alle lande, valgt år'!$F$12,'Afgifter og moms'!$A$38:$L$64,'Oversættelse af landenavne'!$C31,FALSE)","v":1.0146000000000015},null,null,null,null,{"$f":"'Oversættelse af landenavne'!$B31","v":"UK"},null,{"$f":"HLOOKUP('Alle lande, valgt år'!$F$12,'Level 1'!$O$5:$Y$32,'Oversættelse af landenavne'!$C31,FALSE)","v":14.629300000000001},{"$f":"HLOOKUP('Alle lande, valgt år'!$F$12,'Afgifter og moms'!$O$5:$Y$31,'Oversættelse af landenavne'!$C31,FALSE)","v":0},{"$f":"HLOOKUP('Alle lande, valgt år'!$F$12,'Afgifter og moms'!$O$38:$Y$64,'Oversættelse af landenavne'!$C31,FALSE)","v":0.73209999999999908},null,null,null,null,{"$f":"'Oversættelse af landenavne'!$B31","v":"UK"},null,{"$f":"HLOOKUP('Alle lande, valgt år'!$F$12,'Level 1'!$AA$5:$AL$32,'Oversættelse af landenavne'!$C31,FALSE)","v":13.4733},{"$f":"HLOOKUP('Alle lande, valgt år'!$F$12,'Afgifter og moms'!$AB$5:$AL$31,'Oversættelse af landenavne'!$C31,FALSE)","v":0},{"$f":"HLOOKUP('Alle lande, valgt år'!$F$12,'Afgifter og moms'!$AB$38:$AL$64,'Oversættelse af landenavne'!$C31,FALSE)","v":0.68079999999999963}]
[]
[null,null,null,"Level 1",null,null,null,null,null,null,null,null,"Level 1",null,null,null,null,null,null,null,null,"Level 1"]
[null,null,null,"Level 2",null,null,null,null,null,null,null,null,"Level 2",null,null,null,null,null,null,null,null,"Level 2"]
[null,null,null,"Level 3",null,null,null,null,null,null,null,null,"Level 3",null,null,null,null,null,null,null,null,"Level 3"]
[]
[]
[]
[]
[]
[null,null,null,"Herunder vises de tabeller der er resultatet er valgene truffet øverst i valgmenuen"]
[null,null,null,"Man kunne have valgt at vise tallene for alle år, men jeg synes at formlen er overskuelig nok til at vi lavder årstalsvalgt indgå direkte"]
[]
[null,null,null,"Tabel B - BVT Deflatoren",null,null,null,"Tabel C",null,null,null,null,"Tabel D"]
[null,null,null,"Tabel B fremkommer som resultat af valgene truffet for faste/løbende priser og basisår.\n\nBVT deflatoren vises for samtlige lande for det valgte år. Væles løbende priser deflaterer man ikke, hvorfor der vil stå et 1-tal i alle celler.\n\nFormlen gør at \"fejlværdien\" svarer til at man har valgt løbende priser (gælder både for overskrift og formler). Med denne metode kan indeksværdien ganges direkte på rådata uanset hvilken valuta der vælges.",null,null,null,"Tabel C viser hvilken kurs der ganges på rådata (opgivet i euro) for at få priserne vist i den valuta der er valgt i valgmenuen øverst.\n\nKursen ændres efter valgt år og valuta.",null,null,null,null,"Tabel D viser hvilken faktor der ganges på den oprindelige (opgivet i GJ), for at få vist priserne i den enhed der er valgt i valgmenuen øverst.\n\nFormlen gør så \"fejlværdien\" svarer til at man har valgt GJ (gælder både for overskrift og formler). \nMed denne metode kan omregningsfaktoren ganges direkte på rådata uanset hvilken enhed der vælges."]
[]
[null,null,null,null,null,{"$f":"IF('Alle lande, valgt år'!F13=\"faste priser\",\"BVT deflatoenfor år \"&'Alle lande, valgt år'!F12&\" med basisåret \"&'Alle lande, valgt år'!F14&\"\",\"Prisindeks for løbende priser år \"&'Alle lande, valgt år'!F12)","v":"BVT deflatoenfor år 2016 med basisåret 2016"},null,{"$f":"\"Valutakursen for \"&'Alle lande, valgt år'!F15&\" i fht. Euro år \"&'Alle lande, valgt år'!F12","v":"Valutakursen for DKK øre i fht. Euro år 2016"},null,null,null,null,{"$f":"\"Omregningsfaktoren for \"&'Alle lande, valgt år'!F16&\" i fht. GJ år \"&'Alle lande, valgt år'!F12","v":"Omregningsfaktoren for kwh i fht. GJ år 2016"}]
[null,null,null,{"$f":"'Baggrundsdata - HICP - deflator'!B23","v":"EU-28"},null,{"$f":"IF('Alle lande, valgt år'!$F$13=\"faste priser\",HLOOKUP('Alle lande, valgt år'!$F$12,'Baggrundsdata - HICP - deflator'!$C$22:$M$48,'Oversættelse af landenavne'!C6,FALSE),1)","v":1},null,{"$f":"IF($F$15=\"Euro\",1,IF($F$15=\"eurocent\",100,IF($F$15=\"DKK øre\",HLOOKUP(F12,Forside!$E$55:$O$56,2,FALSE),IF($F$15=\"DKK\",((HLOOKUP(F12,Forside!$E$55:$O$56,2,FALSE))/100),\"F\"))))","v":744.74884444444444},null,null,null,null,{"$f":"IF('Alle lande, valgt år'!$F$16=\"Nm3\",HLOOKUP('Alle lande, valgt år'!F12,Forside!E72:K74,2,FALSE),IF('Alle lande, valgt år'!$F$16=\"kwh\",1/278,1))","v":3.5971223021582736E-3}]
[null,null,null,{"$f":"'Baggrundsdata - HICP - deflator'!B24","v":"Belgien"},null,{"$f":"IF('Alle lande, valgt år'!$F$13=\"faste priser\",HLOOKUP('Alle lande, valgt år'!$F$12,'Baggrundsdata - HICP - deflator'!$C$22:$M$48,'Oversættelse af landenavne'!C7,FALSE),1)","v":1}]
[null,null,null,{"$f":"'Baggrundsdata - HICP - deflator'!B25","v":"Bulgarien"},null,{"$f":"IF('Alle lande, valgt år'!$F$13=\"faste priser\",HLOOKUP('Alle lande, valgt år'!$F$12,'Baggrundsdata - HICP - deflator'!$C$22:$M$48,'Oversættelse af landenavne'!C8,FALSE),1)","v":1}]
[null,null,null,{"$f":"'Baggrundsdata - HICP - deflator'!B26","v":"Tjekkiet"},null,{"$f":"IF('Alle lande, valgt år'!$F$13=\"faste priser\",HLOOKUP('Alle lande, valgt år'!$F$12,'Baggrundsdata - HICP - deflator'!$C$22:$M$48,'Oversættelse af landenavne'!C9,FALSE),1)","v":1}]
[null,null,null,{"$f":"'Baggrundsdata - HICP - deflator'!B27","v":"Danmark"},null,{"$f":"IF('Alle lande, valgt år'!$F$13=\"faste priser\",HLOOKUP('Alle lande, valgt år'!$F$12,'Baggrundsdata - HICP - deflator'!$C$22:$M$48,'Oversættelse af landenavne'!C10,FALSE),1)","v":1}]
[null,null,null,{"$f":"'Baggrundsdata - HICP - deflator'!B28","v":"Tyskland"},null,{"$f":"IF('Alle lande, valgt år'!$F$13=\"faste priser\",HLOOKUP('Alle lande, valgt år'!$F$12,'Baggrundsdata - HICP - deflator'!$C$22:$M$48,'Oversættelse af landenavne'!C11,FALSE),1)","v":1}]
[null,null,null,{"$f":"'Baggrundsdata - HICP - deflator'!B29","v":"Estland"},null,{"$f":"IF('Alle lande, valgt år'!$F$13=\"faste priser\",HLOOKUP('Alle lande, valgt år'!$F$12,'Baggrundsdata - HICP - deflator'!$C$22:$M$48,'Oversættelse af landenavne'!C12,FALSE),1)","v":1}]
[null,null,null,{"$f":"'Baggrundsdata - HICP - deflator'!B30","v":"Irland"},null,{"$f":"IF('Alle lande, valgt år'!$F$13=\"faste priser\",HLOOKUP('Alle lande, valgt år'!$F$12,'Baggrundsdata - HICP - deflator'!$C$22:$M$48,'Oversættelse af landenavne'!C13,FALSE),1)","v":1}]
[null,null,null,{"$f":"'Baggrundsdata - HICP - deflator'!B31","v":"Grækenland"},null,{"$f":"IF('Alle lande, valgt år'!$F$13=\"faste priser\",HLOOKUP('Alle lande, valgt år'!$F$12,'Baggrundsdata - HICP - deflator'!$C$22:$M$48,'Oversættelse af landenavne'!C14,FALSE),1)","v":1}]
[null,null,null,{"$f":"'Baggrundsdata - HICP - deflator'!B32","v":"Spanien"},null,{"$f":"IF('Alle lande, valgt år'!$F$13=\"faste priser\",HLOOKUP('Alle lande, valgt år'!$F$12,'Baggrundsdata - HICP - deflator'!$C$22:$M$48,'Oversættelse af landenavne'!C15,FALSE),1)","v":1}]
[null,null,null,{"$f":"'Baggrundsdata - HICP - deflator'!B33","v":"Frankrig"},null,{"$f":"IF('Alle lande, valgt år'!$F$13=\"faste priser\",HLOOKUP('Alle lande, valgt år'!$F$12,'Baggrundsdata - HICP - deflator'!$C$22:$M$48,'Oversættelse af landenavne'!C16,FALSE),1)","v":1}]
[null,null,null,{"$f":"'Baggrundsdata - HICP - deflator'!B34","v":"Kroatien"},null,{"$f":"IF('Alle lande, valgt år'!$F$13=\"faste priser\",HLOOKUP('Alle lande, valgt år'!$F$12,'Baggrundsdata - HICP - deflator'!$C$22:$M$48,'Oversættelse af landenavne'!C17,FALSE),1)","v":1}]
[null,null,null,{"$f":"'Baggrundsdata - HICP - deflator'!B35","v":"Italien"},null,{"$f":"IF('Alle lande, valgt år'!$F$13=\"faste priser\",HLOOKUP('Alle lande, valgt år'!$F$12,'Baggrundsdata - HICP - deflator'!$C$22:$M$48,'Oversættelse af landenavne'!C18,FALSE),1)","v":1}]
[null,null,null,{"$f":"'Baggrundsdata - HICP - deflator'!B36","v":"Letland"},null,{"$f":"IF('Alle lande, valgt år'!$F$13=\"faste priser\",HLOOKUP('Alle lande, valgt år'!$F$12,'Baggrundsdata - HICP - deflator'!$C$22:$M$48,'Oversættelse af landenavne'!C19,FALSE),1)","v":1}]
[null,null,null,{"$f":"'Baggrundsdata - HICP - deflator'!B37","v":"Litaun"},null,{"$f":"IF('Alle lande, valgt år'!$F$13=\"faste priser\",HLOOKUP('Alle lande, valgt år'!$F$12,'Baggrundsdata - HICP - deflator'!$C$22:$M$48,'Oversættelse af landenavne'!C20,FALSE),1)","v":1}]
[null,null,null,{"$f":"'Baggrundsdata - HICP - deflator'!B38","v":"luxembourg"},null,{"$f":"IF('Alle lande, valgt år'!$F$13=\"faste priser\",HLOOKUP('Alle lande, valgt år'!$F$12,'Baggrundsdata - HICP - deflator'!$C$22:$M$48,'Oversættelse af landenavne'!C21,FALSE),1)","v":1}]
[null,null,null,{"$f":"'Baggrundsdata - HICP - deflator'!B39","v":"Ungarn"},null,{"$f":"IF('Alle lande, valgt år'!$F$13=\"faste priser\",HLOOKUP('Alle lande, valgt år'!$F$12,'Baggrundsdata - HICP - deflator'!$C$22:$M$48,'Oversættelse af landenavne'!C22,FALSE),1)","v":1}]
[null,null,null,{"$f":"'Baggrundsdata - HICP - deflator'!B40","v":"Holland"},null,{"$f":"IF('Alle lande, valgt år'!$F$13=\"faste priser\",HLOOKUP('Alle lande, valgt år'!$F$12,'Baggrundsdata - HICP - deflator'!$C$22:$M$48,'Oversættelse af landenavne'!C23,FALSE),1)","v":1}]
[null,null,null,{"$f":"'Baggrundsdata - HICP - deflator'!B41","v":"Østrig"},null,{"$f":"IF('Alle lande, valgt år'!$F$13=\"faste priser\",HLOOKUP('Alle lande, valgt år'!$F$12,'Baggrundsdata - HICP - deflator'!$C$22:$M$48,'Oversættelse af landenavne'!C24,FALSE),1)","v":1}]
[null,null,null,{"$f":"'Baggrundsdata - HICP - deflator'!B42","v":"Polen"},null,{"$f":"IF('Alle lande, valgt år'!$F$13=\"faste priser\",HLOOKUP('Alle lande, valgt år'!$F$12,'Baggrundsdata - HICP - deflator'!$C$22:$M$48,'Oversættelse af landenavne'!C25,FALSE),1)","v":1}]
[null,null,null,{"$f":"'Baggrundsdata - HICP - deflator'!B43","v":"Portugal"},null,{"$f":"IF('Alle lande, valgt år'!$F$13=\"faste priser\",HLOOKUP('Alle lande, valgt år'!$F$12,'Baggrundsdata - HICP - deflator'!$C$22:$M$48,'Oversættelse af landenavne'!C26,FALSE),1)","v":1}]
[null,null,null,{"$f":"'Baggrundsdata - HICP - deflator'!B44","v":"Rumænien"},null,{"$f":"IF('Alle lande, valgt år'!$F$13=\"faste priser\",HLOOKUP('Alle lande, valgt år'!$F$12,'Baggrundsdata - HICP - deflator'!$C$22:$M$48,'Oversættelse af landenavne'!C27,FALSE),1)","v":1}]
[null,null,null,{"$f":"'Baggrundsdata - HICP - deflator'!B45","v":"Slovenien"},null,{"$f":"IF('Alle lande, valgt år'!$F$13=\"faste priser\",HLOOKUP('Alle lande, valgt år'!$F$12,'Baggrundsdata - HICP - deflator'!$C$22:$M$48,'Oversættelse af landenavne'!C28,FALSE),1)","v":1}]
[null,null,null,{"$f":"'Baggrundsdata - HICP - deflator'!B46","v":"Slovakiet"},null,{"$f":"IF('Alle lande, valgt år'!$F$13=\"faste priser\",HLOOKUP('Alle lande, valgt år'!$F$12,'Baggrundsdata - HICP - deflator'!$C$22:$M$48,'Oversættelse af landenavne'!C29,FALSE),1)","v":1}]
[null,null,null,{"$f":"'Baggrundsdata - HICP - deflator'!B47","v":"Sverige"},null,{"$f":"IF('Alle lande, valgt år'!$F$13=\"faste priser\",HLOOKUP('Alle lande, valgt år'!$F$12,'Baggrundsdata - HICP - deflator'!$C$22:$M$48,'Oversættelse af landenavne'!C30,FALSE),1)","v":1}]
[null,null,null,{"$f":"'Baggrundsdata - HICP - deflator'!B48","v":"UK"},null,{"$f":"IF('Alle lande, valgt år'!$F$13=\"faste priser\",HLOOKUP('Alle lande, valgt år'!$F$12,'Baggrundsdata - HICP - deflator'!$C$22:$M$48,'Oversættelse af landenavne'!C31,FALSE),1)","v":1}]

{"sheet":"Level 1","index":4,"n_rows":154,"n_cols":38,"rows_kept":154,"cut":false,"hidden":false,"merged":[[2,0,2,11],[2,13,2,24],[2,26,2,37]]}
["Gaspriser, forbrugere. Level 1 gaspriser for forskellige forbrugsintervaller"]
[]
["Forbrugsinterval < 20 GJ",null,null,null,null,null,null,null,null,null,null,null,null,"Forbrugsinterval  20 GJ <  200 GJ",null,null,null,null,null,null,null,null,null,null,null,null,"Forbrugsinterval  >200 GJ"]
[]
["EURO/GJ",{"$f":"+LEFT(B51,4)+0","v":2007},{"$f":"B5+1","v":2008},{"$f":"+C5+1","v":2009},2010,2011,2012,2013,{"$f":"+H5+1","v":2014},{"$f":"+I5+1","v":2015},{"$f":"+J5+1","v":2016},{"$f":"+K5+1","v":2017},null,"EURO/GJ",{"$f":"LEFT(B88,4)+0","v":2007},{"$f":"+O5+1","v":2008},{"$f":"+P5+1","v":2009},{"$f":"+Q5+1","v":2010},{"$f":"+R5+1","v":2011},{"$f":"+S5+1","v":2012},{"$f":"+T5+1","v":2013},{"$f":"+U5+1","v":2014},{"$f":"+V5+1","v":2015},{"$f":"+W5+1","v":2016},{"$f":"+X5+1","v":2017},null,"EURO/GJ",{"$f":"LEFT(B125,4)+0","v":2007},{"$f":"+AB5+1","v":2008},{"$f":"+AC5+1","v":2009},{"$f":"+AD5+1","v":2010},{"$f":"+AE5+1","v":2011},{"$f":"+AF5+1","v":2012},{"$f":"+AG5+1","v":2013},{"$f":"+AH5+1","v":2014},{"$f":"+AI5+1","v":2015},{"$f":"+AJ5+1","v":2016},{"$f":"+AK5+1","v":2017}]
[{"$f":"A52","v":"European Union (28 countries)"},{"$f":"IFERROR(AVERAGE(B52,C52),\"*\")","v":15.23},{"$f":"IFERROR(AVERAGE(D52,E52),\"*\")","v":17.475000000000001},{"$f":"IFERROR(AVERAGE(F52,G52),\"*\")","v":17.285},{"$f":"IFERROR(AVERAGE(H52,I52),\"*\")","v":17.14},{"$f":"IFERROR(AVERAGE(J52,K52),\"*\")","v":18.835000000000001},{"$f":"IFERROR(AVERAGE(L52,M52),\"*\")","v":20.45},{"$f":"IFERROR(AVERAGE(N52,O52),\"*\")","v":21.35},{"$f":"IFERROR(AVERAGE(P52,Q52),\"*\")","v":22.975000000000001},{"$f":"IFERROR(AVERAGE(R52,S52),\"*\")","v":22.58},{"$f":"IFERROR(AVERAGE(T52,U52),\"*\")","v":20.13},{"$f":"IFERROR(AVERAGE(V52,W52),\"*\")","v":"*"},null,{"$f":"A89","v":"European Union (28 countries)"},{"$f":"IFERROR(AVERAGE(B89,C89),\"*\")","v":11.03},{"$f":"IFERROR(AVERAGE(D89,E89),\"*\")","v":12.655000000000001},{"$f":"IFERROR(AVERAGE(F89,G89),\"*\")","v":12.015000000000001},{"$f":"IFERROR(AVERAGE(H89,I89),\"*\")","v":11.555},{"$f":"IFERROR(AVERAGE(J89,K89),\"*\")","v":12.86},{"$f":"IFERROR(AVERAGE(L89,M89),\"*\")","v":14.29},{"$f":"IFERROR(AVERAGE(N89,O89),\"*\")","v":14.565},{"$f":"IFERROR(AVERAGE(P89,Q89),\"*\")","v":14.875},{"$f":"IFERROR(AVERAGE(R89,S89),\"*\")","v":14.66},{"$f":"IFERROR(AVERAGE(T89,U89),\"*\")","v":13},{"$f":"IFERROR(AVERAGE(V89,W89),\"*\")","v":"*"},null,{"$f":"A126","v":"European Union (28 countries)"},{"$f":"IFERROR(AVERAGE(B126,C126),\"*\")","v":9.8800000000000008},{"$f":"IFERROR(AVERAGE(D126,E126),\"*\")","v":11.510000000000002},{"$f":"IFERROR(AVERAGE(F126,G126),\"*\")","v":10.795},{"$f":"IFERROR(AVERAGE(H126,I126),\"*\")","v":10.365},{"$f":"IFERROR(AVERAGE(J126,K126),\"*\")","v":11.605},{"$f":"IFERROR(AVERAGE(L126,M126),\"*\")","v":12.75},{"$f":"IFERROR(AVERAGE(N126,O126),\"*\")","v":13.05},{"$f":"IFERROR(AVERAGE(P126,Q126),\"*\")","v":12.99},{"$f":"IFERROR(AVERAGE(R126,S126),\"*\")","v":12.82},{"$f":"IFERROR(AVERAGE(T126,U126),\"*\")","v":11.6},{"$f":"IFERROR(AVERAGE(V126,W126),\"*\")","v":"*"}]
[{"$f":"A53","v":"Belgium"},{"$f":"IFERROR(AVERAGE(B53,C53),\"*\")","v":17.440000000000001},{"$f":"IFERROR(AVERAGE(D53,E53),\"*\")","v":21.14},{"$f":"IFERROR(AVERAGE(F53,G53),\"*\")","v":18.754999999999999},{"$f":"IFERROR(AVERAGE(H53,I53),\"*\")","v":18.135000000000002},{"$f":"IFERROR(AVERAGE(J53,K53),\"*\")","v":19.950000000000003},{"$f":"IFERROR(AVERAGE(L53,M53),\"*\")","v":21.42},{"$f":"IFERROR(AVERAGE(N53,O53),\"*\")","v":20},19.73,18.835000000000001,15.84,"*",null,{"$f":"A90","v":"Belgium"},{"$f":"IFERROR(AVERAGE(B90,C90),\"*\")","v":11.14},{"$f":"IFERROR(AVERAGE(D90,E90),\"*\")","v":14.690000000000001},{"$f":"IFERROR(AVERAGE(F90,G90),\"*\")","v":12.494999999999999},{"$f":"IFERROR(AVERAGE(H90,I90),\"*\")","v":12.525},{"$f":"IFERROR(AVERAGE(J90,K90),\"*\")","v":15.184999999999999},{"$f":"IFERROR(AVERAGE(L90,M90),\"*\")","v":15.719999999999999},{"$f":"IFERROR(AVERAGE(N90,O90),\"*\")","v":14.53},14.09,13.27,11.53,"*",null,{"$f":"A127","v":"Belgium"},{"$f":"IFERROR(AVERAGE(B127,C127),\"*\")","v":9.9700000000000006},{"$f":"IFERROR(AVERAGE(D127,E127),\"*\")","v":13.79},{"$f":"IFERROR(AVERAGE(F127,G127),\"*\")","v":11.475000000000001},{"$f":"IFERROR(AVERAGE(H127,I127),\"*\")","v":10.95},{"$f":"IFERROR(AVERAGE(J127,K127),\"*\")","v":13.760000000000002},{"$f":"IFERROR(AVERAGE(L127,M127),\"*\")","v":14.195},{"$f":"IFERROR(AVERAGE(N127,O127),\"*\")","v":13.34},12.280000000000001,11.29,10.52,"*"]
["Bulgaria",7.0968,8.5770999999999997,9.4258000000000006,9.0931499999999996,10.277100000000001,12.153600000000001,12.138300000000001,11.5656,10.696400000000001,9.0142000000000007,"*",null,"Bulgaria",7.4802999999999997,8.6256000000000004,9.5024999999999995,9.2448499999999996,10.4382,12.153600000000001,11.9312,11.279299999999999,10.049600000000002,8.5183,"*",null,"Bulgaria",7.5979000000000001,9.0039499999999997,9.7581500000000005,9.3765000000000001,10.514849999999999,12.4527,12.038550000000001,11.453099999999999,10.05725,8.4518000000000004,"*"]
["Czech Republic",12.698499999999999,16.500399999999999,16.639499999999998,17.7698,21.026449999999997,21.859400000000001,21.501750000000001,19.699950000000001,20.720999999999997,21.1934,"*",null,"Czech Republic",8.4540000000000006,11.297699999999999,11.28645,11.4131,13.189399999999999,15.277850000000001,13.960750000000001,12.75065,13.28715,13.378299999999999,"*",null,"Czech Republic",8.2921999999999993,11.325900000000001,11.0627,10.928899999999999,12.48685,14.796150000000001,13.39025,12.170999999999999,12.480399999999999,12.478899999999999,"*"]
["Denmark",12.045949999999999,14.5542,11.3072,13.258649999999999,14.661750000000001,13.08465,12.071099999999999,9.7884499999999992,9.4884500000000003,7.9463999999999997,"*",null,"Denmark",15.469549999999998,14.5542,11.3072,13.258649999999999,14.661750000000001,13.08465,12.071099999999999,9.7884499999999992,9.4884500000000003,7.9463999999999997,"*",null,"Denmark",17.734300000000001,14.5542,11.3072,13.258649999999999,14.661750000000001,13.08465,12.071099999999999,9.7884499999999992,9.4884500000000003,7.9463999999999997,"*"]
["Germany (until 1990 former territory of the FRG)",17.72,21.299999999999997,20.384999999999998,20.189999999999998,21.895,22.08,23.119999999999997,23.04,22.745000000000001,23.15,"*",null,"Germany (until 1990 former territory of the FRG)",12.68,14.73,12.785,11.61,12.68,13.355,14.1,14.219999999999999,14.195,13.78,"*",null,"Germany (until 1990 former territory of the FRG)",11.9,13.344999999999999,11.34,10.94,12.01,12.649999999999999,13.129999999999999,13.115,13.095000000000001,12.59,"*"]
["Estonia",9.0855999999999995,9.1433999999999997,8.8070000000000004,9.8504500000000004,12.350000000000001,13.42,13.984999999999999,12.54,10.41,9.9,"*",null,"Estonia",6.1748000000000003,7.8857499999999998,8.5092999999999996,8.1859999999999999,9.2800000000000011,11.129999999999999,10.92,10.81,8.9649999999999999,9.24,"*",null,"Estonia",6.1417000000000002,7.8333499999999994,8.473749999999999,8.0851000000000006,8.76,10.7,10.255000000000001,10.145,8.58,8.58,"*"]
["Ireland",26.55,17.060000000000002,16.195,13.625,14.86,16.925000000000001,18.66,19.29,18.96,16.829999999999998,"*",null,"Ireland",14.84,14.594999999999999,14.615,12.094999999999999,13.024999999999999,14.925000000000001,15.885000000000002,16.414999999999999,16.064999999999998,14.94,"*",null,"Ireland",12.78,13.91,13.8,11.285,12.164999999999999,13.86,14.8,15.07,14.664999999999999,13.87,"*"]
["Greece","*","*","*","*","*",34.44,25.954999999999998,22.994999999999997,22.439999999999998,15.05,"*",null,"Greece","*","*","*","*","*",23.42,18.809999999999999,17.09,15.975000000000001,12.28,"*",null,"Greece","*","*","*","*","*",18,16.395,15.315,13.64,11.92,"*"]
["Spain",16.652000000000001,17.810500000000001,17.029049999999998,16.234549999999999,16.145000000000003,21.815000000000001,22.305,24.32,23.515000000000001,19.11,"*",null,"Spain",13.920999999999999,14.706499999999998,13.731850000000001,12.748699999999999,12.67,17.82,17.994999999999997,18.995000000000001,18.725000000000001,14.9,"*",null,"Spain",11.385,12.519,11.326550000000001,11.33595,12.835000000000001,14.6,15.39,15.015000000000001,14.239999999999998,12.24,"*"]
["France",22.77,24.922499999999999,26.27,25.634999999999998,27.83,28.465,30.655000000000001,32.484999999999999,31.22,28.58,"*",null,"France",12.2,12.999499999999999,13.43,12.82,14.184999999999999,15.244999999999999,16.265000000000001,16.77,15.870000000000001,13.96,"*",null,"France",10.68,11.5915,11.785,11,12.245000000000001,13.42,13.780000000000001,14.120000000000001,13.100000000000001,11.72,"*"]
["Croatia",6.1830499999999997,6.1123000000000003,7.3401999999999994,8.6067999999999998,8.4358499999999985,9.3736499999999996,10.471250000000001,11.3172,12.25055,11.4274,"*",null,"Croatia",6.1830499999999997,6.1123000000000003,7.3401999999999994,8.6067999999999998,8.4358499999999985,9.5336499999999997,10.366350000000001,10.43765,10.35585,9.5228999999999999,"*",null,"Croatia",6.1830499999999997,6.1123000000000003,7.3401999999999994,8.6067999999999998,8.4358499999999985,9.5549999999999997,10.3268,9.83385,9.8698000000000015,9.0162999999999993,"*"]
["Italy",13.977,15.852500000000001,14.2895,16.408000000000001,18.785,21.875,22.55,24.950000000000003,23.625,19.11,"*",null,"Italy",11.349,12.7925,11.9255,12.144500000000001,13.934999999999999,16.055,16.454999999999998,16.09,15.11,13.16,"*",null,"Italy",10.361000000000001,11.0985,11.373999999999999,10.336500000000001,11.87,13.52,13.785,12.864999999999998,12.154999999999999,11.08,"*"]
["Latvia",7.8182,13.57075,18.3626,15.34355,15.936,18.070599999999999,17.137999999999998,16.744999999999997,16.785,15.55,"*",null,"Latvia",7.3322000000000003,10.738099999999999,11.39105,9.0789000000000009,9.7484999999999999,11.79635,11.113949999999999,10.695,10.775,9.25,"*",null,"Latvia",7.2893999999999997,10.58225,11.19275,8.9731500000000004,9.6424000000000003,11.774850000000001,11.049800000000001,10.559999999999999,10.75,9.25,"*"]
["Lithuania",8.4740000000000002,12.4217,15.292449999999999,15.13555,16.207149999999999,18.626950000000001,19.872299999999999,18.298200000000001,17.414999999999999,17.14,"*",null,"Lithuania",5.5244999999999997,8.3783500000000011,9.6886499999999991,9.5112500000000004,11.1822,12.866350000000001,13.963999999999999,12.15105,9.86,9.48,"*",null,"Lithuania",4.8673999999999999,7.5429999999999993,8.7829999999999995,8.5526499999999999,9.6471999999999998,11.654299999999999,11.958400000000001,9.9701500000000003,10.01,9.48,"*"]
["Luxembourg",10.99,14.835000000000001,18.729999999999997,13.195,17.759999999999998,16.169999999999998,18.445,16.75,14.649999999999999,12.9,"*",null,"Luxembourg",8.7200000000000006,13.414999999999999,11.565,11.1,13.635000000000002,14.645,14.879999999999999,13,11.79,10.92,"*",null,"Luxembourg",8.25,10.754999999999999,10.274999999999999,11.455,12.455,14.65,15.07,13.14,11.785,10.96,"*"]
["Hungary",8.7995999999999999,10.476749999999999,11.322800000000001,13.057449999999999,13.59775,11.4732,10.2346,8.5048500000000011,8.2363999999999997,7.7333999999999996,"*",null,"Hungary",8.8488000000000007,10.0684,10.86655,12.098949999999999,12.557600000000001,10.7081,9.3220500000000008,7.8283500000000004,7.7084999999999999,7.5286,"*",null,"Hungary",8.7367000000000008,10.1684,10.749600000000001,11.90005,12.330549999999999,10.5443,9.1631500000000017,7.8712999999999997,7.6271500000000003,7.5313999999999997,"*"]
["Netherlands",21.145,20.814999999999998,20.454999999999998,19.3,20.734999999999999,21.805,22.524999999999999,22.195,21.950000000000003,17.47,"*",null,"Netherlands",12.344999999999999,12.535,12.83,11.705,12.559999999999999,13.63,13.62,12.96,12.25,10.41,"*",null,"Netherlands",11.06,"*",11.345000000000001,10.155000000000001,11.375,12.125,12.309999999999999,11.195,10.309999999999999,8.9,"*"]
["Austria",15.67,15.305,15.71,15.23,17.615000000000002,18.975000000000001,18.855,18.509999999999998,18.134999999999998,17.78,"*",null,"Austria",12.38,12.215,12.8,12.305,14.525,15.67,15.695,15.195,14.75,14.06,"*",null,"Austria",10.68,10.61,11.23,10.83,12.805,13.685,13.745000000000001,13.405000000000001,12.765000000000001,11.94,"*"]
["Poland",11.742100000000001,13.680350000000001,12.19875,13.2865,13.690099999999999,14.68825,14.173449999999999,14.359549999999999,14.085100000000001,12.834300000000001,"*",null,"Poland",9.1348000000000003,10.59825,9.6637500000000003,10.592849999999999,10.8818,11.794499999999999,11.052900000000001,11.173950000000001,11.2767,8.8422999999999998,"*",null,"Poland",8.3775999999999993,8.9131999999999998,8.8953000000000007,9.5834499999999991,10.02595,11.0753,10.718150000000001,10.834900000000001,10.93985,8.1876999999999995,"*"]
["Portugal",22.042400000000001,21.426499999999997,20.704700000000003,20.512,21.509999999999998,22.630000000000003,23.994999999999997,25.555,25.41,23.5,"*",null,"Portugal",17.266300000000001,16.591999999999999,15.705649999999999,16.036999999999999,16.805,17.715,19.170000000000002,21.045000000000002,20.994999999999997,19.38,"*",null,"Portugal",14.142799999999999,15.07,13.7052,13.5945,14.445,15.4,17.11,19.03,19.545000000000002,18.850000000000001,"*"]
["Romania",6.3415999999999997,6.0532000000000004,4.4690499999999993,4.1242000000000001,4.0257500000000004,4.0122,4.3605,4.3752500000000003,4.6386000000000003,4.9626999999999999,"*",null,"Romania",6.3128000000000002,6.0471000000000004,4.4468999999999994,4.1010999999999997,4.0672500000000005,3.9965000000000002,4.3412500000000005,4.3481000000000005,4.5745000000000005,4.9160000000000004,"*",null,"Romania",6.3162000000000003,6.0358000000000001,4.4125499999999995,4.0562500000000004,4.0084,3.9549499999999997,4.2868999999999993,4.2535500000000006,4.4270999999999994,4.7826000000000004,"*"]
["Slovenia",13.67,17.455000000000002,17.405000000000001,15.7189,18.365000000000002,20.994999999999997,15.984999999999999,15.420000000000002,14.62,13.95,"*",null,"Slovenia",10.99,13.91,13.059999999999999,13.446999999999999,15.665000000000001,16.445,14.48,13.405000000000001,12.32,11.84,"*",null,"Slovenia",10.44,13.01,12.645,12.832899999999999,13.61,14.8,13.96,14.065000000000001,11.870000000000001,10.73,"*"]
["Slovakia",18.9651,22.295200000000001,23.269500000000001,22.600999999999999,23.21,23.189999999999998,23.805,23.78,24.1,23.41,"*",null,"Slovakia",9.6747999999999994,10.422700000000001,10.942,10.294499999999999,11.315,11.92,11.765000000000001,11.879999999999999,11.465,10.65,"*",null,"Slovakia",9.5449000000000002,9.7444000000000006,10.963000000000001,10.196999999999999,11.905000000000001,11.41,12.33,12.67,12.14,11.2,"*"]
["Sweden",20.936250000000001,22.274799999999999,23.928899999999999,29.100949999999997,31.62265,34.819199999999995,29.988199999999999,29.8307,31.592849999999999,28.524699999999999,"*",null,"Sweden",14.796099999999999,15.881450000000001,14.751449999999998,16.924349999999997,18.17475,18.201999999999998,18.728850000000001,17.744050000000001,17.4557,16.9224,"*",null,"Sweden",14.15165,15.04935,13.33595,15.412749999999999,15.967600000000001,16.218350000000001,16.300650000000001,14.988150000000001,14.9788,14.434900000000001,"*"]
["United Kingdom",10.228899999999999,12.590499999999999,12.59455,12.349900000000002,14.288600000000001,16.82535,18.155850000000001,23.387499999999999,23.96435,20.139399999999998,"*",null,"United Kingdom",9.4391999999999996,11.5983,11.279299999999999,10.9467,12.53715,14.550650000000001,14.7912,16.474,17.2502,14.629300000000001,"*",null,"United Kingdom",8.1667000000000005,10.733550000000001,9.9522499999999994,9.6532499999999999,10.941099999999999,12.833299999999999,13.277100000000001,14.36975,15.387450000000001,13.4733,"*"]
[null,null,null,null,null,null,null,null,null,null,null,null,null,null,null,null,null,null,null,null,null,"*","*","*","*",null,null,null,null,null,null,null,null,null,"*","*","*","*"]
[]
[]
[]
["Baggrundsdata for level 1 priser"]
["Eurostat, tabel:",{"$f":"A39","v":"Gas prices for domestic consumers - bi-annual data (from 2007 onwards) [nrg_pc_202]"}]
["Opdateret:",{"$f":"B42","v":"2016-12-08T10:26:33.776"}]
["Gas prices for domestic consumers - bi-annual data (from 2007 onwards) [nrg_pc_202]"]
[]
["Last update","2016-11-07T16:45:30"]
["Extracted on","2016-12-08T10:26:33.776"]
["Source of data","Eurostat"]
[]
["PRODUCT","Natural gas"]
["CONSOM","Band D1 : Consumption < 20 GJ"]
["UNIT","Gigajoules (gross calorific value = GCV)"]
["TAX","Excluding taxes and levies"]
["CURRENCY","Euro"]
[]
["GEO/TIME","2007S1","2007S2","2008S1","2008S2","2009S1","2009S2","2010S1","2010S2","2011S1","2011S2","2012S1","2012S2","2013S1","2013S2","2014S1","2014S2","2015S1","2015S2","2016S1"]
["European Union (28 countries)",":",15.23,16.02,18.93,17.36,17.21,15.82,18.46,17.350000000000001,20.32,18.75,22.15,19.71,22.99,21.43,24.52,21.05,24.11,20.13]
["Belgium",":",17.440000000000001,19.399999999999999,22.88,19.79,17.72,17.920000000000002,18.350000000000001,18.3,21.6,19.89,22.95,20.48,19.52,18.940000000000001,20.52,18.170000000000002,19.5,15.84]
["Bulgaria",":",7.0968,7.4957000000000003,9.6585000000000001,11.028700000000001,7.8228999999999997,8.4108999999999998,9.7753999999999994,9.8834,10.6708,11.473599999999999,12.833600000000001,11.509399999999999,12.767200000000001,11.171900000000001,11.959300000000001,11.3969,9.9959000000000007,9.0142000000000007]
["Czech Republic",":",12.698499999999999,15.337899999999999,17.6629,16.791799999999999,16.487200000000001,17.152699999999999,18.386900000000001,20.180299999999999,21.872599999999998,21.834599999999998,21.8842,22.2593,20.744199999999999,19.627600000000001,19.772300000000001,20.555599999999998,20.886399999999998,21.1934]
["Denmark",11.2707,12.821199999999999,14.3241,14.7843,10.7729,11.8415,13.1267,13.390599999999999,14.715400000000001,14.6081,13.4002,12.7691,12.2486,11.893599999999999,10.134499999999999,9.4423999999999992,9.9152000000000005,9.0617000000000001,7.9463999999999997]
["Germany (until 1990 former territory of the FRG)",":",17.72,19.63,22.97,21.07,19.7,18.97,21.41,21.63,22.16,21.94,22.22,22.61,23.63,23.59,22.49,23.07,22.42,23.15]
["Estonia",":",9.0855999999999995,8.9441000000000006,9.3427000000000007,9.3048000000000002,8.3092000000000006,8.4382999999999999,11.262600000000001,11.57,13.13,12.8,14.04,14.9,13.07,12.98,12.1,11.9,8.92,9.9]
["Ireland",":",26.55,16.760000000000002,17.36,16.91,15.48,13.35,13.9,12.91,16.809999999999999,15.83,18.02,16.55,20.77,17.57,21.01,17.27,20.65,16.829999999999998]
["Greece",":",":",":",":",":",":",":",":",":",":",":",34.44,20.29,31.62,19.18,26.81,18.05,26.83,15.05]
["Spain",":",16.652000000000001,16.940000000000001,18.681000000000001,17.64,16.418099999999999,16.310700000000001,16.1584,16.12,16.170000000000002,19.100000000000001,24.53,20.010000000000002,24.6,21.26,27.38,20.53,26.5,19.11]
["France",":",22.77,22.1,27.745000000000001,24.21,28.33,23.75,27.52,25.54,30.12,25.87,31.06,28.02,33.29,30.28,34.69,28.79,33.65,28.58]
["Croatia",6.4382999999999999,5.9278000000000004,5.9103000000000003,6.3143000000000002,7.2633999999999999,7.4169999999999998,8.6454000000000004,8.5681999999999992,8.4757999999999996,8.3958999999999993,8.5794999999999995,10.1678,10.4383,10.504200000000001,10.6945,11.9399,12.2874,12.213699999999999,11.4274]
["Italy",13.69,14.263999999999999,13.948,17.757000000000001,15.234999999999999,13.343999999999999,12.516,20.3,15.27,22.3,17.48,26.27,19.53,25.57,21.03,28.87,19.920000000000002,27.33,19.11]
["Latvia",":",7.8182,8.7615999999999996,18.379899999999999,20.203900000000001,16.5213,13.964,16.723099999999999,15.6707,16.2013,17.442399999999999,18.698799999999999,17.2653,17.0107,16.88,16.61,16.93,16.64,15.55]
["Lithuania",":",8.4740000000000002,11.997999999999999,12.8454,16.2928,14.2921,14.441700000000001,15.8294,15.2514,17.1629,17.3367,19.917200000000001,20.369,19.375599999999999,19.262599999999999,17.3338,17.7,17.13,17.14]
["Luxembourg",":",10.99,12.88,16.79,19.079999999999998,18.38,12.57,13.82,17.13,18.39,14.26,18.079999999999998,20.6,16.29,17.559999999999999,15.94,14.7,14.6,12.9]
["Hungary",":",8.7995999999999999,9.5276999999999994,11.425800000000001,11.210699999999999,11.434900000000001,12.695499999999999,13.4194,13.3042,13.891299999999999,10.849600000000001,12.0968,10.2278,10.241400000000001,8.7582000000000004,8.2515000000000001,8.3312000000000008,8.1416000000000004,7.7333999999999996]
["Netherlands",21.46,20.83,19.7,21.93,20.77,20.14,17.89,20.71,18.170000000000002,23.3,19.170000000000002,24.44,18.940000000000001,26.11,20.59,23.8,18.73,25.17,17.47]
["Austria",":",15.67,15.13,15.48,16.02,15.4,15.39,15.07,17.260000000000002,17.97,18.920000000000002,19.03,19,18.71,18.690000000000001,18.329999999999998,18.329999999999998,17.940000000000001,17.78]
["Poland",":",11.742100000000001,12.607900000000001,14.752800000000001,11.8108,12.5867,12.956,13.617000000000001,14.048299999999999,13.331899999999999,13.452,15.9245,15.049099999999999,13.297800000000001,14.116,14.6031,14.6433,13.526899999999999,12.834300000000001]
["Portugal",":",22.042400000000001,21.446999999999999,21.405999999999999,20.87,20.539400000000001,19.526,21.498000000000001,20.329999999999998,22.69,21.17,24.09,22.99,25,24.27,26.84,25.46,25.36,23.5]
["Romania",":",6.3415999999999997,5.9454000000000002,6.1609999999999996,4.8555999999999999,4.0824999999999996,4.2013999999999996,4.0469999999999997,4.1656000000000004,3.8858999999999999,3.9578000000000002,4.0666000000000002,4.2381000000000002,4.4828999999999999,4.4423000000000004,4.3082000000000003,4.2290000000000001,5.0481999999999996,4.9626999999999999]
["Slovenia",":",13.67,14.97,19.940000000000001,17.87,16.940000000000001,15.535,15.902799999999999,17.32,19.41,21.16,20.83,17.850000000000001,14.12,17.21,13.63,15.2,14.04,13.95]
["Slovakia",":",18.9651,21.705200000000001,22.885200000000001,23.347999999999999,23.190999999999999,22.673999999999999,22.527999999999999,22.94,23.48,23.32,23.06,23.43,24.18,23.54,24.02,24.13,24.07,23.41]
["Sweden",23.279,18.593499999999999,18.172599999999999,26.376999999999999,21.9892,25.868600000000001,27.473099999999999,30.7288,30.811800000000002,32.433500000000002,33.202399999999997,36.436,31.084800000000001,28.8916,28.929099999999998,30.732299999999999,29.6785,33.507199999999997,28.524699999999999]
["United Kingdom",":",10.228899999999999,11.728999999999999,13.452,12.631399999999999,12.557700000000001,12.123100000000001,12.576700000000001,12.8527,15.724500000000001,15.7012,17.9495,15.9138,20.3979,21.113099999999999,25.661899999999999,22.0703,25.8584,20.139399999999998]
[]
["Special value:"]
[":","not available"]
[]
["PRODUCT","Natural gas"]
["CONSOM","Band D2 : 20 GJ < Consumption < 200 GJ"]
["UNIT","Gigajoules (gross calorific value = GCV)"]
["TAX","Excluding taxes and levies"]
["CURRENCY","Euro"]
[]
["GEO/TIME","2007S1","2007S2","2008S1","2008S2","2009S1","2009S2","2010S1","2010S2","2011S1","2011S2","2012S1","2012S2","2013S1","2013S2","2014S1","2014S2","2015S1","2015S2","2016S1"]
["European Union (28 countries)",":",11.03,11.66,13.65,12.62,11.41,11.05,12.06,11.91,13.81,13.49,15.09,14.03,15.1,14.33,15.42,14.24,15.08,13]
["Belgium",":",11.14,13.01,16.37,13.54,11.45,11.75,13.3,14.08,16.29,15.2,16.239999999999998,14.53,14.53,14.25,13.93,13.27,13.27,11.53]
["Bulgaria",":",7.4802999999999997,8.2012,9.0500000000000007,10.946899999999999,8.0580999999999996,8.5079999999999991,9.9817,9.9550000000000001,10.9214,11.437799999999999,12.869400000000001,11.8673,11.995100000000001,11.356,11.2026,11.049200000000001,9.0500000000000007,8.5183]
["Czech Republic",":",8.4540000000000006,10.2536,12.341799999999999,11.553100000000001,11.0198,10.866099999999999,11.960100000000001,12.603999999999999,13.774800000000001,15.259499999999999,15.296200000000001,14.713200000000001,13.208299999999999,12.585599999999999,12.915699999999999,13.181100000000001,13.3932,13.378299999999999]
["Denmark",18.117899999999999,12.821199999999999,14.3241,14.7843,10.7729,11.8415,13.1267,13.390599999999999,14.715400000000001,14.6081,13.4002,12.7691,12.2486,11.893599999999999,10.134499999999999,9.4423999999999992,9.9152000000000005,9.0617000000000001,7.9463999999999997]
["Germany (until 1990 former territory of the FRG)",":",12.68,13.32,16.14,13.48,12.09,11.54,11.68,12.08,13.28,13.22,13.49,13.77,14.43,14.18,14.26,14.13,14.26,13.78]
["Estonia",":",6.1748000000000003,7.3897000000000004,8.3818000000000001,8.9925999999999995,8.0259999999999998,7.7148000000000003,8.6571999999999996,9.07,9.49,10.92,11.34,11.44,10.4,10.73,10.89,9.9499999999999993,7.98,9.24]
["Ireland",":",14.84,13.29,15.9,15.76,13.47,12.07,12.12,11.69,14.36,14.26,15.59,15.13,16.64,15.62,17.21,15.43,16.7,14.94]
["Greece",":",":",":",":",":",":",":",":",":",":",":",23.42,17.399999999999999,20.22,16.2,17.98,15.13,16.82,12.28]
["Spain",":",13.920999999999999,13.776999999999999,15.635999999999999,14.64,12.823700000000001,12.786300000000001,12.7111,12.62,12.72,15.57,20.07,16.16,19.829999999999998,16.62,21.37,16.14,21.31,14.9]
["France",":",12.2,12.29,13.709,13.01,13.85,12.25,13.39,13.43,14.94,14.7,15.79,15.69,16.84,16.14,17.399999999999999,15.57,16.170000000000002,13.96]
["Croatia",6.4382999999999999,5.9278000000000004,5.9103000000000003,6.3143000000000002,7.2633999999999999,7.4169999999999998,8.6454000000000004,8.5681999999999992,8.4757999999999996,8.3958999999999993,8.5794999999999995,10.4878,10.3353,10.397399999999999,10.318099999999999,10.5572,10.501799999999999,10.209899999999999,9.5228999999999999]
["Italy",11.56,11.138,12.031000000000001,13.554,14.157999999999999,9.6929999999999996,10.449,13.84,12.25,15.62,14.19,17.920000000000002,15.66,17.25,14.78,17.399999999999999,14,16.22,13.16]
["Latvia",":",7.3322000000000003,8.2749000000000006,13.2013,13.2097,9.5724,7.9208999999999996,10.2369,9.5891000000000002,9.9078999999999997,11.198600000000001,12.3941,11.1389,11.089,10.65,10.74,10.9,10.65,9.25]
["Lithuania",":",5.5244999999999997,7.7516999999999996,9.0050000000000008,9.9989000000000008,9.3783999999999992,8.6205999999999996,10.401899999999999,9.9773999999999994,12.387,11.7064,14.026300000000001,13.837999999999999,14.09,12.841799999999999,11.4603,9.7100000000000009,10.01,9.48]
["Luxembourg",":",8.7200000000000006,14.1,12.73,12.19,10.94,10.6,11.6,12.72,14.55,14.36,14.93,15.66,14.1,13.29,12.71,12.08,11.5,10.92]
["Hungary",":",8.8488000000000007,9.3641000000000005,10.7727,11.1477,10.5854,11.896699999999999,12.3012,12.4575,12.6577,10.3468,11.0694,9.4570000000000007,9.1870999999999992,7.9893999999999998,7.6673,7.7187999999999999,7.6981999999999999,7.5286]
["Netherlands",12.54,12.15,11.82,13.25,14.41,11.25,11.24,12.17,11.43,13.69,12.55,14.71,12.79,14.45,12.6,13.32,11.71,12.79,10.41]
["Austria",":",12.38,11.88,12.55,13.13,12.47,12.54,12.07,14.22,14.83,15.6,15.74,15.84,15.55,15.39,15,14.97,14.53,14.06]
["Poland",":",9.1348000000000003,9.4773999999999994,11.719099999999999,8.8524999999999991,10.475,9.6776999999999997,11.507999999999999,10.4635,11.3001,10.583600000000001,13.0054,10.6129,11.492900000000001,11.0456,11.302300000000001,11.303100000000001,11.250299999999999,8.8422999999999998]
["Portugal",":",17.266300000000001,16.539000000000001,16.645,15.68,15.731299999999999,15.705,16.369,15.75,17.86,16.34,19.09,18.25,20.09,19.82,22.27,20.93,21.06,19.38]
["Romania",":",6.3128000000000002,5.9497,6.1444999999999999,4.8414000000000001,4.0523999999999996,4.1792999999999996,4.0228999999999999,4.1416000000000004,3.9929000000000001,3.9419,4.0510999999999999,4.2199,4.4626000000000001,4.4400000000000004,4.2561999999999998,4.1727999999999996,4.9762000000000004,4.9160000000000004]
["Slovenia",":",10.99,12.14,15.68,14.44,11.68,12.560700000000001,14.333299999999999,14.23,17.100000000000001,17.23,15.66,14.14,14.82,13.85,12.96,12.55,12.09,11.84]
["Slovakia",":",9.6747999999999994,9.9898000000000007,10.855600000000001,10.781000000000001,11.103,10.177,10.412000000000001,10.78,11.85,11.93,11.91,11.54,11.99,11.75,12.01,11.48,11.45,10.65]
["Sweden",15.209199999999999,14.382999999999999,14.7712,16.991700000000002,14.130599999999999,15.372299999999999,16.441199999999998,17.407499999999999,18.3215,18.027999999999999,17.7821,18.6219,18.644100000000002,18.813600000000001,18.1097,17.378399999999999,16.9833,17.928100000000001,16.9224]
["United Kingdom",":",9.4391999999999996,10.4643,12.7323,11.2776,11.281000000000001,10.7288,11.1646,11.240399999999999,13.8339,13.8161,15.2852,14.033300000000001,15.549099999999999,15.8653,17.082699999999999,16.812200000000001,17.688199999999998,14.629300000000001]
[]
["Special value:"]
[":","not available"]
[]
["PRODUCT","Natural gas"]
["CONSOM","Band D3 : Consumption > 200 GJ"]
["UNIT","Gigajoules (gross calorific value = GCV)"]
["TAX","Excluding taxes and levies"]
["CURRENCY","Euro"]
[]
["GEO/TIME","2007S1","2007S2","2008S1","2008S2","2009S1","2009S2","2010S1","2010S2","2011S1","2011S2","2012S1","2012S2","2013S1","2013S2","2014S1","2014S2","2015S1","2015S2","2016S1"]
["European Union (28 countries)",":",9.8800000000000008,10.8,12.22,11.35,10.24,10.09,10.64,11,12.21,12.34,13.16,13.05,13.05,12.92,13.06,12.86,12.78,11.6]
["Belgium",":",9.9700000000000006,12.23,15.35,12.57,10.38,10.66,11.24,12.72,14.8,13.19,15.2,13.51,13.17,12.66,11.9,11.58,11,10.52]
["Bulgaria",":",7.5979000000000001,8.3187999999999995,9.6890999999999998,11.2281,8.2881999999999998,8.6358999999999995,10.117100000000001,10.047000000000001,10.982699999999999,11.718999999999999,13.186400000000001,12.1127,11.964399999999999,11.642300000000001,11.2639,11.136100000000001,8.9784000000000006,8.4518000000000004]
["Czech Republic",":",8.2921999999999993,10.262700000000001,12.389099999999999,11.339700000000001,10.7857,10.455299999999999,11.4025,11.9,13.073700000000001,14.7789,14.8134,13.8727,12.9078,12.114100000000001,12.2279,12.380800000000001,12.58,12.478899999999999]
["Denmark",22.647400000000001,12.821199999999999,14.3241,14.7843,10.7729,11.8415,13.1267,13.390599999999999,14.715400000000001,14.6081,13.4002,12.7691,12.2486,11.893599999999999,10.134499999999999,9.4423999999999992,9.9152000000000005,9.0617000000000001,7.9463999999999997]
["Germany (until 1990 former territory of the FRG)",":",11.9,12.09,14.6,12.09,10.59,10.44,11.44,11.59,12.43,12.52,12.78,12.94,13.32,13.07,13.16,13.13,13.06,12.59]
["Estonia",":",6.1417000000000002,7.4273999999999996,8.2393000000000001,8.9687999999999999,7.9786999999999999,7.633,8.5372000000000003,8.9499999999999993,8.57,10.32,11.08,11.05,9.4600000000000009,10.23,10.06,9.84,7.32,8.58]
["Ireland",":",12.78,12.68,15.14,15.16,12.44,11.48,11.09,11.08,13.25,13.42,14.3,14.46,15.14,14.68,15.46,14.47,14.86,13.87]
["Greece",":",":",":",":",":",":",":",":",":",":",":",18,17.059999999999999,15.73,15.59,15.04,14.89,12.39,11.92]
["Spain",":",11.385,11.474,13.564,11.78,10.873100000000001,10.6912,11.980700000000001,11.82,13.85,13.45,15.75,15.16,15.62,14.43,15.6,14.11,14.37,12.24]
["France",":",10.68,11.12,12.063000000000001,11.87,11.7,10.73,11.27,11.9,12.59,13.45,13.39,13.88,13.68,14.07,14.17,13.21,12.99,11.72]
["Croatia",6.4382999999999999,5.9278000000000004,5.9103000000000003,6.3143000000000002,7.2633999999999999,7.4169999999999998,8.6454000000000004,8.5681999999999992,8.4757999999999996,8.3958999999999993,8.5794999999999995,10.5305,10.3445,10.309100000000001,9.7908000000000008,9.8768999999999991,10.0494,9.6902000000000008,9.0162999999999993]
["Italy",10.53,10.192,10.664999999999999,11.532,13.029,9.7189999999999994,9.7929999999999993,10.88,11.2,12.54,13,14.04,14.53,13.04,13.29,12.44,12.2,12.11,11.08]
["Latvia",":",7.2893999999999997,8.2462,12.9183,12.884,9.5015000000000001,7.8644999999999996,10.081799999999999,9.4053000000000004,9.8795000000000002,11.1843,12.365399999999999,11.096,11.0036,10.59,10.53,10.87,10.63,9.25]
["Lithuania",":",4.8673999999999999,7.5518999999999998,7.5340999999999996,9.5770999999999997,7.9889000000000001,7.8413000000000004,9.2639999999999993,8.6538000000000004,10.640599999999999,10.3047,13.0039,12.389900000000001,11.526899999999999,10.5566,9.3836999999999993,":",10.01,9.48]
["Luxembourg",":",8.25,9.77,11.74,11.2,9.35,10.99,11.92,11.59,13.32,14.39,14.91,15.79,14.35,13.24,13.04,12.13,11.44,10.96]
["Hungary",":",8.7367000000000008,9.2439,11.0929,10.8535,10.6457,12.0398,11.760300000000001,12.4566,12.204499999999999,10.0464,11.042199999999999,9.3327000000000009,8.9936000000000007,8.0525000000000002,7.6901000000000002,7.6718999999999999,7.5823999999999998,7.5313999999999997]
["Netherlands",11.06,":",":",":",12.97,9.7200000000000006,9.8000000000000007,10.51,10.4,12.35,11.32,12.93,12.2,12.42,11.09,11.3,10.33,10.29,8.9]
["Austria",":",10.68,10.32,10.9,11.54,10.92,10.92,10.74,12.65,12.96,13.63,13.74,13.85,13.64,13.56,13.25,12.97,12.56,11.94]
["Poland",":",8.3775999999999993,8.9131999999999998,":",8.4861000000000004,9.3045000000000009,8.9855,10.1814,9.6639999999999997,10.3879,10.2727,11.8779,10.2849,11.151400000000001,10.8421,10.8277,11.1027,10.776999999999999,8.1876999999999995]
["Portugal",":",14.142799999999999,14.856,15.284000000000001,13.33,14.080399999999999,12.951000000000001,14.238,14.06,14.83,14.39,16.41,16.41,17.809999999999999,18.36,19.7,20.11,18.98,18.850000000000001]
["Romania",":",6.3162000000000003,5.9542000000000002,6.1173999999999999,4.8178000000000001,4.0072999999999999,4.1337999999999999,3.9786999999999999,4.0890000000000004,3.9278,3.8940999999999999,4.0157999999999996,4.1628999999999996,4.4108999999999998,4.3593999999999999,4.1477000000000004,4.0602999999999998,4.7938999999999998,4.7826000000000004]
["Slovenia",":",10.44,11.28,14.74,14.26,11.03,12.2494,13.416399999999999,12.27,14.95,14.45,15.15,14.06,13.86,12.98,15.15,12.17,11.57,10.73]
["Slovakia",":",9.5449000000000002,9.3427000000000007,10.146100000000001,10.792,11.134,10.076000000000001,10.318,11.98,11.83,11.45,11.37,11.83,12.83,12.61,12.73,12.23,12.05,11.2]
["Sweden",14.139099999999999,14.164199999999999,14.063000000000001,16.035699999999999,12.8996,13.7723,15.3573,15.4682,16.078700000000001,15.8565,15.319000000000001,17.117699999999999,17.069800000000001,15.531499999999999,15.784599999999999,14.191700000000001,14.804500000000001,15.1531,14.434900000000001]
["United Kingdom",":",8.1667000000000005,10.294,11.1731,10.114100000000001,9.7904,9.7241999999999997,9.5823,9.9504999999999999,11.931699999999999,12.3202,13.346399999999999,13.045999999999999,13.5082,13.880599999999999,14.8589,15.309900000000001,15.465,13.4733]
[]
["Special value:"]
[":","not available"]

{"sheet":"Level 2","index":5,"n_rows":154,"n_cols":38,"rows_kept":154,"cut":false,"hidden":false,"merged":[[2,0,2,11],[2,13,2,24],[2,26,2,37]]}
["Gaspriser, forbrugere. Level 2 gaspriser for forskellige forbrugsintervaller"]
[]
["Forbrugsinterval < 20 GJ",null,null,null,null,null,null,null,null,null,null,null,null,"Forbrugsinterval  20 GJ <  200 GJ",null,null,null,null,null,null,null,null,null,null,null,null,"Forbrugsinterval  >200 GJ"]
[]
["EURO/GJ",{"$f":"+LEFT(B51,4)+0","v":2007},{"$f":"B5+1","v":2008},{"$f":"+C5+1","v":2009},2010,2011,2012,2013,2014,2015,2016,2017,null,"EURO/GJ",{"$f":"LEFT(B88,4)+0","v":2007},{"$f":"+O5+1","v":2008},{"$f":"+P5+1","v":2009},{"$f":"+Q5+1","v":2010},2011,2012,2013,2014,2015,2016,2017,null,"EURO/GJ",{"$f":"LEFT(B125,4)+0","v":2007},{"$f":"+AB5+1","v":2008},{"$f":"+AC5+1","v":2009},2010,2011,2012,2013,2014,2015,2016,2017]
[{"$f":"A52","v":"European Union (28 countries)"},{"$f":"IFERROR(AVERAGE(B52,C52),\"*\")","v":16.899999999999999},{"$f":"IFERROR(AVERAGE(D52,E52),\"*\")","v":18.875},{"$f":"IFERROR(AVERAGE(F52,G52),\"*\")","v":18.740000000000002},{"$f":"IFERROR(AVERAGE(H52,I52),\"*\")","v":18.72},{"$f":"IFERROR(AVERAGE(J52,K52),\"*\")","v":20.645000000000003},{"$f":"IFERROR(AVERAGE(L52,M52),\"*\")","v":22.229999999999997},{"$f":"IFERROR(AVERAGE(N52,O52),\"*\")","v":23.234999999999999},{"$f":"IFERROR(AVERAGE(P52,Q52),\"*\")","v":24.875},{"$f":"IFERROR(AVERAGE(R52,S52),\"*\")","v":24.524999999999999},{"$f":"IFERROR(AVERAGE(T52,U52),\"*\")","v":22.18},{"$f":"IFERROR(AVERAGE(V52,W52),\"*\")","v":"*"},null,{"$f":"A89","v":"European Union (28 countries)"},{"$f":"IFERROR(AVERAGE(B89,C89),\"*\")","v":12.23},{"$f":"IFERROR(AVERAGE(D89,E89),\"*\")","v":13.835000000000001},{"$f":"IFERROR(AVERAGE(F89,G89),\"*\")","v":13.254999999999999},{"$f":"IFERROR(AVERAGE(H89,I89),\"*\")","v":13.025},{"$f":"IFERROR(AVERAGE(J89,K89),\"*\")","v":14.46},{"$f":"IFERROR(AVERAGE(L89,M89),\"*\")","v":15.895},{"$f":"IFERROR(AVERAGE(N89,O89),\"*\")","v":16.28},{"$f":"IFERROR(AVERAGE(P89,Q89),\"*\")","v":16.605},{"$f":"IFERROR(AVERAGE(R89,S89),\"*\")","v":16.450000000000003},{"$f":"IFERROR(AVERAGE(T89,U89),\"*\")","v":14.93},{"$f":"IFERROR(AVERAGE(V89,W89),\"*\")","v":"*"},null,{"$f":"A126","v":"European Union (28 countries)"},{"$f":"IFERROR(AVERAGE(B126,C126),\"*\")","v":10.96},{"$f":"IFERROR(AVERAGE(D126,E126),\"*\")","v":12.545},{"$f":"IFERROR(AVERAGE(F126,G126),\"*\")","v":11.94},{"$f":"IFERROR(AVERAGE(H126,I126),\"*\")","v":11.695},{"$f":"IFERROR(AVERAGE(J126,K126),\"*\")","v":13.059999999999999},{"$f":"IFERROR(AVERAGE(L126,M126),\"*\")","v":14.395},{"$f":"IFERROR(AVERAGE(N126,O126),\"*\")","v":14.760000000000002},{"$f":"IFERROR(AVERAGE(P126,Q126),\"*\")","v":14.765000000000001},{"$f":"IFERROR(AVERAGE(R126,S126),\"*\")","v":14.645},{"$f":"IFERROR(AVERAGE(T126,U126),\"*\")","v":13.59},{"$f":"IFERROR(AVERAGE(V126,W126),\"*\")","v":"*"}]
[{"$f":"A53","v":"Belgium"},{"$f":"IFERROR(AVERAGE(B53,C53),\"*\")","v":17.77},{"$f":"IFERROR(AVERAGE(D53,E53),\"*\")","v":21.49},{"$f":"IFERROR(AVERAGE(F53,G53),\"*\")","v":19.149999999999999},{"$f":"IFERROR(AVERAGE(H53,I53),\"*\")","v":18.979999999999997},{"$f":"IFERROR(AVERAGE(J53,K53),\"*\")","v":21.055},{"$f":"IFERROR(AVERAGE(L53,M53),\"*\")","v":22.5},{"$f":"IFERROR(AVERAGE(N53,O53),\"*\")","v":20.91},20.574999999999999,19.555,17.29,"*",null,{"$f":"A90","v":"Belgium"},{"$f":"IFERROR(AVERAGE(B90,C90),\"*\")","v":11.48},{"$f":"IFERROR(AVERAGE(D90,E90),\"*\")","v":15.11},{"$f":"IFERROR(AVERAGE(F90,G90),\"*\")","v":12.895},{"$f":"IFERROR(AVERAGE(H90,I90),\"*\")","v":13.04},{"$f":"IFERROR(AVERAGE(J90,K90),\"*\")","v":15.67},{"$f":"IFERROR(AVERAGE(L90,M90),\"*\")","v":16.329999999999998},{"$f":"IFERROR(AVERAGE(N90,O90),\"*\")","v":15.245000000000001},15.03,13.85,12.6,"*",null,{"$f":"A127","v":"Belgium"},{"$f":"IFERROR(AVERAGE(B127,C127),\"*\")","v":10.3},{"$f":"IFERROR(AVERAGE(D127,E127),\"*\")","v":14.15},{"$f":"IFERROR(AVERAGE(F127,G127),\"*\")","v":11.855},{"$f":"IFERROR(AVERAGE(H127,I127),\"*\")","v":11.725},{"$f":"IFERROR(AVERAGE(J127,K127),\"*\")","v":14.355},{"$f":"IFERROR(AVERAGE(L127,M127),\"*\")","v":15.015000000000001},{"$f":"IFERROR(AVERAGE(N127,O127),\"*\")","v":13.935},13.17,11.875,11.42,"*"]
["Bulgaria",7.0968,8.5770999999999997,9.4258000000000006,9.0931499999999996,10.277100000000001,12.153600000000001,12.138300000000001,11.5656,10.696400000000001,9.0142000000000007,"*",null,"Bulgaria",7.4802999999999997,8.6256000000000004,9.5024999999999995,9.2448499999999996,10.4382,12.153600000000001,11.9312,11.279299999999999,10.049600000000002,8.5183,"*",null,"Bulgaria",7.5979000000000001,9.0039499999999997,9.7581500000000005,9.3765000000000001,10.514849999999999,12.4527,12.038550000000001,11.453099999999999,10.05725,8.4518000000000004,"*"]
["Czech Republic",12.698499999999999,16.500399999999999,16.639499999999998,17.7698,21.026449999999997,21.859400000000001,21.501750000000001,19.699950000000001,20.720999999999997,21.1934,"*",null,"Czech Republic",8.4540000000000006,11.297699999999999,11.28645,11.4131,13.189399999999999,15.277850000000001,13.960750000000001,12.75065,13.28715,13.378299999999999,"*",null,"Czech Republic",8.2921999999999993,11.325900000000001,11.0627,10.928899999999999,12.48685,14.796150000000001,13.39025,12.170999999999999,12.480399999999999,12.478899999999999,"*"]
["Denmark",15.468699999999998,21.533250000000002,18.37585,21.324750000000002,22.86835,21.49915,21.890149999999998,19.84215,17.4041,15.933,"*",null,"Denmark",18.892299999999999,21.533250000000002,18.37585,21.324750000000002,22.86835,21.49915,21.890149999999998,19.84215,17.4041,15.933,"*",null,"Denmark",21.157049999999998,21.533250000000002,18.37585,21.324750000000002,22.86835,21.49915,21.890149999999998,19.84215,17.4041,15.933,"*"]
["Germany (until 1990 former territory of the FRG)",21.83,23.700000000000003,22.744999999999997,22.534999999999997,24.225000000000001,24.41,25.450000000000003,25.37,25.074999999999999,25.48,"*",null,"Germany (until 1990 former territory of the FRG)",14.32,16.38,14.435,13.26,14.33,15.004999999999999,15.75,15.870000000000001,15.844999999999999,15.43,"*",null,"Germany (until 1990 former territory of the FRG)",13.53,14.995000000000001,12.99,12.59,13.66,14.3,14.780000000000001,14.765000000000001,14.745000000000001,14.24,"*"]
["Estonia",9.0855999999999995,9.4215,9.1285000000000007,10.492750000000001,12.975,14.24,14.605,13.149999999999999,11.105,10.89,"*",null,"Estonia",6.1748000000000003,8.306750000000001,8.8408499999999997,8.8275500000000005,9.91,11.775,11.58,11.4,9.73,10.23,"*",null,"Estonia",6.1417000000000002,8.1841499999999989,8.7919999999999998,8.7127000000000017,9.379999999999999,11.32,10.84,10.625,9.254999999999999,9.57,"*"]
["Ireland",26.55,17.060000000000002,16.195,14.07,15.635,17.75,19.619999999999997,20.324999999999999,19.990000000000002,17.86,"*",null,"Ireland",14.84,14.594999999999999,14.615,12.54,13.795000000000002,15.745000000000001,16.835000000000001,17.454999999999998,17.100000000000001,15.96,"*",null,"Ireland",12.78,13.91,13.8,11.705,12.93,14.664999999999999,15.734999999999999,16.105,15.7,14.9,"*"]
["Greece","*","*","*","*","*",36.03,27.58,24.615000000000002,24.085000000000001,16.63,"*",null,"Greece","*","*","*","*","*",25.01,20.41,18.704999999999998,17.605,13.88,"*",null,"Greece","*","*","*","*","*",19.59,17.979999999999997,16.935000000000002,15.295,13.56,"*"]
["Spain",16.652000000000001,17.810500000000001,17.029049999999998,16.234549999999999,16.145000000000003,21.815000000000001,22.954999999999998,24.97,24.164999999999999,19.760000000000002,"*",null,"Spain",13.920999999999999,14.706499999999998,13.731850000000001,12.748699999999999,12.67,17.82,18.645,19.645,19.375,15.55,"*",null,"Spain",11.385,12.519,11.326550000000001,11.33595,12.835000000000001,14.6,16.04,15.664999999999999,14.89,12.89,"*"]
["France",22.77,24.922499999999999,26.310000000000002,26.225000000000001,29.7,30.294999999999998,32.635000000000005,34.83,34.020000000000003,31.62,"*",null,"France",12.2,12.999499999999999,13.43,13.005000000000001,14.57,15.645,16.675000000000001,17.39,17.035,15.44,"*",null,"France",10.68,11.5915,11.785,11.045,12.350000000000001,13.52,13.885000000000002,14.385000000000002,13.845000000000001,12.8,"*"]
["Croatia",6.5564499999999999,6.3007,7.3401999999999994,8.6067999999999998,8.4358499999999985,9.3736499999999996,10.471250000000001,11.3172,12.25055,11.4274,"*",null,"Croatia",6.5564499999999999,6.3007,7.3401999999999994,8.6067999999999998,8.4358499999999985,9.5336499999999997,10.366350000000001,10.43765,10.35585,9.5228999999999999,"*",null,"Croatia",6.5564499999999999,6.3007,7.3401999999999994,8.6067999999999998,8.4358499999999985,9.5549999999999997,10.3268,9.83385,9.8698000000000015,9.0162999999999993,"*"]
["Italy",17.034500000000001,19.202999999999999,17.664999999999999,20.027999999999999,22.375,25.445,26.09,28.344999999999999,27.045000000000002,22.09,"*",null,"Italy",14.725000000000001,15.6005,14.957000000000001,16.613,18.5,20.505000000000003,20.95,20.53,19.605,17.420000000000002,"*",null,"Italy",14.4535,14.731000000000002,15.463999999999999,15.238,16.75,18.37,18.509999999999998,17.850000000000001,17.18,16.05,"*"]
["Latvia",7.8182,13.59915,18.376750000000001,15.37175,16.191099999999999,18.558199999999999,17.622750000000003,17.225000000000001,17.285,16.03,"*",null,"Latvia",7.3322000000000003,10.7523,11.398099999999999,9.0930499999999999,10.00365,12.269600000000001,11.59155,11.164999999999999,11.255000000000001,9.73,"*",null,"Latvia",7.2893999999999997,10.596399999999999,11.206949999999999,8.9872499999999995,9.8903999999999996,12.248100000000001,11.5274,11.025,11.239999999999998,9.73,"*"]
["Lithuania",8.4740000000000002,12.4217,15.292449999999999,15.13555,16.207149999999999,18.626950000000001,19.872299999999999,18.298200000000001,17.414999999999999,17.14,"*",null,"Lithuania",5.5244999999999997,8.3783500000000011,9.6886499999999991,9.5112500000000004,11.1822,12.866350000000001,13.963999999999999,12.15105,9.86,9.48,"*",null,"Lithuania",4.8673999999999999,7.5429999999999993,8.7829999999999995,8.5526499999999999,9.6471999999999998,11.654299999999999,11.958400000000001,9.9701500000000003,10.01,9.48,"*"]
["Luxembourg",13.87,15.139999999999999,19.29,13.744999999999999,18.25,16.82,19.035,17.305,15.225000000000001,13.43,"*",null,"Luxembourg",9.4499999999999993,13.895,12.27,11.73,14.175000000000001,15.219999999999999,15.455,13.585000000000001,12.445,11.55,"*",null,"Luxembourg",9.01,11.370000000000001,11.23,12.065,13.21,15.205,15.615,13.72,12.484999999999999,11.61,"*"]
["Hungary",8.7995999999999999,10.476749999999999,11.322800000000001,13.057449999999999,13.59775,11.705649999999999,10.2346,8.5048500000000011,8.2363999999999997,7.7333999999999996,"*",null,"Hungary",8.8488000000000007,10.0684,10.86655,12.098949999999999,12.557600000000001,10.9406,9.3220500000000008,7.8283500000000004,7.7085499999999998,7.5286,"*",null,"Hungary",8.7367000000000008,10.1684,10.749600000000001,11.90005,12.330549999999999,10.77675,9.1631500000000017,7.8712999999999997,7.6271500000000003,7.5313999999999997,"*"]
["Netherlands",25.494999999999997,25.119999999999997,24.95,23.935000000000002,25.395,26.545000000000002,27.884999999999998,27.715,27.594999999999999,24.95,"*",null,"Netherlands",16.695,16.975000000000001,17.32,16.335000000000001,17.22,18.369999999999997,18.979999999999997,18.47,17.895,17.89,"*",null,"Netherlands",15.157999999999999,"*",15.45,14.35,15.695,16.490000000000002,17.670000000000002,16.71,15.96,16.37,"*"]
["Austria",17.440000000000001,17.155000000000001,17.865000000000002,17.265000000000001,19.835000000000001,21.27,21.08,20.71,20.14,19.75,"*",null,"Austria",14.13,13.91,14.695,14.164999999999999,16.450000000000003,17.61,17.619999999999997,17.100000000000001,16.664999999999999,15.97,"*",null,"Austria",12.42,12.265000000000001,13.015000000000001,12.59,14.64,15.535,15.585000000000001,15.225000000000001,14.649999999999999,13.81,"*"]
["Poland",11.742100000000001,13.680350000000001,12.19875,13.2865,13.690099999999999,14.68825,14.173449999999999,14.359549999999999,14.086349999999999,12.834300000000001,"*",null,"Poland",9.1348000000000003,10.59825,9.6637500000000003,10.592849999999999,10.8818,11.794499999999999,11.052900000000001,11.173950000000001,11.281500000000001,8.8445999999999998,"*",null,"Poland","*",9.7365500000000011,8.8953000000000007,9.5834499999999991,10.02595,11.0753,10.718150000000001,10.834900000000001,11.03905,8.2723999999999993,"*"]
["Portugal",22.042400000000001,21.426499999999997,20.704700000000003,20.571999999999999,21.87,22.99,25.05,27.1,26.7,24.87,"*",null,"Portugal",17.266300000000001,16.591999999999999,15.705649999999999,16.106000000000002,17.115000000000002,17.97,19.984999999999999,22.265000000000001,22.11,20.61,"*",null,"Portugal",14.142799999999999,15.07,13.7052,13.6455,14.765000000000001,15.629999999999999,17.850000000000001,20.170000000000002,20.71,20.07,"*"]
["Romania",8.0821000000000005,7.8422999999999998,6.5905000000000005,6.3600499999999993,6.3148,6.1282999999999994,6.6602999999999994,7.0774500000000007,7.3896499999999996,7.5342000000000002,"*",null,"Romania",7.9877000000000002,7.7898499999999995,6.5413999999999994,6.3257499999999993,6.2805,6.0980500000000006,6.6229500000000003,7.0290499999999998,7.2985000000000007,7.4541000000000004,"*",null,"Romania",7.8322000000000003,7.6554500000000001,6.4019499999999994,6.1911500000000004,6.1285000000000007,5.9679500000000001,6.4792500000000004,6.8161500000000004,6.9430499999999995,7.0982000000000003,"*"]
["Slovenia",14.46,18.245000000000001,18.195,16.797449999999998,19.600000000000001,22.23,17.314999999999998,16.82,16.395,15.76,"*",null,"Slovenia",11.78,14.695,13.850000000000001,14.525600000000001,16.905000000000001,17.684999999999999,15.82,14.809999999999999,14.09,13.65,"*",null,"Slovenia",11.22,13.795,13.435,13.911449999999999,14.850000000000001,16.035,15.295,15.465,13.649999999999999,12.54,"*"]
["Slovakia",18.9651,22.295200000000001,23.269500000000001,22.600999999999999,23.21,23.189999999999998,23.805,23.78,24.1,23.41,"*",null,"Slovakia",9.6747999999999994,10.422700000000001,10.942,10.294499999999999,11.315,11.92,11.765000000000001,11.879999999999999,11.465,10.65,"*",null,"Slovakia",9.5449000000000002,9.7444000000000006,10.963000000000001,10.196999999999999,11.905000000000001,11.41,12.33,12.67,12.14,11.2,"*"]
["Sweden",26.408650000000002,27.999300000000002,29.332450000000001,35.122950000000003,39.571799999999996,43.747500000000002,38.497599999999998,37.897099999999995,39.742850000000004,36.685000000000002,"*",null,"Sweden",20.268550000000001,21.605449999999998,20.155100000000001,22.946300000000001,26.123899999999999,27.131450000000001,27.238199999999999,25.810450000000003,25.606249999999999,25.082599999999999,"*",null,"Sweden",19.624099999999999,20.7744,18.740000000000002,21.434699999999999,23.91675,25.146599999999999,24.810600000000001,23.054600000000001,23.129350000000002,22.595099999999999,"*"]
["United Kingdom",10.228899999999999,12.590499999999999,12.59455,12.349900000000002,14.288600000000001,16.82535,18.155850000000001,23.387499999999999,23.96435,20.139399999999998,"*",null,"United Kingdom",9.4391999999999996,11.5983,11.279299999999999,10.9467,12.53715,14.550650000000001,14.7912,16.474,17.2502,14.629300000000001,"*",null,"United Kingdom",8.1667000000000005,10.733550000000001,9.9522499999999994,9.6532499999999999,10.941099999999999,12.833299999999999,13.277100000000001,14.36975,15.387450000000001,13.4733,"*"]
[]
[]
[]
[]
["Baggrundsdata for level 2 priser: Eurostat nrg_pc_203 - data hentet d. 7/7-2014"]
["Eurostat, tabel:",{"$f":"A39","v":"Gas prices for domestic consumers - bi-annual data (from 2007 onwards) [nrg_pc_202]"}]
["Opdateret:",{"$f":"B42","v":"2016-12-08T10:27:34.860"}]
["Gas prices for domestic consumers - bi-annual data (from 2007 onwards) [nrg_pc_202]"]
[]
["Last update","2016-11-07T16:45:30"]
["Extracted on","2016-12-08T10:27:34.860"]
["Source of data","Eurostat"]
[]
["PRODUCT","Natural gas"]
["CONSOM","Band D1 : Consumption < 20 GJ"]
["UNIT","Gigajoules (gross calorific value = GCV)"]
["TAX","Excluding VAT and other recoverable taxes and levies"]
["CURRENCY","Euro"]
[]
["GEO/TIME","2007S1","2007S2","2008S1","2008S2","2009S1","2009S2","2010S1","2010S2","2011S1","2011S2","2012S1","2012S2","2013S1","2013S2","2014S1","2014S2","2015S1","2015S2","2016S1"]
["European Union (28 countries)",":",16.899999999999999,17.36,20.39,18.850000000000001,18.63,17.32,20.12,19.100000000000001,22.19,20.47,23.99,21.5,24.97,23.22,26.53,22.86,26.19,22.18]
["Belgium",":",17.77,19.739999999999998,23.24,20.18,18.12,18.309999999999999,19.649999999999999,20.05,22.06,21.4,23.6,21.21,20.61,19.82,21.33,18.239999999999998,20.87,17.29]
["Bulgaria",":",7.0968,7.4957000000000003,9.6585000000000001,11.028700000000001,7.8228999999999997,8.4108999999999998,9.7753999999999994,9.8834,10.6708,11.473599999999999,12.833600000000001,11.509399999999999,12.767200000000001,11.171900000000001,11.959300000000001,11.3969,9.9959000000000007,9.0142000000000007]
["Czech Republic",":",12.698499999999999,15.337899999999999,17.6629,16.791799999999999,16.487200000000001,17.152699999999999,18.386900000000001,20.180299999999999,21.872599999999998,21.834599999999998,21.8842,22.2593,20.744199999999999,19.627600000000001,19.772300000000001,20.555599999999998,20.886399999999998,21.1934]
["Denmark",11.2707,19.666699999999999,21.3018,21.764700000000001,17.839400000000001,18.912299999999998,21.1983,21.4512,22.915299999999998,22.821400000000001,21.775500000000001,21.222799999999999,22.0686,21.7117,20.177800000000001,19.506499999999999,17.833500000000001,16.974699999999999,15.933]
["Germany (until 1990 former territory of the FRG)",":",21.83,22.03,25.37,23.43,22.06,21.33,23.74,23.96,24.49,24.27,24.55,24.94,25.96,25.92,24.82,25.4,24.75,25.48]
["Estonia",":",9.0855999999999995,9.2323000000000004,9.6106999999999996,9.5752000000000006,8.6818000000000008,9.0965000000000007,11.888999999999999,12.2,13.75,13.81,14.67,15.52,13.69,13.61,12.69,12.62,9.59,10.89]
["Ireland",":",26.55,16.760000000000002,17.36,16.91,15.48,13.46,14.68,13.68,17.59,16.600000000000001,18.899999999999999,17.43,21.81,18.61,22.04,18.309999999999999,21.67,17.86]
["Greece",":",":",":",":",":",":",":",":",":",":",":",36.03,21.84,33.32,20.76,28.47,19.63,28.54,16.63]
["Spain",":",16.652000000000001,16.940000000000001,18.681000000000001,17.64,16.418099999999999,16.310700000000001,16.1584,16.12,16.170000000000002,19.100000000000001,24.53,20.66,25.25,21.91,28.03,21.18,27.15,19.760000000000002]
["France",":",22.77,22.1,27.745000000000001,24.21,28.41,24.07,28.38,27.14,32.26,27.4,33.19,29.64,35.630000000000003,32.24,37.42,31.19,36.85,31.62]
["Croatia",6.8106999999999998,6.3022,6.2870999999999997,6.3143000000000002,7.2633999999999999,7.4169999999999998,8.6454000000000004,8.5681999999999992,8.4757999999999996,8.3958999999999993,8.5794999999999995,10.1678,10.4383,10.504200000000001,10.6945,11.9399,12.2874,12.213699999999999,11.4274]
["Italy",16.8,17.268999999999998,16.847999999999999,21.558,18.884,16.446000000000002,15.936,24.12,18.59,26.16,20.83,30.06,22.8,29.38,24.07,32.619999999999997,22.88,31.21,22.09]
["Latvia",":",7.8182,8.7759,18.4224,20.232199999999999,16.5213,13.9922,16.751300000000001,15.699,16.683199999999999,17.929300000000001,19.187100000000001,17.750800000000002,17.494700000000002,17.36,17.09,17.43,17.14,16.03]
["Lithuania",":",8.4740000000000002,11.997999999999999,12.8454,16.2928,14.2921,14.441700000000001,15.8294,15.2514,17.1629,17.3367,19.917200000000001,20.369,19.375599999999999,19.262599999999999,17.3338,17.7,17.13,17.14]
["Luxembourg",":",13.87,13.04,17.239999999999998,19.559999999999999,19.02,13.12,14.37,17.62,18.88,15.1,18.54,21.14,16.93,18.059999999999999,16.55,15.15,15.3,13.43]
["Hungary",":",8.7995999999999999,9.5276999999999994,11.425800000000001,11.210699999999999,11.434900000000001,12.695499999999999,13.4194,13.3042,13.891299999999999,11.0771,12.334199999999999,10.2278,10.241400000000001,8.7582000000000004,8.2515000000000001,8.3312000000000008,8.1416000000000004,7.7333999999999996]
["Netherlands",25.81,25.18,24.04,26.2,25.27,24.63,22.53,25.34,22.83,27.96,23.91,29.18,24.3,31.47,26.11,29.32,24.38,30.81,24.95]
["Austria",":",17.440000000000001,16.89,17.420000000000002,18.190000000000001,17.54,17.489999999999998,17.04,19.38,20.29,21.27,21.27,21.24,20.92,20.89,20.53,20.36,19.920000000000002,19.75]
["Poland",":",11.742100000000001,12.607900000000001,14.752800000000001,11.8108,12.5867,12.956,13.617000000000001,14.048299999999999,13.331899999999999,13.452,15.9245,15.049099999999999,13.297800000000001,14.116,14.6031,14.645799999999999,13.526899999999999,12.834300000000001]
["Portugal",":",22.042400000000001,21.446999999999999,21.405999999999999,20.87,20.539400000000001,19.526,21.617999999999999,20.62,23.12,21.58,24.4,23.85,26.25,25.84,28.36,26.75,26.65,24.87]
["Romania",":",8.0821000000000005,7.7690000000000001,7.9156000000000004,6.8780999999999999,6.3029000000000002,6.4532999999999996,6.2667999999999999,6.4074999999999998,6.2221000000000002,6.0915999999999997,6.165,6.4151999999999996,6.9054000000000002,6.9602000000000004,7.1947000000000001,7.0483000000000002,7.7309999999999999,7.5342000000000002]
["Slovenia",":",14.46,15.76,20.73,18.66,17.73,16.454899999999999,17.14,18.55,20.65,22.39,22.07,19.18,15.45,18.55,15.09,16.98,15.81,15.76]
["Slovakia",":",18.9651,21.705200000000001,22.885200000000001,23.347999999999999,23.190999999999999,22.673999999999999,22.527999999999999,22.94,23.48,23.32,23.06,23.43,24.18,23.54,24.02,24.13,24.07,23.41]
["Sweden",28.767199999999999,24.0501,24.038900000000002,31.959700000000002,27.272400000000001,31.392499999999998,33.340000000000003,36.905900000000003,38.838900000000002,40.304699999999997,41.502400000000002,45.992600000000003,39.711199999999998,37.283999999999999,37.138599999999997,38.6556,37.839300000000001,41.6464,36.685000000000002]
["United Kingdom",":",10.228899999999999,11.728999999999999,13.452,12.631399999999999,12.557700000000001,12.123100000000001,12.576700000000001,12.8527,15.724500000000001,15.7012,17.9495,15.9138,20.3979,21.113099999999999,25.661899999999999,22.0703,25.8584,20.139399999999998]
[]
["Special value:"]
[":","not available"]
[]
["PRODUCT","Natural gas"]
["CONSOM","Band D2 : 20 GJ < Consumption < 200 GJ"]
["UNIT","Gigajoules (gross calorific value = GCV)"]
["TAX","Excluding VAT and other recoverable taxes and levies"]
["CURRENCY","Euro"]
[]
["GEO/TIME","2007S1","2007S2","2008S1","2008S2","2009S1","2009S2","2010S1","2010S2","2011S1","2011S2","2012S1","2012S2","2013S1","2013S2","2014S1","2014S2","2015S1","2015S2","2016S1"]
["European Union (28 countries)",":",12.23,12.8,14.87,13.91,12.6,12.48,13.57,13.46,15.46,15.05,16.739999999999998,15.7,16.86,16.010000000000002,17.2,15.96,16.940000000000001,14.93]
["Belgium",":",11.48,13.48,16.739999999999998,13.93,11.86,12.16,13.92,14.55,16.79,15.8,16.86,15.14,15.35,15.11,14.95,13.43,14.27,12.6]
["Bulgaria",":",7.4802999999999997,8.2012,9.0500000000000007,10.946899999999999,8.0580999999999996,8.5079999999999991,9.9817,9.9550000000000001,10.9214,11.437799999999999,12.869400000000001,11.8673,11.995100000000001,11.356,11.2026,11.049200000000001,9.0500000000000007,8.5183]
["Czech Republic",":",8.4540000000000006,10.2536,12.341799999999999,11.553100000000001,11.0198,10.866099999999999,11.960100000000001,12.603999999999999,13.774800000000001,15.259499999999999,15.296200000000001,14.713200000000001,13.208299999999999,12.585599999999999,12.915699999999999,13.181100000000001,13.3932,13.378299999999999]
["Denmark",18.117899999999999,19.666699999999999,21.3018,21.764700000000001,17.839400000000001,18.912299999999998,21.1983,21.4512,22.915299999999998,22.821400000000001,21.775500000000001,21.222799999999999,22.0686,21.7117,20.177800000000001,19.506499999999999,17.833500000000001,16.974699999999999,15.933]
["Germany (until 1990 former territory of the FRG)",":",14.32,14.97,17.79,15.13,13.74,13.19,13.33,13.73,14.93,14.87,15.14,15.42,16.079999999999998,15.83,15.91,15.78,15.91,15.43]
["Estonia",":",6.1748000000000003,7.8811,8.7324000000000002,9.2881999999999998,8.3934999999999995,8.3731000000000009,9.282,9.6999999999999993,10.119999999999999,11.57,11.98,12.15,11.01,11.38,11.42,10.56,8.9,10.23]
["Ireland",":",14.84,13.29,15.9,15.76,13.47,12.19,12.89,12.46,15.13,15.03,16.46,15.99,17.68,16.670000000000002,18.239999999999998,16.48,17.72,15.96]
["Greece",":",":",":",":",":",":",":",":",":",":",":",25.01,18.98,21.84,17.79,19.62,16.760000000000002,18.45,13.88]
["Spain",":",13.920999999999999,13.776999999999999,15.635999999999999,14.64,12.823700000000001,12.786300000000001,12.7111,12.62,12.72,15.57,20.07,16.809999999999999,20.48,17.27,22.02,16.79,21.96,15.55]
["France",":",12.2,12.29,13.709,13.01,13.85,12.3,13.71,13.72,15.42,15.04,16.25,16.03,17.32,16.59,18.190000000000001,16.600000000000001,17.47,15.44]
["Croatia",6.8106999999999998,6.3022,6.2870999999999997,6.3143000000000002,7.2633999999999999,7.4169999999999998,8.6454000000000004,8.5681999999999992,8.4757999999999996,8.3958999999999993,8.5794999999999995,10.4878,10.3353,10.397399999999999,10.318099999999999,10.5572,10.501799999999999,10.209899999999999,9.5228999999999999]
["Italy",15.15,14.3,14.552,16.649000000000001,17.542000000000002,12.372,14.736000000000001,18.489999999999998,16.64,20.36,18.420000000000002,22.59,19.97,21.93,19.04,22.02,18.28,20.93,17.420000000000002]
["Latvia",":",7.3322000000000003,8.2891999999999992,13.215400000000001,13.223800000000001,9.5724,7.9351000000000003,10.250999999999999,9.6033000000000008,10.404,11.671200000000001,12.868,11.610099999999999,11.573,11.12,11.21,11.38,11.13,9.73]
["Lithuania",":",5.5244999999999997,7.7516999999999996,9.0050000000000008,9.9989000000000008,9.3783999999999992,8.6205999999999996,10.401899999999999,9.9773999999999994,12.387,11.7064,14.026300000000001,13.837999999999999,14.09,12.841799999999999,11.4603,9.7100000000000009,10.01,9.48]
["Luxembourg",":",9.4499999999999993,14.46,13.33,12.77,11.77,11.23,12.23,13.27,15.08,14.99,15.45,16.23,14.68,13.83,13.34,12.61,12.28,11.55]
["Hungary",":",8.8488000000000007,9.3641000000000005,10.7727,11.1477,10.5854,11.896699999999999,12.3012,12.4575,12.6577,10.574400000000001,11.306800000000001,9.4570000000000007,9.1870999999999992,7.9893999999999998,7.6673,7.7187999999999999,7.6982999999999997,7.5286]
["Netherlands",16.89,16.5,16.27,17.68,18.899999999999999,15.74,15.87,16.8,16.09,18.350000000000001,17.29,19.45,18.149999999999999,19.809999999999999,18.11,18.829999999999998,17.36,18.43,17.89]
["Austria",":",14.13,13.56,14.26,15.03,14.36,14.41,13.92,16.14,16.760000000000002,17.55,17.670000000000002,17.77,17.47,17.309999999999999,16.89,16.89,16.440000000000001,15.97]
["Poland",":",9.1348000000000003,9.4773999999999994,11.719099999999999,8.8524999999999991,10.475,9.6776999999999997,11.507999999999999,10.4635,11.3001,10.583600000000001,13.0054,10.6129,11.492900000000001,11.0456,11.302300000000001,11.3079,11.255100000000001,8.8445999999999998]
["Portugal",":",17.266300000000001,16.539000000000001,16.645,15.68,15.731299999999999,15.705,16.507000000000001,16,18.23,16.68,19.260000000000002,18.89,21.08,21.06,23.47,22.04,22.18,20.61]
["Romania",":",7.9877000000000002,7.7415000000000003,7.8381999999999996,6.8190999999999997,6.2637,6.4184999999999999,6.2329999999999997,6.3692000000000002,6.1917999999999997,6.0620000000000003,6.1341000000000001,6.3787000000000003,6.8672000000000004,6.9199000000000002,7.1382000000000003,6.9763000000000002,7.6207000000000003,7.4541000000000004]
["Slovenia",":",11.78,12.92,16.47,15.23,12.47,13.480700000000001,15.570499999999999,15.47,18.34,18.47,16.899999999999999,15.48,16.16,15.19,14.43,14.32,13.86,13.65]
["Slovakia",":",9.6747999999999994,9.9898000000000007,10.855600000000001,10.781000000000001,11.103,10.177,10.412000000000001,10.78,11.85,11.93,11.91,11.54,11.99,11.75,12.01,11.48,11.45,10.65]
["Sweden",20.697500000000002,19.839600000000001,20.637499999999999,22.573399999999999,19.413900000000002,20.8963,22.308,23.584599999999998,26.349699999999999,25.898099999999999,26.083200000000001,28.1797,27.270399999999999,27.206,26.318100000000001,25.302800000000001,25.145199999999999,26.067299999999999,25.082599999999999]
["United Kingdom",":",9.4391999999999996,10.4643,12.7323,11.2776,11.281000000000001,10.7288,11.1646,11.240399999999999,13.8339,13.8161,15.2852,14.033300000000001,15.549099999999999,15.8653,17.082699999999999,16.812200000000001,17.688199999999998,14.629300000000001]
[]
["Special value:"]
[":","not available"]
[]
["PRODUCT","Natural gas"]
["CONSOM","Band D3 : Consumption > 200 GJ"]
["UNIT","Gigajoules (gross calorific value = GCV)"]
["TAX","Excluding VAT and other recoverable taxes and levies"]
["CURRENCY","Euro"]
[]
["GEO/TIME","2007S1","2007S2","2008S1","2008S2","2009S1","2009S2","2010S1","2010S2","2011S1","2011S2","2012S1","2012S2","2013S1","2013S2","2014S1","2014S2","2015S1","2015S2","2016S1"]
["European Union (28 countries)",":",10.96,11.9,13.19,12.52,11.36,11.41,11.98,12.44,13.68,13.98,14.81,14.8,14.72,14.67,14.86,14.66,14.63,13.59]
["Belgium",":",10.3,12.59,15.71,12.93,10.78,11.1,12.35,13.47,15.24,14.28,15.75,14.05,13.82,13.43,12.91,11.92,11.83,11.42]
["Bulgaria",":",7.5979000000000001,8.3187999999999995,9.6890999999999998,11.2281,8.2881999999999998,8.6358999999999995,10.117100000000001,10.047000000000001,10.982699999999999,11.718999999999999,13.186400000000001,12.1127,11.964399999999999,11.642300000000001,11.2639,11.136100000000001,8.9784000000000006,8.4518000000000004]
["Czech Republic",":",8.2921999999999993,10.262700000000001,12.389099999999999,11.339700000000001,10.7857,10.455299999999999,11.4025,11.9,13.073700000000001,14.7789,14.8134,13.8727,12.9078,12.114100000000001,12.2279,12.380800000000001,12.58,12.478899999999999]
["Denmark",22.647400000000001,19.666699999999999,21.3018,21.764700000000001,17.839400000000001,18.912299999999998,21.1983,21.4512,22.915299999999998,22.821400000000001,21.775500000000001,21.222799999999999,22.0686,21.7117,20.177800000000001,19.506499999999999,17.833500000000001,16.974699999999999,15.933]
["Germany (until 1990 former territory of the FRG)",":",13.53,13.74,16.25,13.74,12.24,12.09,13.09,13.24,14.08,14.17,14.43,14.59,14.97,14.72,14.81,14.78,14.71,14.24]
["Estonia",":",6.1417000000000002,7.8587999999999996,8.5094999999999992,9.2378,8.3461999999999996,8.2619000000000007,9.1635000000000009,9.56,9.1999999999999993,10.94,11.7,11.61,10.07,10.81,10.44,10.52,7.99,9.57]
["Ireland",":",12.78,12.68,15.14,15.16,12.44,11.56,11.85,11.84,14.02,14.2,15.13,15.29,16.18,15.72,16.489999999999998,15.51,15.89,14.9]
["Greece",":",":",":",":",":",":",":",":",":",":",":",19.59,18.649999999999999,17.309999999999999,17.18,16.690000000000001,16.57,14.02,13.56]
["Spain",":",11.385,11.474,13.564,11.78,10.873100000000001,10.6912,11.980700000000001,11.82,13.85,13.45,15.75,15.81,16.27,15.08,16.25,14.76,15.02,12.89]
["France",":",10.68,11.12,12.063000000000001,11.87,11.7,10.76,11.33,11.98,12.72,13.54,13.5,13.97,13.8,14.22,14.55,13.89,13.8,12.8]
["Croatia",6.8106999999999998,6.3022,6.2870999999999997,6.3143000000000002,7.2633999999999999,7.4169999999999998,8.6454000000000004,8.5681999999999992,8.4757999999999996,8.3958999999999993,8.5794999999999995,10.5305,10.3445,10.309100000000001,9.7908000000000008,9.8768999999999991,10.0494,9.6902000000000008,9.0162999999999993]
["Italy",14.77,14.137,14.71,14.752000000000001,17.305,13.622999999999999,14.746,15.73,15.97,17.53,17.78,18.96,19.52,17.5,18.25,17.45,17.13,17.23,16.05]
["Latvia",":",7.2893999999999997,8.2462,12.9466,12.9124,9.5015000000000001,7.8785999999999996,10.0959,9.4193999999999996,10.3614,11.6569,12.8393,11.567299999999999,11.487500000000001,11.06,10.99,11.36,11.12,9.73]
["Lithuania",":",4.8673999999999999,7.5518999999999998,7.5340999999999996,9.5770999999999997,7.9889000000000001,7.8413000000000004,9.2639999999999993,8.6538000000000004,10.640599999999999,10.3047,13.0039,12.389900000000001,11.526899999999999,10.5566,9.3836999999999993,":",10.01,9.48]
["Luxembourg",":",9.01,10.210000000000001,12.53,11.96,10.5,11.6,12.53,12.33,14.09,15.01,15.4,16.32,14.91,13.81,13.63,12.67,12.3,11.61]
["Hungary",":",8.7367000000000008,9.2439,11.0929,10.8535,10.6457,12.0398,11.760300000000001,12.4566,12.204499999999999,10.273899999999999,11.2796,9.3327000000000009,8.9936000000000007,8.0525000000000002,7.6901000000000002,7.6718999999999999,7.5823999999999998,7.5313999999999997]
["Netherlands",15.157999999999999,":",":",":",17.25,13.65,14.17,14.53,14.99,16.399999999999999,15.93,17.05,17.559999999999999,17.78,16.61,16.809999999999999,15.98,15.94,16.37]
["Austria",":",12.42,11.96,12.57,13.33,12.7,12.68,12.5,14.48,14.8,15.49,15.58,15.7,15.47,15.39,15.06,14.86,14.44,13.81]
["Poland",":",":",8.9131999999999998,10.559900000000001,8.4861000000000004,9.3045000000000009,8.9855,10.1814,9.6639999999999997,10.3879,10.2727,11.8779,10.2849,11.151400000000001,10.8421,10.8277,11.196899999999999,10.8812,8.2723999999999993]
["Portugal",":",14.142799999999999,14.856,15.284000000000001,13.33,14.080399999999999,12.951000000000001,14.34,14.33,15.2,14.72,16.54,17.03,18.670000000000002,19.48,20.86,21.31,20.11,20.07]
["Romania",":",7.8322000000000003,7.6582999999999997,7.6525999999999996,6.6749000000000001,6.1289999999999996,6.2826000000000004,6.0997000000000003,6.2304000000000004,6.0266000000000002,5.9298999999999999,6.0060000000000002,6.2397999999999998,6.7187000000000001,6.7607999999999997,6.8715000000000002,6.7088000000000001,7.1772999999999998,7.0982000000000003]
["Slovenia",":",11.22,12.06,15.53,15.05,11.82,13.1694,14.653499999999999,13.51,16.190000000000001,15.69,16.38,15.39,15.2,14.32,16.61,13.95,13.35,12.54]
["Slovakia",":",9.5449000000000002,9.3427000000000007,10.146100000000001,10.792,11.134,10.076000000000001,10.318,11.98,11.83,11.45,11.37,11.83,12.83,12.61,12.73,12.23,12.05,11.2]
["Sweden",19.627400000000002,19.620799999999999,19.930399999999999,21.618400000000001,18.1828,19.2972,21.2241,21.645299999999999,24.105799999999999,23.727699999999999,23.619,26.674199999999999,25.697299999999998,23.9239,23.9941,22.115100000000002,22.9664,23.292300000000001,22.595099999999999]
["United Kingdom",":",8.1667000000000005,10.294,11.1731,10.114100000000001,9.7904,9.7241999999999997,9.5823,9.9504999999999999,11.931699999999999,12.3202,13.346399999999999,13.045999999999999,13.5082,13.880599999999999,14.8589,15.309900000000001,15.465,13.4733]
[]
["Special value:"]
[":","not available"]

{"sheet":"Level 3","index":6,"n_rows":154,"n_cols":38,"rows_kept":154,"cut":false,"hidden":false,"merged":[[2,0,2,11],[2,13,2,24],[2,26,2,37]]}
["Gaspriser, forbrugere. Level 3 gaspriser for forskellige forbrugsintervaller"]
[]
["Forbrugsinterval < 20 GJ",null,null,null,null,null,null,null,null,null,null,null,null,"Forbrugsinterval  20 GJ <  200 GJ",null,null,null,null,null,null,null,null,null,null,null,null,"Forbrugsinterval  >200 GJ"]
[]
["EURO/GJ",{"$f":"+LEFT(B51,4)+0","v":2007},{"$f":"B5+1","v":2008},{"$f":"+C5+1","v":2009},2010,2011,2012,2013,2014,2015,2016,2017,null,"EURO/GJ",{"$f":"LEFT(B88,4)+0","v":2007},{"$f":"+O5+1","v":2008},{"$f":"+P5+1","v":2009},{"$f":"+Q5+1","v":2010},2011,2012,2013,2014,2015,2016,2017,null,"EURO/GJ",{"$f":"LEFT(B125,4)+0","v":2007},{"$f":"+AB5+1","v":2008},{"$f":"+AC5+1","v":2009},2010,2011,2012,2013,2014,2015,2016,2017]
[{"$f":"A52","v":"European Union (28 countries)"},{"$f":"IFERROR(AVERAGE(B52,C52),\"*\")","v":19.39},{"$f":"IFERROR(AVERAGE(D52,E52),\"*\")","v":21.574999999999999},{"$f":"IFERROR(AVERAGE(F52,G52),\"*\")","v":21.43},{"$f":"IFERROR(AVERAGE(H52,I52),\"*\")","v":21.59},{"$f":"IFERROR(AVERAGE(J52,K52),\"*\")","v":23.805},{"$f":"IFERROR(AVERAGE(L52,M52),\"*\")","v":25.585000000000001},{"$f":"IFERROR(AVERAGE(N52,O52),\"*\")","v":26.759999999999998},{"$f":"IFERROR(AVERAGE(P52,Q52),\"*\")","v":28.545000000000002},{"$f":"IFERROR(AVERAGE(R52,S52),\"*\")","v":28.11},{"$f":"IFERROR(AVERAGE(T52,U52),\"*\")","v":25.45},{"$f":"IFERROR(AVERAGE(V52,W52),\"*\")","v":"*"},null,{"$f":"A89","v":"European Union (28 countries)"},{"$f":"IFERROR(AVERAGE(B89,C89),\"*\")","v":14.21},{"$f":"IFERROR(AVERAGE(D89,E89),\"*\")","v":16.04},{"$f":"IFERROR(AVERAGE(F89,G89),\"*\")","v":15.385000000000002},{"$f":"IFERROR(AVERAGE(H89,I89),\"*\")","v":15.07},{"$f":"IFERROR(AVERAGE(J89,K89),\"*\")","v":16.78},{"$f":"IFERROR(AVERAGE(L89,M89),\"*\")","v":18.399999999999999},{"$f":"IFERROR(AVERAGE(N89,O89),\"*\")","v":18.899999999999999},{"$f":"IFERROR(AVERAGE(P89,Q89),\"*\")","v":19.234999999999999},{"$f":"IFERROR(AVERAGE(R89,S89),\"*\")","v":19.024999999999999},{"$f":"IFERROR(AVERAGE(T89,U89),\"*\")","v":17.260000000000002},{"$f":"IFERROR(AVERAGE(V89,W89),\"*\")","v":"*"},null,{"$f":"A126","v":"European Union (28 countries)"},{"$f":"IFERROR(AVERAGE(B126,C126),\"*\")","v":12.75},{"$f":"IFERROR(AVERAGE(D126,E126),\"*\")","v":14.524999999999999},{"$f":"IFERROR(AVERAGE(F126,G126),\"*\")","v":13.875},{"$f":"IFERROR(AVERAGE(H126,I126),\"*\")","v":13.585000000000001},{"$f":"IFERROR(AVERAGE(J126,K126),\"*\")","v":15.225000000000001},{"$f":"IFERROR(AVERAGE(L126,M126),\"*\")","v":16.79},{"$f":"IFERROR(AVERAGE(N126,O126),\"*\")","v":17.254999999999999},{"$f":"IFERROR(AVERAGE(P126,Q126),\"*\")","v":17.25},{"$f":"IFERROR(AVERAGE(R126,S126),\"*\")","v":17.07},{"$f":"IFERROR(AVERAGE(T126,U126),\"*\")","v":15.86},{"$f":"IFERROR(AVERAGE(V126,W126),\"*\")","v":"*"}]
[{"$f":"A53","v":"Belgium"},{"$f":"IFERROR(AVERAGE(B53,C53),\"*\")","v":21.48},{"$f":"IFERROR(AVERAGE(D53,E53),\"*\")","v":26.004999999999999},{"$f":"IFERROR(AVERAGE(F53,G53),\"*\")","v":23.18},{"$f":"IFERROR(AVERAGE(H53,I53),\"*\")","v":22.945},{"$f":"IFERROR(AVERAGE(J53,K53),\"*\")","v":25.484999999999999},{"$f":"IFERROR(AVERAGE(L53,M53),\"*\")","v":27.28},{"$f":"IFERROR(AVERAGE(N53,O53),\"*\")","v":25.259999999999998},24.880000000000003,23.630000000000003,20.87,"*",null,{"$f":"A90","v":"Belgium"},{"$f":"IFERROR(AVERAGE(B90,C90),\"*\")","v":13.89},{"$f":"IFERROR(AVERAGE(D90,E90),\"*\")","v":18.25},{"$f":"IFERROR(AVERAGE(F90,G90),\"*\")","v":15.574999999999999},{"$f":"IFERROR(AVERAGE(H90,I90),\"*\")","v":15.74},{"$f":"IFERROR(AVERAGE(J90,K90),\"*\")","v":18.954999999999998},{"$f":"IFERROR(AVERAGE(L90,M90),\"*\")","v":19.759999999999998},{"$f":"IFERROR(AVERAGE(N90,O90),\"*\")","v":18.435000000000002},18.164999999999999,16.734999999999999,15.19,"*",null,{"$f":"A127","v":"Belgium"},{"$f":"IFERROR(AVERAGE(B127,C127),\"*\")","v":12.48},{"$f":"IFERROR(AVERAGE(D127,E127),\"*\")","v":17.125},{"$f":"IFERROR(AVERAGE(F127,G127),\"*\")","v":14.350000000000001},{"$f":"IFERROR(AVERAGE(H127,I127),\"*\")","v":14.184999999999999},{"$f":"IFERROR(AVERAGE(J127,K127),\"*\")","v":17.355},{"$f":"IFERROR(AVERAGE(L127,M127),\"*\")","v":18.259999999999998},{"$f":"IFERROR(AVERAGE(N127,O127),\"*\")","v":16.855},15.899999999999999,14.370000000000001,13.72,"*"]
["Bulgaria",8.5130999999999997,10.2925,11.3125,10.911799999999999,12.335149999999999,14.5848,14.564350000000001,13.879249999999999,12.83365,10.819100000000001,"*",null,"Bulgaria",8.9784000000000006,10.3538,11.40455,11.0944,12.5243,14.5823,14.3164,13.534099999999999,12.058999999999999,10.226000000000001,"*",null,"Bulgaria",9.1216000000000008,10.803800000000001,11.711349999999999,11.2523,12.61885,14.940149999999999,14.4468,13.746300000000002,12.06925,10.1442,"*"]
["Czech Republic",15.1113,19.635449999999999,19.80095,21.32375,25.2317,26.231299999999997,26.017299999999999,23.836950000000002,25.072600000000001,25.643899999999999,"*",null,"Czech Republic",10.0601,13.4442,13.43085,13.69575,15.827250000000001,18.33325,16.89235,15.42835,16.0776,16.187899999999999,"*",null,"Czech Republic",9.8675999999999995,13.4777,13.164750000000002,13.114650000000001,14.984249999999999,17.755549999999999,16.20205,14.726900000000001,15.101150000000001,15.099500000000001,"*"]
["Denmark",17.92905,26.917549999999999,22.9695,26.656300000000002,28.615500000000001,26.8736,27.362850000000002,24.8019,21.754799999999999,19.915600000000001,"*",null,"Denmark",21.352649999999997,26.917549999999999,22.9695,26.656300000000002,28.615500000000001,26.8736,27.362850000000002,24.8019,21.754799999999999,19.915600000000001,"*",null,"Denmark",23.6174,26.917549999999999,22.9695,26.656300000000002,28.615500000000001,26.8736,27.362850000000002,24.8019,21.754799999999999,19.915600000000001,"*"]
["Germany (until 1990 former territory of the FRG)",25.98,28.204999999999998,27.064999999999998,26.814999999999998,28.825000000000003,29.049999999999997,30.274999999999999,30.195,29.835000000000001,30.32,"*",null,"Germany (until 1990 former territory of the FRG)",17.04,19.490000000000002,17.175000000000001,15.78,17.055,17.855,18.740000000000002,18.884999999999998,18.855,18.36,"*",null,"Germany (until 1990 former territory of the FRG)",16.100000000000001,17.844999999999999,15.46,14.984999999999999,16.255000000000003,17.015000000000001,17.585000000000001,17.57,17.545000000000002,16.95,"*"]
["Estonia",10.7211,11.11735,10.858450000000001,12.5908,15.575000000000001,17.085000000000001,17.524999999999999,15.78,13.33,13.07,"*",null,"Estonia",7.3040000000000003,9.8018999999999998,10.516300000000001,10.603300000000001,11.89,14.13,13.89,13.675000000000001,11.675000000000001,12.28,"*",null,"Estonia",7.2477999999999998,9.6571999999999996,10.4581,10.45415,11.26,13.579999999999998,13.004999999999999,12.75,11,11.48,"*"]
["Ireland",30.13,19.36,18.38,15.95,17.740000000000002,20.145,22.270000000000003,23.065000000000001,22.695,20.27,"*",null,"Ireland",16.850000000000001,16.57,16.59,14.21,15.66,17.869999999999997,19.11,19.810000000000002,19.405000000000001,18.12,"*",null,"Ireland",14.5,15.795000000000002,15.66,13.29,14.68,16.64,17.86,18.28,17.824999999999999,16.91,"*"]
["Greece","*","*","*","*","*",40.69,31.145,27.795000000000002,27.2,18.78,"*",null,"Greece","*","*","*","*","*",28.25,23.05,21.125,19.875,15.68,"*",null,"Greece","*","*","*","*","*",22.12,20.305,19.125,17.27,15.31,"*"]
["Spain",19.317,20.660499999999999,19.752500000000001,18.993650000000002,19.049999999999997,25.924999999999997,27.774999999999999,30.215000000000003,29.240000000000002,23.91,"*",null,"Spain",16.148,17.059000000000001,15.92775,14.915649999999999,14.945,21.175000000000001,22.560000000000002,23.77,23.445,18.82,"*",null,"Spain",13.206,14.522,13.1364,13.269500000000001,15.15,17.344999999999999,19.41,18.954999999999998,18.015000000000001,15.6,"*"]
["France",26.11,28.195500000000003,29.725000000000001,29.660000000000004,33.47,34.174999999999997,36.855000000000004,39.29,38.334999999999994,35.61,"*",null,"France",14.32,15.2575,15.744999999999999,15.22,17.03,18.29,19.534999999999997,20.314999999999998,19.905000000000001,18.05,"*",null,"France",12.68,13.766500000000001,14.01,13.129999999999999,14.66,16.03,16.520000000000003,17.09,16.45,15.24,"*"]
["Croatia",7.9014499999999996,7.6477500000000003,8.980599999999999,10.588650000000001,10.371749999999999,11.676950000000001,13.089700000000001,14.14695,15.3127,14.2843,"*",null,"Croatia",7.9014499999999996,7.6477500000000003,8.980599999999999,10.588650000000001,10.371749999999999,11.876950000000001,12.95975,13.047499999999999,12.9444,11.903600000000001,"*",null,"Croatia",7.9014499999999996,7.6477500000000003,8.980599999999999,10.588650000000001,10.371749999999999,11.903600000000001,12.90835,12.29185,12.338249999999999,11.2714,"*"]
["Italy",18.741,21.1325,19.438499999999998,23.130499999999998,25.79,29.32,29.984999999999999,32.844999999999999,31.305,25.38,"*",null,"Italy",17.666499999999999,18.728999999999999,17.940999999999999,19.503999999999998,21.795000000000002,24.125,24.73,24.274999999999999,23.2,20.32,"*",null,"Italy",17.349499999999999,17.6785,18.558499999999999,18.216000000000001,19.984999999999999,22.13,22.4,21.704999999999998,20.9,19.489999999999998,"*"]
["Latvia",9.2332000000000001,14.280949999999999,20.218649999999997,16.909600000000001,18.96725,22.54505,21.329750000000001,20.835000000000001,20.92,19.399999999999999,"*",null,"Latvia",8.6471999999999998,11.292400000000001,12.531600000000001,10.003,11.717449999999999,14.901299999999999,14.022500000000001,13.504999999999999,13.620000000000001,11.78,"*",null,"Latvia",8.6043000000000003,11.12945,12.333349999999999,9.8902000000000001,11.61135,14.879750000000001,13.95125,13.34,13.594999999999999,11.77,"*"]
["Lithuania",9.9992999999999999,14.65765,18.211649999999999,18.314,19.610199999999999,22.538249999999998,24.0457,22.14,21.075000000000003,20.74,"*",null,"Lithuania",6.5189000000000004,9.8864000000000001,11.54185,11.508599999999999,13.53105,15.5685,16.8964,14.70255,11.934999999999999,11.47,"*",null,"Lithuania",5.7435,8.9007499999999986,10.457049999999999,10.348749999999999,11.67315,13.926399999999999,14.4694,12.06265,12.12,11.47,"*"]
["Luxembourg",14.76,16.12,20.6,14.704999999999998,19.440000000000001,18.009999999999998,20.325000000000003,18.450000000000003,16.549999999999997,14.6,"*",null,"Luxembourg",10.119999999999999,14.879999999999999,13.25,12.600000000000001,15.14,16.274999999999999,16.524999999999999,14.524999999999999,13.585000000000001,12.62,"*",null,"Luxembourg",9.7200000000000006,12.26,12.31,12.95,14.29,16.255000000000003,16.675000000000001,14.68,13.64,12.7,"*"]
["Hungary",10.5596,12.572099999999999,13.873200000000001,16.3218,16.997250000000001,14.866199999999999,12.997900000000001,10.80115,10.46025,9.8214000000000006,"*",null,"Hungary",10.618600000000001,12.082100000000001,13.304500000000001,15.123699999999999,15.696950000000001,13.894549999999999,11.839,9.9420500000000001,9.7898499999999995,9.5612999999999992,"*",null,"Hungary",10.484,12.202100000000002,13.165749999999999,14.87505,15.4132,13.686500000000001,11.637250000000002,9.9966000000000008,9.6864999999999988,9.5648999999999997,"*"]
["Netherlands",30.344999999999999,29.895,29.689999999999998,28.48,30.220000000000002,31.784999999999997,33.744999999999997,33.534999999999997,33.394999999999996,30.19,"*",null,"Netherlands",19.865000000000002,20.204999999999998,20.61,19.439999999999998,20.494999999999997,22.009999999999998,22.965,22.35,21.65,21.65,"*",null,"Netherlands",18.038,"*",18.39,17.079999999999998,18.68,19.755000000000003,21.380000000000003,20.225000000000001,19.309999999999999,19.809999999999999,"*"]
["Austria",20.93,20.58,21.435000000000002,20.72,23.71,25.524999999999999,25.295000000000002,24.844999999999999,24.17,23.72,"*",null,"Austria",16.95,16.689999999999998,17.630000000000003,17,19.66,21.125,21.14,20.53,20.015000000000001,19.170000000000002,"*",null,"Austria",14.91,14.715,15.620000000000001,15.095000000000001,17.5,18.645,18.7,18.274999999999999,17.579999999999998,16.579999999999998,"*"]
["Poland",14.325200000000001,16.689499999999999,14.882400000000001,16.210450000000002,16.83925,18.067350000000001,17.434049999999999,17.661149999999999,17.325699999999998,15.787100000000001,"*",null,"Poland",11.146000000000001,12.93005,11.79055,12.92375,13.385349999999999,14.507999999999999,13.59605,13.7431,13.875350000000001,10.8795,"*",null,"Poland",10.222300000000001,11.876749999999999,10.851749999999999,11.693950000000001,12.33225,13.6226,13.1815,13.3264,13.578250000000001,10.1768,"*"]
["Portugal",23.144600000000001,22.497999999999998,21.738050000000001,21.707000000000001,23.9,28.274999999999999,30.814999999999998,33.28,32.840000000000003,30.59,"*",null,"Portugal",18.1295,17.421500000000002,16.648600000000002,16.9925,18.73,22.105,24.58,27.414999999999999,27.195,25.35,"*",null,"Portugal",14.8492,15.823499999999999,14.392150000000001,14.399000000000001,16.119999999999997,19.23,21.954999999999998,25.555,25.475000000000001,24.69,"*"]
["Romania",9.6178000000000008,9.3321500000000004,7.8437999999999999,7.7252000000000001,7.8297000000000008,7.5992999999999995,8.2588500000000007,8.7764999999999986,9.1622500000000002,9.3427000000000007,"*",null,"Romania",9.5053000000000001,9.2698999999999998,7.783949999999999,7.6834500000000006,7.7884000000000002,7.5622500000000006,8.2136500000000012,8.7156500000000001,9.0509000000000004,9.2425999999999995,"*",null,"Romania",9.3201999999999998,9.1099500000000013,7.6184500000000002,7.52,7.5986999999999991,7.3997000000000002,8.0349000000000004,8.4520999999999997,8.6088000000000005,8.8020999999999994,"*"]
["Slovenia",17.36,21.895,21.83,20.156950000000002,23.520000000000003,26.68,20.935000000000002,20.53,20,19.22,"*",null,"Slovenia",14.14,17.64,16.62,17.430700000000002,20.285,21.22,19.14,18.074999999999999,17.195,16.649999999999999,"*",null,"Slovenia",13.47,16.560000000000002,16.125,16.693750000000001,17.82,19.244999999999997,18.504999999999999,18.869999999999997,16.645000000000003,15.3,"*"]
["Slovakia",22.5685,26.531199999999998,27.6905,26.895499999999998,27.85,27.825000000000003,28.565000000000001,28.535,28.914999999999999,28.09,"*",null,"Slovakia",11.513199999999999,12.40305,13.0205,12.250500000000001,13.57,14.305,14.120000000000001,14.26,13.76,12.78,"*",null,"Slovakia",11.358599999999999,11.595749999999999,13.045999999999999,12.134,14.29,13.690000000000001,14.795,15.205,14.57,13.44,"*"]
["Sweden",33.011299999999999,34.999400000000001,36.66545,43.904249999999998,49.4649,54.6845,48.122250000000001,47.370950000000001,49.678899999999999,45.855699999999999,"*",null,"Sweden",25.336349999999999,27.007349999999999,25.194400000000002,28.682400000000001,32.655149999999999,33.913600000000002,34.048349999999999,32.262799999999999,32.007950000000001,31.354099999999999,"*",null,"Sweden",24.5305,25.968,23.424900000000001,26.792899999999999,29.896349999999998,31.43385,31.013249999999999,28.818200000000001,28.911549999999998,28.244199999999999,"*"]
["United Kingdom",10.740500000000001,13.20345,13.226949999999999,12.965949999999999,14.997250000000001,17.6586,19.062750000000001,24.549199999999999,25.163600000000002,21.154,"*",null,"United Kingdom",9.9103999999999992,12.136200000000001,11.8399,11.49225,13.165150000000001,15.2727,15.533149999999999,17.299300000000002,18.104399999999998,15.3614,"*",null,"United Kingdom",8.5745000000000005,11.241250000000001,10.447700000000001,10.13335,11.482700000000001,13.475100000000001,13.936499999999999,15.08315,16.165749999999999,14.1541,"*"]
[]
[]
[]
[]
["Baggrundsdata for level 3 priser:"]
["Eurostat, tabel:",{"$f":"A39","v":"Gas prices for domestic consumers - bi-annual data (from 2007 onwards) [nrg_pc_202]"}]
["Opdateret:",{"$f":"B42","v":"2016-12-08T10:28:22.239"}]
["Gas prices for domestic consumers - bi-annual data (from 2007 onwards) [nrg_pc_202]"]
[]
["Last update","2016-11-07T16:45:30"]
["Extracted on","2016-12-08T10:28:22.239"]
["Source of data","Eurostat"]
[]
["PRODUCT","Natural gas"]
["CONSOM","Band D1 : Consumption < 20 GJ"]
["UNIT","Gigajoules (gross calorific value = GCV)"]
["TAX","All taxes and levies included"]
["CURRENCY","Euro"]
[]
["GEO/TIME","2007S1","2007S2","2008S1","2008S2","2009S1","2009S2","2010S1","2010S2","2011S1","2011S2","2012S1","2012S2","2013S1","2013S2","2014S1","2014S2","2015S1","2015S2","2016S1"]
["European Union (28 countries)",":",19.39,19.88,23.27,21.58,21.28,19.97,23.21,22.03,25.58,23.56,27.61,24.79,28.73,26.67,30.42,26.21,30.01,25.45]
["Belgium",":",21.48,23.88,28.13,24.44,21.92,22.17,23.72,24.26,26.71,26,28.56,25.66,24.86,23.96,25.8,22.05,25.21,20.87]
["Bulgaria",":",8.5130999999999997,8.9938000000000002,11.591200000000001,13.237500000000001,9.3874999999999993,10.0931,11.730499999999999,11.8622,12.8081,13.769299999999999,15.4003,13.8102,15.3185,13.4063,14.3522,13.6722,11.995100000000001,10.819100000000001]
["Czech Republic",":",15.1113,18.252199999999998,21.018699999999999,19.982299999999999,19.619599999999998,20.583400000000001,22.0641,24.2165,26.2469,26.2014,26.261199999999999,26.934000000000001,25.1006,23.749500000000001,23.924399999999999,24.872499999999999,25.2727,25.643899999999999]
["Denmark",11.2707,24.587399999999999,26.628599999999999,27.206499999999998,22.2989,23.6401,26.497900000000001,26.814699999999998,28.6448,28.586200000000002,27.218699999999998,26.528500000000001,27.5854,27.1403,25.221599999999999,24.382200000000001,22.291499999999999,21.2181,19.915600000000001]
["Germany (until 1990 former territory of the FRG)",":",25.98,26.22,30.19,27.88,26.25,25.38,28.25,28.51,29.14,28.88,29.22,29.65,30.9,30.85,29.54,30.22,29.45,30.32]
["Estonia",":",10.7211,10.8941,11.3406,11.2987,10.418200000000001,10.9148,14.2668,14.64,16.510000000000002,16.57,17.600000000000001,18.62,16.43,16.329999999999998,15.23,15.15,11.51,13.07]
["Ireland",":",30.13,19.02,19.7,19.2,17.559999999999999,15.24,16.66,15.52,19.96,18.84,21.45,19.78,24.76,21.12,25.01,20.79,24.6,20.27]
["Greece",":",":",":",":",":",":",":",":",":",":",":",40.69,24.67,37.619999999999997,23.44,32.15,22.17,32.229999999999997,18.78]
["Spain",":",19.317,19.651,21.67,20.46,19.045000000000002,18.920400000000001,19.0669,19.02,19.079999999999998,22.54,29.31,25,30.55,26.51,33.92,25.63,32.85,23.91]
["France",":",26.11,25.16,31.231000000000002,27.55,31.9,27.26,32.06,30.73,36.21,31.06,37.29,33.65,40.06,36.57,42.01,35.369999999999997,41.3,35.61]
["Croatia",8.1983999999999995,7.6044999999999998,7.5923999999999996,7.7031000000000001,8.8590999999999998,9.1021000000000001,10.6326,10.544700000000001,10.421099999999999,10.3224,10.643800000000001,12.710100000000001,13.0472,13.132199999999999,13.3687,14.9252,15.359299999999999,15.2661,14.2843]
["Italy",18.489999999999998,18.992000000000001,18.545000000000002,23.72,20.777999999999999,18.099,18.440999999999999,27.82,21.23,30.35,23.9,34.74,25.97,34,27.64,38.049999999999997,26.22,36.39,25.38]
["Latvia",":",9.2332000000000001,9.2197999999999993,19.342099999999999,22.256799999999998,18.180499999999999,15.39,18.429200000000002,17.580100000000002,20.354399999999998,21.8674,23.2227,21.478000000000002,21.1815,21,20.67,21.09,20.75,19.399999999999999]
["Lithuania",":",9.9992999999999999,14.1577,15.1576,19.2255,17.197800000000001,17.474399999999999,19.153600000000001,18.454599999999999,20.765799999999999,20.9772,24.099299999999999,24.646699999999999,23.444700000000001,23.308599999999998,20.971399999999999,21.42,20.73,20.74]
["Luxembourg",":",14.76,13.88,18.36,20.82,20.38,14.04,15.37,18.78,20.100000000000001,16.29,19.73,22.53,18.12,19.23,17.670000000000002,16.47,16.63,14.6]
["Hungary",":",10.5596,11.433199999999999,13.711,13.4528,14.2936,15.869400000000001,16.7742,16.630299999999998,17.3642,14.068,15.664400000000001,12.9892,13.006600000000001,11.1229,10.4794,10.5806,10.3399,9.8214000000000006]
["Netherlands",30.72,29.97,28.61,31.18,30.07,29.31,26.8,30.16,27.17,33.270000000000003,28.45,35.119999999999997,29.41,38.08,31.59,35.479999999999997,29.5,37.29,30.19]
["Austria",":",20.93,20.260000000000002,20.9,21.82,21.05,20.99,20.45,23.13,24.29,25.52,25.53,25.49,25.1,25.05,24.64,24.42,23.92,23.72]
["Poland",":",14.325200000000001,15.3804,17.9986,14.4094,15.355399999999999,15.8071,16.613800000000001,17.2789,16.3996,16.546600000000002,19.588100000000001,18.510899999999999,16.357199999999999,17.3612,17.961099999999998,18.012499999999999,16.6389,15.787100000000001]
["Portugal",":",23.144600000000001,22.52,22.475999999999999,21.91,21.566099999999999,20.501999999999999,22.911999999999999,21.85,25.95,26.54,30.01,29.34,32.29,31.68,34.880000000000003,32.9,32.78,30.59]
["Romania",":",9.6178000000000008,9.2451000000000008,9.4192,8.1870999999999992,7.5004999999999997,7.6795,7.7709000000000001,7.9435000000000002,7.7159000000000004,7.5536000000000003,7.6449999999999996,7.9546000000000001,8.5631000000000004,8.6313999999999993,8.9215999999999998,8.7390000000000008,9.5854999999999997,9.3427000000000007]
["Slovenia",":",17.36,18.91,24.88,22.39,21.27,19.745899999999999,20.568000000000001,22.26,24.78,26.87,26.49,23.02,18.850000000000001,22.64,18.420000000000002,20.71,19.29,19.22]
["Slovakia",":",22.5685,25.8292,27.2332,27.783999999999999,27.597000000000001,26.981999999999999,26.809000000000001,27.53,28.17,27.98,27.67,28.12,29.01,28.25,28.82,28.95,28.88,28.09]
["Sweden",35.959800000000001,30.062799999999999,30.049099999999999,39.9497,34.090499999999999,39.240400000000001,41.674999999999997,46.133499999999998,48.549500000000002,50.380299999999998,51.878300000000003,57.490699999999997,49.6387,46.605800000000002,46.422400000000003,48.319499999999998,47.3,52.0578,45.855699999999999]
["United Kingdom",":",10.740500000000001,12.3148,14.0921,13.2691,13.184799999999999,12.7265,13.205399999999999,13.4861,16.508400000000002,16.479600000000001,18.837599999999998,16.713000000000001,21.412500000000001,22.160299999999999,26.938099999999999,23.176600000000001,27.150600000000001,21.154]
[]
["Special value:"]
[":","not available"]
[]
["PRODUCT","Natural gas"]
["CONSOM","Band D2 : 20 GJ < Consumption < 200 GJ"]
["UNIT","Gigajoules (gross calorific value = GCV)"]
["TAX","All taxes and levies included"]
["CURRENCY","Euro"]
[]
["GEO/TIME","2007S1","2007S2","2008S1","2008S2","2009S1","2009S2","2010S1","2010S2","2011S1","2011S2","2012S1","2012S2","2013S1","2013S2","2014S1","2014S2","2015S1","2015S2","2016S1"]
["European Union (28 countries)",":",14.21,14.86,17.22,16.170000000000002,14.6,14.41,15.73,15.58,17.98,17.36,19.440000000000001,18.18,19.62,18.5,19.97,18.41,19.64,17.260000000000002]
["Belgium",":",13.89,16.260000000000002,20.239999999999998,16.82,14.33,14.7,16.78,17.600000000000001,20.309999999999999,19.13,20.39,18.32,18.55,18.27,18.059999999999999,16.23,17.239999999999998,15.19]
["Bulgaria",":",8.9784000000000006,9.8475999999999999,10.86,13.1404,9.6686999999999994,10.210699999999999,11.9781,11.944000000000001,13.1046,13.7233,15.4413,14.239699999999999,14.3931,13.626099999999999,13.4421,13.257999999999999,10.86,10.226000000000001]
["Czech Republic",":",10.0601,12.2018,14.6866,13.747999999999999,13.1137,13.0395,14.352,15.124700000000001,16.529800000000002,18.3111,18.355399999999999,17.802900000000001,15.9818,15.2285,15.6282,15.949299999999999,16.2059,16.187899999999999]
["Denmark",18.117899999999999,24.587399999999999,26.628599999999999,27.206499999999998,22.2989,23.6401,26.497900000000001,26.814699999999998,28.6448,28.586200000000002,27.218699999999998,26.528500000000001,27.5854,27.1403,25.221599999999999,24.382200000000001,22.291499999999999,21.2181,19.915600000000001]
["Germany (until 1990 former territory of the FRG)",":",17.04,17.809999999999999,21.17,18,16.350000000000001,15.7,15.86,16.34,17.77,17.7,18.010000000000002,18.350000000000001,19.13,18.84,18.93,18.78,18.93,18.36]
["Estonia",":",7.3040000000000003,9.2996999999999996,10.3041,10.960100000000001,10.0725,10.068,11.1386,11.64,12.14,13.88,14.38,14.57,13.21,13.64,13.71,12.67,10.68,12.28]
["Ireland",":",16.850000000000001,15.09,18.05,17.89,15.29,13.79,14.63,14.14,17.18,17.059999999999999,18.68,18.149999999999999,20.07,18.920000000000002,20.7,18.7,20.11,18.12]
["Greece",":",":",":",":",":",":",":",":",":",":",":",28.25,21.44,24.66,20.09,22.16,18.920000000000002,20.83,15.68]
["Spain",":",16.148,15.981,18.137,16.98,14.875500000000001,14.832100000000001,14.9992,14.89,15,18.37,23.98,20.34,24.78,20.9,26.64,20.32,26.57,18.82]
["France",":",14.32,14.46,16.055,15.29,16.2,14.46,15.98,16.11,17.95,17.63,18.95,18.829999999999998,20.239999999999998,19.47,21.16,19.46,20.350000000000001,18.05]
["Croatia",8.1983999999999995,7.6044999999999998,7.5923999999999996,7.7031000000000001,8.8590999999999998,9.1021000000000001,10.6326,10.544700000000001,10.421099999999999,10.3224,10.643800000000001,13.110099999999999,12.9191,13.000400000000001,12.8979,13.197100000000001,13.1265,12.7623,11.903600000000001]
["Italy",18.18,17.152999999999999,17.468,19.989999999999998,21.041,14.840999999999999,17.148,21.86,19.27,24.32,21.36,26.89,23.17,26.29,22.14,26.41,21.27,25.13,20.32]
["Latvia",":",8.6471999999999998,8.7043999999999997,13.8804,14.5406,10.522600000000001,8.7256999999999998,11.2803,10.748900000000001,12.686,14.2346,15.568,14.052099999999999,13.992900000000001,13.45,13.56,13.77,13.47,11.78]
["Lithuania",":",6.5189000000000004,9.1470000000000002,10.6258,11.7987,11.285,10.430899999999999,12.5863,12.074299999999999,14.9878,14.1653,16.971699999999998,16.745799999999999,17.047000000000001,15.5381,13.867000000000001,11.75,12.12,11.47]
["Luxembourg",":",10.119999999999999,15.48,14.28,13.68,12.82,12.07,13.13,14.19,16.09,16.059999999999999,16.489999999999998,17.34,15.71,14.78,14.27,13.77,13.4,12.62]
["Hungary",":",10.618600000000001,11.2369,12.927300000000001,13.3772,13.2318,14.870900000000001,15.3765,15.5718,15.822100000000001,13.429399999999999,14.3597,12.010400000000001,11.6676,10.146599999999999,9.7375000000000007,9.8028999999999993,9.7767999999999997,9.5612999999999992]
["Netherlands",20.100000000000001,19.63,19.37,21.04,22.49,18.73,18.89,19.989999999999998,19.149999999999999,21.84,20.57,23.45,21.96,23.97,21.91,22.79,21,22.3,21.65]
["Austria",":",16.95,16.27,17.11,18.03,17.23,17.29,16.71,19.29,20.03,21.05,21.2,21.32,20.96,20.78,20.28,20.28,19.75,19.170000000000002]
["Poland",":",11.146000000000001,11.5625,14.297599999999999,10.8009,12.780200000000001,11.8066,14.040900000000001,12.8719,13.8988,13.018700000000001,15.997299999999999,13.0548,14.1373,13.5867,13.8995,13.906700000000001,13.843999999999999,10.8795]
["Portugal",":",18.1295,17.366,17.477,16.78,16.517199999999999,16.491,17.494,16.95,20.51,20.52,23.69,23.23,25.93,25.96,28.87,27.11,27.28,25.35]
["Romania",":",9.5053000000000001,9.2123000000000008,9.3275000000000006,8.1138999999999992,7.4539999999999997,7.6379999999999999,7.7289000000000003,7.8981000000000003,7.6787000000000001,7.5171000000000001,7.6074000000000002,7.9114000000000004,8.5159000000000002,8.5798000000000005,8.8514999999999997,8.6513000000000009,9.4504999999999999,9.2425999999999995]
["Slovenia",":",14.14,15.51,19.77,18.28,14.96,16.1768,18.6846,18.559999999999999,22.01,22.16,20.28,18.57,19.71,18.54,17.61,17.48,16.91,16.649999999999999]
["Slovakia",":",11.513199999999999,11.888,12.918100000000001,12.829000000000001,13.212,12.111000000000001,12.39,12.93,14.21,14.32,14.29,13.85,14.39,14.1,14.42,13.78,13.74,12.78]
["Sweden",25.872399999999999,24.8003,25.797699999999999,28.216999999999999,24.268000000000001,26.120799999999999,27.884799999999998,29.48,32.937199999999997,32.373100000000001,32.603499999999997,35.223700000000001,34.088000000000001,34.008699999999997,32.898200000000003,31.627400000000002,31.4312,32.584699999999998,31.354099999999999]
["United Kingdom",":",9.9103999999999992,10.9869,13.285500000000001,11.837,11.8428,11.2621,11.7224,11.8047,14.525600000000001,14.497199999999999,16.048200000000001,14.7385,16.3278,16.656700000000001,17.9419,17.645299999999999,18.563500000000001,15.3614]
[]
["Special value:"]
[":","not available"]
[]
["PRODUCT","Natural gas"]
["CONSOM","Band D3 : Consumption > 200 GJ"]
["UNIT","Gigajoules (gross calorific value = GCV)"]
["TAX","All taxes and levies included"]
["CURRENCY","Euro"]
[]
["GEO/TIME","2007S1","2007S2","2008S1","2008S2","2009S1","2009S2","2010S1","2010S2","2011S1","2011S2","2012S1","2012S2","2013S1","2013S2","2014S1","2014S2","2015S1","2015S2","2016S1"]
["European Union (28 countries)",":",12.75,13.78,15.27,14.56,13.19,13.23,13.94,14.47,15.98,16.29,17.29,17.29,17.22,17.149999999999999,17.350000000000001,17.09,17.05,15.86]
["Belgium",":",12.48,15.23,19.02,15.65,13.05,13.43,14.94,16.28,18.43,17.46,19.059999999999999,17.010000000000002,16.7,16.22,15.58,14.42,14.32,13.72]
["Bulgaria",":",9.1216000000000008,9.9806000000000008,11.627000000000001,13.4779,9.9448000000000008,10.364000000000001,12.140599999999999,12.0564,13.1813,14.060700000000001,15.819599999999999,14.536300000000001,14.3573,13.973800000000001,13.518800000000001,13.365399999999999,10.773099999999999,10.1442]
["Czech Republic",":",9.8675999999999995,12.2126,14.742800000000001,13.4945,12.835000000000001,12.5463,13.683,14.28,15.688499999999999,17.7348,17.776299999999999,16.785699999999999,15.618399999999999,14.658200000000001,14.7956,14.980600000000001,15.2217,15.099500000000001]
["Denmark",22.647400000000001,24.587399999999999,26.628599999999999,27.206499999999998,22.2989,23.6401,26.497900000000001,26.814699999999998,28.6448,28.586200000000002,27.218699999999998,26.528500000000001,27.5854,27.1403,25.221599999999999,24.382200000000001,22.291499999999999,21.2181,19.915600000000001]
["Germany (until 1990 former territory of the FRG)",":",16.100000000000001,16.350000000000001,19.34,16.350000000000001,14.57,14.39,15.58,15.75,16.760000000000002,16.86,17.170000000000002,17.36,17.809999999999999,17.52,17.62,17.59,17.5,16.95]
["Estonia",":",7.2477999999999998,9.2733000000000008,10.0411,10.900600000000001,10.015599999999999,9.9121000000000006,10.9962,11.48,11.04,13.12,14.04,13.93,12.08,12.97,12.53,12.41,9.59,11.48]
["Ireland",":",14.5,14.4,17.190000000000001,17.2,14.12,13.12,13.46,13.44,15.92,16.11,17.170000000000002,17.350000000000001,18.37,17.84,18.72,17.61,18.04,16.91]
["Greece",":",":",":",":",":",":",":",":",":",":",":",22.12,21.06,19.55,19.41,18.84,18.71,15.83,15.31]
["Spain",":",13.206,13.31,15.734,13.66,12.6128,12.4018,14.1372,13.95,16.350000000000001,15.87,18.82,19.13,19.690000000000001,18.25,19.66,17.86,18.170000000000002,15.6]
["France",":",12.68,13.21,14.323,14.15,13.87,12.79,13.47,14.24,15.08,16.03,16.03,16.62,16.420000000000002,16.93,17.25,16.54,16.36,15.24]
["Croatia",8.1983999999999995,7.6044999999999998,7.5923999999999996,7.7031000000000001,8.8590999999999998,9.1021000000000001,10.6326,10.544700000000001,10.421099999999999,10.3224,10.643800000000001,13.163399999999999,12.929600000000001,12.8871,12.238200000000001,12.345499999999999,12.5641,12.112399999999999,11.2714]
["Italy",17.73,16.969000000000001,17.652000000000001,17.704999999999998,20.777999999999999,16.338999999999999,17.602,18.829999999999998,18.8,21.17,21.38,22.88,23.49,21.31,22.12,21.29,20.84,20.96,19.489999999999998]
["Latvia",":",8.6043000000000003,8.6614000000000004,13.5975,14.200799999999999,10.4659,8.6692999999999998,11.1111,10.5792,12.6435,14.2202,15.539300000000001,13.994999999999999,13.907500000000001,13.38,13.3,13.74,13.45,11.77]
["Lithuania",":",5.7435,8.9111999999999991,8.8902999999999999,11.301,9.6130999999999993,9.4879999999999995,11.2095,10.4727,12.8736,12.117699999999999,15.735099999999999,14.9907,13.9481,12.7722,11.3531,":",12.12,11.47]
["Luxembourg",":",9.7200000000000006,11.01,13.51,12.91,11.71,12.46,13.44,13.4,15.18,16.09,16.420000000000002,17.41,15.94,14.79,14.57,13.84,13.44,12.7]
["Hungary",":",10.484,11.092700000000001,13.311500000000001,13.0243,13.3072,15.0497,14.7004,15.5708,15.255599999999999,13.0479,14.325100000000001,11.852600000000001,11.421900000000001,10.226699999999999,9.7665000000000006,9.7432999999999996,9.6296999999999997,9.5648999999999997]
["Netherlands",18.038,":",":",":",20.53,16.25,16.87,17.29,17.84,19.52,18.96,20.55,21.25,21.51,20.100000000000001,20.350000000000001,19.329999999999998,19.29,19.809999999999999]
["Austria",":",14.91,14.35,15.08,16,15.24,15.22,14.97,17.29,17.71,18.59,18.7,18.84,18.559999999999999,18.47,18.079999999999998,17.829999999999998,17.329999999999998,16.579999999999998]
["Poland",":",10.222300000000001,10.872299999999999,12.8812,10.351800000000001,11.351699999999999,10.964499999999999,12.423400000000001,11.8878,12.7767,12.6348,14.6104,12.6478,13.715199999999999,13.3352,13.317600000000001,13.773899999999999,13.3826,10.1768]
["Portugal",":",14.8492,15.599,16.047999999999998,14,14.7843,13.598000000000001,15.2,15.18,17.059999999999999,18.11,20.350000000000001,20.94,22.97,25.46,25.65,26.21,24.74,24.69]
["Romania",":",9.3201999999999998,9.1133000000000006,9.1066000000000003,7.9438000000000004,7.2930999999999999,7.4763000000000002,7.5636999999999999,7.7257999999999996,7.4715999999999996,7.3532000000000002,7.4462000000000002,7.7382999999999997,8.3315000000000001,8.3826999999999998,8.5214999999999996,8.3185000000000002,8.8991000000000007,8.8020999999999994]
["Slovenia",":",13.47,14.48,18.64,18.059999999999999,14.19,15.8033,17.584199999999999,16.21,19.43,18.829999999999998,19.66,18.47,18.54,17.47,20.27,17.010000000000002,16.28,15.3]
["Slovakia",":",11.358599999999999,11.117699999999999,12.0738,12.843,13.249000000000001,11.99,12.278,14.38,14.2,13.74,13.64,14.2,15.39,15.13,15.28,14.68,14.46,13.44]
["Sweden",24.534500000000001,24.526499999999999,24.913499999999999,27.022500000000001,22.7285,24.121300000000002,26.530200000000001,27.055599999999998,30.1328,29.6599,29.5246,33.3431,32.121099999999998,29.9054,29.9923,27.644100000000002,28.7074,29.1157,28.244199999999999]
["United Kingdom",":",8.5745000000000005,10.8089,11.6736,10.6175,10.277900000000001,10.2058,10.0609,10.4457,12.5197,12.9283,14.0219,13.692399999999999,14.1806,14.5746,15.591699999999999,16.0884,16.243099999999998,14.1541]
[]
["Special value:"]
[":","not available"]

{"sheet":"Afgifter og moms","index":7,"n_rows":64,"n_cols":38,"rows_kept":64,"cut":false,"hidden":false,"merged":[[35,26,35,37],[2,26,2,37],[2,13,2,24],[35,13,35,24],[35,0,35,11],[2,0,2,11]]}
["Ikke-refunderbare afgifter i de enklete lande, EURO"]
[]
["Forbrugsinterval < 20 GJ",null,null,null,null,null,null,null,null,null,null,null,null,"Forbrugsinterval  20 GJ <  200 GJ",null,null,null,null,null,null,null,null,null,null,null,null,"Forbrugsinterval  >200 GJ"]
[]
[{"$f":"'Level 1'!A5","v":"EURO/GJ"},{"$f":"'Level 1'!B5","v":2007},{"$f":"'Level 1'!C5","v":2008},{"$f":"'Level 1'!D5","v":2009},{"$f":"'Level 1'!E5","v":2010},{"$f":"'Level 1'!F5","v":2011},{"$f":"'Level 1'!G5","v":2012},{"$f":"'Level 1'!H5","v":2013},{"$f":"'Level 1'!I5","v":2014},{"$f":"'Level 1'!J5","v":2015},{"$f":"'Level 1'!K5","v":2016},{"$f":"'Level 1'!L5","v":2017},null,{"$f":"'Level 1'!N5","v":"EURO/GJ"},{"$f":"'Level 1'!O5","v":2007},{"$f":"'Level 1'!P5","v":2008},{"$f":"'Level 1'!Q5","v":2009},{"$f":"'Level 1'!R5","v":2010},{"$f":"'Level 1'!S5","v":2011},{"$f":"'Level 1'!T5","v":2012},{"$f":"'Level 1'!U5","v":2013},{"$f":"'Level 1'!V5","v":2014},{"$f":"'Level 1'!W5","v":2015},{"$f":"'Level 1'!X5","v":2016},{"$f":"'Level 1'!Y5","v":2017},null,{"$f":"'Level 1'!AA5","v":"EURO/GJ"},{"$f":"'Level 1'!AB5","v":2007},{"$f":"'Level 1'!AC5","v":2008},{"$f":"'Level 1'!AD5","v":2009},{"$f":"'Level 1'!AE5","v":2010},{"$f":"'Level 1'!AF5","v":2011},{"$f":"'Level 1'!AG5","v":2012},{"$f":"'Level 1'!AH5","v":2013},{"$f":"'Level 1'!AI5","v":2014},{"$f":"'Level 1'!AJ5","v":2015},{"$f":"'Level 1'!AK5","v":2016},{"$f":"'Level 1'!AL5","v":2017}]
[{"$f":"'Level 1'!A6","v":"European Union (28 countries)"},{"$f":"IFERROR('Level 2'!B6-'Level 1'!B6,\"*\")","v":1.6699999999999982},{"$f":"IFERROR('Level 2'!C6-'Level 1'!C6,\"*\")","v":1.3999999999999986},{"$f":"IFERROR('Level 2'!D6-'Level 1'!D6,\"*\")","v":1.4550000000000018},{"$f":"IFERROR('Level 2'!E6-'Level 1'!E6,\"*\")","v":1.5799999999999983},{"$f":"IFERROR('Level 2'!F6-'Level 1'!F6,\"*\")","v":1.8100000000000023},{"$f":"IFERROR('Level 2'!G6-'Level 1'!G6,\"*\")","v":1.7799999999999976},{"$f":"IFERROR('Level 2'!H6-'Level 1'!H6,\"*\")","v":1.884999999999998},{"$f":"IFERROR('Level 2'!I6-'Level 1'!I6,\"*\")","v":1.8999999999999986},{"$f":"IFERROR('Level 2'!J6-'Level 1'!J6,\"*\")","v":1.9450000000000003},{"$f":"IFERROR('Level 2'!K6-'Level 1'!K6,\"*\")","v":2.0500000000000007},{"$f":"IFERROR('Level 2'!L6-'Level 1'!L6,\"*\")","v":"*"},null,{"$f":"'Level 1'!A6","v":"European Union (28 countries)"},{"$f":"IFERROR('Level 2'!O6-'Level 1'!O6,\"*\")","v":1.2000000000000011},{"$f":"IFERROR('Level 2'!P6-'Level 1'!P6,\"*\")","v":1.1799999999999997},{"$f":"IFERROR('Level 2'!Q6-'Level 1'!Q6,\"*\")","v":1.2399999999999984},{"$f":"IFERROR('Level 2'!R6-'Level 1'!R6,\"*\")","v":1.4700000000000006},{"$f":"IFERROR('Level 2'!S6-'Level 1'!S6,\"*\")","v":1.6000000000000014},{"$f":"IFERROR('Level 2'!T6-'Level 1'!T6,\"*\")","v":1.6050000000000004},{"$f":"IFERROR('Level 2'!U6-'Level 1'!U6,\"*\")","v":1.7150000000000016},{"$f":"IFERROR('Level 2'!V6-'Level 1'!V6,\"*\")","v":1.7300000000000004},{"$f":"IFERROR('Level 2'!W6-'Level 1'!W6,\"*\")","v":1.7900000000000027},{"$f":"IFERROR('Level 2'!X6-'Level 1'!X6,\"*\")","v":1.9299999999999997},{"$f":"IFERROR('Level 2'!Y6-'Level 1'!Y6,\"*\")","v":"*"},null,{"$f":"'Level 1'!A6","v":"European Union (28 countries)"},{"$f":"IFERROR('Level 2'!AB6-'Level 1'!AB6,\"*\")","v":1.08},{"$f":"IFERROR('Level 2'!AC6-'Level 1'!AC6,\"*\")","v":1.0349999999999984},{"$f":"IFERROR('Level 2'!AD6-'Level 1'!AD6,\"*\")","v":1.1449999999999996},{"$f":"IFERROR('Level 2'!AE6-'Level 1'!AE6,\"*\")","v":1.33},{"$f":"IFERROR('Level 2'!AF6-'Level 1'!AF6,\"*\")","v":1.4549999999999983},{"$f":"IFERROR('Level 2'!AG6-'Level 1'!AG6,\"*\")","v":1.6449999999999996},{"$f":"IFERROR('Level 2'!AH6-'Level 1'!AH6,\"*\")","v":1.7100000000000009},{"$f":"IFERROR('Level 2'!AI6-'Level 1'!AI6,\"*\")","v":1.7750000000000004},{"$f":"IFERROR('Level 2'!AJ6-'Level 1'!AJ6,\"*\")","v":1.8249999999999993},{"$f":"IFERROR('Level 2'!AK6-'Level 1'!AK6,\"*\")","v":1.9900000000000002},{"$f":"IFERROR('Level 2'!AL6-'Level 1'!AL6,\"*\")","v":"*"}]
[{"$f":"'Level 1'!A7","v":"Belgium"},{"$f":"IFERROR('Level 2'!B7-'Level 1'!B7,\"*\")","v":0.32999999999999829},{"$f":"IFERROR('Level 2'!C7-'Level 1'!C7,\"*\")","v":0.34999999999999787},{"$f":"IFERROR('Level 2'!D7-'Level 1'!D7,\"*\")","v":0.39499999999999957},{"$f":"IFERROR('Level 2'!E7-'Level 1'!E7,\"*\")","v":0.84499999999999531},{"$f":"IFERROR('Level 2'!F7-'Level 1'!F7,\"*\")","v":1.1049999999999969},{"$f":"IFERROR('Level 2'!G7-'Level 1'!G7,\"*\")","v":1.0799999999999983},{"$f":"IFERROR('Level 2'!H7-'Level 1'!H7,\"*\")","v":0.91000000000000014},{"$f":"IFERROR('Level 2'!I7-'Level 1'!I7,\"*\")","v":0.84499999999999886},{"$f":"IFERROR('Level 2'!J7-'Level 1'!J7,\"*\")","v":0.71999999999999886},{"$f":"IFERROR('Level 2'!K7-'Level 1'!K7,\"*\")","v":1.4499999999999993},{"$f":"IFERROR('Level 2'!L7-'Level 1'!L7,\"*\")","v":"*"},null,{"$f":"'Level 1'!A7","v":"Belgium"},{"$f":"IFERROR('Level 2'!O7-'Level 1'!O7,\"*\")","v":0.33999999999999986},{"$f":"IFERROR('Level 2'!P7-'Level 1'!P7,\"*\")","v":0.41999999999999815},{"$f":"IFERROR('Level 2'!Q7-'Level 1'!Q7,\"*\")","v":0.40000000000000036},{"$f":"IFERROR('Level 2'!R7-'Level 1'!R7,\"*\")","v":0.51499999999999879},{"$f":"IFERROR('Level 2'!S7-'Level 1'!S7,\"*\")","v":0.48500000000000121},{"$f":"IFERROR('Level 2'!T7-'Level 1'!T7,\"*\")","v":0.60999999999999943},{"$f":"IFERROR('Level 2'!U7-'Level 1'!U7,\"*\")","v":0.71500000000000163},{"$f":"IFERROR('Level 2'!V7-'Level 1'!V7,\"*\")","v":0.9399999999999995},{"$f":"IFERROR('Level 2'!W7-'Level 1'!W7,\"*\")","v":0.58000000000000007},{"$f":"IFERROR('Level 2'!X7-'Level 1'!X7,\"*\")","v":1.0700000000000003},{"$f":"IFERROR('Level 2'!Y7-'Level 1'!Y7,\"*\")","v":"*"},null,{"$f":"'Level 1'!A7","v":"Belgium"},{"$f":"IFERROR('Level 2'!AB7-'Level 1'!AB7,\"*\")","v":0.33000000000000007},{"$f":"IFERROR('Level 2'!AC7-'Level 1'!AC7,\"*\")","v":0.36000000000000121},{"$f":"IFERROR('Level 2'!AD7-'Level 1'!AD7,\"*\")","v":0.37999999999999901},{"$f":"IFERROR('Level 2'!AE7-'Level 1'!AE7,\"*\")","v":0.77500000000000036},{"$f":"IFERROR('Level 2'!AF7-'Level 1'!AF7,\"*\")","v":0.59499999999999886},{"$f":"IFERROR('Level 2'!AG7-'Level 1'!AG7,\"*\")","v":0.82000000000000028},{"$f":"IFERROR('Level 2'!AH7-'Level 1'!AH7,\"*\")","v":0.59500000000000064},{"$f":"IFERROR('Level 2'!AI7-'Level 1'!AI7,\"*\")","v":0.88999999999999879},{"$f":"IFERROR('Level 2'!AJ7-'Level 1'!AJ7,\"*\")","v":0.58500000000000085},{"$f":"IFERROR('Level 2'!AK7-'Level 1'!AK7,\"*\")","v":0.90000000000000036},{"$f":"IFERROR('Level 2'!AL7-'Level 1'!AL7,\"*\")","v":"*"}]
[{"$f":"'Level 1'!A8","v":"Bulgaria"},{"$f":"IFERROR('Level 2'!B8-'Level 1'!B8,\"*\")","v":0},{"$f":"IFERROR('Level 2'!C8-'Level 1'!C8,\"*\")","v":0},{"$f":"IFERROR('Level 2'!D8-'Level 1'!D8,\"*\")","v":0},{"$f":"IFERROR('Level 2'!E8-'Level 1'!E8,\"*\")","v":0},{"$f":"IFERROR('Level 2'!F8-'Level 1'!F8,\"*\")","v":0},{"$f":"IFERROR('Level 2'!G8-'Level 1'!G8,\"*\")","v":0},{"$f":"IFERROR('Level 2'!H8-'Level 1'!H8,\"*\")","v":0},{"$f":"IFERROR('Level 2'!I8-'Level 1'!I8,\"*\")","v":0},{"$f":"IFERROR('Level 2'!J8-'Level 1'!J8,\"*\")","v":0},{"$f":"IFERROR('Level 2'!K8-'Level 1'!K8,\"*\")","v":0},{"$f":"IFERROR('Level 2'!L8-'Level 1'!L8,\"*\")","v":"*"},null,{"$f":"'Level 1'!A8","v":"Bulgaria"},{"$f":"IFERROR('Level 2'!O8-'Level 1'!O8,\"*\")","v":0},{"$f":"IFERROR('Level 2'!P8-'Level 1'!P8,\"*\")","v":0},{"$f":"IFERROR('Level 2'!Q8-'Level 1'!Q8,\"*\")","v":0},{"$f":"IFERROR('Level 2'!R8-'Level 1'!R8,\"*\")","v":0},{"$f":"IFERROR('Level 2'!S8-'Level 1'!S8,\"*\")","v":0},{"$f":"IFERROR('Level 2'!T8-'Level 1'!T8,\"*\")","v":0},{"$f":"IFERROR('Level 2'!U8-'Level 1'!U8,\"*\")","v":0},{"$f":"IFERROR('Level 2'!V8-'Level 1'!V8,\"*\")","v":0},{"$f":"IFERROR('Level 2'!W8-'Level 1'!W8,\"*\")","v":0},{"$f":"IFERROR('Level 2'!X8-'Level 1'!X8,\"*\")","v":0},{"$f":"IFERROR('Level 2'!Y8-'Level 1'!Y8,\"*\")","v":"*"},null,{"$f":"'Level 1'!A8","v":"Bulgaria"},{"$f":"IFERROR('Level 2'!AB8-'Level 1'!AB8,\"*\")","v":0},{"$f":"IFERROR('Level 2'!AC8-'Level 1'!AC8,\"*\")","v":0},{"$f":"IFERROR('Level 2'!AD8-'Level 1'!AD8,\"*\")","v":0},{"$f":"IFERROR('Level 2'!AE8-'Level 1'!AE8,\"*\")","v":0},{"$f":"IFERROR('Level 2'!AF8-'Level 1'!AF8,\"*\")","v":0},{"$f":"IFERROR('Level 2'!AG8-'Level 1'!AG8,\"*\")","v":0},{"$f":"IFERROR('Level 2'!AH8-'Level 1'!AH8,\"*\")","v":0},{"$f":"IFERROR('Level 2'!AI8-'Level 1'!AI8,\"*\")","v":0},{"$f":"IFERROR('Level 2'!AJ8-'Level 1'!AJ8,\"*\")","v":0},{"$f":"IFERROR('Level 2'!AK8-'Level 1'!AK8,\"*\")","v":0},{"$f":"IFERROR('Level 2'!AL8-'Level 1'!AL8,\"*\")","v":"*"}]
[{"$f":"'Level 1'!A9","v":"Czech Republic"},{"$f":"IFERROR('Level 2'!B9-'Level 1'!B9,\"*\")","v":0},{"$f":"IFERROR('Level 2'!C9-'Level 1'!C9,\"*\")","v":0},{"$f":"IFERROR('Level 2'!D9-'Level 1'!D9,\"*\")","v":0},{"$f":"IFERROR('Level 2'!E9-'Level 1'!E9,\"*\")","v":0},{"$f":"IFERROR('Level 2'!F9-'Level 1'!F9,\"*\")","v":0},{"$f":"IFERROR('Level 2'!G9-'Level 1'!G9,\"*\")","v":0},{"$f":"IFERROR('Level 2'!H9-'Level 1'!H9,\"*\")","v":0},{"$f":"IFERROR('Level 2'!I9-'Level 1'!I9,\"*\")","v":0},{"$f":"IFERROR('Level 2'!J9-'Level 1'!J9,\"*\")","v":0},{"$f":"IFERROR('Level 2'!K9-'Level 1'!K9,\"*\")","v":0},{"$f":"IFERROR('Level 2'!L9-'Level 1'!L9,\"*\")","v":"*"},null,{"$f":"'Level 1'!A9","v":"Czech Republic"},{"$f":"IFERROR('Level 2'!O9-'Level 1'!O9,\"*\")","v":0},{"$f":"IFERROR('Level 2'!P9-'Level 1'!P9,\"*\")","v":0},{"$f":"IFERROR('Level 2'!Q9-'Level 1'!Q9,\"*\")","v":0},{"$f":"IFERROR('Level 2'!R9-'Level 1'!R9,\"*\")","v":0},{"$f":"IFERROR('Level 2'!S9-'Level 1'!S9,\"*\")","v":0},{"$f":"IFERROR('Level 2'!T9-'Level 1'!T9,\"*\")","v":0},{"$f":"IFERROR('Level 2'!U9-'Level 1'!U9,\"*\")","v":0},{"$f":"IFERROR('Level 2'!V9-'Level 1'!V9,\"*\")","v":0},{"$f":"IFERROR('Level 2'!W9-'Level 1'!W9,\"*\")","v":0},{"$f":"IFERROR('Level 2'!X9-'Level 1'!X9,\"*\")","v":0},{"$f":"IFERROR('Level 2'!Y9-'Level 1'!Y9,\"*\")","v":"*"},null,{"$f":"'Level 1'!A9","v":"Czech Republic"},{"$f":"IFERROR('Level 2'!AB9-'Level 1'!AB9,\"*\")","v":0},{"$f":"IFERROR('Level 2'!AC9-'Level 1'!AC9,\"*\")","v":0},{"$f":"IFERROR('Level 2'!AD9-'Level 1'!AD9,\"*\")","v":0},{"$f":"IFERROR('Level 2'!AE9-'Level 1'!AE9,\"*\")","v":0},{"$f":"IFERROR('Level 2'!AF9-'Level 1'!AF9,\"*\")","v":0},{"$f":"IFERROR('Level 2'!AG9-'Level 1'!AG9,\"*\")","v":0},{"$f":"IFERROR('Level 2'!AH9-'Level 1'!AH9,\"*\")","v":0},{"$f":"IFERROR('Level 2'!AI9-'Level 1'!AI9,\"*\")","v":0},{"$f":"IFERROR('Level 2'!AJ9-'Level 1'!AJ9,\"*\")","v":0},{"$f":"IFERROR('Level 2'!AK9-'Level 1'!AK9,\"*\")","v":0},{"$f":"IFERROR('Level 2'!AL9-'Level 1'!AL9,\"*\")","v":"*"}]
[{"$f":"'Level 1'!A10","v":"Denmark"},{"$f":"IFERROR('Level 2'!B10-'Level 1'!B10,\"*\")","v":3.4227499999999988},{"$f":"IFERROR('Level 2'!C10-'Level 1'!C10,\"*\")","v":6.9790500000000026},{"$f":"IFERROR('Level 2'!D10-'Level 1'!D10,\"*\")","v":7.0686499999999999},{"$f":"IFERROR('Level 2'!E10-'Level 1'!E10,\"*\")","v":8.0661000000000023},{"$f":"IFERROR('Level 2'!F10-'Level 1'!F10,\"*\")","v":8.2065999999999981},{"$f":"IFERROR('Level 2'!G10-'Level 1'!G10,\"*\")","v":8.4145000000000003},{"$f":"IFERROR('Level 2'!H10-'Level 1'!H10,\"*\")","v":9.8190499999999989},{"$f":"IFERROR('Level 2'!I10-'Level 1'!I10,\"*\")","v":10.053700000000001},{"$f":"IFERROR('Level 2'!J10-'Level 1'!J10,\"*\")","v":7.9156499999999994},{"$f":"IFERROR('Level 2'!K10-'Level 1'!K10,\"*\")","v":7.9866000000000001},{"$f":"IFERROR('Level 2'!L10-'Level 1'!L10,\"*\")","v":"*"},null,{"$f":"'Level 1'!A10","v":"Denmark"},{"$f":"IFERROR('Level 2'!O10-'Level 1'!O10,\"*\")","v":3.4227500000000006},{"$f":"IFERROR('Level 2'!P10-'Level 1'!P10,\"*\")","v":6.9790500000000026},{"$f":"IFERROR('Level 2'!Q10-'Level 1'!Q10,\"*\")","v":7.0686499999999999},{"$f":"IFERROR('Level 2'!R10-'Level 1'!R10,\"*\")","v":8.0661000000000023},{"$f":"IFERROR('Level 2'!S10-'Level 1'!S10,\"*\")","v":8.2065999999999981},{"$f":"IFERROR('Level 2'!T10-'Level 1'!T10,\"*\")","v":8.4145000000000003},{"$f":"IFERROR('Level 2'!U10-'Level 1'!U10,\"*\")","v":9.8190499999999989},{"$f":"IFERROR('Level 2'!V10-'Level 1'!V10,\"*\")","v":10.053700000000001},{"$f":"IFERROR('Level 2'!W10-'Level 1'!W10,\"*\")","v":7.9156499999999994},{"$f":"IFERROR('Level 2'!X10-'Level 1'!X10,\"*\")","v":7.9866000000000001},{"$f":"IFERROR('Level 2'!Y10-'Level 1'!Y10,\"*\")","v":"*"},null,{"$f":"'Level 1'!A10","v":"Denmark"},{"$f":"IFERROR('Level 2'!AB10-'Level 1'!AB10,\"*\")","v":3.4227499999999971},{"$f":"IFERROR('Level 2'!AC10-'Level 1'!AC10,\"*\")","v":6.9790500000000026},{"$f":"IFERROR('Level 2'!AD10-'Level 1'!AD10,\"*\")","v":7.0686499999999999},{"$f":"IFERROR('Level 2'!AE10-'Level 1'!AE10,\"*\")","v":8.0661000000000023},{"$f":"IFERROR('Level 2'!AF10-'Level 1'!AF10,\"*\")","v":8.2065999999999981},{"$f":"IFERROR('Level 2'!AG10-'Level 1'!AG10,\"*\")","v":8.4145000000000003},{"$f":"IFERROR('Level 2'!AH10-'Level 1'!AH10,\"*\")","v":9.8190499999999989},{"$f":"IFERROR('Level 2'!AI10-'Level 1'!AI10,\"*\")","v":10.053700000000001},{"$f":"IFERROR('Level 2'!AJ10-'Level 1'!AJ10,\"*\")","v":7.9156499999999994},{"$f":"IFERROR('Level 2'!AK10-'Level 1'!AK10,\"*\")","v":7.9866000000000001},{"$f":"IFERROR('Level 2'!AL10-'Level 1'!AL10,\"*\")","v":"*"}]
[{"$f":"'Level 1'!A11","v":"Germany (until 1990 former territory of the FRG)"},{"$f":"IFERROR('Level 2'!B11-'Level 1'!B11,\"*\")","v":4.1099999999999994},{"$f":"IFERROR('Level 2'!C11-'Level 1'!C11,\"*\")","v":2.4000000000000057},{"$f":"IFERROR('Level 2'!D11-'Level 1'!D11,\"*\")","v":2.3599999999999994},{"$f":"IFERROR('Level 2'!E11-'Level 1'!E11,\"*\")","v":2.3449999999999989},{"$f":"IFERROR('Level 2'!F11-'Level 1'!F11,\"*\")","v":2.3300000000000018},{"$f":"IFERROR('Level 2'!G11-'Level 1'!G11,\"*\")","v":2.3300000000000018},{"$f":"IFERROR('Level 2'!H11-'Level 1'!H11,\"*\")","v":2.3300000000000054},{"$f":"IFERROR('Level 2'!I11-'Level 1'!I11,\"*\")","v":2.3300000000000018},{"$f":"IFERROR('Level 2'!J11-'Level 1'!J11,\"*\")","v":2.3299999999999983},{"$f":"IFERROR('Level 2'!K11-'Level 1'!K11,\"*\")","v":2.3300000000000018},{"$f":"IFERROR('Level 2'!L11-'Level 1'!L11,\"*\")","v":"*"},null,{"$f":"'Level 1'!A11","v":"Germany (until 1990 former territory of the FRG)"},{"$f":"IFERROR('Level 2'!O11-'Level 1'!O11,\"*\")","v":1.6400000000000006},{"$f":"IFERROR('Level 2'!P11-'Level 1'!P11,\"*\")","v":1.6499999999999986},{"$f":"IFERROR('Level 2'!Q11-'Level 1'!Q11,\"*\")","v":1.6500000000000004},{"$f":"IFERROR('Level 2'!R11-'Level 1'!R11,\"*\")","v":1.6500000000000004},{"$f":"IFERROR('Level 2'!S11-'Level 1'!S11,\"*\")","v":1.6500000000000004},{"$f":"IFERROR('Level 2'!T11-'Level 1'!T11,\"*\")","v":1.6499999999999986},{"$f":"IFERROR('Level 2'!U11-'Level 1'!U11,\"*\")","v":1.6500000000000004},{"$f":"IFERROR('Level 2'!V11-'Level 1'!V11,\"*\")","v":1.6500000000000021},{"$f":"IFERROR('Level 2'!W11-'Level 1'!W11,\"*\")","v":1.6499999999999986},{"$f":"IFERROR('Level 2'!X11-'Level 1'!X11,\"*\")","v":1.6500000000000004},{"$f":"IFERROR('Level 2'!Y11-'Level 1'!Y11,\"*\")","v":"*"},null,{"$f":"'Level 1'!A11","v":"Germany (until 1990 former territory of the FRG)"},{"$f":"IFERROR('Level 2'!AB11-'Level 1'!AB11,\"*\")","v":1.629999999999999},{"$f":"IFERROR('Level 2'!AC11-'Level 1'!AC11,\"*\")","v":1.6500000000000021},{"$f":"IFERROR('Level 2'!AD11-'Level 1'!AD11,\"*\")","v":1.6500000000000004},{"$f":"IFERROR('Level 2'!AE11-'Level 1'!AE11,\"*\")","v":1.6500000000000004},{"$f":"IFERROR('Level 2'!AF11-'Level 1'!AF11,\"*\")","v":1.6500000000000004},{"$f":"IFERROR('Level 2'!AG11-'Level 1'!AG11,\"*\")","v":1.6500000000000021},{"$f":"IFERROR('Level 2'!AH11-'Level 1'!AH11,\"*\")","v":1.6500000000000021},{"$f":"IFERROR('Level 2'!AI11-'Level 1'!AI11,\"*\")","v":1.6500000000000004},{"$f":"IFERROR('Level 2'!AJ11-'Level 1'!AJ11,\"*\")","v":1.6500000000000004},{"$f":"IFERROR('Level 2'!AK11-'Level 1'!AK11,\"*\")","v":1.6500000000000004},{"$f":"IFERROR('Level 2'!AL11-'Level 1'!AL11,\"*\")","v":"*"}]
[{"$f":"'Level 1'!A12","v":"Estonia"},{"$f":"IFERROR('Level 2'!B12-'Level 1'!B12,\"*\")","v":0},{"$f":"IFERROR('Level 2'!C12-'Level 1'!C12,\"*\")","v":0.27810000000000024},{"$f":"IFERROR('Level 2'!D12-'Level 1'!D12,\"*\")","v":0.32150000000000034},{"$f":"IFERROR('Level 2'!E12-'Level 1'!E12,\"*\")","v":0.64230000000000054},{"$f":"IFERROR('Level 2'!F12-'Level 1'!F12,\"*\")","v":0.62499999999999822},{"$f":"IFERROR('Level 2'!G12-'Level 1'!G12,\"*\")","v":0.82000000000000028},{"$f":"IFERROR('Level 2'!H12-'Level 1'!H12,\"*\")","v":0.62000000000000099},{"$f":"IFERROR('Level 2'!I12-'Level 1'!I12,\"*\")","v":0.60999999999999943},{"$f":"IFERROR('Level 2'!J12-'Level 1'!J12,\"*\")","v":0.69500000000000028},{"$f":"IFERROR('Level 2'!K12-'Level 1'!K12,\"*\")","v":0.99000000000000021},{"$f":"IFERROR('Level 2'!L12-'Level 1'!L12,\"*\")","v":"*"},null,{"$f":"'Level 1'!A12","v":"Estonia"},{"$f":"IFERROR('Level 2'!O12-'Level 1'!O12,\"*\")","v":0},{"$f":"IFERROR('Level 2'!P12-'Level 1'!P12,\"*\")","v":0.42100000000000115},{"$f":"IFERROR('Level 2'!Q12-'Level 1'!Q12,\"*\")","v":0.33155000000000001},{"$f":"IFERROR('Level 2'!R12-'Level 1'!R12,\"*\")","v":0.64155000000000051},{"$f":"IFERROR('Level 2'!S12-'Level 1'!S12,\"*\")","v":0.62999999999999901},{"$f":"IFERROR('Level 2'!T12-'Level 1'!T12,\"*\")","v":0.64500000000000135},{"$f":"IFERROR('Level 2'!U12-'Level 1'!U12,\"*\")","v":0.66000000000000014},{"$f":"IFERROR('Level 2'!V12-'Level 1'!V12,\"*\")","v":0.58999999999999986},{"$f":"IFERROR('Level 2'!W12-'Level 1'!W12,\"*\")","v":0.76500000000000057},{"$f":"IFERROR('Level 2'!X12-'Level 1'!X12,\"*\")","v":0.99000000000000021},{"$f":"IFERROR('Level 2'!Y12-'Level 1'!Y12,\"*\")","v":"*"},null,{"$f":"'Level 1'!A12","v":"Estonia"},{"$f":"IFERROR('Level 2'!AB12-'Level 1'!AB12,\"*\")","v":0},{"$f":"IFERROR('Level 2'!AC12-'Level 1'!AC12,\"*\")","v":0.35079999999999956},{"$f":"IFERROR('Level 2'!AD12-'Level 1'!AD12,\"*\")","v":0.31825000000000081},{"$f":"IFERROR('Level 2'!AE12-'Level 1'!AE12,\"*\")","v":0.62760000000000105},{"$f":"IFERROR('Level 2'!AF12-'Level 1'!AF12,\"*\")","v":0.61999999999999922},{"$f":"IFERROR('Level 2'!AG12-'Level 1'!AG12,\"*\")","v":0.62000000000000099},{"$f":"IFERROR('Level 2'!AH12-'Level 1'!AH12,\"*\")","v":0.58499999999999908},{"$f":"IFERROR('Level 2'!AI12-'Level 1'!AI12,\"*\")","v":0.48000000000000043},{"$f":"IFERROR('Level 2'!AJ12-'Level 1'!AJ12,\"*\")","v":0.67499999999999893},{"$f":"IFERROR('Level 2'!AK12-'Level 1'!AK12,\"*\")","v":0.99000000000000021},{"$f":"IFERROR('Level 2'!AL12-'Level 1'!AL12,\"*\")","v":"*"}]
[{"$f":"'Level 1'!A13","v":"Ireland"},{"$f":"IFERROR('Level 2'!B13-'Level 1'!B13,\"*\")","v":0},{"$f":"IFERROR('Level 2'!C13-'Level 1'!C13,\"*\")","v":0},{"$f":"IFERROR('Level 2'!D13-'Level 1'!D13,\"*\")","v":0},{"$f":"IFERROR('Level 2'!E13-'Level 1'!E13,\"*\")","v":0.44500000000000028},{"$f":"IFERROR('Level 2'!F13-'Level 1'!F13,\"*\")","v":0.77500000000000036},{"$f":"IFERROR('Level 2'!G13-'Level 1'!G13,\"*\")","v":0.82499999999999929},{"$f":"IFERROR('Level 2'!H13-'Level 1'!H13,\"*\")","v":0.9599999999999973},{"$f":"IFERROR('Level 2'!I13-'Level 1'!I13,\"*\")","v":1.0350000000000001},{"$f":"IFERROR('Level 2'!J13-'Level 1'!J13,\"*\")","v":1.0300000000000011},{"$f":"IFERROR('Level 2'!K13-'Level 1'!K13,\"*\")","v":1.0300000000000011},{"$f":"IFERROR('Level 2'!L13-'Level 1'!L13,\"*\")","v":"*"},null,{"$f":"'Level 1'!A13","v":"Ireland"},{"$f":"IFERROR('Level 2'!O13-'Level 1'!O13,\"*\")","v":0},{"$f":"IFERROR('Level 2'!P13-'Level 1'!P13,\"*\")","v":0},{"$f":"IFERROR('Level 2'!Q13-'Level 1'!Q13,\"*\")","v":0},{"$f":"IFERROR('Level 2'!R13-'Level 1'!R13,\"*\")","v":0.44500000000000028},{"$f":"IFERROR('Level 2'!S13-'Level 1'!S13,\"*\")","v":0.77000000000000313},{"$f":"IFERROR('Level 2'!T13-'Level 1'!T13,\"*\")","v":0.82000000000000028},{"$f":"IFERROR('Level 2'!U13-'Level 1'!U13,\"*\")","v":0.94999999999999929},{"$f":"IFERROR('Level 2'!V13-'Level 1'!V13,\"*\")","v":1.0399999999999991},{"$f":"IFERROR('Level 2'!W13-'Level 1'!W13,\"*\")","v":1.0350000000000037},{"$f":"IFERROR('Level 2'!X13-'Level 1'!X13,\"*\")","v":1.0200000000000014},{"$f":"IFERROR('Level 2'!Y13-'Level 1'!Y13,\"*\")","v":"*"},null,{"$f":"'Level 1'!A13","v":"Ireland"},{"$f":"IFERROR('Level 2'!AB13-'Level 1'!AB13,\"*\")","v":0},{"$f":"IFERROR('Level 2'!AC13-'Level 1'!AC13,\"*\")","v":0},{"$f":"IFERROR('Level 2'!AD13-'Level 1'!AD13,\"*\")","v":0},{"$f":"IFERROR('Level 2'!AE13-'Level 1'!AE13,\"*\")","v":0.41999999999999993},{"$f":"IFERROR('Level 2'!AF13-'Level 1'!AF13,\"*\")","v":0.76500000000000057},{"$f":"IFERROR('Level 2'!AG13-'Level 1'!AG13,\"*\")","v":0.80499999999999972},{"$f":"IFERROR('Level 2'!AH13-'Level 1'!AH13,\"*\")","v":0.93499999999999872},{"$f":"IFERROR('Level 2'!AI13-'Level 1'!AI13,\"*\")","v":1.0350000000000001},{"$f":"IFERROR('Level 2'!AJ13-'Level 1'!AJ13,\"*\")","v":1.0350000000000001},{"$f":"IFERROR('Level 2'!AK13-'Level 1'!AK13,\"*\")","v":1.0300000000000011},{"$f":"IFERROR('Level 2'!AL13-'Level 1'!AL13,\"*\")","v":"*"}]
[{"$f":"'Level 1'!A14","v":"Greece"},{"$f":"IFERROR('Level 2'!B14-'Level 1'!B14,\"*\")","v":"*"},{"$f":"IFERROR('Level 2'!C14-'Level 1'!C14,\"*\")","v":"*"},{"$f":"IFERROR('Level 2'!D14-'Level 1'!D14,\"*\")","v":"*"},{"$f":"IFERROR('Level 2'!E14-'Level 1'!E14,\"*\")","v":"*"},{"$f":"IFERROR('Level 2'!F14-'Level 1'!F14,\"*\")","v":"*"},{"$f":"IFERROR('Level 2'!G14-'Level 1'!G14,\"*\")","v":1.5900000000000034},{"$f":"IFERROR('Level 2'!H14-'Level 1'!H14,\"*\")","v":1.625},{"$f":"IFERROR('Level 2'!I14-'Level 1'!I14,\"*\")","v":1.6200000000000045},{"$f":"IFERROR('Level 2'!J14-'Level 1'!J14,\"*\")","v":1.6450000000000031},{"$f":"IFERROR('Level 2'!K14-'Level 1'!K14,\"*\")","v":1.5799999999999983},{"$f":"IFERROR('Level 2'!L14-'Level 1'!L14,\"*\")","v":"*"},null,{"$f":"'Level 1'!A14","v":"Greece"},{"$f":"IFERROR('Level 2'!O14-'Level 1'!O14,\"*\")","v":"*"},{"$f":"IFERROR('Level 2'!P14-'Level 1'!P14,\"*\")","v":"*"},{"$f":"IFERROR('Level 2'!Q14-'Level 1'!Q14,\"*\")","v":"*"},{"$f":"IFERROR('Level 2'!R14-'Level 1'!R14,\"*\")","v":"*"},{"$f":"IFERROR('Level 2'!S14-'Level 1'!S14,\"*\")","v":"*"},{"$f":"IFERROR('Level 2'!T14-'Level 1'!T14,\"*\")","v":1.5899999999999999},{"$f":"IFERROR('Level 2'!U14-'Level 1'!U14,\"*\")","v":1.6000000000000014},{"$f":"IFERROR('Level 2'!V14-'Level 1'!V14,\"*\")","v":1.6149999999999984},{"$f":"IFERROR('Level 2'!W14-'Level 1'!W14,\"*\")","v":1.629999999999999},{"$f":"IFERROR('Level 2'!X14-'Level 1'!X14,\"*\")","v":1.6000000000000014},{"$f":"IFERROR('Level 2'!Y14-'Level 1'!Y14,\"*\")","v":"*"},null,{"$f":"'Level 1'!A14","v":"Greece"},{"$f":"IFERROR('Level 2'!AB14-'Level 1'!AB14,\"*\")","v":"*"},{"$f":"IFERROR('Level 2'!AC14-'Level 1'!AC14,\"*\")","v":"*"},{"$f":"IFERROR('Level 2'!AD14-'Level 1'!AD14,\"*\")","v":"*"},{"$f":"IFERROR('Level 2'!AE14-'Level 1'!AE14,\"*\")","v":"*"},{"$f":"IFERROR('Level 2'!AF14-'Level 1'!AF14,\"*\")","v":"*"},{"$f":"IFERROR('Level 2'!AG14-'Level 1'!AG14,\"*\")","v":1.5899999999999999},{"$f":"IFERROR('Level 2'!AH14-'Level 1'!AH14,\"*\")","v":1.5849999999999973},{"$f":"IFERROR('Level 2'!AI14-'Level 1'!AI14,\"*\")","v":1.6200000000000028},{"$f":"IFERROR('Level 2'!AJ14-'Level 1'!AJ14,\"*\")","v":1.6549999999999994},{"$f":"IFERROR('Level 2'!AK14-'Level 1'!AK14,\"*\")","v":1.6400000000000006},{"$f":"IFERROR('Level 2'!AL14-'Level 1'!AL14,\"*\")","v":"*"}]
[{"$f":"'Level 1'!A15","v":"Spain"},{"$f":"IFERROR('Level 2'!B15-'Level 1'!B15,\"*\")","v":0},{"$f":"IFERROR('Level 2'!C15-'Level 1'!C15,\"*\")","v":0},{"$f":"IFERROR('Level 2'!D15-'Level 1'!D15,\"*\")","v":0},{"$f":"IFERROR('Level 2'!E15-'Level 1'!E15,\"*\")","v":0},{"$f":"IFERROR('Level 2'!F15-'Level 1'!F15,\"*\")","v":0},{"$f":"IFERROR('Level 2'!G15-'Level 1'!G15,\"*\")","v":0},{"$f":"IFERROR('Level 2'!H15-'Level 1'!H15,\"*\")","v":0.64999999999999858},{"$f":"IFERROR('Level 2'!I15-'Level 1'!I15,\"*\")","v":0.64999999999999858},{"$f":"IFERROR('Level 2'!J15-'Level 1'!J15,\"*\")","v":0.64999999999999858},{"$f":"IFERROR('Level 2'!K15-'Level 1'!K15,\"*\")","v":0.65000000000000213},{"$f":"IFERROR('Level 2'!L15-'Level 1'!L15,\"*\")","v":"*"},null,{"$f":"'Level 1'!A15","v":"Spain"},{"$f":"IFERROR('Level 2'!O15-'Level 1'!O15,\"*\")","v":0},{"$f":"IFERROR('Level 2'!P15-'Level 1'!P15,\"*\")","v":0},{"$f":"IFERROR('Level 2'!Q15-'Level 1'!Q15,\"*\")","v":0},{"$f":"IFERROR('Level 2'!R15-'Level 1'!R15,\"*\")","v":0},{"$f":"IFERROR('Level 2'!S15-'Level 1'!S15,\"*\")","v":0},{"$f":"IFERROR('Level 2'!T15-'Level 1'!T15,\"*\")","v":0},{"$f":"IFERROR('Level 2'!U15-'Level 1'!U15,\"*\")","v":0.65000000000000213},{"$f":"IFERROR('Level 2'!V15-'Level 1'!V15,\"*\")","v":0.64999999999999858},{"$f":"IFERROR('Level 2'!W15-'Level 1'!W15,\"*\")","v":0.64999999999999858},{"$f":"IFERROR('Level 2'!X15-'Level 1'!X15,\"*\")","v":0.65000000000000036},{"$f":"IFERROR('Level 2'!Y15-'Level 1'!Y15,\"*\")","v":"*"},null,{"$f":"'Level 1'!A15","v":"Spain"},{"$f":"IFERROR('Level 2'!AB15-'Level 1'!AB15,\"*\")","v":0},{"$f":"IFERROR('Level 2'!AC15-'Level 1'!AC15,\"*\")","v":0},{"$f":"IFERROR('Level 2'!AD15-'Level 1'!AD15,\"*\")","v":0},{"$f":"IFERROR('Level 2'!AE15-'Level 1'!AE15,\"*\")","v":0},{"$f":"IFERROR('Level 2'!AF15-'Level 1'!AF15,\"*\")","v":0},{"$f":"IFERROR('Level 2'!AG15-'Level 1'!AG15,\"*\")","v":0},{"$f":"IFERROR('Level 2'!AH15-'Level 1'!AH15,\"*\")","v":0.64999999999999858},{"$f":"IFERROR('Level 2'!AI15-'Level 1'!AI15,\"*\")","v":0.64999999999999858},{"$f":"IFERROR('Level 2'!AJ15-'Level 1'!AJ15,\"*\")","v":0.65000000000000213},{"$f":"IFERROR('Level 2'!AK15-'Level 1'!AK15,\"*\")","v":0.65000000000000036},{"$f":"IFERROR('Level 2'!AL15-'Level 1'!AL15,\"*\")","v":"*"}]
[{"$f":"'Level 1'!A16","v":"France"},{"$f":"IFERROR('Level 2'!B16-'Level 1'!B16,\"*\")","v":0},{"$f":"IFERROR('Level 2'!C16-'Level 1'!C16,\"*\")","v":0},{"$f":"IFERROR('Level 2'!D16-'Level 1'!D16,\"*\")","v":4.00000000000027E-2},{"$f":"IFERROR('Level 2'!E16-'Level 1'!E16,\"*\")","v":0.59000000000000341},{"$f":"IFERROR('Level 2'!F16-'Level 1'!F16,\"*\")","v":1.870000000000001},{"$f":"IFERROR('Level 2'!G16-'Level 1'!G16,\"*\")","v":1.8299999999999983},{"$f":"IFERROR('Level 2'!H16-'Level 1'!H16,\"*\")","v":1.980000000000004},{"$f":"IFERROR('Level 2'!I16-'Level 1'!I16,\"*\")","v":2.3449999999999989},{"$f":"IFERROR('Level 2'!J16-'Level 1'!J16,\"*\")","v":2.8000000000000043},{"$f":"IFERROR('Level 2'!K16-'Level 1'!K16,\"*\")","v":3.0400000000000027},{"$f":"IFERROR('Level 2'!L16-'Level 1'!L16,\"*\")","v":"*"},null,{"$f":"'Level 1'!A16","v":"France"},{"$f":"IFERROR('Level 2'!O16-'Level 1'!O16,\"*\")","v":0},{"$f":"IFERROR('Level 2'!P16-'Level 1'!P16,\"*\")","v":0},{"$f":"IFERROR('Level 2'!Q16-'Level 1'!Q16,\"*\")","v":0},{"$f":"IFERROR('Level 2'!R16-'Level 1'!R16,\"*\")","v":0.1850000000000005},{"$f":"IFERROR('Level 2'!S16-'Level 1'!S16,\"*\")","v":0.38500000000000156},{"$f":"IFERROR('Level 2'!T16-'Level 1'!T16,\"*\")","v":0.40000000000000036},{"$f":"IFERROR('Level 2'!U16-'Level 1'!U16,\"*\")","v":0.41000000000000014},{"$f":"IFERROR('Level 2'!V16-'Level 1'!V16,\"*\")","v":0.62000000000000099},{"$f":"IFERROR('Level 2'!W16-'Level 1'!W16,\"*\")","v":1.1649999999999991},{"$f":"IFERROR('Level 2'!X16-'Level 1'!X16,\"*\")","v":1.4799999999999986},{"$f":"IFERROR('Level 2'!Y16-'Level 1'!Y16,\"*\")","v":"*"},null,{"$f":"'Level 1'!A16","v":"France"},{"$f":"IFERROR('Level 2'!AB16-'Level 1'!AB16,\"*\")","v":0},{"$f":"IFERROR('Level 2'!AC16-'Level 1'!AC16,\"*\")","v":0},{"$f":"IFERROR('Level 2'!AD16-'Level 1'!AD16,\"*\")","v":0},{"$f":"IFERROR('Level 2'!AE16-'Level 1'!AE16,\"*\")","v":4.4999999999999929E-2},{"$f":"IFERROR('Level 2'!AF16-'Level 1'!AF16,\"*\")","v":0.10500000000000043},{"$f":"IFERROR('Level 2'!AG16-'Level 1'!AG16,\"*\")","v":9.9999999999999645E-2},{"$f":"IFERROR('Level 2'!AH16-'Level 1'!AH16,\"*\")","v":0.10500000000000043},{"$f":"IFERROR('Level 2'!AI16-'Level 1'!AI16,\"*\")","v":0.26500000000000057},{"$f":"IFERROR('Level 2'!AJ16-'Level 1'!AJ16,\"*\")","v":0.74499999999999922},{"$f":"IFERROR('Level 2'!AK16-'Level 1'!AK16,\"*\")","v":1.08},{"$f":"IFERROR('Level 2'!AL16-'Level 1'!AL16,\"*\")","v":"*"}]
[{"$f":"'Level 1'!A17","v":"Croatia"},{"$f":"IFERROR('Level 2'!B17-'Level 1'!B17,\"*\")","v":0.37340000000000018},{"$f":"IFERROR('Level 2'!C17-'Level 1'!C17,\"*\")","v":0.18839999999999968},{"$f":"IFERROR('Level 2'!D17-'Level 1'!D17,\"*\")","v":0},{"$f":"IFERROR('Level 2'!E17-'Level 1'!E17,\"*\")","v":0},{"$f":"IFERROR('Level 2'!F17-'Level 1'!F17,\"*\")","v":0},{"$f":"IFERROR('Level 2'!G17-'Level 1'!G17,\"*\")","v":0},{"$f":"IFERROR('Level 2'!H17-'Level 1'!H17,\"*\")","v":0},{"$f":"IFERROR('Level 2'!I17-'Level 1'!I17,\"*\")","v":0},{"$f":"IFERROR('Level 2'!J17-'Level 1'!J17,\"*\")","v":0},{"$f":"IFERROR('Level 2'!K17-'Level 1'!K17,\"*\")","v":0},{"$f":"IFERROR('Level 2'!L17-'Level 1'!L17,\"*\")","v":"*"},null,{"$f":"'Level 1'!A17","v":"Croatia"},{"$f":"IFERROR('Level 2'!O17-'Level 1'!O17,\"*\")","v":0.37340000000000018},{"$f":"IFERROR('Level 2'!P17-'Level 1'!P17,\"*\")","v":0.18839999999999968},{"$f":"IFERROR('Level 2'!Q17-'Level 1'!Q17,\"*\")","v":0},{"$f":"IFERROR('Level 2'!R17-'Level 1'!R17,\"*\")","v":0},{"$f":"IFERROR('Level 2'!S17-'Level 1'!S17,\"*\")","v":0},{"$f":"IFERROR('Level 2'!T17-'Level 1'!T17,\"*\")","v":0},{"$f":"IFERROR('Level 2'!U17-'Level 1'!U17,\"*\")","v":0},{"$f":"IFERROR('Level 2'!V17-'Level 1'!V17,\"*\")","v":0},{"$f":"IFERROR('Level 2'!W17-'Level 1'!W17,\"*\")","v":0},{"$f":"IFERROR('Level 2'!X17-'Level 1'!X17,\"*\")","v":0},{"$f":"IFERROR('Level 2'!Y17-'Level 1'!Y17,\"*\")","v":"*"},null,{"$f":"'Level 1'!A17","v":"Croatia"},{"$f":"IFERROR('Level 2'!AB17-'Level 1'!AB17,\"*\")","v":0.37340000000000018},{"$f":"IFERROR('Level 2'!AC17-'Level 1'!AC17,\"*\")","v":0.18839999999999968},{"$f":"IFERROR('Level 2'!AD17-'Level 1'!AD17,\"*\")","v":0},{"$f":"IFERROR('Level 2'!AE17-'Level 1'!AE17,\"*\")","v":0},{"$f":"IFERROR('Level 2'!AF17-'Level 1'!AF17,\"*\")","v":0},{"$f":"IFERROR('Level 2'!AG17-'Level 1'!AG17,\"*\")","v":0},{"$f":"IFERROR('Level 2'!AH17-'Level 1'!AH17,\"*\")","v":0},{"$f":"IFERROR('Level 2'!AI17-'Level 1'!AI17,\"*\")","v":0},{"$f":"IFERROR('Level 2'!AJ17-'Level 1'!AJ17,\"*\")","v":0},{"$f":"IFERROR('Level 2'!AK17-'Level 1'!AK17,\"*\")","v":0},{"$f":"IFERROR('Level 2'!AL17-'Level 1'!AL17,\"*\")","v":"*"}]
[{"$f":"'Level 1'!A18","v":"Italy"},{"$f":"IFERROR('Level 2'!B18-'Level 1'!B18,\"*\")","v":3.057500000000001},{"$f":"IFERROR('Level 2'!C18-'Level 1'!C18,\"*\")","v":3.3504999999999985},{"$f":"IFERROR('Level 2'!D18-'Level 1'!D18,\"*\")","v":3.3754999999999988},{"$f":"IFERROR('Level 2'!E18-'Level 1'!E18,\"*\")","v":3.6199999999999974},{"$f":"IFERROR('Level 2'!F18-'Level 1'!F18,\"*\")","v":3.59},{"$f":"IFERROR('Level 2'!G18-'Level 1'!G18,\"*\")","v":3.5700000000000003},{"$f":"IFERROR('Level 2'!H18-'Level 1'!H18,\"*\")","v":3.5399999999999991},{"$f":"IFERROR('Level 2'!I18-'Level 1'!I18,\"*\")","v":3.394999999999996},{"$f":"IFERROR('Level 2'!J18-'Level 1'!J18,\"*\")","v":3.4200000000000017},{"$f":"IFERROR('Level 2'!K18-'Level 1'!K18,\"*\")","v":2.9800000000000004},{"$f":"IFERROR('Level 2'!L18-'Level 1'!L18,\"*\")","v":"*"},null,{"$f":"'Level 1'!A18","v":"Italy"},{"$f":"IFERROR('Level 2'!O18-'Level 1'!O18,\"*\")","v":3.3760000000000012},{"$f":"IFERROR('Level 2'!P18-'Level 1'!P18,\"*\")","v":2.8079999999999998},{"$f":"IFERROR('Level 2'!Q18-'Level 1'!Q18,\"*\")","v":3.0315000000000012},{"$f":"IFERROR('Level 2'!R18-'Level 1'!R18,\"*\")","v":4.4684999999999988},{"$f":"IFERROR('Level 2'!S18-'Level 1'!S18,\"*\")","v":4.5650000000000013},{"$f":"IFERROR('Level 2'!T18-'Level 1'!T18,\"*\")","v":4.4500000000000028},{"$f":"IFERROR('Level 2'!U18-'Level 1'!U18,\"*\")","v":4.495000000000001},{"$f":"IFERROR('Level 2'!V18-'Level 1'!V18,\"*\")","v":4.4400000000000013},{"$f":"IFERROR('Level 2'!W18-'Level 1'!W18,\"*\")","v":4.495000000000001},{"$f":"IFERROR('Level 2'!X18-'Level 1'!X18,\"*\")","v":4.2600000000000016},{"$f":"IFERROR('Level 2'!Y18-'Level 1'!Y18,\"*\")","v":"*"},null,{"$f":"'Level 1'!A18","v":"Italy"},{"$f":"IFERROR('Level 2'!AB18-'Level 1'!AB18,\"*\")","v":4.0924999999999994},{"$f":"IFERROR('Level 2'!AC18-'Level 1'!AC18,\"*\")","v":3.6325000000000021},{"$f":"IFERROR('Level 2'!AD18-'Level 1'!AD18,\"*\")","v":4.09},{"$f":"IFERROR('Level 2'!AE18-'Level 1'!AE18,\"*\")","v":4.9014999999999986},{"$f":"IFERROR('Level 2'!AF18-'Level 1'!AF18,\"*\")","v":4.8800000000000008},{"$f":"IFERROR('Level 2'!AG18-'Level 1'!AG18,\"*\")","v":4.8500000000000014},{"$f":"IFERROR('Level 2'!AH18-'Level 1'!AH18,\"*\")","v":4.7249999999999979},{"$f":"IFERROR('Level 2'!AI18-'Level 1'!AI18,\"*\")","v":4.985000000000003},{"$f":"IFERROR('Level 2'!AJ18-'Level 1'!AJ18,\"*\")","v":5.0250000000000004},{"$f":"IFERROR('Level 2'!AK18-'Level 1'!AK18,\"*\")","v":4.9700000000000006},{"$f":"IFERROR('Level 2'!AL18-'Level 1'!AL18,\"*\")","v":"*"}]
[{"$f":"'Level 1'!A19","v":"Latvia"},{"$f":"IFERROR('Level 2'!B19-'Level 1'!B19,\"*\")","v":0},{"$f":"IFERROR('Level 2'!C19-'Level 1'!C19,\"*\")","v":2.8399999999999537E-2},{"$f":"IFERROR('Level 2'!D19-'Level 1'!D19,\"*\")","v":1.4150000000000773E-2},{"$f":"IFERROR('Level 2'!E19-'Level 1'!E19,\"*\")","v":2.8200000000000003E-2},{"$f":"IFERROR('Level 2'!F19-'Level 1'!F19,\"*\")","v":0.25509999999999877},{"$f":"IFERROR('Level 2'!G19-'Level 1'!G19,\"*\")","v":0.48760000000000048},{"$f":"IFERROR('Level 2'!H19-'Level 1'!H19,\"*\")","v":0.48475000000000534},{"$f":"IFERROR('Level 2'!I19-'Level 1'!I19,\"*\")","v":0.48000000000000398},{"$f":"IFERROR('Level 2'!J19-'Level 1'!J19,\"*\")","v":0.5},{"$f":"IFERROR('Level 2'!K19-'Level 1'!K19,\"*\")","v":0.48000000000000043},{"$f":"IFERROR('Level 2'!L19-'Level 1'!L19,\"*\")","v":"*"},null,{"$f":"'Level 1'!A19","v":"Latvia"},{"$f":"IFERROR('Level 2'!O19-'Level 1'!O19,\"*\")","v":0},{"$f":"IFERROR('Level 2'!P19-'Level 1'!P19,\"*\")","v":1.4200000000000657E-2},{"$f":"IFERROR('Level 2'!Q19-'Level 1'!Q19,\"*\")","v":7.0499999999995566E-3},{"$f":"IFERROR('Level 2'!R19-'Level 1'!R19,\"*\")","v":1.4149999999998997E-2},{"$f":"IFERROR('Level 2'!S19-'Level 1'!S19,\"*\")","v":0.25515000000000043},{"$f":"IFERROR('Level 2'!T19-'Level 1'!T19,\"*\")","v":0.47325000000000017},{"$f":"IFERROR('Level 2'!U19-'Level 1'!U19,\"*\")","v":0.47760000000000069},{"$f":"IFERROR('Level 2'!V19-'Level 1'!V19,\"*\")","v":0.46999999999999886},{"$f":"IFERROR('Level 2'!W19-'Level 1'!W19,\"*\")","v":0.48000000000000043},{"$f":"IFERROR('Level 2'!X19-'Level 1'!X19,\"*\")","v":0.48000000000000043},{"$f":"IFERROR('Level 2'!Y19-'Level 1'!Y19,\"*\")","v":"*"},null,{"$f":"'Level 1'!A19","v":"Latvia"},{"$f":"IFERROR('Level 2'!AB19-'Level 1'!AB19,\"*\")","v":0},{"$f":"IFERROR('Level 2'!AC19-'Level 1'!AC19,\"*\")","v":1.4149999999998997E-2},{"$f":"IFERROR('Level 2'!AD19-'Level 1'!AD19,\"*\")","v":1.419999999999888E-2},{"$f":"IFERROR('Level 2'!AE19-'Level 1'!AE19,\"*\")","v":1.4099999999999113E-2},{"$f":"IFERROR('Level 2'!AF19-'Level 1'!AF19,\"*\")","v":0.24799999999999933},{"$f":"IFERROR('Level 2'!AG19-'Level 1'!AG19,\"*\")","v":0.47325000000000017},{"$f":"IFERROR('Level 2'!AH19-'Level 1'!AH19,\"*\")","v":0.47759999999999891},{"$f":"IFERROR('Level 2'!AI19-'Level 1'!AI19,\"*\")","v":0.46500000000000163},{"$f":"IFERROR('Level 2'!AJ19-'Level 1'!AJ19,\"*\")","v":0.48999999999999844},{"$f":"IFERROR('Level 2'!AK19-'Level 1'!AK19,\"*\")","v":0.48000000000000043},{"$f":"IFERROR('Level 2'!AL19-'Level 1'!AL19,\"*\")","v":"*"}]
[{"$f":"'Level 1'!A20","v":"Lithuania"},{"$f":"IFERROR('Level 2'!B20-'Level 1'!B20,\"*\")","v":0},{"$f":"IFERROR('Level 2'!C20-'Level 1'!C20,\"*\")","v":0},{"$f":"IFERROR('Level 2'!D20-'Level 1'!D20,\"*\")","v":0},{"$f":"IFERROR('Level 2'!E20-'Level 1'!E20,\"*\")","v":0},{"$f":"IFERROR('Level 2'!F20-'Level 1'!F20,\"*\")","v":0},{"$f":"IFERROR('Level 2'!G20-'Level 1'!G20,\"*\")","v":0},{"$f":"IFERROR('Level 2'!H20-'Level 1'!H20,\"*\")","v":0},{"$f":"IFERROR('Level 2'!I20-'Level 1'!I20,\"*\")","v":0},{"$f":"IFERROR('Level 2'!J20-'Level 1'!J20,\"*\")","v":0},{"$f":"IFERROR('Level 2'!K20-'Level 1'!K20,\"*\")","v":0},{"$f":"IFERROR('Level 2'!L20-'Level 1'!L20,\"*\")","v":"*"},null,{"$f":"'Level 1'!A20","v":"Lithuania"},{"$f":"IFERROR('Level 2'!O20-'Level 1'!O20,\"*\")","v":0},{"$f":"IFERROR('Level 2'!P20-'Level 1'!P20,\"*\")","v":0},{"$f":"IFERROR('Level 2'!Q20-'Level 1'!Q20,\"*\")","v":0},{"$f":"IFERROR('Level 2'!R20-'Level 1'!R20,\"*\")","v":0},{"$f":"IFERROR('Level 2'!S20-'Level 1'!S20,\"*\")","v":0},{"$f":"IFERROR('Level 2'!T20-'Level 1'!T20,\"*\")","v":0},{"$f":"IFERROR('Level 2'!U20-'Level 1'!U20,\"*\")","v":0},{"$f":"IFERROR('Level 2'!V20-'Level 1'!V20,\"*\")","v":0},{"$f":"IFERROR('Level 2'!W20-'Level 1'!W20,\"*\")","v":0},{"$f":"IFERROR('Level 2'!X20-'Level 1'!X20,\"*\")","v":0},{"$f":"IFERROR('Level 2'!Y20-'Level 1'!Y20,\"*\")","v":"*"},null,{"$f":"'Level 1'!A20","v":"Lithuania"},{"$f":"IFERROR('Level 2'!AB20-'Level 1'!AB20,\"*\")","v":0},{"$f":"IFERROR('Level 2'!AC20-'Level 1'!AC20,\"*\")","v":0},{"$f":"IFERROR('Level 2'!AD20-'Level 1'!AD20,\"*\")","v":0},{"$f":"IFERROR('Level 2'!AE20-'Level 1'!AE20,\"*\")","v":0},{"$f":"IFERROR('Level 2'!AF20-'Level 1'!AF20,\"*\")","v":0},{"$f":"IFERROR('Level 2'!AG20-'Level 1'!AG20,\"*\")","v":0},{"$f":"IFERROR('Level 2'!AH20-'Level 1'!AH20,\"*\")","v":0},{"$f":"IFERROR('Level 2'!AI20-'Level 1'!AI20,\"*\")","v":0},{"$f":"IFERROR('Level 2'!AJ20-'Level 1'!AJ20,\"*\")","v":0},{"$f":"IFERROR('Level 2'!AK20-'Level 1'!AK20,\"*\")","v":0},{"$f":"IFERROR('Level 2'!AL20-'Level 1'!AL20,\"*\")","v":"*"}]
[{"$f":"'Level 1'!A21","v":"Luxembourg"},{"$f":"IFERROR('Level 2'!B21-'Level 1'!B21,\"*\")","v":2.879999999999999},{"$f":"IFERROR('Level 2'!C21-'Level 1'!C21,\"*\")","v":0.30499999999999794},{"$f":"IFERROR('Level 2'!D21-'Level 1'!D21,\"*\")","v":0.56000000000000227},{"$f":"IFERROR('Level 2'!E21-'Level 1'!E21,\"*\")","v":0.54999999999999893},{"$f":"IFERROR('Level 2'!F21-'Level 1'!F21,\"*\")","v":0.49000000000000199},{"$f":"IFERROR('Level 2'!G21-'Level 1'!G21,\"*\")","v":0.65000000000000213},{"$f":"IFERROR('Level 2'!H21-'Level 1'!H21,\"*\")","v":0.58999999999999986},{"$f":"IFERROR('Level 2'!I21-'Level 1'!I21,\"*\")","v":0.55499999999999972},{"$f":"IFERROR('Level 2'!J21-'Level 1'!J21,\"*\")","v":0.57500000000000284},{"$f":"IFERROR('Level 2'!K21-'Level 1'!K21,\"*\")","v":0.52999999999999936},{"$f":"IFERROR('Level 2'!L21-'Level 1'!L21,\"*\")","v":"*"},null,{"$f":"'Level 1'!A21","v":"Luxembourg"},{"$f":"IFERROR('Level 2'!O21-'Level 1'!O21,\"*\")","v":0.72999999999999865},{"$f":"IFERROR('Level 2'!P21-'Level 1'!P21,\"*\")","v":0.48000000000000043},{"$f":"IFERROR('Level 2'!Q21-'Level 1'!Q21,\"*\")","v":0.70500000000000007},{"$f":"IFERROR('Level 2'!R21-'Level 1'!R21,\"*\")","v":0.63000000000000078},{"$f":"IFERROR('Level 2'!S21-'Level 1'!S21,\"*\")","v":0.53999999999999915},{"$f":"IFERROR('Level 2'!T21-'Level 1'!T21,\"*\")","v":0.57499999999999929},{"$f":"IFERROR('Level 2'!U21-'Level 1'!U21,\"*\")","v":0.57500000000000107},{"$f":"IFERROR('Level 2'!V21-'Level 1'!V21,\"*\")","v":0.58500000000000085},{"$f":"IFERROR('Level 2'!W21-'Level 1'!W21,\"*\")","v":0.65500000000000114},{"$f":"IFERROR('Level 2'!X21-'Level 1'!X21,\"*\")","v":0.63000000000000078},{"$f":"IFERROR('Level 2'!Y21-'Level 1'!Y21,\"*\")","v":"*"},null,{"$f":"'Level 1'!A21","v":"Luxembourg"},{"$f":"IFERROR('Level 2'!AB21-'Level 1'!AB21,\"*\")","v":0.75999999999999979},{"$f":"IFERROR('Level 2'!AC21-'Level 1'!AC21,\"*\")","v":0.61500000000000199},{"$f":"IFERROR('Level 2'!AD21-'Level 1'!AD21,\"*\")","v":0.95500000000000185},{"$f":"IFERROR('Level 2'!AE21-'Level 1'!AE21,\"*\")","v":0.60999999999999943},{"$f":"IFERROR('Level 2'!AF21-'Level 1'!AF21,\"*\")","v":0.75500000000000078},{"$f":"IFERROR('Level 2'!AG21-'Level 1'!AG21,\"*\")","v":0.55499999999999972},{"$f":"IFERROR('Level 2'!AH21-'Level 1'!AH21,\"*\")","v":0.54499999999999993},{"$f":"IFERROR('Level 2'!AI21-'Level 1'!AI21,\"*\")","v":0.58000000000000007},{"$f":"IFERROR('Level 2'!AJ21-'Level 1'!AJ21,\"*\")","v":0.69999999999999929},{"$f":"IFERROR('Level 2'!AK21-'Level 1'!AK21,\"*\")","v":0.64999999999999858},{"$f":"IFERROR('Level 2'!AL21-'Level 1'!AL21,\"*\")","v":"*"}]
[{"$f":"'Level 1'!A22","v":"Hungary"},{"$f":"IFERROR('Level 2'!B22-'Level 1'!B22,\"*\")","v":0},{"$f":"IFERROR('Level 2'!C22-'Level 1'!C22,\"*\")","v":0},{"$f":"IFERROR('Level 2'!D22-'Level 1'!D22,\"*\")","v":0},{"$f":"IFERROR('Level 2'!E22-'Level 1'!E22,\"*\")","v":0},{"$f":"IFERROR('Level 2'!F22-'Level 1'!F22,\"*\")","v":0},{"$f":"IFERROR('Level 2'!G22-'Level 1'!G22,\"*\")","v":0.23244999999999827},{"$f":"IFERROR('Level 2'!H22-'Level 1'!H22,\"*\")","v":0},{"$f":"IFERROR('Level 2'!I22-'Level 1'!I22,\"*\")","v":0},{"$f":"IFERROR('Level 2'!J22-'Level 1'!J22,\"*\")","v":0},{"$f":"IFERROR('Level 2'!K22-'Level 1'!K22,\"*\")","v":0},{"$f":"IFERROR('Level 2'!L22-'Level 1'!L22,\"*\")","v":"*"},null,{"$f":"'Level 1'!A22","v":"Hungary"},{"$f":"IFERROR('Level 2'!O22-'Level 1'!O22,\"*\")","v":0},{"$f":"IFERROR('Level 2'!P22-'Level 1'!P22,\"*\")","v":0},{"$f":"IFERROR('Level 2'!Q22-'Level 1'!Q22,\"*\")","v":0},{"$f":"IFERROR('Level 2'!R22-'Level 1'!R22,\"*\")","v":0},{"$f":"IFERROR('Level 2'!S22-'Level 1'!S22,\"*\")","v":0},{"$f":"IFERROR('Level 2'!T22-'Level 1'!T22,\"*\")","v":0.23249999999999993},{"$f":"IFERROR('Level 2'!U22-'Level 1'!U22,\"*\")","v":0},{"$f":"IFERROR('Level 2'!V22-'Level 1'!V22,\"*\")","v":0},{"$f":"IFERROR('Level 2'!W22-'Level 1'!W22,\"*\")","v":4.9999999999883471E-5},{"$f":"IFERROR('Level 2'!X22-'Level 1'!X22,\"*\")","v":0},{"$f":"IFERROR('Level 2'!Y22-'Level 1'!Y22,\"*\")","v":"*"},null,{"$f":"'Level 1'!A22","v":"Hungary"},{"$f":"IFERROR('Level 2'!AB22-'Level 1'!AB22,\"*\")","v":0},{"$f":"IFERROR('Level 2'!AC22-'Level 1'!AC22,\"*\")","v":0},{"$f":"IFERROR('Level 2'!AD22-'Level 1'!AD22,\"*\")","v":0},{"$f":"IFERROR('Level 2'!AE22-'Level 1'!AE22,\"*\")","v":0},{"$f":"IFERROR('Level 2'!AF22-'Level 1'!AF22,\"*\")","v":0},{"$f":"IFERROR('Level 2'!AG22-'Level 1'!AG22,\"*\")","v":0.23245000000000005},{"$f":"IFERROR('Level 2'!AH22-'Level 1'!AH22,\"*\")","v":0},{"$f":"IFERROR('Level 2'!AI22-'Level 1'!AI22,\"*\")","v":0},{"$f":"IFERROR('Level 2'!AJ22-'Level 1'!AJ22,\"*\")","v":0},{"$f":"IFERROR('Level 2'!AK22-'Level 1'!AK22,\"*\")","v":0},{"$f":"IFERROR('Level 2'!AL22-'Level 1'!AL22,\"*\")","v":"*"}]
[{"$f":"'Level 1'!A23","v":"Netherlands"},{"$f":"IFERROR('Level 2'!B23-'Level 1'!B23,\"*\")","v":4.3499999999999979},{"$f":"IFERROR('Level 2'!C23-'Level 1'!C23,\"*\")","v":4.3049999999999997},{"$f":"IFERROR('Level 2'!D23-'Level 1'!D23,\"*\")","v":4.495000000000001},{"$f":"IFERROR('Level 2'!E23-'Level 1'!E23,\"*\")","v":4.6350000000000016},{"$f":"IFERROR('Level 2'!F23-'Level 1'!F23,\"*\")","v":4.66},{"$f":"IFERROR('Level 2'!G23-'Level 1'!G23,\"*\")","v":4.740000000000002},{"$f":"IFERROR('Level 2'!H23-'Level 1'!H23,\"*\")","v":5.3599999999999994},{"$f":"IFERROR('Level 2'!I23-'Level 1'!I23,\"*\")","v":5.52},{"$f":"IFERROR('Level 2'!J23-'Level 1'!J23,\"*\")","v":5.644999999999996},{"$f":"IFERROR('Level 2'!K23-'Level 1'!K23,\"*\")","v":7.48},{"$f":"IFERROR('Level 2'!L23-'Level 1'!L23,\"*\")","v":"*"},null,{"$f":"'Level 1'!A23","v":"Netherlands"},{"$f":"IFERROR('Level 2'!O23-'Level 1'!O23,\"*\")","v":4.3500000000000014},{"$f":"IFERROR('Level 2'!P23-'Level 1'!P23,\"*\")","v":4.4400000000000013},{"$f":"IFERROR('Level 2'!Q23-'Level 1'!Q23,\"*\")","v":4.49},{"$f":"IFERROR('Level 2'!R23-'Level 1'!R23,\"*\")","v":4.6300000000000008},{"$f":"IFERROR('Level 2'!S23-'Level 1'!S23,\"*\")","v":4.66},{"$f":"IFERROR('Level 2'!T23-'Level 1'!T23,\"*\")","v":4.7399999999999967},{"$f":"IFERROR('Level 2'!U23-'Level 1'!U23,\"*\")","v":5.3599999999999977},{"$f":"IFERROR('Level 2'!V23-'Level 1'!V23,\"*\")","v":5.509999999999998},{"$f":"IFERROR('Level 2'!W23-'Level 1'!W23,\"*\")","v":5.6449999999999996},{"$f":"IFERROR('Level 2'!X23-'Level 1'!X23,\"*\")","v":7.48},{"$f":"IFERROR('Level 2'!Y23-'Level 1'!Y23,\"*\")","v":"*"},null,{"$f":"'Level 1'!A23","v":"Netherlands"},{"$f":"IFERROR('Level 2'!AB23-'Level 1'!AB23,\"*\")","v":4.097999999999999},{"$f":"IFERROR('Level 2'!AC23-'Level 1'!AC23,\"*\")","v":"*"},{"$f":"IFERROR('Level 2'!AD23-'Level 1'!AD23,\"*\")","v":4.1049999999999986},{"$f":"IFERROR('Level 2'!AE23-'Level 1'!AE23,\"*\")","v":4.1949999999999985},{"$f":"IFERROR('Level 2'!AF23-'Level 1'!AF23,\"*\")","v":4.32},{"$f":"IFERROR('Level 2'!AG23-'Level 1'!AG23,\"*\")","v":4.365000000000002},{"$f":"IFERROR('Level 2'!AH23-'Level 1'!AH23,\"*\")","v":5.360000000000003},{"$f":"IFERROR('Level 2'!AI23-'Level 1'!AI23,\"*\")","v":5.5150000000000006},{"$f":"IFERROR('Level 2'!AJ23-'Level 1'!AJ23,\"*\")","v":5.6500000000000021},{"$f":"IFERROR('Level 2'!AK23-'Level 1'!AK23,\"*\")","v":7.4700000000000006},{"$f":"IFERROR('Level 2'!AL23-'Level 1'!AL23,\"*\")","v":"*"}]
[{"$f":"'Level 1'!A24","v":"Austria"},{"$f":"IFERROR('Level 2'!B24-'Level 1'!B24,\"*\")","v":1.7700000000000014},{"$f":"IFERROR('Level 2'!C24-'Level 1'!C24,\"*\")","v":1.8500000000000014},{"$f":"IFERROR('Level 2'!D24-'Level 1'!D24,\"*\")","v":2.1550000000000011},{"$f":"IFERROR('Level 2'!E24-'Level 1'!E24,\"*\")","v":2.0350000000000001},{"$f":"IFERROR('Level 2'!F24-'Level 1'!F24,\"*\")","v":2.2199999999999989},{"$f":"IFERROR('Level 2'!G24-'Level 1'!G24,\"*\")","v":2.2949999999999982},{"$f":"IFERROR('Level 2'!H24-'Level 1'!H24,\"*\")","v":2.2249999999999979},{"$f":"IFERROR('Level 2'!I24-'Level 1'!I24,\"*\")","v":2.2000000000000028},{"$f":"IFERROR('Level 2'!J24-'Level 1'!J24,\"*\")","v":2.0050000000000026},{"$f":"IFERROR('Level 2'!K24-'Level 1'!K24,\"*\")","v":1.9699999999999989},{"$f":"IFERROR('Level 2'!L24-'Level 1'!L24,\"*\")","v":"*"},null,{"$f":"'Level 1'!A24","v":"Austria"},{"$f":"IFERROR('Level 2'!O24-'Level 1'!O24,\"*\")","v":1.75},{"$f":"IFERROR('Level 2'!P24-'Level 1'!P24,\"*\")","v":1.6950000000000003},{"$f":"IFERROR('Level 2'!Q24-'Level 1'!Q24,\"*\")","v":1.8949999999999996},{"$f":"IFERROR('Level 2'!R24-'Level 1'!R24,\"*\")","v":1.8599999999999994},{"$f":"IFERROR('Level 2'!S24-'Level 1'!S24,\"*\")","v":1.9250000000000025},{"$f":"IFERROR('Level 2'!T24-'Level 1'!T24,\"*\")","v":1.9399999999999995},{"$f":"IFERROR('Level 2'!U24-'Level 1'!U24,\"*\")","v":1.9249999999999972},{"$f":"IFERROR('Level 2'!V24-'Level 1'!V24,\"*\")","v":1.9050000000000011},{"$f":"IFERROR('Level 2'!W24-'Level 1'!W24,\"*\")","v":1.9149999999999991},{"$f":"IFERROR('Level 2'!X24-'Level 1'!X24,\"*\")","v":1.9100000000000001},{"$f":"IFERROR('Level 2'!Y24-'Level 1'!Y24,\"*\")","v":"*"},null,{"$f":"'Level 1'!A24","v":"Austria"},{"$f":"IFERROR('Level 2'!AB24-'Level 1'!AB24,\"*\")","v":1.7400000000000002},{"$f":"IFERROR('Level 2'!AC24-'Level 1'!AC24,\"*\")","v":1.6550000000000011},{"$f":"IFERROR('Level 2'!AD24-'Level 1'!AD24,\"*\")","v":1.7850000000000001},{"$f":"IFERROR('Level 2'!AE24-'Level 1'!AE24,\"*\")","v":1.7599999999999998},{"$f":"IFERROR('Level 2'!AF24-'Level 1'!AF24,\"*\")","v":1.8350000000000009},{"$f":"IFERROR('Level 2'!AG24-'Level 1'!AG24,\"*\")","v":1.8499999999999996},{"$f":"IFERROR('Level 2'!AH24-'Level 1'!AH24,\"*\")","v":1.8399999999999999},{"$f":"IFERROR('Level 2'!AI24-'Level 1'!AI24,\"*\")","v":1.8200000000000003},{"$f":"IFERROR('Level 2'!AJ24-'Level 1'!AJ24,\"*\")","v":1.884999999999998},{"$f":"IFERROR('Level 2'!AK24-'Level 1'!AK24,\"*\")","v":1.870000000000001},{"$f":"IFERROR('Level 2'!AL24-'Level 1'!AL24,\"*\")","v":"*"}]
[{"$f":"'Level 1'!A25","v":"Poland"},{"$f":"IFERROR('Level 2'!B25-'Level 1'!B25,\"*\")","v":0},{"$f":"IFERROR('Level 2'!C25-'Level 1'!C25,\"*\")","v":0},{"$f":"IFERROR('Level 2'!D25-'Level 1'!D25,\"*\")","v":0},{"$f":"IFERROR('Level 2'!E25-'Level 1'!E25,\"*\")","v":0},{"$f":"IFERROR('Level 2'!F25-'Level 1'!F25,\"*\")","v":0},{"$f":"IFERROR('Level 2'!G25-'Level 1'!G25,\"*\")","v":0},{"$f":"IFERROR('Level 2'!H25-'Level 1'!H25,\"*\")","v":0},{"$f":"IFERROR('Level 2'!I25-'Level 1'!I25,\"*\")","v":0},{"$f":"IFERROR('Level 2'!J25-'Level 1'!J25,\"*\")","v":1.2499999999988631E-3},{"$f":"IFERROR('Level 2'!K25-'Level 1'!K25,\"*\")","v":0},{"$f":"IFERROR('Level 2'!L25-'Level 1'!L25,\"*\")","v":"*"},null,{"$f":"'Level 1'!A25","v":"Poland"},{"$f":"IFERROR('Level 2'!O25-'Level 1'!O25,\"*\")","v":0},{"$f":"IFERROR('Level 2'!P25-'Level 1'!P25,\"*\")","v":0},{"$f":"IFERROR('Level 2'!Q25-'Level 1'!Q25,\"*\")","v":0},{"$f":"IFERROR('Level 2'!R25-'Level 1'!R25,\"*\")","v":0},{"$f":"IFERROR('Level 2'!S25-'Level 1'!S25,\"*\")","v":0},{"$f":"IFERROR('Level 2'!T25-'Level 1'!T25,\"*\")","v":0},{"$f":"IFERROR('Level 2'!U25-'Level 1'!U25,\"*\")","v":0},{"$f":"IFERROR('Level 2'!V25-'Level 1'!V25,\"*\")","v":0},{"$f":"IFERROR('Level 2'!W25-'Level 1'!W25,\"*\")","v":4.8000000000012477E-3},{"$f":"IFERROR('Level 2'!X25-'Level 1'!X25,\"*\")","v":2.2999999999999687E-3},{"$f":"IFERROR('Level 2'!Y25-'Level 1'!Y25,\"*\")","v":"*"},null,{"$f":"'Level 1'!A25","v":"Poland"},{"$f":"IFERROR('Level 2'!AB25-'Level 1'!AB25,\"*\")","v":"*"},{"$f":"IFERROR('Level 2'!AC25-'Level 1'!AC25,\"*\")","v":0.82335000000000136},{"$f":"IFERROR('Level 2'!AD25-'Level 1'!AD25,\"*\")","v":0},{"$f":"IFERROR('Level 2'!AE25-'Level 1'!AE25,\"*\")","v":0},{"$f":"IFERROR('Level 2'!AF25-'Level 1'!AF25,\"*\")","v":0},{"$f":"IFERROR('Level 2'!AG25-'Level 1'!AG25,\"*\")","v":0},{"$f":"IFERROR('Level 2'!AH25-'Level 1'!AH25,\"*\")","v":0},{"$f":"IFERROR('Level 2'!AI25-'Level 1'!AI25,\"*\")","v":0},{"$f":"IFERROR('Level 2'!AJ25-'Level 1'!AJ25,\"*\")","v":9.9199999999999733E-2},{"$f":"IFERROR('Level 2'!AK25-'Level 1'!AK25,\"*\")","v":8.4699999999999775E-2},{"$f":"IFERROR('Level 2'!AL25-'Level 1'!AL25,\"*\")","v":"*"}]
[{"$f":"'Level 1'!A26","v":"Portugal"},{"$f":"IFERROR('Level 2'!B26-'Level 1'!B26,\"*\")","v":0},{"$f":"IFERROR('Level 2'!C26-'Level 1'!C26,\"*\")","v":0},{"$f":"IFERROR('Level 2'!D26-'Level 1'!D26,\"*\")","v":0},{"$f":"IFERROR('Level 2'!E26-'Level 1'!E26,\"*\")","v":5.9999999999998721E-2},{"$f":"IFERROR('Level 2'!F26-'Level 1'!F26,\"*\")","v":0.36000000000000298},{"$f":"IFERROR('Level 2'!G26-'Level 1'!G26,\"*\")","v":0.35999999999999588},{"$f":"IFERROR('Level 2'!H26-'Level 1'!H26,\"*\")","v":1.0550000000000033},{"$f":"IFERROR('Level 2'!I26-'Level 1'!I26,\"*\")","v":1.5450000000000017},{"$f":"IFERROR('Level 2'!J26-'Level 1'!J26,\"*\")","v":1.2899999999999991},{"$f":"IFERROR('Level 2'!K26-'Level 1'!K26,\"*\")","v":1.370000000000001},{"$f":"IFERROR('Level 2'!L26-'Level 1'!L26,\"*\")","v":"*"},null,{"$f":"'Level 1'!A26","v":"Portugal"},{"$f":"IFERROR('Level 2'!O26-'Level 1'!O26,\"*\")","v":0},{"$f":"IFERROR('Level 2'!P26-'Level 1'!P26,\"*\")","v":0},{"$f":"IFERROR('Level 2'!Q26-'Level 1'!Q26,\"*\")","v":0},{"$f":"IFERROR('Level 2'!R26-'Level 1'!R26,\"*\")","v":6.9000000000002615E-2},{"$f":"IFERROR('Level 2'!S26-'Level 1'!S26,\"*\")","v":0.31000000000000227},{"$f":"IFERROR('Level 2'!T26-'Level 1'!T26,\"*\")","v":0.25499999999999901},{"$f":"IFERROR('Level 2'!U26-'Level 1'!U26,\"*\")","v":0.81499999999999773},{"$f":"IFERROR('Level 2'!V26-'Level 1'!V26,\"*\")","v":1.2199999999999989},{"$f":"IFERROR('Level 2'!W26-'Level 1'!W26,\"*\")","v":1.115000000000002},{"$f":"IFERROR('Level 2'!X26-'Level 1'!X26,\"*\")","v":1.2300000000000004},{"$f":"IFERROR('Level 2'!Y26-'Level 1'!Y26,\"*\")","v":"*"},null,{"$f":"'Level 1'!A26","v":"Portugal"},{"$f":"IFERROR('Level 2'!AB26-'Level 1'!AB26,\"*\")","v":0},{"$f":"IFERROR('Level 2'!AC26-'Level 1'!AC26,\"*\")","v":0},{"$f":"IFERROR('Level 2'!AD26-'Level 1'!AD26,\"*\")","v":0},{"$f":"IFERROR('Level 2'!AE26-'Level 1'!AE26,\"*\")","v":5.1000000000000156E-2},{"$f":"IFERROR('Level 2'!AF26-'Level 1'!AF26,\"*\")","v":0.32000000000000028},{"$f":"IFERROR('Level 2'!AG26-'Level 1'!AG26,\"*\")","v":0.22999999999999865},{"$f":"IFERROR('Level 2'!AH26-'Level 1'!AH26,\"*\")","v":0.74000000000000199},{"$f":"IFERROR('Level 2'!AI26-'Level 1'!AI26,\"*\")","v":1.1400000000000006},{"$f":"IFERROR('Level 2'!AJ26-'Level 1'!AJ26,\"*\")","v":1.1649999999999991},{"$f":"IFERROR('Level 2'!AK26-'Level 1'!AK26,\"*\")","v":1.2199999999999989},{"$f":"IFERROR('Level 2'!AL26-'Level 1'!AL26,\"*\")","v":"*"}]
[{"$f":"'Level 1'!A27","v":"Romania"},{"$f":"IFERROR('Level 2'!B27-'Level 1'!B27,\"*\")","v":1.7405000000000008},{"$f":"IFERROR('Level 2'!C27-'Level 1'!C27,\"*\")","v":1.7890999999999995},{"$f":"IFERROR('Level 2'!D27-'Level 1'!D27,\"*\")","v":2.1214500000000012},{"$f":"IFERROR('Level 2'!E27-'Level 1'!E27,\"*\")","v":2.2358499999999992},{"$f":"IFERROR('Level 2'!F27-'Level 1'!F27,\"*\")","v":2.2890499999999996},{"$f":"IFERROR('Level 2'!G27-'Level 1'!G27,\"*\")","v":2.1160999999999994},{"$f":"IFERROR('Level 2'!H27-'Level 1'!H27,\"*\")","v":2.2997999999999994},{"$f":"IFERROR('Level 2'!I27-'Level 1'!I27,\"*\")","v":2.7022000000000004},{"$f":"IFERROR('Level 2'!J27-'Level 1'!J27,\"*\")","v":2.7510499999999993},{"$f":"IFERROR('Level 2'!K27-'Level 1'!K27,\"*\")","v":2.5715000000000003},{"$f":"IFERROR('Level 2'!L27-'Level 1'!L27,\"*\")","v":"*"},null,{"$f":"'Level 1'!A27","v":"Romania"},{"$f":"IFERROR('Level 2'!O27-'Level 1'!O27,\"*\")","v":1.6749000000000001},{"$f":"IFERROR('Level 2'!P27-'Level 1'!P27,\"*\")","v":1.7427499999999991},{"$f":"IFERROR('Level 2'!Q27-'Level 1'!Q27,\"*\")","v":2.0945},{"$f":"IFERROR('Level 2'!R27-'Level 1'!R27,\"*\")","v":2.2246499999999996},{"$f":"IFERROR('Level 2'!S27-'Level 1'!S27,\"*\")","v":2.2132499999999995},{"$f":"IFERROR('Level 2'!T27-'Level 1'!T27,\"*\")","v":2.1015500000000005},{"$f":"IFERROR('Level 2'!U27-'Level 1'!U27,\"*\")","v":2.2816999999999998},{"$f":"IFERROR('Level 2'!V27-'Level 1'!V27,\"*\")","v":2.6809499999999993},{"$f":"IFERROR('Level 2'!W27-'Level 1'!W27,\"*\")","v":2.7240000000000002},{"$f":"IFERROR('Level 2'!X27-'Level 1'!X27,\"*\")","v":2.5381},{"$f":"IFERROR('Level 2'!Y27-'Level 1'!Y27,\"*\")","v":"*"},null,{"$f":"'Level 1'!A27","v":"Romania"},{"$f":"IFERROR('Level 2'!AB27-'Level 1'!AB27,\"*\")","v":1.516},{"$f":"IFERROR('Level 2'!AC27-'Level 1'!AC27,\"*\")","v":1.61965},{"$f":"IFERROR('Level 2'!AD27-'Level 1'!AD27,\"*\")","v":1.9893999999999998},{"$f":"IFERROR('Level 2'!AE27-'Level 1'!AE27,\"*\")","v":2.1349},{"$f":"IFERROR('Level 2'!AF27-'Level 1'!AF27,\"*\")","v":2.1201000000000008},{"$f":"IFERROR('Level 2'!AG27-'Level 1'!AG27,\"*\")","v":2.0130000000000003},{"$f":"IFERROR('Level 2'!AH27-'Level 1'!AH27,\"*\")","v":2.1923500000000011},{"$f":"IFERROR('Level 2'!AI27-'Level 1'!AI27,\"*\")","v":2.5625999999999998},{"$f":"IFERROR('Level 2'!AJ27-'Level 1'!AJ27,\"*\")","v":2.5159500000000001},{"$f":"IFERROR('Level 2'!AK27-'Level 1'!AK27,\"*\")","v":2.3155999999999999},{"$f":"IFERROR('Level 2'!AL27-'Level 1'!AL27,\"*\")","v":"*"}]
[{"$f":"'Level 1'!A28","v":"Slovenia"},{"$f":"IFERROR('Level 2'!B28-'Level 1'!B28,\"*\")","v":0.79000000000000092},{"$f":"IFERROR('Level 2'!C28-'Level 1'!C28,\"*\")","v":0.78999999999999915},{"$f":"IFERROR('Level 2'!D28-'Level 1'!D28,\"*\")","v":0.78999999999999915},{"$f":"IFERROR('Level 2'!E28-'Level 1'!E28,\"*\")","v":1.0785499999999981},{"$f":"IFERROR('Level 2'!F28-'Level 1'!F28,\"*\")","v":1.2349999999999994},{"$f":"IFERROR('Level 2'!G28-'Level 1'!G28,\"*\")","v":1.235000000000003},{"$f":"IFERROR('Level 2'!H28-'Level 1'!H28,\"*\")","v":1.3299999999999983},{"$f":"IFERROR('Level 2'!I28-'Level 1'!I28,\"*\")","v":1.3999999999999986},{"$f":"IFERROR('Level 2'!J28-'Level 1'!J28,\"*\")","v":1.7750000000000004},{"$f":"IFERROR('Level 2'!K28-'Level 1'!K28,\"*\")","v":1.8100000000000005},{"$f":"IFERROR('Level 2'!L28-'Level 1'!L28,\"*\")","v":"*"},null,{"$f":"'Level 1'!A28","v":"Slovenia"},{"$f":"IFERROR('Level 2'!O28-'Level 1'!O28,\"*\")","v":0.78999999999999915},{"$f":"IFERROR('Level 2'!P28-'Level 1'!P28,\"*\")","v":0.78500000000000014},{"$f":"IFERROR('Level 2'!Q28-'Level 1'!Q28,\"*\")","v":0.7900000000000027},{"$f":"IFERROR('Level 2'!R28-'Level 1'!R28,\"*\")","v":1.0786000000000016},{"$f":"IFERROR('Level 2'!S28-'Level 1'!S28,\"*\")","v":1.2400000000000002},{"$f":"IFERROR('Level 2'!T28-'Level 1'!T28,\"*\")","v":1.2399999999999984},{"$f":"IFERROR('Level 2'!U28-'Level 1'!U28,\"*\")","v":1.3399999999999999},{"$f":"IFERROR('Level 2'!V28-'Level 1'!V28,\"*\")","v":1.4049999999999976},{"$f":"IFERROR('Level 2'!W28-'Level 1'!W28,\"*\")","v":1.7699999999999996},{"$f":"IFERROR('Level 2'!X28-'Level 1'!X28,\"*\")","v":1.8100000000000005},{"$f":"IFERROR('Level 2'!Y28-'Level 1'!Y28,\"*\")","v":"*"},null,{"$f":"'Level 1'!A28","v":"Slovenia"},{"$f":"IFERROR('Level 2'!AB28-'Level 1'!AB28,\"*\")","v":0.78000000000000114},{"$f":"IFERROR('Level 2'!AC28-'Level 1'!AC28,\"*\")","v":0.78500000000000014},{"$f":"IFERROR('Level 2'!AD28-'Level 1'!AD28,\"*\")","v":0.79000000000000092},{"$f":"IFERROR('Level 2'!AE28-'Level 1'!AE28,\"*\")","v":1.0785499999999999},{"$f":"IFERROR('Level 2'!AF28-'Level 1'!AF28,\"*\")","v":1.240000000000002},{"$f":"IFERROR('Level 2'!AG28-'Level 1'!AG28,\"*\")","v":1.2349999999999994},{"$f":"IFERROR('Level 2'!AH28-'Level 1'!AH28,\"*\")","v":1.3349999999999991},{"$f":"IFERROR('Level 2'!AI28-'Level 1'!AI28,\"*\")","v":1.3999999999999986},{"$f":"IFERROR('Level 2'!AJ28-'Level 1'!AJ28,\"*\")","v":1.7799999999999976},{"$f":"IFERROR('Level 2'!AK28-'Level 1'!AK28,\"*\")","v":1.8099999999999987},{"$f":"IFERROR('Level 2'!AL28-'Level 1'!AL28,\"*\")","v":"*"}]
[{"$f":"'Level 1'!A29","v":"Slovakia"},{"$f":"IFERROR('Level 2'!B29-'Level 1'!B29,\"*\")","v":0},{"$f":"IFERROR('Level 2'!C29-'Level 1'!C29,\"*\")","v":0},{"$f":"IFERROR('Level 2'!D29-'Level 1'!D29,\"*\")","v":0},{"$f":"IFERROR('Level 2'!E29-'Level 1'!E29,\"*\")","v":0},{"$f":"IFERROR('Level 2'!F29-'Level 1'!F29,\"*\")","v":0},{"$f":"IFERROR('Level 2'!G29-'Level 1'!G29,\"*\")","v":0},{"$f":"IFERROR('Level 2'!H29-'Level 1'!H29,\"*\")","v":0},{"$f":"IFERROR('Level 2'!I29-'Level 1'!I29,\"*\")","v":0},{"$f":"IFERROR('Level 2'!J29-'Level 1'!J29,\"*\")","v":0},{"$f":"IFERROR('Level 2'!K29-'Level 1'!K29,\"*\")","v":0},{"$f":"IFERROR('Level 2'!L29-'Level 1'!L29,\"*\")","v":"*"},null,{"$f":"'Level 1'!A29","v":"Slovakia"},{"$f":"IFERROR('Level 2'!O29-'Level 1'!O29,\"*\")","v":0},{"$f":"IFERROR('Level 2'!P29-'Level 1'!P29,\"*\")","v":0},{"$f":"IFERROR('Level 2'!Q29-'Level 1'!Q29,\"*\")","v":0},{"$f":"IFERROR('Level 2'!R29-'Level 1'!R29,\"*\")","v":0},{"$f":"IFERROR('Level 2'!S29-'Level 1'!S29,\"*\")","v":0},{"$f":"IFERROR('Level 2'!T29-'Level 1'!T29,\"*\")","v":0},{"$f":"IFERROR('Level 2'!U29-'Level 1'!U29,\"*\")","v":0},{"$f":"IFERROR('Level 2'!V29-'Level 1'!V29,\"*\")","v":0},{"$f":"IFERROR('Level 2'!W29-'Level 1'!W29,\"*\")","v":0},{"$f":"IFERROR('Level 2'!X29-'Level 1'!X29,\"*\")","v":0},{"$f":"IFERROR('Level 2'!Y29-'Level 1'!Y29,\"*\")","v":"*"},null,{"$f":"'Level 1'!A29","v":"Slovakia"},{"$f":"IFERROR('Level 2'!AB29-'Level 1'!AB29,\"*\")","v":0},{"$f":"IFERROR('Level 2'!AC29-'Level 1'!AC29,\"*\")","v":0},{"$f":"IFERROR('Level 2'!AD29-'Level 1'!AD29,\"*\")","v":0},{"$f":"IFERROR('Level 2'!AE29-'Level 1'!AE29,\"*\")","v":0},{"$f":"IFERROR('Level 2'!AF29-'Level 1'!AF29,\"*\")","v":0},{"$f":"IFERROR('Level 2'!AG29-'Level 1'!AG29,\"*\")","v":0},{"$f":"IFERROR('Level 2'!AH29-'Level 1'!AH29,\"*\")","v":0},{"$f":"IFERROR('Level 2'!AI29-'Level 1'!AI29,\"*\")","v":0},{"$f":"IFERROR('Level 2'!AJ29-'Level 1'!AJ29,\"*\")","v":0},{"$f":"IFERROR('Level 2'!AK29-'Level 1'!AK29,\"*\")","v":0},{"$f":"IFERROR('Level 2'!AL29-'Level 1'!AL29,\"*\")","v":"*"}]
[{"$f":"'Level 1'!A30","v":"Sweden"},{"$f":"IFERROR('Level 2'!B30-'Level 1'!B30,\"*\")","v":5.4724000000000004},{"$f":"IFERROR('Level 2'!C30-'Level 1'!C30,\"*\")","v":5.7245000000000026},{"$f":"IFERROR('Level 2'!D30-'Level 1'!D30,\"*\")","v":5.4035500000000027},{"$f":"IFERROR('Level 2'!E30-'Level 1'!E30,\"*\")","v":6.0220000000000056},{"$f":"IFERROR('Level 2'!F30-'Level 1'!F30,\"*\")","v":7.9491499999999959},{"$f":"IFERROR('Level 2'!G30-'Level 1'!G30,\"*\")","v":8.9283000000000072},{"$f":"IFERROR('Level 2'!H30-'Level 1'!H30,\"*\")","v":8.5093999999999994},{"$f":"IFERROR('Level 2'!I30-'Level 1'!I30,\"*\")","v":8.0663999999999945},{"$f":"IFERROR('Level 2'!J30-'Level 1'!J30,\"*\")","v":8.1500000000000057},{"$f":"IFERROR('Level 2'!K30-'Level 1'!K30,\"*\")","v":8.160300000000003},{"$f":"IFERROR('Level 2'!L30-'Level 1'!L30,\"*\")","v":"*"},null,{"$f":"'Level 1'!A30","v":"Sweden"},{"$f":"IFERROR('Level 2'!O30-'Level 1'!O30,\"*\")","v":5.472450000000002},{"$f":"IFERROR('Level 2'!P30-'Level 1'!P30,\"*\")","v":5.7239999999999966},{"$f":"IFERROR('Level 2'!Q30-'Level 1'!Q30,\"*\")","v":5.4036500000000025},{"$f":"IFERROR('Level 2'!R30-'Level 1'!R30,\"*\")","v":6.0219500000000039},{"$f":"IFERROR('Level 2'!S30-'Level 1'!S30,\"*\")","v":7.9491499999999995},{"$f":"IFERROR('Level 2'!T30-'Level 1'!T30,\"*\")","v":8.9294500000000028},{"$f":"IFERROR('Level 2'!U30-'Level 1'!U30,\"*\")","v":8.5093499999999977},{"$f":"IFERROR('Level 2'!V30-'Level 1'!V30,\"*\")","v":8.0664000000000016},{"$f":"IFERROR('Level 2'!W30-'Level 1'!W30,\"*\")","v":8.1505499999999991},{"$f":"IFERROR('Level 2'!X30-'Level 1'!X30,\"*\")","v":8.1601999999999997},{"$f":"IFERROR('Level 2'!Y30-'Level 1'!Y30,\"*\")","v":"*"},null,{"$f":"'Level 1'!A30","v":"Sweden"},{"$f":"IFERROR('Level 2'!AB30-'Level 1'!AB30,\"*\")","v":5.4724499999999985},{"$f":"IFERROR('Level 2'!AC30-'Level 1'!AC30,\"*\")","v":5.7250499999999995},{"$f":"IFERROR('Level 2'!AD30-'Level 1'!AD30,\"*\")","v":5.4040500000000016},{"$f":"IFERROR('Level 2'!AE30-'Level 1'!AE30,\"*\")","v":6.0219500000000004},{"$f":"IFERROR('Level 2'!AF30-'Level 1'!AF30,\"*\")","v":7.9491499999999995},{"$f":"IFERROR('Level 2'!AG30-'Level 1'!AG30,\"*\")","v":8.9282499999999985},{"$f":"IFERROR('Level 2'!AH30-'Level 1'!AH30,\"*\")","v":8.5099499999999999},{"$f":"IFERROR('Level 2'!AI30-'Level 1'!AI30,\"*\")","v":8.0664499999999997},{"$f":"IFERROR('Level 2'!AJ30-'Level 1'!AJ30,\"*\")","v":8.1505500000000026},{"$f":"IFERROR('Level 2'!AK30-'Level 1'!AK30,\"*\")","v":8.1601999999999979},{"$f":"IFERROR('Level 2'!AL30-'Level 1'!AL30,\"*\")","v":"*"}]
[{"$f":"'Level 1'!A31","v":"United Kingdom"},{"$f":"IFERROR('Level 2'!B31-'Level 1'!B31,\"*\")","v":0},{"$f":"IFERROR('Level 2'!C31-'Level 1'!C31,\"*\")","v":0},{"$f":"IFERROR('Level 2'!D31-'Level 1'!D31,\"*\")","v":0},{"$f":"IFERROR('Level 2'!E31-'Level 1'!E31,\"*\")","v":0},{"$f":"IFERROR('Level 2'!F31-'Level 1'!F31,\"*\")","v":0},{"$f":"IFERROR('Level 2'!G31-'Level 1'!G31,\"*\")","v":0},{"$f":"IFERROR('Level 2'!H31-'Level 1'!H31,\"*\")","v":0},{"$f":"IFERROR('Level 2'!I31-'Level 1'!I31,\"*\")","v":0},{"$f":"IFERROR('Level 2'!J31-'Level 1'!J31,\"*\")","v":0},{"$f":"IFERROR('Level 2'!K31-'Level 1'!K31,\"*\")","v":0},{"$f":"IFERROR('Level 2'!L31-'Level 1'!L31,\"*\")","v":"*"},null,{"$f":"'Level 1'!A31","v":"United Kingdom"},{"$f":"IFERROR('Level 2'!O31-'Level 1'!O31,\"*\")","v":0},{"$f":"IFERROR('Level 2'!P31-'Level 1'!P31,\"*\")","v":0},{"$f":"IFERROR('Level 2'!Q31-'Level 1'!Q31,\"*\")","v":0},{"$f":"IFERROR('Level 2'!R31-'Level 1'!R31,\"*\")","v":0},{"$f":"IFERROR('Level 2'!S31-'Level 1'!S31,\"*\")","v":0},{"$f":"IFERROR('Level 2'!T31-'Level 1'!T31,\"*\")","v":0},{"$f":"IFERROR('Level 2'!U31-'Level 1'!U31,\"*\")","v":0},{"$f":"IFERROR('Level 2'!V31-'Level 1'!V31,\"*\")","v":0},{"$f":"IFERROR('Level 2'!W31-'Level 1'!W31,\"*\")","v":0},{"$f":"IFERROR('Level 2'!X31-'Level 1'!X31,\"*\")","v":0},{"$f":"IFERROR('Level 2'!Y31-'Level 1'!Y31,\"*\")","v":"*"},null,{"$f":"'Level 1'!A31","v":"United Kingdom"},{"$f":"IFERROR('Level 2'!AB31-'Level 1'!AB31,\"*\")","v":0},{"$f":"IFERROR('Level 2'!AC31-'Level 1'!AC31,\"*\")","v":0},{"$f":"IFERROR('Level 2'!AD31-'Level 1'!AD31,\"*\")","v":0},{"$f":"IFERROR('Level 2'!AE31-'Level 1'!AE31,\"*\")","v":0},{"$f":"IFERROR('Level 2'!AF31-'Level 1'!AF31,\"*\")","v":0},{"$f":"IFERROR('Level 2'!AG31-'Level 1'!AG31,\"*\")","v":0},{"$f":"IFERROR('Level 2'!AH31-'Level 1'!AH31,\"*\")","v":0},{"$f":"IFERROR('Level 2'!AI31-'Level 1'!AI31,\"*\")","v":0},{"$f":"IFERROR('Level 2'!AJ31-'Level 1'!AJ31,\"*\")","v":0},{"$f":"IFERROR('Level 2'!AK31-'Level 1'!AK31,\"*\")","v":0},{"$f":"IFERROR('Level 2'!AL31-'Level 1'!AL31,\"*\")","v":"*"}]
[]
[]
["Moms og refunderbare afgifter i de enkelte lande, EURO"]
[]
["Forbrugsinterval < 20 GJ",null,null,null,null,null,null,null,null,null,null,null,null,"Forbrugsinterval  20 GJ <  200 GJ",null,null,null,null,null,null,null,null,null,null,null,null,"Forbrugsinterval  >200 GJ"]
[]
[{"$f":"'Level 1'!A5","v":"EURO/GJ"},{"$f":"'Level 1'!B5","v":2007},{"$f":"'Level 1'!C5","v":2008},{"$f":"'Level 1'!D5","v":2009},{"$f":"'Level 1'!E5","v":2010},{"$f":"'Level 1'!F5","v":2011},{"$f":"'Level 1'!G5","v":2012},{"$f":"'Level 1'!H5","v":2013},{"$f":"'Level 1'!I5","v":2014},{"$f":"'Level 1'!J5","v":2015},{"$f":"'Level 1'!K5","v":2016},{"$f":"'Level 1'!L5","v":2017},null,{"$f":"'Level 1'!N5","v":"EURO/GJ"},{"$f":"'Level 1'!O5","v":2007},{"$f":"'Level 1'!P5","v":2008},{"$f":"'Level 1'!Q5","v":2009},{"$f":"'Level 1'!R5","v":2010},{"$f":"'Level 1'!S5","v":2011},{"$f":"'Level 1'!T5","v":2012},{"$f":"'Level 1'!U5","v":2013},{"$f":"'Level 1'!V5","v":2014},{"$f":"'Level 1'!W5","v":2015},{"$f":"'Level 1'!X5","v":2016},{"$f":"'Level 1'!Y5","v":2017},null,{"$f":"'Level 1'!AA5","v":"EURO/GJ"},{"$f":"'Level 1'!AB5","v":2007},{"$f":"'Level 1'!AC5","v":2008},{"$f":"'Level 1'!AD5","v":2009},{"$f":"'Level 1'!AE5","v":2010},{"$f":"'Level 1'!AF5","v":2011},{"$f":"'Level 1'!AG5","v":2012},{"$f":"'Level 1'!AH5","v":2013},{"$f":"'Level 1'!AI5","v":2014},{"$f":"'Level 1'!AJ5","v":2015},{"$f":"'Level 1'!AK5","v":2016},{"$f":"'Level 1'!AL5","v":2017}]
[{"$f":"'Level 1'!A6","v":"European Union (28 countries)"},{"$f":"IFERROR('Level 3'!B6-'Level 2'!B6,\"*\")","v":2.490000000000002},{"$f":"IFERROR('Level 3'!C6-'Level 2'!C6,\"*\")","v":2.6999999999999993},{"$f":"IFERROR('Level 3'!D6-'Level 2'!D6,\"*\")","v":2.6899999999999977},{"$f":"IFERROR('Level 3'!E6-'Level 2'!E6,\"*\")","v":2.870000000000001},{"$f":"IFERROR('Level 3'!F6-'Level 2'!F6,\"*\")","v":3.1599999999999966},{"$f":"IFERROR('Level 3'!G6-'Level 2'!G6,\"*\")","v":3.355000000000004},{"$f":"IFERROR('Level 3'!H6-'Level 2'!H6,\"*\")","v":3.5249999999999986},{"$f":"IFERROR('Level 3'!I6-'Level 2'!I6,\"*\")","v":3.6700000000000017},{"$f":"IFERROR('Level 3'!J6-'Level 2'!J6,\"*\")","v":3.5850000000000009},{"$f":"IFERROR('Level 3'!K6-'Level 2'!K6,\"*\")","v":3.2699999999999996},{"$f":"IFERROR('Level 3'!L6-'Level 2'!L6,\"*\")","v":"*"},null,{"$f":"'Level 1'!N6","v":"European Union (28 countries)"},{"$f":"IFERROR('Level 3'!O6-'Level 2'!O6,\"*\")","v":1.9800000000000004},{"$f":"IFERROR('Level 3'!P6-'Level 2'!P6,\"*\")","v":2.2049999999999983},{"$f":"IFERROR('Level 3'!Q6-'Level 2'!Q6,\"*\")","v":2.1300000000000026},{"$f":"IFERROR('Level 3'!R6-'Level 2'!R6,\"*\")","v":2.0449999999999999},{"$f":"IFERROR('Level 3'!S6-'Level 2'!S6,\"*\")","v":2.3200000000000003},{"$f":"IFERROR('Level 3'!T6-'Level 2'!T6,\"*\")","v":2.504999999999999},{"$f":"IFERROR('Level 3'!U6-'Level 2'!U6,\"*\")","v":2.6199999999999974},{"$f":"IFERROR('Level 3'!V6-'Level 2'!V6,\"*\")","v":2.629999999999999},{"$f":"IFERROR('Level 3'!W6-'Level 2'!W6,\"*\")","v":2.5749999999999957},{"$f":"IFERROR('Level 3'!X6-'Level 2'!X6,\"*\")","v":2.3300000000000018},{"$f":"IFERROR('Level 3'!Y6-'Level 2'!Y6,\"*\")","v":"*"},null,{"$f":"'Level 1'!AA6","v":"European Union (28 countries)"},{"$f":"IFERROR('Level 3'!AB6-'Level 2'!AB6,\"*\")","v":1.7899999999999991},{"$f":"IFERROR('Level 3'!AC6-'Level 2'!AC6,\"*\")","v":1.9799999999999986},{"$f":"IFERROR('Level 3'!AD6-'Level 2'!AD6,\"*\")","v":1.9350000000000005},{"$f":"IFERROR('Level 3'!AE6-'Level 2'!AE6,\"*\")","v":1.8900000000000006},{"$f":"IFERROR('Level 3'!AF6-'Level 2'!AF6,\"*\")","v":2.1650000000000027},{"$f":"IFERROR('Level 3'!AG6-'Level 2'!AG6,\"*\")","v":2.3949999999999996},{"$f":"IFERROR('Level 3'!AH6-'Level 2'!AH6,\"*\")","v":2.4949999999999974},{"$f":"IFERROR('Level 3'!AI6-'Level 2'!AI6,\"*\")","v":2.4849999999999994},{"$f":"IFERROR('Level 3'!AJ6-'Level 2'!AJ6,\"*\")","v":2.4250000000000007},{"$f":"IFERROR('Level 3'!AK6-'Level 2'!AK6,\"*\")","v":2.2699999999999996},{"$f":"IFERROR('Level 3'!AL6-'Level 2'!AL6,\"*\")","v":"*"}]
[{"$f":"'Level 1'!A7","v":"Belgium"},{"$f":"IFERROR('Level 3'!B7-'Level 2'!B7,\"*\")","v":3.7100000000000009},{"$f":"IFERROR('Level 3'!C7-'Level 2'!C7,\"*\")","v":4.5150000000000006},{"$f":"IFERROR('Level 3'!D7-'Level 2'!D7,\"*\")","v":4.0300000000000011},{"$f":"IFERROR('Level 3'!E7-'Level 2'!E7,\"*\")","v":3.9650000000000034},{"$f":"IFERROR('Level 3'!F7-'Level 2'!F7,\"*\")","v":4.43},{"$f":"IFERROR('Level 3'!G7-'Level 2'!G7,\"*\")","v":4.7800000000000011},{"$f":"IFERROR('Level 3'!H7-'Level 2'!H7,\"*\")","v":4.3499999999999979},{"$f":"IFERROR('Level 3'!I7-'Level 2'!I7,\"*\")","v":4.3050000000000033},{"$f":"IFERROR('Level 3'!J7-'Level 2'!J7,\"*\")","v":4.0750000000000028},{"$f":"IFERROR('Level 3'!K7-'Level 2'!K7,\"*\")","v":3.5800000000000018},{"$f":"IFERROR('Level 3'!L7-'Level 2'!L7,\"*\")","v":"*"},null,{"$f":"'Level 1'!N7","v":"Belgium"},{"$f":"IFERROR('Level 3'!O7-'Level 2'!O7,\"*\")","v":2.41},{"$f":"IFERROR('Level 3'!P7-'Level 2'!P7,\"*\")","v":3.1400000000000006},{"$f":"IFERROR('Level 3'!Q7-'Level 2'!Q7,\"*\")","v":2.6799999999999997},{"$f":"IFERROR('Level 3'!R7-'Level 2'!R7,\"*\")","v":2.7000000000000011},{"$f":"IFERROR('Level 3'!S7-'Level 2'!S7,\"*\")","v":3.2849999999999984},{"$f":"IFERROR('Level 3'!T7-'Level 2'!T7,\"*\")","v":3.4299999999999997},{"$f":"IFERROR('Level 3'!U7-'Level 2'!U7,\"*\")","v":3.1900000000000013},{"$f":"IFERROR('Level 3'!V7-'Level 2'!V7,\"*\")","v":3.1349999999999998},{"$f":"IFERROR('Level 3'!W7-'Level 2'!W7,\"*\")","v":2.8849999999999998},{"$f":"IFERROR('Level 3'!X7-'Level 2'!X7,\"*\")","v":2.59},{"$f":"IFERROR('Level 3'!Y7-'Level 2'!Y7,\"*\")","v":"*"},null,{"$f":"'Level 1'!AA7","v":"Belgium"},{"$f":"IFERROR('Level 3'!AB7-'Level 2'!AB7,\"*\")","v":2.1799999999999997},{"$f":"IFERROR('Level 3'!AC7-'Level 2'!AC7,\"*\")","v":2.9749999999999996},{"$f":"IFERROR('Level 3'!AD7-'Level 2'!AD7,\"*\")","v":2.495000000000001},{"$f":"IFERROR('Level 3'!AE7-'Level 2'!AE7,\"*\")","v":2.4599999999999991},{"$f":"IFERROR('Level 3'!AF7-'Level 2'!AF7,\"*\")","v":3},{"$f":"IFERROR('Level 3'!AG7-'Level 2'!AG7,\"*\")","v":3.2449999999999974},{"$f":"IFERROR('Level 3'!AH7-'Level 2'!AH7,\"*\")","v":2.92},{"$f":"IFERROR('Level 3'!AI7-'Level 2'!AI7,\"*\")","v":2.7299999999999986},{"$f":"IFERROR('Level 3'!AJ7-'Level 2'!AJ7,\"*\")","v":2.495000000000001},{"$f":"IFERROR('Level 3'!AK7-'Level 2'!AK7,\"*\")","v":2.3000000000000007},{"$f":"IFERROR('Level 3'!AL7-'Level 2'!AL7,\"*\")","v":"*"}]
[{"$f":"'Level 1'!A8","v":"Bulgaria"},{"$f":"IFERROR('Level 3'!B8-'Level 2'!B8,\"*\")","v":1.4162999999999997},{"$f":"IFERROR('Level 3'!C8-'Level 2'!C8,\"*\")","v":1.7154000000000007},{"$f":"IFERROR('Level 3'!D8-'Level 2'!D8,\"*\")","v":1.8866999999999994},{"$f":"IFERROR('Level 3'!E8-'Level 2'!E8,\"*\")","v":1.8186499999999999},{"$f":"IFERROR('Level 3'!F8-'Level 2'!F8,\"*\")","v":2.0580499999999979},{"$f":"IFERROR('Level 3'!G8-'Level 2'!G8,\"*\")","v":2.4311999999999987},{"$f":"IFERROR('Level 3'!H8-'Level 2'!H8,\"*\")","v":2.42605},{"$f":"IFERROR('Level 3'!I8-'Level 2'!I8,\"*\")","v":2.3136499999999991},{"$f":"IFERROR('Level 3'!J8-'Level 2'!J8,\"*\")","v":2.1372499999999999},{"$f":"IFERROR('Level 3'!K8-'Level 2'!K8,\"*\")","v":1.8048999999999999},{"$f":"IFERROR('Level 3'!L8-'Level 2'!L8,\"*\")","v":"*"},null,{"$f":"'Level 1'!N8","v":"Bulgaria"},{"$f":"IFERROR('Level 3'!O8-'Level 2'!O8,\"*\")","v":1.4981000000000009},{"$f":"IFERROR('Level 3'!P8-'Level 2'!P8,\"*\")","v":1.7281999999999993},{"$f":"IFERROR('Level 3'!Q8-'Level 2'!Q8,\"*\")","v":1.9020500000000009},{"$f":"IFERROR('Level 3'!R8-'Level 2'!R8,\"*\")","v":1.8495500000000007},{"$f":"IFERROR('Level 3'!S8-'Level 2'!S8,\"*\")","v":2.0861000000000001},{"$f":"IFERROR('Level 3'!T8-'Level 2'!T8,\"*\")","v":2.4286999999999992},{"$f":"IFERROR('Level 3'!U8-'Level 2'!U8,\"*\")","v":2.3851999999999993},{"$f":"IFERROR('Level 3'!V8-'Level 2'!V8,\"*\")","v":2.2547999999999995},{"$f":"IFERROR('Level 3'!W8-'Level 2'!W8,\"*\")","v":2.0093999999999976},{"$f":"IFERROR('Level 3'!X8-'Level 2'!X8,\"*\")","v":1.7077000000000009},{"$f":"IFERROR('Level 3'!Y8-'Level 2'!Y8,\"*\")","v":"*"},null,{"$f":"'Level 1'!AA8","v":"Bulgaria"},{"$f":"IFERROR('Level 3'!AB8-'Level 2'!AB8,\"*\")","v":1.5237000000000007},{"$f":"IFERROR('Level 3'!AC8-'Level 2'!AC8,\"*\")","v":1.7998500000000011},{"$f":"IFERROR('Level 3'!AD8-'Level 2'!AD8,\"*\")","v":1.9531999999999989},{"$f":"IFERROR('Level 3'!AE8-'Level 2'!AE8,\"*\")","v":1.8757999999999999},{"$f":"IFERROR('Level 3'!AF8-'Level 2'!AF8,\"*\")","v":2.104000000000001},{"$f":"IFERROR('Level 3'!AG8-'Level 2'!AG8,\"*\")","v":2.4874499999999991},{"$f":"IFERROR('Level 3'!AH8-'Level 2'!AH8,\"*\")","v":2.4082499999999989},{"$f":"IFERROR('Level 3'!AI8-'Level 2'!AI8,\"*\")","v":2.2932000000000023},{"$f":"IFERROR('Level 3'!AJ8-'Level 2'!AJ8,\"*\")","v":2.0120000000000005},{"$f":"IFERROR('Level 3'!AK8-'Level 2'!AK8,\"*\")","v":1.6923999999999992},{"$f":"IFERROR('Level 3'!AL8-'Level 2'!AL8,\"*\")","v":"*"}]
[{"$f":"'Level 1'!A9","v":"Czech Republic"},{"$f":"IFERROR('Level 3'!B9-'Level 2'!B9,\"*\")","v":2.4128000000000007},{"$f":"IFERROR('Level 3'!C9-'Level 2'!C9,\"*\")","v":3.1350499999999997},{"$f":"IFERROR('Level 3'!D9-'Level 2'!D9,\"*\")","v":3.1614500000000021},{"$f":"IFERROR('Level 3'!E9-'Level 2'!E9,\"*\")","v":3.5539500000000004},{"$f":"IFERROR('Level 3'!F9-'Level 2'!F9,\"*\")","v":4.205250000000003},{"$f":"IFERROR('Level 3'!G9-'Level 2'!G9,\"*\")","v":4.3718999999999966},{"$f":"IFERROR('Level 3'!H9-'Level 2'!H9,\"*\")","v":4.5155499999999975},{"$f":"IFERROR('Level 3'!I9-'Level 2'!I9,\"*\")","v":4.1370000000000005},{"$f":"IFERROR('Level 3'!J9-'Level 2'!J9,\"*\")","v":4.3516000000000048},{"$f":"IFERROR('Level 3'!K9-'Level 2'!K9,\"*\")","v":4.4504999999999981},{"$f":"IFERROR('Level 3'!L9-'Level 2'!L9,\"*\")","v":"*"},null,{"$f":"'Level 1'!N9","v":"Czech Republic"},{"$f":"IFERROR('Level 3'!O9-'Level 2'!O9,\"*\")","v":1.6060999999999996},{"$f":"IFERROR('Level 3'!P9-'Level 2'!P9,\"*\")","v":2.1465000000000014},{"$f":"IFERROR('Level 3'!Q9-'Level 2'!Q9,\"*\")","v":2.1443999999999992},{"$f":"IFERROR('Level 3'!R9-'Level 2'!R9,\"*\")","v":2.2826500000000003},{"$f":"IFERROR('Level 3'!S9-'Level 2'!S9,\"*\")","v":2.637850000000002},{"$f":"IFERROR('Level 3'!T9-'Level 2'!T9,\"*\")","v":3.0553999999999988},{"$f":"IFERROR('Level 3'!U9-'Level 2'!U9,\"*\")","v":2.9315999999999995},{"$f":"IFERROR('Level 3'!V9-'Level 2'!V9,\"*\")","v":2.6776999999999997},{"$f":"IFERROR('Level 3'!W9-'Level 2'!W9,\"*\")","v":2.7904499999999999},{"$f":"IFERROR('Level 3'!X9-'Level 2'!X9,\"*\")","v":2.8095999999999997},{"$f":"IFERROR('Level 3'!Y9-'Level 2'!Y9,\"*\")","v":"*"},null,{"$f":"'Level 1'!AA9","v":"Czech Republic"},{"$f":"IFERROR('Level 3'!AB9-'Level 2'!AB9,\"*\")","v":1.5754000000000001},{"$f":"IFERROR('Level 3'!AC9-'Level 2'!AC9,\"*\")","v":2.1517999999999997},{"$f":"IFERROR('Level 3'!AD9-'Level 2'!AD9,\"*\")","v":2.102050000000002},{"$f":"IFERROR('Level 3'!AE9-'Level 2'!AE9,\"*\")","v":2.1857500000000023},{"$f":"IFERROR('Level 3'!AF9-'Level 2'!AF9,\"*\")","v":2.497399999999999},{"$f":"IFERROR('Level 3'!AG9-'Level 2'!AG9,\"*\")","v":2.9593999999999987},{"$f":"IFERROR('Level 3'!AH9-'Level 2'!AH9,\"*\")","v":2.8117999999999999},{"$f":"IFERROR('Level 3'!AI9-'Level 2'!AI9,\"*\")","v":2.5559000000000012},{"$f":"IFERROR('Level 3'!AJ9-'Level 2'!AJ9,\"*\")","v":2.620750000000001},{"$f":"IFERROR('Level 3'!AK9-'Level 2'!AK9,\"*\")","v":2.6206000000000014},{"$f":"IFERROR('Level 3'!AL9-'Level 2'!AL9,\"*\")","v":"*"}]
[{"$f":"'Level 1'!A10","v":"Denmark"},{"$f":"IFERROR('Level 3'!B10-'Level 2'!B10,\"*\")","v":2.4603500000000018},{"$f":"IFERROR('Level 3'!C10-'Level 2'!C10,\"*\")","v":5.3842999999999961},{"$f":"IFERROR('Level 3'!D10-'Level 2'!D10,\"*\")","v":4.5936500000000002},{"$f":"IFERROR('Level 3'!E10-'Level 2'!E10,\"*\")","v":5.33155},{"$f":"IFERROR('Level 3'!F10-'Level 2'!F10,\"*\")","v":5.7471500000000013},{"$f":"IFERROR('Level 3'!G10-'Level 2'!G10,\"*\")","v":5.3744499999999995},{"$f":"IFERROR('Level 3'!H10-'Level 2'!H10,\"*\")","v":5.4727000000000032},{"$f":"IFERROR('Level 3'!I10-'Level 2'!I10,\"*\")","v":4.9597499999999997},{"$f":"IFERROR('Level 3'!J10-'Level 2'!J10,\"*\")","v":4.3506999999999998},{"$f":"IFERROR('Level 3'!K10-'Level 2'!K10,\"*\")","v":3.9826000000000015},{"$f":"IFERROR('Level 3'!L10-'Level 2'!L10,\"*\")","v":"*"},null,{"$f":"'Level 1'!N10","v":"Denmark"},{"$f":"IFERROR('Level 3'!O10-'Level 2'!O10,\"*\")","v":2.4603499999999983},{"$f":"IFERROR('Level 3'!P10-'Level 2'!P10,\"*\")","v":5.3842999999999961},{"$f":"IFERROR('Level 3'!Q10-'Level 2'!Q10,\"*\")","v":4.5936500000000002},{"$f":"IFERROR('Level 3'!R10-'Level 2'!R10,\"*\")","v":5.33155},{"$f":"IFERROR('Level 3'!S10-'Level 2'!S10,\"*\")","v":5.7471500000000013},{"$f":"IFERROR('Level 3'!T10-'Level 2'!T10,\"*\")","v":5.3744499999999995},{"$f":"IFERROR('Level 3'!U10-'Level 2'!U10,\"*\")","v":5.4727000000000032},{"$f":"IFERROR('Level 3'!V10-'Level 2'!V10,\"*\")","v":4.9597499999999997},{"$f":"IFERROR('Level 3'!W10-'Level 2'!W10,\"*\")","v":4.3506999999999998},{"$f":"IFERROR('Level 3'!X10-'Level 2'!X10,\"*\")","v":3.9826000000000015},{"$f":"IFERROR('Level 3'!Y10-'Level 2'!Y10,\"*\")","v":"*"},null,{"$f":"'Level 1'!AA10","v":"Denmark"},{"$f":"IFERROR('Level 3'!AB10-'Level 2'!AB10,\"*\")","v":2.4603500000000018},{"$f":"IFERROR('Level 3'!AC10-'Level 2'!AC10,\"*\")","v":5.3842999999999961},{"$f":"IFERROR('Level 3'!AD10-'Level 2'!AD10,\"*\")","v":4.5936500000000002},{"$f":"IFERROR('Level 3'!AE10-'Level 2'!AE10,\"*\")","v":5.33155},{"$f":"IFERROR('Level 3'!AF10-'Level 2'!AF10,\"*\")","v":5.7471500000000013},{"$f":"IFERROR('Level 3'!AG10-'Level 2'!AG10,\"*\")","v":5.3744499999999995},{"$f":"IFERROR('Level 3'!AH10-'Level 2'!AH10,\"*\")","v":5.4727000000000032},{"$f":"IFERROR('Level 3'!AI10-'Level 2'!AI10,\"*\")","v":4.9597499999999997},{"$f":"IFERROR('Level 3'!AJ10-'Level 2'!AJ10,\"*\")","v":4.3506999999999998},{"$f":"IFERROR('Level 3'!AK10-'Level 2'!AK10,\"*\")","v":3.9826000000000015},{"$f":"IFERROR('Level 3'!AL10-'Level 2'!AL10,\"*\")","v":"*"}]
[{"$f":"'Level 1'!A11","v":"Germany (until 1990 former territory of the FRG)"},{"$f":"IFERROR('Level 3'!B11-'Level 2'!B11,\"*\")","v":4.1500000000000021},{"$f":"IFERROR('Level 3'!C11-'Level 2'!C11,\"*\")","v":4.5049999999999955},{"$f":"IFERROR('Level 3'!D11-'Level 2'!D11,\"*\")","v":4.32},{"$f":"IFERROR('Level 3'!E11-'Level 2'!E11,\"*\")","v":4.2800000000000011},{"$f":"IFERROR('Level 3'!F11-'Level 2'!F11,\"*\")","v":4.6000000000000014},{"$f":"IFERROR('Level 3'!G11-'Level 2'!G11,\"*\")","v":4.639999999999997},{"$f":"IFERROR('Level 3'!H11-'Level 2'!H11,\"*\")","v":4.8249999999999957},{"$f":"IFERROR('Level 3'!I11-'Level 2'!I11,\"*\")","v":4.8249999999999993},{"$f":"IFERROR('Level 3'!J11-'Level 2'!J11,\"*\")","v":4.7600000000000016},{"$f":"IFERROR('Level 3'!K11-'Level 2'!K11,\"*\")","v":4.84},{"$f":"IFERROR('Level 3'!L11-'Level 2'!L11,\"*\")","v":"*"},null,{"$f":"'Level 1'!N11","v":"Germany (until 1990 former territory of the FRG)"},{"$f":"IFERROR('Level 3'!O11-'Level 2'!O11,\"*\")","v":2.7199999999999989},{"$f":"IFERROR('Level 3'!P11-'Level 2'!P11,\"*\")","v":3.110000000000003},{"$f":"IFERROR('Level 3'!Q11-'Level 2'!Q11,\"*\")","v":2.74},{"$f":"IFERROR('Level 3'!R11-'Level 2'!R11,\"*\")","v":2.5199999999999996},{"$f":"IFERROR('Level 3'!S11-'Level 2'!S11,\"*\")","v":2.7249999999999996},{"$f":"IFERROR('Level 3'!T11-'Level 2'!T11,\"*\")","v":2.8500000000000014},{"$f":"IFERROR('Level 3'!U11-'Level 2'!U11,\"*\")","v":2.990000000000002},{"$f":"IFERROR('Level 3'!V11-'Level 2'!V11,\"*\")","v":3.014999999999997},{"$f":"IFERROR('Level 3'!W11-'Level 2'!W11,\"*\")","v":3.0100000000000016},{"$f":"IFERROR('Level 3'!X11-'Level 2'!X11,\"*\")","v":2.9299999999999997},{"$f":"IFERROR('Level 3'!Y11-'Level 2'!Y11,\"*\")","v":"*"},null,{"$f":"'Level 1'!AA11","v":"Germany (until 1990 former territory of the FRG)"},{"$f":"IFERROR('Level 3'!AB11-'Level 2'!AB11,\"*\")","v":2.5700000000000021},{"$f":"IFERROR('Level 3'!AC11-'Level 2'!AC11,\"*\")","v":2.8499999999999979},{"$f":"IFERROR('Level 3'!AD11-'Level 2'!AD11,\"*\")","v":2.4700000000000006},{"$f":"IFERROR('Level 3'!AE11-'Level 2'!AE11,\"*\")","v":2.3949999999999996},{"$f":"IFERROR('Level 3'!AF11-'Level 2'!AF11,\"*\")","v":2.5950000000000024},{"$f":"IFERROR('Level 3'!AG11-'Level 2'!AG11,\"*\")","v":2.7149999999999999},{"$f":"IFERROR('Level 3'!AH11-'Level 2'!AH11,\"*\")","v":2.8049999999999997},{"$f":"IFERROR('Level 3'!AI11-'Level 2'!AI11,\"*\")","v":2.8049999999999997},{"$f":"IFERROR('Level 3'!AJ11-'Level 2'!AJ11,\"*\")","v":2.8000000000000007},{"$f":"IFERROR('Level 3'!AK11-'Level 2'!AK11,\"*\")","v":2.7099999999999991},{"$f":"IFERROR('Level 3'!AL11-'Level 2'!AL11,\"*\")","v":"*"}]
[{"$f":"'Level 1'!A12","v":"Estonia"},{"$f":"IFERROR('Level 3'!B12-'Level 2'!B12,\"*\")","v":1.6355000000000004},{"$f":"IFERROR('Level 3'!C12-'Level 2'!C12,\"*\")","v":1.6958500000000001},{"$f":"IFERROR('Level 3'!D12-'Level 2'!D12,\"*\")","v":1.7299500000000005},{"$f":"IFERROR('Level 3'!E12-'Level 2'!E12,\"*\")","v":2.0980499999999989},{"$f":"IFERROR('Level 3'!F12-'Level 2'!F12,\"*\")","v":2.6000000000000014},{"$f":"IFERROR('Level 3'!G12-'Level 2'!G12,\"*\")","v":2.8450000000000006},{"$f":"IFERROR('Level 3'!H12-'Level 2'!H12,\"*\")","v":2.9199999999999982},{"$f":"IFERROR('Level 3'!I12-'Level 2'!I12,\"*\")","v":2.6300000000000008},{"$f":"IFERROR('Level 3'!J12-'Level 2'!J12,\"*\")","v":2.2249999999999996},{"$f":"IFERROR('Level 3'!K12-'Level 2'!K12,\"*\")","v":2.1799999999999997},{"$f":"IFERROR('Level 3'!L12-'Level 2'!L12,\"*\")","v":"*"},null,{"$f":"'Level 1'!N12","v":"Estonia"},{"$f":"IFERROR('Level 3'!O12-'Level 2'!O12,\"*\")","v":1.1292},{"$f":"IFERROR('Level 3'!P12-'Level 2'!P12,\"*\")","v":1.4951499999999989},{"$f":"IFERROR('Level 3'!Q12-'Level 2'!Q12,\"*\")","v":1.6754500000000014},{"$f":"IFERROR('Level 3'!R12-'Level 2'!R12,\"*\")","v":1.7757500000000004},{"$f":"IFERROR('Level 3'!S12-'Level 2'!S12,\"*\")","v":1.9800000000000004},{"$f":"IFERROR('Level 3'!T12-'Level 2'!T12,\"*\")","v":2.3550000000000004},{"$f":"IFERROR('Level 3'!U12-'Level 2'!U12,\"*\")","v":2.3100000000000005},{"$f":"IFERROR('Level 3'!V12-'Level 2'!V12,\"*\")","v":2.2750000000000004},{"$f":"IFERROR('Level 3'!W12-'Level 2'!W12,\"*\")","v":1.9450000000000003},{"$f":"IFERROR('Level 3'!X12-'Level 2'!X12,\"*\")","v":2.0499999999999989},{"$f":"IFERROR('Level 3'!Y12-'Level 2'!Y12,\"*\")","v":"*"},null,{"$f":"'Level 1'!AA12","v":"Estonia"},{"$f":"IFERROR('Level 3'!AB12-'Level 2'!AB12,\"*\")","v":1.1060999999999996},{"$f":"IFERROR('Level 3'!AC12-'Level 2'!AC12,\"*\")","v":1.4730500000000006},{"$f":"IFERROR('Level 3'!AD12-'Level 2'!AD12,\"*\")","v":1.6661000000000001},{"$f":"IFERROR('Level 3'!AE12-'Level 2'!AE12,\"*\")","v":1.7414499999999986},{"$f":"IFERROR('Level 3'!AF12-'Level 2'!AF12,\"*\")","v":1.8800000000000008},{"$f":"IFERROR('Level 3'!AG12-'Level 2'!AG12,\"*\")","v":2.259999999999998},{"$f":"IFERROR('Level 3'!AH12-'Level 2'!AH12,\"*\")","v":2.1649999999999991},{"$f":"IFERROR('Level 3'!AI12-'Level 2'!AI12,\"*\")","v":2.125},{"$f":"IFERROR('Level 3'!AJ12-'Level 2'!AJ12,\"*\")","v":1.745000000000001},{"$f":"IFERROR('Level 3'!AK12-'Level 2'!AK12,\"*\")","v":1.9100000000000001},{"$f":"IFERROR('Level 3'!AL12-'Level 2'!AL12,\"*\")","v":"*"}]
[{"$f":"'Level 1'!A13","v":"Ireland"},{"$f":"IFERROR('Level 3'!B13-'Level 2'!B13,\"*\")","v":3.5799999999999983},{"$f":"IFERROR('Level 3'!C13-'Level 2'!C13,\"*\")","v":2.2999999999999972},{"$f":"IFERROR('Level 3'!D13-'Level 2'!D13,\"*\")","v":2.1849999999999987},{"$f":"IFERROR('Level 3'!E13-'Level 2'!E13,\"*\")","v":1.879999999999999},{"$f":"IFERROR('Level 3'!F13-'Level 2'!F13,\"*\")","v":2.1050000000000022},{"$f":"IFERROR('Level 3'!G13-'Level 2'!G13,\"*\")","v":2.3949999999999996},{"$f":"IFERROR('Level 3'!H13-'Level 2'!H13,\"*\")","v":2.6500000000000057},{"$f":"IFERROR('Level 3'!I13-'Level 2'!I13,\"*\")","v":2.740000000000002},{"$f":"IFERROR('Level 3'!J13-'Level 2'!J13,\"*\")","v":2.7049999999999983},{"$f":"IFERROR('Level 3'!K13-'Level 2'!K13,\"*\")","v":2.41},{"$f":"IFERROR('Level 3'!L13-'Level 2'!L13,\"*\")","v":"*"},null,{"$f":"'Level 1'!N13","v":"Ireland"},{"$f":"IFERROR('Level 3'!O13-'Level 2'!O13,\"*\")","v":2.0100000000000016},{"$f":"IFERROR('Level 3'!P13-'Level 2'!P13,\"*\")","v":1.9750000000000014},{"$f":"IFERROR('Level 3'!Q13-'Level 2'!Q13,\"*\")","v":1.9749999999999996},{"$f":"IFERROR('Level 3'!R13-'Level 2'!R13,\"*\")","v":1.6700000000000017},{"$f":"IFERROR('Level 3'!S13-'Level 2'!S13,\"*\")","v":1.8649999999999984},{"$f":"IFERROR('Level 3'!T13-'Level 2'!T13,\"*\")","v":2.1249999999999964},{"$f":"IFERROR('Level 3'!U13-'Level 2'!U13,\"*\")","v":2.2749999999999986},{"$f":"IFERROR('Level 3'!V13-'Level 2'!V13,\"*\")","v":2.355000000000004},{"$f":"IFERROR('Level 3'!W13-'Level 2'!W13,\"*\")","v":2.3049999999999997},{"$f":"IFERROR('Level 3'!X13-'Level 2'!X13,\"*\")","v":2.16},{"$f":"IFERROR('Level 3'!Y13-'Level 2'!Y13,\"*\")","v":"*"},null,{"$f":"'Level 1'!AA13","v":"Ireland"},{"$f":"IFERROR('Level 3'!AB13-'Level 2'!AB13,\"*\")","v":1.7200000000000006},{"$f":"IFERROR('Level 3'!AC13-'Level 2'!AC13,\"*\")","v":1.8850000000000016},{"$f":"IFERROR('Level 3'!AD13-'Level 2'!AD13,\"*\")","v":1.8599999999999994},{"$f":"IFERROR('Level 3'!AE13-'Level 2'!AE13,\"*\")","v":1.5849999999999991},{"$f":"IFERROR('Level 3'!AF13-'Level 2'!AF13,\"*\")","v":1.75},{"$f":"IFERROR('Level 3'!AG13-'Level 2'!AG13,\"*\")","v":1.9750000000000014},{"$f":"IFERROR('Level 3'!AH13-'Level 2'!AH13,\"*\")","v":2.125},{"$f":"IFERROR('Level 3'!AI13-'Level 2'!AI13,\"*\")","v":2.1750000000000007},{"$f":"IFERROR('Level 3'!AJ13-'Level 2'!AJ13,\"*\")","v":2.125},{"$f":"IFERROR('Level 3'!AK13-'Level 2'!AK13,\"*\")","v":2.0099999999999998},{"$f":"IFERROR('Level 3'!AL13-'Level 2'!AL13,\"*\")","v":"*"}]
[{"$f":"'Level 1'!A14","v":"Greece"},{"$f":"IFERROR('Level 3'!B14-'Level 2'!B14,\"*\")","v":"*"},{"$f":"IFERROR('Level 3'!C14-'Level 2'!C14,\"*\")","v":"*"},{"$f":"IFERROR('Level 3'!D14-'Level 2'!D14,\"*\")","v":"*"},{"$f":"IFERROR('Level 3'!E14-'Level 2'!E14,\"*\")","v":"*"},{"$f":"IFERROR('Level 3'!F14-'Level 2'!F14,\"*\")","v":"*"},{"$f":"IFERROR('Level 3'!G14-'Level 2'!G14,\"*\")","v":4.6599999999999966},{"$f":"IFERROR('Level 3'!H14-'Level 2'!H14,\"*\")","v":3.5650000000000013},{"$f":"IFERROR('Level 3'!I14-'Level 2'!I14,\"*\")","v":3.1799999999999997},{"$f":"IFERROR('Level 3'!J14-'Level 2'!J14,\"*\")","v":3.1149999999999984},{"$f":"IFERROR('Level 3'!K14-'Level 2'!K14,\"*\")","v":2.1500000000000021},{"$f":"IFERROR('Level 3'!L14-'Level 2'!L14,\"*\")","v":"*"},null,{"$f":"'Level 1'!N14","v":"Greece"},{"$f":"IFERROR('Level 3'!O14-'Level 2'!O14,\"*\")","v":"*"},{"$f":"IFERROR('Level 3'!P14-'Level 2'!P14,\"*\")","v":"*"},{"$f":"IFERROR('Level 3'!Q14-'Level 2'!Q14,\"*\")","v":"*"},{"$f":"IFERROR('Level 3'!R14-'Level 2'!R14,\"*\")","v":"*"},{"$f":"IFERROR('Level 3'!S14-'Level 2'!S14,\"*\")","v":"*"},{"$f":"IFERROR('Level 3'!T14-'Level 2'!T14,\"*\")","v":3.2399999999999984},{"$f":"IFERROR('Level 3'!U14-'Level 2'!U14,\"*\")","v":2.6400000000000006},{"$f":"IFERROR('Level 3'!V14-'Level 2'!V14,\"*\")","v":2.4200000000000017},{"$f":"IFERROR('Level 3'!W14-'Level 2'!W14,\"*\")","v":2.2699999999999996},{"$f":"IFERROR('Level 3'!X14-'Level 2'!X14,\"*\")","v":1.7999999999999989},{"$f":"IFERROR('Level 3'!Y14-'Level 2'!Y14,\"*\")","v":"*"},null,{"$f":"'Level 1'!AA14","v":"Greece"},{"$f":"IFERROR('Level 3'!AB14-'Level 2'!AB14,\"*\")","v":"*"},{"$f":"IFERROR('Level 3'!AC14-'Level 2'!AC14,\"*\")","v":"*"},{"$f":"IFERROR('Level 3'!AD14-'Level 2'!AD14,\"*\")","v":"*"},{"$f":"IFERROR('Level 3'!AE14-'Level 2'!AE14,\"*\")","v":"*"},{"$f":"IFERROR('Level 3'!AF14-'Level 2'!AF14,\"*\")","v":"*"},{"$f":"IFERROR('Level 3'!AG14-'Level 2'!AG14,\"*\")","v":2.5300000000000011},{"$f":"IFERROR('Level 3'!AH14-'Level 2'!AH14,\"*\")","v":2.3250000000000028},{"$f":"IFERROR('Level 3'!AI14-'Level 2'!AI14,\"*\")","v":2.1899999999999977},{"$f":"IFERROR('Level 3'!AJ14-'Level 2'!AJ14,\"*\")","v":1.9749999999999996},{"$f":"IFERROR('Level 3'!AK14-'Level 2'!AK14,\"*\")","v":1.75},{"$f":"IFERROR('Level 3'!AL14-'Level 2'!AL14,\"*\")","v":"*"}]
[{"$f":"'Level 1'!A15","v":"Spain"},{"$f":"IFERROR('Level 3'!B15-'Level 2'!B15,\"*\")","v":2.6649999999999991},{"$f":"IFERROR('Level 3'!C15-'Level 2'!C15,\"*\")","v":2.8499999999999979},{"$f":"IFERROR('Level 3'!D15-'Level 2'!D15,\"*\")","v":2.7234500000000033},{"$f":"IFERROR('Level 3'!E15-'Level 2'!E15,\"*\")","v":2.7591000000000037},{"$f":"IFERROR('Level 3'!F15-'Level 2'!F15,\"*\")","v":2.904999999999994},{"$f":"IFERROR('Level 3'!G15-'Level 2'!G15,\"*\")","v":4.1099999999999959},{"$f":"IFERROR('Level 3'!H15-'Level 2'!H15,\"*\")","v":4.82},{"$f":"IFERROR('Level 3'!I15-'Level 2'!I15,\"*\")","v":5.2450000000000045},{"$f":"IFERROR('Level 3'!J15-'Level 2'!J15,\"*\")","v":5.0750000000000028},{"$f":"IFERROR('Level 3'!K15-'Level 2'!K15,\"*\")","v":4.1499999999999986},{"$f":"IFERROR('Level 3'!L15-'Level 2'!L15,\"*\")","v":"*"},null,{"$f":"'Level 1'!N15","v":"Spain"},{"$f":"IFERROR('Level 3'!O15-'Level 2'!O15,\"*\")","v":2.2270000000000003},{"$f":"IFERROR('Level 3'!P15-'Level 2'!P15,\"*\")","v":2.3525000000000027},{"$f":"IFERROR('Level 3'!Q15-'Level 2'!Q15,\"*\")","v":2.1958999999999982},{"$f":"IFERROR('Level 3'!R15-'Level 2'!R15,\"*\")","v":2.1669499999999999},{"$f":"IFERROR('Level 3'!S15-'Level 2'!S15,\"*\")","v":2.2750000000000004},{"$f":"IFERROR('Level 3'!T15-'Level 2'!T15,\"*\")","v":3.3550000000000004},{"$f":"IFERROR('Level 3'!U15-'Level 2'!U15,\"*\")","v":3.9150000000000027},{"$f":"IFERROR('Level 3'!V15-'Level 2'!V15,\"*\")","v":4.125},{"$f":"IFERROR('Level 3'!W15-'Level 2'!W15,\"*\")","v":4.07},{"$f":"IFERROR('Level 3'!X15-'Level 2'!X15,\"*\")","v":3.2699999999999996},{"$f":"IFERROR('Level 3'!Y15-'Level 2'!Y15,\"*\")","v":"*"},null,{"$f":"'Level 1'!AA15","v":"Spain"},{"$f":"IFERROR('Level 3'!AB15-'Level 2'!AB15,\"*\")","v":1.8209999999999997},{"$f":"IFERROR('Level 3'!AC15-'Level 2'!AC15,\"*\")","v":2.0030000000000001},{"$f":"IFERROR('Level 3'!AD15-'Level 2'!AD15,\"*\")","v":1.8098499999999991},{"$f":"IFERROR('Level 3'!AE15-'Level 2'!AE15,\"*\")","v":1.9335500000000003},{"$f":"IFERROR('Level 3'!AF15-'Level 2'!AF15,\"*\")","v":2.3149999999999995},{"$f":"IFERROR('Level 3'!AG15-'Level 2'!AG15,\"*\")","v":2.7449999999999992},{"$f":"IFERROR('Level 3'!AH15-'Level 2'!AH15,\"*\")","v":3.370000000000001},{"$f":"IFERROR('Level 3'!AI15-'Level 2'!AI15,\"*\")","v":3.2899999999999991},{"$f":"IFERROR('Level 3'!AJ15-'Level 2'!AJ15,\"*\")","v":3.125},{"$f":"IFERROR('Level 3'!AK15-'Level 2'!AK15,\"*\")","v":2.7099999999999991},{"$f":"IFERROR('Level 3'!AL15-'Level 2'!AL15,\"*\")","v":"*"}]
[{"$f":"'Level 1'!A16","v":"France"},{"$f":"IFERROR('Level 3'!B16-'Level 2'!B16,\"*\")","v":3.34},{"$f":"IFERROR('Level 3'!C16-'Level 2'!C16,\"*\")","v":3.2730000000000032},{"$f":"IFERROR('Level 3'!D16-'Level 2'!D16,\"*\")","v":3.4149999999999991},{"$f":"IFERROR('Level 3'!E16-'Level 2'!E16,\"*\")","v":3.4350000000000023},{"$f":"IFERROR('Level 3'!F16-'Level 2'!F16,\"*\")","v":3.7699999999999996},{"$f":"IFERROR('Level 3'!G16-'Level 2'!G16,\"*\")","v":3.879999999999999},{"$f":"IFERROR('Level 3'!H16-'Level 2'!H16,\"*\")","v":4.2199999999999989},{"$f":"IFERROR('Level 3'!I16-'Level 2'!I16,\"*\")","v":4.4600000000000009},{"$f":"IFERROR('Level 3'!J16-'Level 2'!J16,\"*\")","v":4.3149999999999906},{"$f":"IFERROR('Level 3'!K16-'Level 2'!K16,\"*\")","v":3.9899999999999984},{"$f":"IFERROR('Level 3'!L16-'Level 2'!L16,\"*\")","v":"*"},null,{"$f":"'Level 1'!N16","v":"France"},{"$f":"IFERROR('Level 3'!O16-'Level 2'!O16,\"*\")","v":2.120000000000001},{"$f":"IFERROR('Level 3'!P16-'Level 2'!P16,\"*\")","v":2.2580000000000009},{"$f":"IFERROR('Level 3'!Q16-'Level 2'!Q16,\"*\")","v":2.3149999999999995},{"$f":"IFERROR('Level 3'!R16-'Level 2'!R16,\"*\")","v":2.2149999999999999},{"$f":"IFERROR('Level 3'!S16-'Level 2'!S16,\"*\")","v":2.4600000000000009},{"$f":"IFERROR('Level 3'!T16-'Level 2'!T16,\"*\")","v":2.6449999999999996},{"$f":"IFERROR('Level 3'!U16-'Level 2'!U16,\"*\")","v":2.8599999999999959},{"$f":"IFERROR('Level 3'!V16-'Level 2'!V16,\"*\")","v":2.9249999999999972},{"$f":"IFERROR('Level 3'!W16-'Level 2'!W16,\"*\")","v":2.870000000000001},{"$f":"IFERROR('Level 3'!X16-'Level 2'!X16,\"*\")","v":2.6100000000000012},{"$f":"IFERROR('Level 3'!Y16-'Level 2'!Y16,\"*\")","v":"*"},null,{"$f":"'Level 1'!AA16","v":"France"},{"$f":"IFERROR('Level 3'!AB16-'Level 2'!AB16,\"*\")","v":2},{"$f":"IFERROR('Level 3'!AC16-'Level 2'!AC16,\"*\")","v":2.1750000000000007},{"$f":"IFERROR('Level 3'!AD16-'Level 2'!AD16,\"*\")","v":2.2249999999999996},{"$f":"IFERROR('Level 3'!AE16-'Level 2'!AE16,\"*\")","v":2.0849999999999991},{"$f":"IFERROR('Level 3'!AF16-'Level 2'!AF16,\"*\")","v":2.3099999999999987},{"$f":"IFERROR('Level 3'!AG16-'Level 2'!AG16,\"*\")","v":2.5100000000000016},{"$f":"IFERROR('Level 3'!AH16-'Level 2'!AH16,\"*\")","v":2.6350000000000016},{"$f":"IFERROR('Level 3'!AI16-'Level 2'!AI16,\"*\")","v":2.7049999999999983},{"$f":"IFERROR('Level 3'!AJ16-'Level 2'!AJ16,\"*\")","v":2.6049999999999986},{"$f":"IFERROR('Level 3'!AK16-'Level 2'!AK16,\"*\")","v":2.4399999999999995},{"$f":"IFERROR('Level 3'!AL16-'Level 2'!AL16,\"*\")","v":"*"}]
[{"$f":"'Level 1'!A17","v":"Croatia"},{"$f":"IFERROR('Level 3'!B17-'Level 2'!B17,\"*\")","v":1.3449999999999998},{"$f":"IFERROR('Level 3'!C17-'Level 2'!C17,\"*\")","v":1.3470500000000003},{"$f":"IFERROR('Level 3'!D17-'Level 2'!D17,\"*\")","v":1.6403999999999996},{"$f":"IFERROR('Level 3'!E17-'Level 2'!E17,\"*\")","v":1.9818500000000014},{"$f":"IFERROR('Level 3'!F17-'Level 2'!F17,\"*\")","v":1.9359000000000002},{"$f":"IFERROR('Level 3'!G17-'Level 2'!G17,\"*\")","v":2.3033000000000019},{"$f":"IFERROR('Level 3'!H17-'Level 2'!H17,\"*\")","v":2.6184499999999993},{"$f":"IFERROR('Level 3'!I17-'Level 2'!I17,\"*\")","v":2.8297500000000007},{"$f":"IFERROR('Level 3'!J17-'Level 2'!J17,\"*\")","v":3.062149999999999},{"$f":"IFERROR('Level 3'!K17-'Level 2'!K17,\"*\")","v":2.8568999999999996},{"$f":"IFERROR('Level 3'!L17-'Level 2'!L17,\"*\")","v":"*"},null,{"$f":"'Level 1'!N17","v":"Croatia"},{"$f":"IFERROR('Level 3'!O17-'Level 2'!O17,\"*\")","v":1.3449999999999998},{"$f":"IFERROR('Level 3'!P17-'Level 2'!P17,\"*\")","v":1.3470500000000003},{"$f":"IFERROR('Level 3'!Q17-'Level 2'!Q17,\"*\")","v":1.6403999999999996},{"$f":"IFERROR('Level 3'!R17-'Level 2'!R17,\"*\")","v":1.9818500000000014},{"$f":"IFERROR('Level 3'!S17-'Level 2'!S17,\"*\")","v":1.9359000000000002},{"$f":"IFERROR('Level 3'!T17-'Level 2'!T17,\"*\")","v":2.343300000000001},{"$f":"IFERROR('Level 3'!U17-'Level 2'!U17,\"*\")","v":2.593399999999999},{"$f":"IFERROR('Level 3'!V17-'Level 2'!V17,\"*\")","v":2.6098499999999998},{"$f":"IFERROR('Level 3'!W17-'Level 2'!W17,\"*\")","v":2.5885499999999997},{"$f":"IFERROR('Level 3'!X17-'Level 2'!X17,\"*\")","v":2.3807000000000009},{"$f":"IFERROR('Level 3'!Y17-'Level 2'!Y17,\"*\")","v":"*"},null,{"$f":"'Level 1'!AA17","v":"Croatia"},{"$f":"IFERROR('Level 3'!AB17-'Level 2'!AB17,\"*\")","v":1.3449999999999998},{"$f":"IFERROR('Level 3'!AC17-'Level 2'!AC17,\"*\")","v":1.3470500000000003},{"$f":"IFERROR('Level 3'!AD17-'Level 2'!AD17,\"*\")","v":1.6403999999999996},{"$f":"IFERROR('Level 3'!AE17-'Level 2'!AE17,\"*\")","v":1.9818500000000014},{"$f":"IFERROR('Level 3'!AF17-'Level 2'!AF17,\"*\")","v":1.9359000000000002},{"$f":"IFERROR('Level 3'!AG17-'Level 2'!AG17,\"*\")","v":2.3486000000000011},{"$f":"IFERROR('Level 3'!AH17-'Level 2'!AH17,\"*\")","v":2.58155},{"$f":"IFERROR('Level 3'!AI17-'Level 2'!AI17,\"*\")","v":2.4580000000000002},{"$f":"IFERROR('Level 3'!AJ17-'Level 2'!AJ17,\"*\")","v":2.4684499999999971},{"$f":"IFERROR('Level 3'!AK17-'Level 2'!AK17,\"*\")","v":2.2551000000000005},{"$f":"IFERROR('Level 3'!AL17-'Level 2'!AL17,\"*\")","v":"*"}]
[{"$f":"'Level 1'!A18","v":"Italy"},{"$f":"IFERROR('Level 3'!B18-'Level 2'!B18,\"*\")","v":1.7064999999999984},{"$f":"IFERROR('Level 3'!C18-'Level 2'!C18,\"*\")","v":1.9295000000000009},{"$f":"IFERROR('Level 3'!D18-'Level 2'!D18,\"*\")","v":1.7734999999999985},{"$f":"IFERROR('Level 3'!E18-'Level 2'!E18,\"*\")","v":3.1024999999999991},{"$f":"IFERROR('Level 3'!F18-'Level 2'!F18,\"*\")","v":3.4149999999999991},{"$f":"IFERROR('Level 3'!G18-'Level 2'!G18,\"*\")","v":3.875},{"$f":"IFERROR('Level 3'!H18-'Level 2'!H18,\"*\")","v":3.8949999999999996},{"$f":"IFERROR('Level 3'!I18-'Level 2'!I18,\"*\")","v":4.5},{"$f":"IFERROR('Level 3'!J18-'Level 2'!J18,\"*\")","v":4.259999999999998},{"$f":"IFERROR('Level 3'!K18-'Level 2'!K18,\"*\")","v":3.2899999999999991},{"$f":"IFERROR('Level 3'!L18-'Level 2'!L18,\"*\")","v":"*"},null,{"$f":"'Level 1'!N18","v":"Italy"},{"$f":"IFERROR('Level 3'!O18-'Level 2'!O18,\"*\")","v":2.9414999999999978},{"$f":"IFERROR('Level 3'!P18-'Level 2'!P18,\"*\")","v":3.1284999999999989},{"$f":"IFERROR('Level 3'!Q18-'Level 2'!Q18,\"*\")","v":2.9839999999999982},{"$f":"IFERROR('Level 3'!R18-'Level 2'!R18,\"*\")","v":2.8909999999999982},{"$f":"IFERROR('Level 3'!S18-'Level 2'!S18,\"*\")","v":3.2950000000000017},{"$f":"IFERROR('Level 3'!T18-'Level 2'!T18,\"*\")","v":3.6199999999999974},{"$f":"IFERROR('Level 3'!U18-'Level 2'!U18,\"*\")","v":3.7800000000000011},{"$f":"IFERROR('Level 3'!V18-'Level 2'!V18,\"*\")","v":3.7449999999999974},{"$f":"IFERROR('Level 3'!W18-'Level 2'!W18,\"*\")","v":3.5949999999999989},{"$f":"IFERROR('Level 3'!X18-'Level 2'!X18,\"*\")","v":2.8999999999999986},{"$f":"IFERROR('Level 3'!Y18-'Level 2'!Y18,\"*\")","v":"*"},null,{"$f":"'Level 1'!AA18","v":"Italy"},{"$f":"IFERROR('Level 3'!AB18-'Level 2'!AB18,\"*\")","v":2.895999999999999},{"$f":"IFERROR('Level 3'!AC18-'Level 2'!AC18,\"*\")","v":2.947499999999998},{"$f":"IFERROR('Level 3'!AD18-'Level 2'!AD18,\"*\")","v":3.0945},{"$f":"IFERROR('Level 3'!AE18-'Level 2'!AE18,\"*\")","v":2.9780000000000015},{"$f":"IFERROR('Level 3'!AF18-'Level 2'!AF18,\"*\")","v":3.2349999999999994},{"$f":"IFERROR('Level 3'!AG18-'Level 2'!AG18,\"*\")","v":3.759999999999998},{"$f":"IFERROR('Level 3'!AH18-'Level 2'!AH18,\"*\")","v":3.8900000000000006},{"$f":"IFERROR('Level 3'!AI18-'Level 2'!AI18,\"*\")","v":3.8549999999999969},{"$f":"IFERROR('Level 3'!AJ18-'Level 2'!AJ18,\"*\")","v":3.7199999999999989},{"$f":"IFERROR('Level 3'!AK18-'Level 2'!AK18,\"*\")","v":3.4399999999999977},{"$f":"IFERROR('Level 3'!AL18-'Level 2'!AL18,\"*\")","v":"*"}]
[{"$f":"'Level 1'!A19","v":"Latvia"},{"$f":"IFERROR('Level 3'!B19-'Level 2'!B19,\"*\")","v":1.415},{"$f":"IFERROR('Level 3'!C19-'Level 2'!C19,\"*\")","v":0.68179999999999907},{"$f":"IFERROR('Level 3'!D19-'Level 2'!D19,\"*\")","v":1.8418999999999954},{"$f":"IFERROR('Level 3'!E19-'Level 2'!E19,\"*\")","v":1.5378500000000006},{"$f":"IFERROR('Level 3'!F19-'Level 2'!F19,\"*\")","v":2.7761500000000012},{"$f":"IFERROR('Level 3'!G19-'Level 2'!G19,\"*\")","v":3.9868500000000004},{"$f":"IFERROR('Level 3'!H19-'Level 2'!H19,\"*\")","v":3.7069999999999972},{"$f":"IFERROR('Level 3'!I19-'Level 2'!I19,\"*\")","v":3.6099999999999994},{"$f":"IFERROR('Level 3'!J19-'Level 2'!J19,\"*\")","v":3.6350000000000016},{"$f":"IFERROR('Level 3'!K19-'Level 2'!K19,\"*\")","v":3.3699999999999974},{"$f":"IFERROR('Level 3'!L19-'Level 2'!L19,\"*\")","v":"*"},null,{"$f":"'Level 1'!N19","v":"Latvia"},{"$f":"IFERROR('Level 3'!O19-'Level 2'!O19,\"*\")","v":1.3149999999999995},{"$f":"IFERROR('Level 3'!P19-'Level 2'!P19,\"*\")","v":0.54010000000000069},{"$f":"IFERROR('Level 3'!Q19-'Level 2'!Q19,\"*\")","v":1.1335000000000015},{"$f":"IFERROR('Level 3'!R19-'Level 2'!R19,\"*\")","v":0.90995000000000026},{"$f":"IFERROR('Level 3'!S19-'Level 2'!S19,\"*\")","v":1.7137999999999991},{"$f":"IFERROR('Level 3'!T19-'Level 2'!T19,\"*\")","v":2.6316999999999986},{"$f":"IFERROR('Level 3'!U19-'Level 2'!U19,\"*\")","v":2.4309500000000011},{"$f":"IFERROR('Level 3'!V19-'Level 2'!V19,\"*\")","v":2.34},{"$f":"IFERROR('Level 3'!W19-'Level 2'!W19,\"*\")","v":2.3650000000000002},{"$f":"IFERROR('Level 3'!X19-'Level 2'!X19,\"*\")","v":2.0499999999999989},{"$f":"IFERROR('Level 3'!Y19-'Level 2'!Y19,\"*\")","v":"*"},null,{"$f":"'Level 1'!AA19","v":"Latvia"},{"$f":"IFERROR('Level 3'!AB19-'Level 2'!AB19,\"*\")","v":1.3149000000000006},{"$f":"IFERROR('Level 3'!AC19-'Level 2'!AC19,\"*\")","v":0.53305000000000113},{"$f":"IFERROR('Level 3'!AD19-'Level 2'!AD19,\"*\")","v":1.1264000000000003},{"$f":"IFERROR('Level 3'!AE19-'Level 2'!AE19,\"*\")","v":0.90295000000000059},{"$f":"IFERROR('Level 3'!AF19-'Level 2'!AF19,\"*\")","v":1.7209500000000002},{"$f":"IFERROR('Level 3'!AG19-'Level 2'!AG19,\"*\")","v":2.6316500000000005},{"$f":"IFERROR('Level 3'!AH19-'Level 2'!AH19,\"*\")","v":2.4238499999999998},{"$f":"IFERROR('Level 3'!AI19-'Level 2'!AI19,\"*\")","v":2.3149999999999995},{"$f":"IFERROR('Level 3'!AJ19-'Level 2'!AJ19,\"*\")","v":2.3550000000000004},{"$f":"IFERROR('Level 3'!AK19-'Level 2'!AK19,\"*\")","v":2.0399999999999991},{"$f":"IFERROR('Level 3'!AL19-'Level 2'!AL19,\"*\")","v":"*"}]
[{"$f":"'Level 1'!A20","v":"Lithuania"},{"$f":"IFERROR('Level 3'!B20-'Level 2'!B20,\"*\")","v":1.5252999999999997},{"$f":"IFERROR('Level 3'!C20-'Level 2'!C20,\"*\")","v":2.2359500000000008},{"$f":"IFERROR('Level 3'!D20-'Level 2'!D20,\"*\")","v":2.9192},{"$f":"IFERROR('Level 3'!E20-'Level 2'!E20,\"*\")","v":3.1784499999999998},{"$f":"IFERROR('Level 3'!F20-'Level 2'!F20,\"*\")","v":3.4030500000000004},{"$f":"IFERROR('Level 3'!G20-'Level 2'!G20,\"*\")","v":3.9112999999999971},{"$f":"IFERROR('Level 3'!H20-'Level 2'!H20,\"*\")","v":4.1734000000000009},{"$f":"IFERROR('Level 3'!I20-'Level 2'!I20,\"*\")","v":3.8417999999999992},{"$f":"IFERROR('Level 3'!J20-'Level 2'!J20,\"*\")","v":3.6600000000000037},{"$f":"IFERROR('Level 3'!K20-'Level 2'!K20,\"*\")","v":3.5999999999999979},{"$f":"IFERROR('Level 3'!L20-'Level 2'!L20,\"*\")","v":"*"},null,{"$f":"'Level 1'!N20","v":"Lithuania"},{"$f":"IFERROR('Level 3'!O20-'Level 2'!O20,\"*\")","v":0.99440000000000062},{"$f":"IFERROR('Level 3'!P20-'Level 2'!P20,\"*\")","v":1.508049999999999},{"$f":"IFERROR('Level 3'!Q20-'Level 2'!Q20,\"*\")","v":1.8532000000000011},{"$f":"IFERROR('Level 3'!R20-'Level 2'!R20,\"*\")","v":1.9973499999999991},{"$f":"IFERROR('Level 3'!S20-'Level 2'!S20,\"*\")","v":2.3488500000000005},{"$f":"IFERROR('Level 3'!T20-'Level 2'!T20,\"*\")","v":2.7021499999999996},{"$f":"IFERROR('Level 3'!U20-'Level 2'!U20,\"*\")","v":2.9324000000000012},{"$f":"IFERROR('Level 3'!V20-'Level 2'!V20,\"*\")","v":2.5515000000000008},{"$f":"IFERROR('Level 3'!W20-'Level 2'!W20,\"*\")","v":2.0749999999999993},{"$f":"IFERROR('Level 3'!X20-'Level 2'!X20,\"*\")","v":1.9900000000000002},{"$f":"IFERROR('Level 3'!Y20-'Level 2'!Y20,\"*\")","v":"*"},null,{"$f":"'Level 1'!AA20","v":"Lithuania"},{"$f":"IFERROR('Level 3'!AB20-'Level 2'!AB20,\"*\")","v":0.8761000000000001},{"$f":"IFERROR('Level 3'!AC20-'Level 2'!AC20,\"*\")","v":1.3577499999999993},{"$f":"IFERROR('Level 3'!AD20-'Level 2'!AD20,\"*\")","v":1.6740499999999994},{"$f":"IFERROR('Level 3'!AE20-'Level 2'!AE20,\"*\")","v":1.7960999999999991},{"$f":"IFERROR('Level 3'!AF20-'Level 2'!AF20,\"*\")","v":2.0259499999999999},{"$f":"IFERROR('Level 3'!AG20-'Level 2'!AG20,\"*\")","v":2.2721},{"$f":"IFERROR('Level 3'!AH20-'Level 2'!AH20,\"*\")","v":2.5109999999999992},{"$f":"IFERROR('Level 3'!AI20-'Level 2'!AI20,\"*\")","v":2.0924999999999994},{"$f":"IFERROR('Level 3'!AJ20-'Level 2'!AJ20,\"*\")","v":2.1099999999999994},{"$f":"IFERROR('Level 3'!AK20-'Level 2'!AK20,\"*\")","v":1.9900000000000002},{"$f":"IFERROR('Level 3'!AL20-'Level 2'!AL20,\"*\")","v":"*"}]
[{"$f":"'Level 1'!A21","v":"Luxembourg"},{"$f":"IFERROR('Level 3'!B21-'Level 2'!B21,\"*\")","v":0.89000000000000057},{"$f":"IFERROR('Level 3'!C21-'Level 2'!C21,\"*\")","v":0.9800000000000022},{"$f":"IFERROR('Level 3'!D21-'Level 2'!D21,\"*\")","v":1.3100000000000023},{"$f":"IFERROR('Level 3'!E21-'Level 2'!E21,\"*\")","v":0.95999999999999908},{"$f":"IFERROR('Level 3'!F21-'Level 2'!F21,\"*\")","v":1.1900000000000013},{"$f":"IFERROR('Level 3'!G21-'Level 2'!G21,\"*\")","v":1.1899999999999977},{"$f":"IFERROR('Level 3'!H21-'Level 2'!H21,\"*\")","v":1.2900000000000027},{"$f":"IFERROR('Level 3'!I21-'Level 2'!I21,\"*\")","v":1.1450000000000031},{"$f":"IFERROR('Level 3'!J21-'Level 2'!J21,\"*\")","v":1.3249999999999957},{"$f":"IFERROR('Level 3'!K21-'Level 2'!K21,\"*\")","v":1.17},{"$f":"IFERROR('Level 3'!L21-'Level 2'!L21,\"*\")","v":"*"},null,{"$f":"'Level 1'!N21","v":"Luxembourg"},{"$f":"IFERROR('Level 3'!O21-'Level 2'!O21,\"*\")","v":0.66999999999999993},{"$f":"IFERROR('Level 3'!P21-'Level 2'!P21,\"*\")","v":0.98499999999999943},{"$f":"IFERROR('Level 3'!Q21-'Level 2'!Q21,\"*\")","v":0.98000000000000043},{"$f":"IFERROR('Level 3'!R21-'Level 2'!R21,\"*\")","v":0.87000000000000099},{"$f":"IFERROR('Level 3'!S21-'Level 2'!S21,\"*\")","v":0.96499999999999986},{"$f":"IFERROR('Level 3'!T21-'Level 2'!T21,\"*\")","v":1.0549999999999997},{"$f":"IFERROR('Level 3'!U21-'Level 2'!U21,\"*\")","v":1.0699999999999985},{"$f":"IFERROR('Level 3'!V21-'Level 2'!V21,\"*\")","v":0.93999999999999773},{"$f":"IFERROR('Level 3'!W21-'Level 2'!W21,\"*\")","v":1.1400000000000006},{"$f":"IFERROR('Level 3'!X21-'Level 2'!X21,\"*\")","v":1.0699999999999985},{"$f":"IFERROR('Level 3'!Y21-'Level 2'!Y21,\"*\")","v":"*"},null,{"$f":"'Level 1'!AA21","v":"Luxembourg"},{"$f":"IFERROR('Level 3'!AB21-'Level 2'!AB21,\"*\")","v":0.71000000000000085},{"$f":"IFERROR('Level 3'!AC21-'Level 2'!AC21,\"*\")","v":0.88999999999999879},{"$f":"IFERROR('Level 3'!AD21-'Level 2'!AD21,\"*\")","v":1.08},{"$f":"IFERROR('Level 3'!AE21-'Level 2'!AE21,\"*\")","v":0.88499999999999979},{"$f":"IFERROR('Level 3'!AF21-'Level 2'!AF21,\"*\")","v":1.0799999999999983},{"$f":"IFERROR('Level 3'!AG21-'Level 2'!AG21,\"*\")","v":1.0500000000000025},{"$f":"IFERROR('Level 3'!AH21-'Level 2'!AH21,\"*\")","v":1.0600000000000005},{"$f":"IFERROR('Level 3'!AI21-'Level 2'!AI21,\"*\")","v":0.95999999999999908},{"$f":"IFERROR('Level 3'!AJ21-'Level 2'!AJ21,\"*\")","v":1.1550000000000011},{"$f":"IFERROR('Level 3'!AK21-'Level 2'!AK21,\"*\")","v":1.0899999999999999},{"$f":"IFERROR('Level 3'!AL21-'Level 2'!AL21,\"*\")","v":"*"}]
[{"$f":"'Level 1'!A22","v":"Hungary"},{"$f":"IFERROR('Level 3'!B22-'Level 2'!B22,\"*\")","v":1.7599999999999998},{"$f":"IFERROR('Level 3'!C22-'Level 2'!C22,\"*\")","v":2.0953499999999998},{"$f":"IFERROR('Level 3'!D22-'Level 2'!D22,\"*\")","v":2.5503999999999998},{"$f":"IFERROR('Level 3'!E22-'Level 2'!E22,\"*\")","v":3.2643500000000003},{"$f":"IFERROR('Level 3'!F22-'Level 2'!F22,\"*\")","v":3.3995000000000015},{"$f":"IFERROR('Level 3'!G22-'Level 2'!G22,\"*\")","v":3.1605500000000006},{"$f":"IFERROR('Level 3'!H22-'Level 2'!H22,\"*\")","v":2.763300000000001},{"$f":"IFERROR('Level 3'!I22-'Level 2'!I22,\"*\")","v":2.2962999999999987},{"$f":"IFERROR('Level 3'!J22-'Level 2'!J22,\"*\")","v":2.2238500000000005},{"$f":"IFERROR('Level 3'!K22-'Level 2'!K22,\"*\")","v":2.088000000000001},{"$f":"IFERROR('Level 3'!L22-'Level 2'!L22,\"*\")","v":"*"},null,{"$f":"'Level 1'!N22","v":"Hungary"},{"$f":"IFERROR('Level 3'!O22-'Level 2'!O22,\"*\")","v":1.7698},{"$f":"IFERROR('Level 3'!P22-'Level 2'!P22,\"*\")","v":2.0137},{"$f":"IFERROR('Level 3'!Q22-'Level 2'!Q22,\"*\")","v":2.4379500000000007},{"$f":"IFERROR('Level 3'!R22-'Level 2'!R22,\"*\")","v":3.0247500000000009},{"$f":"IFERROR('Level 3'!S22-'Level 2'!S22,\"*\")","v":3.1393500000000003},{"$f":"IFERROR('Level 3'!T22-'Level 2'!T22,\"*\")","v":2.953949999999999},{"$f":"IFERROR('Level 3'!U22-'Level 2'!U22,\"*\")","v":2.5169499999999996},{"$f":"IFERROR('Level 3'!V22-'Level 2'!V22,\"*\")","v":2.1136999999999997},{"$f":"IFERROR('Level 3'!W22-'Level 2'!W22,\"*\")","v":2.0812999999999997},{"$f":"IFERROR('Level 3'!X22-'Level 2'!X22,\"*\")","v":2.0326999999999993},{"$f":"IFERROR('Level 3'!Y22-'Level 2'!Y22,\"*\")","v":"*"},null,{"$f":"'Level 1'!AA22","v":"Hungary"},{"$f":"IFERROR('Level 3'!AB22-'Level 2'!AB22,\"*\")","v":1.7472999999999992},{"$f":"IFERROR('Level 3'!AC22-'Level 2'!AC22,\"*\")","v":2.0337000000000014},{"$f":"IFERROR('Level 3'!AD22-'Level 2'!AD22,\"*\")","v":2.4161499999999982},{"$f":"IFERROR('Level 3'!AE22-'Level 2'!AE22,\"*\")","v":2.9749999999999996},{"$f":"IFERROR('Level 3'!AF22-'Level 2'!AF22,\"*\")","v":3.082650000000001},{"$f":"IFERROR('Level 3'!AG22-'Level 2'!AG22,\"*\")","v":2.9097500000000007},{"$f":"IFERROR('Level 3'!AH22-'Level 2'!AH22,\"*\")","v":2.4741},{"$f":"IFERROR('Level 3'!AI22-'Level 2'!AI22,\"*\")","v":2.1253000000000011},{"$f":"IFERROR('Level 3'!AJ22-'Level 2'!AJ22,\"*\")","v":2.0593499999999985},{"$f":"IFERROR('Level 3'!AK22-'Level 2'!AK22,\"*\")","v":2.0335000000000001},{"$f":"IFERROR('Level 3'!AL22-'Level 2'!AL22,\"*\")","v":"*"}]
[{"$f":"'Level 1'!A23","v":"Netherlands"},{"$f":"IFERROR('Level 3'!B23-'Level 2'!B23,\"*\")","v":4.8500000000000014},{"$f":"IFERROR('Level 3'!C23-'Level 2'!C23,\"*\")","v":4.7750000000000021},{"$f":"IFERROR('Level 3'!D23-'Level 2'!D23,\"*\")","v":4.7399999999999984},{"$f":"IFERROR('Level 3'!E23-'Level 2'!E23,\"*\")","v":4.5449999999999982},{"$f":"IFERROR('Level 3'!F23-'Level 2'!F23,\"*\")","v":4.8250000000000028},{"$f":"IFERROR('Level 3'!G23-'Level 2'!G23,\"*\")","v":5.2399999999999949},{"$f":"IFERROR('Level 3'!H23-'Level 2'!H23,\"*\")","v":5.8599999999999994},{"$f":"IFERROR('Level 3'!I23-'Level 2'!I23,\"*\")","v":5.8199999999999967},{"$f":"IFERROR('Level 3'!J23-'Level 2'!J23,\"*\")","v":5.7999999999999972},{"$f":"IFERROR('Level 3'!K23-'Level 2'!K23,\"*\")","v":5.240000000000002},{"$f":"IFERROR('Level 3'!L23-'Level 2'!L23,\"*\")","v":"*"},null,{"$f":"'Level 1'!N23","v":"Netherlands"},{"$f":"IFERROR('Level 3'!O23-'Level 2'!O23,\"*\")","v":3.1700000000000017},{"$f":"IFERROR('Level 3'!P23-'Level 2'!P23,\"*\")","v":3.2299999999999969},{"$f":"IFERROR('Level 3'!Q23-'Level 2'!Q23,\"*\")","v":3.2899999999999991},{"$f":"IFERROR('Level 3'!R23-'Level 2'!R23,\"*\")","v":3.1049999999999969},{"$f":"IFERROR('Level 3'!S23-'Level 2'!S23,\"*\")","v":3.2749999999999986},{"$f":"IFERROR('Level 3'!T23-'Level 2'!T23,\"*\")","v":3.6400000000000006},{"$f":"IFERROR('Level 3'!U23-'Level 2'!U23,\"*\")","v":3.985000000000003},{"$f":"IFERROR('Level 3'!V23-'Level 2'!V23,\"*\")","v":3.8800000000000026},{"$f":"IFERROR('Level 3'!W23-'Level 2'!W23,\"*\")","v":3.754999999999999},{"$f":"IFERROR('Level 3'!X23-'Level 2'!X23,\"*\")","v":3.759999999999998},{"$f":"IFERROR('Level 3'!Y23-'Level 2'!Y23,\"*\")","v":"*"},null,{"$f":"'Level 1'!AA23","v":"Netherlands"},{"$f":"IFERROR('Level 3'!AB23-'Level 2'!AB23,\"*\")","v":2.8800000000000008},{"$f":"IFERROR('Level 3'!AC23-'Level 2'!AC23,\"*\")","v":"*"},{"$f":"IFERROR('Level 3'!AD23-'Level 2'!AD23,\"*\")","v":2.9400000000000013},{"$f":"IFERROR('Level 3'!AE23-'Level 2'!AE23,\"*\")","v":2.7299999999999986},{"$f":"IFERROR('Level 3'!AF23-'Level 2'!AF23,\"*\")","v":2.9849999999999994},{"$f":"IFERROR('Level 3'!AG23-'Level 2'!AG23,\"*\")","v":3.2650000000000006},{"$f":"IFERROR('Level 3'!AH23-'Level 2'!AH23,\"*\")","v":3.7100000000000009},{"$f":"IFERROR('Level 3'!AI23-'Level 2'!AI23,\"*\")","v":3.5150000000000006},{"$f":"IFERROR('Level 3'!AJ23-'Level 2'!AJ23,\"*\")","v":3.3499999999999979},{"$f":"IFERROR('Level 3'!AK23-'Level 2'!AK23,\"*\")","v":3.4399999999999977},{"$f":"IFERROR('Level 3'!AL23-'Level 2'!AL23,\"*\")","v":"*"}]
[{"$f":"'Level 1'!A24","v":"Austria"},{"$f":"IFERROR('Level 3'!B24-'Level 2'!B24,\"*\")","v":3.4899999999999984},{"$f":"IFERROR('Level 3'!C24-'Level 2'!C24,\"*\")","v":3.4249999999999972},{"$f":"IFERROR('Level 3'!D24-'Level 2'!D24,\"*\")","v":3.5700000000000003},{"$f":"IFERROR('Level 3'!E24-'Level 2'!E24,\"*\")","v":3.4549999999999983},{"$f":"IFERROR('Level 3'!F24-'Level 2'!F24,\"*\")","v":3.875},{"$f":"IFERROR('Level 3'!G24-'Level 2'!G24,\"*\")","v":4.254999999999999},{"$f":"IFERROR('Level 3'!H24-'Level 2'!H24,\"*\")","v":4.2150000000000034},{"$f":"IFERROR('Level 3'!I24-'Level 2'!I24,\"*\")","v":4.134999999999998},{"$f":"IFERROR('Level 3'!J24-'Level 2'!J24,\"*\")","v":4.0300000000000011},{"$f":"IFERROR('Level 3'!K24-'Level 2'!K24,\"*\")","v":3.9699999999999989},{"$f":"IFERROR('Level 3'!L24-'Level 2'!L24,\"*\")","v":"*"},null,{"$f":"'Level 1'!N24","v":"Austria"},{"$f":"IFERROR('Level 3'!O24-'Level 2'!O24,\"*\")","v":2.8199999999999985},{"$f":"IFERROR('Level 3'!P24-'Level 2'!P24,\"*\")","v":2.7799999999999976},{"$f":"IFERROR('Level 3'!Q24-'Level 2'!Q24,\"*\")","v":2.9350000000000023},{"$f":"IFERROR('Level 3'!R24-'Level 2'!R24,\"*\")","v":2.8350000000000009},{"$f":"IFERROR('Level 3'!S24-'Level 2'!S24,\"*\")","v":3.2099999999999973},{"$f":"IFERROR('Level 3'!T24-'Level 2'!T24,\"*\")","v":3.5150000000000006},{"$f":"IFERROR('Level 3'!U24-'Level 2'!U24,\"*\")","v":3.5200000000000031},{"$f":"IFERROR('Level 3'!V24-'Level 2'!V24,\"*\")","v":3.4299999999999997},{"$f":"IFERROR('Level 3'!W24-'Level 2'!W24,\"*\")","v":3.3500000000000014},{"$f":"IFERROR('Level 3'!X24-'Level 2'!X24,\"*\")","v":3.2000000000000011},{"$f":"IFERROR('Level 3'!Y24-'Level 2'!Y24,\"*\")","v":"*"},null,{"$f":"'Level 1'!AA24","v":"Austria"},{"$f":"IFERROR('Level 3'!AB24-'Level 2'!AB24,\"*\")","v":2.4900000000000002},{"$f":"IFERROR('Level 3'!AC24-'Level 2'!AC24,\"*\")","v":2.4499999999999993},{"$f":"IFERROR('Level 3'!AD24-'Level 2'!AD24,\"*\")","v":2.6050000000000004},{"$f":"IFERROR('Level 3'!AE24-'Level 2'!AE24,\"*\")","v":2.5050000000000008},{"$f":"IFERROR('Level 3'!AF24-'Level 2'!AF24,\"*\")","v":2.8599999999999994},{"$f":"IFERROR('Level 3'!AG24-'Level 2'!AG24,\"*\")","v":3.1099999999999994},{"$f":"IFERROR('Level 3'!AH24-'Level 2'!AH24,\"*\")","v":3.1149999999999984},{"$f":"IFERROR('Level 3'!AI24-'Level 2'!AI24,\"*\")","v":3.0499999999999972},{"$f":"IFERROR('Level 3'!AJ24-'Level 2'!AJ24,\"*\")","v":2.9299999999999997},{"$f":"IFERROR('Level 3'!AK24-'Level 2'!AK24,\"*\")","v":2.7699999999999978},{"$f":"IFERROR('Level 3'!AL24-'Level 2'!AL24,\"*\")","v":"*"}]
[{"$f":"'Level 1'!A25","v":"Poland"},{"$f":"IFERROR('Level 3'!B25-'Level 2'!B25,\"*\")","v":2.5831},{"$f":"IFERROR('Level 3'!C25-'Level 2'!C25,\"*\")","v":3.0091499999999982},{"$f":"IFERROR('Level 3'!D25-'Level 2'!D25,\"*\")","v":2.6836500000000001},{"$f":"IFERROR('Level 3'!E25-'Level 2'!E25,\"*\")","v":2.9239500000000014},{"$f":"IFERROR('Level 3'!F25-'Level 2'!F25,\"*\")","v":3.1491500000000006},{"$f":"IFERROR('Level 3'!G25-'Level 2'!G25,\"*\")","v":3.3791000000000011},{"$f":"IFERROR('Level 3'!H25-'Level 2'!H25,\"*\")","v":3.2606000000000002},{"$f":"IFERROR('Level 3'!I25-'Level 2'!I25,\"*\")","v":3.3016000000000005},{"$f":"IFERROR('Level 3'!J25-'Level 2'!J25,\"*\")","v":3.2393499999999982},{"$f":"IFERROR('Level 3'!K25-'Level 2'!K25,\"*\")","v":2.9527999999999999},{"$f":"IFERROR('Level 3'!L25-'Level 2'!L25,\"*\")","v":"*"},null,{"$f":"'Level 1'!N25","v":"Poland"},{"$f":"IFERROR('Level 3'!O25-'Level 2'!O25,\"*\")","v":2.0112000000000005},{"$f":"IFERROR('Level 3'!P25-'Level 2'!P25,\"*\")","v":2.3317999999999994},{"$f":"IFERROR('Level 3'!Q25-'Level 2'!Q25,\"*\")","v":2.1267999999999994},{"$f":"IFERROR('Level 3'!R25-'Level 2'!R25,\"*\")","v":2.3309000000000015},{"$f":"IFERROR('Level 3'!S25-'Level 2'!S25,\"*\")","v":2.5035499999999988},{"$f":"IFERROR('Level 3'!T25-'Level 2'!T25,\"*\")","v":2.7134999999999998},{"$f":"IFERROR('Level 3'!U25-'Level 2'!U25,\"*\")","v":2.5431499999999989},{"$f":"IFERROR('Level 3'!V25-'Level 2'!V25,\"*\")","v":2.5691499999999987},{"$f":"IFERROR('Level 3'!W25-'Level 2'!W25,\"*\")","v":2.5938499999999998},{"$f":"IFERROR('Level 3'!X25-'Level 2'!X25,\"*\")","v":2.0349000000000004},{"$f":"IFERROR('Level 3'!Y25-'Level 2'!Y25,\"*\")","v":"*"},null,{"$f":"'Level 1'!AA25","v":"Poland"},{"$f":"IFERROR('Level 3'!AB25-'Level 2'!AB25,\"*\")","v":"*"},{"$f":"IFERROR('Level 3'!AC25-'Level 2'!AC25,\"*\")","v":2.1401999999999983},{"$f":"IFERROR('Level 3'!AD25-'Level 2'!AD25,\"*\")","v":1.9564499999999985},{"$f":"IFERROR('Level 3'!AE25-'Level 2'!AE25,\"*\")","v":2.1105000000000018},{"$f":"IFERROR('Level 3'!AF25-'Level 2'!AF25,\"*\")","v":2.3063000000000002},{"$f":"IFERROR('Level 3'!AG25-'Level 2'!AG25,\"*\")","v":2.5472999999999999},{"$f":"IFERROR('Level 3'!AH25-'Level 2'!AH25,\"*\")","v":2.4633499999999984},{"$f":"IFERROR('Level 3'!AI25-'Level 2'!AI25,\"*\")","v":2.4914999999999985},{"$f":"IFERROR('Level 3'!AJ25-'Level 2'!AJ25,\"*\")","v":2.539200000000001},{"$f":"IFERROR('Level 3'!AK25-'Level 2'!AK25,\"*\")","v":1.9044000000000008},{"$f":"IFERROR('Level 3'!AL25-'Level 2'!AL25,\"*\")","v":"*"}]
[{"$f":"'Level 1'!A26","v":"Portugal"},{"$f":"IFERROR('Level 3'!B26-'Level 2'!B26,\"*\")","v":1.1021999999999998},{"$f":"IFERROR('Level 3'!C26-'Level 2'!C26,\"*\")","v":1.0715000000000003},{"$f":"IFERROR('Level 3'!D26-'Level 2'!D26,\"*\")","v":1.0333499999999987},{"$f":"IFERROR('Level 3'!E26-'Level 2'!E26,\"*\")","v":1.1350000000000016},{"$f":"IFERROR('Level 3'!F26-'Level 2'!F26,\"*\")","v":2.0299999999999976},{"$f":"IFERROR('Level 3'!G26-'Level 2'!G26,\"*\")","v":5.2850000000000001},{"$f":"IFERROR('Level 3'!H26-'Level 2'!H26,\"*\")","v":5.764999999999997},{"$f":"IFERROR('Level 3'!I26-'Level 2'!I26,\"*\")","v":6.18},{"$f":"IFERROR('Level 3'!J26-'Level 2'!J26,\"*\")","v":6.1400000000000041},{"$f":"IFERROR('Level 3'!K26-'Level 2'!K26,\"*\")","v":5.7199999999999989},{"$f":"IFERROR('Level 3'!L26-'Level 2'!L26,\"*\")","v":"*"},null,{"$f":"'Level 1'!N26","v":"Portugal"},{"$f":"IFERROR('Level 3'!O26-'Level 2'!O26,\"*\")","v":0.86319999999999908},{"$f":"IFERROR('Level 3'!P26-'Level 2'!P26,\"*\")","v":0.82950000000000301},{"$f":"IFERROR('Level 3'!Q26-'Level 2'!Q26,\"*\")","v":0.94295000000000329},{"$f":"IFERROR('Level 3'!R26-'Level 2'!R26,\"*\")","v":0.88649999999999807},{"$f":"IFERROR('Level 3'!S26-'Level 2'!S26,\"*\")","v":1.6149999999999984},{"$f":"IFERROR('Level 3'!T26-'Level 2'!T26,\"*\")","v":4.1350000000000016},{"$f":"IFERROR('Level 3'!U26-'Level 2'!U26,\"*\")","v":4.5949999999999989},{"$f":"IFERROR('Level 3'!V26-'Level 2'!V26,\"*\")","v":5.1499999999999986},{"$f":"IFERROR('Level 3'!W26-'Level 2'!W26,\"*\")","v":5.0850000000000009},{"$f":"IFERROR('Level 3'!X26-'Level 2'!X26,\"*\")","v":4.740000000000002},{"$f":"IFERROR('Level 3'!Y26-'Level 2'!Y26,\"*\")","v":"*"},null,{"$f":"'Level 1'!AA26","v":"Portugal"},{"$f":"IFERROR('Level 3'!AB26-'Level 2'!AB26,\"*\")","v":0.70640000000000036},{"$f":"IFERROR('Level 3'!AC26-'Level 2'!AC26,\"*\")","v":0.75349999999999895},{"$f":"IFERROR('Level 3'!AD26-'Level 2'!AD26,\"*\")","v":0.68695000000000128},{"$f":"IFERROR('Level 3'!AE26-'Level 2'!AE26,\"*\")","v":0.75350000000000072},{"$f":"IFERROR('Level 3'!AF26-'Level 2'!AF26,\"*\")","v":1.3549999999999969},{"$f":"IFERROR('Level 3'!AG26-'Level 2'!AG26,\"*\")","v":3.6000000000000014},{"$f":"IFERROR('Level 3'!AH26-'Level 2'!AH26,\"*\")","v":4.1049999999999969},{"$f":"IFERROR('Level 3'!AI26-'Level 2'!AI26,\"*\")","v":5.384999999999998},{"$f":"IFERROR('Level 3'!AJ26-'Level 2'!AJ26,\"*\")","v":4.7650000000000006},{"$f":"IFERROR('Level 3'!AK26-'Level 2'!AK26,\"*\")","v":4.620000000000001},{"$f":"IFERROR('Level 3'!AL26-'Level 2'!AL26,\"*\")","v":"*"}]
[{"$f":"'Level 1'!A27","v":"Romania"},{"$f":"IFERROR('Level 3'!B27-'Level 2'!B27,\"*\")","v":1.5357000000000003},{"$f":"IFERROR('Level 3'!C27-'Level 2'!C27,\"*\")","v":1.4898500000000006},{"$f":"IFERROR('Level 3'!D27-'Level 2'!D27,\"*\")","v":1.2532999999999994},{"$f":"IFERROR('Level 3'!E27-'Level 2'!E27,\"*\")","v":1.3651500000000008},{"$f":"IFERROR('Level 3'!F27-'Level 2'!F27,\"*\")","v":1.5149000000000008},{"$f":"IFERROR('Level 3'!G27-'Level 2'!G27,\"*\")","v":1.4710000000000001},{"$f":"IFERROR('Level 3'!H27-'Level 2'!H27,\"*\")","v":1.5985500000000012},{"$f":"IFERROR('Level 3'!I27-'Level 2'!I27,\"*\")","v":1.699049999999998},{"$f":"IFERROR('Level 3'!J27-'Level 2'!J27,\"*\")","v":1.7726000000000006},{"$f":"IFERROR('Level 3'!K27-'Level 2'!K27,\"*\")","v":1.8085000000000004},{"$f":"IFERROR('Level 3'!L27-'Level 2'!L27,\"*\")","v":"*"},null,{"$f":"'Level 1'!N27","v":"Romania"},{"$f":"IFERROR('Level 3'!O27-'Level 2'!O27,\"*\")","v":1.5175999999999998},{"$f":"IFERROR('Level 3'!P27-'Level 2'!P27,\"*\")","v":1.4800500000000003},{"$f":"IFERROR('Level 3'!Q27-'Level 2'!Q27,\"*\")","v":1.2425499999999996},{"$f":"IFERROR('Level 3'!R27-'Level 2'!R27,\"*\")","v":1.3577000000000012},{"$f":"IFERROR('Level 3'!S27-'Level 2'!S27,\"*\")","v":1.5079000000000002},{"$f":"IFERROR('Level 3'!T27-'Level 2'!T27,\"*\")","v":1.4641999999999999},{"$f":"IFERROR('Level 3'!U27-'Level 2'!U27,\"*\")","v":1.5907000000000009},{"$f":"IFERROR('Level 3'!V27-'Level 2'!V27,\"*\")","v":1.6866000000000003},{"$f":"IFERROR('Level 3'!W27-'Level 2'!W27,\"*\")","v":1.7523999999999997},{"$f":"IFERROR('Level 3'!X27-'Level 2'!X27,\"*\")","v":1.7884999999999991},{"$f":"IFERROR('Level 3'!Y27-'Level 2'!Y27,\"*\")","v":"*"},null,{"$f":"'Level 1'!AA27","v":"Romania"},{"$f":"IFERROR('Level 3'!AB27-'Level 2'!AB27,\"*\")","v":1.4879999999999995},{"$f":"IFERROR('Level 3'!AC27-'Level 2'!AC27,\"*\")","v":1.4545000000000012},{"$f":"IFERROR('Level 3'!AD27-'Level 2'!AD27,\"*\")","v":1.2165000000000008},{"$f":"IFERROR('Level 3'!AE27-'Level 2'!AE27,\"*\")","v":1.3288499999999992},{"$f":"IFERROR('Level 3'!AF27-'Level 2'!AF27,\"*\")","v":1.4701999999999984},{"$f":"IFERROR('Level 3'!AG27-'Level 2'!AG27,\"*\")","v":1.4317500000000001},{"$f":"IFERROR('Level 3'!AH27-'Level 2'!AH27,\"*\")","v":1.55565},{"$f":"IFERROR('Level 3'!AI27-'Level 2'!AI27,\"*\")","v":1.6359499999999993},{"$f":"IFERROR('Level 3'!AJ27-'Level 2'!AJ27,\"*\")","v":1.665750000000001},{"$f":"IFERROR('Level 3'!AK27-'Level 2'!AK27,\"*\")","v":1.7038999999999991},{"$f":"IFERROR('Level 3'!AL27-'Level 2'!AL27,\"*\")","v":"*"}]
[{"$f":"'Level 1'!A28","v":"Slovenia"},{"$f":"IFERROR('Level 3'!B28-'Level 2'!B28,\"*\")","v":2.8999999999999986},{"$f":"IFERROR('Level 3'!C28-'Level 2'!C28,\"*\")","v":3.6499999999999986},{"$f":"IFERROR('Level 3'!D28-'Level 2'!D28,\"*\")","v":3.634999999999998},{"$f":"IFERROR('Level 3'!E28-'Level 2'!E28,\"*\")","v":3.3595000000000041},{"$f":"IFERROR('Level 3'!F28-'Level 2'!F28,\"*\")","v":3.9200000000000017},{"$f":"IFERROR('Level 3'!G28-'Level 2'!G28,\"*\")","v":4.4499999999999993},{"$f":"IFERROR('Level 3'!H28-'Level 2'!H28,\"*\")","v":3.6200000000000045},{"$f":"IFERROR('Level 3'!I28-'Level 2'!I28,\"*\")","v":3.7100000000000009},{"$f":"IFERROR('Level 3'!J28-'Level 2'!J28,\"*\")","v":3.6050000000000004},{"$f":"IFERROR('Level 3'!K28-'Level 2'!K28,\"*\")","v":3.4599999999999991},{"$f":"IFERROR('Level 3'!L28-'Level 2'!L28,\"*\")","v":"*"},null,{"$f":"'Level 1'!N28","v":"Slovenia"},{"$f":"IFERROR('Level 3'!O28-'Level 2'!O28,\"*\")","v":2.3600000000000012},{"$f":"IFERROR('Level 3'!P28-'Level 2'!P28,\"*\")","v":2.9450000000000003},{"$f":"IFERROR('Level 3'!Q28-'Level 2'!Q28,\"*\")","v":2.7699999999999996},{"$f":"IFERROR('Level 3'!R28-'Level 2'!R28,\"*\")","v":2.9051000000000009},{"$f":"IFERROR('Level 3'!S28-'Level 2'!S28,\"*\")","v":3.379999999999999},{"$f":"IFERROR('Level 3'!T28-'Level 2'!T28,\"*\")","v":3.5350000000000001},{"$f":"IFERROR('Level 3'!U28-'Level 2'!U28,\"*\")","v":3.3200000000000003},{"$f":"IFERROR('Level 3'!V28-'Level 2'!V28,\"*\")","v":3.2650000000000006},{"$f":"IFERROR('Level 3'!W28-'Level 2'!W28,\"*\")","v":3.1050000000000004},{"$f":"IFERROR('Level 3'!X28-'Level 2'!X28,\"*\")","v":2.9999999999999982},{"$f":"IFERROR('Level 3'!Y28-'Level 2'!Y28,\"*\")","v":"*"},null,{"$f":"'Level 1'!AA28","v":"Slovenia"},{"$f":"IFERROR('Level 3'!AB28-'Level 2'!AB28,\"*\")","v":2.25},{"$f":"IFERROR('Level 3'!AC28-'Level 2'!AC28,\"*\")","v":2.7650000000000023},{"$f":"IFERROR('Level 3'!AD28-'Level 2'!AD28,\"*\")","v":2.6899999999999995},{"$f":"IFERROR('Level 3'!AE28-'Level 2'!AE28,\"*\")","v":2.7823000000000029},{"$f":"IFERROR('Level 3'!AF28-'Level 2'!AF28,\"*\")","v":2.9699999999999989},{"$f":"IFERROR('Level 3'!AG28-'Level 2'!AG28,\"*\")","v":3.2099999999999973},{"$f":"IFERROR('Level 3'!AH28-'Level 2'!AH28,\"*\")","v":3.2099999999999991},{"$f":"IFERROR('Level 3'!AI28-'Level 2'!AI28,\"*\")","v":3.4049999999999976},{"$f":"IFERROR('Level 3'!AJ28-'Level 2'!AJ28,\"*\")","v":2.9950000000000045},{"$f":"IFERROR('Level 3'!AK28-'Level 2'!AK28,\"*\")","v":2.7600000000000016},{"$f":"IFERROR('Level 3'!AL28-'Level 2'!AL28,\"*\")","v":"*"}]
[{"$f":"'Level 1'!A29","v":"Slovakia"},{"$f":"IFERROR('Level 3'!B29-'Level 2'!B29,\"*\")","v":3.6034000000000006},{"$f":"IFERROR('Level 3'!C29-'Level 2'!C29,\"*\")","v":4.2359999999999971},{"$f":"IFERROR('Level 3'!D29-'Level 2'!D29,\"*\")","v":4.4209999999999994},{"$f":"IFERROR('Level 3'!E29-'Level 2'!E29,\"*\")","v":4.2944999999999993},{"$f":"IFERROR('Level 3'!F29-'Level 2'!F29,\"*\")","v":4.6400000000000006},{"$f":"IFERROR('Level 3'!G29-'Level 2'!G29,\"*\")","v":4.6350000000000051},{"$f":"IFERROR('Level 3'!H29-'Level 2'!H29,\"*\")","v":4.7600000000000016},{"$f":"IFERROR('Level 3'!I29-'Level 2'!I29,\"*\")","v":4.754999999999999},{"$f":"IFERROR('Level 3'!J29-'Level 2'!J29,\"*\")","v":4.8149999999999977},{"$f":"IFERROR('Level 3'!K29-'Level 2'!K29,\"*\")","v":4.68},{"$f":"IFERROR('Level 3'!L29-'Level 2'!L29,\"*\")","v":"*"},null,{"$f":"'Level 1'!N29","v":"Slovakia"},{"$f":"IFERROR('Level 3'!O29-'Level 2'!O29,\"*\")","v":1.8384},{"$f":"IFERROR('Level 3'!P29-'Level 2'!P29,\"*\")","v":1.9803499999999996},{"$f":"IFERROR('Level 3'!Q29-'Level 2'!Q29,\"*\")","v":2.0785},{"$f":"IFERROR('Level 3'!R29-'Level 2'!R29,\"*\")","v":1.9560000000000013},{"$f":"IFERROR('Level 3'!S29-'Level 2'!S29,\"*\")","v":2.2550000000000008},{"$f":"IFERROR('Level 3'!T29-'Level 2'!T29,\"*\")","v":2.3849999999999998},{"$f":"IFERROR('Level 3'!U29-'Level 2'!U29,\"*\")","v":2.3550000000000004},{"$f":"IFERROR('Level 3'!V29-'Level 2'!V29,\"*\")","v":2.3800000000000008},{"$f":"IFERROR('Level 3'!W29-'Level 2'!W29,\"*\")","v":2.2949999999999999},{"$f":"IFERROR('Level 3'!X29-'Level 2'!X29,\"*\")","v":2.129999999999999},{"$f":"IFERROR('Level 3'!Y29-'Level 2'!Y29,\"*\")","v":"*"},null,{"$f":"'Level 1'!AA29","v":"Slovakia"},{"$f":"IFERROR('Level 3'!AB29-'Level 2'!AB29,\"*\")","v":1.813699999999999},{"$f":"IFERROR('Level 3'!AC29-'Level 2'!AC29,\"*\")","v":1.8513499999999983},{"$f":"IFERROR('Level 3'!AD29-'Level 2'!AD29,\"*\")","v":2.0829999999999984},{"$f":"IFERROR('Level 3'!AE29-'Level 2'!AE29,\"*\")","v":1.9370000000000012},{"$f":"IFERROR('Level 3'!AF29-'Level 2'!AF29,\"*\")","v":2.384999999999998},{"$f":"IFERROR('Level 3'!AG29-'Level 2'!AG29,\"*\")","v":2.2800000000000011},{"$f":"IFERROR('Level 3'!AH29-'Level 2'!AH29,\"*\")","v":2.4649999999999999},{"$f":"IFERROR('Level 3'!AI29-'Level 2'!AI29,\"*\")","v":2.5350000000000001},{"$f":"IFERROR('Level 3'!AJ29-'Level 2'!AJ29,\"*\")","v":2.4299999999999997},{"$f":"IFERROR('Level 3'!AK29-'Level 2'!AK29,\"*\")","v":2.2400000000000002},{"$f":"IFERROR('Level 3'!AL29-'Level 2'!AL29,\"*\")","v":"*"}]
[{"$f":"'Level 1'!A30","v":"Sweden"},{"$f":"IFERROR('Level 3'!B30-'Level 2'!B30,\"*\")","v":6.602649999999997},{"$f":"IFERROR('Level 3'!C30-'Level 2'!C30,\"*\")","v":7.0000999999999998},{"$f":"IFERROR('Level 3'!D30-'Level 2'!D30,\"*\")","v":7.3329999999999984},{"$f":"IFERROR('Level 3'!E30-'Level 2'!E30,\"*\")","v":8.7812999999999946},{"$f":"IFERROR('Level 3'!F30-'Level 2'!F30,\"*\")","v":9.893100000000004},{"$f":"IFERROR('Level 3'!G30-'Level 2'!G30,\"*\")","v":10.936999999999998},{"$f":"IFERROR('Level 3'!H30-'Level 2'!H30,\"*\")","v":9.6246500000000026},{"$f":"IFERROR('Level 3'!I30-'Level 2'!I30,\"*\")","v":9.4738500000000059},{"$f":"IFERROR('Level 3'!J30-'Level 2'!J30,\"*\")","v":9.9360499999999945},{"$f":"IFERROR('Level 3'!K30-'Level 2'!K30,\"*\")","v":9.1706999999999965},{"$f":"IFERROR('Level 3'!L30-'Level 2'!L30,\"*\")","v":"*"},null,{"$f":"'Level 1'!N30","v":"Sweden"},{"$f":"IFERROR('Level 3'!O30-'Level 2'!O30,\"*\")","v":5.0677999999999983},{"$f":"IFERROR('Level 3'!P30-'Level 2'!P30,\"*\")","v":5.4019000000000013},{"$f":"IFERROR('Level 3'!Q30-'Level 2'!Q30,\"*\")","v":5.0393000000000008},{"$f":"IFERROR('Level 3'!R30-'Level 2'!R30,\"*\")","v":5.7361000000000004},{"$f":"IFERROR('Level 3'!S30-'Level 2'!S30,\"*\")","v":6.53125},{"$f":"IFERROR('Level 3'!T30-'Level 2'!T30,\"*\")","v":6.7821500000000015},{"$f":"IFERROR('Level 3'!U30-'Level 2'!U30,\"*\")","v":6.8101500000000001},{"$f":"IFERROR('Level 3'!V30-'Level 2'!V30,\"*\")","v":6.4523499999999956},{"$f":"IFERROR('Level 3'!W30-'Level 2'!W30,\"*\")","v":6.4017000000000017},{"$f":"IFERROR('Level 3'!X30-'Level 2'!X30,\"*\")","v":6.2714999999999996},{"$f":"IFERROR('Level 3'!Y30-'Level 2'!Y30,\"*\")","v":"*"},null,{"$f":"'Level 1'!AA30","v":"Sweden"},{"$f":"IFERROR('Level 3'!AB30-'Level 2'!AB30,\"*\")","v":4.9064000000000014},{"$f":"IFERROR('Level 3'!AC30-'Level 2'!AC30,\"*\")","v":5.1936},{"$f":"IFERROR('Level 3'!AD30-'Level 2'!AD30,\"*\")","v":4.684899999999999},{"$f":"IFERROR('Level 3'!AE30-'Level 2'!AE30,\"*\")","v":5.3582000000000001},{"$f":"IFERROR('Level 3'!AF30-'Level 2'!AF30,\"*\")","v":5.9795999999999978},{"$f":"IFERROR('Level 3'!AG30-'Level 2'!AG30,\"*\")","v":6.2872500000000002},{"$f":"IFERROR('Level 3'!AH30-'Level 2'!AH30,\"*\")","v":6.2026499999999984},{"$f":"IFERROR('Level 3'!AI30-'Level 2'!AI30,\"*\")","v":5.7636000000000003},{"$f":"IFERROR('Level 3'!AJ30-'Level 2'!AJ30,\"*\")","v":5.782199999999996},{"$f":"IFERROR('Level 3'!AK30-'Level 2'!AK30,\"*\")","v":5.6491000000000007},{"$f":"IFERROR('Level 3'!AL30-'Level 2'!AL30,\"*\")","v":"*"}]
[{"$f":"'Level 1'!A31","v":"United Kingdom"},{"$f":"IFERROR('Level 3'!B31-'Level 2'!B31,\"*\")","v":0.51160000000000139},{"$f":"IFERROR('Level 3'!C31-'Level 2'!C31,\"*\")","v":0.61295000000000144},{"$f":"IFERROR('Level 3'!D31-'Level 2'!D31,\"*\")","v":0.63239999999999874},{"$f":"IFERROR('Level 3'!E31-'Level 2'!E31,\"*\")","v":0.61604999999999777},{"$f":"IFERROR('Level 3'!F31-'Level 2'!F31,\"*\")","v":0.70865000000000045},{"$f":"IFERROR('Level 3'!G31-'Level 2'!G31,\"*\")","v":0.8332499999999996},{"$f":"IFERROR('Level 3'!H31-'Level 2'!H31,\"*\")","v":0.90690000000000026},{"$f":"IFERROR('Level 3'!I31-'Level 2'!I31,\"*\")","v":1.1616999999999997},{"$f":"IFERROR('Level 3'!J31-'Level 2'!J31,\"*\")","v":1.1992500000000028},{"$f":"IFERROR('Level 3'!K31-'Level 2'!K31,\"*\")","v":1.0146000000000015},{"$f":"IFERROR('Level 3'!L31-'Level 2'!L31,\"*\")","v":"*"},null,{"$f":"'Level 1'!N31","v":"United Kingdom"},{"$f":"IFERROR('Level 3'!O31-'Level 2'!O31,\"*\")","v":0.47119999999999962},{"$f":"IFERROR('Level 3'!P31-'Level 2'!P31,\"*\")","v":0.53790000000000049},{"$f":"IFERROR('Level 3'!Q31-'Level 2'!Q31,\"*\")","v":0.56060000000000088},{"$f":"IFERROR('Level 3'!R31-'Level 2'!R31,\"*\")","v":0.54555000000000042},{"$f":"IFERROR('Level 3'!S31-'Level 2'!S31,\"*\")","v":0.62800000000000011},{"$f":"IFERROR('Level 3'!T31-'Level 2'!T31,\"*\")","v":0.72204999999999941},{"$f":"IFERROR('Level 3'!U31-'Level 2'!U31,\"*\")","v":0.74194999999999922},{"$f":"IFERROR('Level 3'!V31-'Level 2'!V31,\"*\")","v":0.82530000000000214},{"$f":"IFERROR('Level 3'!W31-'Level 2'!W31,\"*\")","v":0.85419999999999874},{"$f":"IFERROR('Level 3'!X31-'Level 2'!X31,\"*\")","v":0.73209999999999908},{"$f":"IFERROR('Level 3'!Y31-'Level 2'!Y31,\"*\")","v":"*"},null,{"$f":"'Level 1'!AA31","v":"United Kingdom"},{"$f":"IFERROR('Level 3'!AB31-'Level 2'!AB31,\"*\")","v":0.40779999999999994},{"$f":"IFERROR('Level 3'!AC31-'Level 2'!AC31,\"*\")","v":0.50769999999999982},{"$f":"IFERROR('Level 3'!AD31-'Level 2'!AD31,\"*\")","v":0.49545000000000172},{"$f":"IFERROR('Level 3'!AE31-'Level 2'!AE31,\"*\")","v":0.48010000000000019},{"$f":"IFERROR('Level 3'!AF31-'Level 2'!AF31,\"*\")","v":0.54160000000000252},{"$f":"IFERROR('Level 3'!AG31-'Level 2'!AG31,\"*\")","v":0.6418000000000017},{"$f":"IFERROR('Level 3'!AH31-'Level 2'!AH31,\"*\")","v":0.65939999999999799},{"$f":"IFERROR('Level 3'!AI31-'Level 2'!AI31,\"*\")","v":0.71340000000000003},{"$f":"IFERROR('Level 3'!AJ31-'Level 2'!AJ31,\"*\")","v":0.77829999999999799},{"$f":"IFERROR('Level 3'!AK31-'Level 2'!AK31,\"*\")","v":0.68079999999999963},{"$f":"IFERROR('Level 3'!AL31-'Level 2'!AL31,\"*\")","v":"*"}]

{"sheet":"Baggrundsdata - HICP - deflator","index":8,"n_rows":98,"n_cols":31,"rows_kept":98,"cut":false,"hidden":false,"merged":[[5,1,5,8],[6,1,6,8],[8,1,8,8],[10,1,10,8]]}
[null,"Det EU harmoniserede forbrugerprisindeks HICP for forskellige basisår"]
[null,"NAVN PÅ ARK:","Baggrundsdata - HICP - deflator"]
[null,"Data hentes fra:","Kun baggrundsdata længere nede på HICP arket benyttes"]
[]
[null,"Sådan bruges arket:"]
[null,{"$f":"\"Arket 'Baggrundsdata -HICP - deflator' viser deflatoren for det enkelte land i det enkte år for \"&C18&\" til \"&I18&\".\nBasisået retter sig efter de valg der er truffuet i akrene '\"&'Udvalgte lande, 10 års oversigt'!E1&\"' og ' \"&'Alle lande, valgt år'!F1 &\"'\"","v":"Arket 'Baggrundsdata -HICP - deflator' viser deflatoren for det enkelte land i det enkte år for  til .\nBasisået retter sig efter de valg der er truffuet i akrene 'Udvalgte lande, 10 års oversigt' og ' Alle lande, valgt år'"}]
[null,"Nederst i arket er der en baggrundsdata tabel men rådata fra eurostat. De øverste tabeller er bearbejdet og fungerer som baggrundsdata for deflatortabellerne (de røde) i ovennævnte ark.\nDer træffes ingen valg i arket, det bruges som baggrundsdata og til at kontrollere at man har trukket korrekt data."]
[]
[null,"HICP er hentet for samtlige varergrupper for hvert enkelt land og for alle forbrugere"]
[null,"Bemærk:"]
[null,"Indtil nu fungerer HICP-deflatoren for et interval på 7 år. Dvs. at man kan hente ny data hvis man ønsker 7 andre år og indsætte dem i baggrundsdata. Deflatoren vil automatisk opdatere. Ønsker man et længere tidsinterval må man udvide formlen for deflator tabellen."]
[]
[]
[]
[]
[]
[null,{"$f":"\"Baggrundsdata til tabel B i arket '\"&'Baggrundstabeller for alle land'!F1&\"'\"","v":"Baggrundsdata til tabel B i arket 'Baggrundstabeller for alle lande, valgt år'"},null,null,null,null,null,null,null,null,null,null,null,null,null,null,null,{"$f":"\"Baggrundsdata til tabel B i arket '\"&'Udvalgte lande, 10 års oversigt'!E1&\"'\"","v":"Baggrundsdata til tabel B i arket 'Udvalgte lande, 10 års oversigt'"}]
[null,"Baggrundstal til tabel B: Forbrugerprisindeks HICP-deflator for forskellige basisår",null,null,null,null,null,null,null,null,null,null,null,null,null,null,null,"Baggrundstal til tabel B: Forbrugerprisindeks HICP-deflator for forskellige basisår"]
[]
[null,"Vælg Basisår",{"$f":"'Alle lande, valgt år'!F14","v":2016},null,null,null,null,null,null,null,null,null,null,null,null,null,null,"Valgt Basisår",{"$f":"'Udvalgte lande, 10 års oversigt'!$E$14","v":2016}]
[]
[null,"Dansk",{"$f":"'Baggrundsdata - HICP - deflator'!B69","v":"2007"},{"$f":"C22+1","v":2008},2009,2010,2011,2012,2013,{"$f":"I22+1","v":2014},{"$f":"J22+1","v":2015},{"$f":"K22+1","v":2016},{"$f":"L22+1","v":2017},null,"Tjek: Er HICP trukket for de korrekte lande (jf.  level 1)",null,null,"Dansk",{"$f":"'Baggrundsdata - HICP - deflator'!C22","v":"2007"},{"$f":"'Baggrundsdata - HICP - deflator'!D22","v":2008},{"$f":"'Baggrundsdata - HICP - deflator'!E22","v":2009},{"$f":"'Baggrundsdata - HICP - deflator'!F22","v":2010},{"$f":"'Baggrundsdata - HICP - deflator'!G22","v":2011},{"$f":"'Baggrundsdata - HICP - deflator'!H22","v":2012},{"$f":"'Baggrundsdata - HICP - deflator'!I22","v":2013},{"$f":"'Baggrundsdata - HICP - deflator'!J22","v":2014},{"$f":"'Baggrundsdata - HICP - deflator'!K22","v":2015},{"$f":"'Baggrundsdata - HICP - deflator'!L22","v":2016},{"$f":"'Baggrundsdata - HICP - deflator'!M22","v":2017},null,"Tjek: Er BVT trukket for de korrekte lande (jf liste på forsiden)"]
[null,{"$f":"IF(A70=\"European Union (28 countries)\",\"EU-28\",IF(A70=\"European Union (27 countries)\",\"EU-27\",IF(A70=\"Euro area (EA11-2000, EA12-2006, EA13-2007, EA15-2008, EA16-2010, EA17-2013, EA18)\",\"EU-området\",IF(A70=\"Belgium\",\"Belgien\",IF(A70=\"Bulgaria\",\"Bulgarien\",IF(A70=\"czech republic\",\"Tjekkiet\",IF(A70=\"Denmark\",\"Danmark\",IF(A70=\"Germany (until 1990 former territory of the FRG)\",\"Tyskland\",IF(A70=\"Estonia\",\"Estland\",IF(A70=\"Ireland\",\"Irland\",IF(A70=\"Greece\",\"Grækenland\",IF(A70=\"Spain\",\"Spanien\",IF(A70=\"france\",\"Frankrig\",IF(A70=\"Croatia\",\"Kroatien\",IF(A70=\"italy\",\"Italien\",IF(A70=\"Cyprus\",\"Cypern\",IF(A70=\"Latvia\",\"Letland\",IF(A70=\"Lithuania\",\"Litaun\",IF(A70=\"Luxembourg\",\"luxembourg\",IF(A70=\"Hungary\",\"Ungarn\",IF(A70=\"Malta\",\"Malta\",IF(A70=\"Netherlands\",\"Holland\",IF(A70=\"Austria\",\"Østrig\",IF(A70=\"Poland\",\"Polen\",IF(A70=\"portugal\",\"Portugal\",IF(A70=\"Romania\",\"Rumænien\",IF(A70=\"Slovenia\",\"Slovenien\",IF(A70=\"slovakia\",\"Slovakiet\",IF(A70=\"Finland\",\"Finland\",IF(A70=\"sweden\",\"Sverige\",IF(A70=\"United kingdom\",\"UK\",IF(A70=\"liechtenstein\",\"Liechtenstein\",IF(A70=\"Norway\",\"Norge\",IF(A70=\"Montenegro\",\"Montenegro\",IF(A70=\"Former Yugoslav Republic of Macedonia, the\",\"Republikken Makedonien\",IF(A70=\"Serbia\",\"Serbien\",IF(A70=\"Turkey\",\"Tyrkiet\",IF(A70=\"Bosnia and Herzegovina\",\"Bosnien-Hercegovina\",IF(A70=\"Kosovo (under United Nations Security Council Resolution 1244/99)\",\"Kosovo\",IF(A70=\"New Country\",\"Nyt land\",0))))))))))))))))))))))))))))))))))))))))","v":"EU-28"},{"$f":"IFERROR('Baggrundsdata - HICP - deflator'!B70/IF($M$22=$C$20,$L70,IF($L$22=$C$20,$K70,IF($K$22=$C$20,$J70,IF($J$22=$C$20,$I70,IF($I$22=$C$20,'Baggrundsdata - HICP - deflator'!$H70,IF($H$22=$C$20,'Baggrundsdata - HICP - deflator'!$G70,IF($C$20=$G$22,'Baggrundsdata - HICP - deflator'!$F70,IF($F$22=$C$20,'Baggrundsdata - HICP - deflator'!$E70,IF($E$22=$C$20,'Baggrundsdata - HICP - deflator'!$D70,IF($D$22=$C$20,'Baggrundsdata - HICP - deflator'!$C70,IF('Baggrundsdata - HICP - deflator'!$C$22='Baggrundsdata - HICP - deflator'!$C$20,'Baggrundsdata - HICP - deflator'!$B70,\"*\"))))))))))),\"*\")","v":0.86658665000000012},{"$f":"IFERROR('Baggrundsdata - HICP - deflator'!C70/IF($M$22=$C$20,$L70,IF($L$22=$C$20,$K70,IF($K$22=$C$20,$J70,IF($J$22=$C$20,$I70,IF($I$22=$C$20,'Baggrundsdata - HICP - deflator'!$H70,IF($H$22=$C$20,'Baggrundsdata - HICP - deflator'!$G70,IF($C$20=$G$22,'Baggrundsdata - HICP - deflator'!$F70,IF($F$22=$C$20,'Baggrundsdata - HICP - deflator'!$E70,IF($E$22=$C$20,'Baggrundsdata - HICP - deflator'!$D70,IF($D$22=$C$20,'Baggrundsdata - HICP - deflator'!$C70,IF('Baggrundsdata - HICP - deflator'!$C$22='Baggrundsdata - HICP - deflator'!$C$20,'Baggrundsdata - HICP - deflator'!$B70,\"*\"))))))))))),\"*\")","v":0.89828982000000002},{"$f":"IFERROR('Baggrundsdata - HICP - deflator'!D70/IF($M$22=$C$20,$L70,IF($L$22=$C$20,$K70,IF($K$22=$C$20,$J70,IF($J$22=$C$20,$I70,IF($I$22=$C$20,'Baggrundsdata - HICP - deflator'!$H70,IF($H$22=$C$20,'Baggrundsdata - HICP - deflator'!$G70,IF($C$20=$G$22,'Baggrundsdata - HICP - deflator'!$F70,IF($F$22=$C$20,'Baggrundsdata - HICP - deflator'!$E70,IF($E$22=$C$20,'Baggrundsdata - HICP - deflator'!$D70,IF($D$22=$C$20,'Baggrundsdata - HICP - deflator'!$C70,IF('Baggrundsdata - HICP - deflator'!$C$22='Baggrundsdata - HICP - deflator'!$C$20,'Baggrundsdata - HICP - deflator'!$B70,\"*\"))))))))))),\"*\")","v":0.90709070000000003},{"$f":"IFERROR('Baggrundsdata - HICP - deflator'!E70/IF($M$22=$C$20,$L70,IF($L$22=$C$20,$K70,IF($K$22=$C$20,$J70,IF($J$22=$C$20,$I70,IF($I$22=$C$20,'Baggrundsdata - HICP - deflator'!$H70,IF($H$22=$C$20,'Baggrundsdata - HICP - deflator'!$G70,IF($C$20=$G$22,'Baggrundsdata - HICP - deflator'!$F70,IF($F$22=$C$20,'Baggrundsdata - HICP - deflator'!$E70,IF($E$22=$C$20,'Baggrundsdata - HICP - deflator'!$D70,IF($D$22=$C$20,'Baggrundsdata - HICP - deflator'!$C70,IF('Baggrundsdata - HICP - deflator'!$C$22='Baggrundsdata - HICP - deflator'!$C$20,'Baggrundsdata - HICP - deflator'!$B70,\"*\"))))))))))),\"*\")","v":0.92599259000000012},{"$f":"IFERROR('Baggrundsdata - HICP - deflator'!F70/IF($M$22=$C$20,$L70,IF($L$22=$C$20,$K70,IF($K$22=$C$20,$J70,IF($J$22=$C$20,$I70,IF($I$22=$C$20,'Baggrundsdata - HICP - deflator'!$H70,IF($H$22=$C$20,'Baggrundsdata - HICP - deflator'!$G70,IF($C$20=$G$22,'Baggrundsdata - HICP - deflator'!$F70,IF($F$22=$C$20,'Baggrundsdata - HICP - deflator'!$E70,IF($E$22=$C$20,'Baggrundsdata - HICP - deflator'!$D70,IF($D$22=$C$20,'Baggrundsdata - HICP - deflator'!$C70,IF('Baggrundsdata - HICP - deflator'!$C$22='Baggrundsdata - HICP - deflator'!$C$20,'Baggrundsdata - HICP - deflator'!$B70,\"*\"))))))))))),\"*\")","v":0.95469545999999994},{"$f":"IFERROR('Baggrundsdata - HICP - deflator'!G70/IF($M$22=$C$20,$L70,IF($L$22=$C$20,$K70,IF($K$22=$C$20,$J70,IF($J$22=$C$20,$I70,IF($I$22=$C$20,'Baggrundsdata - HICP - deflator'!$H70,IF($H$22=$C$20,'Baggrundsdata - HICP - deflator'!$G70,IF($C$20=$G$22,'Baggrundsdata - HICP - deflator'!$F70,IF($F$22=$C$20,'Baggrundsdata - HICP - deflator'!$E70,IF($E$22=$C$20,'Baggrundsdata - HICP - deflator'!$D70,IF($D$22=$C$20,'Baggrundsdata - HICP - deflator'!$C70,IF('Baggrundsdata - HICP - deflator'!$C$22='Baggrundsdata - HICP - deflator'!$C$20,'Baggrundsdata - HICP - deflator'!$B70,\"*\"))))))))))),\"*\")","v":0.97999798999999999},{"$f":"IFERROR('Baggrundsdata - HICP - deflator'!H70/IF($M$22=$C$20,$L70,IF($L$22=$C$20,$K70,IF($K$22=$C$20,$J70,IF($J$22=$C$20,$I70,IF($I$22=$C$20,'Baggrundsdata - HICP - deflator'!$H70,IF($H$22=$C$20,'Baggrundsdata - HICP - deflator'!$G70,IF($C$20=$G$22,'Baggrundsdata - HICP - deflator'!$F70,IF($F$22=$C$20,'Baggrundsdata - HICP - deflator'!$E70,IF($E$22=$C$20,'Baggrundsdata - HICP - deflator'!$D70,IF($D$22=$C$20,'Baggrundsdata - HICP - deflator'!$C70,IF('Baggrundsdata - HICP - deflator'!$C$22='Baggrundsdata - HICP - deflator'!$C$20,'Baggrundsdata - HICP - deflator'!$B70,\"*\"))))))))))),\"*\")","v":0.99479947000000002},{"$f":"IFERROR('Baggrundsdata - HICP - deflator'!I70/IF($M$22=$C$20,$L70,IF($L$22=$C$20,$K70,IF($K$22=$C$20,$J70,IF($J$22=$C$20,$I70,IF($I$22=$C$20,'Baggrundsdata - HICP - deflator'!$H70,IF($H$22=$C$20,'Baggrundsdata - HICP - deflator'!$G70,IF($C$20=$G$22,'Baggrundsdata - HICP - deflator'!$F70,IF($F$22=$C$20,'Baggrundsdata - HICP - deflator'!$E70,IF($E$22=$C$20,'Baggrundsdata - HICP - deflator'!$D70,IF($D$22=$C$20,'Baggrundsdata - HICP - deflator'!$C70,IF('Baggrundsdata - HICP - deflator'!$C$22='Baggrundsdata - HICP - deflator'!$C$20,'Baggrundsdata - HICP - deflator'!$B70,\"*\"))))))))))),\"*\")","v":1.0002000100000001},{"$f":"IFERROR('Baggrundsdata - HICP - deflator'!J70/IF($M$22=$C$20,$L70,IF($L$22=$C$20,$K70,IF($K$22=$C$20,$J70,IF($J$22=$C$20,$I70,IF($I$22=$C$20,'Baggrundsdata - HICP - deflator'!$H70,IF($H$22=$C$20,'Baggrundsdata - HICP - deflator'!$G70,IF($C$20=$G$22,'Baggrundsdata - HICP - deflator'!$F70,IF($F$22=$C$20,'Baggrundsdata - HICP - deflator'!$E70,IF($E$22=$C$20,'Baggrundsdata - HICP - deflator'!$D70,IF($D$22=$C$20,'Baggrundsdata - HICP - deflator'!$C70,IF('Baggrundsdata - HICP - deflator'!$C$22='Baggrundsdata - HICP - deflator'!$C$20,'Baggrundsdata - HICP - deflator'!$B70,\"*\"))))))))))),\"*\")","v":1.0001},{"$f":"IFERROR('Baggrundsdata - HICP - deflator'!K70/IF($M$22=$C$20,$L70,IF($L$22=$C$20,$K70,IF($K$22=$C$20,$J70,IF($J$22=$C$20,$I70,IF($I$22=$C$20,'Baggrundsdata - HICP - deflator'!$H70,IF($H$22=$C$20,'Baggrundsdata - HICP - deflator'!$G70,IF($C$20=$G$22,'Baggrundsdata - HICP - deflator'!$F70,IF($F$22=$C$20,'Baggrundsdata - HICP - deflator'!$E70,IF($E$22=$C$20,'Baggrundsdata - HICP - deflator'!$D70,IF($D$22=$C$20,'Baggrundsdata - HICP - deflator'!$C70,IF('Baggrundsdata - HICP - deflator'!$C$22='Baggrundsdata - HICP - deflator'!$C$20,'Baggrundsdata - HICP - deflator'!$B70,\"*\"))))))))))),\"*\")","v":1},{"$f":"IFERROR('Baggrundsdata - HICP - deflator'!L70/IF($M$22=$C$20,$L70,IF($L$22=$C$20,$K70,IF($K$22=$C$20,$J70,IF($J$22=$C$20,$I70,IF($I$22=$C$20,'Baggrundsdata - HICP - deflator'!$H70,IF($H$22=$C$20,'Baggrundsdata - HICP - deflator'!$G70,IF($C$20=$G$22,'Baggrundsdata - HICP - deflator'!$F70,IF($F$22=$C$20,'Baggrundsdata - HICP - deflator'!$E70,IF($E$22=$C$20,'Baggrundsdata - HICP - deflator'!$D70,IF($D$22=$C$20,'Baggrundsdata - HICP - deflator'!$C70,IF('Baggrundsdata - HICP - deflator'!$C$22='Baggrundsdata - HICP - deflator'!$C$20,'Baggrundsdata - HICP - deflator'!$B70,\"*\"))))))))))),\"*\")","v":0},null,{"$f":"IF(A70='Level 1'!A52,\"sand\",\"falsk\")","v":"sand"},null,null,"EU-28",{"$f":"IFERROR('Baggrundsdata - HICP - deflator'!B70/IF($AC$22=$S$20,$L70,IF($AB$22=$S$20,$K70,IF($AA$22=$S$20,$J70,IF($Z$22=$S$20,$I$70,IF($Y$22=$S$20,'Baggrundsdata - HICP - deflator'!$H70,IF($X$22=$S$20,'Baggrundsdata - HICP - deflator'!$G70,IF($S$20=$W$22,'Baggrundsdata - HICP - deflator'!$F70,IF($V$22=$S$20,'Baggrundsdata - HICP - deflator'!$E70,IF($U$22=$S$20,'Baggrundsdata - HICP - deflator'!$D70,IF($T$22=$S$20,'Baggrundsdata - HICP - deflator'!$C70,IF($S$22=$S$20,'Baggrundsdata - HICP - deflator'!$B70,\"*\"))))))))))),\"*\")","v":0.86658665000000012},{"$f":"IFERROR('Baggrundsdata - HICP - deflator'!C70/IF($AC$22=$S$20,$L70,IF($AB$22=$S$20,$K70,IF($AA$22=$S$20,$J70,IF($Z$22=$S$20,$I$70,IF($Y$22=$S$20,'Baggrundsdata - HICP - deflator'!$H70,IF($X$22=$S$20,'Baggrundsdata - HICP - deflator'!$G70,IF($S$20=$W$22,'Baggrundsdata - HICP - deflator'!$F70,IF($V$22=$S$20,'Baggrundsdata - HICP - deflator'!$E70,IF($U$22=$S$20,'Baggrundsdata - HICP - deflator'!$D70,IF($T$22=$S$20,'Baggrundsdata - HICP - deflator'!$C70,IF($S$22=$S$20,'Baggrundsdata - HICP - deflator'!$B70,\"*\"))))))))))),\"*\")","v":0.89828982000000002},{"$f":"IFERROR('Baggrundsdata - HICP - deflator'!D70/IF($AC$22=$S$20,$L70,IF($AB$22=$S$20,$K70,IF($AA$22=$S$20,$J70,IF($Z$22=$S$20,$I$70,IF($Y$22=$S$20,'Baggrundsdata - HICP - deflator'!$H70,IF($X$22=$S$20,'Baggrundsdata - HICP - deflator'!$G70,IF($S$20=$W$22,'Baggrundsdata - HICP - deflator'!$F70,IF($V$22=$S$20,'Baggrundsdata - HICP - deflator'!$E70,IF($U$22=$S$20,'Baggrundsdata - HICP - deflator'!$D70,IF($T$22=$S$20,'Baggrundsdata - HICP - deflator'!$C70,IF($S$22=$S$20,'Baggrundsdata - HICP - deflator'!$B70,\"*\"))))))))))),\"*\")","v":0.90709070000000003},{"$f":"IFERROR('Baggrundsdata - HICP - deflator'!E70/IF($AC$22=$S$20,$L70,IF($AB$22=$S$20,$K70,IF($AA$22=$S$20,$J70,IF($Z$22=$S$20,$I$70,IF($Y$22=$S$20,'Baggrundsdata - HICP - deflator'!$H70,IF($X$22=$S$20,'Baggrundsdata - HICP - deflator'!$G70,IF($S$20=$W$22,'Baggrundsdata - HICP - deflator'!$F70,IF($V$22=$S$20,'Baggrundsdata - HICP - deflator'!$E70,IF($U$22=$S$20,'Baggrundsdata - HICP - deflator'!$D70,IF($T$22=$S$20,'Baggrundsdata - HICP - deflator'!$C70,IF($S$22=$S$20,'Baggrundsdata - HICP - deflator'!$B70,\"*\"))))))))))),\"*\")","v":0.92599259000000012},{"$f":"IFERROR('Baggrundsdata - HICP - deflator'!F70/IF($AC$22=$S$20,$L70,IF($AB$22=$S$20,$K70,IF($AA$22=$S$20,$J70,IF($Z$22=$S$20,$I$70,IF($Y$22=$S$20,'Baggrundsdata - HICP - deflator'!$H70,IF($X$22=$S$20,'Baggrundsdata - HICP - deflator'!$G70,IF($S$20=$W$22,'Baggrundsdata - HICP - deflator'!$F70,IF($V$22=$S$20,'Baggrundsdata - HICP - deflator'!$E70,IF($U$22=$S$20,'Baggrundsdata - HICP - deflator'!$D70,IF($T$22=$S$20,'Baggrundsdata - HICP - deflator'!$C70,IF($S$22=$S$20,'Baggrundsdata - HICP - deflator'!$B70,\"*\"))))))))))),\"*\")","v":0.95469545999999994},{"$f":"IFERROR('Baggrundsdata - HICP - deflator'!G70/IF($AC$22=$S$20,$L70,IF($AB$22=$S$20,$K70,IF($AA$22=$S$20,$J70,IF($Z$22=$S$20,$I$70,IF($Y$22=$S$20,'Baggrundsdata - HICP - deflator'!$H70,IF($X$22=$S$20,'Baggrundsdata - HICP - deflator'!$G70,IF($S$20=$W$22,'Baggrundsdata - HICP - deflator'!$F70,IF($V$22=$S$20,'Baggrundsdata - HICP - deflator'!$E70,IF($U$22=$S$20,'Baggrundsdata - HICP - deflator'!$D70,IF($T$22=$S$20,'Baggrundsdata - HICP - deflator'!$C70,IF($S$22=$S$20,'Baggrundsdata - HICP - deflator'!$B70,\"*\"))))))))))),\"*\")","v":0.97999798999999999},{"$f":"IFERROR('Baggrundsdata - HICP - deflator'!H70/IF($AC$22=$S$20,$L70,IF($AB$22=$S$20,$K70,IF($AA$22=$S$20,$J70,IF($Z$22=$S$20,$I$70,IF($Y$22=$S$20,'Baggrundsdata - HICP - deflator'!$H70,IF($X$22=$S$20,'Baggrundsdata - HICP - deflator'!$G70,IF($S$20=$W$22,'Baggrundsdata - HICP - deflator'!$F70,IF($V$22=$S$20,'Baggrundsdata - HICP - deflator'!$E70,IF($U$22=$S$20,'Baggrundsdata - HICP - deflator'!$D70,IF($T$22=$S$20,'Baggrundsdata - HICP - deflator'!$C70,IF($S$22=$S$20,'Baggrundsdata - HICP - deflator'!$B70,\"*\"))))))))))),\"*\")","v":0.99479947000000002},{"$f":"IFERROR('Baggrundsdata - HICP - deflator'!I70/IF($AC$22=$S$20,$L70,IF($AB$22=$S$20,$K70,IF($AA$22=$S$20,$J70,IF($Z$22=$S$20,$I$70,IF($Y$22=$S$20,'Baggrundsdata - HICP - deflator'!$H70,IF($X$22=$S$20,'Baggrundsdata - HICP - deflator'!$G70,IF($S$20=$W$22,'Baggrundsdata - HICP - deflator'!$F70,IF($V$22=$S$20,'Baggrundsdata - HICP - deflator'!$E70,IF($U$22=$S$20,'Baggrundsdata - HICP - deflator'!$D70,IF($T$22=$S$20,'Baggrundsdata - HICP - deflator'!$C70,IF($S$22=$S$20,'Baggrundsdata - HICP - deflator'!$B70,\"*\"))))))))))),\"*\")","v":1.0002000100000001},{"$f":"IFERROR('Baggrundsdata - HICP - deflator'!J70/IF($AC$22=$S$20,$L70,IF($AB$22=$S$20,$K70,IF($AA$22=$S$20,$J70,IF($Z$22=$S$20,$I$70,IF($Y$22=$S$20,'Baggrundsdata - HICP - deflator'!$H70,IF($X$22=$S$20,'Baggrundsdata - HICP - deflator'!$G70,IF($S$20=$W$22,'Baggrundsdata - HICP - deflator'!$F70,IF($V$22=$S$20,'Baggrundsdata - HICP - deflator'!$E70,IF($U$22=$S$20,'Baggrundsdata - HICP - deflator'!$D70,IF($T$22=$S$20,'Baggrundsdata - HICP - deflator'!$C70,IF($S$22=$S$20,'Baggrundsdata - HICP - deflator'!$B70,\"*\"))))))))))),\"*\")","v":1.0001},{"$f":"IFERROR('Baggrundsdata - HICP - deflator'!K70/IF($AC$22=$S$20,$L70,IF($AB$22=$S$20,$K70,IF($AA$22=$S$20,$J70,IF($Z$22=$S$20,$I$70,IF($Y$22=$S$20,'Baggrundsdata - HICP - deflator'!$H70,IF($X$22=$S$20,'Baggrundsdata - HICP - deflator'!$G70,IF($S$20=$W$22,'Baggrundsdata - HICP - deflator'!$F70,IF($V$22=$S$20,'Baggrundsdata - HICP - deflator'!$E70,IF($U$22=$S$20,'Baggrundsdata - HICP - deflator'!$D70,IF($T$22=$S$20,'Baggrundsdata - HICP - deflator'!$C70,IF($S$22=$S$20,'Baggrundsdata - HICP - deflator'!$B70,\"*\"))))))))))),\"*\")","v":1},{"$f":"IFERROR('Baggrundsdata - HICP - deflator'!L70/IF($AC$22=$S$20,$L70,IF($AB$22=$S$20,$K70,IF($AA$22=$S$20,$J70,IF($Z$22=$S$20,$I$70,IF($Y$22=$S$20,'Baggrundsdata - HICP - deflator'!$H70,IF($X$22=$S$20,'Baggrundsdata - HICP - deflator'!$G70,IF($S$20=$W$22,'Baggrundsdata - HICP - deflator'!$F70,IF($V$22=$S$20,'Baggrundsdata - HICP - deflator'!$E70,IF($U$22=$S$20,'Baggrundsdata - HICP - deflator'!$D70,IF($T$22=$S$20,'Baggrundsdata - HICP - deflator'!$C70,IF($S$22=$S$20,'Baggrundsdata - HICP - deflator'!$B70,\"*\"))))))))))),\"*\")","v":0},null,{"$f":"IF(R23=Forside!B39,\"sand\",\"falsk\")","v":"sand"}]
[null,{"$f":"IF(A71=\"European Union (28 countries)\",\"EU-28\",IF(A71=\"European Union (27 countries)\",\"EU-27\",IF(A71=\"Euro area (EA11-2000, EA12-2006, EA13-2007, EA15-2008, EA16-2010, EA17-2013, EA18)\",\"EU-området\",IF(A71=\"Belgium\",\"Belgien\",IF(A71=\"Bulgaria\",\"Bulgarien\",IF(A71=\"czech republic\",\"Tjekkiet\",IF(A71=\"Denmark\",\"Danmark\",IF(A71=\"Germany (until 1990 former territory of the FRG)\",\"Tyskland\",IF(A71=\"Estonia\",\"Estland\",IF(A71=\"Ireland\",\"Irland\",IF(A71=\"Greece\",\"Grækenland\",IF(A71=\"Spain\",\"Spanien\",IF(A71=\"france\",\"Frankrig\",IF(A71=\"Croatia\",\"Kroatien\",IF(A71=\"italy\",\"Italien\",IF(A71=\"Cyprus\",\"Cypern\",IF(A71=\"Latvia\",\"Letland\",IF(A71=\"Lithuania\",\"Litaun\",IF(A71=\"Luxembourg\",\"luxembourg\",IF(A71=\"Hungary\",\"Ungarn\",IF(A71=\"Malta\",\"Malta\",IF(A71=\"Netherlands\",\"Holland\",IF(A71=\"Austria\",\"Østrig\",IF(A71=\"Poland\",\"Polen\",IF(A71=\"portugal\",\"Portugal\",IF(A71=\"Romania\",\"Rumænien\",IF(A71=\"Slovenia\",\"Slovenien\",IF(A71=\"slovakia\",\"Slovakiet\",IF(A71=\"Finland\",\"Finland\",IF(A71=\"sweden\",\"Sverige\",IF(A71=\"United kingdom\",\"UK\",IF(A71=\"liechtenstein\",\"Liechtenstein\",IF(A71=\"Norway\",\"Norge\",IF(A71=\"Montenegro\",\"Montenegro\",IF(A71=\"Former Yugoslav Republic of Macedonia, the\",\"Republikken Makedonien\",IF(A71=\"Serbia\",\"Serbien\",IF(A71=\"Turkey\",\"Tyrkiet\",IF(A71=\"Bosnia and Herzegovina\",\"Bosnien-Hercegovina\",IF(A71=\"Kosovo (under United Nations Security Council Resolution 1244/99)\",\"Kosovo\",IF(A71=\"New Country\",\"Nyt land\",0))))))))))))))))))))))))))))))))))))))))","v":"Belgien"},{"$f":"IFERROR('Baggrundsdata - HICP - deflator'!B71/IF($M$22=$C$20,$L71,IF($L$22=$C$20,$K71,IF($K$22=$C$20,$J71,IF($J$22=$C$20,$I71,IF($I$22=$C$20,'Baggrundsdata - HICP - deflator'!$H71,IF($H$22=$C$20,'Baggrundsdata - HICP - deflator'!$G71,IF($C$20=$G$22,'Baggrundsdata - HICP - deflator'!$F71,IF($F$22=$C$20,'Baggrundsdata - HICP - deflator'!$E71,IF($E$22=$C$20,'Baggrundsdata - HICP - deflator'!$D71,IF($D$22=$C$20,'Baggrundsdata - HICP - deflator'!$C71,IF('Baggrundsdata - HICP - deflator'!$C$22='Baggrundsdata - HICP - deflator'!$C$20,'Baggrundsdata - HICP - deflator'!$B71,\"*\"))))))))))),\"*\")","v":0.85595993999999986},{"$f":"IFERROR('Baggrundsdata - HICP - deflator'!C71/IF($M$22=$C$20,$L71,IF($L$22=$C$20,$K71,IF($K$22=$C$20,$J71,IF($J$22=$C$20,$I71,IF($I$22=$C$20,'Baggrundsdata - HICP - deflator'!$H71,IF($H$22=$C$20,'Baggrundsdata - HICP - deflator'!$G71,IF($C$20=$G$22,'Baggrundsdata - HICP - deflator'!$F71,IF($F$22=$C$20,'Baggrundsdata - HICP - deflator'!$E71,IF($E$22=$C$20,'Baggrundsdata - HICP - deflator'!$D71,IF($D$22=$C$20,'Baggrundsdata - HICP - deflator'!$C71,IF('Baggrundsdata - HICP - deflator'!$C$22='Baggrundsdata - HICP - deflator'!$C$20,'Baggrundsdata - HICP - deflator'!$B71,\"*\"))))))))))),\"*\")","v":0.89441999999999988},{"$f":"IFERROR('Baggrundsdata - HICP - deflator'!D71/IF($M$22=$C$20,$L71,IF($L$22=$C$20,$K71,IF($K$22=$C$20,$J71,IF($J$22=$C$20,$I71,IF($I$22=$C$20,'Baggrundsdata - HICP - deflator'!$H71,IF($H$22=$C$20,'Baggrundsdata - HICP - deflator'!$G71,IF($C$20=$G$22,'Baggrundsdata - HICP - deflator'!$F71,IF($F$22=$C$20,'Baggrundsdata - HICP - deflator'!$E71,IF($E$22=$C$20,'Baggrundsdata - HICP - deflator'!$D71,IF($D$22=$C$20,'Baggrundsdata - HICP - deflator'!$C71,IF('Baggrundsdata - HICP - deflator'!$C$22='Baggrundsdata - HICP - deflator'!$C$20,'Baggrundsdata - HICP - deflator'!$B71,\"*\"))))))))))),\"*\")","v":0.8943206199999999},{"$f":"IFERROR('Baggrundsdata - HICP - deflator'!E71/IF($M$22=$C$20,$L71,IF($L$22=$C$20,$K71,IF($K$22=$C$20,$J71,IF($J$22=$C$20,$I71,IF($I$22=$C$20,'Baggrundsdata - HICP - deflator'!$H71,IF($H$22=$C$20,'Baggrundsdata - HICP - deflator'!$G71,IF($C$20=$G$22,'Baggrundsdata - HICP - deflator'!$F71,IF($F$22=$C$20,'Baggrundsdata - HICP - deflator'!$E71,IF($E$22=$C$20,'Baggrundsdata - HICP - deflator'!$D71,IF($D$22=$C$20,'Baggrundsdata - HICP - deflator'!$C71,IF('Baggrundsdata - HICP - deflator'!$C$22='Baggrundsdata - HICP - deflator'!$C$20,'Baggrundsdata - HICP - deflator'!$B71,\"*\"))))))))))),\"*\")","v":0.91519041999999995},{"$f":"IFERROR('Baggrundsdata - HICP - deflator'!F71/IF($M$22=$C$20,$L71,IF($L$22=$C$20,$K71,IF($K$22=$C$20,$J71,IF($J$22=$C$20,$I71,IF($I$22=$C$20,'Baggrundsdata - HICP - deflator'!$H71,IF($H$22=$C$20,'Baggrundsdata - HICP - deflator'!$G71,IF($C$20=$G$22,'Baggrundsdata - HICP - deflator'!$F71,IF($F$22=$C$20,'Baggrundsdata - HICP - deflator'!$E71,IF($E$22=$C$20,'Baggrundsdata - HICP - deflator'!$D71,IF($D$22=$C$20,'Baggrundsdata - HICP - deflator'!$C71,IF('Baggrundsdata - HICP - deflator'!$C$22='Baggrundsdata - HICP - deflator'!$C$20,'Baggrundsdata - HICP - deflator'!$B71,\"*\"))))))))))),\"*\")","v":0.94589884000000002},{"$f":"IFERROR('Baggrundsdata - HICP - deflator'!G71/IF($M$22=$C$20,$L71,IF($L$22=$C$20,$K71,IF($K$22=$C$20,$J71,IF($J$22=$C$20,$I71,IF($I$22=$C$20,'Baggrundsdata - HICP - deflator'!$H71,IF($H$22=$C$20,'Baggrundsdata - HICP - deflator'!$G71,IF($C$20=$G$22,'Baggrundsdata - HICP - deflator'!$F71,IF($F$22=$C$20,'Baggrundsdata - HICP - deflator'!$E71,IF($E$22=$C$20,'Baggrundsdata - HICP - deflator'!$D71,IF($D$22=$C$20,'Baggrundsdata - HICP - deflator'!$C71,IF('Baggrundsdata - HICP - deflator'!$C$22='Baggrundsdata - HICP - deflator'!$C$20,'Baggrundsdata - HICP - deflator'!$B71,\"*\"))))))))))),\"*\")","v":0.97074383999999991},{"$f":"IFERROR('Baggrundsdata - HICP - deflator'!H71/IF($M$22=$C$20,$L71,IF($L$22=$C$20,$K71,IF($K$22=$C$20,$J71,IF($J$22=$C$20,$I71,IF($I$22=$C$20,'Baggrundsdata - HICP - deflator'!$H71,IF($H$22=$C$20,'Baggrundsdata - HICP - deflator'!$G71,IF($C$20=$G$22,'Baggrundsdata - HICP - deflator'!$F71,IF($F$22=$C$20,'Baggrundsdata - HICP - deflator'!$E71,IF($E$22=$C$20,'Baggrundsdata - HICP - deflator'!$D71,IF($D$22=$C$20,'Baggrundsdata - HICP - deflator'!$C71,IF('Baggrundsdata - HICP - deflator'!$C$22='Baggrundsdata - HICP - deflator'!$C$20,'Baggrundsdata - HICP - deflator'!$B71,\"*\"))))))))))),\"*\")","v":0.98286819999999997},{"$f":"IFERROR('Baggrundsdata - HICP - deflator'!I71/IF($M$22=$C$20,$L71,IF($L$22=$C$20,$K71,IF($K$22=$C$20,$J71,IF($J$22=$C$20,$I71,IF($I$22=$C$20,'Baggrundsdata - HICP - deflator'!$H71,IF($H$22=$C$20,'Baggrundsdata - HICP - deflator'!$G71,IF($C$20=$G$22,'Baggrundsdata - HICP - deflator'!$F71,IF($F$22=$C$20,'Baggrundsdata - HICP - deflator'!$E71,IF($E$22=$C$20,'Baggrundsdata - HICP - deflator'!$D71,IF($D$22=$C$20,'Baggrundsdata - HICP - deflator'!$C71,IF('Baggrundsdata - HICP - deflator'!$C$22='Baggrundsdata - HICP - deflator'!$C$20,'Baggrundsdata - HICP - deflator'!$B71,\"*\"))))))))))),\"*\")","v":0.9876384399999999},{"$f":"IFERROR('Baggrundsdata - HICP - deflator'!J71/IF($M$22=$C$20,$L71,IF($L$22=$C$20,$K71,IF($K$22=$C$20,$J71,IF($J$22=$C$20,$I71,IF($I$22=$C$20,'Baggrundsdata - HICP - deflator'!$H71,IF($H$22=$C$20,'Baggrundsdata - HICP - deflator'!$G71,IF($C$20=$G$22,'Baggrundsdata - HICP - deflator'!$F71,IF($F$22=$C$20,'Baggrundsdata - HICP - deflator'!$E71,IF($E$22=$C$20,'Baggrundsdata - HICP - deflator'!$D71,IF($D$22=$C$20,'Baggrundsdata - HICP - deflator'!$C71,IF('Baggrundsdata - HICP - deflator'!$C$22='Baggrundsdata - HICP - deflator'!$C$20,'Baggrundsdata - HICP - deflator'!$B71,\"*\"))))))))))),\"*\")","v":0.99379999999999991},{"$f":"IFERROR('Baggrundsdata - HICP - deflator'!K71/IF($M$22=$C$20,$L71,IF($L$22=$C$20,$K71,IF($K$22=$C$20,$J71,IF($J$22=$C$20,$I71,IF($I$22=$C$20,'Baggrundsdata - HICP - deflator'!$H71,IF($H$22=$C$20,'Baggrundsdata - HICP - deflator'!$G71,IF($C$20=$G$22,'Baggrundsdata - HICP - deflator'!$F71,IF($F$22=$C$20,'Baggrundsdata - HICP - deflator'!$E71,IF($E$22=$C$20,'Baggrundsdata - HICP - deflator'!$D71,IF($D$22=$C$20,'Baggrundsdata - HICP - deflator'!$C71,IF('Baggrundsdata - HICP - deflator'!$C$22='Baggrundsdata - HICP - deflator'!$C$20,'Baggrundsdata - HICP - deflator'!$B71,\"*\"))))))))))),\"*\")","v":1},{"$f":"IFERROR('Baggrundsdata - HICP - deflator'!L71/IF($M$22=$C$20,$L71,IF($L$22=$C$20,$K71,IF($K$22=$C$20,$J71,IF($J$22=$C$20,$I71,IF($I$22=$C$20,'Baggrundsdata - HICP - deflator'!$H71,IF($H$22=$C$20,'Baggrundsdata - HICP - deflator'!$G71,IF($C$20=$G$22,'Baggrundsdata - HICP - deflator'!$F71,IF($F$22=$C$20,'Baggrundsdata - HICP - deflator'!$E71,IF($E$22=$C$20,'Baggrundsdata - HICP - deflator'!$D71,IF($D$22=$C$20,'Baggrundsdata - HICP - deflator'!$C71,IF('Baggrundsdata - HICP - deflator'!$C$22='Baggrundsdata - HICP - deflator'!$C$20,'Baggrundsdata - HICP - deflator'!$B71,\"*\"))))))))))),\"*\")","v":0},null,{"$f":"IF(A71='Level 1'!A53,\"sand\",\"falsk\")","v":"sand"},null,null,"Belgien",{"$f":"IFERROR('Baggrundsdata - HICP - deflator'!B71/IF($AC$22=$S$20,$L71,IF($AB$22=$S$20,$K71,IF($AA$22=$S$20,$J71,IF($Z$22=$S$20,$I$71,IF($Y$22=$S$20,'Baggrundsdata - HICP - deflator'!$H71,IF($X$22=$S$20,'Baggrundsdata - HICP - deflator'!$G71,IF($S$20=$W$22,'Baggrundsdata - HICP - deflator'!$F71,IF($V$22=$S$20,'Baggrundsdata - HICP - deflator'!$E71,IF($U$22=$S$20,'Baggrundsdata - HICP - deflator'!$D71,IF($T$22=$S$20,'Baggrundsdata - HICP - deflator'!$C71,IF($S$22=$S$20,'Baggrundsdata - HICP - deflator'!$B71,\"*\"))))))))))),\"*\")","v":0.85595993999999986},{"$f":"IFERROR('Baggrundsdata - HICP - deflator'!C71/IF($AC$22=$S$20,$L71,IF($AB$22=$S$20,$K71,IF($AA$22=$S$20,$J71,IF($Z$22=$S$20,$I$71,IF($Y$22=$S$20,'Baggrundsdata - HICP - deflator'!$H71,IF($X$22=$S$20,'Baggrundsdata - HICP - deflator'!$G71,IF($S$20=$W$22,'Baggrundsdata - HICP - deflator'!$F71,IF($V$22=$S$20,'Baggrundsdata - HICP - deflator'!$E71,IF($U$22=$S$20,'Baggrundsdata - HICP - deflator'!$D71,IF($T$22=$S$20,'Baggrundsdata - HICP - deflator'!$C71,IF($S$22=$S$20,'Baggrundsdata - HICP - deflator'!$B71,\"*\"))))))))))),\"*\")","v":0.89441999999999988},{"$f":"IFERROR('Baggrundsdata - HICP - deflator'!D71/IF($AC$22=$S$20,$L71,IF($AB$22=$S$20,$K71,IF($AA$22=$S$20,$J71,IF($Z$22=$S$20,$I$71,IF($Y$22=$S$20,'Baggrundsdata - HICP - deflator'!$H71,IF($X$22=$S$20,'Baggrundsdata - HICP - deflator'!$G71,IF($S$20=$W$22,'Baggrundsdata - HICP - deflator'!$F71,IF($V$22=$S$20,'Baggrundsdata - HICP - deflator'!$E71,IF($U$22=$S$20,'Baggrundsdata - HICP - deflator'!$D71,IF($T$22=$S$20,'Baggrundsdata - HICP - deflator'!$C71,IF($S$22=$S$20,'Baggrundsdata - HICP - deflator'!$B71,\"*\"))))))))))),\"*\")","v":0.8943206199999999},{"$f":"IFERROR('Baggrundsdata - HICP - deflator'!E71/IF($AC$22=$S$20,$L71,IF($AB$22=$S$20,$K71,IF($AA$22=$S$20,$J71,IF($Z$22=$S$20,$I$71,IF($Y$22=$S$20,'Baggrundsdata - HICP - deflator'!$H71,IF($X$22=$S$20,'Baggrundsdata - HICP - deflator'!$G71,IF($S$20=$W$22,'Baggrundsdata - HICP - deflator'!$F71,IF($V$22=$S$20,'Baggrundsdata - HICP - deflator'!$E71,IF($U$22=$S$20,'Baggrundsdata - HICP - deflator'!$D71,IF($T$22=$S$20,'Baggrundsdata - HICP - deflator'!$C71,IF($S$22=$S$20,'Baggrundsdata - HICP - deflator'!$B71,\"*\"))))))))))),\"*\")","v":0.91519041999999995},{"$f":"IFERROR('Baggrundsdata - HICP - deflator'!F71/IF($AC$22=$S$20,$L71,IF($AB$22=$S$20,$K71,IF($AA$22=$S$20,$J71,IF($Z$22=$S$20,$I$71,IF($Y$22=$S$20,'Baggrundsdata - HICP - deflator'!$H71,IF($X$22=$S$20,'Baggrundsdata - HICP - deflator'!$G71,IF($S$20=$W$22,'Baggrundsdata - HICP - deflator'!$F71,IF($V$22=$S$20,'Baggrundsdata - HICP - deflator'!$E71,IF($U$22=$S$20,'Baggrundsdata - HICP - deflator'!$D71,IF($T$22=$S$20,'Baggrundsdata - HICP - deflator'!$C71,IF($S$22=$S$20,'Baggrundsdata - HICP - deflator'!$B71,\"*\"))))))))))),\"*\")","v":0.94589884000000002},{"$f":"IFERROR('Baggrundsdata - HICP - deflator'!G71/IF($AC$22=$S$20,$L71,IF($AB$22=$S$20,$K71,IF($AA$22=$S$20,$J71,IF($Z$22=$S$20,$I$71,IF($Y$22=$S$20,'Baggrundsdata - HICP - deflator'!$H71,IF($X$22=$S$20,'Baggrundsdata - HICP - deflator'!$G71,IF($S$20=$W$22,'Baggrundsdata - HICP - deflator'!$F71,IF($V$22=$S$20,'Baggrundsdata - HICP - deflator'!$E71,IF($U$22=$S$20,'Baggrundsdata - HICP - deflator'!$D71,IF($T$22=$S$20,'Baggrundsdata - HICP - deflator'!$C71,IF($S$22=$S$20,'Baggrundsdata - HICP - deflator'!$B71,\"*\"))))))))))),\"*\")","v":0.97074383999999991},{"$f":"IFERROR('Baggrundsdata - HICP - deflator'!H71/IF($AC$22=$S$20,$L71,IF($AB$22=$S$20,$K71,IF($AA$22=$S$20,$J71,IF($Z$22=$S$20,$I$71,IF($Y$22=$S$20,'Baggrundsdata - HICP - deflator'!$H71,IF($X$22=$S$20,'Baggrundsdata - HICP - deflator'!$G71,IF($S$20=$W$22,'Baggrundsdata - HICP - deflator'!$F71,IF($V$22=$S$20,'Baggrundsdata - HICP - deflator'!$E71,IF($U$22=$S$20,'Baggrundsdata - HICP - deflator'!$D71,IF($T$22=$S$20,'Baggrundsdata - HICP - deflator'!$C71,IF($S$22=$S$20,'Baggrundsdata - HICP - deflator'!$B71,\"*\"))))))))))),\"*\")","v":0.98286819999999997},{"$f":"IFERROR('Baggrundsdata - HICP - deflator'!I71/IF($AC$22=$S$20,$L71,IF($AB$22=$S$20,$K71,IF($AA$22=$S$20,$J71,IF($Z$22=$S$20,$I$71,IF($Y$22=$S$20,'Baggrundsdata - HICP - deflator'!$H71,IF($X$22=$S$20,'Baggrundsdata - HICP - deflator'!$G71,IF($S$20=$W$22,'Baggrundsdata - HICP - deflator'!$F71,IF($V$22=$S$20,'Baggrundsdata - HICP - deflator'!$E71,IF($U$22=$S$20,'Baggrundsdata - HICP - deflator'!$D71,IF($T$22=$S$20,'Baggrundsdata - HICP - deflator'!$C71,IF($S$22=$S$20,'Baggrundsdata - HICP - deflator'!$B71,\"*\"))))))))))),\"*\")","v":0.9876384399999999},{"$f":"IFERROR('Baggrundsdata - HICP - deflator'!J71/IF($AC$22=$S$20,$L71,IF($AB$22=$S$20,$K71,IF($AA$22=$S$20,$J71,IF($Z$22=$S$20,$I$71,IF($Y$22=$S$20,'Baggrundsdata - HICP - deflator'!$H71,IF($X$22=$S$20,'Baggrundsdata - HICP - deflator'!$G71,IF($S$20=$W$22,'Baggrundsdata - HICP - deflator'!$F71,IF($V$22=$S$20,'Baggrundsdata - HICP - deflator'!$E71,IF($U$22=$S$20,'Baggrundsdata - HICP - deflator'!$D71,IF($T$22=$S$20,'Baggrundsdata - HICP - deflator'!$C71,IF($S$22=$S$20,'Baggrundsdata - HICP - deflator'!$B71,\"*\"))))))))))),\"*\")","v":0.99379999999999991},{"$f":"IFERROR('Baggrundsdata - HICP - deflator'!K71/IF($AC$22=$S$20,$L71,IF($AB$22=$S$20,$K71,IF($AA$22=$S$20,$J71,IF($Z$22=$S$20,$I$71,IF($Y$22=$S$20,'Baggrundsdata - HICP - deflator'!$H71,IF($X$22=$S$20,'Baggrundsdata - HICP - deflator'!$G71,IF($S$20=$W$22,'Baggrundsdata - HICP - deflator'!$F71,IF($V$22=$S$20,'Baggrundsdata - HICP - deflator'!$E71,IF($U$22=$S$20,'Baggrundsdata - HICP - deflator'!$D71,IF($T$22=$S$20,'Baggrundsdata - HICP - deflator'!$C71,IF($S$22=$S$20,'Baggrundsdata - HICP - deflator'!$B71,\"*\"))))))))))),\"*\")","v":1},{"$f":"IFERROR('Baggrundsdata - HICP - deflator'!L71/IF($AC$22=$S$20,$L71,IF($AB$22=$S$20,$K71,IF($AA$22=$S$20,$J71,IF($Z$22=$S$20,$I$71,IF($Y$22=$S$20,'Baggrundsdata - HICP - deflator'!$H71,IF($X$22=$S$20,'Baggrundsdata - HICP - deflator'!$G71,IF($S$20=$W$22,'Baggrundsdata - HICP - deflator'!$F71,IF($V$22=$S$20,'Baggrundsdata - HICP - deflator'!$E71,IF($U$22=$S$20,'Baggrundsdata - HICP - deflator'!$D71,IF($T$22=$S$20,'Baggrundsdata - HICP - deflator'!$C71,IF($S$22=$S$20,'Baggrundsdata - HICP - deflator'!$B71,\"*\"))))))))))),\"*\")","v":0},null,{"$f":"IF(R24=Forside!B40,\"sand\",\"falsk\")","v":"sand"}]
[null,"Bulgarien",{"$f":"IFERROR('Baggrundsdata - HICP - deflator'!B72/IF($M$22=$C$20,$L72,IF($L$22=$C$20,$K72,IF($K$22=$C$20,$J72,IF($J$22=$C$20,$I72,IF($I$22=$C$20,'Baggrundsdata - HICP - deflator'!$H72,IF($H$22=$C$20,'Baggrundsdata - HICP - deflator'!$G72,IF($C$20=$G$22,'Baggrundsdata - HICP - deflator'!$F72,IF($F$22=$C$20,'Baggrundsdata - HICP - deflator'!$E72,IF($E$22=$C$20,'Baggrundsdata - HICP - deflator'!$D72,IF($D$22=$C$20,'Baggrundsdata - HICP - deflator'!$C72,IF('Baggrundsdata - HICP - deflator'!$C$22='Baggrundsdata - HICP - deflator'!$C$20,'Baggrundsdata - HICP - deflator'!$B72,\"*\"))))))))))),\"*\")","v":0.82663224000000002},{"$f":"IFERROR('Baggrundsdata - HICP - deflator'!C72/IF($M$22=$C$20,$L72,IF($L$22=$C$20,$K72,IF($K$22=$C$20,$J72,IF($J$22=$C$20,$I72,IF($I$22=$C$20,'Baggrundsdata - HICP - deflator'!$H72,IF($H$22=$C$20,'Baggrundsdata - HICP - deflator'!$G72,IF($C$20=$G$22,'Baggrundsdata - HICP - deflator'!$F72,IF($F$22=$C$20,'Baggrundsdata - HICP - deflator'!$E72,IF($E$22=$C$20,'Baggrundsdata - HICP - deflator'!$D72,IF($D$22=$C$20,'Baggrundsdata - HICP - deflator'!$C72,IF('Baggrundsdata - HICP - deflator'!$C$22='Baggrundsdata - HICP - deflator'!$C$20,'Baggrundsdata - HICP - deflator'!$B72,\"*\"))))))))))),\"*\")","v":0.92538739999999997},{"$f":"IFERROR('Baggrundsdata - HICP - deflator'!D72/IF($M$22=$C$20,$L72,IF($L$22=$C$20,$K72,IF($K$22=$C$20,$J72,IF($J$22=$C$20,$I72,IF($I$22=$C$20,'Baggrundsdata - HICP - deflator'!$H72,IF($H$22=$C$20,'Baggrundsdata - HICP - deflator'!$G72,IF($C$20=$G$22,'Baggrundsdata - HICP - deflator'!$F72,IF($F$22=$C$20,'Baggrundsdata - HICP - deflator'!$E72,IF($E$22=$C$20,'Baggrundsdata - HICP - deflator'!$D72,IF($D$22=$C$20,'Baggrundsdata - HICP - deflator'!$C72,IF('Baggrundsdata - HICP - deflator'!$C$22='Baggrundsdata - HICP - deflator'!$C$20,'Baggrundsdata - HICP - deflator'!$B72,\"*\"))))))))))),\"*\")","v":0.94823148000000002},{"$f":"IFERROR('Baggrundsdata - HICP - deflator'!E72/IF($M$22=$C$20,$L72,IF($L$22=$C$20,$K72,IF($K$22=$C$20,$J72,IF($J$22=$C$20,$I72,IF($I$22=$C$20,'Baggrundsdata - HICP - deflator'!$H72,IF($H$22=$C$20,'Baggrundsdata - HICP - deflator'!$G72,IF($C$20=$G$22,'Baggrundsdata - HICP - deflator'!$F72,IF($F$22=$C$20,'Baggrundsdata - HICP - deflator'!$E72,IF($E$22=$C$20,'Baggrundsdata - HICP - deflator'!$D72,IF($D$22=$C$20,'Baggrundsdata - HICP - deflator'!$C72,IF('Baggrundsdata - HICP - deflator'!$C$22='Baggrundsdata - HICP - deflator'!$C$20,'Baggrundsdata - HICP - deflator'!$B72,\"*\"))))))))))),\"*\")","v":0.97703927999999995},{"$f":"IFERROR('Baggrundsdata - HICP - deflator'!F72/IF($M$22=$C$20,$L72,IF($L$22=$C$20,$K72,IF($K$22=$C$20,$J72,IF($J$22=$C$20,$I72,IF($I$22=$C$20,'Baggrundsdata - HICP - deflator'!$H72,IF($H$22=$C$20,'Baggrundsdata - HICP - deflator'!$G72,IF($C$20=$G$22,'Baggrundsdata - HICP - deflator'!$F72,IF($F$22=$C$20,'Baggrundsdata - HICP - deflator'!$E72,IF($E$22=$C$20,'Baggrundsdata - HICP - deflator'!$D72,IF($D$22=$C$20,'Baggrundsdata - HICP - deflator'!$C72,IF('Baggrundsdata - HICP - deflator'!$C$22='Baggrundsdata - HICP - deflator'!$C$20,'Baggrundsdata - HICP - deflator'!$B72,\"*\"))))))))))),\"*\")","v":1.0101935199999998},{"$f":"IFERROR('Baggrundsdata - HICP - deflator'!G72/IF($M$22=$C$20,$L72,IF($L$22=$C$20,$K72,IF($K$22=$C$20,$J72,IF($J$22=$C$20,$I72,IF($I$22=$C$20,'Baggrundsdata - HICP - deflator'!$H72,IF($H$22=$C$20,'Baggrundsdata - HICP - deflator'!$G72,IF($C$20=$G$22,'Baggrundsdata - HICP - deflator'!$F72,IF($F$22=$C$20,'Baggrundsdata - HICP - deflator'!$E72,IF($E$22=$C$20,'Baggrundsdata - HICP - deflator'!$D72,IF($D$22=$C$20,'Baggrundsdata - HICP - deflator'!$C72,IF('Baggrundsdata - HICP - deflator'!$C$22='Baggrundsdata - HICP - deflator'!$C$20,'Baggrundsdata - HICP - deflator'!$B72,\"*\"))))))))))),\"*\")","v":1.0343516399999999},{"$f":"IFERROR('Baggrundsdata - HICP - deflator'!H72/IF($M$22=$C$20,$L72,IF($L$22=$C$20,$K72,IF($K$22=$C$20,$J72,IF($J$22=$C$20,$I72,IF($I$22=$C$20,'Baggrundsdata - HICP - deflator'!$H72,IF($H$22=$C$20,'Baggrundsdata - HICP - deflator'!$G72,IF($C$20=$G$22,'Baggrundsdata - HICP - deflator'!$F72,IF($F$22=$C$20,'Baggrundsdata - HICP - deflator'!$E72,IF($E$22=$C$20,'Baggrundsdata - HICP - deflator'!$D72,IF($D$22=$C$20,'Baggrundsdata - HICP - deflator'!$C72,IF('Baggrundsdata - HICP - deflator'!$C$22='Baggrundsdata - HICP - deflator'!$C$20,'Baggrundsdata - HICP - deflator'!$B72,\"*\"))))))))))),\"*\")","v":1.03829376},{"$f":"IFERROR('Baggrundsdata - HICP - deflator'!I72/IF($M$22=$C$20,$L72,IF($L$22=$C$20,$K72,IF($K$22=$C$20,$J72,IF($J$22=$C$20,$I72,IF($I$22=$C$20,'Baggrundsdata - HICP - deflator'!$H72,IF($H$22=$C$20,'Baggrundsdata - HICP - deflator'!$G72,IF($C$20=$G$22,'Baggrundsdata - HICP - deflator'!$F72,IF($F$22=$C$20,'Baggrundsdata - HICP - deflator'!$E72,IF($E$22=$C$20,'Baggrundsdata - HICP - deflator'!$D72,IF($D$22=$C$20,'Baggrundsdata - HICP - deflator'!$C72,IF('Baggrundsdata - HICP - deflator'!$C$22='Baggrundsdata - HICP - deflator'!$C$20,'Baggrundsdata - HICP - deflator'!$B72,\"*\"))))))))))),\"*\")","v":1.02171664},{"$f":"IFERROR('Baggrundsdata - HICP - deflator'!J72/IF($M$22=$C$20,$L72,IF($L$22=$C$20,$K72,IF($K$22=$C$20,$J72,IF($J$22=$C$20,$I72,IF($I$22=$C$20,'Baggrundsdata - HICP - deflator'!$H72,IF($H$22=$C$20,'Baggrundsdata - HICP - deflator'!$G72,IF($C$20=$G$22,'Baggrundsdata - HICP - deflator'!$F72,IF($F$22=$C$20,'Baggrundsdata - HICP - deflator'!$E72,IF($E$22=$C$20,'Baggrundsdata - HICP - deflator'!$D72,IF($D$22=$C$20,'Baggrundsdata - HICP - deflator'!$C72,IF('Baggrundsdata - HICP - deflator'!$C$22='Baggrundsdata - HICP - deflator'!$C$20,'Baggrundsdata - HICP - deflator'!$B72,\"*\"))))))))))),\"*\")","v":1.0107999999999999},{"$f":"IFERROR('Baggrundsdata - HICP - deflator'!K72/IF($M$22=$C$20,$L72,IF($L$22=$C$20,$K72,IF($K$22=$C$20,$J72,IF($J$22=$C$20,$I72,IF($I$22=$C$20,'Baggrundsdata - HICP - deflator'!$H72,IF($H$22=$C$20,'Baggrundsdata - HICP - deflator'!$G72,IF($C$20=$G$22,'Baggrundsdata - HICP - deflator'!$F72,IF($F$22=$C$20,'Baggrundsdata - HICP - deflator'!$E72,IF($E$22=$C$20,'Baggrundsdata - HICP - deflator'!$D72,IF($D$22=$C$20,'Baggrundsdata - HICP - deflator'!$C72,IF('Baggrundsdata - HICP - deflator'!$C$22='Baggrundsdata - HICP - deflator'!$C$20,'Baggrundsdata - HICP - deflator'!$B72,\"*\"))))))))))),\"*\")","v":1},{"$f":"IFERROR('Baggrundsdata - HICP - deflator'!L72/IF($M$22=$C$20,$L72,IF($L$22=$C$20,$K72,IF($K$22=$C$20,$J72,IF($J$22=$C$20,$I72,IF($I$22=$C$20,'Baggrundsdata - HICP - deflator'!$H72,IF($H$22=$C$20,'Baggrundsdata - HICP - deflator'!$G72,IF($C$20=$G$22,'Baggrundsdata - HICP - deflator'!$F72,IF($F$22=$C$20,'Baggrundsdata - HICP - deflator'!$E72,IF($E$22=$C$20,'Baggrundsdata - HICP - deflator'!$D72,IF($D$22=$C$20,'Baggrundsdata - HICP - deflator'!$C72,IF('Baggrundsdata - HICP - deflator'!$C$22='Baggrundsdata - HICP - deflator'!$C$20,'Baggrundsdata - HICP - deflator'!$B72,\"*\"))))))))))),\"*\")","v":0},null,{"$f":"IF(A72='Level 1'!A54,\"sand\",\"falsk\")","v":"sand"},null,null,"Danmark",{"$f":"IFERROR('Baggrundsdata - HICP - deflator'!B74/IF($AC$22=$S$20,$L74,IF($AB$22=$S$20,$K74,IF($AA$22=$S$20,$J74,IF($Z$22=$S$20,$I$74,IF($Y$22=$S$20,'Baggrundsdata - HICP - deflator'!$H74,IF($X$22=$S$20,'Baggrundsdata - HICP - deflator'!$G74,IF($S$20=$W$22,'Baggrundsdata - HICP - deflator'!$F74,IF($V$22=$S$20,'Baggrundsdata - HICP - deflator'!$E74,IF($U$22=$S$20,'Baggrundsdata - HICP - deflator'!$D74,IF($T$22=$S$20,'Baggrundsdata - HICP - deflator'!$C74,IF($S$22=$S$20,'Baggrundsdata - HICP - deflator'!$B74,\"*\"))))))))))),\"*\")","v":0.87823999999999991},{"$f":"IFERROR('Baggrundsdata - HICP - deflator'!C74/IF($AC$22=$S$20,$L74,IF($AB$22=$S$20,$K74,IF($AA$22=$S$20,$J74,IF($Z$22=$S$20,$I$74,IF($Y$22=$S$20,'Baggrundsdata - HICP - deflator'!$H74,IF($X$22=$S$20,'Baggrundsdata - HICP - deflator'!$G74,IF($S$20=$W$22,'Baggrundsdata - HICP - deflator'!$F74,IF($V$22=$S$20,'Baggrundsdata - HICP - deflator'!$E74,IF($U$22=$S$20,'Baggrundsdata - HICP - deflator'!$D74,IF($T$22=$S$20,'Baggrundsdata - HICP - deflator'!$C74,IF($S$22=$S$20,'Baggrundsdata - HICP - deflator'!$B74,\"*\"))))))))))),\"*\")","v":0.91017599999999987},{"$f":"IFERROR('Baggrundsdata - HICP - deflator'!D74/IF($AC$22=$S$20,$L74,IF($AB$22=$S$20,$K74,IF($AA$22=$S$20,$J74,IF($Z$22=$S$20,$I$74,IF($Y$22=$S$20,'Baggrundsdata - HICP - deflator'!$H74,IF($X$22=$S$20,'Baggrundsdata - HICP - deflator'!$G74,IF($S$20=$W$22,'Baggrundsdata - HICP - deflator'!$F74,IF($V$22=$S$20,'Baggrundsdata - HICP - deflator'!$E74,IF($U$22=$S$20,'Baggrundsdata - HICP - deflator'!$D74,IF($T$22=$S$20,'Baggrundsdata - HICP - deflator'!$C74,IF($S$22=$S$20,'Baggrundsdata - HICP - deflator'!$B74,\"*\"))))))))))),\"*\")","v":0.91915799999999981},{"$f":"IFERROR('Baggrundsdata - HICP - deflator'!E74/IF($AC$22=$S$20,$L74,IF($AB$22=$S$20,$K74,IF($AA$22=$S$20,$J74,IF($Z$22=$S$20,$I$74,IF($Y$22=$S$20,'Baggrundsdata - HICP - deflator'!$H74,IF($X$22=$S$20,'Baggrundsdata - HICP - deflator'!$G74,IF($S$20=$W$22,'Baggrundsdata - HICP - deflator'!$F74,IF($V$22=$S$20,'Baggrundsdata - HICP - deflator'!$E74,IF($U$22=$S$20,'Baggrundsdata - HICP - deflator'!$D74,IF($T$22=$S$20,'Baggrundsdata - HICP - deflator'!$C74,IF($S$22=$S$20,'Baggrundsdata - HICP - deflator'!$B74,\"*\"))))))))))),\"*\")","v":0.93911799999999979},{"$f":"IFERROR('Baggrundsdata - HICP - deflator'!F74/IF($AC$22=$S$20,$L74,IF($AB$22=$S$20,$K74,IF($AA$22=$S$20,$J74,IF($Z$22=$S$20,$I$74,IF($Y$22=$S$20,'Baggrundsdata - HICP - deflator'!$H74,IF($X$22=$S$20,'Baggrundsdata - HICP - deflator'!$G74,IF($S$20=$W$22,'Baggrundsdata - HICP - deflator'!$F74,IF($V$22=$S$20,'Baggrundsdata - HICP - deflator'!$E74,IF($U$22=$S$20,'Baggrundsdata - HICP - deflator'!$D74,IF($T$22=$S$20,'Baggrundsdata - HICP - deflator'!$C74,IF($S$22=$S$20,'Baggrundsdata - HICP - deflator'!$B74,\"*\"))))))))))),\"*\")","v":0.96406799999999981},{"$f":"IFERROR('Baggrundsdata - HICP - deflator'!G74/IF($AC$22=$S$20,$L74,IF($AB$22=$S$20,$K74,IF($AA$22=$S$20,$J74,IF($Z$22=$S$20,$I$74,IF($Y$22=$S$20,'Baggrundsdata - HICP - deflator'!$H74,IF($X$22=$S$20,'Baggrundsdata - HICP - deflator'!$G74,IF($S$20=$W$22,'Baggrundsdata - HICP - deflator'!$F74,IF($V$22=$S$20,'Baggrundsdata - HICP - deflator'!$E74,IF($U$22=$S$20,'Baggrundsdata - HICP - deflator'!$D74,IF($T$22=$S$20,'Baggrundsdata - HICP - deflator'!$C74,IF($S$22=$S$20,'Baggrundsdata - HICP - deflator'!$B74,\"*\"))))))))))),\"*\")","v":0.98702199999999984},{"$f":"IFERROR('Baggrundsdata - HICP - deflator'!H74/IF($AC$22=$S$20,$L74,IF($AB$22=$S$20,$K74,IF($AA$22=$S$20,$J74,IF($Z$22=$S$20,$I$74,IF($Y$22=$S$20,'Baggrundsdata - HICP - deflator'!$H74,IF($X$22=$S$20,'Baggrundsdata - HICP - deflator'!$G74,IF($S$20=$W$22,'Baggrundsdata - HICP - deflator'!$F74,IF($V$22=$S$20,'Baggrundsdata - HICP - deflator'!$E74,IF($U$22=$S$20,'Baggrundsdata - HICP - deflator'!$D74,IF($T$22=$S$20,'Baggrundsdata - HICP - deflator'!$C74,IF($S$22=$S$20,'Baggrundsdata - HICP - deflator'!$B74,\"*\"))))))))))),\"*\")","v":0.99201199999999989},{"$f":"IFERROR('Baggrundsdata - HICP - deflator'!I74/IF($AC$22=$S$20,$L74,IF($AB$22=$S$20,$K74,IF($AA$22=$S$20,$J74,IF($Z$22=$S$20,$I$74,IF($Y$22=$S$20,'Baggrundsdata - HICP - deflator'!$H74,IF($X$22=$S$20,'Baggrundsdata - HICP - deflator'!$G74,IF($S$20=$W$22,'Baggrundsdata - HICP - deflator'!$F74,IF($V$22=$S$20,'Baggrundsdata - HICP - deflator'!$E74,IF($U$22=$S$20,'Baggrundsdata - HICP - deflator'!$D74,IF($T$22=$S$20,'Baggrundsdata - HICP - deflator'!$C74,IF($S$22=$S$20,'Baggrundsdata - HICP - deflator'!$B74,\"*\"))))))))))),\"*\")","v":0.99600399999999978},{"$f":"IFERROR('Baggrundsdata - HICP - deflator'!J74/IF($AC$22=$S$20,$L74,IF($AB$22=$S$20,$K74,IF($AA$22=$S$20,$J74,IF($Z$22=$S$20,$I$74,IF($Y$22=$S$20,'Baggrundsdata - HICP - deflator'!$H74,IF($X$22=$S$20,'Baggrundsdata - HICP - deflator'!$G74,IF($S$20=$W$22,'Baggrundsdata - HICP - deflator'!$F74,IF($V$22=$S$20,'Baggrundsdata - HICP - deflator'!$E74,IF($U$22=$S$20,'Baggrundsdata - HICP - deflator'!$D74,IF($T$22=$S$20,'Baggrundsdata - HICP - deflator'!$C74,IF($S$22=$S$20,'Baggrundsdata - HICP - deflator'!$B74,\"*\"))))))))))),\"*\")","v":0.99799999999999989},{"$f":"IFERROR('Baggrundsdata - HICP - deflator'!K74/IF($AC$22=$S$20,$L74,IF($AB$22=$S$20,$K74,IF($AA$22=$S$20,$J74,IF($Z$22=$S$20,$I$74,IF($Y$22=$S$20,'Baggrundsdata - HICP - deflator'!$H74,IF($X$22=$S$20,'Baggrundsdata - HICP - deflator'!$G74,IF($S$20=$W$22,'Baggrundsdata - HICP - deflator'!$F74,IF($V$22=$S$20,'Baggrundsdata - HICP - deflator'!$E74,IF($U$22=$S$20,'Baggrundsdata - HICP - deflator'!$D74,IF($T$22=$S$20,'Baggrundsdata - HICP - deflator'!$C74,IF($S$22=$S$20,'Baggrundsdata - HICP - deflator'!$B74,\"*\"))))))))))),\"*\")","v":1},{"$f":"IFERROR('Baggrundsdata - HICP - deflator'!L74/IF($AC$22=$S$20,$L74,IF($AB$22=$S$20,$K74,IF($AA$22=$S$20,$J74,IF($Z$22=$S$20,$I$74,IF($Y$22=$S$20,'Baggrundsdata - HICP - deflator'!$H74,IF($X$22=$S$20,'Baggrundsdata - HICP - deflator'!$G74,IF($S$20=$W$22,'Baggrundsdata - HICP - deflator'!$F74,IF($V$22=$S$20,'Baggrundsdata - HICP - deflator'!$E74,IF($U$22=$S$20,'Baggrundsdata - HICP - deflator'!$D74,IF($T$22=$S$20,'Baggrundsdata - HICP - deflator'!$C74,IF($S$22=$S$20,'Baggrundsdata - HICP - deflator'!$B74,\"*\"))))))))))),\"*\")","v":0},null,{"$f":"IF(R25=Forside!B41,\"sand\",\"falsk\")","v":"sand"}]
[null,"Tjekkiet",{"$f":"IFERROR('Baggrundsdata - HICP - deflator'!B73/IF($M$22=$C$20,$L73,IF($L$22=$C$20,$K73,IF($K$22=$C$20,$J73,IF($J$22=$C$20,$I73,IF($I$22=$C$20,'Baggrundsdata - HICP - deflator'!$H73,IF($H$22=$C$20,'Baggrundsdata - HICP - deflator'!$G73,IF($C$20=$G$22,'Baggrundsdata - HICP - deflator'!$F73,IF($F$22=$C$20,'Baggrundsdata - HICP - deflator'!$E73,IF($E$22=$C$20,'Baggrundsdata - HICP - deflator'!$D73,IF($D$22=$C$20,'Baggrundsdata - HICP - deflator'!$C73,IF('Baggrundsdata - HICP - deflator'!$C$22='Baggrundsdata - HICP - deflator'!$C$20,'Baggrundsdata - HICP - deflator'!$B73,\"*\"))))))))))),\"*\")","v":0.85428799999999983},{"$f":"IFERROR('Baggrundsdata - HICP - deflator'!C73/IF($M$22=$C$20,$L73,IF($L$22=$C$20,$K73,IF($K$22=$C$20,$J73,IF($J$22=$C$20,$I73,IF($I$22=$C$20,'Baggrundsdata - HICP - deflator'!$H73,IF($H$22=$C$20,'Baggrundsdata - HICP - deflator'!$G73,IF($C$20=$G$22,'Baggrundsdata - HICP - deflator'!$F73,IF($F$22=$C$20,'Baggrundsdata - HICP - deflator'!$E73,IF($E$22=$C$20,'Baggrundsdata - HICP - deflator'!$D73,IF($D$22=$C$20,'Baggrundsdata - HICP - deflator'!$C73,IF('Baggrundsdata - HICP - deflator'!$C$22='Baggrundsdata - HICP - deflator'!$C$20,'Baggrundsdata - HICP - deflator'!$B73,\"*\"))))))))))),\"*\")","v":0.90817999999999988},{"$f":"IFERROR('Baggrundsdata - HICP - deflator'!D73/IF($M$22=$C$20,$L73,IF($L$22=$C$20,$K73,IF($K$22=$C$20,$J73,IF($J$22=$C$20,$I73,IF($I$22=$C$20,'Baggrundsdata - HICP - deflator'!$H73,IF($H$22=$C$20,'Baggrundsdata - HICP - deflator'!$G73,IF($C$20=$G$22,'Baggrundsdata - HICP - deflator'!$F73,IF($F$22=$C$20,'Baggrundsdata - HICP - deflator'!$E73,IF($E$22=$C$20,'Baggrundsdata - HICP - deflator'!$D73,IF($D$22=$C$20,'Baggrundsdata - HICP - deflator'!$C73,IF('Baggrundsdata - HICP - deflator'!$C$22='Baggrundsdata - HICP - deflator'!$C$20,'Baggrundsdata - HICP - deflator'!$B73,\"*\"))))))))))),\"*\")","v":0.91316999999999982},{"$f":"IFERROR('Baggrundsdata - HICP - deflator'!E73/IF($M$22=$C$20,$L73,IF($L$22=$C$20,$K73,IF($K$22=$C$20,$J73,IF($J$22=$C$20,$I73,IF($I$22=$C$20,'Baggrundsdata - HICP - deflator'!$H73,IF($H$22=$C$20,'Baggrundsdata - HICP - deflator'!$G73,IF($C$20=$G$22,'Baggrundsdata - HICP - deflator'!$F73,IF($F$22=$C$20,'Baggrundsdata - HICP - deflator'!$E73,IF($E$22=$C$20,'Baggrundsdata - HICP - deflator'!$D73,IF($D$22=$C$20,'Baggrundsdata - HICP - deflator'!$C73,IF('Baggrundsdata - HICP - deflator'!$C$22='Baggrundsdata - HICP - deflator'!$C$20,'Baggrundsdata - HICP - deflator'!$B73,\"*\"))))))))))),\"*\")","v":0.92414799999999975},{"$f":"IFERROR('Baggrundsdata - HICP - deflator'!F73/IF($M$22=$C$20,$L73,IF($L$22=$C$20,$K73,IF($K$22=$C$20,$J73,IF($J$22=$C$20,$I73,IF($I$22=$C$20,'Baggrundsdata - HICP - deflator'!$H73,IF($H$22=$C$20,'Baggrundsdata - HICP - deflator'!$G73,IF($C$20=$G$22,'Baggrundsdata - HICP - deflator'!$F73,IF($F$22=$C$20,'Baggrundsdata - HICP - deflator'!$E73,IF($E$22=$C$20,'Baggrundsdata - HICP - deflator'!$D73,IF($D$22=$C$20,'Baggrundsdata - HICP - deflator'!$C73,IF('Baggrundsdata - HICP - deflator'!$C$22='Baggrundsdata - HICP - deflator'!$C$20,'Baggrundsdata - HICP - deflator'!$B73,\"*\"))))))))))),\"*\")","v":0.94410799999999984},{"$f":"IFERROR('Baggrundsdata - HICP - deflator'!G73/IF($M$22=$C$20,$L73,IF($L$22=$C$20,$K73,IF($K$22=$C$20,$J73,IF($J$22=$C$20,$I73,IF($I$22=$C$20,'Baggrundsdata - HICP - deflator'!$H73,IF($H$22=$C$20,'Baggrundsdata - HICP - deflator'!$G73,IF($C$20=$G$22,'Baggrundsdata - HICP - deflator'!$F73,IF($F$22=$C$20,'Baggrundsdata - HICP - deflator'!$E73,IF($E$22=$C$20,'Baggrundsdata - HICP - deflator'!$D73,IF($D$22=$C$20,'Baggrundsdata - HICP - deflator'!$C73,IF('Baggrundsdata - HICP - deflator'!$C$22='Baggrundsdata - HICP - deflator'!$C$20,'Baggrundsdata - HICP - deflator'!$B73,\"*\"))))))))))),\"*\")","v":0.9780399999999998},{"$f":"IFERROR('Baggrundsdata - HICP - deflator'!H73/IF($M$22=$C$20,$L73,IF($L$22=$C$20,$K73,IF($K$22=$C$20,$J73,IF($J$22=$C$20,$I73,IF($I$22=$C$20,'Baggrundsdata - HICP - deflator'!$H73,IF($H$22=$C$20,'Baggrundsdata - HICP - deflator'!$G73,IF($C$20=$G$22,'Baggrundsdata - HICP - deflator'!$F73,IF($F$22=$C$20,'Baggrundsdata - HICP - deflator'!$E73,IF($E$22=$C$20,'Baggrundsdata - HICP - deflator'!$D73,IF($D$22=$C$20,'Baggrundsdata - HICP - deflator'!$C73,IF('Baggrundsdata - HICP - deflator'!$C$22='Baggrundsdata - HICP - deflator'!$C$20,'Baggrundsdata - HICP - deflator'!$B73,\"*\"))))))))))),\"*\")","v":0.99101399999999984},{"$f":"IFERROR('Baggrundsdata - HICP - deflator'!I73/IF($M$22=$C$20,$L73,IF($L$22=$C$20,$K73,IF($K$22=$C$20,$J73,IF($J$22=$C$20,$I73,IF($I$22=$C$20,'Baggrundsdata - HICP - deflator'!$H73,IF($H$22=$C$20,'Baggrundsdata - HICP - deflator'!$G73,IF($C$20=$G$22,'Baggrundsdata - HICP - deflator'!$F73,IF($F$22=$C$20,'Baggrundsdata - HICP - deflator'!$E73,IF($E$22=$C$20,'Baggrundsdata - HICP - deflator'!$D73,IF($D$22=$C$20,'Baggrundsdata - HICP - deflator'!$C73,IF('Baggrundsdata - HICP - deflator'!$C$22='Baggrundsdata - HICP - deflator'!$C$20,'Baggrundsdata - HICP - deflator'!$B73,\"*\"))))))))))),\"*\")","v":0.99600399999999978},{"$f":"IFERROR('Baggrundsdata - HICP - deflator'!J73/IF($M$22=$C$20,$L73,IF($L$22=$C$20,$K73,IF($K$22=$C$20,$J73,IF($J$22=$C$20,$I73,IF($I$22=$C$20,'Baggrundsdata - HICP - deflator'!$H73,IF($H$22=$C$20,'Baggrundsdata - HICP - deflator'!$G73,IF($C$20=$G$22,'Baggrundsdata - HICP - deflator'!$F73,IF($F$22=$C$20,'Baggrundsdata - HICP - deflator'!$E73,IF($E$22=$C$20,'Baggrundsdata - HICP - deflator'!$D73,IF($D$22=$C$20,'Baggrundsdata - HICP - deflator'!$C73,IF('Baggrundsdata - HICP - deflator'!$C$22='Baggrundsdata - HICP - deflator'!$C$20,'Baggrundsdata - HICP - deflator'!$B73,\"*\"))))))))))),\"*\")","v":0.99799999999999989},{"$f":"IFERROR('Baggrundsdata - HICP - deflator'!K73/IF($M$22=$C$20,$L73,IF($L$22=$C$20,$K73,IF($K$22=$C$20,$J73,IF($J$22=$C$20,$I73,IF($I$22=$C$20,'Baggrundsdata - HICP - deflator'!$H73,IF($H$22=$C$20,'Baggrundsdata - HICP - deflator'!$G73,IF($C$20=$G$22,'Baggrundsdata - HICP - deflator'!$F73,IF($F$22=$C$20,'Baggrundsdata - HICP - deflator'!$E73,IF($E$22=$C$20,'Baggrundsdata - HICP - deflator'!$D73,IF($D$22=$C$20,'Baggrundsdata - HICP - deflator'!$C73,IF('Baggrundsdata - HICP - deflator'!$C$22='Baggrundsdata - HICP - deflator'!$C$20,'Baggrundsdata - HICP - deflator'!$B73,\"*\"))))))))))),\"*\")","v":1},{"$f":"IFERROR('Baggrundsdata - HICP - deflator'!L73/IF($M$22=$C$20,$L73,IF($L$22=$C$20,$K73,IF($K$22=$C$20,$J73,IF($J$22=$C$20,$I73,IF($I$22=$C$20,'Baggrundsdata - HICP - deflator'!$H73,IF($H$22=$C$20,'Baggrundsdata - HICP - deflator'!$G73,IF($C$20=$G$22,'Baggrundsdata - HICP - deflator'!$F73,IF($F$22=$C$20,'Baggrundsdata - HICP - deflator'!$E73,IF($E$22=$C$20,'Baggrundsdata - HICP - deflator'!$D73,IF($D$22=$C$20,'Baggrundsdata - HICP - deflator'!$C73,IF('Baggrundsdata - HICP - deflator'!$C$22='Baggrundsdata - HICP - deflator'!$C$20,'Baggrundsdata - HICP - deflator'!$B73,\"*\"))))))))))),\"*\")","v":0},null,{"$f":"IF(A73='Level 1'!A55,\"sand\",\"falsk\")","v":"sand"},null,null,"Tyskland",{"$f":"IFERROR('Baggrundsdata - HICP - deflator'!B75/IF($AC$22=$S$20,$L75,IF($AB$22=$S$20,$K75,IF($AA$22=$S$20,$J75,IF($Z$22=$S$20,$I$75,IF($Y$22=$S$20,'Baggrundsdata - HICP - deflator'!$H75,IF($X$22=$S$20,'Baggrundsdata - HICP - deflator'!$G75,IF($S$20=$W$22,'Baggrundsdata - HICP - deflator'!$F75,IF($V$22=$S$20,'Baggrundsdata - HICP - deflator'!$E75,IF($U$22=$S$20,'Baggrundsdata - HICP - deflator'!$D75,IF($T$22=$S$20,'Baggrundsdata - HICP - deflator'!$C75,IF($S$22=$S$20,'Baggrundsdata - HICP - deflator'!$B75,\"*\"))))))))))),\"*\")","v":0.89410500000000004},{"$f":"IFERROR('Baggrundsdata - HICP - deflator'!C75/IF($AC$22=$S$20,$L75,IF($AB$22=$S$20,$K75,IF($AA$22=$S$20,$J75,IF($Z$22=$S$20,$I$75,IF($Y$22=$S$20,'Baggrundsdata - HICP - deflator'!$H75,IF($X$22=$S$20,'Baggrundsdata - HICP - deflator'!$G75,IF($S$20=$W$22,'Baggrundsdata - HICP - deflator'!$F75,IF($V$22=$S$20,'Baggrundsdata - HICP - deflator'!$E75,IF($U$22=$S$20,'Baggrundsdata - HICP - deflator'!$D75,IF($T$22=$S$20,'Baggrundsdata - HICP - deflator'!$C75,IF($S$22=$S$20,'Baggrundsdata - HICP - deflator'!$B75,\"*\"))))))))))),\"*\")","v":0.91808100000000015},{"$f":"IFERROR('Baggrundsdata - HICP - deflator'!D75/IF($AC$22=$S$20,$L75,IF($AB$22=$S$20,$K75,IF($AA$22=$S$20,$J75,IF($Z$22=$S$20,$I$75,IF($Y$22=$S$20,'Baggrundsdata - HICP - deflator'!$H75,IF($X$22=$S$20,'Baggrundsdata - HICP - deflator'!$G75,IF($S$20=$W$22,'Baggrundsdata - HICP - deflator'!$F75,IF($V$22=$S$20,'Baggrundsdata - HICP - deflator'!$E75,IF($U$22=$S$20,'Baggrundsdata - HICP - deflator'!$D75,IF($T$22=$S$20,'Baggrundsdata - HICP - deflator'!$C75,IF($S$22=$S$20,'Baggrundsdata - HICP - deflator'!$B75,\"*\"))))))))))),\"*\")","v":0.92007899999999998},{"$f":"IFERROR('Baggrundsdata - HICP - deflator'!E75/IF($AC$22=$S$20,$L75,IF($AB$22=$S$20,$K75,IF($AA$22=$S$20,$J75,IF($Z$22=$S$20,$I$75,IF($Y$22=$S$20,'Baggrundsdata - HICP - deflator'!$H75,IF($X$22=$S$20,'Baggrundsdata - HICP - deflator'!$G75,IF($S$20=$W$22,'Baggrundsdata - HICP - deflator'!$F75,IF($V$22=$S$20,'Baggrundsdata - HICP - deflator'!$E75,IF($U$22=$S$20,'Baggrundsdata - HICP - deflator'!$D75,IF($T$22=$S$20,'Baggrundsdata - HICP - deflator'!$C75,IF($S$22=$S$20,'Baggrundsdata - HICP - deflator'!$B75,\"*\"))))))))))),\"*\")","v":0.93106800000000012},{"$f":"IFERROR('Baggrundsdata - HICP - deflator'!F75/IF($AC$22=$S$20,$L75,IF($AB$22=$S$20,$K75,IF($AA$22=$S$20,$J75,IF($Z$22=$S$20,$I$75,IF($Y$22=$S$20,'Baggrundsdata - HICP - deflator'!$H75,IF($X$22=$S$20,'Baggrundsdata - HICP - deflator'!$G75,IF($S$20=$W$22,'Baggrundsdata - HICP - deflator'!$F75,IF($V$22=$S$20,'Baggrundsdata - HICP - deflator'!$E75,IF($U$22=$S$20,'Baggrundsdata - HICP - deflator'!$D75,IF($T$22=$S$20,'Baggrundsdata - HICP - deflator'!$C75,IF($S$22=$S$20,'Baggrundsdata - HICP - deflator'!$B75,\"*\"))))))))))),\"*\")","v":0.95404500000000003},{"$f":"IFERROR('Baggrundsdata - HICP - deflator'!G75/IF($AC$22=$S$20,$L75,IF($AB$22=$S$20,$K75,IF($AA$22=$S$20,$J75,IF($Z$22=$S$20,$I$75,IF($Y$22=$S$20,'Baggrundsdata - HICP - deflator'!$H75,IF($X$22=$S$20,'Baggrundsdata - HICP - deflator'!$G75,IF($S$20=$W$22,'Baggrundsdata - HICP - deflator'!$F75,IF($V$22=$S$20,'Baggrundsdata - HICP - deflator'!$E75,IF($U$22=$S$20,'Baggrundsdata - HICP - deflator'!$D75,IF($T$22=$S$20,'Baggrundsdata - HICP - deflator'!$C75,IF($S$22=$S$20,'Baggrundsdata - HICP - deflator'!$B75,\"*\"))))))))))),\"*\")","v":0.97402500000000003},{"$f":"IFERROR('Baggrundsdata - HICP - deflator'!H75/IF($AC$22=$S$20,$L75,IF($AB$22=$S$20,$K75,IF($AA$22=$S$20,$J75,IF($Z$22=$S$20,$I$75,IF($Y$22=$S$20,'Baggrundsdata - HICP - deflator'!$H75,IF($X$22=$S$20,'Baggrundsdata - HICP - deflator'!$G75,IF($S$20=$W$22,'Baggrundsdata - HICP - deflator'!$F75,IF($V$22=$S$20,'Baggrundsdata - HICP - deflator'!$E75,IF($U$22=$S$20,'Baggrundsdata - HICP - deflator'!$D75,IF($T$22=$S$20,'Baggrundsdata - HICP - deflator'!$C75,IF($S$22=$S$20,'Baggrundsdata - HICP - deflator'!$B75,\"*\"))))))))))),\"*\")","v":0.99000900000000003},{"$f":"IFERROR('Baggrundsdata - HICP - deflator'!I75/IF($AC$22=$S$20,$L75,IF($AB$22=$S$20,$K75,IF($AA$22=$S$20,$J75,IF($Z$22=$S$20,$I$75,IF($Y$22=$S$20,'Baggrundsdata - HICP - deflator'!$H75,IF($X$22=$S$20,'Baggrundsdata - HICP - deflator'!$G75,IF($S$20=$W$22,'Baggrundsdata - HICP - deflator'!$F75,IF($V$22=$S$20,'Baggrundsdata - HICP - deflator'!$E75,IF($U$22=$S$20,'Baggrundsdata - HICP - deflator'!$D75,IF($T$22=$S$20,'Baggrundsdata - HICP - deflator'!$C75,IF($S$22=$S$20,'Baggrundsdata - HICP - deflator'!$B75,\"*\"))))))))))),\"*\")","v":0.99800100000000014},{"$f":"IFERROR('Baggrundsdata - HICP - deflator'!J75/IF($AC$22=$S$20,$L75,IF($AB$22=$S$20,$K75,IF($AA$22=$S$20,$J75,IF($Z$22=$S$20,$I$75,IF($Y$22=$S$20,'Baggrundsdata - HICP - deflator'!$H75,IF($X$22=$S$20,'Baggrundsdata - HICP - deflator'!$G75,IF($S$20=$W$22,'Baggrundsdata - HICP - deflator'!$F75,IF($V$22=$S$20,'Baggrundsdata - HICP - deflator'!$E75,IF($U$22=$S$20,'Baggrundsdata - HICP - deflator'!$D75,IF($T$22=$S$20,'Baggrundsdata - HICP - deflator'!$C75,IF($S$22=$S$20,'Baggrundsdata - HICP - deflator'!$B75,\"*\"))))))))))),\"*\")","v":0.99900000000000011},{"$f":"IFERROR('Baggrundsdata - HICP - deflator'!K75/IF($AC$22=$S$20,$L75,IF($AB$22=$S$20,$K75,IF($AA$22=$S$20,$J75,IF($Z$22=$S$20,$I$75,IF($Y$22=$S$20,'Baggrundsdata - HICP - deflator'!$H75,IF($X$22=$S$20,'Baggrundsdata - HICP - deflator'!$G75,IF($S$20=$W$22,'Baggrundsdata - HICP - deflator'!$F75,IF($V$22=$S$20,'Baggrundsdata - HICP - deflator'!$E75,IF($U$22=$S$20,'Baggrundsdata - HICP - deflator'!$D75,IF($T$22=$S$20,'Baggrundsdata - HICP - deflator'!$C75,IF($S$22=$S$20,'Baggrundsdata - HICP - deflator'!$B75,\"*\"))))))))))),\"*\")","v":1},{"$f":"IFERROR('Baggrundsdata - HICP - deflator'!L75/IF($AC$22=$S$20,$L75,IF($AB$22=$S$20,$K75,IF($AA$22=$S$20,$J75,IF($Z$22=$S$20,$I$75,IF($Y$22=$S$20,'Baggrundsdata - HICP - deflator'!$H75,IF($X$22=$S$20,'Baggrundsdata - HICP - deflator'!$G75,IF($S$20=$W$22,'Baggrundsdata - HICP - deflator'!$F75,IF($V$22=$S$20,'Baggrundsdata - HICP - deflator'!$E75,IF($U$22=$S$20,'Baggrundsdata - HICP - deflator'!$D75,IF($T$22=$S$20,'Baggrundsdata - HICP - deflator'!$C75,IF($S$22=$S$20,'Baggrundsdata - HICP - deflator'!$B75,\"*\"))))))))))),\"*\")","v":0},null,{"$f":"IF(R26=Forside!B42,\"sand\",\"falsk\")","v":"sand"}]
[null,"Danmark",{"$f":"IFERROR('Baggrundsdata - HICP - deflator'!B74/IF($M$22=$C$20,$L74,IF($L$22=$C$20,$K74,IF($K$22=$C$20,$J74,IF($J$22=$C$20,$I74,IF($I$22=$C$20,'Baggrundsdata - HICP - deflator'!$H74,IF($H$22=$C$20,'Baggrundsdata - HICP - deflator'!$G74,IF($C$20=$G$22,'Baggrundsdata - HICP - deflator'!$F74,IF($F$22=$C$20,'Baggrundsdata - HICP - deflator'!$E74,IF($E$22=$C$20,'Baggrundsdata - HICP - deflator'!$D74,IF($D$22=$C$20,'Baggrundsdata - HICP - deflator'!$C74,IF('Baggrundsdata - HICP - deflator'!$C$22='Baggrundsdata - HICP - deflator'!$C$20,'Baggrundsdata - HICP - deflator'!$B74,\"*\"))))))))))),\"*\")","v":0.87823999999999991},{"$f":"IFERROR('Baggrundsdata - HICP - deflator'!C74/IF($M$22=$C$20,$L74,IF($L$22=$C$20,$K74,IF($K$22=$C$20,$J74,IF($J$22=$C$20,$I74,IF($I$22=$C$20,'Baggrundsdata - HICP - deflator'!$H74,IF($H$22=$C$20,'Baggrundsdata - HICP - deflator'!$G74,IF($C$20=$G$22,'Baggrundsdata - HICP - deflator'!$F74,IF($F$22=$C$20,'Baggrundsdata - HICP - deflator'!$E74,IF($E$22=$C$20,'Baggrundsdata - HICP - deflator'!$D74,IF($D$22=$C$20,'Baggrundsdata - HICP - deflator'!$C74,IF('Baggrundsdata - HICP - deflator'!$C$22='Baggrundsdata - HICP - deflator'!$C$20,'Baggrundsdata - HICP - deflator'!$B74,\"*\"))))))))))),\"*\")","v":0.91017599999999987},{"$f":"IFERROR('Baggrundsdata - HICP - deflator'!D74/IF($M$22=$C$20,$L74,IF($L$22=$C$20,$K74,IF($K$22=$C$20,$J74,IF($J$22=$C$20,$I74,IF($I$22=$C$20,'Baggrundsdata - HICP - deflator'!$H74,IF($H$22=$C$20,'Baggrundsdata - HICP - deflator'!$G74,IF($C$20=$G$22,'Baggrundsdata - HICP - deflator'!$F74,IF($F$22=$C$20,'Baggrundsdata - HICP - deflator'!$E74,IF($E$22=$C$20,'Baggrundsdata - HICP - deflator'!$D74,IF($D$22=$C$20,'Baggrundsdata - HICP - deflator'!$C74,IF('Baggrundsdata - HICP - deflator'!$C$22='Baggrundsdata - HICP - deflator'!$C$20,'Baggrundsdata - HICP - deflator'!$B74,\"*\"))))))))))),\"*\")","v":0.91915799999999981},{"$f":"IFERROR('Baggrundsdata - HICP - deflator'!E74/IF($M$22=$C$20,$L74,IF($L$22=$C$20,$K74,IF($K$22=$C$20,$J74,IF($J$22=$C$20,$I74,IF($I$22=$C$20,'Baggrundsdata - HICP - deflator'!$H74,IF($H$22=$C$20,'Baggrundsdata - HICP - deflator'!$G74,IF($C$20=$G$22,'Baggrundsdata - HICP - deflator'!$F74,IF($F$22=$C$20,'Baggrundsdata - HICP - deflator'!$E74,IF($E$22=$C$20,'Baggrundsdata - HICP - deflator'!$D74,IF($D$22=$C$20,'Baggrundsdata - HICP - deflator'!$C74,IF('Baggrundsdata - HICP - deflator'!$C$22='Baggrundsdata - HICP - deflator'!$C$20,'Baggrundsdata - HICP - deflator'!$B74,\"*\"))))))))))),\"*\")","v":0.93911799999999979},{"$f":"IFERROR('Baggrundsdata - HICP - deflator'!F74/IF($M$22=$C$20,$L74,IF($L$22=$C$20,$K74,IF($K$22=$C$20,$J74,IF($J$22=$C$20,$I74,IF($I$22=$C$20,'Baggrundsdata - HICP - deflator'!$H74,IF($H$22=$C$20,'Baggrundsdata - HICP - deflator'!$G74,IF($C$20=$G$22,'Baggrundsdata - HICP - deflator'!$F74,IF($F$22=$C$20,'Baggrundsdata - HICP - deflator'!$E74,IF($E$22=$C$20,'Baggrundsdata - HICP - deflator'!$D74,IF($D$22=$C$20,'Baggrundsdata - HICP - deflator'!$C74,IF('Baggrundsdata - HICP - deflator'!$C$22='Baggrundsdata - HICP - deflator'!$C$20,'Baggrundsdata - HICP - deflator'!$B74,\"*\"))))))))))),\"*\")","v":0.96406799999999981},{"$f":"IFERROR('Baggrundsdata - HICP - deflator'!G74/IF($M$22=$C$20,$L74,IF($L$22=$C$20,$K74,IF($K$22=$C$20,$J74,IF($J$22=$C$20,$I74,IF($I$22=$C$20,'Baggrundsdata - HICP - deflator'!$H74,IF($H$22=$C$20,'Baggrundsdata - HICP - deflator'!$G74,IF($C$20=$G$22,'Baggrundsdata - HICP - deflator'!$F74,IF($F$22=$C$20,'Baggrundsdata - HICP - deflator'!$E74,IF($E$22=$C$20,'Baggrundsdata - HICP - deflator'!$D74,IF($D$22=$C$20,'Baggrundsdata - HICP - deflator'!$C74,IF('Baggrundsdata - HICP - deflator'!$C$22='Baggrundsdata - HICP - deflator'!$C$20,'Baggrundsdata - HICP - deflator'!$B74,\"*\"))))))))))),\"*\")","v":0.98702199999999984},{"$f":"IFERROR('Baggrundsdata - HICP - deflator'!H74/IF($M$22=$C$20,$L74,IF($L$22=$C$20,$K74,IF($K$22=$C$20,$J74,IF($J$22=$C$20,$I74,IF($I$22=$C$20,'Baggrundsdata - HICP - deflator'!$H74,IF($H$22=$C$20,'Baggrundsdata - HICP - deflator'!$G74,IF($C$20=$G$22,'Baggrundsdata - HICP - deflator'!$F74,IF($F$22=$C$20,'Baggrundsdata - HICP - deflator'!$E74,IF($E$22=$C$20,'Baggrundsdata - HICP - deflator'!$D74,IF($D$22=$C$20,'Baggrundsdata - HICP - deflator'!$C74,IF('Baggrundsdata - HICP - deflator'!$C$22='Baggrundsdata - HICP - deflator'!$C$20,'Baggrundsdata - HICP - deflator'!$B74,\"*\"))))))))))),\"*\")","v":0.99201199999999989},{"$f":"IFERROR('Baggrundsdata - HICP - deflator'!I74/IF($M$22=$C$20,$L74,IF($L$22=$C$20,$K74,IF($K$22=$C$20,$J74,IF($J$22=$C$20,$I74,IF($I$22=$C$20,'Baggrundsdata - HICP - deflator'!$H74,IF($H$22=$C$20,'Baggrundsdata - HICP - deflator'!$G74,IF($C$20=$G$22,'Baggrundsdata - HICP - deflator'!$F74,IF($F$22=$C$20,'Baggrundsdata - HICP - deflator'!$E74,IF($E$22=$C$20,'Baggrundsdata - HICP - deflator'!$D74,IF($D$22=$C$20,'Baggrundsdata - HICP - deflator'!$C74,IF('Baggrundsdata - HICP - deflator'!$C$22='Baggrundsdata - HICP - deflator'!$C$20,'Baggrundsdata - HICP - deflator'!$B74,\"*\"))))))))))),\"*\")","v":0.99600399999999978},{"$f":"IFERROR('Baggrundsdata - HICP - deflator'!J74/IF($M$22=$C$20,$L74,IF($L$22=$C$20,$K74,IF($K$22=$C$20,$J74,IF($J$22=$C$20,$I74,IF($I$22=$C$20,'Baggrundsdata - HICP - deflator'!$H74,IF($H$22=$C$20,'Baggrundsdata - HICP - deflator'!$G74,IF($C$20=$G$22,'Baggrundsdata - HICP - deflator'!$F74,IF($F$22=$C$20,'Baggrundsdata - HICP - deflator'!$E74,IF($E$22=$C$20,'Baggrundsdata - HICP - deflator'!$D74,IF($D$22=$C$20,'Baggrundsdata - HICP - deflator'!$C74,IF('Baggrundsdata - HICP - deflator'!$C$22='Baggrundsdata - HICP - deflator'!$C$20,'Baggrundsdata - HICP - deflator'!$B74,\"*\"))))))))))),\"*\")","v":0.99799999999999989},{"$f":"IFERROR('Baggrundsdata - HICP - deflator'!K74/IF($M$22=$C$20,$L74,IF($L$22=$C$20,$K74,IF($K$22=$C$20,$J74,IF($J$22=$C$20,$I74,IF($I$22=$C$20,'Baggrundsdata - HICP - deflator'!$H74,IF($H$22=$C$20,'Baggrundsdata - HICP - deflator'!$G74,IF($C$20=$G$22,'Baggrundsdata - HICP - deflator'!$F74,IF($F$22=$C$20,'Baggrundsdata - HICP - deflator'!$E74,IF($E$22=$C$20,'Baggrundsdata - HICP - deflator'!$D74,IF($D$22=$C$20,'Baggrundsdata - HICP - deflator'!$C74,IF('Baggrundsdata - HICP - deflator'!$C$22='Baggrundsdata - HICP - deflator'!$C$20,'Baggrundsdata - HICP - deflator'!$B74,\"*\"))))))))))),\"*\")","v":1},{"$f":"IFERROR('Baggrundsdata - HICP - deflator'!L74/IF($M$22=$C$20,$L74,IF($L$22=$C$20,$K74,IF($K$22=$C$20,$J74,IF($J$22=$C$20,$I74,IF($I$22=$C$20,'Baggrundsdata - HICP - deflator'!$H74,IF($H$22=$C$20,'Baggrundsdata - HICP - deflator'!$G74,IF($C$20=$G$22,'Baggrundsdata - HICP - deflator'!$F74,IF($F$22=$C$20,'Baggrundsdata - HICP - deflator'!$E74,IF($E$22=$C$20,'Baggrundsdata - HICP - deflator'!$D74,IF($D$22=$C$20,'Baggrundsdata - HICP - deflator'!$C74,IF('Baggrundsdata - HICP - deflator'!$C$22='Baggrundsdata - HICP - deflator'!$C$20,'Baggrundsdata - HICP - deflator'!$B74,\"*\"))))))))))),\"*\")","v":0},null,{"$f":"IF(A74='Level 1'!A56,\"sand\",\"falsk\")","v":"sand"},null,null,"Frankrig",{"$f":"IFERROR('Baggrundsdata - HICP - deflator'!B80/IF($AC$22=$S$20,$L80,IF($AB$22=$S$20,$K80,IF($AA$22=$S$20,$J80,IF($Z$22=$S$20,$I$80,IF($Y$22=$S$20,'Baggrundsdata - HICP - deflator'!$H80,IF($X$22=$S$20,'Baggrundsdata - HICP - deflator'!$G80,IF($S$20=$W$22,'Baggrundsdata - HICP - deflator'!$F80,IF($V$22=$S$20,'Baggrundsdata - HICP - deflator'!$E80,IF($U$22=$S$20,'Baggrundsdata - HICP - deflator'!$D80,IF($T$22=$S$20,'Baggrundsdata - HICP - deflator'!$C80,IF($S$22=$S$20,'Baggrundsdata - HICP - deflator'!$B80,\"*\"))))))))))),\"*\")","v":0.89439432000000008},{"$f":"IFERROR('Baggrundsdata - HICP - deflator'!C80/IF($AC$22=$S$20,$L80,IF($AB$22=$S$20,$K80,IF($AA$22=$S$20,$J80,IF($Z$22=$S$20,$I$80,IF($Y$22=$S$20,'Baggrundsdata - HICP - deflator'!$H80,IF($X$22=$S$20,'Baggrundsdata - HICP - deflator'!$G80,IF($S$20=$W$22,'Baggrundsdata - HICP - deflator'!$F80,IF($V$22=$S$20,'Baggrundsdata - HICP - deflator'!$E80,IF($U$22=$S$20,'Baggrundsdata - HICP - deflator'!$D80,IF($T$22=$S$20,'Baggrundsdata - HICP - deflator'!$C80,IF($S$22=$S$20,'Baggrundsdata - HICP - deflator'!$B80,\"*\"))))))))))),\"*\")","v":0.92256894000000012},{"$f":"IFERROR('Baggrundsdata - HICP - deflator'!D80/IF($AC$22=$S$20,$L80,IF($AB$22=$S$20,$K80,IF($AA$22=$S$20,$J80,IF($Z$22=$S$20,$I$80,IF($Y$22=$S$20,'Baggrundsdata - HICP - deflator'!$H80,IF($X$22=$S$20,'Baggrundsdata - HICP - deflator'!$G80,IF($S$20=$W$22,'Baggrundsdata - HICP - deflator'!$F80,IF($V$22=$S$20,'Baggrundsdata - HICP - deflator'!$E80,IF($U$22=$S$20,'Baggrundsdata - HICP - deflator'!$D80,IF($T$22=$S$20,'Baggrundsdata - HICP - deflator'!$C80,IF($S$22=$S$20,'Baggrundsdata - HICP - deflator'!$B80,\"*\"))))))))))),\"*\")","v":0.92356804000000003},{"$f":"IFERROR('Baggrundsdata - HICP - deflator'!E80/IF($AC$22=$S$20,$L80,IF($AB$22=$S$20,$K80,IF($AA$22=$S$20,$J80,IF($Z$22=$S$20,$I$80,IF($Y$22=$S$20,'Baggrundsdata - HICP - deflator'!$H80,IF($X$22=$S$20,'Baggrundsdata - HICP - deflator'!$G80,IF($S$20=$W$22,'Baggrundsdata - HICP - deflator'!$F80,IF($V$22=$S$20,'Baggrundsdata - HICP - deflator'!$E80,IF($U$22=$S$20,'Baggrundsdata - HICP - deflator'!$D80,IF($T$22=$S$20,'Baggrundsdata - HICP - deflator'!$C80,IF($S$22=$S$20,'Baggrundsdata - HICP - deflator'!$B80,\"*\"))))))))))),\"*\")","v":0.93965355000000006},{"$f":"IFERROR('Baggrundsdata - HICP - deflator'!F80/IF($AC$22=$S$20,$L80,IF($AB$22=$S$20,$K80,IF($AA$22=$S$20,$J80,IF($Z$22=$S$20,$I$80,IF($Y$22=$S$20,'Baggrundsdata - HICP - deflator'!$H80,IF($X$22=$S$20,'Baggrundsdata - HICP - deflator'!$G80,IF($S$20=$W$22,'Baggrundsdata - HICP - deflator'!$F80,IF($V$22=$S$20,'Baggrundsdata - HICP - deflator'!$E80,IF($U$22=$S$20,'Baggrundsdata - HICP - deflator'!$D80,IF($T$22=$S$20,'Baggrundsdata - HICP - deflator'!$C80,IF($S$22=$S$20,'Baggrundsdata - HICP - deflator'!$B80,\"*\"))))))))))),\"*\")","v":0.96113420000000016},{"$f":"IFERROR('Baggrundsdata - HICP - deflator'!G80/IF($AC$22=$S$20,$L80,IF($AB$22=$S$20,$K80,IF($AA$22=$S$20,$J80,IF($Z$22=$S$20,$I$80,IF($Y$22=$S$20,'Baggrundsdata - HICP - deflator'!$H80,IF($X$22=$S$20,'Baggrundsdata - HICP - deflator'!$G80,IF($S$20=$W$22,'Baggrundsdata - HICP - deflator'!$F80,IF($V$22=$S$20,'Baggrundsdata - HICP - deflator'!$E80,IF($U$22=$S$20,'Baggrundsdata - HICP - deflator'!$D80,IF($T$22=$S$20,'Baggrundsdata - HICP - deflator'!$C80,IF($S$22=$S$20,'Baggrundsdata - HICP - deflator'!$B80,\"*\"))))))))))),\"*\")","v":0.98241503000000008},{"$f":"IFERROR('Baggrundsdata - HICP - deflator'!H80/IF($AC$22=$S$20,$L80,IF($AB$22=$S$20,$K80,IF($AA$22=$S$20,$J80,IF($Z$22=$S$20,$I$80,IF($Y$22=$S$20,'Baggrundsdata - HICP - deflator'!$H80,IF($X$22=$S$20,'Baggrundsdata - HICP - deflator'!$G80,IF($S$20=$W$22,'Baggrundsdata - HICP - deflator'!$F80,IF($V$22=$S$20,'Baggrundsdata - HICP - deflator'!$E80,IF($U$22=$S$20,'Baggrundsdata - HICP - deflator'!$D80,IF($T$22=$S$20,'Baggrundsdata - HICP - deflator'!$C80,IF($S$22=$S$20,'Baggrundsdata - HICP - deflator'!$B80,\"*\"))))))))))),\"*\")","v":0.99220621000000009},{"$f":"IFERROR('Baggrundsdata - HICP - deflator'!I80/IF($AC$22=$S$20,$L80,IF($AB$22=$S$20,$K80,IF($AA$22=$S$20,$J80,IF($Z$22=$S$20,$I$80,IF($Y$22=$S$20,'Baggrundsdata - HICP - deflator'!$H80,IF($X$22=$S$20,'Baggrundsdata - HICP - deflator'!$G80,IF($S$20=$W$22,'Baggrundsdata - HICP - deflator'!$F80,IF($V$22=$S$20,'Baggrundsdata - HICP - deflator'!$E80,IF($U$22=$S$20,'Baggrundsdata - HICP - deflator'!$D80,IF($T$22=$S$20,'Baggrundsdata - HICP - deflator'!$C80,IF($S$22=$S$20,'Baggrundsdata - HICP - deflator'!$B80,\"*\"))))))))))),\"*\")","v":0.99820081000000005},{"$f":"IFERROR('Baggrundsdata - HICP - deflator'!J80/IF($AC$22=$S$20,$L80,IF($AB$22=$S$20,$K80,IF($AA$22=$S$20,$J80,IF($Z$22=$S$20,$I$80,IF($Y$22=$S$20,'Baggrundsdata - HICP - deflator'!$H80,IF($X$22=$S$20,'Baggrundsdata - HICP - deflator'!$G80,IF($S$20=$W$22,'Baggrundsdata - HICP - deflator'!$F80,IF($V$22=$S$20,'Baggrundsdata - HICP - deflator'!$E80,IF($U$22=$S$20,'Baggrundsdata - HICP - deflator'!$D80,IF($T$22=$S$20,'Baggrundsdata - HICP - deflator'!$C80,IF($S$22=$S$20,'Baggrundsdata - HICP - deflator'!$B80,\"*\"))))))))))),\"*\")","v":0.9991000000000001},{"$f":"IFERROR('Baggrundsdata - HICP - deflator'!K80/IF($AC$22=$S$20,$L80,IF($AB$22=$S$20,$K80,IF($AA$22=$S$20,$J80,IF($Z$22=$S$20,$I$80,IF($Y$22=$S$20,'Baggrundsdata - HICP - deflator'!$H80,IF($X$22=$S$20,'Baggrundsdata - HICP - deflator'!$G80,IF($S$20=$W$22,'Baggrundsdata - HICP - deflator'!$F80,IF($V$22=$S$20,'Baggrundsdata - HICP - deflator'!$E80,IF($U$22=$S$20,'Baggrundsdata - HICP - deflator'!$D80,IF($T$22=$S$20,'Baggrundsdata - HICP - deflator'!$C80,IF($S$22=$S$20,'Baggrundsdata - HICP - deflator'!$B80,\"*\"))))))))))),\"*\")","v":1},{"$f":"IFERROR('Baggrundsdata - HICP - deflator'!L80/IF($AC$22=$S$20,$L80,IF($AB$22=$S$20,$K80,IF($AA$22=$S$20,$J80,IF($Z$22=$S$20,$I$80,IF($Y$22=$S$20,'Baggrundsdata - HICP - deflator'!$H80,IF($X$22=$S$20,'Baggrundsdata - HICP - deflator'!$G80,IF($S$20=$W$22,'Baggrundsdata - HICP - deflator'!$F80,IF($V$22=$S$20,'Baggrundsdata - HICP - deflator'!$E80,IF($U$22=$S$20,'Baggrundsdata - HICP - deflator'!$D80,IF($T$22=$S$20,'Baggrundsdata - HICP - deflator'!$C80,IF($S$22=$S$20,'Baggrundsdata - HICP - deflator'!$B80,\"*\"))))))))))),\"*\")","v":0},null,{"$f":"IF(R27=Forside!B43,\"sand\",\"falsk\")","v":"sand"}]
[null,"Tyskland",{"$f":"IFERROR('Baggrundsdata - HICP - deflator'!B75/IF($M$22=$C$20,$L75,IF($L$22=$C$20,$K75,IF($K$22=$C$20,$J75,IF($J$22=$C$20,$I75,IF($I$22=$C$20,'Baggrundsdata - HICP - deflator'!$H75,IF($H$22=$C$20,'Baggrundsdata - HICP - deflator'!$G75,IF($C$20=$G$22,'Baggrundsdata - HICP - deflator'!$F75,IF($F$22=$C$20,'Baggrundsdata - HICP - deflator'!$E75,IF($E$22=$C$20,'Baggrundsdata - HICP - deflator'!$D75,IF($D$22=$C$20,'Baggrundsdata - HICP - deflator'!$C75,IF('Baggrundsdata - HICP - deflator'!$C$22='Baggrundsdata - HICP - deflator'!$C$20,'Baggrundsdata - HICP - deflator'!$B75,\"*\"))))))))))),\"*\")","v":0.89410500000000004},{"$f":"IFERROR('Baggrundsdata - HICP - deflator'!C75/IF($M$22=$C$20,$L75,IF($L$22=$C$20,$K75,IF($K$22=$C$20,$J75,IF($J$22=$C$20,$I75,IF($I$22=$C$20,'Baggrundsdata - HICP - deflator'!$H75,IF($H$22=$C$20,'Baggrundsdata - HICP - deflator'!$G75,IF($C$20=$G$22,'Baggrundsdata - HICP - deflator'!$F75,IF($F$22=$C$20,'Baggrundsdata - HICP - deflator'!$E75,IF($E$22=$C$20,'Baggrundsdata - HICP - deflator'!$D75,IF($D$22=$C$20,'Baggrundsdata - HICP - deflator'!$C75,IF('Baggrundsdata - HICP - deflator'!$C$22='Baggrundsdata - HICP - deflator'!$C$20,'Baggrundsdata - HICP - deflator'!$B75,\"*\"))))))))))),\"*\")","v":0.91808100000000015},{"$f":"IFERROR('Baggrundsdata - HICP - deflator'!D75/IF($M$22=$C$20,$L75,IF($L$22=$C$20,$K75,IF($K$22=$C$20,$J75,IF($J$22=$C$20,$I75,IF($I$22=$C$20,'Baggrundsdata - HICP - deflator'!$H75,IF($H$22=$C$20,'Baggrundsdata - HICP - deflator'!$G75,IF($C$20=$G$22,'Baggrundsdata - HICP - deflator'!$F75,IF($F$22=$C$20,'Baggrundsdata - HICP - deflator'!$E75,IF($E$22=$C$20,'Baggrundsdata - HICP - deflator'!$D75,IF($D$22=$C$20,'Baggrundsdata - HICP - deflator'!$C75,IF('Baggrundsdata - HICP - deflator'!$C$22='Baggrundsdata - HICP - deflator'!$C$20,'Baggrundsdata - HICP - deflator'!$B75,\"*\"))))))))))),\"*\")","v":0.92007899999999998},{"$f":"IFERROR('Baggrundsdata - HICP - deflator'!E75/IF($M$22=$C$20,$L75,IF($L$22=$C$20,$K75,IF($K$22=$C$20,$J75,IF($J$22=$C$20,$I75,IF($I$22=$C$20,'Baggrundsdata - HICP - deflator'!$H75,IF($H$22=$C$20,'Baggrundsdata - HICP - deflator'!$G75,IF($C$20=$G$22,'Baggrundsdata - HICP - deflator'!$F75,IF($F$22=$C$20,'Baggrundsdata - HICP - deflator'!$E75,IF($E$22=$C$20,'Baggrundsdata - HICP - deflator'!$D75,IF($D$22=$C$20,'Baggrundsdata - HICP - deflator'!$C75,IF('Baggrundsdata - HICP - deflator'!$C$22='Baggrundsdata - HICP - deflator'!$C$20,'Baggrundsdata - HICP - deflator'!$B75,\"*\"))))))))))),\"*\")","v":0.93106800000000012},{"$f":"IFERROR('Baggrundsdata - HICP - deflator'!F75/IF($M$22=$C$20,$L75,IF($L$22=$C$20,$K75,IF($K$22=$C$20,$J75,IF($J$22=$C$20,$I75,IF($I$22=$C$20,'Baggrundsdata - HICP - deflator'!$H75,IF($H$22=$C$20,'Baggrundsdata - HICP - deflator'!$G75,IF($C$20=$G$22,'Baggrundsdata - HICP - deflator'!$F75,IF($F$22=$C$20,'Baggrundsdata - HICP - deflator'!$E75,IF($E$22=$C$20,'Baggrundsdata - HICP - deflator'!$D75,IF($D$22=$C$20,'Baggrundsdata - HICP - deflator'!$C75,IF('Baggrundsdata - HICP - deflator'!$C$22='Baggrundsdata - HICP - deflator'!$C$20,'Baggrundsdata - HICP - deflator'!$B75,\"*\"))))))))))),\"*\")","v":0.95404500000000003},{"$f":"IFERROR('Baggrundsdata - HICP - deflator'!G75/IF($M$22=$C$20,$L75,IF($L$22=$C$20,$K75,IF($K$22=$C$20,$J75,IF($J$22=$C$20,$I75,IF($I$22=$C$20,'Baggrundsdata - HICP - deflator'!$H75,IF($H$22=$C$20,'Baggrundsdata - HICP - deflator'!$G75,IF($C$20=$G$22,'Baggrundsdata - HICP - deflator'!$F75,IF($F$22=$C$20,'Baggrundsdata - HICP - deflator'!$E75,IF($E$22=$C$20,'Baggrundsdata - HICP - deflator'!$D75,IF($D$22=$C$20,'Baggrundsdata - HICP - deflator'!$C75,IF('Baggrundsdata - HICP - deflator'!$C$22='Baggrundsdata - HICP - deflator'!$C$20,'Baggrundsdata - HICP - deflator'!$B75,\"*\"))))))))))),\"*\")","v":0.97402500000000003},{"$f":"IFERROR('Baggrundsdata - HICP - deflator'!H75/IF($M$22=$C$20,$L75,IF($L$22=$C$20,$K75,IF($K$22=$C$20,$J75,IF($J$22=$C$20,$I75,IF($I$22=$C$20,'Baggrundsdata - HICP - deflator'!$H75,IF($H$22=$C$20,'Baggrundsdata - HICP - deflator'!$G75,IF($C$20=$G$22,'Baggrundsdata - HICP - deflator'!$F75,IF($F$22=$C$20,'Baggrundsdata - HICP - deflator'!$E75,IF($E$22=$C$20,'Baggrundsdata - HICP - deflator'!$D75,IF($D$22=$C$20,'Baggrundsdata - HICP - deflator'!$C75,IF('Baggrundsdata - HICP - deflator'!$C$22='Baggrundsdata - HICP - deflator'!$C$20,'Baggrundsdata - HICP - deflator'!$B75,\"*\"))))))))))),\"*\")","v":0.99000900000000003},{"$f":"IFERROR('Baggrundsdata - HICP - deflator'!I75/IF($M$22=$C$20,$L75,IF($L$22=$C$20,$K75,IF($K$22=$C$20,$J75,IF($J$22=$C$20,$I75,IF($I$22=$C$20,'Baggrundsdata - HICP - deflator'!$H75,IF($H$22=$C$20,'Baggrundsdata - HICP - deflator'!$G75,IF($C$20=$G$22,'Baggrundsdata - HICP - deflator'!$F75,IF($F$22=$C$20,'Baggrundsdata - HICP - deflator'!$E75,IF($E$22=$C$20,'Baggrundsdata - HICP - deflator'!$D75,IF($D$22=$C$20,'Baggrundsdata - HICP - deflator'!$C75,IF('Baggrundsdata - HICP - deflator'!$C$22='Baggrundsdata - HICP - deflator'!$C$20,'Baggrundsdata - HICP - deflator'!$B75,\"*\"))))))))))),\"*\")","v":0.99800100000000014},{"$f":"IFERROR('Baggrundsdata - HICP - deflator'!J75/IF($M$22=$C$20,$L75,IF($L$22=$C$20,$K75,IF($K$22=$C$20,$J75,IF($J$22=$C$20,$I75,IF($I$22=$C$20,'Baggrundsdata - HICP - deflator'!$H75,IF($H$22=$C$20,'Baggrundsdata - HICP - deflator'!$G75,IF($C$20=$G$22,'Baggrundsdata - HICP - deflator'!$F75,IF($F$22=$C$20,'Baggrundsdata - HICP - deflator'!$E75,IF($E$22=$C$20,'Baggrundsdata - HICP - deflator'!$D75,IF($D$22=$C$20,'Baggrundsdata - HICP - deflator'!$C75,IF('Baggrundsdata - HICP - deflator'!$C$22='Baggrundsdata - HICP - deflator'!$C$20,'Baggrundsdata - HICP - deflator'!$B75,\"*\"))))))))))),\"*\")","v":0.99900000000000011},{"$f":"IFERROR('Baggrundsdata - HICP - deflator'!K75/IF($M$22=$C$20,$L75,IF($L$22=$C$20,$K75,IF($K$22=$C$20,$J75,IF($J$22=$C$20,$I75,IF($I$22=$C$20,'Baggrundsdata - HICP - deflator'!$H75,IF($H$22=$C$20,'Baggrundsdata - HICP - deflator'!$G75,IF($C$20=$G$22,'Baggrundsdata - HICP - deflator'!$F75,IF($F$22=$C$20,'Baggrundsdata - HICP - deflator'!$E75,IF($E$22=$C$20,'Baggrundsdata - HICP - deflator'!$D75,IF($D$22=$C$20,'Baggrundsdata - HICP - deflator'!$C75,IF('Baggrundsdata - HICP - deflator'!$C$22='Baggrundsdata - HICP - deflator'!$C$20,'Baggrundsdata - HICP - deflator'!$B75,\"*\"))))))))))),\"*\")","v":1},{"$f":"IFERROR('Baggrundsdata - HICP - deflator'!L75/IF($M$22=$C$20,$L75,IF($L$22=$C$20,$K75,IF($K$22=$C$20,$J75,IF($J$22=$C$20,$I75,IF($I$22=$C$20,'Baggrundsdata - HICP - deflator'!$H75,IF($H$22=$C$20,'Baggrundsdata - HICP - deflator'!$G75,IF($C$20=$G$22,'Baggrundsdata - HICP - deflator'!$F75,IF($F$22=$C$20,'Baggrundsdata - HICP - deflator'!$E75,IF($E$22=$C$20,'Baggrundsdata - HICP - deflator'!$D75,IF($D$22=$C$20,'Baggrundsdata - HICP - deflator'!$C75,IF('Baggrundsdata - HICP - deflator'!$C$22='Baggrundsdata - HICP - deflator'!$C$20,'Baggrundsdata - HICP - deflator'!$B75,\"*\"))))))))))),\"*\")","v":0},null,{"$f":"IF(A75='Level 1'!A57,\"sand\",\"falsk\")","v":"sand"},null,null,"Italien",{"$f":"IFERROR('Baggrundsdata - HICP - deflator'!B82/IF($AC$22=$S$20,$L82,IF($AB$22=$S$20,$K82,IF($AA$22=$S$20,$J82,IF($Z$22=$S$20,$I$82,IF($Y$22=$S$20,'Baggrundsdata - HICP - deflator'!$H82,IF($X$22=$S$20,'Baggrundsdata - HICP - deflator'!$G82,IF($S$20=$W$22,'Baggrundsdata - HICP - deflator'!$F82,IF($V$22=$S$20,'Baggrundsdata - HICP - deflator'!$E82,IF($U$22=$S$20,'Baggrundsdata - HICP - deflator'!$D82,IF($T$22=$S$20,'Baggrundsdata - HICP - deflator'!$C82,IF($S$22=$S$20,'Baggrundsdata - HICP - deflator'!$B82,\"*\"))))))))))),\"*\")","v":0.87212699999999999},{"$f":"IFERROR('Baggrundsdata - HICP - deflator'!C82/IF($AC$22=$S$20,$L82,IF($AB$22=$S$20,$K82,IF($AA$22=$S$20,$J82,IF($Z$22=$S$20,$I$82,IF($Y$22=$S$20,'Baggrundsdata - HICP - deflator'!$H82,IF($X$22=$S$20,'Baggrundsdata - HICP - deflator'!$G82,IF($S$20=$W$22,'Baggrundsdata - HICP - deflator'!$F82,IF($V$22=$S$20,'Baggrundsdata - HICP - deflator'!$E82,IF($U$22=$S$20,'Baggrundsdata - HICP - deflator'!$D82,IF($T$22=$S$20,'Baggrundsdata - HICP - deflator'!$C82,IF($S$22=$S$20,'Baggrundsdata - HICP - deflator'!$B82,\"*\"))))))))))),\"*\")","v":0.90309600000000012},{"$f":"IFERROR('Baggrundsdata - HICP - deflator'!D82/IF($AC$22=$S$20,$L82,IF($AB$22=$S$20,$K82,IF($AA$22=$S$20,$J82,IF($Z$22=$S$20,$I$82,IF($Y$22=$S$20,'Baggrundsdata - HICP - deflator'!$H82,IF($X$22=$S$20,'Baggrundsdata - HICP - deflator'!$G82,IF($S$20=$W$22,'Baggrundsdata - HICP - deflator'!$F82,IF($V$22=$S$20,'Baggrundsdata - HICP - deflator'!$E82,IF($U$22=$S$20,'Baggrundsdata - HICP - deflator'!$D82,IF($T$22=$S$20,'Baggrundsdata - HICP - deflator'!$C82,IF($S$22=$S$20,'Baggrundsdata - HICP - deflator'!$B82,\"*\"))))))))))),\"*\")","v":0.91008900000000004},{"$f":"IFERROR('Baggrundsdata - HICP - deflator'!E82/IF($AC$22=$S$20,$L82,IF($AB$22=$S$20,$K82,IF($AA$22=$S$20,$J82,IF($Z$22=$S$20,$I$82,IF($Y$22=$S$20,'Baggrundsdata - HICP - deflator'!$H82,IF($X$22=$S$20,'Baggrundsdata - HICP - deflator'!$G82,IF($S$20=$W$22,'Baggrundsdata - HICP - deflator'!$F82,IF($V$22=$S$20,'Baggrundsdata - HICP - deflator'!$E82,IF($U$22=$S$20,'Baggrundsdata - HICP - deflator'!$D82,IF($T$22=$S$20,'Baggrundsdata - HICP - deflator'!$C82,IF($S$22=$S$20,'Baggrundsdata - HICP - deflator'!$B82,\"*\"))))))))))),\"*\")","v":0.92507400000000006},{"$f":"IFERROR('Baggrundsdata - HICP - deflator'!F82/IF($AC$22=$S$20,$L82,IF($AB$22=$S$20,$K82,IF($AA$22=$S$20,$J82,IF($Z$22=$S$20,$I$82,IF($Y$22=$S$20,'Baggrundsdata - HICP - deflator'!$H82,IF($X$22=$S$20,'Baggrundsdata - HICP - deflator'!$G82,IF($S$20=$W$22,'Baggrundsdata - HICP - deflator'!$F82,IF($V$22=$S$20,'Baggrundsdata - HICP - deflator'!$E82,IF($U$22=$S$20,'Baggrundsdata - HICP - deflator'!$D82,IF($T$22=$S$20,'Baggrundsdata - HICP - deflator'!$C82,IF($S$22=$S$20,'Baggrundsdata - HICP - deflator'!$B82,\"*\"))))))))))),\"*\")","v":0.95204700000000009},{"$f":"IFERROR('Baggrundsdata - HICP - deflator'!G82/IF($AC$22=$S$20,$L82,IF($AB$22=$S$20,$K82,IF($AA$22=$S$20,$J82,IF($Z$22=$S$20,$I$82,IF($Y$22=$S$20,'Baggrundsdata - HICP - deflator'!$H82,IF($X$22=$S$20,'Baggrundsdata - HICP - deflator'!$G82,IF($S$20=$W$22,'Baggrundsdata - HICP - deflator'!$F82,IF($V$22=$S$20,'Baggrundsdata - HICP - deflator'!$E82,IF($U$22=$S$20,'Baggrundsdata - HICP - deflator'!$D82,IF($T$22=$S$20,'Baggrundsdata - HICP - deflator'!$C82,IF($S$22=$S$20,'Baggrundsdata - HICP - deflator'!$B82,\"*\"))))))))))),\"*\")","v":0.98301600000000011},{"$f":"IFERROR('Baggrundsdata - HICP - deflator'!H82/IF($AC$22=$S$20,$L82,IF($AB$22=$S$20,$K82,IF($AA$22=$S$20,$J82,IF($Z$22=$S$20,$I$82,IF($Y$22=$S$20,'Baggrundsdata - HICP - deflator'!$H82,IF($X$22=$S$20,'Baggrundsdata - HICP - deflator'!$G82,IF($S$20=$W$22,'Baggrundsdata - HICP - deflator'!$F82,IF($V$22=$S$20,'Baggrundsdata - HICP - deflator'!$E82,IF($U$22=$S$20,'Baggrundsdata - HICP - deflator'!$D82,IF($T$22=$S$20,'Baggrundsdata - HICP - deflator'!$C82,IF($S$22=$S$20,'Baggrundsdata - HICP - deflator'!$B82,\"*\"))))))))))),\"*\")","v":0.99600300000000008},{"$f":"IFERROR('Baggrundsdata - HICP - deflator'!I82/IF($AC$22=$S$20,$L82,IF($AB$22=$S$20,$K82,IF($AA$22=$S$20,$J82,IF($Z$22=$S$20,$I$82,IF($Y$22=$S$20,'Baggrundsdata - HICP - deflator'!$H82,IF($X$22=$S$20,'Baggrundsdata - HICP - deflator'!$G82,IF($S$20=$W$22,'Baggrundsdata - HICP - deflator'!$F82,IF($V$22=$S$20,'Baggrundsdata - HICP - deflator'!$E82,IF($U$22=$S$20,'Baggrundsdata - HICP - deflator'!$D82,IF($T$22=$S$20,'Baggrundsdata - HICP - deflator'!$C82,IF($S$22=$S$20,'Baggrundsdata - HICP - deflator'!$B82,\"*\"))))))))))),\"*\")","v":0.99800100000000014},{"$f":"IFERROR('Baggrundsdata - HICP - deflator'!J82/IF($AC$22=$S$20,$L82,IF($AB$22=$S$20,$K82,IF($AA$22=$S$20,$J82,IF($Z$22=$S$20,$I$82,IF($Y$22=$S$20,'Baggrundsdata - HICP - deflator'!$H82,IF($X$22=$S$20,'Baggrundsdata - HICP - deflator'!$G82,IF($S$20=$W$22,'Baggrundsdata - HICP - deflator'!$F82,IF($V$22=$S$20,'Baggrundsdata - HICP - deflator'!$E82,IF($U$22=$S$20,'Baggrundsdata - HICP - deflator'!$D82,IF($T$22=$S$20,'Baggrundsdata - HICP - deflator'!$C82,IF($S$22=$S$20,'Baggrundsdata - HICP - deflator'!$B82,\"*\"))))))))))),\"*\")","v":0.99900000000000011},{"$f":"IFERROR('Baggrundsdata - HICP - deflator'!K82/IF($AC$22=$S$20,$L82,IF($AB$22=$S$20,$K82,IF($AA$22=$S$20,$J82,IF($Z$22=$S$20,$I$82,IF($Y$22=$S$20,'Baggrundsdata - HICP - deflator'!$H82,IF($X$22=$S$20,'Baggrundsdata - HICP - deflator'!$G82,IF($S$20=$W$22,'Baggrundsdata - HICP - deflator'!$F82,IF($V$22=$S$20,'Baggrundsdata - HICP - deflator'!$E82,IF($U$22=$S$20,'Baggrundsdata - HICP - deflator'!$D82,IF($T$22=$S$20,'Baggrundsdata - HICP - deflator'!$C82,IF($S$22=$S$20,'Baggrundsdata - HICP - deflator'!$B82,\"*\"))))))))))),\"*\")","v":1},{"$f":"IFERROR('Baggrundsdata - HICP - deflator'!L82/IF($AC$22=$S$20,$L82,IF($AB$22=$S$20,$K82,IF($AA$22=$S$20,$J82,IF($Z$22=$S$20,$I$82,IF($Y$22=$S$20,'Baggrundsdata - HICP - deflator'!$H82,IF($X$22=$S$20,'Baggrundsdata - HICP - deflator'!$G82,IF($S$20=$W$22,'Baggrundsdata - HICP - deflator'!$F82,IF($V$22=$S$20,'Baggrundsdata - HICP - deflator'!$E82,IF($U$22=$S$20,'Baggrundsdata - HICP - deflator'!$D82,IF($T$22=$S$20,'Baggrundsdata - HICP - deflator'!$C82,IF($S$22=$S$20,'Baggrundsdata - HICP - deflator'!$B82,\"*\"))))))))))),\"*\")","v":0},null,{"$f":"IF(R28=Forside!B44,\"sand\",\"falsk\")","v":"sand"}]
[null,"Estland",{"$f":"IFERROR('Baggrundsdata - HICP - deflator'!B76/IF($M$22=$C$20,$L76,IF($L$22=$C$20,$K76,IF($K$22=$C$20,$J76,IF($J$22=$C$20,$I76,IF($I$22=$C$20,'Baggrundsdata - HICP - deflator'!$H76,IF($H$22=$C$20,'Baggrundsdata - HICP - deflator'!$G76,IF($C$20=$G$22,'Baggrundsdata - HICP - deflator'!$F76,IF($F$22=$C$20,'Baggrundsdata - HICP - deflator'!$E76,IF($E$22=$C$20,'Baggrundsdata - HICP - deflator'!$D76,IF($D$22=$C$20,'Baggrundsdata - HICP - deflator'!$C76,IF('Baggrundsdata - HICP - deflator'!$C$22='Baggrundsdata - HICP - deflator'!$C$20,'Baggrundsdata - HICP - deflator'!$B76,\"*\"))))))))))),\"*\")","v":0.7719592500000001},{"$f":"IFERROR('Baggrundsdata - HICP - deflator'!C76/IF($M$22=$C$20,$L76,IF($L$22=$C$20,$K76,IF($K$22=$C$20,$J76,IF($J$22=$C$20,$I76,IF($I$22=$C$20,'Baggrundsdata - HICP - deflator'!$H76,IF($H$22=$C$20,'Baggrundsdata - HICP - deflator'!$G76,IF($C$20=$G$22,'Baggrundsdata - HICP - deflator'!$F76,IF($F$22=$C$20,'Baggrundsdata - HICP - deflator'!$E76,IF($E$22=$C$20,'Baggrundsdata - HICP - deflator'!$D76,IF($D$22=$C$20,'Baggrundsdata - HICP - deflator'!$C76,IF('Baggrundsdata - HICP - deflator'!$C$22='Baggrundsdata - HICP - deflator'!$C$20,'Baggrundsdata - HICP - deflator'!$B76,\"*\"))))))))))),\"*\")","v":0.85390185000000018},{"$f":"IFERROR('Baggrundsdata - HICP - deflator'!D76/IF($M$22=$C$20,$L76,IF($L$22=$C$20,$K76,IF($K$22=$C$20,$J76,IF($J$22=$C$20,$I76,IF($I$22=$C$20,'Baggrundsdata - HICP - deflator'!$H76,IF($H$22=$C$20,'Baggrundsdata - HICP - deflator'!$G76,IF($C$20=$G$22,'Baggrundsdata - HICP - deflator'!$F76,IF($F$22=$C$20,'Baggrundsdata - HICP - deflator'!$E76,IF($E$22=$C$20,'Baggrundsdata - HICP - deflator'!$D76,IF($D$22=$C$20,'Baggrundsdata - HICP - deflator'!$C76,IF('Baggrundsdata - HICP - deflator'!$C$22='Baggrundsdata - HICP - deflator'!$C$20,'Baggrundsdata - HICP - deflator'!$B76,\"*\"))))))))))),\"*\")","v":0.85560066000000012},{"$f":"IFERROR('Baggrundsdata - HICP - deflator'!E76/IF($M$22=$C$20,$L76,IF($L$22=$C$20,$K76,IF($K$22=$C$20,$J76,IF($J$22=$C$20,$I76,IF($I$22=$C$20,'Baggrundsdata - HICP - deflator'!$H76,IF($H$22=$C$20,'Baggrundsdata - HICP - deflator'!$G76,IF($C$20=$G$22,'Baggrundsdata - HICP - deflator'!$F76,IF($F$22=$C$20,'Baggrundsdata - HICP - deflator'!$E76,IF($E$22=$C$20,'Baggrundsdata - HICP - deflator'!$D76,IF($D$22=$C$20,'Baggrundsdata - HICP - deflator'!$C76,IF('Baggrundsdata - HICP - deflator'!$C$22='Baggrundsdata - HICP - deflator'!$C$20,'Baggrundsdata - HICP - deflator'!$B76,\"*\"))))))))))),\"*\")","v":0.87898428000000006},{"$f":"IFERROR('Baggrundsdata - HICP - deflator'!F76/IF($M$22=$C$20,$L76,IF($L$22=$C$20,$K76,IF($K$22=$C$20,$J76,IF($J$22=$C$20,$I76,IF($I$22=$C$20,'Baggrundsdata - HICP - deflator'!$H76,IF($H$22=$C$20,'Baggrundsdata - HICP - deflator'!$G76,IF($C$20=$G$22,'Baggrundsdata - HICP - deflator'!$F76,IF($F$22=$C$20,'Baggrundsdata - HICP - deflator'!$E76,IF($E$22=$C$20,'Baggrundsdata - HICP - deflator'!$D76,IF($D$22=$C$20,'Baggrundsdata - HICP - deflator'!$C76,IF('Baggrundsdata - HICP - deflator'!$C$22='Baggrundsdata - HICP - deflator'!$C$20,'Baggrundsdata - HICP - deflator'!$B76,\"*\"))))))))))),\"*\")","v":0.92365299000000023},{"$f":"IFERROR('Baggrundsdata - HICP - deflator'!G76/IF($M$22=$C$20,$L76,IF($L$22=$C$20,$K76,IF($K$22=$C$20,$J76,IF($J$22=$C$20,$I76,IF($I$22=$C$20,'Baggrundsdata - HICP - deflator'!$H76,IF($H$22=$C$20,'Baggrundsdata - HICP - deflator'!$G76,IF($C$20=$G$22,'Baggrundsdata - HICP - deflator'!$F76,IF($F$22=$C$20,'Baggrundsdata - HICP - deflator'!$E76,IF($E$22=$C$20,'Baggrundsdata - HICP - deflator'!$D76,IF($D$22=$C$20,'Baggrundsdata - HICP - deflator'!$C76,IF('Baggrundsdata - HICP - deflator'!$C$22='Baggrundsdata - HICP - deflator'!$C$20,'Baggrundsdata - HICP - deflator'!$B76,\"*\"))))))))))),\"*\")","v":0.96262569000000009},{"$f":"IFERROR('Baggrundsdata - HICP - deflator'!H76/IF($M$22=$C$20,$L76,IF($L$22=$C$20,$K76,IF($K$22=$C$20,$J76,IF($J$22=$C$20,$I76,IF($I$22=$C$20,'Baggrundsdata - HICP - deflator'!$H76,IF($H$22=$C$20,'Baggrundsdata - HICP - deflator'!$G76,IF($C$20=$G$22,'Baggrundsdata - HICP - deflator'!$F76,IF($F$22=$C$20,'Baggrundsdata - HICP - deflator'!$E76,IF($E$22=$C$20,'Baggrundsdata - HICP - deflator'!$D76,IF($D$22=$C$20,'Baggrundsdata - HICP - deflator'!$C76,IF('Baggrundsdata - HICP - deflator'!$C$22='Baggrundsdata - HICP - deflator'!$C$20,'Baggrundsdata - HICP - deflator'!$B76,\"*\"))))))))))),\"*\")","v":0.99390378000000001},{"$f":"IFERROR('Baggrundsdata - HICP - deflator'!I76/IF($M$22=$C$20,$L76,IF($L$22=$C$20,$K76,IF($K$22=$C$20,$J76,IF($J$22=$C$20,$I76,IF($I$22=$C$20,'Baggrundsdata - HICP - deflator'!$H76,IF($H$22=$C$20,'Baggrundsdata - HICP - deflator'!$G76,IF($C$20=$G$22,'Baggrundsdata - HICP - deflator'!$F76,IF($F$22=$C$20,'Baggrundsdata - HICP - deflator'!$E76,IF($E$22=$C$20,'Baggrundsdata - HICP - deflator'!$D76,IF($D$22=$C$20,'Baggrundsdata - HICP - deflator'!$C76,IF('Baggrundsdata - HICP - deflator'!$C$22='Baggrundsdata - HICP - deflator'!$C$20,'Baggrundsdata - HICP - deflator'!$B76,\"*\"))))))))))),\"*\")","v":0.99860049000000017},{"$f":"IFERROR('Baggrundsdata - HICP - deflator'!J76/IF($M$22=$C$20,$L76,IF($L$22=$C$20,$K76,IF($K$22=$C$20,$J76,IF($J$22=$C$20,$I76,IF($I$22=$C$20,'Baggrundsdata - HICP - deflator'!$H76,IF($H$22=$C$20,'Baggrundsdata - HICP - deflator'!$G76,IF($C$20=$G$22,'Baggrundsdata - HICP - deflator'!$F76,IF($F$22=$C$20,'Baggrundsdata - HICP - deflator'!$E76,IF($E$22=$C$20,'Baggrundsdata - HICP - deflator'!$D76,IF($D$22=$C$20,'Baggrundsdata - HICP - deflator'!$C76,IF('Baggrundsdata - HICP - deflator'!$C$22='Baggrundsdata - HICP - deflator'!$C$20,'Baggrundsdata - HICP - deflator'!$B76,\"*\"))))))))))),\"*\")","v":0.99930000000000008},{"$f":"IFERROR('Baggrundsdata - HICP - deflator'!K76/IF($M$22=$C$20,$L76,IF($L$22=$C$20,$K76,IF($K$22=$C$20,$J76,IF($J$22=$C$20,$I76,IF($I$22=$C$20,'Baggrundsdata - HICP - deflator'!$H76,IF($H$22=$C$20,'Baggrundsdata - HICP - deflator'!$G76,IF($C$20=$G$22,'Baggrundsdata - HICP - deflator'!$F76,IF($F$22=$C$20,'Baggrundsdata - HICP - deflator'!$E76,IF($E$22=$C$20,'Baggrundsdata - HICP - deflator'!$D76,IF($D$22=$C$20,'Baggrundsdata - HICP - deflator'!$C76,IF('Baggrundsdata - HICP - deflator'!$C$22='Baggrundsdata - HICP - deflator'!$C$20,'Baggrundsdata - HICP - deflator'!$B76,\"*\"))))))))))),\"*\")","v":1},{"$f":"IFERROR('Baggrundsdata - HICP - deflator'!L76/IF($M$22=$C$20,$L76,IF($L$22=$C$20,$K76,IF($K$22=$C$20,$J76,IF($J$22=$C$20,$I76,IF($I$22=$C$20,'Baggrundsdata - HICP - deflator'!$H76,IF($H$22=$C$20,'Baggrundsdata - HICP - deflator'!$G76,IF($C$20=$G$22,'Baggrundsdata - HICP - deflator'!$F76,IF($F$22=$C$20,'Baggrundsdata - HICP - deflator'!$E76,IF($E$22=$C$20,'Baggrundsdata - HICP - deflator'!$D76,IF($D$22=$C$20,'Baggrundsdata - HICP - deflator'!$C76,IF('Baggrundsdata - HICP - deflator'!$C$22='Baggrundsdata - HICP - deflator'!$C$20,'Baggrundsdata - HICP - deflator'!$B76,\"*\"))))))))))),\"*\")","v":0},null,{"$f":"IF(A76='Level 1'!A58,\"sand\",\"falsk\")","v":"sand"},null,null,"Holland",{"$f":"IFERROR('Baggrundsdata - HICP - deflator'!B87/IF($AC$22=$S$20,$L87,IF($AB$22=$S$20,$K87,IF($AA$22=$S$20,$J87,IF($Z$22=$S$20,$I$87,IF($Y$22=$S$20,'Baggrundsdata - HICP - deflator'!$H87,IF($X$22=$S$20,'Baggrundsdata - HICP - deflator'!$G87,IF($S$20=$W$22,'Baggrundsdata - HICP - deflator'!$F87,IF($V$22=$S$20,'Baggrundsdata - HICP - deflator'!$E87,IF($U$22=$S$20,'Baggrundsdata - HICP - deflator'!$D87,IF($T$22=$S$20,'Baggrundsdata - HICP - deflator'!$C87,IF($S$22=$S$20,'Baggrundsdata - HICP - deflator'!$B87,\"*\"))))))))))),\"*\")","v":0.88174444000000007},{"$f":"IFERROR('Baggrundsdata - HICP - deflator'!C87/IF($AC$22=$S$20,$L87,IF($AB$22=$S$20,$K87,IF($AA$22=$S$20,$J87,IF($Z$22=$S$20,$I$87,IF($Y$22=$S$20,'Baggrundsdata - HICP - deflator'!$H87,IF($X$22=$S$20,'Baggrundsdata - HICP - deflator'!$G87,IF($S$20=$W$22,'Baggrundsdata - HICP - deflator'!$F87,IF($V$22=$S$20,'Baggrundsdata - HICP - deflator'!$E87,IF($U$22=$S$20,'Baggrundsdata - HICP - deflator'!$D87,IF($T$22=$S$20,'Baggrundsdata - HICP - deflator'!$C87,IF($S$22=$S$20,'Baggrundsdata - HICP - deflator'!$B87,\"*\"))))))))))),\"*\")","v":0.90130328000000004},{"$f":"IFERROR('Baggrundsdata - HICP - deflator'!D87/IF($AC$22=$S$20,$L87,IF($AB$22=$S$20,$K87,IF($AA$22=$S$20,$J87,IF($Z$22=$S$20,$I$87,IF($Y$22=$S$20,'Baggrundsdata - HICP - deflator'!$H87,IF($X$22=$S$20,'Baggrundsdata - HICP - deflator'!$G87,IF($S$20=$W$22,'Baggrundsdata - HICP - deflator'!$F87,IF($V$22=$S$20,'Baggrundsdata - HICP - deflator'!$E87,IF($U$22=$S$20,'Baggrundsdata - HICP - deflator'!$D87,IF($T$22=$S$20,'Baggrundsdata - HICP - deflator'!$C87,IF($S$22=$S$20,'Baggrundsdata - HICP - deflator'!$B87,\"*\"))))))))))),\"*\")","v":0.91008480000000014},{"$f":"IFERROR('Baggrundsdata - HICP - deflator'!E87/IF($AC$22=$S$20,$L87,IF($AB$22=$S$20,$K87,IF($AA$22=$S$20,$J87,IF($Z$22=$S$20,$I$87,IF($Y$22=$S$20,'Baggrundsdata - HICP - deflator'!$H87,IF($X$22=$S$20,'Baggrundsdata - HICP - deflator'!$G87,IF($S$20=$W$22,'Baggrundsdata - HICP - deflator'!$F87,IF($V$22=$S$20,'Baggrundsdata - HICP - deflator'!$E87,IF($U$22=$S$20,'Baggrundsdata - HICP - deflator'!$D87,IF($T$22=$S$20,'Baggrundsdata - HICP - deflator'!$C87,IF($S$22=$S$20,'Baggrundsdata - HICP - deflator'!$B87,\"*\"))))))))))),\"*\")","v":0.9185669500000001},{"$f":"IFERROR('Baggrundsdata - HICP - deflator'!F87/IF($AC$22=$S$20,$L87,IF($AB$22=$S$20,$K87,IF($AA$22=$S$20,$J87,IF($Z$22=$S$20,$I$87,IF($Y$22=$S$20,'Baggrundsdata - HICP - deflator'!$H87,IF($X$22=$S$20,'Baggrundsdata - HICP - deflator'!$G87,IF($S$20=$W$22,'Baggrundsdata - HICP - deflator'!$F87,IF($V$22=$S$20,'Baggrundsdata - HICP - deflator'!$E87,IF($U$22=$S$20,'Baggrundsdata - HICP - deflator'!$D87,IF($T$22=$S$20,'Baggrundsdata - HICP - deflator'!$C87,IF($S$22=$S$20,'Baggrundsdata - HICP - deflator'!$B87,\"*\"))))))))))),\"*\")","v":0.94121927999999999},{"$f":"IFERROR('Baggrundsdata - HICP - deflator'!G87/IF($AC$22=$S$20,$L87,IF($AB$22=$S$20,$K87,IF($AA$22=$S$20,$J87,IF($Z$22=$S$20,$I$87,IF($Y$22=$S$20,'Baggrundsdata - HICP - deflator'!$H87,IF($X$22=$S$20,'Baggrundsdata - HICP - deflator'!$G87,IF($S$20=$W$22,'Baggrundsdata - HICP - deflator'!$F87,IF($V$22=$S$20,'Baggrundsdata - HICP - deflator'!$E87,IF($U$22=$S$20,'Baggrundsdata - HICP - deflator'!$D87,IF($T$22=$S$20,'Baggrundsdata - HICP - deflator'!$C87,IF($S$22=$S$20,'Baggrundsdata - HICP - deflator'!$B87,\"*\"))))))))))),\"*\")","v":0.96786321000000008},{"$f":"IFERROR('Baggrundsdata - HICP - deflator'!H87/IF($AC$22=$S$20,$L87,IF($AB$22=$S$20,$K87,IF($AA$22=$S$20,$J87,IF($Z$22=$S$20,$I$87,IF($Y$22=$S$20,'Baggrundsdata - HICP - deflator'!$H87,IF($X$22=$S$20,'Baggrundsdata - HICP - deflator'!$G87,IF($S$20=$W$22,'Baggrundsdata - HICP - deflator'!$F87,IF($V$22=$S$20,'Baggrundsdata - HICP - deflator'!$E87,IF($U$22=$S$20,'Baggrundsdata - HICP - deflator'!$D87,IF($T$22=$S$20,'Baggrundsdata - HICP - deflator'!$C87,IF($S$22=$S$20,'Baggrundsdata - HICP - deflator'!$B87,\"*\"))))))))))),\"*\")","v":0.99261113000000012},{"$f":"IFERROR('Baggrundsdata - HICP - deflator'!I87/IF($AC$22=$S$20,$L87,IF($AB$22=$S$20,$K87,IF($AA$22=$S$20,$J87,IF($Z$22=$S$20,$I$87,IF($Y$22=$S$20,'Baggrundsdata - HICP - deflator'!$H87,IF($X$22=$S$20,'Baggrundsdata - HICP - deflator'!$G87,IF($S$20=$W$22,'Baggrundsdata - HICP - deflator'!$F87,IF($V$22=$S$20,'Baggrundsdata - HICP - deflator'!$E87,IF($U$22=$S$20,'Baggrundsdata - HICP - deflator'!$D87,IF($T$22=$S$20,'Baggrundsdata - HICP - deflator'!$C87,IF($S$22=$S$20,'Baggrundsdata - HICP - deflator'!$B87,\"*\"))))))))))),\"*\")","v":0.9958044100000002},{"$f":"IFERROR('Baggrundsdata - HICP - deflator'!J87/IF($AC$22=$S$20,$L87,IF($AB$22=$S$20,$K87,IF($AA$22=$S$20,$J87,IF($Z$22=$S$20,$I$87,IF($Y$22=$S$20,'Baggrundsdata - HICP - deflator'!$H87,IF($X$22=$S$20,'Baggrundsdata - HICP - deflator'!$G87,IF($S$20=$W$22,'Baggrundsdata - HICP - deflator'!$F87,IF($V$22=$S$20,'Baggrundsdata - HICP - deflator'!$E87,IF($U$22=$S$20,'Baggrundsdata - HICP - deflator'!$D87,IF($T$22=$S$20,'Baggrundsdata - HICP - deflator'!$C87,IF($S$22=$S$20,'Baggrundsdata - HICP - deflator'!$B87,\"*\"))))))))))),\"*\")","v":0.99790000000000012},{"$f":"IFERROR('Baggrundsdata - HICP - deflator'!K87/IF($AC$22=$S$20,$L87,IF($AB$22=$S$20,$K87,IF($AA$22=$S$20,$J87,IF($Z$22=$S$20,$I$87,IF($Y$22=$S$20,'Baggrundsdata - HICP - deflator'!$H87,IF($X$22=$S$20,'Baggrundsdata - HICP - deflator'!$G87,IF($S$20=$W$22,'Baggrundsdata - HICP - deflator'!$F87,IF($V$22=$S$20,'Baggrundsdata - HICP - deflator'!$E87,IF($U$22=$S$20,'Baggrundsdata - HICP - deflator'!$D87,IF($T$22=$S$20,'Baggrundsdata - HICP - deflator'!$C87,IF($S$22=$S$20,'Baggrundsdata - HICP - deflator'!$B87,\"*\"))))))))))),\"*\")","v":1},{"$f":"IFERROR('Baggrundsdata - HICP - deflator'!L87/IF($AC$22=$S$20,$L87,IF($AB$22=$S$20,$K87,IF($AA$22=$S$20,$J87,IF($Z$22=$S$20,$I$87,IF($Y$22=$S$20,'Baggrundsdata - HICP - deflator'!$H87,IF($X$22=$S$20,'Baggrundsdata - HICP - deflator'!$G87,IF($S$20=$W$22,'Baggrundsdata - HICP - deflator'!$F87,IF($V$22=$S$20,'Baggrundsdata - HICP - deflator'!$E87,IF($U$22=$S$20,'Baggrundsdata - HICP - deflator'!$D87,IF($T$22=$S$20,'Baggrundsdata - HICP - deflator'!$C87,IF($S$22=$S$20,'Baggrundsdata - HICP - deflator'!$B87,\"*\"))))))))))),\"*\")","v":0},null,{"$f":"IF(R29=Forside!B45,\"sand\",\"falsk\")","v":"sand"}]
[null,"Irland",{"$f":"IFERROR('Baggrundsdata - HICP - deflator'!B77/IF($M$22=$C$20,$L77,IF($L$22=$C$20,$K77,IF($K$22=$C$20,$J77,IF($J$22=$C$20,$I77,IF($I$22=$C$20,'Baggrundsdata - HICP - deflator'!$H77,IF($H$22=$C$20,'Baggrundsdata - HICP - deflator'!$G77,IF($C$20=$G$22,'Baggrundsdata - HICP - deflator'!$F77,IF($F$22=$C$20,'Baggrundsdata - HICP - deflator'!$E77,IF($E$22=$C$20,'Baggrundsdata - HICP - deflator'!$D77,IF($D$22=$C$20,'Baggrundsdata - HICP - deflator'!$C77,IF('Baggrundsdata - HICP - deflator'!$C$22='Baggrundsdata - HICP - deflator'!$C$20,'Baggrundsdata - HICP - deflator'!$B77,\"*\"))))))))))),\"*\")","v":0.96400000000000008},{"$f":"IFERROR('Baggrundsdata - HICP - deflator'!C77/IF($M$22=$C$20,$L77,IF($L$22=$C$20,$K77,IF($K$22=$C$20,$J77,IF($J$22=$C$20,$I77,IF($I$22=$C$20,'Baggrundsdata - HICP - deflator'!$H77,IF($H$22=$C$20,'Baggrundsdata - HICP - deflator'!$G77,IF($C$20=$G$22,'Baggrundsdata - HICP - deflator'!$F77,IF($F$22=$C$20,'Baggrundsdata - HICP - deflator'!$E77,IF($E$22=$C$20,'Baggrundsdata - HICP - deflator'!$D77,IF($D$22=$C$20,'Baggrundsdata - HICP - deflator'!$C77,IF('Baggrundsdata - HICP - deflator'!$C$22='Baggrundsdata - HICP - deflator'!$C$20,'Baggrundsdata - HICP - deflator'!$B77,\"*\"))))))))))),\"*\")","v":0.995},{"$f":"IFERROR('Baggrundsdata - HICP - deflator'!D77/IF($M$22=$C$20,$L77,IF($L$22=$C$20,$K77,IF($K$22=$C$20,$J77,IF($J$22=$C$20,$I77,IF($I$22=$C$20,'Baggrundsdata - HICP - deflator'!$H77,IF($H$22=$C$20,'Baggrundsdata - HICP - deflator'!$G77,IF($C$20=$G$22,'Baggrundsdata - HICP - deflator'!$F77,IF($F$22=$C$20,'Baggrundsdata - HICP - deflator'!$E77,IF($E$22=$C$20,'Baggrundsdata - HICP - deflator'!$D77,IF($D$22=$C$20,'Baggrundsdata - HICP - deflator'!$C77,IF('Baggrundsdata - HICP - deflator'!$C$22='Baggrundsdata - HICP - deflator'!$C$20,'Baggrundsdata - HICP - deflator'!$B77,\"*\"))))))))))),\"*\")","v":0.97799999999999998},{"$f":"IFERROR('Baggrundsdata - HICP - deflator'!E77/IF($M$22=$C$20,$L77,IF($L$22=$C$20,$K77,IF($K$22=$C$20,$J77,IF($J$22=$C$20,$I77,IF($I$22=$C$20,'Baggrundsdata - HICP - deflator'!$H77,IF($H$22=$C$20,'Baggrundsdata - HICP - deflator'!$G77,IF($C$20=$G$22,'Baggrundsdata - HICP - deflator'!$F77,IF($F$22=$C$20,'Baggrundsdata - HICP - deflator'!$E77,IF($E$22=$C$20,'Baggrundsdata - HICP - deflator'!$D77,IF($D$22=$C$20,'Baggrundsdata - HICP - deflator'!$C77,IF('Baggrundsdata - HICP - deflator'!$C$22='Baggrundsdata - HICP - deflator'!$C$20,'Baggrundsdata - HICP - deflator'!$B77,\"*\"))))))))))),\"*\")","v":0.96200000000000008},{"$f":"IFERROR('Baggrundsdata - HICP - deflator'!F77/IF($M$22=$C$20,$L77,IF($L$22=$C$20,$K77,IF($K$22=$C$20,$J77,IF($J$22=$C$20,$I77,IF($I$22=$C$20,'Baggrundsdata - HICP - deflator'!$H77,IF($H$22=$C$20,'Baggrundsdata - HICP - deflator'!$G77,IF($C$20=$G$22,'Baggrundsdata - HICP - deflator'!$F77,IF($F$22=$C$20,'Baggrundsdata - HICP - deflator'!$E77,IF($E$22=$C$20,'Baggrundsdata - HICP - deflator'!$D77,IF($D$22=$C$20,'Baggrundsdata - HICP - deflator'!$C77,IF('Baggrundsdata - HICP - deflator'!$C$22='Baggrundsdata - HICP - deflator'!$C$20,'Baggrundsdata - HICP - deflator'!$B77,\"*\"))))))))))),\"*\")","v":0.97400000000000009},{"$f":"IFERROR('Baggrundsdata - HICP - deflator'!G77/IF($M$22=$C$20,$L77,IF($L$22=$C$20,$K77,IF($K$22=$C$20,$J77,IF($J$22=$C$20,$I77,IF($I$22=$C$20,'Baggrundsdata - HICP - deflator'!$H77,IF($H$22=$C$20,'Baggrundsdata - HICP - deflator'!$G77,IF($C$20=$G$22,'Baggrundsdata - HICP - deflator'!$F77,IF($F$22=$C$20,'Baggrundsdata - HICP - deflator'!$E77,IF($E$22=$C$20,'Baggrundsdata - HICP - deflator'!$D77,IF($D$22=$C$20,'Baggrundsdata - HICP - deflator'!$C77,IF('Baggrundsdata - HICP - deflator'!$C$22='Baggrundsdata - HICP - deflator'!$C$20,'Baggrundsdata - HICP - deflator'!$B77,\"*\"))))))))))),\"*\")","v":0.99199999999999999},{"$f":"IFERROR('Baggrundsdata - HICP - deflator'!H77/IF($M$22=$C$20,$L77,IF($L$22=$C$20,$K77,IF($K$22=$C$20,$J77,IF($J$22=$C$20,$I77,IF($I$22=$C$20,'Baggrundsdata - HICP - deflator'!$H77,IF($H$22=$C$20,'Baggrundsdata - HICP - deflator'!$G77,IF($C$20=$G$22,'Baggrundsdata - HICP - deflator'!$F77,IF($F$22=$C$20,'Baggrundsdata - HICP - deflator'!$E77,IF($E$22=$C$20,'Baggrundsdata - HICP - deflator'!$D77,IF($D$22=$C$20,'Baggrundsdata - HICP - deflator'!$C77,IF('Baggrundsdata - HICP - deflator'!$C$22='Baggrundsdata - HICP - deflator'!$C$20,'Baggrundsdata - HICP - deflator'!$B77,\"*\"))))))))))),\"*\")","v":0.997},{"$f":"IFERROR('Baggrundsdata - HICP - deflator'!I77/IF($M$22=$C$20,$L77,IF($L$22=$C$20,$K77,IF($K$22=$C$20,$J77,IF($J$22=$C$20,$I77,IF($I$22=$C$20,'Baggrundsdata - HICP - deflator'!$H77,IF($H$22=$C$20,'Baggrundsdata - HICP - deflator'!$G77,IF($C$20=$G$22,'Baggrundsdata - HICP - deflator'!$F77,IF($F$22=$C$20,'Baggrundsdata - HICP - deflator'!$E77,IF($E$22=$C$20,'Baggrundsdata - HICP - deflator'!$D77,IF($D$22=$C$20,'Baggrundsdata - HICP - deflator'!$C77,IF('Baggrundsdata - HICP - deflator'!$C$22='Baggrundsdata - HICP - deflator'!$C$20,'Baggrundsdata - HICP - deflator'!$B77,\"*\"))))))))))),\"*\")","v":1},{"$f":"IFERROR('Baggrundsdata - HICP - deflator'!J77/IF($M$22=$C$20,$L77,IF($L$22=$C$20,$K77,IF($K$22=$C$20,$J77,IF($J$22=$C$20,$I77,IF($I$22=$C$20,'Baggrundsdata - HICP - deflator'!$H77,IF($H$22=$C$20,'Baggrundsdata - HICP - deflator'!$G77,IF($C$20=$G$22,'Baggrundsdata - HICP - deflator'!$F77,IF($F$22=$C$20,'Baggrundsdata - HICP - deflator'!$E77,IF($E$22=$C$20,'Baggrundsdata - HICP - deflator'!$D77,IF($D$22=$C$20,'Baggrundsdata - HICP - deflator'!$C77,IF('Baggrundsdata - HICP - deflator'!$C$22='Baggrundsdata - HICP - deflator'!$C$20,'Baggrundsdata - HICP - deflator'!$B77,\"*\"))))))))))),\"*\")","v":1},{"$f":"IFERROR('Baggrundsdata - HICP - deflator'!K77/IF($M$22=$C$20,$L77,IF($L$22=$C$20,$K77,IF($K$22=$C$20,$J77,IF($J$22=$C$20,$I77,IF($I$22=$C$20,'Baggrundsdata - HICP - deflator'!$H77,IF($H$22=$C$20,'Baggrundsdata - HICP - deflator'!$G77,IF($C$20=$G$22,'Baggrundsdata - HICP - deflator'!$F77,IF($F$22=$C$20,'Baggrundsdata - HICP - deflator'!$E77,IF($E$22=$C$20,'Baggrundsdata - HICP - deflator'!$D77,IF($D$22=$C$20,'Baggrundsdata - HICP - deflator'!$C77,IF('Baggrundsdata - HICP - deflator'!$C$22='Baggrundsdata - HICP - deflator'!$C$20,'Baggrundsdata - HICP - deflator'!$B77,\"*\"))))))))))),\"*\")","v":1},{"$f":"IFERROR('Baggrundsdata - HICP - deflator'!L77/IF($M$22=$C$20,$L77,IF($L$22=$C$20,$K77,IF($K$22=$C$20,$J77,IF($J$22=$C$20,$I77,IF($I$22=$C$20,'Baggrundsdata - HICP - deflator'!$H77,IF($H$22=$C$20,'Baggrundsdata - HICP - deflator'!$G77,IF($C$20=$G$22,'Baggrundsdata - HICP - deflator'!$F77,IF($F$22=$C$20,'Baggrundsdata - HICP - deflator'!$E77,IF($E$22=$C$20,'Baggrundsdata - HICP - deflator'!$D77,IF($D$22=$C$20,'Baggrundsdata - HICP - deflator'!$C77,IF('Baggrundsdata - HICP - deflator'!$C$22='Baggrundsdata - HICP - deflator'!$C$20,'Baggrundsdata - HICP - deflator'!$B77,\"*\"))))))))))),\"*\")","v":0},null,{"$f":"IF(A77='Level 1'!A59,\"sand\",\"falsk\")","v":"sand"},null,null,"Sverige",{"$f":"IFERROR('Baggrundsdata - HICP - deflator'!B94/IF($AC$22=$S$20,$L94,IF($AB$22=$S$20,$K94,IF($AA$22=$S$20,$J94,IF($Z$22=$S$20,$I$94,IF($Y$22=$S$20,'Baggrundsdata - HICP - deflator'!$H94,IF($X$22=$S$20,'Baggrundsdata - HICP - deflator'!$G94,IF($S$20=$W$22,'Baggrundsdata - HICP - deflator'!$F94,IF($V$22=$S$20,'Baggrundsdata - HICP - deflator'!$E94,IF($U$22=$S$20,'Baggrundsdata - HICP - deflator'!$D94,IF($T$22=$S$20,'Baggrundsdata - HICP - deflator'!$C94,IF($S$22=$S$20,'Baggrundsdata - HICP - deflator'!$B94,\"*\"))))))))))),\"*\")","v":0.89191260000000006},{"$f":"IFERROR('Baggrundsdata - HICP - deflator'!C94/IF($AC$22=$S$20,$L94,IF($AB$22=$S$20,$K94,IF($AA$22=$S$20,$J94,IF($Z$22=$S$20,$I$94,IF($Y$22=$S$20,'Baggrundsdata - HICP - deflator'!$H94,IF($X$22=$S$20,'Baggrundsdata - HICP - deflator'!$G94,IF($S$20=$W$22,'Baggrundsdata - HICP - deflator'!$F94,IF($V$22=$S$20,'Baggrundsdata - HICP - deflator'!$E94,IF($U$22=$S$20,'Baggrundsdata - HICP - deflator'!$D94,IF($T$22=$S$20,'Baggrundsdata - HICP - deflator'!$C94,IF($S$22=$S$20,'Baggrundsdata - HICP - deflator'!$B94,\"*\"))))))))))),\"*\")","v":0.92180190000000006},{"$f":"IFERROR('Baggrundsdata - HICP - deflator'!D94/IF($AC$22=$S$20,$L94,IF($AB$22=$S$20,$K94,IF($AA$22=$S$20,$J94,IF($Z$22=$S$20,$I$94,IF($Y$22=$S$20,'Baggrundsdata - HICP - deflator'!$H94,IF($X$22=$S$20,'Baggrundsdata - HICP - deflator'!$G94,IF($S$20=$W$22,'Baggrundsdata - HICP - deflator'!$F94,IF($V$22=$S$20,'Baggrundsdata - HICP - deflator'!$E94,IF($U$22=$S$20,'Baggrundsdata - HICP - deflator'!$D94,IF($T$22=$S$20,'Baggrundsdata - HICP - deflator'!$C94,IF($S$22=$S$20,'Baggrundsdata - HICP - deflator'!$B94,\"*\"))))))))))),\"*\")","v":0.93967590000000001},{"$f":"IFERROR('Baggrundsdata - HICP - deflator'!E94/IF($AC$22=$S$20,$L94,IF($AB$22=$S$20,$K94,IF($AA$22=$S$20,$J94,IF($Z$22=$S$20,$I$94,IF($Y$22=$S$20,'Baggrundsdata - HICP - deflator'!$H94,IF($X$22=$S$20,'Baggrundsdata - HICP - deflator'!$G94,IF($S$20=$W$22,'Baggrundsdata - HICP - deflator'!$F94,IF($V$22=$S$20,'Baggrundsdata - HICP - deflator'!$E94,IF($U$22=$S$20,'Baggrundsdata - HICP - deflator'!$D94,IF($T$22=$S$20,'Baggrundsdata - HICP - deflator'!$C94,IF($S$22=$S$20,'Baggrundsdata - HICP - deflator'!$B94,\"*\"))))))))))),\"*\")","v":0.95754990000000018},{"$f":"IFERROR('Baggrundsdata - HICP - deflator'!F94/IF($AC$22=$S$20,$L94,IF($AB$22=$S$20,$K94,IF($AA$22=$S$20,$J94,IF($Z$22=$S$20,$I$94,IF($Y$22=$S$20,'Baggrundsdata - HICP - deflator'!$H94,IF($X$22=$S$20,'Baggrundsdata - HICP - deflator'!$G94,IF($S$20=$W$22,'Baggrundsdata - HICP - deflator'!$F94,IF($V$22=$S$20,'Baggrundsdata - HICP - deflator'!$E94,IF($U$22=$S$20,'Baggrundsdata - HICP - deflator'!$D94,IF($T$22=$S$20,'Baggrundsdata - HICP - deflator'!$C94,IF($S$22=$S$20,'Baggrundsdata - HICP - deflator'!$B94,\"*\"))))))))))),\"*\")","v":0.97065750000000006},{"$f":"IFERROR('Baggrundsdata - HICP - deflator'!G94/IF($AC$22=$S$20,$L94,IF($AB$22=$S$20,$K94,IF($AA$22=$S$20,$J94,IF($Z$22=$S$20,$I$94,IF($Y$22=$S$20,'Baggrundsdata - HICP - deflator'!$H94,IF($X$22=$S$20,'Baggrundsdata - HICP - deflator'!$G94,IF($S$20=$W$22,'Baggrundsdata - HICP - deflator'!$F94,IF($V$22=$S$20,'Baggrundsdata - HICP - deflator'!$E94,IF($U$22=$S$20,'Baggrundsdata - HICP - deflator'!$D94,IF($T$22=$S$20,'Baggrundsdata - HICP - deflator'!$C94,IF($S$22=$S$20,'Baggrundsdata - HICP - deflator'!$B94,\"*\"))))))))))),\"*\")","v":0.97969380000000006},{"$f":"IFERROR('Baggrundsdata - HICP - deflator'!H94/IF($AC$22=$S$20,$L94,IF($AB$22=$S$20,$K94,IF($AA$22=$S$20,$J94,IF($Z$22=$S$20,$I$94,IF($Y$22=$S$20,'Baggrundsdata - HICP - deflator'!$H94,IF($X$22=$S$20,'Baggrundsdata - HICP - deflator'!$G94,IF($S$20=$W$22,'Baggrundsdata - HICP - deflator'!$F94,IF($V$22=$S$20,'Baggrundsdata - HICP - deflator'!$E94,IF($U$22=$S$20,'Baggrundsdata - HICP - deflator'!$D94,IF($T$22=$S$20,'Baggrundsdata - HICP - deflator'!$C94,IF($S$22=$S$20,'Baggrundsdata - HICP - deflator'!$B94,\"*\"))))))))))),\"*\")","v":0.98406300000000002},{"$f":"IFERROR('Baggrundsdata - HICP - deflator'!I94/IF($AC$22=$S$20,$L94,IF($AB$22=$S$20,$K94,IF($AA$22=$S$20,$J94,IF($Z$22=$S$20,$I$94,IF($Y$22=$S$20,'Baggrundsdata - HICP - deflator'!$H94,IF($X$22=$S$20,'Baggrundsdata - HICP - deflator'!$G94,IF($S$20=$W$22,'Baggrundsdata - HICP - deflator'!$F94,IF($V$22=$S$20,'Baggrundsdata - HICP - deflator'!$E94,IF($U$22=$S$20,'Baggrundsdata - HICP - deflator'!$D94,IF($T$22=$S$20,'Baggrundsdata - HICP - deflator'!$C94,IF($S$22=$S$20,'Baggrundsdata - HICP - deflator'!$B94,\"*\"))))))))))),\"*\")","v":0.98604900000000006},{"$f":"IFERROR('Baggrundsdata - HICP - deflator'!J94/IF($AC$22=$S$20,$L94,IF($AB$22=$S$20,$K94,IF($AA$22=$S$20,$J94,IF($Z$22=$S$20,$I$94,IF($Y$22=$S$20,'Baggrundsdata - HICP - deflator'!$H94,IF($X$22=$S$20,'Baggrundsdata - HICP - deflator'!$G94,IF($S$20=$W$22,'Baggrundsdata - HICP - deflator'!$F94,IF($V$22=$S$20,'Baggrundsdata - HICP - deflator'!$E94,IF($U$22=$S$20,'Baggrundsdata - HICP - deflator'!$D94,IF($T$22=$S$20,'Baggrundsdata - HICP - deflator'!$C94,IF($S$22=$S$20,'Baggrundsdata - HICP - deflator'!$B94,\"*\"))))))))))),\"*\")","v":0.9930000000000001},{"$f":"IFERROR('Baggrundsdata - HICP - deflator'!K94/IF($AC$22=$S$20,$L94,IF($AB$22=$S$20,$K94,IF($AA$22=$S$20,$J94,IF($Z$22=$S$20,$I$94,IF($Y$22=$S$20,'Baggrundsdata - HICP - deflator'!$H94,IF($X$22=$S$20,'Baggrundsdata - HICP - deflator'!$G94,IF($S$20=$W$22,'Baggrundsdata - HICP - deflator'!$F94,IF($V$22=$S$20,'Baggrundsdata - HICP - deflator'!$E94,IF($U$22=$S$20,'Baggrundsdata - HICP - deflator'!$D94,IF($T$22=$S$20,'Baggrundsdata - HICP - deflator'!$C94,IF($S$22=$S$20,'Baggrundsdata - HICP - deflator'!$B94,\"*\"))))))))))),\"*\")","v":1},{"$f":"IFERROR('Baggrundsdata - HICP - deflator'!L94/IF($AC$22=$S$20,$L94,IF($AB$22=$S$20,$K94,IF($AA$22=$S$20,$J94,IF($Z$22=$S$20,$I$94,IF($Y$22=$S$20,'Baggrundsdata - HICP - deflator'!$H94,IF($X$22=$S$20,'Baggrundsdata - HICP - deflator'!$G94,IF($S$20=$W$22,'Baggrundsdata - HICP - deflator'!$F94,IF($V$22=$S$20,'Baggrundsdata - HICP - deflator'!$E94,IF($U$22=$S$20,'Baggrundsdata - HICP - deflator'!$D94,IF($T$22=$S$20,'Baggrundsdata - HICP - deflator'!$C94,IF($S$22=$S$20,'Baggrundsdata - HICP - deflator'!$B94,\"*\"))))))))))),\"*\")","v":0},null,{"$f":"IF(R30=Forside!B46,\"sand\",\"falsk\")","v":"sand"}]
[null,"Grækenland",{"$f":"IFERROR('Baggrundsdata - HICP - deflator'!B78/IF($M$22=$C$20,$L78,IF($L$22=$C$20,$K78,IF($K$22=$C$20,$J78,IF($J$22=$C$20,$I78,IF($I$22=$C$20,'Baggrundsdata - HICP - deflator'!$H78,IF($H$22=$C$20,'Baggrundsdata - HICP - deflator'!$G78,IF($C$20=$G$22,'Baggrundsdata - HICP - deflator'!$F78,IF($F$22=$C$20,'Baggrundsdata - HICP - deflator'!$E78,IF($E$22=$C$20,'Baggrundsdata - HICP - deflator'!$D78,IF($D$22=$C$20,'Baggrundsdata - HICP - deflator'!$C78,IF('Baggrundsdata - HICP - deflator'!$C$22='Baggrundsdata - HICP - deflator'!$C$20,'Baggrundsdata - HICP - deflator'!$B78,\"*\"))))))))))),\"*\")","v":0.90746225000000003},{"$f":"IFERROR('Baggrundsdata - HICP - deflator'!C78/IF($M$22=$C$20,$L78,IF($L$22=$C$20,$K78,IF($K$22=$C$20,$J78,IF($J$22=$C$20,$I78,IF($I$22=$C$20,'Baggrundsdata - HICP - deflator'!$H78,IF($H$22=$C$20,'Baggrundsdata - HICP - deflator'!$G78,IF($C$20=$G$22,'Baggrundsdata - HICP - deflator'!$F78,IF($F$22=$C$20,'Baggrundsdata - HICP - deflator'!$E78,IF($E$22=$C$20,'Baggrundsdata - HICP - deflator'!$D78,IF($D$22=$C$20,'Baggrundsdata - HICP - deflator'!$C78,IF('Baggrundsdata - HICP - deflator'!$C$22='Baggrundsdata - HICP - deflator'!$C$20,'Baggrundsdata - HICP - deflator'!$B78,\"*\"))))))))))),\"*\")","v":0.94588405000000009},{"$f":"IFERROR('Baggrundsdata - HICP - deflator'!D78/IF($M$22=$C$20,$L78,IF($L$22=$C$20,$K78,IF($K$22=$C$20,$J78,IF($J$22=$C$20,$I78,IF($I$22=$C$20,'Baggrundsdata - HICP - deflator'!$H78,IF($H$22=$C$20,'Baggrundsdata - HICP - deflator'!$G78,IF($C$20=$G$22,'Baggrundsdata - HICP - deflator'!$F78,IF($F$22=$C$20,'Baggrundsdata - HICP - deflator'!$E78,IF($E$22=$C$20,'Baggrundsdata - HICP - deflator'!$D78,IF($D$22=$C$20,'Baggrundsdata - HICP - deflator'!$C78,IF('Baggrundsdata - HICP - deflator'!$C$22='Baggrundsdata - HICP - deflator'!$C$20,'Baggrundsdata - HICP - deflator'!$B78,\"*\"))))))))))),\"*\")","v":0.95862391000000013},{"$f":"IFERROR('Baggrundsdata - HICP - deflator'!E78/IF($M$22=$C$20,$L78,IF($L$22=$C$20,$K78,IF($K$22=$C$20,$J78,IF($J$22=$C$20,$I78,IF($I$22=$C$20,'Baggrundsdata - HICP - deflator'!$H78,IF($H$22=$C$20,'Baggrundsdata - HICP - deflator'!$G78,IF($C$20=$G$22,'Baggrundsdata - HICP - deflator'!$F78,IF($F$22=$C$20,'Baggrundsdata - HICP - deflator'!$E78,IF($E$22=$C$20,'Baggrundsdata - HICP - deflator'!$D78,IF($D$22=$C$20,'Baggrundsdata - HICP - deflator'!$C78,IF('Baggrundsdata - HICP - deflator'!$C$22='Baggrundsdata - HICP - deflator'!$C$20,'Baggrundsdata - HICP - deflator'!$B78,\"*\"))))))))))),\"*\")","v":1.00371897},{"$f":"IFERROR('Baggrundsdata - HICP - deflator'!F78/IF($M$22=$C$20,$L78,IF($L$22=$C$20,$K78,IF($K$22=$C$20,$J78,IF($J$22=$C$20,$I78,IF($I$22=$C$20,'Baggrundsdata - HICP - deflator'!$H78,IF($H$22=$C$20,'Baggrundsdata - HICP - deflator'!$G78,IF($C$20=$G$22,'Baggrundsdata - HICP - deflator'!$F78,IF($F$22=$C$20,'Baggrundsdata - HICP - deflator'!$E78,IF($E$22=$C$20,'Baggrundsdata - HICP - deflator'!$D78,IF($D$22=$C$20,'Baggrundsdata - HICP - deflator'!$C78,IF('Baggrundsdata - HICP - deflator'!$C$22='Baggrundsdata - HICP - deflator'!$C$20,'Baggrundsdata - HICP - deflator'!$B78,\"*\"))))))))))),\"*\")","v":1.0349619600000002},{"$f":"IFERROR('Baggrundsdata - HICP - deflator'!G78/IF($M$22=$C$20,$L78,IF($L$22=$C$20,$K78,IF($K$22=$C$20,$J78,IF($J$22=$C$20,$I78,IF($I$22=$C$20,'Baggrundsdata - HICP - deflator'!$H78,IF($H$22=$C$20,'Baggrundsdata - HICP - deflator'!$G78,IF($C$20=$G$22,'Baggrundsdata - HICP - deflator'!$F78,IF($F$22=$C$20,'Baggrundsdata - HICP - deflator'!$E78,IF($E$22=$C$20,'Baggrundsdata - HICP - deflator'!$D78,IF($D$22=$C$20,'Baggrundsdata - HICP - deflator'!$C78,IF('Baggrundsdata - HICP - deflator'!$C$22='Baggrundsdata - HICP - deflator'!$C$20,'Baggrundsdata - HICP - deflator'!$B78,\"*\"))))))))))),\"*\")","v":1.04567962},{"$f":"IFERROR('Baggrundsdata - HICP - deflator'!H78/IF($M$22=$C$20,$L78,IF($L$22=$C$20,$K78,IF($K$22=$C$20,$J78,IF($J$22=$C$20,$I78,IF($I$22=$C$20,'Baggrundsdata - HICP - deflator'!$H78,IF($H$22=$C$20,'Baggrundsdata - HICP - deflator'!$G78,IF($C$20=$G$22,'Baggrundsdata - HICP - deflator'!$F78,IF($F$22=$C$20,'Baggrundsdata - HICP - deflator'!$E78,IF($E$22=$C$20,'Baggrundsdata - HICP - deflator'!$D78,IF($D$22=$C$20,'Baggrundsdata - HICP - deflator'!$C78,IF('Baggrundsdata - HICP - deflator'!$C$22='Baggrundsdata - HICP - deflator'!$C$20,'Baggrundsdata - HICP - deflator'!$B78,\"*\"))))))))))),\"*\")","v":1.0367819400000002},{"$f":"IFERROR('Baggrundsdata - HICP - deflator'!I78/IF($M$22=$C$20,$L78,IF($L$22=$C$20,$K78,IF($K$22=$C$20,$J78,IF($J$22=$C$20,$I78,IF($I$22=$C$20,'Baggrundsdata - HICP - deflator'!$H78,IF($H$22=$C$20,'Baggrundsdata - HICP - deflator'!$G78,IF($C$20=$G$22,'Baggrundsdata - HICP - deflator'!$F78,IF($F$22=$C$20,'Baggrundsdata - HICP - deflator'!$E78,IF($E$22=$C$20,'Baggrundsdata - HICP - deflator'!$D78,IF($D$22=$C$20,'Baggrundsdata - HICP - deflator'!$C78,IF('Baggrundsdata - HICP - deflator'!$C$22='Baggrundsdata - HICP - deflator'!$C$20,'Baggrundsdata - HICP - deflator'!$B78,\"*\"))))))))))),\"*\")","v":1.0223232100000001},{"$f":"IFERROR('Baggrundsdata - HICP - deflator'!J78/IF($M$22=$C$20,$L78,IF($L$22=$C$20,$K78,IF($K$22=$C$20,$J78,IF($J$22=$C$20,$I78,IF($I$22=$C$20,'Baggrundsdata - HICP - deflator'!$H78,IF($H$22=$C$20,'Baggrundsdata - HICP - deflator'!$G78,IF($C$20=$G$22,'Baggrundsdata - HICP - deflator'!$F78,IF($F$22=$C$20,'Baggrundsdata - HICP - deflator'!$E78,IF($E$22=$C$20,'Baggrundsdata - HICP - deflator'!$D78,IF($D$22=$C$20,'Baggrundsdata - HICP - deflator'!$C78,IF('Baggrundsdata - HICP - deflator'!$C$22='Baggrundsdata - HICP - deflator'!$C$20,'Baggrundsdata - HICP - deflator'!$B78,\"*\"))))))))))),\"*\")","v":1.0111000000000001},{"$f":"IFERROR('Baggrundsdata - HICP - deflator'!K78/IF($M$22=$C$20,$L78,IF($L$22=$C$20,$K78,IF($K$22=$C$20,$J78,IF($J$22=$C$20,$I78,IF($I$22=$C$20,'Baggrundsdata - HICP - deflator'!$H78,IF($H$22=$C$20,'Baggrundsdata - HICP - deflator'!$G78,IF($C$20=$G$22,'Baggrundsdata - HICP - deflator'!$F78,IF($F$22=$C$20,'Baggrundsdata - HICP - deflator'!$E78,IF($E$22=$C$20,'Baggrundsdata - HICP - deflator'!$D78,IF($D$22=$C$20,'Baggrundsdata - HICP - deflator'!$C78,IF('Baggrundsdata - HICP - deflator'!$C$22='Baggrundsdata - HICP - deflator'!$C$20,'Baggrundsdata - HICP - deflator'!$B78,\"*\"))))))))))),\"*\")","v":1},{"$f":"IFERROR('Baggrundsdata - HICP - deflator'!L78/IF($M$22=$C$20,$L78,IF($L$22=$C$20,$K78,IF($K$22=$C$20,$J78,IF($J$22=$C$20,$I78,IF($I$22=$C$20,'Baggrundsdata - HICP - deflator'!$H78,IF($H$22=$C$20,'Baggrundsdata - HICP - deflator'!$G78,IF($C$20=$G$22,'Baggrundsdata - HICP - deflator'!$F78,IF($F$22=$C$20,'Baggrundsdata - HICP - deflator'!$E78,IF($E$22=$C$20,'Baggrundsdata - HICP - deflator'!$D78,IF($D$22=$C$20,'Baggrundsdata - HICP - deflator'!$C78,IF('Baggrundsdata - HICP - deflator'!$C$22='Baggrundsdata - HICP - deflator'!$C$20,'Baggrundsdata - HICP - deflator'!$B78,\"*\"))))))))))),\"*\")","v":0},null,{"$f":"IF(A78='Level 1'!A60,\"sand\",\"falsk\")","v":"sand"},null,null,"UK",{"$f":"IFERROR('Baggrundsdata - HICP - deflator'!B95/IF($AC$22=$S$20,$L95,IF($AB$22=$S$20,$K95,IF($AA$22=$S$20,$J95,IF($Z$22=$S$20,$I$95,IF($Y$22=$S$20,'Baggrundsdata - HICP - deflator'!$H95,IF($X$22=$S$20,'Baggrundsdata - HICP - deflator'!$G95,IF($S$20=$W$22,'Baggrundsdata - HICP - deflator'!$F95,IF($V$22=$S$20,'Baggrundsdata - HICP - deflator'!$E95,IF($U$22=$S$20,'Baggrundsdata - HICP - deflator'!$D95,IF($T$22=$S$20,'Baggrundsdata - HICP - deflator'!$C95,IF($S$22=$S$20,'Baggrundsdata - HICP - deflator'!$B95,\"*\"))))))))))),\"*\")","v":0.81799999999999995},{"$f":"IFERROR('Baggrundsdata - HICP - deflator'!C95/IF($AC$22=$S$20,$L95,IF($AB$22=$S$20,$K95,IF($AA$22=$S$20,$J95,IF($Z$22=$S$20,$I$95,IF($Y$22=$S$20,'Baggrundsdata - HICP - deflator'!$H95,IF($X$22=$S$20,'Baggrundsdata - HICP - deflator'!$G95,IF($S$20=$W$22,'Baggrundsdata - HICP - deflator'!$F95,IF($V$22=$S$20,'Baggrundsdata - HICP - deflator'!$E95,IF($U$22=$S$20,'Baggrundsdata - HICP - deflator'!$D95,IF($T$22=$S$20,'Baggrundsdata - HICP - deflator'!$C95,IF($S$22=$S$20,'Baggrundsdata - HICP - deflator'!$B95,\"*\"))))))))))),\"*\")","v":0.84699999999999998},{"$f":"IFERROR('Baggrundsdata - HICP - deflator'!D95/IF($AC$22=$S$20,$L95,IF($AB$22=$S$20,$K95,IF($AA$22=$S$20,$J95,IF($Z$22=$S$20,$I$95,IF($Y$22=$S$20,'Baggrundsdata - HICP - deflator'!$H95,IF($X$22=$S$20,'Baggrundsdata - HICP - deflator'!$G95,IF($S$20=$W$22,'Baggrundsdata - HICP - deflator'!$F95,IF($V$22=$S$20,'Baggrundsdata - HICP - deflator'!$E95,IF($U$22=$S$20,'Baggrundsdata - HICP - deflator'!$D95,IF($T$22=$S$20,'Baggrundsdata - HICP - deflator'!$C95,IF($S$22=$S$20,'Baggrundsdata - HICP - deflator'!$B95,\"*\"))))))))))),\"*\")","v":0.86599999999999999},{"$f":"IFERROR('Baggrundsdata - HICP - deflator'!E95/IF($AC$22=$S$20,$L95,IF($AB$22=$S$20,$K95,IF($AA$22=$S$20,$J95,IF($Z$22=$S$20,$I$95,IF($Y$22=$S$20,'Baggrundsdata - HICP - deflator'!$H95,IF($X$22=$S$20,'Baggrundsdata - HICP - deflator'!$G95,IF($S$20=$W$22,'Baggrundsdata - HICP - deflator'!$F95,IF($V$22=$S$20,'Baggrundsdata - HICP - deflator'!$E95,IF($U$22=$S$20,'Baggrundsdata - HICP - deflator'!$D95,IF($T$22=$S$20,'Baggrundsdata - HICP - deflator'!$C95,IF($S$22=$S$20,'Baggrundsdata - HICP - deflator'!$B95,\"*\"))))))))))),\"*\")","v":0.89400000000000002},{"$f":"IFERROR('Baggrundsdata - HICP - deflator'!F95/IF($AC$22=$S$20,$L95,IF($AB$22=$S$20,$K95,IF($AA$22=$S$20,$J95,IF($Z$22=$S$20,$I$95,IF($Y$22=$S$20,'Baggrundsdata - HICP - deflator'!$H95,IF($X$22=$S$20,'Baggrundsdata - HICP - deflator'!$G95,IF($S$20=$W$22,'Baggrundsdata - HICP - deflator'!$F95,IF($V$22=$S$20,'Baggrundsdata - HICP - deflator'!$E95,IF($U$22=$S$20,'Baggrundsdata - HICP - deflator'!$D95,IF($T$22=$S$20,'Baggrundsdata - HICP - deflator'!$C95,IF($S$22=$S$20,'Baggrundsdata - HICP - deflator'!$B95,\"*\"))))))))))),\"*\")","v":0.93400000000000005},{"$f":"IFERROR('Baggrundsdata - HICP - deflator'!G95/IF($AC$22=$S$20,$L95,IF($AB$22=$S$20,$K95,IF($AA$22=$S$20,$J95,IF($Z$22=$S$20,$I$95,IF($Y$22=$S$20,'Baggrundsdata - HICP - deflator'!$H95,IF($X$22=$S$20,'Baggrundsdata - HICP - deflator'!$G95,IF($S$20=$W$22,'Baggrundsdata - HICP - deflator'!$F95,IF($V$22=$S$20,'Baggrundsdata - HICP - deflator'!$E95,IF($U$22=$S$20,'Baggrundsdata - HICP - deflator'!$D95,IF($T$22=$S$20,'Baggrundsdata - HICP - deflator'!$C95,IF($S$22=$S$20,'Baggrundsdata - HICP - deflator'!$B95,\"*\"))))))))))),\"*\")","v":0.96099999999999997},{"$f":"IFERROR('Baggrundsdata - HICP - deflator'!H95/IF($AC$22=$S$20,$L95,IF($AB$22=$S$20,$K95,IF($AA$22=$S$20,$J95,IF($Z$22=$S$20,$I$95,IF($Y$22=$S$20,'Baggrundsdata - HICP - deflator'!$H95,IF($X$22=$S$20,'Baggrundsdata - HICP - deflator'!$G95,IF($S$20=$W$22,'Baggrundsdata - HICP - deflator'!$F95,IF($V$22=$S$20,'Baggrundsdata - HICP - deflator'!$E95,IF($U$22=$S$20,'Baggrundsdata - HICP - deflator'!$D95,IF($T$22=$S$20,'Baggrundsdata - HICP - deflator'!$C95,IF($S$22=$S$20,'Baggrundsdata - HICP - deflator'!$B95,\"*\"))))))))))),\"*\")","v":0.98499999999999999},{"$f":"IFERROR('Baggrundsdata - HICP - deflator'!I95/IF($AC$22=$S$20,$L95,IF($AB$22=$S$20,$K95,IF($AA$22=$S$20,$J95,IF($Z$22=$S$20,$I$95,IF($Y$22=$S$20,'Baggrundsdata - HICP - deflator'!$H95,IF($X$22=$S$20,'Baggrundsdata - HICP - deflator'!$G95,IF($S$20=$W$22,'Baggrundsdata - HICP - deflator'!$F95,IF($V$22=$S$20,'Baggrundsdata - HICP - deflator'!$E95,IF($U$22=$S$20,'Baggrundsdata - HICP - deflator'!$D95,IF($T$22=$S$20,'Baggrundsdata - HICP - deflator'!$C95,IF($S$22=$S$20,'Baggrundsdata - HICP - deflator'!$B95,\"*\"))))))))))),\"*\")","v":1},{"$f":"IFERROR('Baggrundsdata - HICP - deflator'!J95/IF($AC$22=$S$20,$L95,IF($AB$22=$S$20,$K95,IF($AA$22=$S$20,$J95,IF($Z$22=$S$20,$I$95,IF($Y$22=$S$20,'Baggrundsdata - HICP - deflator'!$H95,IF($X$22=$S$20,'Baggrundsdata - HICP - deflator'!$G95,IF($S$20=$W$22,'Baggrundsdata - HICP - deflator'!$F95,IF($V$22=$S$20,'Baggrundsdata - HICP - deflator'!$E95,IF($U$22=$S$20,'Baggrundsdata - HICP - deflator'!$D95,IF($T$22=$S$20,'Baggrundsdata - HICP - deflator'!$C95,IF($S$22=$S$20,'Baggrundsdata - HICP - deflator'!$B95,\"*\"))))))))))),\"*\")","v":1},{"$f":"IFERROR('Baggrundsdata - HICP - deflator'!K95/IF($AC$22=$S$20,$L95,IF($AB$22=$S$20,$K95,IF($AA$22=$S$20,$J95,IF($Z$22=$S$20,$I$95,IF($Y$22=$S$20,'Baggrundsdata - HICP - deflator'!$H95,IF($X$22=$S$20,'Baggrundsdata - HICP - deflator'!$G95,IF($S$20=$W$22,'Baggrundsdata - HICP - deflator'!$F95,IF($V$22=$S$20,'Baggrundsdata - HICP - deflator'!$E95,IF($U$22=$S$20,'Baggrundsdata - HICP - deflator'!$D95,IF($T$22=$S$20,'Baggrundsdata - HICP - deflator'!$C95,IF($S$22=$S$20,'Baggrundsdata - HICP - deflator'!$B95,\"*\"))))))))))),\"*\")","v":1},{"$f":"IFERROR('Baggrundsdata - HICP - deflator'!L95/IF($AC$22=$S$20,$L95,IF($AB$22=$S$20,$K95,IF($AA$22=$S$20,$J95,IF($Z$22=$S$20,$I$95,IF($Y$22=$S$20,'Baggrundsdata - HICP - deflator'!$H95,IF($X$22=$S$20,'Baggrundsdata - HICP - deflator'!$G95,IF($S$20=$W$22,'Baggrundsdata - HICP - deflator'!$F95,IF($V$22=$S$20,'Baggrundsdata - HICP - deflator'!$E95,IF($U$22=$S$20,'Baggrundsdata - HICP - deflator'!$D95,IF($T$22=$S$20,'Baggrundsdata - HICP - deflator'!$C95,IF($S$22=$S$20,'Baggrundsdata - HICP - deflator'!$B95,\"*\"))))))))))),\"*\")","v":0},null,{"$f":"IF(R31=Forside!B47,\"sand\",\"falsk\")","v":"sand"}]
[null,"Spanien",{"$f":"IFERROR('Baggrundsdata - HICP - deflator'!B79/IF($M$22=$C$20,$L79,IF($L$22=$C$20,$K79,IF($K$22=$C$20,$J79,IF($J$22=$C$20,$I79,IF($I$22=$C$20,'Baggrundsdata - HICP - deflator'!$H79,IF($H$22=$C$20,'Baggrundsdata - HICP - deflator'!$G79,IF($C$20=$G$22,'Baggrundsdata - HICP - deflator'!$F79,IF($F$22=$C$20,'Baggrundsdata - HICP - deflator'!$E79,IF($E$22=$C$20,'Baggrundsdata - HICP - deflator'!$D79,IF($D$22=$C$20,'Baggrundsdata - HICP - deflator'!$C79,IF('Baggrundsdata - HICP - deflator'!$C$22='Baggrundsdata - HICP - deflator'!$C$20,'Baggrundsdata - HICP - deflator'!$B79,\"*\"))))))))))),\"*\")","v":0.89309124999999989},{"$f":"IFERROR('Baggrundsdata - HICP - deflator'!C79/IF($M$22=$C$20,$L79,IF($L$22=$C$20,$K79,IF($K$22=$C$20,$J79,IF($J$22=$C$20,$I79,IF($I$22=$C$20,'Baggrundsdata - HICP - deflator'!$H79,IF($H$22=$C$20,'Baggrundsdata - HICP - deflator'!$G79,IF($C$20=$G$22,'Baggrundsdata - HICP - deflator'!$F79,IF($F$22=$C$20,'Baggrundsdata - HICP - deflator'!$E79,IF($E$22=$C$20,'Baggrundsdata - HICP - deflator'!$D79,IF($D$22=$C$20,'Baggrundsdata - HICP - deflator'!$C79,IF('Baggrundsdata - HICP - deflator'!$C$22='Baggrundsdata - HICP - deflator'!$C$20,'Baggrundsdata - HICP - deflator'!$B79,\"*\"))))))))))),\"*\")","v":0.92992182999999984},{"$f":"IFERROR('Baggrundsdata - HICP - deflator'!D79/IF($M$22=$C$20,$L79,IF($L$22=$C$20,$K79,IF($K$22=$C$20,$J79,IF($J$22=$C$20,$I79,IF($I$22=$C$20,'Baggrundsdata - HICP - deflator'!$H79,IF($H$22=$C$20,'Baggrundsdata - HICP - deflator'!$G79,IF($C$20=$G$22,'Baggrundsdata - HICP - deflator'!$F79,IF($F$22=$C$20,'Baggrundsdata - HICP - deflator'!$E79,IF($E$22=$C$20,'Baggrundsdata - HICP - deflator'!$D79,IF($D$22=$C$20,'Baggrundsdata - HICP - deflator'!$C79,IF('Baggrundsdata - HICP - deflator'!$C$22='Baggrundsdata - HICP - deflator'!$C$20,'Baggrundsdata - HICP - deflator'!$B79,\"*\"))))))))))),\"*\")","v":0.92770796999999983},{"$f":"IFERROR('Baggrundsdata - HICP - deflator'!E79/IF($M$22=$C$20,$L79,IF($L$22=$C$20,$K79,IF($K$22=$C$20,$J79,IF($J$22=$C$20,$I79,IF($I$22=$C$20,'Baggrundsdata - HICP - deflator'!$H79,IF($H$22=$C$20,'Baggrundsdata - HICP - deflator'!$G79,IF($C$20=$G$22,'Baggrundsdata - HICP - deflator'!$F79,IF($F$22=$C$20,'Baggrundsdata - HICP - deflator'!$E79,IF($E$22=$C$20,'Baggrundsdata - HICP - deflator'!$D79,IF($D$22=$C$20,'Baggrundsdata - HICP - deflator'!$C79,IF('Baggrundsdata - HICP - deflator'!$C$22='Baggrundsdata - HICP - deflator'!$C$20,'Baggrundsdata - HICP - deflator'!$B79,\"*\"))))))))))),\"*\")","v":0.94672703999999985},{"$f":"IFERROR('Baggrundsdata - HICP - deflator'!F79/IF($M$22=$C$20,$L79,IF($L$22=$C$20,$K79,IF($K$22=$C$20,$J79,IF($J$22=$C$20,$I79,IF($I$22=$C$20,'Baggrundsdata - HICP - deflator'!$H79,IF($H$22=$C$20,'Baggrundsdata - HICP - deflator'!$G79,IF($C$20=$G$22,'Baggrundsdata - HICP - deflator'!$F79,IF($F$22=$C$20,'Baggrundsdata - HICP - deflator'!$E79,IF($E$22=$C$20,'Baggrundsdata - HICP - deflator'!$D79,IF($D$22=$C$20,'Baggrundsdata - HICP - deflator'!$C79,IF('Baggrundsdata - HICP - deflator'!$C$22='Baggrundsdata - HICP - deflator'!$C$20,'Baggrundsdata - HICP - deflator'!$B79,\"*\"))))))))))),\"*\")","v":0.97550721999999979},{"$f":"IFERROR('Baggrundsdata - HICP - deflator'!G79/IF($M$22=$C$20,$L79,IF($L$22=$C$20,$K79,IF($K$22=$C$20,$J79,IF($J$22=$C$20,$I79,IF($I$22=$C$20,'Baggrundsdata - HICP - deflator'!$H79,IF($H$22=$C$20,'Baggrundsdata - HICP - deflator'!$G79,IF($C$20=$G$22,'Baggrundsdata - HICP - deflator'!$F79,IF($F$22=$C$20,'Baggrundsdata - HICP - deflator'!$E79,IF($E$22=$C$20,'Baggrundsdata - HICP - deflator'!$D79,IF($D$22=$C$20,'Baggrundsdata - HICP - deflator'!$C79,IF('Baggrundsdata - HICP - deflator'!$C$22='Baggrundsdata - HICP - deflator'!$C$20,'Baggrundsdata - HICP - deflator'!$B79,\"*\"))))))))))),\"*\")","v":0.9993565299999998},{"$f":"IFERROR('Baggrundsdata - HICP - deflator'!H79/IF($M$22=$C$20,$L79,IF($L$22=$C$20,$K79,IF($K$22=$C$20,$J79,IF($J$22=$C$20,$I79,IF($I$22=$C$20,'Baggrundsdata - HICP - deflator'!$H79,IF($H$22=$C$20,'Baggrundsdata - HICP - deflator'!$G79,IF($C$20=$G$22,'Baggrundsdata - HICP - deflator'!$F79,IF($F$22=$C$20,'Baggrundsdata - HICP - deflator'!$E79,IF($E$22=$C$20,'Baggrundsdata - HICP - deflator'!$D79,IF($D$22=$C$20,'Baggrundsdata - HICP - deflator'!$C79,IF('Baggrundsdata - HICP - deflator'!$C$22='Baggrundsdata - HICP - deflator'!$C$20,'Baggrundsdata - HICP - deflator'!$B79,\"*\"))))))))))),\"*\")","v":1.0146522899999999},{"$f":"IFERROR('Baggrundsdata - HICP - deflator'!I79/IF($M$22=$C$20,$L79,IF($L$22=$C$20,$K79,IF($K$22=$C$20,$J79,IF($J$22=$C$20,$I79,IF($I$22=$C$20,'Baggrundsdata - HICP - deflator'!$H79,IF($H$22=$C$20,'Baggrundsdata - HICP - deflator'!$G79,IF($C$20=$G$22,'Baggrundsdata - HICP - deflator'!$F79,IF($F$22=$C$20,'Baggrundsdata - HICP - deflator'!$E79,IF($E$22=$C$20,'Baggrundsdata - HICP - deflator'!$D79,IF($D$22=$C$20,'Baggrundsdata - HICP - deflator'!$C79,IF('Baggrundsdata - HICP - deflator'!$C$22='Baggrundsdata - HICP - deflator'!$C$20,'Baggrundsdata - HICP - deflator'!$B79,\"*\"))))))))))),\"*\")","v":1.0126396899999999},{"$f":"IFERROR('Baggrundsdata - HICP - deflator'!J79/IF($M$22=$C$20,$L79,IF($L$22=$C$20,$K79,IF($K$22=$C$20,$J79,IF($J$22=$C$20,$I79,IF($I$22=$C$20,'Baggrundsdata - HICP - deflator'!$H79,IF($H$22=$C$20,'Baggrundsdata - HICP - deflator'!$G79,IF($C$20=$G$22,'Baggrundsdata - HICP - deflator'!$F79,IF($F$22=$C$20,'Baggrundsdata - HICP - deflator'!$E79,IF($E$22=$C$20,'Baggrundsdata - HICP - deflator'!$D79,IF($D$22=$C$20,'Baggrundsdata - HICP - deflator'!$C79,IF('Baggrundsdata - HICP - deflator'!$C$22='Baggrundsdata - HICP - deflator'!$C$20,'Baggrundsdata - HICP - deflator'!$B79,\"*\"))))))))))),\"*\")","v":1.0062999999999998},{"$f":"IFERROR('Baggrundsdata - HICP - deflator'!K79/IF($M$22=$C$20,$L79,IF($L$22=$C$20,$K79,IF($K$22=$C$20,$J79,IF($J$22=$C$20,$I79,IF($I$22=$C$20,'Baggrundsdata - HICP - deflator'!$H79,IF($H$22=$C$20,'Baggrundsdata - HICP - deflator'!$G79,IF($C$20=$G$22,'Baggrundsdata - HICP - deflator'!$F79,IF($F$22=$C$20,'Baggrundsdata - HICP - deflator'!$E79,IF($E$22=$C$20,'Baggrundsdata - HICP - deflator'!$D79,IF($D$22=$C$20,'Baggrundsdata - HICP - deflator'!$C79,IF('Baggrundsdata - HICP - deflator'!$C$22='Baggrundsdata - HICP - deflator'!$C$20,'Baggrundsdata - HICP - deflator'!$B79,\"*\"))))))))))),\"*\")","v":1},{"$f":"IFERROR('Baggrundsdata - HICP - deflator'!L79/IF($M$22=$C$20,$L79,IF($L$22=$C$20,$K79,IF($K$22=$C$20,$J79,IF($J$22=$C$20,$I79,IF($I$22=$C$20,'Baggrundsdata - HICP - deflator'!$H79,IF($H$22=$C$20,'Baggrundsdata - HICP - deflator'!$G79,IF($C$20=$G$22,'Baggrundsdata - HICP - deflator'!$F79,IF($F$22=$C$20,'Baggrundsdata - HICP - deflator'!$E79,IF($E$22=$C$20,'Baggrundsdata - HICP - deflator'!$D79,IF($D$22=$C$20,'Baggrundsdata - HICP - deflator'!$C79,IF('Baggrundsdata - HICP - deflator'!$C$22='Baggrundsdata - HICP - deflator'!$C$20,'Baggrundsdata - HICP - deflator'!$B79,\"*\"))))))))))),\"*\")","v":0},null,{"$f":"IF(A79='Level 1'!A61,\"sand\",\"falsk\")","v":"sand"},null,null,null,null,null,null,null,null,null,null,null,null,null,null,null,{"$f":"IF(R32=Forside!B48,\"sand\",\"falsk\")","v":"falsk"}]
[null,"Frankrig",{"$f":"IFERROR('Baggrundsdata - HICP - deflator'!B80/IF($M$22=$C$20,$L80,IF($L$22=$C$20,$K80,IF($K$22=$C$20,$J80,IF($J$22=$C$20,$I80,IF($I$22=$C$20,'Baggrundsdata - HICP - deflator'!$H80,IF($H$22=$C$20,'Baggrundsdata - HICP - deflator'!$G80,IF($C$20=$G$22,'Baggrundsdata - HICP - deflator'!$F80,IF($F$22=$C$20,'Baggrundsdata - HICP - deflator'!$E80,IF($E$22=$C$20,'Baggrundsdata - HICP - deflator'!$D80,IF($D$22=$C$20,'Baggrundsdata - HICP - deflator'!$C80,IF('Baggrundsdata - HICP - deflator'!$C$22='Baggrundsdata - HICP - deflator'!$C$20,'Baggrundsdata - HICP - deflator'!$B80,\"*\"))))))))))),\"*\")","v":0.89439432000000008},{"$f":"IFERROR('Baggrundsdata - HICP - deflator'!C80/IF($M$22=$C$20,$L80,IF($L$22=$C$20,$K80,IF($K$22=$C$20,$J80,IF($J$22=$C$20,$I80,IF($I$22=$C$20,'Baggrundsdata - HICP - deflator'!$H80,IF($H$22=$C$20,'Baggrundsdata - HICP - deflator'!$G80,IF($C$20=$G$22,'Baggrundsdata - HICP - deflator'!$F80,IF($F$22=$C$20,'Baggrundsdata - HICP - deflator'!$E80,IF($E$22=$C$20,'Baggrundsdata - HICP - deflator'!$D80,IF($D$22=$C$20,'Baggrundsdata - HICP - deflator'!$C80,IF('Baggrundsdata - HICP - deflator'!$C$22='Baggrundsdata - HICP - deflator'!$C$20,'Baggrundsdata - HICP - deflator'!$B80,\"*\"))))))))))),\"*\")","v":0.92256894000000012},{"$f":"IFERROR('Baggrundsdata - HICP - deflator'!D80/IF($M$22=$C$20,$L80,IF($L$22=$C$20,$K80,IF($K$22=$C$20,$J80,IF($J$22=$C$20,$I80,IF($I$22=$C$20,'Baggrundsdata - HICP - deflator'!$H80,IF($H$22=$C$20,'Baggrundsdata - HICP - deflator'!$G80,IF($C$20=$G$22,'Baggrundsdata - HICP - deflator'!$F80,IF($F$22=$C$20,'Baggrundsdata - HICP - deflator'!$E80,IF($E$22=$C$20,'Baggrundsdata - HICP - deflator'!$D80,IF($D$22=$C$20,'Baggrundsdata - HICP - deflator'!$C80,IF('Baggrundsdata - HICP - deflator'!$C$22='Baggrundsdata - HICP - deflator'!$C$20,'Baggrundsdata - HICP - deflator'!$B80,\"*\"))))))))))),\"*\")","v":0.92356804000000003},{"$f":"IFERROR('Baggrundsdata - HICP - deflator'!E80/IF($M$22=$C$20,$L80,IF($L$22=$C$20,$K80,IF($K$22=$C$20,$J80,IF($J$22=$C$20,$I80,IF($I$22=$C$20,'Baggrundsdata - HICP - deflator'!$H80,IF($H$22=$C$20,'Baggrundsdata - HICP - deflator'!$G80,IF($C$20=$G$22,'Baggrundsdata - HICP - deflator'!$F80,IF($F$22=$C$20,'Baggrundsdata - HICP - deflator'!$E80,IF($E$22=$C$20,'Baggrundsdata - HICP - deflator'!$D80,IF($D$22=$C$20,'Baggrundsdata - HICP - deflator'!$C80,IF('Baggrundsdata - HICP - deflator'!$C$22='Baggrundsdata - HICP - deflator'!$C$20,'Baggrundsdata - HICP - deflator'!$B80,\"*\"))))))))))),\"*\")","v":0.93965355000000006},{"$f":"IFERROR('Baggrundsdata - HICP - deflator'!F80/IF($M$22=$C$20,$L80,IF($L$22=$C$20,$K80,IF($K$22=$C$20,$J80,IF($J$22=$C$20,$I80,IF($I$22=$C$20,'Baggrundsdata - HICP - deflator'!$H80,IF($H$22=$C$20,'Baggrundsdata - HICP - deflator'!$G80,IF($C$20=$G$22,'Baggrundsdata - HICP - deflator'!$F80,IF($F$22=$C$20,'Baggrundsdata - HICP - deflator'!$E80,IF($E$22=$C$20,'Baggrundsdata - HICP - deflator'!$D80,IF($D$22=$C$20,'Baggrundsdata - HICP - deflator'!$C80,IF('Baggrundsdata - HICP - deflator'!$C$22='Baggrundsdata - HICP - deflator'!$C$20,'Baggrundsdata - HICP - deflator'!$B80,\"*\"))))))))))),\"*\")","v":0.96113420000000016},{"$f":"IFERROR('Baggrundsdata - HICP - deflator'!G80/IF($M$22=$C$20,$L80,IF($L$22=$C$20,$K80,IF($K$22=$C$20,$J80,IF($J$22=$C$20,$I80,IF($I$22=$C$20,'Baggrundsdata - HICP - deflator'!$H80,IF($H$22=$C$20,'Baggrundsdata - HICP - deflator'!$G80,IF($C$20=$G$22,'Baggrundsdata - HICP - deflator'!$F80,IF($F$22=$C$20,'Baggrundsdata - HICP - deflator'!$E80,IF($E$22=$C$20,'Baggrundsdata - HICP - deflator'!$D80,IF($D$22=$C$20,'Baggrundsdata - HICP - deflator'!$C80,IF('Baggrundsdata - HICP - deflator'!$C$22='Baggrundsdata - HICP - deflator'!$C$20,'Baggrundsdata - HICP - deflator'!$B80,\"*\"))))))))))),\"*\")","v":0.98241503000000008},{"$f":"IFERROR('Baggrundsdata - HICP - deflator'!H80/IF($M$22=$C$20,$L80,IF($L$22=$C$20,$K80,IF($K$22=$C$20,$J80,IF($J$22=$C$20,$I80,IF($I$22=$C$20,'Baggrundsdata - HICP - deflator'!$H80,IF($H$22=$C$20,'Baggrundsdata - HICP - deflator'!$G80,IF($C$20=$G$22,'Baggrundsdata - HICP - deflator'!$F80,IF($F$22=$C$20,'Baggrundsdata - HICP - deflator'!$E80,IF($E$22=$C$20,'Baggrundsdata - HICP - deflator'!$D80,IF($D$22=$C$20,'Baggrundsdata - HICP - deflator'!$C80,IF('Baggrundsdata - HICP - deflator'!$C$22='Baggrundsdata - HICP - deflator'!$C$20,'Baggrundsdata - HICP - deflator'!$B80,\"*\"))))))))))),\"*\")","v":0.99220621000000009},{"$f":"IFERROR('Baggrundsdata - HICP - deflator'!I80/IF($M$22=$C$20,$L80,IF($L$22=$C$20,$K80,IF($K$22=$C$20,$J80,IF($J$22=$C$20,$I80,IF($I$22=$C$20,'Baggrundsdata - HICP - deflator'!$H80,IF($H$22=$C$20,'Baggrundsdata - HICP - deflator'!$G80,IF($C$20=$G$22,'Baggrundsdata - HICP - deflator'!$F80,IF($F$22=$C$20,'Baggrundsdata - HICP - deflator'!$E80,IF($E$22=$C$20,'Baggrundsdata - HICP - deflator'!$D80,IF($D$22=$C$20,'Baggrundsdata - HICP - deflator'!$C80,IF('Baggrundsdata - HICP - deflator'!$C$22='Baggrundsdata - HICP - deflator'!$C$20,'Baggrundsdata - HICP - deflator'!$B80,\"*\"))))))))))),\"*\")","v":0.99820081000000005},{"$f":"IFERROR('Baggrundsdata - HICP - deflator'!J80/IF($M$22=$C$20,$L80,IF($L$22=$C$20,$K80,IF($K$22=$C$20,$J80,IF($J$22=$C$20,$I80,IF($I$22=$C$20,'Baggrundsdata - HICP - deflator'!$H80,IF($H$22=$C$20,'Baggrundsdata - HICP - deflator'!$G80,IF($C$20=$G$22,'Baggrundsdata - HICP - deflator'!$F80,IF($F$22=$C$20,'Baggrundsdata - HICP - deflator'!$E80,IF($E$22=$C$20,'Baggrundsdata - HICP - deflator'!$D80,IF($D$22=$C$20,'Baggrundsdata - HICP - deflator'!$C80,IF('Baggrundsdata - HICP - deflator'!$C$22='Baggrundsdata - HICP - deflator'!$C$20,'Baggrundsdata - HICP - deflator'!$B80,\"*\"))))))))))),\"*\")","v":0.9991000000000001},{"$f":"IFERROR('Baggrundsdata - HICP - deflator'!K80/IF($M$22=$C$20,$L80,IF($L$22=$C$20,$K80,IF($K$22=$C$20,$J80,IF($J$22=$C$20,$I80,IF($I$22=$C$20,'Baggrundsdata - HICP - deflator'!$H80,IF($H$22=$C$20,'Baggrundsdata - HICP - deflator'!$G80,IF($C$20=$G$22,'Baggrundsdata - HICP - deflator'!$F80,IF($F$22=$C$20,'Baggrundsdata - HICP - deflator'!$E80,IF($E$22=$C$20,'Baggrundsdata - HICP - deflator'!$D80,IF($D$22=$C$20,'Baggrundsdata - HICP - deflator'!$C80,IF('Baggrundsdata - HICP - deflator'!$C$22='Baggrundsdata - HICP - deflator'!$C$20,'Baggrundsdata - HICP - deflator'!$B80,\"*\"))))))))))),\"*\")","v":1},{"$f":"IFERROR('Baggrundsdata - HICP - deflator'!L80/IF($M$22=$C$20,$L80,IF($L$22=$C$20,$K80,IF($K$22=$C$20,$J80,IF($J$22=$C$20,$I80,IF($I$22=$C$20,'Baggrundsdata - HICP - deflator'!$H80,IF($H$22=$C$20,'Baggrundsdata - HICP - deflator'!$G80,IF($C$20=$G$22,'Baggrundsdata - HICP - deflator'!$F80,IF($F$22=$C$20,'Baggrundsdata - HICP - deflator'!$E80,IF($E$22=$C$20,'Baggrundsdata - HICP - deflator'!$D80,IF($D$22=$C$20,'Baggrundsdata - HICP - deflator'!$C80,IF('Baggrundsdata - HICP - deflator'!$C$22='Baggrundsdata - HICP - deflator'!$C$20,'Baggrundsdata - HICP - deflator'!$B80,\"*\"))))))))))),\"*\")","v":0},null,{"$f":"IF(A80='Level 1'!A62,\"sand\",\"falsk\")","v":"sand"},null,null,"Kilde: Eurostat"]
[null,"Kroatien",{"$f":"IFERROR('Baggrundsdata - HICP - deflator'!B81/IF($M$22=$C$20,$L81,IF($L$22=$C$20,$K81,IF($K$22=$C$20,$J81,IF($J$22=$C$20,$I81,IF($I$22=$C$20,'Baggrundsdata - HICP - deflator'!$H81,IF($H$22=$C$20,'Baggrundsdata - HICP - deflator'!$G81,IF($C$20=$G$22,'Baggrundsdata - HICP - deflator'!$F81,IF($F$22=$C$20,'Baggrundsdata - HICP - deflator'!$E81,IF($E$22=$C$20,'Baggrundsdata - HICP - deflator'!$D81,IF($D$22=$C$20,'Baggrundsdata - HICP - deflator'!$C81,IF('Baggrundsdata - HICP - deflator'!$C$22='Baggrundsdata - HICP - deflator'!$C$20,'Baggrundsdata - HICP - deflator'!$B81,\"*\"))))))))))),\"*\")","v":0.84870090000000009},{"$f":"IFERROR('Baggrundsdata - HICP - deflator'!C81/IF($M$22=$C$20,$L81,IF($L$22=$C$20,$K81,IF($K$22=$C$20,$J81,IF($J$22=$C$20,$I81,IF($I$22=$C$20,'Baggrundsdata - HICP - deflator'!$H81,IF($H$22=$C$20,'Baggrundsdata - HICP - deflator'!$G81,IF($C$20=$G$22,'Baggrundsdata - HICP - deflator'!$F81,IF($F$22=$C$20,'Baggrundsdata - HICP - deflator'!$E81,IF($E$22=$C$20,'Baggrundsdata - HICP - deflator'!$D81,IF($D$22=$C$20,'Baggrundsdata - HICP - deflator'!$C81,IF('Baggrundsdata - HICP - deflator'!$C$22='Baggrundsdata - HICP - deflator'!$C$20,'Baggrundsdata - HICP - deflator'!$B81,\"*\"))))))))))),\"*\")","v":0.89792855999999999},{"$f":"IFERROR('Baggrundsdata - HICP - deflator'!D81/IF($M$22=$C$20,$L81,IF($L$22=$C$20,$K81,IF($K$22=$C$20,$J81,IF($J$22=$C$20,$I81,IF($I$22=$C$20,'Baggrundsdata - HICP - deflator'!$H81,IF($H$22=$C$20,'Baggrundsdata - HICP - deflator'!$G81,IF($C$20=$G$22,'Baggrundsdata - HICP - deflator'!$F81,IF($F$22=$C$20,'Baggrundsdata - HICP - deflator'!$E81,IF($E$22=$C$20,'Baggrundsdata - HICP - deflator'!$D81,IF($D$22=$C$20,'Baggrundsdata - HICP - deflator'!$C81,IF('Baggrundsdata - HICP - deflator'!$C$22='Baggrundsdata - HICP - deflator'!$C$20,'Baggrundsdata - HICP - deflator'!$B81,\"*\"))))))))))),\"*\")","v":0.91798056000000006},{"$f":"IFERROR('Baggrundsdata - HICP - deflator'!E81/IF($M$22=$C$20,$L81,IF($L$22=$C$20,$K81,IF($K$22=$C$20,$J81,IF($J$22=$C$20,$I81,IF($I$22=$C$20,'Baggrundsdata - HICP - deflator'!$H81,IF($H$22=$C$20,'Baggrundsdata - HICP - deflator'!$G81,IF($C$20=$G$22,'Baggrundsdata - HICP - deflator'!$F81,IF($F$22=$C$20,'Baggrundsdata - HICP - deflator'!$E81,IF($E$22=$C$20,'Baggrundsdata - HICP - deflator'!$D81,IF($D$22=$C$20,'Baggrundsdata - HICP - deflator'!$C81,IF('Baggrundsdata - HICP - deflator'!$C$22='Baggrundsdata - HICP - deflator'!$C$20,'Baggrundsdata - HICP - deflator'!$B81,\"*\"))))))))))),\"*\")","v":0.92790629999999996},{"$f":"IFERROR('Baggrundsdata - HICP - deflator'!F81/IF($M$22=$C$20,$L81,IF($L$22=$C$20,$K81,IF($K$22=$C$20,$J81,IF($J$22=$C$20,$I81,IF($I$22=$C$20,'Baggrundsdata - HICP - deflator'!$H81,IF($H$22=$C$20,'Baggrundsdata - HICP - deflator'!$G81,IF($C$20=$G$22,'Baggrundsdata - HICP - deflator'!$F81,IF($F$22=$C$20,'Baggrundsdata - HICP - deflator'!$E81,IF($E$22=$C$20,'Baggrundsdata - HICP - deflator'!$D81,IF($D$22=$C$20,'Baggrundsdata - HICP - deflator'!$C81,IF('Baggrundsdata - HICP - deflator'!$C$22='Baggrundsdata - HICP - deflator'!$C$20,'Baggrundsdata - HICP - deflator'!$B81,\"*\"))))))))))),\"*\")","v":0.94835934},{"$f":"IFERROR('Baggrundsdata - HICP - deflator'!G81/IF($M$22=$C$20,$L81,IF($L$22=$C$20,$K81,IF($K$22=$C$20,$J81,IF($J$22=$C$20,$I81,IF($I$22=$C$20,'Baggrundsdata - HICP - deflator'!$H81,IF($H$22=$C$20,'Baggrundsdata - HICP - deflator'!$G81,IF($C$20=$G$22,'Baggrundsdata - HICP - deflator'!$F81,IF($F$22=$C$20,'Baggrundsdata - HICP - deflator'!$E81,IF($E$22=$C$20,'Baggrundsdata - HICP - deflator'!$D81,IF($D$22=$C$20,'Baggrundsdata - HICP - deflator'!$C81,IF('Baggrundsdata - HICP - deflator'!$C$22='Baggrundsdata - HICP - deflator'!$C$20,'Baggrundsdata - HICP - deflator'!$B81,\"*\"))))))))))),\"*\")","v":0.98014176000000008},{"$f":"IFERROR('Baggrundsdata - HICP - deflator'!H81/IF($M$22=$C$20,$L81,IF($L$22=$C$20,$K81,IF($K$22=$C$20,$J81,IF($J$22=$C$20,$I81,IF($I$22=$C$20,'Baggrundsdata - HICP - deflator'!$H81,IF($H$22=$C$20,'Baggrundsdata - HICP - deflator'!$G81,IF($C$20=$G$22,'Baggrundsdata - HICP - deflator'!$F81,IF($F$22=$C$20,'Baggrundsdata - HICP - deflator'!$E81,IF($E$22=$C$20,'Baggrundsdata - HICP - deflator'!$D81,IF($D$22=$C$20,'Baggrundsdata - HICP - deflator'!$C81,IF('Baggrundsdata - HICP - deflator'!$C$22='Baggrundsdata - HICP - deflator'!$C$20,'Baggrundsdata - HICP - deflator'!$B81,\"*\"))))))))))),\"*\")","v":1.00300104},{"$f":"IFERROR('Baggrundsdata - HICP - deflator'!I81/IF($M$22=$C$20,$L81,IF($L$22=$C$20,$K81,IF($K$22=$C$20,$J81,IF($J$22=$C$20,$I81,IF($I$22=$C$20,'Baggrundsdata - HICP - deflator'!$H81,IF($H$22=$C$20,'Baggrundsdata - HICP - deflator'!$G81,IF($C$20=$G$22,'Baggrundsdata - HICP - deflator'!$F81,IF($F$22=$C$20,'Baggrundsdata - HICP - deflator'!$E81,IF($E$22=$C$20,'Baggrundsdata - HICP - deflator'!$D81,IF($D$22=$C$20,'Baggrundsdata - HICP - deflator'!$C81,IF('Baggrundsdata - HICP - deflator'!$C$22='Baggrundsdata - HICP - deflator'!$C$20,'Baggrundsdata - HICP - deflator'!$B81,\"*\"))))))))))),\"*\")","v":1.0052067600000001},{"$f":"IFERROR('Baggrundsdata - HICP - deflator'!J81/IF($M$22=$C$20,$L81,IF($L$22=$C$20,$K81,IF($K$22=$C$20,$J81,IF($J$22=$C$20,$I81,IF($I$22=$C$20,'Baggrundsdata - HICP - deflator'!$H81,IF($H$22=$C$20,'Baggrundsdata - HICP - deflator'!$G81,IF($C$20=$G$22,'Baggrundsdata - HICP - deflator'!$F81,IF($F$22=$C$20,'Baggrundsdata - HICP - deflator'!$E81,IF($E$22=$C$20,'Baggrundsdata - HICP - deflator'!$D81,IF($D$22=$C$20,'Baggrundsdata - HICP - deflator'!$C81,IF('Baggrundsdata - HICP - deflator'!$C$22='Baggrundsdata - HICP - deflator'!$C$20,'Baggrundsdata - HICP - deflator'!$B81,\"*\"))))))))))),\"*\")","v":1.0025999999999999},{"$f":"IFERROR('Baggrundsdata - HICP - deflator'!K81/IF($M$22=$C$20,$L81,IF($L$22=$C$20,$K81,IF($K$22=$C$20,$J81,IF($J$22=$C$20,$I81,IF($I$22=$C$20,'Baggrundsdata - HICP - deflator'!$H81,IF($H$22=$C$20,'Baggrundsdata - HICP - deflator'!$G81,IF($C$20=$G$22,'Baggrundsdata - HICP - deflator'!$F81,IF($F$22=$C$20,'Baggrundsdata - HICP - deflator'!$E81,IF($E$22=$C$20,'Baggrundsdata - HICP - deflator'!$D81,IF($D$22=$C$20,'Baggrundsdata - HICP - deflator'!$C81,IF('Baggrundsdata - HICP - deflator'!$C$22='Baggrundsdata - HICP - deflator'!$C$20,'Baggrundsdata - HICP - deflator'!$B81,\"*\"))))))))))),\"*\")","v":1},{"$f":"IFERROR('Baggrundsdata - HICP - deflator'!L81/IF($M$22=$C$20,$L81,IF($L$22=$C$20,$K81,IF($K$22=$C$20,$J81,IF($J$22=$C$20,$I81,IF($I$22=$C$20,'Baggrundsdata - HICP - deflator'!$H81,IF($H$22=$C$20,'Baggrundsdata - HICP - deflator'!$G81,IF($C$20=$G$22,'Baggrundsdata - HICP - deflator'!$F81,IF($F$22=$C$20,'Baggrundsdata - HICP - deflator'!$E81,IF($E$22=$C$20,'Baggrundsdata - HICP - deflator'!$D81,IF($D$22=$C$20,'Baggrundsdata - HICP - deflator'!$C81,IF('Baggrundsdata - HICP - deflator'!$C$22='Baggrundsdata - HICP - deflator'!$C$20,'Baggrundsdata - HICP - deflator'!$B81,\"*\"))))))))))),\"*\")","v":0},null,{"$f":"IF(A81='Level 1'!A63,\"sand\",\"falsk\")","v":"sand"},null,null,"Bemærk: Deflatoren er fundet på baggrund af HICP samlet for de enkelte lande. * hvis manglende baggrundsdata"]
[null,"Italien",{"$f":"IFERROR('Baggrundsdata - HICP - deflator'!B82/IF($M$22=$C$20,$L82,IF($L$22=$C$20,$K82,IF($K$22=$C$20,$J82,IF($J$22=$C$20,$I82,IF($I$22=$C$20,'Baggrundsdata - HICP - deflator'!$H82,IF($H$22=$C$20,'Baggrundsdata - HICP - deflator'!$G82,IF($C$20=$G$22,'Baggrundsdata - HICP - deflator'!$F82,IF($F$22=$C$20,'Baggrundsdata - HICP - deflator'!$E82,IF($E$22=$C$20,'Baggrundsdata - HICP - deflator'!$D82,IF($D$22=$C$20,'Baggrundsdata - HICP - deflator'!$C82,IF('Baggrundsdata - HICP - deflator'!$C$22='Baggrundsdata - HICP - deflator'!$C$20,'Baggrundsdata - HICP - deflator'!$B82,\"*\"))))))))))),\"*\")","v":0.87212699999999999},{"$f":"IFERROR('Baggrundsdata - HICP - deflator'!C82/IF($M$22=$C$20,$L82,IF($L$22=$C$20,$K82,IF($K$22=$C$20,$J82,IF($J$22=$C$20,$I82,IF($I$22=$C$20,'Baggrundsdata - HICP - deflator'!$H82,IF($H$22=$C$20,'Baggrundsdata - HICP - deflator'!$G82,IF($C$20=$G$22,'Baggrundsdata - HICP - deflator'!$F82,IF($F$22=$C$20,'Baggrundsdata - HICP - deflator'!$E82,IF($E$22=$C$20,'Baggrundsdata - HICP - deflator'!$D82,IF($D$22=$C$20,'Baggrundsdata - HICP - deflator'!$C82,IF('Baggrundsdata - HICP - deflator'!$C$22='Baggrundsdata - HICP - deflator'!$C$20,'Baggrundsdata - HICP - deflator'!$B82,\"*\"))))))))))),\"*\")","v":0.90309600000000012},{"$f":"IFERROR('Baggrundsdata - HICP - deflator'!D82/IF($M$22=$C$20,$L82,IF($L$22=$C$20,$K82,IF($K$22=$C$20,$J82,IF($J$22=$C$20,$I82,IF($I$22=$C$20,'Baggrundsdata - HICP - deflator'!$H82,IF($H$22=$C$20,'Baggrundsdata - HICP - deflator'!$G82,IF($C$20=$G$22,'Baggrundsdata - HICP - deflator'!$F82,IF($F$22=$C$20,'Baggrundsdata - HICP - deflator'!$E82,IF($E$22=$C$20,'Baggrundsdata - HICP - deflator'!$D82,IF($D$22=$C$20,'Baggrundsdata - HICP - deflator'!$C82,IF('Baggrundsdata - HICP - deflator'!$C$22='Baggrundsdata - HICP - deflator'!$C$20,'Baggrundsdata - HICP - deflator'!$B82,\"*\"))))))))))),\"*\")","v":0.91008900000000004},{"$f":"IFERROR('Baggrundsdata - HICP - deflator'!E82/IF($M$22=$C$20,$L82,IF($L$22=$C$20,$K82,IF($K$22=$C$20,$J82,IF($J$22=$C$20,$I82,IF($I$22=$C$20,'Baggrundsdata - HICP - deflator'!$H82,IF($H$22=$C$20,'Baggrundsdata - HICP - deflator'!$G82,IF($C$20=$G$22,'Baggrundsdata - HICP - deflator'!$F82,IF($F$22=$C$20,'Baggrundsdata - HICP - deflator'!$E82,IF($E$22=$C$20,'Baggrundsdata - HICP - deflator'!$D82,IF($D$22=$C$20,'Baggrundsdata - HICP - deflator'!$C82,IF('Baggrundsdata - HICP - deflator'!$C$22='Baggrundsdata - HICP - deflator'!$C$20,'Baggrundsdata - HICP - deflator'!$B82,\"*\"))))))))))),\"*\")","v":0.92507400000000006},{"$f":"IFERROR('Baggrundsdata - HICP - deflator'!F82/IF($M$22=$C$20,$L82,IF($L$22=$C$20,$K82,IF($K$22=$C$20,$J82,IF($J$22=$C$20,$I82,IF($I$22=$C$20,'Baggrundsdata - HICP - deflator'!$H82,IF($H$22=$C$20,'Baggrundsdata - HICP - deflator'!$G82,IF($C$20=$G$22,'Baggrundsdata - HICP - deflator'!$F82,IF($F$22=$C$20,'Baggrundsdata - HICP - deflator'!$E82,IF($E$22=$C$20,'Baggrundsdata - HICP - deflator'!$D82,IF($D$22=$C$20,'Baggrundsdata - HICP - deflator'!$C82,IF('Baggrundsdata - HICP - deflator'!$C$22='Baggrundsdata - HICP - deflator'!$C$20,'Baggrundsdata - HICP - deflator'!$B82,\"*\"))))))))))),\"*\")","v":0.95204700000000009},{"$f":"IFERROR('Baggrundsdata - HICP - deflator'!G82/IF($M$22=$C$20,$L82,IF($L$22=$C$20,$K82,IF($K$22=$C$20,$J82,IF($J$22=$C$20,$I82,IF($I$22=$C$20,'Baggrundsdata - HICP - deflator'!$H82,IF($H$22=$C$20,'Baggrundsdata - HICP - deflator'!$G82,IF($C$20=$G$22,'Baggrundsdata - HICP - deflator'!$F82,IF($F$22=$C$20,'Baggrundsdata - HICP - deflator'!$E82,IF($E$22=$C$20,'Baggrundsdata - HICP - deflator'!$D82,IF($D$22=$C$20,'Baggrundsdata - HICP - deflator'!$C82,IF('Baggrundsdata - HICP - deflator'!$C$22='Baggrundsdata - HICP - deflator'!$C$20,'Baggrundsdata - HICP - deflator'!$B82,\"*\"))))))))))),\"*\")","v":0.98301600000000011},{"$f":"IFERROR('Baggrundsdata - HICP - deflator'!H82/IF($M$22=$C$20,$L82,IF($L$22=$C$20,$K82,IF($K$22=$C$20,$J82,IF($J$22=$C$20,$I82,IF($I$22=$C$20,'Baggrundsdata - HICP - deflator'!$H82,IF($H$22=$C$20,'Baggrundsdata - HICP - deflator'!$G82,IF($C$20=$G$22,'Baggrundsdata - HICP - deflator'!$F82,IF($F$22=$C$20,'Baggrundsdata - HICP - deflator'!$E82,IF($E$22=$C$20,'Baggrundsdata - HICP - deflator'!$D82,IF($D$22=$C$20,'Baggrundsdata - HICP - deflator'!$C82,IF('Baggrundsdata - HICP - deflator'!$C$22='Baggrundsdata - HICP - deflator'!$C$20,'Baggrundsdata - HICP - deflator'!$B82,\"*\"))))))))))),\"*\")","v":0.99600300000000008},{"$f":"IFERROR('Baggrundsdata - HICP - deflator'!I82/IF($M$22=$C$20,$L82,IF($L$22=$C$20,$K82,IF($K$22=$C$20,$J82,IF($J$22=$C$20,$I82,IF($I$22=$C$20,'Baggrundsdata - HICP - deflator'!$H82,IF($H$22=$C$20,'Baggrundsdata - HICP - deflator'!$G82,IF($C$20=$G$22,'Baggrundsdata - HICP - deflator'!$F82,IF($F$22=$C$20,'Baggrundsdata - HICP - deflator'!$E82,IF($E$22=$C$20,'Baggrundsdata - HICP - deflator'!$D82,IF($D$22=$C$20,'Baggrundsdata - HICP - deflator'!$C82,IF('Baggrundsdata - HICP - deflator'!$C$22='Baggrundsdata - HICP - deflator'!$C$20,'Baggrundsdata - HICP - deflator'!$B82,\"*\"))))))))))),\"*\")","v":0.99800100000000014},{"$f":"IFERROR('Baggrundsdata - HICP - deflator'!J82/IF($M$22=$C$20,$L82,IF($L$22=$C$20,$K82,IF($K$22=$C$20,$J82,IF($J$22=$C$20,$I82,IF($I$22=$C$20,'Baggrundsdata - HICP - deflator'!$H82,IF($H$22=$C$20,'Baggrundsdata - HICP - deflator'!$G82,IF($C$20=$G$22,'Baggrundsdata - HICP - deflator'!$F82,IF($F$22=$C$20,'Baggrundsdata - HICP - deflator'!$E82,IF($E$22=$C$20,'Baggrundsdata - HICP - deflator'!$D82,IF($D$22=$C$20,'Baggrundsdata - HICP - deflator'!$C82,IF('Baggrundsdata - HICP - deflator'!$C$22='Baggrundsdata - HICP - deflator'!$C$20,'Baggrundsdata - HICP - deflator'!$B82,\"*\"))))))))))),\"*\")","v":0.99900000000000011},{"$f":"IFERROR('Baggrundsdata - HICP - deflator'!K82/IF($M$22=$C$20,$L82,IF($L$22=$C$20,$K82,IF($K$22=$C$20,$J82,IF($J$22=$C$20,$I82,IF($I$22=$C$20,'Baggrundsdata - HICP - deflator'!$H82,IF($H$22=$C$20,'Baggrundsdata - HICP - deflator'!$G82,IF($C$20=$G$22,'Baggrundsdata - HICP - deflator'!$F82,IF($F$22=$C$20,'Baggrundsdata - HICP - deflator'!$E82,IF($E$22=$C$20,'Baggrundsdata - HICP - deflator'!$D82,IF($D$22=$C$20,'Baggrundsdata - HICP - deflator'!$C82,IF('Baggrundsdata - HICP - deflator'!$C$22='Baggrundsdata - HICP - deflator'!$C$20,'Baggrundsdata - HICP - deflator'!$B82,\"*\"))))))))))),\"*\")","v":1},{"$f":"IFERROR('Baggrundsdata - HICP - deflator'!L82/IF($M$22=$C$20,$L82,IF($L$22=$C$20,$K82,IF($K$22=$C$20,$J82,IF($J$22=$C$20,$I82,IF($I$22=$C$20,'Baggrundsdata - HICP - deflator'!$H82,IF($H$22=$C$20,'Baggrundsdata - HICP - deflator'!$G82,IF($C$20=$G$22,'Baggrundsdata - HICP - deflator'!$F82,IF($F$22=$C$20,'Baggrundsdata - HICP - deflator'!$E82,IF($E$22=$C$20,'Baggrundsdata - HICP - deflator'!$D82,IF($D$22=$C$20,'Baggrundsdata - HICP - deflator'!$C82,IF('Baggrundsdata - HICP - deflator'!$C$22='Baggrundsdata - HICP - deflator'!$C$20,'Baggrundsdata - HICP - deflator'!$B82,\"*\"))))))))))),\"*\")","v":0},null,{"$f":"IF(A82='Level 1'!A64,\"sand\",\"falsk\")","v":"sand"},null,null,"Bemærk: Hvis der i valgmenuen vælges løbende priser, skal der ikke deflateres. Det medfører at alle felter i deflatoren vil vise \"*\"."]
[null,"Letland",{"$f":"IFERROR('Baggrundsdata - HICP - deflator'!B83/IF($M$22=$C$20,$L83,IF($L$22=$C$20,$K83,IF($K$22=$C$20,$J83,IF($J$22=$C$20,$I83,IF($I$22=$C$20,'Baggrundsdata - HICP - deflator'!$H83,IF($H$22=$C$20,'Baggrundsdata - HICP - deflator'!$G83,IF($C$20=$G$22,'Baggrundsdata - HICP - deflator'!$F83,IF($F$22=$C$20,'Baggrundsdata - HICP - deflator'!$E83,IF($E$22=$C$20,'Baggrundsdata - HICP - deflator'!$D83,IF($D$22=$C$20,'Baggrundsdata - HICP - deflator'!$C83,IF('Baggrundsdata - HICP - deflator'!$C$22='Baggrundsdata - HICP - deflator'!$C$20,'Baggrundsdata - HICP - deflator'!$B83,\"*\"))))))))))),\"*\")","v":0.78913932000000009},{"$f":"IFERROR('Baggrundsdata - HICP - deflator'!C83/IF($M$22=$C$20,$L83,IF($L$22=$C$20,$K83,IF($K$22=$C$20,$J83,IF($J$22=$C$20,$I83,IF($I$22=$C$20,'Baggrundsdata - HICP - deflator'!$H83,IF($H$22=$C$20,'Baggrundsdata - HICP - deflator'!$G83,IF($C$20=$G$22,'Baggrundsdata - HICP - deflator'!$F83,IF($F$22=$C$20,'Baggrundsdata - HICP - deflator'!$E83,IF($E$22=$C$20,'Baggrundsdata - HICP - deflator'!$D83,IF($D$22=$C$20,'Baggrundsdata - HICP - deflator'!$C83,IF('Baggrundsdata - HICP - deflator'!$C$22='Baggrundsdata - HICP - deflator'!$C$20,'Baggrundsdata - HICP - deflator'!$B83,\"*\"))))))))))),\"*\")","v":0.9094860600000001},{"$f":"IFERROR('Baggrundsdata - HICP - deflator'!D83/IF($M$22=$C$20,$L83,IF($L$22=$C$20,$K83,IF($K$22=$C$20,$J83,IF($J$22=$C$20,$I83,IF($I$22=$C$20,'Baggrundsdata - HICP - deflator'!$H83,IF($H$22=$C$20,'Baggrundsdata - HICP - deflator'!$G83,IF($C$20=$G$22,'Baggrundsdata - HICP - deflator'!$F83,IF($F$22=$C$20,'Baggrundsdata - HICP - deflator'!$E83,IF($E$22=$C$20,'Baggrundsdata - HICP - deflator'!$D83,IF($D$22=$C$20,'Baggrundsdata - HICP - deflator'!$C83,IF('Baggrundsdata - HICP - deflator'!$C$22='Baggrundsdata - HICP - deflator'!$C$20,'Baggrundsdata - HICP - deflator'!$B83,\"*\"))))))))))),\"*\")","v":0.93912369000000007},{"$f":"IFERROR('Baggrundsdata - HICP - deflator'!E83/IF($M$22=$C$20,$L83,IF($L$22=$C$20,$K83,IF($K$22=$C$20,$J83,IF($J$22=$C$20,$I83,IF($I$22=$C$20,'Baggrundsdata - HICP - deflator'!$H83,IF($H$22=$C$20,'Baggrundsdata - HICP - deflator'!$G83,IF($C$20=$G$22,'Baggrundsdata - HICP - deflator'!$F83,IF($F$22=$C$20,'Baggrundsdata - HICP - deflator'!$E83,IF($E$22=$C$20,'Baggrundsdata - HICP - deflator'!$D83,IF($D$22=$C$20,'Baggrundsdata - HICP - deflator'!$C83,IF('Baggrundsdata - HICP - deflator'!$C$22='Baggrundsdata - HICP - deflator'!$C$20,'Baggrundsdata - HICP - deflator'!$B83,\"*\"))))))))))),\"*\")","v":0.92764784},{"$f":"IFERROR('Baggrundsdata - HICP - deflator'!F83/IF($M$22=$C$20,$L83,IF($L$22=$C$20,$K83,IF($K$22=$C$20,$J83,IF($J$22=$C$20,$I83,IF($I$22=$C$20,'Baggrundsdata - HICP - deflator'!$H83,IF($H$22=$C$20,'Baggrundsdata - HICP - deflator'!$G83,IF($C$20=$G$22,'Baggrundsdata - HICP - deflator'!$F83,IF($F$22=$C$20,'Baggrundsdata - HICP - deflator'!$E83,IF($E$22=$C$20,'Baggrundsdata - HICP - deflator'!$D83,IF($D$22=$C$20,'Baggrundsdata - HICP - deflator'!$C83,IF('Baggrundsdata - HICP - deflator'!$C$22='Baggrundsdata - HICP - deflator'!$C$20,'Baggrundsdata - HICP - deflator'!$B83,\"*\"))))))))))),\"*\")","v":0.96676552000000004},{"$f":"IFERROR('Baggrundsdata - HICP - deflator'!G83/IF($M$22=$C$20,$L83,IF($L$22=$C$20,$K83,IF($K$22=$C$20,$J83,IF($J$22=$C$20,$I83,IF($I$22=$C$20,'Baggrundsdata - HICP - deflator'!$H83,IF($H$22=$C$20,'Baggrundsdata - HICP - deflator'!$G83,IF($C$20=$G$22,'Baggrundsdata - HICP - deflator'!$F83,IF($F$22=$C$20,'Baggrundsdata - HICP - deflator'!$E83,IF($E$22=$C$20,'Baggrundsdata - HICP - deflator'!$D83,IF($D$22=$C$20,'Baggrundsdata - HICP - deflator'!$C83,IF('Baggrundsdata - HICP - deflator'!$C$22='Baggrundsdata - HICP - deflator'!$C$20,'Baggrundsdata - HICP - deflator'!$B83,\"*\"))))))))))),\"*\")","v":0.98881911000000011},{"$f":"IFERROR('Baggrundsdata - HICP - deflator'!H83/IF($M$22=$C$20,$L83,IF($L$22=$C$20,$K83,IF($K$22=$C$20,$J83,IF($J$22=$C$20,$I83,IF($I$22=$C$20,'Baggrundsdata - HICP - deflator'!$H83,IF($H$22=$C$20,'Baggrundsdata - HICP - deflator'!$G83,IF($C$20=$G$22,'Baggrundsdata - HICP - deflator'!$F83,IF($F$22=$C$20,'Baggrundsdata - HICP - deflator'!$E83,IF($E$22=$C$20,'Baggrundsdata - HICP - deflator'!$D83,IF($D$22=$C$20,'Baggrundsdata - HICP - deflator'!$C83,IF('Baggrundsdata - HICP - deflator'!$C$22='Baggrundsdata - HICP - deflator'!$C$20,'Baggrundsdata - HICP - deflator'!$B83,\"*\"))))))))))),\"*\")","v":0.98901869000000009},{"$f":"IFERROR('Baggrundsdata - HICP - deflator'!I83/IF($M$22=$C$20,$L83,IF($L$22=$C$20,$K83,IF($K$22=$C$20,$J83,IF($J$22=$C$20,$I83,IF($I$22=$C$20,'Baggrundsdata - HICP - deflator'!$H83,IF($H$22=$C$20,'Baggrundsdata - HICP - deflator'!$G83,IF($C$20=$G$22,'Baggrundsdata - HICP - deflator'!$F83,IF($F$22=$C$20,'Baggrundsdata - HICP - deflator'!$E83,IF($E$22=$C$20,'Baggrundsdata - HICP - deflator'!$D83,IF($D$22=$C$20,'Baggrundsdata - HICP - deflator'!$C83,IF('Baggrundsdata - HICP - deflator'!$C$22='Baggrundsdata - HICP - deflator'!$C$20,'Baggrundsdata - HICP - deflator'!$B83,\"*\"))))))))))),\"*\")","v":0.9958044100000002},{"$f":"IFERROR('Baggrundsdata - HICP - deflator'!J83/IF($M$22=$C$20,$L83,IF($L$22=$C$20,$K83,IF($K$22=$C$20,$J83,IF($J$22=$C$20,$I83,IF($I$22=$C$20,'Baggrundsdata - HICP - deflator'!$H83,IF($H$22=$C$20,'Baggrundsdata - HICP - deflator'!$G83,IF($C$20=$G$22,'Baggrundsdata - HICP - deflator'!$F83,IF($F$22=$C$20,'Baggrundsdata - HICP - deflator'!$E83,IF($E$22=$C$20,'Baggrundsdata - HICP - deflator'!$D83,IF($D$22=$C$20,'Baggrundsdata - HICP - deflator'!$C83,IF('Baggrundsdata - HICP - deflator'!$C$22='Baggrundsdata - HICP - deflator'!$C$20,'Baggrundsdata - HICP - deflator'!$B83,\"*\"))))))))))),\"*\")","v":0.99790000000000012},{"$f":"IFERROR('Baggrundsdata - HICP - deflator'!K83/IF($M$22=$C$20,$L83,IF($L$22=$C$20,$K83,IF($K$22=$C$20,$J83,IF($J$22=$C$20,$I83,IF($I$22=$C$20,'Baggrundsdata - HICP - deflator'!$H83,IF($H$22=$C$20,'Baggrundsdata - HICP - deflator'!$G83,IF($C$20=$G$22,'Baggrundsdata - HICP - deflator'!$F83,IF($F$22=$C$20,'Baggrundsdata - HICP - deflator'!$E83,IF($E$22=$C$20,'Baggrundsdata - HICP - deflator'!$D83,IF($D$22=$C$20,'Baggrundsdata - HICP - deflator'!$C83,IF('Baggrundsdata - HICP - deflator'!$C$22='Baggrundsdata - HICP - deflator'!$C$20,'Baggrundsdata - HICP - deflator'!$B83,\"*\"))))))))))),\"*\")","v":1},{"$f":"IFERROR('Baggrundsdata - HICP - deflator'!L83/IF($M$22=$C$20,$L83,IF($L$22=$C$20,$K83,IF($K$22=$C$20,$J83,IF($J$22=$C$20,$I83,IF($I$22=$C$20,'Baggrundsdata - HICP - deflator'!$H83,IF($H$22=$C$20,'Baggrundsdata - HICP - deflator'!$G83,IF($C$20=$G$22,'Baggrundsdata - HICP - deflator'!$F83,IF($F$22=$C$20,'Baggrundsdata - HICP - deflator'!$E83,IF($E$22=$C$20,'Baggrundsdata - HICP - deflator'!$D83,IF($D$22=$C$20,'Baggrundsdata - HICP - deflator'!$C83,IF('Baggrundsdata - HICP - deflator'!$C$22='Baggrundsdata - HICP - deflator'!$C$20,'Baggrundsdata - HICP - deflator'!$B83,\"*\"))))))))))),\"*\")","v":0},null,{"$f":"IF(A83='Level 1'!A65,\"sand\",\"falsk\")","v":"sand"}]
[null,"Litaun",{"$f":"IFERROR('Baggrundsdata - HICP - deflator'!B84/IF($M$22=$C$20,$L84,IF($L$22=$C$20,$K84,IF($K$22=$C$20,$J84,IF($J$22=$C$20,$I84,IF($I$22=$C$20,'Baggrundsdata - HICP - deflator'!$H84,IF($H$22=$C$20,'Baggrundsdata - HICP - deflator'!$G84,IF($C$20=$G$22,'Baggrundsdata - HICP - deflator'!$F84,IF($F$22=$C$20,'Baggrundsdata - HICP - deflator'!$E84,IF($E$22=$C$20,'Baggrundsdata - HICP - deflator'!$D84,IF($D$22=$C$20,'Baggrundsdata - HICP - deflator'!$C84,IF('Baggrundsdata - HICP - deflator'!$C$22='Baggrundsdata - HICP - deflator'!$C$20,'Baggrundsdata - HICP - deflator'!$B84,\"*\"))))))))))),\"*\")","v":0.79466724000000011},{"$f":"IFERROR('Baggrundsdata - HICP - deflator'!C84/IF($M$22=$C$20,$L84,IF($L$22=$C$20,$K84,IF($K$22=$C$20,$J84,IF($J$22=$C$20,$I84,IF($I$22=$C$20,'Baggrundsdata - HICP - deflator'!$H84,IF($H$22=$C$20,'Baggrundsdata - HICP - deflator'!$G84,IF($C$20=$G$22,'Baggrundsdata - HICP - deflator'!$F84,IF($F$22=$C$20,'Baggrundsdata - HICP - deflator'!$E84,IF($E$22=$C$20,'Baggrundsdata - HICP - deflator'!$D84,IF($D$22=$C$20,'Baggrundsdata - HICP - deflator'!$C84,IF('Baggrundsdata - HICP - deflator'!$C$22='Baggrundsdata - HICP - deflator'!$C$20,'Baggrundsdata - HICP - deflator'!$B84,\"*\"))))))))))),\"*\")","v":0.88286292},{"$f":"IFERROR('Baggrundsdata - HICP - deflator'!D84/IF($M$22=$C$20,$L84,IF($L$22=$C$20,$K84,IF($K$22=$C$20,$J84,IF($J$22=$C$20,$I84,IF($I$22=$C$20,'Baggrundsdata - HICP - deflator'!$H84,IF($H$22=$C$20,'Baggrundsdata - HICP - deflator'!$G84,IF($C$20=$G$22,'Baggrundsdata - HICP - deflator'!$F84,IF($F$22=$C$20,'Baggrundsdata - HICP - deflator'!$E84,IF($E$22=$C$20,'Baggrundsdata - HICP - deflator'!$D84,IF($D$22=$C$20,'Baggrundsdata - HICP - deflator'!$C84,IF('Baggrundsdata - HICP - deflator'!$C$22='Baggrundsdata - HICP - deflator'!$C$20,'Baggrundsdata - HICP - deflator'!$B84,\"*\"))))))))))),\"*\")","v":0.91961112000000012},{"$f":"IFERROR('Baggrundsdata - HICP - deflator'!E84/IF($M$22=$C$20,$L84,IF($L$22=$C$20,$K84,IF($K$22=$C$20,$J84,IF($J$22=$C$20,$I84,IF($I$22=$C$20,'Baggrundsdata - HICP - deflator'!$H84,IF($H$22=$C$20,'Baggrundsdata - HICP - deflator'!$G84,IF($C$20=$G$22,'Baggrundsdata - HICP - deflator'!$F84,IF($F$22=$C$20,'Baggrundsdata - HICP - deflator'!$E84,IF($E$22=$C$20,'Baggrundsdata - HICP - deflator'!$D84,IF($D$22=$C$20,'Baggrundsdata - HICP - deflator'!$C84,IF('Baggrundsdata - HICP - deflator'!$C$22='Baggrundsdata - HICP - deflator'!$C$20,'Baggrundsdata - HICP - deflator'!$B84,\"*\"))))))))))),\"*\")","v":0.93058524000000009},{"$f":"IFERROR('Baggrundsdata - HICP - deflator'!F84/IF($M$22=$C$20,$L84,IF($L$22=$C$20,$K84,IF($K$22=$C$20,$J84,IF($J$22=$C$20,$I84,IF($I$22=$C$20,'Baggrundsdata - HICP - deflator'!$H84,IF($H$22=$C$20,'Baggrundsdata - HICP - deflator'!$G84,IF($C$20=$G$22,'Baggrundsdata - HICP - deflator'!$F84,IF($F$22=$C$20,'Baggrundsdata - HICP - deflator'!$E84,IF($E$22=$C$20,'Baggrundsdata - HICP - deflator'!$D84,IF($D$22=$C$20,'Baggrundsdata - HICP - deflator'!$C84,IF('Baggrundsdata - HICP - deflator'!$C$22='Baggrundsdata - HICP - deflator'!$C$20,'Baggrundsdata - HICP - deflator'!$B84,\"*\"))))))))))),\"*\")","v":0.96894431999999997},{"$f":"IFERROR('Baggrundsdata - HICP - deflator'!G84/IF($M$22=$C$20,$L84,IF($L$22=$C$20,$K84,IF($K$22=$C$20,$J84,IF($J$22=$C$20,$I84,IF($I$22=$C$20,'Baggrundsdata - HICP - deflator'!$H84,IF($H$22=$C$20,'Baggrundsdata - HICP - deflator'!$G84,IF($C$20=$G$22,'Baggrundsdata - HICP - deflator'!$F84,IF($F$22=$C$20,'Baggrundsdata - HICP - deflator'!$E84,IF($E$22=$C$20,'Baggrundsdata - HICP - deflator'!$D84,IF($D$22=$C$20,'Baggrundsdata - HICP - deflator'!$C84,IF('Baggrundsdata - HICP - deflator'!$C$22='Baggrundsdata - HICP - deflator'!$C$20,'Baggrundsdata - HICP - deflator'!$B84,\"*\"))))))))))),\"*\")","v":0.99955104000000006},{"$f":"IFERROR('Baggrundsdata - HICP - deflator'!H84/IF($M$22=$C$20,$L84,IF($L$22=$C$20,$K84,IF($K$22=$C$20,$J84,IF($J$22=$C$20,$I84,IF($I$22=$C$20,'Baggrundsdata - HICP - deflator'!$H84,IF($H$22=$C$20,'Baggrundsdata - HICP - deflator'!$G84,IF($C$20=$G$22,'Baggrundsdata - HICP - deflator'!$F84,IF($F$22=$C$20,'Baggrundsdata - HICP - deflator'!$E84,IF($E$22=$C$20,'Baggrundsdata - HICP - deflator'!$D84,IF($D$22=$C$20,'Baggrundsdata - HICP - deflator'!$C84,IF('Baggrundsdata - HICP - deflator'!$C$22='Baggrundsdata - HICP - deflator'!$C$20,'Baggrundsdata - HICP - deflator'!$B84,\"*\"))))))))))),\"*\")","v":1.0112299200000001},{"$f":"IFERROR('Baggrundsdata - HICP - deflator'!I84/IF($M$22=$C$20,$L84,IF($L$22=$C$20,$K84,IF($K$22=$C$20,$J84,IF($J$22=$C$20,$I84,IF($I$22=$C$20,'Baggrundsdata - HICP - deflator'!$H84,IF($H$22=$C$20,'Baggrundsdata - HICP - deflator'!$G84,IF($C$20=$G$22,'Baggrundsdata - HICP - deflator'!$F84,IF($F$22=$C$20,'Baggrundsdata - HICP - deflator'!$E84,IF($E$22=$C$20,'Baggrundsdata - HICP - deflator'!$D84,IF($D$22=$C$20,'Baggrundsdata - HICP - deflator'!$C84,IF('Baggrundsdata - HICP - deflator'!$C$22='Baggrundsdata - HICP - deflator'!$C$20,'Baggrundsdata - HICP - deflator'!$B84,\"*\"))))))))))),\"*\")","v":1.0136462400000001},{"$f":"IFERROR('Baggrundsdata - HICP - deflator'!J84/IF($M$22=$C$20,$L84,IF($L$22=$C$20,$K84,IF($K$22=$C$20,$J84,IF($J$22=$C$20,$I84,IF($I$22=$C$20,'Baggrundsdata - HICP - deflator'!$H84,IF($H$22=$C$20,'Baggrundsdata - HICP - deflator'!$G84,IF($C$20=$G$22,'Baggrundsdata - HICP - deflator'!$F84,IF($F$22=$C$20,'Baggrundsdata - HICP - deflator'!$E84,IF($E$22=$C$20,'Baggrundsdata - HICP - deflator'!$D84,IF($D$22=$C$20,'Baggrundsdata - HICP - deflator'!$C84,IF('Baggrundsdata - HICP - deflator'!$C$22='Baggrundsdata - HICP - deflator'!$C$20,'Baggrundsdata - HICP - deflator'!$B84,\"*\"))))))))))),\"*\")","v":1.0068000000000001},{"$f":"IFERROR('Baggrundsdata - HICP - deflator'!K84/IF($M$22=$C$20,$L84,IF($L$22=$C$20,$K84,IF($K$22=$C$20,$J84,IF($J$22=$C$20,$I84,IF($I$22=$C$20,'Baggrundsdata - HICP - deflator'!$H84,IF($H$22=$C$20,'Baggrundsdata - HICP - deflator'!$G84,IF($C$20=$G$22,'Baggrundsdata - HICP - deflator'!$F84,IF($F$22=$C$20,'Baggrundsdata - HICP - deflator'!$E84,IF($E$22=$C$20,'Baggrundsdata - HICP - deflator'!$D84,IF($D$22=$C$20,'Baggrundsdata - HICP - deflator'!$C84,IF('Baggrundsdata - HICP - deflator'!$C$22='Baggrundsdata - HICP - deflator'!$C$20,'Baggrundsdata - HICP - deflator'!$B84,\"*\"))))))))))),\"*\")","v":1},{"$f":"IFERROR('Baggrundsdata - HICP - deflator'!L84/IF($M$22=$C$20,$L84,IF($L$22=$C$20,$K84,IF($K$22=$C$20,$J84,IF($J$22=$C$20,$I84,IF($I$22=$C$20,'Baggrundsdata - HICP - deflator'!$H84,IF($H$22=$C$20,'Baggrundsdata - HICP - deflator'!$G84,IF($C$20=$G$22,'Baggrundsdata - HICP - deflator'!$F84,IF($F$22=$C$20,'Baggrundsdata - HICP - deflator'!$E84,IF($E$22=$C$20,'Baggrundsdata - HICP - deflator'!$D84,IF($D$22=$C$20,'Baggrundsdata - HICP - deflator'!$C84,IF('Baggrundsdata - HICP - deflator'!$C$22='Baggrundsdata - HICP - deflator'!$C$20,'Baggrundsdata - HICP - deflator'!$B84,\"*\"))))))))))),\"*\")","v":0},null,{"$f":"IF(A84='Level 1'!A66,\"sand\",\"falsk\")","v":"sand"}]
[null,"luxembourg",{"$f":"IFERROR('Baggrundsdata - HICP - deflator'!B85/IF($M$22=$C$20,$L85,IF($L$22=$C$20,$K85,IF($K$22=$C$20,$J85,IF($J$22=$C$20,$I85,IF($I$22=$C$20,'Baggrundsdata - HICP - deflator'!$H85,IF($H$22=$C$20,'Baggrundsdata - HICP - deflator'!$G85,IF($C$20=$G$22,'Baggrundsdata - HICP - deflator'!$F85,IF($F$22=$C$20,'Baggrundsdata - HICP - deflator'!$E85,IF($E$22=$C$20,'Baggrundsdata - HICP - deflator'!$D85,IF($D$22=$C$20,'Baggrundsdata - HICP - deflator'!$C85,IF('Baggrundsdata - HICP - deflator'!$C$22='Baggrundsdata - HICP - deflator'!$C$20,'Baggrundsdata - HICP - deflator'!$B85,\"*\"))))))))))),\"*\")","v":0.8539873},{"$f":"IFERROR('Baggrundsdata - HICP - deflator'!C85/IF($M$22=$C$20,$L85,IF($L$22=$C$20,$K85,IF($K$22=$C$20,$J85,IF($J$22=$C$20,$I85,IF($I$22=$C$20,'Baggrundsdata - HICP - deflator'!$H85,IF($H$22=$C$20,'Baggrundsdata - HICP - deflator'!$G85,IF($C$20=$G$22,'Baggrundsdata - HICP - deflator'!$F85,IF($F$22=$C$20,'Baggrundsdata - HICP - deflator'!$E85,IF($E$22=$C$20,'Baggrundsdata - HICP - deflator'!$D85,IF($D$22=$C$20,'Baggrundsdata - HICP - deflator'!$C85,IF('Baggrundsdata - HICP - deflator'!$C$22='Baggrundsdata - HICP - deflator'!$C$20,'Baggrundsdata - HICP - deflator'!$B85,\"*\"))))))))))),\"*\")","v":0.88886635999999997},{"$f":"IFERROR('Baggrundsdata - HICP - deflator'!D85/IF($M$22=$C$20,$L85,IF($L$22=$C$20,$K85,IF($K$22=$C$20,$J85,IF($J$22=$C$20,$I85,IF($I$22=$C$20,'Baggrundsdata - HICP - deflator'!$H85,IF($H$22=$C$20,'Baggrundsdata - HICP - deflator'!$G85,IF($C$20=$G$22,'Baggrundsdata - HICP - deflator'!$F85,IF($F$22=$C$20,'Baggrundsdata - HICP - deflator'!$E85,IF($E$22=$C$20,'Baggrundsdata - HICP - deflator'!$D85,IF($D$22=$C$20,'Baggrundsdata - HICP - deflator'!$C85,IF('Baggrundsdata - HICP - deflator'!$C$22='Baggrundsdata - HICP - deflator'!$C$20,'Baggrundsdata - HICP - deflator'!$B85,\"*\"))))))))))),\"*\")","v":0.88896629999999999},{"$f":"IFERROR('Baggrundsdata - HICP - deflator'!E85/IF($M$22=$C$20,$L85,IF($L$22=$C$20,$K85,IF($K$22=$C$20,$J85,IF($J$22=$C$20,$I85,IF($I$22=$C$20,'Baggrundsdata - HICP - deflator'!$H85,IF($H$22=$C$20,'Baggrundsdata - HICP - deflator'!$G85,IF($C$20=$G$22,'Baggrundsdata - HICP - deflator'!$F85,IF($F$22=$C$20,'Baggrundsdata - HICP - deflator'!$E85,IF($E$22=$C$20,'Baggrundsdata - HICP - deflator'!$D85,IF($D$22=$C$20,'Baggrundsdata - HICP - deflator'!$C85,IF('Baggrundsdata - HICP - deflator'!$C$22='Baggrundsdata - HICP - deflator'!$C$20,'Baggrundsdata - HICP - deflator'!$B85,\"*\"))))))))))),\"*\")","v":0.91385135999999989},{"$f":"IFERROR('Baggrundsdata - HICP - deflator'!F85/IF($M$22=$C$20,$L85,IF($L$22=$C$20,$K85,IF($K$22=$C$20,$J85,IF($J$22=$C$20,$I85,IF($I$22=$C$20,'Baggrundsdata - HICP - deflator'!$H85,IF($H$22=$C$20,'Baggrundsdata - HICP - deflator'!$G85,IF($C$20=$G$22,'Baggrundsdata - HICP - deflator'!$F85,IF($F$22=$C$20,'Baggrundsdata - HICP - deflator'!$E85,IF($E$22=$C$20,'Baggrundsdata - HICP - deflator'!$D85,IF($D$22=$C$20,'Baggrundsdata - HICP - deflator'!$C85,IF('Baggrundsdata - HICP - deflator'!$C$22='Baggrundsdata - HICP - deflator'!$C$20,'Baggrundsdata - HICP - deflator'!$B85,\"*\"))))))))))),\"*\")","v":0.94793089999999991},{"$f":"IFERROR('Baggrundsdata - HICP - deflator'!G85/IF($M$22=$C$20,$L85,IF($L$22=$C$20,$K85,IF($K$22=$C$20,$J85,IF($J$22=$C$20,$I85,IF($I$22=$C$20,'Baggrundsdata - HICP - deflator'!$H85,IF($H$22=$C$20,'Baggrundsdata - HICP - deflator'!$G85,IF($C$20=$G$22,'Baggrundsdata - HICP - deflator'!$F85,IF($F$22=$C$20,'Baggrundsdata - HICP - deflator'!$E85,IF($E$22=$C$20,'Baggrundsdata - HICP - deflator'!$D85,IF($D$22=$C$20,'Baggrundsdata - HICP - deflator'!$C85,IF('Baggrundsdata - HICP - deflator'!$C$22='Baggrundsdata - HICP - deflator'!$C$20,'Baggrundsdata - HICP - deflator'!$B85,\"*\"))))))))))),\"*\")","v":0.97531445999999999},{"$f":"IFERROR('Baggrundsdata - HICP - deflator'!H85/IF($M$22=$C$20,$L85,IF($L$22=$C$20,$K85,IF($K$22=$C$20,$J85,IF($J$22=$C$20,$I85,IF($I$22=$C$20,'Baggrundsdata - HICP - deflator'!$H85,IF($H$22=$C$20,'Baggrundsdata - HICP - deflator'!$G85,IF($C$20=$G$22,'Baggrundsdata - HICP - deflator'!$F85,IF($F$22=$C$20,'Baggrundsdata - HICP - deflator'!$E85,IF($E$22=$C$20,'Baggrundsdata - HICP - deflator'!$D85,IF($D$22=$C$20,'Baggrundsdata - HICP - deflator'!$C85,IF('Baggrundsdata - HICP - deflator'!$C$22='Baggrundsdata - HICP - deflator'!$C$20,'Baggrundsdata - HICP - deflator'!$B85,\"*\"))))))))))),\"*\")","v":0.99190449999999997},{"$f":"IFERROR('Baggrundsdata - HICP - deflator'!I85/IF($M$22=$C$20,$L85,IF($L$22=$C$20,$K85,IF($K$22=$C$20,$J85,IF($J$22=$C$20,$I85,IF($I$22=$C$20,'Baggrundsdata - HICP - deflator'!$H85,IF($H$22=$C$20,'Baggrundsdata - HICP - deflator'!$G85,IF($C$20=$G$22,'Baggrundsdata - HICP - deflator'!$F85,IF($F$22=$C$20,'Baggrundsdata - HICP - deflator'!$E85,IF($E$22=$C$20,'Baggrundsdata - HICP - deflator'!$D85,IF($D$22=$C$20,'Baggrundsdata - HICP - deflator'!$C85,IF('Baggrundsdata - HICP - deflator'!$C$22='Baggrundsdata - HICP - deflator'!$C$20,'Baggrundsdata - HICP - deflator'!$B85,\"*\"))))))))))),\"*\")","v":0.99880035999999994},{"$f":"IFERROR('Baggrundsdata - HICP - deflator'!J85/IF($M$22=$C$20,$L85,IF($L$22=$C$20,$K85,IF($K$22=$C$20,$J85,IF($J$22=$C$20,$I85,IF($I$22=$C$20,'Baggrundsdata - HICP - deflator'!$H85,IF($H$22=$C$20,'Baggrundsdata - HICP - deflator'!$G85,IF($C$20=$G$22,'Baggrundsdata - HICP - deflator'!$F85,IF($F$22=$C$20,'Baggrundsdata - HICP - deflator'!$E85,IF($E$22=$C$20,'Baggrundsdata - HICP - deflator'!$D85,IF($D$22=$C$20,'Baggrundsdata - HICP - deflator'!$C85,IF('Baggrundsdata - HICP - deflator'!$C$22='Baggrundsdata - HICP - deflator'!$C$20,'Baggrundsdata - HICP - deflator'!$B85,\"*\"))))))))))),\"*\")","v":0.99939999999999996},{"$f":"IFERROR('Baggrundsdata - HICP - deflator'!K85/IF($M$22=$C$20,$L85,IF($L$22=$C$20,$K85,IF($K$22=$C$20,$J85,IF($J$22=$C$20,$I85,IF($I$22=$C$20,'Baggrundsdata - HICP - deflator'!$H85,IF($H$22=$C$20,'Baggrundsdata - HICP - deflator'!$G85,IF($C$20=$G$22,'Baggrundsdata - HICP - deflator'!$F85,IF($F$22=$C$20,'Baggrundsdata - HICP - deflator'!$E85,IF($E$22=$C$20,'Baggrundsdata - HICP - deflator'!$D85,IF($D$22=$C$20,'Baggrundsdata - HICP - deflator'!$C85,IF('Baggrundsdata - HICP - deflator'!$C$22='Baggrundsdata - HICP - deflator'!$C$20,'Baggrundsdata - HICP - deflator'!$B85,\"*\"))))))))))),\"*\")","v":1},{"$f":"IFERROR('Baggrundsdata - HICP - deflator'!L85/IF($M$22=$C$20,$L85,IF($L$22=$C$20,$K85,IF($K$22=$C$20,$J85,IF($J$22=$C$20,$I85,IF($I$22=$C$20,'Baggrundsdata - HICP - deflator'!$H85,IF($H$22=$C$20,'Baggrundsdata - HICP - deflator'!$G85,IF($C$20=$G$22,'Baggrundsdata - HICP - deflator'!$F85,IF($F$22=$C$20,'Baggrundsdata - HICP - deflator'!$E85,IF($E$22=$C$20,'Baggrundsdata - HICP - deflator'!$D85,IF($D$22=$C$20,'Baggrundsdata - HICP - deflator'!$C85,IF('Baggrundsdata - HICP - deflator'!$C$22='Baggrundsdata - HICP - deflator'!$C$20,'Baggrundsdata - HICP - deflator'!$B85,\"*\"))))))))))),\"*\")","v":0},null,{"$f":"IF(A85='Level 1'!A67,\"sand\",\"falsk\")","v":"sand"}]
[null,"Ungarn",{"$f":"IFERROR('Baggrundsdata - HICP - deflator'!B86/IF($M$22=$C$20,$L86,IF($L$22=$C$20,$K86,IF($K$22=$C$20,$J86,IF($J$22=$C$20,$I86,IF($I$22=$C$20,'Baggrundsdata - HICP - deflator'!$H86,IF($H$22=$C$20,'Baggrundsdata - HICP - deflator'!$G86,IF($C$20=$G$22,'Baggrundsdata - HICP - deflator'!$F86,IF($F$22=$C$20,'Baggrundsdata - HICP - deflator'!$E86,IF($E$22=$C$20,'Baggrundsdata - HICP - deflator'!$D86,IF($D$22=$C$20,'Baggrundsdata - HICP - deflator'!$C86,IF('Baggrundsdata - HICP - deflator'!$C$22='Baggrundsdata - HICP - deflator'!$C$20,'Baggrundsdata - HICP - deflator'!$B86,\"*\"))))))))))),\"*\")","v":0.77403529999999998},{"$f":"IFERROR('Baggrundsdata - HICP - deflator'!C86/IF($M$22=$C$20,$L86,IF($L$22=$C$20,$K86,IF($K$22=$C$20,$J86,IF($J$22=$C$20,$I86,IF($I$22=$C$20,'Baggrundsdata - HICP - deflator'!$H86,IF($H$22=$C$20,'Baggrundsdata - HICP - deflator'!$G86,IF($C$20=$G$22,'Baggrundsdata - HICP - deflator'!$F86,IF($F$22=$C$20,'Baggrundsdata - HICP - deflator'!$E86,IF($E$22=$C$20,'Baggrundsdata - HICP - deflator'!$D86,IF($D$22=$C$20,'Baggrundsdata - HICP - deflator'!$C86,IF('Baggrundsdata - HICP - deflator'!$C$22='Baggrundsdata - HICP - deflator'!$C$20,'Baggrundsdata - HICP - deflator'!$B86,\"*\"))))))))))),\"*\")","v":0.82070728000000004},{"$f":"IFERROR('Baggrundsdata - HICP - deflator'!D86/IF($M$22=$C$20,$L86,IF($L$22=$C$20,$K86,IF($K$22=$C$20,$J86,IF($J$22=$C$20,$I86,IF($I$22=$C$20,'Baggrundsdata - HICP - deflator'!$H86,IF($H$22=$C$20,'Baggrundsdata - HICP - deflator'!$G86,IF($C$20=$G$22,'Baggrundsdata - HICP - deflator'!$F86,IF($F$22=$C$20,'Baggrundsdata - HICP - deflator'!$E86,IF($E$22=$C$20,'Baggrundsdata - HICP - deflator'!$D86,IF($D$22=$C$20,'Baggrundsdata - HICP - deflator'!$C86,IF('Baggrundsdata - HICP - deflator'!$C$22='Baggrundsdata - HICP - deflator'!$C$20,'Baggrundsdata - HICP - deflator'!$B86,\"*\"))))))))))),\"*\")","v":0.85378742000000007},{"$f":"IFERROR('Baggrundsdata - HICP - deflator'!E86/IF($M$22=$C$20,$L86,IF($L$22=$C$20,$K86,IF($K$22=$C$20,$J86,IF($J$22=$C$20,$I86,IF($I$22=$C$20,'Baggrundsdata - HICP - deflator'!$H86,IF($H$22=$C$20,'Baggrundsdata - HICP - deflator'!$G86,IF($C$20=$G$22,'Baggrundsdata - HICP - deflator'!$F86,IF($F$22=$C$20,'Baggrundsdata - HICP - deflator'!$E86,IF($E$22=$C$20,'Baggrundsdata - HICP - deflator'!$D86,IF($D$22=$C$20,'Baggrundsdata - HICP - deflator'!$C86,IF('Baggrundsdata - HICP - deflator'!$C$22='Baggrundsdata - HICP - deflator'!$C$20,'Baggrundsdata - HICP - deflator'!$B86,\"*\"))))))))))),\"*\")","v":0.89416317999999995},{"$f":"IFERROR('Baggrundsdata - HICP - deflator'!F86/IF($M$22=$C$20,$L86,IF($L$22=$C$20,$K86,IF($K$22=$C$20,$J86,IF($J$22=$C$20,$I86,IF($I$22=$C$20,'Baggrundsdata - HICP - deflator'!$H86,IF($H$22=$C$20,'Baggrundsdata - HICP - deflator'!$G86,IF($C$20=$G$22,'Baggrundsdata - HICP - deflator'!$F86,IF($F$22=$C$20,'Baggrundsdata - HICP - deflator'!$E86,IF($E$22=$C$20,'Baggrundsdata - HICP - deflator'!$D86,IF($D$22=$C$20,'Baggrundsdata - HICP - deflator'!$C86,IF('Baggrundsdata - HICP - deflator'!$C$22='Baggrundsdata - HICP - deflator'!$C$20,'Baggrundsdata - HICP - deflator'!$B86,\"*\"))))))))))),\"*\")","v":0.92924211999999995},{"$f":"IFERROR('Baggrundsdata - HICP - deflator'!G86/IF($M$22=$C$20,$L86,IF($L$22=$C$20,$K86,IF($K$22=$C$20,$J86,IF($J$22=$C$20,$I86,IF($I$22=$C$20,'Baggrundsdata - HICP - deflator'!$H86,IF($H$22=$C$20,'Baggrundsdata - HICP - deflator'!$G86,IF($C$20=$G$22,'Baggrundsdata - HICP - deflator'!$F86,IF($F$22=$C$20,'Baggrundsdata - HICP - deflator'!$E86,IF($E$22=$C$20,'Baggrundsdata - HICP - deflator'!$D86,IF($D$22=$C$20,'Baggrundsdata - HICP - deflator'!$C86,IF('Baggrundsdata - HICP - deflator'!$C$22='Baggrundsdata - HICP - deflator'!$C$20,'Baggrundsdata - HICP - deflator'!$B86,\"*\"))))))))))),\"*\")","v":0.98181055999999989},{"$f":"IFERROR('Baggrundsdata - HICP - deflator'!H86/IF($M$22=$C$20,$L86,IF($L$22=$C$20,$K86,IF($K$22=$C$20,$J86,IF($J$22=$C$20,$I86,IF($I$22=$C$20,'Baggrundsdata - HICP - deflator'!$H86,IF($H$22=$C$20,'Baggrundsdata - HICP - deflator'!$G86,IF($C$20=$G$22,'Baggrundsdata - HICP - deflator'!$F86,IF($F$22=$C$20,'Baggrundsdata - HICP - deflator'!$E86,IF($E$22=$C$20,'Baggrundsdata - HICP - deflator'!$D86,IF($D$22=$C$20,'Baggrundsdata - HICP - deflator'!$C86,IF('Baggrundsdata - HICP - deflator'!$C$22='Baggrundsdata - HICP - deflator'!$C$20,'Baggrundsdata - HICP - deflator'!$B86,\"*\"))))))))))),\"*\")","v":0.99860048000000001},{"$f":"IFERROR('Baggrundsdata - HICP - deflator'!I86/IF($M$22=$C$20,$L86,IF($L$22=$C$20,$K86,IF($K$22=$C$20,$J86,IF($J$22=$C$20,$I86,IF($I$22=$C$20,'Baggrundsdata - HICP - deflator'!$H86,IF($H$22=$C$20,'Baggrundsdata - HICP - deflator'!$G86,IF($C$20=$G$22,'Baggrundsdata - HICP - deflator'!$F86,IF($F$22=$C$20,'Baggrundsdata - HICP - deflator'!$E86,IF($E$22=$C$20,'Baggrundsdata - HICP - deflator'!$D86,IF($D$22=$C$20,'Baggrundsdata - HICP - deflator'!$C86,IF('Baggrundsdata - HICP - deflator'!$C$22='Baggrundsdata - HICP - deflator'!$C$20,'Baggrundsdata - HICP - deflator'!$B86,\"*\"))))))))))),\"*\")","v":0.99880035999999994},{"$f":"IFERROR('Baggrundsdata - HICP - deflator'!J86/IF($M$22=$C$20,$L86,IF($L$22=$C$20,$K86,IF($K$22=$C$20,$J86,IF($J$22=$C$20,$I86,IF($I$22=$C$20,'Baggrundsdata - HICP - deflator'!$H86,IF($H$22=$C$20,'Baggrundsdata - HICP - deflator'!$G86,IF($C$20=$G$22,'Baggrundsdata - HICP - deflator'!$F86,IF($F$22=$C$20,'Baggrundsdata - HICP - deflator'!$E86,IF($E$22=$C$20,'Baggrundsdata - HICP - deflator'!$D86,IF($D$22=$C$20,'Baggrundsdata - HICP - deflator'!$C86,IF('Baggrundsdata - HICP - deflator'!$C$22='Baggrundsdata - HICP - deflator'!$C$20,'Baggrundsdata - HICP - deflator'!$B86,\"*\"))))))))))),\"*\")","v":0.99939999999999996},{"$f":"IFERROR('Baggrundsdata - HICP - deflator'!K86/IF($M$22=$C$20,$L86,IF($L$22=$C$20,$K86,IF($K$22=$C$20,$J86,IF($J$22=$C$20,$I86,IF($I$22=$C$20,'Baggrundsdata - HICP - deflator'!$H86,IF($H$22=$C$20,'Baggrundsdata - HICP - deflator'!$G86,IF($C$20=$G$22,'Baggrundsdata - HICP - deflator'!$F86,IF($F$22=$C$20,'Baggrundsdata - HICP - deflator'!$E86,IF($E$22=$C$20,'Baggrundsdata - HICP - deflator'!$D86,IF($D$22=$C$20,'Baggrundsdata - HICP - deflator'!$C86,IF('Baggrundsdata - HICP - deflator'!$C$22='Baggrundsdata - HICP - deflator'!$C$20,'Baggrundsdata - HICP - deflator'!$B86,\"*\"))))))))))),\"*\")","v":1},{"$f":"IFERROR('Baggrundsdata - HICP - deflator'!L86/IF($M$22=$C$20,$L86,IF($L$22=$C$20,$K86,IF($K$22=$C$20,$J86,IF($J$22=$C$20,$I86,IF($I$22=$C$20,'Baggrundsdata - HICP - deflator'!$H86,IF($H$22=$C$20,'Baggrundsdata - HICP - deflator'!$G86,IF($C$20=$G$22,'Baggrundsdata - HICP - deflator'!$F86,IF($F$22=$C$20,'Baggrundsdata - HICP - deflator'!$E86,IF($E$22=$C$20,'Baggrundsdata - HICP - deflator'!$D86,IF($D$22=$C$20,'Baggrundsdata - HICP - deflator'!$C86,IF('Baggrundsdata - HICP - deflator'!$C$22='Baggrundsdata - HICP - deflator'!$C$20,'Baggrundsdata - HICP - deflator'!$B86,\"*\"))))))))))),\"*\")","v":0},null,{"$f":"IF(A86='Level 1'!A68,\"sand\",\"falsk\")","v":"sand"}]
[null,"Holland",{"$f":"IFERROR('Baggrundsdata - HICP - deflator'!B87/IF($M$22=$C$20,$L87,IF($L$22=$C$20,$K87,IF($K$22=$C$20,$J87,IF($J$22=$C$20,$I87,IF($I$22=$C$20,'Baggrundsdata - HICP - deflator'!$H87,IF($H$22=$C$20,'Baggrundsdata - HICP - deflator'!$G87,IF($C$20=$G$22,'Baggrundsdata - HICP - deflator'!$F87,IF($F$22=$C$20,'Baggrundsdata - HICP - deflator'!$E87,IF($E$22=$C$20,'Baggrundsdata - HICP - deflator'!$D87,IF($D$22=$C$20,'Baggrundsdata - HICP - deflator'!$C87,IF('Baggrundsdata - HICP - deflator'!$C$22='Baggrundsdata - HICP - deflator'!$C$20,'Baggrundsdata - HICP - deflator'!$B87,\"*\"))))))))))),\"*\")","v":0.88174444000000007},{"$f":"IFERROR('Baggrundsdata - HICP - deflator'!C87/IF($M$22=$C$20,$L87,IF($L$22=$C$20,$K87,IF($K$22=$C$20,$J87,IF($J$22=$C$20,$I87,IF($I$22=$C$20,'Baggrundsdata - HICP - deflator'!$H87,IF($H$22=$C$20,'Baggrundsdata - HICP - deflator'!$G87,IF($C$20=$G$22,'Baggrundsdata - HICP - deflator'!$F87,IF($F$22=$C$20,'Baggrundsdata - HICP - deflator'!$E87,IF($E$22=$C$20,'Baggrundsdata - HICP - deflator'!$D87,IF($D$22=$C$20,'Baggrundsdata - HICP - deflator'!$C87,IF('Baggrundsdata - HICP - deflator'!$C$22='Baggrundsdata - HICP - deflator'!$C$20,'Baggrundsdata - HICP - deflator'!$B87,\"*\"))))))))))),\"*\")","v":0.90130328000000004},{"$f":"IFERROR('Baggrundsdata - HICP - deflator'!D87/IF($M$22=$C$20,$L87,IF($L$22=$C$20,$K87,IF($K$22=$C$20,$J87,IF($J$22=$C$20,$I87,IF($I$22=$C$20,'Baggrundsdata - HICP - deflator'!$H87,IF($H$22=$C$20,'Baggrundsdata - HICP - deflator'!$G87,IF($C$20=$G$22,'Baggrundsdata - HICP - deflator'!$F87,IF($F$22=$C$20,'Baggrundsdata - HICP - deflator'!$E87,IF($E$22=$C$20,'Baggrundsdata - HICP - deflator'!$D87,IF($D$22=$C$20,'Baggrundsdata - HICP - deflator'!$C87,IF('Baggrundsdata - HICP - deflator'!$C$22='Baggrundsdata - HICP - deflator'!$C$20,'Baggrundsdata - HICP - deflator'!$B87,\"*\"))))))))))),\"*\")","v":0.91008480000000014},{"$f":"IFERROR('Baggrundsdata - HICP - deflator'!E87/IF($M$22=$C$20,$L87,IF($L$22=$C$20,$K87,IF($K$22=$C$20,$J87,IF($J$22=$C$20,$I87,IF($I$22=$C$20,'Baggrundsdata - HICP - deflator'!$H87,IF($H$22=$C$20,'Baggrundsdata - HICP - deflator'!$G87,IF($C$20=$G$22,'Baggrundsdata - HICP - deflator'!$F87,IF($F$22=$C$20,'Baggrundsdata - HICP - deflator'!$E87,IF($E$22=$C$20,'Baggrundsdata - HICP - deflator'!$D87,IF($D$22=$C$20,'Baggrundsdata - HICP - deflator'!$C87,IF('Baggrundsdata - HICP - deflator'!$C$22='Baggrundsdata - HICP - deflator'!$C$20,'Baggrundsdata - HICP - deflator'!$B87,\"*\"))))))))))),\"*\")","v":0.9185669500000001},{"$f":"IFERROR('Baggrundsdata - HICP - deflator'!F87/IF($M$22=$C$20,$L87,IF($L$22=$C$20,$K87,IF($K$22=$C$20,$J87,IF($J$22=$C$20,$I87,IF($I$22=$C$20,'Baggrundsdata - HICP - deflator'!$H87,IF($H$22=$C$20,'Baggrundsdata - HICP - deflator'!$G87,IF($C$20=$G$22,'Baggrundsdata - HICP - deflator'!$F87,IF($F$22=$C$20,'Baggrundsdata - HICP - deflator'!$E87,IF($E$22=$C$20,'Baggrundsdata - HICP - deflator'!$D87,IF($D$22=$C$20,'Baggrundsdata - HICP - deflator'!$C87,IF('Baggrundsdata - HICP - deflator'!$C$22='Baggrundsdata - HICP - deflator'!$C$20,'Baggrundsdata - HICP - deflator'!$B87,\"*\"))))))))))),\"*\")","v":0.94121927999999999},{"$f":"IFERROR('Baggrundsdata - HICP - deflator'!G87/IF($M$22=$C$20,$L87,IF($L$22=$C$20,$K87,IF($K$22=$C$20,$J87,IF($J$22=$C$20,$I87,IF($I$22=$C$20,'Baggrundsdata - HICP - deflator'!$H87,IF($H$22=$C$20,'Baggrundsdata - HICP - deflator'!$G87,IF($C$20=$G$22,'Baggrundsdata - HICP - deflator'!$F87,IF($F$22=$C$20,'Baggrundsdata - HICP - deflator'!$E87,IF($E$22=$C$20,'Baggrundsdata - HICP - deflator'!$D87,IF($D$22=$C$20,'Baggrundsdata - HICP - deflator'!$C87,IF('Baggrundsdata - HICP - deflator'!$C$22='Baggrundsdata - HICP - deflator'!$C$20,'Baggrundsdata - HICP - deflator'!$B87,\"*\"))))))))))),\"*\")","v":0.96786321000000008},{"$f":"IFERROR('Baggrundsdata - HICP - deflator'!H87/IF($M$22=$C$20,$L87,IF($L$22=$C$20,$K87,IF($K$22=$C$20,$J87,IF($J$22=$C$20,$I87,IF($I$22=$C$20,'Baggrundsdata - HICP - deflator'!$H87,IF($H$22=$C$20,'Baggrundsdata - HICP - deflator'!$G87,IF($C$20=$G$22,'Baggrundsdata - HICP - deflator'!$F87,IF($F$22=$C$20,'Baggrundsdata - HICP - deflator'!$E87,IF($E$22=$C$20,'Baggrundsdata - HICP - deflator'!$D87,IF($D$22=$C$20,'Baggrundsdata - HICP - deflator'!$C87,IF('Baggrundsdata - HICP - deflator'!$C$22='Baggrundsdata - HICP - deflator'!$C$20,'Baggrundsdata - HICP - deflator'!$B87,\"*\"))))))))))),\"*\")","v":0.99261113000000012},{"$f":"IFERROR('Baggrundsdata - HICP - deflator'!I87/IF($M$22=$C$20,$L87,IF($L$22=$C$20,$K87,IF($K$22=$C$20,$J87,IF($J$22=$C$20,$I87,IF($I$22=$C$20,'Baggrundsdata - HICP - deflator'!$H87,IF($H$22=$C$20,'Baggrundsdata - HICP - deflator'!$G87,IF($C$20=$G$22,'Baggrundsdata - HICP - deflator'!$F87,IF($F$22=$C$20,'Baggrundsdata - HICP - deflator'!$E87,IF($E$22=$C$20,'Baggrundsdata - HICP - deflator'!$D87,IF($D$22=$C$20,'Baggrundsdata - HICP - deflator'!$C87,IF('Baggrundsdata - HICP - deflator'!$C$22='Baggrundsdata - HICP - deflator'!$C$20,'Baggrundsdata - HICP - deflator'!$B87,\"*\"))))))))))),\"*\")","v":0.9958044100000002},{"$f":"IFERROR('Baggrundsdata - HICP - deflator'!J87/IF($M$22=$C$20,$L87,IF($L$22=$C$20,$K87,IF($K$22=$C$20,$J87,IF($J$22=$C$20,$I87,IF($I$22=$C$20,'Baggrundsdata - HICP - deflator'!$H87,IF($H$22=$C$20,'Baggrundsdata - HICP - deflator'!$G87,IF($C$20=$G$22,'Baggrundsdata - HICP - deflator'!$F87,IF($F$22=$C$20,'Baggrundsdata - HICP - deflator'!$E87,IF($E$22=$C$20,'Baggrundsdata - HICP - deflator'!$D87,IF($D$22=$C$20,'Baggrundsdata - HICP - deflator'!$C87,IF('Baggrundsdata - HICP - deflator'!$C$22='Baggrundsdata - HICP - deflator'!$C$20,'Baggrundsdata - HICP - deflator'!$B87,\"*\"))))))))))),\"*\")","v":0.99790000000000012},{"$f":"IFERROR('Baggrundsdata - HICP - deflator'!K87/IF($M$22=$C$20,$L87,IF($L$22=$C$20,$K87,IF($K$22=$C$20,$J87,IF($J$22=$C$20,$I87,IF($I$22=$C$20,'Baggrundsdata - HICP - deflator'!$H87,IF($H$22=$C$20,'Baggrundsdata - HICP - deflator'!$G87,IF($C$20=$G$22,'Baggrundsdata - HICP - deflator'!$F87,IF($F$22=$C$20,'Baggrundsdata - HICP - deflator'!$E87,IF($E$22=$C$20,'Baggrundsdata - HICP - deflator'!$D87,IF($D$22=$C$20,'Baggrundsdata - HICP - deflator'!$C87,IF('Baggrundsdata - HICP - deflator'!$C$22='Baggrundsdata - HICP - deflator'!$C$20,'Baggrundsdata - HICP - deflator'!$B87,\"*\"))))))))))),\"*\")","v":1},{"$f":"IFERROR('Baggrundsdata - HICP - deflator'!L87/IF($M$22=$C$20,$L87,IF($L$22=$C$20,$K87,IF($K$22=$C$20,$J87,IF($J$22=$C$20,$I87,IF($I$22=$C$20,'Baggrundsdata - HICP - deflator'!$H87,IF($H$22=$C$20,'Baggrundsdata - HICP - deflator'!$G87,IF($C$20=$G$22,'Baggrundsdata - HICP - deflator'!$F87,IF($F$22=$C$20,'Baggrundsdata - HICP - deflator'!$E87,IF($E$22=$C$20,'Baggrundsdata - HICP - deflator'!$D87,IF($D$22=$C$20,'Baggrundsdata - HICP - deflator'!$C87,IF('Baggrundsdata - HICP - deflator'!$C$22='Baggrundsdata - HICP - deflator'!$C$20,'Baggrundsdata - HICP - deflator'!$B87,\"*\"))))))))))),\"*\")","v":0},null,{"$f":"IF(A87='Level 1'!A69,\"sand\",\"falsk\")","v":"sand"}]
[null,"Østrig",{"$f":"IFERROR('Baggrundsdata - HICP - deflator'!B88/IF($M$22=$C$20,$L88,IF($L$22=$C$20,$K88,IF($K$22=$C$20,$J88,IF($J$22=$C$20,$I88,IF($I$22=$C$20,'Baggrundsdata - HICP - deflator'!$H88,IF($H$22=$C$20,'Baggrundsdata - HICP - deflator'!$G88,IF($C$20=$G$22,'Baggrundsdata - HICP - deflator'!$F88,IF($F$22=$C$20,'Baggrundsdata - HICP - deflator'!$E88,IF($E$22=$C$20,'Baggrundsdata - HICP - deflator'!$D88,IF($D$22=$C$20,'Baggrundsdata - HICP - deflator'!$C88,IF('Baggrundsdata - HICP - deflator'!$C$22='Baggrundsdata - HICP - deflator'!$C$20,'Baggrundsdata - HICP - deflator'!$B88,\"*\"))))))))))),\"*\")","v":0.84845759999999992},{"$f":"IFERROR('Baggrundsdata - HICP - deflator'!C88/IF($M$22=$C$20,$L88,IF($L$22=$C$20,$K88,IF($K$22=$C$20,$J88,IF($J$22=$C$20,$I88,IF($I$22=$C$20,'Baggrundsdata - HICP - deflator'!$H88,IF($H$22=$C$20,'Baggrundsdata - HICP - deflator'!$G88,IF($C$20=$G$22,'Baggrundsdata - HICP - deflator'!$F88,IF($F$22=$C$20,'Baggrundsdata - HICP - deflator'!$E88,IF($E$22=$C$20,'Baggrundsdata - HICP - deflator'!$D88,IF($D$22=$C$20,'Baggrundsdata - HICP - deflator'!$C88,IF('Baggrundsdata - HICP - deflator'!$C$22='Baggrundsdata - HICP - deflator'!$C$20,'Baggrundsdata - HICP - deflator'!$B88,\"*\"))))))))))),\"*\")","v":0.87583679999999997},{"$f":"IFERROR('Baggrundsdata - HICP - deflator'!D88/IF($M$22=$C$20,$L88,IF($L$22=$C$20,$K88,IF($K$22=$C$20,$J88,IF($J$22=$C$20,$I88,IF($I$22=$C$20,'Baggrundsdata - HICP - deflator'!$H88,IF($H$22=$C$20,'Baggrundsdata - HICP - deflator'!$G88,IF($C$20=$G$22,'Baggrundsdata - HICP - deflator'!$F88,IF($F$22=$C$20,'Baggrundsdata - HICP - deflator'!$E88,IF($E$22=$C$20,'Baggrundsdata - HICP - deflator'!$D88,IF($D$22=$C$20,'Baggrundsdata - HICP - deflator'!$C88,IF('Baggrundsdata - HICP - deflator'!$C$22='Baggrundsdata - HICP - deflator'!$C$20,'Baggrundsdata - HICP - deflator'!$B88,\"*\"))))))))))),\"*\")","v":0.8793088},{"$f":"IFERROR('Baggrundsdata - HICP - deflator'!E88/IF($M$22=$C$20,$L88,IF($L$22=$C$20,$K88,IF($K$22=$C$20,$J88,IF($J$22=$C$20,$I88,IF($I$22=$C$20,'Baggrundsdata - HICP - deflator'!$H88,IF($H$22=$C$20,'Baggrundsdata - HICP - deflator'!$G88,IF($C$20=$G$22,'Baggrundsdata - HICP - deflator'!$F88,IF($F$22=$C$20,'Baggrundsdata - HICP - deflator'!$E88,IF($E$22=$C$20,'Baggrundsdata - HICP - deflator'!$D88,IF($D$22=$C$20,'Baggrundsdata - HICP - deflator'!$C88,IF('Baggrundsdata - HICP - deflator'!$C$22='Baggrundsdata - HICP - deflator'!$C$20,'Baggrundsdata - HICP - deflator'!$B88,\"*\"))))))))))),\"*\")","v":0.89418880000000001},{"$f":"IFERROR('Baggrundsdata - HICP - deflator'!F88/IF($M$22=$C$20,$L88,IF($L$22=$C$20,$K88,IF($K$22=$C$20,$J88,IF($J$22=$C$20,$I88,IF($I$22=$C$20,'Baggrundsdata - HICP - deflator'!$H88,IF($H$22=$C$20,'Baggrundsdata - HICP - deflator'!$G88,IF($C$20=$G$22,'Baggrundsdata - HICP - deflator'!$F88,IF($F$22=$C$20,'Baggrundsdata - HICP - deflator'!$E88,IF($E$22=$C$20,'Baggrundsdata - HICP - deflator'!$D88,IF($D$22=$C$20,'Baggrundsdata - HICP - deflator'!$C88,IF('Baggrundsdata - HICP - deflator'!$C$22='Baggrundsdata - HICP - deflator'!$C$20,'Baggrundsdata - HICP - deflator'!$B88,\"*\"))))))))))),\"*\")","v":0.92603199999999986},{"$f":"IFERROR('Baggrundsdata - HICP - deflator'!G88/IF($M$22=$C$20,$L88,IF($L$22=$C$20,$K88,IF($K$22=$C$20,$J88,IF($J$22=$C$20,$I88,IF($I$22=$C$20,'Baggrundsdata - HICP - deflator'!$H88,IF($H$22=$C$20,'Baggrundsdata - HICP - deflator'!$G88,IF($C$20=$G$22,'Baggrundsdata - HICP - deflator'!$F88,IF($F$22=$C$20,'Baggrundsdata - HICP - deflator'!$E88,IF($E$22=$C$20,'Baggrundsdata - HICP - deflator'!$D88,IF($D$22=$C$20,'Baggrundsdata - HICP - deflator'!$C88,IF('Baggrundsdata - HICP - deflator'!$C$22='Baggrundsdata - HICP - deflator'!$C$20,'Baggrundsdata - HICP - deflator'!$B88,\"*\"))))))))))),\"*\")","v":0.94983999999999991},{"$f":"IFERROR('Baggrundsdata - HICP - deflator'!H88/IF($M$22=$C$20,$L88,IF($L$22=$C$20,$K88,IF($K$22=$C$20,$J88,IF($J$22=$C$20,$I88,IF($I$22=$C$20,'Baggrundsdata - HICP - deflator'!$H88,IF($H$22=$C$20,'Baggrundsdata - HICP - deflator'!$G88,IF($C$20=$G$22,'Baggrundsdata - HICP - deflator'!$F88,IF($F$22=$C$20,'Baggrundsdata - HICP - deflator'!$E88,IF($E$22=$C$20,'Baggrundsdata - HICP - deflator'!$D88,IF($D$22=$C$20,'Baggrundsdata - HICP - deflator'!$C88,IF('Baggrundsdata - HICP - deflator'!$C$22='Baggrundsdata - HICP - deflator'!$C$20,'Baggrundsdata - HICP - deflator'!$B88,\"*\"))))))))))),\"*\")","v":0.96987839999999992},{"$f":"IFERROR('Baggrundsdata - HICP - deflator'!I88/IF($M$22=$C$20,$L88,IF($L$22=$C$20,$K88,IF($K$22=$C$20,$J88,IF($J$22=$C$20,$I88,IF($I$22=$C$20,'Baggrundsdata - HICP - deflator'!$H88,IF($H$22=$C$20,'Baggrundsdata - HICP - deflator'!$G88,IF($C$20=$G$22,'Baggrundsdata - HICP - deflator'!$F88,IF($F$22=$C$20,'Baggrundsdata - HICP - deflator'!$E88,IF($E$22=$C$20,'Baggrundsdata - HICP - deflator'!$D88,IF($D$22=$C$20,'Baggrundsdata - HICP - deflator'!$C88,IF('Baggrundsdata - HICP - deflator'!$C$22='Baggrundsdata - HICP - deflator'!$C$20,'Baggrundsdata - HICP - deflator'!$B88,\"*\"))))))))))),\"*\")","v":0.98406399999999994},{"$f":"IFERROR('Baggrundsdata - HICP - deflator'!J88/IF($M$22=$C$20,$L88,IF($L$22=$C$20,$K88,IF($K$22=$C$20,$J88,IF($J$22=$C$20,$I88,IF($I$22=$C$20,'Baggrundsdata - HICP - deflator'!$H88,IF($H$22=$C$20,'Baggrundsdata - HICP - deflator'!$G88,IF($C$20=$G$22,'Baggrundsdata - HICP - deflator'!$F88,IF($F$22=$C$20,'Baggrundsdata - HICP - deflator'!$E88,IF($E$22=$C$20,'Baggrundsdata - HICP - deflator'!$D88,IF($D$22=$C$20,'Baggrundsdata - HICP - deflator'!$C88,IF('Baggrundsdata - HICP - deflator'!$C$22='Baggrundsdata - HICP - deflator'!$C$20,'Baggrundsdata - HICP - deflator'!$B88,\"*\"))))))))))),\"*\")","v":0.99199999999999999},{"$f":"IFERROR('Baggrundsdata - HICP - deflator'!K88/IF($M$22=$C$20,$L88,IF($L$22=$C$20,$K88,IF($K$22=$C$20,$J88,IF($J$22=$C$20,$I88,IF($I$22=$C$20,'Baggrundsdata - HICP - deflator'!$H88,IF($H$22=$C$20,'Baggrundsdata - HICP - deflator'!$G88,IF($C$20=$G$22,'Baggrundsdata - HICP - deflator'!$F88,IF($F$22=$C$20,'Baggrundsdata - HICP - deflator'!$E88,IF($E$22=$C$20,'Baggrundsdata - HICP - deflator'!$D88,IF($D$22=$C$20,'Baggrundsdata - HICP - deflator'!$C88,IF('Baggrundsdata - HICP - deflator'!$C$22='Baggrundsdata - HICP - deflator'!$C$20,'Baggrundsdata - HICP - deflator'!$B88,\"*\"))))))))))),\"*\")","v":1},{"$f":"IFERROR('Baggrundsdata - HICP - deflator'!L88/IF($M$22=$C$20,$L88,IF($L$22=$C$20,$K88,IF($K$22=$C$20,$J88,IF($J$22=$C$20,$I88,IF($I$22=$C$20,'Baggrundsdata - HICP - deflator'!$H88,IF($H$22=$C$20,'Baggrundsdata - HICP - deflator'!$G88,IF($C$20=$G$22,'Baggrundsdata - HICP - deflator'!$F88,IF($F$22=$C$20,'Baggrundsdata - HICP - deflator'!$E88,IF($E$22=$C$20,'Baggrundsdata - HICP - deflator'!$D88,IF($D$22=$C$20,'Baggrundsdata - HICP - deflator'!$C88,IF('Baggrundsdata - HICP - deflator'!$C$22='Baggrundsdata - HICP - deflator'!$C$20,'Baggrundsdata - HICP - deflator'!$B88,\"*\"))))))))))),\"*\")","v":0},null,{"$f":"IF(A88='Level 1'!A70,\"sand\",\"falsk\")","v":"sand"}]
[null,"Polen",{"$f":"IFERROR('Baggrundsdata - HICP - deflator'!B89/IF($M$22=$C$20,$L89,IF($L$22=$C$20,$K89,IF($K$22=$C$20,$J89,IF($J$22=$C$20,$I89,IF($I$22=$C$20,'Baggrundsdata - HICP - deflator'!$H89,IF($H$22=$C$20,'Baggrundsdata - HICP - deflator'!$G89,IF($C$20=$G$22,'Baggrundsdata - HICP - deflator'!$F89,IF($F$22=$C$20,'Baggrundsdata - HICP - deflator'!$E89,IF($E$22=$C$20,'Baggrundsdata - HICP - deflator'!$D89,IF($D$22=$C$20,'Baggrundsdata - HICP - deflator'!$C89,IF('Baggrundsdata - HICP - deflator'!$C$22='Baggrundsdata - HICP - deflator'!$C$20,'Baggrundsdata - HICP - deflator'!$B89,\"*\"))))))))))),\"*\")","v":0.83883099999999999},{"$f":"IFERROR('Baggrundsdata - HICP - deflator'!C89/IF($M$22=$C$20,$L89,IF($L$22=$C$20,$K89,IF($K$22=$C$20,$J89,IF($J$22=$C$20,$I89,IF($I$22=$C$20,'Baggrundsdata - HICP - deflator'!$H89,IF($H$22=$C$20,'Baggrundsdata - HICP - deflator'!$G89,IF($C$20=$G$22,'Baggrundsdata - HICP - deflator'!$F89,IF($F$22=$C$20,'Baggrundsdata - HICP - deflator'!$E89,IF($E$22=$C$20,'Baggrundsdata - HICP - deflator'!$D89,IF($D$22=$C$20,'Baggrundsdata - HICP - deflator'!$C89,IF('Baggrundsdata - HICP - deflator'!$C$22='Baggrundsdata - HICP - deflator'!$C$20,'Baggrundsdata - HICP - deflator'!$B89,\"*\"))))))))))),\"*\")","v":0.87407599999999996},{"$f":"IFERROR('Baggrundsdata - HICP - deflator'!D89/IF($M$22=$C$20,$L89,IF($L$22=$C$20,$K89,IF($K$22=$C$20,$J89,IF($J$22=$C$20,$I89,IF($I$22=$C$20,'Baggrundsdata - HICP - deflator'!$H89,IF($H$22=$C$20,'Baggrundsdata - HICP - deflator'!$G89,IF($C$20=$G$22,'Baggrundsdata - HICP - deflator'!$F89,IF($F$22=$C$20,'Baggrundsdata - HICP - deflator'!$E89,IF($E$22=$C$20,'Baggrundsdata - HICP - deflator'!$D89,IF($D$22=$C$20,'Baggrundsdata - HICP - deflator'!$C89,IF('Baggrundsdata - HICP - deflator'!$C$22='Baggrundsdata - HICP - deflator'!$C$20,'Baggrundsdata - HICP - deflator'!$B89,\"*\"))))))))))),\"*\")","v":0.90932100000000005},{"$f":"IFERROR('Baggrundsdata - HICP - deflator'!E89/IF($M$22=$C$20,$L89,IF($L$22=$C$20,$K89,IF($K$22=$C$20,$J89,IF($J$22=$C$20,$I89,IF($I$22=$C$20,'Baggrundsdata - HICP - deflator'!$H89,IF($H$22=$C$20,'Baggrundsdata - HICP - deflator'!$G89,IF($C$20=$G$22,'Baggrundsdata - HICP - deflator'!$F89,IF($F$22=$C$20,'Baggrundsdata - HICP - deflator'!$E89,IF($E$22=$C$20,'Baggrundsdata - HICP - deflator'!$D89,IF($D$22=$C$20,'Baggrundsdata - HICP - deflator'!$C89,IF('Baggrundsdata - HICP - deflator'!$C$22='Baggrundsdata - HICP - deflator'!$C$20,'Baggrundsdata - HICP - deflator'!$B89,\"*\"))))))))))),\"*\")","v":0.93348900000000012},{"$f":"IFERROR('Baggrundsdata - HICP - deflator'!F89/IF($M$22=$C$20,$L89,IF($L$22=$C$20,$K89,IF($K$22=$C$20,$J89,IF($J$22=$C$20,$I89,IF($I$22=$C$20,'Baggrundsdata - HICP - deflator'!$H89,IF($H$22=$C$20,'Baggrundsdata - HICP - deflator'!$G89,IF($C$20=$G$22,'Baggrundsdata - HICP - deflator'!$F89,IF($F$22=$C$20,'Baggrundsdata - HICP - deflator'!$E89,IF($E$22=$C$20,'Baggrundsdata - HICP - deflator'!$D89,IF($D$22=$C$20,'Baggrundsdata - HICP - deflator'!$C89,IF('Baggrundsdata - HICP - deflator'!$C$22='Baggrundsdata - HICP - deflator'!$C$20,'Baggrundsdata - HICP - deflator'!$B89,\"*\"))))))))))),\"*\")","v":0.96974099999999996},{"$f":"IFERROR('Baggrundsdata - HICP - deflator'!G89/IF($M$22=$C$20,$L89,IF($L$22=$C$20,$K89,IF($K$22=$C$20,$J89,IF($J$22=$C$20,$I89,IF($I$22=$C$20,'Baggrundsdata - HICP - deflator'!$H89,IF($H$22=$C$20,'Baggrundsdata - HICP - deflator'!$G89,IF($C$20=$G$22,'Baggrundsdata - HICP - deflator'!$F89,IF($F$22=$C$20,'Baggrundsdata - HICP - deflator'!$E89,IF($E$22=$C$20,'Baggrundsdata - HICP - deflator'!$D89,IF($D$22=$C$20,'Baggrundsdata - HICP - deflator'!$C89,IF('Baggrundsdata - HICP - deflator'!$C$22='Baggrundsdata - HICP - deflator'!$C$20,'Baggrundsdata - HICP - deflator'!$B89,\"*\"))))))))))),\"*\")","v":1.0049859999999999},{"$f":"IFERROR('Baggrundsdata - HICP - deflator'!H89/IF($M$22=$C$20,$L89,IF($L$22=$C$20,$K89,IF($K$22=$C$20,$J89,IF($J$22=$C$20,$I89,IF($I$22=$C$20,'Baggrundsdata - HICP - deflator'!$H89,IF($H$22=$C$20,'Baggrundsdata - HICP - deflator'!$G89,IF($C$20=$G$22,'Baggrundsdata - HICP - deflator'!$F89,IF($F$22=$C$20,'Baggrundsdata - HICP - deflator'!$E89,IF($E$22=$C$20,'Baggrundsdata - HICP - deflator'!$D89,IF($D$22=$C$20,'Baggrundsdata - HICP - deflator'!$C89,IF('Baggrundsdata - HICP - deflator'!$C$22='Baggrundsdata - HICP - deflator'!$C$20,'Baggrundsdata - HICP - deflator'!$B89,\"*\"))))))))))),\"*\")","v":1.013042},{"$f":"IFERROR('Baggrundsdata - HICP - deflator'!I89/IF($M$22=$C$20,$L89,IF($L$22=$C$20,$K89,IF($K$22=$C$20,$J89,IF($J$22=$C$20,$I89,IF($I$22=$C$20,'Baggrundsdata - HICP - deflator'!$H89,IF($H$22=$C$20,'Baggrundsdata - HICP - deflator'!$G89,IF($C$20=$G$22,'Baggrundsdata - HICP - deflator'!$F89,IF($F$22=$C$20,'Baggrundsdata - HICP - deflator'!$E89,IF($E$22=$C$20,'Baggrundsdata - HICP - deflator'!$D89,IF($D$22=$C$20,'Baggrundsdata - HICP - deflator'!$C89,IF('Baggrundsdata - HICP - deflator'!$C$22='Baggrundsdata - HICP - deflator'!$C$20,'Baggrundsdata - HICP - deflator'!$B89,\"*\"))))))))))),\"*\")","v":1.014049},{"$f":"IFERROR('Baggrundsdata - HICP - deflator'!J89/IF($M$22=$C$20,$L89,IF($L$22=$C$20,$K89,IF($K$22=$C$20,$J89,IF($J$22=$C$20,$I89,IF($I$22=$C$20,'Baggrundsdata - HICP - deflator'!$H89,IF($H$22=$C$20,'Baggrundsdata - HICP - deflator'!$G89,IF($C$20=$G$22,'Baggrundsdata - HICP - deflator'!$F89,IF($F$22=$C$20,'Baggrundsdata - HICP - deflator'!$E89,IF($E$22=$C$20,'Baggrundsdata - HICP - deflator'!$D89,IF($D$22=$C$20,'Baggrundsdata - HICP - deflator'!$C89,IF('Baggrundsdata - HICP - deflator'!$C$22='Baggrundsdata - HICP - deflator'!$C$20,'Baggrundsdata - HICP - deflator'!$B89,\"*\"))))))))))),\"*\")","v":1.0070000000000001},{"$f":"IFERROR('Baggrundsdata - HICP - deflator'!K89/IF($M$22=$C$20,$L89,IF($L$22=$C$20,$K89,IF($K$22=$C$20,$J89,IF($J$22=$C$20,$I89,IF($I$22=$C$20,'Baggrundsdata - HICP - deflator'!$H89,IF($H$22=$C$20,'Baggrundsdata - HICP - deflator'!$G89,IF($C$20=$G$22,'Baggrundsdata - HICP - deflator'!$F89,IF($F$22=$C$20,'Baggrundsdata - HICP - deflator'!$E89,IF($E$22=$C$20,'Baggrundsdata - HICP - deflator'!$D89,IF($D$22=$C$20,'Baggrundsdata - HICP - deflator'!$C89,IF('Baggrundsdata - HICP - deflator'!$C$22='Baggrundsdata - HICP - deflator'!$C$20,'Baggrundsdata - HICP - deflator'!$B89,\"*\"))))))))))),\"*\")","v":1},{"$f":"IFERROR('Baggrundsdata - HICP - deflator'!L89/IF($M$22=$C$20,$L89,IF($L$22=$C$20,$K89,IF($K$22=$C$20,$J89,IF($J$22=$C$20,$I89,IF($I$22=$C$20,'Baggrundsdata - HICP - deflator'!$H89,IF($H$22=$C$20,'Baggrundsdata - HICP - deflator'!$G89,IF($C$20=$G$22,'Baggrundsdata - HICP - deflator'!$F89,IF($F$22=$C$20,'Baggrundsdata - HICP - deflator'!$E89,IF($E$22=$C$20,'Baggrundsdata - HICP - deflator'!$D89,IF($D$22=$C$20,'Baggrundsdata - HICP - deflator'!$C89,IF('Baggrundsdata - HICP - deflator'!$C$22='Baggrundsdata - HICP - deflator'!$C$20,'Baggrundsdata - HICP - deflator'!$B89,\"*\"))))))))))),\"*\")","v":0},null,{"$f":"IF(A89='Level 1'!A71,\"sand\",\"falsk\")","v":"sand"}]
[null,"Portugal",{"$f":"IFERROR('Baggrundsdata - HICP - deflator'!B90/IF($M$22=$C$20,$L90,IF($L$22=$C$20,$K90,IF($K$22=$C$20,$J90,IF($J$22=$C$20,$I90,IF($I$22=$C$20,'Baggrundsdata - HICP - deflator'!$H90,IF($H$22=$C$20,'Baggrundsdata - HICP - deflator'!$G90,IF($C$20=$G$22,'Baggrundsdata - HICP - deflator'!$F90,IF($F$22=$C$20,'Baggrundsdata - HICP - deflator'!$E90,IF($E$22=$C$20,'Baggrundsdata - HICP - deflator'!$D90,IF($D$22=$C$20,'Baggrundsdata - HICP - deflator'!$C90,IF('Baggrundsdata - HICP - deflator'!$C$22='Baggrundsdata - HICP - deflator'!$C$20,'Baggrundsdata - HICP - deflator'!$B90,\"*\"))))))))))),\"*\")","v":0.89938050000000014},{"$f":"IFERROR('Baggrundsdata - HICP - deflator'!C90/IF($M$22=$C$20,$L90,IF($L$22=$C$20,$K90,IF($K$22=$C$20,$J90,IF($J$22=$C$20,$I90,IF($I$22=$C$20,'Baggrundsdata - HICP - deflator'!$H90,IF($H$22=$C$20,'Baggrundsdata - HICP - deflator'!$G90,IF($C$20=$G$22,'Baggrundsdata - HICP - deflator'!$F90,IF($F$22=$C$20,'Baggrundsdata - HICP - deflator'!$E90,IF($E$22=$C$20,'Baggrundsdata - HICP - deflator'!$D90,IF($D$22=$C$20,'Baggrundsdata - HICP - deflator'!$C90,IF('Baggrundsdata - HICP - deflator'!$C$22='Baggrundsdata - HICP - deflator'!$C$20,'Baggrundsdata - HICP - deflator'!$B90,\"*\"))))))))))),\"*\")","v":0.92316100000000012},{"$f":"IFERROR('Baggrundsdata - HICP - deflator'!D90/IF($M$22=$C$20,$L90,IF($L$22=$C$20,$K90,IF($K$22=$C$20,$J90,IF($J$22=$C$20,$I90,IF($I$22=$C$20,'Baggrundsdata - HICP - deflator'!$H90,IF($H$22=$C$20,'Baggrundsdata - HICP - deflator'!$G90,IF($C$20=$G$22,'Baggrundsdata - HICP - deflator'!$F90,IF($F$22=$C$20,'Baggrundsdata - HICP - deflator'!$E90,IF($E$22=$C$20,'Baggrundsdata - HICP - deflator'!$D90,IF($D$22=$C$20,'Baggrundsdata - HICP - deflator'!$C90,IF('Baggrundsdata - HICP - deflator'!$C$22='Baggrundsdata - HICP - deflator'!$C$20,'Baggrundsdata - HICP - deflator'!$B90,\"*\"))))))))))),\"*\")","v":0.91490250000000006},{"$f":"IFERROR('Baggrundsdata - HICP - deflator'!E90/IF($M$22=$C$20,$L90,IF($L$22=$C$20,$K90,IF($K$22=$C$20,$J90,IF($J$22=$C$20,$I90,IF($I$22=$C$20,'Baggrundsdata - HICP - deflator'!$H90,IF($H$22=$C$20,'Baggrundsdata - HICP - deflator'!$G90,IF($C$20=$G$22,'Baggrundsdata - HICP - deflator'!$F90,IF($F$22=$C$20,'Baggrundsdata - HICP - deflator'!$E90,IF($E$22=$C$20,'Baggrundsdata - HICP - deflator'!$D90,IF($D$22=$C$20,'Baggrundsdata - HICP - deflator'!$C90,IF('Baggrundsdata - HICP - deflator'!$C$22='Baggrundsdata - HICP - deflator'!$C$20,'Baggrundsdata - HICP - deflator'!$B90,\"*\"))))))))))),\"*\")","v":0.92753900000000011},{"$f":"IFERROR('Baggrundsdata - HICP - deflator'!F90/IF($M$22=$C$20,$L90,IF($L$22=$C$20,$K90,IF($K$22=$C$20,$J90,IF($J$22=$C$20,$I90,IF($I$22=$C$20,'Baggrundsdata - HICP - deflator'!$H90,IF($H$22=$C$20,'Baggrundsdata - HICP - deflator'!$G90,IF($C$20=$G$22,'Baggrundsdata - HICP - deflator'!$F90,IF($F$22=$C$20,'Baggrundsdata - HICP - deflator'!$E90,IF($E$22=$C$20,'Baggrundsdata - HICP - deflator'!$D90,IF($D$22=$C$20,'Baggrundsdata - HICP - deflator'!$C90,IF('Baggrundsdata - HICP - deflator'!$C$22='Baggrundsdata - HICP - deflator'!$C$20,'Baggrundsdata - HICP - deflator'!$B90,\"*\"))))))))))),\"*\")","v":0.96057300000000012},{"$f":"IFERROR('Baggrundsdata - HICP - deflator'!G90/IF($M$22=$C$20,$L90,IF($L$22=$C$20,$K90,IF($K$22=$C$20,$J90,IF($J$22=$C$20,$I90,IF($I$22=$C$20,'Baggrundsdata - HICP - deflator'!$H90,IF($H$22=$C$20,'Baggrundsdata - HICP - deflator'!$G90,IF($C$20=$G$22,'Baggrundsdata - HICP - deflator'!$F90,IF($F$22=$C$20,'Baggrundsdata - HICP - deflator'!$E90,IF($E$22=$C$20,'Baggrundsdata - HICP - deflator'!$D90,IF($D$22=$C$20,'Baggrundsdata - HICP - deflator'!$C90,IF('Baggrundsdata - HICP - deflator'!$C$22='Baggrundsdata - HICP - deflator'!$C$20,'Baggrundsdata - HICP - deflator'!$B90,\"*\"))))))))))),\"*\")","v":0.98723900000000009},{"$f":"IFERROR('Baggrundsdata - HICP - deflator'!H90/IF($M$22=$C$20,$L90,IF($L$22=$C$20,$K90,IF($K$22=$C$20,$J90,IF($J$22=$C$20,$I90,IF($I$22=$C$20,'Baggrundsdata - HICP - deflator'!$H90,IF($H$22=$C$20,'Baggrundsdata - HICP - deflator'!$G90,IF($C$20=$G$22,'Baggrundsdata - HICP - deflator'!$F90,IF($F$22=$C$20,'Baggrundsdata - HICP - deflator'!$E90,IF($E$22=$C$20,'Baggrundsdata - HICP - deflator'!$D90,IF($D$22=$C$20,'Baggrundsdata - HICP - deflator'!$C90,IF('Baggrundsdata - HICP - deflator'!$C$22='Baggrundsdata - HICP - deflator'!$C$20,'Baggrundsdata - HICP - deflator'!$B90,\"*\"))))))))))),\"*\")","v":0.99151750000000016},{"$f":"IFERROR('Baggrundsdata - HICP - deflator'!I90/IF($M$22=$C$20,$L90,IF($L$22=$C$20,$K90,IF($K$22=$C$20,$J90,IF($J$22=$C$20,$I90,IF($I$22=$C$20,'Baggrundsdata - HICP - deflator'!$H90,IF($H$22=$C$20,'Baggrundsdata - HICP - deflator'!$G90,IF($C$20=$G$22,'Baggrundsdata - HICP - deflator'!$F90,IF($F$22=$C$20,'Baggrundsdata - HICP - deflator'!$E90,IF($E$22=$C$20,'Baggrundsdata - HICP - deflator'!$D90,IF($D$22=$C$20,'Baggrundsdata - HICP - deflator'!$C90,IF('Baggrundsdata - HICP - deflator'!$C$22='Baggrundsdata - HICP - deflator'!$C$20,'Baggrundsdata - HICP - deflator'!$B90,\"*\"))))))))))),\"*\")","v":0.99002500000000004},{"$f":"IFERROR('Baggrundsdata - HICP - deflator'!J90/IF($M$22=$C$20,$L90,IF($L$22=$C$20,$K90,IF($K$22=$C$20,$J90,IF($J$22=$C$20,$I90,IF($I$22=$C$20,'Baggrundsdata - HICP - deflator'!$H90,IF($H$22=$C$20,'Baggrundsdata - HICP - deflator'!$G90,IF($C$20=$G$22,'Baggrundsdata - HICP - deflator'!$F90,IF($F$22=$C$20,'Baggrundsdata - HICP - deflator'!$E90,IF($E$22=$C$20,'Baggrundsdata - HICP - deflator'!$D90,IF($D$22=$C$20,'Baggrundsdata - HICP - deflator'!$C90,IF('Baggrundsdata - HICP - deflator'!$C$22='Baggrundsdata - HICP - deflator'!$C$20,'Baggrundsdata - HICP - deflator'!$B90,\"*\"))))))))))),\"*\")","v":0.99500000000000011},{"$f":"IFERROR('Baggrundsdata - HICP - deflator'!K90/IF($M$22=$C$20,$L90,IF($L$22=$C$20,$K90,IF($K$22=$C$20,$J90,IF($J$22=$C$20,$I90,IF($I$22=$C$20,'Baggrundsdata - HICP - deflator'!$H90,IF($H$22=$C$20,'Baggrundsdata - HICP - deflator'!$G90,IF($C$20=$G$22,'Baggrundsdata - HICP - deflator'!$F90,IF($F$22=$C$20,'Baggrundsdata - HICP - deflator'!$E90,IF($E$22=$C$20,'Baggrundsdata - HICP - deflator'!$D90,IF($D$22=$C$20,'Baggrundsdata - HICP - deflator'!$C90,IF('Baggrundsdata - HICP - deflator'!$C$22='Baggrundsdata - HICP - deflator'!$C$20,'Baggrundsdata - HICP - deflator'!$B90,\"*\"))))))))))),\"*\")","v":1},{"$f":"IFERROR('Baggrundsdata - HICP - deflator'!L90/IF($M$22=$C$20,$L90,IF($L$22=$C$20,$K90,IF($K$22=$C$20,$J90,IF($J$22=$C$20,$I90,IF($I$22=$C$20,'Baggrundsdata - HICP - deflator'!$H90,IF($H$22=$C$20,'Baggrundsdata - HICP - deflator'!$G90,IF($C$20=$G$22,'Baggrundsdata - HICP - deflator'!$F90,IF($F$22=$C$20,'Baggrundsdata - HICP - deflator'!$E90,IF($E$22=$C$20,'Baggrundsdata - HICP - deflator'!$D90,IF($D$22=$C$20,'Baggrundsdata - HICP - deflator'!$C90,IF('Baggrundsdata - HICP - deflator'!$C$22='Baggrundsdata - HICP - deflator'!$C$20,'Baggrundsdata - HICP - deflator'!$B90,\"*\"))))))))))),\"*\")","v":0},null,{"$f":"IF(A90='Level 1'!A72,\"sand\",\"falsk\")","v":"sand"}]
[null,"Rumænien",{"$f":"IFERROR('Baggrundsdata - HICP - deflator'!B91/IF($M$22=$C$20,$L91,IF($L$22=$C$20,$K91,IF($K$22=$C$20,$J91,IF($J$22=$C$20,$I91,IF($I$22=$C$20,'Baggrundsdata - HICP - deflator'!$H91,IF($H$22=$C$20,'Baggrundsdata - HICP - deflator'!$G91,IF($C$20=$G$22,'Baggrundsdata - HICP - deflator'!$F91,IF($F$22=$C$20,'Baggrundsdata - HICP - deflator'!$E91,IF($E$22=$C$20,'Baggrundsdata - HICP - deflator'!$D91,IF($D$22=$C$20,'Baggrundsdata - HICP - deflator'!$C91,IF('Baggrundsdata - HICP - deflator'!$C$22='Baggrundsdata - HICP - deflator'!$C$20,'Baggrundsdata - HICP - deflator'!$B91,\"*\"))))))))))),\"*\")","v":0.72877577999999998},{"$f":"IFERROR('Baggrundsdata - HICP - deflator'!C91/IF($M$22=$C$20,$L91,IF($L$22=$C$20,$K91,IF($K$22=$C$20,$J91,IF($J$22=$C$20,$I91,IF($I$22=$C$20,'Baggrundsdata - HICP - deflator'!$H91,IF($H$22=$C$20,'Baggrundsdata - HICP - deflator'!$G91,IF($C$20=$G$22,'Baggrundsdata - HICP - deflator'!$F91,IF($F$22=$C$20,'Baggrundsdata - HICP - deflator'!$E91,IF($E$22=$C$20,'Baggrundsdata - HICP - deflator'!$D91,IF($D$22=$C$20,'Baggrundsdata - HICP - deflator'!$C91,IF('Baggrundsdata - HICP - deflator'!$C$22='Baggrundsdata - HICP - deflator'!$C$20,'Baggrundsdata - HICP - deflator'!$B91,\"*\"))))))))))),\"*\")","v":0.78651152999999996},{"$f":"IFERROR('Baggrundsdata - HICP - deflator'!D91/IF($M$22=$C$20,$L91,IF($L$22=$C$20,$K91,IF($K$22=$C$20,$J91,IF($J$22=$C$20,$I91,IF($I$22=$C$20,'Baggrundsdata - HICP - deflator'!$H91,IF($H$22=$C$20,'Baggrundsdata - HICP - deflator'!$G91,IF($C$20=$G$22,'Baggrundsdata - HICP - deflator'!$F91,IF($F$22=$C$20,'Baggrundsdata - HICP - deflator'!$E91,IF($E$22=$C$20,'Baggrundsdata - HICP - deflator'!$D91,IF($D$22=$C$20,'Baggrundsdata - HICP - deflator'!$C91,IF('Baggrundsdata - HICP - deflator'!$C$22='Baggrundsdata - HICP - deflator'!$C$20,'Baggrundsdata - HICP - deflator'!$B91,\"*\"))))))))))),\"*\")","v":0.83039070000000004},{"$f":"IFERROR('Baggrundsdata - HICP - deflator'!E91/IF($M$22=$C$20,$L91,IF($L$22=$C$20,$K91,IF($K$22=$C$20,$J91,IF($J$22=$C$20,$I91,IF($I$22=$C$20,'Baggrundsdata - HICP - deflator'!$H91,IF($H$22=$C$20,'Baggrundsdata - HICP - deflator'!$G91,IF($C$20=$G$22,'Baggrundsdata - HICP - deflator'!$F91,IF($F$22=$C$20,'Baggrundsdata - HICP - deflator'!$E91,IF($E$22=$C$20,'Baggrundsdata - HICP - deflator'!$D91,IF($D$22=$C$20,'Baggrundsdata - HICP - deflator'!$C91,IF('Baggrundsdata - HICP - deflator'!$C$22='Baggrundsdata - HICP - deflator'!$C$20,'Baggrundsdata - HICP - deflator'!$B91,\"*\"))))))))))),\"*\")","v":0.88089693000000002},{"$f":"IFERROR('Baggrundsdata - HICP - deflator'!F91/IF($M$22=$C$20,$L91,IF($L$22=$C$20,$K91,IF($K$22=$C$20,$J91,IF($J$22=$C$20,$I91,IF($I$22=$C$20,'Baggrundsdata - HICP - deflator'!$H91,IF($H$22=$C$20,'Baggrundsdata - HICP - deflator'!$G91,IF($C$20=$G$22,'Baggrundsdata - HICP - deflator'!$F91,IF($F$22=$C$20,'Baggrundsdata - HICP - deflator'!$E91,IF($E$22=$C$20,'Baggrundsdata - HICP - deflator'!$D91,IF($D$22=$C$20,'Baggrundsdata - HICP - deflator'!$C91,IF('Baggrundsdata - HICP - deflator'!$C$22='Baggrundsdata - HICP - deflator'!$C$20,'Baggrundsdata - HICP - deflator'!$B91,\"*\"))))))))))),\"*\")","v":0.93220643999999997},{"$f":"IFERROR('Baggrundsdata - HICP - deflator'!G91/IF($M$22=$C$20,$L91,IF($L$22=$C$20,$K91,IF($K$22=$C$20,$J91,IF($J$22=$C$20,$I91,IF($I$22=$C$20,'Baggrundsdata - HICP - deflator'!$H91,IF($H$22=$C$20,'Baggrundsdata - HICP - deflator'!$G91,IF($C$20=$G$22,'Baggrundsdata - HICP - deflator'!$F91,IF($F$22=$C$20,'Baggrundsdata - HICP - deflator'!$E91,IF($E$22=$C$20,'Baggrundsdata - HICP - deflator'!$D91,IF($D$22=$C$20,'Baggrundsdata - HICP - deflator'!$C91,IF('Baggrundsdata - HICP - deflator'!$C$22='Baggrundsdata - HICP - deflator'!$C$20,'Baggrundsdata - HICP - deflator'!$B91,\"*\"))))))))))),\"*\")","v":0.96373518000000002},{"$f":"IFERROR('Baggrundsdata - HICP - deflator'!H91/IF($M$22=$C$20,$L91,IF($L$22=$C$20,$K91,IF($K$22=$C$20,$J91,IF($J$22=$C$20,$I91,IF($I$22=$C$20,'Baggrundsdata - HICP - deflator'!$H91,IF($H$22=$C$20,'Baggrundsdata - HICP - deflator'!$G91,IF($C$20=$G$22,'Baggrundsdata - HICP - deflator'!$F91,IF($F$22=$C$20,'Baggrundsdata - HICP - deflator'!$E91,IF($E$22=$C$20,'Baggrundsdata - HICP - deflator'!$D91,IF($D$22=$C$20,'Baggrundsdata - HICP - deflator'!$C91,IF('Baggrundsdata - HICP - deflator'!$C$22='Baggrundsdata - HICP - deflator'!$C$20,'Baggrundsdata - HICP - deflator'!$B91,\"*\"))))))))))),\"*\")","v":0.99446064000000001},{"$f":"IFERROR('Baggrundsdata - HICP - deflator'!I91/IF($M$22=$C$20,$L91,IF($L$22=$C$20,$K91,IF($K$22=$C$20,$J91,IF($J$22=$C$20,$I91,IF($I$22=$C$20,'Baggrundsdata - HICP - deflator'!$H91,IF($H$22=$C$20,'Baggrundsdata - HICP - deflator'!$G91,IF($C$20=$G$22,'Baggrundsdata - HICP - deflator'!$F91,IF($F$22=$C$20,'Baggrundsdata - HICP - deflator'!$E91,IF($E$22=$C$20,'Baggrundsdata - HICP - deflator'!$D91,IF($D$22=$C$20,'Baggrundsdata - HICP - deflator'!$C91,IF('Baggrundsdata - HICP - deflator'!$C$22='Baggrundsdata - HICP - deflator'!$C$20,'Baggrundsdata - HICP - deflator'!$B91,\"*\"))))))))))),\"*\")","v":1.00821681},{"$f":"IFERROR('Baggrundsdata - HICP - deflator'!J91/IF($M$22=$C$20,$L91,IF($L$22=$C$20,$K91,IF($K$22=$C$20,$J91,IF($J$22=$C$20,$I91,IF($I$22=$C$20,'Baggrundsdata - HICP - deflator'!$H91,IF($H$22=$C$20,'Baggrundsdata - HICP - deflator'!$G91,IF($C$20=$G$22,'Baggrundsdata - HICP - deflator'!$F91,IF($F$22=$C$20,'Baggrundsdata - HICP - deflator'!$E91,IF($E$22=$C$20,'Baggrundsdata - HICP - deflator'!$D91,IF($D$22=$C$20,'Baggrundsdata - HICP - deflator'!$C91,IF('Baggrundsdata - HICP - deflator'!$C$22='Baggrundsdata - HICP - deflator'!$C$20,'Baggrundsdata - HICP - deflator'!$B91,\"*\"))))))))))),\"*\")","v":1.0041},{"$f":"IFERROR('Baggrundsdata - HICP - deflator'!K91/IF($M$22=$C$20,$L91,IF($L$22=$C$20,$K91,IF($K$22=$C$20,$J91,IF($J$22=$C$20,$I91,IF($I$22=$C$20,'Baggrundsdata - HICP - deflator'!$H91,IF($H$22=$C$20,'Baggrundsdata - HICP - deflator'!$G91,IF($C$20=$G$22,'Baggrundsdata - HICP - deflator'!$F91,IF($F$22=$C$20,'Baggrundsdata - HICP - deflator'!$E91,IF($E$22=$C$20,'Baggrundsdata - HICP - deflator'!$D91,IF($D$22=$C$20,'Baggrundsdata - HICP - deflator'!$C91,IF('Baggrundsdata - HICP - deflator'!$C$22='Baggrundsdata - HICP - deflator'!$C$20,'Baggrundsdata - HICP - deflator'!$B91,\"*\"))))))))))),\"*\")","v":1},{"$f":"IFERROR('Baggrundsdata - HICP - deflator'!L91/IF($M$22=$C$20,$L91,IF($L$22=$C$20,$K91,IF($K$22=$C$20,$J91,IF($J$22=$C$20,$I91,IF($I$22=$C$20,'Baggrundsdata - HICP - deflator'!$H91,IF($H$22=$C$20,'Baggrundsdata - HICP - deflator'!$G91,IF($C$20=$G$22,'Baggrundsdata - HICP - deflator'!$F91,IF($F$22=$C$20,'Baggrundsdata - HICP - deflator'!$E91,IF($E$22=$C$20,'Baggrundsdata - HICP - deflator'!$D91,IF($D$22=$C$20,'Baggrundsdata - HICP - deflator'!$C91,IF('Baggrundsdata - HICP - deflator'!$C$22='Baggrundsdata - HICP - deflator'!$C$20,'Baggrundsdata - HICP - deflator'!$B91,\"*\"))))))))))),\"*\")","v":0},null,{"$f":"IF(A91='Level 1'!A73,\"sand\",\"falsk\")","v":"sand"}]
[null,"Slovenien",{"$f":"IFERROR('Baggrundsdata - HICP - deflator'!B92/IF($M$22=$C$20,$L92,IF($L$22=$C$20,$K92,IF($K$22=$C$20,$J92,IF($J$22=$C$20,$I92,IF($I$22=$C$20,'Baggrundsdata - HICP - deflator'!$H92,IF($H$22=$C$20,'Baggrundsdata - HICP - deflator'!$G92,IF($C$20=$G$22,'Baggrundsdata - HICP - deflator'!$F92,IF($F$22=$C$20,'Baggrundsdata - HICP - deflator'!$E92,IF($E$22=$C$20,'Baggrundsdata - HICP - deflator'!$D92,IF($D$22=$C$20,'Baggrundsdata - HICP - deflator'!$C92,IF('Baggrundsdata - HICP - deflator'!$C$22='Baggrundsdata - HICP - deflator'!$C$20,'Baggrundsdata - HICP - deflator'!$B92,\"*\"))))))))))),\"*\")","v":0.87016336000000005},{"$f":"IFERROR('Baggrundsdata - HICP - deflator'!C92/IF($M$22=$C$20,$L92,IF($L$22=$C$20,$K92,IF($K$22=$C$20,$J92,IF($J$22=$C$20,$I92,IF($I$22=$C$20,'Baggrundsdata - HICP - deflator'!$H92,IF($H$22=$C$20,'Baggrundsdata - HICP - deflator'!$G92,IF($C$20=$G$22,'Baggrundsdata - HICP - deflator'!$F92,IF($F$22=$C$20,'Baggrundsdata - HICP - deflator'!$E92,IF($E$22=$C$20,'Baggrundsdata - HICP - deflator'!$D92,IF($D$22=$C$20,'Baggrundsdata - HICP - deflator'!$C92,IF('Baggrundsdata - HICP - deflator'!$C$22='Baggrundsdata - HICP - deflator'!$C$20,'Baggrundsdata - HICP - deflator'!$B92,\"*\"))))))))))),\"*\")","v":0.91822588000000005},{"$f":"IFERROR('Baggrundsdata - HICP - deflator'!D92/IF($M$22=$C$20,$L92,IF($L$22=$C$20,$K92,IF($K$22=$C$20,$J92,IF($J$22=$C$20,$I92,IF($I$22=$C$20,'Baggrundsdata - HICP - deflator'!$H92,IF($H$22=$C$20,'Baggrundsdata - HICP - deflator'!$G92,IF($C$20=$G$22,'Baggrundsdata - HICP - deflator'!$F92,IF($F$22=$C$20,'Baggrundsdata - HICP - deflator'!$E92,IF($E$22=$C$20,'Baggrundsdata - HICP - deflator'!$D92,IF($D$22=$C$20,'Baggrundsdata - HICP - deflator'!$C92,IF('Baggrundsdata - HICP - deflator'!$C$22='Baggrundsdata - HICP - deflator'!$C$20,'Baggrundsdata - HICP - deflator'!$B92,\"*\"))))))))))),\"*\")","v":0.92618592000000011},{"$f":"IFERROR('Baggrundsdata - HICP - deflator'!E92/IF($M$22=$C$20,$L92,IF($L$22=$C$20,$K92,IF($K$22=$C$20,$J92,IF($J$22=$C$20,$I92,IF($I$22=$C$20,'Baggrundsdata - HICP - deflator'!$H92,IF($H$22=$C$20,'Baggrundsdata - HICP - deflator'!$G92,IF($C$20=$G$22,'Baggrundsdata - HICP - deflator'!$F92,IF($F$22=$C$20,'Baggrundsdata - HICP - deflator'!$E92,IF($E$22=$C$20,'Baggrundsdata - HICP - deflator'!$D92,IF($D$22=$C$20,'Baggrundsdata - HICP - deflator'!$C92,IF('Baggrundsdata - HICP - deflator'!$C$22='Baggrundsdata - HICP - deflator'!$C$20,'Baggrundsdata - HICP - deflator'!$B92,\"*\"))))))))))),\"*\")","v":0.94563260000000005},{"$f":"IFERROR('Baggrundsdata - HICP - deflator'!F92/IF($M$22=$C$20,$L92,IF($L$22=$C$20,$K92,IF($K$22=$C$20,$J92,IF($J$22=$C$20,$I92,IF($I$22=$C$20,'Baggrundsdata - HICP - deflator'!$H92,IF($H$22=$C$20,'Baggrundsdata - HICP - deflator'!$G92,IF($C$20=$G$22,'Baggrundsdata - HICP - deflator'!$F92,IF($F$22=$C$20,'Baggrundsdata - HICP - deflator'!$E92,IF($E$22=$C$20,'Baggrundsdata - HICP - deflator'!$D92,IF($D$22=$C$20,'Baggrundsdata - HICP - deflator'!$C92,IF('Baggrundsdata - HICP - deflator'!$C$22='Baggrundsdata - HICP - deflator'!$C$20,'Baggrundsdata - HICP - deflator'!$B92,\"*\"))))))))))),\"*\")","v":0.96538156000000008},{"$f":"IFERROR('Baggrundsdata - HICP - deflator'!G92/IF($M$22=$C$20,$L92,IF($L$22=$C$20,$K92,IF($K$22=$C$20,$J92,IF($J$22=$C$20,$I92,IF($I$22=$C$20,'Baggrundsdata - HICP - deflator'!$H92,IF($H$22=$C$20,'Baggrundsdata - HICP - deflator'!$G92,IF($C$20=$G$22,'Baggrundsdata - HICP - deflator'!$F92,IF($F$22=$C$20,'Baggrundsdata - HICP - deflator'!$E92,IF($E$22=$C$20,'Baggrundsdata - HICP - deflator'!$D92,IF($D$22=$C$20,'Baggrundsdata - HICP - deflator'!$C92,IF('Baggrundsdata - HICP - deflator'!$C$22='Baggrundsdata - HICP - deflator'!$C$20,'Baggrundsdata - HICP - deflator'!$B92,\"*\"))))))))))),\"*\")","v":0.99248600000000009},{"$f":"IFERROR('Baggrundsdata - HICP - deflator'!H92/IF($M$22=$C$20,$L92,IF($L$22=$C$20,$K92,IF($K$22=$C$20,$J92,IF($J$22=$C$20,$I92,IF($I$22=$C$20,'Baggrundsdata - HICP - deflator'!$H92,IF($H$22=$C$20,'Baggrundsdata - HICP - deflator'!$G92,IF($C$20=$G$22,'Baggrundsdata - HICP - deflator'!$F92,IF($F$22=$C$20,'Baggrundsdata - HICP - deflator'!$E92,IF($E$22=$C$20,'Baggrundsdata - HICP - deflator'!$D92,IF($D$22=$C$20,'Baggrundsdata - HICP - deflator'!$C92,IF('Baggrundsdata - HICP - deflator'!$C$22='Baggrundsdata - HICP - deflator'!$C$20,'Baggrundsdata - HICP - deflator'!$B92,\"*\"))))))))))),\"*\")","v":1.01152964},{"$f":"IFERROR('Baggrundsdata - HICP - deflator'!I92/IF($M$22=$C$20,$L92,IF($L$22=$C$20,$K92,IF($K$22=$C$20,$J92,IF($J$22=$C$20,$I92,IF($I$22=$C$20,'Baggrundsdata - HICP - deflator'!$H92,IF($H$22=$C$20,'Baggrundsdata - HICP - deflator'!$G92,IF($C$20=$G$22,'Baggrundsdata - HICP - deflator'!$F92,IF($F$22=$C$20,'Baggrundsdata - HICP - deflator'!$E92,IF($E$22=$C$20,'Baggrundsdata - HICP - deflator'!$D92,IF($D$22=$C$20,'Baggrundsdata - HICP - deflator'!$C92,IF('Baggrundsdata - HICP - deflator'!$C$22='Baggrundsdata - HICP - deflator'!$C$20,'Baggrundsdata - HICP - deflator'!$B92,\"*\"))))))))))),\"*\")","v":1.0152577600000001},{"$f":"IFERROR('Baggrundsdata - HICP - deflator'!J92/IF($M$22=$C$20,$L92,IF($L$22=$C$20,$K92,IF($K$22=$C$20,$J92,IF($J$22=$C$20,$I92,IF($I$22=$C$20,'Baggrundsdata - HICP - deflator'!$H92,IF($H$22=$C$20,'Baggrundsdata - HICP - deflator'!$G92,IF($C$20=$G$22,'Baggrundsdata - HICP - deflator'!$F92,IF($F$22=$C$20,'Baggrundsdata - HICP - deflator'!$E92,IF($E$22=$C$20,'Baggrundsdata - HICP - deflator'!$D92,IF($D$22=$C$20,'Baggrundsdata - HICP - deflator'!$C92,IF('Baggrundsdata - HICP - deflator'!$C$22='Baggrundsdata - HICP - deflator'!$C$20,'Baggrundsdata - HICP - deflator'!$B92,\"*\"))))))))))),\"*\")","v":1.0076000000000001},{"$f":"IFERROR('Baggrundsdata - HICP - deflator'!K92/IF($M$22=$C$20,$L92,IF($L$22=$C$20,$K92,IF($K$22=$C$20,$J92,IF($J$22=$C$20,$I92,IF($I$22=$C$20,'Baggrundsdata - HICP - deflator'!$H92,IF($H$22=$C$20,'Baggrundsdata - HICP - deflator'!$G92,IF($C$20=$G$22,'Baggrundsdata - HICP - deflator'!$F92,IF($F$22=$C$20,'Baggrundsdata - HICP - deflator'!$E92,IF($E$22=$C$20,'Baggrundsdata - HICP - deflator'!$D92,IF($D$22=$C$20,'Baggrundsdata - HICP - deflator'!$C92,IF('Baggrundsdata - HICP - deflator'!$C$22='Baggrundsdata - HICP - deflator'!$C$20,'Baggrundsdata - HICP - deflator'!$B92,\"*\"))))))))))),\"*\")","v":1},{"$f":"IFERROR('Baggrundsdata - HICP - deflator'!L92/IF($M$22=$C$20,$L92,IF($L$22=$C$20,$K92,IF($K$22=$C$20,$J92,IF($J$22=$C$20,$I92,IF($I$22=$C$20,'Baggrundsdata - HICP - deflator'!$H92,IF($H$22=$C$20,'Baggrundsdata - HICP - deflator'!$G92,IF($C$20=$G$22,'Baggrundsdata - HICP - deflator'!$F92,IF($F$22=$C$20,'Baggrundsdata - HICP - deflator'!$E92,IF($E$22=$C$20,'Baggrundsdata - HICP - deflator'!$D92,IF($D$22=$C$20,'Baggrundsdata - HICP - deflator'!$C92,IF('Baggrundsdata - HICP - deflator'!$C$22='Baggrundsdata - HICP - deflator'!$C$20,'Baggrundsdata - HICP - deflator'!$B92,\"*\"))))))))))),\"*\")","v":0},null,{"$f":"IF(A92='Level 1'!A74,\"sand\",\"falsk\")","v":"sand"}]
[null,"Slovakiet",{"$f":"IFERROR('Baggrundsdata - HICP - deflator'!B93/IF($M$22=$C$20,$L93,IF($L$22=$C$20,$K93,IF($K$22=$C$20,$J93,IF($J$22=$C$20,$I93,IF($I$22=$C$20,'Baggrundsdata - HICP - deflator'!$H93,IF($H$22=$C$20,'Baggrundsdata - HICP - deflator'!$G93,IF($C$20=$G$22,'Baggrundsdata - HICP - deflator'!$F93,IF($F$22=$C$20,'Baggrundsdata - HICP - deflator'!$E93,IF($E$22=$C$20,'Baggrundsdata - HICP - deflator'!$D93,IF($D$22=$C$20,'Baggrundsdata - HICP - deflator'!$C93,IF('Baggrundsdata - HICP - deflator'!$C$22='Baggrundsdata - HICP - deflator'!$C$20,'Baggrundsdata - HICP - deflator'!$B93,\"*\"))))))))))),\"*\")","v":0.87103799999999987},{"$f":"IFERROR('Baggrundsdata - HICP - deflator'!C93/IF($M$22=$C$20,$L93,IF($L$22=$C$20,$K93,IF($K$22=$C$20,$J93,IF($J$22=$C$20,$I93,IF($I$22=$C$20,'Baggrundsdata - HICP - deflator'!$H93,IF($H$22=$C$20,'Baggrundsdata - HICP - deflator'!$G93,IF($C$20=$G$22,'Baggrundsdata - HICP - deflator'!$F93,IF($F$22=$C$20,'Baggrundsdata - HICP - deflator'!$E93,IF($E$22=$C$20,'Baggrundsdata - HICP - deflator'!$D93,IF($D$22=$C$20,'Baggrundsdata - HICP - deflator'!$C93,IF('Baggrundsdata - HICP - deflator'!$C$22='Baggrundsdata - HICP - deflator'!$C$20,'Baggrundsdata - HICP - deflator'!$B93,\"*\"))))))))))),\"*\")","v":0.90535769999999993},{"$f":"IFERROR('Baggrundsdata - HICP - deflator'!D93/IF($M$22=$C$20,$L93,IF($L$22=$C$20,$K93,IF($K$22=$C$20,$J93,IF($J$22=$C$20,$I93,IF($I$22=$C$20,'Baggrundsdata - HICP - deflator'!$H93,IF($H$22=$C$20,'Baggrundsdata - HICP - deflator'!$G93,IF($C$20=$G$22,'Baggrundsdata - HICP - deflator'!$F93,IF($F$22=$C$20,'Baggrundsdata - HICP - deflator'!$E93,IF($E$22=$C$20,'Baggrundsdata - HICP - deflator'!$D93,IF($D$22=$C$20,'Baggrundsdata - HICP - deflator'!$C93,IF('Baggrundsdata - HICP - deflator'!$C$22='Baggrundsdata - HICP - deflator'!$C$20,'Baggrundsdata - HICP - deflator'!$B93,\"*\"))))))))))),\"*\")","v":0.91368674999999988},{"$f":"IFERROR('Baggrundsdata - HICP - deflator'!E93/IF($M$22=$C$20,$L93,IF($L$22=$C$20,$K93,IF($K$22=$C$20,$J93,IF($J$22=$C$20,$I93,IF($I$22=$C$20,'Baggrundsdata - HICP - deflator'!$H93,IF($H$22=$C$20,'Baggrundsdata - HICP - deflator'!$G93,IF($C$20=$G$22,'Baggrundsdata - HICP - deflator'!$F93,IF($F$22=$C$20,'Baggrundsdata - HICP - deflator'!$E93,IF($E$22=$C$20,'Baggrundsdata - HICP - deflator'!$D93,IF($D$22=$C$20,'Baggrundsdata - HICP - deflator'!$C93,IF('Baggrundsdata - HICP - deflator'!$C$22='Baggrundsdata - HICP - deflator'!$C$20,'Baggrundsdata - HICP - deflator'!$B93,\"*\"))))))))))),\"*\")","v":0.92010914999999993},{"$f":"IFERROR('Baggrundsdata - HICP - deflator'!F93/IF($M$22=$C$20,$L93,IF($L$22=$C$20,$K93,IF($K$22=$C$20,$J93,IF($J$22=$C$20,$I93,IF($I$22=$C$20,'Baggrundsdata - HICP - deflator'!$H93,IF($H$22=$C$20,'Baggrundsdata - HICP - deflator'!$G93,IF($C$20=$G$22,'Baggrundsdata - HICP - deflator'!$F93,IF($F$22=$C$20,'Baggrundsdata - HICP - deflator'!$E93,IF($E$22=$C$20,'Baggrundsdata - HICP - deflator'!$D93,IF($D$22=$C$20,'Baggrundsdata - HICP - deflator'!$C93,IF('Baggrundsdata - HICP - deflator'!$C$22='Baggrundsdata - HICP - deflator'!$C$20,'Baggrundsdata - HICP - deflator'!$B93,\"*\"))))))))))),\"*\")","v":0.95764004999999996},{"$f":"IFERROR('Baggrundsdata - HICP - deflator'!G93/IF($M$22=$C$20,$L93,IF($L$22=$C$20,$K93,IF($K$22=$C$20,$J93,IF($J$22=$C$20,$I93,IF($I$22=$C$20,'Baggrundsdata - HICP - deflator'!$H93,IF($H$22=$C$20,'Baggrundsdata - HICP - deflator'!$G93,IF($C$20=$G$22,'Baggrundsdata - HICP - deflator'!$F93,IF($F$22=$C$20,'Baggrundsdata - HICP - deflator'!$E93,IF($E$22=$C$20,'Baggrundsdata - HICP - deflator'!$D93,IF($D$22=$C$20,'Baggrundsdata - HICP - deflator'!$C93,IF('Baggrundsdata - HICP - deflator'!$C$22='Baggrundsdata - HICP - deflator'!$C$20,'Baggrundsdata - HICP - deflator'!$B93,\"*\"))))))))))),\"*\")","v":0.99346499999999993},{"$f":"IFERROR('Baggrundsdata - HICP - deflator'!H93/IF($M$22=$C$20,$L93,IF($L$22=$C$20,$K93,IF($K$22=$C$20,$J93,IF($J$22=$C$20,$I93,IF($I$22=$C$20,'Baggrundsdata - HICP - deflator'!$H93,IF($H$22=$C$20,'Baggrundsdata - HICP - deflator'!$G93,IF($C$20=$G$22,'Baggrundsdata - HICP - deflator'!$F93,IF($F$22=$C$20,'Baggrundsdata - HICP - deflator'!$E93,IF($E$22=$C$20,'Baggrundsdata - HICP - deflator'!$D93,IF($D$22=$C$20,'Baggrundsdata - HICP - deflator'!$C93,IF('Baggrundsdata - HICP - deflator'!$C$22='Baggrundsdata - HICP - deflator'!$C$20,'Baggrundsdata - HICP - deflator'!$B93,\"*\"))))))))))),\"*\")","v":1.00801575},{"$f":"IFERROR('Baggrundsdata - HICP - deflator'!I93/IF($M$22=$C$20,$L93,IF($L$22=$C$20,$K93,IF($K$22=$C$20,$J93,IF($J$22=$C$20,$I93,IF($I$22=$C$20,'Baggrundsdata - HICP - deflator'!$H93,IF($H$22=$C$20,'Baggrundsdata - HICP - deflator'!$G93,IF($C$20=$G$22,'Baggrundsdata - HICP - deflator'!$F93,IF($F$22=$C$20,'Baggrundsdata - HICP - deflator'!$E93,IF($E$22=$C$20,'Baggrundsdata - HICP - deflator'!$D93,IF($D$22=$C$20,'Baggrundsdata - HICP - deflator'!$C93,IF('Baggrundsdata - HICP - deflator'!$C$22='Baggrundsdata - HICP - deflator'!$C$20,'Baggrundsdata - HICP - deflator'!$B93,\"*\"))))))))))),\"*\")","v":1.0070122499999998},{"$f":"IFERROR('Baggrundsdata - HICP - deflator'!J93/IF($M$22=$C$20,$L93,IF($L$22=$C$20,$K93,IF($K$22=$C$20,$J93,IF($J$22=$C$20,$I93,IF($I$22=$C$20,'Baggrundsdata - HICP - deflator'!$H93,IF($H$22=$C$20,'Baggrundsdata - HICP - deflator'!$G93,IF($C$20=$G$22,'Baggrundsdata - HICP - deflator'!$F93,IF($F$22=$C$20,'Baggrundsdata - HICP - deflator'!$E93,IF($E$22=$C$20,'Baggrundsdata - HICP - deflator'!$D93,IF($D$22=$C$20,'Baggrundsdata - HICP - deflator'!$C93,IF('Baggrundsdata - HICP - deflator'!$C$22='Baggrundsdata - HICP - deflator'!$C$20,'Baggrundsdata - HICP - deflator'!$B93,\"*\"))))))))))),\"*\")","v":1.0034999999999998},{"$f":"IFERROR('Baggrundsdata - HICP - deflator'!K93/IF($M$22=$C$20,$L93,IF($L$22=$C$20,$K93,IF($K$22=$C$20,$J93,IF($J$22=$C$20,$I93,IF($I$22=$C$20,'Baggrundsdata - HICP - deflator'!$H93,IF($H$22=$C$20,'Baggrundsdata - HICP - deflator'!$G93,IF($C$20=$G$22,'Baggrundsdata - HICP - deflator'!$F93,IF($F$22=$C$20,'Baggrundsdata - HICP - deflator'!$E93,IF($E$22=$C$20,'Baggrundsdata - HICP - deflator'!$D93,IF($D$22=$C$20,'Baggrundsdata - HICP - deflator'!$C93,IF('Baggrundsdata - HICP - deflator'!$C$22='Baggrundsdata - HICP - deflator'!$C$20,'Baggrundsdata - HICP - deflator'!$B93,\"*\"))))))))))),\"*\")","v":1},{"$f":"IFERROR('Baggrundsdata - HICP - deflator'!L93/IF($M$22=$C$20,$L93,IF($L$22=$C$20,$K93,IF($K$22=$C$20,$J93,IF($J$22=$C$20,$I93,IF($I$22=$C$20,'Baggrundsdata - HICP - deflator'!$H93,IF($H$22=$C$20,'Baggrundsdata - HICP - deflator'!$G93,IF($C$20=$G$22,'Baggrundsdata - HICP - deflator'!$F93,IF($F$22=$C$20,'Baggrundsdata - HICP - deflator'!$E93,IF($E$22=$C$20,'Baggrundsdata - HICP - deflator'!$D93,IF($D$22=$C$20,'Baggrundsdata - HICP - deflator'!$C93,IF('Baggrundsdata - HICP - deflator'!$C$22='Baggrundsdata - HICP - deflator'!$C$20,'Baggrundsdata - HICP - deflator'!$B93,\"*\"))))))))))),\"*\")","v":0},null,{"$f":"IF(A93='Level 1'!A75,\"sand\",\"falsk\")","v":"sand"}]
[null,"Sverige",{"$f":"IFERROR('Baggrundsdata - HICP - deflator'!B94/IF($M$22=$C$20,$L94,IF($L$22=$C$20,$K94,IF($K$22=$C$20,$J94,IF($J$22=$C$20,$I94,IF($I$22=$C$20,'Baggrundsdata - HICP - deflator'!$H94,IF($H$22=$C$20,'Baggrundsdata - HICP - deflator'!$G94,IF($C$20=$G$22,'Baggrundsdata - HICP - deflator'!$F94,IF($F$22=$C$20,'Baggrundsdata - HICP - deflator'!$E94,IF($E$22=$C$20,'Baggrundsdata - HICP - deflator'!$D94,IF($D$22=$C$20,'Baggrundsdata - HICP - deflator'!$C94,IF('Baggrundsdata - HICP - deflator'!$C$22='Baggrundsdata - HICP - deflator'!$C$20,'Baggrundsdata - HICP - deflator'!$B94,\"*\"))))))))))),\"*\")","v":0.89191260000000006},{"$f":"IFERROR('Baggrundsdata - HICP - deflator'!C94/IF($M$22=$C$20,$L94,IF($L$22=$C$20,$K94,IF($K$22=$C$20,$J94,IF($J$22=$C$20,$I94,IF($I$22=$C$20,'Baggrundsdata - HICP - deflator'!$H94,IF($H$22=$C$20,'Baggrundsdata - HICP - deflator'!$G94,IF($C$20=$G$22,'Baggrundsdata - HICP - deflator'!$F94,IF($F$22=$C$20,'Baggrundsdata - HICP - deflator'!$E94,IF($E$22=$C$20,'Baggrundsdata - HICP - deflator'!$D94,IF($D$22=$C$20,'Baggrundsdata - HICP - deflator'!$C94,IF('Baggrundsdata - HICP - deflator'!$C$22='Baggrundsdata - HICP - deflator'!$C$20,'Baggrundsdata - HICP - deflator'!$B94,\"*\"))))))))))),\"*\")","v":0.92180190000000006},{"$f":"IFERROR('Baggrundsdata - HICP - deflator'!D94/IF($M$22=$C$20,$L94,IF($L$22=$C$20,$K94,IF($K$22=$C$20,$J94,IF($J$22=$C$20,$I94,IF($I$22=$C$20,'Baggrundsdata - HICP - deflator'!$H94,IF($H$22=$C$20,'Baggrundsdata - HICP - deflator'!$G94,IF($C$20=$G$22,'Baggrundsdata - HICP - deflator'!$F94,IF($F$22=$C$20,'Baggrundsdata - HICP - deflator'!$E94,IF($E$22=$C$20,'Baggrundsdata - HICP - deflator'!$D94,IF($D$22=$C$20,'Baggrundsdata - HICP - deflator'!$C94,IF('Baggrundsdata - HICP - deflator'!$C$22='Baggrundsdata - HICP - deflator'!$C$20,'Baggrundsdata - HICP - deflator'!$B94,\"*\"))))))))))),\"*\")","v":0.93967590000000001},{"$f":"IFERROR('Baggrundsdata - HICP - deflator'!E94/IF($M$22=$C$20,$L94,IF($L$22=$C$20,$K94,IF($K$22=$C$20,$J94,IF($J$22=$C$20,$I94,IF($I$22=$C$20,'Baggrundsdata - HICP - deflator'!$H94,IF($H$22=$C$20,'Baggrundsdata - HICP - deflator'!$G94,IF($C$20=$G$22,'Baggrundsdata - HICP - deflator'!$F94,IF($F$22=$C$20,'Baggrundsdata - HICP - deflator'!$E94,IF($E$22=$C$20,'Baggrundsdata - HICP - deflator'!$D94,IF($D$22=$C$20,'Baggrundsdata - HICP - deflator'!$C94,IF('Baggrundsdata - HICP - deflator'!$C$22='Baggrundsdata - HICP - deflator'!$C$20,'Baggrundsdata - HICP - deflator'!$B94,\"*\"))))))))))),\"*\")","v":0.95754990000000018},{"$f":"IFERROR('Baggrundsdata - HICP - deflator'!F94/IF($M$22=$C$20,$L94,IF($L$22=$C$20,$K94,IF($K$22=$C$20,$J94,IF($J$22=$C$20,$I94,IF($I$22=$C$20,'Baggrundsdata - HICP - deflator'!$H94,IF($H$22=$C$20,'Baggrundsdata - HICP - deflator'!$G94,IF($C$20=$G$22,'Baggrundsdata - HICP - deflator'!$F94,IF($F$22=$C$20,'Baggrundsdata - HICP - deflator'!$E94,IF($E$22=$C$20,'Baggrundsdata - HICP - deflator'!$D94,IF($D$22=$C$20,'Baggrundsdata - HICP - deflator'!$C94,IF('Baggrundsdata - HICP - deflator'!$C$22='Baggrundsdata - HICP - deflator'!$C$20,'Baggrundsdata - HICP - deflator'!$B94,\"*\"))))))))))),\"*\")","v":0.97065750000000006},{"$f":"IFERROR('Baggrundsdata - HICP - deflator'!G94/IF($M$22=$C$20,$L94,IF($L$22=$C$20,$K94,IF($K$22=$C$20,$J94,IF($J$22=$C$20,$I94,IF($I$22=$C$20,'Baggrundsdata - HICP - deflator'!$H94,IF($H$22=$C$20,'Baggrundsdata - HICP - deflator'!$G94,IF($C$20=$G$22,'Baggrundsdata - HICP - deflator'!$F94,IF($F$22=$C$20,'Baggrundsdata - HICP - deflator'!$E94,IF($E$22=$C$20,'Baggrundsdata - HICP - deflator'!$D94,IF($D$22=$C$20,'Baggrundsdata - HICP - deflator'!$C94,IF('Baggrundsdata - HICP - deflator'!$C$22='Baggrundsdata - HICP - deflator'!$C$20,'Baggrundsdata - HICP - deflator'!$B94,\"*\"))))))))))),\"*\")","v":0.97969380000000006},{"$f":"IFERROR('Baggrundsdata - HICP - deflator'!H94/IF($M$22=$C$20,$L94,IF($L$22=$C$20,$K94,IF($K$22=$C$20,$J94,IF($J$22=$C$20,$I94,IF($I$22=$C$20,'Baggrundsdata - HICP - deflator'!$H94,IF($H$22=$C$20,'Baggrundsdata - HICP - deflator'!$G94,IF($C$20=$G$22,'Baggrundsdata - HICP - deflator'!$F94,IF($F$22=$C$20,'Baggrundsdata - HICP - deflator'!$E94,IF($E$22=$C$20,'Baggrundsdata - HICP - deflator'!$D94,IF($D$22=$C$20,'Baggrundsdata - HICP - deflator'!$C94,IF('Baggrundsdata - HICP - deflator'!$C$22='Baggrundsdata - HICP - deflator'!$C$20,'Baggrundsdata - HICP - deflator'!$B94,\"*\"))))))))))),\"*\")","v":0.98406300000000002},{"$f":"IFERROR('Baggrundsdata - HICP - deflator'!I94/IF($M$22=$C$20,$L94,IF($L$22=$C$20,$K94,IF($K$22=$C$20,$J94,IF($J$22=$C$20,$I94,IF($I$22=$C$20,'Baggrundsdata - HICP - deflator'!$H94,IF($H$22=$C$20,'Baggrundsdata - HICP - deflator'!$G94,IF($C$20=$G$22,'Baggrundsdata - HICP - deflator'!$F94,IF($F$22=$C$20,'Baggrundsdata - HICP - deflator'!$E94,IF($E$22=$C$20,'Baggrundsdata - HICP - deflator'!$D94,IF($D$22=$C$20,'Baggrundsdata - HICP - deflator'!$C94,IF('Baggrundsdata - HICP - deflator'!$C$22='Baggrundsdata - HICP - deflator'!$C$20,'Baggrundsdata - HICP - deflator'!$B94,\"*\"))))))))))),\"*\")","v":0.98604900000000006},{"$f":"IFERROR('Baggrundsdata - HICP - deflator'!J94/IF($M$22=$C$20,$L94,IF($L$22=$C$20,$K94,IF($K$22=$C$20,$J94,IF($J$22=$C$20,$I94,IF($I$22=$C$20,'Baggrundsdata - HICP - deflator'!$H94,IF($H$22=$C$20,'Baggrundsdata - HICP - deflator'!$G94,IF($C$20=$G$22,'Baggrundsdata - HICP - deflator'!$F94,IF($F$22=$C$20,'Baggrundsdata - HICP - deflator'!$E94,IF($E$22=$C$20,'Baggrundsdata - HICP - deflator'!$D94,IF($D$22=$C$20,'Baggrundsdata - HICP - deflator'!$C94,IF('Baggrundsdata - HICP - deflator'!$C$22='Baggrundsdata - HICP - deflator'!$C$20,'Baggrundsdata - HICP - deflator'!$B94,\"*\"))))))))))),\"*\")","v":0.9930000000000001},{"$f":"IFERROR('Baggrundsdata - HICP - deflator'!K94/IF($M$22=$C$20,$L94,IF($L$22=$C$20,$K94,IF($K$22=$C$20,$J94,IF($J$22=$C$20,$I94,IF($I$22=$C$20,'Baggrundsdata - HICP - deflator'!$H94,IF($H$22=$C$20,'Baggrundsdata - HICP - deflator'!$G94,IF($C$20=$G$22,'Baggrundsdata - HICP - deflator'!$F94,IF($F$22=$C$20,'Baggrundsdata - HICP - deflator'!$E94,IF($E$22=$C$20,'Baggrundsdata - HICP - deflator'!$D94,IF($D$22=$C$20,'Baggrundsdata - HICP - deflator'!$C94,IF('Baggrundsdata - HICP - deflator'!$C$22='Baggrundsdata - HICP - deflator'!$C$20,'Baggrundsdata - HICP - deflator'!$B94,\"*\"))))))))))),\"*\")","v":1},{"$f":"IFERROR('Baggrundsdata - HICP - deflator'!L94/IF($M$22=$C$20,$L94,IF($L$22=$C$20,$K94,IF($K$22=$C$20,$J94,IF($J$22=$C$20,$I94,IF($I$22=$C$20,'Baggrundsdata - HICP - deflator'!$H94,IF($H$22=$C$20,'Baggrundsdata - HICP - deflator'!$G94,IF($C$20=$G$22,'Baggrundsdata - HICP - deflator'!$F94,IF($F$22=$C$20,'Baggrundsdata - HICP - deflator'!$E94,IF($E$22=$C$20,'Baggrundsdata - HICP - deflator'!$D94,IF($D$22=$C$20,'Baggrundsdata - HICP - deflator'!$C94,IF('Baggrundsdata - HICP - deflator'!$C$22='Baggrundsdata - HICP - deflator'!$C$20,'Baggrundsdata - HICP - deflator'!$B94,\"*\"))))))))))),\"*\")","v":0},null,{"$f":"IF(A94='Level 1'!A76,\"sand\",\"falsk\")","v":"sand"}]
[null,"UK",{"$f":"IFERROR('Baggrundsdata - HICP - deflator'!B95/IF($M$22=$C$20,$L95,IF($L$22=$C$20,$K95,IF($K$22=$C$20,$J95,IF($J$22=$C$20,$I95,IF($I$22=$C$20,'Baggrundsdata - HICP - deflator'!$H95,IF($H$22=$C$20,'Baggrundsdata - HICP - deflator'!$G95,IF($C$20=$G$22,'Baggrundsdata - HICP - deflator'!$F95,IF($F$22=$C$20,'Baggrundsdata - HICP - deflator'!$E95,IF($E$22=$C$20,'Baggrundsdata - HICP - deflator'!$D95,IF($D$22=$C$20,'Baggrundsdata - HICP - deflator'!$C95,IF('Baggrundsdata - HICP - deflator'!$C$22='Baggrundsdata - HICP - deflator'!$C$20,'Baggrundsdata - HICP - deflator'!$B95,\"*\"))))))))))),\"*\")","v":0.81799999999999995},{"$f":"IFERROR('Baggrundsdata - HICP - deflator'!C95/IF($M$22=$C$20,$L95,IF($L$22=$C$20,$K95,IF($K$22=$C$20,$J95,IF($J$22=$C$20,$I95,IF($I$22=$C$20,'Baggrundsdata - HICP - deflator'!$H95,IF($H$22=$C$20,'Baggrundsdata - HICP - deflator'!$G95,IF($C$20=$G$22,'Baggrundsdata - HICP - deflator'!$F95,IF($F$22=$C$20,'Baggrundsdata - HICP - deflator'!$E95,IF($E$22=$C$20,'Baggrundsdata - HICP - deflator'!$D95,IF($D$22=$C$20,'Baggrundsdata - HICP - deflator'!$C95,IF('Baggrundsdata - HICP - deflator'!$C$22='Baggrundsdata - HICP - deflator'!$C$20,'Baggrundsdata - HICP - deflator'!$B95,\"*\"))))))))))),\"*\")","v":0.84699999999999998},{"$f":"IFERROR('Baggrundsdata - HICP - deflator'!D95/IF($M$22=$C$20,$L95,IF($L$22=$C$20,$K95,IF($K$22=$C$20,$J95,IF($J$22=$C$20,$I95,IF($I$22=$C$20,'Baggrundsdata - HICP - deflator'!$H95,IF($H$22=$C$20,'Baggrundsdata - HICP - deflator'!$G95,IF($C$20=$G$22,'Baggrundsdata - HICP - deflator'!$F95,IF($F$22=$C$20,'Baggrundsdata - HICP - deflator'!$E95,IF($E$22=$C$20,'Baggrundsdata - HICP - deflator'!$D95,IF($D$22=$C$20,'Baggrundsdata - HICP - deflator'!$C95,IF('Baggrundsdata - HICP - deflator'!$C$22='Baggrundsdata - HICP - deflator'!$C$20,'Baggrundsdata - HICP - deflator'!$B95,\"*\"))))))))))),\"*\")","v":0.86599999999999999},{"$f":"IFERROR('Baggrundsdata - HICP - deflator'!E95/IF($M$22=$C$20,$L95,IF($L$22=$C$20,$K95,IF($K$22=$C$20,$J95,IF($J$22=$C$20,$I95,IF($I$22=$C$20,'Baggrundsdata - HICP - deflator'!$H95,IF($H$22=$C$20,'Baggrundsdata - HICP - deflator'!$G95,IF($C$20=$G$22,'Baggrundsdata - HICP - deflator'!$F95,IF($F$22=$C$20,'Baggrundsdata - HICP - deflator'!$E95,IF($E$22=$C$20,'Baggrundsdata - HICP - deflator'!$D95,IF($D$22=$C$20,'Baggrundsdata - HICP - deflator'!$C95,IF('Baggrundsdata - HICP - deflator'!$C$22='Baggrundsdata - HICP - deflator'!$C$20,'Baggrundsdata - HICP - deflator'!$B95,\"*\"))))))))))),\"*\")","v":0.89400000000000002},{"$f":"IFERROR('Baggrundsdata - HICP - deflator'!F95/IF($M$22=$C$20,$L95,IF($L$22=$C$20,$K95,IF($K$22=$C$20,$J95,IF($J$22=$C$20,$I95,IF($I$22=$C$20,'Baggrundsdata - HICP - deflator'!$H95,IF($H$22=$C$20,'Baggrundsdata - HICP - deflator'!$G95,IF($C$20=$G$22,'Baggrundsdata - HICP - deflator'!$F95,IF($F$22=$C$20,'Baggrundsdata - HICP - deflator'!$E95,IF($E$22=$C$20,'Baggrundsdata - HICP - deflator'!$D95,IF($D$22=$C$20,'Baggrundsdata - HICP - deflator'!$C95,IF('Baggrundsdata - HICP - deflator'!$C$22='Baggrundsdata - HICP - deflator'!$C$20,'Baggrundsdata - HICP - deflator'!$B95,\"*\"))))))))))),\"*\")","v":0.93400000000000005},{"$f":"IFERROR('Baggrundsdata - HICP - deflator'!G95/IF($M$22=$C$20,$L95,IF($L$22=$C$20,$K95,IF($K$22=$C$20,$J95,IF($J$22=$C$20,$I95,IF($I$22=$C$20,'Baggrundsdata - HICP - deflator'!$H95,IF($H$22=$C$20,'Baggrundsdata - HICP - deflator'!$G95,IF($C$20=$G$22,'Baggrundsdata - HICP - deflator'!$F95,IF($F$22=$C$20,'Baggrundsdata - HICP - deflator'!$E95,IF($E$22=$C$20,'Baggrundsdata - HICP - deflator'!$D95,IF($D$22=$C$20,'Baggrundsdata - HICP - deflator'!$C95,IF('Baggrundsdata - HICP - deflator'!$C$22='Baggrundsdata - HICP - deflator'!$C$20,'Baggrundsdata - HICP - deflator'!$B95,\"*\"))))))))))),\"*\")","v":0.96099999999999997},{"$f":"IFERROR('Baggrundsdata - HICP - deflator'!H95/IF($M$22=$C$20,$L95,IF($L$22=$C$20,$K95,IF($K$22=$C$20,$J95,IF($J$22=$C$20,$I95,IF($I$22=$C$20,'Baggrundsdata - HICP - deflator'!$H95,IF($H$22=$C$20,'Baggrundsdata - HICP - deflator'!$G95,IF($C$20=$G$22,'Baggrundsdata - HICP - deflator'!$F95,IF($F$22=$C$20,'Baggrundsdata - HICP - deflator'!$E95,IF($E$22=$C$20,'Baggrundsdata - HICP - deflator'!$D95,IF($D$22=$C$20,'Baggrundsdata - HICP - deflator'!$C95,IF('Baggrundsdata - HICP - deflator'!$C$22='Baggrundsdata - HICP - deflator'!$C$20,'Baggrundsdata - HICP - deflator'!$B95,\"*\"))))))))))),\"*\")","v":0.98499999999999999},{"$f":"IFERROR('Baggrundsdata - HICP - deflator'!I95/IF($M$22=$C$20,$L95,IF($L$22=$C$20,$K95,IF($K$22=$C$20,$J95,IF($J$22=$C$20,$I95,IF($I$22=$C$20,'Baggrundsdata - HICP - deflator'!$H95,IF($H$22=$C$20,'Baggrundsdata - HICP - deflator'!$G95,IF($C$20=$G$22,'Baggrundsdata - HICP - deflator'!$F95,IF($F$22=$C$20,'Baggrundsdata - HICP - deflator'!$E95,IF($E$22=$C$20,'Baggrundsdata - HICP - deflator'!$D95,IF($D$22=$C$20,'Baggrundsdata - HICP - deflator'!$C95,IF('Baggrundsdata - HICP - deflator'!$C$22='Baggrundsdata - HICP - deflator'!$C$20,'Baggrundsdata - HICP - deflator'!$B95,\"*\"))))))))))),\"*\")","v":1},{"$f":"IFERROR('Baggrundsdata - HICP - deflator'!J95/IF($M$22=$C$20,$L95,IF($L$22=$C$20,$K95,IF($K$22=$C$20,$J95,IF($J$22=$C$20,$I95,IF($I$22=$C$20,'Baggrundsdata - HICP - deflator'!$H95,IF($H$22=$C$20,'Baggrundsdata - HICP - deflator'!$G95,IF($C$20=$G$22,'Baggrundsdata - HICP - deflator'!$F95,IF($F$22=$C$20,'Baggrundsdata - HICP - deflator'!$E95,IF($E$22=$C$20,'Baggrundsdata - HICP - deflator'!$D95,IF($D$22=$C$20,'Baggrundsdata - HICP - deflator'!$C95,IF('Baggrundsdata - HICP - deflator'!$C$22='Baggrundsdata - HICP - deflator'!$C$20,'Baggrundsdata - HICP - deflator'!$B95,\"*\"))))))))))),\"*\")","v":1},{"$f":"IFERROR('Baggrundsdata - HICP - deflator'!K95/IF($M$22=$C$20,$L95,IF($L$22=$C$20,$K95,IF($K$22=$C$20,$J95,IF($J$22=$C$20,$I95,IF($I$22=$C$20,'Baggrundsdata - HICP - deflator'!$H95,IF($H$22=$C$20,'Baggrundsdata - HICP - deflator'!$G95,IF($C$20=$G$22,'Baggrundsdata - HICP - deflator'!$F95,IF($F$22=$C$20,'Baggrundsdata - HICP - deflator'!$E95,IF($E$22=$C$20,'Baggrundsdata - HICP - deflator'!$D95,IF($D$22=$C$20,'Baggrundsdata - HICP - deflator'!$C95,IF('Baggrundsdata - HICP - deflator'!$C$22='Baggrundsdata - HICP - deflator'!$C$20,'Baggrundsdata - HICP - deflator'!$B95,\"*\"))))))))))),\"*\")","v":1},{"$f":"IFERROR('Baggrundsdata - HICP - deflator'!L95/IF($M$22=$C$20,$L95,IF($L$22=$C$20,$K95,IF($K$22=$C$20,$J95,IF($J$22=$C$20,$I95,IF($I$22=$C$20,'Baggrundsdata - HICP - deflator'!$H95,IF($H$22=$C$20,'Baggrundsdata - HICP - deflator'!$G95,IF($C$20=$G$22,'Baggrundsdata - HICP - deflator'!$F95,IF($F$22=$C$20,'Baggrundsdata - HICP - deflator'!$E95,IF($E$22=$C$20,'Baggrundsdata - HICP - deflator'!$D95,IF($D$22=$C$20,'Baggrundsdata - HICP - deflator'!$C95,IF('Baggrundsdata - HICP - deflator'!$C$22='Baggrundsdata - HICP - deflator'!$C$20,'Baggrundsdata - HICP - deflator'!$B95,\"*\"))))))))))),\"*\")","v":0},null,{"$f":"IF(A95='Level 1'!A77,\"sand\",\"falsk\")","v":"sand"}]
[null,"Kilde: Eurostat"]
[null,"Bemærk: Deflatoren er fundet på baggrund af HICP samlet for de enkelte lande. * hvis manglende baggrundsdata"]
[]
[null,"Bemærk: Hvis der i valgmenuen vælges løbende priser, skal der ikke deflateres. Det medfører at alle felter i deflatoren vil vise \"*\"."]
[null,"Når løbende priser vælges, gives for valg af basisår muligheden: ","*"]
[]
[]
[]
[]
["Baggrundsdata til HICP-deflator: Eurostat, prc_hicp_aind"]
["Opdateret",{"$f":"B63","v":"2016-05-23T13:44:24.307"}]
["HICP (2015 = 100) - annual data (average index and rate of change) [prc_hicp_aind]"]
[]
["Last update","2016-05-18T19:55:21"]
["Extracted on","2016-05-23T13:44:24.307"]
["Source of data","Eurostat"]
[]
["UNIT","Annual average index"]
["COICOP","All-items HICP"]
[]
["GEO/TIME","2007","2008","2009","2010","2011","2012","2013","2014","2015",2016,2017,null,{"$f":"\"Vækstrate \"&I69&\" til \"&J69&\"\"","v":"Vækstrate 2014 til 2015"}]
["European Union (28 countries)",86.65,89.82,90.7,92.59,95.46,97.99,99.47,100.01,100,{"$f":"J70*(1+N70)","v":99.990000999900005},null,null,{"$f":"J70/I70-1","v":-9.9990000999916617E-5}]
["Belgium",86.13,90,89.99,92.09,95.18,97.68,98.9,99.38,100,{"$f":"J71*(1+N71)","v":100.62386798148522},null,null,{"$f":"J71/I71-1","v":6.2386798148521549E-3}]
["Bulgaria",81.78,91.55,93.81,96.66,99.94,102.33,102.72,101.08,100,98.931539374752674,null,null,-1.068460625247325E-2]
["Czech Republic",85.6,91,91.5,92.6,94.6,98,99.3,99.8,100,100.20040080160322,null,null,2.0040080160321772E-3]
["Denmark",88,91.2,92.1,94.1,96.6,98.9,99.4,99.8,100,100.20040080160322,null,null,2.0040080160321772E-3]
["Germany (until 1990 former territory of the FRG)",89.5,91.9,92.1,93.2,95.5,97.5,99.1,99.9,100,100.10010010010009,null,null,1.0010010010008674E-3]
["Estonia",77.25,85.45,85.62,87.96,92.43,96.33,99.46,99.93,100,100.07004903432401,null,null,7.0049034324015658E-4]
["Ireland",96.4,99.5,97.8,96.2,97.4,99.2,99.7,100,100,100,null,null,0]
["Greece",89.75,93.55,94.81,99.27,102.36,103.42,102.54,101.11,100,98.902185738304809,null,null,-1.0978142616951847E-2]
["Spain",88.75,92.41,92.19,94.08,96.94,99.31,100.83,100.63,100,99.373944151843403,null,null,-6.2605584815660364E-3]
["France",89.52,92.34,92.44,94.05,96.2,98.33,99.31,99.91,100,100.09008107296566,null,null,9.0081072965664255E-4]
["Croatia",84.65,89.56,91.56,92.55,94.59,97.76,100.04,100.26,100,99.740674246957909,null,null,-2.5932575304209449E-3]
["Italy",87.3,90.4,91.1,92.6,95.3,98.4,99.7,99.9,100,100.10010010010009,null,null,1.0010010010008674E-3]
["Latvia",79.08,91.14,94.11,92.96,96.88,99.09,99.11,99.79,100,100.21044192804889,null,null,2.1044192804888784E-3]
["Lithuania",78.930000000000007,87.69,91.34,92.43,96.24,99.28,100.44,100.68,100,99.324592769169641,null,null,-6.7540723083036047E-3]
["Luxembourg",85.45,88.94,88.95,91.44,94.85,97.59,99.25,99.94,100,100.06003602161297,null,null,6.0036021612974722E-4]
["Hungary",77.45,82.12,85.43,89.47,92.98,98.24,99.92,99.94,100,100.06003602161297,null,null,6.0036021612974722E-4]
["Netherlands",88.36,90.32,91.2,92.05,94.32,96.99,99.47,99.79,100,100.21044192804889,null,null,2.1044192804888784E-3]
["Austria",85.53,88.29,88.64,90.14,93.35,95.75,97.77,99.2,100,100.80645161290323,null,null,8.0645161290322509E-3]
["Poland",83.3,86.8,90.3,92.7,96.3,99.8,100.6,100.7,100,99.304865938430979,null,null,-6.9513406156902491E-3]
["Portugal",90.39,92.78,91.95,93.22,96.54,99.22,99.65,99.5,100,100.50251256281406,null,null,5.0251256281406143E-3]
["Romania",72.58,78.33,82.7,87.73,92.84,95.98,99.04,100.41,100,99.591674136042229,null,null,-4.0832586395777026E-3]
["Slovenia",86.36,91.13,91.92,93.85,95.81,98.5,100.39,100.76,100,99.245732433505353,null,null,-7.5426756649464854E-3]
["Slovakia",86.8,90.22,91.05,91.69,95.43,99,100.45,100.35,100,99.651220727453918,null,null,-3.4877927254608476E-3]
["Sweden",89.82,92.83,94.63,96.43,97.75,98.66,99.1,99.3,100,{"$f":"J94*(1+N94)","v":100.70493454179254},null,null,7.0493454179254567E-3]
["United Kingdom",81.8,84.7,86.6,89.4,93.4,96.1,98.5,100,100,100,null,null,0]
[]
["Special value:"]
[":","not available"]

{"sheet":"Oversættelse af landenavne","index":9,"n_rows":31,"n_cols":4,"rows_kept":31,"cut":false,"hidden":true,"merged":[]}
["På denne side er en helt lavpraktisk oversættelse af landenavne fra engelsk til dansk. På regnearkene er de danske navne hentet direkte fra denne side"]
["Yderligere er der opgivet rækkenumre som bruges til vopslag og fortæller hvilken række de enkelte lande står på i Level 1,2 og 3 arkene. Disse informationer indgår ikke i nogle beregninger."]
[]
[]
["Engelsk (fra Level 1)","Dansk oversættelse (automatisk)","rækkenummer til vopslag","rækkenummer i level 1,2 og 3"]
[{"$f":"'Level 1'!A6","v":"European Union (28 countries)"},{"$f":"IF(A6=\"European Union (28 countries)\",\"EU-28\",IF(A6=\"European Union (27 countries)\",\"EU-27\",IF(A6=\"Euro area (EA11-2000, EA12-2006, EA13-2007, EA15-2008, EA16-2010, EA17-2013, EA18-2014, EA19)\",\"EU-området\",IF(A6=\"Belgium\",\"Belgien\",IF(A6=\"Bulgaria\",\"Bulgarien\",IF(A6=\"czech republic\",\"Tjekkiet\",IF(A6=\"Denmark\",\"Danmark\",IF(A6=\"Germany (until 1990 former territory of the FRG)\",\"Tyskland\",IF(A6=\"Estonia\",\"Estland\",IF(A6=\"Ireland\",\"Irland\",IF(A6=\"Greece\",\"Grækenland\",IF(A6=\"Spain\",\"Spanien\",IF(A6=\"france\",\"Frankrig\",IF(A6=\"Croatia\",\"Kroatien\",IF(A6=\"italy\",\"Italien\",IF(A6=\"Cyprus\",\"Cypern\",IF(A6=\"Latvia\",\"Letland\",IF(A6=\"Lithuania\",\"Litaun\",IF(A6=\"Luxembourg\",\"luxembourg\",IF(A6=\"Hungary\",\"Ungarn\",IF(A6=\"Malta\",\"Malta\",IF(A6=\"Netherlands\",\"Holland\",IF(A6=\"Austria\",\"Østrig\",IF(A6=\"Poland\",\"Polen\",IF(A6=\"portugal\",\"Portugal\",IF(A6=\"Romania\",\"Rumænien\",IF(A6=\"Slovenia\",\"Slovenien\",IF(A6=\"slovakia\",\"Slovakiet\",IF(A6=\"Finland\",\"Finland\",IF(A6=\"sweden\",\"Sverige\",IF(A6=\"United kingdom\",\"UK\",IF(A6=\"liechtenstein\",\"Liechtenstein\",IF(A6=\"Norway\",\"Norge\",IF(A6=\"Montenegro\",\"Montenegro\",IF(A6=\"Former Yugoslav Republic of Macedonia, the\",\"Republikken Makedonien\",IF(A6=\"Serbia\",\"Serbien\",IF(A6=\"Turkey\",\"Tyrkiet\",IF(A6=\"Bosnia and Herzegovina\",\"Bosnien-Hercegovina\",IF(A6=\"Kosovo (under United Nations Security Council Resolution 1244/99)\",\"Kosovo\",IF(A6=\"New Country\",\"Nyt land\",0))))))))))))))))))))))))))))))))))))))))","v":"EU-28"},2,6]
[{"$f":"'Level 1'!A7","v":"Belgium"},{"$f":"IF(A7=\"European Union (28 countries)\",\"EU-28\",IF(A7=\"European Union (27 countries)\",\"EU-27\",IF(A7=\"Euro area (EA11-2000, EA12-2006, EA13-2007, EA15-2008, EA16-2010, EA17-2013, EA18-2014, EA19)\",\"EU-området\",IF(A7=\"Belgium\",\"Belgien\",IF(A7=\"Bulgaria\",\"Bulgarien\",IF(A7=\"czech republic\",\"Tjekkiet\",IF(A7=\"Denmark\",\"Danmark\",IF(A7=\"Germany (until 1990 former territory of the FRG)\",\"Tyskland\",IF(A7=\"Estonia\",\"Estland\",IF(A7=\"Ireland\",\"Irland\",IF(A7=\"Greece\",\"Grækenland\",IF(A7=\"Spain\",\"Spanien\",IF(A7=\"france\",\"Frankrig\",IF(A7=\"Croatia\",\"Kroatien\",IF(A7=\"italy\",\"Italien\",IF(A7=\"Cyprus\",\"Cypern\",IF(A7=\"Latvia\",\"Letland\",IF(A7=\"Lithuania\",\"Litaun\",IF(A7=\"Luxembourg\",\"luxembourg\",IF(A7=\"Hungary\",\"Ungarn\",IF(A7=\"Malta\",\"Malta\",IF(A7=\"Netherlands\",\"Holland\",IF(A7=\"Austria\",\"Østrig\",IF(A7=\"Poland\",\"Polen\",IF(A7=\"portugal\",\"Portugal\",IF(A7=\"Romania\",\"Rumænien\",IF(A7=\"Slovenia\",\"Slovenien\",IF(A7=\"slovakia\",\"Slovakiet\",IF(A7=\"Finland\",\"Finland\",IF(A7=\"sweden\",\"Sverige\",IF(A7=\"United kingdom\",\"UK\",IF(A7=\"liechtenstein\",\"Liechtenstein\",IF(A7=\"Norway\",\"Norge\",IF(A7=\"Montenegro\",\"Montenegro\",IF(A7=\"Former Yugoslav Republic of Macedonia, the\",\"Republikken Makedonien\",IF(A7=\"Serbia\",\"Serbien\",IF(A7=\"Turkey\",\"Tyrkiet\",IF(A7=\"Bosnia and Herzegovina\",\"Bosnien-Hercegovina\",IF(A7=\"Kosovo (under United Nations Security Council Resolution 1244/99)\",\"Kosovo\",IF(A7=\"New Country\",\"Nyt land\",0))))))))))))))))))))))))))))))))))))))))","v":"Belgien"},3,{"$f":"D6+1","v":7}]
[{"$f":"'Level 1'!A8","v":"Bulgaria"},"Bulgarien",4,{"$f":"D7+1","v":8}]
[{"$f":"'Level 1'!A9","v":"Czech Republic"},"Tjekkiet",5,9]
[{"$f":"'Level 1'!A10","v":"Denmark"},"Danmark",6,10]
[{"$f":"'Level 1'!A11","v":"Germany (until 1990 former territory of the FRG)"},"Tyskland",7,11]
[{"$f":"'Level 1'!A12","v":"Estonia"},"Estland",8,12]
[{"$f":"'Level 1'!A13","v":"Ireland"},"Irland",9,13]
[{"$f":"'Level 1'!A14","v":"Greece"},"Grækenland",10,14]
[{"$f":"'Level 1'!A15","v":"Spain"},"Spanien",11,15]
[{"$f":"'Level 1'!A16","v":"France"},"Frankrig",12,16]
[{"$f":"'Level 1'!A17","v":"Croatia"},"Kroatien",13,17]
[{"$f":"'Level 1'!A18","v":"Italy"},"Italien",14,18]
[{"$f":"'Level 1'!A19","v":"Latvia"},"Letland",15,19]
[{"$f":"'Level 1'!A20","v":"Lithuania"},"Litaun",16,20]
[{"$f":"'Level 1'!A21","v":"Luxembourg"},"luxembourg",17,21]
[{"$f":"'Level 1'!A22","v":"Hungary"},"Ungarn",18,22]
[{"$f":"'Level 1'!A23","v":"Netherlands"},{"$f":"IF(A23=\"European Union (28 countries)\",\"EU-28\",IF(A23=\"European Union (27 countries)\",\"EU-27\",IF(A23=\"Euro area (EA11-2000, EA12-2006, EA13-2007, EA15-2008, EA16-2010, EA17-2013, EA18-2014, EA19)\",\"EU-området\",IF(A23=\"Belgium\",\"Belgien\",IF(A23=\"Bulgaria\",\"Bulgarien\",IF(A23=\"czech republic\",\"Tjekkiet\",IF(A23=\"Denmark\",\"Danmark\",IF(A23=\"Germany (until 1990 former territory of the FRG)\",\"Tyskland\",IF(A23=\"Estonia\",\"Estland\",IF(A23=\"Ireland\",\"Irland\",IF(A23=\"Greece\",\"Grækenland\",IF(A23=\"Spain\",\"Spanien\",IF(A23=\"france\",\"Frankrig\",IF(A23=\"Croatia\",\"Kroatien\",IF(A23=\"italy\",\"Italien\",IF(A23=\"Cyprus\",\"Cypern\",IF(A23=\"Latvia\",\"Letland\",IF(A23=\"Lithuania\",\"Litaun\",IF(A23=\"Luxembourg\",\"luxembourg\",IF(A23=\"Hungary\",\"Ungarn\",IF(A23=\"Malta\",\"Malta\",IF(A23=\"Netherlands\",\"Holland\",IF(A23=\"Austria\",\"Østrig\",IF(A23=\"Poland\",\"Polen\",IF(A23=\"portugal\",\"Portugal\",IF(A23=\"Romania\",\"Rumænien\",IF(A23=\"Slovenia\",\"Slovenien\",IF(A23=\"slovakia\",\"Slovakiet\",IF(A23=\"Finland\",\"Finland\",IF(A23=\"sweden\",\"Sverige\",IF(A23=\"United kingdom\",\"UK\",IF(A23=\"liechtenstein\",\"Liechtenstein\",IF(A23=\"Norway\",\"Norge\",IF(A23=\"Montenegro\",\"Montenegro\",IF(A23=\"Former Yugoslav Republic of Macedonia, the\",\"Republikken Makedonien\",IF(A23=\"Serbia\",\"Serbien\",IF(A23=\"Turkey\",\"Tyrkiet\",IF(A23=\"Bosnia and Herzegovina\",\"Bosnien-Hercegovina\",IF(A23=\"Kosovo (under United Nations Security Council Resolution 1244/99)\",\"Kosovo\",IF(A23=\"New Country\",\"Nyt land\",0))))))))))))))))))))))))))))))))))))))))","v":"Holland"},19,23]
[{"$f":"'Level 1'!A24","v":"Austria"},"Østrig",20,24]
[{"$f":"'Level 1'!A25","v":"Poland"},"Polen",21,25]
[{"$f":"'Level 1'!A26","v":"Portugal"},"Portugal",22,26]
[{"$f":"'Level 1'!A27","v":"Romania"},"Rumænien",23,27]
[{"$f":"'Level 1'!A28","v":"Slovenia"},"Slovenien",24,28]
[{"$f":"'Level 1'!A29","v":"Slovakia"},"Slovakiet",25,29]
[{"$f":"'Level 1'!A30","v":"Sweden"},"Sverige",26,30]
[{"$f":"'Level 1'!A31","v":"United Kingdom"},"UK",27,31]

{"sheet":"Sådan opdateres arket","index":10,"n_rows":8,"n_cols":2,"rows_kept":8,"cut":false,"hidden":true,"merged":[]}
[]
[]
[null,"Sådan foretages opdatering"]
[null,"Der skal foretages opdateringer på følgende ark: Forside, Baggrundsdata - BVT deflator, Level 1, Level 2 og Level 3. De resterende ark indeholder kun værdier der hantes fra disse opdateringer.\n\nOpdateringer foretages halvårigt når Eurostat frigiver ny data, omkring 1. september og 1. marts.\nBVT deflatoren opdateres ligeledes når der er nye tal. Tal for året før offentligøres ca. 1 sebtember. Inden BVT offentligøres bruges seneste års tal som approksimation.\n\nNedenfor findes en oversigt over hvordan de enkelte ark opdateres.\n\n\nA) FORSIDEN:\nFrsiden opdateres halvårigt.\n1) Anfør i celle ’C3’ manuelt hvem der senest har opdateret i arket og datoen for denne opdatering.\n\n2) Valutakursen opdateres med nye tal for det seneste år. Det ældste år slettes, således at der til enhver tid er valutakurser for de seneste 7 år. Ved halvårsopdateringer beregnes kursen for det nyeste år som gennemsnitskursen for de første 6 mdr. af året. Data til opdatering af valutakursen findes på Danmarks statistik i tabel ”DNVALA”. \nOBS: Husk at årstallene skal være formateret som tal.\n\n"]
[null,"B) Level 1, 2 og 3 \nDenne opdatering omhandler level 1,2 og 3 og skal laves både når der kommer nye års og halvårsdata. Data hentes fra eurostattabellen 'nrg_pc_204' (Electricity prices for domestic consumers - bi-annual data (from 2007 onwards))\n\nGaspriser, forbrugere:\nArkene \"Level 1\", \"Level 2\" og \"Level 3\" opdateres med nye tal fra Eurostat, tabel ’nrg_pc_202’.  Det relevante data findes ved at dialogboksen åbnes.\nFor alle levels gælder: \n• I fanen ’Consom’ vælges alle bånd (D1, forbrug under 20 GJ; D2, forbrug mellem 20 og 200 GJ og D3 forbrug over 200 GJ). \n• I ’currency vælges kun EUR. \n• I ’GEO’ vælges enten alle lande eller landene fra 2014-opdateringen som er: European Union (28 countries), European Union (27 countries), Euro area (EA11-2000, EA12-2006, EA13-2007, EA15-2008, EA16-2010, EA17-2013, EA18), Belgium, Bulgaria Czech Republic, Denmark, Germany , Estonia, Ireland, Greece, Spain, France, Croatia, Italy, Latvia, Lithuania, Luxembourg, Hungary, Netherlands, Austria, Poland, Portugal, Romania, Slovenia, Slovakia, Sweden, United Kingdom, Liechtenstein, Serbia, Turkey, Bosnia and Herzegovina.\n• I fanen ‘Product’ vælges den eneste mulighed ‘Natural gas’. \n• I fanen ’Time’ vælges data for de seneste 7 år. Det er vigtigt at ens data altid starter med tal fra første halvår at et givent start-år. Det betyder, at man ved en halvårs opdatering (altså når der kun er nye data for det første halvår) har tal for de seneste 6,5 år. \n• I fanen ’Unit’ vælges ’Gigajoules’\n\n\n\n\n\n"]
[null,"Når man opdaterer data for level 1 vælger man i fanen ’Excluding taxes and levies’, opdateres data for level 2 vælges ’ Excluding VAT and other recoverable taxes and levies’. For level 3 vælges ’All taxes and levies included’. \nDet er vigtigt at man kun henter data for et level ad gangen da formateringen i Excel er lavet til det.\n• Klik ’update’\nFor at få data i det korrekte excel-format vælges download og der sættes hak i ’Short decrip-tion’ og ’Full extraction’. Hele det downloadede ark kopieres ind i fanen for det level man opdaterer data for. Data indsættes i cellen ’A43’ lige nedenfor det blå bånd med teksten ’baggrundsdata til level [1, 2 eller 3]’. Proceduren gentages for alle 3 levels.\nNu er alt relevant data indhentet i arket. Alle de resterende ark burde tilpasse sig det nye data, således at alle årstal, overskrifter mv. passer til det nyeste år.\n\nOBS! Det er meget vigtigt at vælge de samme lande for alle tre levels. \n"]
[null,"C) Baggrundsdata-BVT-defaltoren\nBaggrundsdata (nederst i arket) opdateres når der kommer nye tal i eurostat tabellen \"nama_nace10_c. (typisk en gang årligt i september) Hvis man ikke har tal for nyeste år bruges seneste år som approksimation. Det er kun baggrundsdata der skal opdateres tabellerne øverst tilpasser sig når de nye tal er kopieret ind.\n\nData hentes fra Eurostat tabellen ’nama_nace10_c’. Det relevante data findes ved at dialog-boksen åbnes.\n• I fanen ’Geo’ vælges de relevante lande (se lande fra den seneste opdatering af data).\n• I ’Indic_NA’ vælges ’ Gross value added (at basic prices)’\n• I ‘NACE_R2’ vælges ‘Industry (except construction)’\n• I ‘Time’ vælges de seneste 7 år.\n• I ’Unit’ vælges ’Million euro’\n• Klik ’update’\nFor at få data i det korrekte excel-format vælges download og der sættes hak i ’Short decription’ og ’Full extraction’. Hele det downloadede ark kopieres ind i fanen ’BVT baggrundsdata’. Data indsættes cellen 'A 69' lige nedenfor det blå bånd med teksten ’baggrundsdata til BVT deflator’. Denne handling opdaterer BVT deflatoren øverst i arket.\n\n\n\n\n"]
[null,"D) Kontrol  \nKontrollen skal sikre, at opdateringen er foretaget korrekt, og at figurer og tabeller dermed viser de korrekte data. Kontrollen skal også tjekke om der er tilføjet eller fjernet lande siden sidste opdatering, eller om Eurostat har byttet om på rækkefølgen. I så fald skal kontrollen sikre at der reageres på dette.\n\nLevel 1, 2 og 3:\n1) Tjek at data starter med tal fra S1, således at middelværdierne for de enkelte år altid tages af to tal fra samme kalenderår.\n2) Tag evt. par stikprøver fra tabeller og figurer for at se om data hentes korrekt, dette burde være tilfældet.\n3) I fanen ’Oversættelse af landenavne’ skal det engelske navn hentet fra level 1 arket stemme overens med begge danske oversættelser. Den første er programmeret således at der ungås fejl hvis kontrollen ikke udføres grundigt. anden række er for at tjekke om eurostat har lavet ændringer i medtagne lande eller rækkefølgen siden sidste opdatering. Hvis der er sket ændringer siden sidst vil det gule felt vise falsk.\n\nBVT deflatoren:\n4) BVT -deflatoren skal hentes for de samme lande som indgår i prisstatistikken. For at sikre at dette opfyles skal alle de orange tjekceller vise 'sand'. Er dette tilfældet har man BVT deflatoren for de korrekte lande.\n\nAlle tabeller og figurer burde nu være opdaterede og korrekte.\n\n\n"]