{"text_format":"1","workbook":"xlsx","n_sheets":10,"sheets":["Forside","Udvalgte lande, 10 års oversigt","Alle lande, valgt år","Baggrundstabeller for alle land","Baggrundsdata - BVT - deflator","Level 1","Level 2","Afgifter og moms","Oversættelse af landenavne","Sådan opdateres arket"],"not_rendered":{"charts":24,"images":0,"macros":1,"external_links":0,"defined_names":4,"comments":0,"pivot_tables":0},"unopened":[],"bounds":{"document_bytes":16777216,"sheet_cells":100000,"rows_first":2000,"rows_last":500,"rows_between":2000,"halvings":0,"cell_chars":16384,"cell_head_chars":4096},"cells_cut":0,"cells_raw":0,"read":"whole","date_system":"1900"}

{"sheet":"Forside","index":0,"n_rows":73,"n_cols":16,"rows_kept":73,"cut":false,"hidden":false,"merged":[[32,1,32,2]]}
[null,"Navn på filen:","EU - Gaspriser - Industri (2007-2017) "]
[]
[null,"Sidst opdateret","2016-12-08"]
[null,"Opdateret af","b014318"]
[]
[null,"Datakilder:",{"$f":"LEFT(B57,34)","v":"Danmarks Statistik, DNVALA: Valuta"}]
[null,null,{"$f":"\"Eurostat: \"&RIGHT('Baggrundsdata - BVT - deflator'!A61,15)","v":"Eurostat: s [nama_10_a10]"}]
[null,null,{"$f":"\"Eurostat: \"&RIGHT('Level 1'!A39,12)","v":"Eurostat: [nrg_pc_203]"}]
[]
[]
[null,"Kode til at låse arkene op:"," ens1256"]
[]
[]
[null,"Oversigt over ark:"]
[null,"Forside","Formål, oversigt og smådata"]
[null,{"$f":"'Udvalgte lande, 10 års oversigt'!E1","v":"Udvalgte lande, 10 års oversigt"},"Her findes sammenligning af relevante lande for en 10 års periode."]
[null,{"$f":"'Alle lande, valgt år'!F1","v":"Alle lande, valgt år"},"Her findes resultattabellerne for alle EU lande i de enheder du vælger."]
[null,{"$f":"'Baggrundstabeller for alle land'!E1","v":"Baggrundstabeller for alle lande, valgt år"},"Her findes baggrundstabeller for resultattabellerne."]
[null,"Baggrundsdata - BVT - deflator","BVT deflatorerne der bruges i til beregning af priser i det valte år for resultattabellerne. Og kontrol af at man har hentet korrekt data"]
[null,"Level 1","Rådata fra Eurostat og samling af dette"]
[null,"Level 2","Rådata fra Eurostat og samling af dette"]
[null,"Afgifter og moms","Bearbejelse af rådata fra Eurostat"]
[null,"Oversættelse af landenavne","Lavpraktisk oversættelses-, hjælpe- og  og kontrolark"]
[null,{"$f":"'Sådan opdateres arket'!B3","v":"Sådan foretages opdatering"},"Her er en beskrivelse af hvordan og hvornår arkene skal opdateres."]
[]
[]
[]
[null,"Arkene har farvekoder, de er opdelt således:"]
[null,"Beskrivelser og forklaringer"]
[null,"Resultattabeller"]
[null,"Baggrundstabeller og rådata"]
[]
[null,"Formålet med dette ark er at give et overblik over gaspriserne for industrielle forbrugere i de europæiske lande. Særligt at kunne sammenligne den danske gaspris med de øvrige gaspriser.\n\nFor ar gøre det mere overskueligt træffes valg omkring enheder i rullemenuer øverst i de to ark med resultattabeller. Når man vælger tilpasses tabeller og figurer til valgene.\n\nRådata opdateres halvårligt, når eurostat opdaterer deres databank.\n\nPå forsiden findes også tabeller med grundlæggende oplysninger, der bruges til enhedsomregning. Det drejer sig om de udvalgte sammenligningslande og valutakursomregning.\n\nDet er vigigt at hente data 10 år tilbage, dvs. at man skal have hele år, således at 20xx S1 som det første data, for halvårsopdateringer har man således kun data for fx 6,5 år mens man for årsopdateringerne har data for 7 år."]
[]
[]
[null,"Tabel 1"]
[null,"Sammenligningslande"]
[null,"Disse lande bruges til grundlag for sammenligning over tid. De er valgt på baggrund af Natinalbankens effektive kronekurs indeks og udgøres af de europæiske lande som danmark har mest samhandel med."]
[null,"EU-28"]
[null,"Belgien"]
[null,"Danmark"]
[null,"Tyskland"]
[null,"Frankrig"]
[null,"Italien"]
[null,"Holland"]
[null,"Sverige"]
[null,"UK"]
[null,"Norge"]
[]
[]
[]
[null,"Tabel 2"]
[null,"Valutakurser efter opgørelsesmetode, kurstype, valuta og tid"]
[null,"Enhed: DKK pr. 100 enheder valuta og indekstal"]
[null,null,null,null,2007,2008,2009,2010,2011,2012,2013,2014,2015,2016,2017]
[null,"Årsgennemsnit","Valutakurser (DKK pr. 100 enheder valuta)","Euro  (Jan. 1999-)",745.59739999999999,744.62509999999997,744.62509999999997,744.73659999999995,745.05290000000002,744.37509999999997,745.79819999999995,745.47410000000002,745.61029999999994,744.74884444444444]
[null,"Danmarks Statistik, DNVALA: Valutakurser efter valuta, kurstype og opgørelsesmetode (årsobservationer) "]
[null,"OBS! Årstallene skal være formateret som tal!"]
[null,"Bemærk: Når der ikke er data for året bruges gennemsnit for de tilgængelige måneder."]
[null,"Tabel 3"]
[null,"Brændværdier på naturgas",null,null,null,null,null,null,null,null,null,null,null,null,null,"Natural Gas: Calorific Values"]
[null,null,"Enhed",null,2007,2008,2009,2010,2011,2012,2013,2014,2015,2016,2017]
[null,"- Nedre brændværdi","GJ/1000 Nm3",null,{"$f":"F63","v":39.479999999999997},39.479999999999997,39.46,39.46,39.51,39.549999999999997,38.988,39.531999999999996,{"$f":"L63","v":39.531999999999996},{"$f":"M63","v":39.531999999999996},null,"- Net Calorific Value"]
[null,"- Øvre brændværdi","GJ/1000 Nm3",null,{"$f":"F64","v":43.664400000000001},43.664400000000001,43.635600000000004,43.635600000000004,{"$f":"I63/0.9","v":43.9},{"$f":"J63/0.9","v":43.944444444444443},{"$f":"K63/0.9","v":43.32},{"$f":"L63/0.9","v":43.92444444444444},{"$f":"L64","v":43.92444444444444},{"$f":"M64","v":43.92444444444444},null,"- Gross Calorific Value"]
[null,"Kilde: Månedsstatistik for naturgas",null,null,"OBS 2007 værdierne er ikke hentet fra statistikken, men blot sat lig 2008. For 2015 er tallene sat lig 2014"]
[]
[]
[null,"Tabel 4"]
[null,"Enhedsomregner"]
[null,null,null,null,{"$f":"E62","v":2007},{"$f":"F62","v":2008},2009,2010,2011,2012,2013,2014,2015,2016,2017]
[null,null,"GJ/Nm3",null,{"$f":"IFERROR(E63/1000,\"*\")","v":3.9479999999999994E-2},3.9479999999999994E-2,3.9460000000000002E-2,3.9460000000000002E-2,3.9509999999999997E-2,3.9549999999999995E-2,3.8988000000000002E-2,{"$f":"IFERROR(L63/1000,\"*\")","v":3.9531999999999998E-2},3.9531999999999998E-2,3.9531999999999998E-2,0]
[null,null,"Nm3/GJ",null,{"$f":"IFERROR(1/E71,\"*\")","v":25.329280648429588},25.329280648429588,25.34211860111505,25.34211860111505,25.310048089091371,25.284450063211128,25.648917615676616,{"$f":"IFERROR(1/L71,\"*\")","v":25.295962764342811},25.295962764342811,25.295962764342811,"*"]
[null,"Note: I nøgletalskataloget benyttes den nedre brændværdi."]

{"sheet":"Udvalgte lande, 10 års oversigt","index":1,"n_rows":117,"n_cols":82,"rows_kept":117,"cut":false,"hidden":false,"merged":[[233,16,233,18],[181,16,181,18],[61,68,61,75],[4,3,4,10],[5,3,5,10],[182,42,182,45],[182,55,182,59],[182,68,182,72],[181,29,181,31],[181,42,181,44],[181,55,181,58],[181,68,181,71],[232,42,232,43],[232,55,232,57],[232,68,232,70],[196,16,196,23],[26,81,57,81],[61,81,92,81],[26,3,26,10],[26,16,26,23],[26,29,26,36],[26,42,26,49],[26,55,26,62],[26,68,26,75],[61,3,61,10],[61,16,61,23],[61,29,61,36],[61,42,61,49],[61,55,61,62],[196,29,196,36],[196,42,196,49],[196,55,196,62],[196,68,196,75],[234,42,234,45],[234,55,234,59],[234,68,234,72],[233,29,233,31],[233,42,233,44],[233,55,233,58],[233,68,233,71],[26,1,57,1],[61,1,92,1],[234,16,234,20],[234,29,234,33],[232,16,232,17],[232,29,232,30],[182,16,182,20],[182,29,182,33],[180,16,180,17],[180,29,180,30],[234,3,234,6],[233,3,233,5],[232,3,232,4],[196,3,196,9],[182,3,182,6],[181,3,181,5],[25,42,25,53],[25,55,25,66],[25,68,25,79],[180,3,180,4],[104,3,104,10],[104,16,104,23],[104,29,104,36],[180,42,180,43],[180,55,180,57],[180,68,180,70],[25,3,25,14],[25,16,25,27],[25,29,25,40]]}
[null,null,null,"NAVN PÅ ARK:","Udvalgte lande, 10 års oversigt"]
[null,null,null,"Data hentes fra:","'Forside', 'Level 1', 'Level 2', 'Afgifter og moms' og 'Baggrundsdata -BVT-deflator'"]
[]
[null,null,null,"Sådan bruges arket:"]
[null,null,null,{"$f":"\"Arket 'Udvalgte lande, 10 års oversigt' viser figurer og tabeller (de grå-blå) for gasprisen på level 1 og 2 for hvert interval. Prisen vises for udvalgte lande for årene \"&E47&\" til \"&M47&\".\nLandene er valgt på baggrund af Natinalbankens effektive kronekursindeks og udgøres af de europæiske lande Danmark har mest samhandel med.\"","v":"Arket 'Udvalgte lande, 10 års oversigt' viser figurer og tabeller (de grå-blå) for gasprisen på level 1 og 2 for hvert interval. Prisen vises for udvalgte lande for årene 2007 til 2015.\nLandene er valgt på baggrund af Natinalbankens effektive kronekursindeks og udgøres af de europæiske lande Danmark har mest samhandel med."}]
[null,null,null,"Pristypen, basisået, valuta og enhed kan ændres. Dette gøres i de farvede rullemenuer nedenfor. \nRent teknisk styrer hver menu en tabel længere nede i tilsvarende farve. Disse tabeller ganges på rådata (arkene level 1 og 2) for hvert level, heraf fremkommer resultattabellerne med som følge af de valg man traf i rullemenuerne.\n\nTil hver resultattabel er tilkoblet en figur der viser prisudviklingen grafisk. \n\n"]
[]
[]
[]
[null,null,null,"Vælg",null,"Vises i"]
[null,null,null,"År",{"$f":"E47&\" til \"&N47","v":"2007 til 2016"},"Resultattabeller"]
[null,null,null,"Vælg pristype","faste priser","Tabel B"]
[null,null,null,"Vælg Basisår (kun ved fast pris)",2015,"Tabel B"]
[null,null,null,"Vælg valuta","DKK øre","Tabel C"]
[null,null,null,"Vælg enhed (NM3/GJ)","Kwh","Tabel D"]
[]
[]
[]
[null,null,null,"Resultattabeller:"]
[null,null,null,"Valgene truffet ovenfor giver tabeller og figurer der er:"]
[null,null,null,{"$f":"\"Oppgjort i \"&$E$12&\" med basisår \"&$E$13","v":"Oppgjort i faste priser med basisår 2015"}]
[null,null,null,{"$f":"\"Vist i \"&E14&\" / \"&E15&\".\"","v":"Vist i DKK øre / Kwh."}]
[]
[]
[]
[null,null,null,"IA: < 1000 GJ",null,null,null,null,null,null,null,null,null,null,null,null,"IB: 1 000 GJ <  10 000 GJ",null,null,null,null,null,null,null,null,null,null,null,null,"IC: 10 000 GJ <  100 000 GJ",null,null,null,null,null,null,null,null,null,null,null,null,"ID: 100 000 GJ < 1 000 000 GJ",null,null,null,null,null,null,null,null,null,null,null,null,"IE: 1 000 000 GJ < 4 000 000 GJ",null,null,null,null,null,null,null,null,null,null,null,null,"IF: > 4 000 000 GJ"]
[null,"Level 1: Gaspris",null,{"$f":"\"Figur XX:\n\"&$B$27&\" for intervalet   \"&D26&\". \nPriserne er vist i \"&$E$14&\" / \"&$E$15&\" i \"&$E$12&\" med basisår \"&$E$13&\". \"","v":"Figur XX:\nLevel 1: Gaspris for intervalet   IA: < 1000 GJ. \nPriserne er vist i DKK øre / Kwh i faste priser med basisår 2015. "},null,null,null,null,null,null,null,null,null,null,null,null,{"$f":"\"Figur XX:\n\"&$B$27&\" for intervalet   \"&Q26&\". \nPriserne er vist i \"&$E$14&\" / \"&$E$15&\" i \"&$E$12&\" med basisår \"&$E$13&\". \"","v":"Figur XX:\nLevel 1: Gaspris for intervalet   IB: 1 000 GJ <  10 000 GJ. \nPriserne er vist i DKK øre / Kwh i faste priser med basisår 2015. "},null,null,null,null,null,null,null,null,null,null,null,null,{"$f":"\"Figur XX:\n\"&$B$27&\" for intervalet   \"&AD26&\". \nPriserne er vist i \"&$E$14&\" / \"&$E$15&\" i \"&$E$12&\" med basisår \"&$E$13&\". \"","v":"Figur XX:\nLevel 1: Gaspris for intervalet   IC: 10 000 GJ <  100 000 GJ. \nPriserne er vist i DKK øre / Kwh i faste priser med basisår 2015. "},null,null,null,null,null,null,null,null,null,null,null,null,{"$f":"\"Figur XX:\n\"&$B$27&\" for intervalet   \"&AQ26&\". \nPriserne er vist i \"&$E$14&\" / \"&$E$15&\" i \"&$E$12&\" med basisår \"&$E$13&\". \"","v":"Figur XX:\nLevel 1: Gaspris for intervalet   ID: 100 000 GJ < 1 000 000 GJ. \nPriserne er vist i DKK øre / Kwh i faste priser med basisår 2015. "},null,null,null,null,null,null,null,null,null,null,null,null,{"$f":"\"Figur XX:\n\"&$B$27&\" for intervalet   \"&BD26&\". \nPriserne er vist i \"&$E$14&\" / \"&$E$15&\" i \"&$E$12&\" med basisår \"&$E$13&\". \"","v":"Figur XX:\nLevel 1: Gaspris for intervalet   IE: 1 000 000 GJ < 4 000 000 GJ. \nPriserne er vist i DKK øre / Kwh i faste priser med basisår 2015. "},null,null,null,null,null,null,null,null,null,null,null,null,{"$f":"\"Figur XX:\n\"&$B$27&\" for intervalet   \"&BQ26&\". \nPriserne er vist i \"&$E$14&\" / \"&$E$15&\" i \"&$E$12&\" med basisår \"&$E$13&\". \"","v":"Figur XX:\nLevel 1: Gaspris for intervalet   IF: > 4 000 000 GJ. \nPriserne er vist i DKK øre / Kwh i faste priser med basisår 2015. "},null,null,null,null,null,null,null,null,null,null,null,null,{"$f":"B27","v":"Level 1: Gaspris"}]
[]
[]
[]
[]
[]
[]
[]
[]
[]
[]
[]
[]
[]
[]
[]
[]
[]
[]
[null,null,null,"Kilde: Eurostat",null,null,null,null,null,null,null,null,null,null,null,null,"Kilde: Eurostat",null,null,null,null,null,null,null,null,null,null,null,null,"Kilde: Eurostat",null,null,null,null,null,null,null,null,null,null,null,null,"Kilde: Eurostat",null,null,null,null,null,null,null,null,null,null,null,null,"Kilde: Eurostat",null,null,null,null,null,null,null,null,null,null,null,null,"Kilde: Eurostat"]
[null,null,null,{"$f":"$E$14&\"/\"&$E$15","v":"DKK øre/Kwh"},{"$f":"'Level 1'!B5","v":2007},{"$f":"'Level 1'!C5","v":2008},{"$f":"'Level 1'!D5","v":2009},{"$f":"'Level 1'!E5","v":2010},{"$f":"'Level 1'!F5","v":2011},{"$f":"'Level 1'!G5","v":2012},{"$f":"'Level 1'!H5","v":2013},{"$f":"'Level 1'!I5","v":2014},{"$f":"'Level 1'!J5","v":2015},{"$f":"'Level 1'!K5","v":2016},{"$f":"'Level 1'!L5","v":2017},null,{"$f":"$E$14&\"/\"&$E$15","v":"DKK øre/Kwh"},{"$f":"'Level 1'!O5","v":2007},{"$f":"'Level 1'!P5","v":2008},{"$f":"'Level 1'!Q5","v":2009},{"$f":"'Level 1'!R5","v":2010},{"$f":"'Level 1'!S5","v":2011},{"$f":"'Level 1'!T5","v":2012},{"$f":"'Level 1'!U5","v":2013},{"$f":"'Level 1'!V5","v":2014},{"$f":"'Level 1'!W5","v":2015},{"$f":"'Level 1'!X5","v":2016},{"$f":"'Level 1'!Y5","v":2017},null,{"$f":"$E$14&\"/\"&$E$15","v":"DKK øre/Kwh"},{"$f":"'Level 1'!AB5","v":2007},{"$f":"'Level 1'!AC5","v":2008},{"$f":"'Level 1'!AD5","v":2009},{"$f":"'Level 1'!AE5","v":2010},{"$f":"'Level 1'!AF5","v":2011},{"$f":"'Level 1'!AG5","v":2012},{"$f":"'Level 1'!AH5","v":2013},{"$f":"'Level 1'!AI5","v":2014},{"$f":"'Level 1'!AJ5","v":2015},{"$f":"'Level 1'!AK5","v":2016},{"$f":"'Level 1'!AL5","v":2017},null,{"$f":"$E$14&\"/\"&$E$15","v":"DKK øre/Kwh"},{"$f":"'Level 1'!AO5","v":2007},{"$f":"'Level 1'!AP5","v":2008},{"$f":"'Level 1'!AQ5","v":2009},{"$f":"'Level 1'!AR5","v":2010},{"$f":"'Level 1'!AS5","v":2011},{"$f":"'Level 1'!AT5","v":2012},{"$f":"'Level 1'!AU5","v":2013},{"$f":"'Level 1'!AV5","v":2014},{"$f":"'Level 1'!AW5","v":2015},{"$f":"'Level 1'!AX5","v":2016},{"$f":"'Level 1'!AY5","v":2017},null,{"$f":"$E$14&\"/\"&$E$15","v":"DKK øre/Kwh"},{"$f":"'Level 1'!BB5","v":2007},{"$f":"'Level 1'!BC5","v":2008},{"$f":"'Level 1'!BD5","v":2009},{"$f":"'Level 1'!BE5","v":2010},{"$f":"'Level 1'!BF5","v":2011},{"$f":"'Level 1'!BG5","v":2012},{"$f":"'Level 1'!BH5","v":2013},{"$f":"'Level 1'!BI5","v":2014},{"$f":"'Level 1'!BJ5","v":2015},{"$f":"'Level 1'!BK5","v":2016},{"$f":"'Level 1'!BL5","v":2017},null,{"$f":"$E$14&\"/\"&$E$15","v":"DKK øre/Kwh"},{"$f":"'Level 1'!BO5","v":2007},{"$f":"'Level 1'!BP5","v":2008},{"$f":"'Level 1'!BQ5","v":2009},{"$f":"'Level 1'!BR5","v":2010},{"$f":"'Level 1'!BS5","v":2011},{"$f":"'Level 1'!BT5","v":2012},{"$f":"'Level 1'!BU5","v":2013},{"$f":"'Level 1'!BV5","v":2014},{"$f":"'Level 1'!BW5","v":2015},{"$f":"'Level 1'!BX5","v":2016},{"$f":"'Level 1'!BY5","v":2017}]
[null,null,null,{"$f":"'Oversættelse af landenavne'!$B$6","v":"EU-28"},{"$f":"IFERROR('Level 1'!B$6/E$109*R$109*AE$109,\"*\")","v":30.240550514318851},{"$f":"IFERROR('Level 1'!C$6/F$109*S$109*AF$109,\"*\")","v":34.157069557236497},{"$f":"IFERROR('Level 1'!D$6/G$109*T$109*AG$109,\"*\")","v":33.354198753153746},{"$f":"IFERROR('Level 1'!E$6/H$109*U$109*AH$109,\"*\")","v":31.73809611216781},{"$f":"IFERROR('Level 1'!F$6/I$109*V$109*AI$109,\"*\")","v":34.083657896953568},{"$f":"IFERROR('Level 1'!G$6/J$109*W$109*AJ$109,\"*\")","v":37.901820853764164},{"$f":"IFERROR('Level 1'!H$6/K$109*X$109*AK$109,\"*\")","v":38.709223476018543},{"$f":"IFERROR('Level 1'!I$6/L$109*Y$109*AL$109,\"*\")","v":36.82592366616533},{"$f":"IFERROR('Level 1'!J$6/M$109*Z$109*AM$109,\"*\")","v":34.585053303956833},{"$f":"IFERROR('Level 1'!K$6/N$109*AA$109*AN$109,\"*\")","v":29.907832339915306},{"$f":"IFERROR('Level 1'!L$6/O$109*AB$109*AO$109,\"*\")","v":"*"},null,{"$f":"'Oversættelse af landenavne'!$B$6","v":"EU-28"},{"$f":"IFERROR('Level 1'!O$6/E$109*R$109*AE$109,\"*\")","v":27.034110819707223},{"$f":"IFERROR('Level 1'!P$6/F$109*S$109*AF$109,\"*\")","v":31.316747442318416},{"$f":"IFERROR('Level 1'!Q$6/G$109*T$109*AG$109,\"*\")","v":29.362339859824171},{"$f":"IFERROR('Level 1'!R$6/H$109*U$109*AH$109,\"*\")","v":28.092209556490868},{"$f":"IFERROR('Level 1'!S$6/I$109*V$109*AI$109,\"*\")","v":30.485298743981275},{"$f":"IFERROR('Level 1'!T$6/J$109*W$109*AJ$109,\"*\")","v":32.461166302426356},{"$f":"IFERROR('Level 1'!U$6/K$109*X$109*AK$109,\"*\")","v":34.478247909692961},{"$f":"IFERROR('Level 1'!V$6/L$109*Y$109*AL$109,\"*\")","v":32.000362721516183},{"$f":"IFERROR('Level 1'!W$6/M$109*Z$109*AM$109,\"*\")","v":28.577258080935252},{"$f":"IFERROR('Level 1'!X$6/N$109*AA$109*AN$109,\"*\")","v":23.707428074323111},{"$f":"IFERROR('Level 1'!Y$6/O$109*AB$109*AO$109,\"*\")","v":"*"},null,{"$f":"'Oversættelse af landenavne'!$B$6","v":"EU-28"},{"$f":"IFERROR('Level 1'!AB$6/E$109*R$109*AE$109,\"*\")","v":23.651169857502289},{"$f":"IFERROR('Level 1'!AC$6/F$109*S$109*AF$109,\"*\")","v":28.16896777887828},{"$f":"IFERROR('Level 1'!AD$6/G$109*T$109*AG$109,\"*\")","v":25.222634340815727},{"$f":"IFERROR('Level 1'!AE$6/H$109*U$109*AH$109,\"*\")","v":23.749101667457374},{"$f":"IFERROR('Level 1'!AF$6/I$109*V$109*AI$109,\"*\")","v":25.634710605774625},{"$f":"IFERROR('Level 1'!AG$6/J$109*W$109*AJ$109,\"*\")","v":27.343858145612504},{"$f":"IFERROR('Level 1'!AH$6/K$109*X$109*AK$109,\"*\")","v":29.406681171249708},{"$f":"IFERROR('Level 1'!AI$6/L$109*Y$109*AL$109,\"*\")","v":26.885268120188087},{"$f":"IFERROR('Level 1'!AJ$6/M$109*Z$109*AM$109,\"*\")","v":24.058001406474816},{"$f":"IFERROR('Level 1'!AK$6/N$109*AA$109*AN$109,\"*\")","v":19.98197509121519},{"$f":"IFERROR('Level 1'!AL$6/O$109*AB$109*AO$109,\"*\")","v":"*"},null,{"$f":"'Oversættelse af landenavne'!$B$6","v":"EU-28"},{"$f":"IFERROR('Level 1'!AO$6/E$109*R$109*AE$109,\"*\")","v":20.503563918755095},{"$f":"IFERROR('Level 1'!AP$6/F$109*S$109*AF$109,\"*\")","v":25.079751458013764},{"$f":"IFERROR('Level 1'!AQ$6/G$109*T$109*AG$109,\"*\")","v":22.088285876423626},{"$f":"IFERROR('Level 1'!AR$6/H$109*U$109*AH$109,\"*\")","v":20.814961889581909},{"$f":"IFERROR('Level 1'!AS$6/I$109*V$109*AI$109,\"*\")","v":22.626482353889784},{"$f":"IFERROR('Level 1'!AT$6/J$109*W$109*AJ$109,\"*\")","v":24.377506439327544},{"$f":"IFERROR('Level 1'!AU$6/K$109*X$109*AK$109,\"*\")","v":24.93753810615744},{"$f":"IFERROR('Level 1'!AV$6/L$109*Y$109*AL$109,\"*\")","v":22.762860341759239},{"$f":"IFERROR('Level 1'!AW$6/M$109*Z$109*AM$109,\"*\")","v":20.32994990647482},{"$f":"IFERROR('Level 1'!AX$6/N$109*AA$109*AN$109,\"*\")","v":16.282574226870267},{"$f":"IFERROR('Level 1'!AY$6/O$109*AB$109*AO$109,\"*\")","v":"*"},null,{"$f":"'Oversættelse af landenavne'!$B$6","v":"EU-28"},{"$f":"IFERROR('Level 1'!BB$6/E$109*R$109*AE$109,\"*\")","v":18.356131829703276},{"$f":"IFERROR('Level 1'!BC$6/F$109*S$109*AF$109,\"*\")","v":23.439977865896111},{"$f":"IFERROR('Level 1'!BD$6/G$109*T$109*AG$109,\"*\")","v":19.634031890154333},{"$f":"IFERROR('Level 1'!BE$6/H$109*U$109*AH$109,\"*\")","v":19.086434000635471},{"$f":"IFERROR('Level 1'!BF$6/I$109*V$109*AI$109,\"*\")","v":21.475007424938649},{"$f":"IFERROR('Level 1'!BG$6/J$109*W$109*AJ$109,\"*\")","v":23.196589172370501},{"$f":"IFERROR('Level 1'!BH$6/K$109*X$109*AK$109,\"*\")","v":22.892099587337785},{"$f":"IFERROR('Level 1'!BI$6/L$109*Y$109*AL$109,\"*\")","v":20.956721816761995},{"$f":"IFERROR('Level 1'!BJ$6/M$109*Z$109*AM$109,\"*\")","v":18.385462613309354},{"$f":"IFERROR('Level 1'!BK$6/N$109*AA$109*AN$109,\"*\")","v":14.016039894489925},{"$f":"IFERROR('Level 1'!BL$6/O$109*AB$109*AO$109,\"*\")","v":"*"},null,{"$f":"'Oversættelse af landenavne'!$B$6","v":"EU-28"},{"$f":"IFERROR('Level 1'!BO$6/E$109*R$109*AE$109,\"*\")","v":"*"},{"$f":"IFERROR('Level 1'!BP$6/F$109*S$109*AF$109,\"*\")","v":"*"},{"$f":"IFERROR('Level 1'!BQ$6/G$109*T$109*AG$109,\"*\")","v":"*"},{"$f":"IFERROR('Level 1'!BR$6/H$109*U$109*AH$109,\"*\")","v":"*"},{"$f":"IFERROR('Level 1'!BS$6/I$109*V$109*AI$109,\"*\")","v":"*"},{"$f":"IFERROR('Level 1'!BT$6/J$109*W$109*AJ$109,\"*\")","v":"*"},{"$f":"IFERROR('Level 1'!BU$6/K$109*X$109*AK$109,\"*\")","v":"*"},{"$f":"IFERROR('Level 1'!BV$6/L$109*Y$109*AL$109,\"*\")","v":"*"},{"$f":"IFERROR('Level 1'!BW$6/M$109*Z$109*AM$109,\"*\")","v":"*"},{"$f":"IFERROR('Level 1'!BX$6/N$109*AA$109*AN$109,\"*\")","v":"*"},{"$f":"IFERROR('Level 1'!BY$6/O$109*AB$109*AO$109,\"*\")","v":"*"}]
[null,null,null,{"$f":"'Oversættelse af landenavne'!$B$7","v":"Belgien"},{"$f":"IFERROR('Level 1'!B$7/E$110*R$109*AE$109,\"*\")","v":32.249110957161726},{"$f":"IFERROR('Level 1'!C$7/F$110*S$109*AF$109,\"*\")","v":41.938189606470473},{"$f":"IFERROR('Level 1'!D$7/G$110*T$109*AG$109,\"*\")","v":33.782377176121436},{"$f":"IFERROR('Level 1'!E$7/H$110*U$109*AH$109,\"*\")","v":34.073563970408635},{"$f":"IFERROR('Level 1'!F$7/I$110*V$109*AI$109,\"*\")","v":39.114855630633066},{"$f":"IFERROR('Level 1'!G$7/J$110*W$109*AJ$109,\"*\")","v":40.37164609244644},{"$f":"IFERROR('Level 1'!H$7/K$110*X$109*AK$109,\"*\")","v":38.333798729986867},{"$f":"IFERROR('Level 1'!I$7/L$110*Y$109*AL$109,\"*\")","v":36.054881315930849},{"$f":"IFERROR('Level 1'!J$7/M$110*Z$109*AM$109,\"*\")","v":32.828309611510782},{"$f":"IFERROR('Level 1'!K$7/N$110*AA$109*AN$109,\"*\")","v":28.737312153151443},{"$f":"IFERROR('Level 1'!L$7/O$110*AB$109*AO$109,\"*\")","v":"*"},null,{"$f":"'Oversættelse af landenavne'!$B$7","v":"Belgien"},{"$f":"IFERROR('Level 1'!O$7/E$110*R$109*AE$109,\"*\")","v":28.472728075561005},{"$f":"IFERROR('Level 1'!P$7/F$110*S$109*AF$109,\"*\")","v":34.239462627114889},{"$f":"IFERROR('Level 1'!Q$7/G$110*T$109*AG$109,\"*\")","v":29.71273847485292},{"$f":"IFERROR('Level 1'!R$7/H$110*U$109*AH$109,\"*\")","v":28.833679763194535},{"$f":"IFERROR('Level 1'!S$7/I$110*V$109*AI$109,\"*\")","v":32.532420378876047},{"$f":"IFERROR('Level 1'!T$7/J$110*W$109*AJ$109,\"*\")","v":30.337314117266853},{"$f":"IFERROR('Level 1'!U$7/K$110*X$109*AK$109,\"*\")","v":32.775806590031422},{"$f":"IFERROR('Level 1'!V$7/L$110*Y$109*AL$109,\"*\")","v":26.777443738013165},{"$f":"IFERROR('Level 1'!W$7/M$110*Z$109*AM$109,\"*\")","v":25.157642496402872},{"$f":"IFERROR('Level 1'!X$7/N$110*AA$109*AN$109,\"*\")","v":22.655200800959499},{"$f":"IFERROR('Level 1'!Y$7/O$110*AB$109*AO$109,\"*\")","v":"*"},null,{"$f":"'Oversættelse af landenavne'!$B$7","v":"Belgien"},{"$f":"IFERROR('Level 1'!AB$7/E$110*R$109*AE$109,\"*\")","v":23.077895387559977},{"$f":"IFERROR('Level 1'!AC$7/F$110*S$109*AF$109,\"*\")","v":28.645741303682534},{"$f":"IFERROR('Level 1'!AD$7/G$110*T$109*AG$109,\"*\")","v":24.505351319466325},{"$f":"IFERROR('Level 1'!AE$7/H$110*U$109*AH$109,\"*\")","v":21.87580073394302},{"$f":"IFERROR('Level 1'!AF$7/I$110*V$109*AI$109,\"*\")","v":24.641937096321161},{"$f":"IFERROR('Level 1'!AG$7/J$110*W$109*AJ$109,\"*\")","v":25.540682898362324},{"$f":"IFERROR('Level 1'!AH$7/K$110*X$109*AK$109,\"*\")","v":27.054344093018447},{"$f":"IFERROR('Level 1'!AI$7/L$110*Y$109*AL$109,\"*\")","v":21.746530066022807},{"$f":"IFERROR('Level 1'!AJ$7/M$110*Z$109*AM$109,\"*\")","v":20.115385791366904},{"$f":"IFERROR('Level 1'!AK$7/N$110*AA$109*AN$109,\"*\")","v":17.608907539315531},{"$f":"IFERROR('Level 1'!AL$7/O$110*AB$109*AO$109,\"*\")","v":"*"},null,{"$f":"'Oversættelse af landenavne'!$B$7","v":"Belgien"},{"$f":"IFERROR('Level 1'!AO$7/E$110*R$109*AE$109,\"*\")","v":21.30958911760408},{"$f":"IFERROR('Level 1'!AP$7/F$110*S$109*AF$109,\"*\")","v":26.15800734668235},{"$f":"IFERROR('Level 1'!AQ$7/G$110*T$109*AG$109,\"*\")","v":23.002939899284755},{"$f":"IFERROR('Level 1'!AR$7/H$110*U$109*AH$109,\"*\")","v":18.540027454487049},{"$f":"IFERROR('Level 1'!AS$7/I$110*V$109*AI$109,\"*\")","v":20.591207710624527},{"$f":"IFERROR('Level 1'!AT$7/J$110*W$109*AJ$109,\"*\")","v":21.350522293342273},{"$f":"IFERROR('Level 1'!AU$7/K$110*X$109*AK$109,\"*\")","v":22.122988321783467},{"$f":"IFERROR('Level 1'!AV$7/L$110*Y$109*AL$109,\"*\")","v":19.582696228607603},{"$f":"IFERROR('Level 1'!AW$7/M$110*Z$109*AM$109,\"*\")","v":18.090436955035969},{"$f":"IFERROR('Level 1'!AX$7/N$110*AA$109*AN$109,\"*\")","v":15.03264203205519},{"$f":"IFERROR('Level 1'!AY$7/O$110*AB$109*AO$109,\"*\")","v":"*"},null,{"$f":"'Oversættelse af landenavne'!$B$7","v":"Belgien"},{"$f":"IFERROR('Level 1'!BB$7/E$110*R$109*AE$109,\"*\")","v":21.339560410315194},{"$f":"IFERROR('Level 1'!BC$7/F$110*S$109*AF$109,\"*\")","v":25.937202557599498},{"$f":"IFERROR('Level 1'!BD$7/G$110*T$109*AG$109,\"*\")","v":18.816609048875922},{"$f":"IFERROR('Level 1'!BE$7/H$110*U$109*AH$109,\"*\")","v":17.809879655121147},{"$f":"IFERROR('Level 1'!BF$7/I$110*V$109*AI$109,\"*\")","v":20.000476341877103},{"$f":"IFERROR('Level 1'!BG$7/J$110*W$109*AJ$109,\"*\")","v":20.964586448143063},{"$f":"IFERROR('Level 1'!BH$7/K$110*X$109*AK$109,\"*\")","v":20.556397399982295},{"$f":"IFERROR('Level 1'!BI$7/L$110*Y$109*AL$109,\"*\")","v":18.52782723286769},{"$f":"IFERROR('Level 1'!BJ$7/M$110*Z$109*AM$109,\"*\")","v":15.247462429856114},{"$f":"IFERROR('Level 1'!BK$7/N$110*AA$109*AN$109,\"*\")","v":11.978306636849629},{"$f":"IFERROR('Level 1'!BL$7/O$110*AB$109*AO$109,\"*\")","v":"*"},null,{"$f":"'Oversættelse af landenavne'!$B$7","v":"Belgien"},{"$f":"IFERROR('Level 1'!BO$7/E$110*R$109*AE$109,\"*\")","v":"*"},{"$f":"IFERROR('Level 1'!BP$7/F$110*S$109*AF$109,\"*\")","v":"*"},{"$f":"IFERROR('Level 1'!BQ$7/G$110*T$109*AG$109,\"*\")","v":"*"},{"$f":"IFERROR('Level 1'!BR$7/H$110*U$109*AH$109,\"*\")","v":"*"},{"$f":"IFERROR('Level 1'!BS$7/I$110*V$109*AI$109,\"*\")","v":"*"},{"$f":"IFERROR('Level 1'!BT$7/J$110*W$109*AJ$109,\"*\")","v":"*"},{"$f":"IFERROR('Level 1'!BU$7/K$110*X$109*AK$109,\"*\")","v":21.005940881890456},{"$f":"IFERROR('Level 1'!BV$7/L$110*Y$109*AL$109,\"*\")","v":16.161133973194815},{"$f":"IFERROR('Level 1'!BW$7/M$110*Z$109*AM$109,\"*\")","v":13.249334107913667},{"$f":"IFERROR('Level 1'!BX$7/N$110*AA$109*AN$109,\"*\")","v":9.9066704557536855},{"$f":"IFERROR('Level 1'!BY$7/O$110*AB$109*AO$109,\"*\")","v":"*"}]
[null,null,null,{"$f":"'Oversættelse af landenavne'!$B$10","v":"Danmark"},{"$f":"IFERROR('Level 1'!B$10/E$111*R$109*AE$109,\"*\")","v":35.870909034844814},{"$f":"IFERROR('Level 1'!C$10/F$111*S$109*AF$109,\"*\")","v":41.358723555198132},{"$f":"IFERROR('Level 1'!D$10/G$111*T$109*AG$109,\"*\")","v":33.370400257373596},{"$f":"IFERROR('Level 1'!E$10/H$111*U$109*AH$109,\"*\")","v":37.174854279235056},{"$f":"IFERROR('Level 1'!F$10/I$111*V$109*AI$109,\"*\")","v":39.559303678476276},{"$f":"IFERROR('Level 1'!G$10/J$111*W$109*AJ$109,\"*\")","v":33.531169202400903},{"$f":"IFERROR('Level 1'!H$10/K$111*X$109*AK$109,\"*\")","v":29.734488618067125},{"$f":"IFERROR('Level 1'!I$10/L$111*Y$109*AL$109,\"*\")","v":26.765955251309439},{"$f":"IFERROR('Level 1'!J$10/M$111*Z$109*AM$109,\"*\")","v":24.481229123525182},{"$f":"IFERROR('Level 1'!K$10/N$111*AA$109*AN$109,\"*\")","v":20.437798619370113},{"$f":"IFERROR('Level 1'!L$10/O$111*AB$109*AO$109,\"*\")","v":"*"},null,{"$f":"'Oversættelse af landenavne'!$B$10","v":"Danmark"},{"$f":"IFERROR('Level 1'!O$10/E$111*R$109*AE$109,\"*\")","v":33.981918880191792},{"$f":"IFERROR('Level 1'!P$10/F$111*S$109*AF$109,\"*\")","v":39.182184793977363},{"$f":"IFERROR('Level 1'!Q$10/G$111*T$109*AG$109,\"*\")","v":30.587551589188134},{"$f":"IFERROR('Level 1'!R$10/H$111*U$109*AH$109,\"*\")","v":34.22509242423444},{"$f":"IFERROR('Level 1'!S$10/I$111*V$109*AI$109,\"*\")","v":36.492747586991136},{"$f":"IFERROR('Level 1'!T$10/J$111*W$109*AJ$109,\"*\")","v":30.944710783941701},{"$f":"IFERROR('Level 1'!U$10/K$111*X$109*AK$109,\"*\")","v":27.599744199009795},{"$f":"IFERROR('Level 1'!V$10/L$111*Y$109*AL$109,\"*\")","v":25.780722855702223},{"$f":"IFERROR('Level 1'!W$10/M$111*Z$109*AM$109,\"*\")","v":22.586225679406478},{"$f":"IFERROR('Level 1'!X$10/N$111*AA$109*AN$109,\"*\")","v":18.74375436559561},{"$f":"IFERROR('Level 1'!Y$10/O$111*AB$109*AO$109,\"*\")","v":"*"},null,{"$f":"'Oversættelse af landenavne'!$B$10","v":"Danmark"},{"$f":"IFERROR('Level 1'!AB$10/E$111*R$109*AE$109,\"*\")","v":19.152256936797343},{"$f":"IFERROR('Level 1'!AC$10/F$111*S$109*AF$109,\"*\")","v":22.082774586596759},{"$f":"IFERROR('Level 1'!AD$10/G$111*T$109*AG$109,\"*\")","v":17.049537615237867},{"$f":"IFERROR('Level 1'!AE$10/H$111*U$109*AH$109,\"*\")","v":20.548779961025595},{"$f":"IFERROR('Level 1'!AF$10/I$111*V$109*AI$109,\"*\")","v":24.991408576393656},{"$f":"IFERROR('Level 1'!AG$10/J$111*W$109*AJ$109,\"*\")","v":24.598580853451512},{"$f":"IFERROR('Level 1'!AH$10/K$111*X$109*AK$109,\"*\")","v":25.724438143316821},{"$f":"IFERROR('Level 1'!AI$10/L$111*Y$109*AL$109,\"*\")","v":20.214030845631612},{"$f":"IFERROR('Level 1'!AJ$10/M$111*Z$109*AM$109,\"*\")","v":19.659034739046763},{"$f":"IFERROR('Level 1'!AK$10/N$111*AA$109*AN$109,\"*\")","v":14.33654068772965},{"$f":"IFERROR('Level 1'!AL$10/O$111*AB$109*AO$109,\"*\")","v":"*"},null,{"$f":"'Oversættelse af landenavne'!$B$10","v":"Danmark"},{"$f":"IFERROR('Level 1'!AO$10/E$111*R$109*AE$109,\"*\")","v":18.071177198408844},{"$f":"IFERROR('Level 1'!AP$10/F$111*S$109*AF$109,\"*\")","v":20.836858706925995},{"$f":"IFERROR('Level 1'!AQ$10/G$111*T$109*AG$109,\"*\")","v":16.08733584027048},{"$f":"IFERROR('Level 1'!AR$10/H$111*U$109*AH$109,\"*\")","v":19.480455169022346},{"$f":"IFERROR('Level 1'!AS$10/I$111*V$109*AI$109,\"*\")","v":23.921170336351505},{"$f":"IFERROR('Level 1'!AT$10/J$111*W$109*AJ$109,\"*\")","v":23.62817277013486},{"$f":"IFERROR('Level 1'!AU$10/K$111*X$109*AK$109,\"*\")","v":24.667213100219957},{"$f":"IFERROR('Level 1'!AV$10/L$111*Y$109*AL$109,\"*\")","v":19.640296230248389},{"$f":"IFERROR('Level 1'!AW$10/M$111*Z$109*AM$109,\"*\")","v":18.783479046834533},{"$f":"IFERROR('Level 1'!AX$10/N$111*AA$109*AN$109,\"*\")","v":13.51981187133079},{"$f":"IFERROR('Level 1'!AY$10/O$111*AB$109*AO$109,\"*\")","v":"*"},null,{"$f":"'Oversættelse af landenavne'!$B$10","v":"Danmark"},{"$f":"IFERROR('Level 1'!BB$10/E$111*R$109*AE$109,\"*\")","v":16.577600812957645},{"$f":"IFERROR('Level 1'!BC$10/F$111*S$109*AF$109,\"*\")","v":19.113665807803919},{"$f":"IFERROR('Level 1'!BD$10/G$111*T$109*AG$109,\"*\")","v":14.757823608645523},{"$f":"IFERROR('Level 1'!BE$10/H$111*U$109*AH$109,\"*\")","v":18.106997481269179},{"$f":"IFERROR('Level 1'!BF$10/I$111*V$109*AI$109,\"*\")","v":22.487743972314306},{"$f":"IFERROR('Level 1'!BG$10/J$111*W$109*AJ$109,\"*\")","v":22.361058178664134},{"$f":"IFERROR('Level 1'!BH$10/K$111*X$109*AK$109,\"*\")","v":23.727640338183672},{"$f":"IFERROR('Level 1'!BI$10/L$111*Y$109*AL$109,\"*\")","v":19.072127899586111},{"$f":"IFERROR('Level 1'!BJ$10/M$111*Z$109*AM$109,\"*\")","v":17.871849762769784},{"$f":"IFERROR('Level 1'!BK$10/N$111*AA$109*AN$109,\"*\")","v":12.642761004352424},{"$f":"IFERROR('Level 1'!BL$10/O$111*AB$109*AO$109,\"*\")","v":"*"},null,{"$f":"'Oversættelse af landenavne'!$B$10","v":"Danmark"},{"$f":"IFERROR('Level 1'!BO$10/E$111*R$109*AE$109,\"*\")","v":"*"},{"$f":"IFERROR('Level 1'!BP$10/F$111*S$109*AF$109,\"*\")","v":"*"},{"$f":"IFERROR('Level 1'!BQ$10/G$111*T$109*AG$109,\"*\")","v":"*"},{"$f":"IFERROR('Level 1'!BR$10/H$111*U$109*AH$109,\"*\")","v":"*"},{"$f":"IFERROR('Level 1'!BS$10/I$111*V$109*AI$109,\"*\")","v":"*"},{"$f":"IFERROR('Level 1'!BT$10/J$111*W$109*AJ$109,\"*\")","v":"*"},{"$f":"IFERROR('Level 1'!BU$10/K$111*X$109*AK$109,\"*\")","v":"*"},{"$f":"IFERROR('Level 1'!BV$10/L$111*Y$109*AL$109,\"*\")","v":"*"},{"$f":"IFERROR('Level 1'!BW$10/M$111*Z$109*AM$109,\"*\")","v":"*"},{"$f":"IFERROR('Level 1'!BX$10/N$111*AA$109*AN$109,\"*\")","v":"*"},{"$f":"IFERROR('Level 1'!BY$10/O$111*AB$109*AO$109,\"*\")","v":"*"}]
[null,null,null,{"$f":"'Oversættelse af landenavne'!$B$11","v":"Tyskland"},{"$f":"IFERROR('Level 1'!B$11/E$112*R$109*AE$109,\"*\")","v":35.823461121775672},{"$f":"IFERROR('Level 1'!C$11/F$112*S$109*AF$109,\"*\")","v":40.930877277980365},{"$f":"IFERROR('Level 1'!D$11/G$112*T$109*AG$109,\"*\")","v":33.017043567997241},{"$f":"IFERROR('Level 1'!E$11/H$112*U$109*AH$109,\"*\")","v":32.656421169556729},{"$f":"IFERROR('Level 1'!F$11/I$112*V$109*AI$109,\"*\")","v":35.113185243136648},{"$f":"IFERROR('Level 1'!G$11/J$112*W$109*AJ$109,\"*\")","v":37.212117645715679},{"$f":"IFERROR('Level 1'!H$11/K$112*X$109*AK$109,\"*\")","v":37.210579069935434},{"$f":"IFERROR('Level 1'!I$11/L$112*Y$109*AL$109,\"*\")","v":34.538744657469223},{"$f":"IFERROR('Level 1'!J$11/M$112*Z$109*AM$109,\"*\")","v":32.533283953237408},{"$f":"IFERROR('Level 1'!K$11/N$112*AA$109*AN$109,\"*\")","v":30.006979989829379},{"$f":"IFERROR('Level 1'!L$11/O$112*AB$109*AO$109,\"*\")","v":"*"},null,{"$f":"'Oversættelse af landenavne'!$B$11","v":"Tyskland"},{"$f":"IFERROR('Level 1'!O$11/E$112*R$109*AE$109,\"*\")","v":31.944101541752595},{"$f":"IFERROR('Level 1'!P$11/F$112*S$109*AF$109,\"*\")","v":39.022572794021649},{"$f":"IFERROR('Level 1'!Q$11/G$112*T$109*AG$109,\"*\")","v":31.588563092486211},{"$f":"IFERROR('Level 1'!R$11/H$112*U$109*AH$109,\"*\")","v":31.32797489041964},{"$f":"IFERROR('Level 1'!S$11/I$112*V$109*AI$109,\"*\")","v":32.640222032026116},{"$f":"IFERROR('Level 1'!T$11/J$112*W$109*AJ$109,\"*\")","v":30.715668317060874},{"$f":"IFERROR('Level 1'!U$11/K$112*X$109*AK$109,\"*\")","v":37.224547005021741},{"$f":"IFERROR('Level 1'!V$11/L$112*Y$109*AL$109,\"*\")","v":33.277806360450498},{"$f":"IFERROR('Level 1'!W$11/M$112*Z$109*AM$109,\"*\")","v":28.832052967625899},{"$f":"IFERROR('Level 1'!X$11/N$112*AA$109*AN$109,\"*\")","v":22.931098245502803},{"$f":"IFERROR('Level 1'!Y$11/O$112*AB$109*AO$109,\"*\")","v":"*"},null,{"$f":"'Oversættelse af landenavne'!$B$11","v":"Tyskland"},{"$f":"IFERROR('Level 1'!AB$11/E$112*R$109*AE$109,\"*\")","v":29.883191764865327},{"$f":"IFERROR('Level 1'!AC$11/F$112*S$109*AF$109,\"*\")","v":36.017368882275662},{"$f":"IFERROR('Level 1'!AD$11/G$112*T$109*AG$109,\"*\")","v":28.495976496019026},{"$f":"IFERROR('Level 1'!AE$11/H$112*U$109*AH$109,\"*\")","v":26.94848166249518},{"$f":"IFERROR('Level 1'!AF$11/I$112*V$109*AI$109,\"*\")","v":28.619849092325953},{"$f":"IFERROR('Level 1'!AG$11/J$112*W$109*AJ$109,\"*\")","v":26.81210008010601},{"$f":"IFERROR('Level 1'!AH$11/K$112*X$109*AK$109,\"*\")","v":33.997954000083645},{"$f":"IFERROR('Level 1'!AI$11/L$112*Y$109*AL$109,\"*\")","v":29.303109554630627},{"$f":"IFERROR('Level 1'!AJ$11/M$112*Z$109*AM$109,\"*\")","v":25.761104070143887},{"$f":"IFERROR('Level 1'!AK$11/N$112*AA$109*AN$109,\"*\")","v":21.751784621448373},{"$f":"IFERROR('Level 1'!AL$11/O$112*AB$109*AO$109,\"*\")","v":"*"},null,{"$f":"'Oversættelse af landenavne'!$B$11","v":"Tyskland"},{"$f":"IFERROR('Level 1'!AO$11/E$112*R$109*AE$109,\"*\")","v":23.518617453889952},{"$f":"IFERROR('Level 1'!AP$11/F$112*S$109*AF$109,\"*\")","v":29.300738139523382},{"$f":"IFERROR('Level 1'!AQ$11/G$112*T$109*AG$109,\"*\")","v":24.82905238877937},{"$f":"IFERROR('Level 1'!AR$11/H$112*U$109*AH$109,\"*\")","v":23.649263430792079},{"$f":"IFERROR('Level 1'!AS$11/I$112*V$109*AI$109,\"*\")","v":25.206870625530136},{"$f":"IFERROR('Level 1'!AT$11/J$112*W$109*AJ$109,\"*\")","v":24.290451985430789},{"$f":"IFERROR('Level 1'!AU$11/K$112*X$109*AK$109,\"*\")","v":26.036231000885753},{"$f":"IFERROR('Level 1'!AV$11/L$112*Y$109*AL$109,\"*\")","v":22.532419133682303},{"$f":"IFERROR('Level 1'!AW$11/M$112*Z$109*AM$109,\"*\")","v":19.914231933453237},{"$f":"IFERROR('Level 1'!AX$11/N$112*AA$109*AN$109,\"*\")","v":16.379355889644859},{"$f":"IFERROR('Level 1'!AY$11/O$112*AB$109*AO$109,\"*\")","v":"*"},null,{"$f":"'Oversættelse af landenavne'!$B$11","v":"Tyskland"},{"$f":"IFERROR('Level 1'!BB$11/E$112*R$109*AE$109,\"*\")","v":19.002800442769331},{"$f":"IFERROR('Level 1'!BC$11/F$112*S$109*AF$109,\"*\")","v":25.213660819548842},{"$f":"IFERROR('Level 1'!BD$11/G$112*T$109*AG$109,\"*\")","v":20.897049430413954},{"$f":"IFERROR('Level 1'!BE$11/H$112*U$109*AH$109,\"*\")","v":21.006969183277661},{"$f":"IFERROR('Level 1'!BF$11/I$112*V$109*AI$109,\"*\")","v":23.182222382515675},{"$f":"IFERROR('Level 1'!BG$11/J$112*W$109*AJ$109,\"*\")","v":22.609353255647314},{"$f":"IFERROR('Level 1'!BH$11/K$112*X$109*AK$109,\"*\")","v":22.558215164394035},{"$f":"IFERROR('Level 1'!BI$11/L$112*Y$109*AL$109,\"*\")","v":19.996836688590314},{"$f":"IFERROR('Level 1'!BJ$11/M$112*Z$109*AM$109,\"*\")","v":17.688129239208632},{"$f":"IFERROR('Level 1'!BK$11/N$112*AA$109*AN$109,\"*\")","v":13.208312589409614},{"$f":"IFERROR('Level 1'!BL$11/O$112*AB$109*AO$109,\"*\")","v":"*"},null,{"$f":"'Oversættelse af landenavne'!$B$11","v":"Tyskland"},{"$f":"IFERROR('Level 1'!BO$11/E$112*R$109*AE$109,\"*\")","v":"*"},{"$f":"IFERROR('Level 1'!BP$11/F$112*S$109*AF$109,\"*\")","v":"*"},{"$f":"IFERROR('Level 1'!BQ$11/G$112*T$109*AG$109,\"*\")","v":"*"},{"$f":"IFERROR('Level 1'!BR$11/H$112*U$109*AH$109,\"*\")","v":21.371926952271366},{"$f":"IFERROR('Level 1'!BS$11/I$112*V$109*AI$109,\"*\")","v":22.112051168350877},{"$f":"IFERROR('Level 1'!BT$11/J$112*W$109*AJ$109,\"*\")","v":21.312912709797342},{"$f":"IFERROR('Level 1'!BU$11/K$112*X$109*AK$109,\"*\")","v":21.915690150423686},{"$f":"IFERROR('Level 1'!BV$11/L$112*Y$109*AL$109,\"*\")","v":18.653663285244289},{"$f":"IFERROR('Level 1'!BW$11/M$112*Z$109*AM$109,\"*\")","v":16.481206091726616},{"$f":"IFERROR('Level 1'!BX$11/N$112*AA$109*AN$109,\"*\")","v":12.107619873625481},{"$f":"IFERROR('Level 1'!BY$11/O$112*AB$109*AO$109,\"*\")","v":"*"}]
[null,null,null,{"$f":"'Oversættelse af landenavne'!$B$16","v":"Frankrig"},{"$f":"IFERROR('Level 1'!B$16/E$113*R$109*AE$109,\"*\")","v":32.997891300559424},{"$f":"IFERROR('Level 1'!C$16/F$113*S$109*AF$109,\"*\")","v":32.806031382912778},{"$f":"IFERROR('Level 1'!D$16/G$113*T$109*AG$109,\"*\")","v":33.43095776320942},{"$f":"IFERROR('Level 1'!E$16/H$113*U$109*AH$109,\"*\")","v":33.75162920617155},{"$f":"IFERROR('Level 1'!F$16/I$113*V$109*AI$109,\"*\")","v":37.75932779886228},{"$f":"IFERROR('Level 1'!G$16/J$113*W$109*AJ$109,\"*\")","v":44.019565659951837},{"$f":"IFERROR('Level 1'!H$16/K$113*X$109*AK$109,\"*\")","v":45.191721510202271},{"$f":"IFERROR('Level 1'!I$16/L$113*Y$109*AL$109,\"*\")","v":42.009860329608358},{"$f":"IFERROR('Level 1'!J$16/M$113*Z$109*AM$109,\"*\")","v":37.816925287769784},{"$f":"IFERROR('Level 1'!K$16/N$113*AA$109*AN$109,\"*\")","v":30.670133161470908},{"$f":"IFERROR('Level 1'!L$16/O$113*AB$109*AO$109,\"*\")","v":"*"},null,{"$f":"'Oversættelse af landenavne'!$B$16","v":"Frankrig"},{"$f":"IFERROR('Level 1'!O$16/E$113*R$109*AE$109,\"*\")","v":27.723992516277871},{"$f":"IFERROR('Level 1'!P$16/F$113*S$109*AF$109,\"*\")","v":29.879381398371493},{"$f":"IFERROR('Level 1'!Q$16/G$113*T$109*AG$109,\"*\")","v":28.819307824385149},{"$f":"IFERROR('Level 1'!R$16/H$113*U$109*AH$109,\"*\")","v":29.04500547071612},{"$f":"IFERROR('Level 1'!S$16/I$113*V$109*AI$109,\"*\")","v":32.980714990374231},{"$f":"IFERROR('Level 1'!T$16/J$113*W$109*AJ$109,\"*\")","v":36.728568613104621},{"$f":"IFERROR('Level 1'!U$16/K$113*X$109*AK$109,\"*\")","v":36.708912681984131},{"$f":"IFERROR('Level 1'!V$16/L$113*Y$109*AL$109,\"*\")","v":35.073822000551857},{"$f":"IFERROR('Level 1'!W$16/M$113*Z$109*AM$109,\"*\")","v":30.374232544964027},{"$f":"IFERROR('Level 1'!X$16/N$113*AA$109*AN$109,\"*\")","v":25.509929566572872},{"$f":"IFERROR('Level 1'!Y$16/O$113*AB$109*AO$109,\"*\")","v":"*"},null,{"$f":"'Oversættelse af landenavne'!$B$16","v":"Frankrig"},{"$f":"IFERROR('Level 1'!AB$16/E$113*R$109*AE$109,\"*\")","v":24.035145279184768},{"$f":"IFERROR('Level 1'!AC$16/F$113*S$109*AF$109,\"*\")","v":27.644331698361583},{"$f":"IFERROR('Level 1'!AD$16/G$113*T$109*AG$109,\"*\")","v":25.595358019128049},{"$f":"IFERROR('Level 1'!AE$16/H$113*U$109*AH$109,\"*\")","v":25.449089401444855},{"$f":"IFERROR('Level 1'!AF$16/I$113*V$109*AI$109,\"*\")","v":27.677283434133145},{"$f":"IFERROR('Level 1'!AG$16/J$113*W$109*AJ$109,\"*\")","v":29.246063201049413},{"$f":"IFERROR('Level 1'!AH$16/K$113*X$109*AK$109,\"*\")","v":29.233692703345664},{"$f":"IFERROR('Level 1'!AI$16/L$113*Y$109*AL$109,\"*\")","v":27.635565632013773},{"$f":"IFERROR('Level 1'!AJ$16/M$113*Z$109*AM$109,\"*\")","v":25.27833481115108},{"$f":"IFERROR('Level 1'!AK$16/N$113*AA$109*AN$109,\"*\")","v":20.958365370047421},{"$f":"IFERROR('Level 1'!AL$16/O$113*AB$109*AO$109,\"*\")","v":"*"},null,{"$f":"'Oversættelse af landenavne'!$B$16","v":"Frankrig"},{"$f":"IFERROR('Level 1'!AO$16/E$113*R$109*AE$109,\"*\")","v":21.066776018086408},{"$f":"IFERROR('Level 1'!AP$16/F$113*S$109*AF$109,\"*\")","v":24.423892162057992},{"$f":"IFERROR('Level 1'!AQ$16/G$113*T$109*AG$109,\"*\")","v":21.670549560554203},{"$f":"IFERROR('Level 1'!AR$16/H$113*U$109*AH$109,\"*\")","v":20.548091824407198},{"$f":"IFERROR('Level 1'!AS$16/I$113*V$109*AI$109,\"*\")","v":20.79939563463299},{"$f":"IFERROR('Level 1'!AT$16/J$113*W$109*AJ$109,\"*\")","v":22.693741277147321},{"$f":"IFERROR('Level 1'!AU$16/K$113*X$109*AK$109,\"*\")","v":23.937043210284898},{"$f":"IFERROR('Level 1'!AV$16/L$113*Y$109*AL$109,\"*\")","v":22.62695869772444},{"$f":"IFERROR('Level 1'!AW$16/M$113*Z$109*AM$109,\"*\")","v":20.879770451438851},{"$f":"IFERROR('Level 1'!AX$16/N$113*AA$109*AN$109,\"*\")","v":15.824624357687322},{"$f":"IFERROR('Level 1'!AY$16/O$113*AB$109*AO$109,\"*\")","v":"*"},null,{"$f":"'Oversættelse af landenavne'!$B$16","v":"Frankrig"},{"$f":"IFERROR('Level 1'!BB$16/E$113*R$109*AE$109,\"*\")","v":19.712277423216282},{"$f":"IFERROR('Level 1'!BC$16/F$113*S$109*AF$109,\"*\")","v":23.920654556646955},{"$f":"IFERROR('Level 1'!BD$16/G$113*T$109*AG$109,\"*\")","v":19.301647312343551},{"$f":"IFERROR('Level 1'!BE$16/H$113*U$109*AH$109,\"*\")","v":17.618600354846439},{"$f":"IFERROR('Level 1'!BF$16/I$113*V$109*AI$109,\"*\")","v":21.324214382386014},{"$f":"IFERROR('Level 1'!BG$16/J$113*W$109*AJ$109,\"*\")","v":23.268266372771304},{"$f":"IFERROR('Level 1'!BH$16/K$113*X$109*AK$109,\"*\")","v":22.357579608241078},{"$f":"IFERROR('Level 1'!BI$16/L$113*Y$109*AL$109,\"*\")","v":20.550219237165447},{"$f":"IFERROR('Level 1'!BJ$16/M$113*Z$109*AM$109,\"*\")","v":18.170898498201442},{"$f":"IFERROR('Level 1'!BK$16/N$113*AA$109*AN$109,\"*\")","v":12.199250549989726},{"$f":"IFERROR('Level 1'!BL$16/O$113*AB$109*AO$109,\"*\")","v":"*"},null,{"$f":"'Oversættelse af landenavne'!$B$16","v":"Frankrig"},{"$f":"IFERROR('Level 1'!BO$16/E$113*R$109*AE$109,\"*\")","v":"*"},{"$f":"IFERROR('Level 1'!BP$16/F$113*S$109*AF$109,\"*\")","v":"*"},{"$f":"IFERROR('Level 1'!BQ$16/G$113*T$109*AG$109,\"*\")","v":"*"},{"$f":"IFERROR('Level 1'!BR$16/H$113*U$109*AH$109,\"*\")","v":"*"},{"$f":"IFERROR('Level 1'!BS$16/I$113*V$109*AI$109,\"*\")","v":"*"},{"$f":"IFERROR('Level 1'!BT$16/J$113*W$109*AJ$109,\"*\")","v":"*"},{"$f":"IFERROR('Level 1'!BU$16/K$113*X$109*AK$109,\"*\")","v":"*"},{"$f":"IFERROR('Level 1'!BV$16/L$113*Y$109*AL$109,\"*\")","v":"*"},{"$f":"IFERROR('Level 1'!BW$16/M$113*Z$109*AM$109,\"*\")","v":"*"},{"$f":"IFERROR('Level 1'!BX$16/N$113*AA$109*AN$109,\"*\")","v":"*"},{"$f":"IFERROR('Level 1'!BY$16/O$113*AB$109*AO$109,\"*\")","v":"*"}]
[null,null,null,{"$f":"'Oversættelse af landenavne'!$B$18","v":"Italien"},{"$f":"IFERROR('Level 1'!B$18/E$114*R$109*AE$109,\"*\")","v":28.715323280716127},{"$f":"IFERROR('Level 1'!C$18/F$114*S$109*AF$109,\"*\")","v":31.900993431037744},{"$f":"IFERROR('Level 1'!D$18/G$114*T$109*AG$109,\"*\")","v":32.736280412389121},{"$f":"IFERROR('Level 1'!E$18/H$114*U$109*AH$109,\"*\")","v":30.068042342511998},{"$f":"IFERROR('Level 1'!F$18/I$114*V$109*AI$109,\"*\")","v":33.989441361478718},{"$f":"IFERROR('Level 1'!G$18/J$114*W$109*AJ$109,\"*\")","v":39.474806844571646},{"$f":"IFERROR('Level 1'!H$18/K$114*X$109*AK$109,\"*\")","v":40.443699913850274},{"$f":"IFERROR('Level 1'!I$18/L$114*Y$109*AL$109,\"*\")","v":37.775786400930059},{"$f":"IFERROR('Level 1'!J$18/M$114*Z$109*AM$109,\"*\")","v":36.489309825539564},{"$f":"IFERROR('Level 1'!K$18/N$114*AA$109*AN$109,\"*\")","v":32.464364325616195},{"$f":"IFERROR('Level 1'!L$18/O$114*AB$109*AO$109,\"*\")","v":"*"},null,{"$f":"'Oversættelse af landenavne'!$B$18","v":"Italien"},{"$f":"IFERROR('Level 1'!O$18/E$114*R$109*AE$109,\"*\")","v":28.288011922372139},{"$f":"IFERROR('Level 1'!P$18/F$114*S$109*AF$109,\"*\")","v":31.637479052078785},{"$f":"IFERROR('Level 1'!Q$18/G$114*T$109*AG$109,\"*\")","v":30.45404914691424},{"$f":"IFERROR('Level 1'!R$18/H$114*U$109*AH$109,\"*\")","v":26.373996671290719},{"$f":"IFERROR('Level 1'!S$18/I$114*V$109*AI$109,\"*\")","v":29.478796836170197},{"$f":"IFERROR('Level 1'!T$18/J$114*W$109*AJ$109,\"*\")","v":34.640035790539208},{"$f":"IFERROR('Level 1'!U$18/K$114*X$109*AK$109,\"*\")","v":34.790279495785185},{"$f":"IFERROR('Level 1'!V$18/L$114*Y$109*AL$109,\"*\")","v":31.556437172430478},{"$f":"IFERROR('Level 1'!W$18/M$114*Z$109*AM$109,\"*\")","v":29.851232514388482},{"$f":"IFERROR('Level 1'!X$18/N$114*AA$109*AN$109,\"*\")","v":27.177614324963479},{"$f":"IFERROR('Level 1'!Y$18/O$114*AB$109*AO$109,\"*\")","v":"*"},null,{"$f":"'Oversættelse af landenavne'!$B$18","v":"Italien"},{"$f":"IFERROR('Level 1'!AB$18/E$114*R$109*AE$109,\"*\")","v":23.684837151797574},{"$f":"IFERROR('Level 1'!AC$18/F$114*S$109*AF$109,\"*\")","v":28.064281359129769},{"$f":"IFERROR('Level 1'!AD$18/G$114*T$109*AG$109,\"*\")","v":24.967161448469088},{"$f":"IFERROR('Level 1'!AE$18/H$114*U$109*AH$109,\"*\")","v":22.074346707830429},{"$f":"IFERROR('Level 1'!AF$18/I$114*V$109*AI$109,\"*\")","v":23.871718718555908},{"$f":"IFERROR('Level 1'!AG$18/J$114*W$109*AJ$109,\"*\")","v":28.761393713477041},{"$f":"IFERROR('Level 1'!AH$18/K$114*X$109*AK$109,\"*\")","v":27.587604443923404},{"$f":"IFERROR('Level 1'!AI$18/L$114*Y$109*AL$109,\"*\")","v":25.12076275337439},{"$f":"IFERROR('Level 1'!AJ$18/M$114*Z$109*AM$109,\"*\")","v":23.427719318345321},{"$f":"IFERROR('Level 1'!AK$18/N$114*AA$109*AN$109,\"*\")","v":21.253266334282291},{"$f":"IFERROR('Level 1'!AL$18/O$114*AB$109*AO$109,\"*\")","v":"*"},null,{"$f":"'Oversættelse af landenavne'!$B$18","v":"Italien"},{"$f":"IFERROR('Level 1'!AO$18/E$114*R$109*AE$109,\"*\")","v":21.371461866969764},{"$f":"IFERROR('Level 1'!AP$18/F$114*S$109*AF$109,\"*\")","v":26.483195085375979},{"$f":"IFERROR('Level 1'!AQ$18/G$114*T$109*AG$109,\"*\")","v":22.204091531852999},{"$f":"IFERROR('Level 1'!AR$18/H$114*U$109*AH$109,\"*\")","v":20.135288881171871},{"$f":"IFERROR('Level 1'!AS$18/I$114*V$109*AI$109,\"*\")","v":21.956429658578745},{"$f":"IFERROR('Level 1'!AT$18/J$114*W$109*AJ$109,\"*\")","v":26.261597316221632},{"$f":"IFERROR('Level 1'!AU$18/K$114*X$109*AK$109,\"*\")","v":24.706534423178699},{"$f":"IFERROR('Level 1'!AV$18/L$114*Y$109*AL$109,\"*\")","v":22.376136898188705},{"$f":"IFERROR('Level 1'!AW$18/M$114*Z$109*AM$109,\"*\")","v":20.718847365107912},{"$f":"IFERROR('Level 1'!AX$18/N$114*AA$109*AN$109,\"*\")","v":18.065276384139946},{"$f":"IFERROR('Level 1'!AY$18/O$114*AB$109*AO$109,\"*\")","v":"*"},null,{"$f":"'Oversættelse af landenavne'!$B$18","v":"Italien"},{"$f":"IFERROR('Level 1'!BB$18/E$114*R$109*AE$109,\"*\")","v":20.674502306636288},{"$f":"IFERROR('Level 1'!BC$18/F$114*S$109*AF$109,\"*\")","v":26.182444978955427},{"$f":"IFERROR('Level 1'!BD$18/G$114*T$109*AG$109,\"*\")","v":21.6531597828778},{"$f":"IFERROR('Level 1'!BE$18/H$114*U$109*AH$109,\"*\")","v":20.093135450157554},{"$f":"IFERROR('Level 1'!BF$18/I$114*V$109*AI$109,\"*\")","v":21.789882783798124},{"$f":"IFERROR('Level 1'!BG$18/J$114*W$109*AJ$109,\"*\")","v":26.536300217018933},{"$f":"IFERROR('Level 1'!BH$18/K$114*X$109*AK$109,\"*\")","v":24.353195647049631},{"$f":"IFERROR('Level 1'!BI$18/L$114*Y$109*AL$109,\"*\")","v":21.578437758011589},{"$f":"IFERROR('Level 1'!BJ$18/M$114*Z$109*AM$109,\"*\")","v":19.739898589928053},{"$f":"IFERROR('Level 1'!BK$18/N$114*AA$109*AN$109,\"*\")","v":17.188579147850799},{"$f":"IFERROR('Level 1'!BL$18/O$114*AB$109*AO$109,\"*\")","v":"*"},null,{"$f":"'Oversættelse af landenavne'!$B$18","v":"Italien"},{"$f":"IFERROR('Level 1'!BO$18/E$114*R$109*AE$109,\"*\")","v":19.578227649367566},{"$f":"IFERROR('Level 1'!BP$18/F$114*S$109*AF$109,\"*\")","v":25.506473311191126},{"$f":"IFERROR('Level 1'!BQ$18/G$114*T$109*AG$109,\"*\")","v":20.657837793635068},{"$f":"IFERROR('Level 1'!BR$18/H$114*U$109*AH$109,\"*\")","v":19.812112576728779},{"$f":"IFERROR('Level 1'!BS$18/I$114*V$109*AI$109,\"*\")","v":21.803761690029837},{"$f":"IFERROR('Level 1'!BT$18/J$114*W$109*AJ$109,\"*\")","v":25.629780644387854},{"$f":"IFERROR('Level 1'!BU$18/K$114*X$109*AK$109,\"*\")","v":23.021380260101601},{"$f":"IFERROR('Level 1'!BV$18/L$114*Y$109*AL$109,\"*\")","v":20.970023159571411},{"$f":"IFERROR('Level 1'!BW$18/M$114*Z$109*AM$109,\"*\")","v":19.337590874100719},{"$f":"IFERROR('Level 1'!BX$18/N$114*AA$109*AN$109,\"*\")","v":16.52441457490448},{"$f":"IFERROR('Level 1'!BY$18/O$114*AB$109*AO$109,\"*\")","v":"*"}]
[null,null,null,{"$f":"'Oversættelse af landenavne'!$B$23","v":"Holland"},{"$f":"IFERROR('Level 1'!B$23/E$115*R$109*AE$109,\"*\")","v":33.630586096034548},{"$f":"IFERROR('Level 1'!C$23/F$115*S$109*AF$109,\"*\")","v":33.918974555107013},{"$f":"IFERROR('Level 1'!D$23/G$115*T$109*AG$109,\"*\")","v":33.800586591486983},{"$f":"IFERROR('Level 1'!E$23/H$115*U$109*AH$109,\"*\")","v":29.110703427870394},{"$f":"IFERROR('Level 1'!F$23/I$115*V$109*AI$109,\"*\")","v":30.459641775600058},{"$f":"IFERROR('Level 1'!G$23/J$115*W$109*AJ$109,\"*\")","v":33.730820598231851},{"$f":"IFERROR('Level 1'!H$23/K$115*X$109*AK$109,\"*\")","v":33.239471686480442},{"$f":"IFERROR('Level 1'!I$23/L$115*Y$109*AL$109,\"*\")","v":32.113012697131907},{"$f":"IFERROR('Level 1'!J$23/M$115*Z$109*AM$109,\"*\")","v":30.079206886690649},{"$f":"IFERROR('Level 1'!K$23/N$115*AA$109*AN$109,\"*\")","v":27.054022287988253},{"$f":"IFERROR('Level 1'!L$23/O$115*AB$109*AO$109,\"*\")","v":"*"},null,{"$f":"'Oversættelse af landenavne'!$B$23","v":"Holland"},{"$f":"IFERROR('Level 1'!O$23/E$115*R$109*AE$109,\"*\")","v":31.344453907377222},{"$f":"IFERROR('Level 1'!P$23/F$115*S$109*AF$109,\"*\")","v":30.352989647409494},{"$f":"IFERROR('Level 1'!Q$23/G$115*T$109*AG$109,\"*\")","v":31.78764843219248},{"$f":"IFERROR('Level 1'!R$23/H$115*U$109*AH$109,\"*\")","v":26.558836143102329},{"$f":"IFERROR('Level 1'!S$23/I$115*V$109*AI$109,\"*\")","v":27.797715867127046},{"$f":"IFERROR('Level 1'!T$23/J$115*W$109*AJ$109,\"*\")","v":28.504726630140105},{"$f":"IFERROR('Level 1'!U$23/K$115*X$109*AK$109,\"*\")","v":28.582143750016876},{"$f":"IFERROR('Level 1'!V$23/L$115*Y$109*AL$109,\"*\")","v":28.461050279623411},{"$f":"IFERROR('Level 1'!W$23/M$115*Z$109*AM$109,\"*\")","v":26.404796415467622},{"$f":"IFERROR('Level 1'!X$23/N$115*AA$109*AN$109,\"*\")","v":22.842657242173331},{"$f":"IFERROR('Level 1'!Y$23/O$115*AB$109*AO$109,\"*\")","v":"*"},null,{"$f":"'Oversættelse af landenavne'!$B$23","v":"Holland"},{"$f":"IFERROR('Level 1'!AB$23/E$115*R$109*AE$109,\"*\")","v":24.586704670465618},{"$f":"IFERROR('Level 1'!AC$23/F$115*S$109*AF$109,\"*\")","v":24.288007442191688},{"$f":"IFERROR('Level 1'!AD$23/G$115*T$109*AG$109,\"*\")","v":24.364938969793968},{"$f":"IFERROR('Level 1'!AE$23/H$115*U$109*AH$109,\"*\")","v":20.317856370571761},{"$f":"IFERROR('Level 1'!AF$23/I$115*V$109*AI$109,\"*\")","v":21.475641834503637},{"$f":"IFERROR('Level 1'!AG$23/J$115*W$109*AJ$109,\"*\")","v":22.691891041609857},{"$f":"IFERROR('Level 1'!AH$23/K$115*X$109*AK$109,\"*\")","v":22.838558568897103},{"$f":"IFERROR('Level 1'!AI$23/L$115*Y$109*AL$109,\"*\")","v":21.817443372495408},{"$f":"IFERROR('Level 1'!AJ$23/M$115*Z$109*AM$109,\"*\")","v":19.632616532374101},{"$f":"IFERROR('Level 1'!AK$23/N$115*AA$109*AN$109,\"*\")","v":16.765497555807496},{"$f":"IFERROR('Level 1'!AL$23/O$115*AB$109*AO$109,\"*\")","v":"*"},null,{"$f":"'Oversættelse af landenavne'!$B$23","v":"Holland"},{"$f":"IFERROR('Level 1'!AO$23/E$115*R$109*AE$109,\"*\")","v":21.250964621607128},{"$f":"IFERROR('Level 1'!AP$23/F$115*S$109*AF$109,\"*\")","v":22.982351550790632},{"$f":"IFERROR('Level 1'!AQ$23/G$115*T$109*AG$109,\"*\")","v":21.848766270675828},{"$f":"IFERROR('Level 1'!AR$23/H$115*U$109*AH$109,\"*\")","v":18.279136311545109},{"$f":"IFERROR('Level 1'!AS$23/I$115*V$109*AI$109,\"*\")","v":19.631703574988478},{"$f":"IFERROR('Level 1'!AT$23/J$115*W$109*AJ$109,\"*\")","v":21.218214413531769},{"$f":"IFERROR('Level 1'!AU$23/K$115*X$109*AK$109,\"*\")","v":22.295429946568991},{"$f":"IFERROR('Level 1'!AV$23/L$115*Y$109*AL$109,\"*\")","v":19.715206704114134},{"$f":"IFERROR('Level 1'!AW$23/M$115*Z$109*AM$109,\"*\")","v":18.5195651852518},{"$f":"IFERROR('Level 1'!AX$23/N$115*AA$109*AN$109,\"*\")","v":15.112936588462405},{"$f":"IFERROR('Level 1'!AY$23/O$115*AB$109*AO$109,\"*\")","v":"*"},null,{"$f":"'Oversættelse af landenavne'!$B$23","v":"Holland"},{"$f":"IFERROR('Level 1'!BB$23/E$115*R$109*AE$109,\"*\")","v":19.525581837714803},{"$f":"IFERROR('Level 1'!BC$23/F$115*S$109*AF$109,\"*\")","v":22.168071532497503},{"$f":"IFERROR('Level 1'!BD$23/G$115*T$109*AG$109,\"*\")","v":19.262699885471079},{"$f":"IFERROR('Level 1'!BE$23/H$115*U$109*AH$109,\"*\")","v":16.351367004030106},{"$f":"IFERROR('Level 1'!BF$23/I$115*V$109*AI$109,\"*\")","v":18.106641856592478},{"$f":"IFERROR('Level 1'!BG$23/J$115*W$109*AJ$109,\"*\")","v":19.116860703124118},{"$f":"IFERROR('Level 1'!BH$23/K$115*X$109*AK$109,\"*\")","v":20.584574786235436},{"$f":"IFERROR('Level 1'!BI$23/L$115*Y$109*AL$109,\"*\")","v":19.283978669574388},{"$f":"IFERROR('Level 1'!BJ$23/M$115*Z$109*AM$109,\"*\")","v":18.197719012589928},{"$f":"IFERROR('Level 1'!BK$23/N$115*AA$109*AN$109,\"*\")","v":14.579852405447856},{"$f":"IFERROR('Level 1'!BL$23/O$115*AB$109*AO$109,\"*\")","v":"*"},null,{"$f":"'Oversættelse af landenavne'!$B$23","v":"Holland"},{"$f":"IFERROR('Level 1'!BO$23/E$115*R$109*AE$109,\"*\")","v":17.736935018413092},{"$f":"IFERROR('Level 1'!BP$23/F$115*S$109*AF$109,\"*\")","v":"*"},{"$f":"IFERROR('Level 1'!BQ$23/G$115*T$109*AG$109,\"*\")","v":"*"},{"$f":"IFERROR('Level 1'!BR$23/H$115*U$109*AH$109,\"*\")","v":"*"},{"$f":"IFERROR('Level 1'!BS$23/I$115*V$109*AI$109,\"*\")","v":"*"},{"$f":"IFERROR('Level 1'!BT$23/J$115*W$109*AJ$109,\"*\")","v":"*"},{"$f":"IFERROR('Level 1'!BU$23/K$115*X$109*AK$109,\"*\")","v":"*"},{"$f":"IFERROR('Level 1'!BV$23/L$115*Y$109*AL$109,\"*\")","v":"*"},{"$f":"IFERROR('Level 1'!BW$23/M$115*Z$109*AM$109,\"*\")","v":"*"},{"$f":"IFERROR('Level 1'!BX$23/N$115*AA$109*AN$109,\"*\")","v":"*"},{"$f":"IFERROR('Level 1'!BY$23/O$115*AB$109*AO$109,\"*\")","v":"*"}]
[null,null,null,{"$f":"'Oversættelse af landenavne'!$B$31","v":"Sverige"},{"$f":"IFERROR('Level 1'!B$31/E$116*R$109*AE$109,\"*\")","v":41.636784537787001},{"$f":"IFERROR('Level 1'!C$31/F$116*S$109*AF$109,\"*\")","v":49.696424326248909},{"$f":"IFERROR('Level 1'!D$31/G$116*T$109*AG$109,\"*\")","v":44.003594401998093},{"$f":"IFERROR('Level 1'!E$31/H$116*U$109*AH$109,\"*\")","v":44.57685714598891},{"$f":"IFERROR('Level 1'!F$31/I$116*V$109*AI$109,\"*\")","v":44.265502099949757},{"$f":"IFERROR('Level 1'!G$31/J$116*W$109*AJ$109,\"*\")","v":47.167890566589136},{"$f":"IFERROR('Level 1'!H$31/K$116*X$109*AK$109,\"*\")","v":47.210141663058707},{"$f":"IFERROR('Level 1'!I$31/L$116*Y$109*AL$109,\"*\")","v":42.552680901845228},{"$f":"IFERROR('Level 1'!J$31/M$116*Z$109*AM$109,\"*\")","v":44.327336950431658},{"$f":"IFERROR('Level 1'!K$31/N$116*AA$109*AN$109,\"*\")","v":39.001047324501307},{"$f":"IFERROR('Level 1'!L$31/O$116*AB$109*AO$109,\"*\")","v":"*"},null,{"$f":"'Oversættelse af landenavne'!$B$31","v":"Sverige"},{"$f":"IFERROR('Level 1'!O$31/E$116*R$109*AE$109,\"*\")","v":37.1705145860359},{"$f":"IFERROR('Level 1'!P$31/F$116*S$109*AF$109,\"*\")","v":43.979762591148422},{"$f":"IFERROR('Level 1'!Q$31/G$116*T$109*AG$109,\"*\")","v":39.592426587367328},{"$f":"IFERROR('Level 1'!R$31/H$116*U$109*AH$109,\"*\")","v":37.730593173296249},{"$f":"IFERROR('Level 1'!S$31/I$116*V$109*AI$109,\"*\")","v":38.988587754747904},{"$f":"IFERROR('Level 1'!T$31/J$116*W$109*AJ$109,\"*\")","v":38.973257073171126},{"$f":"IFERROR('Level 1'!U$31/K$116*X$109*AK$109,\"*\")","v":39.109890993860553},{"$f":"IFERROR('Level 1'!V$31/L$116*Y$109*AL$109,\"*\")","v":34.715896057004684},{"$f":"IFERROR('Level 1'!W$31/M$116*Z$109*AM$109,\"*\")","v":34.26267072100719},{"$f":"IFERROR('Level 1'!X$31/N$116*AA$109*AN$109,\"*\")","v":29.834029544621668},{"$f":"IFERROR('Level 1'!Y$31/O$116*AB$109*AO$109,\"*\")","v":"*"},null,{"$f":"'Oversættelse af landenavne'!$B$31","v":"Sverige"},{"$f":"IFERROR('Level 1'!AB$31/E$116*R$109*AE$109,\"*\")","v":32.139676519656021},{"$f":"IFERROR('Level 1'!AC$31/F$116*S$109*AF$109,\"*\")","v":38.81939670214323},{"$f":"IFERROR('Level 1'!AD$31/G$116*T$109*AG$109,\"*\")","v":32.328243351299079},{"$f":"IFERROR('Level 1'!AE$31/H$116*U$109*AH$109,\"*\")","v":32.254286192353561},{"$f":"IFERROR('Level 1'!AF$31/I$116*V$109*AI$109,\"*\")","v":34.045610121069821},{"$f":"IFERROR('Level 1'!AG$31/J$116*W$109*AJ$109,\"*\")","v":32.532896504140169},{"$f":"IFERROR('Level 1'!AH$31/K$116*X$109*AK$109,\"*\")","v":32.796803494160969},{"$f":"IFERROR('Level 1'!AI$31/L$116*Y$109*AL$109,\"*\")","v":28.318319665556032},{"$f":"IFERROR('Level 1'!AJ$31/M$116*Z$109*AM$109,\"*\")","v":25.747425607805756},{"$f":"IFERROR('Level 1'!AK$31/N$116*AA$109*AN$109,\"*\")","v":21.389168424607142},{"$f":"IFERROR('Level 1'!AL$31/O$116*AB$109*AO$109,\"*\")","v":"*"},null,{"$f":"'Oversættelse af landenavne'!$B$31","v":"Sverige"},{"$f":"IFERROR('Level 1'!AO$31/E$116*R$109*AE$109,\"*\")","v":26.822681249089822},{"$f":"IFERROR('Level 1'!AP$31/F$116*S$109*AF$109,\"*\")","v":33.291273575689139},{"$f":"IFERROR('Level 1'!AQ$31/G$116*T$109*AG$109,\"*\")","v":27.170210273017577},{"$f":"IFERROR('Level 1'!AR$31/H$116*U$109*AH$109,\"*\")","v":29.355927836280269},{"$f":"IFERROR('Level 1'!AS$31/I$116*V$109*AI$109,\"*\")","v":30.551981003758399},{"$f":"IFERROR('Level 1'!AT$31/J$116*W$109*AJ$109,\"*\")","v":28.791276423487414},{"$f":"IFERROR('Level 1'!AU$31/K$116*X$109*AK$109,\"*\")","v":27.831888355119755},{"$f":"IFERROR('Level 1'!AV$31/L$116*Y$109*AL$109,\"*\")","v":24.202606746312163},{"$f":"IFERROR('Level 1'!AW$31/M$116*Z$109*AM$109,\"*\")","v":23.272964950323743},{"$f":"IFERROR('Level 1'!AX$31/N$116*AA$109*AN$109,\"*\")","v":18.943658838770961},{"$f":"IFERROR('Level 1'!AY$31/O$116*AB$109*AO$109,\"*\")","v":"*"},null,{"$f":"'Oversættelse af landenavne'!$B$31","v":"Sverige"},{"$f":"IFERROR('Level 1'!BB$31/E$116*R$109*AE$109,\"*\")","v":26.029065860621891},{"$f":"IFERROR('Level 1'!BC$31/F$116*S$109*AF$109,\"*\")","v":35.558014902980965},{"$f":"IFERROR('Level 1'!BD$31/G$116*T$109*AG$109,\"*\")","v":26.755010523536022},{"$f":"IFERROR('Level 1'!BE$31/H$116*U$109*AH$109,\"*\")","v":27.173503311834722},{"$f":"IFERROR('Level 1'!BF$31/I$116*V$109*AI$109,\"*\")","v":27.782682729665741},{"$f":"IFERROR('Level 1'!BG$31/J$116*W$109*AJ$109,\"*\")","v":27.972441236028274},{"$f":"IFERROR('Level 1'!BH$31/K$116*X$109*AK$109,\"*\")","v":27.272996972939957},{"$f":"IFERROR('Level 1'!BI$31/L$116*Y$109*AL$109,\"*\")","v":23.752196924220414},{"$f":"IFERROR('Level 1'!BJ$31/M$116*Z$109*AM$109,\"*\")","v":22.41926797733813},{"$f":"IFERROR('Level 1'!BK$31/N$116*AA$109*AN$109,\"*\")","v":18.87403386932208},{"$f":"IFERROR('Level 1'!BL$31/O$116*AB$109*AO$109,\"*\")","v":"*"},null,{"$f":"'Oversættelse af landenavne'!$B$31","v":"Sverige"},{"$f":"IFERROR('Level 1'!BO$31/E$116*R$109*AE$109,\"*\")","v":"*"},{"$f":"IFERROR('Level 1'!BP$31/F$116*S$109*AF$109,\"*\")","v":"*"},{"$f":"IFERROR('Level 1'!BQ$31/G$116*T$109*AG$109,\"*\")","v":"*"},{"$f":"IFERROR('Level 1'!BR$31/H$116*U$109*AH$109,\"*\")","v":"*"},{"$f":"IFERROR('Level 1'!BS$31/I$116*V$109*AI$109,\"*\")","v":"*"},{"$f":"IFERROR('Level 1'!BT$31/J$116*W$109*AJ$109,\"*\")","v":"*"},{"$f":"IFERROR('Level 1'!BU$31/K$116*X$109*AK$109,\"*\")","v":"*"},{"$f":"IFERROR('Level 1'!BV$31/L$116*Y$109*AL$109,\"*\")","v":"*"},{"$f":"IFERROR('Level 1'!BW$31/M$116*Z$109*AM$109,\"*\")","v":"*"},{"$f":"IFERROR('Level 1'!BX$31/N$116*AA$109*AN$109,\"*\")","v":"*"},{"$f":"IFERROR('Level 1'!BY$31/O$116*AB$109*AO$109,\"*\")","v":"*"}]
[null,null,null,{"$f":"'Oversættelse af landenavne'!$B$32","v":"UK"},{"$f":"IFERROR('Level 1'!B$32/E$117*R$109*AE$109,\"*\")","v":32.177415585700061},{"$f":"IFERROR('Level 1'!C$32/F$117*S$109*AF$109,\"*\")","v":36.760090416461857},{"$f":"IFERROR('Level 1'!D$32/G$117*T$109*AG$109,\"*\")","v":38.775314055605776},{"$f":"IFERROR('Level 1'!E$32/H$117*U$109*AH$109,\"*\")","v":34.259772798514959},{"$f":"IFERROR('Level 1'!F$32/I$117*V$109*AI$109,\"*\")","v":36.380281623685917},{"$f":"IFERROR('Level 1'!G$32/J$117*W$109*AJ$109,\"*\")","v":42.415099568080429},{"$f":"IFERROR('Level 1'!H$32/K$117*X$109*AK$109,\"*\")","v":43.599599270381511},{"$f":"IFERROR('Level 1'!I$32/L$117*Y$109*AL$109,\"*\")","v":45.268454768795536},{"$f":"IFERROR('Level 1'!J$32/M$117*Z$109*AM$109,\"*\")","v":43.319958430000007},{"$f":"IFERROR('Level 1'!K$32/N$117*AA$109*AN$109,\"*\")","v":33.265357683463542},{"$f":"IFERROR('Level 1'!L$32/O$117*AB$109*AO$109,\"*\")","v":"*"},null,{"$f":"'Oversættelse af landenavne'!$B$32","v":"UK"},{"$f":"IFERROR('Level 1'!O$32/E$117*R$109*AE$109,\"*\")","v":27.585326984965661},{"$f":"IFERROR('Level 1'!P$32/F$117*S$109*AF$109,\"*\")","v":29.423650749377718},{"$f":"IFERROR('Level 1'!Q$32/G$117*T$109*AG$109,\"*\")","v":27.669910750692669},{"$f":"IFERROR('Level 1'!R$32/H$117*U$109*AH$109,\"*\")","v":25.099627950889435},{"$f":"IFERROR('Level 1'!S$32/I$117*V$109*AI$109,\"*\")","v":27.310246602264119},{"$f":"IFERROR('Level 1'!T$32/J$117*W$109*AJ$109,\"*\")","v":30.90546203837291},{"$f":"IFERROR('Level 1'!U$32/K$117*X$109*AK$109,\"*\")","v":32.925361206216522},{"$f":"IFERROR('Level 1'!V$32/L$117*Y$109*AL$109,\"*\")","v":32.14858790465852},{"$f":"IFERROR('Level 1'!W$32/M$117*Z$109*AM$109,\"*\")","v":28.281830114946043},{"$f":"IFERROR('Level 1'!X$32/N$117*AA$109*AN$109,\"*\")","v":20.694356650404504},{"$f":"IFERROR('Level 1'!Y$32/O$117*AB$109*AO$109,\"*\")","v":"*"},null,{"$f":"'Oversættelse af landenavne'!$B$32","v":"UK"},{"$f":"IFERROR('Level 1'!AB$32/E$117*R$109*AE$109,\"*\")","v":22.218061474240201},{"$f":"IFERROR('Level 1'!AC$32/F$117*S$109*AF$109,\"*\")","v":25.734217753339337},{"$f":"IFERROR('Level 1'!AD$32/G$117*T$109*AG$109,\"*\")","v":24.152482033130433},{"$f":"IFERROR('Level 1'!AE$32/H$117*U$109*AH$109,\"*\")","v":20.303273383169397},{"$f":"IFERROR('Level 1'!AF$32/I$117*V$109*AI$109,\"*\")","v":23.450461889790731},{"$f":"IFERROR('Level 1'!AG$32/J$117*W$109*AJ$109,\"*\")","v":27.357853685509301},{"$f":"IFERROR('Level 1'!AH$32/K$117*X$109*AK$109,\"*\")","v":30.317678630233434},{"$f":"IFERROR('Level 1'!AI$32/L$117*Y$109*AL$109,\"*\")","v":28.470938573744995},{"$f":"IFERROR('Level 1'!AJ$32/M$117*Z$109*AM$109,\"*\")","v":25.084422492122304},{"$f":"IFERROR('Level 1'!AK$32/N$117*AA$109*AN$109,\"*\")","v":18.377829573379962},{"$f":"IFERROR('Level 1'!AL$32/O$117*AB$109*AO$109,\"*\")","v":"*"},null,{"$f":"'Oversættelse af landenavne'!$B$32","v":"UK"},{"$f":"IFERROR('Level 1'!AO$32/E$117*R$109*AE$109,\"*\")","v":18.821165957834658},{"$f":"IFERROR('Level 1'!AP$32/F$117*S$109*AF$109,\"*\")","v":24.815256924885784},{"$f":"IFERROR('Level 1'!AQ$32/G$117*T$109*AG$109,\"*\")","v":21.869387390455195},{"$f":"IFERROR('Level 1'!AR$32/H$117*U$109*AH$109,\"*\")","v":18.961472586440728},{"$f":"IFERROR('Level 1'!AS$32/I$117*V$109*AI$109,\"*\")","v":22.608014825641952},{"$f":"IFERROR('Level 1'!AT$32/J$117*W$109*AJ$109,\"*\")","v":25.127283253636367},{"$f":"IFERROR('Level 1'!AU$32/K$117*X$109*AK$109,\"*\")","v":26.897982693052857},{"$f":"IFERROR('Level 1'!AV$32/L$117*Y$109*AL$109,\"*\")","v":23.841390161281979},{"$f":"IFERROR('Level 1'!AW$32/M$117*Z$109*AM$109,\"*\")","v":20.389491448417264},{"$f":"IFERROR('Level 1'!AX$32/N$117*AA$109*AN$109,\"*\")","v":14.269739460558398},{"$f":"IFERROR('Level 1'!AY$32/O$117*AB$109*AO$109,\"*\")","v":"*"},null,{"$f":"'Oversættelse af landenavne'!$B$32","v":"UK"},{"$f":"IFERROR('Level 1'!BB$32/E$117*R$109*AE$109,\"*\")","v":14.899397287993692},{"$f":"IFERROR('Level 1'!BC$32/F$117*S$109*AF$109,\"*\")","v":23.374419153456547},{"$f":"IFERROR('Level 1'!BD$32/G$117*T$109*AG$109,\"*\")","v":16.326685087167554},{"$f":"IFERROR('Level 1'!BE$32/H$117*U$109*AH$109,\"*\")","v":17.276004572070427},{"$f":"IFERROR('Level 1'!BF$32/I$117*V$109*AI$109,\"*\")","v":21.921815763905421},{"$f":"IFERROR('Level 1'!BG$32/J$117*W$109*AJ$109,\"*\")","v":22.582286954141331},{"$f":"IFERROR('Level 1'!BH$32/K$117*X$109*AK$109,\"*\")","v":23.743771171672737},{"$f":"IFERROR('Level 1'!BI$32/L$117*Y$109*AL$109,\"*\")","v":20.883975785841816},{"$f":"IFERROR('Level 1'!BJ$32/M$117*Z$109*AM$109,\"*\")","v":17.87654335278777},{"$f":"IFERROR('Level 1'!BK$32/N$117*AA$109*AN$109,\"*\")","v":11.798825340717523},{"$f":"IFERROR('Level 1'!BL$32/O$117*AB$109*AO$109,\"*\")","v":"*"},null,{"$f":"'Oversættelse af landenavne'!$B$32","v":"UK"},{"$f":"IFERROR('Level 1'!BO$32/E$117*R$109*AE$109,\"*\")","v":"*"},{"$f":"IFERROR('Level 1'!BP$32/F$117*S$109*AF$109,\"*\")","v":"*"},{"$f":"IFERROR('Level 1'!BQ$32/G$117*T$109*AG$109,\"*\")","v":"*"},{"$f":"IFERROR('Level 1'!BR$32/H$117*U$109*AH$109,\"*\")","v":"*"},{"$f":"IFERROR('Level 1'!BS$32/I$117*V$109*AI$109,\"*\")","v":"*"},{"$f":"IFERROR('Level 1'!BT$32/J$117*W$109*AJ$109,\"*\")","v":"*"},{"$f":"IFERROR('Level 1'!BU$32/K$117*X$109*AK$109,\"*\")","v":"*"},{"$f":"IFERROR('Level 1'!BV$32/L$117*Y$109*AL$109,\"*\")","v":"*"},{"$f":"IFERROR('Level 1'!BW$32/M$117*Z$109*AM$109,\"*\")","v":"*"},{"$f":"IFERROR('Level 1'!BX$32/N$117*AA$109*AN$109,\"*\")","v":"*"},{"$f":"IFERROR('Level 1'!BY$32/O$117*AB$109*AO$109,\"*\")","v":"*"}]
[null,null,null,"Kilde: Eurostat",null,null,null,null,null,null,null,null,null,null,null,null,"Kilde: Eurostat",null,null,null,null,null,null,null,null,null,null,null,null,"Kilde: Eurostat",null,null,null,null,null,null,null,null,null,null,null,null,"Kilde: Eurostat",null,null,null,null,null,null,null,null,null,null,null,null,"Kilde: Eurostat",null,null,null,null,null,null,null,null,null,null,null,null,"Kilde: Eurostat"]
[]
[]
[]
[]
[null,"Level 2: Gaspris inkl. ikke-refunderbare afgifter",null,{"$f":"\"Figur XX:\n\"&$B$62&\" for forbrugsinterval \"&D26&\". \nPriserne er vist i \"&$E$14&\" / \"&$E$15&\" i \"&$E$12&\" med basisår \"&$E$13&\". \"","v":"Figur XX:\nLevel 2: Gaspris inkl. ikke-refunderbare afgifter for forbrugsinterval IA: < 1000 GJ. \nPriserne er vist i DKK øre / Kwh i faste priser med basisår 2015. "},null,null,null,null,null,null,null,null,null,null,null,null,{"$f":"\"Figur XX:\n\"&$B$62&\" for forbrugsinterval \"&Q26&\". \nPriserne er vist i \"&$E$14&\" / \"&$E$15&\" i \"&$E$12&\" med basisår \"&$E$13&\". \"","v":"Figur XX:\nLevel 2: Gaspris inkl. ikke-refunderbare afgifter for forbrugsinterval IB: 1 000 GJ <  10 000 GJ. \nPriserne er vist i DKK øre / Kwh i faste priser med basisår 2015. "},null,null,null,null,null,null,null,null,null,null,null,null,{"$f":"\"Figur XX:\n\"&$B$62&\" for forbrugsinterval \"&AD26&\". \nPriserne er vist i \"&$E$14&\" / \"&$E$15&\" i \"&$E$12&\" med basisår \"&$E$13&\". \"","v":"Figur XX:\nLevel 2: Gaspris inkl. ikke-refunderbare afgifter for forbrugsinterval IC: 10 000 GJ <  100 000 GJ. \nPriserne er vist i DKK øre / Kwh i faste priser med basisår 2015. "},null,null,null,null,null,null,null,null,null,null,null,null,{"$f":"\"Figur XX:\n\"&$B$62&\" for forbrugsinterval \"&AQ26&\". \nPriserne er vist i \"&$E$14&\" / \"&$E$15&\" i \"&$E$12&\" med basisår \"&$E$13&\". \"","v":"Figur XX:\nLevel 2: Gaspris inkl. ikke-refunderbare afgifter for forbrugsinterval ID: 100 000 GJ < 1 000 000 GJ. \nPriserne er vist i DKK øre / Kwh i faste priser med basisår 2015. "},null,null,null,null,null,null,null,null,null,null,null,null,{"$f":"\"Figur XX:\n\"&$B$62&\" for forbrugsinterval \"&BD26&\". \nPriserne er vist i \"&$E$14&\" / \"&$E$15&\" i \"&$E$12&\" med basisår \"&$E$13&\". \"","v":"Figur XX:\nLevel 2: Gaspris inkl. ikke-refunderbare afgifter for forbrugsinterval IE: 1 000 000 GJ < 4 000 000 GJ. \nPriserne er vist i DKK øre / Kwh i faste priser med basisår 2015. "},null,null,null,null,null,null,null,null,null,null,null,null,{"$f":"\"Figur XX:\n\"&$B$62&\" for forbrugsinterval \"&BQ26&\". \nPriserne er vist i \"&$E$14&\" / \"&$E$15&\" i \"&$E$12&\" med basisår \"&$E$13&\". \"","v":"Figur XX:\nLevel 2: Gaspris inkl. ikke-refunderbare afgifter for forbrugsinterval IF: > 4 000 000 GJ. \nPriserne er vist i DKK øre / Kwh i faste priser med basisår 2015. "},null,null,null,null,null,null,null,null,null,null,null,null,{"$f":"B62","v":"Level 2: Gaspris inkl. ikke-refunderbare afgifter"}]
[]
[]
[]
[]
[]
[]
[]
[]
[]
[]
[]
[]
[]
[]
[]
[]
[]
[]
[null,null,null,"Kilde: Eurostat",null,null,null,null,null,null,null,null,null,null,null,null,"Kilde: Eurostat",null,null,null,null,null,null,null,null,null,null,null,null,"Kilde: Eurostat",null,null,null,null,null,null,null,null,null,null,null,null,"Kilde: Eurostat",null,null,null,null,null,null,null,null,null,null,null,null,"Kilde: Eurostat",null,null,null,null,null,null,null,null,null,null,null,null,"Kilde: Eurostat"]
[null,null,null,{"$f":"$E$14&\"/\"&$E$15","v":"DKK øre/Kwh"},{"$f":"'Level 1'!B5","v":2007},{"$f":"'Level 1'!C5","v":2008},{"$f":"'Level 1'!D5","v":2009},{"$f":"'Level 1'!E5","v":2010},{"$f":"'Level 1'!F5","v":2011},{"$f":"'Level 1'!G5","v":2012},{"$f":"'Level 1'!H5","v":2013},{"$f":"'Level 1'!I5","v":2014},{"$f":"'Level 1'!J5","v":2015},{"$f":"'Level 1'!K5","v":2016},{"$f":"'Level 1'!L5","v":2017},null,{"$f":"$E$14&\"/\"&$E$15","v":"DKK øre/Kwh"},{"$f":"'Level 1'!O5","v":2007},{"$f":"'Level 1'!P5","v":2008},{"$f":"'Level 1'!Q5","v":2009},{"$f":"'Level 1'!R5","v":2010},{"$f":"'Level 1'!S5","v":2011},{"$f":"'Level 1'!T5","v":2012},{"$f":"'Level 1'!U5","v":2013},{"$f":"'Level 1'!V5","v":2014},{"$f":"'Level 1'!W5","v":2015},{"$f":"'Level 1'!X5","v":2016},{"$f":"'Level 1'!Y5","v":2017},null,{"$f":"$E$14&\"/\"&$E$15","v":"DKK øre/Kwh"},{"$f":"'Level 1'!AB5","v":2007},{"$f":"'Level 1'!AC5","v":2008},{"$f":"'Level 1'!AD5","v":2009},{"$f":"'Level 1'!AE5","v":2010},{"$f":"'Level 1'!AF5","v":2011},{"$f":"'Level 1'!AG5","v":2012},{"$f":"'Level 1'!AH5","v":2013},{"$f":"'Level 1'!AI5","v":2014},{"$f":"'Level 1'!AJ5","v":2015},{"$f":"'Level 1'!AK5","v":2016},{"$f":"'Level 1'!AL5","v":2017},null,{"$f":"$E$14&\"/\"&$E$15","v":"DKK øre/Kwh"},{"$f":"'Level 1'!AO5","v":2007},{"$f":"'Level 1'!AP5","v":2008},{"$f":"'Level 1'!AQ5","v":2009},{"$f":"'Level 1'!AR5","v":2010},{"$f":"'Level 1'!AS5","v":2011},{"$f":"'Level 1'!AT5","v":2012},{"$f":"'Level 1'!AU5","v":2013},{"$f":"'Level 1'!AV5","v":2014},{"$f":"'Level 1'!AW5","v":2015},{"$f":"'Level 1'!AX5","v":2016},{"$f":"'Level 1'!AY5","v":2017},null,{"$f":"$E$14&\"/\"&$E$15","v":"DKK øre/Kwh"},{"$f":"'Level 1'!BB5","v":2007},{"$f":"'Level 1'!BC5","v":2008},{"$f":"'Level 1'!BD5","v":2009},{"$f":"'Level 1'!BE5","v":2010},{"$f":"'Level 1'!BF5","v":2011},{"$f":"'Level 1'!BG5","v":2012},{"$f":"'Level 1'!BH5","v":2013},{"$f":"'Level 1'!BI5","v":2014},{"$f":"'Level 1'!BJ5","v":2015},{"$f":"'Level 1'!BK5","v":2016},{"$f":"'Level 1'!BL5","v":2017},null,{"$f":"$E$14&\"/\"&$E$15","v":"DKK øre/Kwh"},{"$f":"'Level 1'!BO5","v":2007},{"$f":"'Level 1'!BP5","v":2008},{"$f":"'Level 1'!BQ5","v":2009},{"$f":"'Level 1'!BR5","v":2010},{"$f":"'Level 1'!BS5","v":2011},{"$f":"'Level 1'!BT5","v":2012},{"$f":"'Level 1'!BU5","v":2013},{"$f":"'Level 1'!BV5","v":2014},{"$f":"'Level 1'!BW5","v":2015},{"$f":"'Level 1'!BX5","v":2016},{"$f":"'Level 1'!BY5","v":2017}]
[null,null,null,{"$f":"'Oversættelse af landenavne'!$B$6","v":"EU-28"},{"$f":"IFERROR('Level 2'!B$6/E$109*R$109*AE$109,\"*\")","v":33.093987673743882},{"$f":"IFERROR('Level 2'!C$6/F$109*S$109*AF$109,\"*\")","v":37.11451835730584},{"$f":"IFERROR('Level 2'!D$6/G$109*T$109*AG$109,\"*\")","v":36.725101818632041},{"$f":"IFERROR('Level 2'!E$6/H$109*U$109*AH$109,\"*\")","v":34.977270223386761},{"$f":"IFERROR('Level 2'!F$6/I$109*V$109*AI$109,\"*\")","v":37.595656430254522},{"$f":"IFERROR('Level 2'!G$6/J$109*W$109*AJ$109,\"*\")","v":41.500806810204672},{"$f":"IFERROR('Level 2'!H$6/K$109*X$109*AK$109,\"*\")","v":42.505893603416673},{"$f":"IFERROR('Level 2'!I$6/L$109*Y$109*AL$109,\"*\")","v":40.741521689823486},{"$f":"IFERROR('Level 2'!J$6/M$109*Z$109*AM$109,\"*\")","v":38.474027890287772},{"$f":"IFERROR('Level 2'!K$6/N$109*AA$109*AN$109,\"*\")","v":34.024067104468109},{"$f":"IFERROR('Level 2'!L$6/O$109*AB$109*AO$109,\"*\")","v":"*"},null,{"$f":"'Oversættelse af landenavne'!$B$6","v":"EU-28"},{"$f":"IFERROR('Level 2'!O$6/E$109*R$109*AE$109,\"*\")","v":29.416877932216785},{"$f":"IFERROR('Level 2'!P$6/F$109*S$109*AF$109,\"*\")","v":33.644640309699732},{"$f":"IFERROR('Level 2'!Q$6/G$109*T$109*AG$109,\"*\")","v":31.905301821500789},{"$f":"IFERROR('Level 2'!R$6/H$109*U$109*AH$109,\"*\")","v":30.66321322324313},{"$f":"IFERROR('Level 2'!S$6/I$109*V$109*AI$109,\"*\")","v":33.17687139040455},{"$f":"IFERROR('Level 2'!T$6/J$109*W$109*AJ$109,\"*\")","v":35.455635086495995},{"$f":"IFERROR('Level 2'!U$6/K$109*X$109*AK$109,\"*\")","v":37.826602745294998},{"$f":"IFERROR('Level 2'!V$6/L$109*Y$109*AL$109,\"*\")","v":35.502341235632983},{"$f":"IFERROR('Level 2'!W$6/M$109*Z$109*AM$109,\"*\")","v":32.06392495143885},{"$f":"IFERROR('Level 2'!X$6/N$109*AA$109*AN$109,\"*\")","v":27.537089532482995},{"$f":"IFERROR('Level 2'!Y$6/O$109*AB$109*AO$109,\"*\")","v":"*"},null,{"$f":"'Oversættelse af landenavne'!$B$6","v":"EU-28"},{"$f":"IFERROR('Level 2'!AB$6/E$109*R$109*AE$109,\"*\")","v":25.122013754113134},{"$f":"IFERROR('Level 2'!AC$6/F$109*S$109*AF$109,\"*\")","v":29.984431398722823},{"$f":"IFERROR('Level 2'!AD$6/G$109*T$109*AG$109,\"*\")","v":27.159425137208959},{"$f":"IFERROR('Level 2'!AE$6/H$109*U$109*AH$109,\"*\")","v":25.855291111971944},{"$f":"IFERROR('Level 2'!AF$6/I$109*V$109*AI$109,\"*\")","v":27.865693280617442},{"$f":"IFERROR('Level 2'!AG$6/J$109*W$109*AJ$109,\"*\")","v":29.579165829495476},{"$f":"IFERROR('Level 2'!AH$6/K$109*X$109*AK$109,\"*\")","v":31.732316747441914},{"$f":"IFERROR('Level 2'!AI$6/L$109*Y$109*AL$109,\"*\")","v":29.270473958543239},{"$f":"IFERROR('Level 2'!AJ$6/M$109*Z$109*AM$109,\"*\")","v":26.605950273381293},{"$f":"IFERROR('Level 2'!AK$6/N$109*AA$109*AN$109,\"*\")","v":22.821656036381366},{"$f":"IFERROR('Level 2'!AL$6/O$109*AB$109*AO$109,\"*\")","v":"*"},null,{"$f":"'Oversættelse af landenavne'!$B$6","v":"EU-28"},{"$f":"IFERROR('Level 2'!AO$6/E$109*R$109*AE$109,\"*\")","v":"*"},{"$f":"IFERROR('Level 2'!AP$6/F$109*S$109*AF$109,\"*\")","v":"*"},{"$f":"IFERROR('Level 2'!AQ$6/G$109*T$109*AG$109,\"*\")","v":"*"},{"$f":"IFERROR('Level 2'!AR$6/H$109*U$109*AH$109,\"*\")","v":"*"},{"$f":"IFERROR('Level 2'!AS$6/I$109*V$109*AI$109,\"*\")","v":"*"},{"$f":"IFERROR('Level 2'!AT$6/J$109*W$109*AJ$109,\"*\")","v":"*"},{"$f":"IFERROR('Level 2'!AU$6/K$109*X$109*AK$109,\"*\")","v":"*"},{"$f":"IFERROR('Level 2'!AV$6/L$109*Y$109*AL$109,\"*\")","v":"*"},{"$f":"IFERROR('Level 2'!AW$6/M$109*Z$109*AM$109,\"*\")","v":"*"},{"$f":"IFERROR('Level 2'!AX$6/N$109*AA$109*AN$109,\"*\")","v":"*"},{"$f":"IFERROR('Level 2'!AY$6/O$109*AB$109*AO$109,\"*\")","v":"*"},null,{"$f":"'Oversættelse af landenavne'!$B$6","v":"EU-28"},{"$f":"IFERROR('Level 2'!BB$6/E$109*R$109*AE$109,\"*\")","v":"*"},{"$f":"IFERROR('Level 2'!BC$6/F$109*S$109*AF$109,\"*\")","v":"*"},{"$f":"IFERROR('Level 2'!BD$6/G$109*T$109*AG$109,\"*\")","v":"*"},{"$f":"IFERROR('Level 2'!BE$6/H$109*U$109*AH$109,\"*\")","v":"*"},{"$f":"IFERROR('Level 2'!BF$6/I$109*V$109*AI$109,\"*\")","v":"*"},{"$f":"IFERROR('Level 2'!BG$6/J$109*W$109*AJ$109,\"*\")","v":"*"},{"$f":"IFERROR('Level 2'!BH$6/K$109*X$109*AK$109,\"*\")","v":"*"},{"$f":"IFERROR('Level 2'!BI$6/L$109*Y$109*AL$109,\"*\")","v":"*"},{"$f":"IFERROR('Level 2'!BJ$6/M$109*Z$109*AM$109,\"*\")","v":"*"},{"$f":"IFERROR('Level 2'!BK$6/N$109*AA$109*AN$109,\"*\")","v":"*"},{"$f":"IFERROR('Level 2'!BL$6/O$109*AB$109*AO$109,\"*\")","v":"*"},null,{"$f":"'Oversættelse af landenavne'!$B$6","v":"EU-28"},{"$f":"IFERROR('Level 2'!BO$6/E$109*R$109*AE$109,\"*\")","v":"*"},{"$f":"IFERROR('Level 2'!BP$6/F$109*S$109*AF$109,\"*\")","v":"*"},{"$f":"IFERROR('Level 2'!BQ$6/G$109*T$109*AG$109,\"*\")","v":"*"},{"$f":"IFERROR('Level 2'!BR$6/H$109*U$109*AH$109,\"*\")","v":"*"},{"$f":"IFERROR('Level 2'!BS$6/I$109*V$109*AI$109,\"*\")","v":"*"},{"$f":"IFERROR('Level 2'!BT$6/J$109*W$109*AJ$109,\"*\")","v":"*"},{"$f":"IFERROR('Level 2'!BU$6/K$109*X$109*AK$109,\"*\")","v":"*"},{"$f":"IFERROR('Level 2'!BV$6/L$109*Y$109*AL$109,\"*\")","v":"*"},{"$f":"IFERROR('Level 2'!BW$6/M$109*Z$109*AM$109,\"*\")","v":"*"},{"$f":"IFERROR('Level 2'!BX$6/N$109*AA$109*AN$109,\"*\")","v":"*"},{"$f":"IFERROR('Level 2'!BY$6/O$109*AB$109*AO$109,\"*\")","v":"*"}]
[null,null,null,{"$f":"'Oversættelse af landenavne'!$B$7","v":"Belgien"},{"$f":"IFERROR('Level 2'!B$7/E$110*R$109*AE$109,\"*\")","v":33.238163616628583},{"$f":"IFERROR('Level 2'!C$7/F$110*S$109*AF$109,\"*\")","v":42.953891636251605},{"$f":"IFERROR('Level 2'!D$7/G$110*T$109*AG$109,\"*\")","v":34.905539111596966},{"$f":"IFERROR('Level 2'!E$7/H$110*U$109*AH$109,\"*\")","v":35.419326581004604},{"$f":"IFERROR('Level 2'!F$7/I$110*V$109*AI$109,\"*\")","v":40.549488954733953},{"$f":"IFERROR('Level 2'!G$7/J$110*W$109*AJ$109,\"*\")","v":41.984306588457443},{"$f":"IFERROR('Level 2'!H$7/K$110*X$109*AK$109,\"*\")","v":39.682429175711349},{"$f":"IFERROR('Level 2'!I$7/L$110*Y$109*AL$109,\"*\")","v":37.691280655476099},{"$f":"IFERROR('Level 2'!J$7/M$110*Z$109*AM$109,\"*\")","v":34.276617388489207},{"$f":"IFERROR('Level 2'!K$7/N$110*AA$109*AN$109,\"*\")","v":30.198081255206269},{"$f":"IFERROR('Level 2'!L$7/O$110*AB$109*AO$109,\"*\")","v":"*"},null,{"$f":"'Oversættelse af landenavne'!$B$7","v":"Belgien"},{"$f":"IFERROR('Level 2'!O$7/E$110*R$109*AE$109,\"*\")","v":29.162067807916696},{"$f":"IFERROR('Level 2'!P$7/F$110*S$109*AF$109,\"*\")","v":34.990198909996593},{"$f":"IFERROR('Level 2'!Q$7/G$110*T$109*AG$109,\"*\")","v":30.558756556120198},{"$f":"IFERROR('Level 2'!R$7/H$110*U$109*AH$109,\"*\")","v":30.236708867858418},{"$f":"IFERROR('Level 2'!S$7/I$110*V$109*AI$109,\"*\")","v":33.882663507441585},{"$f":"IFERROR('Level 2'!T$7/J$110*W$109*AJ$109,\"*\")","v":32.115375689791804},{"$f":"IFERROR('Level 2'!U$7/K$110*X$109*AK$109,\"*\")","v":33.879231500169624},{"$f":"IFERROR('Level 2'!V$7/L$110*Y$109*AL$109,\"*\")","v":30.983395759488964},{"$f":"IFERROR('Level 2'!W$7/M$110*Z$109*AM$109,\"*\")","v":27.209411847122301},{"$f":"IFERROR('Level 2'!X$7/N$110*AA$109*AN$109,\"*\")","v":24.222207655891044},{"$f":"IFERROR('Level 2'!Y$7/O$110*AB$109*AO$109,\"*\")","v":"*"},null,{"$f":"'Oversættelse af landenavne'!$B$7","v":"Belgien"},{"$f":"IFERROR('Level 2'!AB$7/E$110*R$109*AE$109,\"*\")","v":"*"},{"$f":"IFERROR('Level 2'!AC$7/F$110*S$109*AF$109,\"*\")","v":"*"},{"$f":"IFERROR('Level 2'!AD$7/G$110*T$109*AG$109,\"*\")","v":"*"},{"$f":"IFERROR('Level 2'!AE$7/H$110*U$109*AH$109,\"*\")","v":"*"},{"$f":"IFERROR('Level 2'!AF$7/I$110*V$109*AI$109,\"*\")","v":"*"},{"$f":"IFERROR('Level 2'!AG$7/J$110*W$109*AJ$109,\"*\")","v":"*"},{"$f":"IFERROR('Level 2'!AH$7/K$110*X$109*AK$109,\"*\")","v":"*"},{"$f":"IFERROR('Level 2'!AI$7/L$110*Y$109*AL$109,\"*\")","v":"*"},{"$f":"IFERROR('Level 2'!AJ$7/M$110*Z$109*AM$109,\"*\")","v":"*"},{"$f":"IFERROR('Level 2'!AK$7/N$110*AA$109*AN$109,\"*\")","v":"*"},{"$f":"IFERROR('Level 2'!AL$7/O$110*AB$109*AO$109,\"*\")","v":"*"},null,{"$f":"'Oversættelse af landenavne'!$B$7","v":"Belgien"},{"$f":"IFERROR('Level 2'!AO$7/E$110*R$109*AE$109,\"*\")","v":"*"},{"$f":"IFERROR('Level 2'!AP$7/F$110*S$109*AF$109,\"*\")","v":"*"},{"$f":"IFERROR('Level 2'!AQ$7/G$110*T$109*AG$109,\"*\")","v":"*"},{"$f":"IFERROR('Level 2'!AR$7/H$110*U$109*AH$109,\"*\")","v":"*"},{"$f":"IFERROR('Level 2'!AS$7/I$110*V$109*AI$109,\"*\")","v":"*"},{"$f":"IFERROR('Level 2'!AT$7/J$110*W$109*AJ$109,\"*\")","v":"*"},{"$f":"IFERROR('Level 2'!AU$7/K$110*X$109*AK$109,\"*\")","v":"*"},{"$f":"IFERROR('Level 2'!AV$7/L$110*Y$109*AL$109,\"*\")","v":"*"},{"$f":"IFERROR('Level 2'!AW$7/M$110*Z$109*AM$109,\"*\")","v":"*"},{"$f":"IFERROR('Level 2'!AX$7/N$110*AA$109*AN$109,\"*\")","v":"*"},{"$f":"IFERROR('Level 2'!AY$7/O$110*AB$109*AO$109,\"*\")","v":"*"},null,{"$f":"'Oversættelse af landenavne'!$B$7","v":"Belgien"},{"$f":"IFERROR('Level 2'!BB$7/E$110*R$109*AE$109,\"*\")","v":"*"},{"$f":"IFERROR('Level 2'!BC$7/F$110*S$109*AF$109,\"*\")","v":"*"},{"$f":"IFERROR('Level 2'!BD$7/G$110*T$109*AG$109,\"*\")","v":"*"},{"$f":"IFERROR('Level 2'!BE$7/H$110*U$109*AH$109,\"*\")","v":"*"},{"$f":"IFERROR('Level 2'!BF$7/I$110*V$109*AI$109,\"*\")","v":"*"},{"$f":"IFERROR('Level 2'!BG$7/J$110*W$109*AJ$109,\"*\")","v":"*"},{"$f":"IFERROR('Level 2'!BH$7/K$110*X$109*AK$109,\"*\")","v":"*"},{"$f":"IFERROR('Level 2'!BI$7/L$110*Y$109*AL$109,\"*\")","v":"*"},{"$f":"IFERROR('Level 2'!BJ$7/M$110*Z$109*AM$109,\"*\")","v":"*"},{"$f":"IFERROR('Level 2'!BK$7/N$110*AA$109*AN$109,\"*\")","v":"*"},{"$f":"IFERROR('Level 2'!BL$7/O$110*AB$109*AO$109,\"*\")","v":"*"},null,{"$f":"'Oversættelse af landenavne'!$B$7","v":"Belgien"},{"$f":"IFERROR('Level 2'!BO$7/E$110*R$109*AE$109,\"*\")","v":"*"},{"$f":"IFERROR('Level 2'!BP$7/F$110*S$109*AF$109,\"*\")","v":"*"},{"$f":"IFERROR('Level 2'!BQ$7/G$110*T$109*AG$109,\"*\")","v":"*"},{"$f":"IFERROR('Level 2'!BR$7/H$110*U$109*AH$109,\"*\")","v":"*"},{"$f":"IFERROR('Level 2'!BS$7/I$110*V$109*AI$109,\"*\")","v":"*"},{"$f":"IFERROR('Level 2'!BT$7/J$110*W$109*AJ$109,\"*\")","v":"*"},{"$f":"IFERROR('Level 2'!BU$7/K$110*X$109*AK$109,\"*\")","v":"*"},{"$f":"IFERROR('Level 2'!BV$7/L$110*Y$109*AL$109,\"*\")","v":"*"},{"$f":"IFERROR('Level 2'!BW$7/M$110*Z$109*AM$109,\"*\")","v":"*"},{"$f":"IFERROR('Level 2'!BX$7/N$110*AA$109*AN$109,\"*\")","v":"*"},{"$f":"IFERROR('Level 2'!BY$7/O$110*AB$109*AO$109,\"*\")","v":"*"}]
[null,null,null,{"$f":"'Oversættelse af landenavne'!$B$10","v":"Danmark"},{"$f":"IFERROR('Level 2'!B$10/E$111*R$109*AE$109,\"*\")","v":52.488474378577919},{"$f":"IFERROR('Level 2'!C$10/F$111*S$109*AF$109,\"*\")","v":57.523622067958939},{"$f":"IFERROR('Level 2'!D$10/G$111*T$109*AG$109,\"*\")","v":49.640127813677601},{"$f":"IFERROR('Level 2'!E$10/H$111*U$109*AH$109,\"*\")","v":57.331032791650777},{"$f":"IFERROR('Level 2'!F$10/I$111*V$109*AI$109,\"*\")","v":59.96440641000229},{"$f":"IFERROR('Level 2'!G$10/J$111*W$109*AJ$109,\"*\")","v":52.793339042858477},{"$f":"IFERROR('Level 2'!H$10/K$111*X$109*AK$109,\"*\")","v":51.548016845149732},{"$f":"IFERROR('Level 2'!I$10/L$111*Y$109*AL$109,\"*\")","v":48.863291015207999},{"$f":"IFERROR('Level 2'!J$10/M$111*Z$109*AM$109,\"*\")","v":41.937360913273373},{"$f":"IFERROR('Level 2'!K$10/N$111*AA$109*AN$109,\"*\")","v":37.729061503906529},{"$f":"IFERROR('Level 2'!L$10/O$111*AB$109*AO$109,\"*\")","v":"*"},null,{"$f":"'Oversættelse af landenavne'!$B$10","v":"Danmark"},{"$f":"IFERROR('Level 2'!O$10/E$111*R$109*AE$109,\"*\")","v":46.678571945727811},{"$f":"IFERROR('Level 2'!P$10/F$111*S$109*AF$109,\"*\")","v":51.531559406329862},{"$f":"IFERROR('Level 2'!Q$10/G$111*T$109*AG$109,\"*\")","v":43.016350416404784},{"$f":"IFERROR('Level 2'!R$10/H$111*U$109*AH$109,\"*\")","v":50.208675694627246},{"$f":"IFERROR('Level 2'!S$10/I$111*V$109*AI$109,\"*\")","v":52.668863179795203},{"$f":"IFERROR('Level 2'!T$10/J$111*W$109*AJ$109,\"*\")","v":46.388729037493341},{"$f":"IFERROR('Level 2'!U$10/K$111*X$109*AK$109,\"*\")","v":44.996923922458045},{"$f":"IFERROR('Level 2'!V$10/L$111*Y$109*AL$109,\"*\")","v":43.061321653395986},{"$f":"IFERROR('Level 2'!W$10/M$111*Z$109*AM$109,\"*\")","v":36.514789314208635},{"$f":"IFERROR('Level 2'!X$10/N$111*AA$109*AN$109,\"*\")","v":32.526284641423999},{"$f":"IFERROR('Level 2'!Y$10/O$111*AB$109*AO$109,\"*\")","v":"*"},null,{"$f":"'Oversættelse af landenavne'!$B$10","v":"Danmark"},{"$f":"IFERROR('Level 2'!AB$10/E$111*R$109*AE$109,\"*\")","v":15.722203130712876},{"$f":"IFERROR('Level 2'!AC$10/F$111*S$109*AF$109,\"*\")","v":19.661689311178911},{"$f":"IFERROR('Level 2'!AD$10/G$111*T$109*AG$109,\"*\")","v":21.85103298573403},{"$f":"IFERROR('Level 2'!AE$10/H$111*U$109*AH$109,\"*\")","v":21.687453638470483},{"$f":"IFERROR('Level 2'!AF$10/I$111*V$109*AI$109,\"*\")","v":24.08150565321175},{"$f":"IFERROR('Level 2'!AG$10/J$111*W$109*AJ$109,\"*\")","v":29.361025905915202},{"$f":"IFERROR('Level 2'!AH$10/K$111*X$109*AK$109,\"*\")","v":27.034930975596559},{"$f":"IFERROR('Level 2'!AI$10/L$111*Y$109*AL$109,\"*\")","v":26.162760055817792},{"$f":"IFERROR('Level 2'!AJ$10/M$111*Z$109*AM$109,\"*\")","v":21.996174362859712},{"$f":"IFERROR('Level 2'!AK$10/N$111*AA$109*AN$109,\"*\")","v":16.882237050343786},{"$f":"IFERROR('Level 2'!AL$10/O$111*AB$109*AO$109,\"*\")","v":"*"},null,{"$f":"'Oversættelse af landenavne'!$B$10","v":"Danmark"},{"$f":"IFERROR('Level 2'!AO$10/E$111*R$109*AE$109,\"*\")","v":"*"},{"$f":"IFERROR('Level 2'!AP$10/F$111*S$109*AF$109,\"*\")","v":"*"},{"$f":"IFERROR('Level 2'!AQ$10/G$111*T$109*AG$109,\"*\")","v":"*"},{"$f":"IFERROR('Level 2'!AR$10/H$111*U$109*AH$109,\"*\")","v":"*"},{"$f":"IFERROR('Level 2'!AS$10/I$111*V$109*AI$109,\"*\")","v":"*"},{"$f":"IFERROR('Level 2'!AT$10/J$111*W$109*AJ$109,\"*\")","v":"*"},{"$f":"IFERROR('Level 2'!AU$10/K$111*X$109*AK$109,\"*\")","v":"*"},{"$f":"IFERROR('Level 2'!AV$10/L$111*Y$109*AL$109,\"*\")","v":"*"},{"$f":"IFERROR('Level 2'!AW$10/M$111*Z$109*AM$109,\"*\")","v":"*"},{"$f":"IFERROR('Level 2'!AX$10/N$111*AA$109*AN$109,\"*\")","v":"*"},{"$f":"IFERROR('Level 2'!AY$10/O$111*AB$109*AO$109,\"*\")","v":"*"},null,{"$f":"'Oversættelse af landenavne'!$B$10","v":"Danmark"},{"$f":"IFERROR('Level 2'!BB$10/E$111*R$109*AE$109,\"*\")","v":"*"},{"$f":"IFERROR('Level 2'!BC$10/F$111*S$109*AF$109,\"*\")","v":"*"},{"$f":"IFERROR('Level 2'!BD$10/G$111*T$109*AG$109,\"*\")","v":"*"},{"$f":"IFERROR('Level 2'!BE$10/H$111*U$109*AH$109,\"*\")","v":"*"},{"$f":"IFERROR('Level 2'!BF$10/I$111*V$109*AI$109,\"*\")","v":"*"},{"$f":"IFERROR('Level 2'!BG$10/J$111*W$109*AJ$109,\"*\")","v":"*"},{"$f":"IFERROR('Level 2'!BH$10/K$111*X$109*AK$109,\"*\")","v":"*"},{"$f":"IFERROR('Level 2'!BI$10/L$111*Y$109*AL$109,\"*\")","v":"*"},{"$f":"IFERROR('Level 2'!BJ$10/M$111*Z$109*AM$109,\"*\")","v":"*"},{"$f":"IFERROR('Level 2'!BK$10/N$111*AA$109*AN$109,\"*\")","v":"*"},{"$f":"IFERROR('Level 2'!BL$10/O$111*AB$109*AO$109,\"*\")","v":"*"},null,{"$f":"'Oversættelse af landenavne'!$B$10","v":"Danmark"},{"$f":"IFERROR('Level 2'!BO$10/E$111*R$109*AE$109,\"*\")","v":"*"},{"$f":"IFERROR('Level 2'!BP$10/F$111*S$109*AF$109,\"*\")","v":"*"},{"$f":"IFERROR('Level 2'!BQ$10/G$111*T$109*AG$109,\"*\")","v":"*"},{"$f":"IFERROR('Level 2'!BR$10/H$111*U$109*AH$109,\"*\")","v":"*"},{"$f":"IFERROR('Level 2'!BS$10/I$111*V$109*AI$109,\"*\")","v":"*"},{"$f":"IFERROR('Level 2'!BT$10/J$111*W$109*AJ$109,\"*\")","v":"*"},{"$f":"IFERROR('Level 2'!BU$10/K$111*X$109*AK$109,\"*\")","v":"*"},{"$f":"IFERROR('Level 2'!BV$10/L$111*Y$109*AL$109,\"*\")","v":"*"},{"$f":"IFERROR('Level 2'!BW$10/M$111*Z$109*AM$109,\"*\")","v":"*"},{"$f":"IFERROR('Level 2'!BX$10/N$111*AA$109*AN$109,\"*\")","v":"*"},{"$f":"IFERROR('Level 2'!BY$10/O$111*AB$109*AO$109,\"*\")","v":"*"}]
[null,null,null,{"$f":"'Oversættelse af landenavne'!$B$11","v":"Tyskland"},{"$f":"IFERROR('Level 2'!B$11/E$112*R$109*AE$109,\"*\")","v":38.884518290387646},{"$f":"IFERROR('Level 2'!C$11/F$112*S$109*AF$109,\"*\")","v":44.296705659135853},{"$f":"IFERROR('Level 2'!D$11/G$112*T$109*AG$109,\"*\")","v":36.315802604228899},{"$f":"IFERROR('Level 2'!E$11/H$112*U$109*AH$109,\"*\")","v":36.641760006967985},{"$f":"IFERROR('Level 2'!F$11/I$112*V$109*AI$109,\"*\")","v":39.075711090179247},{"$f":"IFERROR('Level 2'!G$11/J$112*W$109*AJ$109,\"*\")","v":40.403355912423301},{"$f":"IFERROR('Level 2'!H$11/K$112*X$109*AK$109,\"*\")","v":40.339396529269344},{"$f":"IFERROR('Level 2'!I$11/L$112*Y$109*AL$109,\"*\")","v":37.608855293688706},{"$f":"IFERROR('Level 2'!J$11/M$112*Z$109*AM$109,\"*\")","v":35.537181564748202},{"$f":"IFERROR('Level 2'!K$11/N$112*AA$109*AN$109,\"*\")","v":32.942160565253744},{"$f":"IFERROR('Level 2'!L$11/O$112*AB$109*AO$109,\"*\")","v":"*"},null,{"$f":"'Oversættelse af landenavne'!$B$11","v":"Tyskland"},{"$f":"IFERROR('Level 2'!O$11/E$112*R$109*AE$109,\"*\")","v":34.853621226769903},{"$f":"IFERROR('Level 2'!P$11/F$112*S$109*AF$109,\"*\")","v":42.388401175177165},{"$f":"IFERROR('Level 2'!Q$11/G$112*T$109*AG$109,\"*\")","v":34.887322128717869},{"$f":"IFERROR('Level 2'!R$11/H$112*U$109*AH$109,\"*\")","v":35.313313727830895},{"$f":"IFERROR('Level 2'!S$11/I$112*V$109*AI$109,\"*\")","v":36.602747879068723},{"$f":"IFERROR('Level 2'!T$11/J$112*W$109*AJ$109,\"*\")","v":33.906906583768496},{"$f":"IFERROR('Level 2'!U$11/K$112*X$109*AK$109,\"*\")","v":40.353364464355657},{"$f":"IFERROR('Level 2'!V$11/L$112*Y$109*AL$109,\"*\")","v":36.347916996669987},{"$f":"IFERROR('Level 2'!W$11/M$112*Z$109*AM$109,\"*\")","v":31.835950579136689},{"$f":"IFERROR('Level 2'!X$11/N$112*AA$109*AN$109,\"*\")","v":25.86627882092716},{"$f":"IFERROR('Level 2'!Y$11/O$112*AB$109*AO$109,\"*\")","v":"*"},null,{"$f":"'Oversættelse af landenavne'!$B$11","v":"Tyskland"},{"$f":"IFERROR('Level 2'!AB$11/E$112*R$109*AE$109,\"*\")","v":20.660317438327631},{"$f":"IFERROR('Level 2'!AC$11/F$112*S$109*AF$109,\"*\")","v":29.787280652835058},{"$f":"IFERROR('Level 2'!AD$11/G$112*T$109*AG$109,\"*\")","v":24.82051095913198},{"$f":"IFERROR('Level 2'!AE$11/H$112*U$109*AH$109,\"*\")","v":27.188623874493036},{"$f":"IFERROR('Level 2'!AF$11/I$112*V$109*AI$109,\"*\")","v":26.452173912715679},{"$f":"IFERROR('Level 2'!AG$11/J$112*W$109*AJ$109,\"*\")","v":26.63928882932403},{"$f":"IFERROR('Level 2'!AH$11/K$112*X$109*AK$109,\"*\")","v":25.90102138925025},{"$f":"IFERROR('Level 2'!AI$11/L$112*Y$109*AL$109,\"*\")","v":23.599419638279116},{"$f":"IFERROR('Level 2'!AJ$11/M$112*Z$109*AM$109,\"*\")","v":22.001136158021581},{"$f":"IFERROR('Level 2'!AK$11/N$112*AA$109*AN$109,\"*\")","v":19.094922061300863},{"$f":"IFERROR('Level 2'!AL$11/O$112*AB$109*AO$109,\"*\")","v":"*"},null,{"$f":"'Oversættelse af landenavne'!$B$11","v":"Tyskland"},{"$f":"IFERROR('Level 2'!AO$11/E$112*R$109*AE$109,\"*\")","v":"*"},{"$f":"IFERROR('Level 2'!AP$11/F$112*S$109*AF$109,\"*\")","v":"*"},{"$f":"IFERROR('Level 2'!AQ$11/G$112*T$109*AG$109,\"*\")","v":"*"},{"$f":"IFERROR('Level 2'!AR$11/H$112*U$109*AH$109,\"*\")","v":"*"},{"$f":"IFERROR('Level 2'!AS$11/I$112*V$109*AI$109,\"*\")","v":"*"},{"$f":"IFERROR('Level 2'!AT$11/J$112*W$109*AJ$109,\"*\")","v":"*"},{"$f":"IFERROR('Level 2'!AU$11/K$112*X$109*AK$109,\"*\")","v":"*"},{"$f":"IFERROR('Level 2'!AV$11/L$112*Y$109*AL$109,\"*\")","v":"*"},{"$f":"IFERROR('Level 2'!AW$11/M$112*Z$109*AM$109,\"*\")","v":"*"},{"$f":"IFERROR('Level 2'!AX$11/N$112*AA$109*AN$109,\"*\")","v":"*"},{"$f":"IFERROR('Level 2'!AY$11/O$112*AB$109*AO$109,\"*\")","v":"*"},null,{"$f":"'Oversættelse af landenavne'!$B$11","v":"Tyskland"},{"$f":"IFERROR('Level 2'!BB$11/E$112*R$109*AE$109,\"*\")","v":"*"},{"$f":"IFERROR('Level 2'!BC$11/F$112*S$109*AF$109,\"*\")","v":"*"},{"$f":"IFERROR('Level 2'!BD$11/G$112*T$109*AG$109,\"*\")","v":"*"},{"$f":"IFERROR('Level 2'!BE$11/H$112*U$109*AH$109,\"*\")","v":"*"},{"$f":"IFERROR('Level 2'!BF$11/I$112*V$109*AI$109,\"*\")","v":"*"},{"$f":"IFERROR('Level 2'!BG$11/J$112*W$109*AJ$109,\"*\")","v":"*"},{"$f":"IFERROR('Level 2'!BH$11/K$112*X$109*AK$109,\"*\")","v":"*"},{"$f":"IFERROR('Level 2'!BI$11/L$112*Y$109*AL$109,\"*\")","v":"*"},{"$f":"IFERROR('Level 2'!BJ$11/M$112*Z$109*AM$109,\"*\")","v":"*"},{"$f":"IFERROR('Level 2'!BK$11/N$112*AA$109*AN$109,\"*\")","v":"*"},{"$f":"IFERROR('Level 2'!BL$11/O$112*AB$109*AO$109,\"*\")","v":"*"},null,{"$f":"'Oversættelse af landenavne'!$B$11","v":"Tyskland"},{"$f":"IFERROR('Level 2'!BO$11/E$112*R$109*AE$109,\"*\")","v":"*"},{"$f":"IFERROR('Level 2'!BP$11/F$112*S$109*AF$109,\"*\")","v":"*"},{"$f":"IFERROR('Level 2'!BQ$11/G$112*T$109*AG$109,\"*\")","v":"*"},{"$f":"IFERROR('Level 2'!BR$11/H$112*U$109*AH$109,\"*\")","v":"*"},{"$f":"IFERROR('Level 2'!BS$11/I$112*V$109*AI$109,\"*\")","v":"*"},{"$f":"IFERROR('Level 2'!BT$11/J$112*W$109*AJ$109,\"*\")","v":"*"},{"$f":"IFERROR('Level 2'!BU$11/K$112*X$109*AK$109,\"*\")","v":"*"},{"$f":"IFERROR('Level 2'!BV$11/L$112*Y$109*AL$109,\"*\")","v":"*"},{"$f":"IFERROR('Level 2'!BW$11/M$112*Z$109*AM$109,\"*\")","v":"*"},{"$f":"IFERROR('Level 2'!BX$11/N$112*AA$109*AN$109,\"*\")","v":"*"},{"$f":"IFERROR('Level 2'!BY$11/O$112*AB$109*AO$109,\"*\")","v":"*"}]
[null,null,null,{"$f":"'Oversættelse af landenavne'!$B$16","v":"Frankrig"},{"$f":"IFERROR('Level 2'!B$16/E$113*R$109*AE$109,\"*\")","v":32.997891300559424},{"$f":"IFERROR('Level 2'!C$16/F$113*S$109*AF$109,\"*\")","v":33.102632317945535},{"$f":"IFERROR('Level 2'!D$16/G$113*T$109*AG$109,\"*\")","v":34.159850762658849},{"$f":"IFERROR('Level 2'!E$16/H$113*U$109*AH$109,\"*\")","v":34.820685334873808},{"$f":"IFERROR('Level 2'!F$16/I$113*V$109*AI$109,\"*\")","v":39.098996707600271},{"$f":"IFERROR('Level 2'!G$16/J$113*W$109*AJ$109,\"*\")","v":45.715782608936919},{"$f":"IFERROR('Level 2'!H$16/K$113*X$109*AK$109,\"*\")","v":46.961810029734131},{"$f":"IFERROR('Level 2'!I$16/L$113*Y$109*AL$109,\"*\")","v":44.235907855959177},{"$f":"IFERROR('Level 2'!J$16/M$113*Z$109*AM$109,\"*\")","v":41.021976757194246},{"$f":"IFERROR('Level 2'!K$16/N$113*AA$109*AN$109,\"*\")","v":34.639520542161712},{"$f":"IFERROR('Level 2'!L$16/O$113*AB$109*AO$109,\"*\")","v":"*"},null,{"$f":"'Oversættelse af landenavne'!$B$16","v":"Frankrig"},{"$f":"IFERROR('Level 2'!O$16/E$113*R$109*AE$109,\"*\")","v":27.723992516277871},{"$f":"IFERROR('Level 2'!P$16/F$113*S$109*AF$109,\"*\")","v":30.090235143655441},{"$f":"IFERROR('Level 2'!Q$16/G$113*T$109*AG$109,\"*\")","v":29.379994747038548},{"$f":"IFERROR('Level 2'!R$16/H$113*U$109*AH$109,\"*\")","v":29.739197762081226},{"$f":"IFERROR('Level 2'!S$16/I$113*V$109*AI$109,\"*\")","v":33.767943112003756},{"$f":"IFERROR('Level 2'!T$16/J$113*W$109*AJ$109,\"*\")","v":37.494602073936598},{"$f":"IFERROR('Level 2'!U$16/K$113*X$109*AK$109,\"*\")","v":37.512260548540901},{"$f":"IFERROR('Level 2'!V$16/L$113*Y$109*AL$109,\"*\")","v":36.268286526886442},{"$f":"IFERROR('Level 2'!W$16/M$113*Z$109*AM$109,\"*\")","v":33.056283983812946},{"$f":"IFERROR('Level 2'!X$16/N$113*AA$109*AN$109,\"*\")","v":29.108840791732529},{"$f":"IFERROR('Level 2'!Y$16/O$113*AB$109*AO$109,\"*\")","v":"*"},null,{"$f":"'Oversættelse af landenavne'!$B$16","v":"Frankrig"},{"$f":"IFERROR('Level 2'!AB$16/E$113*R$109*AE$109,\"*\")","v":"*"},{"$f":"IFERROR('Level 2'!AC$16/F$113*S$109*AF$109,\"*\")","v":"*"},{"$f":"IFERROR('Level 2'!AD$16/G$113*T$109*AG$109,\"*\")","v":"*"},{"$f":"IFERROR('Level 2'!AE$16/H$113*U$109*AH$109,\"*\")","v":"*"},{"$f":"IFERROR('Level 2'!AF$16/I$113*V$109*AI$109,\"*\")","v":"*"},{"$f":"IFERROR('Level 2'!AG$16/J$113*W$109*AJ$109,\"*\")","v":44.019565659951837},{"$f":"IFERROR('Level 2'!AH$16/K$113*X$109*AK$109,\"*\")","v":39.41850972342138},{"$f":"IFERROR('Level 2'!AI$16/L$113*Y$109*AL$109,\"*\")","v":36.15969884267421},{"$f":"IFERROR('Level 2'!AJ$16/M$113*Z$109*AM$109,\"*\")","v":28.885693996402878},{"$f":"IFERROR('Level 2'!AK$16/N$113*AA$109*AN$109,\"*\")","v":21.725780263647643},{"$f":"IFERROR('Level 2'!AL$16/O$113*AB$109*AO$109,\"*\")","v":"*"},null,{"$f":"'Oversættelse af landenavne'!$B$16","v":"Frankrig"},{"$f":"IFERROR('Level 2'!AO$16/E$113*R$109*AE$109,\"*\")","v":18.371035623104461},{"$f":"IFERROR('Level 2'!AP$16/F$113*S$109*AF$109,\"*\")","v":25.940492867303707},{"$f":"IFERROR('Level 2'!AQ$16/G$113*T$109*AG$109,\"*\")","v":21.211346970901058},{"$f":"IFERROR('Level 2'!AR$16/H$113*U$109*AH$109,\"*\")","v":22.751180480283505},{"$f":"IFERROR('Level 2'!AS$16/I$113*V$109*AI$109,\"*\")","v":23.839477286090776},{"$f":"IFERROR('Level 2'!AT$16/J$113*W$109*AJ$109,\"*\")","v":24.186275400564771},{"$f":"IFERROR('Level 2'!AU$16/K$113*X$109*AK$109,\"*\")","v":23.260460913857681},{"$f":"IFERROR('Level 2'!AV$16/L$113*Y$109*AL$109,\"*\")","v":21.897792398239282},{"$f":"IFERROR('Level 2'!AW$16/M$113*Z$109*AM$109,\"*\")","v":19.921473472338128},{"$f":"IFERROR('Level 2'!AX$16/N$113*AA$109*AN$109,\"*\")","v":16.730967809611716},{"$f":"IFERROR('Level 2'!AY$16/O$113*AB$109*AO$109,\"*\")","v":"*"},null,{"$f":"'Oversættelse af landenavne'!$B$16","v":"Frankrig"},{"$f":"IFERROR('Level 2'!BB$16/E$113*R$109*AE$109,\"*\")","v":17.718570768043623},{"$f":"IFERROR('Level 2'!BC$16/F$113*S$109*AF$109,\"*\")","v":25.400145002722702},{"$f":"IFERROR('Level 2'!BD$16/G$113*T$109*AG$109,\"*\")","v":20.36709263711569},{"$f":"IFERROR('Level 2'!BE$16/H$113*U$109*AH$109,\"*\")","v":22.141957325381483},{"$f":"IFERROR('Level 2'!BF$16/I$113*V$109*AI$109,\"*\")","v":21.398517668252101},{"$f":"IFERROR('Level 2'!BG$16/J$113*W$109*AJ$109,\"*\")","v":23.239540117990106},{"$f":"IFERROR('Level 2'!BH$16/K$113*X$109*AK$109,\"*\")","v":22.55120006014679},{"$f":"IFERROR('Level 2'!BI$16/L$113*Y$109*AL$109,\"*\")","v":21.007373387698959},{"$f":"IFERROR('Level 2'!BJ$16/M$113*Z$109*AM$109,\"*\")","v":18.791793406294961},{"$f":"IFERROR('Level 2'!BK$16/N$113*AA$109*AN$109,\"*\")","v":16.9109133708697},{"$f":"IFERROR('Level 2'!BL$16/O$113*AB$109*AO$109,\"*\")","v":"*"},null,{"$f":"'Oversættelse af landenavne'!$B$16","v":"Frankrig"},{"$f":"IFERROR('Level 2'!BO$16/E$113*R$109*AE$109,\"*\")","v":"*"},{"$f":"IFERROR('Level 2'!BP$16/F$113*S$109*AF$109,\"*\")","v":"*"},{"$f":"IFERROR('Level 2'!BQ$16/G$113*T$109*AG$109,\"*\")","v":"*"},{"$f":"IFERROR('Level 2'!BR$16/H$113*U$109*AH$109,\"*\")","v":"*"},{"$f":"IFERROR('Level 2'!BS$16/I$113*V$109*AI$109,\"*\")","v":"*"},{"$f":"IFERROR('Level 2'!BT$16/J$113*W$109*AJ$109,\"*\")","v":"*"},{"$f":"IFERROR('Level 2'!BU$16/K$113*X$109*AK$109,\"*\")","v":"*"},{"$f":"IFERROR('Level 2'!BV$16/L$113*Y$109*AL$109,\"*\")","v":"*"},{"$f":"IFERROR('Level 2'!BW$16/M$113*Z$109*AM$109,\"*\")","v":"*"},{"$f":"IFERROR('Level 2'!BX$16/N$113*AA$109*AN$109,\"*\")","v":"*"},{"$f":"IFERROR('Level 2'!BY$16/O$113*AB$109*AO$109,\"*\")","v":"*"}]
[null,null,null,{"$f":"'Oversættelse af landenavne'!$B$18","v":"Italien"},{"$f":"IFERROR('Level 2'!B$18/E$114*R$109*AE$109,\"*\")","v":35.707021195689343},{"$f":"IFERROR('Level 2'!C$18/F$114*S$109*AF$109,\"*\")","v":37.7226562053214},{"$f":"IFERROR('Level 2'!D$18/G$114*T$109*AG$109,\"*\")","v":41.643711285133229},{"$f":"IFERROR('Level 2'!E$18/H$114*U$109*AH$109,\"*\")","v":35.88521582248768},{"$f":"IFERROR('Level 2'!F$18/I$114*V$109*AI$109,\"*\")","v":41.400777289216421},{"$f":"IFERROR('Level 2'!G$18/J$114*W$109*AJ$109,\"*\")","v":48.320240250244623},{"$f":"IFERROR('Level 2'!H$18/K$114*X$109*AK$109,\"*\")","v":49.236399458292865},{"$f":"IFERROR('Level 2'!I$18/L$114*Y$109*AL$109,\"*\")","v":46.347672076731655},{"$f":"IFERROR('Level 2'!J$18/M$114*Z$109*AM$109,\"*\")","v":44.803669285971218},{"$f":"IFERROR('Level 2'!K$18/N$114*AA$109*AN$109,\"*\")","v":40.593738698479171},{"$f":"IFERROR('Level 2'!L$18/O$114*AB$109*AO$109,\"*\")","v":"*"},null,{"$f":"'Oversættelse af landenavne'!$B$18","v":"Italien"},{"$f":"IFERROR('Level 2'!O$18/E$114*R$109*AE$109,\"*\")","v":32.979595939500634},{"$f":"IFERROR('Level 2'!P$18/F$114*S$109*AF$109,\"*\")","v":34.952890939524451},{"$f":"IFERROR('Level 2'!Q$18/G$114*T$109*AG$109,\"*\")","v":35.385799510514133},{"$f":"IFERROR('Level 2'!R$18/H$114*U$109*AH$109,\"*\")","v":29.226378836592804},{"$f":"IFERROR('Level 2'!S$18/I$114*V$109*AI$109,\"*\")","v":33.378769487283101},{"$f":"IFERROR('Level 2'!T$18/J$114*W$109*AJ$109,\"*\")","v":40.73844018823921},{"$f":"IFERROR('Level 2'!U$18/K$114*X$109*AK$109,\"*\")","v":40.742678878267178},{"$f":"IFERROR('Level 2'!V$18/L$114*Y$109*AL$109,\"*\")","v":37.11329050485076},{"$f":"IFERROR('Level 2'!W$18/M$114*Z$109*AM$109,\"*\")","v":35.255566163669066},{"$f":"IFERROR('Level 2'!X$18/N$114*AA$109*AN$109,\"*\")","v":32.915996235219694},{"$f":"IFERROR('Level 2'!Y$18/O$114*AB$109*AO$109,\"*\")","v":"*"},null,{"$f":"'Oversættelse af landenavne'!$B$18","v":"Italien"},{"$f":"IFERROR('Level 2'!AB$18/E$114*R$109*AE$109,\"*\")","v":25.078756272464517},{"$f":"IFERROR('Level 2'!AC$18/F$114*S$109*AF$109,\"*\")","v":28.761735177352687},{"$f":"IFERROR('Level 2'!AD$18/G$114*T$109*AG$109,\"*\")","v":26.369023405148997},{"$f":"IFERROR('Level 2'!AE$18/H$114*U$109*AH$109,\"*\")","v":26.528559251676548},{"$f":"IFERROR('Level 2'!AF$18/I$114*V$109*AI$109,\"*\")","v":28.632183556035368},{"$f":"IFERROR('Level 2'!AG$18/J$114*W$109*AJ$109,\"*\")","v":30.217319087702723},{"$f":"IFERROR('Level 2'!AH$18/K$114*X$109*AK$109,\"*\")","v":30.074565829754924},{"$f":"IFERROR('Level 2'!AI$18/L$114*Y$109*AL$109,\"*\")","v":28.744209695195885},{"$f":"IFERROR('Level 2'!AJ$18/M$114*Z$109*AM$109,\"*\")","v":27.719001620503601},{"$f":"IFERROR('Level 2'!AK$18/N$114*AA$109*AN$109,\"*\")","v":24.574089199013898},{"$f":"IFERROR('Level 2'!AL$18/O$114*AB$109*AO$109,\"*\")","v":"*"},null,{"$f":"'Oversættelse af landenavne'!$B$18","v":"Italien"},{"$f":"IFERROR('Level 2'!AO$18/E$114*R$109*AE$109,\"*\")","v":25.579742002936779},{"$f":"IFERROR('Level 2'!AP$18/F$114*S$109*AF$109,\"*\")","v":31.134796731347283},{"$f":"IFERROR('Level 2'!AQ$18/G$114*T$109*AG$109,\"*\")","v":26.775563372586166},{"$f":"IFERROR('Level 2'!AR$18/H$114*U$109*AH$109,\"*\")","v":26.570712682690864},{"$f":"IFERROR('Level 2'!AS$18/I$114*V$109*AI$109,\"*\")","v":27.868843713290843},{"$f":"IFERROR('Level 2'!AT$18/J$114*W$109*AJ$109,\"*\")","v":26.495094781899336},{"$f":"IFERROR('Level 2'!AU$18/K$114*X$109*AK$109,\"*\")","v":28.37582171374979},{"$f":"IFERROR('Level 2'!AV$18/L$114*Y$109*AL$109,\"*\")","v":25.255965997472209},{"$f":"IFERROR('Level 2'!AW$18/M$114*Z$109*AM$109,\"*\")","v":22.918129544964028},{"$f":"IFERROR('Level 2'!AX$18/N$114*AA$109*AN$109,\"*\")","v":19.579571610457556},{"$f":"IFERROR('Level 2'!AY$18/O$114*AB$109*AO$109,\"*\")","v":"*"},null,{"$f":"'Oversættelse af landenavne'!$B$18","v":"Italien"},{"$f":"IFERROR('Level 2'!BB$18/E$114*R$109*AE$109,\"*\")","v":21.188749424091643},{"$f":"IFERROR('Level 2'!BC$18/F$114*S$109*AF$109,\"*\")","v":27.239366781519102},{"$f":"IFERROR('Level 2'!BD$18/G$114*T$109*AG$109,\"*\")","v":23.032591948250822},{"$f":"IFERROR('Level 2'!BE$18/H$114*U$109*AH$109,\"*\")","v":24.055557965503304},{"$f":"IFERROR('Level 2'!BF$18/I$114*V$109*AI$109,\"*\")","v":25.925796840850246},{"$f":"IFERROR('Level 2'!BG$18/J$114*W$109*AJ$109,\"*\")","v":24.874347667195284},{"$f":"IFERROR('Level 2'!BH$18/K$114*X$109*AK$109,\"*\")","v":24.991923434667562},{"$f":"IFERROR('Level 2'!BI$18/L$114*Y$109*AL$109,\"*\")","v":22.754705981662593},{"$f":"IFERROR('Level 2'!BJ$18/M$114*Z$109*AM$109,\"*\")","v":20.692026850719426},{"$f":"IFERROR('Level 2'!BK$18/N$114*AA$109*AN$109,\"*\")","v":16.365015077397363},{"$f":"IFERROR('Level 2'!BL$18/O$114*AB$109*AO$109,\"*\")","v":"*"},null,{"$f":"'Oversættelse af landenavne'!$B$18","v":"Italien"},{"$f":"IFERROR('Level 2'!BO$18/E$114*R$109*AE$109,\"*\")","v":"*"},{"$f":"IFERROR('Level 2'!BP$18/F$114*S$109*AF$109,\"*\")","v":"*"},{"$f":"IFERROR('Level 2'!BQ$18/G$114*T$109*AG$109,\"*\")","v":"*"},{"$f":"IFERROR('Level 2'!BR$18/H$114*U$109*AH$109,\"*\")","v":25.039138022504027},{"$f":"IFERROR('Level 2'!BS$18/I$114*V$109*AI$109,\"*\")","v":24.884878873471358},{"$f":"IFERROR('Level 2'!BT$18/J$114*W$109*AJ$109,\"*\")","v":23.62444946856758},{"$f":"IFERROR('Level 2'!BU$18/K$114*X$109*AK$109,\"*\")","v":24.366785599977671},{"$f":"IFERROR('Level 2'!BV$18/L$114*Y$109*AL$109,\"*\")","v":21.42971418950399},{"$f":"IFERROR('Level 2'!BW$18/M$114*Z$109*AM$109,\"*\")","v":19.48510370323741},{"$f":"IFERROR('Level 2'!BX$18/N$114*AA$109*AN$109,\"*\")","v":15.249218594847541},{"$f":"IFERROR('Level 2'!BY$18/O$114*AB$109*AO$109,\"*\")","v":"*"}]
[null,null,null,{"$f":"'Oversættelse af landenavne'!$B$23","v":"Holland"},{"$f":"IFERROR('Level 2'!B$23/E$115*R$109*AE$109,\"*\")","v":45.348810836636574},{"$f":"IFERROR('Level 2'!C$23/F$115*S$109*AF$109,\"*\")","v":45.41716998583243},{"$f":"IFERROR('Level 2'!D$23/G$115*T$109*AG$109,\"*\")","v":45.864236810036722},{"$f":"IFERROR('Level 2'!E$23/H$115*U$109*AH$109,\"*\")","v":41.176597654762837},{"$f":"IFERROR('Level 2'!F$23/I$115*V$109*AI$109,\"*\")","v":42.951283669007275},{"$f":"IFERROR('Level 2'!G$23/J$115*W$109*AJ$109,\"*\")","v":46.461749246350905},{"$f":"IFERROR('Level 2'!H$23/K$115*X$109*AK$109,\"*\")","v":47.795318764873841},{"$f":"IFERROR('Level 2'!I$23/L$115*Y$109*AL$109,\"*\")","v":46.97690401267387},{"$f":"IFERROR('Level 2'!J$23/M$115*Z$109*AM$109,\"*\")","v":45.219387258992803},{"$f":"IFERROR('Level 2'!K$23/N$115*AA$109*AN$109,\"*\")","v":46.964716523581579},{"$f":"IFERROR('Level 2'!L$23/O$115*AB$109*AO$109,\"*\")","v":"*"},null,{"$f":"'Oversættelse af landenavne'!$B$23","v":"Holland"},{"$f":"IFERROR('Level 2'!O$23/E$115*R$109*AE$109,\"*\")","v":41.236648535026539},{"$f":"IFERROR('Level 2'!P$23/F$115*S$109*AF$109,\"*\")","v":37.681509812047693},{"$f":"IFERROR('Level 2'!Q$23/G$115*T$109*AG$109,\"*\")","v":42.5652548267485},{"$f":"IFERROR('Level 2'!R$23/H$115*U$109*AH$109,\"*\")","v":37.6539112942678},{"$f":"IFERROR('Level 2'!S$23/I$115*V$109*AI$109,\"*\")","v":39.110900978137359},{"$f":"IFERROR('Level 2'!T$23/J$115*W$109*AJ$109,\"*\")","v":39.775623804144757},{"$f":"IFERROR('Level 2'!U$23/K$115*X$109*AK$109,\"*\")","v":43.137990828410274},{"$f":"IFERROR('Level 2'!V$23/L$115*Y$109*AL$109,\"*\")","v":43.311465719086009},{"$f":"IFERROR('Level 2'!W$23/M$115*Z$109*AM$109,\"*\")","v":41.544976787769784},{"$f":"IFERROR('Level 2'!X$23/N$115*AA$109*AN$109,\"*\")","v":42.753351477766657},{"$f":"IFERROR('Level 2'!Y$23/O$115*AB$109*AO$109,\"*\")","v":"*"},null,{"$f":"'Oversættelse af landenavne'!$B$23","v":"Holland"},{"$f":"IFERROR('Level 2'!AB$23/E$115*R$109*AE$109,\"*\")","v":25.104319505633317},{"$f":"IFERROR('Level 2'!AC$23/F$115*S$109*AF$109,\"*\")","v":30.633775860614033},{"$f":"IFERROR('Level 2'!AD$23/G$115*T$109*AG$109,\"*\")","v":29.690837849594033},{"$f":"IFERROR('Level 2'!AE$23/H$115*U$109*AH$109,\"*\")","v":30.483718977827117},{"$f":"IFERROR('Level 2'!AF$23/I$115*V$109*AI$109,\"*\")","v":35.381431866787146},{"$f":"IFERROR('Level 2'!AG$23/J$115*W$109*AJ$109,\"*\")","v":38.6703663330862},{"$f":"IFERROR('Level 2'!AH$23/K$115*X$109*AK$109,\"*\")","v":36.158788031494041},{"$f":"IFERROR('Level 2'!AI$23/L$115*Y$109*AL$109,\"*\")","v":30.698045708798361},{"$f":"IFERROR('Level 2'!AJ$23/M$115*Z$109*AM$109,\"*\")","v":28.563847823741007},{"$f":"IFERROR('Level 2'!AK$23/N$115*AA$109*AN$109,\"*\")","v":26.094470758562064},{"$f":"IFERROR('Level 2'!AL$23/O$115*AB$109*AO$109,\"*\")","v":"*"},null,{"$f":"'Oversættelse af landenavne'!$B$23","v":"Holland"},{"$f":"IFERROR('Level 2'!AO$23/E$115*R$109*AE$109,\"*\")","v":21.883604975700976},{"$f":"IFERROR('Level 2'!AP$23/F$115*S$109*AF$109,\"*\")","v":25.253912015615271},{"$f":"IFERROR('Level 2'!AQ$23/G$115*T$109*AG$109,\"*\")","v":22.310064598847486},{"$f":"IFERROR('Level 2'!AR$23/H$115*U$109*AH$109,\"*\")","v":21.205462382664994},{"$f":"IFERROR('Level 2'!AS$23/I$115*V$109*AI$109,\"*\")","v":21.489506031943606},{"$f":"IFERROR('Level 2'!AT$23/J$115*W$109*AJ$109,\"*\")","v":23.169471430338874},{"$f":"IFERROR('Level 2'!AU$23/K$115*X$109*AK$109,\"*\")","v":24.522257298114244},{"$f":"IFERROR('Level 2'!AV$23/L$115*Y$109*AL$109,\"*\")","v":23.20545860867022},{"$f":"IFERROR('Level 2'!AW$23/M$115*Z$109*AM$109,\"*\")","v":22.167155142086333},{"$f":"IFERROR('Level 2'!AX$23/N$115*AA$109*AN$109,\"*\")","v":17.725049085233685},{"$f":"IFERROR('Level 2'!AY$23/O$115*AB$109*AO$109,\"*\")","v":"*"},null,{"$f":"'Oversættelse af landenavne'!$B$23","v":"Holland"},{"$f":"IFERROR('Level 2'!BB$23/E$115*R$109*AE$109,\"*\")","v":20.532055128318657},{"$f":"IFERROR('Level 2'!BC$23/F$115*S$109*AF$109,\"*\")","v":24.62635482910315},{"$f":"IFERROR('Level 2'!BD$23/G$115*T$109*AG$109,\"*\")","v":19.891743060250612},{"$f":"IFERROR('Level 2'!BE$23/H$115*U$109*AH$109,\"*\")","v":18.126579028216582},{"$f":"IFERROR('Level 2'!BF$23/I$115*V$109*AI$109,\"*\")","v":21.86383936282262},{"$f":"IFERROR('Level 2'!BG$23/J$115*W$109*AJ$109,\"*\")","v":23.715277588886313},{"$f":"IFERROR('Level 2'!BH$23/K$115*X$109*AK$109,\"*\")","v":22.75708927554788},{"$f":"IFERROR('Level 2'!BI$23/L$115*Y$109*AL$109,\"*\")","v":20.981939055574649},{"$f":"IFERROR('Level 2'!BJ$23/M$115*Z$109*AM$109,\"*\")","v":18.707308785971222},{"$f":"IFERROR('Level 2'!BK$23/N$115*AA$109*AN$109,\"*\")","v":13.007254065554942},{"$f":"IFERROR('Level 2'!BL$23/O$115*AB$109*AO$109,\"*\")","v":"*"},null,{"$f":"'Oversættelse af landenavne'!$B$23","v":"Holland"},{"$f":"IFERROR('Level 2'!BO$23/E$115*R$109*AE$109,\"*\")","v":"*"},{"$f":"IFERROR('Level 2'!BP$23/F$115*S$109*AF$109,\"*\")","v":"*"},{"$f":"IFERROR('Level 2'!BQ$23/G$115*T$109*AG$109,\"*\")","v":"*"},{"$f":"IFERROR('Level 2'!BR$23/H$115*U$109*AH$109,\"*\")","v":"*"},{"$f":"IFERROR('Level 2'!BS$23/I$115*V$109*AI$109,\"*\")","v":"*"},{"$f":"IFERROR('Level 2'!BT$23/J$115*W$109*AJ$109,\"*\")","v":"*"},{"$f":"IFERROR('Level 2'!BU$23/K$115*X$109*AK$109,\"*\")","v":"*"},{"$f":"IFERROR('Level 2'!BV$23/L$115*Y$109*AL$109,\"*\")","v":"*"},{"$f":"IFERROR('Level 2'!BW$23/M$115*Z$109*AM$109,\"*\")","v":"*"},{"$f":"IFERROR('Level 2'!BX$23/N$115*AA$109*AN$109,\"*\")","v":"*"},{"$f":"IFERROR('Level 2'!BY$23/O$115*AB$109*AO$109,\"*\")","v":"*"}]
[null,null,null,{"$f":"'Oversættelse af landenavne'!$B$31","v":"Sverige"},{"$f":"IFERROR('Level 2'!B$31/E$116*R$109*AE$109,\"*\")","v":46.554617848373532},{"$f":"IFERROR('Level 2'!C$31/F$116*S$109*AF$109,\"*\")","v":54.787883479030832},{"$f":"IFERROR('Level 2'!D$31/G$116*T$109*AG$109,\"*\")","v":49.189142701773008},{"$f":"IFERROR('Level 2'!E$31/H$116*U$109*AH$109,\"*\")","v":49.71045481736553},{"$f":"IFERROR('Level 2'!F$31/I$116*V$109*AI$109,\"*\")","v":50.817310159529278},{"$f":"IFERROR('Level 2'!G$31/J$116*W$109*AJ$109,\"*\")","v":54.178046310016299},{"$f":"IFERROR('Level 2'!H$31/K$116*X$109*AK$109,\"*\")","v":53.793456691489283},{"$f":"IFERROR('Level 2'!I$31/L$116*Y$109*AL$109,\"*\")","v":48.99404713710836},{"$f":"IFERROR('Level 2'!J$31/M$116*Z$109*AM$109,\"*\")","v":50.885757333848929},{"$f":"IFERROR('Level 2'!K$31/N$116*AA$109*AN$109,\"*\")","v":45.606513902796621},{"$f":"IFERROR('Level 2'!L$31/O$116*AB$109*AO$109,\"*\")","v":"*"},null,{"$f":"'Oversættelse af landenavne'!$B$31","v":"Sverige"},{"$f":"IFERROR('Level 2'!O$31/E$116*R$109*AE$109,\"*\")","v":42.090170553973941},{"$f":"IFERROR('Level 2'!P$31/F$116*S$109*AF$109,\"*\")","v":49.071221743930352},{"$f":"IFERROR('Level 2'!Q$31/G$116*T$109*AG$109,\"*\")","v":44.777645363531541},{"$f":"IFERROR('Level 2'!R$31/H$116*U$109*AH$109,\"*\")","v":42.865657922196711},{"$f":"IFERROR('Level 2'!S$31/I$116*V$109*AI$109,\"*\")","v":45.540395814327432},{"$f":"IFERROR('Level 2'!T$31/J$116*W$109*AJ$109,\"*\")","v":45.983412816598303},{"$f":"IFERROR('Level 2'!U$31/K$116*X$109*AK$109,\"*\")","v":45.691787843466699},{"$f":"IFERROR('Level 2'!V$31/L$116*Y$109*AL$109,\"*\")","v":41.157262292267816},{"$f":"IFERROR('Level 2'!W$31/M$116*Z$109*AM$109,\"*\")","v":40.821091104424454},{"$f":"IFERROR('Level 2'!X$31/N$116*AA$109*AN$109,\"*\")","v":36.442464629366356},{"$f":"IFERROR('Level 2'!Y$31/O$116*AB$109*AO$109,\"*\")","v":"*"},null,{"$f":"'Oversættelse af landenavne'!$B$31","v":"Sverige"},{"$f":"IFERROR('Level 2'!AB$31/E$116*R$109*AE$109,\"*\")","v":24.128641795452367},{"$f":"IFERROR('Level 2'!AC$31/F$116*S$109*AF$109,\"*\")","v":34.221743694535682},{"$f":"IFERROR('Level 2'!AD$31/G$116*T$109*AG$109,\"*\")","v":33.301656097305816},{"$f":"IFERROR('Level 2'!AE$31/H$116*U$109*AH$109,\"*\")","v":28.346871915391826},{"$f":"IFERROR('Level 2'!AF$31/I$116*V$109*AI$109,\"*\")","v":28.791910627471239},{"$f":"IFERROR('Level 2'!AG$31/J$116*W$109*AJ$109,\"*\")","v":29.340394602579405},{"$f":"IFERROR('Level 2'!AH$31/K$116*X$109*AK$109,\"*\")","v":27.061430477402009},{"$f":"IFERROR('Level 2'!AI$31/L$116*Y$109*AL$109,\"*\")","v":27.591594597996636},{"$f":"IFERROR('Level 2'!AJ$31/M$116*Z$109*AM$109,\"*\")","v":25.854975870503598},{"$f":"IFERROR('Level 2'!AK$31/N$116*AA$109*AN$109,\"*\")","v":22.884486082422008},{"$f":"IFERROR('Level 2'!AL$31/O$116*AB$109*AO$109,\"*\")","v":"*"},null,{"$f":"'Oversættelse af landenavne'!$B$31","v":"Sverige"},{"$f":"IFERROR('Level 2'!AO$31/E$116*R$109*AE$109,\"*\")","v":"*"},{"$f":"IFERROR('Level 2'!AP$31/F$116*S$109*AF$109,\"*\")","v":"*"},{"$f":"IFERROR('Level 2'!AQ$31/G$116*T$109*AG$109,\"*\")","v":23.742176150909206},{"$f":"IFERROR('Level 2'!AR$31/H$116*U$109*AH$109,\"*\")","v":21.345977971687773},{"$f":"IFERROR('Level 2'!AS$31/I$116*V$109*AI$109,\"*\")","v":22.898909835875262},{"$f":"IFERROR('Level 2'!AT$31/J$116*W$109*AJ$109,\"*\")","v":27.141828013269265},{"$f":"IFERROR('Level 2'!AU$31/K$116*X$109*AK$109,\"*\")","v":27.177463290311302},{"$f":"IFERROR('Level 2'!AV$31/L$116*Y$109*AL$109,\"*\")","v":26.154116442384655},{"$f":"IFERROR('Level 2'!AW$31/M$116*Z$109*AM$109,\"*\")","v":24.849206580935252},{"$f":"IFERROR('Level 2'!AX$31/N$116*AA$109*AN$109,\"*\")","v":24.611617107510455},{"$f":"IFERROR('Level 2'!AY$31/O$116*AB$109*AO$109,\"*\")","v":"*"},null,{"$f":"'Oversættelse af landenavne'!$B$31","v":"Sverige"},{"$f":"IFERROR('Level 2'!BB$31/E$116*R$109*AE$109,\"*\")","v":"*"},{"$f":"IFERROR('Level 2'!BC$31/F$116*S$109*AF$109,\"*\")","v":"*"},{"$f":"IFERROR('Level 2'!BD$31/G$116*T$109*AG$109,\"*\")","v":24.236461566958663},{"$f":"IFERROR('Level 2'!BE$31/H$116*U$109*AH$109,\"*\")","v":21.463344173593956},{"$f":"IFERROR('Level 2'!BF$31/I$116*V$109*AI$109,\"*\")","v":23.09122221602059},{"$f":"IFERROR('Level 2'!BG$31/J$116*W$109*AJ$109,\"*\")","v":27.966290484260561},{"$f":"IFERROR('Level 2'!BH$31/K$116*X$109*AK$109,\"*\")","v":24.573171267235939},{"$f":"IFERROR('Level 2'!BI$31/L$116*Y$109*AL$109,\"*\")","v":25.022767893986341},{"$f":"IFERROR('Level 2'!BJ$31/M$116*Z$109*AM$109,\"*\")","v":25.211283525179851},{"$f":"IFERROR('Level 2'!BK$31/N$116*AA$109*AN$109,\"*\")","v":23.85599728403426},{"$f":"IFERROR('Level 2'!BL$31/O$116*AB$109*AO$109,\"*\")","v":"*"},null,{"$f":"'Oversættelse af landenavne'!$B$31","v":"Sverige"},{"$f":"IFERROR('Level 2'!BO$31/E$116*R$109*AE$109,\"*\")","v":"*"},{"$f":"IFERROR('Level 2'!BP$31/F$116*S$109*AF$109,\"*\")","v":"*"},{"$f":"IFERROR('Level 2'!BQ$31/G$116*T$109*AG$109,\"*\")","v":"*"},{"$f":"IFERROR('Level 2'!BR$31/H$116*U$109*AH$109,\"*\")","v":"*"},{"$f":"IFERROR('Level 2'!BS$31/I$116*V$109*AI$109,\"*\")","v":"*"},{"$f":"IFERROR('Level 2'!BT$31/J$116*W$109*AJ$109,\"*\")","v":"*"},{"$f":"IFERROR('Level 2'!BU$31/K$116*X$109*AK$109,\"*\")","v":"*"},{"$f":"IFERROR('Level 2'!BV$31/L$116*Y$109*AL$109,\"*\")","v":"*"},{"$f":"IFERROR('Level 2'!BW$31/M$116*Z$109*AM$109,\"*\")","v":"*"},{"$f":"IFERROR('Level 2'!BX$31/N$116*AA$109*AN$109,\"*\")","v":"*"},{"$f":"IFERROR('Level 2'!BY$31/O$116*AB$109*AO$109,\"*\")","v":"*"}]
[null,null,null,{"$f":"'Oversættelse af landenavne'!$B$32","v":"UK"},{"$f":"IFERROR('Level 2'!B$32/E$117*R$109*AE$109,\"*\")","v":33.562174793530801},{"$f":"IFERROR('Level 2'!C$32/F$117*S$109*AF$109,\"*\")","v":38.093702280585518},{"$f":"IFERROR('Level 2'!D$32/G$117*T$109*AG$109,\"*\")","v":40.048924853354457},{"$f":"IFERROR('Level 2'!E$32/H$117*U$109*AH$109,\"*\")","v":35.549120917823593},{"$f":"IFERROR('Level 2'!F$32/I$117*V$109*AI$109,\"*\")","v":37.771211882374352},{"$f":"IFERROR('Level 2'!G$32/J$117*W$109*AJ$109,\"*\")","v":43.740858563160664},{"$f":"IFERROR('Level 2'!H$32/K$117*X$109*AK$109,\"*\")","v":44.959585298874664},{"$f":"IFERROR('Level 2'!I$32/L$117*Y$109*AL$109,\"*\")","v":46.54596816036824},{"$f":"IFERROR('Level 2'!J$32/M$117*Z$109*AM$109,\"*\")","v":44.64931722566547},{"$f":"IFERROR('Level 2'!K$32/N$117*AA$109*AN$109,\"*\")","v":34.408110374216221},{"$f":"IFERROR('Level 2'!L$32/O$117*AB$109*AO$109,\"*\")","v":"*"},null,{"$f":"'Oversættelse af landenavne'!$B$32","v":"UK"},{"$f":"IFERROR('Level 2'!O$32/E$117*R$109*AE$109,\"*\")","v":28.910083882176718},{"$f":"IFERROR('Level 2'!P$32/F$117*S$109*AF$109,\"*\")","v":30.880895576175188},{"$f":"IFERROR('Level 2'!Q$32/G$117*T$109*AG$109,\"*\")","v":29.166029588506362},{"$f":"IFERROR('Level 2'!R$32/H$117*U$109*AH$109,\"*\")","v":26.468336289930978},{"$f":"IFERROR('Level 2'!S$32/I$117*V$109*AI$109,\"*\")","v":28.740281366452894},{"$f":"IFERROR('Level 2'!T$32/J$117*W$109*AJ$109,\"*\")","v":32.211754350217504},{"$f":"IFERROR('Level 2'!U$32/K$117*X$109*AK$109,\"*\")","v":34.247650051801443},{"$f":"IFERROR('Level 2'!V$32/L$117*Y$109*AL$109,\"*\")","v":33.46314365810543},{"$f":"IFERROR('Level 2'!W$32/M$117*Z$109*AM$109,\"*\")","v":29.629963270683451},{"$f":"IFERROR('Level 2'!X$32/N$117*AA$109*AN$109,\"*\")","v":21.837109341157188},{"$f":"IFERROR('Level 2'!Y$32/O$117*AB$109*AO$109,\"*\")","v":"*"},null,{"$f":"'Oversættelse af landenavne'!$B$32","v":"UK"},{"$f":"IFERROR('Level 2'!AB$32/E$117*R$109*AE$109,\"*\")","v":19.294860669859176},{"$f":"IFERROR('Level 2'!AC$32/F$117*S$109*AF$109,\"*\")","v":28.505187104420184},{"$f":"IFERROR('Level 2'!AD$32/G$117*T$109*AG$109,\"*\")","v":29.727794826500478},{"$f":"IFERROR('Level 2'!AE$32/H$117*U$109*AH$109,\"*\")","v":29.853747895232303},{"$f":"IFERROR('Level 2'!AF$32/I$117*V$109*AI$109,\"*\")","v":41.450775830367874},{"$f":"IFERROR('Level 2'!AG$32/J$117*W$109*AJ$109,\"*\")","v":41.051341607324211},{"$f":"IFERROR('Level 2'!AH$32/K$117*X$109*AK$109,\"*\")","v":42.477506528070883},{"$f":"IFERROR('Level 2'!AI$32/L$117*Y$109*AL$109,\"*\")","v":38.700306296795247},{"$f":"IFERROR('Level 2'!AJ$32/M$117*Z$109*AM$109,\"*\")","v":32.358950609712238},{"$f":"IFERROR('Level 2'!AK$32/N$117*AA$109*AN$109,\"*\")","v":27.67904770741454},{"$f":"IFERROR('Level 2'!AL$32/O$117*AB$109*AO$109,\"*\")","v":"*"},null,{"$f":"'Oversættelse af landenavne'!$B$32","v":"UK"},{"$f":"IFERROR('Level 2'!AO$32/E$117*R$109*AE$109,\"*\")","v":18.472770188574778},{"$f":"IFERROR('Level 2'!AP$32/F$117*S$109*AF$109,\"*\")","v":26.046283260999932},{"$f":"IFERROR('Level 2'!AQ$32/G$117*T$109*AG$109,\"*\")","v":25.263220548920589},{"$f":"IFERROR('Level 2'!AR$32/H$117*U$109*AH$109,\"*\")","v":26.070002483160017},{"$f":"IFERROR('Level 2'!AS$32/I$117*V$109*AI$109,\"*\")","v":26.51982553238971},{"$f":"IFERROR('Level 2'!AT$32/J$117*W$109*AJ$109,\"*\")","v":27.696573973809489},{"$f":"IFERROR('Level 2'!AU$32/K$117*X$109*AK$109,\"*\")","v":28.813159998334729},{"$f":"IFERROR('Level 2'!AV$32/L$117*Y$109*AL$109,\"*\")","v":26.691859653246627},{"$f":"IFERROR('Level 2'!AW$32/M$117*Z$109*AM$109,\"*\")","v":22.899221082320143},{"$f":"IFERROR('Level 2'!AX$32/N$117*AA$109*AN$109,\"*\")","v":15.131854022079516},{"$f":"IFERROR('Level 2'!AY$32/O$117*AB$109*AO$109,\"*\")","v":"*"},null,{"$f":"'Oversættelse af landenavne'!$B$32","v":"UK"},{"$f":"IFERROR('Level 2'!BB$32/E$117*R$109*AE$109,\"*\")","v":17.043303376752892},{"$f":"IFERROR('Level 2'!BC$32/F$117*S$109*AF$109,\"*\")","v":23.75658753405418},{"$f":"IFERROR('Level 2'!BD$32/G$117*T$109*AG$109,\"*\")","v":22.571864190628077},{"$f":"IFERROR('Level 2'!BE$32/H$117*U$109*AH$109,\"*\")","v":23.469337428350588},{"$f":"IFERROR('Level 2'!BF$32/I$117*V$109*AI$109,\"*\")","v":24.295459247776488},{"$f":"IFERROR('Level 2'!BG$32/J$117*W$109*AJ$109,\"*\")","v":25.821854511484116},{"$f":"IFERROR('Level 2'!BH$32/K$117*X$109*AK$109,\"*\")","v":26.523577480679304},{"$f":"IFERROR('Level 2'!BI$32/L$117*Y$109*AL$109,\"*\")","v":24.591049896147339},{"$f":"IFERROR('Level 2'!BJ$32/M$117*Z$109*AM$109,\"*\")","v":18.765509302194243},{"$f":"IFERROR('Level 2'!BK$32/N$117*AA$109*AN$109,\"*\")","v":11.570370993870922},{"$f":"IFERROR('Level 2'!BL$32/O$117*AB$109*AO$109,\"*\")","v":"*"},null,{"$f":"'Oversættelse af landenavne'!$B$32","v":"UK"},{"$f":"IFERROR('Level 2'!BO$32/E$117*R$109*AE$109,\"*\")","v":"*"},{"$f":"IFERROR('Level 2'!BP$32/F$117*S$109*AF$109,\"*\")","v":"*"},{"$f":"IFERROR('Level 2'!BQ$32/G$117*T$109*AG$109,\"*\")","v":22.044691295704801},{"$f":"IFERROR('Level 2'!BR$32/H$117*U$109*AH$109,\"*\")","v":"*"},{"$f":"IFERROR('Level 2'!BS$32/I$117*V$109*AI$109,\"*\")","v":"*"},{"$f":"IFERROR('Level 2'!BT$32/J$117*W$109*AJ$109,\"*\")","v":"*"},{"$f":"IFERROR('Level 2'!BU$32/K$117*X$109*AK$109,\"*\")","v":"*"},{"$f":"IFERROR('Level 2'!BV$32/L$117*Y$109*AL$109,\"*\")","v":"*"},{"$f":"IFERROR('Level 2'!BW$32/M$117*Z$109*AM$109,\"*\")","v":"*"},{"$f":"IFERROR('Level 2'!BX$32/N$117*AA$109*AN$109,\"*\")","v":"*"},{"$f":"IFERROR('Level 2'!BY$32/O$117*AB$109*AO$109,\"*\")","v":"*"}]
[null,null,null,"Kilde: Eurostat",null,null,null,null,null,null,null,null,null,null,null,null,"Kilde: Eurostat",null,null,null,null,null,null,null,null,null,null,null,null,"Kilde: Eurostat",null,null,null,null,null,null,null,null,null,null,null,null,"Kilde: Eurostat",null,null,null,null,null,null,null,null,null,null,null,null,"Kilde: Eurostat",null,null,null,null,null,null,null,null,null,null,null,null,"Kilde: Eurostat"]
[]
[]
[]
[]
[]
[]
[]
[null,null,null,"Baggrundstabeller"]
[null,null,null,"Herunder vises de tabeller, der framkoller som resultatet er valgene truffet øverst i valgmenuen. De ganges på rådata for at få resultattabellerne som kan ses længere oppe."]
[]
[]
[null,null,null,"Tabel B - BVT Deflatoren",null,null,null,null,null,null,null,null,null,null,null,null,"Tabel C - Valutakurs",null,null,null,null,null,null,null,null,null,null,null,null,"Tabel D - Omregningsfaktor for valgt enhed"]
[null,null,null,"Tabel B fremkommer som resultat af valgene truffet for faste/løbende priser og basisår.\n\nBVT deflatoren vises for samtlige lande for det valgte år. Væles løbende priser deflaterer man ikke, hvorfor der vil stå et 1-tal i alle celler.\n\nFormlen gør at \"fejlværdien\" svarer til at man har valgt løbende priser (gælder både for overskrift og formler). Med denne metode kan indeksværdien ganges direkte på rådata uanset hvilken valuta der vælges.",null,null,null,null,null,null,null,null,null,null,null,null,"Tabel C viser hvilken kurs der ganges på rådata (opgivet i euro) for at få priserne vist i den valuta der er valgt i valgmenuen øverst.\n\nKursen ændres efter valgt år og valuta.",null,null,null,null,null,null,null,null,null,null,null,null,"Tabel D viser hvilken faktor der ganges på den oprindelige (opgivet i GJ), for at få vist priserne i den enhed der er valgt i valgmenuen øverst.\n\nFormlen gør så \"fejlværdien\" svarer til at man har valgt GJ (gælder både for overskrift og formler). \nMed denne metode kan omregningsfaktoren ganges direkte på rådata uanset hvilken enhed der vælges."]
[]
[null,null,null,{"$f":"IF($E$12=\"faste priser\",\"BVT deflatoren med basisåret \"&$E$13&\"\",\"Prisindeks for løbende priser år \"&$E$11)","v":"BVT deflatoren med basisåret 2015"},null,null,null,null,null,null,null,null,null,null,null,null,{"$f":"\"Valutakursen for \"&E14&\" i fht. Euro\"","v":"Valutakursen for DKK øre i fht. Euro"},null,null,null,null,null,null,null,null,null,null,null,null,{"$f":"\"Omregningsfaktoren for \"&$E$15&\" i fht. GJ\"","v":"Omregningsfaktoren for Kwh i fht. GJ"}]
[null,null,null,null,{"$f":"'Baggrundsdata - BVT - deflator'!C22","v":2007},{"$f":"'Baggrundsdata - BVT - deflator'!D22","v":2008},{"$f":"'Baggrundsdata - BVT - deflator'!E22","v":2009},{"$f":"'Baggrundsdata - BVT - deflator'!F22","v":2010},{"$f":"'Baggrundsdata - BVT - deflator'!G22","v":2011},{"$f":"'Baggrundsdata - BVT - deflator'!H22","v":2012},{"$f":"'Baggrundsdata - BVT - deflator'!I22","v":2013},{"$f":"'Baggrundsdata - BVT - deflator'!J22","v":2014},{"$f":"'Baggrundsdata - BVT - deflator'!K22","v":2015},{"$f":"'Baggrundsdata - BVT - deflator'!L22","v":2016},{"$f":"'Baggrundsdata - BVT - deflator'!M22","v":2017},null,null,{"$f":"Forside!E55","v":2007},{"$f":"Forside!F55","v":2008},{"$f":"Forside!G55","v":2009},{"$f":"Forside!H55","v":2010},{"$f":"Forside!I55","v":2011},{"$f":"Forside!J55","v":2012},{"$f":"Forside!K55","v":2013},{"$f":"Forside!L55","v":2014},{"$f":"Forside!M55","v":2015},{"$f":"Forside!N55","v":2016},{"$f":"Forside!O55","v":2017},null,null,{"$f":"Forside!E62","v":2007},{"$f":"Forside!F62","v":2008},{"$f":"Forside!G62","v":2009},{"$f":"Forside!H62","v":2010},{"$f":"Forside!I62","v":2011},{"$f":"Forside!J62","v":2012},{"$f":"Forside!K62","v":2013},{"$f":"Forside!L62","v":2014},{"$f":"Forside!M62","v":2015},{"$f":"Forside!N62","v":2016},{"$f":"Forside!O62","v":2017}]
[null,null,null,{"$f":"'Baggrundsdata - BVT - deflator'!Q23","v":"EU-28"},{"$f":"IF($E$12=\"faste priser\",HLOOKUP(E$108,'Baggrundsdata - BVT - deflator'!$R$22:$AB$31,2,FALSE),1)","v":0.91172320942799445},{"$f":"IF($E$12=\"faste priser\",HLOOKUP(F$108,'Baggrundsdata - BVT - deflator'!$R$22:$AB$31,2,FALSE),1)","v":0.91473861844471294},{"$f":"IF($E$12=\"faste priser\",HLOOKUP(G$108,'Baggrundsdata - BVT - deflator'!$R$22:$AB$31,2,FALSE),1)","v":0.90583993434338783},{"$f":"IF($E$12=\"faste priser\",HLOOKUP(H$108,'Baggrundsdata - BVT - deflator'!$R$22:$AB$31,2,FALSE),1)","v":0.92214343018913159},{"$f":"IF($E$12=\"faste priser\",HLOOKUP(I$108,'Baggrundsdata - BVT - deflator'!$R$22:$AB$31,2,FALSE),1)","v":0.93099600711894726},{"$f":"IF($E$12=\"faste priser\",HLOOKUP(J$108,'Baggrundsdata - BVT - deflator'!$R$22:$AB$31,2,FALSE),1)","v":0.95230674179061814},{"$f":"IF($E$12=\"faste priser\",HLOOKUP(K$108,'Baggrundsdata - BVT - deflator'!$R$22:$AB$31,2,FALSE),1)","v":0.95744308069677164},{"$f":"IF($E$12=\"faste priser\",HLOOKUP(L$108,'Baggrundsdata - BVT - deflator'!$R$22:$AB$31,2,FALSE),1)","v":0.97247401860885441},{"$f":"IF($E$12=\"faste priser\",HLOOKUP(M$108,'Baggrundsdata - BVT - deflator'!$R$22:$AB$31,2,FALSE),1)","v":1},{"$f":"IF($E$12=\"faste priser\",HLOOKUP(N$108,'Baggrundsdata - BVT - deflator'!$R$22:$AB$31,2,FALSE),1)","v":1.0283051072464868},{"$f":"IF($E$12=\"faste priser\",HLOOKUP(O$108,'Baggrundsdata - BVT - deflator'!$R$22:$AB$31,2,FALSE),1)","v":0},null,"Alle lande",{"$f":"IF($E$14=\"Euro\",1,IF($E$14=\"eurocent\",100,IF($E$14=\"DKK øre\",HLOOKUP(R108,Forside!$E$55:$O$56,2,FALSE),IF($E$14=\"DKK\",((HLOOKUP(R108,Forside!$E$55:$O$56,2,FALSE))/100),\"F\"))))","v":745.59739999999999},{"$f":"IF($E$14=\"Euro\",1,IF($E$14=\"eurocent\",100,IF($E$14=\"DKK øre\",HLOOKUP(S108,Forside!$E$55:$O$56,2,FALSE),IF($E$14=\"DKK\",((HLOOKUP(S108,Forside!$E$55:$O$56,2,FALSE))/100),\"F\"))))","v":744.62509999999997},{"$f":"IF($E$14=\"Euro\",1,IF($E$14=\"eurocent\",100,IF($E$14=\"DKK øre\",HLOOKUP(T108,Forside!$E$55:$O$56,2,FALSE),IF($E$14=\"DKK\",((HLOOKUP(T108,Forside!$E$55:$O$56,2,FALSE))/100),\"F\"))))","v":744.62509999999997},{"$f":"IF($E$14=\"Euro\",1,IF($E$14=\"eurocent\",100,IF($E$14=\"DKK øre\",HLOOKUP(U108,Forside!$E$55:$O$56,2,FALSE),IF($E$14=\"DKK\",((HLOOKUP(U108,Forside!$E$55:$O$56,2,FALSE))/100),\"F\"))))","v":744.73659999999995},{"$f":"IF($E$14=\"Euro\",1,IF($E$14=\"eurocent\",100,IF($E$14=\"DKK øre\",HLOOKUP(V108,Forside!$E$55:$O$56,2,FALSE),IF($E$14=\"DKK\",((HLOOKUP(V108,Forside!$E$55:$O$56,2,FALSE))/100),\"F\"))))","v":745.05290000000002},{"$f":"IF($E$14=\"Euro\",1,IF($E$14=\"eurocent\",100,IF($E$14=\"DKK øre\",HLOOKUP(W108,Forside!$E$55:$O$56,2,FALSE),IF($E$14=\"DKK\",((HLOOKUP(W108,Forside!$E$55:$O$56,2,FALSE))/100),\"F\"))))","v":744.37509999999997},{"$f":"IF($E$14=\"Euro\",1,IF($E$14=\"eurocent\",100,IF($E$14=\"DKK øre\",HLOOKUP(X108,Forside!$E$55:$O$56,2,FALSE),IF($E$14=\"DKK\",((HLOOKUP(X108,Forside!$E$55:$O$56,2,FALSE))/100),\"F\"))))","v":745.79819999999995},{"$f":"IF($E$14=\"Euro\",1,IF($E$14=\"eurocent\",100,IF($E$14=\"DKK øre\",HLOOKUP(Y108,Forside!$E$55:$O$56,2,FALSE),IF($E$14=\"DKK\",((HLOOKUP(Y108,Forside!$E$55:$O$56,2,FALSE))/100),\"F\"))))","v":745.47410000000002},{"$f":"IF($E$14=\"Euro\",1,IF($E$14=\"eurocent\",100,IF($E$14=\"DKK øre\",HLOOKUP(Z108,Forside!$E$55:$O$56,2,FALSE),IF($E$14=\"DKK\",((HLOOKUP(Z108,Forside!$E$55:$O$56,2,FALSE))/100),\"F\"))))","v":745.61029999999994},{"$f":"IF($E$14=\"Euro\",1,IF($E$14=\"eurocent\",100,IF($E$14=\"DKK øre\",HLOOKUP(AA108,Forside!$E$55:$O$56,2,FALSE),IF($E$14=\"DKK\",((HLOOKUP(AA108,Forside!$E$55:$O$56,2,FALSE))/100),\"F\"))))","v":744.74884444444444},{"$f":"IF($E$14=\"Euro\",1,IF($E$14=\"eurocent\",100,IF($E$14=\"DKK øre\",HLOOKUP(AB108,Forside!$E$55:$O$56,2,FALSE),IF($E$14=\"DKK\",((HLOOKUP(AB108,Forside!$E$55:$O$56,2,FALSE))/100),\"F\"))))","v":0},null,"Alle lande",{"$f":"IF($E$15=\"Nm3\",HLOOKUP(AE108,Forside!$E$70:$O$72,2,FALSE),IF($E$15=\"Kwh\",1/278,1))","v":3.5971223021582736E-3},{"$f":"IF($E$15=\"Nm3\",HLOOKUP(AF108,Forside!$E$70:$O$72,2,FALSE),IF($E$15=\"Kwh\",1/278,1))","v":3.5971223021582736E-3},{"$f":"IF($E$15=\"Nm3\",HLOOKUP(AG108,Forside!$E$70:$O$72,2,FALSE),IF($E$15=\"Kwh\",1/278,1))","v":3.5971223021582736E-3},{"$f":"IF($E$15=\"Nm3\",HLOOKUP(AH108,Forside!$E$70:$O$72,2,FALSE),IF($E$15=\"Kwh\",1/278,1))","v":3.5971223021582736E-3},{"$f":"IF($E$15=\"Nm3\",HLOOKUP(AI108,Forside!$E$70:$O$72,2,FALSE),IF($E$15=\"Kwh\",1/278,1))","v":3.5971223021582736E-3},{"$f":"IF($E$15=\"Nm3\",HLOOKUP(AJ108,Forside!$E$70:$O$72,2,FALSE),IF($E$15=\"Kwh\",1/278,1))","v":3.5971223021582736E-3},{"$f":"IF($E$15=\"Nm3\",HLOOKUP(AK108,Forside!$E$70:$O$72,2,FALSE),IF($E$15=\"Kwh\",1/278,1))","v":3.5971223021582736E-3},{"$f":"IF($E$15=\"Nm3\",HLOOKUP(AL108,Forside!$E$70:$O$72,2,FALSE),IF($E$15=\"Kwh\",1/278,1))","v":3.5971223021582736E-3},{"$f":"IF($E$15=\"Nm3\",HLOOKUP(AM108,Forside!$E$70:$O$72,2,FALSE),IF($E$15=\"Kwh\",1/278,1))","v":3.5971223021582736E-3},{"$f":"IF($E$15=\"Nm3\",HLOOKUP(AN108,Forside!$E$70:$O$72,2,FALSE),IF($E$15=\"Kwh\",1/278,1))","v":3.5971223021582736E-3},{"$f":"IF($E$15=\"Nm3\",HLOOKUP(AO108,Forside!$E$70:$O$72,2,FALSE),IF($E$15=\"Kwh\",1/278,1))","v":3.5971223021582736E-3}]
[null,null,null,{"$f":"'Baggrundsdata - BVT - deflator'!Q24","v":"Belgien"},{"$f":"IF($E$12=\"faste priser\",HLOOKUP(E$108,'Baggrundsdata - BVT - deflator'!$R$22:$AB$31,3,FALSE),1)","v":0.8948579768721231},{"$f":"IF($E$12=\"faste priser\",HLOOKUP(F$108,'Baggrundsdata - BVT - deflator'!$R$22:$AB$31,3,FALSE),1)","v":0.90979940870476395},{"$f":"IF($E$12=\"faste priser\",HLOOKUP(G$108,'Baggrundsdata - BVT - deflator'!$R$22:$AB$31,3,FALSE),1)","v":0.91814490475655852},{"$f":"IF($E$12=\"faste priser\",HLOOKUP(H$108,'Baggrundsdata - BVT - deflator'!$R$22:$AB$31,3,FALSE),1)","v":0.935593727779649},{"$f":"IF($E$12=\"faste priser\",HLOOKUP(I$108,'Baggrundsdata - BVT - deflator'!$R$22:$AB$31,3,FALSE),1)","v":0.95273380487257209},{"$f":"IF($E$12=\"faste priser\",HLOOKUP(J$108,'Baggrundsdata - BVT - deflator'!$R$22:$AB$31,3,FALSE),1)","v":0.97131469630627598},{"$f":"IF($E$12=\"faste priser\",HLOOKUP(K$108,'Baggrundsdata - BVT - deflator'!$R$22:$AB$31,3,FALSE),1)","v":0.98466561880169157},{"$f":"IF($E$12=\"faste priser\",HLOOKUP(L$108,'Baggrundsdata - BVT - deflator'!$R$22:$AB$31,3,FALSE),1)","v":0.99141124957898275},{"$f":"IF($E$12=\"faste priser\",HLOOKUP(M$108,'Baggrundsdata - BVT - deflator'!$R$22:$AB$31,3,FALSE),1)","v":1},{"$f":"IF($E$12=\"faste priser\",HLOOKUP(N$108,'Baggrundsdata - BVT - deflator'!$R$22:$AB$31,3,FALSE),1)","v":1.0086631561066759},{"$f":"IF($E$12=\"faste priser\",HLOOKUP(O$108,'Baggrundsdata - BVT - deflator'!$R$22:$AB$31,3,FALSE),1)","v":0}]
[null,null,null,{"$f":"'Baggrundsdata - BVT - deflator'!Q25","v":"Danmark"},{"$f":"IF($E$12=\"faste priser\",HLOOKUP(E$108,'Baggrundsdata - BVT - deflator'!$R$22:$AB$31,4,FALSE),1)","v":0.85564783434508962},{"$f":"IF($E$12=\"faste priser\",HLOOKUP(F$108,'Baggrundsdata - BVT - deflator'!$R$22:$AB$31,4,FALSE),1)","v":0.89540426799746753},{"$f":"IF($E$12=\"faste priser\",HLOOKUP(G$108,'Baggrundsdata - BVT - deflator'!$R$22:$AB$31,4,FALSE),1)","v":0.90095340955644121},{"$f":"IF($E$12=\"faste priser\",HLOOKUP(H$108,'Baggrundsdata - BVT - deflator'!$R$22:$AB$31,4,FALSE),1)","v":0.9310640199620126},{"$f":"IF($E$12=\"faste priser\",HLOOKUP(I$108,'Baggrundsdata - BVT - deflator'!$R$22:$AB$31,4,FALSE),1)","v":0.93605452310900905},{"$f":"IF($E$12=\"faste priser\",HLOOKUP(J$108,'Baggrundsdata - BVT - deflator'!$R$22:$AB$31,4,FALSE),1)","v":0.96380954154407661},{"$f":"IF($E$12=\"faste priser\",HLOOKUP(K$108,'Baggrundsdata - BVT - deflator'!$R$22:$AB$31,4,FALSE),1)","v":0.97821310193288891},{"$f":"IF($E$12=\"faste priser\",HLOOKUP(L$108,'Baggrundsdata - BVT - deflator'!$R$22:$AB$31,4,FALSE),1)","v":0.98758891661390635},{"$f":"IF($E$12=\"faste priser\",HLOOKUP(M$108,'Baggrundsdata - BVT - deflator'!$R$22:$AB$31,4,FALSE),1)","v":1},{"$f":"IF($E$12=\"faste priser\",HLOOKUP(N$108,'Baggrundsdata - BVT - deflator'!$R$22:$AB$31,4,FALSE),1)","v":1.0125670541429797},{"$f":"IF($E$12=\"faste priser\",HLOOKUP(O$108,'Baggrundsdata - BVT - deflator'!$R$22:$AB$31,4,FALSE),1)","v":0}]
[null,null,null,{"$f":"'Baggrundsdata - BVT - deflator'!Q26","v":"Tyskland"},{"$f":"IF($E$12=\"faste priser\",HLOOKUP(E$108,'Baggrundsdata - BVT - deflator'!$R$22:$AB$31,5,FALSE),1)","v":0.88493123033022292},{"$f":"IF($E$12=\"faste priser\",HLOOKUP(F$108,'Baggrundsdata - BVT - deflator'!$R$22:$AB$31,5,FALSE),1)","v":0.89128978685531302},{"$f":"IF($E$12=\"faste priser\",HLOOKUP(G$108,'Baggrundsdata - BVT - deflator'!$R$22:$AB$31,5,FALSE),1)","v":0.90941121418150794},{"$f":"IF($E$12=\"faste priser\",HLOOKUP(H$108,'Baggrundsdata - BVT - deflator'!$R$22:$AB$31,5,FALSE),1)","v":0.91754062411113257},{"$f":"IF($E$12=\"faste priser\",HLOOKUP(I$108,'Baggrundsdata - BVT - deflator'!$R$22:$AB$31,5,FALSE),1)","v":0.92659675007110942},{"$f":"IF($E$12=\"faste priser\",HLOOKUP(J$108,'Baggrundsdata - BVT - deflator'!$R$22:$AB$31,5,FALSE),1)","v":0.93973593180838089},{"$f":"IF($E$12=\"faste priser\",HLOOKUP(K$108,'Baggrundsdata - BVT - deflator'!$R$22:$AB$31,5,FALSE),1)","v":0.96031636800719367},{"$f":"IF($E$12=\"faste priser\",HLOOKUP(L$108,'Baggrundsdata - BVT - deflator'!$R$22:$AB$31,5,FALSE),1)","v":0.97825428720856622},{"$f":"IF($E$12=\"faste priser\",HLOOKUP(M$108,'Baggrundsdata - BVT - deflator'!$R$22:$AB$31,5,FALSE),1)","v":1},{"$f":"IF($E$12=\"faste priser\",HLOOKUP(N$108,'Baggrundsdata - BVT - deflator'!$R$22:$AB$31,5,FALSE),1)","v":1.0222291004248854},{"$f":"IF($E$12=\"faste priser\",HLOOKUP(O$108,'Baggrundsdata - BVT - deflator'!$R$22:$AB$31,5,FALSE),1)","v":0}]
[null,null,null,{"$f":"'Baggrundsdata - BVT - deflator'!Q27","v":"Frankrig"},{"$f":"IF($E$12=\"faste priser\",HLOOKUP(E$108,'Baggrundsdata - BVT - deflator'!$R$22:$AB$31,6,FALSE),1)","v":0.93063394209526007},{"$f":"IF($E$12=\"faste priser\",HLOOKUP(F$108,'Baggrundsdata - BVT - deflator'!$R$22:$AB$31,6,FALSE),1)","v":0.95273653439842554},{"$f":"IF($E$12=\"faste priser\",HLOOKUP(G$108,'Baggrundsdata - BVT - deflator'!$R$22:$AB$31,6,FALSE),1)","v":0.95543785515132218},{"$f":"IF($E$12=\"faste priser\",HLOOKUP(H$108,'Baggrundsdata - BVT - deflator'!$R$22:$AB$31,6,FALSE),1)","v":0.96475741174881569},{"$f":"IF($E$12=\"faste priser\",HLOOKUP(I$108,'Baggrundsdata - BVT - deflator'!$R$22:$AB$31,6,FALSE),1)","v":0.97025652899578385},{"$f":"IF($E$12=\"faste priser\",HLOOKUP(J$108,'Baggrundsdata - BVT - deflator'!$R$22:$AB$31,6,FALSE),1)","v":0.9787174514968211},{"$f":"IF($E$12=\"faste priser\",HLOOKUP(K$108,'Baggrundsdata - BVT - deflator'!$R$22:$AB$31,6,FALSE),1)","v":0.98513308828495061},{"$f":"IF($E$12=\"faste priser\",HLOOKUP(L$108,'Baggrundsdata - BVT - deflator'!$R$22:$AB$31,6,FALSE),1)","v":0.98779581874137745},{"$f":"IF($E$12=\"faste priser\",HLOOKUP(M$108,'Baggrundsdata - BVT - deflator'!$R$22:$AB$31,6,FALSE),1)","v":1},{"$f":"IF($E$12=\"faste priser\",HLOOKUP(N$108,'Baggrundsdata - BVT - deflator'!$R$22:$AB$31,6,FALSE),1)","v":1.0123549634722819},{"$f":"IF($E$12=\"faste priser\",HLOOKUP(O$108,'Baggrundsdata - BVT - deflator'!$R$22:$AB$31,6,FALSE),1)","v":0}]
[null,null,null,{"$f":"'Baggrundsdata - BVT - deflator'!Q28","v":"Italien"},{"$f":"IF($E$12=\"faste priser\",HLOOKUP(E$108,'Baggrundsdata - BVT - deflator'!$R$22:$AB$31,7,FALSE),1)","v":0.91008751024765966},{"$f":"IF($E$12=\"faste priser\",HLOOKUP(F$108,'Baggrundsdata - BVT - deflator'!$R$22:$AB$31,7,FALSE),1)","v":0.93513946349926591},{"$f":"IF($E$12=\"faste priser\",HLOOKUP(G$108,'Baggrundsdata - BVT - deflator'!$R$22:$AB$31,7,FALSE),1)","v":0.95533926903204891},{"$f":"IF($E$12=\"faste priser\",HLOOKUP(H$108,'Baggrundsdata - BVT - deflator'!$R$22:$AB$31,7,FALSE),1)","v":0.95327067167451529},{"$f":"IF($E$12=\"faste priser\",HLOOKUP(I$108,'Baggrundsdata - BVT - deflator'!$R$22:$AB$31,7,FALSE),1)","v":0.96551066709881606},{"$f":"IF($E$12=\"faste priser\",HLOOKUP(J$108,'Baggrundsdata - BVT - deflator'!$R$22:$AB$31,7,FALSE),1)","v":0.97472879449390859},{"$f":"IF($E$12=\"faste priser\",HLOOKUP(K$108,'Baggrundsdata - BVT - deflator'!$R$22:$AB$31,7,FALSE),1)","v":0.98702598615850978},{"$f":"IF($E$12=\"faste priser\",HLOOKUP(L$108,'Baggrundsdata - BVT - deflator'!$R$22:$AB$31,7,FALSE),1)","v":0.99167794703628143},{"$f":"IF($E$12=\"faste priser\",HLOOKUP(M$108,'Baggrundsdata - BVT - deflator'!$R$22:$AB$31,7,FALSE),1)","v":1},{"$f":"IF($E$12=\"faste priser\",HLOOKUP(N$108,'Baggrundsdata - BVT - deflator'!$R$22:$AB$31,7,FALSE),1)","v":1.0083918907227793},{"$f":"IF($E$12=\"faste priser\",HLOOKUP(O$108,'Baggrundsdata - BVT - deflator'!$R$22:$AB$31,7,FALSE),1)","v":0}]
[null,null,null,{"$f":"'Baggrundsdata - BVT - deflator'!Q29","v":"Holland"},{"$f":"IF($E$12=\"faste priser\",HLOOKUP(E$108,'Baggrundsdata - BVT - deflator'!$R$22:$AB$31,8,FALSE),1)","v":0.93266435518297108},{"$f":"IF($E$12=\"faste priser\",HLOOKUP(F$108,'Baggrundsdata - BVT - deflator'!$R$22:$AB$31,8,FALSE),1)","v":0.95393129291778145},{"$f":"IF($E$12=\"faste priser\",HLOOKUP(G$108,'Baggrundsdata - BVT - deflator'!$R$22:$AB$31,8,FALSE),1)","v":0.95806492114234942},{"$f":"IF($E$12=\"faste priser\",HLOOKUP(H$108,'Baggrundsdata - BVT - deflator'!$R$22:$AB$31,8,FALSE),1)","v":0.96580098704860884},{"$f":"IF($E$12=\"faste priser\",HLOOKUP(I$108,'Baggrundsdata - BVT - deflator'!$R$22:$AB$31,8,FALSE),1)","v":0.96653499579876567},{"$f":"IF($E$12=\"faste priser\",HLOOKUP(J$108,'Baggrundsdata - BVT - deflator'!$R$22:$AB$31,8,FALSE),1)","v":0.98115722274268169},{"$f":"IF($E$12=\"faste priser\",HLOOKUP(K$108,'Baggrundsdata - BVT - deflator'!$R$22:$AB$31,8,FALSE),1)","v":0.98787919761253995},{"$f":"IF($E$12=\"faste priser\",HLOOKUP(L$108,'Baggrundsdata - BVT - deflator'!$R$22:$AB$31,8,FALSE),1)","v":0.99494886083773582},{"$f":"IF($E$12=\"faste priser\",HLOOKUP(M$108,'Baggrundsdata - BVT - deflator'!$R$22:$AB$31,8,FALSE),1)","v":1},{"$f":"IF($E$12=\"faste priser\",HLOOKUP(N$108,'Baggrundsdata - BVT - deflator'!$R$22:$AB$31,8,FALSE),1)","v":1.0050767826981692},{"$f":"IF($E$12=\"faste priser\",HLOOKUP(O$108,'Baggrundsdata - BVT - deflator'!$R$22:$AB$31,8,FALSE),1)","v":0}]
[null,null,null,{"$f":"'Baggrundsdata - BVT - deflator'!Q30","v":"Sverige"},{"$f":"IF($E$12=\"faste priser\",HLOOKUP(E$108,'Baggrundsdata - BVT - deflator'!$R$22:$AB$31,9,FALSE),1)","v":0.88288839383536621},{"$f":"IF($E$12=\"faste priser\",HLOOKUP(F$108,'Baggrundsdata - BVT - deflator'!$R$22:$AB$31,9,FALSE),1)","v":0.87655211452779203},{"$f":"IF($E$12=\"faste priser\",HLOOKUP(G$108,'Baggrundsdata - BVT - deflator'!$R$22:$AB$31,9,FALSE),1)","v":0.81284237820465988},{"$f":"IF($E$12=\"faste priser\",HLOOKUP(H$108,'Baggrundsdata - BVT - deflator'!$R$22:$AB$31,9,FALSE),1)","v":0.91300854575998824},{"$f":"IF($E$12=\"faste priser\",HLOOKUP(I$108,'Baggrundsdata - BVT - deflator'!$R$22:$AB$31,9,FALSE),1)","v":0.97551311080271708},{"$f":"IF($E$12=\"faste priser\",HLOOKUP(J$108,'Baggrundsdata - BVT - deflator'!$R$22:$AB$31,9,FALSE),1)","v":1.0230260755240668},{"$f":"IF($E$12=\"faste priser\",HLOOKUP(K$108,'Baggrundsdata - BVT - deflator'!$R$22:$AB$31,9,FALSE),1)","v":1.0404188883207945},{"$f":"IF($E$12=\"faste priser\",HLOOKUP(L$108,'Baggrundsdata - BVT - deflator'!$R$22:$AB$31,9,FALSE),1)","v":1.0073497187933678},{"$f":"IF($E$12=\"faste priser\",HLOOKUP(M$108,'Baggrundsdata - BVT - deflator'!$R$22:$AB$31,9,FALSE),1)","v":1},{"$f":"IF($E$12=\"faste priser\",HLOOKUP(N$108,'Baggrundsdata - BVT - deflator'!$R$22:$AB$31,9,FALSE),1)","v":0.99270390544986542},{"$f":"IF($E$12=\"faste priser\",HLOOKUP(O$108,'Baggrundsdata - BVT - deflator'!$R$22:$AB$31,9,FALSE),1)","v":0}]
[null,null,null,{"$f":"'Baggrundsdata - BVT - deflator'!Q31","v":"UK"},{"$f":"IF($E$12=\"faste priser\",HLOOKUP(E$108,'Baggrundsdata - BVT - deflator'!$R$22:$AB$31,10,FALSE),1)","v":0.91184659671862955},{"$f":"IF($E$12=\"faste priser\",HLOOKUP(F$108,'Baggrundsdata - BVT - deflator'!$R$22:$AB$31,10,FALSE),1)","v":0.80810432429881551},{"$f":"IF($E$12=\"faste priser\",HLOOKUP(G$108,'Baggrundsdata - BVT - deflator'!$R$22:$AB$31,10,FALSE),1)","v":0.74333422472511057},{"$f":"IF($E$12=\"faste priser\",HLOOKUP(H$108,'Baggrundsdata - BVT - deflator'!$R$22:$AB$31,10,FALSE),1)","v":0.7865221563291438},{"$f":"IF($E$12=\"faste priser\",HLOOKUP(I$108,'Baggrundsdata - BVT - deflator'!$R$22:$AB$31,10,FALSE),1)","v":0.78815812241430838},{"$f":"IF($E$12=\"faste priser\",HLOOKUP(J$108,'Baggrundsdata - BVT - deflator'!$R$22:$AB$31,10,FALSE),1)","v":0.85967658208931752},{"$f":"IF($E$12=\"faste priser\",HLOOKUP(K$108,'Baggrundsdata - BVT - deflator'!$R$22:$AB$31,10,FALSE),1)","v":0.83619103050132926},{"$f":"IF($E$12=\"faste priser\",HLOOKUP(L$108,'Baggrundsdata - BVT - deflator'!$R$22:$AB$31,10,FALSE),1)","v":0.89765773701845175},{"$f":"IF($E$12=\"faste priser\",HLOOKUP(M$108,'Baggrundsdata - BVT - deflator'!$R$22:$AB$31,10,FALSE),1)","v":1},{"$f":"IF($E$12=\"faste priser\",HLOOKUP(N$108,'Baggrundsdata - BVT - deflator'!$R$22:$AB$31,10,FALSE),1)","v":1.114010339087006},{"$f":"IF($E$12=\"faste priser\",HLOOKUP(O$108,'Baggrundsdata - BVT - deflator'!$R$22:$AB$31,10,FALSE),1)","v":0}]

{"sheet":"Alle lande, valgt år","index":2,"n_rows":103,"n_cols":40,"rows_kept":103,"cut":false,"hidden":false,"merged":[[23,15,23,19],[48,15,48,19],[101,9,101,11],[102,9,102,12],[25,1,44,1],[48,1,67,1],[70,3,70,7],[25,15,25,19],[101,15,101,17],[101,3,101,5],[70,15,70,19],[102,3,102,6],[25,3,25,7],[25,9,25,13],[70,9,70,13],[102,15,102,18],[25,39,44,39],[48,39,67,39],[102,33,102,36],[101,33,101,35],[101,21,101,23],[70,21,70,25],[70,27,70,31],[101,27,101,29],[102,27,102,30],[25,21,25,25],[102,21,102,24],[23,21,23,25],[70,33,70,37],[48,21,48,25],[48,27,48,31],[4,3,4,6],[6,3,6,6],[5,3,5,6],[48,3,48,7],[48,9,48,13],[23,3,23,7],[23,9,23,13],[23,27,23,31],[25,27,25,31],[25,33,25,37],[48,33,48,37],[23,33,23,37]]}
[null,null,null,"NAVN PÅ ARK:",null,"Alle lande, valgt år"]
[null,null,null,"Data hentes fra:",null,"'Baggrundstabeller for alle lande'"]
[]
[null,null,null,"Sådan bruges arket:"]
[null,null,null,"Arket 'alle lande, udvalgt år' viser figurer og tabeller (de grå-blå) for gasprisen for industrielle forbrugere opdelt på level 1, 2 og 3 for hvert interval. Prisen vises for alle lande i det valgte år."]
[null,null,null,"Året, pristypen, basisået, valuta og enhed kan ændres. Dette gøres i de farvede rullemenuer nedenfor. \n\nTil hver resultattabel hører tre figurer. En for hvert level. I resultattabellen er totalprisen for hvert level opgjort i hver sin totalprissøjle. Hvis man ønsker at sortere figurerne efter stigende priser kan man kopiere de ønskede tabeller og figurer over i et seperat ark."]
[null,null,null,{"$f":"\"Rent teknisk styrer hver menu styrer en tabel i tilsvarende farve i arket '\"&'Baggrundstabeller for alle land'!E1&\"'. Disse tabeller ganges sammen og heraf fremkommer resultattabellen som følge af de valg der træffes i rullemenuerne.\"","v":"Rent teknisk styrer hver menu styrer en tabel i tilsvarende farve i arket 'Baggrundstabeller for alle lande, valgt år'. Disse tabeller ganges sammen og heraf fremkommer resultattabellen som følge af de valg der træffes i rullemenuerne."}]
[]
[]
[]
[null,null,null,"Vælg",null,null,"Resultater vises i"]
[null,null,null,"Vælg år",null,2016,"Tabel A"]
[null,null,null,"Vælg pristype",null,"faste priser","Tabel B"]
[null,null,null,"Vælg Basisår (kun ved fast pris)",null,2015,"Tabel B"]
[null,null,null,"Vælg valuta",null,"DKK","Tabel C"]
[null,null,null,"Vælg enhed (NM3/GJ)",null,"GJ","Tabel D"]
[]
[]
[null,null,null,"Resultatfigurer og -tabeller"]
[null,null,null,"Valgene truffet ovenfor giver tabeller og figurer der er:"]
[null,null,null,{"$f":"\"Oppgjort for året \"&F12&\" i \"&$F$13&\" med basisår \"&$F$14","v":"Oppgjort for året 2016 i faste priser med basisår 2015"}]
[null,null,null,{"$f":"\"Vist i \"&F15&\" / \"&F16&\".\"","v":"Vist i DKK / GJ."}]
[]
[null,null,null,"IA: < 1000 GJ",null,null,null,null,null,"IB: 1 000 GJ <  10 000 GJ",null,null,null,null,null,"IC: 10 000 GJ <  100 000 GJ",null,null,null,null,null,"ID: 100 000 GJ < 1 000 000 GJ",null,null,null,null,null,"IE: 1 000 000 GJ < 4 000 000 GJ",null,null,null,null,null,"IF: > 4 000 000 GJ"]
[]
[null,"Level 1: Gaspris ",null,{"$f":"\"Figur XX: \"&F73&\" for forbrugsintervallet \"&D$24&\"\nPriserne er vist for år \"&'Baggrundstabeller for alle land'!$E$10&\" i \"&'Baggrundstabeller for alle land'!$E$11&\" med basisår \"&'Baggrundstabeller for alle land'!$E$12&\". Priserne er vist i \"&$F$15&\" / \"&$F$16&\". \"","v":"Figur XX: Gaspris for forbrugsintervallet IA: < 1000 GJ\nPriserne er vist for år 2016 i faste priser med basisår 2015. Priserne er vist i DKK / GJ. "},null,null,null,null,null,{"$f":"\"Figur XX: \"&L73&\" for forbrugsintervallet \"&J$24&\"\nPriserne er vist for år \"&'Baggrundstabeller for alle land'!$E$10&\" i \"&'Baggrundstabeller for alle land'!$E$11&\" med basisår \"&'Baggrundstabeller for alle land'!$E$12&\". Priserne er vist i \"&$F$15&\" / \"&$F$16&\". \"","v":"Figur XX: Gaspris for forbrugsintervallet IB: 1 000 GJ <  10 000 GJ\nPriserne er vist for år 2016 i faste priser med basisår 2015. Priserne er vist i DKK / GJ. "},null,null,null,null,null,{"$f":"\"Figur XX: \"&R73&\" for forbrugsintervallet \"&P$24&\"\nPriserne er vist for år \"&'Baggrundstabeller for alle land'!$E$10&\" i \"&'Baggrundstabeller for alle land'!$E$11&\" med basisår \"&'Baggrundstabeller for alle land'!$E$12&\". Priserne er vist i \"&$F$15&\" / \"&$F$16&\". \"","v":"Figur XX: Gaspris for forbrugsintervallet IC: 10 000 GJ <  100 000 GJ\nPriserne er vist for år 2016 i faste priser med basisår 2015. Priserne er vist i DKK / GJ. "},null,null,null,null,null,{"$f":"\"Figur XX: \"&X73&\" for forbrugsintervallet \"&V$24&\"\nPriserne er vist for år \"&'Baggrundstabeller for alle land'!$E$10&\" i \"&'Baggrundstabeller for alle land'!$E$11&\" med basisår \"&'Baggrundstabeller for alle land'!$E$12&\". Priserne er vist i \"&$F$15&\" / \"&$F$16&\". \"","v":"Figur XX: Gaspris for forbrugsintervallet ID: 100 000 GJ < 1 000 000 GJ\nPriserne er vist for år 2016 i faste priser med basisår 2015. Priserne er vist i DKK / GJ. "},null,null,null,null,null,{"$f":"\"Figur XX: \"&AD73&\" for forbrugsintervallet \"&AB$24&\"\nPriserne er vist for år \"&'Baggrundstabeller for alle land'!$E$10&\" i \"&'Baggrundstabeller for alle land'!$E$11&\" med basisår \"&'Baggrundstabeller for alle land'!$E$12&\". Priserne er vist i \"&$F$15&\" / \"&$F$16&\". \"","v":"Figur XX: Gaspris for forbrugsintervallet IE: 1 000 000 GJ < 4 000 000 GJ\nPriserne er vist for år 2016 i faste priser med basisår 2015. Priserne er vist i DKK / GJ. "},null,null,null,null,null,{"$f":"\"Figur XX: \"&AJ73&\" for forbrugsintervallet \"&AH$24&\"\nPriserne er vist for år \"&'Baggrundstabeller for alle land'!$E$10&\" i \"&'Baggrundstabeller for alle land'!$E$11&\" med basisår \"&'Baggrundstabeller for alle land'!$E$12&\". Priserne er vist i \"&$F$15&\" / \"&$F$16&\". \"","v":"Figur XX: Gaspris for forbrugsintervallet IF: > 4 000 000 GJ\nPriserne er vist for år 2016 i faste priser med basisår 2015. Priserne er vist i DKK / GJ. "},null,null,null,null,null,{"$f":"B26","v":"Level 1: Gaspris "}]
[]
[]
[]
[]
[]
[]
[]
[]
[]
[]
[]
[]
[]
[]
[]
[]
[]
[]
[null,null,null,"Kilde: Eurostat",null,null,null,null,null,"Kilde: Eurostat",null,null,null,null,null,"Kilde: Eurostat",null,null,null,null,null,"Kilde: Eurostat",null,null,null,null,null,"Kilde: Eurostat",null,null,null,null,null,"Kilde: Eurostat"]
[]
[]
[]
[null,"Level 2: Gaspris inkl. ikke-refunderbare afgifter",null,{"$f":"\"Figur XX: Gasprisen inkl.  ikke refunderbare afgifter for forbrugsintervallet \"&D$24&\". \nPriserne er vist for år \"&'Baggrundstabeller for alle land'!$E$10&\" i \"&'Baggrundstabeller for alle land'!$E$11&\" med basisår \"&'Baggrundstabeller for alle land'!$E$12&\". Priserne er vist i \"&'Baggrundstabeller for alle land'!$E$13&\" / \"&'Baggrundstabeller for alle land'!$E$14&\". \"","v":"Figur XX: Gasprisen inkl.  ikke refunderbare afgifter for forbrugsintervallet IA: < 1000 GJ. \nPriserne er vist for år 2016 i faste priser med basisår 2015. Priserne er vist i DKK / GJ. "},null,null,null,null,null,{"$f":"\"Figur XX: Gasprisen inkl.  ikke refunderbare afgifter for forbrugsintervallet \"&J$24&\". \nPriserne er vist for år \"&'Baggrundstabeller for alle land'!$E$10&\" i \"&'Baggrundstabeller for alle land'!$E$11&\" med basisår \"&'Baggrundstabeller for alle land'!$E$12&\". Priserne er vist i \"&'Baggrundstabeller for alle land'!$E$13&\" / \"&'Baggrundstabeller for alle land'!$E$14&\". \"","v":"Figur XX: Gasprisen inkl.  ikke refunderbare afgifter for forbrugsintervallet IB: 1 000 GJ <  10 000 GJ. \nPriserne er vist for år 2016 i faste priser med basisår 2015. Priserne er vist i DKK / GJ. "},null,null,null,null,null,{"$f":"\"Figur XX: Gasprisen inkl.  ikke refunderbare afgifter for forbrugsintervallet \"&P$24&\". \nPriserne er vist for år \"&'Baggrundstabeller for alle land'!$E$10&\" i \"&'Baggrundstabeller for alle land'!$E$11&\" med basisår \"&'Baggrundstabeller for alle land'!$E$12&\". Priserne er vist i \"&'Baggrundstabeller for alle land'!$E$13&\" / \"&'Baggrundstabeller for alle land'!$E$14&\". \"","v":"Figur XX: Gasprisen inkl.  ikke refunderbare afgifter for forbrugsintervallet IC: 10 000 GJ <  100 000 GJ. \nPriserne er vist for år 2016 i faste priser med basisår 2015. Priserne er vist i DKK / GJ. "},null,null,null,null,null,{"$f":"\"Figur XX: Gasprisen inkl.  ikke refunderbare afgifter for forbrugsintervallet \"&V$24&\". \nPriserne er vist for år \"&'Baggrundstabeller for alle land'!$E$10&\" i \"&'Baggrundstabeller for alle land'!$E$11&\" med basisår \"&'Baggrundstabeller for alle land'!$E$12&\". Priserne er vist i \"&'Baggrundstabeller for alle land'!$E$13&\" / \"&'Baggrundstabeller for alle land'!$E$14&\". \"","v":"Figur XX: Gasprisen inkl.  ikke refunderbare afgifter for forbrugsintervallet ID: 100 000 GJ < 1 000 000 GJ. \nPriserne er vist for år 2016 i faste priser med basisår 2015. Priserne er vist i DKK / GJ. "},null,null,null,null,null,{"$f":"\"Figur XX: Gasprisen inkl.  ikke refunderbare afgifter for forbrugsintervallet \"&AB$24&\". \nPriserne er vist for år \"&'Baggrundstabeller for alle land'!$E$10&\" i \"&'Baggrundstabeller for alle land'!$E$11&\" med basisår \"&'Baggrundstabeller for alle land'!$E$12&\". Priserne er vist i \"&'Baggrundstabeller for alle land'!$E$13&\" / \"&'Baggrundstabeller for alle land'!$E$14&\". \"","v":"Figur XX: Gasprisen inkl.  ikke refunderbare afgifter for forbrugsintervallet IE: 1 000 000 GJ < 4 000 000 GJ. \nPriserne er vist for år 2016 i faste priser med basisår 2015. Priserne er vist i DKK / GJ. "},null,null,null,null,null,{"$f":"\"Figur XX: Gasprisen inkl.  ikke refunderbare afgifter for forbrugsintervallet \"&AH$24&\". \nPriserne er vist for år \"&'Baggrundstabeller for alle land'!$E$10&\" i \"&'Baggrundstabeller for alle land'!$E$11&\" med basisår \"&'Baggrundstabeller for alle land'!$E$12&\". Priserne er vist i \"&'Baggrundstabeller for alle land'!$E$13&\" / \"&'Baggrundstabeller for alle land'!$E$14&\". \"","v":"Figur XX: Gasprisen inkl.  ikke refunderbare afgifter for forbrugsintervallet IF: > 4 000 000 GJ. \nPriserne er vist for år 2016 i faste priser med basisår 2015. Priserne er vist i DKK / GJ. "},null,null,null,null,null,{"$f":"B49","v":"Level 2: Gaspris inkl. ikke-refunderbare afgifter"}]
[]
[]
[]
[]
[]
[]
[]
[]
[]
[]
[]
[]
[]
[]
[]
[]
[]
[]
[null,null,null,"Kilde: Eurostat",null,null,null,null,null,"Kilde: Eurostat",null,null,null,null,null,"Kilde: Eurostat",null,null,null,null,null,"Kilde: Eurostat",null,null,null,null,null,"Kilde: Eurostat",null,null,null,null,null,"Kilde: Eurostat"]
[]
[]
[null,null,null,"IA: < 1000 GJ",null,null,null,null,null,"IB: 1 000 GJ <  10 000 GJ",null,null,null,null,null,"IC: 10 000 GJ <  100 000 GJ",null,null,null,null,null,"ID: 100 000 GJ < 1 000 000 GJ",null,null,null,null,null,"IE: 1 000 000 GJ < 4 000 000 GJ",null,null,null,null,null,"IF: > 4 000 000 GJ"]
[]
[null,null,null,{"$f":"$F$15 &\" / kWh \"&$F$12","v":"DKK / kWh 2016"},null,"Gaspris","Ikke-refunderbare afgifter","Gaspris inkl. ikke-refunderbare afgifter",null,{"$f":"$F$15 &\" / kWh \"&$F$12","v":"DKK / kWh 2016"},null,"Gaspris","Ikke-refunderbare afgifter","Gaspris inkl. ikke-refunderbare afgifter",null,{"$f":"$F$15 &\" / kWh \"&$F$12","v":"DKK / kWh 2016"},null,"Gaspris","Ikke-refunderbare afgifter","Gaspris inkl. ikke-refunderbare afgifter",null,{"$f":"$F$15 &\" / kWh \"&$F$12","v":"DKK / kWh 2016"},null,"Gaspris","Ikke-refunderbare afgifter","Gaspris inkl. ikke-refunderbare afgifter",null,{"$f":"$F$15 &\" / kWh \"&$F$12","v":"DKK / kWh 2016"},null,"Gaspris","Ikke-refunderbare afgifter","Gaspris inkl. ikke-refunderbare afgifter",null,{"$f":"$F$15 &\" / kWh \"&$F$12","v":"DKK / kWh 2016"},null,"Gaspris","Ikke-refunderbare afgifter","Gaspris inkl. ikke-refunderbare afgifter"]
[null,null,null,"  ","original rækkefølge ","(Total pris level 1)"," ","(Total pris level 2)",null,"  ","original rækkefølge ","(Total pris level 1)","   ","(Total pris level 2)",null," ","original rækkefølge ","(Total pris level 1)","  ","(Total pris level 2)",null," ","original rækkefølge ","(Total pris level 1)","  ","(Total pris level 2)",null," ","original rækkefølge ","(Total pris level 1)","  ","(Total pris level 2)",null,"  ","original rækkefølge ","(Total pris level 1)"," ","(Total pris level 2)"]
[null,null,null,{"$f":"'Baggrundstabeller for alle land'!D29","v":"EU-28"},1,{"$f":"'Baggrundstabeller for alle land'!E29","v":83.143773904964547},{"$f":"'Baggrundstabeller for alle land'!F29","v":11.443132645456794},{"$f":"SUM(F75:G75)","v":94.586906550421347},null,{"$f":"'Baggrundstabeller for alle land'!J29","v":"EU-28"},1,{"$f":"'Baggrundstabeller for alle land'!K29","v":65.906650046618239},{"$f":"'Baggrundstabeller for alle land'!L29","v":10.646458853684489},{"$f":"SUM(L75:M75)","v":76.553108900302732},null,{"$f":"'Baggrundstabeller for alle land'!P29","v":"EU-28"},1,{"$f":"'Baggrundstabeller for alle land'!Q29","v":55.549890753578232},{"$f":"'Baggrundstabeller for alle land'!R29","v":7.8943130275619646},{"$f":"SUM(R75:S75)","v":63.444203781140196},null,{"$f":"'Baggrundstabeller for alle land'!V29","v":"EU-28"},1,{"$f":"'Baggrundstabeller for alle land'!W29","v":45.265556350699342},{"$f":"'Baggrundstabeller for alle land'!X29","v":"*"},{"$f":"SUM(X75:Y75)","v":45.265556350699342},null,{"$f":"'Baggrundstabeller for alle land'!AB29","v":"EU-28"},1,{"$f":"'Baggrundstabeller for alle land'!AC29","v":38.964590906681991},{"$f":"'Baggrundstabeller for alle land'!AD29","v":"*"},{"$f":"SUM(AD75:AE75)","v":38.964590906681991},null,{"$f":"'Baggrundstabeller for alle land'!AH29","v":"EU-28"},1,{"$f":"'Baggrundstabeller for alle land'!AI29","v":"*"},{"$f":"'Baggrundstabeller for alle land'!AJ29","v":"*"},{"$f":"SUM(AJ75:AK75)","v":0}]
[null,null,null,{"$f":"'Baggrundstabeller for alle land'!D30","v":"Belgien"},4,{"$f":"'Baggrundstabeller for alle land'!E30","v":79.889727785761011},{"$f":"'Baggrundstabeller for alle land'!F30","v":4.0609381037124272},83.950665889473441,null,{"$f":"'Baggrundstabeller for alle land'!J30","v":"Belgien"},4,{"$f":"'Baggrundstabeller for alle land'!K30","v":62.981458226667407},{"$f":"'Baggrundstabeller for alle land'!L30","v":4.3562790567097025},67.337737283377109,null,{"$f":"'Baggrundstabeller for alle land'!P30","v":"Belgien"},4,{"$f":"'Baggrundstabeller for alle land'!Q30","v":48.952762959297175},{"$f":"'Baggrundstabeller for alle land'!R30","v":"*"},48.952762959297175,null,{"$f":"'Baggrundstabeller for alle land'!V30","v":"Belgien"},4,{"$f":"'Baggrundstabeller for alle land'!W30","v":41.790744849113423},{"$f":"'Baggrundstabeller for alle land'!X30","v":"*"},41.790744849113423,null,{"$f":"'Baggrundstabeller for alle land'!AB30","v":"Belgien"},4,{"$f":"'Baggrundstabeller for alle land'!AC30","v":33.299692450441967},{"$f":"'Baggrundstabeller for alle land'!AD30","v":"*"},33.299692450441967,null,{"$f":"'Baggrundstabeller for alle land'!AH30","v":"Belgien"},4,{"$f":"'Baggrundstabeller for alle land'!AI30","v":27.540543866995243},{"$f":"'Baggrundstabeller for alle land'!AJ30","v":"*"},27.540543866995243]
[null,null,null,{"$f":"'Baggrundstabeller for alle land'!D31","v":"Bulgarien"},5,{"$f":"'Baggrundstabeller for alle land'!E31","v":54.674467118513967},{"$f":"'Baggrundstabeller for alle land'!F31","v":2.2814180907120143},56.955885209225983,null,{"$f":"'Baggrundstabeller for alle land'!J31","v":"Bulgarien"},5,{"$f":"'Baggrundstabeller for alle land'!K31","v":49.769566946957113},{"$f":"'Baggrundstabeller for alle land'!L31","v":2.2814180907120143},52.050985037669129,null,{"$f":"'Baggrundstabeller for alle land'!P31","v":"Bulgarien"},5,{"$f":"'Baggrundstabeller for alle land'!Q31","v":45.245398868765491},{"$f":"'Baggrundstabeller for alle land'!R31","v":"*"},45.245398868765491,null,{"$f":"'Baggrundstabeller for alle land'!V31","v":"Bulgarien"},5,{"$f":"'Baggrundstabeller for alle land'!W31","v":37.868714559813995},{"$f":"'Baggrundstabeller for alle land'!X31","v":"*"},37.868714559813995,null,{"$f":"'Baggrundstabeller for alle land'!AB31","v":"Bulgarien"},5,{"$f":"'Baggrundstabeller for alle land'!AC31","v":35.968028562467218},{"$f":"'Baggrundstabeller for alle land'!AD31","v":"*"},35.968028562467218,null,{"$f":"'Baggrundstabeller for alle land'!AH31","v":"Bulgarien"},5,{"$f":"'Baggrundstabeller for alle land'!AI31","v":"*"},{"$f":"'Baggrundstabeller for alle land'!AJ31","v":"*"},0]
[null,null,null,{"$f":"'Baggrundstabeller for alle land'!D32","v":"Tjekkiet"},6,{"$f":"'Baggrundstabeller for alle land'!E32","v":75.242961086306934},{"$f":"'Baggrundstabeller for alle land'!F32","v":2.302795409819522},77.545756496126458,null,{"$f":"'Baggrundstabeller for alle land'!J32","v":"Tjekkiet"},6,{"$f":"'Baggrundstabeller for alle land'!K32","v":55.754163292261872},{"$f":"'Baggrundstabeller for alle land'!L32","v":2.3020629685314069},58.056226260793281,null,{"$f":"'Baggrundstabeller for alle land'!P32","v":"Tjekkiet"},6,{"$f":"'Baggrundstabeller for alle land'!Q32","v":51.065074165778242},{"$f":"'Baggrundstabeller for alle land'!R32","v":1.3044779341248636},52.369552099903103,null,{"$f":"'Baggrundstabeller for alle land'!V32","v":"Tjekkiet"},6,{"$f":"'Baggrundstabeller for alle land'!W32","v":44.005805030968929},{"$f":"'Baggrundstabeller for alle land'!X32","v":"*"},44.005805030968929,null,{"$f":"'Baggrundstabeller for alle land'!AB32","v":"Tjekkiet"},6,{"$f":"'Baggrundstabeller for alle land'!AC32","v":44.504597548172207},{"$f":"'Baggrundstabeller for alle land'!AD32","v":"*"},44.504597548172207,null,{"$f":"'Baggrundstabeller for alle land'!AH32","v":"Tjekkiet"},6,{"$f":"'Baggrundstabeller for alle land'!AI32","v":"*"},{"$f":"'Baggrundstabeller for alle land'!AJ32","v":"*"},0]
[null,null,null,{"$f":"'Baggrundstabeller for alle land'!D33","v":"Danmark"},7,{"$f":"'Baggrundstabeller for alle land'!E33","v":56.817080161848921},{"$f":"'Baggrundstabeller for alle land'!F33","v":48.069710819011227},104.88679098086016,null,{"$f":"'Baggrundstabeller for alle land'!J33","v":"Danmark"},7,{"$f":"'Baggrundstabeller for alle land'!K33","v":52.107637136355791},{"$f":"'Baggrundstabeller for alle land'!L33","v":38.315434166802909},90.423071303158707,null,{"$f":"'Baggrundstabeller for alle land'!P33","v":"Danmark"},7,{"$f":"'Baggrundstabeller for alle land'!Q33","v":39.855583111888429},{"$f":"'Baggrundstabeller for alle land'!R33","v":7.0770358880672939},46.932618999955722,null,{"$f":"'Baggrundstabeller for alle land'!V33","v":"Danmark"},7,{"$f":"'Baggrundstabeller for alle land'!W33","v":37.585077002299599},{"$f":"'Baggrundstabeller for alle land'!X33","v":"*"},37.585077002299599,null,{"$f":"'Baggrundstabeller for alle land'!AB33","v":"Danmark"},7,{"$f":"'Baggrundstabeller for alle land'!AC33","v":35.14687559209974},{"$f":"'Baggrundstabeller for alle land'!AD33","v":"*"},35.14687559209974,null,{"$f":"'Baggrundstabeller for alle land'!AH33","v":"Danmark"},7,{"$f":"'Baggrundstabeller for alle land'!AI33","v":"*"},{"$f":"'Baggrundstabeller for alle land'!AJ33","v":"*"},0]
[null,null,null,{"$f":"'Baggrundstabeller for alle land'!D34","v":"Tyskland"},8,{"$f":"'Baggrundstabeller for alle land'!E34","v":83.419404371725676},{"$f":"'Baggrundstabeller for alle land'!F34","v":8.1598019996797255},91.579206371405405,null,{"$f":"'Baggrundstabeller for alle land'!J34","v":"Tyskland"},8,{"$f":"'Baggrundstabeller for alle land'!K34","v":63.748453122497786},{"$f":"'Baggrundstabeller for alle land'!L34","v":8.1598019996797113},71.908255122177493,null,{"$f":"'Baggrundstabeller for alle land'!P34","v":"Tyskland"},8,{"$f":"'Baggrundstabeller for alle land'!Q34","v":60.469961247626479},{"$f":"'Baggrundstabeller for alle land'!R34","v":-7.3860779172100921},53.083883330416384,null,{"$f":"'Baggrundstabeller for alle land'!V34","v":"Tyskland"},8,{"$f":"'Baggrundstabeller for alle land'!W34","v":45.53460937321271},{"$f":"'Baggrundstabeller for alle land'!X34","v":"*"},45.53460937321271,null,{"$f":"'Baggrundstabeller for alle land'!AB34","v":"Tyskland"},8,{"$f":"'Baggrundstabeller for alle land'!AC34","v":36.719108998558731},{"$f":"'Baggrundstabeller for alle land'!AD34","v":"*"},36.719108998558731,null,{"$f":"'Baggrundstabeller for alle land'!AH34","v":"Tyskland"},8,{"$f":"'Baggrundstabeller for alle land'!AI34","v":33.659183248678836},{"$f":"'Baggrundstabeller for alle land'!AJ34","v":"*"},33.659183248678836]
[null,null,null,{"$f":"'Baggrundstabeller for alle land'!D35","v":"Estland"},9,{"$f":"'Baggrundstabeller for alle land'!E35","v":65.412020945872456},{"$f":"'Baggrundstabeller for alle land'!F35","v":7.268002327319163},72.680023273191622,null,{"$f":"'Baggrundstabeller for alle land'!J35","v":"Estland"},9,{"$f":"'Baggrundstabeller for alle land'!K35","v":60.566686060993014},{"$f":"'Baggrundstabeller for alle land'!L35","v":7.268002327319163},67.834688388312173,null,{"$f":"'Baggrundstabeller for alle land'!P35","v":"Estland"},9,{"$f":"'Baggrundstabeller for alle land'!Q35","v":55.721351176113572},{"$f":"'Baggrundstabeller for alle land'!R35","v":2.7544994678890431},58.475850644002612,null,{"$f":"'Baggrundstabeller for alle land'!V35","v":"Estland"},9,{"$f":"'Baggrundstabeller for alle land'!W35","v":55.721351176113572},{"$f":"'Baggrundstabeller for alle land'!X35","v":"*"},55.721351176113572,null,{"$f":"'Baggrundstabeller for alle land'!AB35","v":"Estland"},9,{"$f":"'Baggrundstabeller for alle land'!AC35","v":53.298683733673855},{"$f":"'Baggrundstabeller for alle land'!AD35","v":"*"},53.298683733673855,null,{"$f":"'Baggrundstabeller for alle land'!AH35","v":"Estland"},9,{"$f":"'Baggrundstabeller for alle land'!AI35","v":"*"},{"$f":"'Baggrundstabeller for alle land'!AJ35","v":"*"},0]
[null,null,null,{"$f":"'Baggrundstabeller for alle land'!D36","v":"Irland"},10,{"$f":"'Baggrundstabeller for alle land'!E36","v":92.659270406333576},{"$f":"'Baggrundstabeller for alle land'!F36","v":7.4577696758324707},100.11704008216604,null,{"$f":"'Baggrundstabeller for alle land'!J36","v":"Irland"},10,{"$f":"'Baggrundstabeller for alle land'!K36","v":69.512041884174323},{"$f":"'Baggrundstabeller for alle land'!L36","v":8.2316891704943256},77.743731054668643,null,{"$f":"'Baggrundstabeller for alle land'!P36","v":"Irland"},10,{"$f":"'Baggrundstabeller for alle land'!Q36","v":56.425766792619228},{"$f":"'Baggrundstabeller for alle land'!R36","v":9.8498844775145802},66.275651270133807,null,{"$f":"'Baggrundstabeller for alle land'!V36","v":"Irland"},10,{"$f":"'Baggrundstabeller for alle land'!W36","v":45.028043325780935},{"$f":"'Baggrundstabeller for alle land'!X36","v":4.0103101087023605},49.038353434483298,null,{"$f":"'Baggrundstabeller for alle land'!AB36","v":"Irland"},10,{"$f":"'Baggrundstabeller for alle land'!AC36","v":"*"},{"$f":"'Baggrundstabeller for alle land'!AD36","v":"*"},0,null,{"$f":"'Baggrundstabeller for alle land'!AH36","v":"Irland"},10,{"$f":"'Baggrundstabeller for alle land'!AI36","v":"*"},{"$f":"'Baggrundstabeller for alle land'!AJ36","v":"*"},0]
[null,null,null,{"$f":"'Baggrundstabeller for alle land'!D37","v":"Grækenland"},11,{"$f":"'Baggrundstabeller for alle land'!E37","v":56.613018664533591},{"$f":"'Baggrundstabeller for alle land'!F37","v":12.152928006653205},68.765946671186796,null,{"$f":"'Baggrundstabeller for alle land'!J37","v":"Grækenland"},11,{"$f":"'Baggrundstabeller for alle land'!K37","v":56.990438788963814},{"$f":"'Baggrundstabeller for alle land'!L37","v":12.077443981767169},69.067882770730989,null,{"$f":"'Baggrundstabeller for alle land'!P37","v":"Grækenland"},11,{"$f":"'Baggrundstabeller for alle land'!Q37","v":50.121392524333736},{"$f":"'Baggrundstabeller for alle land'!R37","v":14.64390082789269},64.765293352226422,null,{"$f":"'Baggrundstabeller for alle land'!V37","v":"Grækenland"},11,{"$f":"'Baggrundstabeller for alle land'!W37","v":40.836857463350228},{"$f":"'Baggrundstabeller for alle land'!X37","v":4.076137343846419},44.912994807196647,null,{"$f":"'Baggrundstabeller for alle land'!AB37","v":"Grækenland"},11,{"$f":"'Baggrundstabeller for alle land'!AC37","v":"*"},{"$f":"'Baggrundstabeller for alle land'!AD37","v":"*"},0,null,{"$f":"'Baggrundstabeller for alle land'!AH37","v":"Grækenland"},11,{"$f":"'Baggrundstabeller for alle land'!AI37","v":"*"},{"$f":"'Baggrundstabeller for alle land'!AJ37","v":"*"},0]
[null,null,null,{"$f":"'Baggrundstabeller for alle land'!D38","v":"Spanien"},12,{"$f":"'Baggrundstabeller for alle land'!E38","v":88.089558862210666},{"$f":"'Baggrundstabeller for alle land'!F38","v":1.1141175235524141},89.203676385763075,null,{"$f":"'Baggrundstabeller for alle land'!J38","v":"Spanien"},12,{"$f":"'Baggrundstabeller for alle land'!K38","v":73.754580059169626},{"$f":"'Baggrundstabeller for alle land'!L38","v":1.1141175235524141},74.868697582722035,null,{"$f":"'Baggrundstabeller for alle land'!P38","v":"Spanien"},12,{"$f":"'Baggrundstabeller for alle land'!Q38","v":56.894268202743149},{"$f":"'Baggrundstabeller for alle land'!R38","v":10.769802727673305},67.664070930416457,null,{"$f":"'Baggrundstabeller for alle land'!V38","v":"Spanien"},12,{"$f":"'Baggrundstabeller for alle land'!W38","v":49.318269042586742},{"$f":"'Baggrundstabeller for alle land'!X38","v":-10.088705548274936},39.229563494311805,null,{"$f":"'Baggrundstabeller for alle land'!AB38","v":"Spanien"},12,{"$f":"'Baggrundstabeller for alle land'!AC38","v":42.11364239028115},{"$f":"'Baggrundstabeller for alle land'!AD38","v":-5.0484378717238236},37.065204518557323,null,{"$f":"'Baggrundstabeller for alle land'!AH38","v":"Spanien"},12,{"$f":"'Baggrundstabeller for alle land'!AI38","v":40.331054352597292},{"$f":"'Baggrundstabeller for alle land'!AJ38","v":"*"},40.331054352597292]
[null,null,null,{"$f":"'Baggrundstabeller for alle land'!D39","v":"Frankrig"},13,{"$f":"'Baggrundstabeller for alle land'!E39","v":85.262970188889128},{"$f":"'Baggrundstabeller for alle land'!F39","v":11.03489691832042},96.297867107209555,null,{"$f":"'Baggrundstabeller for alle land'!J39","v":"Frankrig"},13,{"$f":"'Baggrundstabeller for alle land'!K39","v":70.917604195072585},{"$f":"'Baggrundstabeller for alle land'!L39","v":10.004973205943845},80.922577401016426,null,{"$f":"'Baggrundstabeller for alle land'!P39","v":"Frankrig"},13,{"$f":"'Baggrundstabeller for alle land'!Q39","v":58.264255728731825},{"$f":"'Baggrundstabeller for alle land'!R39","v":2.1334134042086217},60.39766913294045,null,{"$f":"'Baggrundstabeller for alle land'!V39","v":"Frankrig"},13,{"$f":"'Baggrundstabeller for alle land'!W39","v":43.992455714370756},{"$f":"'Baggrundstabeller for alle land'!X39","v":2.5196347963498251},46.512090510720583,null,{"$f":"'Baggrundstabeller for alle land'!AB39","v":"Frankrig"},13,{"$f":"'Baggrundstabeller for alle land'!AC39","v":33.913916528971434},{"$f":"'Baggrundstabeller for alle land'!AD39","v":13.098422642046339},47.012339171017771,null,{"$f":"'Baggrundstabeller for alle land'!AH39","v":"Frankrig"},13,{"$f":"'Baggrundstabeller for alle land'!AI39","v":"*"},{"$f":"'Baggrundstabeller for alle land'!AJ39","v":"*"},0]
[null,null,null,{"$f":"'Baggrundstabeller for alle land'!D40","v":"Kroatien"},14,{"$f":"'Baggrundstabeller for alle land'!E40","v":82.82555251579835},{"$f":"'Baggrundstabeller for alle land'!F40","v":1.2603354372162829},84.085887953014634,null,{"$f":"'Baggrundstabeller for alle land'!J40","v":"Kroatien"},14,{"$f":"'Baggrundstabeller for alle land'!K40","v":75.40126113047171},{"$f":"'Baggrundstabeller for alle land'!L40","v":1.053381360697595},76.454642491169309,null,{"$f":"'Baggrundstabeller for alle land'!P40","v":"Kroatien"},14,{"$f":"'Baggrundstabeller for alle land'!Q40","v":66.82532242005729},{"$f":"'Baggrundstabeller for alle land'!R40","v":-8.6846268225429277},58.140695597514366,null,{"$f":"'Baggrundstabeller for alle land'!V40","v":"Kroatien"},14,{"$f":"'Baggrundstabeller for alle land'!W40","v":53.149231269968489},{"$f":"'Baggrundstabeller for alle land'!X40","v":-4.5857450048743704},48.56348626509412,null,{"$f":"'Baggrundstabeller for alle land'!AB40","v":"Kroatien"},14,{"$f":"'Baggrundstabeller for alle land'!AC40","v":"*"},{"$f":"'Baggrundstabeller for alle land'!AD40","v":"*"},0,null,{"$f":"'Baggrundstabeller for alle land'!AH40","v":"Kroatien"},14,{"$f":"'Baggrundstabeller for alle land'!AI40","v":"*"},{"$f":"'Baggrundstabeller for alle land'!AJ40","v":"*"},0]
[null,null,null,{"$f":"'Baggrundstabeller for alle land'!D41","v":"Italien"},15,{"$f":"'Baggrundstabeller for alle land'!E41","v":90.250932825213027},{"$f":"'Baggrundstabeller for alle land'!F41","v":22.599660756559064},112.85059358177209,null,{"$f":"'Baggrundstabeller for alle land'!J41","v":"Italien"},15,{"$f":"'Baggrundstabeller for alle land'!K41","v":75.553767823398474},{"$f":"'Baggrundstabeller for alle land'!L41","v":15.952701710512287},91.50646953391076,null,{"$f":"'Baggrundstabeller for alle land'!P41","v":"Italien"},15,{"$f":"'Baggrundstabeller for alle land'!Q41","v":59.084080409304761},{"$f":"'Baggrundstabeller for alle land'!R41","v":9.2318875639538689},68.315967973258637,null,{"$f":"'Baggrundstabeller for alle land'!V41","v":"Italien"},15,{"$f":"'Baggrundstabeller for alle land'!W41","v":50.221468347909052},{"$f":"'Baggrundstabeller for alle land'!X41","v":4.2097407291629665},54.431209077072019,null,{"$f":"'Baggrundstabeller for alle land'!AB41","v":"Italien"},15,{"$f":"'Baggrundstabeller for alle land'!AC41","v":47.784250031025223},{"$f":"'Baggrundstabeller for alle land'!AD41","v":-2.2895081158605568},45.494741915164667,null,{"$f":"'Baggrundstabeller for alle land'!AH41","v":"Italien"},15,{"$f":"'Baggrundstabeller for alle land'!AI41","v":45.93787251823445},{"$f":"'Baggrundstabeller for alle land'!AJ41","v":-3.5450448245582824},42.392827693676168]
[null,null,null,{"$f":"'Baggrundstabeller for alle land'!D42","v":"Letland"},16,{"$f":"'Baggrundstabeller for alle land'!E42","v":65.401998295392005},{"$f":"'Baggrundstabeller for alle land'!F42","v":3.551239726446628},68.953238021838629,null,{"$f":"'Baggrundstabeller for alle land'!J42","v":"Letland"},16,{"$f":"'Baggrundstabeller for alle land'!K42","v":58.447487164434037},{"$f":"'Baggrundstabeller for alle land'!L42","v":3.4032714045113419},61.85075856894538,null,{"$f":"'Baggrundstabeller for alle land'!P42","v":"Letland"},16,{"$f":"'Baggrundstabeller for alle land'!Q42","v":51.492976033476062},{"$f":"'Baggrundstabeller for alle land'!R42","v":15.780821534397191},67.27379756787326,null,{"$f":"'Baggrundstabeller for alle land'!V42","v":"Letland"},16,{"$f":"'Baggrundstabeller for alle land'!W42","v":47.719783824126523},{"$f":"'Baggrundstabeller for alle land'!X42","v":15.758626286106896},63.478410110233419,null,{"$f":"'Baggrundstabeller for alle land'!AB42","v":"Letland"},16,{"$f":"'Baggrundstabeller for alle land'!AC42","v":45.944163960903211},{"$f":"'Baggrundstabeller for alle land'!AD42","v":15.092768837398156},61.036932798301365,null,{"$f":"'Baggrundstabeller for alle land'!AH42","v":"Letland"},16,{"$f":"'Baggrundstabeller for alle land'!AI42","v":"*"},{"$f":"'Baggrundstabeller for alle land'!AJ42","v":"*"},0]
[null,null,null,{"$f":"'Baggrundstabeller for alle land'!D43","v":"Litaun"},17,{"$f":"'Baggrundstabeller for alle land'!E43","v":74.71474519373244},{"$f":"'Baggrundstabeller for alle land'!F43","v":0},74.71474519373244,null,{"$f":"'Baggrundstabeller for alle land'!J43","v":"Litaun"},17,{"$f":"'Baggrundstabeller for alle land'!K43","v":62.772328379549435},{"$f":"'Baggrundstabeller for alle land'!L43","v":0},62.772328379549435,null,{"$f":"'Baggrundstabeller for alle land'!P43","v":"Litaun"},17,{"$f":"'Baggrundstabeller for alle land'!Q43","v":55.606878291039628},{"$f":"'Baggrundstabeller for alle land'!R43","v":9.106092820814542},64.712971111854174,null,{"$f":"'Baggrundstabeller for alle land'!V43","v":"Litaun"},17,{"$f":"'Baggrundstabeller for alle land'!W43","v":43.888381792122551},{"$f":"'Baggrundstabeller for alle land'!X43","v":6.3444089325347264},50.232790724657278,null,{"$f":"'Baggrundstabeller for alle land'!AB43","v":"Litaun"},17,{"$f":"'Baggrundstabeller for alle land'!AC43","v":"*"},{"$f":"'Baggrundstabeller for alle land'!AD43","v":"*"},0,null,{"$f":"'Baggrundstabeller for alle land'!AH43","v":"Litaun"},17,{"$f":"'Baggrundstabeller for alle land'!AI43","v":"*"},{"$f":"'Baggrundstabeller for alle land'!AJ43","v":"*"},0]
[null,null,null,{"$f":"'Baggrundstabeller for alle land'!D44","v":"luxembourg"},18,{"$f":"'Baggrundstabeller for alle land'!E44","v":78.336092115355086},{"$f":"'Baggrundstabeller for alle land'!F44","v":2.1699748508408665},80.506066966195959,null,{"$f":"'Baggrundstabeller for alle land'!J44","v":"luxembourg"},18,{"$f":"'Baggrundstabeller for alle land'!K44","v":79.20408205569143},{"$f":"'Baggrundstabeller for alle land'!L44","v":1.1573199204484603},80.361401976139888,null,{"$f":"'Baggrundstabeller for alle land'!P44","v":"luxembourg"},18,{"$f":"'Baggrundstabeller for alle land'!Q44","v":68.643537781599235},{"$f":"'Baggrundstabeller for alle land'!R44","v":-14.972826470801943},53.670711310797294,null,{"$f":"'Baggrundstabeller for alle land'!V44","v":"luxembourg"},18,{"$f":"'Baggrundstabeller for alle land'!W44","v":51.428403964928414},{"$f":"'Baggrundstabeller for alle land'!X44","v":-1.1573199204484603},50.271084044479956,null,{"$f":"'Baggrundstabeller for alle land'!AB44","v":"luxembourg"},18,{"$f":"'Baggrundstabeller for alle land'!AC44","v":"*"},{"$f":"'Baggrundstabeller for alle land'!AD44","v":"*"},0,null,{"$f":"'Baggrundstabeller for alle land'!AH44","v":"luxembourg"},18,{"$f":"'Baggrundstabeller for alle land'!AI44","v":"*"},{"$f":"'Baggrundstabeller for alle land'!AJ44","v":"*"},0]
[null,null,null,{"$f":"'Baggrundstabeller for alle land'!D45","v":"Ungarn"},19,{"$f":"'Baggrundstabeller for alle land'!E45","v":66.862409091369045},{"$f":"'Baggrundstabeller for alle land'!F45","v":3.476413768895493},70.338822860264543,null,{"$f":"'Baggrundstabeller for alle land'!J45","v":"Ungarn"},19,{"$f":"'Baggrundstabeller for alle land'!K45","v":59.973863806052826},{"$f":"'Baggrundstabeller for alle land'!L45","v":3.2082016120179104},63.182065418070735,null,{"$f":"'Baggrundstabeller for alle land'!P45","v":"Ungarn"},19,{"$f":"'Baggrundstabeller for alle land'!Q45","v":61.433883701342431},{"$f":"'Baggrundstabeller for alle land'!R45","v":-6.3875870418919423},55.046296659450491,null,{"$f":"'Baggrundstabeller for alle land'!V45","v":"Ungarn"},19,{"$f":"'Baggrundstabeller for alle land'!W45","v":51.830706282780305},{"$f":"'Baggrundstabeller for alle land'!X45","v":-1.660994293831473},50.169711988948833,null,{"$f":"'Baggrundstabeller for alle land'!AB45","v":"Ungarn"},19,{"$f":"'Baggrundstabeller for alle land'!AC45","v":44.928122344624775},{"$f":"'Baggrundstabeller for alle land'!AD45","v":-1.9255120683829205},43.002610276241853,null,{"$f":"'Baggrundstabeller for alle land'!AH45","v":"Ungarn"},19,{"$f":"'Baggrundstabeller for alle land'!AI45","v":44.7057205285913},{"$f":"'Baggrundstabeller for alle land'!AJ45","v":-3.4764137688954997},41.229306759695802]
[null,null,null,{"$f":"'Baggrundstabeller for alle land'!D46","v":"Holland"},20,{"$f":"'Baggrundstabeller for alle land'!E46","v":75.210181960607343},{"$f":"'Baggrundstabeller for alle land'!F46","v":55.351729974949443},130.56191193555679,null,{"$f":"'Baggrundstabeller for alle land'!J46","v":"Holland"},20,{"$f":"'Baggrundstabeller for alle land'!K46","v":63.50258713324186},{"$f":"'Baggrundstabeller for alle land'!L46","v":55.351729974949436},118.8543171081913,null,{"$f":"'Baggrundstabeller for alle land'!P46","v":"Holland"},20,{"$f":"'Baggrundstabeller for alle land'!Q46","v":46.608083205144844},{"$f":"'Baggrundstabeller for alle land'!R46","v":25.934545503657699},72.542628708802539,null,{"$f":"'Baggrundstabeller for alle land'!V46","v":"Holland"},20,{"$f":"'Baggrundstabeller for alle land'!W46","v":42.013963715925485},{"$f":"'Baggrundstabeller for alle land'!X46","v":7.2616727410241602},49.275636456949641,null,{"$f":"'Baggrundstabeller for alle land'!AB46","v":"Holland"},20,{"$f":"'Baggrundstabeller for alle land'!AC46","v":40.531989687145035},{"$f":"'Baggrundstabeller for alle land'!AD46","v":-4.3718233849022976},36.160166302242736,null,{"$f":"'Baggrundstabeller for alle land'!AH46","v":"Holland"},20,{"$f":"'Baggrundstabeller for alle land'!AI46","v":"*"},{"$f":"'Baggrundstabeller for alle land'!AJ46","v":"*"},0]
[null,null,null,{"$f":"'Baggrundstabeller for alle land'!D47","v":"Østrig"},21,{"$f":"'Baggrundstabeller for alle land'!E47","v":93.516307614686994},{"$f":"'Baggrundstabeller for alle land'!F47","v":14.375840229395026},107.89214784408202,null,{"$f":"'Baggrundstabeller for alle land'!J47","v":"Østrig"},21,{"$f":"'Baggrundstabeller for alle land'!K47","v":71.879201146975106},{"$f":"'Baggrundstabeller for alle land'!L47","v":15.769416578162895},87.648617725137996,null,{"$f":"'Baggrundstabeller for alle land'!P47","v":"Østrig"},21,{"$f":"'Baggrundstabeller for alle land'!Q47","v":57.136630299483272},{"$f":"'Baggrundstabeller for alle land'!R47","v":7.4732365355768255},64.609866835060103,null,{"$f":"'Baggrundstabeller for alle land'!V47","v":"Østrig"},21,{"$f":"'Baggrundstabeller for alle land'!W47","v":52.442478387844083},{"$f":"'Baggrundstabeller for alle land'!X47","v":0.52442478387843683},52.966903171722521,null,{"$f":"'Baggrundstabeller for alle land'!AB47","v":"Østrig"},21,{"$f":"'Baggrundstabeller for alle land'!AC47","v":53.029247376798985},{"$f":"'Baggrundstabeller for alle land'!AD47","v":"*"},53.029247376798985,null,{"$f":"'Baggrundstabeller for alle land'!AH47","v":"Østrig"},21,{"$f":"'Baggrundstabeller for alle land'!AI47","v":"*"},{"$f":"'Baggrundstabeller for alle land'!AJ47","v":"*"},0]
[null,null,null,{"$f":"'Baggrundstabeller for alle land'!D48","v":"Polen"},22,{"$f":"'Baggrundstabeller for alle land'!E48","v":73.435065932951474},{"$f":"'Baggrundstabeller for alle land'!F48","v":1.4738806180195352},74.90894655097101,null,{"$f":"'Baggrundstabeller for alle land'!J48","v":"Polen"},22,{"$f":"'Baggrundstabeller for alle land'!K48","v":68.727082814247495},{"$f":"'Baggrundstabeller for alle land'!L48","v":1.507176113908532},70.234258928156024,null,{"$f":"'Baggrundstabeller for alle land'!P48","v":"Polen"},22,{"$f":"'Baggrundstabeller for alle land'!Q48","v":54.484009572843803},{"$f":"'Baggrundstabeller for alle land'!R48","v":24.389320688643622},78.873330261487425,null,{"$f":"'Baggrundstabeller for alle land'!V48","v":"Polen"},22,{"$f":"'Baggrundstabeller for alle land'!W48","v":46.032872816308064},{"$f":"'Baggrundstabeller for alle land'!X48","v":5.6121408070673793},51.645013623375441,null,{"$f":"'Baggrundstabeller for alle land'!AB48","v":"Polen"},22,{"$f":"'Baggrundstabeller for alle land'!AC48","v":35.599544204514125},{"$f":"'Baggrundstabeller for alle land'!AD48","v":13.233849766012794},48.83339397052692,null,{"$f":"'Baggrundstabeller for alle land'!AH48","v":"Polen"},22,{"$f":"'Baggrundstabeller for alle land'!AI48","v":"*"},{"$f":"'Baggrundstabeller for alle land'!AJ48","v":"*"},0]
[null,null,null,{"$f":"'Baggrundstabeller for alle land'!D49","v":"Portugal"},23,{"$f":"'Baggrundstabeller for alle land'!E49","v":129.94033066871137},{"$f":"'Baggrundstabeller for alle land'!F49","v":7.4669936496949587},137.40732431840632,null,{"$f":"'Baggrundstabeller for alle land'!J49","v":"Portugal"},23,{"$f":"'Baggrundstabeller for alle land'!K49","v":86.090044431777201},{"$f":"'Baggrundstabeller for alle land'!L49","v":2.5622037033266998},88.652248135103903,null,{"$f":"'Baggrundstabeller for alle land'!P49","v":"Portugal"},23,{"$f":"'Baggrundstabeller for alle land'!Q49","v":67.642177767824947},{"$f":"'Baggrundstabeller for alle land'!R49","v":4.1727317454177753},71.814909513242725,null,{"$f":"'Baggrundstabeller for alle land'!V49","v":"Portugal"},23,{"$f":"'Baggrundstabeller for alle land'!W49","v":55.78283491242707},{"$f":"'Baggrundstabeller for alle land'!X49","v":-5.1244074066534067},50.658427505773666,null,{"$f":"'Baggrundstabeller for alle land'!AB49","v":"Portugal"},23,{"$f":"'Baggrundstabeller for alle land'!AC49","v":53.879483589955804},{"$f":"'Baggrundstabeller for alle land'!AD49","v":-4.9779957664633123},48.901487823492488,null,{"$f":"'Baggrundstabeller for alle land'!AH49","v":"Portugal"},23,{"$f":"'Baggrundstabeller for alle land'!AI49","v":"*"},{"$f":"'Baggrundstabeller for alle land'!AJ49","v":"*"},0]
[null,null,null,{"$f":"'Baggrundstabeller for alle land'!D50","v":"Rumænien"},24,{"$f":"'Baggrundstabeller for alle land'!E50","v":46.998450616960106},{"$f":"'Baggrundstabeller for alle land'!F50","v":18.430166407560112},65.428617024520221,null,{"$f":"'Baggrundstabeller for alle land'!J50","v":"Rumænien"},24,{"$f":"'Baggrundstabeller for alle land'!K50","v":43.651541700373066},{"$f":"'Baggrundstabeller for alle land'!L50","v":17.703367511450004},61.35490921182307,null,{"$f":"'Baggrundstabeller for alle land'!P50","v":"Rumænien"},24,{"$f":"'Baggrundstabeller for alle land'!Q50","v":39.205712852867535},{"$f":"'Baggrundstabeller for alle land'!R50","v":15.378337842793766},54.584050695661304,null,{"$f":"'Baggrundstabeller for alle land'!V50","v":"Rumænien"},24,{"$f":"'Baggrundstabeller for alle land'!W50","v":36.925744715770122},{"$f":"'Baggrundstabeller for alle land'!X50","v":5.8100303755042022},42.735775091274327,null,{"$f":"'Baggrundstabeller for alle land'!AB50","v":"Rumænien"},24,{"$f":"'Baggrundstabeller for alle land'!AC50","v":32.819330952748018},{"$f":"'Baggrundstabeller for alle land'!AD50","v":"*"},32.819330952748018,null,{"$f":"'Baggrundstabeller for alle land'!AH50","v":"Rumænien"},24,{"$f":"'Baggrundstabeller for alle land'!AI50","v":30.540089614546719},{"$f":"'Baggrundstabeller for alle land'!AJ50","v":"*"},30.540089614546719]
[null,null,null,{"$f":"'Baggrundstabeller for alle land'!D51","v":"Slovenien"},25,{"$f":"'Baggrundstabeller for alle land'!E51","v":88.288006607333259},{"$f":"'Baggrundstabeller for alle land'!F51","v":10.674620446226687},98.962627053559942,null,{"$f":"'Baggrundstabeller for alle land'!J51","v":"Slovenien"},25,{"$f":"'Baggrundstabeller for alle land'!K51","v":85.471092878467871},{"$f":"'Baggrundstabeller for alle land'!L51","v":11.490042841424568},96.96113571989244,null,{"$f":"'Baggrundstabeller for alle land'!P51","v":"Slovenien"},25,{"$f":"'Baggrundstabeller for alle land'!Q51","v":60.637774479259946},{"$f":"'Baggrundstabeller for alle land'!R51","v":9.3402928904483513},69.978067369708299,null,{"$f":"'Baggrundstabeller for alle land'!V51","v":"Slovenien"},25,{"$f":"'Baggrundstabeller for alle land'!W51","v":50.185541958996318},{"$f":"'Baggrundstabeller for alle land'!X51","v":2.8910430375197329},53.076584996516047,null,{"$f":"'Baggrundstabeller for alle land'!AB51","v":"Slovenien"},25,{"$f":"'Baggrundstabeller for alle land'!AC51","v":"*"},{"$f":"'Baggrundstabeller for alle land'!AD51","v":"*"},0,null,{"$f":"'Baggrundstabeller for alle land'!AH51","v":"Slovenien"},25,{"$f":"'Baggrundstabeller for alle land'!AI51","v":"*"},{"$f":"'Baggrundstabeller for alle land'!AJ51","v":"*"},0]
[null,null,null,{"$f":"'Baggrundstabeller for alle land'!D52","v":"Slovakiet"},26,{"$f":"'Baggrundstabeller for alle land'!E52","v":90.875278984996712},{"$f":"'Baggrundstabeller for alle land'!F52","v":2.688175877945667},93.563454862942379,null,{"$f":"'Baggrundstabeller for alle land'!J52","v":"Slovakiet"},26,{"$f":"'Baggrundstabeller for alle land'!K52","v":71.983376287211854},{"$f":"'Baggrundstabeller for alle land'!L52","v":2.7628474301108228},74.746223717322678,null,{"$f":"'Baggrundstabeller for alle land'!P52","v":"Slovakiet"},26,{"$f":"'Baggrundstabeller for alle land'!Q52","v":60.558628805942746},{"$f":"'Baggrundstabeller for alle land'!R52","v":-2.688175877945667},57.870452927997079,null,{"$f":"'Baggrundstabeller for alle land'!V52","v":"Slovakiet"},26,{"$f":"'Baggrundstabeller for alle land'!W52","v":55.630306363042358},{"$f":"'Baggrundstabeller for alle land'!X52","v":0.26732415675126436},55.897630519793623,null,{"$f":"'Baggrundstabeller for alle land'!AB52","v":"Slovakiet"},26,{"$f":"'Baggrundstabeller for alle land'!AC52","v":57.497095167171295},{"$f":"'Baggrundstabeller for alle land'!AD52","v":-8.6163504043375294},48.880744762833764,null,{"$f":"'Baggrundstabeller for alle land'!AH52","v":"Slovakiet"},26,{"$f":"'Baggrundstabeller for alle land'!AI52","v":"*"},{"$f":"'Baggrundstabeller for alle land'!AJ52","v":"*"},0]
[null,null,null,{"$f":"'Baggrundstabeller for alle land'!D53","v":"Finland"},27,{"$f":"'Baggrundstabeller for alle land'!E53","v":"*"},{"$f":"'Baggrundstabeller for alle land'!F53","v":"*"},0,null,{"$f":"'Baggrundstabeller for alle land'!J53","v":"Finland"},27,{"$f":"'Baggrundstabeller for alle land'!K53","v":63.011780171516669},{"$f":"'Baggrundstabeller for alle land'!L53","v":32.359406542734121},95.371186714250797,null,{"$f":"'Baggrundstabeller for alle land'!P53","v":"Finland"},27,{"$f":"'Baggrundstabeller for alle land'!Q53","v":53.066457977190133},{"$f":"'Baggrundstabeller for alle land'!R53","v":18.109392652355787},71.17585062954592,null,{"$f":"'Baggrundstabeller for alle land'!V53","v":"Finland"},27,{"$f":"'Baggrundstabeller for alle land'!W53","v":50.543018017435628},{"$f":"'Baggrundstabeller for alle land'!X53","v":2.003908203334456},52.546926220770082,null,{"$f":"'Baggrundstabeller for alle land'!AB53","v":"Finland"},27,{"$f":"'Baggrundstabeller for alle land'!AC53","v":50.246142728052753},{"$f":"'Baggrundstabeller for alle land'!AD53","v":-4.6757858077803878},45.570356920272367,null,{"$f":"'Baggrundstabeller for alle land'!AH53","v":"Finland"},27,{"$f":"'Baggrundstabeller for alle land'!AI53","v":"*"},{"$f":"'Baggrundstabeller for alle land'!AJ53","v":"*"},0]
[null,null,null,{"$f":"'Baggrundstabeller for alle land'!D54","v":"Sverige"},28,{"$f":"'Baggrundstabeller for alle land'!E54","v":108.42291156211363},{"$f":"'Baggrundstabeller for alle land'!F54","v":18.363197087660993},126.78610864977462,null,{"$f":"'Baggrundstabeller for alle land'!J54","v":"Sverige"},28,{"$f":"'Baggrundstabeller for alle land'!K54","v":82.938602134048224},{"$f":"'Baggrundstabeller for alle land'!L54","v":18.371449535590251},101.31005166963848,null,{"$f":"'Baggrundstabeller for alle land'!P54","v":"Sverige"},28,{"$f":"'Baggrundstabeller for alle land'!Q54","v":59.461888220407857},{"$f":"'Baggrundstabeller for alle land'!R54","v":4.1569830887253172},63.618871309133176,null,{"$f":"'Baggrundstabeller for alle land'!V54","v":"Sverige"},28,{"$f":"'Baggrundstabeller for alle land'!W54","v":52.663371571783273},{"$f":"'Baggrundstabeller for alle land'!X54","v":15.756923987095794},68.420295558879062,null,{"$f":"'Baggrundstabeller for alle land'!AB54","v":"Sverige"},28,{"$f":"'Baggrundstabeller for alle land'!AC54","v":52.469814156715387},{"$f":"'Baggrundstabeller for alle land'!AD54","v":13.849858292899851},66.31967244961524,null,{"$f":"'Baggrundstabeller for alle land'!AH54","v":"Sverige"},28,{"$f":"'Baggrundstabeller for alle land'!AI54","v":"*"},{"$f":"'Baggrundstabeller for alle land'!AJ54","v":"*"},0]
[null,null,null,{"$f":"'Baggrundstabeller for alle land'!D55","v":"UK"},29,{"$f":"'Baggrundstabeller for alle land'!E55","v":92.477694360028636},{"$f":"'Baggrundstabeller for alle land'!F55","v":3.1768524802924554},95.654546840321089,null,{"$f":"'Baggrundstabeller for alle land'!J55","v":"UK"},29,{"$f":"'Baggrundstabeller for alle land'!K55","v":57.530311488124518},{"$f":"'Baggrundstabeller for alle land'!L55","v":3.1768524802924669},60.707163968416985,null,{"$f":"'Baggrundstabeller for alle land'!P55","v":"UK"},29,{"$f":"'Baggrundstabeller for alle land'!Q55","v":51.090366213996298},{"$f":"'Baggrundstabeller for alle land'!R55","v":25.857386412616119},76.947752626612413,null,{"$f":"'Baggrundstabeller for alle land'!V55","v":"UK"},29,{"$f":"'Baggrundstabeller for alle land'!W55","v":39.66987570035235},{"$f":"'Baggrundstabeller for alle land'!X55","v":2.3966784810287147},42.066554181381065,null,{"$f":"'Baggrundstabeller for alle land'!AB55","v":"UK"},29,{"$f":"'Baggrundstabeller for alle land'!AC55","v":32.800734447194714},{"$f":"'Baggrundstabeller for alle land'!AD55","v":-0.63510308423355011},32.165631362961165,null,{"$f":"'Baggrundstabeller for alle land'!AH55","v":"UK"},29,{"$f":"'Baggrundstabeller for alle land'!AI55","v":"*"},{"$f":"'Baggrundstabeller for alle land'!AJ55","v":"*"},0]
[null,null,null,"Level 1",null,null,null,null,null,"Level 1",null,null,null,null,null,"Level 1",null,null,null,null,null,"Level 1",null,null,null,null,null,"Level 1",null,null,null,null,null,"Level 1"]
[null,null,null,"Level 2",null,null,null,null,null,"Level 2",null,null,null,null,null,"Level 2",null,null,null,null,null,"Level 2",null,null,null,null,null,"Level 2",null,null,null,null,null,"Level 2"]

{"sheet":"Baggrundstabeller for alle land","index":3,"n_rows":139,"n_cols":38,"rows_kept":139,"cut":false,"hidden":false,"merged":[[98,33,98,34],[99,33,99,35],[55,21,55,22],[25,27,25,31],[25,33,25,37],[68,33,68,37],[98,21,98,22],[99,21,99,23],[98,27,98,28],[99,27,99,29],[98,3,98,4],[99,3,99,5],[55,9,55,10],[56,9,56,11],[68,3,68,7],[55,3,55,4],[56,3,56,5],[25,9,25,13],[25,15,25,19],[98,9,98,10],[99,9,99,11],[98,15,98,16],[55,15,55,16],[56,15,56,17],[118,6,118,11],[4,3,4,5],[116,6,116,11],[55,33,55,34],[56,33,56,35],[109,3,109,4],[56,21,56,23],[55,27,55,28],[56,27,56,29],[68,9,68,13],[68,15,68,19],[68,21,68,25],[68,27,68,31],[99,15,99,17],[25,21,25,25],[25,3,25,7]]}
[null,null,null,"NAVN PÅ ARK:","Baggrundstabeller for alle lande, valgt år"]
[null,null,null,"Data hentes fra:","'Level 1', 'Level 2', 'Afgifter og moms' og 'Baggrindsdata -BVT-deflator'"]
[]
[null,null,null,"Sådan bruges arket:"]
[null,null,null,"Arket 'Baggrundstabeller for alle lande, valgt år' skal give et indblik i hvordan de grå-blå resultatfigurer og -tabeller i arket 'Alle lande, valgt år' fremkommer. Værdierne i resultattabellerne er ens for de to ark, men i dette ark ses udregningen. \n\nNedenstående resultattabeller (de grå-blå) viser gasprisen for industrielle forbrugere opdelt på level 1, 2 og 3 for hvert forbrugsintervalinterval. Prisen vises for alle lande i det valgte år.\n\nResultattabellerne er fremkommet ved at gange tabel A, B, C og D sammen. Disse tabeller ses under resultattabellerne. Taballerne A, B, C og D er et resultat af valgene truffet i rullemenuerne i arket 'Alle lande, valgt år', disse valg kan ses i de farvede kasser nedenfor.\n\nHvis år, pristype, basiså, valuta eller enhed ønskes ændret, gøres det i arket 'Alle lande, valgt år'.\n\n"]
[]
[]
[]
[null,null,null,{"$f":"\"Valg truffet i arket: \"&'Baggrundstabeller for alle land'!E1","v":"Valg truffet i arket: Baggrundstabeller for alle lande, valgt år"}]
[null,null,null,"Valgt år",{"$f":"'Alle lande, valgt år'!F12","v":2016}]
[null,null,null,"Valgt pristype",{"$f":"'Alle lande, valgt år'!F13","v":"faste priser"}]
[null,null,null,"Valgt basisår",{"$f":"'Alle lande, valgt år'!F14","v":2015}]
[null,null,null,"Valgt valuta",{"$f":"'Alle lande, valgt år'!F15","v":"DKK"}]
[null,null,null,"Valgt enhed",{"$f":"'Alle lande, valgt år'!F16","v":"GJ"}]
[]
[]
[]
[]
[null,null,null,"Resultattabeller:"]
[null,null,null,"Valgene truffet ovenfor giver tabeller og figurer der er:"]
[null,null,null,{"$f":"\"Oppgjort for året \"&E10&\" i \"&$E$11&\" med basisår \"&$E$12","v":"Oppgjort for året 2016 i faste priser med basisår 2015"}]
[null,null,null,{"$f":"\"Vist i \"&E13&\" / \"&E14&\".\"","v":"Vist i DKK / GJ."}]
[]
[]
[null,null,null,{"$f":"\"Tal hentet for år \"&'Alle lande, valgt år'!F12","v":"Tal hentet for år 2016"}]
[null,null,null,"IA: < 1000 GJ",null,null,null,null,null,"IB: 1 000 GJ <  10 000 GJ",null,null,null,null,null,"IC: 10 000 GJ <  100 000 GJ",null,null,null,null,null,"ID: 100 000 GJ < 1 000 000 GJ",null,null,null,null,null,"IE: 1 000 000 GJ < 4 000 000 GJ",null,null,null,null,null,"IF: > 4 000 000 GJ"]
[]
[null,null,null,{"$f":"'Alle lande, valgt år'!$F$15&\" / \"&'Alle lande, valgt år'!$F$16&\" år \"&'Alle lande, valgt år'!$F$12","v":"DKK / GJ år 2016"},"Gaspris","Ikke-refunderbare\n afgifter",null,null,null,{"$f":"'Alle lande, valgt år'!$F$15&\" / \"&'Alle lande, valgt år'!$F$16&\" år \"&'Alle lande, valgt år'!$F$12","v":"DKK / GJ år 2016"},"Gaspris","Ikke-refunderbare\n afgifter",null,null,null,{"$f":"'Alle lande, valgt år'!$F$15&\" / \"&'Alle lande, valgt år'!$F$16&\" år \"&'Alle lande, valgt år'!$F$12","v":"DKK / GJ år 2016"},"Gaspris","Ikke-refunderbare\n afgifter",null,null,null,{"$f":"'Alle lande, valgt år'!$F$15&\" / \"&'Alle lande, valgt år'!$F$16&\" år \"&'Alle lande, valgt år'!$F$12","v":"DKK / GJ år 2016"},"Gaspris","Ikke-refunderbare\n afgifter",null,null,null,{"$f":"'Alle lande, valgt år'!$F$15&\" / \"&'Alle lande, valgt år'!$F$16&\" år \"&'Alle lande, valgt år'!$F$12","v":"DKK / GJ år 2016"},"Gaspris","Ikke-refunderbare\n afgifter",null,null,null,{"$f":"'Alle lande, valgt år'!$F$15&\"/\"&'Alle lande, valgt år'!$F$16&\" år \"&'Alle lande, valgt år'!$F$12","v":"DKK/GJ år 2016"},"Gaspris","Ikke-refunderbare\n afgifter"]
[null,null,null,{"$f":"D72","v":"EU-28"},{"$f":"IFERROR(E72/$E113*$I$113*$K$113,\"*\")","v":83.143773904964547},{"$f":"IFERROR(F72/$E113*$I$113*$K$113,\"*\")","v":11.443132645456794},null,{"$f":"SUM(E29:F29)","v":94.586906550421347},null,{"$f":"J72","v":"EU-28"},{"$f":"IFERROR(K72/$E113*$I$113*$K$113,\"*\")","v":65.906650046618239},{"$f":"IFERROR(L72/$E113*$I$113*$K$113,\"*\")","v":10.646458853684489},null,{"$f":"SUM(K29:L29)","v":76.553108900302732},null,{"$f":"P72","v":"EU-28"},{"$f":"IFERROR(Q72/$E113*$I$113*$K$113,\"*\")","v":55.549890753578232},{"$f":"IFERROR(R72/$E113*$I$113*$K$113,\"*\")","v":7.8943130275619646},null,{"$f":"SUM(Q29:R29)","v":63.444203781140196},null,{"$f":"V72","v":"EU-28"},{"$f":"IFERROR(W72/$E113*$I$113*$K$113,\"*\")","v":45.265556350699342},{"$f":"IFERROR(X72/$E113*$I$113*$K$113,\"*\")","v":"*"},null,{"$f":"SUM(W29:X29)","v":45.265556350699342},null,{"$f":"AB72","v":"EU-28"},{"$f":"IFERROR(AC72/$E113*$I$113*$K$113,\"*\")","v":38.964590906681991},{"$f":"IFERROR(AD72/$E113*$I$113*$K$113,\"*\")","v":"*"},null,{"$f":"SUM(AC29:AD29)","v":38.964590906681991},null,{"$f":"AH72","v":"EU-28"},{"$f":"IFERROR(AI72/$E113*$I$113*$K$113,\"*\")","v":"*"},{"$f":"IFERROR(AJ72/$E113*$I$113*$K$113,\"*\")","v":"*"},null,{"$f":"SUM(AI29:AJ29)","v":0}]
[null,null,null,{"$f":"D73","v":"Belgien"},{"$f":"IFERROR(E73/$E114*$I$113*$K$113,\"*\")","v":79.889727785761011},4.0609381037124272,null,83.950665889473441,null,{"$f":"J73","v":"Belgien"},{"$f":"IFERROR(K73/$E114*$I$113*$K$113,\"*\")","v":62.981458226667407},4.3562790567097025,null,67.337737283377109,null,{"$f":"P73","v":"Belgien"},{"$f":"IFERROR(Q73/$E114*$I$113*$K$113,\"*\")","v":48.952762959297175},"*",null,48.952762959297175,null,{"$f":"V73","v":"Belgien"},{"$f":"IFERROR(W73/$E114*$I$113*$K$113,\"*\")","v":41.790744849113423},"*",null,41.790744849113423,null,{"$f":"AB73","v":"Belgien"},{"$f":"IFERROR(AC73/$E114*$I$113*$K$113,\"*\")","v":33.299692450441967},"*",null,33.299692450441967,null,{"$f":"AH73","v":"Belgien"},{"$f":"IFERROR(AI73/$E114*$I$113*$K$113,\"*\")","v":27.540543866995243},"*",null,27.540543866995243]
[null,null,null,"Bulgarien",{"$f":"IFERROR(E74/$E115*$I$113*$K$113,\"*\")","v":54.674467118513967},2.2814180907120143,null,56.955885209225983,null,"Bulgarien",{"$f":"IFERROR(K74/$E115*$I$113*$K$113,\"*\")","v":49.769566946957113},2.2814180907120143,null,52.050985037669129,null,"Bulgarien",{"$f":"IFERROR(Q74/$E115*$I$113*$K$113,\"*\")","v":45.245398868765491},"*",null,45.245398868765491,null,"Bulgarien",{"$f":"IFERROR(W74/$E115*$I$113*$K$113,\"*\")","v":37.868714559813995},"*",null,37.868714559813995,null,"Bulgarien",{"$f":"IFERROR(AC74/$E115*$I$113*$K$113,\"*\")","v":35.968028562467218},"*",null,35.968028562467218,null,"Bulgarien",{"$f":"IFERROR(AI74/$E115*$I$113*$K$113,\"*\")","v":"*"},"*",null,0]
[null,null,null,"Tjekkiet",{"$f":"IFERROR(E75/$E116*$I$113*$K$113,\"*\")","v":75.242961086306934},2.302795409819522,null,77.545756496126458,null,"Tjekkiet",{"$f":"IFERROR(K75/$E116*$I$113*$K$113,\"*\")","v":55.754163292261872},2.3020629685314069,null,58.056226260793281,null,"Tjekkiet",{"$f":"IFERROR(Q75/$E116*$I$113*$K$113,\"*\")","v":51.065074165778242},1.3044779341248636,null,52.369552099903103,null,"Tjekkiet",{"$f":"IFERROR(W75/$E116*$I$113*$K$113,\"*\")","v":44.005805030968929},"*",null,44.005805030968929,null,"Tjekkiet",{"$f":"IFERROR(AC75/$E116*$I$113*$K$113,\"*\")","v":44.504597548172207},"*",null,44.504597548172207,null,"Tjekkiet",{"$f":"IFERROR(AI75/$E116*$I$113*$K$113,\"*\")","v":"*"},"*",null,0]
[null,null,null,"Danmark",{"$f":"IFERROR(E76/$E117*$I$113*$K$113,\"*\")","v":56.817080161848921},48.069710819011227,null,104.88679098086016,null,"Danmark",{"$f":"IFERROR(K76/$E117*$I$113*$K$113,\"*\")","v":52.107637136355791},38.315434166802909,null,90.423071303158707,null,"Danmark",{"$f":"IFERROR(Q76/$E117*$I$113*$K$113,\"*\")","v":39.855583111888429},7.0770358880672939,null,46.932618999955722,null,"Danmark",{"$f":"IFERROR(W76/$E117*$I$113*$K$113,\"*\")","v":37.585077002299599},"*",null,37.585077002299599,null,"Danmark",{"$f":"IFERROR(AC76/$E117*$I$113*$K$113,\"*\")","v":35.14687559209974},"*",null,35.14687559209974,null,"Danmark",{"$f":"IFERROR(AI76/$E117*$I$113*$K$113,\"*\")","v":"*"},"*",null,0]
[null,null,null,"Tyskland",{"$f":"IFERROR(E77/$E118*$I$113*$K$113,\"*\")","v":83.419404371725676},8.1598019996797255,null,91.579206371405405,null,"Tyskland",{"$f":"IFERROR(K77/$E118*$I$113*$K$113,\"*\")","v":63.748453122497786},8.1598019996797113,null,71.908255122177493,null,"Tyskland",{"$f":"IFERROR(Q77/$E118*$I$113*$K$113,\"*\")","v":60.469961247626479},-7.3860779172100921,null,53.083883330416384,null,"Tyskland",{"$f":"IFERROR(W77/$E118*$I$113*$K$113,\"*\")","v":45.53460937321271},"*",null,45.53460937321271,null,"Tyskland",{"$f":"IFERROR(AC77/$E118*$I$113*$K$113,\"*\")","v":36.719108998558731},"*",null,36.719108998558731,null,"Tyskland",{"$f":"IFERROR(AI77/$E118*$I$113*$K$113,\"*\")","v":33.659183248678836},"*",null,33.659183248678836]
[null,null,null,"Estland",{"$f":"IFERROR(E78/$E119*$I$113*$K$113,\"*\")","v":65.412020945872456},7.268002327319163,null,72.680023273191622,null,"Estland",{"$f":"IFERROR(K78/$E119*$I$113*$K$113,\"*\")","v":60.566686060993014},7.268002327319163,null,67.834688388312173,null,"Estland",{"$f":"IFERROR(Q78/$E119*$I$113*$K$113,\"*\")","v":55.721351176113572},2.7544994678890431,null,58.475850644002612,null,"Estland",{"$f":"IFERROR(W78/$E119*$I$113*$K$113,\"*\")","v":55.721351176113572},"*",null,55.721351176113572,null,"Estland",{"$f":"IFERROR(AC78/$E119*$I$113*$K$113,\"*\")","v":53.298683733673855},"*",null,53.298683733673855,null,"Estland",{"$f":"IFERROR(AI78/$E119*$I$113*$K$113,\"*\")","v":"*"},"*",null,0]
[null,null,null,"Irland",{"$f":"IFERROR(E79/$E120*$I$113*$K$113,\"*\")","v":92.659270406333576},7.4577696758324707,null,100.11704008216604,null,"Irland",{"$f":"IFERROR(K79/$E120*$I$113*$K$113,\"*\")","v":69.512041884174323},8.2316891704943256,null,77.743731054668643,null,"Irland",{"$f":"IFERROR(Q79/$E120*$I$113*$K$113,\"*\")","v":56.425766792619228},9.8498844775145802,null,66.275651270133807,null,"Irland",{"$f":"IFERROR(W79/$E120*$I$113*$K$113,\"*\")","v":45.028043325780935},4.0103101087023605,null,49.038353434483298,null,"Irland",{"$f":"IFERROR(AC79/$E120*$I$113*$K$113,\"*\")","v":"*"},"*",null,0,null,"Irland",{"$f":"IFERROR(AI79/$E120*$I$113*$K$113,\"*\")","v":"*"},"*",null,0]
[null,null,null,"Grækenland",{"$f":"IFERROR(E80/$E121*$I$113*$K$113,\"*\")","v":56.613018664533591},12.152928006653205,null,68.765946671186796,null,"Grækenland",{"$f":"IFERROR(K80/$E121*$I$113*$K$113,\"*\")","v":56.990438788963814},12.077443981767169,null,69.067882770730989,null,"Grækenland",{"$f":"IFERROR(Q80/$E121*$I$113*$K$113,\"*\")","v":50.121392524333736},14.64390082789269,null,64.765293352226422,null,"Grækenland",{"$f":"IFERROR(W80/$E121*$I$113*$K$113,\"*\")","v":40.836857463350228},4.076137343846419,null,44.912994807196647,null,"Grækenland",{"$f":"IFERROR(AC80/$E121*$I$113*$K$113,\"*\")","v":"*"},"*",null,0,null,"Grækenland",{"$f":"IFERROR(AI80/$E121*$I$113*$K$113,\"*\")","v":"*"},"*",null,0]
[null,null,null,"Spanien",{"$f":"IFERROR(E81/$E122*$I$113*$K$113,\"*\")","v":88.089558862210666},1.1141175235524141,null,89.203676385763075,null,"Spanien",{"$f":"IFERROR(K81/$E122*$I$113*$K$113,\"*\")","v":73.754580059169626},1.1141175235524141,null,74.868697582722035,null,"Spanien",{"$f":"IFERROR(Q81/$E122*$I$113*$K$113,\"*\")","v":56.894268202743149},10.769802727673305,null,67.664070930416457,null,"Spanien",{"$f":"IFERROR(W81/$E122*$I$113*$K$113,\"*\")","v":49.318269042586742},-10.088705548274936,null,39.229563494311805,null,"Spanien",{"$f":"IFERROR(AC81/$E122*$I$113*$K$113,\"*\")","v":42.11364239028115},-5.0484378717238236,null,37.065204518557323,null,"Spanien",{"$f":"IFERROR(AI81/$E122*$I$113*$K$113,\"*\")","v":40.331054352597292},"*",null,40.331054352597292]
[null,null,null,"Frankrig",{"$f":"IFERROR(E82/$E123*$I$113*$K$113,\"*\")","v":85.262970188889128},11.03489691832042,null,96.297867107209555,null,"Frankrig",{"$f":"IFERROR(K82/$E123*$I$113*$K$113,\"*\")","v":70.917604195072585},10.004973205943845,null,80.922577401016426,null,"Frankrig",{"$f":"IFERROR(Q82/$E123*$I$113*$K$113,\"*\")","v":58.264255728731825},2.1334134042086217,null,60.39766913294045,null,"Frankrig",{"$f":"IFERROR(W82/$E123*$I$113*$K$113,\"*\")","v":43.992455714370756},2.5196347963498251,null,46.512090510720583,null,"Frankrig",{"$f":"IFERROR(AC82/$E123*$I$113*$K$113,\"*\")","v":33.913916528971434},13.098422642046339,null,47.012339171017771,null,"Frankrig",{"$f":"IFERROR(AI82/$E123*$I$113*$K$113,\"*\")","v":"*"},"*",null,0]
[null,null,null,"Kroatien",{"$f":"IFERROR(E83/$E124*$I$113*$K$113,\"*\")","v":82.82555251579835},1.2603354372162829,null,84.085887953014634,null,"Kroatien",{"$f":"IFERROR(K83/$E124*$I$113*$K$113,\"*\")","v":75.40126113047171},1.053381360697595,null,76.454642491169309,null,"Kroatien",{"$f":"IFERROR(Q83/$E124*$I$113*$K$113,\"*\")","v":66.82532242005729},-8.6846268225429277,null,58.140695597514366,null,"Kroatien",{"$f":"IFERROR(W83/$E124*$I$113*$K$113,\"*\")","v":53.149231269968489},-4.5857450048743704,null,48.56348626509412,null,"Kroatien",{"$f":"IFERROR(AC83/$E124*$I$113*$K$113,\"*\")","v":"*"},"*",null,0,null,"Kroatien",{"$f":"IFERROR(AI83/$E124*$I$113*$K$113,\"*\")","v":"*"},"*",null,0]
[null,null,null,"Italien",{"$f":"IFERROR(E84/$E125*$I$113*$K$113,\"*\")","v":90.250932825213027},22.599660756559064,null,112.85059358177209,null,"Italien",{"$f":"IFERROR(K84/$E125*$I$113*$K$113,\"*\")","v":75.553767823398474},15.952701710512287,null,91.50646953391076,null,"Italien",{"$f":"IFERROR(Q84/$E125*$I$113*$K$113,\"*\")","v":59.084080409304761},9.2318875639538689,null,68.315967973258637,null,"Italien",{"$f":"IFERROR(W84/$E125*$I$113*$K$113,\"*\")","v":50.221468347909052},4.2097407291629665,null,54.431209077072019,null,"Italien",{"$f":"IFERROR(AC84/$E125*$I$113*$K$113,\"*\")","v":47.784250031025223},-2.2895081158605568,null,45.494741915164667,null,"Italien",{"$f":"IFERROR(AI84/$E125*$I$113*$K$113,\"*\")","v":45.93787251823445},-3.5450448245582824,null,42.392827693676168]
[null,null,null,"Letland",{"$f":"IFERROR(E85/$E126*$I$113*$K$113,\"*\")","v":65.401998295392005},3.551239726446628,null,68.953238021838629,null,"Letland",{"$f":"IFERROR(K85/$E126*$I$113*$K$113,\"*\")","v":58.447487164434037},3.4032714045113419,null,61.85075856894538,null,"Letland",{"$f":"IFERROR(Q85/$E126*$I$113*$K$113,\"*\")","v":51.492976033476062},15.780821534397191,null,67.27379756787326,null,"Letland",{"$f":"IFERROR(W85/$E126*$I$113*$K$113,\"*\")","v":47.719783824126523},15.758626286106896,null,63.478410110233419,null,"Letland",{"$f":"IFERROR(AC85/$E126*$I$113*$K$113,\"*\")","v":45.944163960903211},15.092768837398156,null,61.036932798301365,null,"Letland",{"$f":"IFERROR(AI85/$E126*$I$113*$K$113,\"*\")","v":"*"},"*",null,0]
[null,null,null,"Litaun",{"$f":"IFERROR(E86/$E127*$I$113*$K$113,\"*\")","v":74.71474519373244},0,null,74.71474519373244,null,"Litaun",{"$f":"IFERROR(K86/$E127*$I$113*$K$113,\"*\")","v":62.772328379549435},0,null,62.772328379549435,null,"Litaun",{"$f":"IFERROR(Q86/$E127*$I$113*$K$113,\"*\")","v":55.606878291039628},9.106092820814542,null,64.712971111854174,null,"Litaun",{"$f":"IFERROR(W86/$E127*$I$113*$K$113,\"*\")","v":43.888381792122551},6.3444089325347264,null,50.232790724657278,null,"Litaun",{"$f":"IFERROR(AC86/$E127*$I$113*$K$113,\"*\")","v":"*"},"*",null,0,null,"Litaun",{"$f":"IFERROR(AI86/$E127*$I$113*$K$113,\"*\")","v":"*"},"*",null,0]
[null,null,null,"luxembourg",{"$f":"IFERROR(E87/$E128*$I$113*$K$113,\"*\")","v":78.336092115355086},2.1699748508408665,null,80.506066966195959,null,"luxembourg",{"$f":"IFERROR(K87/$E128*$I$113*$K$113,\"*\")","v":79.20408205569143},1.1573199204484603,null,80.361401976139888,null,"luxembourg",{"$f":"IFERROR(Q87/$E128*$I$113*$K$113,\"*\")","v":68.643537781599235},-14.972826470801943,null,53.670711310797294,null,"luxembourg",{"$f":"IFERROR(W87/$E128*$I$113*$K$113,\"*\")","v":51.428403964928414},-1.1573199204484603,null,50.271084044479956,null,"luxembourg",{"$f":"IFERROR(AC87/$E128*$I$113*$K$113,\"*\")","v":"*"},"*",null,0,null,"luxembourg",{"$f":"IFERROR(AI87/$E128*$I$113*$K$113,\"*\")","v":"*"},"*",null,0]
[null,null,null,"Ungarn",{"$f":"IFERROR(E88/$E129*$I$113*$K$113,\"*\")","v":66.862409091369045},3.476413768895493,null,70.338822860264543,null,"Ungarn",{"$f":"IFERROR(K88/$E129*$I$113*$K$113,\"*\")","v":59.973863806052826},3.2082016120179104,null,63.182065418070735,null,"Ungarn",{"$f":"IFERROR(Q88/$E129*$I$113*$K$113,\"*\")","v":61.433883701342431},-6.3875870418919423,null,55.046296659450491,null,"Ungarn",{"$f":"IFERROR(W88/$E129*$I$113*$K$113,\"*\")","v":51.830706282780305},-1.660994293831473,null,50.169711988948833,null,"Ungarn",{"$f":"IFERROR(AC88/$E129*$I$113*$K$113,\"*\")","v":44.928122344624775},-1.9255120683829205,null,43.002610276241853,null,"Ungarn",{"$f":"IFERROR(AI88/$E129*$I$113*$K$113,\"*\")","v":44.7057205285913},-3.4764137688954997,null,41.229306759695802]
[null,null,null,"Holland",{"$f":"IFERROR(E89/$E130*$I$113*$K$113,\"*\")","v":75.210181960607343},55.351729974949443,null,130.56191193555679,null,"Holland",{"$f":"IFERROR(K89/$E130*$I$113*$K$113,\"*\")","v":63.50258713324186},55.351729974949436,null,118.8543171081913,null,"Holland",{"$f":"IFERROR(Q89/$E130*$I$113*$K$113,\"*\")","v":46.608083205144844},25.934545503657699,null,72.542628708802539,null,"Holland",{"$f":"IFERROR(W89/$E130*$I$113*$K$113,\"*\")","v":42.013963715925485},7.2616727410241602,null,49.275636456949641,null,"Holland",{"$f":"IFERROR(AC89/$E130*$I$113*$K$113,\"*\")","v":40.531989687145035},-4.3718233849022976,null,36.160166302242736,null,"Holland",{"$f":"IFERROR(AI89/$E130*$I$113*$K$113,\"*\")","v":"*"},"*",null,0]
[null,null,null,"Østrig",{"$f":"IFERROR(E90/$E131*$I$113*$K$113,\"*\")","v":93.516307614686994},14.375840229395026,null,107.89214784408202,null,"Østrig",{"$f":"IFERROR(K90/$E131*$I$113*$K$113,\"*\")","v":71.879201146975106},15.769416578162895,null,87.648617725137996,null,"Østrig",{"$f":"IFERROR(Q90/$E131*$I$113*$K$113,\"*\")","v":57.136630299483272},7.4732365355768255,null,64.609866835060103,null,"Østrig",{"$f":"IFERROR(W90/$E131*$I$113*$K$113,\"*\")","v":52.442478387844083},0.52442478387843683,null,52.966903171722521,null,"Østrig",{"$f":"IFERROR(AC90/$E131*$I$113*$K$113,\"*\")","v":53.029247376798985},"*",null,53.029247376798985,null,"Østrig",{"$f":"IFERROR(AI90/$E131*$I$113*$K$113,\"*\")","v":"*"},"*",null,0]
[null,null,null,"Polen",{"$f":"IFERROR(E91/$E132*$I$113*$K$113,\"*\")","v":73.435065932951474},1.4738806180195352,null,74.90894655097101,null,"Polen",{"$f":"IFERROR(K91/$E132*$I$113*$K$113,\"*\")","v":68.727082814247495},1.507176113908532,null,70.234258928156024,null,"Polen",{"$f":"IFERROR(Q91/$E132*$I$113*$K$113,\"*\")","v":54.484009572843803},24.389320688643622,null,78.873330261487425,null,"Polen",{"$f":"IFERROR(W91/$E132*$I$113*$K$113,\"*\")","v":46.032872816308064},5.6121408070673793,null,51.645013623375441,null,"Polen",{"$f":"IFERROR(AC91/$E132*$I$113*$K$113,\"*\")","v":35.599544204514125},13.233849766012794,null,48.83339397052692,null,"Polen",{"$f":"IFERROR(AI91/$E132*$I$113*$K$113,\"*\")","v":"*"},"*",null,0]
[null,null,null,"Portugal",{"$f":"IFERROR(E92/$E133*$I$113*$K$113,\"*\")","v":129.94033066871137},7.4669936496949587,null,137.40732431840632,null,"Portugal",{"$f":"IFERROR(K92/$E133*$I$113*$K$113,\"*\")","v":86.090044431777201},2.5622037033266998,null,88.652248135103903,null,"Portugal",{"$f":"IFERROR(Q92/$E133*$I$113*$K$113,\"*\")","v":67.642177767824947},4.1727317454177753,null,71.814909513242725,null,"Portugal",{"$f":"IFERROR(W92/$E133*$I$113*$K$113,\"*\")","v":55.78283491242707},-5.1244074066534067,null,50.658427505773666,null,"Portugal",{"$f":"IFERROR(AC92/$E133*$I$113*$K$113,\"*\")","v":53.879483589955804},-4.9779957664633123,null,48.901487823492488,null,"Portugal",{"$f":"IFERROR(AI92/$E133*$I$113*$K$113,\"*\")","v":"*"},"*",null,0]
[null,null,null,"Rumænien",{"$f":"IFERROR(E93/$E134*$I$113*$K$113,\"*\")","v":46.998450616960106},18.430166407560112,null,65.428617024520221,null,"Rumænien",{"$f":"IFERROR(K93/$E134*$I$113*$K$113,\"*\")","v":43.651541700373066},17.703367511450004,null,61.35490921182307,null,"Rumænien",{"$f":"IFERROR(Q93/$E134*$I$113*$K$113,\"*\")","v":39.205712852867535},15.378337842793766,null,54.584050695661304,null,"Rumænien",{"$f":"IFERROR(W93/$E134*$I$113*$K$113,\"*\")","v":36.925744715770122},5.8100303755042022,null,42.735775091274327,null,"Rumænien",{"$f":"IFERROR(AC93/$E134*$I$113*$K$113,\"*\")","v":32.819330952748018},"*",null,32.819330952748018,null,"Rumænien",{"$f":"IFERROR(AI93/$E134*$I$113*$K$113,\"*\")","v":30.540089614546719},"*",null,30.540089614546719]
[null,null,null,{"$f":"D94","v":"Slovenien"},{"$f":"IFERROR(E94/$E135*$I$113*$K$113,\"*\")","v":88.288006607333259},10.674620446226687,null,{"$f":"SUM(E51:F51)","v":98.962627053559942},null,{"$f":"J94","v":"Slovenien"},{"$f":"IFERROR(K94/$E135*$I$113*$K$113,\"*\")","v":85.471092878467871},11.490042841424568,null,{"$f":"SUM(K51:L51)","v":96.96113571989244},null,{"$f":"P94","v":"Slovenien"},{"$f":"IFERROR(Q94/$E135*$I$113*$K$113,\"*\")","v":60.637774479259946},9.3402928904483513,null,{"$f":"SUM(Q51:R51)","v":69.978067369708299},null,{"$f":"V94","v":"Slovenien"},{"$f":"IFERROR(W94/$E135*$I$113*$K$113,\"*\")","v":50.185541958996318},2.8910430375197329,null,{"$f":"SUM(W51:X51)","v":53.076584996516047},null,{"$f":"AB94","v":"Slovenien"},{"$f":"IFERROR(AC94/$E135*$I$113*$K$113,\"*\")","v":"*"},"*",null,{"$f":"SUM(AC51:AD51)","v":0},null,{"$f":"AH94","v":"Slovenien"},{"$f":"IFERROR(AI94/$E135*$I$113*$K$113,\"*\")","v":"*"},"*",null,0]
[null,null,null,"Slovakiet",{"$f":"IFERROR(E95/$E136*$I$113*$K$113,\"*\")","v":90.875278984996712},2.688175877945667,null,93.563454862942379,null,"Slovakiet",{"$f":"IFERROR(K95/$E136*$I$113*$K$113,\"*\")","v":71.983376287211854},2.7628474301108228,null,74.746223717322678,null,"Slovakiet",{"$f":"IFERROR(Q95/$E136*$I$113*$K$113,\"*\")","v":60.558628805942746},-2.688175877945667,null,57.870452927997079,null,"Slovakiet",{"$f":"IFERROR(W95/$E136*$I$113*$K$113,\"*\")","v":55.630306363042358},0.26732415675126436,null,55.897630519793623,null,"Slovakiet",{"$f":"IFERROR(AC95/$E136*$I$113*$K$113,\"*\")","v":57.497095167171295},-8.6163504043375294,null,48.880744762833764,null,"Slovakiet",{"$f":"IFERROR(AI95/$E136*$I$113*$K$113,\"*\")","v":"*"},"*",null,0]
[null,null,null,"Finland",{"$f":"IFERROR(E96/$E137*$I$113*$K$113,\"*\")","v":"*"},"*",null,0,null,"Finland",{"$f":"IFERROR(K96/$E137*$I$113*$K$113,\"*\")","v":63.011780171516669},32.359406542734121,null,95.371186714250797,null,"Finland",{"$f":"IFERROR(Q96/$E137*$I$113*$K$113,\"*\")","v":53.066457977190133},18.109392652355787,null,71.17585062954592,null,"Finland",{"$f":"IFERROR(W96/$E137*$I$113*$K$113,\"*\")","v":50.543018017435628},2.003908203334456,null,52.546926220770082,null,"Finland",{"$f":"IFERROR(AC96/$E137*$I$113*$K$113,\"*\")","v":50.246142728052753},-4.6757858077803878,null,45.570356920272367,null,"Finland",{"$f":"IFERROR(AI96/$E137*$I$113*$K$113,\"*\")","v":"*"},"*",null,0]
[null,null,null,"Sverige",{"$f":"IFERROR(E97/$E138*$I$113*$K$113,\"*\")","v":108.42291156211363},18.363197087660993,null,126.78610864977462,null,"Sverige",{"$f":"IFERROR(K97/$E138*$I$113*$K$113,\"*\")","v":82.938602134048224},18.371449535590251,null,101.31005166963848,null,"Sverige",{"$f":"IFERROR(Q97/$E138*$I$113*$K$113,\"*\")","v":59.461888220407857},4.1569830887253172,null,63.618871309133176,null,"Sverige",{"$f":"IFERROR(W97/$E138*$I$113*$K$113,\"*\")","v":52.663371571783273},15.756923987095794,null,68.420295558879062,null,"Sverige",{"$f":"IFERROR(AC97/$E138*$I$113*$K$113,\"*\")","v":52.469814156715387},13.849858292899851,null,66.31967244961524,null,"Sverige",{"$f":"IFERROR(AI97/$E138*$I$113*$K$113,\"*\")","v":"*"},"*",null,0]
[null,null,null,"UK",{"$f":"IFERROR(E98/$E139*$I$113*$K$113,\"*\")","v":92.477694360028636},3.1768524802924554,null,95.654546840321089,null,"UK",{"$f":"IFERROR(K98/$E139*$I$113*$K$113,\"*\")","v":57.530311488124518},3.1768524802924669,null,60.707163968416985,null,"UK",{"$f":"IFERROR(Q98/$E139*$I$113*$K$113,\"*\")","v":51.090366213996298},25.857386412616119,null,76.947752626612413,null,"UK",{"$f":"IFERROR(W98/$E139*$I$113*$K$113,\"*\")","v":39.66987570035235},2.3966784810287147,null,42.066554181381065,null,"UK",{"$f":"IFERROR(AC98/$E139*$I$113*$K$113,\"*\")","v":32.800734447194714},-0.63510308423355011,null,32.165631362961165,null,"UK",{"$f":"IFERROR(AI98/$E139*$I$113*$K$113,\"*\")","v":"*"},"*",null,0]
[null,null,null,"Level 1",null,null,null,null,null,"Level 1",null,null,null,null,null,"Level 1",null,null,null,null,null,"Level 1",null,null,null,null,null,"Level 1",null,null,null,null,null,"Level 1"]
[null,null,null,"Level 2",null,null,null,null,null,"Level 2",null,null,null,null,null,"Level 2",null,null,null,null,null,"Level 2",null,null,null,null,null,"Level 2",null,null,null,null,null,"Level 2"]
[]
[]
[]
[]
[null,null,null,"Baggrundstabeller"]
[]
[null,null,null,"Tabel A"]
[null,null,null,"Nedenstående  tabeller (de orange) henter data fra 'Level 1' og 'Afgifter og moms', der hentes data fra det år der er valgt i valgmenuen øverst. Priserne vises i original enheden i Eurostat EURO / GJ."]
[null,null,null,"'Gaspris inkl. PSO, eksl. afgifter' udgør level 1 prisen. 'Ikke refundrebare afgifter' svarer til level 2 prisen fratrukket level 1 prisen. 'Ikke refunderbare afgifter' er level 3 prisen fratrukket level 2 prisen. Beregningen er foretaget i arket \"Afgifter og moms\"."]
[]
[null,null,null,{"$f":"\"Data er hentet for år \"&'Alle lande, valgt år'!F12","v":"Data er hentet for år 2016"}]
[null,null,null,"IA: < 1000 GJ",null,null,null,null,null,"IB: 1 000 GJ <  10 000 GJ",null,null,null,null,null,"IC: 10 000 GJ <  100 000 GJ",null,null,null,null,null,"ID: 100 000 GJ < 1 000 000 GJ",null,null,null,null,null,"IE: 1 000 000 GJ < 4 000 000 GJ",null,null,null,null,null,"IF: > 4 000 000 GJ"]
[]
[null,null,null,{"$f":"\"Euro/GJ år \"&'Alle lande, valgt år'!$F$12","v":"Euro/GJ år 2016"},"Gaspris","Ikke-refunderbare\n afgifter",null,null,null,{"$f":"'Alle lande, valgt år'!$F$15&\" / \"&'Alle lande, valgt år'!$F$16&\" år \"&'Alle lande, valgt år'!$F$12","v":"DKK / GJ år 2016"},"Gaspris","Ikke-refunderbare\n afgifter",null,null,null,{"$f":"\"Euro/GJ år \"&'Alle lande, valgt år'!$F$12","v":"Euro/GJ år 2016"},"Gaspris","Ikke-refunderbare\n afgifter",null,null,null,{"$f":"\"Euro/GJ år \"&'Alle lande, valgt år'!$F$12","v":"Euro/GJ år 2016"},"Gaspris","Ikke-refunderbare\n afgifter",null,null,null,{"$f":"\"Euro/GJ år \"&'Alle lande, valgt år'!$F$12","v":"Euro/GJ år 2016"},"Gaspris","Ikke-refunderbare\n afgifter",null,null,null,{"$f":"\"Euro/GJ år \"&'Alle lande, valgt år'!$F$12","v":"Euro/GJ år 2016"},"Gaspris","Ikke-refunderbare\n afgifter"]
[null,null,null,{"$f":"'Oversættelse af landenavne'!$B6","v":"EU-28"},{"$f":"HLOOKUP('Alle lande, valgt år'!$F$12,'Level 1'!$B$5:$L$32,'Oversættelse af landenavne'!$C6,FALSE)","v":11.48},{"$f":"HLOOKUP('Alle lande, valgt år'!$F$12,'Afgifter og moms'!$A$5:$L$32,'Oversættelse af landenavne'!$C6,FALSE)","v":1.58},null,null,null,{"$f":"'Oversættelse af landenavne'!$B6","v":"EU-28"},{"$f":"HLOOKUP('Alle lande, valgt år'!$F$12,'Level 1'!$O$5:$Y$32,'Oversættelse af landenavne'!$C6,FALSE)","v":9.1},{"$f":"HLOOKUP('Alle lande, valgt år'!$F$12,'Afgifter og moms'!$O$5:$Y$32,'Oversættelse af landenavne'!$C6,FALSE)","v":1.4700000000000006},null,null,null,{"$f":"'Oversættelse af landenavne'!$B6","v":"EU-28"},{"$f":"HLOOKUP('Alle lande, valgt år'!$F$12,'Level 1'!$AB$5:$AL$32,'Oversættelse af landenavne'!$C6,FALSE)","v":7.67},{"$f":"HLOOKUP('Alle lande, valgt år'!$F$12,'Afgifter og moms'!$AA$5:$AL$32,'Oversættelse af landenavne'!$C6,FALSE)","v":1.0899999999999999},null,null,null,{"$f":"'Oversættelse af landenavne'!$B6","v":"EU-28"},{"$f":"HLOOKUP('Alle lande, valgt år'!$F$12,'Level 1'!$AO$5:$AY$32,'Oversættelse af landenavne'!$C6,FALSE)","v":6.25},{"$f":"HLOOKUP('Alle lande, valgt år'!$F$12,'Afgifter og moms'!$AO$5:$AY$32,'Oversættelse af landenavne'!$C6,FALSE)","v":"*"},null,null,null,{"$f":"'Oversættelse af landenavne'!$B6","v":"EU-28"},{"$f":"HLOOKUP('Alle lande, valgt år'!$F$12,'Level 1'!$BB$5:$BL$32,'Oversættelse af landenavne'!$C6,FALSE)","v":5.38},{"$f":"HLOOKUP('Alle lande, valgt år'!$F$12,'Afgifter og moms'!$BB$5:$BL$32,'Oversættelse af landenavne'!$C6,FALSE)","v":"*"},null,null,null,{"$f":"'Oversættelse af landenavne'!$B6","v":"EU-28"},{"$f":"HLOOKUP('Alle lande, valgt år'!$F$12,'Level 1'!$BO$5:$BY$32,'Oversættelse af landenavne'!$C6,FALSE)","v":"*"},{"$f":"HLOOKUP('Alle lande, valgt år'!$F$12,'Afgifter og moms'!$BO$5:$BY$32,'Oversættelse af landenavne'!$C6,FALSE)","v":"*"}]
[null,null,null,{"$f":"'Oversættelse af landenavne'!$B7","v":"Belgien"},{"$f":"HLOOKUP('Alle lande, valgt år'!$F$12,'Level 1'!$B$5:$L$32,'Oversættelse af landenavne'!$C7,FALSE)","v":10.82},{"$f":"HLOOKUP('Alle lande, valgt år'!$F$12,'Afgifter og moms'!$A$5:$L$32,'Oversættelse af landenavne'!$C7,FALSE)","v":0.54999999999999893},null,null,null,{"$f":"'Oversættelse af landenavne'!$B7","v":"Belgien"},{"$f":"HLOOKUP('Alle lande, valgt år'!$F$12,'Level 1'!$O$5:$Y$32,'Oversættelse af landenavne'!$C7,FALSE)","v":8.5299999999999994},{"$f":"HLOOKUP('Alle lande, valgt år'!$F$12,'Afgifter og moms'!$O$5:$Y$32,'Oversættelse af landenavne'!$C7,FALSE)","v":0.58999999999999986},null,null,null,{"$f":"'Oversættelse af landenavne'!$B7","v":"Belgien"},{"$f":"HLOOKUP('Alle lande, valgt år'!$F$12,'Level 1'!$AB$5:$AL$32,'Oversættelse af landenavne'!$C7,FALSE)","v":6.63},{"$f":"HLOOKUP('Alle lande, valgt år'!$F$12,'Afgifter og moms'!$AA$5:$AL$32,'Oversættelse af landenavne'!$C7,FALSE)","v":"*"},null,null,null,{"$f":"'Oversættelse af landenavne'!$B7","v":"Belgien"},{"$f":"HLOOKUP('Alle lande, valgt år'!$F$12,'Level 1'!$AO$5:$AY$32,'Oversættelse af landenavne'!$C7,FALSE)","v":5.66},{"$f":"HLOOKUP('Alle lande, valgt år'!$F$12,'Afgifter og moms'!$AO$5:$AY$32,'Oversættelse af landenavne'!$C7,FALSE)","v":"*"},null,null,null,{"$f":"'Oversættelse af landenavne'!$B7","v":"Belgien"},{"$f":"HLOOKUP('Alle lande, valgt år'!$F$12,'Level 1'!$BB$5:$BL$32,'Oversættelse af landenavne'!$C7,FALSE)","v":4.51},{"$f":"HLOOKUP('Alle lande, valgt år'!$F$12,'Afgifter og moms'!$BB$5:$BL$32,'Oversættelse af landenavne'!$C7,FALSE)","v":"*"},null,null,null,{"$f":"'Oversættelse af landenavne'!$B7","v":"Belgien"},{"$f":"HLOOKUP('Alle lande, valgt år'!$F$12,'Level 1'!$BO$5:$BY$32,'Oversættelse af landenavne'!$C7,FALSE)","v":3.73},{"$f":"HLOOKUP('Alle lande, valgt år'!$F$12,'Afgifter og moms'!$BO$5:$BY$32,'Oversættelse af landenavne'!$C7,FALSE)","v":"*"}]
[null,null,null,{"$f":"'Oversættelse af landenavne'!$B8","v":"Bulgarien"},{"$f":"HLOOKUP('Alle lande, valgt år'!$F$12,'Level 1'!$B$5:$L$32,'Oversættelse af landenavne'!$C8,FALSE)","v":7.3525},{"$f":"HLOOKUP('Alle lande, valgt år'!$F$12,'Afgifter og moms'!$A$5:$L$32,'Oversættelse af landenavne'!$C8,FALSE)","v":0.30679999999999996},null,null,null,{"$f":"'Oversættelse af landenavne'!$B8","v":"Bulgarien"},{"$f":"HLOOKUP('Alle lande, valgt år'!$F$12,'Level 1'!$O$5:$Y$32,'Oversættelse af landenavne'!$C8,FALSE)","v":6.6928999999999998},{"$f":"HLOOKUP('Alle lande, valgt år'!$F$12,'Afgifter og moms'!$O$5:$Y$32,'Oversættelse af landenavne'!$C8,FALSE)","v":0.30679999999999996},null,null,null,{"$f":"'Oversættelse af landenavne'!$B8","v":"Bulgarien"},{"$f":"HLOOKUP('Alle lande, valgt år'!$F$12,'Level 1'!$AB$5:$AL$32,'Oversættelse af landenavne'!$C8,FALSE)","v":6.0845000000000002},{"$f":"HLOOKUP('Alle lande, valgt år'!$F$12,'Afgifter og moms'!$AA$5:$AL$32,'Oversættelse af landenavne'!$C8,FALSE)","v":"*"},null,null,null,{"$f":"'Oversættelse af landenavne'!$B8","v":"Bulgarien"},{"$f":"HLOOKUP('Alle lande, valgt år'!$F$12,'Level 1'!$AO$5:$AY$32,'Oversættelse af landenavne'!$C8,FALSE)","v":5.0925000000000002},{"$f":"HLOOKUP('Alle lande, valgt år'!$F$12,'Afgifter og moms'!$AO$5:$AY$32,'Oversættelse af landenavne'!$C8,FALSE)","v":"*"},null,null,null,{"$f":"'Oversættelse af landenavne'!$B8","v":"Bulgarien"},{"$f":"HLOOKUP('Alle lande, valgt år'!$F$12,'Level 1'!$BB$5:$BL$32,'Oversættelse af landenavne'!$C8,FALSE)","v":4.8369},{"$f":"HLOOKUP('Alle lande, valgt år'!$F$12,'Afgifter og moms'!$BB$5:$BL$32,'Oversættelse af landenavne'!$C8,FALSE)","v":"*"},null,null,null,{"$f":"'Oversættelse af landenavne'!$B8","v":"Bulgarien"},{"$f":"HLOOKUP('Alle lande, valgt år'!$F$12,'Level 1'!$BO$5:$BY$32,'Oversættelse af landenavne'!$C8,FALSE)","v":"*"},{"$f":"HLOOKUP('Alle lande, valgt år'!$F$12,'Afgifter og moms'!$BO$5:$BY$32,'Oversættelse af landenavne'!$C8,FALSE)","v":"*"}]
[null,null,null,{"$f":"'Oversættelse af landenavne'!$B9","v":"Tjekkiet"},{"$f":"HLOOKUP('Alle lande, valgt år'!$F$12,'Level 1'!$B$5:$L$32,'Oversættelse af landenavne'!$C9,FALSE)","v":10.2729},{"$f":"HLOOKUP('Alle lande, valgt år'!$F$12,'Afgifter og moms'!$A$5:$L$32,'Oversættelse af landenavne'!$C9,FALSE)","v":0.3144000000000009},null,null,null,{"$f":"'Oversættelse af landenavne'!$B9","v":"Tjekkiet"},{"$f":"HLOOKUP('Alle lande, valgt år'!$F$12,'Level 1'!$O$5:$Y$32,'Oversættelse af landenavne'!$C9,FALSE)","v":7.6120999999999999},{"$f":"HLOOKUP('Alle lande, valgt år'!$F$12,'Afgifter og moms'!$O$5:$Y$32,'Oversættelse af landenavne'!$C9,FALSE)","v":0.31430000000000025},null,null,null,{"$f":"'Oversættelse af landenavne'!$B9","v":"Tjekkiet"},{"$f":"HLOOKUP('Alle lande, valgt år'!$F$12,'Level 1'!$AB$5:$AL$32,'Oversættelse af landenavne'!$C9,FALSE)","v":6.9718999999999998},{"$f":"HLOOKUP('Alle lande, valgt år'!$F$12,'Afgifter og moms'!$AA$5:$AL$32,'Oversættelse af landenavne'!$C9,FALSE)","v":0.17810000000000059},null,null,null,{"$f":"'Oversættelse af landenavne'!$B9","v":"Tjekkiet"},{"$f":"HLOOKUP('Alle lande, valgt år'!$F$12,'Level 1'!$AO$5:$AY$32,'Oversættelse af landenavne'!$C9,FALSE)","v":6.0080999999999998},{"$f":"HLOOKUP('Alle lande, valgt år'!$F$12,'Afgifter og moms'!$AO$5:$AY$32,'Oversættelse af landenavne'!$C9,FALSE)","v":"*"},null,null,null,{"$f":"'Oversættelse af landenavne'!$B9","v":"Tjekkiet"},{"$f":"HLOOKUP('Alle lande, valgt år'!$F$12,'Level 1'!$BB$5:$BL$32,'Oversættelse af landenavne'!$C9,FALSE)","v":6.0762},{"$f":"HLOOKUP('Alle lande, valgt år'!$F$12,'Afgifter og moms'!$BB$5:$BL$32,'Oversættelse af landenavne'!$C9,FALSE)","v":"*"},null,null,null,{"$f":"'Oversættelse af landenavne'!$B9","v":"Tjekkiet"},{"$f":"HLOOKUP('Alle lande, valgt år'!$F$12,'Level 1'!$BO$5:$BY$32,'Oversættelse af landenavne'!$C9,FALSE)","v":"*"},{"$f":"HLOOKUP('Alle lande, valgt år'!$F$12,'Afgifter og moms'!$BO$5:$BY$32,'Oversættelse af landenavne'!$C9,FALSE)","v":"*"}]
[null,null,null,{"$f":"'Oversættelse af landenavne'!$B10","v":"Danmark"},{"$f":"HLOOKUP('Alle lande, valgt år'!$F$12,'Level 1'!$B$5:$L$32,'Oversættelse af landenavne'!$C10,FALSE)","v":7.7248999999999999},{"$f":"HLOOKUP('Alle lande, valgt år'!$F$12,'Afgifter og moms'!$A$5:$L$32,'Oversættelse af landenavne'!$C10,FALSE)","v":6.5356000000000005},null,null,null,{"$f":"'Oversættelse af landenavne'!$B10","v":"Danmark"},{"$f":"HLOOKUP('Alle lande, valgt år'!$F$12,'Level 1'!$O$5:$Y$32,'Oversættelse af landenavne'!$C10,FALSE)","v":7.0846},{"$f":"HLOOKUP('Alle lande, valgt år'!$F$12,'Afgifter og moms'!$O$5:$Y$32,'Oversættelse af landenavne'!$C10,FALSE)","v":5.2094000000000005},null,null,null,{"$f":"'Oversættelse af landenavne'!$B10","v":"Danmark"},{"$f":"HLOOKUP('Alle lande, valgt år'!$F$12,'Level 1'!$AB$5:$AL$32,'Oversættelse af landenavne'!$C10,FALSE)","v":5.4188000000000001},{"$f":"HLOOKUP('Alle lande, valgt år'!$F$12,'Afgifter og moms'!$AA$5:$AL$32,'Oversættelse af landenavne'!$C10,FALSE)","v":0.96220000000000017},null,null,null,{"$f":"'Oversættelse af landenavne'!$B10","v":"Danmark"},{"$f":"HLOOKUP('Alle lande, valgt år'!$F$12,'Level 1'!$AO$5:$AY$32,'Oversættelse af landenavne'!$C10,FALSE)","v":5.1101000000000001},{"$f":"HLOOKUP('Alle lande, valgt år'!$F$12,'Afgifter og moms'!$AO$5:$AY$32,'Oversættelse af landenavne'!$C10,FALSE)","v":"*"},null,null,null,{"$f":"'Oversættelse af landenavne'!$B10","v":"Danmark"},{"$f":"HLOOKUP('Alle lande, valgt år'!$F$12,'Level 1'!$BB$5:$BL$32,'Oversættelse af landenavne'!$C10,FALSE)","v":4.7786},{"$f":"HLOOKUP('Alle lande, valgt år'!$F$12,'Afgifter og moms'!$BB$5:$BL$32,'Oversættelse af landenavne'!$C10,FALSE)","v":"*"},null,null,null,{"$f":"'Oversættelse af landenavne'!$B10","v":"Danmark"},{"$f":"HLOOKUP('Alle lande, valgt år'!$F$12,'Level 1'!$BO$5:$BY$32,'Oversættelse af landenavne'!$C10,FALSE)","v":"*"},{"$f":"HLOOKUP('Alle lande, valgt år'!$F$12,'Afgifter og moms'!$BO$5:$BY$32,'Oversættelse af landenavne'!$C10,FALSE)","v":"*"}]
[null,null,null,{"$f":"'Oversættelse af landenavne'!$B11","v":"Tyskland"},{"$f":"HLOOKUP('Alle lande, valgt år'!$F$12,'Level 1'!$B$5:$L$32,'Oversættelse af landenavne'!$C11,FALSE)","v":11.45},{"$f":"HLOOKUP('Alle lande, valgt år'!$F$12,'Afgifter og moms'!$A$5:$L$32,'Oversættelse af landenavne'!$C11,FALSE)","v":1.120000000000001},null,null,null,{"$f":"'Oversættelse af landenavne'!$B11","v":"Tyskland"},{"$f":"HLOOKUP('Alle lande, valgt år'!$F$12,'Level 1'!$O$5:$Y$32,'Oversættelse af landenavne'!$C11,FALSE)","v":8.75},{"$f":"HLOOKUP('Alle lande, valgt år'!$F$12,'Afgifter og moms'!$O$5:$Y$32,'Oversættelse af landenavne'!$C11,FALSE)","v":1.1199999999999992},null,null,null,{"$f":"'Oversættelse af landenavne'!$B11","v":"Tyskland"},{"$f":"HLOOKUP('Alle lande, valgt år'!$F$12,'Level 1'!$AB$5:$AL$32,'Oversættelse af landenavne'!$C11,FALSE)","v":8.3000000000000007},{"$f":"HLOOKUP('Alle lande, valgt år'!$F$12,'Afgifter og moms'!$AA$5:$AL$32,'Oversættelse af landenavne'!$C11,FALSE)","v":-1.0138000000000007},null,null,null,{"$f":"'Oversættelse af landenavne'!$B11","v":"Tyskland"},{"$f":"HLOOKUP('Alle lande, valgt år'!$F$12,'Level 1'!$AO$5:$AY$32,'Oversættelse af landenavne'!$C11,FALSE)","v":6.25},{"$f":"HLOOKUP('Alle lande, valgt år'!$F$12,'Afgifter og moms'!$AO$5:$AY$32,'Oversættelse af landenavne'!$C11,FALSE)","v":"*"},null,null,null,{"$f":"'Oversættelse af landenavne'!$B11","v":"Tyskland"},{"$f":"HLOOKUP('Alle lande, valgt år'!$F$12,'Level 1'!$BB$5:$BL$32,'Oversættelse af landenavne'!$C11,FALSE)","v":5.04},{"$f":"HLOOKUP('Alle lande, valgt år'!$F$12,'Afgifter og moms'!$BB$5:$BL$32,'Oversættelse af landenavne'!$C11,FALSE)","v":"*"},null,null,null,{"$f":"'Oversættelse af landenavne'!$B11","v":"Tyskland"},{"$f":"HLOOKUP('Alle lande, valgt år'!$F$12,'Level 1'!$BO$5:$BY$32,'Oversættelse af landenavne'!$C11,FALSE)","v":4.62},{"$f":"HLOOKUP('Alle lande, valgt år'!$F$12,'Afgifter og moms'!$BO$5:$BY$32,'Oversættelse af landenavne'!$C11,FALSE)","v":"*"}]
[null,null,null,{"$f":"'Oversættelse af landenavne'!$B12","v":"Estland"},{"$f":"HLOOKUP('Alle lande, valgt år'!$F$12,'Level 1'!$B$5:$L$32,'Oversættelse af landenavne'!$C12,FALSE)","v":8.91},{"$f":"HLOOKUP('Alle lande, valgt år'!$F$12,'Afgifter og moms'!$A$5:$L$32,'Oversættelse af landenavne'!$C12,FALSE)","v":0.99000000000000021},null,null,null,{"$f":"'Oversættelse af landenavne'!$B12","v":"Estland"},{"$f":"HLOOKUP('Alle lande, valgt år'!$F$12,'Level 1'!$O$5:$Y$32,'Oversættelse af landenavne'!$C12,FALSE)","v":8.25},{"$f":"HLOOKUP('Alle lande, valgt år'!$F$12,'Afgifter og moms'!$O$5:$Y$32,'Oversættelse af landenavne'!$C12,FALSE)","v":0.99000000000000021},null,null,null,{"$f":"'Oversættelse af landenavne'!$B12","v":"Estland"},{"$f":"HLOOKUP('Alle lande, valgt år'!$F$12,'Level 1'!$AB$5:$AL$32,'Oversættelse af landenavne'!$C12,FALSE)","v":7.59},{"$f":"HLOOKUP('Alle lande, valgt år'!$F$12,'Afgifter og moms'!$AA$5:$AL$32,'Oversættelse af landenavne'!$C12,FALSE)","v":0.37520000000000042},null,null,null,{"$f":"'Oversættelse af landenavne'!$B12","v":"Estland"},{"$f":"HLOOKUP('Alle lande, valgt år'!$F$12,'Level 1'!$AO$5:$AY$32,'Oversættelse af landenavne'!$C12,FALSE)","v":7.59},{"$f":"HLOOKUP('Alle lande, valgt år'!$F$12,'Afgifter og moms'!$AO$5:$AY$32,'Oversættelse af landenavne'!$C12,FALSE)","v":"*"},null,null,null,{"$f":"'Oversættelse af landenavne'!$B12","v":"Estland"},{"$f":"HLOOKUP('Alle lande, valgt år'!$F$12,'Level 1'!$BB$5:$BL$32,'Oversættelse af landenavne'!$C12,FALSE)","v":7.26},{"$f":"HLOOKUP('Alle lande, valgt år'!$F$12,'Afgifter og moms'!$BB$5:$BL$32,'Oversættelse af landenavne'!$C12,FALSE)","v":"*"},null,null,null,{"$f":"'Oversættelse af landenavne'!$B12","v":"Estland"},{"$f":"HLOOKUP('Alle lande, valgt år'!$F$12,'Level 1'!$BO$5:$BY$32,'Oversættelse af landenavne'!$C12,FALSE)","v":"*"},{"$f":"HLOOKUP('Alle lande, valgt år'!$F$12,'Afgifter og moms'!$BO$5:$BY$32,'Oversættelse af landenavne'!$C12,FALSE)","v":"*"}]
[null,null,null,{"$f":"'Oversættelse af landenavne'!$B13","v":"Irland"},{"$f":"HLOOKUP('Alle lande, valgt år'!$F$12,'Level 1'!$B$5:$L$32,'Oversættelse af landenavne'!$C13,FALSE)","v":13.17},{"$f":"HLOOKUP('Alle lande, valgt år'!$F$12,'Afgifter og moms'!$A$5:$L$32,'Oversættelse af landenavne'!$C13,FALSE)","v":1.0600000000000005},null,null,null,{"$f":"'Oversættelse af landenavne'!$B13","v":"Irland"},{"$f":"HLOOKUP('Alle lande, valgt år'!$F$12,'Level 1'!$O$5:$Y$32,'Oversættelse af landenavne'!$C13,FALSE)","v":9.8800000000000008},{"$f":"HLOOKUP('Alle lande, valgt år'!$F$12,'Afgifter og moms'!$O$5:$Y$32,'Oversættelse af landenavne'!$C13,FALSE)","v":1.17},null,null,null,{"$f":"'Oversættelse af landenavne'!$B13","v":"Irland"},{"$f":"HLOOKUP('Alle lande, valgt år'!$F$12,'Level 1'!$AB$5:$AL$32,'Oversættelse af landenavne'!$C13,FALSE)","v":8.02},{"$f":"HLOOKUP('Alle lande, valgt år'!$F$12,'Afgifter og moms'!$AA$5:$AL$32,'Oversættelse af landenavne'!$C13,FALSE)","v":1.4000000000000004},null,null,null,{"$f":"'Oversættelse af landenavne'!$B13","v":"Irland"},{"$f":"HLOOKUP('Alle lande, valgt år'!$F$12,'Level 1'!$AO$5:$AY$32,'Oversættelse af landenavne'!$C13,FALSE)","v":6.4},{"$f":"HLOOKUP('Alle lande, valgt år'!$F$12,'Afgifter og moms'!$AO$5:$AY$32,'Oversættelse af landenavne'!$C13,FALSE)","v":0.5699999999999994},null,null,null,{"$f":"'Oversættelse af landenavne'!$B13","v":"Irland"},{"$f":"HLOOKUP('Alle lande, valgt år'!$F$12,'Level 1'!$BB$5:$BL$32,'Oversættelse af landenavne'!$C13,FALSE)","v":"*"},{"$f":"HLOOKUP('Alle lande, valgt år'!$F$12,'Afgifter og moms'!$BB$5:$BL$32,'Oversættelse af landenavne'!$C13,FALSE)","v":"*"},null,null,null,{"$f":"'Oversættelse af landenavne'!$B13","v":"Irland"},{"$f":"HLOOKUP('Alle lande, valgt år'!$F$12,'Level 1'!$BO$5:$BY$32,'Oversættelse af landenavne'!$C13,FALSE)","v":"*"},{"$f":"HLOOKUP('Alle lande, valgt år'!$F$12,'Afgifter og moms'!$BO$5:$BY$32,'Oversættelse af landenavne'!$C13,FALSE)","v":"*"}]
[null,null,null,{"$f":"'Oversættelse af landenavne'!$B14","v":"Grækenland"},{"$f":"HLOOKUP('Alle lande, valgt år'!$F$12,'Level 1'!$B$5:$L$32,'Oversættelse af landenavne'!$C14,FALSE)","v":7.5},{"$f":"HLOOKUP('Alle lande, valgt år'!$F$12,'Afgifter og moms'!$A$5:$L$32,'Oversættelse af landenavne'!$C14,FALSE)","v":1.6099999999999994},null,null,null,{"$f":"'Oversættelse af landenavne'!$B14","v":"Grækenland"},{"$f":"HLOOKUP('Alle lande, valgt år'!$F$12,'Level 1'!$O$5:$Y$32,'Oversættelse af landenavne'!$C14,FALSE)","v":7.55},{"$f":"HLOOKUP('Alle lande, valgt år'!$F$12,'Afgifter og moms'!$O$5:$Y$32,'Oversættelse af landenavne'!$C14,FALSE)","v":1.6000000000000005},null,null,null,{"$f":"'Oversættelse af landenavne'!$B14","v":"Grækenland"},{"$f":"HLOOKUP('Alle lande, valgt år'!$F$12,'Level 1'!$AB$5:$AL$32,'Oversættelse af landenavne'!$C14,FALSE)","v":6.64},{"$f":"HLOOKUP('Alle lande, valgt år'!$F$12,'Afgifter og moms'!$AA$5:$AL$32,'Oversættelse af landenavne'!$C14,FALSE)","v":1.9400000000000004},null,null,null,{"$f":"'Oversættelse af landenavne'!$B14","v":"Grækenland"},{"$f":"HLOOKUP('Alle lande, valgt år'!$F$12,'Level 1'!$AO$5:$AY$32,'Oversættelse af landenavne'!$C14,FALSE)","v":5.41},{"$f":"HLOOKUP('Alle lande, valgt år'!$F$12,'Afgifter og moms'!$AO$5:$AY$32,'Oversættelse af landenavne'!$C14,FALSE)","v":0.54},null,null,null,{"$f":"'Oversættelse af landenavne'!$B14","v":"Grækenland"},{"$f":"HLOOKUP('Alle lande, valgt år'!$F$12,'Level 1'!$BB$5:$BL$32,'Oversættelse af landenavne'!$C14,FALSE)","v":"*"},{"$f":"HLOOKUP('Alle lande, valgt år'!$F$12,'Afgifter og moms'!$BB$5:$BL$32,'Oversættelse af landenavne'!$C14,FALSE)","v":"*"},null,null,null,{"$f":"'Oversættelse af landenavne'!$B14","v":"Grækenland"},{"$f":"HLOOKUP('Alle lande, valgt år'!$F$12,'Level 1'!$BO$5:$BY$32,'Oversættelse af landenavne'!$C14,FALSE)","v":"*"},{"$f":"HLOOKUP('Alle lande, valgt år'!$F$12,'Afgifter og moms'!$BO$5:$BY$32,'Oversættelse af landenavne'!$C14,FALSE)","v":"*"}]
[null,null,null,{"$f":"'Oversættelse af landenavne'!$B15","v":"Spanien"},{"$f":"HLOOKUP('Alle lande, valgt år'!$F$12,'Level 1'!$B$5:$L$32,'Oversættelse af landenavne'!$C15,FALSE)","v":11.86},{"$f":"HLOOKUP('Alle lande, valgt år'!$F$12,'Afgifter og moms'!$A$5:$L$32,'Oversættelse af landenavne'!$C15,FALSE)","v":0.15000000000000036},null,null,null,{"$f":"'Oversættelse af landenavne'!$B15","v":"Spanien"},{"$f":"HLOOKUP('Alle lande, valgt år'!$F$12,'Level 1'!$O$5:$Y$32,'Oversættelse af landenavne'!$C15,FALSE)","v":9.93},{"$f":"HLOOKUP('Alle lande, valgt år'!$F$12,'Afgifter og moms'!$O$5:$Y$32,'Oversættelse af landenavne'!$C15,FALSE)","v":0.15000000000000036},null,null,null,{"$f":"'Oversættelse af landenavne'!$B15","v":"Spanien"},{"$f":"HLOOKUP('Alle lande, valgt år'!$F$12,'Level 1'!$AB$5:$AL$32,'Oversættelse af landenavne'!$C15,FALSE)","v":7.66},{"$f":"HLOOKUP('Alle lande, valgt år'!$F$12,'Afgifter og moms'!$AA$5:$AL$32,'Oversættelse af landenavne'!$C15,FALSE)","v":1.4499999999999993},null,null,null,{"$f":"'Oversættelse af landenavne'!$B15","v":"Spanien"},{"$f":"HLOOKUP('Alle lande, valgt år'!$F$12,'Level 1'!$AO$5:$AY$32,'Oversættelse af landenavne'!$C15,FALSE)","v":6.64},{"$f":"HLOOKUP('Alle lande, valgt år'!$F$12,'Afgifter og moms'!$AO$5:$AY$32,'Oversættelse af landenavne'!$C15,FALSE)","v":-1.3582999999999998},null,null,null,{"$f":"'Oversættelse af landenavne'!$B15","v":"Spanien"},{"$f":"HLOOKUP('Alle lande, valgt år'!$F$12,'Level 1'!$BB$5:$BL$32,'Oversættelse af landenavne'!$C15,FALSE)","v":5.67},{"$f":"HLOOKUP('Alle lande, valgt år'!$F$12,'Afgifter og moms'!$BB$5:$BL$32,'Oversættelse af landenavne'!$C15,FALSE)","v":-0.67969999999999953},null,null,null,{"$f":"'Oversættelse af landenavne'!$B15","v":"Spanien"},{"$f":"HLOOKUP('Alle lande, valgt år'!$F$12,'Level 1'!$BO$5:$BY$32,'Oversættelse af landenavne'!$C15,FALSE)","v":5.43},{"$f":"HLOOKUP('Alle lande, valgt år'!$F$12,'Afgifter og moms'!$BO$5:$BY$32,'Oversættelse af landenavne'!$C15,FALSE)","v":"*"}]
[null,null,null,{"$f":"'Oversættelse af landenavne'!$B16","v":"Frankrig"},{"$f":"HLOOKUP('Alle lande, valgt år'!$F$12,'Level 1'!$B$5:$L$32,'Oversættelse af landenavne'!$C16,FALSE)","v":11.59},{"$f":"HLOOKUP('Alle lande, valgt år'!$F$12,'Afgifter og moms'!$A$5:$L$32,'Oversættelse af landenavne'!$C16,FALSE)","v":1.5},null,null,null,{"$f":"'Oversættelse af landenavne'!$B16","v":"Frankrig"},{"$f":"HLOOKUP('Alle lande, valgt år'!$F$12,'Level 1'!$O$5:$Y$32,'Oversættelse af landenavne'!$C16,FALSE)","v":9.64},{"$f":"HLOOKUP('Alle lande, valgt år'!$F$12,'Afgifter og moms'!$O$5:$Y$32,'Oversættelse af landenavne'!$C16,FALSE)","v":1.3599999999999994},null,null,null,{"$f":"'Oversættelse af landenavne'!$B16","v":"Frankrig"},{"$f":"HLOOKUP('Alle lande, valgt år'!$F$12,'Level 1'!$AB$5:$AL$32,'Oversættelse af landenavne'!$C16,FALSE)","v":7.92},{"$f":"HLOOKUP('Alle lande, valgt år'!$F$12,'Afgifter og moms'!$AA$5:$AL$32,'Oversættelse af landenavne'!$C16,FALSE)","v":0.29000000000000092},null,null,null,{"$f":"'Oversættelse af landenavne'!$B16","v":"Frankrig"},{"$f":"HLOOKUP('Alle lande, valgt år'!$F$12,'Level 1'!$AO$5:$AY$32,'Oversættelse af landenavne'!$C16,FALSE)","v":5.98},{"$f":"HLOOKUP('Alle lande, valgt år'!$F$12,'Afgifter og moms'!$AO$5:$AY$32,'Oversættelse af landenavne'!$C16,FALSE)","v":0.34249999999999936},null,null,null,{"$f":"'Oversættelse af landenavne'!$B16","v":"Frankrig"},{"$f":"HLOOKUP('Alle lande, valgt år'!$F$12,'Level 1'!$BB$5:$BL$32,'Oversættelse af landenavne'!$C16,FALSE)","v":4.6100000000000003},{"$f":"HLOOKUP('Alle lande, valgt år'!$F$12,'Afgifter og moms'!$BB$5:$BL$32,'Oversættelse af landenavne'!$C16,FALSE)","v":1.7805},null,null,null,{"$f":"'Oversættelse af landenavne'!$B16","v":"Frankrig"},{"$f":"HLOOKUP('Alle lande, valgt år'!$F$12,'Level 1'!$BO$5:$BY$32,'Oversættelse af landenavne'!$C16,FALSE)","v":"*"},{"$f":"HLOOKUP('Alle lande, valgt år'!$F$12,'Afgifter og moms'!$BO$5:$BY$32,'Oversættelse af landenavne'!$C16,FALSE)","v":"*"}]
[null,null,null,{"$f":"'Oversættelse af landenavne'!$B17","v":"Kroatien"},{"$f":"HLOOKUP('Alle lande, valgt år'!$F$12,'Level 1'!$B$5:$L$32,'Oversættelse af landenavne'!$C17,FALSE)","v":11.1259},{"$f":"HLOOKUP('Alle lande, valgt år'!$F$12,'Afgifter og moms'!$A$5:$L$32,'Oversættelse af landenavne'!$C17,FALSE)","v":0.16929999999999978},null,null,null,{"$f":"'Oversættelse af landenavne'!$B17","v":"Kroatien"},{"$f":"HLOOKUP('Alle lande, valgt år'!$F$12,'Level 1'!$O$5:$Y$32,'Oversættelse af landenavne'!$C17,FALSE)","v":10.1286},{"$f":"HLOOKUP('Alle lande, valgt år'!$F$12,'Afgifter og moms'!$O$5:$Y$32,'Oversættelse af landenavne'!$C17,FALSE)","v":0.14149999999999885},null,null,null,{"$f":"'Oversættelse af landenavne'!$B17","v":"Kroatien"},{"$f":"HLOOKUP('Alle lande, valgt år'!$F$12,'Level 1'!$AB$5:$AL$32,'Oversættelse af landenavne'!$C17,FALSE)","v":8.9765999999999995},{"$f":"HLOOKUP('Alle lande, valgt år'!$F$12,'Afgifter og moms'!$AA$5:$AL$32,'Oversættelse af landenavne'!$C17,FALSE)","v":-1.1665999999999999},null,null,null,{"$f":"'Oversættelse af landenavne'!$B17","v":"Kroatien"},{"$f":"HLOOKUP('Alle lande, valgt år'!$F$12,'Level 1'!$AO$5:$AY$32,'Oversættelse af landenavne'!$C17,FALSE)","v":7.1395},{"$f":"HLOOKUP('Alle lande, valgt år'!$F$12,'Afgifter og moms'!$AO$5:$AY$32,'Oversættelse af landenavne'!$C17,FALSE)","v":-0.61599999999999966},null,null,null,{"$f":"'Oversættelse af landenavne'!$B17","v":"Kroatien"},{"$f":"HLOOKUP('Alle lande, valgt år'!$F$12,'Level 1'!$BB$5:$BL$32,'Oversættelse af landenavne'!$C17,FALSE)","v":"*"},{"$f":"HLOOKUP('Alle lande, valgt år'!$F$12,'Afgifter og moms'!$BB$5:$BL$32,'Oversættelse af landenavne'!$C17,FALSE)","v":"*"},null,null,null,{"$f":"'Oversættelse af landenavne'!$B17","v":"Kroatien"},{"$f":"HLOOKUP('Alle lande, valgt år'!$F$12,'Level 1'!$BO$5:$BY$32,'Oversættelse af landenavne'!$C17,FALSE)","v":"*"},{"$f":"HLOOKUP('Alle lande, valgt år'!$F$12,'Afgifter og moms'!$BO$5:$BY$32,'Oversættelse af landenavne'!$C17,FALSE)","v":"*"}]
[null,null,null,{"$f":"'Oversættelse af landenavne'!$B18","v":"Italien"},{"$f":"HLOOKUP('Alle lande, valgt år'!$F$12,'Level 1'!$B$5:$L$32,'Oversættelse af landenavne'!$C18,FALSE)","v":12.22},{"$f":"HLOOKUP('Alle lande, valgt år'!$F$12,'Afgifter og moms'!$A$5:$L$32,'Oversættelse af landenavne'!$C18,FALSE)","v":3.0599999999999987},null,null,null,{"$f":"'Oversættelse af landenavne'!$B18","v":"Italien"},{"$f":"HLOOKUP('Alle lande, valgt år'!$F$12,'Level 1'!$O$5:$Y$32,'Oversættelse af landenavne'!$C18,FALSE)","v":10.23},{"$f":"HLOOKUP('Alle lande, valgt år'!$F$12,'Afgifter og moms'!$O$5:$Y$32,'Oversættelse af landenavne'!$C18,FALSE)","v":2.16},null,null,null,{"$f":"'Oversættelse af landenavne'!$B18","v":"Italien"},{"$f":"HLOOKUP('Alle lande, valgt år'!$F$12,'Level 1'!$AB$5:$AL$32,'Oversættelse af landenavne'!$C18,FALSE)","v":8},{"$f":"HLOOKUP('Alle lande, valgt år'!$F$12,'Afgifter og moms'!$AA$5:$AL$32,'Oversættelse af landenavne'!$C18,FALSE)","v":1.25},null,null,null,{"$f":"'Oversættelse af landenavne'!$B18","v":"Italien"},{"$f":"HLOOKUP('Alle lande, valgt år'!$F$12,'Level 1'!$AO$5:$AY$32,'Oversættelse af landenavne'!$C18,FALSE)","v":6.8},{"$f":"HLOOKUP('Alle lande, valgt år'!$F$12,'Afgifter og moms'!$AO$5:$AY$32,'Oversættelse af landenavne'!$C18,FALSE)","v":0.57000000000000028},null,null,null,{"$f":"'Oversættelse af landenavne'!$B18","v":"Italien"},{"$f":"HLOOKUP('Alle lande, valgt år'!$F$12,'Level 1'!$BB$5:$BL$32,'Oversættelse af landenavne'!$C18,FALSE)","v":6.47},{"$f":"HLOOKUP('Alle lande, valgt år'!$F$12,'Afgifter og moms'!$BB$5:$BL$32,'Oversættelse af landenavne'!$C18,FALSE)","v":-0.30999999999999961},null,null,null,{"$f":"'Oversættelse af landenavne'!$B18","v":"Italien"},{"$f":"HLOOKUP('Alle lande, valgt år'!$F$12,'Level 1'!$BO$5:$BY$32,'Oversættelse af landenavne'!$C18,FALSE)","v":6.22},{"$f":"HLOOKUP('Alle lande, valgt år'!$F$12,'Afgifter og moms'!$BO$5:$BY$32,'Oversættelse af landenavne'!$C18,FALSE)","v":-0.47999999999999954}]
[null,null,null,{"$f":"'Oversættelse af landenavne'!$B19","v":"Letland"},{"$f":"HLOOKUP('Alle lande, valgt år'!$F$12,'Level 1'!$B$5:$L$32,'Oversættelse af landenavne'!$C19,FALSE)","v":8.84},{"$f":"HLOOKUP('Alle lande, valgt år'!$F$12,'Afgifter og moms'!$A$5:$L$32,'Oversættelse af landenavne'!$C19,FALSE)","v":0.48000000000000043},null,null,null,{"$f":"'Oversættelse af landenavne'!$B19","v":"Letland"},{"$f":"HLOOKUP('Alle lande, valgt år'!$F$12,'Level 1'!$O$5:$Y$32,'Oversættelse af landenavne'!$C19,FALSE)","v":7.9},{"$f":"HLOOKUP('Alle lande, valgt år'!$F$12,'Afgifter og moms'!$O$5:$Y$32,'Oversættelse af landenavne'!$C19,FALSE)","v":0.45999999999999908},null,null,null,{"$f":"'Oversættelse af landenavne'!$B19","v":"Letland"},{"$f":"HLOOKUP('Alle lande, valgt år'!$F$12,'Level 1'!$AB$5:$AL$32,'Oversættelse af landenavne'!$C19,FALSE)","v":6.96},{"$f":"HLOOKUP('Alle lande, valgt år'!$F$12,'Afgifter og moms'!$AA$5:$AL$32,'Oversættelse af landenavne'!$C19,FALSE)","v":2.133},null,null,null,{"$f":"'Oversættelse af landenavne'!$B19","v":"Letland"},{"$f":"HLOOKUP('Alle lande, valgt år'!$F$12,'Level 1'!$AO$5:$AY$32,'Oversættelse af landenavne'!$C19,FALSE)","v":6.45},{"$f":"HLOOKUP('Alle lande, valgt år'!$F$12,'Afgifter og moms'!$AO$5:$AY$32,'Oversættelse af landenavne'!$C19,FALSE)","v":2.13},null,null,null,{"$f":"'Oversættelse af landenavne'!$B19","v":"Letland"},{"$f":"HLOOKUP('Alle lande, valgt år'!$F$12,'Level 1'!$BB$5:$BL$32,'Oversættelse af landenavne'!$C19,FALSE)","v":6.21},{"$f":"HLOOKUP('Alle lande, valgt år'!$F$12,'Afgifter og moms'!$BB$5:$BL$32,'Oversættelse af landenavne'!$C19,FALSE)","v":2.04},null,null,null,{"$f":"'Oversættelse af landenavne'!$B19","v":"Letland"},{"$f":"HLOOKUP('Alle lande, valgt år'!$F$12,'Level 1'!$BO$5:$BY$32,'Oversættelse af landenavne'!$C19,FALSE)","v":"*"},{"$f":"HLOOKUP('Alle lande, valgt år'!$F$12,'Afgifter og moms'!$BO$5:$BY$32,'Oversættelse af landenavne'!$C19,FALSE)","v":"*"}]
[null,null,null,{"$f":"'Oversættelse af landenavne'!$B20","v":"Litaun"},{"$f":"HLOOKUP('Alle lande, valgt år'!$F$12,'Level 1'!$B$5:$L$32,'Oversættelse af landenavne'!$C20,FALSE)","v":10.01},{"$f":"HLOOKUP('Alle lande, valgt år'!$F$12,'Afgifter og moms'!$A$5:$L$32,'Oversættelse af landenavne'!$C20,FALSE)","v":0},null,null,null,{"$f":"'Oversættelse af landenavne'!$B20","v":"Litaun"},{"$f":"HLOOKUP('Alle lande, valgt år'!$F$12,'Level 1'!$O$5:$Y$32,'Oversættelse af landenavne'!$C20,FALSE)","v":8.41},{"$f":"HLOOKUP('Alle lande, valgt år'!$F$12,'Afgifter og moms'!$O$5:$Y$32,'Oversættelse af landenavne'!$C20,FALSE)","v":0},null,null,null,{"$f":"'Oversættelse af landenavne'!$B20","v":"Litaun"},{"$f":"HLOOKUP('Alle lande, valgt år'!$F$12,'Level 1'!$AB$5:$AL$32,'Oversættelse af landenavne'!$C20,FALSE)","v":7.45},{"$f":"HLOOKUP('Alle lande, valgt år'!$F$12,'Afgifter og moms'!$AA$5:$AL$32,'Oversættelse af landenavne'!$C20,FALSE)","v":1.2199999999999998},null,null,null,{"$f":"'Oversættelse af landenavne'!$B20","v":"Litaun"},{"$f":"HLOOKUP('Alle lande, valgt år'!$F$12,'Level 1'!$AO$5:$AY$32,'Oversættelse af landenavne'!$C20,FALSE)","v":5.88},{"$f":"HLOOKUP('Alle lande, valgt år'!$F$12,'Afgifter og moms'!$AO$5:$AY$32,'Oversættelse af landenavne'!$C20,FALSE)","v":0.85000000000000053},null,null,null,{"$f":"'Oversættelse af landenavne'!$B20","v":"Litaun"},{"$f":"HLOOKUP('Alle lande, valgt år'!$F$12,'Level 1'!$BB$5:$BL$32,'Oversættelse af landenavne'!$C20,FALSE)","v":"*"},{"$f":"HLOOKUP('Alle lande, valgt år'!$F$12,'Afgifter og moms'!$BB$5:$BL$32,'Oversættelse af landenavne'!$C20,FALSE)","v":"*"},null,null,null,{"$f":"'Oversættelse af landenavne'!$B20","v":"Litaun"},{"$f":"HLOOKUP('Alle lande, valgt år'!$F$12,'Level 1'!$BO$5:$BY$32,'Oversættelse af landenavne'!$C20,FALSE)","v":"*"},{"$f":"HLOOKUP('Alle lande, valgt år'!$F$12,'Afgifter og moms'!$BO$5:$BY$32,'Oversættelse af landenavne'!$C20,FALSE)","v":"*"}]
[null,null,null,{"$f":"'Oversættelse af landenavne'!$B21","v":"luxembourg"},{"$f":"HLOOKUP('Alle lande, valgt år'!$F$12,'Level 1'!$B$5:$L$32,'Oversættelse af landenavne'!$C21,FALSE)","v":10.83},{"$f":"HLOOKUP('Alle lande, valgt år'!$F$12,'Afgifter og moms'!$A$5:$L$32,'Oversættelse af landenavne'!$C21,FALSE)","v":0.30000000000000071},null,null,null,{"$f":"'Oversættelse af landenavne'!$B21","v":"luxembourg"},{"$f":"HLOOKUP('Alle lande, valgt år'!$F$12,'Level 1'!$O$5:$Y$32,'Oversættelse af landenavne'!$C21,FALSE)","v":10.95},{"$f":"HLOOKUP('Alle lande, valgt år'!$F$12,'Afgifter og moms'!$O$5:$Y$32,'Oversættelse af landenavne'!$C21,FALSE)","v":0.16000000000000014},null,null,null,{"$f":"'Oversættelse af landenavne'!$B21","v":"luxembourg"},{"$f":"HLOOKUP('Alle lande, valgt år'!$F$12,'Level 1'!$AB$5:$AL$32,'Oversættelse af landenavne'!$C21,FALSE)","v":9.49},{"$f":"HLOOKUP('Alle lande, valgt år'!$F$12,'Afgifter og moms'!$AA$5:$AL$32,'Oversættelse af landenavne'!$C21,FALSE)","v":-2.0700000000000003},null,null,null,{"$f":"'Oversættelse af landenavne'!$B21","v":"luxembourg"},{"$f":"HLOOKUP('Alle lande, valgt år'!$F$12,'Level 1'!$AO$5:$AY$32,'Oversættelse af landenavne'!$C21,FALSE)","v":7.11},{"$f":"HLOOKUP('Alle lande, valgt år'!$F$12,'Afgifter og moms'!$AO$5:$AY$32,'Oversættelse af landenavne'!$C21,FALSE)","v":-0.16000000000000014},null,null,null,{"$f":"'Oversættelse af landenavne'!$B21","v":"luxembourg"},{"$f":"HLOOKUP('Alle lande, valgt år'!$F$12,'Level 1'!$BB$5:$BL$32,'Oversættelse af landenavne'!$C21,FALSE)","v":"*"},{"$f":"HLOOKUP('Alle lande, valgt år'!$F$12,'Afgifter og moms'!$BB$5:$BL$32,'Oversættelse af landenavne'!$C21,FALSE)","v":"*"},null,null,null,{"$f":"'Oversættelse af landenavne'!$B21","v":"luxembourg"},{"$f":"HLOOKUP('Alle lande, valgt år'!$F$12,'Level 1'!$BO$5:$BY$32,'Oversættelse af landenavne'!$C21,FALSE)","v":"*"},{"$f":"HLOOKUP('Alle lande, valgt år'!$F$12,'Afgifter og moms'!$BO$5:$BY$32,'Oversættelse af landenavne'!$C21,FALSE)","v":"*"}]
[null,null,null,{"$f":"'Oversættelse af landenavne'!$B22","v":"Ungarn"},{"$f":"HLOOKUP('Alle lande, valgt år'!$F$12,'Level 1'!$B$5:$L$32,'Oversættelse af landenavne'!$C22,FALSE)","v":9.0492000000000008},{"$f":"HLOOKUP('Alle lande, valgt år'!$F$12,'Afgifter og moms'!$A$5:$L$32,'Oversættelse af landenavne'!$C22,FALSE)","v":0.47049999999999947},null,null,null,{"$f":"'Oversættelse af landenavne'!$B22","v":"Ungarn"},{"$f":"HLOOKUP('Alle lande, valgt år'!$F$12,'Level 1'!$O$5:$Y$32,'Oversættelse af landenavne'!$C22,FALSE)","v":8.1168999999999993},{"$f":"HLOOKUP('Alle lande, valgt år'!$F$12,'Afgifter og moms'!$O$5:$Y$32,'Oversættelse af landenavne'!$C22,FALSE)","v":0.43420000000000059},null,null,null,{"$f":"'Oversættelse af landenavne'!$B22","v":"Ungarn"},{"$f":"HLOOKUP('Alle lande, valgt år'!$F$12,'Level 1'!$AB$5:$AL$32,'Oversættelse af landenavne'!$C22,FALSE)","v":8.3145000000000007},{"$f":"HLOOKUP('Alle lande, valgt år'!$F$12,'Afgifter og moms'!$AA$5:$AL$32,'Oversættelse af landenavne'!$C22,FALSE)","v":-0.86450000000000049},null,null,null,{"$f":"'Oversættelse af landenavne'!$B22","v":"Ungarn"},{"$f":"HLOOKUP('Alle lande, valgt år'!$F$12,'Level 1'!$AO$5:$AY$32,'Oversættelse af landenavne'!$C22,FALSE)","v":7.0148000000000001},{"$f":"HLOOKUP('Alle lande, valgt år'!$F$12,'Afgifter og moms'!$AO$5:$AY$32,'Oversættelse af landenavne'!$C22,FALSE)","v":-0.22480000000000011},null,null,null,{"$f":"'Oversættelse af landenavne'!$B22","v":"Ungarn"},{"$f":"HLOOKUP('Alle lande, valgt år'!$F$12,'Level 1'!$BB$5:$BL$32,'Oversættelse af landenavne'!$C22,FALSE)","v":6.0805999999999996},{"$f":"HLOOKUP('Alle lande, valgt år'!$F$12,'Afgifter og moms'!$BB$5:$BL$32,'Oversættelse af landenavne'!$C22,FALSE)","v":-0.26059999999999928},null,null,null,{"$f":"'Oversættelse af landenavne'!$B22","v":"Ungarn"},{"$f":"HLOOKUP('Alle lande, valgt år'!$F$12,'Level 1'!$BO$5:$BY$32,'Oversættelse af landenavne'!$C22,FALSE)","v":6.0505000000000004},{"$f":"HLOOKUP('Alle lande, valgt år'!$F$12,'Afgifter og moms'!$BO$5:$BY$32,'Oversættelse af landenavne'!$C22,FALSE)","v":-0.47050000000000036}]
[null,null,null,{"$f":"'Oversættelse af landenavne'!$B23","v":"Holland"},{"$f":"HLOOKUP('Alle lande, valgt år'!$F$12,'Level 1'!$B$5:$L$32,'Oversættelse af landenavne'!$C23,FALSE)","v":10.15},{"$f":"HLOOKUP('Alle lande, valgt år'!$F$12,'Afgifter og moms'!$A$5:$L$32,'Oversættelse af landenavne'!$C23,FALSE)","v":7.4700000000000006},null,null,null,{"$f":"'Oversættelse af landenavne'!$B23","v":"Holland"},{"$f":"HLOOKUP('Alle lande, valgt år'!$F$12,'Level 1'!$O$5:$Y$32,'Oversættelse af landenavne'!$C23,FALSE)","v":8.57},{"$f":"HLOOKUP('Alle lande, valgt år'!$F$12,'Afgifter og moms'!$O$5:$Y$32,'Oversættelse af landenavne'!$C23,FALSE)","v":7.4699999999999989},null,null,null,{"$f":"'Oversættelse af landenavne'!$B23","v":"Holland"},{"$f":"HLOOKUP('Alle lande, valgt år'!$F$12,'Level 1'!$AB$5:$AL$32,'Oversættelse af landenavne'!$C23,FALSE)","v":6.29},{"$f":"HLOOKUP('Alle lande, valgt år'!$F$12,'Afgifter og moms'!$AA$5:$AL$32,'Oversættelse af landenavne'!$C23,FALSE)","v":3.4999999999999991},null,null,null,{"$f":"'Oversættelse af landenavne'!$B23","v":"Holland"},{"$f":"HLOOKUP('Alle lande, valgt år'!$F$12,'Level 1'!$AO$5:$AY$32,'Oversættelse af landenavne'!$C23,FALSE)","v":5.67},{"$f":"HLOOKUP('Alle lande, valgt år'!$F$12,'Afgifter og moms'!$AO$5:$AY$32,'Oversættelse af landenavne'!$C23,FALSE)","v":0.98000000000000043},null,null,null,{"$f":"'Oversættelse af landenavne'!$B23","v":"Holland"},{"$f":"HLOOKUP('Alle lande, valgt år'!$F$12,'Level 1'!$BB$5:$BL$32,'Oversættelse af landenavne'!$C23,FALSE)","v":5.47},{"$f":"HLOOKUP('Alle lande, valgt år'!$F$12,'Afgifter og moms'!$BB$5:$BL$32,'Oversættelse af landenavne'!$C23,FALSE)","v":-0.58999999999999986},null,null,null,{"$f":"'Oversættelse af landenavne'!$B23","v":"Holland"},{"$f":"HLOOKUP('Alle lande, valgt år'!$F$12,'Level 1'!$BO$5:$BY$32,'Oversættelse af landenavne'!$C23,FALSE)","v":"*"},{"$f":"HLOOKUP('Alle lande, valgt år'!$F$12,'Afgifter og moms'!$BO$5:$BY$32,'Oversættelse af landenavne'!$C23,FALSE)","v":"*"}]
[null,null,null,{"$f":"'Oversættelse af landenavne'!$B24","v":"Østrig"},{"$f":"HLOOKUP('Alle lande, valgt år'!$F$12,'Level 1'!$B$5:$L$32,'Oversættelse af landenavne'!$C24,FALSE)","v":12.75},{"$f":"HLOOKUP('Alle lande, valgt år'!$F$12,'Afgifter og moms'!$A$5:$L$32,'Oversættelse af landenavne'!$C24,FALSE)","v":1.9600000000000009},null,null,null,{"$f":"'Oversættelse af landenavne'!$B24","v":"Østrig"},{"$f":"HLOOKUP('Alle lande, valgt år'!$F$12,'Level 1'!$O$5:$Y$32,'Oversættelse af landenavne'!$C24,FALSE)","v":9.8000000000000007},{"$f":"HLOOKUP('Alle lande, valgt år'!$F$12,'Afgifter og moms'!$O$5:$Y$32,'Oversættelse af landenavne'!$C24,FALSE)","v":2.1499999999999986},null,null,null,{"$f":"'Oversættelse af landenavne'!$B24","v":"Østrig"},{"$f":"HLOOKUP('Alle lande, valgt år'!$F$12,'Level 1'!$AB$5:$AL$32,'Oversættelse af landenavne'!$C24,FALSE)","v":7.79},{"$f":"HLOOKUP('Alle lande, valgt år'!$F$12,'Afgifter og moms'!$AA$5:$AL$32,'Oversættelse af landenavne'!$C24,FALSE)","v":1.0188999999999995},null,null,null,{"$f":"'Oversættelse af landenavne'!$B24","v":"Østrig"},{"$f":"HLOOKUP('Alle lande, valgt år'!$F$12,'Level 1'!$AO$5:$AY$32,'Oversættelse af landenavne'!$C24,FALSE)","v":7.15},{"$f":"HLOOKUP('Alle lande, valgt år'!$F$12,'Afgifter og moms'!$AO$5:$AY$32,'Oversættelse af landenavne'!$C24,FALSE)","v":7.1499999999999453E-2},null,null,null,{"$f":"'Oversættelse af landenavne'!$B24","v":"Østrig"},{"$f":"HLOOKUP('Alle lande, valgt år'!$F$12,'Level 1'!$BB$5:$BL$32,'Oversættelse af landenavne'!$C24,FALSE)","v":7.23},{"$f":"HLOOKUP('Alle lande, valgt år'!$F$12,'Afgifter og moms'!$BB$5:$BL$32,'Oversættelse af landenavne'!$C24,FALSE)","v":"*"},null,null,null,{"$f":"'Oversættelse af landenavne'!$B24","v":"Østrig"},{"$f":"HLOOKUP('Alle lande, valgt år'!$F$12,'Level 1'!$BO$5:$BY$32,'Oversættelse af landenavne'!$C24,FALSE)","v":"*"},{"$f":"HLOOKUP('Alle lande, valgt år'!$F$12,'Afgifter og moms'!$BO$5:$BY$32,'Oversættelse af landenavne'!$C24,FALSE)","v":"*"}]
[null,null,null,{"$f":"'Oversættelse af landenavne'!$B25","v":"Polen"},{"$f":"HLOOKUP('Alle lande, valgt år'!$F$12,'Level 1'!$B$5:$L$32,'Oversættelse af landenavne'!$C25,FALSE)","v":9.9250000000000007},{"$f":"HLOOKUP('Alle lande, valgt år'!$F$12,'Afgifter og moms'!$A$5:$L$32,'Oversættelse af landenavne'!$C25,FALSE)","v":0.19919999999999938},null,null,null,{"$f":"'Oversættelse af landenavne'!$B25","v":"Polen"},{"$f":"HLOOKUP('Alle lande, valgt år'!$F$12,'Level 1'!$O$5:$Y$32,'Oversættelse af landenavne'!$C25,FALSE)","v":9.2887000000000004},{"$f":"HLOOKUP('Alle lande, valgt år'!$F$12,'Afgifter og moms'!$O$5:$Y$32,'Oversættelse af landenavne'!$C25,FALSE)","v":0.20369999999999955},null,null,null,{"$f":"'Oversættelse af landenavne'!$B25","v":"Polen"},{"$f":"HLOOKUP('Alle lande, valgt år'!$F$12,'Level 1'!$AB$5:$AL$32,'Oversættelse af landenavne'!$C25,FALSE)","v":7.3636999999999997},{"$f":"HLOOKUP('Alle lande, valgt år'!$F$12,'Afgifter og moms'!$AA$5:$AL$32,'Oversættelse af landenavne'!$C25,FALSE)","v":3.2963000000000005},null,null,null,{"$f":"'Oversættelse af landenavne'!$B25","v":"Polen"},{"$f":"HLOOKUP('Alle lande, valgt år'!$F$12,'Level 1'!$AO$5:$AY$32,'Oversættelse af landenavne'!$C25,FALSE)","v":6.2214999999999998},{"$f":"HLOOKUP('Alle lande, valgt år'!$F$12,'Afgifter og moms'!$AO$5:$AY$32,'Oversættelse af landenavne'!$C25,FALSE)","v":0.75850000000000062},null,null,null,{"$f":"'Oversættelse af landenavne'!$B25","v":"Polen"},{"$f":"HLOOKUP('Alle lande, valgt år'!$F$12,'Level 1'!$BB$5:$BL$32,'Oversættelse af landenavne'!$C25,FALSE)","v":4.8113999999999999},{"$f":"HLOOKUP('Alle lande, valgt år'!$F$12,'Afgifter og moms'!$BB$5:$BL$32,'Oversættelse af landenavne'!$C25,FALSE)","v":1.7885999999999997},null,null,null,{"$f":"'Oversættelse af landenavne'!$B25","v":"Polen"},{"$f":"HLOOKUP('Alle lande, valgt år'!$F$12,'Level 1'!$BO$5:$BY$32,'Oversættelse af landenavne'!$C25,FALSE)","v":"*"},{"$f":"HLOOKUP('Alle lande, valgt år'!$F$12,'Afgifter og moms'!$BO$5:$BY$32,'Oversættelse af landenavne'!$C25,FALSE)","v":"*"}]
[null,null,null,{"$f":"'Oversættelse af landenavne'!$B26","v":"Portugal"},{"$f":"HLOOKUP('Alle lande, valgt år'!$F$12,'Level 1'!$B$5:$L$32,'Oversættelse af landenavne'!$C26,FALSE)","v":17.75},{"$f":"HLOOKUP('Alle lande, valgt år'!$F$12,'Afgifter og moms'!$A$5:$L$32,'Oversættelse af landenavne'!$C26,FALSE)","v":1.0199999999999996},null,null,null,{"$f":"'Oversættelse af landenavne'!$B26","v":"Portugal"},{"$f":"HLOOKUP('Alle lande, valgt år'!$F$12,'Level 1'!$O$5:$Y$32,'Oversættelse af landenavne'!$C26,FALSE)","v":11.76},{"$f":"HLOOKUP('Alle lande, valgt år'!$F$12,'Afgifter og moms'!$O$5:$Y$32,'Oversættelse af landenavne'!$C26,FALSE)","v":0.34999999999999964},null,null,null,{"$f":"'Oversættelse af landenavne'!$B26","v":"Portugal"},{"$f":"HLOOKUP('Alle lande, valgt år'!$F$12,'Level 1'!$AB$5:$AL$32,'Oversættelse af landenavne'!$C26,FALSE)","v":9.24},{"$f":"HLOOKUP('Alle lande, valgt år'!$F$12,'Afgifter og moms'!$AA$5:$AL$32,'Oversættelse af landenavne'!$C26,FALSE)","v":0.57000000000000028},null,null,null,{"$f":"'Oversættelse af landenavne'!$B26","v":"Portugal"},{"$f":"HLOOKUP('Alle lande, valgt år'!$F$12,'Level 1'!$AO$5:$AY$32,'Oversættelse af landenavne'!$C26,FALSE)","v":7.62},{"$f":"HLOOKUP('Alle lande, valgt år'!$F$12,'Afgifter og moms'!$AO$5:$AY$32,'Oversættelse af landenavne'!$C26,FALSE)","v":-0.70000000000000018},null,null,null,{"$f":"'Oversættelse af landenavne'!$B26","v":"Portugal"},{"$f":"HLOOKUP('Alle lande, valgt år'!$F$12,'Level 1'!$BB$5:$BL$32,'Oversættelse af landenavne'!$C26,FALSE)","v":7.36},{"$f":"HLOOKUP('Alle lande, valgt år'!$F$12,'Afgifter og moms'!$BB$5:$BL$32,'Oversættelse af landenavne'!$C26,FALSE)","v":-0.6800000000000006},null,null,null,{"$f":"'Oversættelse af landenavne'!$B26","v":"Portugal"},{"$f":"HLOOKUP('Alle lande, valgt år'!$F$12,'Level 1'!$BO$5:$BY$32,'Oversættelse af landenavne'!$C26,FALSE)","v":"*"},{"$f":"HLOOKUP('Alle lande, valgt år'!$F$12,'Afgifter og moms'!$BO$5:$BY$32,'Oversættelse af landenavne'!$C26,FALSE)","v":"*"}]
[null,null,null,{"$f":"'Oversættelse af landenavne'!$B27","v":"Rumænien"},{"$f":"HLOOKUP('Alle lande, valgt år'!$F$12,'Level 1'!$B$5:$L$32,'Oversættelse af landenavne'!$C27,FALSE)","v":6.4664999999999999},{"$f":"HLOOKUP('Alle lande, valgt år'!$F$12,'Afgifter og moms'!$A$5:$L$32,'Oversættelse af landenavne'!$C27,FALSE)","v":2.5358000000000001},null,null,null,{"$f":"'Oversættelse af landenavne'!$B27","v":"Rumænien"},{"$f":"HLOOKUP('Alle lande, valgt år'!$F$12,'Level 1'!$O$5:$Y$32,'Oversættelse af landenavne'!$C27,FALSE)","v":6.0060000000000002},{"$f":"HLOOKUP('Alle lande, valgt år'!$F$12,'Afgifter og moms'!$O$5:$Y$32,'Oversættelse af landenavne'!$C27,FALSE)","v":2.4358000000000004},null,null,null,{"$f":"'Oversættelse af landenavne'!$B27","v":"Rumænien"},{"$f":"HLOOKUP('Alle lande, valgt år'!$F$12,'Level 1'!$AB$5:$AL$32,'Oversættelse af landenavne'!$C27,FALSE)","v":5.3943000000000003},{"$f":"HLOOKUP('Alle lande, valgt år'!$F$12,'Afgifter og moms'!$AA$5:$AL$32,'Oversættelse af landenavne'!$C27,FALSE)","v":2.1158999999999999},null,null,null,{"$f":"'Oversættelse af landenavne'!$B27","v":"Rumænien"},{"$f":"HLOOKUP('Alle lande, valgt år'!$F$12,'Level 1'!$AO$5:$AY$32,'Oversættelse af landenavne'!$C27,FALSE)","v":5.0805999999999996},{"$f":"HLOOKUP('Alle lande, valgt år'!$F$12,'Afgifter og moms'!$AO$5:$AY$32,'Oversættelse af landenavne'!$C27,FALSE)","v":0.79940000000000033},null,null,null,{"$f":"'Oversættelse af landenavne'!$B27","v":"Rumænien"},{"$f":"HLOOKUP('Alle lande, valgt år'!$F$12,'Level 1'!$BB$5:$BL$32,'Oversættelse af landenavne'!$C27,FALSE)","v":4.5156000000000001},{"$f":"HLOOKUP('Alle lande, valgt år'!$F$12,'Afgifter og moms'!$BB$5:$BL$32,'Oversættelse af landenavne'!$C27,FALSE)","v":"*"},null,null,null,{"$f":"'Oversættelse af landenavne'!$B27","v":"Rumænien"},{"$f":"HLOOKUP('Alle lande, valgt år'!$F$12,'Level 1'!$BO$5:$BY$32,'Oversættelse af landenavne'!$C27,FALSE)","v":4.202},{"$f":"HLOOKUP('Alle lande, valgt år'!$F$12,'Afgifter og moms'!$BO$5:$BY$32,'Oversættelse af landenavne'!$C27,FALSE)","v":"*"}]
[null,null,null,{"$f":"'Oversættelse af landenavne'!$B28","v":"Slovenien"},{"$f":"HLOOKUP('Alle lande, valgt år'!$F$12,'Level 1'!$B$5:$L$32,'Oversættelse af landenavne'!$C28,FALSE)","v":11.91},{"$f":"HLOOKUP('Alle lande, valgt år'!$F$12,'Afgifter og moms'!$A$5:$L$32,'Oversættelse af landenavne'!$C28,FALSE)","v":1.4399999999999995},null,null,null,{"$f":"'Oversættelse af landenavne'!$B28","v":"Slovenien"},{"$f":"HLOOKUP('Alle lande, valgt år'!$F$12,'Level 1'!$O$5:$Y$32,'Oversættelse af landenavne'!$C28,FALSE)","v":11.53},{"$f":"HLOOKUP('Alle lande, valgt år'!$F$12,'Afgifter og moms'!$O$5:$Y$32,'Oversættelse af landenavne'!$C28,FALSE)","v":1.5500000000000007},null,null,null,{"$f":"'Oversættelse af landenavne'!$B28","v":"Slovenien"},{"$f":"HLOOKUP('Alle lande, valgt år'!$F$12,'Level 1'!$AB$5:$AL$32,'Oversættelse af landenavne'!$C28,FALSE)","v":8.18},{"$f":"HLOOKUP('Alle lande, valgt år'!$F$12,'Afgifter og moms'!$AA$5:$AL$32,'Oversættelse af landenavne'!$C28,FALSE)","v":1.2599999999999998},null,null,null,{"$f":"'Oversættelse af landenavne'!$B28","v":"Slovenien"},{"$f":"HLOOKUP('Alle lande, valgt år'!$F$12,'Level 1'!$AO$5:$AY$32,'Oversættelse af landenavne'!$C28,FALSE)","v":6.77},{"$f":"HLOOKUP('Alle lande, valgt år'!$F$12,'Afgifter og moms'!$AO$5:$AY$32,'Oversættelse af landenavne'!$C28,FALSE)","v":0.39000000000000057},null,null,null,{"$f":"'Oversættelse af landenavne'!$B28","v":"Slovenien"},{"$f":"HLOOKUP('Alle lande, valgt år'!$F$12,'Level 1'!$BB$5:$BL$32,'Oversættelse af landenavne'!$C28,FALSE)","v":"*"},{"$f":"HLOOKUP('Alle lande, valgt år'!$F$12,'Afgifter og moms'!$BB$5:$BL$32,'Oversættelse af landenavne'!$C28,FALSE)","v":"*"},null,null,null,{"$f":"'Oversættelse af landenavne'!$B28","v":"Slovenien"},{"$f":"HLOOKUP('Alle lande, valgt år'!$F$12,'Level 1'!$BO$5:$BY$32,'Oversættelse af landenavne'!$C28,FALSE)","v":"*"},{"$f":"HLOOKUP('Alle lande, valgt år'!$F$12,'Afgifter og moms'!$BO$5:$BY$32,'Oversættelse af landenavne'!$C28,FALSE)","v":"*"}]
[null,null,null,{"$f":"'Oversættelse af landenavne'!$B29","v":"Slovakiet"},{"$f":"HLOOKUP('Alle lande, valgt år'!$F$12,'Level 1'!$B$5:$L$32,'Oversættelse af landenavne'!$C29,FALSE)","v":12.17},{"$f":"HLOOKUP('Alle lande, valgt år'!$F$12,'Afgifter og moms'!$A$5:$L$32,'Oversættelse af landenavne'!$C29,FALSE)","v":0.35999999999999943},null,null,null,{"$f":"'Oversættelse af landenavne'!$B29","v":"Slovakiet"},{"$f":"HLOOKUP('Alle lande, valgt år'!$F$12,'Level 1'!$O$5:$Y$32,'Oversættelse af landenavne'!$C29,FALSE)","v":9.64},{"$f":"HLOOKUP('Alle lande, valgt år'!$F$12,'Afgifter og moms'!$O$5:$Y$32,'Oversættelse af landenavne'!$C29,FALSE)","v":0.36999999999999922},null,null,null,{"$f":"'Oversættelse af landenavne'!$B29","v":"Slovakiet"},{"$f":"HLOOKUP('Alle lande, valgt år'!$F$12,'Level 1'!$AB$5:$AL$32,'Oversættelse af landenavne'!$C29,FALSE)","v":8.11},{"$f":"HLOOKUP('Alle lande, valgt år'!$F$12,'Afgifter og moms'!$AA$5:$AL$32,'Oversættelse af landenavne'!$C29,FALSE)","v":-0.35999999999999943},null,null,null,{"$f":"'Oversættelse af landenavne'!$B29","v":"Slovakiet"},{"$f":"HLOOKUP('Alle lande, valgt år'!$F$12,'Level 1'!$AO$5:$AY$32,'Oversættelse af landenavne'!$C29,FALSE)","v":7.45},{"$f":"HLOOKUP('Alle lande, valgt år'!$F$12,'Afgifter og moms'!$AO$5:$AY$32,'Oversættelse af landenavne'!$C29,FALSE)","v":3.5800000000000054E-2},null,null,null,{"$f":"'Oversættelse af landenavne'!$B29","v":"Slovakiet"},{"$f":"HLOOKUP('Alle lande, valgt år'!$F$12,'Level 1'!$BB$5:$BL$32,'Oversættelse af landenavne'!$C29,FALSE)","v":7.7},{"$f":"HLOOKUP('Alle lande, valgt år'!$F$12,'Afgifter og moms'!$BB$5:$BL$32,'Oversættelse af landenavne'!$C29,FALSE)","v":-1.1539000000000001},null,null,null,{"$f":"'Oversættelse af landenavne'!$B29","v":"Slovakiet"},{"$f":"HLOOKUP('Alle lande, valgt år'!$F$12,'Level 1'!$BO$5:$BY$32,'Oversættelse af landenavne'!$C29,FALSE)","v":"*"},{"$f":"HLOOKUP('Alle lande, valgt år'!$F$12,'Afgifter og moms'!$BO$5:$BY$32,'Oversættelse af landenavne'!$C29,FALSE)","v":"*"}]
[null,null,null,{"$f":"'Oversættelse af landenavne'!$B30","v":"Finland"},{"$f":"HLOOKUP('Alle lande, valgt år'!$F$12,'Level 1'!$B$5:$L$32,'Oversættelse af landenavne'!$C30,FALSE)","v":"*"},{"$f":"HLOOKUP('Alle lande, valgt år'!$F$12,'Afgifter og moms'!$A$5:$L$32,'Oversættelse af landenavne'!$C30,FALSE)","v":"*"},null,null,null,{"$f":"'Oversættelse af landenavne'!$B30","v":"Finland"},{"$f":"HLOOKUP('Alle lande, valgt år'!$F$12,'Level 1'!$O$5:$Y$32,'Oversættelse af landenavne'!$C30,FALSE)","v":8.49},{"$f":"HLOOKUP('Alle lande, valgt år'!$F$12,'Afgifter og moms'!$O$5:$Y$32,'Oversættelse af landenavne'!$C30,FALSE)","v":4.3599999999999994},null,null,null,{"$f":"'Oversættelse af landenavne'!$B30","v":"Finland"},{"$f":"HLOOKUP('Alle lande, valgt år'!$F$12,'Level 1'!$AB$5:$AL$32,'Oversættelse af landenavne'!$C30,FALSE)","v":7.15},{"$f":"HLOOKUP('Alle lande, valgt år'!$F$12,'Afgifter og moms'!$AA$5:$AL$32,'Oversættelse af landenavne'!$C30,FALSE)","v":2.4399999999999995},null,null,null,{"$f":"'Oversættelse af landenavne'!$B30","v":"Finland"},{"$f":"HLOOKUP('Alle lande, valgt år'!$F$12,'Level 1'!$AO$5:$AY$32,'Oversættelse af landenavne'!$C30,FALSE)","v":6.81},{"$f":"HLOOKUP('Alle lande, valgt år'!$F$12,'Afgifter og moms'!$AO$5:$AY$32,'Oversættelse af landenavne'!$C30,FALSE)","v":0.27000000000000046},null,null,null,{"$f":"'Oversættelse af landenavne'!$B30","v":"Finland"},{"$f":"HLOOKUP('Alle lande, valgt år'!$F$12,'Level 1'!$BB$5:$BL$32,'Oversættelse af landenavne'!$C30,FALSE)","v":6.77},{"$f":"HLOOKUP('Alle lande, valgt år'!$F$12,'Afgifter og moms'!$BB$5:$BL$32,'Oversættelse af landenavne'!$C30,FALSE)","v":-0.62999999999999989},null,null,null,{"$f":"'Oversættelse af landenavne'!$B30","v":"Finland"},{"$f":"HLOOKUP('Alle lande, valgt år'!$F$12,'Level 1'!$BO$5:$BY$32,'Oversættelse af landenavne'!$C30,FALSE)","v":"*"},{"$f":"HLOOKUP('Alle lande, valgt år'!$F$12,'Afgifter og moms'!$BO$5:$BY$32,'Oversættelse af landenavne'!$C30,FALSE)","v":"*"}]
[null,null,null,{"$f":"'Oversættelse af landenavne'!$B31","v":"Sverige"},{"$f":"HLOOKUP('Alle lande, valgt år'!$F$12,'Level 1'!$B$5:$L$32,'Oversættelse af landenavne'!$C31,FALSE)","v":14.4521},{"$f":"HLOOKUP('Alle lande, valgt år'!$F$12,'Afgifter og moms'!$A$5:$L$32,'Oversættelse af landenavne'!$C31,FALSE)","v":2.4476999999999993},null,null,null,{"$f":"'Oversættelse af landenavne'!$B31","v":"Sverige"},{"$f":"HLOOKUP('Alle lande, valgt år'!$F$12,'Level 1'!$O$5:$Y$32,'Oversættelse af landenavne'!$C31,FALSE)","v":11.055199999999999},{"$f":"HLOOKUP('Alle lande, valgt år'!$F$12,'Afgifter og moms'!$O$5:$Y$32,'Oversættelse af landenavne'!$C31,FALSE)","v":2.4488000000000003},null,null,null,{"$f":"'Oversættelse af landenavne'!$B31","v":"Sverige"},{"$f":"HLOOKUP('Alle lande, valgt år'!$F$12,'Level 1'!$AB$5:$AL$32,'Oversættelse af landenavne'!$C31,FALSE)","v":7.9259000000000004},{"$f":"HLOOKUP('Alle lande, valgt år'!$F$12,'Afgifter og moms'!$AA$5:$AL$32,'Oversættelse af landenavne'!$C31,FALSE)","v":0.55410000000000004},null,null,null,{"$f":"'Oversættelse af landenavne'!$B31","v":"Sverige"},{"$f":"HLOOKUP('Alle lande, valgt år'!$F$12,'Level 1'!$AO$5:$AY$32,'Oversættelse af landenavne'!$C31,FALSE)","v":7.0197000000000003},{"$f":"HLOOKUP('Alle lande, valgt år'!$F$12,'Afgifter og moms'!$AO$5:$AY$32,'Oversættelse af landenavne'!$C31,FALSE)","v":2.1002999999999989},null,null,null,{"$f":"'Oversættelse af landenavne'!$B31","v":"Sverige"},{"$f":"HLOOKUP('Alle lande, valgt år'!$F$12,'Level 1'!$BB$5:$BL$32,'Oversættelse af landenavne'!$C31,FALSE)","v":6.9939},{"$f":"HLOOKUP('Alle lande, valgt år'!$F$12,'Afgifter og moms'!$BB$5:$BL$32,'Oversættelse af landenavne'!$C31,FALSE)","v":1.8460999999999999},null,null,null,{"$f":"'Oversættelse af landenavne'!$B31","v":"Sverige"},{"$f":"HLOOKUP('Alle lande, valgt år'!$F$12,'Level 1'!$BO$5:$BY$32,'Oversættelse af landenavne'!$C31,FALSE)","v":"*"},{"$f":"HLOOKUP('Alle lande, valgt år'!$F$12,'Afgifter og moms'!$BO$5:$BY$32,'Oversættelse af landenavne'!$C31,FALSE)","v":"*"}]
[null,null,null,{"$f":"'Oversættelse af landenavne'!$B32","v":"UK"},{"$f":"HLOOKUP('Alle lande, valgt år'!$F$12,'Level 1'!$B$5:$L$32,'Oversættelse af landenavne'!$C32,FALSE)","v":13.833},{"$f":"HLOOKUP('Alle lande, valgt år'!$F$12,'Afgifter og moms'!$A$5:$L$32,'Oversættelse af landenavne'!$C32,FALSE)","v":0.47519999999999918},null,null,null,{"$f":"'Oversættelse af landenavne'!$B32","v":"UK"},{"$f":"HLOOKUP('Alle lande, valgt år'!$F$12,'Level 1'!$O$5:$Y$32,'Oversættelse af landenavne'!$C32,FALSE)","v":8.6054999999999993},{"$f":"HLOOKUP('Alle lande, valgt år'!$F$12,'Afgifter og moms'!$O$5:$Y$32,'Oversættelse af landenavne'!$C32,FALSE)","v":0.47520000000000095},null,null,null,{"$f":"'Oversættelse af landenavne'!$B32","v":"UK"},{"$f":"HLOOKUP('Alle lande, valgt år'!$F$12,'Level 1'!$AB$5:$AL$32,'Oversættelse af landenavne'!$C32,FALSE)","v":7.6421999999999999},{"$f":"HLOOKUP('Alle lande, valgt år'!$F$12,'Afgifter og moms'!$AA$5:$AL$32,'Oversættelse af landenavne'!$C32,FALSE)","v":3.8677999999999999},null,null,null,{"$f":"'Oversættelse af landenavne'!$B32","v":"UK"},{"$f":"HLOOKUP('Alle lande, valgt år'!$F$12,'Level 1'!$AO$5:$AY$32,'Oversættelse af landenavne'!$C32,FALSE)","v":5.9339000000000004},{"$f":"HLOOKUP('Alle lande, valgt år'!$F$12,'Afgifter og moms'!$AO$5:$AY$32,'Oversættelse af landenavne'!$C32,FALSE)","v":0.35849999999999937},null,null,null,{"$f":"'Oversættelse af landenavne'!$B32","v":"UK"},{"$f":"HLOOKUP('Alle lande, valgt år'!$F$12,'Level 1'!$BB$5:$BL$32,'Oversættelse af landenavne'!$C32,FALSE)","v":4.9063999999999997},{"$f":"HLOOKUP('Alle lande, valgt år'!$F$12,'Afgifter og moms'!$BB$5:$BL$32,'Oversættelse af landenavne'!$C32,FALSE)","v":-9.4999999999999751E-2},null,null,null,{"$f":"'Oversættelse af landenavne'!$B32","v":"UK"},{"$f":"HLOOKUP('Alle lande, valgt år'!$F$12,'Level 1'!$BO$5:$BY$32,'Oversættelse af landenavne'!$C32,FALSE)","v":"*"},{"$f":"HLOOKUP('Alle lande, valgt år'!$F$12,'Afgifter og moms'!$BO$5:$BY$32,'Oversættelse af landenavne'!$C32,FALSE)","v":"*"}]
[null,null,null,"Level 1",null,null,null,null,null,"Level 1",null,null,null,null,null,"Level 1",null,null,null,null,null,"Level 1",null,null,null,null,null,"Level 1",null,null,null,null,null,"Level 1"]
[null,null,null,"Level 2",null,null,null,null,null,"Level 2",null,null,null,null,null,"Level 2",null,null,null,null,null,"Level 2",null,null,null,null,null,"Level 2",null,null,null,null,null,"Level 2"]
[]
[]
[]
[]
[]
[null,null,null,"Herunder vises de tabeller der er resultatet er valgene truffet øverst i valgmenuen"]
[null,null,null,"Man kunne have valgt at vise tallene for alle år, men jeg synes at formlen er overskuelig nok til at vi lavder årstalsvalgt indgå direkte"]
[]
[null,null,null,"Tabel B - BVT Deflatoren",null,null,null,null,"Tabel C",null,"Tabel D"]
[null,null,null,"Tabel B fremkommer som resultat af valgene truffet for faste/løbende priser og basisår.\n\nBVT deflatoren vises for samtlige lande for det valgte år. Væles løbende priser deflaterer man ikke, hvorfor der vil stå et 1-tal i alle celler.\n\nFormlen gør at \"fejlværdien\" svarer til at man har valgt løbende priser (gælder både for overskrift og formler). Med denne metode kan indeksværdien ganges direkte på rådata uanset hvilken valuta der vælges.",null,null,null,null,"Tabel C viser hvilken kurs der ganges på rådata (opgivet i euro) for at få priserne vist i den valuta der er valgt i valgmenuen øverst.\n\nKursen ændres efter valgt år og valuta.",null,"Tabel D viser hvilken faktor der ganges på den oprindelige (opgivet i GJ), for at få vist priserne i den enhed der er valgt i valgmenuen øverst.\n\nFormlen gør så \"fejlværdien\" svarer til at man har valgt GJ (gælder både for overskrift og formler). \nMed denne metode kan omregningsfaktoren ganges direkte på rådata uanset hvilken enhed der vælges."]
[]
[null,null,null,null,{"$f":"IF('Alle lande, valgt år'!F13=\"faste priser\",\"BVT deflatoenfor år \"&'Alle lande, valgt år'!F12&\" med basisåret \"&'Alle lande, valgt år'!F14&\"\",\"Prisindeks for løbende priser år \"&'Alle lande, valgt år'!F12)","v":"BVT deflatoenfor år 2016 med basisåret 2015"},null,null,null,{"$f":"\"Valutakursen for \"&'Alle lande, valgt år'!F15&\" i fht. Euro år \"&'Alle lande, valgt år'!F12","v":"Valutakursen for DKK i fht. Euro år 2016"},null,{"$f":"\"Omregningsfaktoren for \"&'Alle lande, valgt år'!F16&\" i fht. GJ år \"&'Alle lande, valgt år'!F12","v":"Omregningsfaktoren for GJ i fht. GJ år 2016"}]
[null,null,null,{"$f":"'Baggrundsdata - BVT - deflator'!B23","v":"EU-28"},{"$f":"IF('Alle lande, valgt år'!$F$13=\"faste priser\",HLOOKUP('Alle lande, valgt år'!$F$12,'Baggrundsdata - BVT - deflator'!$B$22:$M$49,'Oversættelse af landenavne'!C6,FALSE),1)","v":1.0283051072464868},null,null,null,{"$f":"IF($E$13=\"Euro\",1,IF($E$13=\"eurocent\",100,IF($E$13=\"DKK øre\",HLOOKUP(E10,Forside!$E$55:$O$56,2,FALSE),IF($E$13=\"DKK\",((HLOOKUP(E10,Forside!$E$55:$O$56,2,FALSE))/100),\"F\"))))","v":7.4474884444444447},null,{"$f":"IF('Alle lande, valgt år'!$F$16=\"Nm3\",(HLOOKUP('Alle lande, valgt år'!F12,Forside!$E$70:$O$72,2,FALSE)),IF('Alle lande, valgt år'!$F$16=\"Kwh\",1/278,1))","v":1}]
[null,null,null,{"$f":"'Baggrundsdata - BVT - deflator'!B24","v":"Belgien"},{"$f":"IF('Alle lande, valgt år'!$F$13=\"faste priser\",HLOOKUP('Alle lande, valgt år'!$F$12,'Baggrundsdata - BVT - deflator'!$B$22:$M$49,'Oversættelse af landenavne'!C7,FALSE),1)","v":1.0086631561066759}]
[null,null,null,{"$f":"'Baggrundsdata - BVT - deflator'!B25","v":"Bulgarien"},{"$f":"IF('Alle lande, valgt år'!$F$13=\"faste priser\",HLOOKUP('Alle lande, valgt år'!$F$12,'Baggrundsdata - BVT - deflator'!$B$22:$M$49,'Oversættelse af landenavne'!C8,FALSE),1)","v":1.0015215817116878}]
[null,null,null,{"$f":"'Baggrundsdata - BVT - deflator'!B26","v":"Tjekkiet"},{"$f":"IF('Alle lande, valgt år'!$F$13=\"faste priser\",HLOOKUP('Alle lande, valgt år'!$F$12,'Baggrundsdata - BVT - deflator'!$B$22:$M$49,'Oversættelse af landenavne'!C9,FALSE),1)","v":1.0168034715323888}]
[null,null,null,{"$f":"'Baggrundsdata - BVT - deflator'!B27","v":"Danmark"},{"$f":"IF('Alle lande, valgt år'!$F$13=\"faste priser\",HLOOKUP('Alle lande, valgt år'!$F$12,'Baggrundsdata - BVT - deflator'!$B$22:$M$49,'Oversættelse af landenavne'!C10,FALSE),1)","v":1.0125670541429797}]
[null,null,null,{"$f":"'Baggrundsdata - BVT - deflator'!B28","v":"Tyskland"},{"$f":"IF('Alle lande, valgt år'!$F$13=\"faste priser\",HLOOKUP('Alle lande, valgt år'!$F$12,'Baggrundsdata - BVT - deflator'!$B$22:$M$49,'Oversættelse af landenavne'!C11,FALSE),1)","v":1.0222291004248854}]
[null,null,null,{"$f":"'Baggrundsdata - BVT - deflator'!B29","v":"Estland"},{"$f":"IF('Alle lande, valgt år'!$F$13=\"faste priser\",HLOOKUP('Alle lande, valgt år'!$F$12,'Baggrundsdata - BVT - deflator'!$B$22:$M$49,'Oversættelse af landenavne'!C12,FALSE),1)","v":1.0144484313504027}]
[null,null,null,{"$f":"'Baggrundsdata - BVT - deflator'!B30","v":"Irland"},{"$f":"IF('Alle lande, valgt år'!$F$13=\"faste priser\",HLOOKUP('Alle lande, valgt år'!$F$12,'Baggrundsdata - BVT - deflator'!$B$22:$M$49,'Oversættelse af landenavne'!C13,FALSE),1)","v":1.0585386910906327}]
[null,null,null,{"$f":"'Baggrundsdata - BVT - deflator'!B31","v":"Grækenland"},{"$f":"IF('Alle lande, valgt år'!$F$13=\"faste priser\",HLOOKUP('Alle lande, valgt år'!$F$12,'Baggrundsdata - BVT - deflator'!$B$22:$M$49,'Oversættelse af landenavne'!C14,FALSE),1)","v":0.98663107269221806}]
[null,null,null,{"$f":"'Baggrundsdata - BVT - deflator'!B32","v":"Spanien"},{"$f":"IF('Alle lande, valgt år'!$F$13=\"faste priser\",HLOOKUP('Alle lande, valgt år'!$F$12,'Baggrundsdata - BVT - deflator'!$B$22:$M$49,'Oversættelse af landenavne'!C15,FALSE),1)","v":1.0026978689866319}]
[null,null,null,{"$f":"'Baggrundsdata - BVT - deflator'!B33","v":"Frankrig"},{"$f":"IF('Alle lande, valgt år'!$F$13=\"faste priser\",HLOOKUP('Alle lande, valgt år'!$F$12,'Baggrundsdata - BVT - deflator'!$B$22:$M$49,'Oversættelse af landenavne'!C16,FALSE),1)","v":1.0123549634722819}]
[null,null,null,{"$f":"'Baggrundsdata - BVT - deflator'!B34","v":"Kroatien"},{"$f":"IF('Alle lande, valgt år'!$F$13=\"faste priser\",HLOOKUP('Alle lande, valgt år'!$F$12,'Baggrundsdata - BVT - deflator'!$B$22:$M$49,'Oversættelse af landenavne'!C17,FALSE),1)","v":1.0004160451358235}]
[null,null,null,{"$f":"'Baggrundsdata - BVT - deflator'!B35","v":"Italien"},{"$f":"IF('Alle lande, valgt år'!$F$13=\"faste priser\",HLOOKUP('Alle lande, valgt år'!$F$12,'Baggrundsdata - BVT - deflator'!$B$22:$M$49,'Oversættelse af landenavne'!C18,FALSE),1)","v":1.0083918907227793}]
[null,null,null,{"$f":"'Baggrundsdata - BVT - deflator'!B36","v":"Letland"},{"$f":"IF('Alle lande, valgt år'!$F$13=\"faste priser\",HLOOKUP('Alle lande, valgt år'!$F$12,'Baggrundsdata - BVT - deflator'!$B$22:$M$49,'Oversættelse af landenavne'!C19,FALSE),1)","v":1.0066328180300792}]
[null,null,null,{"$f":"'Baggrundsdata - BVT - deflator'!B37","v":"Litaun"},{"$f":"IF('Alle lande, valgt år'!$F$13=\"faste priser\",HLOOKUP('Alle lande, valgt år'!$F$12,'Baggrundsdata - BVT - deflator'!$B$22:$M$49,'Oversættelse af landenavne'!C20,FALSE),1)","v":0.99778643607209383}]
[null,null,null,{"$f":"'Baggrundsdata - BVT - deflator'!B38","v":"luxembourg"},{"$f":"IF('Alle lande, valgt år'!$F$13=\"faste priser\",HLOOKUP('Alle lande, valgt år'!$F$12,'Baggrundsdata - BVT - deflator'!$B$22:$M$49,'Oversættelse af landenavne'!C21,FALSE),1)","v":1.0296186301272419}]
[null,null,null,{"$f":"'Baggrundsdata - BVT - deflator'!B39","v":"Ungarn"},{"$f":"IF('Alle lande, valgt år'!$F$13=\"faste priser\",HLOOKUP('Alle lande, valgt år'!$F$12,'Baggrundsdata - BVT - deflator'!$B$22:$M$49,'Oversættelse af landenavne'!C22,FALSE),1)","v":1.0079477145277769}]
[null,null,null,{"$f":"'Baggrundsdata - BVT - deflator'!B40","v":"Holland"},{"$f":"IF('Alle lande, valgt år'!$F$13=\"faste priser\",HLOOKUP('Alle lande, valgt år'!$F$12,'Baggrundsdata - BVT - deflator'!$B$22:$M$49,'Oversættelse af landenavne'!C23,FALSE),1)","v":1.0050767826981692}]
[null,null,null,{"$f":"'Baggrundsdata - BVT - deflator'!B41","v":"Østrig"},{"$f":"IF('Alle lande, valgt år'!$F$13=\"faste priser\",HLOOKUP('Alle lande, valgt år'!$F$12,'Baggrundsdata - BVT - deflator'!$B$22:$M$49,'Oversættelse af landenavne'!C24,FALSE),1)","v":1.0153895089390126}]
[null,null,null,{"$f":"'Baggrundsdata - BVT - deflator'!B42","v":"Polen"},{"$f":"IF('Alle lande, valgt år'!$F$13=\"faste priser\",HLOOKUP('Alle lande, valgt år'!$F$12,'Baggrundsdata - BVT - deflator'!$B$22:$M$49,'Oversættelse af landenavne'!C25,FALSE),1)","v":1.0065535023635581}]
[null,null,null,{"$f":"'Baggrundsdata - BVT - deflator'!B43","v":"Portugal"},{"$f":"IF('Alle lande, valgt år'!$F$13=\"faste priser\",HLOOKUP('Alle lande, valgt år'!$F$12,'Baggrundsdata - BVT - deflator'!$B$22:$M$49,'Oversættelse af landenavne'!C26,FALSE),1)","v":1.0173355663217498}]
[null,null,null,{"$f":"'Baggrundsdata - BVT - deflator'!B44","v":"Rumænien"},{"$f":"IF('Alle lande, valgt år'!$F$13=\"faste priser\",HLOOKUP('Alle lande, valgt år'!$F$12,'Baggrundsdata - BVT - deflator'!$B$22:$M$49,'Oversættelse af landenavne'!C27,FALSE),1)","v":1.024697269671716}]
[null,null,null,{"$f":"'Baggrundsdata - BVT - deflator'!B45","v":"Slovenien"},{"$f":"IF('Alle lande, valgt år'!$F$13=\"faste priser\",HLOOKUP('Alle lande, valgt år'!$F$12,'Baggrundsdata - BVT - deflator'!$B$22:$M$49,'Oversættelse af landenavne'!C28,FALSE),1)","v":1.0046617970188252}]
[null,null,null,{"$f":"'Baggrundsdata - BVT - deflator'!B46","v":"Slovakiet"},{"$f":"IF('Alle lande, valgt år'!$F$13=\"faste priser\",HLOOKUP('Alle lande, valgt år'!$F$12,'Baggrundsdata - BVT - deflator'!$B$22:$M$49,'Oversættelse af landenavne'!C29,FALSE),1)","v":0.9973662296415361}]
[null,null,null,{"$f":"'Baggrundsdata - BVT - deflator'!B47","v":"Finland"},{"$f":"IF('Alle lande, valgt år'!$F$13=\"faste priser\",HLOOKUP('Alle lande, valgt år'!$F$12,'Baggrundsdata - BVT - deflator'!$B$22:$M$49,'Oversættelse af landenavne'!C30,FALSE),1)","v":1.0034500964934638}]
[null,null,null,{"$f":"'Baggrundsdata - BVT - deflator'!B48","v":"Sverige"},{"$f":"IF('Alle lande, valgt år'!$F$13=\"faste priser\",HLOOKUP('Alle lande, valgt år'!$F$12,'Baggrundsdata - BVT - deflator'!$B$22:$M$49,'Oversættelse af landenavne'!C31,FALSE),1)","v":0.99270390544986542}]
[null,null,null,{"$f":"'Baggrundsdata - BVT - deflator'!B49","v":"UK"},{"$f":"IF('Alle lande, valgt år'!$F$13=\"faste priser\",HLOOKUP('Alle lande, valgt år'!$F$12,'Baggrundsdata - BVT - deflator'!$B$22:$M$49,'Oversættelse af landenavne'!C32,FALSE),1)","v":1.114010339087006}]

{"sheet":"Baggrundsdata - BVT - deflator","index":4,"n_rows":101,"n_cols":30,"rows_kept":101,"cut":false,"hidden":false,"merged":[[5,1,5,8],[6,1,6,8],[8,1,8,8],[10,1,10,8]]}
[null,"Samlet BVT-deflator for forskellige basisår"]
[null,"NAVN PÅ ARK:","Baggrundsdata - BVT deflator"]
[null,"Data hentes fra:","Kun baggrundsdata længere nede på BVT arket benyttes"]
[]
[null,"Sådan bruges arket:"]
[null,{"$f":"\"Arket 'Baggrundsdata -BVT deflator' viser deflatoren for det enkelte land i det enkte år for \"&C15&\" til \"&I15&\".\nBasisået retter sig efter de valg der er truffuet i akrene '\"&'Udvalgte lande, 10 års oversigt'!E1&\"' og ' \"&'Alle lande, valgt år'!F1&\"'\"","v":"Arket 'Baggrundsdata -BVT deflator' viser deflatoren for det enkelte land i det enkte år for  til .\nBasisået retter sig efter de valg der er truffuet i akrene 'Udvalgte lande, 10 års oversigt' og ' Alle lande, valgt år'"}]
[null,"Nederst i arket er der en baggrundsdata tabel men rådata for eurostat. De øverste tabeller er bearbejdet og fungerer som baggrundsdata for deflatortabellerne (de røde) i ovennævnte ark.\nDer træffes ingen valg i arket, det bruges som baggrundsdata og til at kontrollere at man har trukket korrekt data."]
[]
[null,"BVT-indekset er hentet for alle erhverv samlet (Total - all NACE activities)"]
[null,"Bemærk:"]
[null,"Indtil nu fungerer BVT-deflatoren for et interval på 7 år. Dvs. at man kan hente ny data hvis man ønsker 7 andre år og indsætte dem i baggrundsdata. Deflatoren vil automatisk opdatere. Ønsker man et længere tidsinterval må man udvide formlen for deflator tabellen."]
[]
[]
[]
[]
[]
[null,{"$f":"\"Baggrundsdata til tabel B i arket '\"&'Baggrundstabeller for alle land'!E1&\"'\"","v":"Baggrundsdata til tabel B i arket 'Baggrundstabeller for alle lande, valgt år'"},null,null,null,null,null,null,null,null,null,null,null,null,null,null,{"$f":"\"Baggrundsdata til tabel B i arket '\"&'Udvalgte lande, 10 års oversigt'!E1&\"'\"","v":"Baggrundsdata til tabel B i arket 'Udvalgte lande, 10 års oversigt'"}]
[null,"Baggrundstal til tabel B: BVT-deflator for forskellige basisår",null,null,null,null,null,null,null,null,null,null,null,null,null,null,"Baggrundstal til tabel B: BVT-deflator for forskellige basisår"]
[]
[null,"Vælg Basisår",{"$f":"'Alle lande, valgt år'!F14","v":2015},null,null,null,null,null,null,null,null,null,null,null,null,null,"Valgt Basisår",{"$f":"'Udvalgte lande, 10 års oversigt'!$E$13","v":2015}]
[]
[null,"Dansk",{"$f":"'Baggrundsdata - BVT - deflator'!B71","v":2007},{"$f":"C22+1","v":2008},2009,2010,2011,2012,2013,{"$f":"I22+1","v":2014},{"$f":"J22+1","v":2015},{"$f":"K22+1","v":2016},{"$f":"L22+1","v":2017},null,"Tjek: Er BVT trukket for de korrekte lande (jf.  level 1)",null,"Dansk",{"$f":"'Baggrundsdata - BVT - deflator'!C22","v":2007},{"$f":"'Baggrundsdata - BVT - deflator'!D22","v":2008},{"$f":"'Baggrundsdata - BVT - deflator'!E22","v":2009},{"$f":"'Baggrundsdata - BVT - deflator'!F22","v":2010},{"$f":"'Baggrundsdata - BVT - deflator'!G22","v":2011},{"$f":"'Baggrundsdata - BVT - deflator'!H22","v":2012},{"$f":"'Baggrundsdata - BVT - deflator'!I22","v":2013},{"$f":"'Baggrundsdata - BVT - deflator'!J22","v":2014},{"$f":"'Baggrundsdata - BVT - deflator'!K22","v":2015},{"$f":"'Baggrundsdata - BVT - deflator'!L22","v":2016},{"$f":"'Baggrundsdata - BVT - deflator'!M22","v":2017},null,"Tjek: Er BVT trukket for de korrekte lande (jf liste på forsiden)"]
[null,{"$f":"IF(A72=\"European Union (28 countries)\",\"EU-28\",IF(A72=\"European Union (27 countries)\",\"EU-27\",IF(A72=\"Euro area (EA11-2000, EA12-2006, EA13-2007, EA15-2008, EA16-2010, EA17-2013, EA18)\",\"EU-området\",IF(A72=\"Belgium\",\"Belgien\",IF(A72=\"Bulgaria\",\"Bulgarien\",IF(A72=\"czech republic\",\"Tjekkiet\",IF(A72=\"Denmark\",\"Danmark\",IF(A72=\"Germany (until 1990 former territory of the FRG)\",\"Tyskland\",IF(A72=\"Estonia\",\"Estland\",IF(A72=\"Ireland\",\"Irland\",IF(A72=\"Greece\",\"Grækenland\",IF(A72=\"Spain\",\"Spanien\",IF(A72=\"france\",\"Frankrig\",IF(A72=\"Croatia\",\"Kroatien\",IF(A72=\"italy\",\"Italien\",IF(A72=\"Cyprus\",\"Cypern\",IF(A72=\"Latvia\",\"Letland\",IF(A72=\"Lithuania\",\"Litaun\",IF(A72=\"Luxembourg\",\"luxembourg\",IF(A72=\"Hungary\",\"Ungarn\",IF(A72=\"Malta\",\"Malta\",IF(A72=\"Netherlands\",\"Holland\",IF(A72=\"Austria\",\"Østrig\",IF(A72=\"Poland\",\"Polen\",IF(A72=\"portugal\",\"Portugal\",IF(A72=\"Romania\",\"Rumænien\",IF(A72=\"Slovenia\",\"Slovenien\",IF(A72=\"slovakia\",\"Slovakiet\",IF(A72=\"Finland\",\"Finland\",IF(A72=\"sweden\",\"Sverige\",IF(A72=\"United kingdom\",\"UK\",IF(A72=\"liechtenstein\",\"Liechtenstein\",IF(A72=\"Norway\",\"Norge\",IF(A72=\"Montenegro\",\"Montenegro\",IF(A72=\"Former Yugoslav Republic of Macedonia, the\",\"Republikken Makedonien\",IF(A72=\"Serbia\",\"Serbien\",IF(A72=\"Turkey\",\"Tyrkiet\",IF(A72=\"Bosnia and Herzegovina\",\"Bosnien-Hercegovina\",IF(A72=\"Kosovo (under United Nations Security Council Resolution 1244/99)\",\"Kosovo\",IF(A72=\"New Country\",\"Nyt land\",0))))))))))))))))))))))))))))))))))))))))","v":"EU-28"},{"$f":"IFERROR('Baggrundsdata - BVT - deflator'!B72/IF($M$22=$C$20,$L72,IF($L$22=$C$20,$K72,IF($K$22=$C$20,$J72,IF($J$22=$C$20,$I72,IF($I$22=$C$20,'Baggrundsdata - BVT - deflator'!$H72,IF($H$22=$C$20,'Baggrundsdata - BVT - deflator'!$G72,IF($C$20=$G$22,'Baggrundsdata - BVT - deflator'!$F72,IF($F$22=$C$20,'Baggrundsdata - BVT - deflator'!$E72,IF($E$22=$C$20,'Baggrundsdata - BVT - deflator'!$D72,IF($D$22=$C$20,'Baggrundsdata - BVT - deflator'!$C72,IF('Baggrundsdata - BVT - deflator'!$C$22='Baggrundsdata - BVT - deflator'!$C$20,'Baggrundsdata - BVT - deflator'!$B72,\"*\"))))))))))),\"*\")","v":0.91172320942799445},{"$f":"IFERROR('Baggrundsdata - BVT - deflator'!C72/IF($M$22=$C$20,$L72,IF($L$22=$C$20,$K72,IF($K$22=$C$20,$J72,IF($J$22=$C$20,$I72,IF($I$22=$C$20,'Baggrundsdata - BVT - deflator'!$H72,IF($H$22=$C$20,'Baggrundsdata - BVT - deflator'!$G72,IF($C$20=$G$22,'Baggrundsdata - BVT - deflator'!$F72,IF($F$22=$C$20,'Baggrundsdata - BVT - deflator'!$E72,IF($E$22=$C$20,'Baggrundsdata - BVT - deflator'!$D72,IF($D$22=$C$20,'Baggrundsdata - BVT - deflator'!$C72,IF('Baggrundsdata - BVT - deflator'!$C$22='Baggrundsdata - BVT - deflator'!$C$20,'Baggrundsdata - BVT - deflator'!$B72,\"*\"))))))))))),\"*\")","v":0.91473861844471294},{"$f":"IFERROR('Baggrundsdata - BVT - deflator'!D72/IF($M$22=$C$20,$L72,IF($L$22=$C$20,$K72,IF($K$22=$C$20,$J72,IF($J$22=$C$20,$I72,IF($I$22=$C$20,'Baggrundsdata - BVT - deflator'!$H72,IF($H$22=$C$20,'Baggrundsdata - BVT - deflator'!$G72,IF($C$20=$G$22,'Baggrundsdata - BVT - deflator'!$F72,IF($F$22=$C$20,'Baggrundsdata - BVT - deflator'!$E72,IF($E$22=$C$20,'Baggrundsdata - BVT - deflator'!$D72,IF($D$22=$C$20,'Baggrundsdata - BVT - deflator'!$C72,IF('Baggrundsdata - BVT - deflator'!$C$22='Baggrundsdata - BVT - deflator'!$C$20,'Baggrundsdata - BVT - deflator'!$B72,\"*\"))))))))))),\"*\")","v":0.90583993434338783},{"$f":"IFERROR('Baggrundsdata - BVT - deflator'!E72/IF($M$22=$C$20,$L72,IF($L$22=$C$20,$K72,IF($K$22=$C$20,$J72,IF($J$22=$C$20,$I72,IF($I$22=$C$20,'Baggrundsdata - BVT - deflator'!$H72,IF($H$22=$C$20,'Baggrundsdata - BVT - deflator'!$G72,IF($C$20=$G$22,'Baggrundsdata - BVT - deflator'!$F72,IF($F$22=$C$20,'Baggrundsdata - BVT - deflator'!$E72,IF($E$22=$C$20,'Baggrundsdata - BVT - deflator'!$D72,IF($D$22=$C$20,'Baggrundsdata - BVT - deflator'!$C72,IF('Baggrundsdata - BVT - deflator'!$C$22='Baggrundsdata - BVT - deflator'!$C$20,'Baggrundsdata - BVT - deflator'!$B72,\"*\"))))))))))),\"*\")","v":0.92214343018913159},{"$f":"IFERROR('Baggrundsdata - BVT - deflator'!F72/IF($M$22=$C$20,$L72,IF($L$22=$C$20,$K72,IF($K$22=$C$20,$J72,IF($J$22=$C$20,$I72,IF($I$22=$C$20,'Baggrundsdata - BVT - deflator'!$H72,IF($H$22=$C$20,'Baggrundsdata - BVT - deflator'!$G72,IF($C$20=$G$22,'Baggrundsdata - BVT - deflator'!$F72,IF($F$22=$C$20,'Baggrundsdata - BVT - deflator'!$E72,IF($E$22=$C$20,'Baggrundsdata - BVT - deflator'!$D72,IF($D$22=$C$20,'Baggrundsdata - BVT - deflator'!$C72,IF('Baggrundsdata - BVT - deflator'!$C$22='Baggrundsdata - BVT - deflator'!$C$20,'Baggrundsdata - BVT - deflator'!$B72,\"*\"))))))))))),\"*\")","v":0.93099600711894726},{"$f":"IFERROR('Baggrundsdata - BVT - deflator'!G72/IF($M$22=$C$20,$L72,IF($L$22=$C$20,$K72,IF($K$22=$C$20,$J72,IF($J$22=$C$20,$I72,IF($I$22=$C$20,'Baggrundsdata - BVT - deflator'!$H72,IF($H$22=$C$20,'Baggrundsdata - BVT - deflator'!$G72,IF($C$20=$G$22,'Baggrundsdata - BVT - deflator'!$F72,IF($F$22=$C$20,'Baggrundsdata - BVT - deflator'!$E72,IF($E$22=$C$20,'Baggrundsdata - BVT - deflator'!$D72,IF($D$22=$C$20,'Baggrundsdata - BVT - deflator'!$C72,IF('Baggrundsdata - BVT - deflator'!$C$22='Baggrundsdata - BVT - deflator'!$C$20,'Baggrundsdata - BVT - deflator'!$B72,\"*\"))))))))))),\"*\")","v":0.95230674179061814},{"$f":"IFERROR('Baggrundsdata - BVT - deflator'!H72/IF($M$22=$C$20,$L72,IF($L$22=$C$20,$K72,IF($K$22=$C$20,$J72,IF($J$22=$C$20,$I72,IF($I$22=$C$20,'Baggrundsdata - BVT - deflator'!$H72,IF($H$22=$C$20,'Baggrundsdata - BVT - deflator'!$G72,IF($C$20=$G$22,'Baggrundsdata - BVT - deflator'!$F72,IF($F$22=$C$20,'Baggrundsdata - BVT - deflator'!$E72,IF($E$22=$C$20,'Baggrundsdata - BVT - deflator'!$D72,IF($D$22=$C$20,'Baggrundsdata - BVT - deflator'!$C72,IF('Baggrundsdata - BVT - deflator'!$C$22='Baggrundsdata - BVT - deflator'!$C$20,'Baggrundsdata - BVT - deflator'!$B72,\"*\"))))))))))),\"*\")","v":0.95744308069677164},{"$f":"IFERROR('Baggrundsdata - BVT - deflator'!I72/IF($M$22=$C$20,$L72,IF($L$22=$C$20,$K72,IF($K$22=$C$20,$J72,IF($J$22=$C$20,$I72,IF($I$22=$C$20,'Baggrundsdata - BVT - deflator'!$H72,IF($H$22=$C$20,'Baggrundsdata - BVT - deflator'!$G72,IF($C$20=$G$22,'Baggrundsdata - BVT - deflator'!$F72,IF($F$22=$C$20,'Baggrundsdata - BVT - deflator'!$E72,IF($E$22=$C$20,'Baggrundsdata - BVT - deflator'!$D72,IF($D$22=$C$20,'Baggrundsdata - BVT - deflator'!$C72,IF('Baggrundsdata - BVT - deflator'!$C$22='Baggrundsdata - BVT - deflator'!$C$20,'Baggrundsdata - BVT - deflator'!$B72,\"*\"))))))))))),\"*\")","v":0.97247401860885441},{"$f":"IFERROR('Baggrundsdata - BVT - deflator'!J72/IF($M$22=$C$20,$L72,IF($L$22=$C$20,$K72,IF($K$22=$C$20,$J72,IF($J$22=$C$20,$I72,IF($I$22=$C$20,'Baggrundsdata - BVT - deflator'!$H72,IF($H$22=$C$20,'Baggrundsdata - BVT - deflator'!$G72,IF($C$20=$G$22,'Baggrundsdata - BVT - deflator'!$F72,IF($F$22=$C$20,'Baggrundsdata - BVT - deflator'!$E72,IF($E$22=$C$20,'Baggrundsdata - BVT - deflator'!$D72,IF($D$22=$C$20,'Baggrundsdata - BVT - deflator'!$C72,IF('Baggrundsdata - BVT - deflator'!$C$22='Baggrundsdata - BVT - deflator'!$C$20,'Baggrundsdata - BVT - deflator'!$B72,\"*\"))))))))))),\"*\")","v":1},{"$f":"IFERROR('Baggrundsdata - BVT - deflator'!K72/IF($M$22=$C$20,$L72,IF($L$22=$C$20,$K72,IF($K$22=$C$20,$J72,IF($J$22=$C$20,$I72,IF($I$22=$C$20,'Baggrundsdata - BVT - deflator'!$H72,IF($H$22=$C$20,'Baggrundsdata - BVT - deflator'!$G72,IF($C$20=$G$22,'Baggrundsdata - BVT - deflator'!$F72,IF($F$22=$C$20,'Baggrundsdata - BVT - deflator'!$E72,IF($E$22=$C$20,'Baggrundsdata - BVT - deflator'!$D72,IF($D$22=$C$20,'Baggrundsdata - BVT - deflator'!$C72,IF('Baggrundsdata - BVT - deflator'!$C$22='Baggrundsdata - BVT - deflator'!$C$20,'Baggrundsdata - BVT - deflator'!$B72,\"*\"))))))))))),\"*\")","v":1.0283051072464868},{"$f":"IFERROR('Baggrundsdata - BVT - deflator'!L72/IF($M$22=$C$20,$L72,IF($L$22=$C$20,$K72,IF($K$22=$C$20,$J72,IF($J$22=$C$20,$I72,IF($I$22=$C$20,'Baggrundsdata - BVT - deflator'!$H72,IF($H$22=$C$20,'Baggrundsdata - BVT - deflator'!$G72,IF($C$20=$G$22,'Baggrundsdata - BVT - deflator'!$F72,IF($F$22=$C$20,'Baggrundsdata - BVT - deflator'!$E72,IF($E$22=$C$20,'Baggrundsdata - BVT - deflator'!$D72,IF($D$22=$C$20,'Baggrundsdata - BVT - deflator'!$C72,IF('Baggrundsdata - BVT - deflator'!$C$22='Baggrundsdata - BVT - deflator'!$C$20,'Baggrundsdata - BVT - deflator'!$B72,\"*\"))))))))))),\"*\")","v":0},null,{"$f":"IF(A72='Level 1'!A52,\"S\",\"falsk\")","v":"S"},null,"EU-28",{"$f":"IFERROR('Baggrundsdata - BVT - deflator'!B72/IF($AB$22=$R$20,$L72,IF($AA$22=$R$20,$K72,IF($Z$22=$R$20,$J72,IF($Y$22=$R$20,$I72,IF($X$22=$R$20,'Baggrundsdata - BVT - deflator'!$H72,IF($W$22=$R$20,'Baggrundsdata - BVT - deflator'!$G72,IF($R$20=$V$22,'Baggrundsdata - BVT - deflator'!$F72,IF($U$22=$R$20,'Baggrundsdata - BVT - deflator'!$E72,IF($T$22=$R$20,'Baggrundsdata - BVT - deflator'!$D72,IF($S$22=$R$20,'Baggrundsdata - BVT - deflator'!$C72,IF($R$22=$R$20,'Baggrundsdata - BVT - deflator'!$B72,\"*\"))))))))))),\"*\")","v":0.91172320942799445},{"$f":"IFERROR('Baggrundsdata - BVT - deflator'!C72/IF($AB$22=$R$20,$L72,IF($AA$22=$R$20,$K72,IF($Z$22=$R$20,$J72,IF($Y$22=$R$20,$I72,IF($X$22=$R$20,'Baggrundsdata - BVT - deflator'!$H72,IF($W$22=$R$20,'Baggrundsdata - BVT - deflator'!$G72,IF($R$20=$V$22,'Baggrundsdata - BVT - deflator'!$F72,IF($U$22=$R$20,'Baggrundsdata - BVT - deflator'!$E72,IF($T$22=$R$20,'Baggrundsdata - BVT - deflator'!$D72,IF($S$22=$R$20,'Baggrundsdata - BVT - deflator'!$C72,IF($R$22=$R$20,'Baggrundsdata - BVT - deflator'!$B72,\"*\"))))))))))),\"*\")","v":0.91473861844471294},{"$f":"IFERROR('Baggrundsdata - BVT - deflator'!D72/IF($AB$22=$R$20,$L72,IF($AA$22=$R$20,$K72,IF($Z$22=$R$20,$J72,IF($Y$22=$R$20,$I72,IF($X$22=$R$20,'Baggrundsdata - BVT - deflator'!$H72,IF($W$22=$R$20,'Baggrundsdata - BVT - deflator'!$G72,IF($R$20=$V$22,'Baggrundsdata - BVT - deflator'!$F72,IF($U$22=$R$20,'Baggrundsdata - BVT - deflator'!$E72,IF($T$22=$R$20,'Baggrundsdata - BVT - deflator'!$D72,IF($S$22=$R$20,'Baggrundsdata - BVT - deflator'!$C72,IF($R$22=$R$20,'Baggrundsdata - BVT - deflator'!$B72,\"*\"))))))))))),\"*\")","v":0.90583993434338783},{"$f":"IFERROR('Baggrundsdata - BVT - deflator'!E72/IF($AB$22=$R$20,$L72,IF($AA$22=$R$20,$K72,IF($Z$22=$R$20,$J72,IF($Y$22=$R$20,$I72,IF($X$22=$R$20,'Baggrundsdata - BVT - deflator'!$H72,IF($W$22=$R$20,'Baggrundsdata - BVT - deflator'!$G72,IF($R$20=$V$22,'Baggrundsdata - BVT - deflator'!$F72,IF($U$22=$R$20,'Baggrundsdata - BVT - deflator'!$E72,IF($T$22=$R$20,'Baggrundsdata - BVT - deflator'!$D72,IF($S$22=$R$20,'Baggrundsdata - BVT - deflator'!$C72,IF($R$22=$R$20,'Baggrundsdata - BVT - deflator'!$B72,\"*\"))))))))))),\"*\")","v":0.92214343018913159},{"$f":"IFERROR('Baggrundsdata - BVT - deflator'!F72/IF($AB$22=$R$20,$L72,IF($AA$22=$R$20,$K72,IF($Z$22=$R$20,$J72,IF($Y$22=$R$20,$I72,IF($X$22=$R$20,'Baggrundsdata - BVT - deflator'!$H72,IF($W$22=$R$20,'Baggrundsdata - BVT - deflator'!$G72,IF($R$20=$V$22,'Baggrundsdata - BVT - deflator'!$F72,IF($U$22=$R$20,'Baggrundsdata - BVT - deflator'!$E72,IF($T$22=$R$20,'Baggrundsdata - BVT - deflator'!$D72,IF($S$22=$R$20,'Baggrundsdata - BVT - deflator'!$C72,IF($R$22=$R$20,'Baggrundsdata - BVT - deflator'!$B72,\"*\"))))))))))),\"*\")","v":0.93099600711894726},{"$f":"IFERROR('Baggrundsdata - BVT - deflator'!G72/IF($AB$22=$R$20,$L72,IF($AA$22=$R$20,$K72,IF($Z$22=$R$20,$J72,IF($Y$22=$R$20,$I72,IF($X$22=$R$20,'Baggrundsdata - BVT - deflator'!$H72,IF($W$22=$R$20,'Baggrundsdata - BVT - deflator'!$G72,IF($R$20=$V$22,'Baggrundsdata - BVT - deflator'!$F72,IF($U$22=$R$20,'Baggrundsdata - BVT - deflator'!$E72,IF($T$22=$R$20,'Baggrundsdata - BVT - deflator'!$D72,IF($S$22=$R$20,'Baggrundsdata - BVT - deflator'!$C72,IF($R$22=$R$20,'Baggrundsdata - BVT - deflator'!$B72,\"*\"))))))))))),\"*\")","v":0.95230674179061814},{"$f":"IFERROR('Baggrundsdata - BVT - deflator'!H72/IF($AB$22=$R$20,$L72,IF($AA$22=$R$20,$K72,IF($Z$22=$R$20,$J72,IF($Y$22=$R$20,$I72,IF($X$22=$R$20,'Baggrundsdata - BVT - deflator'!$H72,IF($W$22=$R$20,'Baggrundsdata - BVT - deflator'!$G72,IF($R$20=$V$22,'Baggrundsdata - BVT - deflator'!$F72,IF($U$22=$R$20,'Baggrundsdata - BVT - deflator'!$E72,IF($T$22=$R$20,'Baggrundsdata - BVT - deflator'!$D72,IF($S$22=$R$20,'Baggrundsdata - BVT - deflator'!$C72,IF($R$22=$R$20,'Baggrundsdata - BVT - deflator'!$B72,\"*\"))))))))))),\"*\")","v":0.95744308069677164},{"$f":"IFERROR('Baggrundsdata - BVT - deflator'!I72/IF($AB$22=$R$20,$L72,IF($AA$22=$R$20,$K72,IF($Z$22=$R$20,$J72,IF($Y$22=$R$20,$I72,IF($X$22=$R$20,'Baggrundsdata - BVT - deflator'!$H72,IF($W$22=$R$20,'Baggrundsdata - BVT - deflator'!$G72,IF($R$20=$V$22,'Baggrundsdata - BVT - deflator'!$F72,IF($U$22=$R$20,'Baggrundsdata - BVT - deflator'!$E72,IF($T$22=$R$20,'Baggrundsdata - BVT - deflator'!$D72,IF($S$22=$R$20,'Baggrundsdata - BVT - deflator'!$C72,IF($R$22=$R$20,'Baggrundsdata - BVT - deflator'!$B72,\"*\"))))))))))),\"*\")","v":0.97247401860885441},{"$f":"IFERROR('Baggrundsdata - BVT - deflator'!J72/IF($AB$22=$R$20,$L72,IF($AA$22=$R$20,$K72,IF($Z$22=$R$20,$J72,IF($Y$22=$R$20,$I72,IF($X$22=$R$20,'Baggrundsdata - BVT - deflator'!$H72,IF($W$22=$R$20,'Baggrundsdata - BVT - deflator'!$G72,IF($R$20=$V$22,'Baggrundsdata - BVT - deflator'!$F72,IF($U$22=$R$20,'Baggrundsdata - BVT - deflator'!$E72,IF($T$22=$R$20,'Baggrundsdata - BVT - deflator'!$D72,IF($S$22=$R$20,'Baggrundsdata - BVT - deflator'!$C72,IF($R$22=$R$20,'Baggrundsdata - BVT - deflator'!$B72,\"*\"))))))))))),\"*\")","v":1},{"$f":"IFERROR('Baggrundsdata - BVT - deflator'!K72/IF($AB$22=$R$20,$L72,IF($AA$22=$R$20,$K72,IF($Z$22=$R$20,$J72,IF($Y$22=$R$20,$I72,IF($X$22=$R$20,'Baggrundsdata - BVT - deflator'!$H72,IF($W$22=$R$20,'Baggrundsdata - BVT - deflator'!$G72,IF($R$20=$V$22,'Baggrundsdata - BVT - deflator'!$F72,IF($U$22=$R$20,'Baggrundsdata - BVT - deflator'!$E72,IF($T$22=$R$20,'Baggrundsdata - BVT - deflator'!$D72,IF($S$22=$R$20,'Baggrundsdata - BVT - deflator'!$C72,IF($R$22=$R$20,'Baggrundsdata - BVT - deflator'!$B72,\"*\"))))))))))),\"*\")","v":1.0283051072464868},{"$f":"IFERROR('Baggrundsdata - BVT - deflator'!L72/IF($AB$22=$R$20,$L72,IF($AA$22=$R$20,$K72,IF($Z$22=$R$20,$J72,IF($Y$22=$R$20,$I72,IF($X$22=$R$20,'Baggrundsdata - BVT - deflator'!$H72,IF($W$22=$R$20,'Baggrundsdata - BVT - deflator'!$G72,IF($R$20=$V$22,'Baggrundsdata - BVT - deflator'!$F72,IF($U$22=$R$20,'Baggrundsdata - BVT - deflator'!$E72,IF($T$22=$R$20,'Baggrundsdata - BVT - deflator'!$D72,IF($S$22=$R$20,'Baggrundsdata - BVT - deflator'!$C72,IF($R$22=$R$20,'Baggrundsdata - BVT - deflator'!$B72,\"*\"))))))))))),\"*\")","v":0},null,{"$f":"IF(Q23=Forside!B39,\"S\",\"falsk\")","v":"S"}]
[null,{"$f":"IF(A73=\"European Union (28 countries)\",\"EU-28\",IF(A73=\"European Union (27 countries)\",\"EU-27\",IF(A73=\"Euro area (EA11-2000, EA12-2006, EA13-2007, EA15-2008, EA16-2010, EA17-2013, EA18)\",\"EU-området\",IF(A73=\"Belgium\",\"Belgien\",IF(A73=\"Bulgaria\",\"Bulgarien\",IF(A73=\"czech republic\",\"Tjekkiet\",IF(A73=\"Denmark\",\"Danmark\",IF(A73=\"Germany (until 1990 former territory of the FRG)\",\"Tyskland\",IF(A73=\"Estonia\",\"Estland\",IF(A73=\"Ireland\",\"Irland\",IF(A73=\"Greece\",\"Grækenland\",IF(A73=\"Spain\",\"Spanien\",IF(A73=\"france\",\"Frankrig\",IF(A73=\"Croatia\",\"Kroatien\",IF(A73=\"italy\",\"Italien\",IF(A73=\"Cyprus\",\"Cypern\",IF(A73=\"Latvia\",\"Letland\",IF(A73=\"Lithuania\",\"Litaun\",IF(A73=\"Luxembourg\",\"luxembourg\",IF(A73=\"Hungary\",\"Ungarn\",IF(A73=\"Malta\",\"Malta\",IF(A73=\"Netherlands\",\"Holland\",IF(A73=\"Austria\",\"Østrig\",IF(A73=\"Poland\",\"Polen\",IF(A73=\"portugal\",\"Portugal\",IF(A73=\"Romania\",\"Rumænien\",IF(A73=\"Slovenia\",\"Slovenien\",IF(A73=\"slovakia\",\"Slovakiet\",IF(A73=\"Finland\",\"Finland\",IF(A73=\"sweden\",\"Sverige\",IF(A73=\"United kingdom\",\"UK\",IF(A73=\"liechtenstein\",\"Liechtenstein\",IF(A73=\"Norway\",\"Norge\",IF(A73=\"Montenegro\",\"Montenegro\",IF(A73=\"Former Yugoslav Republic of Macedonia, the\",\"Republikken Makedonien\",IF(A73=\"Serbia\",\"Serbien\",IF(A73=\"Turkey\",\"Tyrkiet\",IF(A73=\"Bosnia and Herzegovina\",\"Bosnien-Hercegovina\",IF(A73=\"Kosovo (under United Nations Security Council Resolution 1244/99)\",\"Kosovo\",IF(A73=\"New Country\",\"Nyt land\",0))))))))))))))))))))))))))))))))))))))))","v":"Belgien"},{"$f":"IFERROR('Baggrundsdata - BVT - deflator'!B73/IF($M$22=$C$20,$L73,IF($L$22=$C$20,$K73,IF($K$22=$C$20,$J73,IF($J$22=$C$20,$I73,IF($I$22=$C$20,'Baggrundsdata - BVT - deflator'!$H73,IF($H$22=$C$20,'Baggrundsdata - BVT - deflator'!$G73,IF($C$20=$G$22,'Baggrundsdata - BVT - deflator'!$F73,IF($F$22=$C$20,'Baggrundsdata - BVT - deflator'!$E73,IF($E$22=$C$20,'Baggrundsdata - BVT - deflator'!$D73,IF($D$22=$C$20,'Baggrundsdata - BVT - deflator'!$C73,IF('Baggrundsdata - BVT - deflator'!$C$22='Baggrundsdata - BVT - deflator'!$C$20,'Baggrundsdata - BVT - deflator'!$B73,\"*\"))))))))))),\"*\")","v":0.8948579768721231},{"$f":"IFERROR('Baggrundsdata - BVT - deflator'!C73/IF($M$22=$C$20,$L73,IF($L$22=$C$20,$K73,IF($K$22=$C$20,$J73,IF($J$22=$C$20,$I73,IF($I$22=$C$20,'Baggrundsdata - BVT - deflator'!$H73,IF($H$22=$C$20,'Baggrundsdata - BVT - deflator'!$G73,IF($C$20=$G$22,'Baggrundsdata - BVT - deflator'!$F73,IF($F$22=$C$20,'Baggrundsdata - BVT - deflator'!$E73,IF($E$22=$C$20,'Baggrundsdata - BVT - deflator'!$D73,IF($D$22=$C$20,'Baggrundsdata - BVT - deflator'!$C73,IF('Baggrundsdata - BVT - deflator'!$C$22='Baggrundsdata - BVT - deflator'!$C$20,'Baggrundsdata - BVT - deflator'!$B73,\"*\"))))))))))),\"*\")","v":0.90979940870476395},{"$f":"IFERROR('Baggrundsdata - BVT - deflator'!D73/IF($M$22=$C$20,$L73,IF($L$22=$C$20,$K73,IF($K$22=$C$20,$J73,IF($J$22=$C$20,$I73,IF($I$22=$C$20,'Baggrundsdata - BVT - deflator'!$H73,IF($H$22=$C$20,'Baggrundsdata - BVT - deflator'!$G73,IF($C$20=$G$22,'Baggrundsdata - BVT - deflator'!$F73,IF($F$22=$C$20,'Baggrundsdata - BVT - deflator'!$E73,IF($E$22=$C$20,'Baggrundsdata - BVT - deflator'!$D73,IF($D$22=$C$20,'Baggrundsdata - BVT - deflator'!$C73,IF('Baggrundsdata - BVT - deflator'!$C$22='Baggrundsdata - BVT - deflator'!$C$20,'Baggrundsdata - BVT - deflator'!$B73,\"*\"))))))))))),\"*\")","v":0.91814490475655852},{"$f":"IFERROR('Baggrundsdata - BVT - deflator'!E73/IF($M$22=$C$20,$L73,IF($L$22=$C$20,$K73,IF($K$22=$C$20,$J73,IF($J$22=$C$20,$I73,IF($I$22=$C$20,'Baggrundsdata - BVT - deflator'!$H73,IF($H$22=$C$20,'Baggrundsdata - BVT - deflator'!$G73,IF($C$20=$G$22,'Baggrundsdata - BVT - deflator'!$F73,IF($F$22=$C$20,'Baggrundsdata - BVT - deflator'!$E73,IF($E$22=$C$20,'Baggrundsdata - BVT - deflator'!$D73,IF($D$22=$C$20,'Baggrundsdata - BVT - deflator'!$C73,IF('Baggrundsdata - BVT - deflator'!$C$22='Baggrundsdata - BVT - deflator'!$C$20,'Baggrundsdata - BVT - deflator'!$B73,\"*\"))))))))))),\"*\")","v":0.935593727779649},{"$f":"IFERROR('Baggrundsdata - BVT - deflator'!F73/IF($M$22=$C$20,$L73,IF($L$22=$C$20,$K73,IF($K$22=$C$20,$J73,IF($J$22=$C$20,$I73,IF($I$22=$C$20,'Baggrundsdata - BVT - deflator'!$H73,IF($H$22=$C$20,'Baggrundsdata - BVT - deflator'!$G73,IF($C$20=$G$22,'Baggrundsdata - BVT - deflator'!$F73,IF($F$22=$C$20,'Baggrundsdata - BVT - deflator'!$E73,IF($E$22=$C$20,'Baggrundsdata - BVT - deflator'!$D73,IF($D$22=$C$20,'Baggrundsdata - BVT - deflator'!$C73,IF('Baggrundsdata - BVT - deflator'!$C$22='Baggrundsdata - BVT - deflator'!$C$20,'Baggrundsdata - BVT - deflator'!$B73,\"*\"))))))))))),\"*\")","v":0.95273380487257209},{"$f":"IFERROR('Baggrundsdata - BVT - deflator'!G73/IF($M$22=$C$20,$L73,IF($L$22=$C$20,$K73,IF($K$22=$C$20,$J73,IF($J$22=$C$20,$I73,IF($I$22=$C$20,'Baggrundsdata - BVT - deflator'!$H73,IF($H$22=$C$20,'Baggrundsdata - BVT - deflator'!$G73,IF($C$20=$G$22,'Baggrundsdata - BVT - deflator'!$F73,IF($F$22=$C$20,'Baggrundsdata - BVT - deflator'!$E73,IF($E$22=$C$20,'Baggrundsdata - BVT - deflator'!$D73,IF($D$22=$C$20,'Baggrundsdata - BVT - deflator'!$C73,IF('Baggrundsdata - BVT - deflator'!$C$22='Baggrundsdata - BVT - deflator'!$C$20,'Baggrundsdata - BVT - deflator'!$B73,\"*\"))))))))))),\"*\")","v":0.97131469630627598},{"$f":"IFERROR('Baggrundsdata - BVT - deflator'!H73/IF($M$22=$C$20,$L73,IF($L$22=$C$20,$K73,IF($K$22=$C$20,$J73,IF($J$22=$C$20,$I73,IF($I$22=$C$20,'Baggrundsdata - BVT - deflator'!$H73,IF($H$22=$C$20,'Baggrundsdata - BVT - deflator'!$G73,IF($C$20=$G$22,'Baggrundsdata - BVT - deflator'!$F73,IF($F$22=$C$20,'Baggrundsdata - BVT - deflator'!$E73,IF($E$22=$C$20,'Baggrundsdata - BVT - deflator'!$D73,IF($D$22=$C$20,'Baggrundsdata - BVT - deflator'!$C73,IF('Baggrundsdata - BVT - deflator'!$C$22='Baggrundsdata - BVT - deflator'!$C$20,'Baggrundsdata - BVT - deflator'!$B73,\"*\"))))))))))),\"*\")","v":0.98466561880169157},{"$f":"IFERROR('Baggrundsdata - BVT - deflator'!I73/IF($M$22=$C$20,$L73,IF($L$22=$C$20,$K73,IF($K$22=$C$20,$J73,IF($J$22=$C$20,$I73,IF($I$22=$C$20,'Baggrundsdata - BVT - deflator'!$H73,IF($H$22=$C$20,'Baggrundsdata - BVT - deflator'!$G73,IF($C$20=$G$22,'Baggrundsdata - BVT - deflator'!$F73,IF($F$22=$C$20,'Baggrundsdata - BVT - deflator'!$E73,IF($E$22=$C$20,'Baggrundsdata - BVT - deflator'!$D73,IF($D$22=$C$20,'Baggrundsdata - BVT - deflator'!$C73,IF('Baggrundsdata - BVT - deflator'!$C$22='Baggrundsdata - BVT - deflator'!$C$20,'Baggrundsdata - BVT - deflator'!$B73,\"*\"))))))))))),\"*\")","v":0.99141124957898275},{"$f":"IFERROR('Baggrundsdata - BVT - deflator'!J73/IF($M$22=$C$20,$L73,IF($L$22=$C$20,$K73,IF($K$22=$C$20,$J73,IF($J$22=$C$20,$I73,IF($I$22=$C$20,'Baggrundsdata - BVT - deflator'!$H73,IF($H$22=$C$20,'Baggrundsdata - BVT - deflator'!$G73,IF($C$20=$G$22,'Baggrundsdata - BVT - deflator'!$F73,IF($F$22=$C$20,'Baggrundsdata - BVT - deflator'!$E73,IF($E$22=$C$20,'Baggrundsdata - BVT - deflator'!$D73,IF($D$22=$C$20,'Baggrundsdata - BVT - deflator'!$C73,IF('Baggrundsdata - BVT - deflator'!$C$22='Baggrundsdata - BVT - deflator'!$C$20,'Baggrundsdata - BVT - deflator'!$B73,\"*\"))))))))))),\"*\")","v":1},{"$f":"IFERROR('Baggrundsdata - BVT - deflator'!K73/IF($M$22=$C$20,$L73,IF($L$22=$C$20,$K73,IF($K$22=$C$20,$J73,IF($J$22=$C$20,$I73,IF($I$22=$C$20,'Baggrundsdata - BVT - deflator'!$H73,IF($H$22=$C$20,'Baggrundsdata - BVT - deflator'!$G73,IF($C$20=$G$22,'Baggrundsdata - BVT - deflator'!$F73,IF($F$22=$C$20,'Baggrundsdata - BVT - deflator'!$E73,IF($E$22=$C$20,'Baggrundsdata - BVT - deflator'!$D73,IF($D$22=$C$20,'Baggrundsdata - BVT - deflator'!$C73,IF('Baggrundsdata - BVT - deflator'!$C$22='Baggrundsdata - BVT - deflator'!$C$20,'Baggrundsdata - BVT - deflator'!$B73,\"*\"))))))))))),\"*\")","v":1.0086631561066759},{"$f":"IFERROR('Baggrundsdata - BVT - deflator'!L73/IF($M$22=$C$20,$L73,IF($L$22=$C$20,$K73,IF($K$22=$C$20,$J73,IF($J$22=$C$20,$I73,IF($I$22=$C$20,'Baggrundsdata - BVT - deflator'!$H73,IF($H$22=$C$20,'Baggrundsdata - BVT - deflator'!$G73,IF($C$20=$G$22,'Baggrundsdata - BVT - deflator'!$F73,IF($F$22=$C$20,'Baggrundsdata - BVT - deflator'!$E73,IF($E$22=$C$20,'Baggrundsdata - BVT - deflator'!$D73,IF($D$22=$C$20,'Baggrundsdata - BVT - deflator'!$C73,IF('Baggrundsdata - BVT - deflator'!$C$22='Baggrundsdata - BVT - deflator'!$C$20,'Baggrundsdata - BVT - deflator'!$B73,\"*\"))))))))))),\"*\")","v":0},null,{"$f":"IF(A73='Level 1'!A53,\"S\",\"falsk\")","v":"S"},null,"Belgien",{"$f":"IFERROR('Baggrundsdata - BVT - deflator'!B73/IF($AB$22=$R$20,$L73,IF($AA$22=$R$20,$K73,IF($Z$22=$R$20,$J73,IF($Y$22=$R$20,$I73,IF($X$22=$R$20,'Baggrundsdata - BVT - deflator'!$H73,IF($W$22=$R$20,'Baggrundsdata - BVT - deflator'!$G73,IF($R$20=$V$22,'Baggrundsdata - BVT - deflator'!$F73,IF($U$22=$R$20,'Baggrundsdata - BVT - deflator'!$E73,IF($T$22=$R$20,'Baggrundsdata - BVT - deflator'!$D73,IF($S$22=$R$20,'Baggrundsdata - BVT - deflator'!$C73,IF($R$22=$R$20,'Baggrundsdata - BVT - deflator'!$B73,\"*\"))))))))))),\"*\")","v":0.8948579768721231},{"$f":"IFERROR('Baggrundsdata - BVT - deflator'!C73/IF($AB$22=$R$20,$L73,IF($AA$22=$R$20,$K73,IF($Z$22=$R$20,$J73,IF($Y$22=$R$20,$I73,IF($X$22=$R$20,'Baggrundsdata - BVT - deflator'!$H73,IF($W$22=$R$20,'Baggrundsdata - BVT - deflator'!$G73,IF($R$20=$V$22,'Baggrundsdata - BVT - deflator'!$F73,IF($U$22=$R$20,'Baggrundsdata - BVT - deflator'!$E73,IF($T$22=$R$20,'Baggrundsdata - BVT - deflator'!$D73,IF($S$22=$R$20,'Baggrundsdata - BVT - deflator'!$C73,IF($R$22=$R$20,'Baggrundsdata - BVT - deflator'!$B73,\"*\"))))))))))),\"*\")","v":0.90979940870476395},{"$f":"IFERROR('Baggrundsdata - BVT - deflator'!D73/IF($AB$22=$R$20,$L73,IF($AA$22=$R$20,$K73,IF($Z$22=$R$20,$J73,IF($Y$22=$R$20,$I73,IF($X$22=$R$20,'Baggrundsdata - BVT - deflator'!$H73,IF($W$22=$R$20,'Baggrundsdata - BVT - deflator'!$G73,IF($R$20=$V$22,'Baggrundsdata - BVT - deflator'!$F73,IF($U$22=$R$20,'Baggrundsdata - BVT - deflator'!$E73,IF($T$22=$R$20,'Baggrundsdata - BVT - deflator'!$D73,IF($S$22=$R$20,'Baggrundsdata - BVT - deflator'!$C73,IF($R$22=$R$20,'Baggrundsdata - BVT - deflator'!$B73,\"*\"))))))))))),\"*\")","v":0.91814490475655852},{"$f":"IFERROR('Baggrundsdata - BVT - deflator'!E73/IF($AB$22=$R$20,$L73,IF($AA$22=$R$20,$K73,IF($Z$22=$R$20,$J73,IF($Y$22=$R$20,$I73,IF($X$22=$R$20,'Baggrundsdata - BVT - deflator'!$H73,IF($W$22=$R$20,'Baggrundsdata - BVT - deflator'!$G73,IF($R$20=$V$22,'Baggrundsdata - BVT - deflator'!$F73,IF($U$22=$R$20,'Baggrundsdata - BVT - deflator'!$E73,IF($T$22=$R$20,'Baggrundsdata - BVT - deflator'!$D73,IF($S$22=$R$20,'Baggrundsdata - BVT - deflator'!$C73,IF($R$22=$R$20,'Baggrundsdata - BVT - deflator'!$B73,\"*\"))))))))))),\"*\")","v":0.935593727779649},{"$f":"IFERROR('Baggrundsdata - BVT - deflator'!F73/IF($AB$22=$R$20,$L73,IF($AA$22=$R$20,$K73,IF($Z$22=$R$20,$J73,IF($Y$22=$R$20,$I73,IF($X$22=$R$20,'Baggrundsdata - BVT - deflator'!$H73,IF($W$22=$R$20,'Baggrundsdata - BVT - deflator'!$G73,IF($R$20=$V$22,'Baggrundsdata - BVT - deflator'!$F73,IF($U$22=$R$20,'Baggrundsdata - BVT - deflator'!$E73,IF($T$22=$R$20,'Baggrundsdata - BVT - deflator'!$D73,IF($S$22=$R$20,'Baggrundsdata - BVT - deflator'!$C73,IF($R$22=$R$20,'Baggrundsdata - BVT - deflator'!$B73,\"*\"))))))))))),\"*\")","v":0.95273380487257209},{"$f":"IFERROR('Baggrundsdata - BVT - deflator'!G73/IF($AB$22=$R$20,$L73,IF($AA$22=$R$20,$K73,IF($Z$22=$R$20,$J73,IF($Y$22=$R$20,$I73,IF($X$22=$R$20,'Baggrundsdata - BVT - deflator'!$H73,IF($W$22=$R$20,'Baggrundsdata - BVT - deflator'!$G73,IF($R$20=$V$22,'Baggrundsdata - BVT - deflator'!$F73,IF($U$22=$R$20,'Baggrundsdata - BVT - deflator'!$E73,IF($T$22=$R$20,'Baggrundsdata - BVT - deflator'!$D73,IF($S$22=$R$20,'Baggrundsdata - BVT - deflator'!$C73,IF($R$22=$R$20,'Baggrundsdata - BVT - deflator'!$B73,\"*\"))))))))))),\"*\")","v":0.97131469630627598},{"$f":"IFERROR('Baggrundsdata - BVT - deflator'!H73/IF($AB$22=$R$20,$L73,IF($AA$22=$R$20,$K73,IF($Z$22=$R$20,$J73,IF($Y$22=$R$20,$I73,IF($X$22=$R$20,'Baggrundsdata - BVT - deflator'!$H73,IF($W$22=$R$20,'Baggrundsdata - BVT - deflator'!$G73,IF($R$20=$V$22,'Baggrundsdata - BVT - deflator'!$F73,IF($U$22=$R$20,'Baggrundsdata - BVT - deflator'!$E73,IF($T$22=$R$20,'Baggrundsdata - BVT - deflator'!$D73,IF($S$22=$R$20,'Baggrundsdata - BVT - deflator'!$C73,IF($R$22=$R$20,'Baggrundsdata - BVT - deflator'!$B73,\"*\"))))))))))),\"*\")","v":0.98466561880169157},{"$f":"IFERROR('Baggrundsdata - BVT - deflator'!I73/IF($AB$22=$R$20,$L73,IF($AA$22=$R$20,$K73,IF($Z$22=$R$20,$J73,IF($Y$22=$R$20,$I73,IF($X$22=$R$20,'Baggrundsdata - BVT - deflator'!$H73,IF($W$22=$R$20,'Baggrundsdata - BVT - deflator'!$G73,IF($R$20=$V$22,'Baggrundsdata - BVT - deflator'!$F73,IF($U$22=$R$20,'Baggrundsdata - BVT - deflator'!$E73,IF($T$22=$R$20,'Baggrundsdata - BVT - deflator'!$D73,IF($S$22=$R$20,'Baggrundsdata - BVT - deflator'!$C73,IF($R$22=$R$20,'Baggrundsdata - BVT - deflator'!$B73,\"*\"))))))))))),\"*\")","v":0.99141124957898275},{"$f":"IFERROR('Baggrundsdata - BVT - deflator'!J73/IF($AB$22=$R$20,$L73,IF($AA$22=$R$20,$K73,IF($Z$22=$R$20,$J73,IF($Y$22=$R$20,$I73,IF($X$22=$R$20,'Baggrundsdata - BVT - deflator'!$H73,IF($W$22=$R$20,'Baggrundsdata - BVT - deflator'!$G73,IF($R$20=$V$22,'Baggrundsdata - BVT - deflator'!$F73,IF($U$22=$R$20,'Baggrundsdata - BVT - deflator'!$E73,IF($T$22=$R$20,'Baggrundsdata - BVT - deflator'!$D73,IF($S$22=$R$20,'Baggrundsdata - BVT - deflator'!$C73,IF($R$22=$R$20,'Baggrundsdata - BVT - deflator'!$B73,\"*\"))))))))))),\"*\")","v":1},{"$f":"IFERROR('Baggrundsdata - BVT - deflator'!K73/IF($AB$22=$R$20,$L73,IF($AA$22=$R$20,$K73,IF($Z$22=$R$20,$J73,IF($Y$22=$R$20,$I73,IF($X$22=$R$20,'Baggrundsdata - BVT - deflator'!$H73,IF($W$22=$R$20,'Baggrundsdata - BVT - deflator'!$G73,IF($R$20=$V$22,'Baggrundsdata - BVT - deflator'!$F73,IF($U$22=$R$20,'Baggrundsdata - BVT - deflator'!$E73,IF($T$22=$R$20,'Baggrundsdata - BVT - deflator'!$D73,IF($S$22=$R$20,'Baggrundsdata - BVT - deflator'!$C73,IF($R$22=$R$20,'Baggrundsdata - BVT - deflator'!$B73,\"*\"))))))))))),\"*\")","v":1.0086631561066759},{"$f":"IFERROR('Baggrundsdata - BVT - deflator'!L73/IF($AB$22=$R$20,$L73,IF($AA$22=$R$20,$K73,IF($Z$22=$R$20,$J73,IF($Y$22=$R$20,$I73,IF($X$22=$R$20,'Baggrundsdata - BVT - deflator'!$H73,IF($W$22=$R$20,'Baggrundsdata - BVT - deflator'!$G73,IF($R$20=$V$22,'Baggrundsdata - BVT - deflator'!$F73,IF($U$22=$R$20,'Baggrundsdata - BVT - deflator'!$E73,IF($T$22=$R$20,'Baggrundsdata - BVT - deflator'!$D73,IF($S$22=$R$20,'Baggrundsdata - BVT - deflator'!$C73,IF($R$22=$R$20,'Baggrundsdata - BVT - deflator'!$B73,\"*\"))))))))))),\"*\")","v":0},null,{"$f":"IF(Q24=Forside!B40,\"S\",\"falsk\")","v":"S"}]
[null,"Bulgarien",{"$f":"IFERROR('Baggrundsdata - BVT - deflator'!B74/IF($M$22=$C$20,$L74,IF($L$22=$C$20,$K74,IF($K$22=$C$20,$J74,IF($J$22=$C$20,$I74,IF($I$22=$C$20,'Baggrundsdata - BVT - deflator'!$H74,IF($H$22=$C$20,'Baggrundsdata - BVT - deflator'!$G74,IF($C$20=$G$22,'Baggrundsdata - BVT - deflator'!$F74,IF($F$22=$C$20,'Baggrundsdata - BVT - deflator'!$E74,IF($E$22=$C$20,'Baggrundsdata - BVT - deflator'!$D74,IF($D$22=$C$20,'Baggrundsdata - BVT - deflator'!$C74,IF('Baggrundsdata - BVT - deflator'!$C$22='Baggrundsdata - BVT - deflator'!$C$20,'Baggrundsdata - BVT - deflator'!$B74,\"*\"))))))))))),\"*\")","v":0.80679644527424654},{"$f":"IFERROR('Baggrundsdata - BVT - deflator'!C74/IF($M$22=$C$20,$L74,IF($L$22=$C$20,$K74,IF($K$22=$C$20,$J74,IF($J$22=$C$20,$I74,IF($I$22=$C$20,'Baggrundsdata - BVT - deflator'!$H74,IF($H$22=$C$20,'Baggrundsdata - BVT - deflator'!$G74,IF($C$20=$G$22,'Baggrundsdata - BVT - deflator'!$F74,IF($F$22=$C$20,'Baggrundsdata - BVT - deflator'!$E74,IF($E$22=$C$20,'Baggrundsdata - BVT - deflator'!$D74,IF($D$22=$C$20,'Baggrundsdata - BVT - deflator'!$C74,IF('Baggrundsdata - BVT - deflator'!$C$22='Baggrundsdata - BVT - deflator'!$C$20,'Baggrundsdata - BVT - deflator'!$B74,\"*\"))))))))))),\"*\")","v":0.86449209705023644},{"$f":"IFERROR('Baggrundsdata - BVT - deflator'!D74/IF($M$22=$C$20,$L74,IF($L$22=$C$20,$K74,IF($K$22=$C$20,$J74,IF($J$22=$C$20,$I74,IF($I$22=$C$20,'Baggrundsdata - BVT - deflator'!$H74,IF($H$22=$C$20,'Baggrundsdata - BVT - deflator'!$G74,IF($C$20=$G$22,'Baggrundsdata - BVT - deflator'!$F74,IF($F$22=$C$20,'Baggrundsdata - BVT - deflator'!$E74,IF($E$22=$C$20,'Baggrundsdata - BVT - deflator'!$D74,IF($D$22=$C$20,'Baggrundsdata - BVT - deflator'!$C74,IF('Baggrundsdata - BVT - deflator'!$C$22='Baggrundsdata - BVT - deflator'!$C$20,'Baggrundsdata - BVT - deflator'!$B74,\"*\"))))))))))),\"*\")","v":0.90543916970978278},{"$f":"IFERROR('Baggrundsdata - BVT - deflator'!E74/IF($M$22=$C$20,$L74,IF($L$22=$C$20,$K74,IF($K$22=$C$20,$J74,IF($J$22=$C$20,$I74,IF($I$22=$C$20,'Baggrundsdata - BVT - deflator'!$H74,IF($H$22=$C$20,'Baggrundsdata - BVT - deflator'!$G74,IF($C$20=$G$22,'Baggrundsdata - BVT - deflator'!$F74,IF($F$22=$C$20,'Baggrundsdata - BVT - deflator'!$E74,IF($E$22=$C$20,'Baggrundsdata - BVT - deflator'!$D74,IF($D$22=$C$20,'Baggrundsdata - BVT - deflator'!$C74,IF('Baggrundsdata - BVT - deflator'!$C$22='Baggrundsdata - BVT - deflator'!$C$20,'Baggrundsdata - BVT - deflator'!$B74,\"*\"))))))))))),\"*\")","v":0.91522290253791305},{"$f":"IFERROR('Baggrundsdata - BVT - deflator'!F74/IF($M$22=$C$20,$L74,IF($L$22=$C$20,$K74,IF($K$22=$C$20,$J74,IF($J$22=$C$20,$I74,IF($I$22=$C$20,'Baggrundsdata - BVT - deflator'!$H74,IF($H$22=$C$20,'Baggrundsdata - BVT - deflator'!$G74,IF($C$20=$G$22,'Baggrundsdata - BVT - deflator'!$F74,IF($F$22=$C$20,'Baggrundsdata - BVT - deflator'!$E74,IF($E$22=$C$20,'Baggrundsdata - BVT - deflator'!$D74,IF($D$22=$C$20,'Baggrundsdata - BVT - deflator'!$C74,IF('Baggrundsdata - BVT - deflator'!$C$22='Baggrundsdata - BVT - deflator'!$C$20,'Baggrundsdata - BVT - deflator'!$B74,\"*\"))))))))))),\"*\")","v":0.98307752853207397},{"$f":"IFERROR('Baggrundsdata - BVT - deflator'!G74/IF($M$22=$C$20,$L74,IF($L$22=$C$20,$K74,IF($K$22=$C$20,$J74,IF($J$22=$C$20,$I74,IF($I$22=$C$20,'Baggrundsdata - BVT - deflator'!$H74,IF($H$22=$C$20,'Baggrundsdata - BVT - deflator'!$G74,IF($C$20=$G$22,'Baggrundsdata - BVT - deflator'!$F74,IF($F$22=$C$20,'Baggrundsdata - BVT - deflator'!$E74,IF($E$22=$C$20,'Baggrundsdata - BVT - deflator'!$D74,IF($D$22=$C$20,'Baggrundsdata - BVT - deflator'!$C74,IF('Baggrundsdata - BVT - deflator'!$C$22='Baggrundsdata - BVT - deflator'!$C$20,'Baggrundsdata - BVT - deflator'!$B74,\"*\"))))))))))),\"*\")","v":0.99604623706103623},{"$f":"IFERROR('Baggrundsdata - BVT - deflator'!H74/IF($M$22=$C$20,$L74,IF($L$22=$C$20,$K74,IF($K$22=$C$20,$J74,IF($J$22=$C$20,$I74,IF($I$22=$C$20,'Baggrundsdata - BVT - deflator'!$H74,IF($H$22=$C$20,'Baggrundsdata - BVT - deflator'!$G74,IF($C$20=$G$22,'Baggrundsdata - BVT - deflator'!$F74,IF($F$22=$C$20,'Baggrundsdata - BVT - deflator'!$E74,IF($E$22=$C$20,'Baggrundsdata - BVT - deflator'!$D74,IF($D$22=$C$20,'Baggrundsdata - BVT - deflator'!$C74,IF('Baggrundsdata - BVT - deflator'!$C$22='Baggrundsdata - BVT - deflator'!$C$20,'Baggrundsdata - BVT - deflator'!$B74,\"*\"))))))))))),\"*\")","v":0.98806549335090554},{"$f":"IFERROR('Baggrundsdata - BVT - deflator'!I74/IF($M$22=$C$20,$L74,IF($L$22=$C$20,$K74,IF($K$22=$C$20,$J74,IF($J$22=$C$20,$I74,IF($I$22=$C$20,'Baggrundsdata - BVT - deflator'!$H74,IF($H$22=$C$20,'Baggrundsdata - BVT - deflator'!$G74,IF($C$20=$G$22,'Baggrundsdata - BVT - deflator'!$F74,IF($F$22=$C$20,'Baggrundsdata - BVT - deflator'!$E74,IF($E$22=$C$20,'Baggrundsdata - BVT - deflator'!$D74,IF($D$22=$C$20,'Baggrundsdata - BVT - deflator'!$C74,IF('Baggrundsdata - BVT - deflator'!$C$22='Baggrundsdata - BVT - deflator'!$C$20,'Baggrundsdata - BVT - deflator'!$B74,\"*\"))))))))))),\"*\")","v":0.99848072998178694},{"$f":"IFERROR('Baggrundsdata - BVT - deflator'!J74/IF($M$22=$C$20,$L74,IF($L$22=$C$20,$K74,IF($K$22=$C$20,$J74,IF($J$22=$C$20,$I74,IF($I$22=$C$20,'Baggrundsdata - BVT - deflator'!$H74,IF($H$22=$C$20,'Baggrundsdata - BVT - deflator'!$G74,IF($C$20=$G$22,'Baggrundsdata - BVT - deflator'!$F74,IF($F$22=$C$20,'Baggrundsdata - BVT - deflator'!$E74,IF($E$22=$C$20,'Baggrundsdata - BVT - deflator'!$D74,IF($D$22=$C$20,'Baggrundsdata - BVT - deflator'!$C74,IF('Baggrundsdata - BVT - deflator'!$C$22='Baggrundsdata - BVT - deflator'!$C$20,'Baggrundsdata - BVT - deflator'!$B74,\"*\"))))))))))),\"*\")","v":1},{"$f":"IFERROR('Baggrundsdata - BVT - deflator'!K74/IF($M$22=$C$20,$L74,IF($L$22=$C$20,$K74,IF($K$22=$C$20,$J74,IF($J$22=$C$20,$I74,IF($I$22=$C$20,'Baggrundsdata - BVT - deflator'!$H74,IF($H$22=$C$20,'Baggrundsdata - BVT - deflator'!$G74,IF($C$20=$G$22,'Baggrundsdata - BVT - deflator'!$F74,IF($F$22=$C$20,'Baggrundsdata - BVT - deflator'!$E74,IF($E$22=$C$20,'Baggrundsdata - BVT - deflator'!$D74,IF($D$22=$C$20,'Baggrundsdata - BVT - deflator'!$C74,IF('Baggrundsdata - BVT - deflator'!$C$22='Baggrundsdata - BVT - deflator'!$C$20,'Baggrundsdata - BVT - deflator'!$B74,\"*\"))))))))))),\"*\")","v":1.0015215817116878},{"$f":"IFERROR('Baggrundsdata - BVT - deflator'!L74/IF($M$22=$C$20,$L74,IF($L$22=$C$20,$K74,IF($K$22=$C$20,$J74,IF($J$22=$C$20,$I74,IF($I$22=$C$20,'Baggrundsdata - BVT - deflator'!$H74,IF($H$22=$C$20,'Baggrundsdata - BVT - deflator'!$G74,IF($C$20=$G$22,'Baggrundsdata - BVT - deflator'!$F74,IF($F$22=$C$20,'Baggrundsdata - BVT - deflator'!$E74,IF($E$22=$C$20,'Baggrundsdata - BVT - deflator'!$D74,IF($D$22=$C$20,'Baggrundsdata - BVT - deflator'!$C74,IF('Baggrundsdata - BVT - deflator'!$C$22='Baggrundsdata - BVT - deflator'!$C$20,'Baggrundsdata - BVT - deflator'!$B74,\"*\"))))))))))),\"*\")","v":0},null,{"$f":"IF(A74='Level 1'!A54,\"S\",\"falsk\")","v":"S"},null,"Danmark",{"$f":"IFERROR('Baggrundsdata - BVT - deflator'!B76/IF($AB$22=$R$20,$L76,IF($AA$22=$R$20,$K76,IF($Z$22=$R$20,$J76,IF($Y$22=$R$20,$I76,IF($X$22=$R$20,'Baggrundsdata - BVT - deflator'!$H76,IF($W$22=$R$20,'Baggrundsdata - BVT - deflator'!$G76,IF($R$20=$V$22,'Baggrundsdata - BVT - deflator'!$F76,IF($U$22=$R$20,'Baggrundsdata - BVT - deflator'!$E76,IF($T$22=$R$20,'Baggrundsdata - BVT - deflator'!$D76,IF($S$22=$R$20,'Baggrundsdata - BVT - deflator'!$C76,IF($R$22=$R$20,'Baggrundsdata - BVT - deflator'!$B76,\"*\"))))))))))),\"*\")","v":0.85564783434508962},{"$f":"IFERROR('Baggrundsdata - BVT - deflator'!C76/IF($AB$22=$R$20,$L76,IF($AA$22=$R$20,$K76,IF($Z$22=$R$20,$J76,IF($Y$22=$R$20,$I76,IF($X$22=$R$20,'Baggrundsdata - BVT - deflator'!$H76,IF($W$22=$R$20,'Baggrundsdata - BVT - deflator'!$G76,IF($R$20=$V$22,'Baggrundsdata - BVT - deflator'!$F76,IF($U$22=$R$20,'Baggrundsdata - BVT - deflator'!$E76,IF($T$22=$R$20,'Baggrundsdata - BVT - deflator'!$D76,IF($S$22=$R$20,'Baggrundsdata - BVT - deflator'!$C76,IF($R$22=$R$20,'Baggrundsdata - BVT - deflator'!$B76,\"*\"))))))))))),\"*\")","v":0.89540426799746753},{"$f":"IFERROR('Baggrundsdata - BVT - deflator'!D76/IF($AB$22=$R$20,$L76,IF($AA$22=$R$20,$K76,IF($Z$22=$R$20,$J76,IF($Y$22=$R$20,$I76,IF($X$22=$R$20,'Baggrundsdata - BVT - deflator'!$H76,IF($W$22=$R$20,'Baggrundsdata - BVT - deflator'!$G76,IF($R$20=$V$22,'Baggrundsdata - BVT - deflator'!$F76,IF($U$22=$R$20,'Baggrundsdata - BVT - deflator'!$E76,IF($T$22=$R$20,'Baggrundsdata - BVT - deflator'!$D76,IF($S$22=$R$20,'Baggrundsdata - BVT - deflator'!$C76,IF($R$22=$R$20,'Baggrundsdata - BVT - deflator'!$B76,\"*\"))))))))))),\"*\")","v":0.90095340955644121},{"$f":"IFERROR('Baggrundsdata - BVT - deflator'!E76/IF($AB$22=$R$20,$L76,IF($AA$22=$R$20,$K76,IF($Z$22=$R$20,$J76,IF($Y$22=$R$20,$I76,IF($X$22=$R$20,'Baggrundsdata - BVT - deflator'!$H76,IF($W$22=$R$20,'Baggrundsdata - BVT - deflator'!$G76,IF($R$20=$V$22,'Baggrundsdata - BVT - deflator'!$F76,IF($U$22=$R$20,'Baggrundsdata - BVT - deflator'!$E76,IF($T$22=$R$20,'Baggrundsdata - BVT - deflator'!$D76,IF($S$22=$R$20,'Baggrundsdata - BVT - deflator'!$C76,IF($R$22=$R$20,'Baggrundsdata - BVT - deflator'!$B76,\"*\"))))))))))),\"*\")","v":0.9310640199620126},{"$f":"IFERROR('Baggrundsdata - BVT - deflator'!F76/IF($AB$22=$R$20,$L76,IF($AA$22=$R$20,$K76,IF($Z$22=$R$20,$J76,IF($Y$22=$R$20,$I76,IF($X$22=$R$20,'Baggrundsdata - BVT - deflator'!$H76,IF($W$22=$R$20,'Baggrundsdata - BVT - deflator'!$G76,IF($R$20=$V$22,'Baggrundsdata - BVT - deflator'!$F76,IF($U$22=$R$20,'Baggrundsdata - BVT - deflator'!$E76,IF($T$22=$R$20,'Baggrundsdata - BVT - deflator'!$D76,IF($S$22=$R$20,'Baggrundsdata - BVT - deflator'!$C76,IF($R$22=$R$20,'Baggrundsdata - BVT - deflator'!$B76,\"*\"))))))))))),\"*\")","v":0.93605452310900905},{"$f":"IFERROR('Baggrundsdata - BVT - deflator'!G76/IF($AB$22=$R$20,$L76,IF($AA$22=$R$20,$K76,IF($Z$22=$R$20,$J76,IF($Y$22=$R$20,$I76,IF($X$22=$R$20,'Baggrundsdata - BVT - deflator'!$H76,IF($W$22=$R$20,'Baggrundsdata - BVT - deflator'!$G76,IF($R$20=$V$22,'Baggrundsdata - BVT - deflator'!$F76,IF($U$22=$R$20,'Baggrundsdata - BVT - deflator'!$E76,IF($T$22=$R$20,'Baggrundsdata - BVT - deflator'!$D76,IF($S$22=$R$20,'Baggrundsdata - BVT - deflator'!$C76,IF($R$22=$R$20,'Baggrundsdata - BVT - deflator'!$B76,\"*\"))))))))))),\"*\")","v":0.96380954154407661},{"$f":"IFERROR('Baggrundsdata - BVT - deflator'!H76/IF($AB$22=$R$20,$L76,IF($AA$22=$R$20,$K76,IF($Z$22=$R$20,$J76,IF($Y$22=$R$20,$I76,IF($X$22=$R$20,'Baggrundsdata - BVT - deflator'!$H76,IF($W$22=$R$20,'Baggrundsdata - BVT - deflator'!$G76,IF($R$20=$V$22,'Baggrundsdata - BVT - deflator'!$F76,IF($U$22=$R$20,'Baggrundsdata - BVT - deflator'!$E76,IF($T$22=$R$20,'Baggrundsdata - BVT - deflator'!$D76,IF($S$22=$R$20,'Baggrundsdata - BVT - deflator'!$C76,IF($R$22=$R$20,'Baggrundsdata - BVT - deflator'!$B76,\"*\"))))))))))),\"*\")","v":0.97821310193288891},{"$f":"IFERROR('Baggrundsdata - BVT - deflator'!I76/IF($AB$22=$R$20,$L76,IF($AA$22=$R$20,$K76,IF($Z$22=$R$20,$J76,IF($Y$22=$R$20,$I76,IF($X$22=$R$20,'Baggrundsdata - BVT - deflator'!$H76,IF($W$22=$R$20,'Baggrundsdata - BVT - deflator'!$G76,IF($R$20=$V$22,'Baggrundsdata - BVT - deflator'!$F76,IF($U$22=$R$20,'Baggrundsdata - BVT - deflator'!$E76,IF($T$22=$R$20,'Baggrundsdata - BVT - deflator'!$D76,IF($S$22=$R$20,'Baggrundsdata - BVT - deflator'!$C76,IF($R$22=$R$20,'Baggrundsdata - BVT - deflator'!$B76,\"*\"))))))))))),\"*\")","v":0.98758891661390635},{"$f":"IFERROR('Baggrundsdata - BVT - deflator'!J76/IF($AB$22=$R$20,$L76,IF($AA$22=$R$20,$K76,IF($Z$22=$R$20,$J76,IF($Y$22=$R$20,$I76,IF($X$22=$R$20,'Baggrundsdata - BVT - deflator'!$H76,IF($W$22=$R$20,'Baggrundsdata - BVT - deflator'!$G76,IF($R$20=$V$22,'Baggrundsdata - BVT - deflator'!$F76,IF($U$22=$R$20,'Baggrundsdata - BVT - deflator'!$E76,IF($T$22=$R$20,'Baggrundsdata - BVT - deflator'!$D76,IF($S$22=$R$20,'Baggrundsdata - BVT - deflator'!$C76,IF($R$22=$R$20,'Baggrundsdata - BVT - deflator'!$B76,\"*\"))))))))))),\"*\")","v":1},{"$f":"IFERROR('Baggrundsdata - BVT - deflator'!K76/IF($AB$22=$R$20,$L76,IF($AA$22=$R$20,$K76,IF($Z$22=$R$20,$J76,IF($Y$22=$R$20,$I76,IF($X$22=$R$20,'Baggrundsdata - BVT - deflator'!$H76,IF($W$22=$R$20,'Baggrundsdata - BVT - deflator'!$G76,IF($R$20=$V$22,'Baggrundsdata - BVT - deflator'!$F76,IF($U$22=$R$20,'Baggrundsdata - BVT - deflator'!$E76,IF($T$22=$R$20,'Baggrundsdata - BVT - deflator'!$D76,IF($S$22=$R$20,'Baggrundsdata - BVT - deflator'!$C76,IF($R$22=$R$20,'Baggrundsdata - BVT - deflator'!$B76,\"*\"))))))))))),\"*\")","v":1.0125670541429797},{"$f":"IFERROR('Baggrundsdata - BVT - deflator'!L76/IF($AB$22=$R$20,$L76,IF($AA$22=$R$20,$K76,IF($Z$22=$R$20,$J76,IF($Y$22=$R$20,$I76,IF($X$22=$R$20,'Baggrundsdata - BVT - deflator'!$H76,IF($W$22=$R$20,'Baggrundsdata - BVT - deflator'!$G76,IF($R$20=$V$22,'Baggrundsdata - BVT - deflator'!$F76,IF($U$22=$R$20,'Baggrundsdata - BVT - deflator'!$E76,IF($T$22=$R$20,'Baggrundsdata - BVT - deflator'!$D76,IF($S$22=$R$20,'Baggrundsdata - BVT - deflator'!$C76,IF($R$22=$R$20,'Baggrundsdata - BVT - deflator'!$B76,\"*\"))))))))))),\"*\")","v":0},null,{"$f":"IF(Q25=Forside!B41,\"S\",\"falsk\")","v":"S"}]
[null,"Tjekkiet",{"$f":"IFERROR('Baggrundsdata - BVT - deflator'!B75/IF($M$22=$C$20,$L75,IF($L$22=$C$20,$K75,IF($K$22=$C$20,$J75,IF($J$22=$C$20,$I75,IF($I$22=$C$20,'Baggrundsdata - BVT - deflator'!$H75,IF($H$22=$C$20,'Baggrundsdata - BVT - deflator'!$G75,IF($C$20=$G$22,'Baggrundsdata - BVT - deflator'!$F75,IF($F$22=$C$20,'Baggrundsdata - BVT - deflator'!$E75,IF($E$22=$C$20,'Baggrundsdata - BVT - deflator'!$D75,IF($D$22=$C$20,'Baggrundsdata - BVT - deflator'!$C75,IF('Baggrundsdata - BVT - deflator'!$C$22='Baggrundsdata - BVT - deflator'!$C$20,'Baggrundsdata - BVT - deflator'!$B75,\"*\"))))))))))),\"*\")","v":0.91424487361428186},{"$f":"IFERROR('Baggrundsdata - BVT - deflator'!C75/IF($M$22=$C$20,$L75,IF($L$22=$C$20,$K75,IF($K$22=$C$20,$J75,IF($J$22=$C$20,$I75,IF($I$22=$C$20,'Baggrundsdata - BVT - deflator'!$H75,IF($H$22=$C$20,'Baggrundsdata - BVT - deflator'!$G75,IF($C$20=$G$22,'Baggrundsdata - BVT - deflator'!$F75,IF($F$22=$C$20,'Baggrundsdata - BVT - deflator'!$E75,IF($E$22=$C$20,'Baggrundsdata - BVT - deflator'!$D75,IF($D$22=$C$20,'Baggrundsdata - BVT - deflator'!$C75,IF('Baggrundsdata - BVT - deflator'!$C$22='Baggrundsdata - BVT - deflator'!$C$20,'Baggrundsdata - BVT - deflator'!$B75,\"*\"))))))))))),\"*\")","v":1.0314781678698504},{"$f":"IFERROR('Baggrundsdata - BVT - deflator'!D75/IF($M$22=$C$20,$L75,IF($L$22=$C$20,$K75,IF($K$22=$C$20,$J75,IF($J$22=$C$20,$I75,IF($I$22=$C$20,'Baggrundsdata - BVT - deflator'!$H75,IF($H$22=$C$20,'Baggrundsdata - BVT - deflator'!$G75,IF($C$20=$G$22,'Baggrundsdata - BVT - deflator'!$F75,IF($F$22=$C$20,'Baggrundsdata - BVT - deflator'!$E75,IF($E$22=$C$20,'Baggrundsdata - BVT - deflator'!$D75,IF($D$22=$C$20,'Baggrundsdata - BVT - deflator'!$C75,IF('Baggrundsdata - BVT - deflator'!$C$22='Baggrundsdata - BVT - deflator'!$C$20,'Baggrundsdata - BVT - deflator'!$B75,\"*\"))))))))))),\"*\")","v":1.0034141626046358},{"$f":"IFERROR('Baggrundsdata - BVT - deflator'!E75/IF($M$22=$C$20,$L75,IF($L$22=$C$20,$K75,IF($K$22=$C$20,$J75,IF($J$22=$C$20,$I75,IF($I$22=$C$20,'Baggrundsdata - BVT - deflator'!$H75,IF($H$22=$C$20,'Baggrundsdata - BVT - deflator'!$G75,IF($C$20=$G$22,'Baggrundsdata - BVT - deflator'!$F75,IF($F$22=$C$20,'Baggrundsdata - BVT - deflator'!$E75,IF($E$22=$C$20,'Baggrundsdata - BVT - deflator'!$D75,IF($D$22=$C$20,'Baggrundsdata - BVT - deflator'!$C75,IF('Baggrundsdata - BVT - deflator'!$C$22='Baggrundsdata - BVT - deflator'!$C$20,'Baggrundsdata - BVT - deflator'!$B75,\"*\"))))))))))),\"*\")","v":1.028362230312005},{"$f":"IFERROR('Baggrundsdata - BVT - deflator'!F75/IF($M$22=$C$20,$L75,IF($L$22=$C$20,$K75,IF($K$22=$C$20,$J75,IF($J$22=$C$20,$I75,IF($I$22=$C$20,'Baggrundsdata - BVT - deflator'!$H75,IF($H$22=$C$20,'Baggrundsdata - BVT - deflator'!$G75,IF($C$20=$G$22,'Baggrundsdata - BVT - deflator'!$F75,IF($F$22=$C$20,'Baggrundsdata - BVT - deflator'!$E75,IF($E$22=$C$20,'Baggrundsdata - BVT - deflator'!$D75,IF($D$22=$C$20,'Baggrundsdata - BVT - deflator'!$C75,IF('Baggrundsdata - BVT - deflator'!$C$22='Baggrundsdata - BVT - deflator'!$C$20,'Baggrundsdata - BVT - deflator'!$B75,\"*\"))))))))))),\"*\")","v":1.0524978918574277},{"$f":"IFERROR('Baggrundsdata - BVT - deflator'!G75/IF($M$22=$C$20,$L75,IF($L$22=$C$20,$K75,IF($K$22=$C$20,$J75,IF($J$22=$C$20,$I75,IF($I$22=$C$20,'Baggrundsdata - BVT - deflator'!$H75,IF($H$22=$C$20,'Baggrundsdata - BVT - deflator'!$G75,IF($C$20=$G$22,'Baggrundsdata - BVT - deflator'!$F75,IF($F$22=$C$20,'Baggrundsdata - BVT - deflator'!$E75,IF($E$22=$C$20,'Baggrundsdata - BVT - deflator'!$D75,IF($D$22=$C$20,'Baggrundsdata - BVT - deflator'!$C75,IF('Baggrundsdata - BVT - deflator'!$C$22='Baggrundsdata - BVT - deflator'!$C$20,'Baggrundsdata - BVT - deflator'!$B75,\"*\"))))))))))),\"*\")","v":1.0383373439460315},{"$f":"IFERROR('Baggrundsdata - BVT - deflator'!H75/IF($M$22=$C$20,$L75,IF($L$22=$C$20,$K75,IF($K$22=$C$20,$J75,IF($J$22=$C$20,$I75,IF($I$22=$C$20,'Baggrundsdata - BVT - deflator'!$H75,IF($H$22=$C$20,'Baggrundsdata - BVT - deflator'!$G75,IF($C$20=$G$22,'Baggrundsdata - BVT - deflator'!$F75,IF($F$22=$C$20,'Baggrundsdata - BVT - deflator'!$E75,IF($E$22=$C$20,'Baggrundsdata - BVT - deflator'!$D75,IF($D$22=$C$20,'Baggrundsdata - BVT - deflator'!$C75,IF('Baggrundsdata - BVT - deflator'!$C$22='Baggrundsdata - BVT - deflator'!$C$20,'Baggrundsdata - BVT - deflator'!$B75,\"*\"))))))))))),\"*\")","v":1.0153534480985582},{"$f":"IFERROR('Baggrundsdata - BVT - deflator'!I75/IF($M$22=$C$20,$L75,IF($L$22=$C$20,$K75,IF($K$22=$C$20,$J75,IF($J$22=$C$20,$I75,IF($I$22=$C$20,'Baggrundsdata - BVT - deflator'!$H75,IF($H$22=$C$20,'Baggrundsdata - BVT - deflator'!$G75,IF($C$20=$G$22,'Baggrundsdata - BVT - deflator'!$F75,IF($F$22=$C$20,'Baggrundsdata - BVT - deflator'!$E75,IF($E$22=$C$20,'Baggrundsdata - BVT - deflator'!$D75,IF($D$22=$C$20,'Baggrundsdata - BVT - deflator'!$C75,IF('Baggrundsdata - BVT - deflator'!$C$22='Baggrundsdata - BVT - deflator'!$C$20,'Baggrundsdata - BVT - deflator'!$B75,\"*\"))))))))))),\"*\")","v":0.98347421895888609},{"$f":"IFERROR('Baggrundsdata - BVT - deflator'!J75/IF($M$22=$C$20,$L75,IF($L$22=$C$20,$K75,IF($K$22=$C$20,$J75,IF($J$22=$C$20,$I75,IF($I$22=$C$20,'Baggrundsdata - BVT - deflator'!$H75,IF($H$22=$C$20,'Baggrundsdata - BVT - deflator'!$G75,IF($C$20=$G$22,'Baggrundsdata - BVT - deflator'!$F75,IF($F$22=$C$20,'Baggrundsdata - BVT - deflator'!$E75,IF($E$22=$C$20,'Baggrundsdata - BVT - deflator'!$D75,IF($D$22=$C$20,'Baggrundsdata - BVT - deflator'!$C75,IF('Baggrundsdata - BVT - deflator'!$C$22='Baggrundsdata - BVT - deflator'!$C$20,'Baggrundsdata - BVT - deflator'!$B75,\"*\"))))))))))),\"*\")","v":1},{"$f":"IFERROR('Baggrundsdata - BVT - deflator'!K75/IF($M$22=$C$20,$L75,IF($L$22=$C$20,$K75,IF($K$22=$C$20,$J75,IF($J$22=$C$20,$I75,IF($I$22=$C$20,'Baggrundsdata - BVT - deflator'!$H75,IF($H$22=$C$20,'Baggrundsdata - BVT - deflator'!$G75,IF($C$20=$G$22,'Baggrundsdata - BVT - deflator'!$F75,IF($F$22=$C$20,'Baggrundsdata - BVT - deflator'!$E75,IF($E$22=$C$20,'Baggrundsdata - BVT - deflator'!$D75,IF($D$22=$C$20,'Baggrundsdata - BVT - deflator'!$C75,IF('Baggrundsdata - BVT - deflator'!$C$22='Baggrundsdata - BVT - deflator'!$C$20,'Baggrundsdata - BVT - deflator'!$B75,\"*\"))))))))))),\"*\")","v":1.0168034715323888},{"$f":"IFERROR('Baggrundsdata - BVT - deflator'!L75/IF($M$22=$C$20,$L75,IF($L$22=$C$20,$K75,IF($K$22=$C$20,$J75,IF($J$22=$C$20,$I75,IF($I$22=$C$20,'Baggrundsdata - BVT - deflator'!$H75,IF($H$22=$C$20,'Baggrundsdata - BVT - deflator'!$G75,IF($C$20=$G$22,'Baggrundsdata - BVT - deflator'!$F75,IF($F$22=$C$20,'Baggrundsdata - BVT - deflator'!$E75,IF($E$22=$C$20,'Baggrundsdata - BVT - deflator'!$D75,IF($D$22=$C$20,'Baggrundsdata - BVT - deflator'!$C75,IF('Baggrundsdata - BVT - deflator'!$C$22='Baggrundsdata - BVT - deflator'!$C$20,'Baggrundsdata - BVT - deflator'!$B75,\"*\"))))))))))),\"*\")","v":0},null,{"$f":"IF(A75='Level 1'!A55,\"S\",\"falsk\")","v":"S"},null,"Tyskland",{"$f":"IFERROR('Baggrundsdata - BVT - deflator'!B77/IF($AB$22=$R$20,$L77,IF($AA$22=$R$20,$K77,IF($Z$22=$R$20,$J77,IF($Y$22=$R$20,$I77,IF($X$22=$R$20,'Baggrundsdata - BVT - deflator'!$H77,IF($W$22=$R$20,'Baggrundsdata - BVT - deflator'!$G77,IF($R$20=$V$22,'Baggrundsdata - BVT - deflator'!$F77,IF($U$22=$R$20,'Baggrundsdata - BVT - deflator'!$E77,IF($T$22=$R$20,'Baggrundsdata - BVT - deflator'!$D77,IF($S$22=$R$20,'Baggrundsdata - BVT - deflator'!$C77,IF($R$22=$R$20,'Baggrundsdata - BVT - deflator'!$B77,\"*\"))))))))))),\"*\")","v":0.88493123033022292},{"$f":"IFERROR('Baggrundsdata - BVT - deflator'!C77/IF($AB$22=$R$20,$L77,IF($AA$22=$R$20,$K77,IF($Z$22=$R$20,$J77,IF($Y$22=$R$20,$I77,IF($X$22=$R$20,'Baggrundsdata - BVT - deflator'!$H77,IF($W$22=$R$20,'Baggrundsdata - BVT - deflator'!$G77,IF($R$20=$V$22,'Baggrundsdata - BVT - deflator'!$F77,IF($U$22=$R$20,'Baggrundsdata - BVT - deflator'!$E77,IF($T$22=$R$20,'Baggrundsdata - BVT - deflator'!$D77,IF($S$22=$R$20,'Baggrundsdata - BVT - deflator'!$C77,IF($R$22=$R$20,'Baggrundsdata - BVT - deflator'!$B77,\"*\"))))))))))),\"*\")","v":0.89128978685531302},{"$f":"IFERROR('Baggrundsdata - BVT - deflator'!D77/IF($AB$22=$R$20,$L77,IF($AA$22=$R$20,$K77,IF($Z$22=$R$20,$J77,IF($Y$22=$R$20,$I77,IF($X$22=$R$20,'Baggrundsdata - BVT - deflator'!$H77,IF($W$22=$R$20,'Baggrundsdata - BVT - deflator'!$G77,IF($R$20=$V$22,'Baggrundsdata - BVT - deflator'!$F77,IF($U$22=$R$20,'Baggrundsdata - BVT - deflator'!$E77,IF($T$22=$R$20,'Baggrundsdata - BVT - deflator'!$D77,IF($S$22=$R$20,'Baggrundsdata - BVT - deflator'!$C77,IF($R$22=$R$20,'Baggrundsdata - BVT - deflator'!$B77,\"*\"))))))))))),\"*\")","v":0.90941121418150794},{"$f":"IFERROR('Baggrundsdata - BVT - deflator'!E77/IF($AB$22=$R$20,$L77,IF($AA$22=$R$20,$K77,IF($Z$22=$R$20,$J77,IF($Y$22=$R$20,$I77,IF($X$22=$R$20,'Baggrundsdata - BVT - deflator'!$H77,IF($W$22=$R$20,'Baggrundsdata - BVT - deflator'!$G77,IF($R$20=$V$22,'Baggrundsdata - BVT - deflator'!$F77,IF($U$22=$R$20,'Baggrundsdata - BVT - deflator'!$E77,IF($T$22=$R$20,'Baggrundsdata - BVT - deflator'!$D77,IF($S$22=$R$20,'Baggrundsdata - BVT - deflator'!$C77,IF($R$22=$R$20,'Baggrundsdata - BVT - deflator'!$B77,\"*\"))))))))))),\"*\")","v":0.91754062411113257},{"$f":"IFERROR('Baggrundsdata - BVT - deflator'!F77/IF($AB$22=$R$20,$L77,IF($AA$22=$R$20,$K77,IF($Z$22=$R$20,$J77,IF($Y$22=$R$20,$I77,IF($X$22=$R$20,'Baggrundsdata - BVT - deflator'!$H77,IF($W$22=$R$20,'Baggrundsdata - BVT - deflator'!$G77,IF($R$20=$V$22,'Baggrundsdata - BVT - deflator'!$F77,IF($U$22=$R$20,'Baggrundsdata - BVT - deflator'!$E77,IF($T$22=$R$20,'Baggrundsdata - BVT - deflator'!$D77,IF($S$22=$R$20,'Baggrundsdata - BVT - deflator'!$C77,IF($R$22=$R$20,'Baggrundsdata - BVT - deflator'!$B77,\"*\"))))))))))),\"*\")","v":0.92659675007110942},{"$f":"IFERROR('Baggrundsdata - BVT - deflator'!G77/IF($AB$22=$R$20,$L77,IF($AA$22=$R$20,$K77,IF($Z$22=$R$20,$J77,IF($Y$22=$R$20,$I77,IF($X$22=$R$20,'Baggrundsdata - BVT - deflator'!$H77,IF($W$22=$R$20,'Baggrundsdata - BVT - deflator'!$G77,IF($R$20=$V$22,'Baggrundsdata - BVT - deflator'!$F77,IF($U$22=$R$20,'Baggrundsdata - BVT - deflator'!$E77,IF($T$22=$R$20,'Baggrundsdata - BVT - deflator'!$D77,IF($S$22=$R$20,'Baggrundsdata - BVT - deflator'!$C77,IF($R$22=$R$20,'Baggrundsdata - BVT - deflator'!$B77,\"*\"))))))))))),\"*\")","v":0.93973593180838089},{"$f":"IFERROR('Baggrundsdata - BVT - deflator'!H77/IF($AB$22=$R$20,$L77,IF($AA$22=$R$20,$K77,IF($Z$22=$R$20,$J77,IF($Y$22=$R$20,$I77,IF($X$22=$R$20,'Baggrundsdata - BVT - deflator'!$H77,IF($W$22=$R$20,'Baggrundsdata - BVT - deflator'!$G77,IF($R$20=$V$22,'Baggrundsdata - BVT - deflator'!$F77,IF($U$22=$R$20,'Baggrundsdata - BVT - deflator'!$E77,IF($T$22=$R$20,'Baggrundsdata - BVT - deflator'!$D77,IF($S$22=$R$20,'Baggrundsdata - BVT - deflator'!$C77,IF($R$22=$R$20,'Baggrundsdata - BVT - deflator'!$B77,\"*\"))))))))))),\"*\")","v":0.96031636800719367},{"$f":"IFERROR('Baggrundsdata - BVT - deflator'!I77/IF($AB$22=$R$20,$L77,IF($AA$22=$R$20,$K77,IF($Z$22=$R$20,$J77,IF($Y$22=$R$20,$I77,IF($X$22=$R$20,'Baggrundsdata - BVT - deflator'!$H77,IF($W$22=$R$20,'Baggrundsdata - BVT - deflator'!$G77,IF($R$20=$V$22,'Baggrundsdata - BVT - deflator'!$F77,IF($U$22=$R$20,'Baggrundsdata - BVT - deflator'!$E77,IF($T$22=$R$20,'Baggrundsdata - BVT - deflator'!$D77,IF($S$22=$R$20,'Baggrundsdata - BVT - deflator'!$C77,IF($R$22=$R$20,'Baggrundsdata - BVT - deflator'!$B77,\"*\"))))))))))),\"*\")","v":0.97825428720856622},{"$f":"IFERROR('Baggrundsdata - BVT - deflator'!J77/IF($AB$22=$R$20,$L77,IF($AA$22=$R$20,$K77,IF($Z$22=$R$20,$J77,IF($Y$22=$R$20,$I77,IF($X$22=$R$20,'Baggrundsdata - BVT - deflator'!$H77,IF($W$22=$R$20,'Baggrundsdata - BVT - deflator'!$G77,IF($R$20=$V$22,'Baggrundsdata - BVT - deflator'!$F77,IF($U$22=$R$20,'Baggrundsdata - BVT - deflator'!$E77,IF($T$22=$R$20,'Baggrundsdata - BVT - deflator'!$D77,IF($S$22=$R$20,'Baggrundsdata - BVT - deflator'!$C77,IF($R$22=$R$20,'Baggrundsdata - BVT - deflator'!$B77,\"*\"))))))))))),\"*\")","v":1},{"$f":"IFERROR('Baggrundsdata - BVT - deflator'!K77/IF($AB$22=$R$20,$L77,IF($AA$22=$R$20,$K77,IF($Z$22=$R$20,$J77,IF($Y$22=$R$20,$I77,IF($X$22=$R$20,'Baggrundsdata - BVT - deflator'!$H77,IF($W$22=$R$20,'Baggrundsdata - BVT - deflator'!$G77,IF($R$20=$V$22,'Baggrundsdata - BVT - deflator'!$F77,IF($U$22=$R$20,'Baggrundsdata - BVT - deflator'!$E77,IF($T$22=$R$20,'Baggrundsdata - BVT - deflator'!$D77,IF($S$22=$R$20,'Baggrundsdata - BVT - deflator'!$C77,IF($R$22=$R$20,'Baggrundsdata - BVT - deflator'!$B77,\"*\"))))))))))),\"*\")","v":1.0222291004248854},{"$f":"IFERROR('Baggrundsdata - BVT - deflator'!L77/IF($AB$22=$R$20,$L77,IF($AA$22=$R$20,$K77,IF($Z$22=$R$20,$J77,IF($Y$22=$R$20,$I77,IF($X$22=$R$20,'Baggrundsdata - BVT - deflator'!$H77,IF($W$22=$R$20,'Baggrundsdata - BVT - deflator'!$G77,IF($R$20=$V$22,'Baggrundsdata - BVT - deflator'!$F77,IF($U$22=$R$20,'Baggrundsdata - BVT - deflator'!$E77,IF($T$22=$R$20,'Baggrundsdata - BVT - deflator'!$D77,IF($S$22=$R$20,'Baggrundsdata - BVT - deflator'!$C77,IF($R$22=$R$20,'Baggrundsdata - BVT - deflator'!$B77,\"*\"))))))))))),\"*\")","v":0},null,{"$f":"IF(Q26=Forside!B42,\"S\",\"falsk\")","v":"S"}]
[null,"Danmark",{"$f":"IFERROR('Baggrundsdata - BVT - deflator'!B76/IF($M$22=$C$20,$L76,IF($L$22=$C$20,$K76,IF($K$22=$C$20,$J76,IF($J$22=$C$20,$I76,IF($I$22=$C$20,'Baggrundsdata - BVT - deflator'!$H76,IF($H$22=$C$20,'Baggrundsdata - BVT - deflator'!$G76,IF($C$20=$G$22,'Baggrundsdata - BVT - deflator'!$F76,IF($F$22=$C$20,'Baggrundsdata - BVT - deflator'!$E76,IF($E$22=$C$20,'Baggrundsdata - BVT - deflator'!$D76,IF($D$22=$C$20,'Baggrundsdata - BVT - deflator'!$C76,IF('Baggrundsdata - BVT - deflator'!$C$22='Baggrundsdata - BVT - deflator'!$C$20,'Baggrundsdata - BVT - deflator'!$B76,\"*\"))))))))))),\"*\")","v":0.85564783434508962},{"$f":"IFERROR('Baggrundsdata - BVT - deflator'!C76/IF($M$22=$C$20,$L76,IF($L$22=$C$20,$K76,IF($K$22=$C$20,$J76,IF($J$22=$C$20,$I76,IF($I$22=$C$20,'Baggrundsdata - BVT - deflator'!$H76,IF($H$22=$C$20,'Baggrundsdata - BVT - deflator'!$G76,IF($C$20=$G$22,'Baggrundsdata - BVT - deflator'!$F76,IF($F$22=$C$20,'Baggrundsdata - BVT - deflator'!$E76,IF($E$22=$C$20,'Baggrundsdata - BVT - deflator'!$D76,IF($D$22=$C$20,'Baggrundsdata - BVT - deflator'!$C76,IF('Baggrundsdata - BVT - deflator'!$C$22='Baggrundsdata - BVT - deflator'!$C$20,'Baggrundsdata - BVT - deflator'!$B76,\"*\"))))))))))),\"*\")","v":0.89540426799746753},{"$f":"IFERROR('Baggrundsdata - BVT - deflator'!D76/IF($M$22=$C$20,$L76,IF($L$22=$C$20,$K76,IF($K$22=$C$20,$J76,IF($J$22=$C$20,$I76,IF($I$22=$C$20,'Baggrundsdata - BVT - deflator'!$H76,IF($H$22=$C$20,'Baggrundsdata - BVT - deflator'!$G76,IF($C$20=$G$22,'Baggrundsdata - BVT - deflator'!$F76,IF($F$22=$C$20,'Baggrundsdata - BVT - deflator'!$E76,IF($E$22=$C$20,'Baggrundsdata - BVT - deflator'!$D76,IF($D$22=$C$20,'Baggrundsdata - BVT - deflator'!$C76,IF('Baggrundsdata - BVT - deflator'!$C$22='Baggrundsdata - BVT - deflator'!$C$20,'Baggrundsdata - BVT - deflator'!$B76,\"*\"))))))))))),\"*\")","v":0.90095340955644121},{"$f":"IFERROR('Baggrundsdata - BVT - deflator'!E76/IF($M$22=$C$20,$L76,IF($L$22=$C$20,$K76,IF($K$22=$C$20,$J76,IF($J$22=$C$20,$I76,IF($I$22=$C$20,'Baggrundsdata - BVT - deflator'!$H76,IF($H$22=$C$20,'Baggrundsdata - BVT - deflator'!$G76,IF($C$20=$G$22,'Baggrundsdata - BVT - deflator'!$F76,IF($F$22=$C$20,'Baggrundsdata - BVT - deflator'!$E76,IF($E$22=$C$20,'Baggrundsdata - BVT - deflator'!$D76,IF($D$22=$C$20,'Baggrundsdata - BVT - deflator'!$C76,IF('Baggrundsdata - BVT - deflator'!$C$22='Baggrundsdata - BVT - deflator'!$C$20,'Baggrundsdata - BVT - deflator'!$B76,\"*\"))))))))))),\"*\")","v":0.9310640199620126},{"$f":"IFERROR('Baggrundsdata - BVT - deflator'!F76/IF($M$22=$C$20,$L76,IF($L$22=$C$20,$K76,IF($K$22=$C$20,$J76,IF($J$22=$C$20,$I76,IF($I$22=$C$20,'Baggrundsdata - BVT - deflator'!$H76,IF($H$22=$C$20,'Baggrundsdata - BVT - deflator'!$G76,IF($C$20=$G$22,'Baggrundsdata - BVT - deflator'!$F76,IF($F$22=$C$20,'Baggrundsdata - BVT - deflator'!$E76,IF($E$22=$C$20,'Baggrundsdata - BVT - deflator'!$D76,IF($D$22=$C$20,'Baggrundsdata - BVT - deflator'!$C76,IF('Baggrundsdata - BVT - deflator'!$C$22='Baggrundsdata - BVT - deflator'!$C$20,'Baggrundsdata - BVT - deflator'!$B76,\"*\"))))))))))),\"*\")","v":0.93605452310900905},{"$f":"IFERROR('Baggrundsdata - BVT - deflator'!G76/IF($M$22=$C$20,$L76,IF($L$22=$C$20,$K76,IF($K$22=$C$20,$J76,IF($J$22=$C$20,$I76,IF($I$22=$C$20,'Baggrundsdata - BVT - deflator'!$H76,IF($H$22=$C$20,'Baggrundsdata - BVT - deflator'!$G76,IF($C$20=$G$22,'Baggrundsdata - BVT - deflator'!$F76,IF($F$22=$C$20,'Baggrundsdata - BVT - deflator'!$E76,IF($E$22=$C$20,'Baggrundsdata - BVT - deflator'!$D76,IF($D$22=$C$20,'Baggrundsdata - BVT - deflator'!$C76,IF('Baggrundsdata - BVT - deflator'!$C$22='Baggrundsdata - BVT - deflator'!$C$20,'Baggrundsdata - BVT - deflator'!$B76,\"*\"))))))))))),\"*\")","v":0.96380954154407661},{"$f":"IFERROR('Baggrundsdata - BVT - deflator'!H76/IF($M$22=$C$20,$L76,IF($L$22=$C$20,$K76,IF($K$22=$C$20,$J76,IF($J$22=$C$20,$I76,IF($I$22=$C$20,'Baggrundsdata - BVT - deflator'!$H76,IF($H$22=$C$20,'Baggrundsdata - BVT - deflator'!$G76,IF($C$20=$G$22,'Baggrundsdata - BVT - deflator'!$F76,IF($F$22=$C$20,'Baggrundsdata - BVT - deflator'!$E76,IF($E$22=$C$20,'Baggrundsdata - BVT - deflator'!$D76,IF($D$22=$C$20,'Baggrundsdata - BVT - deflator'!$C76,IF('Baggrundsdata - BVT - deflator'!$C$22='Baggrundsdata - BVT - deflator'!$C$20,'Baggrundsdata - BVT - deflator'!$B76,\"*\"))))))))))),\"*\")","v":0.97821310193288891},{"$f":"IFERROR('Baggrundsdata - BVT - deflator'!I76/IF($M$22=$C$20,$L76,IF($L$22=$C$20,$K76,IF($K$22=$C$20,$J76,IF($J$22=$C$20,$I76,IF($I$22=$C$20,'Baggrundsdata - BVT - deflator'!$H76,IF($H$22=$C$20,'Baggrundsdata - BVT - deflator'!$G76,IF($C$20=$G$22,'Baggrundsdata - BVT - deflator'!$F76,IF($F$22=$C$20,'Baggrundsdata - BVT - deflator'!$E76,IF($E$22=$C$20,'Baggrundsdata - BVT - deflator'!$D76,IF($D$22=$C$20,'Baggrundsdata - BVT - deflator'!$C76,IF('Baggrundsdata - BVT - deflator'!$C$22='Baggrundsdata - BVT - deflator'!$C$20,'Baggrundsdata - BVT - deflator'!$B76,\"*\"))))))))))),\"*\")","v":0.98758891661390635},{"$f":"IFERROR('Baggrundsdata - BVT - deflator'!J76/IF($M$22=$C$20,$L76,IF($L$22=$C$20,$K76,IF($K$22=$C$20,$J76,IF($J$22=$C$20,$I76,IF($I$22=$C$20,'Baggrundsdata - BVT - deflator'!$H76,IF($H$22=$C$20,'Baggrundsdata - BVT - deflator'!$G76,IF($C$20=$G$22,'Baggrundsdata - BVT - deflator'!$F76,IF($F$22=$C$20,'Baggrundsdata - BVT - deflator'!$E76,IF($E$22=$C$20,'Baggrundsdata - BVT - deflator'!$D76,IF($D$22=$C$20,'Baggrundsdata - BVT - deflator'!$C76,IF('Baggrundsdata - BVT - deflator'!$C$22='Baggrundsdata - BVT - deflator'!$C$20,'Baggrundsdata - BVT - deflator'!$B76,\"*\"))))))))))),\"*\")","v":1},{"$f":"IFERROR('Baggrundsdata - BVT - deflator'!K76/IF($M$22=$C$20,$L76,IF($L$22=$C$20,$K76,IF($K$22=$C$20,$J76,IF($J$22=$C$20,$I76,IF($I$22=$C$20,'Baggrundsdata - BVT - deflator'!$H76,IF($H$22=$C$20,'Baggrundsdata - BVT - deflator'!$G76,IF($C$20=$G$22,'Baggrundsdata - BVT - deflator'!$F76,IF($F$22=$C$20,'Baggrundsdata - BVT - deflator'!$E76,IF($E$22=$C$20,'Baggrundsdata - BVT - deflator'!$D76,IF($D$22=$C$20,'Baggrundsdata - BVT - deflator'!$C76,IF('Baggrundsdata - BVT - deflator'!$C$22='Baggrundsdata - BVT - deflator'!$C$20,'Baggrundsdata - BVT - deflator'!$B76,\"*\"))))))))))),\"*\")","v":1.0125670541429797},{"$f":"IFERROR('Baggrundsdata - BVT - deflator'!L76/IF($M$22=$C$20,$L76,IF($L$22=$C$20,$K76,IF($K$22=$C$20,$J76,IF($J$22=$C$20,$I76,IF($I$22=$C$20,'Baggrundsdata - BVT - deflator'!$H76,IF($H$22=$C$20,'Baggrundsdata - BVT - deflator'!$G76,IF($C$20=$G$22,'Baggrundsdata - BVT - deflator'!$F76,IF($F$22=$C$20,'Baggrundsdata - BVT - deflator'!$E76,IF($E$22=$C$20,'Baggrundsdata - BVT - deflator'!$D76,IF($D$22=$C$20,'Baggrundsdata - BVT - deflator'!$C76,IF('Baggrundsdata - BVT - deflator'!$C$22='Baggrundsdata - BVT - deflator'!$C$20,'Baggrundsdata - BVT - deflator'!$B76,\"*\"))))))))))),\"*\")","v":0},null,{"$f":"IF(A76='Level 1'!A56,\"S\",\"falsk\")","v":"S"},null,"Frankrig",{"$f":"IFERROR('Baggrundsdata - BVT - deflator'!B82/IF($AB$22=$R$20,$L82,IF($AA$22=$R$20,$K82,IF($Z$22=$R$20,$J82,IF($Y$22=$R$20,$I82,IF($X$22=$R$20,'Baggrundsdata - BVT - deflator'!$H82,IF($W$22=$R$20,'Baggrundsdata - BVT - deflator'!$G82,IF($R$20=$V$22,'Baggrundsdata - BVT - deflator'!$F82,IF($U$22=$R$20,'Baggrundsdata - BVT - deflator'!$E82,IF($T$22=$R$20,'Baggrundsdata - BVT - deflator'!$D82,IF($S$22=$R$20,'Baggrundsdata - BVT - deflator'!$C82,IF($R$22=$R$20,'Baggrundsdata - BVT - deflator'!$B82,\"*\"))))))))))),\"*\")","v":0.93063394209526007},{"$f":"IFERROR('Baggrundsdata - BVT - deflator'!C82/IF($AB$22=$R$20,$L82,IF($AA$22=$R$20,$K82,IF($Z$22=$R$20,$J82,IF($Y$22=$R$20,$I82,IF($X$22=$R$20,'Baggrundsdata - BVT - deflator'!$H82,IF($W$22=$R$20,'Baggrundsdata - BVT - deflator'!$G82,IF($R$20=$V$22,'Baggrundsdata - BVT - deflator'!$F82,IF($U$22=$R$20,'Baggrundsdata - BVT - deflator'!$E82,IF($T$22=$R$20,'Baggrundsdata - BVT - deflator'!$D82,IF($S$22=$R$20,'Baggrundsdata - BVT - deflator'!$C82,IF($R$22=$R$20,'Baggrundsdata - BVT - deflator'!$B82,\"*\"))))))))))),\"*\")","v":0.95273653439842554},{"$f":"IFERROR('Baggrundsdata - BVT - deflator'!D82/IF($AB$22=$R$20,$L82,IF($AA$22=$R$20,$K82,IF($Z$22=$R$20,$J82,IF($Y$22=$R$20,$I82,IF($X$22=$R$20,'Baggrundsdata - BVT - deflator'!$H82,IF($W$22=$R$20,'Baggrundsdata - BVT - deflator'!$G82,IF($R$20=$V$22,'Baggrundsdata - BVT - deflator'!$F82,IF($U$22=$R$20,'Baggrundsdata - BVT - deflator'!$E82,IF($T$22=$R$20,'Baggrundsdata - BVT - deflator'!$D82,IF($S$22=$R$20,'Baggrundsdata - BVT - deflator'!$C82,IF($R$22=$R$20,'Baggrundsdata - BVT - deflator'!$B82,\"*\"))))))))))),\"*\")","v":0.95543785515132218},{"$f":"IFERROR('Baggrundsdata - BVT - deflator'!E82/IF($AB$22=$R$20,$L82,IF($AA$22=$R$20,$K82,IF($Z$22=$R$20,$J82,IF($Y$22=$R$20,$I82,IF($X$22=$R$20,'Baggrundsdata - BVT - deflator'!$H82,IF($W$22=$R$20,'Baggrundsdata - BVT - deflator'!$G82,IF($R$20=$V$22,'Baggrundsdata - BVT - deflator'!$F82,IF($U$22=$R$20,'Baggrundsdata - BVT - deflator'!$E82,IF($T$22=$R$20,'Baggrundsdata - BVT - deflator'!$D82,IF($S$22=$R$20,'Baggrundsdata - BVT - deflator'!$C82,IF($R$22=$R$20,'Baggrundsdata - BVT - deflator'!$B82,\"*\"))))))))))),\"*\")","v":0.96475741174881569},{"$f":"IFERROR('Baggrundsdata - BVT - deflator'!F82/IF($AB$22=$R$20,$L82,IF($AA$22=$R$20,$K82,IF($Z$22=$R$20,$J82,IF($Y$22=$R$20,$I82,IF($X$22=$R$20,'Baggrundsdata - BVT - deflator'!$H82,IF($W$22=$R$20,'Baggrundsdata - BVT - deflator'!$G82,IF($R$20=$V$22,'Baggrundsdata - BVT - deflator'!$F82,IF($U$22=$R$20,'Baggrundsdata - BVT - deflator'!$E82,IF($T$22=$R$20,'Baggrundsdata - BVT - deflator'!$D82,IF($S$22=$R$20,'Baggrundsdata - BVT - deflator'!$C82,IF($R$22=$R$20,'Baggrundsdata - BVT - deflator'!$B82,\"*\"))))))))))),\"*\")","v":0.97025652899578385},{"$f":"IFERROR('Baggrundsdata - BVT - deflator'!G82/IF($AB$22=$R$20,$L82,IF($AA$22=$R$20,$K82,IF($Z$22=$R$20,$J82,IF($Y$22=$R$20,$I82,IF($X$22=$R$20,'Baggrundsdata - BVT - deflator'!$H82,IF($W$22=$R$20,'Baggrundsdata - BVT - deflator'!$G82,IF($R$20=$V$22,'Baggrundsdata - BVT - deflator'!$F82,IF($U$22=$R$20,'Baggrundsdata - BVT - deflator'!$E82,IF($T$22=$R$20,'Baggrundsdata - BVT - deflator'!$D82,IF($S$22=$R$20,'Baggrundsdata - BVT - deflator'!$C82,IF($R$22=$R$20,'Baggrundsdata - BVT - deflator'!$B82,\"*\"))))))))))),\"*\")","v":0.9787174514968211},{"$f":"IFERROR('Baggrundsdata - BVT - deflator'!H82/IF($AB$22=$R$20,$L82,IF($AA$22=$R$20,$K82,IF($Z$22=$R$20,$J82,IF($Y$22=$R$20,$I82,IF($X$22=$R$20,'Baggrundsdata - BVT - deflator'!$H82,IF($W$22=$R$20,'Baggrundsdata - BVT - deflator'!$G82,IF($R$20=$V$22,'Baggrundsdata - BVT - deflator'!$F82,IF($U$22=$R$20,'Baggrundsdata - BVT - deflator'!$E82,IF($T$22=$R$20,'Baggrundsdata - BVT - deflator'!$D82,IF($S$22=$R$20,'Baggrundsdata - BVT - deflator'!$C82,IF($R$22=$R$20,'Baggrundsdata - BVT - deflator'!$B82,\"*\"))))))))))),\"*\")","v":0.98513308828495061},{"$f":"IFERROR('Baggrundsdata - BVT - deflator'!I82/IF($AB$22=$R$20,$L82,IF($AA$22=$R$20,$K82,IF($Z$22=$R$20,$J82,IF($Y$22=$R$20,$I82,IF($X$22=$R$20,'Baggrundsdata - BVT - deflator'!$H82,IF($W$22=$R$20,'Baggrundsdata - BVT - deflator'!$G82,IF($R$20=$V$22,'Baggrundsdata - BVT - deflator'!$F82,IF($U$22=$R$20,'Baggrundsdata - BVT - deflator'!$E82,IF($T$22=$R$20,'Baggrundsdata - BVT - deflator'!$D82,IF($S$22=$R$20,'Baggrundsdata - BVT - deflator'!$C82,IF($R$22=$R$20,'Baggrundsdata - BVT - deflator'!$B82,\"*\"))))))))))),\"*\")","v":0.98779581874137745},{"$f":"IFERROR('Baggrundsdata - BVT - deflator'!J82/IF($AB$22=$R$20,$L82,IF($AA$22=$R$20,$K82,IF($Z$22=$R$20,$J82,IF($Y$22=$R$20,$I82,IF($X$22=$R$20,'Baggrundsdata - BVT - deflator'!$H82,IF($W$22=$R$20,'Baggrundsdata - BVT - deflator'!$G82,IF($R$20=$V$22,'Baggrundsdata - BVT - deflator'!$F82,IF($U$22=$R$20,'Baggrundsdata - BVT - deflator'!$E82,IF($T$22=$R$20,'Baggrundsdata - BVT - deflator'!$D82,IF($S$22=$R$20,'Baggrundsdata - BVT - deflator'!$C82,IF($R$22=$R$20,'Baggrundsdata - BVT - deflator'!$B82,\"*\"))))))))))),\"*\")","v":1},{"$f":"IFERROR('Baggrundsdata - BVT - deflator'!K82/IF($AB$22=$R$20,$L82,IF($AA$22=$R$20,$K82,IF($Z$22=$R$20,$J82,IF($Y$22=$R$20,$I82,IF($X$22=$R$20,'Baggrundsdata - BVT - deflator'!$H82,IF($W$22=$R$20,'Baggrundsdata - BVT - deflator'!$G82,IF($R$20=$V$22,'Baggrundsdata - BVT - deflator'!$F82,IF($U$22=$R$20,'Baggrundsdata - BVT - deflator'!$E82,IF($T$22=$R$20,'Baggrundsdata - BVT - deflator'!$D82,IF($S$22=$R$20,'Baggrundsdata - BVT - deflator'!$C82,IF($R$22=$R$20,'Baggrundsdata - BVT - deflator'!$B82,\"*\"))))))))))),\"*\")","v":1.0123549634722819},{"$f":"IFERROR('Baggrundsdata - BVT - deflator'!L82/IF($AB$22=$R$20,$L82,IF($AA$22=$R$20,$K82,IF($Z$22=$R$20,$J82,IF($Y$22=$R$20,$I82,IF($X$22=$R$20,'Baggrundsdata - BVT - deflator'!$H82,IF($W$22=$R$20,'Baggrundsdata - BVT - deflator'!$G82,IF($R$20=$V$22,'Baggrundsdata - BVT - deflator'!$F82,IF($U$22=$R$20,'Baggrundsdata - BVT - deflator'!$E82,IF($T$22=$R$20,'Baggrundsdata - BVT - deflator'!$D82,IF($S$22=$R$20,'Baggrundsdata - BVT - deflator'!$C82,IF($R$22=$R$20,'Baggrundsdata - BVT - deflator'!$B82,\"*\"))))))))))),\"*\")","v":0},null,{"$f":"IF(Q27=Forside!B43,\"S\",\"falsk\")","v":"S"}]
[null,"Tyskland",{"$f":"IFERROR('Baggrundsdata - BVT - deflator'!B77/IF($M$22=$C$20,$L77,IF($L$22=$C$20,$K77,IF($K$22=$C$20,$J77,IF($J$22=$C$20,$I77,IF($I$22=$C$20,'Baggrundsdata - BVT - deflator'!$H77,IF($H$22=$C$20,'Baggrundsdata - BVT - deflator'!$G77,IF($C$20=$G$22,'Baggrundsdata - BVT - deflator'!$F77,IF($F$22=$C$20,'Baggrundsdata - BVT - deflator'!$E77,IF($E$22=$C$20,'Baggrundsdata - BVT - deflator'!$D77,IF($D$22=$C$20,'Baggrundsdata - BVT - deflator'!$C77,IF('Baggrundsdata - BVT - deflator'!$C$22='Baggrundsdata - BVT - deflator'!$C$20,'Baggrundsdata - BVT - deflator'!$B77,\"*\"))))))))))),\"*\")","v":0.88493123033022292},{"$f":"IFERROR('Baggrundsdata - BVT - deflator'!C77/IF($M$22=$C$20,$L77,IF($L$22=$C$20,$K77,IF($K$22=$C$20,$J77,IF($J$22=$C$20,$I77,IF($I$22=$C$20,'Baggrundsdata - BVT - deflator'!$H77,IF($H$22=$C$20,'Baggrundsdata - BVT - deflator'!$G77,IF($C$20=$G$22,'Baggrundsdata - BVT - deflator'!$F77,IF($F$22=$C$20,'Baggrundsdata - BVT - deflator'!$E77,IF($E$22=$C$20,'Baggrundsdata - BVT - deflator'!$D77,IF($D$22=$C$20,'Baggrundsdata - BVT - deflator'!$C77,IF('Baggrundsdata - BVT - deflator'!$C$22='Baggrundsdata - BVT - deflator'!$C$20,'Baggrundsdata - BVT - deflator'!$B77,\"*\"))))))))))),\"*\")","v":0.89128978685531302},{"$f":"IFERROR('Baggrundsdata - BVT - deflator'!D77/IF($M$22=$C$20,$L77,IF($L$22=$C$20,$K77,IF($K$22=$C$20,$J77,IF($J$22=$C$20,$I77,IF($I$22=$C$20,'Baggrundsdata - BVT - deflator'!$H77,IF($H$22=$C$20,'Baggrundsdata - BVT - deflator'!$G77,IF($C$20=$G$22,'Baggrundsdata - BVT - deflator'!$F77,IF($F$22=$C$20,'Baggrundsdata - BVT - deflator'!$E77,IF($E$22=$C$20,'Baggrundsdata - BVT - deflator'!$D77,IF($D$22=$C$20,'Baggrundsdata - BVT - deflator'!$C77,IF('Baggrundsdata - BVT - deflator'!$C$22='Baggrundsdata - BVT - deflator'!$C$20,'Baggrundsdata - BVT - deflator'!$B77,\"*\"))))))))))),\"*\")","v":0.90941121418150794},{"$f":"IFERROR('Baggrundsdata - BVT - deflator'!E77/IF($M$22=$C$20,$L77,IF($L$22=$C$20,$K77,IF($K$22=$C$20,$J77,IF($J$22=$C$20,$I77,IF($I$22=$C$20,'Baggrundsdata - BVT - deflator'!$H77,IF($H$22=$C$20,'Baggrundsdata - BVT - deflator'!$G77,IF($C$20=$G$22,'Baggrundsdata - BVT - deflator'!$F77,IF($F$22=$C$20,'Baggrundsdata - BVT - deflator'!$E77,IF($E$22=$C$20,'Baggrundsdata - BVT - deflator'!$D77,IF($D$22=$C$20,'Baggrundsdata - BVT - deflator'!$C77,IF('Baggrundsdata - BVT - deflator'!$C$22='Baggrundsdata - BVT - deflator'!$C$20,'Baggrundsdata - BVT - deflator'!$B77,\"*\"))))))))))),\"*\")","v":0.91754062411113257},{"$f":"IFERROR('Baggrundsdata - BVT - deflator'!F77/IF($M$22=$C$20,$L77,IF($L$22=$C$20,$K77,IF($K$22=$C$20,$J77,IF($J$22=$C$20,$I77,IF($I$22=$C$20,'Baggrundsdata - BVT - deflator'!$H77,IF($H$22=$C$20,'Baggrundsdata - BVT - deflator'!$G77,IF($C$20=$G$22,'Baggrundsdata - BVT - deflator'!$F77,IF($F$22=$C$20,'Baggrundsdata - BVT - deflator'!$E77,IF($E$22=$C$20,'Baggrundsdata - BVT - deflator'!$D77,IF($D$22=$C$20,'Baggrundsdata - BVT - deflator'!$C77,IF('Baggrundsdata - BVT - deflator'!$C$22='Baggrundsdata - BVT - deflator'!$C$20,'Baggrundsdata - BVT - deflator'!$B77,\"*\"))))))))))),\"*\")","v":0.92659675007110942},{"$f":"IFERROR('Baggrundsdata - BVT - deflator'!G77/IF($M$22=$C$20,$L77,IF($L$22=$C$20,$K77,IF($K$22=$C$20,$J77,IF($J$22=$C$20,$I77,IF($I$22=$C$20,'Baggrundsdata - BVT - deflator'!$H77,IF($H$22=$C$20,'Baggrundsdata - BVT - deflator'!$G77,IF($C$20=$G$22,'Baggrundsdata - BVT - deflator'!$F77,IF($F$22=$C$20,'Baggrundsdata - BVT - deflator'!$E77,IF($E$22=$C$20,'Baggrundsdata - BVT - deflator'!$D77,IF($D$22=$C$20,'Baggrundsdata - BVT - deflator'!$C77,IF('Baggrundsdata - BVT - deflator'!$C$22='Baggrundsdata - BVT - deflator'!$C$20,'Baggrundsdata - BVT - deflator'!$B77,\"*\"))))))))))),\"*\")","v":0.93973593180838089},{"$f":"IFERROR('Baggrundsdata - BVT - deflator'!H77/IF($M$22=$C$20,$L77,IF($L$22=$C$20,$K77,IF($K$22=$C$20,$J77,IF($J$22=$C$20,$I77,IF($I$22=$C$20,'Baggrundsdata - BVT - deflator'!$H77,IF($H$22=$C$20,'Baggrundsdata - BVT - deflator'!$G77,IF($C$20=$G$22,'Baggrundsdata - BVT - deflator'!$F77,IF($F$22=$C$20,'Baggrundsdata - BVT - deflator'!$E77,IF($E$22=$C$20,'Baggrundsdata - BVT - deflator'!$D77,IF($D$22=$C$20,'Baggrundsdata - BVT - deflator'!$C77,IF('Baggrundsdata - BVT - deflator'!$C$22='Baggrundsdata - BVT - deflator'!$C$20,'Baggrundsdata - BVT - deflator'!$B77,\"*\"))))))))))),\"*\")","v":0.96031636800719367},{"$f":"IFERROR('Baggrundsdata - BVT - deflator'!I77/IF($M$22=$C$20,$L77,IF($L$22=$C$20,$K77,IF($K$22=$C$20,$J77,IF($J$22=$C$20,$I77,IF($I$22=$C$20,'Baggrundsdata - BVT - deflator'!$H77,IF($H$22=$C$20,'Baggrundsdata - BVT - deflator'!$G77,IF($C$20=$G$22,'Baggrundsdata - BVT - deflator'!$F77,IF($F$22=$C$20,'Baggrundsdata - BVT - deflator'!$E77,IF($E$22=$C$20,'Baggrundsdata - BVT - deflator'!$D77,IF($D$22=$C$20,'Baggrundsdata - BVT - deflator'!$C77,IF('Baggrundsdata - BVT - deflator'!$C$22='Baggrundsdata - BVT - deflator'!$C$20,'Baggrundsdata - BVT - deflator'!$B77,\"*\"))))))))))),\"*\")","v":0.97825428720856622},{"$f":"IFERROR('Baggrundsdata - BVT - deflator'!J77/IF($M$22=$C$20,$L77,IF($L$22=$C$20,$K77,IF($K$22=$C$20,$J77,IF($J$22=$C$20,$I77,IF($I$22=$C$20,'Baggrundsdata - BVT - deflator'!$H77,IF($H$22=$C$20,'Baggrundsdata - BVT - deflator'!$G77,IF($C$20=$G$22,'Baggrundsdata - BVT - deflator'!$F77,IF($F$22=$C$20,'Baggrundsdata - BVT - deflator'!$E77,IF($E$22=$C$20,'Baggrundsdata - BVT - deflator'!$D77,IF($D$22=$C$20,'Baggrundsdata - BVT - deflator'!$C77,IF('Baggrundsdata - BVT - deflator'!$C$22='Baggrundsdata - BVT - deflator'!$C$20,'Baggrundsdata - BVT - deflator'!$B77,\"*\"))))))))))),\"*\")","v":1},{"$f":"IFERROR('Baggrundsdata - BVT - deflator'!K77/IF($M$22=$C$20,$L77,IF($L$22=$C$20,$K77,IF($K$22=$C$20,$J77,IF($J$22=$C$20,$I77,IF($I$22=$C$20,'Baggrundsdata - BVT - deflator'!$H77,IF($H$22=$C$20,'Baggrundsdata - BVT - deflator'!$G77,IF($C$20=$G$22,'Baggrundsdata - BVT - deflator'!$F77,IF($F$22=$C$20,'Baggrundsdata - BVT - deflator'!$E77,IF($E$22=$C$20,'Baggrundsdata - BVT - deflator'!$D77,IF($D$22=$C$20,'Baggrundsdata - BVT - deflator'!$C77,IF('Baggrundsdata - BVT - deflator'!$C$22='Baggrundsdata - BVT - deflator'!$C$20,'Baggrundsdata - BVT - deflator'!$B77,\"*\"))))))))))),\"*\")","v":1.0222291004248854},{"$f":"IFERROR('Baggrundsdata - BVT - deflator'!L77/IF($M$22=$C$20,$L77,IF($L$22=$C$20,$K77,IF($K$22=$C$20,$J77,IF($J$22=$C$20,$I77,IF($I$22=$C$20,'Baggrundsdata - BVT - deflator'!$H77,IF($H$22=$C$20,'Baggrundsdata - BVT - deflator'!$G77,IF($C$20=$G$22,'Baggrundsdata - BVT - deflator'!$F77,IF($F$22=$C$20,'Baggrundsdata - BVT - deflator'!$E77,IF($E$22=$C$20,'Baggrundsdata - BVT - deflator'!$D77,IF($D$22=$C$20,'Baggrundsdata - BVT - deflator'!$C77,IF('Baggrundsdata - BVT - deflator'!$C$22='Baggrundsdata - BVT - deflator'!$C$20,'Baggrundsdata - BVT - deflator'!$B77,\"*\"))))))))))),\"*\")","v":0},null,{"$f":"IF(A77='Level 1'!A57,\"S\",\"falsk\")","v":"S"},null,"Italien",{"$f":"IFERROR('Baggrundsdata - BVT - deflator'!B84/IF($AB$22=$R$20,$L84,IF($AA$22=$R$20,$K84,IF($Z$22=$R$20,$J84,IF($Y$22=$R$20,$I84,IF($X$22=$R$20,'Baggrundsdata - BVT - deflator'!$H84,IF($W$22=$R$20,'Baggrundsdata - BVT - deflator'!$G84,IF($R$20=$V$22,'Baggrundsdata - BVT - deflator'!$F84,IF($U$22=$R$20,'Baggrundsdata - BVT - deflator'!$E84,IF($T$22=$R$20,'Baggrundsdata - BVT - deflator'!$D84,IF($S$22=$R$20,'Baggrundsdata - BVT - deflator'!$C84,IF($R$22=$R$20,'Baggrundsdata - BVT - deflator'!$B84,\"*\"))))))))))),\"*\")","v":0.91008751024765966},{"$f":"IFERROR('Baggrundsdata - BVT - deflator'!C84/IF($AB$22=$R$20,$L84,IF($AA$22=$R$20,$K84,IF($Z$22=$R$20,$J84,IF($Y$22=$R$20,$I84,IF($X$22=$R$20,'Baggrundsdata - BVT - deflator'!$H84,IF($W$22=$R$20,'Baggrundsdata - BVT - deflator'!$G84,IF($R$20=$V$22,'Baggrundsdata - BVT - deflator'!$F84,IF($U$22=$R$20,'Baggrundsdata - BVT - deflator'!$E84,IF($T$22=$R$20,'Baggrundsdata - BVT - deflator'!$D84,IF($S$22=$R$20,'Baggrundsdata - BVT - deflator'!$C84,IF($R$22=$R$20,'Baggrundsdata - BVT - deflator'!$B84,\"*\"))))))))))),\"*\")","v":0.93513946349926591},{"$f":"IFERROR('Baggrundsdata - BVT - deflator'!D84/IF($AB$22=$R$20,$L84,IF($AA$22=$R$20,$K84,IF($Z$22=$R$20,$J84,IF($Y$22=$R$20,$I84,IF($X$22=$R$20,'Baggrundsdata - BVT - deflator'!$H84,IF($W$22=$R$20,'Baggrundsdata - BVT - deflator'!$G84,IF($R$20=$V$22,'Baggrundsdata - BVT - deflator'!$F84,IF($U$22=$R$20,'Baggrundsdata - BVT - deflator'!$E84,IF($T$22=$R$20,'Baggrundsdata - BVT - deflator'!$D84,IF($S$22=$R$20,'Baggrundsdata - BVT - deflator'!$C84,IF($R$22=$R$20,'Baggrundsdata - BVT - deflator'!$B84,\"*\"))))))))))),\"*\")","v":0.95533926903204891},{"$f":"IFERROR('Baggrundsdata - BVT - deflator'!E84/IF($AB$22=$R$20,$L84,IF($AA$22=$R$20,$K84,IF($Z$22=$R$20,$J84,IF($Y$22=$R$20,$I84,IF($X$22=$R$20,'Baggrundsdata - BVT - deflator'!$H84,IF($W$22=$R$20,'Baggrundsdata - BVT - deflator'!$G84,IF($R$20=$V$22,'Baggrundsdata - BVT - deflator'!$F84,IF($U$22=$R$20,'Baggrundsdata - BVT - deflator'!$E84,IF($T$22=$R$20,'Baggrundsdata - BVT - deflator'!$D84,IF($S$22=$R$20,'Baggrundsdata - BVT - deflator'!$C84,IF($R$22=$R$20,'Baggrundsdata - BVT - deflator'!$B84,\"*\"))))))))))),\"*\")","v":0.95327067167451529},{"$f":"IFERROR('Baggrundsdata - BVT - deflator'!F84/IF($AB$22=$R$20,$L84,IF($AA$22=$R$20,$K84,IF($Z$22=$R$20,$J84,IF($Y$22=$R$20,$I84,IF($X$22=$R$20,'Baggrundsdata - BVT - deflator'!$H84,IF($W$22=$R$20,'Baggrundsdata - BVT - deflator'!$G84,IF($R$20=$V$22,'Baggrundsdata - BVT - deflator'!$F84,IF($U$22=$R$20,'Baggrundsdata - BVT - deflator'!$E84,IF($T$22=$R$20,'Baggrundsdata - BVT - deflator'!$D84,IF($S$22=$R$20,'Baggrundsdata - BVT - deflator'!$C84,IF($R$22=$R$20,'Baggrundsdata - BVT - deflator'!$B84,\"*\"))))))))))),\"*\")","v":0.96551066709881606},{"$f":"IFERROR('Baggrundsdata - BVT - deflator'!G84/IF($AB$22=$R$20,$L84,IF($AA$22=$R$20,$K84,IF($Z$22=$R$20,$J84,IF($Y$22=$R$20,$I84,IF($X$22=$R$20,'Baggrundsdata - BVT - deflator'!$H84,IF($W$22=$R$20,'Baggrundsdata - BVT - deflator'!$G84,IF($R$20=$V$22,'Baggrundsdata - BVT - deflator'!$F84,IF($U$22=$R$20,'Baggrundsdata - BVT - deflator'!$E84,IF($T$22=$R$20,'Baggrundsdata - BVT - deflator'!$D84,IF($S$22=$R$20,'Baggrundsdata - BVT - deflator'!$C84,IF($R$22=$R$20,'Baggrundsdata - BVT - deflator'!$B84,\"*\"))))))))))),\"*\")","v":0.97472879449390859},{"$f":"IFERROR('Baggrundsdata - BVT - deflator'!H84/IF($AB$22=$R$20,$L84,IF($AA$22=$R$20,$K84,IF($Z$22=$R$20,$J84,IF($Y$22=$R$20,$I84,IF($X$22=$R$20,'Baggrundsdata - BVT - deflator'!$H84,IF($W$22=$R$20,'Baggrundsdata - BVT - deflator'!$G84,IF($R$20=$V$22,'Baggrundsdata - BVT - deflator'!$F84,IF($U$22=$R$20,'Baggrundsdata - BVT - deflator'!$E84,IF($T$22=$R$20,'Baggrundsdata - BVT - deflator'!$D84,IF($S$22=$R$20,'Baggrundsdata - BVT - deflator'!$C84,IF($R$22=$R$20,'Baggrundsdata - BVT - deflator'!$B84,\"*\"))))))))))),\"*\")","v":0.98702598615850978},{"$f":"IFERROR('Baggrundsdata - BVT - deflator'!I84/IF($AB$22=$R$20,$L84,IF($AA$22=$R$20,$K84,IF($Z$22=$R$20,$J84,IF($Y$22=$R$20,$I84,IF($X$22=$R$20,'Baggrundsdata - BVT - deflator'!$H84,IF($W$22=$R$20,'Baggrundsdata - BVT - deflator'!$G84,IF($R$20=$V$22,'Baggrundsdata - BVT - deflator'!$F84,IF($U$22=$R$20,'Baggrundsdata - BVT - deflator'!$E84,IF($T$22=$R$20,'Baggrundsdata - BVT - deflator'!$D84,IF($S$22=$R$20,'Baggrundsdata - BVT - deflator'!$C84,IF($R$22=$R$20,'Baggrundsdata - BVT - deflator'!$B84,\"*\"))))))))))),\"*\")","v":0.99167794703628143},{"$f":"IFERROR('Baggrundsdata - BVT - deflator'!J84/IF($AB$22=$R$20,$L84,IF($AA$22=$R$20,$K84,IF($Z$22=$R$20,$J84,IF($Y$22=$R$20,$I84,IF($X$22=$R$20,'Baggrundsdata - BVT - deflator'!$H84,IF($W$22=$R$20,'Baggrundsdata - BVT - deflator'!$G84,IF($R$20=$V$22,'Baggrundsdata - BVT - deflator'!$F84,IF($U$22=$R$20,'Baggrundsdata - BVT - deflator'!$E84,IF($T$22=$R$20,'Baggrundsdata - BVT - deflator'!$D84,IF($S$22=$R$20,'Baggrundsdata - BVT - deflator'!$C84,IF($R$22=$R$20,'Baggrundsdata - BVT - deflator'!$B84,\"*\"))))))))))),\"*\")","v":1},{"$f":"IFERROR('Baggrundsdata - BVT - deflator'!K84/IF($AB$22=$R$20,$L84,IF($AA$22=$R$20,$K84,IF($Z$22=$R$20,$J84,IF($Y$22=$R$20,$I84,IF($X$22=$R$20,'Baggrundsdata - BVT - deflator'!$H84,IF($W$22=$R$20,'Baggrundsdata - BVT - deflator'!$G84,IF($R$20=$V$22,'Baggrundsdata - BVT - deflator'!$F84,IF($U$22=$R$20,'Baggrundsdata - BVT - deflator'!$E84,IF($T$22=$R$20,'Baggrundsdata - BVT - deflator'!$D84,IF($S$22=$R$20,'Baggrundsdata - BVT - deflator'!$C84,IF($R$22=$R$20,'Baggrundsdata - BVT - deflator'!$B84,\"*\"))))))))))),\"*\")","v":1.0083918907227793},{"$f":"IFERROR('Baggrundsdata - BVT - deflator'!L84/IF($AB$22=$R$20,$L84,IF($AA$22=$R$20,$K84,IF($Z$22=$R$20,$J84,IF($Y$22=$R$20,$I84,IF($X$22=$R$20,'Baggrundsdata - BVT - deflator'!$H84,IF($W$22=$R$20,'Baggrundsdata - BVT - deflator'!$G84,IF($R$20=$V$22,'Baggrundsdata - BVT - deflator'!$F84,IF($U$22=$R$20,'Baggrundsdata - BVT - deflator'!$E84,IF($T$22=$R$20,'Baggrundsdata - BVT - deflator'!$D84,IF($S$22=$R$20,'Baggrundsdata - BVT - deflator'!$C84,IF($R$22=$R$20,'Baggrundsdata - BVT - deflator'!$B84,\"*\"))))))))))),\"*\")","v":0},null,{"$f":"IF(Q28=Forside!B44,\"S\",\"falsk\")","v":"S"}]
[null,"Estland",{"$f":"IFERROR('Baggrundsdata - BVT - deflator'!B78/IF($M$22=$C$20,$L78,IF($L$22=$C$20,$K78,IF($K$22=$C$20,$J78,IF($J$22=$C$20,$I78,IF($I$22=$C$20,'Baggrundsdata - BVT - deflator'!$H78,IF($H$22=$C$20,'Baggrundsdata - BVT - deflator'!$G78,IF($C$20=$G$22,'Baggrundsdata - BVT - deflator'!$F78,IF($F$22=$C$20,'Baggrundsdata - BVT - deflator'!$E78,IF($E$22=$C$20,'Baggrundsdata - BVT - deflator'!$D78,IF($D$22=$C$20,'Baggrundsdata - BVT - deflator'!$C78,IF('Baggrundsdata - BVT - deflator'!$C$22='Baggrundsdata - BVT - deflator'!$C$20,'Baggrundsdata - BVT - deflator'!$B78,\"*\"))))))))))),\"*\")","v":0.80693204981072608},{"$f":"IFERROR('Baggrundsdata - BVT - deflator'!C78/IF($M$22=$C$20,$L78,IF($L$22=$C$20,$K78,IF($K$22=$C$20,$J78,IF($J$22=$C$20,$I78,IF($I$22=$C$20,'Baggrundsdata - BVT - deflator'!$H78,IF($H$22=$C$20,'Baggrundsdata - BVT - deflator'!$G78,IF($C$20=$G$22,'Baggrundsdata - BVT - deflator'!$F78,IF($F$22=$C$20,'Baggrundsdata - BVT - deflator'!$E78,IF($E$22=$C$20,'Baggrundsdata - BVT - deflator'!$D78,IF($D$22=$C$20,'Baggrundsdata - BVT - deflator'!$C78,IF('Baggrundsdata - BVT - deflator'!$C$22='Baggrundsdata - BVT - deflator'!$C$20,'Baggrundsdata - BVT - deflator'!$B78,\"*\"))))))))))),\"*\")","v":0.86113632860005829},{"$f":"IFERROR('Baggrundsdata - BVT - deflator'!D78/IF($M$22=$C$20,$L78,IF($L$22=$C$20,$K78,IF($K$22=$C$20,$J78,IF($J$22=$C$20,$I78,IF($I$22=$C$20,'Baggrundsdata - BVT - deflator'!$H78,IF($H$22=$C$20,'Baggrundsdata - BVT - deflator'!$G78,IF($C$20=$G$22,'Baggrundsdata - BVT - deflator'!$F78,IF($F$22=$C$20,'Baggrundsdata - BVT - deflator'!$E78,IF($E$22=$C$20,'Baggrundsdata - BVT - deflator'!$D78,IF($D$22=$C$20,'Baggrundsdata - BVT - deflator'!$C78,IF('Baggrundsdata - BVT - deflator'!$C$22='Baggrundsdata - BVT - deflator'!$C$20,'Baggrundsdata - BVT - deflator'!$B78,\"*\"))))))))))),\"*\")","v":0.84813552354361865},{"$f":"IFERROR('Baggrundsdata - BVT - deflator'!E78/IF($M$22=$C$20,$L78,IF($L$22=$C$20,$K78,IF($K$22=$C$20,$J78,IF($J$22=$C$20,$I78,IF($I$22=$C$20,'Baggrundsdata - BVT - deflator'!$H78,IF($H$22=$C$20,'Baggrundsdata - BVT - deflator'!$G78,IF($C$20=$G$22,'Baggrundsdata - BVT - deflator'!$F78,IF($F$22=$C$20,'Baggrundsdata - BVT - deflator'!$E78,IF($E$22=$C$20,'Baggrundsdata - BVT - deflator'!$D78,IF($D$22=$C$20,'Baggrundsdata - BVT - deflator'!$C78,IF('Baggrundsdata - BVT - deflator'!$C$22='Baggrundsdata - BVT - deflator'!$C$20,'Baggrundsdata - BVT - deflator'!$B78,\"*\"))))))))))),\"*\")","v":0.85644302084582313},{"$f":"IFERROR('Baggrundsdata - BVT - deflator'!F78/IF($M$22=$C$20,$L78,IF($L$22=$C$20,$K78,IF($K$22=$C$20,$J78,IF($J$22=$C$20,$I78,IF($I$22=$C$20,'Baggrundsdata - BVT - deflator'!$H78,IF($H$22=$C$20,'Baggrundsdata - BVT - deflator'!$G78,IF($C$20=$G$22,'Baggrundsdata - BVT - deflator'!$F78,IF($F$22=$C$20,'Baggrundsdata - BVT - deflator'!$E78,IF($E$22=$C$20,'Baggrundsdata - BVT - deflator'!$D78,IF($D$22=$C$20,'Baggrundsdata - BVT - deflator'!$C78,IF('Baggrundsdata - BVT - deflator'!$C$22='Baggrundsdata - BVT - deflator'!$C$20,'Baggrundsdata - BVT - deflator'!$B78,\"*\"))))))))))),\"*\")","v":0.90207430499648855},{"$f":"IFERROR('Baggrundsdata - BVT - deflator'!G78/IF($M$22=$C$20,$L78,IF($L$22=$C$20,$K78,IF($K$22=$C$20,$J78,IF($J$22=$C$20,$I78,IF($I$22=$C$20,'Baggrundsdata - BVT - deflator'!$H78,IF($H$22=$C$20,'Baggrundsdata - BVT - deflator'!$G78,IF($C$20=$G$22,'Baggrundsdata - BVT - deflator'!$F78,IF($F$22=$C$20,'Baggrundsdata - BVT - deflator'!$E78,IF($E$22=$C$20,'Baggrundsdata - BVT - deflator'!$D78,IF($D$22=$C$20,'Baggrundsdata - BVT - deflator'!$C78,IF('Baggrundsdata - BVT - deflator'!$C$22='Baggrundsdata - BVT - deflator'!$C$20,'Baggrundsdata - BVT - deflator'!$B78,\"*\"))))))))))),\"*\")","v":0.92605470958017166},{"$f":"IFERROR('Baggrundsdata - BVT - deflator'!H78/IF($M$22=$C$20,$L78,IF($L$22=$C$20,$K78,IF($K$22=$C$20,$J78,IF($J$22=$C$20,$I78,IF($I$22=$C$20,'Baggrundsdata - BVT - deflator'!$H78,IF($H$22=$C$20,'Baggrundsdata - BVT - deflator'!$G78,IF($C$20=$G$22,'Baggrundsdata - BVT - deflator'!$F78,IF($F$22=$C$20,'Baggrundsdata - BVT - deflator'!$E78,IF($E$22=$C$20,'Baggrundsdata - BVT - deflator'!$D78,IF($D$22=$C$20,'Baggrundsdata - BVT - deflator'!$C78,IF('Baggrundsdata - BVT - deflator'!$C$22='Baggrundsdata - BVT - deflator'!$C$20,'Baggrundsdata - BVT - deflator'!$B78,\"*\"))))))))))),\"*\")","v":0.96424350387968694},{"$f":"IFERROR('Baggrundsdata - BVT - deflator'!I78/IF($M$22=$C$20,$L78,IF($L$22=$C$20,$K78,IF($K$22=$C$20,$J78,IF($J$22=$C$20,$I78,IF($I$22=$C$20,'Baggrundsdata - BVT - deflator'!$H78,IF($H$22=$C$20,'Baggrundsdata - BVT - deflator'!$G78,IF($C$20=$G$22,'Baggrundsdata - BVT - deflator'!$F78,IF($F$22=$C$20,'Baggrundsdata - BVT - deflator'!$E78,IF($E$22=$C$20,'Baggrundsdata - BVT - deflator'!$D78,IF($D$22=$C$20,'Baggrundsdata - BVT - deflator'!$C78,IF('Baggrundsdata - BVT - deflator'!$C$22='Baggrundsdata - BVT - deflator'!$C$20,'Baggrundsdata - BVT - deflator'!$B78,\"*\"))))))))))),\"*\")","v":0.98575735256333397},{"$f":"IFERROR('Baggrundsdata - BVT - deflator'!J78/IF($M$22=$C$20,$L78,IF($L$22=$C$20,$K78,IF($K$22=$C$20,$J78,IF($J$22=$C$20,$I78,IF($I$22=$C$20,'Baggrundsdata - BVT - deflator'!$H78,IF($H$22=$C$20,'Baggrundsdata - BVT - deflator'!$G78,IF($C$20=$G$22,'Baggrundsdata - BVT - deflator'!$F78,IF($F$22=$C$20,'Baggrundsdata - BVT - deflator'!$E78,IF($E$22=$C$20,'Baggrundsdata - BVT - deflator'!$D78,IF($D$22=$C$20,'Baggrundsdata - BVT - deflator'!$C78,IF('Baggrundsdata - BVT - deflator'!$C$22='Baggrundsdata - BVT - deflator'!$C$20,'Baggrundsdata - BVT - deflator'!$B78,\"*\"))))))))))),\"*\")","v":1},{"$f":"IFERROR('Baggrundsdata - BVT - deflator'!K78/IF($M$22=$C$20,$L78,IF($L$22=$C$20,$K78,IF($K$22=$C$20,$J78,IF($J$22=$C$20,$I78,IF($I$22=$C$20,'Baggrundsdata - BVT - deflator'!$H78,IF($H$22=$C$20,'Baggrundsdata - BVT - deflator'!$G78,IF($C$20=$G$22,'Baggrundsdata - BVT - deflator'!$F78,IF($F$22=$C$20,'Baggrundsdata - BVT - deflator'!$E78,IF($E$22=$C$20,'Baggrundsdata - BVT - deflator'!$D78,IF($D$22=$C$20,'Baggrundsdata - BVT - deflator'!$C78,IF('Baggrundsdata - BVT - deflator'!$C$22='Baggrundsdata - BVT - deflator'!$C$20,'Baggrundsdata - BVT - deflator'!$B78,\"*\"))))))))))),\"*\")","v":1.0144484313504027},{"$f":"IFERROR('Baggrundsdata - BVT - deflator'!L78/IF($M$22=$C$20,$L78,IF($L$22=$C$20,$K78,IF($K$22=$C$20,$J78,IF($J$22=$C$20,$I78,IF($I$22=$C$20,'Baggrundsdata - BVT - deflator'!$H78,IF($H$22=$C$20,'Baggrundsdata - BVT - deflator'!$G78,IF($C$20=$G$22,'Baggrundsdata - BVT - deflator'!$F78,IF($F$22=$C$20,'Baggrundsdata - BVT - deflator'!$E78,IF($E$22=$C$20,'Baggrundsdata - BVT - deflator'!$D78,IF($D$22=$C$20,'Baggrundsdata - BVT - deflator'!$C78,IF('Baggrundsdata - BVT - deflator'!$C$22='Baggrundsdata - BVT - deflator'!$C$20,'Baggrundsdata - BVT - deflator'!$B78,\"*\"))))))))))),\"*\")","v":0},null,{"$f":"IF(A78='Level 1'!A58,\"S\",\"falsk\")","v":"S"},null,"Holland",{"$f":"IFERROR('Baggrundsdata - BVT - deflator'!B89/IF($AB$22=$R$20,$L89,IF($AA$22=$R$20,$K89,IF($Z$22=$R$20,$J89,IF($Y$22=$R$20,$I89,IF($X$22=$R$20,'Baggrundsdata - BVT - deflator'!$H89,IF($W$22=$R$20,'Baggrundsdata - BVT - deflator'!$G89,IF($R$20=$V$22,'Baggrundsdata - BVT - deflator'!$F89,IF($U$22=$R$20,'Baggrundsdata - BVT - deflator'!$E89,IF($T$22=$R$20,'Baggrundsdata - BVT - deflator'!$D89,IF($S$22=$R$20,'Baggrundsdata - BVT - deflator'!$C89,IF($R$22=$R$20,'Baggrundsdata - BVT - deflator'!$B89,\"*\"))))))))))),\"*\")","v":0.93266435518297108},{"$f":"IFERROR('Baggrundsdata - BVT - deflator'!C89/IF($AB$22=$R$20,$L89,IF($AA$22=$R$20,$K89,IF($Z$22=$R$20,$J89,IF($Y$22=$R$20,$I89,IF($X$22=$R$20,'Baggrundsdata - BVT - deflator'!$H89,IF($W$22=$R$20,'Baggrundsdata - BVT - deflator'!$G89,IF($R$20=$V$22,'Baggrundsdata - BVT - deflator'!$F89,IF($U$22=$R$20,'Baggrundsdata - BVT - deflator'!$E89,IF($T$22=$R$20,'Baggrundsdata - BVT - deflator'!$D89,IF($S$22=$R$20,'Baggrundsdata - BVT - deflator'!$C89,IF($R$22=$R$20,'Baggrundsdata - BVT - deflator'!$B89,\"*\"))))))))))),\"*\")","v":0.95393129291778145},{"$f":"IFERROR('Baggrundsdata - BVT - deflator'!D89/IF($AB$22=$R$20,$L89,IF($AA$22=$R$20,$K89,IF($Z$22=$R$20,$J89,IF($Y$22=$R$20,$I89,IF($X$22=$R$20,'Baggrundsdata - BVT - deflator'!$H89,IF($W$22=$R$20,'Baggrundsdata - BVT - deflator'!$G89,IF($R$20=$V$22,'Baggrundsdata - BVT - deflator'!$F89,IF($U$22=$R$20,'Baggrundsdata - BVT - deflator'!$E89,IF($T$22=$R$20,'Baggrundsdata - BVT - deflator'!$D89,IF($S$22=$R$20,'Baggrundsdata - BVT - deflator'!$C89,IF($R$22=$R$20,'Baggrundsdata - BVT - deflator'!$B89,\"*\"))))))))))),\"*\")","v":0.95806492114234942},{"$f":"IFERROR('Baggrundsdata - BVT - deflator'!E89/IF($AB$22=$R$20,$L89,IF($AA$22=$R$20,$K89,IF($Z$22=$R$20,$J89,IF($Y$22=$R$20,$I89,IF($X$22=$R$20,'Baggrundsdata - BVT - deflator'!$H89,IF($W$22=$R$20,'Baggrundsdata - BVT - deflator'!$G89,IF($R$20=$V$22,'Baggrundsdata - BVT - deflator'!$F89,IF($U$22=$R$20,'Baggrundsdata - BVT - deflator'!$E89,IF($T$22=$R$20,'Baggrundsdata - BVT - deflator'!$D89,IF($S$22=$R$20,'Baggrundsdata - BVT - deflator'!$C89,IF($R$22=$R$20,'Baggrundsdata - BVT - deflator'!$B89,\"*\"))))))))))),\"*\")","v":0.96580098704860884},{"$f":"IFERROR('Baggrundsdata - BVT - deflator'!F89/IF($AB$22=$R$20,$L89,IF($AA$22=$R$20,$K89,IF($Z$22=$R$20,$J89,IF($Y$22=$R$20,$I89,IF($X$22=$R$20,'Baggrundsdata - BVT - deflator'!$H89,IF($W$22=$R$20,'Baggrundsdata - BVT - deflator'!$G89,IF($R$20=$V$22,'Baggrundsdata - BVT - deflator'!$F89,IF($U$22=$R$20,'Baggrundsdata - BVT - deflator'!$E89,IF($T$22=$R$20,'Baggrundsdata - BVT - deflator'!$D89,IF($S$22=$R$20,'Baggrundsdata - BVT - deflator'!$C89,IF($R$22=$R$20,'Baggrundsdata - BVT - deflator'!$B89,\"*\"))))))))))),\"*\")","v":0.96653499579876567},{"$f":"IFERROR('Baggrundsdata - BVT - deflator'!G89/IF($AB$22=$R$20,$L89,IF($AA$22=$R$20,$K89,IF($Z$22=$R$20,$J89,IF($Y$22=$R$20,$I89,IF($X$22=$R$20,'Baggrundsdata - BVT - deflator'!$H89,IF($W$22=$R$20,'Baggrundsdata - BVT - deflator'!$G89,IF($R$20=$V$22,'Baggrundsdata - BVT - deflator'!$F89,IF($U$22=$R$20,'Baggrundsdata - BVT - deflator'!$E89,IF($T$22=$R$20,'Baggrundsdata - BVT - deflator'!$D89,IF($S$22=$R$20,'Baggrundsdata - BVT - deflator'!$C89,IF($R$22=$R$20,'Baggrundsdata - BVT - deflator'!$B89,\"*\"))))))))))),\"*\")","v":0.98115722274268169},{"$f":"IFERROR('Baggrundsdata - BVT - deflator'!H89/IF($AB$22=$R$20,$L89,IF($AA$22=$R$20,$K89,IF($Z$22=$R$20,$J89,IF($Y$22=$R$20,$I89,IF($X$22=$R$20,'Baggrundsdata - BVT - deflator'!$H89,IF($W$22=$R$20,'Baggrundsdata - BVT - deflator'!$G89,IF($R$20=$V$22,'Baggrundsdata - BVT - deflator'!$F89,IF($U$22=$R$20,'Baggrundsdata - BVT - deflator'!$E89,IF($T$22=$R$20,'Baggrundsdata - BVT - deflator'!$D89,IF($S$22=$R$20,'Baggrundsdata - BVT - deflator'!$C89,IF($R$22=$R$20,'Baggrundsdata - BVT - deflator'!$B89,\"*\"))))))))))),\"*\")","v":0.98787919761253995},{"$f":"IFERROR('Baggrundsdata - BVT - deflator'!I89/IF($AB$22=$R$20,$L89,IF($AA$22=$R$20,$K89,IF($Z$22=$R$20,$J89,IF($Y$22=$R$20,$I89,IF($X$22=$R$20,'Baggrundsdata - BVT - deflator'!$H89,IF($W$22=$R$20,'Baggrundsdata - BVT - deflator'!$G89,IF($R$20=$V$22,'Baggrundsdata - BVT - deflator'!$F89,IF($U$22=$R$20,'Baggrundsdata - BVT - deflator'!$E89,IF($T$22=$R$20,'Baggrundsdata - BVT - deflator'!$D89,IF($S$22=$R$20,'Baggrundsdata - BVT - deflator'!$C89,IF($R$22=$R$20,'Baggrundsdata - BVT - deflator'!$B89,\"*\"))))))))))),\"*\")","v":0.99494886083773582},{"$f":"IFERROR('Baggrundsdata - BVT - deflator'!J89/IF($AB$22=$R$20,$L89,IF($AA$22=$R$20,$K89,IF($Z$22=$R$20,$J89,IF($Y$22=$R$20,$I89,IF($X$22=$R$20,'Baggrundsdata - BVT - deflator'!$H89,IF($W$22=$R$20,'Baggrundsdata - BVT - deflator'!$G89,IF($R$20=$V$22,'Baggrundsdata - BVT - deflator'!$F89,IF($U$22=$R$20,'Baggrundsdata - BVT - deflator'!$E89,IF($T$22=$R$20,'Baggrundsdata - BVT - deflator'!$D89,IF($S$22=$R$20,'Baggrundsdata - BVT - deflator'!$C89,IF($R$22=$R$20,'Baggrundsdata - BVT - deflator'!$B89,\"*\"))))))))))),\"*\")","v":1},{"$f":"IFERROR('Baggrundsdata - BVT - deflator'!K89/IF($AB$22=$R$20,$L89,IF($AA$22=$R$20,$K89,IF($Z$22=$R$20,$J89,IF($Y$22=$R$20,$I89,IF($X$22=$R$20,'Baggrundsdata - BVT - deflator'!$H89,IF($W$22=$R$20,'Baggrundsdata - BVT - deflator'!$G89,IF($R$20=$V$22,'Baggrundsdata - BVT - deflator'!$F89,IF($U$22=$R$20,'Baggrundsdata - BVT - deflator'!$E89,IF($T$22=$R$20,'Baggrundsdata - BVT - deflator'!$D89,IF($S$22=$R$20,'Baggrundsdata - BVT - deflator'!$C89,IF($R$22=$R$20,'Baggrundsdata - BVT - deflator'!$B89,\"*\"))))))))))),\"*\")","v":1.0050767826981692},{"$f":"IFERROR('Baggrundsdata - BVT - deflator'!L89/IF($AB$22=$R$20,$L89,IF($AA$22=$R$20,$K89,IF($Z$22=$R$20,$J89,IF($Y$22=$R$20,$I89,IF($X$22=$R$20,'Baggrundsdata - BVT - deflator'!$H89,IF($W$22=$R$20,'Baggrundsdata - BVT - deflator'!$G89,IF($R$20=$V$22,'Baggrundsdata - BVT - deflator'!$F89,IF($U$22=$R$20,'Baggrundsdata - BVT - deflator'!$E89,IF($T$22=$R$20,'Baggrundsdata - BVT - deflator'!$D89,IF($S$22=$R$20,'Baggrundsdata - BVT - deflator'!$C89,IF($R$22=$R$20,'Baggrundsdata - BVT - deflator'!$B89,\"*\"))))))))))),\"*\")","v":0},null,{"$f":"IF(Q29=Forside!B45,\"S\",\"falsk\")","v":"S"}]
[null,"Irland",{"$f":"IFERROR('Baggrundsdata - BVT - deflator'!B79/IF($M$22=$C$20,$L79,IF($L$22=$C$20,$K79,IF($K$22=$C$20,$J79,IF($J$22=$C$20,$I79,IF($I$22=$C$20,'Baggrundsdata - BVT - deflator'!$H79,IF($H$22=$C$20,'Baggrundsdata - BVT - deflator'!$G79,IF($C$20=$G$22,'Baggrundsdata - BVT - deflator'!$F79,IF($F$22=$C$20,'Baggrundsdata - BVT - deflator'!$E79,IF($E$22=$C$20,'Baggrundsdata - BVT - deflator'!$D79,IF($D$22=$C$20,'Baggrundsdata - BVT - deflator'!$C79,IF('Baggrundsdata - BVT - deflator'!$C$22='Baggrundsdata - BVT - deflator'!$C$20,'Baggrundsdata - BVT - deflator'!$B79,\"*\"))))))))))),\"*\")","v":0.97414893617021281},{"$f":"IFERROR('Baggrundsdata - BVT - deflator'!C79/IF($M$22=$C$20,$L79,IF($L$22=$C$20,$K79,IF($K$22=$C$20,$J79,IF($J$22=$C$20,$I79,IF($I$22=$C$20,'Baggrundsdata - BVT - deflator'!$H79,IF($H$22=$C$20,'Baggrundsdata - BVT - deflator'!$G79,IF($C$20=$G$22,'Baggrundsdata - BVT - deflator'!$F79,IF($F$22=$C$20,'Baggrundsdata - BVT - deflator'!$E79,IF($E$22=$C$20,'Baggrundsdata - BVT - deflator'!$D79,IF($D$22=$C$20,'Baggrundsdata - BVT - deflator'!$C79,IF('Baggrundsdata - BVT - deflator'!$C$22='Baggrundsdata - BVT - deflator'!$C$20,'Baggrundsdata - BVT - deflator'!$B79,\"*\"))))))))))),\"*\")","v":0.94954787234042548},{"$f":"IFERROR('Baggrundsdata - BVT - deflator'!D79/IF($M$22=$C$20,$L79,IF($L$22=$C$20,$K79,IF($K$22=$C$20,$J79,IF($J$22=$C$20,$I79,IF($I$22=$C$20,'Baggrundsdata - BVT - deflator'!$H79,IF($H$22=$C$20,'Baggrundsdata - BVT - deflator'!$G79,IF($C$20=$G$22,'Baggrundsdata - BVT - deflator'!$F79,IF($F$22=$C$20,'Baggrundsdata - BVT - deflator'!$E79,IF($E$22=$C$20,'Baggrundsdata - BVT - deflator'!$D79,IF($D$22=$C$20,'Baggrundsdata - BVT - deflator'!$C79,IF('Baggrundsdata - BVT - deflator'!$C$22='Baggrundsdata - BVT - deflator'!$C$20,'Baggrundsdata - BVT - deflator'!$B79,\"*\"))))))))))),\"*\")","v":0.89714539007092198},{"$f":"IFERROR('Baggrundsdata - BVT - deflator'!E79/IF($M$22=$C$20,$L79,IF($L$22=$C$20,$K79,IF($K$22=$C$20,$J79,IF($J$22=$C$20,$I79,IF($I$22=$C$20,'Baggrundsdata - BVT - deflator'!$H79,IF($H$22=$C$20,'Baggrundsdata - BVT - deflator'!$G79,IF($C$20=$G$22,'Baggrundsdata - BVT - deflator'!$F79,IF($F$22=$C$20,'Baggrundsdata - BVT - deflator'!$E79,IF($E$22=$C$20,'Baggrundsdata - BVT - deflator'!$D79,IF($D$22=$C$20,'Baggrundsdata - BVT - deflator'!$C79,IF('Baggrundsdata - BVT - deflator'!$C$22='Baggrundsdata - BVT - deflator'!$C$20,'Baggrundsdata - BVT - deflator'!$B79,\"*\"))))))))))),\"*\")","v":0.88652482269503552},{"$f":"IFERROR('Baggrundsdata - BVT - deflator'!F79/IF($M$22=$C$20,$L79,IF($L$22=$C$20,$K79,IF($K$22=$C$20,$J79,IF($J$22=$C$20,$I79,IF($I$22=$C$20,'Baggrundsdata - BVT - deflator'!$H79,IF($H$22=$C$20,'Baggrundsdata - BVT - deflator'!$G79,IF($C$20=$G$22,'Baggrundsdata - BVT - deflator'!$F79,IF($F$22=$C$20,'Baggrundsdata - BVT - deflator'!$E79,IF($E$22=$C$20,'Baggrundsdata - BVT - deflator'!$D79,IF($D$22=$C$20,'Baggrundsdata - BVT - deflator'!$C79,IF('Baggrundsdata - BVT - deflator'!$C$22='Baggrundsdata - BVT - deflator'!$C$20,'Baggrundsdata - BVT - deflator'!$B79,\"*\"))))))))))),\"*\")","v":0.92970744680851058},{"$f":"IFERROR('Baggrundsdata - BVT - deflator'!G79/IF($M$22=$C$20,$L79,IF($L$22=$C$20,$K79,IF($K$22=$C$20,$J79,IF($J$22=$C$20,$I79,IF($I$22=$C$20,'Baggrundsdata - BVT - deflator'!$H79,IF($H$22=$C$20,'Baggrundsdata - BVT - deflator'!$G79,IF($C$20=$G$22,'Baggrundsdata - BVT - deflator'!$F79,IF($F$22=$C$20,'Baggrundsdata - BVT - deflator'!$E79,IF($E$22=$C$20,'Baggrundsdata - BVT - deflator'!$D79,IF($D$22=$C$20,'Baggrundsdata - BVT - deflator'!$C79,IF('Baggrundsdata - BVT - deflator'!$C$22='Baggrundsdata - BVT - deflator'!$C$20,'Baggrundsdata - BVT - deflator'!$B79,\"*\"))))))))))),\"*\")","v":0.9353191489361703},{"$f":"IFERROR('Baggrundsdata - BVT - deflator'!H79/IF($M$22=$C$20,$L79,IF($L$22=$C$20,$K79,IF($K$22=$C$20,$J79,IF($J$22=$C$20,$I79,IF($I$22=$C$20,'Baggrundsdata - BVT - deflator'!$H79,IF($H$22=$C$20,'Baggrundsdata - BVT - deflator'!$G79,IF($C$20=$G$22,'Baggrundsdata - BVT - deflator'!$F79,IF($F$22=$C$20,'Baggrundsdata - BVT - deflator'!$E79,IF($E$22=$C$20,'Baggrundsdata - BVT - deflator'!$D79,IF($D$22=$C$20,'Baggrundsdata - BVT - deflator'!$C79,IF('Baggrundsdata - BVT - deflator'!$C$22='Baggrundsdata - BVT - deflator'!$C$20,'Baggrundsdata - BVT - deflator'!$B79,\"*\"))))))))))),\"*\")","v":0.95337765957446807},{"$f":"IFERROR('Baggrundsdata - BVT - deflator'!I79/IF($M$22=$C$20,$L79,IF($L$22=$C$20,$K79,IF($K$22=$C$20,$J79,IF($J$22=$C$20,$I79,IF($I$22=$C$20,'Baggrundsdata - BVT - deflator'!$H79,IF($H$22=$C$20,'Baggrundsdata - BVT - deflator'!$G79,IF($C$20=$G$22,'Baggrundsdata - BVT - deflator'!$F79,IF($F$22=$C$20,'Baggrundsdata - BVT - deflator'!$E79,IF($E$22=$C$20,'Baggrundsdata - BVT - deflator'!$D79,IF($D$22=$C$20,'Baggrundsdata - BVT - deflator'!$C79,IF('Baggrundsdata - BVT - deflator'!$C$22='Baggrundsdata - BVT - deflator'!$C$20,'Baggrundsdata - BVT - deflator'!$B79,\"*\"))))))))))),\"*\")","v":0.94469858156028375},{"$f":"IFERROR('Baggrundsdata - BVT - deflator'!J79/IF($M$22=$C$20,$L79,IF($L$22=$C$20,$K79,IF($K$22=$C$20,$J79,IF($J$22=$C$20,$I79,IF($I$22=$C$20,'Baggrundsdata - BVT - deflator'!$H79,IF($H$22=$C$20,'Baggrundsdata - BVT - deflator'!$G79,IF($C$20=$G$22,'Baggrundsdata - BVT - deflator'!$F79,IF($F$22=$C$20,'Baggrundsdata - BVT - deflator'!$E79,IF($E$22=$C$20,'Baggrundsdata - BVT - deflator'!$D79,IF($D$22=$C$20,'Baggrundsdata - BVT - deflator'!$C79,IF('Baggrundsdata - BVT - deflator'!$C$22='Baggrundsdata - BVT - deflator'!$C$20,'Baggrundsdata - BVT - deflator'!$B79,\"*\"))))))))))),\"*\")","v":1},{"$f":"IFERROR('Baggrundsdata - BVT - deflator'!K79/IF($M$22=$C$20,$L79,IF($L$22=$C$20,$K79,IF($K$22=$C$20,$J79,IF($J$22=$C$20,$I79,IF($I$22=$C$20,'Baggrundsdata - BVT - deflator'!$H79,IF($H$22=$C$20,'Baggrundsdata - BVT - deflator'!$G79,IF($C$20=$G$22,'Baggrundsdata - BVT - deflator'!$F79,IF($F$22=$C$20,'Baggrundsdata - BVT - deflator'!$E79,IF($E$22=$C$20,'Baggrundsdata - BVT - deflator'!$D79,IF($D$22=$C$20,'Baggrundsdata - BVT - deflator'!$C79,IF('Baggrundsdata - BVT - deflator'!$C$22='Baggrundsdata - BVT - deflator'!$C$20,'Baggrundsdata - BVT - deflator'!$B79,\"*\"))))))))))),\"*\")","v":1.0585386910906327},{"$f":"IFERROR('Baggrundsdata - BVT - deflator'!L79/IF($M$22=$C$20,$L79,IF($L$22=$C$20,$K79,IF($K$22=$C$20,$J79,IF($J$22=$C$20,$I79,IF($I$22=$C$20,'Baggrundsdata - BVT - deflator'!$H79,IF($H$22=$C$20,'Baggrundsdata - BVT - deflator'!$G79,IF($C$20=$G$22,'Baggrundsdata - BVT - deflator'!$F79,IF($F$22=$C$20,'Baggrundsdata - BVT - deflator'!$E79,IF($E$22=$C$20,'Baggrundsdata - BVT - deflator'!$D79,IF($D$22=$C$20,'Baggrundsdata - BVT - deflator'!$C79,IF('Baggrundsdata - BVT - deflator'!$C$22='Baggrundsdata - BVT - deflator'!$C$20,'Baggrundsdata - BVT - deflator'!$B79,\"*\"))))))))))),\"*\")","v":0},null,{"$f":"IF(A79='Level 1'!A59,\"S\",\"falsk\")","v":"S"},null,"Sverige",{"$f":"IFERROR('Baggrundsdata - BVT - deflator'!B97/IF($AB$22=$R$20,$L97,IF($AA$22=$R$20,$K97,IF($Z$22=$R$20,$J97,IF($Y$22=$R$20,$I97,IF($X$22=$R$20,'Baggrundsdata - BVT - deflator'!$H97,IF($W$22=$R$20,'Baggrundsdata - BVT - deflator'!$G97,IF($R$20=$V$22,'Baggrundsdata - BVT - deflator'!$F97,IF($U$22=$R$20,'Baggrundsdata - BVT - deflator'!$E97,IF($T$22=$R$20,'Baggrundsdata - BVT - deflator'!$D97,IF($S$22=$R$20,'Baggrundsdata - BVT - deflator'!$C97,IF($R$22=$R$20,'Baggrundsdata - BVT - deflator'!$B97,\"*\"))))))))))),\"*\")","v":0.88288839383536621},{"$f":"IFERROR('Baggrundsdata - BVT - deflator'!C97/IF($AB$22=$R$20,$L97,IF($AA$22=$R$20,$K97,IF($Z$22=$R$20,$J97,IF($Y$22=$R$20,$I97,IF($X$22=$R$20,'Baggrundsdata - BVT - deflator'!$H97,IF($W$22=$R$20,'Baggrundsdata - BVT - deflator'!$G97,IF($R$20=$V$22,'Baggrundsdata - BVT - deflator'!$F97,IF($U$22=$R$20,'Baggrundsdata - BVT - deflator'!$E97,IF($T$22=$R$20,'Baggrundsdata - BVT - deflator'!$D97,IF($S$22=$R$20,'Baggrundsdata - BVT - deflator'!$C97,IF($R$22=$R$20,'Baggrundsdata - BVT - deflator'!$B97,\"*\"))))))))))),\"*\")","v":0.87655211452779203},{"$f":"IFERROR('Baggrundsdata - BVT - deflator'!D97/IF($AB$22=$R$20,$L97,IF($AA$22=$R$20,$K97,IF($Z$22=$R$20,$J97,IF($Y$22=$R$20,$I97,IF($X$22=$R$20,'Baggrundsdata - BVT - deflator'!$H97,IF($W$22=$R$20,'Baggrundsdata - BVT - deflator'!$G97,IF($R$20=$V$22,'Baggrundsdata - BVT - deflator'!$F97,IF($U$22=$R$20,'Baggrundsdata - BVT - deflator'!$E97,IF($T$22=$R$20,'Baggrundsdata - BVT - deflator'!$D97,IF($S$22=$R$20,'Baggrundsdata - BVT - deflator'!$C97,IF($R$22=$R$20,'Baggrundsdata - BVT - deflator'!$B97,\"*\"))))))))))),\"*\")","v":0.81284237820465988},{"$f":"IFERROR('Baggrundsdata - BVT - deflator'!E97/IF($AB$22=$R$20,$L97,IF($AA$22=$R$20,$K97,IF($Z$22=$R$20,$J97,IF($Y$22=$R$20,$I97,IF($X$22=$R$20,'Baggrundsdata - BVT - deflator'!$H97,IF($W$22=$R$20,'Baggrundsdata - BVT - deflator'!$G97,IF($R$20=$V$22,'Baggrundsdata - BVT - deflator'!$F97,IF($U$22=$R$20,'Baggrundsdata - BVT - deflator'!$E97,IF($T$22=$R$20,'Baggrundsdata - BVT - deflator'!$D97,IF($S$22=$R$20,'Baggrundsdata - BVT - deflator'!$C97,IF($R$22=$R$20,'Baggrundsdata - BVT - deflator'!$B97,\"*\"))))))))))),\"*\")","v":0.91300854575998824},{"$f":"IFERROR('Baggrundsdata - BVT - deflator'!F97/IF($AB$22=$R$20,$L97,IF($AA$22=$R$20,$K97,IF($Z$22=$R$20,$J97,IF($Y$22=$R$20,$I97,IF($X$22=$R$20,'Baggrundsdata - BVT - deflator'!$H97,IF($W$22=$R$20,'Baggrundsdata - BVT - deflator'!$G97,IF($R$20=$V$22,'Baggrundsdata - BVT - deflator'!$F97,IF($U$22=$R$20,'Baggrundsdata - BVT - deflator'!$E97,IF($T$22=$R$20,'Baggrundsdata - BVT - deflator'!$D97,IF($S$22=$R$20,'Baggrundsdata - BVT - deflator'!$C97,IF($R$22=$R$20,'Baggrundsdata - BVT - deflator'!$B97,\"*\"))))))))))),\"*\")","v":0.97551311080271708},{"$f":"IFERROR('Baggrundsdata - BVT - deflator'!G97/IF($AB$22=$R$20,$L97,IF($AA$22=$R$20,$K97,IF($Z$22=$R$20,$J97,IF($Y$22=$R$20,$I97,IF($X$22=$R$20,'Baggrundsdata - BVT - deflator'!$H97,IF($W$22=$R$20,'Baggrundsdata - BVT - deflator'!$G97,IF($R$20=$V$22,'Baggrundsdata - BVT - deflator'!$F97,IF($U$22=$R$20,'Baggrundsdata - BVT - deflator'!$E97,IF($T$22=$R$20,'Baggrundsdata - BVT - deflator'!$D97,IF($S$22=$R$20,'Baggrundsdata - BVT - deflator'!$C97,IF($R$22=$R$20,'Baggrundsdata - BVT - deflator'!$B97,\"*\"))))))))))),\"*\")","v":1.0230260755240668},{"$f":"IFERROR('Baggrundsdata - BVT - deflator'!H97/IF($AB$22=$R$20,$L97,IF($AA$22=$R$20,$K97,IF($Z$22=$R$20,$J97,IF($Y$22=$R$20,$I97,IF($X$22=$R$20,'Baggrundsdata - BVT - deflator'!$H97,IF($W$22=$R$20,'Baggrundsdata - BVT - deflator'!$G97,IF($R$20=$V$22,'Baggrundsdata - BVT - deflator'!$F97,IF($U$22=$R$20,'Baggrundsdata - BVT - deflator'!$E97,IF($T$22=$R$20,'Baggrundsdata - BVT - deflator'!$D97,IF($S$22=$R$20,'Baggrundsdata - BVT - deflator'!$C97,IF($R$22=$R$20,'Baggrundsdata - BVT - deflator'!$B97,\"*\"))))))))))),\"*\")","v":1.0404188883207945},{"$f":"IFERROR('Baggrundsdata - BVT - deflator'!I97/IF($AB$22=$R$20,$L97,IF($AA$22=$R$20,$K97,IF($Z$22=$R$20,$J97,IF($Y$22=$R$20,$I97,IF($X$22=$R$20,'Baggrundsdata - BVT - deflator'!$H97,IF($W$22=$R$20,'Baggrundsdata - BVT - deflator'!$G97,IF($R$20=$V$22,'Baggrundsdata - BVT - deflator'!$F97,IF($U$22=$R$20,'Baggrundsdata - BVT - deflator'!$E97,IF($T$22=$R$20,'Baggrundsdata - BVT - deflator'!$D97,IF($S$22=$R$20,'Baggrundsdata - BVT - deflator'!$C97,IF($R$22=$R$20,'Baggrundsdata - BVT - deflator'!$B97,\"*\"))))))))))),\"*\")","v":1.0073497187933678},{"$f":"IFERROR('Baggrundsdata - BVT - deflator'!J97/IF($AB$22=$R$20,$L97,IF($AA$22=$R$20,$K97,IF($Z$22=$R$20,$J97,IF($Y$22=$R$20,$I97,IF($X$22=$R$20,'Baggrundsdata - BVT - deflator'!$H97,IF($W$22=$R$20,'Baggrundsdata - BVT - deflator'!$G97,IF($R$20=$V$22,'Baggrundsdata - BVT - deflator'!$F97,IF($U$22=$R$20,'Baggrundsdata - BVT - deflator'!$E97,IF($T$22=$R$20,'Baggrundsdata - BVT - deflator'!$D97,IF($S$22=$R$20,'Baggrundsdata - BVT - deflator'!$C97,IF($R$22=$R$20,'Baggrundsdata - BVT - deflator'!$B97,\"*\"))))))))))),\"*\")","v":1},{"$f":"IFERROR('Baggrundsdata - BVT - deflator'!K97/IF($AB$22=$R$20,$L97,IF($AA$22=$R$20,$K97,IF($Z$22=$R$20,$J97,IF($Y$22=$R$20,$I97,IF($X$22=$R$20,'Baggrundsdata - BVT - deflator'!$H97,IF($W$22=$R$20,'Baggrundsdata - BVT - deflator'!$G97,IF($R$20=$V$22,'Baggrundsdata - BVT - deflator'!$F97,IF($U$22=$R$20,'Baggrundsdata - BVT - deflator'!$E97,IF($T$22=$R$20,'Baggrundsdata - BVT - deflator'!$D97,IF($S$22=$R$20,'Baggrundsdata - BVT - deflator'!$C97,IF($R$22=$R$20,'Baggrundsdata - BVT - deflator'!$B97,\"*\"))))))))))),\"*\")","v":0.99270390544986542},{"$f":"IFERROR('Baggrundsdata - BVT - deflator'!L97/IF($AB$22=$R$20,$L97,IF($AA$22=$R$20,$K97,IF($Z$22=$R$20,$J97,IF($Y$22=$R$20,$I97,IF($X$22=$R$20,'Baggrundsdata - BVT - deflator'!$H97,IF($W$22=$R$20,'Baggrundsdata - BVT - deflator'!$G97,IF($R$20=$V$22,'Baggrundsdata - BVT - deflator'!$F97,IF($U$22=$R$20,'Baggrundsdata - BVT - deflator'!$E97,IF($T$22=$R$20,'Baggrundsdata - BVT - deflator'!$D97,IF($S$22=$R$20,'Baggrundsdata - BVT - deflator'!$C97,IF($R$22=$R$20,'Baggrundsdata - BVT - deflator'!$B97,\"*\"))))))))))),\"*\")","v":0},null,{"$f":"IF(Q30=Forside!B46,\"S\",\"falsk\")","v":"S"}]
[null,"Grækenland",{"$f":"IFERROR('Baggrundsdata - BVT - deflator'!B80/IF($M$22=$C$20,$L80,IF($L$22=$C$20,$K80,IF($K$22=$C$20,$J80,IF($J$22=$C$20,$I80,IF($I$22=$C$20,'Baggrundsdata - BVT - deflator'!$H80,IF($H$22=$C$20,'Baggrundsdata - BVT - deflator'!$G80,IF($C$20=$G$22,'Baggrundsdata - BVT - deflator'!$F80,IF($F$22=$C$20,'Baggrundsdata - BVT - deflator'!$E80,IF($E$22=$C$20,'Baggrundsdata - BVT - deflator'!$D80,IF($D$22=$C$20,'Baggrundsdata - BVT - deflator'!$C80,IF('Baggrundsdata - BVT - deflator'!$C$22='Baggrundsdata - BVT - deflator'!$C$20,'Baggrundsdata - BVT - deflator'!$B80,\"*\"))))))))))),\"*\")","v":1.0040800549733724},{"$f":"IFERROR('Baggrundsdata - BVT - deflator'!C80/IF($M$22=$C$20,$L80,IF($L$22=$C$20,$K80,IF($K$22=$C$20,$J80,IF($J$22=$C$20,$I80,IF($I$22=$C$20,'Baggrundsdata - BVT - deflator'!$H80,IF($H$22=$C$20,'Baggrundsdata - BVT - deflator'!$G80,IF($C$20=$G$22,'Baggrundsdata - BVT - deflator'!$F80,IF($F$22=$C$20,'Baggrundsdata - BVT - deflator'!$E80,IF($E$22=$C$20,'Baggrundsdata - BVT - deflator'!$D80,IF($D$22=$C$20,'Baggrundsdata - BVT - deflator'!$C80,IF('Baggrundsdata - BVT - deflator'!$C$22='Baggrundsdata - BVT - deflator'!$C$20,'Baggrundsdata - BVT - deflator'!$B80,\"*\"))))))))))),\"*\")","v":1.047854750042948},{"$f":"IFERROR('Baggrundsdata - BVT - deflator'!D80/IF($M$22=$C$20,$L80,IF($L$22=$C$20,$K80,IF($K$22=$C$20,$J80,IF($J$22=$C$20,$I80,IF($I$22=$C$20,'Baggrundsdata - BVT - deflator'!$H80,IF($H$22=$C$20,'Baggrundsdata - BVT - deflator'!$G80,IF($C$20=$G$22,'Baggrundsdata - BVT - deflator'!$F80,IF($F$22=$C$20,'Baggrundsdata - BVT - deflator'!$E80,IF($E$22=$C$20,'Baggrundsdata - BVT - deflator'!$D80,IF($D$22=$C$20,'Baggrundsdata - BVT - deflator'!$C80,IF('Baggrundsdata - BVT - deflator'!$C$22='Baggrundsdata - BVT - deflator'!$C$20,'Baggrundsdata - BVT - deflator'!$B80,\"*\"))))))))))),\"*\")","v":1.0772955677718605},{"$f":"IFERROR('Baggrundsdata - BVT - deflator'!E80/IF($M$22=$C$20,$L80,IF($L$22=$C$20,$K80,IF($K$22=$C$20,$J80,IF($J$22=$C$20,$I80,IF($I$22=$C$20,'Baggrundsdata - BVT - deflator'!$H80,IF($H$22=$C$20,'Baggrundsdata - BVT - deflator'!$G80,IF($C$20=$G$22,'Baggrundsdata - BVT - deflator'!$F80,IF($F$22=$C$20,'Baggrundsdata - BVT - deflator'!$E80,IF($E$22=$C$20,'Baggrundsdata - BVT - deflator'!$D80,IF($D$22=$C$20,'Baggrundsdata - BVT - deflator'!$C80,IF('Baggrundsdata - BVT - deflator'!$C$22='Baggrundsdata - BVT - deflator'!$C$20,'Baggrundsdata - BVT - deflator'!$B80,\"*\"))))))))))),\"*\")","v":1.0736986772032298},{"$f":"IFERROR('Baggrundsdata - BVT - deflator'!F80/IF($M$22=$C$20,$L80,IF($L$22=$C$20,$K80,IF($K$22=$C$20,$J80,IF($J$22=$C$20,$I80,IF($I$22=$C$20,'Baggrundsdata - BVT - deflator'!$H80,IF($H$22=$C$20,'Baggrundsdata - BVT - deflator'!$G80,IF($C$20=$G$22,'Baggrundsdata - BVT - deflator'!$F80,IF($F$22=$C$20,'Baggrundsdata - BVT - deflator'!$E80,IF($E$22=$C$20,'Baggrundsdata - BVT - deflator'!$D80,IF($D$22=$C$20,'Baggrundsdata - BVT - deflator'!$C80,IF('Baggrundsdata - BVT - deflator'!$C$22='Baggrundsdata - BVT - deflator'!$C$20,'Baggrundsdata - BVT - deflator'!$B80,\"*\"))))))))))),\"*\")","v":1.0751052224703659},{"$f":"IFERROR('Baggrundsdata - BVT - deflator'!G80/IF($M$22=$C$20,$L80,IF($L$22=$C$20,$K80,IF($K$22=$C$20,$J80,IF($J$22=$C$20,$I80,IF($I$22=$C$20,'Baggrundsdata - BVT - deflator'!$H80,IF($H$22=$C$20,'Baggrundsdata - BVT - deflator'!$G80,IF($C$20=$G$22,'Baggrundsdata - BVT - deflator'!$F80,IF($F$22=$C$20,'Baggrundsdata - BVT - deflator'!$E80,IF($E$22=$C$20,'Baggrundsdata - BVT - deflator'!$D80,IF($D$22=$C$20,'Baggrundsdata - BVT - deflator'!$C80,IF('Baggrundsdata - BVT - deflator'!$C$22='Baggrundsdata - BVT - deflator'!$C$20,'Baggrundsdata - BVT - deflator'!$B80,\"*\"))))))))))),\"*\")","v":1.067449750901907},{"$f":"IFERROR('Baggrundsdata - BVT - deflator'!H80/IF($M$22=$C$20,$L80,IF($L$22=$C$20,$K80,IF($K$22=$C$20,$J80,IF($J$22=$C$20,$I80,IF($I$22=$C$20,'Baggrundsdata - BVT - deflator'!$H80,IF($H$22=$C$20,'Baggrundsdata - BVT - deflator'!$G80,IF($C$20=$G$22,'Baggrundsdata - BVT - deflator'!$F80,IF($F$22=$C$20,'Baggrundsdata - BVT - deflator'!$E80,IF($E$22=$C$20,'Baggrundsdata - BVT - deflator'!$D80,IF($D$22=$C$20,'Baggrundsdata - BVT - deflator'!$C80,IF('Baggrundsdata - BVT - deflator'!$C$22='Baggrundsdata - BVT - deflator'!$C$20,'Baggrundsdata - BVT - deflator'!$B80,\"*\"))))))))))),\"*\")","v":1.0376009276756573},{"$f":"IFERROR('Baggrundsdata - BVT - deflator'!I80/IF($M$22=$C$20,$L80,IF($L$22=$C$20,$K80,IF($K$22=$C$20,$J80,IF($J$22=$C$20,$I80,IF($I$22=$C$20,'Baggrundsdata - BVT - deflator'!$H80,IF($H$22=$C$20,'Baggrundsdata - BVT - deflator'!$G80,IF($C$20=$G$22,'Baggrundsdata - BVT - deflator'!$F80,IF($F$22=$C$20,'Baggrundsdata - BVT - deflator'!$E80,IF($E$22=$C$20,'Baggrundsdata - BVT - deflator'!$D80,IF($D$22=$C$20,'Baggrundsdata - BVT - deflator'!$C80,IF('Baggrundsdata - BVT - deflator'!$C$22='Baggrundsdata - BVT - deflator'!$C$20,'Baggrundsdata - BVT - deflator'!$B80,\"*\"))))))))))),\"*\")","v":1.0135500773063049},{"$f":"IFERROR('Baggrundsdata - BVT - deflator'!J80/IF($M$22=$C$20,$L80,IF($L$22=$C$20,$K80,IF($K$22=$C$20,$J80,IF($J$22=$C$20,$I80,IF($I$22=$C$20,'Baggrundsdata - BVT - deflator'!$H80,IF($H$22=$C$20,'Baggrundsdata - BVT - deflator'!$G80,IF($C$20=$G$22,'Baggrundsdata - BVT - deflator'!$F80,IF($F$22=$C$20,'Baggrundsdata - BVT - deflator'!$E80,IF($E$22=$C$20,'Baggrundsdata - BVT - deflator'!$D80,IF($D$22=$C$20,'Baggrundsdata - BVT - deflator'!$C80,IF('Baggrundsdata - BVT - deflator'!$C$22='Baggrundsdata - BVT - deflator'!$C$20,'Baggrundsdata - BVT - deflator'!$B80,\"*\"))))))))))),\"*\")","v":1},{"$f":"IFERROR('Baggrundsdata - BVT - deflator'!K80/IF($M$22=$C$20,$L80,IF($L$22=$C$20,$K80,IF($K$22=$C$20,$J80,IF($J$22=$C$20,$I80,IF($I$22=$C$20,'Baggrundsdata - BVT - deflator'!$H80,IF($H$22=$C$20,'Baggrundsdata - BVT - deflator'!$G80,IF($C$20=$G$22,'Baggrundsdata - BVT - deflator'!$F80,IF($F$22=$C$20,'Baggrundsdata - BVT - deflator'!$E80,IF($E$22=$C$20,'Baggrundsdata - BVT - deflator'!$D80,IF($D$22=$C$20,'Baggrundsdata - BVT - deflator'!$C80,IF('Baggrundsdata - BVT - deflator'!$C$22='Baggrundsdata - BVT - deflator'!$C$20,'Baggrundsdata - BVT - deflator'!$B80,\"*\"))))))))))),\"*\")","v":0.98663107269221806},{"$f":"IFERROR('Baggrundsdata - BVT - deflator'!L80/IF($M$22=$C$20,$L80,IF($L$22=$C$20,$K80,IF($K$22=$C$20,$J80,IF($J$22=$C$20,$I80,IF($I$22=$C$20,'Baggrundsdata - BVT - deflator'!$H80,IF($H$22=$C$20,'Baggrundsdata - BVT - deflator'!$G80,IF($C$20=$G$22,'Baggrundsdata - BVT - deflator'!$F80,IF($F$22=$C$20,'Baggrundsdata - BVT - deflator'!$E80,IF($E$22=$C$20,'Baggrundsdata - BVT - deflator'!$D80,IF($D$22=$C$20,'Baggrundsdata - BVT - deflator'!$C80,IF('Baggrundsdata - BVT - deflator'!$C$22='Baggrundsdata - BVT - deflator'!$C$20,'Baggrundsdata - BVT - deflator'!$B80,\"*\"))))))))))),\"*\")","v":0},null,{"$f":"IF(A80='Level 1'!A60,\"S\",\"falsk\")","v":"S"},null,"UK",{"$f":"IFERROR('Baggrundsdata - BVT - deflator'!B98/IF($AB$22=$R$20,$L98,IF($AA$22=$R$20,$K98,IF($Z$22=$R$20,$J98,IF($Y$22=$R$20,$I98,IF($X$22=$R$20,'Baggrundsdata - BVT - deflator'!$H98,IF($W$22=$R$20,'Baggrundsdata - BVT - deflator'!$G98,IF($R$20=$V$22,'Baggrundsdata - BVT - deflator'!$F98,IF($U$22=$R$20,'Baggrundsdata - BVT - deflator'!$E98,IF($T$22=$R$20,'Baggrundsdata - BVT - deflator'!$D98,IF($S$22=$R$20,'Baggrundsdata - BVT - deflator'!$C98,IF($R$22=$R$20,'Baggrundsdata - BVT - deflator'!$B98,\"*\"))))))))))),\"*\")","v":0.91184659671862955},{"$f":"IFERROR('Baggrundsdata - BVT - deflator'!C98/IF($AB$22=$R$20,$L98,IF($AA$22=$R$20,$K98,IF($Z$22=$R$20,$J98,IF($Y$22=$R$20,$I98,IF($X$22=$R$20,'Baggrundsdata - BVT - deflator'!$H98,IF($W$22=$R$20,'Baggrundsdata - BVT - deflator'!$G98,IF($R$20=$V$22,'Baggrundsdata - BVT - deflator'!$F98,IF($U$22=$R$20,'Baggrundsdata - BVT - deflator'!$E98,IF($T$22=$R$20,'Baggrundsdata - BVT - deflator'!$D98,IF($S$22=$R$20,'Baggrundsdata - BVT - deflator'!$C98,IF($R$22=$R$20,'Baggrundsdata - BVT - deflator'!$B98,\"*\"))))))))))),\"*\")","v":0.80810432429881551},{"$f":"IFERROR('Baggrundsdata - BVT - deflator'!D98/IF($AB$22=$R$20,$L98,IF($AA$22=$R$20,$K98,IF($Z$22=$R$20,$J98,IF($Y$22=$R$20,$I98,IF($X$22=$R$20,'Baggrundsdata - BVT - deflator'!$H98,IF($W$22=$R$20,'Baggrundsdata - BVT - deflator'!$G98,IF($R$20=$V$22,'Baggrundsdata - BVT - deflator'!$F98,IF($U$22=$R$20,'Baggrundsdata - BVT - deflator'!$E98,IF($T$22=$R$20,'Baggrundsdata - BVT - deflator'!$D98,IF($S$22=$R$20,'Baggrundsdata - BVT - deflator'!$C98,IF($R$22=$R$20,'Baggrundsdata - BVT - deflator'!$B98,\"*\"))))))))))),\"*\")","v":0.74333422472511057},{"$f":"IFERROR('Baggrundsdata - BVT - deflator'!E98/IF($AB$22=$R$20,$L98,IF($AA$22=$R$20,$K98,IF($Z$22=$R$20,$J98,IF($Y$22=$R$20,$I98,IF($X$22=$R$20,'Baggrundsdata - BVT - deflator'!$H98,IF($W$22=$R$20,'Baggrundsdata - BVT - deflator'!$G98,IF($R$20=$V$22,'Baggrundsdata - BVT - deflator'!$F98,IF($U$22=$R$20,'Baggrundsdata - BVT - deflator'!$E98,IF($T$22=$R$20,'Baggrundsdata - BVT - deflator'!$D98,IF($S$22=$R$20,'Baggrundsdata - BVT - deflator'!$C98,IF($R$22=$R$20,'Baggrundsdata - BVT - deflator'!$B98,\"*\"))))))))))),\"*\")","v":0.7865221563291438},{"$f":"IFERROR('Baggrundsdata - BVT - deflator'!F98/IF($AB$22=$R$20,$L98,IF($AA$22=$R$20,$K98,IF($Z$22=$R$20,$J98,IF($Y$22=$R$20,$I98,IF($X$22=$R$20,'Baggrundsdata - BVT - deflator'!$H98,IF($W$22=$R$20,'Baggrundsdata - BVT - deflator'!$G98,IF($R$20=$V$22,'Baggrundsdata - BVT - deflator'!$F98,IF($U$22=$R$20,'Baggrundsdata - BVT - deflator'!$E98,IF($T$22=$R$20,'Baggrundsdata - BVT - deflator'!$D98,IF($S$22=$R$20,'Baggrundsdata - BVT - deflator'!$C98,IF($R$22=$R$20,'Baggrundsdata - BVT - deflator'!$B98,\"*\"))))))))))),\"*\")","v":0.78815812241430838},{"$f":"IFERROR('Baggrundsdata - BVT - deflator'!G98/IF($AB$22=$R$20,$L98,IF($AA$22=$R$20,$K98,IF($Z$22=$R$20,$J98,IF($Y$22=$R$20,$I98,IF($X$22=$R$20,'Baggrundsdata - BVT - deflator'!$H98,IF($W$22=$R$20,'Baggrundsdata - BVT - deflator'!$G98,IF($R$20=$V$22,'Baggrundsdata - BVT - deflator'!$F98,IF($U$22=$R$20,'Baggrundsdata - BVT - deflator'!$E98,IF($T$22=$R$20,'Baggrundsdata - BVT - deflator'!$D98,IF($S$22=$R$20,'Baggrundsdata - BVT - deflator'!$C98,IF($R$22=$R$20,'Baggrundsdata - BVT - deflator'!$B98,\"*\"))))))))))),\"*\")","v":0.85967658208931752},{"$f":"IFERROR('Baggrundsdata - BVT - deflator'!H98/IF($AB$22=$R$20,$L98,IF($AA$22=$R$20,$K98,IF($Z$22=$R$20,$J98,IF($Y$22=$R$20,$I98,IF($X$22=$R$20,'Baggrundsdata - BVT - deflator'!$H98,IF($W$22=$R$20,'Baggrundsdata - BVT - deflator'!$G98,IF($R$20=$V$22,'Baggrundsdata - BVT - deflator'!$F98,IF($U$22=$R$20,'Baggrundsdata - BVT - deflator'!$E98,IF($T$22=$R$20,'Baggrundsdata - BVT - deflator'!$D98,IF($S$22=$R$20,'Baggrundsdata - BVT - deflator'!$C98,IF($R$22=$R$20,'Baggrundsdata - BVT - deflator'!$B98,\"*\"))))))))))),\"*\")","v":0.83619103050132926},{"$f":"IFERROR('Baggrundsdata - BVT - deflator'!I98/IF($AB$22=$R$20,$L98,IF($AA$22=$R$20,$K98,IF($Z$22=$R$20,$J98,IF($Y$22=$R$20,$I98,IF($X$22=$R$20,'Baggrundsdata - BVT - deflator'!$H98,IF($W$22=$R$20,'Baggrundsdata - BVT - deflator'!$G98,IF($R$20=$V$22,'Baggrundsdata - BVT - deflator'!$F98,IF($U$22=$R$20,'Baggrundsdata - BVT - deflator'!$E98,IF($T$22=$R$20,'Baggrundsdata - BVT - deflator'!$D98,IF($S$22=$R$20,'Baggrundsdata - BVT - deflator'!$C98,IF($R$22=$R$20,'Baggrundsdata - BVT - deflator'!$B98,\"*\"))))))))))),\"*\")","v":0.89765773701845175},{"$f":"IFERROR('Baggrundsdata - BVT - deflator'!J98/IF($AB$22=$R$20,$L98,IF($AA$22=$R$20,$K98,IF($Z$22=$R$20,$J98,IF($Y$22=$R$20,$I98,IF($X$22=$R$20,'Baggrundsdata - BVT - deflator'!$H98,IF($W$22=$R$20,'Baggrundsdata - BVT - deflator'!$G98,IF($R$20=$V$22,'Baggrundsdata - BVT - deflator'!$F98,IF($U$22=$R$20,'Baggrundsdata - BVT - deflator'!$E98,IF($T$22=$R$20,'Baggrundsdata - BVT - deflator'!$D98,IF($S$22=$R$20,'Baggrundsdata - BVT - deflator'!$C98,IF($R$22=$R$20,'Baggrundsdata - BVT - deflator'!$B98,\"*\"))))))))))),\"*\")","v":1},{"$f":"IFERROR('Baggrundsdata - BVT - deflator'!K98/IF($AB$22=$R$20,$L98,IF($AA$22=$R$20,$K98,IF($Z$22=$R$20,$J98,IF($Y$22=$R$20,$I98,IF($X$22=$R$20,'Baggrundsdata - BVT - deflator'!$H98,IF($W$22=$R$20,'Baggrundsdata - BVT - deflator'!$G98,IF($R$20=$V$22,'Baggrundsdata - BVT - deflator'!$F98,IF($U$22=$R$20,'Baggrundsdata - BVT - deflator'!$E98,IF($T$22=$R$20,'Baggrundsdata - BVT - deflator'!$D98,IF($S$22=$R$20,'Baggrundsdata - BVT - deflator'!$C98,IF($R$22=$R$20,'Baggrundsdata - BVT - deflator'!$B98,\"*\"))))))))))),\"*\")","v":1.114010339087006},{"$f":"IFERROR('Baggrundsdata - BVT - deflator'!L98/IF($AB$22=$R$20,$L98,IF($AA$22=$R$20,$K98,IF($Z$22=$R$20,$J98,IF($Y$22=$R$20,$I98,IF($X$22=$R$20,'Baggrundsdata - BVT - deflator'!$H98,IF($W$22=$R$20,'Baggrundsdata - BVT - deflator'!$G98,IF($R$20=$V$22,'Baggrundsdata - BVT - deflator'!$F98,IF($U$22=$R$20,'Baggrundsdata - BVT - deflator'!$E98,IF($T$22=$R$20,'Baggrundsdata - BVT - deflator'!$D98,IF($S$22=$R$20,'Baggrundsdata - BVT - deflator'!$C98,IF($R$22=$R$20,'Baggrundsdata - BVT - deflator'!$B98,\"*\"))))))))))),\"*\")","v":0},null,{"$f":"IF(Q31=Forside!B47,\"S\",\"falsk\")","v":"S"}]
[null,"Spanien",{"$f":"IFERROR('Baggrundsdata - BVT - deflator'!B81/IF($M$22=$C$20,$L81,IF($L$22=$C$20,$K81,IF($K$22=$C$20,$J81,IF($J$22=$C$20,$I81,IF($I$22=$C$20,'Baggrundsdata - BVT - deflator'!$H81,IF($H$22=$C$20,'Baggrundsdata - BVT - deflator'!$G81,IF($C$20=$G$22,'Baggrundsdata - BVT - deflator'!$F81,IF($F$22=$C$20,'Baggrundsdata - BVT - deflator'!$E81,IF($E$22=$C$20,'Baggrundsdata - BVT - deflator'!$D81,IF($D$22=$C$20,'Baggrundsdata - BVT - deflator'!$C81,IF('Baggrundsdata - BVT - deflator'!$C$22='Baggrundsdata - BVT - deflator'!$C$20,'Baggrundsdata - BVT - deflator'!$B81,\"*\"))))))))))),\"*\")","v":0.96987927524840289},{"$f":"IFERROR('Baggrundsdata - BVT - deflator'!C81/IF($M$22=$C$20,$L81,IF($L$22=$C$20,$K81,IF($K$22=$C$20,$J81,IF($J$22=$C$20,$I81,IF($I$22=$C$20,'Baggrundsdata - BVT - deflator'!$H81,IF($H$22=$C$20,'Baggrundsdata - BVT - deflator'!$G81,IF($C$20=$G$22,'Baggrundsdata - BVT - deflator'!$F81,IF($F$22=$C$20,'Baggrundsdata - BVT - deflator'!$E81,IF($E$22=$C$20,'Baggrundsdata - BVT - deflator'!$D81,IF($D$22=$C$20,'Baggrundsdata - BVT - deflator'!$C81,IF('Baggrundsdata - BVT - deflator'!$C$22='Baggrundsdata - BVT - deflator'!$C$20,'Baggrundsdata - BVT - deflator'!$B81,\"*\"))))))))))),\"*\")","v":1.0090291633915796},{"$f":"IFERROR('Baggrundsdata - BVT - deflator'!D81/IF($M$22=$C$20,$L81,IF($L$22=$C$20,$K81,IF($K$22=$C$20,$J81,IF($J$22=$C$20,$I81,IF($I$22=$C$20,'Baggrundsdata - BVT - deflator'!$H81,IF($H$22=$C$20,'Baggrundsdata - BVT - deflator'!$G81,IF($C$20=$G$22,'Baggrundsdata - BVT - deflator'!$F81,IF($F$22=$C$20,'Baggrundsdata - BVT - deflator'!$E81,IF($E$22=$C$20,'Baggrundsdata - BVT - deflator'!$D81,IF($D$22=$C$20,'Baggrundsdata - BVT - deflator'!$C81,IF('Baggrundsdata - BVT - deflator'!$C$22='Baggrundsdata - BVT - deflator'!$C$20,'Baggrundsdata - BVT - deflator'!$B81,\"*\"))))))))))),\"*\")","v":1.0243263397625815},{"$f":"IFERROR('Baggrundsdata - BVT - deflator'!E81/IF($M$22=$C$20,$L81,IF($L$22=$C$20,$K81,IF($K$22=$C$20,$J81,IF($J$22=$C$20,$I81,IF($I$22=$C$20,'Baggrundsdata - BVT - deflator'!$H81,IF($H$22=$C$20,'Baggrundsdata - BVT - deflator'!$G81,IF($C$20=$G$22,'Baggrundsdata - BVT - deflator'!$F81,IF($F$22=$C$20,'Baggrundsdata - BVT - deflator'!$E81,IF($E$22=$C$20,'Baggrundsdata - BVT - deflator'!$D81,IF($D$22=$C$20,'Baggrundsdata - BVT - deflator'!$C81,IF('Baggrundsdata - BVT - deflator'!$C$22='Baggrundsdata - BVT - deflator'!$C$20,'Baggrundsdata - BVT - deflator'!$B81,\"*\"))))))))))),\"*\")","v":1.0077191285244977},{"$f":"IFERROR('Baggrundsdata - BVT - deflator'!F81/IF($M$22=$C$20,$L81,IF($L$22=$C$20,$K81,IF($K$22=$C$20,$J81,IF($J$22=$C$20,$I81,IF($I$22=$C$20,'Baggrundsdata - BVT - deflator'!$H81,IF($H$22=$C$20,'Baggrundsdata - BVT - deflator'!$G81,IF($C$20=$G$22,'Baggrundsdata - BVT - deflator'!$F81,IF($F$22=$C$20,'Baggrundsdata - BVT - deflator'!$E81,IF($E$22=$C$20,'Baggrundsdata - BVT - deflator'!$D81,IF($D$22=$C$20,'Baggrundsdata - BVT - deflator'!$C81,IF('Baggrundsdata - BVT - deflator'!$C$22='Baggrundsdata - BVT - deflator'!$C$20,'Baggrundsdata - BVT - deflator'!$B81,\"*\"))))))))))),\"*\")","v":1.0072656549166616},{"$f":"IFERROR('Baggrundsdata - BVT - deflator'!G81/IF($M$22=$C$20,$L81,IF($L$22=$C$20,$K81,IF($K$22=$C$20,$J81,IF($J$22=$C$20,$I81,IF($I$22=$C$20,'Baggrundsdata - BVT - deflator'!$H81,IF($H$22=$C$20,'Baggrundsdata - BVT - deflator'!$G81,IF($C$20=$G$22,'Baggrundsdata - BVT - deflator'!$F81,IF($F$22=$C$20,'Baggrundsdata - BVT - deflator'!$E81,IF($E$22=$C$20,'Baggrundsdata - BVT - deflator'!$D81,IF($D$22=$C$20,'Baggrundsdata - BVT - deflator'!$C81,IF('Baggrundsdata - BVT - deflator'!$C$22='Baggrundsdata - BVT - deflator'!$C$20,'Baggrundsdata - BVT - deflator'!$B81,\"*\"))))))))))),\"*\")","v":1.0048068202430618},{"$f":"IFERROR('Baggrundsdata - BVT - deflator'!H81/IF($M$22=$C$20,$L81,IF($L$22=$C$20,$K81,IF($K$22=$C$20,$J81,IF($J$22=$C$20,$I81,IF($I$22=$C$20,'Baggrundsdata - BVT - deflator'!$H81,IF($H$22=$C$20,'Baggrundsdata - BVT - deflator'!$G81,IF($C$20=$G$22,'Baggrundsdata - BVT - deflator'!$F81,IF($F$22=$C$20,'Baggrundsdata - BVT - deflator'!$E81,IF($E$22=$C$20,'Baggrundsdata - BVT - deflator'!$D81,IF($D$22=$C$20,'Baggrundsdata - BVT - deflator'!$C81,IF('Baggrundsdata - BVT - deflator'!$C$22='Baggrundsdata - BVT - deflator'!$C$20,'Baggrundsdata - BVT - deflator'!$B81,\"*\"))))))))))),\"*\")","v":1.0038897958361046},{"$f":"IFERROR('Baggrundsdata - BVT - deflator'!I81/IF($M$22=$C$20,$L81,IF($L$22=$C$20,$K81,IF($K$22=$C$20,$J81,IF($J$22=$C$20,$I81,IF($I$22=$C$20,'Baggrundsdata - BVT - deflator'!$H81,IF($H$22=$C$20,'Baggrundsdata - BVT - deflator'!$G81,IF($C$20=$G$22,'Baggrundsdata - BVT - deflator'!$F81,IF($F$22=$C$20,'Baggrundsdata - BVT - deflator'!$E81,IF($E$22=$C$20,'Baggrundsdata - BVT - deflator'!$D81,IF($D$22=$C$20,'Baggrundsdata - BVT - deflator'!$C81,IF('Baggrundsdata - BVT - deflator'!$C$22='Baggrundsdata - BVT - deflator'!$C$20,'Baggrundsdata - BVT - deflator'!$B81,\"*\"))))))))))),\"*\")","v":0.9973093899268396},{"$f":"IFERROR('Baggrundsdata - BVT - deflator'!J81/IF($M$22=$C$20,$L81,IF($L$22=$C$20,$K81,IF($K$22=$C$20,$J81,IF($J$22=$C$20,$I81,IF($I$22=$C$20,'Baggrundsdata - BVT - deflator'!$H81,IF($H$22=$C$20,'Baggrundsdata - BVT - deflator'!$G81,IF($C$20=$G$22,'Baggrundsdata - BVT - deflator'!$F81,IF($F$22=$C$20,'Baggrundsdata - BVT - deflator'!$E81,IF($E$22=$C$20,'Baggrundsdata - BVT - deflator'!$D81,IF($D$22=$C$20,'Baggrundsdata - BVT - deflator'!$C81,IF('Baggrundsdata - BVT - deflator'!$C$22='Baggrundsdata - BVT - deflator'!$C$20,'Baggrundsdata - BVT - deflator'!$B81,\"*\"))))))))))),\"*\")","v":1},{"$f":"IFERROR('Baggrundsdata - BVT - deflator'!K81/IF($M$22=$C$20,$L81,IF($L$22=$C$20,$K81,IF($K$22=$C$20,$J81,IF($J$22=$C$20,$I81,IF($I$22=$C$20,'Baggrundsdata - BVT - deflator'!$H81,IF($H$22=$C$20,'Baggrundsdata - BVT - deflator'!$G81,IF($C$20=$G$22,'Baggrundsdata - BVT - deflator'!$F81,IF($F$22=$C$20,'Baggrundsdata - BVT - deflator'!$E81,IF($E$22=$C$20,'Baggrundsdata - BVT - deflator'!$D81,IF($D$22=$C$20,'Baggrundsdata - BVT - deflator'!$C81,IF('Baggrundsdata - BVT - deflator'!$C$22='Baggrundsdata - BVT - deflator'!$C$20,'Baggrundsdata - BVT - deflator'!$B81,\"*\"))))))))))),\"*\")","v":1.0026978689866319},{"$f":"IFERROR('Baggrundsdata - BVT - deflator'!L81/IF($M$22=$C$20,$L81,IF($L$22=$C$20,$K81,IF($K$22=$C$20,$J81,IF($J$22=$C$20,$I81,IF($I$22=$C$20,'Baggrundsdata - BVT - deflator'!$H81,IF($H$22=$C$20,'Baggrundsdata - BVT - deflator'!$G81,IF($C$20=$G$22,'Baggrundsdata - BVT - deflator'!$F81,IF($F$22=$C$20,'Baggrundsdata - BVT - deflator'!$E81,IF($E$22=$C$20,'Baggrundsdata - BVT - deflator'!$D81,IF($D$22=$C$20,'Baggrundsdata - BVT - deflator'!$C81,IF('Baggrundsdata - BVT - deflator'!$C$22='Baggrundsdata - BVT - deflator'!$C$20,'Baggrundsdata - BVT - deflator'!$B81,\"*\"))))))))))),\"*\")","v":0},null,{"$f":"IF(A81='Level 1'!A61,\"S\",\"falsk\")","v":"S"},null,"Kilde: Eurostat"]
[null,"Frankrig",{"$f":"IFERROR('Baggrundsdata - BVT - deflator'!B82/IF($M$22=$C$20,$L82,IF($L$22=$C$20,$K82,IF($K$22=$C$20,$J82,IF($J$22=$C$20,$I82,IF($I$22=$C$20,'Baggrundsdata - BVT - deflator'!$H82,IF($H$22=$C$20,'Baggrundsdata - BVT - deflator'!$G82,IF($C$20=$G$22,'Baggrundsdata - BVT - deflator'!$F82,IF($F$22=$C$20,'Baggrundsdata - BVT - deflator'!$E82,IF($E$22=$C$20,'Baggrundsdata - BVT - deflator'!$D82,IF($D$22=$C$20,'Baggrundsdata - BVT - deflator'!$C82,IF('Baggrundsdata - BVT - deflator'!$C$22='Baggrundsdata - BVT - deflator'!$C$20,'Baggrundsdata - BVT - deflator'!$B82,\"*\"))))))))))),\"*\")","v":0.93063394209526007},{"$f":"IFERROR('Baggrundsdata - BVT - deflator'!C82/IF($M$22=$C$20,$L82,IF($L$22=$C$20,$K82,IF($K$22=$C$20,$J82,IF($J$22=$C$20,$I82,IF($I$22=$C$20,'Baggrundsdata - BVT - deflator'!$H82,IF($H$22=$C$20,'Baggrundsdata - BVT - deflator'!$G82,IF($C$20=$G$22,'Baggrundsdata - BVT - deflator'!$F82,IF($F$22=$C$20,'Baggrundsdata - BVT - deflator'!$E82,IF($E$22=$C$20,'Baggrundsdata - BVT - deflator'!$D82,IF($D$22=$C$20,'Baggrundsdata - BVT - deflator'!$C82,IF('Baggrundsdata - BVT - deflator'!$C$22='Baggrundsdata - BVT - deflator'!$C$20,'Baggrundsdata - BVT - deflator'!$B82,\"*\"))))))))))),\"*\")","v":0.95273653439842554},{"$f":"IFERROR('Baggrundsdata - BVT - deflator'!D82/IF($M$22=$C$20,$L82,IF($L$22=$C$20,$K82,IF($K$22=$C$20,$J82,IF($J$22=$C$20,$I82,IF($I$22=$C$20,'Baggrundsdata - BVT - deflator'!$H82,IF($H$22=$C$20,'Baggrundsdata - BVT - deflator'!$G82,IF($C$20=$G$22,'Baggrundsdata - BVT - deflator'!$F82,IF($F$22=$C$20,'Baggrundsdata - BVT - deflator'!$E82,IF($E$22=$C$20,'Baggrundsdata - BVT - deflator'!$D82,IF($D$22=$C$20,'Baggrundsdata - BVT - deflator'!$C82,IF('Baggrundsdata - BVT - deflator'!$C$22='Baggrundsdata - BVT - deflator'!$C$20,'Baggrundsdata - BVT - deflator'!$B82,\"*\"))))))))))),\"*\")","v":0.95543785515132218},{"$f":"IFERROR('Baggrundsdata - BVT - deflator'!E82/IF($M$22=$C$20,$L82,IF($L$22=$C$20,$K82,IF($K$22=$C$20,$J82,IF($J$22=$C$20,$I82,IF($I$22=$C$20,'Baggrundsdata - BVT - deflator'!$H82,IF($H$22=$C$20,'Baggrundsdata - BVT - deflator'!$G82,IF($C$20=$G$22,'Baggrundsdata - BVT - deflator'!$F82,IF($F$22=$C$20,'Baggrundsdata - BVT - deflator'!$E82,IF($E$22=$C$20,'Baggrundsdata - BVT - deflator'!$D82,IF($D$22=$C$20,'Baggrundsdata - BVT - deflator'!$C82,IF('Baggrundsdata - BVT - deflator'!$C$22='Baggrundsdata - BVT - deflator'!$C$20,'Baggrundsdata - BVT - deflator'!$B82,\"*\"))))))))))),\"*\")","v":0.96475741174881569},{"$f":"IFERROR('Baggrundsdata - BVT - deflator'!F82/IF($M$22=$C$20,$L82,IF($L$22=$C$20,$K82,IF($K$22=$C$20,$J82,IF($J$22=$C$20,$I82,IF($I$22=$C$20,'Baggrundsdata - BVT - deflator'!$H82,IF($H$22=$C$20,'Baggrundsdata - BVT - deflator'!$G82,IF($C$20=$G$22,'Baggrundsdata - BVT - deflator'!$F82,IF($F$22=$C$20,'Baggrundsdata - BVT - deflator'!$E82,IF($E$22=$C$20,'Baggrundsdata - BVT - deflator'!$D82,IF($D$22=$C$20,'Baggrundsdata - BVT - deflator'!$C82,IF('Baggrundsdata - BVT - deflator'!$C$22='Baggrundsdata - BVT - deflator'!$C$20,'Baggrundsdata - BVT - deflator'!$B82,\"*\"))))))))))),\"*\")","v":0.97025652899578385},{"$f":"IFERROR('Baggrundsdata - BVT - deflator'!G82/IF($M$22=$C$20,$L82,IF($L$22=$C$20,$K82,IF($K$22=$C$20,$J82,IF($J$22=$C$20,$I82,IF($I$22=$C$20,'Baggrundsdata - BVT - deflator'!$H82,IF($H$22=$C$20,'Baggrundsdata - BVT - deflator'!$G82,IF($C$20=$G$22,'Baggrundsdata - BVT - deflator'!$F82,IF($F$22=$C$20,'Baggrundsdata - BVT - deflator'!$E82,IF($E$22=$C$20,'Baggrundsdata - BVT - deflator'!$D82,IF($D$22=$C$20,'Baggrundsdata - BVT - deflator'!$C82,IF('Baggrundsdata - BVT - deflator'!$C$22='Baggrundsdata - BVT - deflator'!$C$20,'Baggrundsdata - BVT - deflator'!$B82,\"*\"))))))))))),\"*\")","v":0.9787174514968211},{"$f":"IFERROR('Baggrundsdata - BVT - deflator'!H82/IF($M$22=$C$20,$L82,IF($L$22=$C$20,$K82,IF($K$22=$C$20,$J82,IF($J$22=$C$20,$I82,IF($I$22=$C$20,'Baggrundsdata - BVT - deflator'!$H82,IF($H$22=$C$20,'Baggrundsdata - BVT - deflator'!$G82,IF($C$20=$G$22,'Baggrundsdata - BVT - deflator'!$F82,IF($F$22=$C$20,'Baggrundsdata - BVT - deflator'!$E82,IF($E$22=$C$20,'Baggrundsdata - BVT - deflator'!$D82,IF($D$22=$C$20,'Baggrundsdata - BVT - deflator'!$C82,IF('Baggrundsdata - BVT - deflator'!$C$22='Baggrundsdata - BVT - deflator'!$C$20,'Baggrundsdata - BVT - deflator'!$B82,\"*\"))))))))))),\"*\")","v":0.98513308828495061},{"$f":"IFERROR('Baggrundsdata - BVT - deflator'!I82/IF($M$22=$C$20,$L82,IF($L$22=$C$20,$K82,IF($K$22=$C$20,$J82,IF($J$22=$C$20,$I82,IF($I$22=$C$20,'Baggrundsdata - BVT - deflator'!$H82,IF($H$22=$C$20,'Baggrundsdata - BVT - deflator'!$G82,IF($C$20=$G$22,'Baggrundsdata - BVT - deflator'!$F82,IF($F$22=$C$20,'Baggrundsdata - BVT - deflator'!$E82,IF($E$22=$C$20,'Baggrundsdata - BVT - deflator'!$D82,IF($D$22=$C$20,'Baggrundsdata - BVT - deflator'!$C82,IF('Baggrundsdata - BVT - deflator'!$C$22='Baggrundsdata - BVT - deflator'!$C$20,'Baggrundsdata - BVT - deflator'!$B82,\"*\"))))))))))),\"*\")","v":0.98779581874137745},{"$f":"IFERROR('Baggrundsdata - BVT - deflator'!J82/IF($M$22=$C$20,$L82,IF($L$22=$C$20,$K82,IF($K$22=$C$20,$J82,IF($J$22=$C$20,$I82,IF($I$22=$C$20,'Baggrundsdata - BVT - deflator'!$H82,IF($H$22=$C$20,'Baggrundsdata - BVT - deflator'!$G82,IF($C$20=$G$22,'Baggrundsdata - BVT - deflator'!$F82,IF($F$22=$C$20,'Baggrundsdata - BVT - deflator'!$E82,IF($E$22=$C$20,'Baggrundsdata - BVT - deflator'!$D82,IF($D$22=$C$20,'Baggrundsdata - BVT - deflator'!$C82,IF('Baggrundsdata - BVT - deflator'!$C$22='Baggrundsdata - BVT - deflator'!$C$20,'Baggrundsdata - BVT - deflator'!$B82,\"*\"))))))))))),\"*\")","v":1},{"$f":"IFERROR('Baggrundsdata - BVT - deflator'!K82/IF($M$22=$C$20,$L82,IF($L$22=$C$20,$K82,IF($K$22=$C$20,$J82,IF($J$22=$C$20,$I82,IF($I$22=$C$20,'Baggrundsdata - BVT - deflator'!$H82,IF($H$22=$C$20,'Baggrundsdata - BVT - deflator'!$G82,IF($C$20=$G$22,'Baggrundsdata - BVT - deflator'!$F82,IF($F$22=$C$20,'Baggrundsdata - BVT - deflator'!$E82,IF($E$22=$C$20,'Baggrundsdata - BVT - deflator'!$D82,IF($D$22=$C$20,'Baggrundsdata - BVT - deflator'!$C82,IF('Baggrundsdata - BVT - deflator'!$C$22='Baggrundsdata - BVT - deflator'!$C$20,'Baggrundsdata - BVT - deflator'!$B82,\"*\"))))))))))),\"*\")","v":1.0123549634722819},{"$f":"IFERROR('Baggrundsdata - BVT - deflator'!L82/IF($M$22=$C$20,$L82,IF($L$22=$C$20,$K82,IF($K$22=$C$20,$J82,IF($J$22=$C$20,$I82,IF($I$22=$C$20,'Baggrundsdata - BVT - deflator'!$H82,IF($H$22=$C$20,'Baggrundsdata - BVT - deflator'!$G82,IF($C$20=$G$22,'Baggrundsdata - BVT - deflator'!$F82,IF($F$22=$C$20,'Baggrundsdata - BVT - deflator'!$E82,IF($E$22=$C$20,'Baggrundsdata - BVT - deflator'!$D82,IF($D$22=$C$20,'Baggrundsdata - BVT - deflator'!$C82,IF('Baggrundsdata - BVT - deflator'!$C$22='Baggrundsdata - BVT - deflator'!$C$20,'Baggrundsdata - BVT - deflator'!$B82,\"*\"))))))))))),\"*\")","v":0},null,{"$f":"IF(A82='Level 1'!A62,\"S\",\"falsk\")","v":"S"},null,"Bemærk: Deflatoren er hentet for  alle erhvervs samlet i de enkelte lande. * hvis manglende baggrundsdata"]
[null,"Kroatien",{"$f":"IFERROR('Baggrundsdata - BVT - deflator'!B83/IF($M$22=$C$20,$L83,IF($L$22=$C$20,$K83,IF($K$22=$C$20,$J83,IF($J$22=$C$20,$I83,IF($I$22=$C$20,'Baggrundsdata - BVT - deflator'!$H83,IF($H$22=$C$20,'Baggrundsdata - BVT - deflator'!$G83,IF($C$20=$G$22,'Baggrundsdata - BVT - deflator'!$F83,IF($F$22=$C$20,'Baggrundsdata - BVT - deflator'!$E83,IF($E$22=$C$20,'Baggrundsdata - BVT - deflator'!$D83,IF($D$22=$C$20,'Baggrundsdata - BVT - deflator'!$C83,IF('Baggrundsdata - BVT - deflator'!$C$22='Baggrundsdata - BVT - deflator'!$C$20,'Baggrundsdata - BVT - deflator'!$B83,\"*\"))))))))))),\"*\")","v":0.92172475351969818},{"$f":"IFERROR('Baggrundsdata - BVT - deflator'!C83/IF($M$22=$C$20,$L83,IF($L$22=$C$20,$K83,IF($K$22=$C$20,$J83,IF($J$22=$C$20,$I83,IF($I$22=$C$20,'Baggrundsdata - BVT - deflator'!$H83,IF($H$22=$C$20,'Baggrundsdata - BVT - deflator'!$G83,IF($C$20=$G$22,'Baggrundsdata - BVT - deflator'!$F83,IF($F$22=$C$20,'Baggrundsdata - BVT - deflator'!$E83,IF($E$22=$C$20,'Baggrundsdata - BVT - deflator'!$D83,IF($D$22=$C$20,'Baggrundsdata - BVT - deflator'!$C83,IF('Baggrundsdata - BVT - deflator'!$C$22='Baggrundsdata - BVT - deflator'!$C$20,'Baggrundsdata - BVT - deflator'!$B83,\"*\"))))))))))),\"*\")","v":0.98974520225585272},{"$f":"IFERROR('Baggrundsdata - BVT - deflator'!D83/IF($M$22=$C$20,$L83,IF($L$22=$C$20,$K83,IF($K$22=$C$20,$J83,IF($J$22=$C$20,$I83,IF($I$22=$C$20,'Baggrundsdata - BVT - deflator'!$H83,IF($H$22=$C$20,'Baggrundsdata - BVT - deflator'!$G83,IF($C$20=$G$22,'Baggrundsdata - BVT - deflator'!$F83,IF($F$22=$C$20,'Baggrundsdata - BVT - deflator'!$E83,IF($E$22=$C$20,'Baggrundsdata - BVT - deflator'!$D83,IF($D$22=$C$20,'Baggrundsdata - BVT - deflator'!$C83,IF('Baggrundsdata - BVT - deflator'!$C$22='Baggrundsdata - BVT - deflator'!$C$20,'Baggrundsdata - BVT - deflator'!$B83,\"*\"))))))))))),\"*\")","v":1.0003347263358624},{"$f":"IFERROR('Baggrundsdata - BVT - deflator'!E83/IF($M$22=$C$20,$L83,IF($L$22=$C$20,$K83,IF($K$22=$C$20,$J83,IF($J$22=$C$20,$I83,IF($I$22=$C$20,'Baggrundsdata - BVT - deflator'!$H83,IF($H$22=$C$20,'Baggrundsdata - BVT - deflator'!$G83,IF($C$20=$G$22,'Baggrundsdata - BVT - deflator'!$F83,IF($F$22=$C$20,'Baggrundsdata - BVT - deflator'!$E83,IF($E$22=$C$20,'Baggrundsdata - BVT - deflator'!$D83,IF($D$22=$C$20,'Baggrundsdata - BVT - deflator'!$C83,IF('Baggrundsdata - BVT - deflator'!$C$22='Baggrundsdata - BVT - deflator'!$C$20,'Baggrundsdata - BVT - deflator'!$B83,\"*\"))))))))))),\"*\")","v":1.0143222298859902},{"$f":"IFERROR('Baggrundsdata - BVT - deflator'!F83/IF($M$22=$C$20,$L83,IF($L$22=$C$20,$K83,IF($K$22=$C$20,$J83,IF($J$22=$C$20,$I83,IF($I$22=$C$20,'Baggrundsdata - BVT - deflator'!$H83,IF($H$22=$C$20,'Baggrundsdata - BVT - deflator'!$G83,IF($C$20=$G$22,'Baggrundsdata - BVT - deflator'!$F83,IF($F$22=$C$20,'Baggrundsdata - BVT - deflator'!$E83,IF($E$22=$C$20,'Baggrundsdata - BVT - deflator'!$D83,IF($D$22=$C$20,'Baggrundsdata - BVT - deflator'!$C83,IF('Baggrundsdata - BVT - deflator'!$C$22='Baggrundsdata - BVT - deflator'!$C$20,'Baggrundsdata - BVT - deflator'!$B83,\"*\"))))))))))),\"*\")","v":1.0127297439850693},{"$f":"IFERROR('Baggrundsdata - BVT - deflator'!G83/IF($M$22=$C$20,$L83,IF($L$22=$C$20,$K83,IF($K$22=$C$20,$J83,IF($J$22=$C$20,$I83,IF($I$22=$C$20,'Baggrundsdata - BVT - deflator'!$H83,IF($H$22=$C$20,'Baggrundsdata - BVT - deflator'!$G83,IF($C$20=$G$22,'Baggrundsdata - BVT - deflator'!$F83,IF($F$22=$C$20,'Baggrundsdata - BVT - deflator'!$E83,IF($E$22=$C$20,'Baggrundsdata - BVT - deflator'!$D83,IF($D$22=$C$20,'Baggrundsdata - BVT - deflator'!$C83,IF('Baggrundsdata - BVT - deflator'!$C$22='Baggrundsdata - BVT - deflator'!$C$20,'Baggrundsdata - BVT - deflator'!$B83,\"*\"))))))))))),\"*\")","v":1.014981539335416},{"$f":"IFERROR('Baggrundsdata - BVT - deflator'!H83/IF($M$22=$C$20,$L83,IF($L$22=$C$20,$K83,IF($K$22=$C$20,$J83,IF($J$22=$C$20,$I83,IF($I$22=$C$20,'Baggrundsdata - BVT - deflator'!$H83,IF($H$22=$C$20,'Baggrundsdata - BVT - deflator'!$G83,IF($C$20=$G$22,'Baggrundsdata - BVT - deflator'!$F83,IF($F$22=$C$20,'Baggrundsdata - BVT - deflator'!$E83,IF($E$22=$C$20,'Baggrundsdata - BVT - deflator'!$D83,IF($D$22=$C$20,'Baggrundsdata - BVT - deflator'!$C83,IF('Baggrundsdata - BVT - deflator'!$C$22='Baggrundsdata - BVT - deflator'!$C$20,'Baggrundsdata - BVT - deflator'!$B83,\"*\"))))))))))),\"*\")","v":1.0095447721832271},{"$f":"IFERROR('Baggrundsdata - BVT - deflator'!I83/IF($M$22=$C$20,$L83,IF($L$22=$C$20,$K83,IF($K$22=$C$20,$J83,IF($J$22=$C$20,$I83,IF($I$22=$C$20,'Baggrundsdata - BVT - deflator'!$H83,IF($H$22=$C$20,'Baggrundsdata - BVT - deflator'!$G83,IF($C$20=$G$22,'Baggrundsdata - BVT - deflator'!$F83,IF($F$22=$C$20,'Baggrundsdata - BVT - deflator'!$E83,IF($E$22=$C$20,'Baggrundsdata - BVT - deflator'!$D83,IF($D$22=$C$20,'Baggrundsdata - BVT - deflator'!$C83,IF('Baggrundsdata - BVT - deflator'!$C$22='Baggrundsdata - BVT - deflator'!$C$20,'Baggrundsdata - BVT - deflator'!$B83,\"*\"))))))))))),\"*\")","v":0.9995841278857468},{"$f":"IFERROR('Baggrundsdata - BVT - deflator'!J83/IF($M$22=$C$20,$L83,IF($L$22=$C$20,$K83,IF($K$22=$C$20,$J83,IF($J$22=$C$20,$I83,IF($I$22=$C$20,'Baggrundsdata - BVT - deflator'!$H83,IF($H$22=$C$20,'Baggrundsdata - BVT - deflator'!$G83,IF($C$20=$G$22,'Baggrundsdata - BVT - deflator'!$F83,IF($F$22=$C$20,'Baggrundsdata - BVT - deflator'!$E83,IF($E$22=$C$20,'Baggrundsdata - BVT - deflator'!$D83,IF($D$22=$C$20,'Baggrundsdata - BVT - deflator'!$C83,IF('Baggrundsdata - BVT - deflator'!$C$22='Baggrundsdata - BVT - deflator'!$C$20,'Baggrundsdata - BVT - deflator'!$B83,\"*\"))))))))))),\"*\")","v":1},{"$f":"IFERROR('Baggrundsdata - BVT - deflator'!K83/IF($M$22=$C$20,$L83,IF($L$22=$C$20,$K83,IF($K$22=$C$20,$J83,IF($J$22=$C$20,$I83,IF($I$22=$C$20,'Baggrundsdata - BVT - deflator'!$H83,IF($H$22=$C$20,'Baggrundsdata - BVT - deflator'!$G83,IF($C$20=$G$22,'Baggrundsdata - BVT - deflator'!$F83,IF($F$22=$C$20,'Baggrundsdata - BVT - deflator'!$E83,IF($E$22=$C$20,'Baggrundsdata - BVT - deflator'!$D83,IF($D$22=$C$20,'Baggrundsdata - BVT - deflator'!$C83,IF('Baggrundsdata - BVT - deflator'!$C$22='Baggrundsdata - BVT - deflator'!$C$20,'Baggrundsdata - BVT - deflator'!$B83,\"*\"))))))))))),\"*\")","v":1.0004160451358235},{"$f":"IFERROR('Baggrundsdata - BVT - deflator'!L83/IF($M$22=$C$20,$L83,IF($L$22=$C$20,$K83,IF($K$22=$C$20,$J83,IF($J$22=$C$20,$I83,IF($I$22=$C$20,'Baggrundsdata - BVT - deflator'!$H83,IF($H$22=$C$20,'Baggrundsdata - BVT - deflator'!$G83,IF($C$20=$G$22,'Baggrundsdata - BVT - deflator'!$F83,IF($F$22=$C$20,'Baggrundsdata - BVT - deflator'!$E83,IF($E$22=$C$20,'Baggrundsdata - BVT - deflator'!$D83,IF($D$22=$C$20,'Baggrundsdata - BVT - deflator'!$C83,IF('Baggrundsdata - BVT - deflator'!$C$22='Baggrundsdata - BVT - deflator'!$C$20,'Baggrundsdata - BVT - deflator'!$B83,\"*\"))))))))))),\"*\")","v":0},null,{"$f":"IF(A83='Level 1'!A63,\"S\",\"falsk\")","v":"S"},null,"Bemærk: Hvis der i valgmenuen vælges løbende priser, skal der ikke deflateres. Det medfører at alle felter i deflatoren vil vise \"*\"."]
[null,"Italien",{"$f":"IFERROR('Baggrundsdata - BVT - deflator'!B84/IF($M$22=$C$20,$L84,IF($L$22=$C$20,$K84,IF($K$22=$C$20,$J84,IF($J$22=$C$20,$I84,IF($I$22=$C$20,'Baggrundsdata - BVT - deflator'!$H84,IF($H$22=$C$20,'Baggrundsdata - BVT - deflator'!$G84,IF($C$20=$G$22,'Baggrundsdata - BVT - deflator'!$F84,IF($F$22=$C$20,'Baggrundsdata - BVT - deflator'!$E84,IF($E$22=$C$20,'Baggrundsdata - BVT - deflator'!$D84,IF($D$22=$C$20,'Baggrundsdata - BVT - deflator'!$C84,IF('Baggrundsdata - BVT - deflator'!$C$22='Baggrundsdata - BVT - deflator'!$C$20,'Baggrundsdata - BVT - deflator'!$B84,\"*\"))))))))))),\"*\")","v":0.91008751024765966},{"$f":"IFERROR('Baggrundsdata - BVT - deflator'!C84/IF($M$22=$C$20,$L84,IF($L$22=$C$20,$K84,IF($K$22=$C$20,$J84,IF($J$22=$C$20,$I84,IF($I$22=$C$20,'Baggrundsdata - BVT - deflator'!$H84,IF($H$22=$C$20,'Baggrundsdata - BVT - deflator'!$G84,IF($C$20=$G$22,'Baggrundsdata - BVT - deflator'!$F84,IF($F$22=$C$20,'Baggrundsdata - BVT - deflator'!$E84,IF($E$22=$C$20,'Baggrundsdata - BVT - deflator'!$D84,IF($D$22=$C$20,'Baggrundsdata - BVT - deflator'!$C84,IF('Baggrundsdata - BVT - deflator'!$C$22='Baggrundsdata - BVT - deflator'!$C$20,'Baggrundsdata - BVT - deflator'!$B84,\"*\"))))))))))),\"*\")","v":0.93513946349926591},{"$f":"IFERROR('Baggrundsdata - BVT - deflator'!D84/IF($M$22=$C$20,$L84,IF($L$22=$C$20,$K84,IF($K$22=$C$20,$J84,IF($J$22=$C$20,$I84,IF($I$22=$C$20,'Baggrundsdata - BVT - deflator'!$H84,IF($H$22=$C$20,'Baggrundsdata - BVT - deflator'!$G84,IF($C$20=$G$22,'Baggrundsdata - BVT - deflator'!$F84,IF($F$22=$C$20,'Baggrundsdata - BVT - deflator'!$E84,IF($E$22=$C$20,'Baggrundsdata - BVT - deflator'!$D84,IF($D$22=$C$20,'Baggrundsdata - BVT - deflator'!$C84,IF('Baggrundsdata - BVT - deflator'!$C$22='Baggrundsdata - BVT - deflator'!$C$20,'Baggrundsdata - BVT - deflator'!$B84,\"*\"))))))))))),\"*\")","v":0.95533926903204891},{"$f":"IFERROR('Baggrundsdata - BVT - deflator'!E84/IF($M$22=$C$20,$L84,IF($L$22=$C$20,$K84,IF($K$22=$C$20,$J84,IF($J$22=$C$20,$I84,IF($I$22=$C$20,'Baggrundsdata - BVT - deflator'!$H84,IF($H$22=$C$20,'Baggrundsdata - BVT - deflator'!$G84,IF($C$20=$G$22,'Baggrundsdata - BVT - deflator'!$F84,IF($F$22=$C$20,'Baggrundsdata - BVT - deflator'!$E84,IF($E$22=$C$20,'Baggrundsdata - BVT - deflator'!$D84,IF($D$22=$C$20,'Baggrundsdata - BVT - deflator'!$C84,IF('Baggrundsdata - BVT - deflator'!$C$22='Baggrundsdata - BVT - deflator'!$C$20,'Baggrundsdata - BVT - deflator'!$B84,\"*\"))))))))))),\"*\")","v":0.95327067167451529},{"$f":"IFERROR('Baggrundsdata - BVT - deflator'!F84/IF($M$22=$C$20,$L84,IF($L$22=$C$20,$K84,IF($K$22=$C$20,$J84,IF($J$22=$C$20,$I84,IF($I$22=$C$20,'Baggrundsdata - BVT - deflator'!$H84,IF($H$22=$C$20,'Baggrundsdata - BVT - deflator'!$G84,IF($C$20=$G$22,'Baggrundsdata - BVT - deflator'!$F84,IF($F$22=$C$20,'Baggrundsdata - BVT - deflator'!$E84,IF($E$22=$C$20,'Baggrundsdata - BVT - deflator'!$D84,IF($D$22=$C$20,'Baggrundsdata - BVT - deflator'!$C84,IF('Baggrundsdata - BVT - deflator'!$C$22='Baggrundsdata - BVT - deflator'!$C$20,'Baggrundsdata - BVT - deflator'!$B84,\"*\"))))))))))),\"*\")","v":0.96551066709881606},{"$f":"IFERROR('Baggrundsdata - BVT - deflator'!G84/IF($M$22=$C$20,$L84,IF($L$22=$C$20,$K84,IF($K$22=$C$20,$J84,IF($J$22=$C$20,$I84,IF($I$22=$C$20,'Baggrundsdata - BVT - deflator'!$H84,IF($H$22=$C$20,'Baggrundsdata - BVT - deflator'!$G84,IF($C$20=$G$22,'Baggrundsdata - BVT - deflator'!$F84,IF($F$22=$C$20,'Baggrundsdata - BVT - deflator'!$E84,IF($E$22=$C$20,'Baggrundsdata - BVT - deflator'!$D84,IF($D$22=$C$20,'Baggrundsdata - BVT - deflator'!$C84,IF('Baggrundsdata - BVT - deflator'!$C$22='Baggrundsdata - BVT - deflator'!$C$20,'Baggrundsdata - BVT - deflator'!$B84,\"*\"))))))))))),\"*\")","v":0.97472879449390859},{"$f":"IFERROR('Baggrundsdata - BVT - deflator'!H84/IF($M$22=$C$20,$L84,IF($L$22=$C$20,$K84,IF($K$22=$C$20,$J84,IF($J$22=$C$20,$I84,IF($I$22=$C$20,'Baggrundsdata - BVT - deflator'!$H84,IF($H$22=$C$20,'Baggrundsdata - BVT - deflator'!$G84,IF($C$20=$G$22,'Baggrundsdata - BVT - deflator'!$F84,IF($F$22=$C$20,'Baggrundsdata - BVT - deflator'!$E84,IF($E$22=$C$20,'Baggrundsdata - BVT - deflator'!$D84,IF($D$22=$C$20,'Baggrundsdata - BVT - deflator'!$C84,IF('Baggrundsdata - BVT - deflator'!$C$22='Baggrundsdata - BVT - deflator'!$C$20,'Baggrundsdata - BVT - deflator'!$B84,\"*\"))))))))))),\"*\")","v":0.98702598615850978},{"$f":"IFERROR('Baggrundsdata - BVT - deflator'!I84/IF($M$22=$C$20,$L84,IF($L$22=$C$20,$K84,IF($K$22=$C$20,$J84,IF($J$22=$C$20,$I84,IF($I$22=$C$20,'Baggrundsdata - BVT - deflator'!$H84,IF($H$22=$C$20,'Baggrundsdata - BVT - deflator'!$G84,IF($C$20=$G$22,'Baggrundsdata - BVT - deflator'!$F84,IF($F$22=$C$20,'Baggrundsdata - BVT - deflator'!$E84,IF($E$22=$C$20,'Baggrundsdata - BVT - deflator'!$D84,IF($D$22=$C$20,'Baggrundsdata - BVT - deflator'!$C84,IF('Baggrundsdata - BVT - deflator'!$C$22='Baggrundsdata - BVT - deflator'!$C$20,'Baggrundsdata - BVT - deflator'!$B84,\"*\"))))))))))),\"*\")","v":0.99167794703628143},{"$f":"IFERROR('Baggrundsdata - BVT - deflator'!J84/IF($M$22=$C$20,$L84,IF($L$22=$C$20,$K84,IF($K$22=$C$20,$J84,IF($J$22=$C$20,$I84,IF($I$22=$C$20,'Baggrundsdata - BVT - deflator'!$H84,IF($H$22=$C$20,'Baggrundsdata - BVT - deflator'!$G84,IF($C$20=$G$22,'Baggrundsdata - BVT - deflator'!$F84,IF($F$22=$C$20,'Baggrundsdata - BVT - deflator'!$E84,IF($E$22=$C$20,'Baggrundsdata - BVT - deflator'!$D84,IF($D$22=$C$20,'Baggrundsdata - BVT - deflator'!$C84,IF('Baggrundsdata - BVT - deflator'!$C$22='Baggrundsdata - BVT - deflator'!$C$20,'Baggrundsdata - BVT - deflator'!$B84,\"*\"))))))))))),\"*\")","v":1},{"$f":"IFERROR('Baggrundsdata - BVT - deflator'!K84/IF($M$22=$C$20,$L84,IF($L$22=$C$20,$K84,IF($K$22=$C$20,$J84,IF($J$22=$C$20,$I84,IF($I$22=$C$20,'Baggrundsdata - BVT - deflator'!$H84,IF($H$22=$C$20,'Baggrundsdata - BVT - deflator'!$G84,IF($C$20=$G$22,'Baggrundsdata - BVT - deflator'!$F84,IF($F$22=$C$20,'Baggrundsdata - BVT - deflator'!$E84,IF($E$22=$C$20,'Baggrundsdata - BVT - deflator'!$D84,IF($D$22=$C$20,'Baggrundsdata - BVT - deflator'!$C84,IF('Baggrundsdata - BVT - deflator'!$C$22='Baggrundsdata - BVT - deflator'!$C$20,'Baggrundsdata - BVT - deflator'!$B84,\"*\"))))))))))),\"*\")","v":1.0083918907227793},{"$f":"IFERROR('Baggrundsdata - BVT - deflator'!L84/IF($M$22=$C$20,$L84,IF($L$22=$C$20,$K84,IF($K$22=$C$20,$J84,IF($J$22=$C$20,$I84,IF($I$22=$C$20,'Baggrundsdata - BVT - deflator'!$H84,IF($H$22=$C$20,'Baggrundsdata - BVT - deflator'!$G84,IF($C$20=$G$22,'Baggrundsdata - BVT - deflator'!$F84,IF($F$22=$C$20,'Baggrundsdata - BVT - deflator'!$E84,IF($E$22=$C$20,'Baggrundsdata - BVT - deflator'!$D84,IF($D$22=$C$20,'Baggrundsdata - BVT - deflator'!$C84,IF('Baggrundsdata - BVT - deflator'!$C$22='Baggrundsdata - BVT - deflator'!$C$20,'Baggrundsdata - BVT - deflator'!$B84,\"*\"))))))))))),\"*\")","v":0},null,{"$f":"IF(A84='Level 1'!A64,\"S\",\"falsk\")","v":"S"}]
[null,{"$f":"IF(A85=\"European Union (28 countries)\",\"EU-28\",IF(A85=\"European Union (27 countries)\",\"EU-27\",IF(A85=\"Euro area (EA11-2000, EA12-2006, EA13-2007, EA15-2008, EA16-2010, EA17-2013, EA18)\",\"EU-området\",IF(A85=\"Belgium\",\"Belgien\",IF(A85=\"Bulgaria\",\"Bulgarien\",IF(A85=\"czech republic\",\"Tjekkiet\",IF(A85=\"Denmark\",\"Danmark\",IF(A85=\"Germany (until 1990 former territory of the FRG)\",\"Tyskland\",IF(A85=\"Estonia\",\"Estland\",IF(A85=\"Ireland\",\"Irland\",IF(A85=\"Greece\",\"Grækenland\",IF(A85=\"Spain\",\"Spanien\",IF(A85=\"france\",\"Frankrig\",IF(A85=\"Croatia\",\"Kroatien\",IF(A85=\"italy\",\"Italien\",IF(A85=\"Cyprus\",\"Cypern\",IF(A85=\"Latvia\",\"Letland\",IF(A85=\"Lithuania\",\"Litaun\",IF(A85=\"Luxembourg\",\"luxembourg\",IF(A85=\"Hungary\",\"Ungarn\",IF(A85=\"Malta\",\"Malta\",IF(A85=\"Netherlands\",\"Holland\",IF(A85=\"Austria\",\"Østrig\",IF(A85=\"Poland\",\"Polen\",IF(A85=\"portugal\",\"Portugal\",IF(A85=\"Romania\",\"Rumænien\",IF(A85=\"Slovenia\",\"Slovenien\",IF(A85=\"slovakia\",\"Slovakiet\",IF(A85=\"Finland\",\"Finland\",IF(A85=\"sweden\",\"Sverige\",IF(A85=\"United kingdom\",\"UK\",IF(A85=\"liechtenstein\",\"Liechtenstein\",IF(A85=\"Norway\",\"Norge\",IF(A85=\"Montenegro\",\"Montenegro\",IF(A85=\"Former Yugoslav Republic of Macedonia, the\",\"Republikken Makedonien\",IF(A85=\"Serbia\",\"Serbien\",IF(A85=\"Turkey\",\"Tyrkiet\",IF(A85=\"Bosnia and Herzegovina\",\"Bosnien-Hercegovina\",IF(A85=\"Kosovo (under United Nations Security Council Resolution 1244/99)\",\"Kosovo\",IF(A85=\"New Country\",\"Nyt land\",0))))))))))))))))))))))))))))))))))))))))","v":"Letland"},{"$f":"IFERROR('Baggrundsdata - BVT - deflator'!B85/IF($M$22=$C$20,$L85,IF($L$22=$C$20,$K85,IF($K$22=$C$20,$J85,IF($J$22=$C$20,$I85,IF($I$22=$C$20,'Baggrundsdata - BVT - deflator'!$H85,IF($H$22=$C$20,'Baggrundsdata - BVT - deflator'!$G85,IF($C$20=$G$22,'Baggrundsdata - BVT - deflator'!$F85,IF($F$22=$C$20,'Baggrundsdata - BVT - deflator'!$E85,IF($E$22=$C$20,'Baggrundsdata - BVT - deflator'!$D85,IF($D$22=$C$20,'Baggrundsdata - BVT - deflator'!$C85,IF('Baggrundsdata - BVT - deflator'!$C$22='Baggrundsdata - BVT - deflator'!$C$20,'Baggrundsdata - BVT - deflator'!$B85,\"*\"))))))))))),\"*\")","v":0.90786526608212514},{"$f":"IFERROR('Baggrundsdata - BVT - deflator'!C85/IF($M$22=$C$20,$L85,IF($L$22=$C$20,$K85,IF($K$22=$C$20,$J85,IF($J$22=$C$20,$I85,IF($I$22=$C$20,'Baggrundsdata - BVT - deflator'!$H85,IF($H$22=$C$20,'Baggrundsdata - BVT - deflator'!$G85,IF($C$20=$G$22,'Baggrundsdata - BVT - deflator'!$F85,IF($F$22=$C$20,'Baggrundsdata - BVT - deflator'!$E85,IF($E$22=$C$20,'Baggrundsdata - BVT - deflator'!$D85,IF($D$22=$C$20,'Baggrundsdata - BVT - deflator'!$C85,IF('Baggrundsdata - BVT - deflator'!$C$22='Baggrundsdata - BVT - deflator'!$C$20,'Baggrundsdata - BVT - deflator'!$B85,\"*\"))))))))))),\"*\")","v":1.0085510895042973},{"$f":"IFERROR('Baggrundsdata - BVT - deflator'!D85/IF($M$22=$C$20,$L85,IF($L$22=$C$20,$K85,IF($K$22=$C$20,$J85,IF($J$22=$C$20,$I85,IF($I$22=$C$20,'Baggrundsdata - BVT - deflator'!$H85,IF($H$22=$C$20,'Baggrundsdata - BVT - deflator'!$G85,IF($C$20=$G$22,'Baggrundsdata - BVT - deflator'!$F85,IF($F$22=$C$20,'Baggrundsdata - BVT - deflator'!$E85,IF($E$22=$C$20,'Baggrundsdata - BVT - deflator'!$D85,IF($D$22=$C$20,'Baggrundsdata - BVT - deflator'!$C85,IF('Baggrundsdata - BVT - deflator'!$C$22='Baggrundsdata - BVT - deflator'!$C$20,'Baggrundsdata - BVT - deflator'!$B85,\"*\"))))))))))),\"*\")","v":0.88327111728448648},{"$f":"IFERROR('Baggrundsdata - BVT - deflator'!E85/IF($M$22=$C$20,$L85,IF($L$22=$C$20,$K85,IF($K$22=$C$20,$J85,IF($J$22=$C$20,$I85,IF($I$22=$C$20,'Baggrundsdata - BVT - deflator'!$H85,IF($H$22=$C$20,'Baggrundsdata - BVT - deflator'!$G85,IF($C$20=$G$22,'Baggrundsdata - BVT - deflator'!$F85,IF($F$22=$C$20,'Baggrundsdata - BVT - deflator'!$E85,IF($E$22=$C$20,'Baggrundsdata - BVT - deflator'!$D85,IF($D$22=$C$20,'Baggrundsdata - BVT - deflator'!$C85,IF('Baggrundsdata - BVT - deflator'!$C$22='Baggrundsdata - BVT - deflator'!$C$20,'Baggrundsdata - BVT - deflator'!$B85,\"*\"))))))))))),\"*\")","v":0.86813091414185262},{"$f":"IFERROR('Baggrundsdata - BVT - deflator'!F85/IF($M$22=$C$20,$L85,IF($L$22=$C$20,$K85,IF($K$22=$C$20,$J85,IF($J$22=$C$20,$I85,IF($I$22=$C$20,'Baggrundsdata - BVT - deflator'!$H85,IF($H$22=$C$20,'Baggrundsdata - BVT - deflator'!$G85,IF($C$20=$G$22,'Baggrundsdata - BVT - deflator'!$F85,IF($F$22=$C$20,'Baggrundsdata - BVT - deflator'!$E85,IF($E$22=$C$20,'Baggrundsdata - BVT - deflator'!$D85,IF($D$22=$C$20,'Baggrundsdata - BVT - deflator'!$C85,IF('Baggrundsdata - BVT - deflator'!$C$22='Baggrundsdata - BVT - deflator'!$C$20,'Baggrundsdata - BVT - deflator'!$B85,\"*\"))))))))))),\"*\")","v":0.9257834881500131},{"$f":"IFERROR('Baggrundsdata - BVT - deflator'!G85/IF($M$22=$C$20,$L85,IF($L$22=$C$20,$K85,IF($K$22=$C$20,$J85,IF($J$22=$C$20,$I85,IF($I$22=$C$20,'Baggrundsdata - BVT - deflator'!$H85,IF($H$22=$C$20,'Baggrundsdata - BVT - deflator'!$G85,IF($C$20=$G$22,'Baggrundsdata - BVT - deflator'!$F85,IF($F$22=$C$20,'Baggrundsdata - BVT - deflator'!$E85,IF($E$22=$C$20,'Baggrundsdata - BVT - deflator'!$D85,IF($D$22=$C$20,'Baggrundsdata - BVT - deflator'!$C85,IF('Baggrundsdata - BVT - deflator'!$C$22='Baggrundsdata - BVT - deflator'!$C$20,'Baggrundsdata - BVT - deflator'!$B85,\"*\"))))))))))),\"*\")","v":0.97472870908933062},{"$f":"IFERROR('Baggrundsdata - BVT - deflator'!H85/IF($M$22=$C$20,$L85,IF($L$22=$C$20,$K85,IF($K$22=$C$20,$J85,IF($J$22=$C$20,$I85,IF($I$22=$C$20,'Baggrundsdata - BVT - deflator'!$H85,IF($H$22=$C$20,'Baggrundsdata - BVT - deflator'!$G85,IF($C$20=$G$22,'Baggrundsdata - BVT - deflator'!$F85,IF($F$22=$C$20,'Baggrundsdata - BVT - deflator'!$E85,IF($E$22=$C$20,'Baggrundsdata - BVT - deflator'!$D85,IF($D$22=$C$20,'Baggrundsdata - BVT - deflator'!$C85,IF('Baggrundsdata - BVT - deflator'!$C$22='Baggrundsdata - BVT - deflator'!$C$20,'Baggrundsdata - BVT - deflator'!$B85,\"*\"))))))))))),\"*\")","v":0.98452122580085077},{"$f":"IFERROR('Baggrundsdata - BVT - deflator'!I85/IF($M$22=$C$20,$L85,IF($L$22=$C$20,$K85,IF($K$22=$C$20,$J85,IF($J$22=$C$20,$I85,IF($I$22=$C$20,'Baggrundsdata - BVT - deflator'!$H85,IF($H$22=$C$20,'Baggrundsdata - BVT - deflator'!$G85,IF($C$20=$G$22,'Baggrundsdata - BVT - deflator'!$F85,IF($F$22=$C$20,'Baggrundsdata - BVT - deflator'!$E85,IF($E$22=$C$20,'Baggrundsdata - BVT - deflator'!$D85,IF($D$22=$C$20,'Baggrundsdata - BVT - deflator'!$C85,IF('Baggrundsdata - BVT - deflator'!$C$22='Baggrundsdata - BVT - deflator'!$C$20,'Baggrundsdata - BVT - deflator'!$B85,\"*\"))))))))))),\"*\")","v":0.9934108863616633},{"$f":"IFERROR('Baggrundsdata - BVT - deflator'!J85/IF($M$22=$C$20,$L85,IF($L$22=$C$20,$K85,IF($K$22=$C$20,$J85,IF($J$22=$C$20,$I85,IF($I$22=$C$20,'Baggrundsdata - BVT - deflator'!$H85,IF($H$22=$C$20,'Baggrundsdata - BVT - deflator'!$G85,IF($C$20=$G$22,'Baggrundsdata - BVT - deflator'!$F85,IF($F$22=$C$20,'Baggrundsdata - BVT - deflator'!$E85,IF($E$22=$C$20,'Baggrundsdata - BVT - deflator'!$D85,IF($D$22=$C$20,'Baggrundsdata - BVT - deflator'!$C85,IF('Baggrundsdata - BVT - deflator'!$C$22='Baggrundsdata - BVT - deflator'!$C$20,'Baggrundsdata - BVT - deflator'!$B85,\"*\"))))))))))),\"*\")","v":1},{"$f":"IFERROR('Baggrundsdata - BVT - deflator'!K85/IF($M$22=$C$20,$L85,IF($L$22=$C$20,$K85,IF($K$22=$C$20,$J85,IF($J$22=$C$20,$I85,IF($I$22=$C$20,'Baggrundsdata - BVT - deflator'!$H85,IF($H$22=$C$20,'Baggrundsdata - BVT - deflator'!$G85,IF($C$20=$G$22,'Baggrundsdata - BVT - deflator'!$F85,IF($F$22=$C$20,'Baggrundsdata - BVT - deflator'!$E85,IF($E$22=$C$20,'Baggrundsdata - BVT - deflator'!$D85,IF($D$22=$C$20,'Baggrundsdata - BVT - deflator'!$C85,IF('Baggrundsdata - BVT - deflator'!$C$22='Baggrundsdata - BVT - deflator'!$C$20,'Baggrundsdata - BVT - deflator'!$B85,\"*\"))))))))))),\"*\")","v":1.0066328180300792},{"$f":"IFERROR('Baggrundsdata - BVT - deflator'!L85/IF($M$22=$C$20,$L85,IF($L$22=$C$20,$K85,IF($K$22=$C$20,$J85,IF($J$22=$C$20,$I85,IF($I$22=$C$20,'Baggrundsdata - BVT - deflator'!$H85,IF($H$22=$C$20,'Baggrundsdata - BVT - deflator'!$G85,IF($C$20=$G$22,'Baggrundsdata - BVT - deflator'!$F85,IF($F$22=$C$20,'Baggrundsdata - BVT - deflator'!$E85,IF($E$22=$C$20,'Baggrundsdata - BVT - deflator'!$D85,IF($D$22=$C$20,'Baggrundsdata - BVT - deflator'!$C85,IF('Baggrundsdata - BVT - deflator'!$C$22='Baggrundsdata - BVT - deflator'!$C$20,'Baggrundsdata - BVT - deflator'!$B85,\"*\"))))))))))),\"*\")","v":0},null,{"$f":"IF(A85='Level 1'!A65,\"S\",\"falsk\")","v":"S"}]
[null,"Litaun",{"$f":"IFERROR('Baggrundsdata - BVT - deflator'!B86/IF($M$22=$C$20,$L86,IF($L$22=$C$20,$K86,IF($K$22=$C$20,$J86,IF($J$22=$C$20,$I86,IF($I$22=$C$20,'Baggrundsdata - BVT - deflator'!$H86,IF($H$22=$C$20,'Baggrundsdata - BVT - deflator'!$G86,IF($C$20=$G$22,'Baggrundsdata - BVT - deflator'!$F86,IF($F$22=$C$20,'Baggrundsdata - BVT - deflator'!$E86,IF($E$22=$C$20,'Baggrundsdata - BVT - deflator'!$D86,IF($D$22=$C$20,'Baggrundsdata - BVT - deflator'!$C86,IF('Baggrundsdata - BVT - deflator'!$C$22='Baggrundsdata - BVT - deflator'!$C$20,'Baggrundsdata - BVT - deflator'!$B86,\"*\"))))))))))),\"*\")","v":0.82888886884846735},{"$f":"IFERROR('Baggrundsdata - BVT - deflator'!C86/IF($M$22=$C$20,$L86,IF($L$22=$C$20,$K86,IF($K$22=$C$20,$J86,IF($J$22=$C$20,$I86,IF($I$22=$C$20,'Baggrundsdata - BVT - deflator'!$H86,IF($H$22=$C$20,'Baggrundsdata - BVT - deflator'!$G86,IF($C$20=$G$22,'Baggrundsdata - BVT - deflator'!$F86,IF($F$22=$C$20,'Baggrundsdata - BVT - deflator'!$E86,IF($E$22=$C$20,'Baggrundsdata - BVT - deflator'!$D86,IF($D$22=$C$20,'Baggrundsdata - BVT - deflator'!$C86,IF('Baggrundsdata - BVT - deflator'!$C$22='Baggrundsdata - BVT - deflator'!$C$20,'Baggrundsdata - BVT - deflator'!$B86,\"*\"))))))))))),\"*\")","v":0.90903352061107245},{"$f":"IFERROR('Baggrundsdata - BVT - deflator'!D86/IF($M$22=$C$20,$L86,IF($L$22=$C$20,$K86,IF($K$22=$C$20,$J86,IF($J$22=$C$20,$I86,IF($I$22=$C$20,'Baggrundsdata - BVT - deflator'!$H86,IF($H$22=$C$20,'Baggrundsdata - BVT - deflator'!$G86,IF($C$20=$G$22,'Baggrundsdata - BVT - deflator'!$F86,IF($F$22=$C$20,'Baggrundsdata - BVT - deflator'!$E86,IF($E$22=$C$20,'Baggrundsdata - BVT - deflator'!$D86,IF($D$22=$C$20,'Baggrundsdata - BVT - deflator'!$C86,IF('Baggrundsdata - BVT - deflator'!$C$22='Baggrundsdata - BVT - deflator'!$C$20,'Baggrundsdata - BVT - deflator'!$B86,\"*\"))))))))))),\"*\")","v":0.88353909836139488},{"$f":"IFERROR('Baggrundsdata - BVT - deflator'!E86/IF($M$22=$C$20,$L86,IF($L$22=$C$20,$K86,IF($K$22=$C$20,$J86,IF($J$22=$C$20,$I86,IF($I$22=$C$20,'Baggrundsdata - BVT - deflator'!$H86,IF($H$22=$C$20,'Baggrundsdata - BVT - deflator'!$G86,IF($C$20=$G$22,'Baggrundsdata - BVT - deflator'!$F86,IF($F$22=$C$20,'Baggrundsdata - BVT - deflator'!$E86,IF($E$22=$C$20,'Baggrundsdata - BVT - deflator'!$D86,IF($D$22=$C$20,'Baggrundsdata - BVT - deflator'!$C86,IF('Baggrundsdata - BVT - deflator'!$C$22='Baggrundsdata - BVT - deflator'!$C$20,'Baggrundsdata - BVT - deflator'!$B86,\"*\"))))))))))),\"*\")","v":0.90181896886019097},{"$f":"IFERROR('Baggrundsdata - BVT - deflator'!F86/IF($M$22=$C$20,$L86,IF($L$22=$C$20,$K86,IF($K$22=$C$20,$J86,IF($J$22=$C$20,$I86,IF($I$22=$C$20,'Baggrundsdata - BVT - deflator'!$H86,IF($H$22=$C$20,'Baggrundsdata - BVT - deflator'!$G86,IF($C$20=$G$22,'Baggrundsdata - BVT - deflator'!$F86,IF($F$22=$C$20,'Baggrundsdata - BVT - deflator'!$E86,IF($E$22=$C$20,'Baggrundsdata - BVT - deflator'!$D86,IF($D$22=$C$20,'Baggrundsdata - BVT - deflator'!$C86,IF('Baggrundsdata - BVT - deflator'!$C$22='Baggrundsdata - BVT - deflator'!$C$20,'Baggrundsdata - BVT - deflator'!$B86,\"*\"))))))))))),\"*\")","v":0.94952519231289512},{"$f":"IFERROR('Baggrundsdata - BVT - deflator'!G86/IF($M$22=$C$20,$L86,IF($L$22=$C$20,$K86,IF($K$22=$C$20,$J86,IF($J$22=$C$20,$I86,IF($I$22=$C$20,'Baggrundsdata - BVT - deflator'!$H86,IF($H$22=$C$20,'Baggrundsdata - BVT - deflator'!$G86,IF($C$20=$G$22,'Baggrundsdata - BVT - deflator'!$F86,IF($F$22=$C$20,'Baggrundsdata - BVT - deflator'!$E86,IF($E$22=$C$20,'Baggrundsdata - BVT - deflator'!$D86,IF($D$22=$C$20,'Baggrundsdata - BVT - deflator'!$C86,IF('Baggrundsdata - BVT - deflator'!$C$22='Baggrundsdata - BVT - deflator'!$C$20,'Baggrundsdata - BVT - deflator'!$B86,\"*\"))))))))))),\"*\")","v":0.97953772759656221},{"$f":"IFERROR('Baggrundsdata - BVT - deflator'!H86/IF($M$22=$C$20,$L86,IF($L$22=$C$20,$K86,IF($K$22=$C$20,$J86,IF($J$22=$C$20,$I86,IF($I$22=$C$20,'Baggrundsdata - BVT - deflator'!$H86,IF($H$22=$C$20,'Baggrundsdata - BVT - deflator'!$G86,IF($C$20=$G$22,'Baggrundsdata - BVT - deflator'!$F86,IF($F$22=$C$20,'Baggrundsdata - BVT - deflator'!$E86,IF($E$22=$C$20,'Baggrundsdata - BVT - deflator'!$D86,IF($D$22=$C$20,'Baggrundsdata - BVT - deflator'!$C86,IF('Baggrundsdata - BVT - deflator'!$C$22='Baggrundsdata - BVT - deflator'!$C$20,'Baggrundsdata - BVT - deflator'!$B86,\"*\"))))))))))),\"*\")","v":0.99313715764697397},{"$f":"IFERROR('Baggrundsdata - BVT - deflator'!I86/IF($M$22=$C$20,$L86,IF($L$22=$C$20,$K86,IF($K$22=$C$20,$J86,IF($J$22=$C$20,$I86,IF($I$22=$C$20,'Baggrundsdata - BVT - deflator'!$H86,IF($H$22=$C$20,'Baggrundsdata - BVT - deflator'!$G86,IF($C$20=$G$22,'Baggrundsdata - BVT - deflator'!$F86,IF($F$22=$C$20,'Baggrundsdata - BVT - deflator'!$E86,IF($E$22=$C$20,'Baggrundsdata - BVT - deflator'!$D86,IF($D$22=$C$20,'Baggrundsdata - BVT - deflator'!$C86,IF('Baggrundsdata - BVT - deflator'!$C$22='Baggrundsdata - BVT - deflator'!$C$20,'Baggrundsdata - BVT - deflator'!$B86,\"*\"))))))))))),\"*\")","v":1.002218474663396},{"$f":"IFERROR('Baggrundsdata - BVT - deflator'!J86/IF($M$22=$C$20,$L86,IF($L$22=$C$20,$K86,IF($K$22=$C$20,$J86,IF($J$22=$C$20,$I86,IF($I$22=$C$20,'Baggrundsdata - BVT - deflator'!$H86,IF($H$22=$C$20,'Baggrundsdata - BVT - deflator'!$G86,IF($C$20=$G$22,'Baggrundsdata - BVT - deflator'!$F86,IF($F$22=$C$20,'Baggrundsdata - BVT - deflator'!$E86,IF($E$22=$C$20,'Baggrundsdata - BVT - deflator'!$D86,IF($D$22=$C$20,'Baggrundsdata - BVT - deflator'!$C86,IF('Baggrundsdata - BVT - deflator'!$C$22='Baggrundsdata - BVT - deflator'!$C$20,'Baggrundsdata - BVT - deflator'!$B86,\"*\"))))))))))),\"*\")","v":1},{"$f":"IFERROR('Baggrundsdata - BVT - deflator'!K86/IF($M$22=$C$20,$L86,IF($L$22=$C$20,$K86,IF($K$22=$C$20,$J86,IF($J$22=$C$20,$I86,IF($I$22=$C$20,'Baggrundsdata - BVT - deflator'!$H86,IF($H$22=$C$20,'Baggrundsdata - BVT - deflator'!$G86,IF($C$20=$G$22,'Baggrundsdata - BVT - deflator'!$F86,IF($F$22=$C$20,'Baggrundsdata - BVT - deflator'!$E86,IF($E$22=$C$20,'Baggrundsdata - BVT - deflator'!$D86,IF($D$22=$C$20,'Baggrundsdata - BVT - deflator'!$C86,IF('Baggrundsdata - BVT - deflator'!$C$22='Baggrundsdata - BVT - deflator'!$C$20,'Baggrundsdata - BVT - deflator'!$B86,\"*\"))))))))))),\"*\")","v":0.99778643607209383},{"$f":"IFERROR('Baggrundsdata - BVT - deflator'!L86/IF($M$22=$C$20,$L86,IF($L$22=$C$20,$K86,IF($K$22=$C$20,$J86,IF($J$22=$C$20,$I86,IF($I$22=$C$20,'Baggrundsdata - BVT - deflator'!$H86,IF($H$22=$C$20,'Baggrundsdata - BVT - deflator'!$G86,IF($C$20=$G$22,'Baggrundsdata - BVT - deflator'!$F86,IF($F$22=$C$20,'Baggrundsdata - BVT - deflator'!$E86,IF($E$22=$C$20,'Baggrundsdata - BVT - deflator'!$D86,IF($D$22=$C$20,'Baggrundsdata - BVT - deflator'!$C86,IF('Baggrundsdata - BVT - deflator'!$C$22='Baggrundsdata - BVT - deflator'!$C$20,'Baggrundsdata - BVT - deflator'!$B86,\"*\"))))))))))),\"*\")","v":0},null,{"$f":"IF(A86='Level 1'!A66,\"S\",\"falsk\")","v":"S"}]
[null,"luxembourg",{"$f":"IFERROR('Baggrundsdata - BVT - deflator'!B87/IF($M$22=$C$20,$L87,IF($L$22=$C$20,$K87,IF($K$22=$C$20,$J87,IF($J$22=$C$20,$I87,IF($I$22=$C$20,'Baggrundsdata - BVT - deflator'!$H87,IF($H$22=$C$20,'Baggrundsdata - BVT - deflator'!$G87,IF($C$20=$G$22,'Baggrundsdata - BVT - deflator'!$F87,IF($F$22=$C$20,'Baggrundsdata - BVT - deflator'!$E87,IF($E$22=$C$20,'Baggrundsdata - BVT - deflator'!$D87,IF($D$22=$C$20,'Baggrundsdata - BVT - deflator'!$C87,IF('Baggrundsdata - BVT - deflator'!$C$22='Baggrundsdata - BVT - deflator'!$C$20,'Baggrundsdata - BVT - deflator'!$B87,\"*\"))))))))))),\"*\")","v":0.78979049000811796},{"$f":"IFERROR('Baggrundsdata - BVT - deflator'!C87/IF($M$22=$C$20,$L87,IF($L$22=$C$20,$K87,IF($K$22=$C$20,$J87,IF($J$22=$C$20,$I87,IF($I$22=$C$20,'Baggrundsdata - BVT - deflator'!$H87,IF($H$22=$C$20,'Baggrundsdata - BVT - deflator'!$G87,IF($C$20=$G$22,'Baggrundsdata - BVT - deflator'!$F87,IF($F$22=$C$20,'Baggrundsdata - BVT - deflator'!$E87,IF($E$22=$C$20,'Baggrundsdata - BVT - deflator'!$D87,IF($D$22=$C$20,'Baggrundsdata - BVT - deflator'!$C87,IF('Baggrundsdata - BVT - deflator'!$C$22='Baggrundsdata - BVT - deflator'!$C$20,'Baggrundsdata - BVT - deflator'!$B87,\"*\"))))))))))),\"*\")","v":0.81949841960723357},{"$f":"IFERROR('Baggrundsdata - BVT - deflator'!D87/IF($M$22=$C$20,$L87,IF($L$22=$C$20,$K87,IF($K$22=$C$20,$J87,IF($J$22=$C$20,$I87,IF($I$22=$C$20,'Baggrundsdata - BVT - deflator'!$H87,IF($H$22=$C$20,'Baggrundsdata - BVT - deflator'!$G87,IF($C$20=$G$22,'Baggrundsdata - BVT - deflator'!$F87,IF($F$22=$C$20,'Baggrundsdata - BVT - deflator'!$E87,IF($E$22=$C$20,'Baggrundsdata - BVT - deflator'!$D87,IF($D$22=$C$20,'Baggrundsdata - BVT - deflator'!$C87,IF('Baggrundsdata - BVT - deflator'!$C$22='Baggrundsdata - BVT - deflator'!$C$20,'Baggrundsdata - BVT - deflator'!$B87,\"*\"))))))))))),\"*\")","v":0.83599322935557974},{"$f":"IFERROR('Baggrundsdata - BVT - deflator'!E87/IF($M$22=$C$20,$L87,IF($L$22=$C$20,$K87,IF($K$22=$C$20,$J87,IF($J$22=$C$20,$I87,IF($I$22=$C$20,'Baggrundsdata - BVT - deflator'!$H87,IF($H$22=$C$20,'Baggrundsdata - BVT - deflator'!$G87,IF($C$20=$G$22,'Baggrundsdata - BVT - deflator'!$F87,IF($F$22=$C$20,'Baggrundsdata - BVT - deflator'!$E87,IF($E$22=$C$20,'Baggrundsdata - BVT - deflator'!$D87,IF($D$22=$C$20,'Baggrundsdata - BVT - deflator'!$C87,IF('Baggrundsdata - BVT - deflator'!$C$22='Baggrundsdata - BVT - deflator'!$C$20,'Baggrundsdata - BVT - deflator'!$B87,\"*\"))))))))))),\"*\")","v":0.86360260462545557},{"$f":"IFERROR('Baggrundsdata - BVT - deflator'!F87/IF($M$22=$C$20,$L87,IF($L$22=$C$20,$K87,IF($K$22=$C$20,$J87,IF($J$22=$C$20,$I87,IF($I$22=$C$20,'Baggrundsdata - BVT - deflator'!$H87,IF($H$22=$C$20,'Baggrundsdata - BVT - deflator'!$G87,IF($C$20=$G$22,'Baggrundsdata - BVT - deflator'!$F87,IF($F$22=$C$20,'Baggrundsdata - BVT - deflator'!$E87,IF($E$22=$C$20,'Baggrundsdata - BVT - deflator'!$D87,IF($D$22=$C$20,'Baggrundsdata - BVT - deflator'!$C87,IF('Baggrundsdata - BVT - deflator'!$C$22='Baggrundsdata - BVT - deflator'!$C$20,'Baggrundsdata - BVT - deflator'!$B87,\"*\"))))))))))),\"*\")","v":0.90221427707825974},{"$f":"IFERROR('Baggrundsdata - BVT - deflator'!G87/IF($M$22=$C$20,$L87,IF($L$22=$C$20,$K87,IF($K$22=$C$20,$J87,IF($J$22=$C$20,$I87,IF($I$22=$C$20,'Baggrundsdata - BVT - deflator'!$H87,IF($H$22=$C$20,'Baggrundsdata - BVT - deflator'!$G87,IF($C$20=$G$22,'Baggrundsdata - BVT - deflator'!$F87,IF($F$22=$C$20,'Baggrundsdata - BVT - deflator'!$E87,IF($E$22=$C$20,'Baggrundsdata - BVT - deflator'!$D87,IF($D$22=$C$20,'Baggrundsdata - BVT - deflator'!$C87,IF('Baggrundsdata - BVT - deflator'!$C$22='Baggrundsdata - BVT - deflator'!$C$20,'Baggrundsdata - BVT - deflator'!$B87,\"*\"))))))))))),\"*\")","v":0.9388655716185641},{"$f":"IFERROR('Baggrundsdata - BVT - deflator'!H87/IF($M$22=$C$20,$L87,IF($L$22=$C$20,$K87,IF($K$22=$C$20,$J87,IF($J$22=$C$20,$I87,IF($I$22=$C$20,'Baggrundsdata - BVT - deflator'!$H87,IF($H$22=$C$20,'Baggrundsdata - BVT - deflator'!$G87,IF($C$20=$G$22,'Baggrundsdata - BVT - deflator'!$F87,IF($F$22=$C$20,'Baggrundsdata - BVT - deflator'!$E87,IF($E$22=$C$20,'Baggrundsdata - BVT - deflator'!$D87,IF($D$22=$C$20,'Baggrundsdata - BVT - deflator'!$C87,IF('Baggrundsdata - BVT - deflator'!$C$22='Baggrundsdata - BVT - deflator'!$C$20,'Baggrundsdata - BVT - deflator'!$B87,\"*\"))))))))))),\"*\")","v":0.96236419849042276},{"$f":"IFERROR('Baggrundsdata - BVT - deflator'!I87/IF($M$22=$C$20,$L87,IF($L$22=$C$20,$K87,IF($K$22=$C$20,$J87,IF($J$22=$C$20,$I87,IF($I$22=$C$20,'Baggrundsdata - BVT - deflator'!$H87,IF($H$22=$C$20,'Baggrundsdata - BVT - deflator'!$G87,IF($C$20=$G$22,'Baggrundsdata - BVT - deflator'!$F87,IF($F$22=$C$20,'Baggrundsdata - BVT - deflator'!$E87,IF($E$22=$C$20,'Baggrundsdata - BVT - deflator'!$D87,IF($D$22=$C$20,'Baggrundsdata - BVT - deflator'!$C87,IF('Baggrundsdata - BVT - deflator'!$C$22='Baggrundsdata - BVT - deflator'!$C$20,'Baggrundsdata - BVT - deflator'!$B87,\"*\"))))))))))),\"*\")","v":0.97123339723992608},{"$f":"IFERROR('Baggrundsdata - BVT - deflator'!J87/IF($M$22=$C$20,$L87,IF($L$22=$C$20,$K87,IF($K$22=$C$20,$J87,IF($J$22=$C$20,$I87,IF($I$22=$C$20,'Baggrundsdata - BVT - deflator'!$H87,IF($H$22=$C$20,'Baggrundsdata - BVT - deflator'!$G87,IF($C$20=$G$22,'Baggrundsdata - BVT - deflator'!$F87,IF($F$22=$C$20,'Baggrundsdata - BVT - deflator'!$E87,IF($E$22=$C$20,'Baggrundsdata - BVT - deflator'!$D87,IF($D$22=$C$20,'Baggrundsdata - BVT - deflator'!$C87,IF('Baggrundsdata - BVT - deflator'!$C$22='Baggrundsdata - BVT - deflator'!$C$20,'Baggrundsdata - BVT - deflator'!$B87,\"*\"))))))))))),\"*\")","v":1},{"$f":"IFERROR('Baggrundsdata - BVT - deflator'!K87/IF($M$22=$C$20,$L87,IF($L$22=$C$20,$K87,IF($K$22=$C$20,$J87,IF($J$22=$C$20,$I87,IF($I$22=$C$20,'Baggrundsdata - BVT - deflator'!$H87,IF($H$22=$C$20,'Baggrundsdata - BVT - deflator'!$G87,IF($C$20=$G$22,'Baggrundsdata - BVT - deflator'!$F87,IF($F$22=$C$20,'Baggrundsdata - BVT - deflator'!$E87,IF($E$22=$C$20,'Baggrundsdata - BVT - deflator'!$D87,IF($D$22=$C$20,'Baggrundsdata - BVT - deflator'!$C87,IF('Baggrundsdata - BVT - deflator'!$C$22='Baggrundsdata - BVT - deflator'!$C$20,'Baggrundsdata - BVT - deflator'!$B87,\"*\"))))))))))),\"*\")","v":1.0296186301272419},{"$f":"IFERROR('Baggrundsdata - BVT - deflator'!L87/IF($M$22=$C$20,$L87,IF($L$22=$C$20,$K87,IF($K$22=$C$20,$J87,IF($J$22=$C$20,$I87,IF($I$22=$C$20,'Baggrundsdata - BVT - deflator'!$H87,IF($H$22=$C$20,'Baggrundsdata - BVT - deflator'!$G87,IF($C$20=$G$22,'Baggrundsdata - BVT - deflator'!$F87,IF($F$22=$C$20,'Baggrundsdata - BVT - deflator'!$E87,IF($E$22=$C$20,'Baggrundsdata - BVT - deflator'!$D87,IF($D$22=$C$20,'Baggrundsdata - BVT - deflator'!$C87,IF('Baggrundsdata - BVT - deflator'!$C$22='Baggrundsdata - BVT - deflator'!$C$20,'Baggrundsdata - BVT - deflator'!$B87,\"*\"))))))))))),\"*\")","v":0},null,{"$f":"IF(A87='Level 1'!A67,\"S\",\"falsk\")","v":"S"}]
[null,"Ungarn",{"$f":"IFERROR('Baggrundsdata - BVT - deflator'!B88/IF($M$22=$C$20,$L88,IF($L$22=$C$20,$K88,IF($K$22=$C$20,$J88,IF($J$22=$C$20,$I88,IF($I$22=$C$20,'Baggrundsdata - BVT - deflator'!$H88,IF($H$22=$C$20,'Baggrundsdata - BVT - deflator'!$G88,IF($C$20=$G$22,'Baggrundsdata - BVT - deflator'!$F88,IF($F$22=$C$20,'Baggrundsdata - BVT - deflator'!$E88,IF($E$22=$C$20,'Baggrundsdata - BVT - deflator'!$D88,IF($D$22=$C$20,'Baggrundsdata - BVT - deflator'!$C88,IF('Baggrundsdata - BVT - deflator'!$C$22='Baggrundsdata - BVT - deflator'!$C$20,'Baggrundsdata - BVT - deflator'!$B88,\"*\"))))))))))),\"*\")","v":0.99660782901056666},{"$f":"IFERROR('Baggrundsdata - BVT - deflator'!C88/IF($M$22=$C$20,$L88,IF($L$22=$C$20,$K88,IF($K$22=$C$20,$J88,IF($J$22=$C$20,$I88,IF($I$22=$C$20,'Baggrundsdata - BVT - deflator'!$H88,IF($H$22=$C$20,'Baggrundsdata - BVT - deflator'!$G88,IF($C$20=$G$22,'Baggrundsdata - BVT - deflator'!$F88,IF($F$22=$C$20,'Baggrundsdata - BVT - deflator'!$E88,IF($E$22=$C$20,'Baggrundsdata - BVT - deflator'!$D88,IF($D$22=$C$20,'Baggrundsdata - BVT - deflator'!$C88,IF('Baggrundsdata - BVT - deflator'!$C$22='Baggrundsdata - BVT - deflator'!$C$20,'Baggrundsdata - BVT - deflator'!$B88,\"*\"))))))))))),\"*\")","v":1.043437800192123},{"$f":"IFERROR('Baggrundsdata - BVT - deflator'!D88/IF($M$22=$C$20,$L88,IF($L$22=$C$20,$K88,IF($K$22=$C$20,$J88,IF($J$22=$C$20,$I88,IF($I$22=$C$20,'Baggrundsdata - BVT - deflator'!$H88,IF($H$22=$C$20,'Baggrundsdata - BVT - deflator'!$G88,IF($C$20=$G$22,'Baggrundsdata - BVT - deflator'!$F88,IF($F$22=$C$20,'Baggrundsdata - BVT - deflator'!$E88,IF($E$22=$C$20,'Baggrundsdata - BVT - deflator'!$D88,IF($D$22=$C$20,'Baggrundsdata - BVT - deflator'!$C88,IF('Baggrundsdata - BVT - deflator'!$C$22='Baggrundsdata - BVT - deflator'!$C$20,'Baggrundsdata - BVT - deflator'!$B88,\"*\"))))))))))),\"*\")","v":0.96566802753762393},{"$f":"IFERROR('Baggrundsdata - BVT - deflator'!E88/IF($M$22=$C$20,$L88,IF($L$22=$C$20,$K88,IF($K$22=$C$20,$J88,IF($J$22=$C$20,$I88,IF($I$22=$C$20,'Baggrundsdata - BVT - deflator'!$H88,IF($H$22=$C$20,'Baggrundsdata - BVT - deflator'!$G88,IF($C$20=$G$22,'Baggrundsdata - BVT - deflator'!$F88,IF($F$22=$C$20,'Baggrundsdata - BVT - deflator'!$E88,IF($E$22=$C$20,'Baggrundsdata - BVT - deflator'!$D88,IF($D$22=$C$20,'Baggrundsdata - BVT - deflator'!$C88,IF('Baggrundsdata - BVT - deflator'!$C$22='Baggrundsdata - BVT - deflator'!$C$20,'Baggrundsdata - BVT - deflator'!$B88,\"*\"))))))))))),\"*\")","v":1.0006404098623118},{"$f":"IFERROR('Baggrundsdata - BVT - deflator'!F88/IF($M$22=$C$20,$L88,IF($L$22=$C$20,$K88,IF($K$22=$C$20,$J88,IF($J$22=$C$20,$I88,IF($I$22=$C$20,'Baggrundsdata - BVT - deflator'!$H88,IF($H$22=$C$20,'Baggrundsdata - BVT - deflator'!$G88,IF($C$20=$G$22,'Baggrundsdata - BVT - deflator'!$F88,IF($F$22=$C$20,'Baggrundsdata - BVT - deflator'!$E88,IF($E$22=$C$20,'Baggrundsdata - BVT - deflator'!$D88,IF($D$22=$C$20,'Baggrundsdata - BVT - deflator'!$C88,IF('Baggrundsdata - BVT - deflator'!$C$22='Baggrundsdata - BVT - deflator'!$C$20,'Baggrundsdata - BVT - deflator'!$B88,\"*\"))))))))))),\"*\")","v":1.0105467499199488},{"$f":"IFERROR('Baggrundsdata - BVT - deflator'!G88/IF($M$22=$C$20,$L88,IF($L$22=$C$20,$K88,IF($K$22=$C$20,$J88,IF($J$22=$C$20,$I88,IF($I$22=$C$20,'Baggrundsdata - BVT - deflator'!$H88,IF($H$22=$C$20,'Baggrundsdata - BVT - deflator'!$G88,IF($C$20=$G$22,'Baggrundsdata - BVT - deflator'!$F88,IF($F$22=$C$20,'Baggrundsdata - BVT - deflator'!$E88,IF($E$22=$C$20,'Baggrundsdata - BVT - deflator'!$D88,IF($D$22=$C$20,'Baggrundsdata - BVT - deflator'!$C88,IF('Baggrundsdata - BVT - deflator'!$C$22='Baggrundsdata - BVT - deflator'!$C$20,'Baggrundsdata - BVT - deflator'!$B88,\"*\"))))))))))),\"*\")","v":1.000080051232789},{"$f":"IFERROR('Baggrundsdata - BVT - deflator'!H88/IF($M$22=$C$20,$L88,IF($L$22=$C$20,$K88,IF($K$22=$C$20,$J88,IF($J$22=$C$20,$I88,IF($I$22=$C$20,'Baggrundsdata - BVT - deflator'!$H88,IF($H$22=$C$20,'Baggrundsdata - BVT - deflator'!$G88,IF($C$20=$G$22,'Baggrundsdata - BVT - deflator'!$F88,IF($F$22=$C$20,'Baggrundsdata - BVT - deflator'!$E88,IF($E$22=$C$20,'Baggrundsdata - BVT - deflator'!$D88,IF($D$22=$C$20,'Baggrundsdata - BVT - deflator'!$C88,IF('Baggrundsdata - BVT - deflator'!$C$22='Baggrundsdata - BVT - deflator'!$C$20,'Baggrundsdata - BVT - deflator'!$B88,\"*\"))))))))))),\"*\")","v":1.0018111591418508},{"$f":"IFERROR('Baggrundsdata - BVT - deflator'!I88/IF($M$22=$C$20,$L88,IF($L$22=$C$20,$K88,IF($K$22=$C$20,$J88,IF($J$22=$C$20,$I88,IF($I$22=$C$20,'Baggrundsdata - BVT - deflator'!$H88,IF($H$22=$C$20,'Baggrundsdata - BVT - deflator'!$G88,IF($C$20=$G$22,'Baggrundsdata - BVT - deflator'!$F88,IF($F$22=$C$20,'Baggrundsdata - BVT - deflator'!$E88,IF($E$22=$C$20,'Baggrundsdata - BVT - deflator'!$D88,IF($D$22=$C$20,'Baggrundsdata - BVT - deflator'!$C88,IF('Baggrundsdata - BVT - deflator'!$C$22='Baggrundsdata - BVT - deflator'!$C$20,'Baggrundsdata - BVT - deflator'!$B88,\"*\"))))))))))),\"*\")","v":0.9921149535702849},{"$f":"IFERROR('Baggrundsdata - BVT - deflator'!J88/IF($M$22=$C$20,$L88,IF($L$22=$C$20,$K88,IF($K$22=$C$20,$J88,IF($J$22=$C$20,$I88,IF($I$22=$C$20,'Baggrundsdata - BVT - deflator'!$H88,IF($H$22=$C$20,'Baggrundsdata - BVT - deflator'!$G88,IF($C$20=$G$22,'Baggrundsdata - BVT - deflator'!$F88,IF($F$22=$C$20,'Baggrundsdata - BVT - deflator'!$E88,IF($E$22=$C$20,'Baggrundsdata - BVT - deflator'!$D88,IF($D$22=$C$20,'Baggrundsdata - BVT - deflator'!$C88,IF('Baggrundsdata - BVT - deflator'!$C$22='Baggrundsdata - BVT - deflator'!$C$20,'Baggrundsdata - BVT - deflator'!$B88,\"*\"))))))))))),\"*\")","v":1},{"$f":"IFERROR('Baggrundsdata - BVT - deflator'!K88/IF($M$22=$C$20,$L88,IF($L$22=$C$20,$K88,IF($K$22=$C$20,$J88,IF($J$22=$C$20,$I88,IF($I$22=$C$20,'Baggrundsdata - BVT - deflator'!$H88,IF($H$22=$C$20,'Baggrundsdata - BVT - deflator'!$G88,IF($C$20=$G$22,'Baggrundsdata - BVT - deflator'!$F88,IF($F$22=$C$20,'Baggrundsdata - BVT - deflator'!$E88,IF($E$22=$C$20,'Baggrundsdata - BVT - deflator'!$D88,IF($D$22=$C$20,'Baggrundsdata - BVT - deflator'!$C88,IF('Baggrundsdata - BVT - deflator'!$C$22='Baggrundsdata - BVT - deflator'!$C$20,'Baggrundsdata - BVT - deflator'!$B88,\"*\"))))))))))),\"*\")","v":1.0079477145277769},{"$f":"IFERROR('Baggrundsdata - BVT - deflator'!L88/IF($M$22=$C$20,$L88,IF($L$22=$C$20,$K88,IF($K$22=$C$20,$J88,IF($J$22=$C$20,$I88,IF($I$22=$C$20,'Baggrundsdata - BVT - deflator'!$H88,IF($H$22=$C$20,'Baggrundsdata - BVT - deflator'!$G88,IF($C$20=$G$22,'Baggrundsdata - BVT - deflator'!$F88,IF($F$22=$C$20,'Baggrundsdata - BVT - deflator'!$E88,IF($E$22=$C$20,'Baggrundsdata - BVT - deflator'!$D88,IF($D$22=$C$20,'Baggrundsdata - BVT - deflator'!$C88,IF('Baggrundsdata - BVT - deflator'!$C$22='Baggrundsdata - BVT - deflator'!$C$20,'Baggrundsdata - BVT - deflator'!$B88,\"*\"))))))))))),\"*\")","v":0},null,{"$f":"IF(A88='Level 1'!A68,\"S\",\"falsk\")","v":"S"}]
[null,"Holland",{"$f":"IFERROR('Baggrundsdata - BVT - deflator'!B89/IF($M$22=$C$20,$L89,IF($L$22=$C$20,$K89,IF($K$22=$C$20,$J89,IF($J$22=$C$20,$I89,IF($I$22=$C$20,'Baggrundsdata - BVT - deflator'!$H89,IF($H$22=$C$20,'Baggrundsdata - BVT - deflator'!$G89,IF($C$20=$G$22,'Baggrundsdata - BVT - deflator'!$F89,IF($F$22=$C$20,'Baggrundsdata - BVT - deflator'!$E89,IF($E$22=$C$20,'Baggrundsdata - BVT - deflator'!$D89,IF($D$22=$C$20,'Baggrundsdata - BVT - deflator'!$C89,IF('Baggrundsdata - BVT - deflator'!$C$22='Baggrundsdata - BVT - deflator'!$C$20,'Baggrundsdata - BVT - deflator'!$B89,\"*\"))))))))))),\"*\")","v":0.93266435518297108},{"$f":"IFERROR('Baggrundsdata - BVT - deflator'!C89/IF($M$22=$C$20,$L89,IF($L$22=$C$20,$K89,IF($K$22=$C$20,$J89,IF($J$22=$C$20,$I89,IF($I$22=$C$20,'Baggrundsdata - BVT - deflator'!$H89,IF($H$22=$C$20,'Baggrundsdata - BVT - deflator'!$G89,IF($C$20=$G$22,'Baggrundsdata - BVT - deflator'!$F89,IF($F$22=$C$20,'Baggrundsdata - BVT - deflator'!$E89,IF($E$22=$C$20,'Baggrundsdata - BVT - deflator'!$D89,IF($D$22=$C$20,'Baggrundsdata - BVT - deflator'!$C89,IF('Baggrundsdata - BVT - deflator'!$C$22='Baggrundsdata - BVT - deflator'!$C$20,'Baggrundsdata - BVT - deflator'!$B89,\"*\"))))))))))),\"*\")","v":0.95393129291778145},{"$f":"IFERROR('Baggrundsdata - BVT - deflator'!D89/IF($M$22=$C$20,$L89,IF($L$22=$C$20,$K89,IF($K$22=$C$20,$J89,IF($J$22=$C$20,$I89,IF($I$22=$C$20,'Baggrundsdata - BVT - deflator'!$H89,IF($H$22=$C$20,'Baggrundsdata - BVT - deflator'!$G89,IF($C$20=$G$22,'Baggrundsdata - BVT - deflator'!$F89,IF($F$22=$C$20,'Baggrundsdata - BVT - deflator'!$E89,IF($E$22=$C$20,'Baggrundsdata - BVT - deflator'!$D89,IF($D$22=$C$20,'Baggrundsdata - BVT - deflator'!$C89,IF('Baggrundsdata - BVT - deflator'!$C$22='Baggrundsdata - BVT - deflator'!$C$20,'Baggrundsdata - BVT - deflator'!$B89,\"*\"))))))))))),\"*\")","v":0.95806492114234942},{"$f":"IFERROR('Baggrundsdata - BVT - deflator'!E89/IF($M$22=$C$20,$L89,IF($L$22=$C$20,$K89,IF($K$22=$C$20,$J89,IF($J$22=$C$20,$I89,IF($I$22=$C$20,'Baggrundsdata - BVT - deflator'!$H89,IF($H$22=$C$20,'Baggrundsdata - BVT - deflator'!$G89,IF($C$20=$G$22,'Baggrundsdata - BVT - deflator'!$F89,IF($F$22=$C$20,'Baggrundsdata - BVT - deflator'!$E89,IF($E$22=$C$20,'Baggrundsdata - BVT - deflator'!$D89,IF($D$22=$C$20,'Baggrundsdata - BVT - deflator'!$C89,IF('Baggrundsdata - BVT - deflator'!$C$22='Baggrundsdata - BVT - deflator'!$C$20,'Baggrundsdata - BVT - deflator'!$B89,\"*\"))))))))))),\"*\")","v":0.96580098704860884},{"$f":"IFERROR('Baggrundsdata - BVT - deflator'!F89/IF($M$22=$C$20,$L89,IF($L$22=$C$20,$K89,IF($K$22=$C$20,$J89,IF($J$22=$C$20,$I89,IF($I$22=$C$20,'Baggrundsdata - BVT - deflator'!$H89,IF($H$22=$C$20,'Baggrundsdata - BVT - deflator'!$G89,IF($C$20=$G$22,'Baggrundsdata - BVT - deflator'!$F89,IF($F$22=$C$20,'Baggrundsdata - BVT - deflator'!$E89,IF($E$22=$C$20,'Baggrundsdata - BVT - deflator'!$D89,IF($D$22=$C$20,'Baggrundsdata - BVT - deflator'!$C89,IF('Baggrundsdata - BVT - deflator'!$C$22='Baggrundsdata - BVT - deflator'!$C$20,'Baggrundsdata - BVT - deflator'!$B89,\"*\"))))))))))),\"*\")","v":0.96653499579876567},{"$f":"IFERROR('Baggrundsdata - BVT - deflator'!G89/IF($M$22=$C$20,$L89,IF($L$22=$C$20,$K89,IF($K$22=$C$20,$J89,IF($J$22=$C$20,$I89,IF($I$22=$C$20,'Baggrundsdata - BVT - deflator'!$H89,IF($H$22=$C$20,'Baggrundsdata - BVT - deflator'!$G89,IF($C$20=$G$22,'Baggrundsdata - BVT - deflator'!$F89,IF($F$22=$C$20,'Baggrundsdata - BVT - deflator'!$E89,IF($E$22=$C$20,'Baggrundsdata - BVT - deflator'!$D89,IF($D$22=$C$20,'Baggrundsdata - BVT - deflator'!$C89,IF('Baggrundsdata - BVT - deflator'!$C$22='Baggrundsdata - BVT - deflator'!$C$20,'Baggrundsdata - BVT - deflator'!$B89,\"*\"))))))))))),\"*\")","v":0.98115722274268169},{"$f":"IFERROR('Baggrundsdata - BVT - deflator'!H89/IF($M$22=$C$20,$L89,IF($L$22=$C$20,$K89,IF($K$22=$C$20,$J89,IF($J$22=$C$20,$I89,IF($I$22=$C$20,'Baggrundsdata - BVT - deflator'!$H89,IF($H$22=$C$20,'Baggrundsdata - BVT - deflator'!$G89,IF($C$20=$G$22,'Baggrundsdata - BVT - deflator'!$F89,IF($F$22=$C$20,'Baggrundsdata - BVT - deflator'!$E89,IF($E$22=$C$20,'Baggrundsdata - BVT - deflator'!$D89,IF($D$22=$C$20,'Baggrundsdata - BVT - deflator'!$C89,IF('Baggrundsdata - BVT - deflator'!$C$22='Baggrundsdata - BVT - deflator'!$C$20,'Baggrundsdata - BVT - deflator'!$B89,\"*\"))))))))))),\"*\")","v":0.98787919761253995},{"$f":"IFERROR('Baggrundsdata - BVT - deflator'!I89/IF($M$22=$C$20,$L89,IF($L$22=$C$20,$K89,IF($K$22=$C$20,$J89,IF($J$22=$C$20,$I89,IF($I$22=$C$20,'Baggrundsdata - BVT - deflator'!$H89,IF($H$22=$C$20,'Baggrundsdata - BVT - deflator'!$G89,IF($C$20=$G$22,'Baggrundsdata - BVT - deflator'!$F89,IF($F$22=$C$20,'Baggrundsdata - BVT - deflator'!$E89,IF($E$22=$C$20,'Baggrundsdata - BVT - deflator'!$D89,IF($D$22=$C$20,'Baggrundsdata - BVT - deflator'!$C89,IF('Baggrundsdata - BVT - deflator'!$C$22='Baggrundsdata - BVT - deflator'!$C$20,'Baggrundsdata - BVT - deflator'!$B89,\"*\"))))))))))),\"*\")","v":0.99494886083773582},{"$f":"IFERROR('Baggrundsdata - BVT - deflator'!J89/IF($M$22=$C$20,$L89,IF($L$22=$C$20,$K89,IF($K$22=$C$20,$J89,IF($J$22=$C$20,$I89,IF($I$22=$C$20,'Baggrundsdata - BVT - deflator'!$H89,IF($H$22=$C$20,'Baggrundsdata - BVT - deflator'!$G89,IF($C$20=$G$22,'Baggrundsdata - BVT - deflator'!$F89,IF($F$22=$C$20,'Baggrundsdata - BVT - deflator'!$E89,IF($E$22=$C$20,'Baggrundsdata - BVT - deflator'!$D89,IF($D$22=$C$20,'Baggrundsdata - BVT - deflator'!$C89,IF('Baggrundsdata - BVT - deflator'!$C$22='Baggrundsdata - BVT - deflator'!$C$20,'Baggrundsdata - BVT - deflator'!$B89,\"*\"))))))))))),\"*\")","v":1},{"$f":"IFERROR('Baggrundsdata - BVT - deflator'!K89/IF($M$22=$C$20,$L89,IF($L$22=$C$20,$K89,IF($K$22=$C$20,$J89,IF($J$22=$C$20,$I89,IF($I$22=$C$20,'Baggrundsdata - BVT - deflator'!$H89,IF($H$22=$C$20,'Baggrundsdata - BVT - deflator'!$G89,IF($C$20=$G$22,'Baggrundsdata - BVT - deflator'!$F89,IF($F$22=$C$20,'Baggrundsdata - BVT - deflator'!$E89,IF($E$22=$C$20,'Baggrundsdata - BVT - deflator'!$D89,IF($D$22=$C$20,'Baggrundsdata - BVT - deflator'!$C89,IF('Baggrundsdata - BVT - deflator'!$C$22='Baggrundsdata - BVT - deflator'!$C$20,'Baggrundsdata - BVT - deflator'!$B89,\"*\"))))))))))),\"*\")","v":1.0050767826981692},{"$f":"IFERROR('Baggrundsdata - BVT - deflator'!L89/IF($M$22=$C$20,$L89,IF($L$22=$C$20,$K89,IF($K$22=$C$20,$J89,IF($J$22=$C$20,$I89,IF($I$22=$C$20,'Baggrundsdata - BVT - deflator'!$H89,IF($H$22=$C$20,'Baggrundsdata - BVT - deflator'!$G89,IF($C$20=$G$22,'Baggrundsdata - BVT - deflator'!$F89,IF($F$22=$C$20,'Baggrundsdata - BVT - deflator'!$E89,IF($E$22=$C$20,'Baggrundsdata - BVT - deflator'!$D89,IF($D$22=$C$20,'Baggrundsdata - BVT - deflator'!$C89,IF('Baggrundsdata - BVT - deflator'!$C$22='Baggrundsdata - BVT - deflator'!$C$20,'Baggrundsdata - BVT - deflator'!$B89,\"*\"))))))))))),\"*\")","v":0},null,{"$f":"IF(A89='Level 1'!A69,\"S\",\"falsk\")","v":"S"}]
[null,"Østrig",{"$f":"IFERROR('Baggrundsdata - BVT - deflator'!B90/IF($M$22=$C$20,$L90,IF($L$22=$C$20,$K90,IF($K$22=$C$20,$J90,IF($J$22=$C$20,$I90,IF($I$22=$C$20,'Baggrundsdata - BVT - deflator'!$H90,IF($H$22=$C$20,'Baggrundsdata - BVT - deflator'!$G90,IF($C$20=$G$22,'Baggrundsdata - BVT - deflator'!$F90,IF($F$22=$C$20,'Baggrundsdata - BVT - deflator'!$E90,IF($E$22=$C$20,'Baggrundsdata - BVT - deflator'!$D90,IF($D$22=$C$20,'Baggrundsdata - BVT - deflator'!$C90,IF('Baggrundsdata - BVT - deflator'!$C$22='Baggrundsdata - BVT - deflator'!$C$20,'Baggrundsdata - BVT - deflator'!$B90,\"*\"))))))))))),\"*\")","v":0.87945934989312302},{"$f":"IFERROR('Baggrundsdata - BVT - deflator'!C90/IF($M$22=$C$20,$L90,IF($L$22=$C$20,$K90,IF($K$22=$C$20,$J90,IF($J$22=$C$20,$I90,IF($I$22=$C$20,'Baggrundsdata - BVT - deflator'!$H90,IF($H$22=$C$20,'Baggrundsdata - BVT - deflator'!$G90,IF($C$20=$G$22,'Baggrundsdata - BVT - deflator'!$F90,IF($F$22=$C$20,'Baggrundsdata - BVT - deflator'!$E90,IF($E$22=$C$20,'Baggrundsdata - BVT - deflator'!$D90,IF($D$22=$C$20,'Baggrundsdata - BVT - deflator'!$C90,IF('Baggrundsdata - BVT - deflator'!$C$22='Baggrundsdata - BVT - deflator'!$C$20,'Baggrundsdata - BVT - deflator'!$B90,\"*\"))))))))))),\"*\")","v":0.89404437237414314},{"$f":"IFERROR('Baggrundsdata - BVT - deflator'!D90/IF($M$22=$C$20,$L90,IF($L$22=$C$20,$K90,IF($K$22=$C$20,$J90,IF($J$22=$C$20,$I90,IF($I$22=$C$20,'Baggrundsdata - BVT - deflator'!$H90,IF($H$22=$C$20,'Baggrundsdata - BVT - deflator'!$G90,IF($C$20=$G$22,'Baggrundsdata - BVT - deflator'!$F90,IF($F$22=$C$20,'Baggrundsdata - BVT - deflator'!$E90,IF($E$22=$C$20,'Baggrundsdata - BVT - deflator'!$D90,IF($D$22=$C$20,'Baggrundsdata - BVT - deflator'!$C90,IF('Baggrundsdata - BVT - deflator'!$C$22='Baggrundsdata - BVT - deflator'!$C$20,'Baggrundsdata - BVT - deflator'!$B90,\"*\"))))))))))),\"*\")","v":0.91288604702587162},{"$f":"IFERROR('Baggrundsdata - BVT - deflator'!E90/IF($M$22=$C$20,$L90,IF($L$22=$C$20,$K90,IF($K$22=$C$20,$J90,IF($J$22=$C$20,$I90,IF($I$22=$C$20,'Baggrundsdata - BVT - deflator'!$H90,IF($H$22=$C$20,'Baggrundsdata - BVT - deflator'!$G90,IF($C$20=$G$22,'Baggrundsdata - BVT - deflator'!$F90,IF($F$22=$C$20,'Baggrundsdata - BVT - deflator'!$E90,IF($E$22=$C$20,'Baggrundsdata - BVT - deflator'!$D90,IF($D$22=$C$20,'Baggrundsdata - BVT - deflator'!$C90,IF('Baggrundsdata - BVT - deflator'!$C$22='Baggrundsdata - BVT - deflator'!$C$20,'Baggrundsdata - BVT - deflator'!$B90,\"*\"))))))))))),\"*\")","v":0.9213532837031031},{"$f":"IFERROR('Baggrundsdata - BVT - deflator'!F90/IF($M$22=$C$20,$L90,IF($L$22=$C$20,$K90,IF($K$22=$C$20,$J90,IF($J$22=$C$20,$I90,IF($I$22=$C$20,'Baggrundsdata - BVT - deflator'!$H90,IF($H$22=$C$20,'Baggrundsdata - BVT - deflator'!$G90,IF($C$20=$G$22,'Baggrundsdata - BVT - deflator'!$F90,IF($F$22=$C$20,'Baggrundsdata - BVT - deflator'!$E90,IF($E$22=$C$20,'Baggrundsdata - BVT - deflator'!$D90,IF($D$22=$C$20,'Baggrundsdata - BVT - deflator'!$C90,IF('Baggrundsdata - BVT - deflator'!$C$22='Baggrundsdata - BVT - deflator'!$C$20,'Baggrundsdata - BVT - deflator'!$B90,\"*\"))))))))))),\"*\")","v":0.9360488685781676},{"$f":"IFERROR('Baggrundsdata - BVT - deflator'!G90/IF($M$22=$C$20,$L90,IF($L$22=$C$20,$K90,IF($K$22=$C$20,$J90,IF($J$22=$C$20,$I90,IF($I$22=$C$20,'Baggrundsdata - BVT - deflator'!$H90,IF($H$22=$C$20,'Baggrundsdata - BVT - deflator'!$G90,IF($C$20=$G$22,'Baggrundsdata - BVT - deflator'!$F90,IF($F$22=$C$20,'Baggrundsdata - BVT - deflator'!$E90,IF($E$22=$C$20,'Baggrundsdata - BVT - deflator'!$D90,IF($D$22=$C$20,'Baggrundsdata - BVT - deflator'!$C90,IF('Baggrundsdata - BVT - deflator'!$C$22='Baggrundsdata - BVT - deflator'!$C$20,'Baggrundsdata - BVT - deflator'!$B90,\"*\"))))))))))),\"*\")","v":0.95422716886562986},{"$f":"IFERROR('Baggrundsdata - BVT - deflator'!H90/IF($M$22=$C$20,$L90,IF($L$22=$C$20,$K90,IF($K$22=$C$20,$J90,IF($J$22=$C$20,$I90,IF($I$22=$C$20,'Baggrundsdata - BVT - deflator'!$H90,IF($H$22=$C$20,'Baggrundsdata - BVT - deflator'!$G90,IF($C$20=$G$22,'Baggrundsdata - BVT - deflator'!$F90,IF($F$22=$C$20,'Baggrundsdata - BVT - deflator'!$E90,IF($E$22=$C$20,'Baggrundsdata - BVT - deflator'!$D90,IF($D$22=$C$20,'Baggrundsdata - BVT - deflator'!$C90,IF('Baggrundsdata - BVT - deflator'!$C$22='Baggrundsdata - BVT - deflator'!$C$20,'Baggrundsdata - BVT - deflator'!$B90,\"*\"))))))))))),\"*\")","v":0.96867398835409446},{"$f":"IFERROR('Baggrundsdata - BVT - deflator'!I90/IF($M$22=$C$20,$L90,IF($L$22=$C$20,$K90,IF($K$22=$C$20,$J90,IF($J$22=$C$20,$I90,IF($I$22=$C$20,'Baggrundsdata - BVT - deflator'!$H90,IF($H$22=$C$20,'Baggrundsdata - BVT - deflator'!$G90,IF($C$20=$G$22,'Baggrundsdata - BVT - deflator'!$F90,IF($F$22=$C$20,'Baggrundsdata - BVT - deflator'!$E90,IF($E$22=$C$20,'Baggrundsdata - BVT - deflator'!$D90,IF($D$22=$C$20,'Baggrundsdata - BVT - deflator'!$C90,IF('Baggrundsdata - BVT - deflator'!$C$22='Baggrundsdata - BVT - deflator'!$C$20,'Baggrundsdata - BVT - deflator'!$B90,\"*\"))))))))))),\"*\")","v":0.98484373848308404},{"$f":"IFERROR('Baggrundsdata - BVT - deflator'!J90/IF($M$22=$C$20,$L90,IF($L$22=$C$20,$K90,IF($K$22=$C$20,$J90,IF($J$22=$C$20,$I90,IF($I$22=$C$20,'Baggrundsdata - BVT - deflator'!$H90,IF($H$22=$C$20,'Baggrundsdata - BVT - deflator'!$G90,IF($C$20=$G$22,'Baggrundsdata - BVT - deflator'!$F90,IF($F$22=$C$20,'Baggrundsdata - BVT - deflator'!$E90,IF($E$22=$C$20,'Baggrundsdata - BVT - deflator'!$D90,IF($D$22=$C$20,'Baggrundsdata - BVT - deflator'!$C90,IF('Baggrundsdata - BVT - deflator'!$C$22='Baggrundsdata - BVT - deflator'!$C$20,'Baggrundsdata - BVT - deflator'!$B90,\"*\"))))))))))),\"*\")","v":1},{"$f":"IFERROR('Baggrundsdata - BVT - deflator'!K90/IF($M$22=$C$20,$L90,IF($L$22=$C$20,$K90,IF($K$22=$C$20,$J90,IF($J$22=$C$20,$I90,IF($I$22=$C$20,'Baggrundsdata - BVT - deflator'!$H90,IF($H$22=$C$20,'Baggrundsdata - BVT - deflator'!$G90,IF($C$20=$G$22,'Baggrundsdata - BVT - deflator'!$F90,IF($F$22=$C$20,'Baggrundsdata - BVT - deflator'!$E90,IF($E$22=$C$20,'Baggrundsdata - BVT - deflator'!$D90,IF($D$22=$C$20,'Baggrundsdata - BVT - deflator'!$C90,IF('Baggrundsdata - BVT - deflator'!$C$22='Baggrundsdata - BVT - deflator'!$C$20,'Baggrundsdata - BVT - deflator'!$B90,\"*\"))))))))))),\"*\")","v":1.0153895089390126},{"$f":"IFERROR('Baggrundsdata - BVT - deflator'!L90/IF($M$22=$C$20,$L90,IF($L$22=$C$20,$K90,IF($K$22=$C$20,$J90,IF($J$22=$C$20,$I90,IF($I$22=$C$20,'Baggrundsdata - BVT - deflator'!$H90,IF($H$22=$C$20,'Baggrundsdata - BVT - deflator'!$G90,IF($C$20=$G$22,'Baggrundsdata - BVT - deflator'!$F90,IF($F$22=$C$20,'Baggrundsdata - BVT - deflator'!$E90,IF($E$22=$C$20,'Baggrundsdata - BVT - deflator'!$D90,IF($D$22=$C$20,'Baggrundsdata - BVT - deflator'!$C90,IF('Baggrundsdata - BVT - deflator'!$C$22='Baggrundsdata - BVT - deflator'!$C$20,'Baggrundsdata - BVT - deflator'!$B90,\"*\"))))))))))),\"*\")","v":0},null,{"$f":"IF(A90='Level 1'!A70,\"S\",\"falsk\")","v":"S"}]
[null,"Polen",{"$f":"IFERROR('Baggrundsdata - BVT - deflator'!B91/IF($M$22=$C$20,$L91,IF($L$22=$C$20,$K91,IF($K$22=$C$20,$J91,IF($J$22=$C$20,$I91,IF($I$22=$C$20,'Baggrundsdata - BVT - deflator'!$H91,IF($H$22=$C$20,'Baggrundsdata - BVT - deflator'!$G91,IF($C$20=$G$22,'Baggrundsdata - BVT - deflator'!$F91,IF($F$22=$C$20,'Baggrundsdata - BVT - deflator'!$E91,IF($E$22=$C$20,'Baggrundsdata - BVT - deflator'!$D91,IF($D$22=$C$20,'Baggrundsdata - BVT - deflator'!$C91,IF('Baggrundsdata - BVT - deflator'!$C$22='Baggrundsdata - BVT - deflator'!$C$20,'Baggrundsdata - BVT - deflator'!$B91,\"*\"))))))))))),\"*\")","v":0.92368449140783437},{"$f":"IFERROR('Baggrundsdata - BVT - deflator'!C91/IF($M$22=$C$20,$L91,IF($L$22=$C$20,$K91,IF($K$22=$C$20,$J91,IF($J$22=$C$20,$I91,IF($I$22=$C$20,'Baggrundsdata - BVT - deflator'!$H91,IF($H$22=$C$20,'Baggrundsdata - BVT - deflator'!$G91,IF($C$20=$G$22,'Baggrundsdata - BVT - deflator'!$F91,IF($F$22=$C$20,'Baggrundsdata - BVT - deflator'!$E91,IF($E$22=$C$20,'Baggrundsdata - BVT - deflator'!$D91,IF($D$22=$C$20,'Baggrundsdata - BVT - deflator'!$C91,IF('Baggrundsdata - BVT - deflator'!$C$22='Baggrundsdata - BVT - deflator'!$C$20,'Baggrundsdata - BVT - deflator'!$B91,\"*\"))))))))))),\"*\")","v":1.0319040549588099},{"$f":"IFERROR('Baggrundsdata - BVT - deflator'!D91/IF($M$22=$C$20,$L91,IF($L$22=$C$20,$K91,IF($K$22=$C$20,$J91,IF($J$22=$C$20,$I91,IF($I$22=$C$20,'Baggrundsdata - BVT - deflator'!$H91,IF($H$22=$C$20,'Baggrundsdata - BVT - deflator'!$G91,IF($C$20=$G$22,'Baggrundsdata - BVT - deflator'!$F91,IF($F$22=$C$20,'Baggrundsdata - BVT - deflator'!$E91,IF($E$22=$C$20,'Baggrundsdata - BVT - deflator'!$D91,IF($D$22=$C$20,'Baggrundsdata - BVT - deflator'!$C91,IF('Baggrundsdata - BVT - deflator'!$C$22='Baggrundsdata - BVT - deflator'!$C$20,'Baggrundsdata - BVT - deflator'!$B91,\"*\"))))))))))),\"*\")","v":0.88294083971317405},{"$f":"IFERROR('Baggrundsdata - BVT - deflator'!E91/IF($M$22=$C$20,$L91,IF($L$22=$C$20,$K91,IF($K$22=$C$20,$J91,IF($J$22=$C$20,$I91,IF($I$22=$C$20,'Baggrundsdata - BVT - deflator'!$H91,IF($H$22=$C$20,'Baggrundsdata - BVT - deflator'!$G91,IF($C$20=$G$22,'Baggrundsdata - BVT - deflator'!$F91,IF($F$22=$C$20,'Baggrundsdata - BVT - deflator'!$E91,IF($E$22=$C$20,'Baggrundsdata - BVT - deflator'!$D91,IF($D$22=$C$20,'Baggrundsdata - BVT - deflator'!$C91,IF('Baggrundsdata - BVT - deflator'!$C$22='Baggrundsdata - BVT - deflator'!$C$20,'Baggrundsdata - BVT - deflator'!$B91,\"*\"))))))))))),\"*\")","v":0.97031797319981761},{"$f":"IFERROR('Baggrundsdata - BVT - deflator'!F91/IF($M$22=$C$20,$L91,IF($L$22=$C$20,$K91,IF($K$22=$C$20,$J91,IF($J$22=$C$20,$I91,IF($I$22=$C$20,'Baggrundsdata - BVT - deflator'!$H91,IF($H$22=$C$20,'Baggrundsdata - BVT - deflator'!$G91,IF($C$20=$G$22,'Baggrundsdata - BVT - deflator'!$F91,IF($F$22=$C$20,'Baggrundsdata - BVT - deflator'!$E91,IF($E$22=$C$20,'Baggrundsdata - BVT - deflator'!$D91,IF($D$22=$C$20,'Baggrundsdata - BVT - deflator'!$C91,IF('Baggrundsdata - BVT - deflator'!$C$22='Baggrundsdata - BVT - deflator'!$C$20,'Baggrundsdata - BVT - deflator'!$B91,\"*\"))))))))))),\"*\")","v":0.96980370467402177},{"$f":"IFERROR('Baggrundsdata - BVT - deflator'!G91/IF($M$22=$C$20,$L91,IF($L$22=$C$20,$K91,IF($K$22=$C$20,$J91,IF($J$22=$C$20,$I91,IF($I$22=$C$20,'Baggrundsdata - BVT - deflator'!$H91,IF($H$22=$C$20,'Baggrundsdata - BVT - deflator'!$G91,IF($C$20=$G$22,'Baggrundsdata - BVT - deflator'!$F91,IF($F$22=$C$20,'Baggrundsdata - BVT - deflator'!$E91,IF($E$22=$C$20,'Baggrundsdata - BVT - deflator'!$D91,IF($D$22=$C$20,'Baggrundsdata - BVT - deflator'!$C91,IF('Baggrundsdata - BVT - deflator'!$C$22='Baggrundsdata - BVT - deflator'!$C$20,'Baggrundsdata - BVT - deflator'!$B91,\"*\"))))))))))),\"*\")","v":0.98494066505593891},{"$f":"IFERROR('Baggrundsdata - BVT - deflator'!H91/IF($M$22=$C$20,$L91,IF($L$22=$C$20,$K91,IF($K$22=$C$20,$J91,IF($J$22=$C$20,$I91,IF($I$22=$C$20,'Baggrundsdata - BVT - deflator'!$H91,IF($H$22=$C$20,'Baggrundsdata - BVT - deflator'!$G91,IF($C$20=$G$22,'Baggrundsdata - BVT - deflator'!$F91,IF($F$22=$C$20,'Baggrundsdata - BVT - deflator'!$E91,IF($E$22=$C$20,'Baggrundsdata - BVT - deflator'!$D91,IF($D$22=$C$20,'Baggrundsdata - BVT - deflator'!$C91,IF('Baggrundsdata - BVT - deflator'!$C$22='Baggrundsdata - BVT - deflator'!$C$20,'Baggrundsdata - BVT - deflator'!$B91,\"*\"))))))))))),\"*\")","v":0.98623118796029463},{"$f":"IFERROR('Baggrundsdata - BVT - deflator'!I91/IF($M$22=$C$20,$L91,IF($L$22=$C$20,$K91,IF($K$22=$C$20,$J91,IF($J$22=$C$20,$I91,IF($I$22=$C$20,'Baggrundsdata - BVT - deflator'!$H91,IF($H$22=$C$20,'Baggrundsdata - BVT - deflator'!$G91,IF($C$20=$G$22,'Baggrundsdata - BVT - deflator'!$F91,IF($F$22=$C$20,'Baggrundsdata - BVT - deflator'!$E91,IF($E$22=$C$20,'Baggrundsdata - BVT - deflator'!$D91,IF($D$22=$C$20,'Baggrundsdata - BVT - deflator'!$C91,IF('Baggrundsdata - BVT - deflator'!$C$22='Baggrundsdata - BVT - deflator'!$C$20,'Baggrundsdata - BVT - deflator'!$B91,\"*\"))))))))))),\"*\")","v":0.99348916639982932},{"$f":"IFERROR('Baggrundsdata - BVT - deflator'!J91/IF($M$22=$C$20,$L91,IF($L$22=$C$20,$K91,IF($K$22=$C$20,$J91,IF($J$22=$C$20,$I91,IF($I$22=$C$20,'Baggrundsdata - BVT - deflator'!$H91,IF($H$22=$C$20,'Baggrundsdata - BVT - deflator'!$G91,IF($C$20=$G$22,'Baggrundsdata - BVT - deflator'!$F91,IF($F$22=$C$20,'Baggrundsdata - BVT - deflator'!$E91,IF($E$22=$C$20,'Baggrundsdata - BVT - deflator'!$D91,IF($D$22=$C$20,'Baggrundsdata - BVT - deflator'!$C91,IF('Baggrundsdata - BVT - deflator'!$C$22='Baggrundsdata - BVT - deflator'!$C$20,'Baggrundsdata - BVT - deflator'!$B91,\"*\"))))))))))),\"*\")","v":1},{"$f":"IFERROR('Baggrundsdata - BVT - deflator'!K91/IF($M$22=$C$20,$L91,IF($L$22=$C$20,$K91,IF($K$22=$C$20,$J91,IF($J$22=$C$20,$I91,IF($I$22=$C$20,'Baggrundsdata - BVT - deflator'!$H91,IF($H$22=$C$20,'Baggrundsdata - BVT - deflator'!$G91,IF($C$20=$G$22,'Baggrundsdata - BVT - deflator'!$F91,IF($F$22=$C$20,'Baggrundsdata - BVT - deflator'!$E91,IF($E$22=$C$20,'Baggrundsdata - BVT - deflator'!$D91,IF($D$22=$C$20,'Baggrundsdata - BVT - deflator'!$C91,IF('Baggrundsdata - BVT - deflator'!$C$22='Baggrundsdata - BVT - deflator'!$C$20,'Baggrundsdata - BVT - deflator'!$B91,\"*\"))))))))))),\"*\")","v":1.0065535023635581},{"$f":"IFERROR('Baggrundsdata - BVT - deflator'!L91/IF($M$22=$C$20,$L91,IF($L$22=$C$20,$K91,IF($K$22=$C$20,$J91,IF($J$22=$C$20,$I91,IF($I$22=$C$20,'Baggrundsdata - BVT - deflator'!$H91,IF($H$22=$C$20,'Baggrundsdata - BVT - deflator'!$G91,IF($C$20=$G$22,'Baggrundsdata - BVT - deflator'!$F91,IF($F$22=$C$20,'Baggrundsdata - BVT - deflator'!$E91,IF($E$22=$C$20,'Baggrundsdata - BVT - deflator'!$D91,IF($D$22=$C$20,'Baggrundsdata - BVT - deflator'!$C91,IF('Baggrundsdata - BVT - deflator'!$C$22='Baggrundsdata - BVT - deflator'!$C$20,'Baggrundsdata - BVT - deflator'!$B91,\"*\"))))))))))),\"*\")","v":0},null,{"$f":"IF(A91='Level 1'!A71,\"S\",\"falsk\")","v":"S"}]
[null,"Portugal",{"$f":"IFERROR('Baggrundsdata - BVT - deflator'!B92/IF($M$22=$C$20,$L92,IF($L$22=$C$20,$K92,IF($K$22=$C$20,$J92,IF($J$22=$C$20,$I92,IF($I$22=$C$20,'Baggrundsdata - BVT - deflator'!$H92,IF($H$22=$C$20,'Baggrundsdata - BVT - deflator'!$G92,IF($C$20=$G$22,'Baggrundsdata - BVT - deflator'!$F92,IF($F$22=$C$20,'Baggrundsdata - BVT - deflator'!$E92,IF($E$22=$C$20,'Baggrundsdata - BVT - deflator'!$D92,IF($D$22=$C$20,'Baggrundsdata - BVT - deflator'!$C92,IF('Baggrundsdata - BVT - deflator'!$C$22='Baggrundsdata - BVT - deflator'!$C$20,'Baggrundsdata - BVT - deflator'!$B92,\"*\"))))))))))),\"*\")","v":0.94003116027946276},{"$f":"IFERROR('Baggrundsdata - BVT - deflator'!C92/IF($M$22=$C$20,$L92,IF($L$22=$C$20,$K92,IF($K$22=$C$20,$J92,IF($J$22=$C$20,$I92,IF($I$22=$C$20,'Baggrundsdata - BVT - deflator'!$H92,IF($H$22=$C$20,'Baggrundsdata - BVT - deflator'!$G92,IF($C$20=$G$22,'Baggrundsdata - BVT - deflator'!$F92,IF($F$22=$C$20,'Baggrundsdata - BVT - deflator'!$E92,IF($E$22=$C$20,'Baggrundsdata - BVT - deflator'!$D92,IF($D$22=$C$20,'Baggrundsdata - BVT - deflator'!$C92,IF('Baggrundsdata - BVT - deflator'!$C$22='Baggrundsdata - BVT - deflator'!$C$20,'Baggrundsdata - BVT - deflator'!$B92,\"*\"))))))))))),\"*\")","v":0.9584333630564511},{"$f":"IFERROR('Baggrundsdata - BVT - deflator'!D92/IF($M$22=$C$20,$L92,IF($L$22=$C$20,$K92,IF($K$22=$C$20,$J92,IF($J$22=$C$20,$I92,IF($I$22=$C$20,'Baggrundsdata - BVT - deflator'!$H92,IF($H$22=$C$20,'Baggrundsdata - BVT - deflator'!$G92,IF($C$20=$G$22,'Baggrundsdata - BVT - deflator'!$F92,IF($F$22=$C$20,'Baggrundsdata - BVT - deflator'!$E92,IF($E$22=$C$20,'Baggrundsdata - BVT - deflator'!$D92,IF($D$22=$C$20,'Baggrundsdata - BVT - deflator'!$C92,IF('Baggrundsdata - BVT - deflator'!$C$22='Baggrundsdata - BVT - deflator'!$C$20,'Baggrundsdata - BVT - deflator'!$B92,\"*\"))))))))))),\"*\")","v":0.98008877739997846},{"$f":"IFERROR('Baggrundsdata - BVT - deflator'!E92/IF($M$22=$C$20,$L92,IF($L$22=$C$20,$K92,IF($K$22=$C$20,$J92,IF($J$22=$C$20,$I92,IF($I$22=$C$20,'Baggrundsdata - BVT - deflator'!$H92,IF($H$22=$C$20,'Baggrundsdata - BVT - deflator'!$G92,IF($C$20=$G$22,'Baggrundsdata - BVT - deflator'!$F92,IF($F$22=$C$20,'Baggrundsdata - BVT - deflator'!$E92,IF($E$22=$C$20,'Baggrundsdata - BVT - deflator'!$D92,IF($D$22=$C$20,'Baggrundsdata - BVT - deflator'!$C92,IF('Baggrundsdata - BVT - deflator'!$C$22='Baggrundsdata - BVT - deflator'!$C$20,'Baggrundsdata - BVT - deflator'!$B92,\"*\"))))))))))),\"*\")","v":0.9798830019695649},{"$f":"IFERROR('Baggrundsdata - BVT - deflator'!F92/IF($M$22=$C$20,$L92,IF($L$22=$C$20,$K92,IF($K$22=$C$20,$J92,IF($J$22=$C$20,$I92,IF($I$22=$C$20,'Baggrundsdata - BVT - deflator'!$H92,IF($H$22=$C$20,'Baggrundsdata - BVT - deflator'!$G92,IF($C$20=$G$22,'Baggrundsdata - BVT - deflator'!$F92,IF($F$22=$C$20,'Baggrundsdata - BVT - deflator'!$E92,IF($E$22=$C$20,'Baggrundsdata - BVT - deflator'!$D92,IF($D$22=$C$20,'Baggrundsdata - BVT - deflator'!$C92,IF('Baggrundsdata - BVT - deflator'!$C$22='Baggrundsdata - BVT - deflator'!$C$20,'Baggrundsdata - BVT - deflator'!$B92,\"*\"))))))))))),\"*\")","v":0.96566489961098656},{"$f":"IFERROR('Baggrundsdata - BVT - deflator'!G92/IF($M$22=$C$20,$L92,IF($L$22=$C$20,$K92,IF($K$22=$C$20,$J92,IF($J$22=$C$20,$I92,IF($I$22=$C$20,'Baggrundsdata - BVT - deflator'!$H92,IF($H$22=$C$20,'Baggrundsdata - BVT - deflator'!$G92,IF($C$20=$G$22,'Baggrundsdata - BVT - deflator'!$F92,IF($F$22=$C$20,'Baggrundsdata - BVT - deflator'!$E92,IF($E$22=$C$20,'Baggrundsdata - BVT - deflator'!$D92,IF($D$22=$C$20,'Baggrundsdata - BVT - deflator'!$C92,IF('Baggrundsdata - BVT - deflator'!$C$22='Baggrundsdata - BVT - deflator'!$C$20,'Baggrundsdata - BVT - deflator'!$B92,\"*\"))))))))))),\"*\")","v":0.95333797144620935},{"$f":"IFERROR('Baggrundsdata - BVT - deflator'!H92/IF($M$22=$C$20,$L92,IF($L$22=$C$20,$K92,IF($K$22=$C$20,$J92,IF($J$22=$C$20,$I92,IF($I$22=$C$20,'Baggrundsdata - BVT - deflator'!$H92,IF($H$22=$C$20,'Baggrundsdata - BVT - deflator'!$G92,IF($C$20=$G$22,'Baggrundsdata - BVT - deflator'!$F92,IF($F$22=$C$20,'Baggrundsdata - BVT - deflator'!$E92,IF($E$22=$C$20,'Baggrundsdata - BVT - deflator'!$D92,IF($D$22=$C$20,'Baggrundsdata - BVT - deflator'!$C92,IF('Baggrundsdata - BVT - deflator'!$C$22='Baggrundsdata - BVT - deflator'!$C$20,'Baggrundsdata - BVT - deflator'!$B92,\"*\"))))))))))),\"*\")","v":0.97639461848255327},{"$f":"IFERROR('Baggrundsdata - BVT - deflator'!I92/IF($M$22=$C$20,$L92,IF($L$22=$C$20,$K92,IF($K$22=$C$20,$J92,IF($J$22=$C$20,$I92,IF($I$22=$C$20,'Baggrundsdata - BVT - deflator'!$H92,IF($H$22=$C$20,'Baggrundsdata - BVT - deflator'!$G92,IF($C$20=$G$22,'Baggrundsdata - BVT - deflator'!$F92,IF($F$22=$C$20,'Baggrundsdata - BVT - deflator'!$E92,IF($E$22=$C$20,'Baggrundsdata - BVT - deflator'!$D92,IF($D$22=$C$20,'Baggrundsdata - BVT - deflator'!$C92,IF('Baggrundsdata - BVT - deflator'!$C$22='Baggrundsdata - BVT - deflator'!$C$20,'Baggrundsdata - BVT - deflator'!$B92,\"*\"))))))))))),\"*\")","v":0.9829598345957492},{"$f":"IFERROR('Baggrundsdata - BVT - deflator'!J92/IF($M$22=$C$20,$L92,IF($L$22=$C$20,$K92,IF($K$22=$C$20,$J92,IF($J$22=$C$20,$I92,IF($I$22=$C$20,'Baggrundsdata - BVT - deflator'!$H92,IF($H$22=$C$20,'Baggrundsdata - BVT - deflator'!$G92,IF($C$20=$G$22,'Baggrundsdata - BVT - deflator'!$F92,IF($F$22=$C$20,'Baggrundsdata - BVT - deflator'!$E92,IF($E$22=$C$20,'Baggrundsdata - BVT - deflator'!$D92,IF($D$22=$C$20,'Baggrundsdata - BVT - deflator'!$C92,IF('Baggrundsdata - BVT - deflator'!$C$22='Baggrundsdata - BVT - deflator'!$C$20,'Baggrundsdata - BVT - deflator'!$B92,\"*\"))))))))))),\"*\")","v":1},{"$f":"IFERROR('Baggrundsdata - BVT - deflator'!K92/IF($M$22=$C$20,$L92,IF($L$22=$C$20,$K92,IF($K$22=$C$20,$J92,IF($J$22=$C$20,$I92,IF($I$22=$C$20,'Baggrundsdata - BVT - deflator'!$H92,IF($H$22=$C$20,'Baggrundsdata - BVT - deflator'!$G92,IF($C$20=$G$22,'Baggrundsdata - BVT - deflator'!$F92,IF($F$22=$C$20,'Baggrundsdata - BVT - deflator'!$E92,IF($E$22=$C$20,'Baggrundsdata - BVT - deflator'!$D92,IF($D$22=$C$20,'Baggrundsdata - BVT - deflator'!$C92,IF('Baggrundsdata - BVT - deflator'!$C$22='Baggrundsdata - BVT - deflator'!$C$20,'Baggrundsdata - BVT - deflator'!$B92,\"*\"))))))))))),\"*\")","v":1.0173355663217498},{"$f":"IFERROR('Baggrundsdata - BVT - deflator'!L92/IF($M$22=$C$20,$L92,IF($L$22=$C$20,$K92,IF($K$22=$C$20,$J92,IF($J$22=$C$20,$I92,IF($I$22=$C$20,'Baggrundsdata - BVT - deflator'!$H92,IF($H$22=$C$20,'Baggrundsdata - BVT - deflator'!$G92,IF($C$20=$G$22,'Baggrundsdata - BVT - deflator'!$F92,IF($F$22=$C$20,'Baggrundsdata - BVT - deflator'!$E92,IF($E$22=$C$20,'Baggrundsdata - BVT - deflator'!$D92,IF($D$22=$C$20,'Baggrundsdata - BVT - deflator'!$C92,IF('Baggrundsdata - BVT - deflator'!$C$22='Baggrundsdata - BVT - deflator'!$C$20,'Baggrundsdata - BVT - deflator'!$B92,\"*\"))))))))))),\"*\")","v":0},null,{"$f":"IF(A92='Level 1'!A72,\"S\",\"falsk\")","v":"S"}]
[null,"Rumænien",{"$f":"IFERROR('Baggrundsdata - BVT - deflator'!B93/IF($M$22=$C$20,$L93,IF($L$22=$C$20,$K93,IF($K$22=$C$20,$J93,IF($J$22=$C$20,$I93,IF($I$22=$C$20,'Baggrundsdata - BVT - deflator'!$H93,IF($H$22=$C$20,'Baggrundsdata - BVT - deflator'!$G93,IF($C$20=$G$22,'Baggrundsdata - BVT - deflator'!$F93,IF($F$22=$C$20,'Baggrundsdata - BVT - deflator'!$E93,IF($E$22=$C$20,'Baggrundsdata - BVT - deflator'!$D93,IF($D$22=$C$20,'Baggrundsdata - BVT - deflator'!$C93,IF('Baggrundsdata - BVT - deflator'!$C$22='Baggrundsdata - BVT - deflator'!$C$20,'Baggrundsdata - BVT - deflator'!$B93,\"*\"))))))))))),\"*\")","v":0.88609506007530758},{"$f":"IFERROR('Baggrundsdata - BVT - deflator'!C93/IF($M$22=$C$20,$L93,IF($L$22=$C$20,$K93,IF($K$22=$C$20,$J93,IF($J$22=$C$20,$I93,IF($I$22=$C$20,'Baggrundsdata - BVT - deflator'!$H93,IF($H$22=$C$20,'Baggrundsdata - BVT - deflator'!$G93,IF($C$20=$G$22,'Baggrundsdata - BVT - deflator'!$F93,IF($F$22=$C$20,'Baggrundsdata - BVT - deflator'!$E93,IF($E$22=$C$20,'Baggrundsdata - BVT - deflator'!$D93,IF($D$22=$C$20,'Baggrundsdata - BVT - deflator'!$C93,IF('Baggrundsdata - BVT - deflator'!$C$22='Baggrundsdata - BVT - deflator'!$C$20,'Baggrundsdata - BVT - deflator'!$B93,\"*\"))))))))))),\"*\")","v":0.93200751278341432},{"$f":"IFERROR('Baggrundsdata - BVT - deflator'!D93/IF($M$22=$C$20,$L93,IF($L$22=$C$20,$K93,IF($K$22=$C$20,$J93,IF($J$22=$C$20,$I93,IF($I$22=$C$20,'Baggrundsdata - BVT - deflator'!$H93,IF($H$22=$C$20,'Baggrundsdata - BVT - deflator'!$G93,IF($C$20=$G$22,'Baggrundsdata - BVT - deflator'!$F93,IF($F$22=$C$20,'Baggrundsdata - BVT - deflator'!$E93,IF($E$22=$C$20,'Baggrundsdata - BVT - deflator'!$D93,IF($D$22=$C$20,'Baggrundsdata - BVT - deflator'!$C93,IF('Baggrundsdata - BVT - deflator'!$C$22='Baggrundsdata - BVT - deflator'!$C$20,'Baggrundsdata - BVT - deflator'!$B93,\"*\"))))))))))),\"*\")","v":0.85034643277586563},{"$f":"IFERROR('Baggrundsdata - BVT - deflator'!E93/IF($M$22=$C$20,$L93,IF($L$22=$C$20,$K93,IF($K$22=$C$20,$J93,IF($J$22=$C$20,$I93,IF($I$22=$C$20,'Baggrundsdata - BVT - deflator'!$H93,IF($H$22=$C$20,'Baggrundsdata - BVT - deflator'!$G93,IF($C$20=$G$22,'Baggrundsdata - BVT - deflator'!$F93,IF($F$22=$C$20,'Baggrundsdata - BVT - deflator'!$E93,IF($E$22=$C$20,'Baggrundsdata - BVT - deflator'!$D93,IF($D$22=$C$20,'Baggrundsdata - BVT - deflator'!$C93,IF('Baggrundsdata - BVT - deflator'!$C$22='Baggrundsdata - BVT - deflator'!$C$20,'Baggrundsdata - BVT - deflator'!$B93,\"*\"))))))))))),\"*\")","v":0.89865830315339201},{"$f":"IFERROR('Baggrundsdata - BVT - deflator'!F93/IF($M$22=$C$20,$L93,IF($L$22=$C$20,$K93,IF($K$22=$C$20,$J93,IF($J$22=$C$20,$I93,IF($I$22=$C$20,'Baggrundsdata - BVT - deflator'!$H93,IF($H$22=$C$20,'Baggrundsdata - BVT - deflator'!$G93,IF($C$20=$G$22,'Baggrundsdata - BVT - deflator'!$F93,IF($F$22=$C$20,'Baggrundsdata - BVT - deflator'!$E93,IF($E$22=$C$20,'Baggrundsdata - BVT - deflator'!$D93,IF($D$22=$C$20,'Baggrundsdata - BVT - deflator'!$C93,IF('Baggrundsdata - BVT - deflator'!$C$22='Baggrundsdata - BVT - deflator'!$C$20,'Baggrundsdata - BVT - deflator'!$B93,\"*\"))))))))))),\"*\")","v":0.92418019896294834},{"$f":"IFERROR('Baggrundsdata - BVT - deflator'!G93/IF($M$22=$C$20,$L93,IF($L$22=$C$20,$K93,IF($K$22=$C$20,$J93,IF($J$22=$C$20,$I93,IF($I$22=$C$20,'Baggrundsdata - BVT - deflator'!$H93,IF($H$22=$C$20,'Baggrundsdata - BVT - deflator'!$G93,IF($C$20=$G$22,'Baggrundsdata - BVT - deflator'!$F93,IF($F$22=$C$20,'Baggrundsdata - BVT - deflator'!$E93,IF($E$22=$C$20,'Baggrundsdata - BVT - deflator'!$D93,IF($D$22=$C$20,'Baggrundsdata - BVT - deflator'!$C93,IF('Baggrundsdata - BVT - deflator'!$C$22='Baggrundsdata - BVT - deflator'!$C$20,'Baggrundsdata - BVT - deflator'!$B93,\"*\"))))))))))),\"*\")","v":0.92148422405348818},{"$f":"IFERROR('Baggrundsdata - BVT - deflator'!H93/IF($M$22=$C$20,$L93,IF($L$22=$C$20,$K93,IF($K$22=$C$20,$J93,IF($J$22=$C$20,$I93,IF($I$22=$C$20,'Baggrundsdata - BVT - deflator'!$H93,IF($H$22=$C$20,'Baggrundsdata - BVT - deflator'!$G93,IF($C$20=$G$22,'Baggrundsdata - BVT - deflator'!$F93,IF($F$22=$C$20,'Baggrundsdata - BVT - deflator'!$E93,IF($E$22=$C$20,'Baggrundsdata - BVT - deflator'!$D93,IF($D$22=$C$20,'Baggrundsdata - BVT - deflator'!$C93,IF('Baggrundsdata - BVT - deflator'!$C$22='Baggrundsdata - BVT - deflator'!$C$20,'Baggrundsdata - BVT - deflator'!$B93,\"*\"))))))))))),\"*\")","v":0.96002767867573702},{"$f":"IFERROR('Baggrundsdata - BVT - deflator'!I93/IF($M$22=$C$20,$L93,IF($L$22=$C$20,$K93,IF($K$22=$C$20,$J93,IF($J$22=$C$20,$I93,IF($I$22=$C$20,'Baggrundsdata - BVT - deflator'!$H93,IF($H$22=$C$20,'Baggrundsdata - BVT - deflator'!$G93,IF($C$20=$G$22,'Baggrundsdata - BVT - deflator'!$F93,IF($F$22=$C$20,'Baggrundsdata - BVT - deflator'!$E93,IF($E$22=$C$20,'Baggrundsdata - BVT - deflator'!$D93,IF($D$22=$C$20,'Baggrundsdata - BVT - deflator'!$C93,IF('Baggrundsdata - BVT - deflator'!$C$22='Baggrundsdata - BVT - deflator'!$C$20,'Baggrundsdata - BVT - deflator'!$B93,\"*\"))))))))))),\"*\")","v":0.97589798430942598},{"$f":"IFERROR('Baggrundsdata - BVT - deflator'!J93/IF($M$22=$C$20,$L93,IF($L$22=$C$20,$K93,IF($K$22=$C$20,$J93,IF($J$22=$C$20,$I93,IF($I$22=$C$20,'Baggrundsdata - BVT - deflator'!$H93,IF($H$22=$C$20,'Baggrundsdata - BVT - deflator'!$G93,IF($C$20=$G$22,'Baggrundsdata - BVT - deflator'!$F93,IF($F$22=$C$20,'Baggrundsdata - BVT - deflator'!$E93,IF($E$22=$C$20,'Baggrundsdata - BVT - deflator'!$D93,IF($D$22=$C$20,'Baggrundsdata - BVT - deflator'!$C93,IF('Baggrundsdata - BVT - deflator'!$C$22='Baggrundsdata - BVT - deflator'!$C$20,'Baggrundsdata - BVT - deflator'!$B93,\"*\"))))))))))),\"*\")","v":1},{"$f":"IFERROR('Baggrundsdata - BVT - deflator'!K93/IF($M$22=$C$20,$L93,IF($L$22=$C$20,$K93,IF($K$22=$C$20,$J93,IF($J$22=$C$20,$I93,IF($I$22=$C$20,'Baggrundsdata - BVT - deflator'!$H93,IF($H$22=$C$20,'Baggrundsdata - BVT - deflator'!$G93,IF($C$20=$G$22,'Baggrundsdata - BVT - deflator'!$F93,IF($F$22=$C$20,'Baggrundsdata - BVT - deflator'!$E93,IF($E$22=$C$20,'Baggrundsdata - BVT - deflator'!$D93,IF($D$22=$C$20,'Baggrundsdata - BVT - deflator'!$C93,IF('Baggrundsdata - BVT - deflator'!$C$22='Baggrundsdata - BVT - deflator'!$C$20,'Baggrundsdata - BVT - deflator'!$B93,\"*\"))))))))))),\"*\")","v":1.024697269671716},{"$f":"IFERROR('Baggrundsdata - BVT - deflator'!L93/IF($M$22=$C$20,$L93,IF($L$22=$C$20,$K93,IF($K$22=$C$20,$J93,IF($J$22=$C$20,$I93,IF($I$22=$C$20,'Baggrundsdata - BVT - deflator'!$H93,IF($H$22=$C$20,'Baggrundsdata - BVT - deflator'!$G93,IF($C$20=$G$22,'Baggrundsdata - BVT - deflator'!$F93,IF($F$22=$C$20,'Baggrundsdata - BVT - deflator'!$E93,IF($E$22=$C$20,'Baggrundsdata - BVT - deflator'!$D93,IF($D$22=$C$20,'Baggrundsdata - BVT - deflator'!$C93,IF('Baggrundsdata - BVT - deflator'!$C$22='Baggrundsdata - BVT - deflator'!$C$20,'Baggrundsdata - BVT - deflator'!$B93,\"*\"))))))))))),\"*\")","v":0},null,{"$f":"IF(A93='Level 1'!A73,\"S\",\"falsk\")","v":"S"}]
[null,"Slovenien",{"$f":"IFERROR('Baggrundsdata - BVT - deflator'!B94/IF($M$22=$C$20,$L94,IF($L$22=$C$20,$K94,IF($K$22=$C$20,$J94,IF($J$22=$C$20,$I94,IF($I$22=$C$20,'Baggrundsdata - BVT - deflator'!$H94,IF($H$22=$C$20,'Baggrundsdata - BVT - deflator'!$G94,IF($C$20=$G$22,'Baggrundsdata - BVT - deflator'!$F94,IF($F$22=$C$20,'Baggrundsdata - BVT - deflator'!$E94,IF($E$22=$C$20,'Baggrundsdata - BVT - deflator'!$D94,IF($D$22=$C$20,'Baggrundsdata - BVT - deflator'!$C94,IF('Baggrundsdata - BVT - deflator'!$C$22='Baggrundsdata - BVT - deflator'!$C$20,'Baggrundsdata - BVT - deflator'!$B94,\"*\"))))))))))),\"*\")","v":0.92848628146396728},{"$f":"IFERROR('Baggrundsdata - BVT - deflator'!C94/IF($M$22=$C$20,$L94,IF($L$22=$C$20,$K94,IF($K$22=$C$20,$J94,IF($J$22=$C$20,$I94,IF($I$22=$C$20,'Baggrundsdata - BVT - deflator'!$H94,IF($H$22=$C$20,'Baggrundsdata - BVT - deflator'!$G94,IF($C$20=$G$22,'Baggrundsdata - BVT - deflator'!$F94,IF($F$22=$C$20,'Baggrundsdata - BVT - deflator'!$E94,IF($E$22=$C$20,'Baggrundsdata - BVT - deflator'!$D94,IF($D$22=$C$20,'Baggrundsdata - BVT - deflator'!$C94,IF('Baggrundsdata - BVT - deflator'!$C$22='Baggrundsdata - BVT - deflator'!$C$20,'Baggrundsdata - BVT - deflator'!$B94,\"*\"))))))))))),\"*\")","v":0.9730555145066746},{"$f":"IFERROR('Baggrundsdata - BVT - deflator'!D94/IF($M$22=$C$20,$L94,IF($L$22=$C$20,$K94,IF($K$22=$C$20,$J94,IF($J$22=$C$20,$I94,IF($I$22=$C$20,'Baggrundsdata - BVT - deflator'!$H94,IF($H$22=$C$20,'Baggrundsdata - BVT - deflator'!$G94,IF($C$20=$G$22,'Baggrundsdata - BVT - deflator'!$F94,IF($F$22=$C$20,'Baggrundsdata - BVT - deflator'!$E94,IF($E$22=$C$20,'Baggrundsdata - BVT - deflator'!$D94,IF($D$22=$C$20,'Baggrundsdata - BVT - deflator'!$C94,IF('Baggrundsdata - BVT - deflator'!$C$22='Baggrundsdata - BVT - deflator'!$C$20,'Baggrundsdata - BVT - deflator'!$B94,\"*\"))))))))))),\"*\")","v":0.99993103787990745},{"$f":"IFERROR('Baggrundsdata - BVT - deflator'!E94/IF($M$22=$C$20,$L94,IF($L$22=$C$20,$K94,IF($K$22=$C$20,$J94,IF($J$22=$C$20,$I94,IF($I$22=$C$20,'Baggrundsdata - BVT - deflator'!$H94,IF($H$22=$C$20,'Baggrundsdata - BVT - deflator'!$G94,IF($C$20=$G$22,'Baggrundsdata - BVT - deflator'!$F94,IF($F$22=$C$20,'Baggrundsdata - BVT - deflator'!$E94,IF($E$22=$C$20,'Baggrundsdata - BVT - deflator'!$D94,IF($D$22=$C$20,'Baggrundsdata - BVT - deflator'!$C94,IF('Baggrundsdata - BVT - deflator'!$C$22='Baggrundsdata - BVT - deflator'!$C$20,'Baggrundsdata - BVT - deflator'!$B94,\"*\"))))))))))),\"*\")","v":0.98517314418008972},{"$f":"IFERROR('Baggrundsdata - BVT - deflator'!F94/IF($M$22=$C$20,$L94,IF($L$22=$C$20,$K94,IF($K$22=$C$20,$J94,IF($J$22=$C$20,$I94,IF($I$22=$C$20,'Baggrundsdata - BVT - deflator'!$H94,IF($H$22=$C$20,'Baggrundsdata - BVT - deflator'!$G94,IF($C$20=$G$22,'Baggrundsdata - BVT - deflator'!$F94,IF($F$22=$C$20,'Baggrundsdata - BVT - deflator'!$E94,IF($E$22=$C$20,'Baggrundsdata - BVT - deflator'!$D94,IF($D$22=$C$20,'Baggrundsdata - BVT - deflator'!$C94,IF('Baggrundsdata - BVT - deflator'!$C$22='Baggrundsdata - BVT - deflator'!$C$20,'Baggrundsdata - BVT - deflator'!$B94,\"*\"))))))))))),\"*\")","v":0.99817742968326684},{"$f":"IFERROR('Baggrundsdata - BVT - deflator'!G94/IF($M$22=$C$20,$L94,IF($L$22=$C$20,$K94,IF($K$22=$C$20,$J94,IF($J$22=$C$20,$I94,IF($I$22=$C$20,'Baggrundsdata - BVT - deflator'!$H94,IF($H$22=$C$20,'Baggrundsdata - BVT - deflator'!$G94,IF($C$20=$G$22,'Baggrundsdata - BVT - deflator'!$F94,IF($F$22=$C$20,'Baggrundsdata - BVT - deflator'!$E94,IF($E$22=$C$20,'Baggrundsdata - BVT - deflator'!$D94,IF($D$22=$C$20,'Baggrundsdata - BVT - deflator'!$C94,IF('Baggrundsdata - BVT - deflator'!$C$22='Baggrundsdata - BVT - deflator'!$C$20,'Baggrundsdata - BVT - deflator'!$B94,\"*\"))))))))))),\"*\")","v":0.9939904438205015},{"$f":"IFERROR('Baggrundsdata - BVT - deflator'!H94/IF($M$22=$C$20,$L94,IF($L$22=$C$20,$K94,IF($K$22=$C$20,$J94,IF($J$22=$C$20,$I94,IF($I$22=$C$20,'Baggrundsdata - BVT - deflator'!$H94,IF($H$22=$C$20,'Baggrundsdata - BVT - deflator'!$G94,IF($C$20=$G$22,'Baggrundsdata - BVT - deflator'!$F94,IF($F$22=$C$20,'Baggrundsdata - BVT - deflator'!$E94,IF($E$22=$C$20,'Baggrundsdata - BVT - deflator'!$D94,IF($D$22=$C$20,'Baggrundsdata - BVT - deflator'!$C94,IF('Baggrundsdata - BVT - deflator'!$C$22='Baggrundsdata - BVT - deflator'!$C$20,'Baggrundsdata - BVT - deflator'!$B94,\"*\"))))))))))),\"*\")","v":0.99324171223092461},{"$f":"IFERROR('Baggrundsdata - BVT - deflator'!I94/IF($M$22=$C$20,$L94,IF($L$22=$C$20,$K94,IF($K$22=$C$20,$J94,IF($J$22=$C$20,$I94,IF($I$22=$C$20,'Baggrundsdata - BVT - deflator'!$H94,IF($H$22=$C$20,'Baggrundsdata - BVT - deflator'!$G94,IF($C$20=$G$22,'Baggrundsdata - BVT - deflator'!$F94,IF($F$22=$C$20,'Baggrundsdata - BVT - deflator'!$E94,IF($E$22=$C$20,'Baggrundsdata - BVT - deflator'!$D94,IF($D$22=$C$20,'Baggrundsdata - BVT - deflator'!$C94,IF('Baggrundsdata - BVT - deflator'!$C$22='Baggrundsdata - BVT - deflator'!$C$20,'Baggrundsdata - BVT - deflator'!$B94,\"*\"))))))))))),\"*\")","v":0.99535983449091192},{"$f":"IFERROR('Baggrundsdata - BVT - deflator'!J94/IF($M$22=$C$20,$L94,IF($L$22=$C$20,$K94,IF($K$22=$C$20,$J94,IF($J$22=$C$20,$I94,IF($I$22=$C$20,'Baggrundsdata - BVT - deflator'!$H94,IF($H$22=$C$20,'Baggrundsdata - BVT - deflator'!$G94,IF($C$20=$G$22,'Baggrundsdata - BVT - deflator'!$F94,IF($F$22=$C$20,'Baggrundsdata - BVT - deflator'!$E94,IF($E$22=$C$20,'Baggrundsdata - BVT - deflator'!$D94,IF($D$22=$C$20,'Baggrundsdata - BVT - deflator'!$C94,IF('Baggrundsdata - BVT - deflator'!$C$22='Baggrundsdata - BVT - deflator'!$C$20,'Baggrundsdata - BVT - deflator'!$B94,\"*\"))))))))))),\"*\")","v":1},{"$f":"IFERROR('Baggrundsdata - BVT - deflator'!K94/IF($M$22=$C$20,$L94,IF($L$22=$C$20,$K94,IF($K$22=$C$20,$J94,IF($J$22=$C$20,$I94,IF($I$22=$C$20,'Baggrundsdata - BVT - deflator'!$H94,IF($H$22=$C$20,'Baggrundsdata - BVT - deflator'!$G94,IF($C$20=$G$22,'Baggrundsdata - BVT - deflator'!$F94,IF($F$22=$C$20,'Baggrundsdata - BVT - deflator'!$E94,IF($E$22=$C$20,'Baggrundsdata - BVT - deflator'!$D94,IF($D$22=$C$20,'Baggrundsdata - BVT - deflator'!$C94,IF('Baggrundsdata - BVT - deflator'!$C$22='Baggrundsdata - BVT - deflator'!$C$20,'Baggrundsdata - BVT - deflator'!$B94,\"*\"))))))))))),\"*\")","v":1.0046617970188252},{"$f":"IFERROR('Baggrundsdata - BVT - deflator'!L94/IF($M$22=$C$20,$L94,IF($L$22=$C$20,$K94,IF($K$22=$C$20,$J94,IF($J$22=$C$20,$I94,IF($I$22=$C$20,'Baggrundsdata - BVT - deflator'!$H94,IF($H$22=$C$20,'Baggrundsdata - BVT - deflator'!$G94,IF($C$20=$G$22,'Baggrundsdata - BVT - deflator'!$F94,IF($F$22=$C$20,'Baggrundsdata - BVT - deflator'!$E94,IF($E$22=$C$20,'Baggrundsdata - BVT - deflator'!$D94,IF($D$22=$C$20,'Baggrundsdata - BVT - deflator'!$C94,IF('Baggrundsdata - BVT - deflator'!$C$22='Baggrundsdata - BVT - deflator'!$C$20,'Baggrundsdata - BVT - deflator'!$B94,\"*\"))))))))))),\"*\")","v":0},null,{"$f":"IF(A94='Level 1'!A74,\"S\",\"falsk\")","v":"S"}]
[null,"Slovakiet",{"$f":"IFERROR('Baggrundsdata - BVT - deflator'!B95/IF($M$22=$C$20,$L95,IF($L$22=$C$20,$K95,IF($K$22=$C$20,$J95,IF($J$22=$C$20,$I95,IF($I$22=$C$20,'Baggrundsdata - BVT - deflator'!$H95,IF($H$22=$C$20,'Baggrundsdata - BVT - deflator'!$G95,IF($C$20=$G$22,'Baggrundsdata - BVT - deflator'!$F95,IF($F$22=$C$20,'Baggrundsdata - BVT - deflator'!$E95,IF($E$22=$C$20,'Baggrundsdata - BVT - deflator'!$D95,IF($D$22=$C$20,'Baggrundsdata - BVT - deflator'!$C95,IF('Baggrundsdata - BVT - deflator'!$C$22='Baggrundsdata - BVT - deflator'!$C$20,'Baggrundsdata - BVT - deflator'!$B95,\"*\"))))))))))),\"*\")","v":0.84790586590551642},{"$f":"IFERROR('Baggrundsdata - BVT - deflator'!C95/IF($M$22=$C$20,$L95,IF($L$22=$C$20,$K95,IF($K$22=$C$20,$J95,IF($J$22=$C$20,$I95,IF($I$22=$C$20,'Baggrundsdata - BVT - deflator'!$H95,IF($H$22=$C$20,'Baggrundsdata - BVT - deflator'!$G95,IF($C$20=$G$22,'Baggrundsdata - BVT - deflator'!$F95,IF($F$22=$C$20,'Baggrundsdata - BVT - deflator'!$E95,IF($E$22=$C$20,'Baggrundsdata - BVT - deflator'!$D95,IF($D$22=$C$20,'Baggrundsdata - BVT - deflator'!$C95,IF('Baggrundsdata - BVT - deflator'!$C$22='Baggrundsdata - BVT - deflator'!$C$20,'Baggrundsdata - BVT - deflator'!$B95,\"*\"))))))))))),\"*\")","v":0.94208850313586157},{"$f":"IFERROR('Baggrundsdata - BVT - deflator'!D95/IF($M$22=$C$20,$L95,IF($L$22=$C$20,$K95,IF($K$22=$C$20,$J95,IF($J$22=$C$20,$I95,IF($I$22=$C$20,'Baggrundsdata - BVT - deflator'!$H95,IF($H$22=$C$20,'Baggrundsdata - BVT - deflator'!$G95,IF($C$20=$G$22,'Baggrundsdata - BVT - deflator'!$F95,IF($F$22=$C$20,'Baggrundsdata - BVT - deflator'!$E95,IF($E$22=$C$20,'Baggrundsdata - BVT - deflator'!$D95,IF($D$22=$C$20,'Baggrundsdata - BVT - deflator'!$C95,IF('Baggrundsdata - BVT - deflator'!$C$22='Baggrundsdata - BVT - deflator'!$C$20,'Baggrundsdata - BVT - deflator'!$B95,\"*\"))))))))))),\"*\")","v":0.96617541406962981},{"$f":"IFERROR('Baggrundsdata - BVT - deflator'!E95/IF($M$22=$C$20,$L95,IF($L$22=$C$20,$K95,IF($K$22=$C$20,$J95,IF($J$22=$C$20,$I95,IF($I$22=$C$20,'Baggrundsdata - BVT - deflator'!$H95,IF($H$22=$C$20,'Baggrundsdata - BVT - deflator'!$G95,IF($C$20=$G$22,'Baggrundsdata - BVT - deflator'!$F95,IF($F$22=$C$20,'Baggrundsdata - BVT - deflator'!$E95,IF($E$22=$C$20,'Baggrundsdata - BVT - deflator'!$D95,IF($D$22=$C$20,'Baggrundsdata - BVT - deflator'!$C95,IF('Baggrundsdata - BVT - deflator'!$C$22='Baggrundsdata - BVT - deflator'!$C$20,'Baggrundsdata - BVT - deflator'!$B95,\"*\"))))))))))),\"*\")","v":0.9708549348556339},{"$f":"IFERROR('Baggrundsdata - BVT - deflator'!F95/IF($M$22=$C$20,$L95,IF($L$22=$C$20,$K95,IF($K$22=$C$20,$J95,IF($J$22=$C$20,$I95,IF($I$22=$C$20,'Baggrundsdata - BVT - deflator'!$H95,IF($H$22=$C$20,'Baggrundsdata - BVT - deflator'!$G95,IF($C$20=$G$22,'Baggrundsdata - BVT - deflator'!$F95,IF($F$22=$C$20,'Baggrundsdata - BVT - deflator'!$E95,IF($E$22=$C$20,'Baggrundsdata - BVT - deflator'!$D95,IF($D$22=$C$20,'Baggrundsdata - BVT - deflator'!$C95,IF('Baggrundsdata - BVT - deflator'!$C$22='Baggrundsdata - BVT - deflator'!$C$20,'Baggrundsdata - BVT - deflator'!$B95,\"*\"))))))))))),\"*\")","v":0.98756334828449943},{"$f":"IFERROR('Baggrundsdata - BVT - deflator'!G95/IF($M$22=$C$20,$L95,IF($L$22=$C$20,$K95,IF($K$22=$C$20,$J95,IF($J$22=$C$20,$I95,IF($I$22=$C$20,'Baggrundsdata - BVT - deflator'!$H95,IF($H$22=$C$20,'Baggrundsdata - BVT - deflator'!$G95,IF($C$20=$G$22,'Baggrundsdata - BVT - deflator'!$F95,IF($F$22=$C$20,'Baggrundsdata - BVT - deflator'!$E95,IF($E$22=$C$20,'Baggrundsdata - BVT - deflator'!$D95,IF($D$22=$C$20,'Baggrundsdata - BVT - deflator'!$C95,IF('Baggrundsdata - BVT - deflator'!$C$22='Baggrundsdata - BVT - deflator'!$C$20,'Baggrundsdata - BVT - deflator'!$B95,\"*\"))))))))))),\"*\")","v":1.000611638608959},{"$f":"IFERROR('Baggrundsdata - BVT - deflator'!H95/IF($M$22=$C$20,$L95,IF($L$22=$C$20,$K95,IF($K$22=$C$20,$J95,IF($J$22=$C$20,$I95,IF($I$22=$C$20,'Baggrundsdata - BVT - deflator'!$H95,IF($H$22=$C$20,'Baggrundsdata - BVT - deflator'!$G95,IF($C$20=$G$22,'Baggrundsdata - BVT - deflator'!$F95,IF($F$22=$C$20,'Baggrundsdata - BVT - deflator'!$E95,IF($E$22=$C$20,'Baggrundsdata - BVT - deflator'!$D95,IF($D$22=$C$20,'Baggrundsdata - BVT - deflator'!$C95,IF('Baggrundsdata - BVT - deflator'!$C$22='Baggrundsdata - BVT - deflator'!$C$20,'Baggrundsdata - BVT - deflator'!$B95,\"*\"))))))))))),\"*\")","v":1.0059027980039223},{"$f":"IFERROR('Baggrundsdata - BVT - deflator'!I95/IF($M$22=$C$20,$L95,IF($L$22=$C$20,$K95,IF($K$22=$C$20,$J95,IF($J$22=$C$20,$I95,IF($I$22=$C$20,'Baggrundsdata - BVT - deflator'!$H95,IF($H$22=$C$20,'Baggrundsdata - BVT - deflator'!$G95,IF($C$20=$G$22,'Baggrundsdata - BVT - deflator'!$F95,IF($F$22=$C$20,'Baggrundsdata - BVT - deflator'!$E95,IF($E$22=$C$20,'Baggrundsdata - BVT - deflator'!$D95,IF($D$22=$C$20,'Baggrundsdata - BVT - deflator'!$C95,IF('Baggrundsdata - BVT - deflator'!$C$22='Baggrundsdata - BVT - deflator'!$C$20,'Baggrundsdata - BVT - deflator'!$B95,\"*\"))))))))))),\"*\")","v":1.0026407254228074},{"$f":"IFERROR('Baggrundsdata - BVT - deflator'!J95/IF($M$22=$C$20,$L95,IF($L$22=$C$20,$K95,IF($K$22=$C$20,$J95,IF($J$22=$C$20,$I95,IF($I$22=$C$20,'Baggrundsdata - BVT - deflator'!$H95,IF($H$22=$C$20,'Baggrundsdata - BVT - deflator'!$G95,IF($C$20=$G$22,'Baggrundsdata - BVT - deflator'!$F95,IF($F$22=$C$20,'Baggrundsdata - BVT - deflator'!$E95,IF($E$22=$C$20,'Baggrundsdata - BVT - deflator'!$D95,IF($D$22=$C$20,'Baggrundsdata - BVT - deflator'!$C95,IF('Baggrundsdata - BVT - deflator'!$C$22='Baggrundsdata - BVT - deflator'!$C$20,'Baggrundsdata - BVT - deflator'!$B95,\"*\"))))))))))),\"*\")","v":1},{"$f":"IFERROR('Baggrundsdata - BVT - deflator'!K95/IF($M$22=$C$20,$L95,IF($L$22=$C$20,$K95,IF($K$22=$C$20,$J95,IF($J$22=$C$20,$I95,IF($I$22=$C$20,'Baggrundsdata - BVT - deflator'!$H95,IF($H$22=$C$20,'Baggrundsdata - BVT - deflator'!$G95,IF($C$20=$G$22,'Baggrundsdata - BVT - deflator'!$F95,IF($F$22=$C$20,'Baggrundsdata - BVT - deflator'!$E95,IF($E$22=$C$20,'Baggrundsdata - BVT - deflator'!$D95,IF($D$22=$C$20,'Baggrundsdata - BVT - deflator'!$C95,IF('Baggrundsdata - BVT - deflator'!$C$22='Baggrundsdata - BVT - deflator'!$C$20,'Baggrundsdata - BVT - deflator'!$B95,\"*\"))))))))))),\"*\")","v":0.9973662296415361},{"$f":"IFERROR('Baggrundsdata - BVT - deflator'!L95/IF($M$22=$C$20,$L95,IF($L$22=$C$20,$K95,IF($K$22=$C$20,$J95,IF($J$22=$C$20,$I95,IF($I$22=$C$20,'Baggrundsdata - BVT - deflator'!$H95,IF($H$22=$C$20,'Baggrundsdata - BVT - deflator'!$G95,IF($C$20=$G$22,'Baggrundsdata - BVT - deflator'!$F95,IF($F$22=$C$20,'Baggrundsdata - BVT - deflator'!$E95,IF($E$22=$C$20,'Baggrundsdata - BVT - deflator'!$D95,IF($D$22=$C$20,'Baggrundsdata - BVT - deflator'!$C95,IF('Baggrundsdata - BVT - deflator'!$C$22='Baggrundsdata - BVT - deflator'!$C$20,'Baggrundsdata - BVT - deflator'!$B95,\"*\"))))))))))),\"*\")","v":0},null,{"$f":"IF(A95='Level 1'!A75,\"S\",\"falsk\")","v":"S"}]
[null,"Finland",{"$f":"IFERROR('Baggrundsdata - BVT - deflator'!B96/IF($M$22=$C$20,$L96,IF($L$22=$C$20,$K96,IF($K$22=$C$20,$J96,IF($J$22=$C$20,$I96,IF($I$22=$C$20,'Baggrundsdata - BVT - deflator'!$H96,IF($H$22=$C$20,'Baggrundsdata - BVT - deflator'!$G96,IF($C$20=$G$22,'Baggrundsdata - BVT - deflator'!$F96,IF($F$22=$C$20,'Baggrundsdata - BVT - deflator'!$E96,IF($E$22=$C$20,'Baggrundsdata - BVT - deflator'!$D96,IF($D$22=$C$20,'Baggrundsdata - BVT - deflator'!$C96,IF('Baggrundsdata - BVT - deflator'!$C$22='Baggrundsdata - BVT - deflator'!$C$20,'Baggrundsdata - BVT - deflator'!$B96,\"*\"))))))))))),\"*\")","v":0.85983071912619868},{"$f":"IFERROR('Baggrundsdata - BVT - deflator'!C96/IF($M$22=$C$20,$L96,IF($L$22=$C$20,$K96,IF($K$22=$C$20,$J96,IF($J$22=$C$20,$I96,IF($I$22=$C$20,'Baggrundsdata - BVT - deflator'!$H96,IF($H$22=$C$20,'Baggrundsdata - BVT - deflator'!$G96,IF($C$20=$G$22,'Baggrundsdata - BVT - deflator'!$F96,IF($F$22=$C$20,'Baggrundsdata - BVT - deflator'!$E96,IF($E$22=$C$20,'Baggrundsdata - BVT - deflator'!$D96,IF($D$22=$C$20,'Baggrundsdata - BVT - deflator'!$C96,IF('Baggrundsdata - BVT - deflator'!$C$22='Baggrundsdata - BVT - deflator'!$C$20,'Baggrundsdata - BVT - deflator'!$B96,\"*\"))))))))))),\"*\")","v":0.88751803031815002},{"$f":"IFERROR('Baggrundsdata - BVT - deflator'!D96/IF($M$22=$C$20,$L96,IF($L$22=$C$20,$K96,IF($K$22=$C$20,$J96,IF($J$22=$C$20,$I96,IF($I$22=$C$20,'Baggrundsdata - BVT - deflator'!$H96,IF($H$22=$C$20,'Baggrundsdata - BVT - deflator'!$G96,IF($C$20=$G$22,'Baggrundsdata - BVT - deflator'!$F96,IF($F$22=$C$20,'Baggrundsdata - BVT - deflator'!$E96,IF($E$22=$C$20,'Baggrundsdata - BVT - deflator'!$D96,IF($D$22=$C$20,'Baggrundsdata - BVT - deflator'!$C96,IF('Baggrundsdata - BVT - deflator'!$C$22='Baggrundsdata - BVT - deflator'!$C$20,'Baggrundsdata - BVT - deflator'!$B96,\"*\"))))))))))),\"*\")","v":0.90466384229481722},{"$f":"IFERROR('Baggrundsdata - BVT - deflator'!E96/IF($M$22=$C$20,$L96,IF($L$22=$C$20,$K96,IF($K$22=$C$20,$J96,IF($J$22=$C$20,$I96,IF($I$22=$C$20,'Baggrundsdata - BVT - deflator'!$H96,IF($H$22=$C$20,'Baggrundsdata - BVT - deflator'!$G96,IF($C$20=$G$22,'Baggrundsdata - BVT - deflator'!$F96,IF($F$22=$C$20,'Baggrundsdata - BVT - deflator'!$E96,IF($E$22=$C$20,'Baggrundsdata - BVT - deflator'!$D96,IF($D$22=$C$20,'Baggrundsdata - BVT - deflator'!$C96,IF('Baggrundsdata - BVT - deflator'!$C$22='Baggrundsdata - BVT - deflator'!$C$20,'Baggrundsdata - BVT - deflator'!$B96,\"*\"))))))))))),\"*\")","v":0.90718581887127947},{"$f":"IFERROR('Baggrundsdata - BVT - deflator'!F96/IF($M$22=$C$20,$L96,IF($L$22=$C$20,$K96,IF($K$22=$C$20,$J96,IF($J$22=$C$20,$I96,IF($I$22=$C$20,'Baggrundsdata - BVT - deflator'!$H96,IF($H$22=$C$20,'Baggrundsdata - BVT - deflator'!$G96,IF($C$20=$G$22,'Baggrundsdata - BVT - deflator'!$F96,IF($F$22=$C$20,'Baggrundsdata - BVT - deflator'!$E96,IF($E$22=$C$20,'Baggrundsdata - BVT - deflator'!$D96,IF($D$22=$C$20,'Baggrundsdata - BVT - deflator'!$C96,IF('Baggrundsdata - BVT - deflator'!$C$22='Baggrundsdata - BVT - deflator'!$C$20,'Baggrundsdata - BVT - deflator'!$B96,\"*\"))))))))))),\"*\")","v":0.92694432600629584},{"$f":"IFERROR('Baggrundsdata - BVT - deflator'!G96/IF($M$22=$C$20,$L96,IF($L$22=$C$20,$K96,IF($K$22=$C$20,$J96,IF($J$22=$C$20,$I96,IF($I$22=$C$20,'Baggrundsdata - BVT - deflator'!$H96,IF($H$22=$C$20,'Baggrundsdata - BVT - deflator'!$G96,IF($C$20=$G$22,'Baggrundsdata - BVT - deflator'!$F96,IF($F$22=$C$20,'Baggrundsdata - BVT - deflator'!$E96,IF($E$22=$C$20,'Baggrundsdata - BVT - deflator'!$D96,IF($D$22=$C$20,'Baggrundsdata - BVT - deflator'!$C96,IF('Baggrundsdata - BVT - deflator'!$C$22='Baggrundsdata - BVT - deflator'!$C$20,'Baggrundsdata - BVT - deflator'!$B96,\"*\"))))))))))),\"*\")","v":0.95616478123213988},{"$f":"IFERROR('Baggrundsdata - BVT - deflator'!H96/IF($M$22=$C$20,$L96,IF($L$22=$C$20,$K96,IF($K$22=$C$20,$J96,IF($J$22=$C$20,$I96,IF($I$22=$C$20,'Baggrundsdata - BVT - deflator'!$H96,IF($H$22=$C$20,'Baggrundsdata - BVT - deflator'!$G96,IF($C$20=$G$22,'Baggrundsdata - BVT - deflator'!$F96,IF($F$22=$C$20,'Baggrundsdata - BVT - deflator'!$E96,IF($E$22=$C$20,'Baggrundsdata - BVT - deflator'!$D96,IF($D$22=$C$20,'Baggrundsdata - BVT - deflator'!$C96,IF('Baggrundsdata - BVT - deflator'!$C$22='Baggrundsdata - BVT - deflator'!$C$20,'Baggrundsdata - BVT - deflator'!$B96,\"*\"))))))))))),\"*\")","v":0.97920730103147025},{"$f":"IFERROR('Baggrundsdata - BVT - deflator'!I96/IF($M$22=$C$20,$L96,IF($L$22=$C$20,$K96,IF($K$22=$C$20,$J96,IF($J$22=$C$20,$I96,IF($I$22=$C$20,'Baggrundsdata - BVT - deflator'!$H96,IF($H$22=$C$20,'Baggrundsdata - BVT - deflator'!$G96,IF($C$20=$G$22,'Baggrundsdata - BVT - deflator'!$F96,IF($F$22=$C$20,'Baggrundsdata - BVT - deflator'!$E96,IF($E$22=$C$20,'Baggrundsdata - BVT - deflator'!$D96,IF($D$22=$C$20,'Baggrundsdata - BVT - deflator'!$C96,IF('Baggrundsdata - BVT - deflator'!$C$22='Baggrundsdata - BVT - deflator'!$C$20,'Baggrundsdata - BVT - deflator'!$B96,\"*\"))))))))))),\"*\")","v":0.99656176574647792},{"$f":"IFERROR('Baggrundsdata - BVT - deflator'!J96/IF($M$22=$C$20,$L96,IF($L$22=$C$20,$K96,IF($K$22=$C$20,$J96,IF($J$22=$C$20,$I96,IF($I$22=$C$20,'Baggrundsdata - BVT - deflator'!$H96,IF($H$22=$C$20,'Baggrundsdata - BVT - deflator'!$G96,IF($C$20=$G$22,'Baggrundsdata - BVT - deflator'!$F96,IF($F$22=$C$20,'Baggrundsdata - BVT - deflator'!$E96,IF($E$22=$C$20,'Baggrundsdata - BVT - deflator'!$D96,IF($D$22=$C$20,'Baggrundsdata - BVT - deflator'!$C96,IF('Baggrundsdata - BVT - deflator'!$C$22='Baggrundsdata - BVT - deflator'!$C$20,'Baggrundsdata - BVT - deflator'!$B96,\"*\"))))))))))),\"*\")","v":1},{"$f":"IFERROR('Baggrundsdata - BVT - deflator'!K96/IF($M$22=$C$20,$L96,IF($L$22=$C$20,$K96,IF($K$22=$C$20,$J96,IF($J$22=$C$20,$I96,IF($I$22=$C$20,'Baggrundsdata - BVT - deflator'!$H96,IF($H$22=$C$20,'Baggrundsdata - BVT - deflator'!$G96,IF($C$20=$G$22,'Baggrundsdata - BVT - deflator'!$F96,IF($F$22=$C$20,'Baggrundsdata - BVT - deflator'!$E96,IF($E$22=$C$20,'Baggrundsdata - BVT - deflator'!$D96,IF($D$22=$C$20,'Baggrundsdata - BVT - deflator'!$C96,IF('Baggrundsdata - BVT - deflator'!$C$22='Baggrundsdata - BVT - deflator'!$C$20,'Baggrundsdata - BVT - deflator'!$B96,\"*\"))))))))))),\"*\")","v":1.0034500964934638},{"$f":"IFERROR('Baggrundsdata - BVT - deflator'!L96/IF($M$22=$C$20,$L96,IF($L$22=$C$20,$K96,IF($K$22=$C$20,$J96,IF($J$22=$C$20,$I96,IF($I$22=$C$20,'Baggrundsdata - BVT - deflator'!$H96,IF($H$22=$C$20,'Baggrundsdata - BVT - deflator'!$G96,IF($C$20=$G$22,'Baggrundsdata - BVT - deflator'!$F96,IF($F$22=$C$20,'Baggrundsdata - BVT - deflator'!$E96,IF($E$22=$C$20,'Baggrundsdata - BVT - deflator'!$D96,IF($D$22=$C$20,'Baggrundsdata - BVT - deflator'!$C96,IF('Baggrundsdata - BVT - deflator'!$C$22='Baggrundsdata - BVT - deflator'!$C$20,'Baggrundsdata - BVT - deflator'!$B96,\"*\"))))))))))),\"*\")","v":0},null,{"$f":"IF(A96='Level 1'!A76,\"S\",\"falsk\")","v":"S"}]
[null,"Sverige",{"$f":"IFERROR('Baggrundsdata - BVT - deflator'!B97/IF($M$22=$C$20,$L97,IF($L$22=$C$20,$K97,IF($K$22=$C$20,$J97,IF($J$22=$C$20,$I97,IF($I$22=$C$20,'Baggrundsdata - BVT - deflator'!$H97,IF($H$22=$C$20,'Baggrundsdata - BVT - deflator'!$G97,IF($C$20=$G$22,'Baggrundsdata - BVT - deflator'!$F97,IF($F$22=$C$20,'Baggrundsdata - BVT - deflator'!$E97,IF($E$22=$C$20,'Baggrundsdata - BVT - deflator'!$D97,IF($D$22=$C$20,'Baggrundsdata - BVT - deflator'!$C97,IF('Baggrundsdata - BVT - deflator'!$C$22='Baggrundsdata - BVT - deflator'!$C$20,'Baggrundsdata - BVT - deflator'!$B97,\"*\"))))))))))),\"*\")","v":0.88288839383536621},{"$f":"IFERROR('Baggrundsdata - BVT - deflator'!C97/IF($M$22=$C$20,$L97,IF($L$22=$C$20,$K97,IF($K$22=$C$20,$J97,IF($J$22=$C$20,$I97,IF($I$22=$C$20,'Baggrundsdata - BVT - deflator'!$H97,IF($H$22=$C$20,'Baggrundsdata - BVT - deflator'!$G97,IF($C$20=$G$22,'Baggrundsdata - BVT - deflator'!$F97,IF($F$22=$C$20,'Baggrundsdata - BVT - deflator'!$E97,IF($E$22=$C$20,'Baggrundsdata - BVT - deflator'!$D97,IF($D$22=$C$20,'Baggrundsdata - BVT - deflator'!$C97,IF('Baggrundsdata - BVT - deflator'!$C$22='Baggrundsdata - BVT - deflator'!$C$20,'Baggrundsdata - BVT - deflator'!$B97,\"*\"))))))))))),\"*\")","v":0.87655211452779203},{"$f":"IFERROR('Baggrundsdata - BVT - deflator'!D97/IF($M$22=$C$20,$L97,IF($L$22=$C$20,$K97,IF($K$22=$C$20,$J97,IF($J$22=$C$20,$I97,IF($I$22=$C$20,'Baggrundsdata - BVT - deflator'!$H97,IF($H$22=$C$20,'Baggrundsdata - BVT - deflator'!$G97,IF($C$20=$G$22,'Baggrundsdata - BVT - deflator'!$F97,IF($F$22=$C$20,'Baggrundsdata - BVT - deflator'!$E97,IF($E$22=$C$20,'Baggrundsdata - BVT - deflator'!$D97,IF($D$22=$C$20,'Baggrundsdata - BVT - deflator'!$C97,IF('Baggrundsdata - BVT - deflator'!$C$22='Baggrundsdata - BVT - deflator'!$C$20,'Baggrundsdata - BVT - deflator'!$B97,\"*\"))))))))))),\"*\")","v":0.81284237820465988},{"$f":"IFERROR('Baggrundsdata - BVT - deflator'!E97/IF($M$22=$C$20,$L97,IF($L$22=$C$20,$K97,IF($K$22=$C$20,$J97,IF($J$22=$C$20,$I97,IF($I$22=$C$20,'Baggrundsdata - BVT - deflator'!$H97,IF($H$22=$C$20,'Baggrundsdata - BVT - deflator'!$G97,IF($C$20=$G$22,'Baggrundsdata - BVT - deflator'!$F97,IF($F$22=$C$20,'Baggrundsdata - BVT - deflator'!$E97,IF($E$22=$C$20,'Baggrundsdata - BVT - deflator'!$D97,IF($D$22=$C$20,'Baggrundsdata - BVT - deflator'!$C97,IF('Baggrundsdata - BVT - deflator'!$C$22='Baggrundsdata - BVT - deflator'!$C$20,'Baggrundsdata - BVT - deflator'!$B97,\"*\"))))))))))),\"*\")","v":0.91300854575998824},{"$f":"IFERROR('Baggrundsdata - BVT - deflator'!F97/IF($M$22=$C$20,$L97,IF($L$22=$C$20,$K97,IF($K$22=$C$20,$J97,IF($J$22=$C$20,$I97,IF($I$22=$C$20,'Baggrundsdata - BVT - deflator'!$H97,IF($H$22=$C$20,'Baggrundsdata - BVT - deflator'!$G97,IF($C$20=$G$22,'Baggrundsdata - BVT - deflator'!$F97,IF($F$22=$C$20,'Baggrundsdata - BVT - deflator'!$E97,IF($E$22=$C$20,'Baggrundsdata - BVT - deflator'!$D97,IF($D$22=$C$20,'Baggrundsdata - BVT - deflator'!$C97,IF('Baggrundsdata - BVT - deflator'!$C$22='Baggrundsdata - BVT - deflator'!$C$20,'Baggrundsdata - BVT - deflator'!$B97,\"*\"))))))))))),\"*\")","v":0.97551311080271708},{"$f":"IFERROR('Baggrundsdata - BVT - deflator'!G97/IF($M$22=$C$20,$L97,IF($L$22=$C$20,$K97,IF($K$22=$C$20,$J97,IF($J$22=$C$20,$I97,IF($I$22=$C$20,'Baggrundsdata - BVT - deflator'!$H97,IF($H$22=$C$20,'Baggrundsdata - BVT - deflator'!$G97,IF($C$20=$G$22,'Baggrundsdata - BVT - deflator'!$F97,IF($F$22=$C$20,'Baggrundsdata - BVT - deflator'!$E97,IF($E$22=$C$20,'Baggrundsdata - BVT - deflator'!$D97,IF($D$22=$C$20,'Baggrundsdata - BVT - deflator'!$C97,IF('Baggrundsdata - BVT - deflator'!$C$22='Baggrundsdata - BVT - deflator'!$C$20,'Baggrundsdata - BVT - deflator'!$B97,\"*\"))))))))))),\"*\")","v":1.0230260755240668},{"$f":"IFERROR('Baggrundsdata - BVT - deflator'!H97/IF($M$22=$C$20,$L97,IF($L$22=$C$20,$K97,IF($K$22=$C$20,$J97,IF($J$22=$C$20,$I97,IF($I$22=$C$20,'Baggrundsdata - BVT - deflator'!$H97,IF($H$22=$C$20,'Baggrundsdata - BVT - deflator'!$G97,IF($C$20=$G$22,'Baggrundsdata - BVT - deflator'!$F97,IF($F$22=$C$20,'Baggrundsdata - BVT - deflator'!$E97,IF($E$22=$C$20,'Baggrundsdata - BVT - deflator'!$D97,IF($D$22=$C$20,'Baggrundsdata - BVT - deflator'!$C97,IF('Baggrundsdata - BVT - deflator'!$C$22='Baggrundsdata - BVT - deflator'!$C$20,'Baggrundsdata - BVT - deflator'!$B97,\"*\"))))))))))),\"*\")","v":1.0404188883207945},{"$f":"IFERROR('Baggrundsdata - BVT - deflator'!I97/IF($M$22=$C$20,$L97,IF($L$22=$C$20,$K97,IF($K$22=$C$20,$J97,IF($J$22=$C$20,$I97,IF($I$22=$C$20,'Baggrundsdata - BVT - deflator'!$H97,IF($H$22=$C$20,'Baggrundsdata - BVT - deflator'!$G97,IF($C$20=$G$22,'Baggrundsdata - BVT - deflator'!$F97,IF($F$22=$C$20,'Baggrundsdata - BVT - deflator'!$E97,IF($E$22=$C$20,'Baggrundsdata - BVT - deflator'!$D97,IF($D$22=$C$20,'Baggrundsdata - BVT - deflator'!$C97,IF('Baggrundsdata - BVT - deflator'!$C$22='Baggrundsdata - BVT - deflator'!$C$20,'Baggrundsdata - BVT - deflator'!$B97,\"*\"))))))))))),\"*\")","v":1.0073497187933678},{"$f":"IFERROR('Baggrundsdata - BVT - deflator'!J97/IF($M$22=$C$20,$L97,IF($L$22=$C$20,$K97,IF($K$22=$C$20,$J97,IF($J$22=$C$20,$I97,IF($I$22=$C$20,'Baggrundsdata - BVT - deflator'!$H97,IF($H$22=$C$20,'Baggrundsdata - BVT - deflator'!$G97,IF($C$20=$G$22,'Baggrundsdata - BVT - deflator'!$F97,IF($F$22=$C$20,'Baggrundsdata - BVT - deflator'!$E97,IF($E$22=$C$20,'Baggrundsdata - BVT - deflator'!$D97,IF($D$22=$C$20,'Baggrundsdata - BVT - deflator'!$C97,IF('Baggrundsdata - BVT - deflator'!$C$22='Baggrundsdata - BVT - deflator'!$C$20,'Baggrundsdata - BVT - deflator'!$B97,\"*\"))))))))))),\"*\")","v":1},{"$f":"IFERROR('Baggrundsdata - BVT - deflator'!K97/IF($M$22=$C$20,$L97,IF($L$22=$C$20,$K97,IF($K$22=$C$20,$J97,IF($J$22=$C$20,$I97,IF($I$22=$C$20,'Baggrundsdata - BVT - deflator'!$H97,IF($H$22=$C$20,'Baggrundsdata - BVT - deflator'!$G97,IF($C$20=$G$22,'Baggrundsdata - BVT - deflator'!$F97,IF($F$22=$C$20,'Baggrundsdata - BVT - deflator'!$E97,IF($E$22=$C$20,'Baggrundsdata - BVT - deflator'!$D97,IF($D$22=$C$20,'Baggrundsdata - BVT - deflator'!$C97,IF('Baggrundsdata - BVT - deflator'!$C$22='Baggrundsdata - BVT - deflator'!$C$20,'Baggrundsdata - BVT - deflator'!$B97,\"*\"))))))))))),\"*\")","v":0.99270390544986542},{"$f":"IFERROR('Baggrundsdata - BVT - deflator'!L97/IF($M$22=$C$20,$L97,IF($L$22=$C$20,$K97,IF($K$22=$C$20,$J97,IF($J$22=$C$20,$I97,IF($I$22=$C$20,'Baggrundsdata - BVT - deflator'!$H97,IF($H$22=$C$20,'Baggrundsdata - BVT - deflator'!$G97,IF($C$20=$G$22,'Baggrundsdata - BVT - deflator'!$F97,IF($F$22=$C$20,'Baggrundsdata - BVT - deflator'!$E97,IF($E$22=$C$20,'Baggrundsdata - BVT - deflator'!$D97,IF($D$22=$C$20,'Baggrundsdata - BVT - deflator'!$C97,IF('Baggrundsdata - BVT - deflator'!$C$22='Baggrundsdata - BVT - deflator'!$C$20,'Baggrundsdata - BVT - deflator'!$B97,\"*\"))))))))))),\"*\")","v":0},null,{"$f":"IF(A97='Level 1'!A77,\"S\",\"falsk\")","v":"S"}]
[null,"UK",{"$f":"IFERROR('Baggrundsdata - BVT - deflator'!B98/IF($M$22=$C$20,$L98,IF($L$22=$C$20,$K98,IF($K$22=$C$20,$J98,IF($J$22=$C$20,$I98,IF($I$22=$C$20,'Baggrundsdata - BVT - deflator'!$H98,IF($H$22=$C$20,'Baggrundsdata - BVT - deflator'!$G98,IF($C$20=$G$22,'Baggrundsdata - BVT - deflator'!$F98,IF($F$22=$C$20,'Baggrundsdata - BVT - deflator'!$E98,IF($E$22=$C$20,'Baggrundsdata - BVT - deflator'!$D98,IF($D$22=$C$20,'Baggrundsdata - BVT - deflator'!$C98,IF('Baggrundsdata - BVT - deflator'!$C$22='Baggrundsdata - BVT - deflator'!$C$20,'Baggrundsdata - BVT - deflator'!$B98,\"*\"))))))))))),\"*\")","v":0.91184659671862955},{"$f":"IFERROR('Baggrundsdata - BVT - deflator'!C98/IF($M$22=$C$20,$L98,IF($L$22=$C$20,$K98,IF($K$22=$C$20,$J98,IF($J$22=$C$20,$I98,IF($I$22=$C$20,'Baggrundsdata - BVT - deflator'!$H98,IF($H$22=$C$20,'Baggrundsdata - BVT - deflator'!$G98,IF($C$20=$G$22,'Baggrundsdata - BVT - deflator'!$F98,IF($F$22=$C$20,'Baggrundsdata - BVT - deflator'!$E98,IF($E$22=$C$20,'Baggrundsdata - BVT - deflator'!$D98,IF($D$22=$C$20,'Baggrundsdata - BVT - deflator'!$C98,IF('Baggrundsdata - BVT - deflator'!$C$22='Baggrundsdata - BVT - deflator'!$C$20,'Baggrundsdata - BVT - deflator'!$B98,\"*\"))))))))))),\"*\")","v":0.80810432429881551},{"$f":"IFERROR('Baggrundsdata - BVT - deflator'!D98/IF($M$22=$C$20,$L98,IF($L$22=$C$20,$K98,IF($K$22=$C$20,$J98,IF($J$22=$C$20,$I98,IF($I$22=$C$20,'Baggrundsdata - BVT - deflator'!$H98,IF($H$22=$C$20,'Baggrundsdata - BVT - deflator'!$G98,IF($C$20=$G$22,'Baggrundsdata - BVT - deflator'!$F98,IF($F$22=$C$20,'Baggrundsdata - BVT - deflator'!$E98,IF($E$22=$C$20,'Baggrundsdata - BVT - deflator'!$D98,IF($D$22=$C$20,'Baggrundsdata - BVT - deflator'!$C98,IF('Baggrundsdata - BVT - deflator'!$C$22='Baggrundsdata - BVT - deflator'!$C$20,'Baggrundsdata - BVT - deflator'!$B98,\"*\"))))))))))),\"*\")","v":0.74333422472511057},{"$f":"IFERROR('Baggrundsdata - BVT - deflator'!E98/IF($M$22=$C$20,$L98,IF($L$22=$C$20,$K98,IF($K$22=$C$20,$J98,IF($J$22=$C$20,$I98,IF($I$22=$C$20,'Baggrundsdata - BVT - deflator'!$H98,IF($H$22=$C$20,'Baggrundsdata - BVT - deflator'!$G98,IF($C$20=$G$22,'Baggrundsdata - BVT - deflator'!$F98,IF($F$22=$C$20,'Baggrundsdata - BVT - deflator'!$E98,IF($E$22=$C$20,'Baggrundsdata - BVT - deflator'!$D98,IF($D$22=$C$20,'Baggrundsdata - BVT - deflator'!$C98,IF('Baggrundsdata - BVT - deflator'!$C$22='Baggrundsdata - BVT - deflator'!$C$20,'Baggrundsdata - BVT - deflator'!$B98,\"*\"))))))))))),\"*\")","v":0.7865221563291438},{"$f":"IFERROR('Baggrundsdata - BVT - deflator'!F98/IF($M$22=$C$20,$L98,IF($L$22=$C$20,$K98,IF($K$22=$C$20,$J98,IF($J$22=$C$20,$I98,IF($I$22=$C$20,'Baggrundsdata - BVT - deflator'!$H98,IF($H$22=$C$20,'Baggrundsdata - BVT - deflator'!$G98,IF($C$20=$G$22,'Baggrundsdata - BVT - deflator'!$F98,IF($F$22=$C$20,'Baggrundsdata - BVT - deflator'!$E98,IF($E$22=$C$20,'Baggrundsdata - BVT - deflator'!$D98,IF($D$22=$C$20,'Baggrundsdata - BVT - deflator'!$C98,IF('Baggrundsdata - BVT - deflator'!$C$22='Baggrundsdata - BVT - deflator'!$C$20,'Baggrundsdata - BVT - deflator'!$B98,\"*\"))))))))))),\"*\")","v":0.78815812241430838},{"$f":"IFERROR('Baggrundsdata - BVT - deflator'!G98/IF($M$22=$C$20,$L98,IF($L$22=$C$20,$K98,IF($K$22=$C$20,$J98,IF($J$22=$C$20,$I98,IF($I$22=$C$20,'Baggrundsdata - BVT - deflator'!$H98,IF($H$22=$C$20,'Baggrundsdata - BVT - deflator'!$G98,IF($C$20=$G$22,'Baggrundsdata - BVT - deflator'!$F98,IF($F$22=$C$20,'Baggrundsdata - BVT - deflator'!$E98,IF($E$22=$C$20,'Baggrundsdata - BVT - deflator'!$D98,IF($D$22=$C$20,'Baggrundsdata - BVT - deflator'!$C98,IF('Baggrundsdata - BVT - deflator'!$C$22='Baggrundsdata - BVT - deflator'!$C$20,'Baggrundsdata - BVT - deflator'!$B98,\"*\"))))))))))),\"*\")","v":0.85967658208931752},{"$f":"IFERROR('Baggrundsdata - BVT - deflator'!H98/IF($M$22=$C$20,$L98,IF($L$22=$C$20,$K98,IF($K$22=$C$20,$J98,IF($J$22=$C$20,$I98,IF($I$22=$C$20,'Baggrundsdata - BVT - deflator'!$H98,IF($H$22=$C$20,'Baggrundsdata - BVT - deflator'!$G98,IF($C$20=$G$22,'Baggrundsdata - BVT - deflator'!$F98,IF($F$22=$C$20,'Baggrundsdata - BVT - deflator'!$E98,IF($E$22=$C$20,'Baggrundsdata - BVT - deflator'!$D98,IF($D$22=$C$20,'Baggrundsdata - BVT - deflator'!$C98,IF('Baggrundsdata - BVT - deflator'!$C$22='Baggrundsdata - BVT - deflator'!$C$20,'Baggrundsdata - BVT - deflator'!$B98,\"*\"))))))))))),\"*\")","v":0.83619103050132926},{"$f":"IFERROR('Baggrundsdata - BVT - deflator'!I98/IF($M$22=$C$20,$L98,IF($L$22=$C$20,$K98,IF($K$22=$C$20,$J98,IF($J$22=$C$20,$I98,IF($I$22=$C$20,'Baggrundsdata - BVT - deflator'!$H98,IF($H$22=$C$20,'Baggrundsdata - BVT - deflator'!$G98,IF($C$20=$G$22,'Baggrundsdata - BVT - deflator'!$F98,IF($F$22=$C$20,'Baggrundsdata - BVT - deflator'!$E98,IF($E$22=$C$20,'Baggrundsdata - BVT - deflator'!$D98,IF($D$22=$C$20,'Baggrundsdata - BVT - deflator'!$C98,IF('Baggrundsdata - BVT - deflator'!$C$22='Baggrundsdata - BVT - deflator'!$C$20,'Baggrundsdata - BVT - deflator'!$B98,\"*\"))))))))))),\"*\")","v":0.89765773701845175},{"$f":"IFERROR('Baggrundsdata - BVT - deflator'!J98/IF($M$22=$C$20,$L98,IF($L$22=$C$20,$K98,IF($K$22=$C$20,$J98,IF($J$22=$C$20,$I98,IF($I$22=$C$20,'Baggrundsdata - BVT - deflator'!$H98,IF($H$22=$C$20,'Baggrundsdata - BVT - deflator'!$G98,IF($C$20=$G$22,'Baggrundsdata - BVT - deflator'!$F98,IF($F$22=$C$20,'Baggrundsdata - BVT - deflator'!$E98,IF($E$22=$C$20,'Baggrundsdata - BVT - deflator'!$D98,IF($D$22=$C$20,'Baggrundsdata - BVT - deflator'!$C98,IF('Baggrundsdata - BVT - deflator'!$C$22='Baggrundsdata - BVT - deflator'!$C$20,'Baggrundsdata - BVT - deflator'!$B98,\"*\"))))))))))),\"*\")","v":1},{"$f":"IFERROR('Baggrundsdata - BVT - deflator'!K98/IF($M$22=$C$20,$L98,IF($L$22=$C$20,$K98,IF($K$22=$C$20,$J98,IF($J$22=$C$20,$I98,IF($I$22=$C$20,'Baggrundsdata - BVT - deflator'!$H98,IF($H$22=$C$20,'Baggrundsdata - BVT - deflator'!$G98,IF($C$20=$G$22,'Baggrundsdata - BVT - deflator'!$F98,IF($F$22=$C$20,'Baggrundsdata - BVT - deflator'!$E98,IF($E$22=$C$20,'Baggrundsdata - BVT - deflator'!$D98,IF($D$22=$C$20,'Baggrundsdata - BVT - deflator'!$C98,IF('Baggrundsdata - BVT - deflator'!$C$22='Baggrundsdata - BVT - deflator'!$C$20,'Baggrundsdata - BVT - deflator'!$B98,\"*\"))))))))))),\"*\")","v":1.114010339087006},{"$f":"IFERROR('Baggrundsdata - BVT - deflator'!L98/IF($M$22=$C$20,$L98,IF($L$22=$C$20,$K98,IF($K$22=$C$20,$J98,IF($J$22=$C$20,$I98,IF($I$22=$C$20,'Baggrundsdata - BVT - deflator'!$H98,IF($H$22=$C$20,'Baggrundsdata - BVT - deflator'!$G98,IF($C$20=$G$22,'Baggrundsdata - BVT - deflator'!$F98,IF($F$22=$C$20,'Baggrundsdata - BVT - deflator'!$E98,IF($E$22=$C$20,'Baggrundsdata - BVT - deflator'!$D98,IF($D$22=$C$20,'Baggrundsdata - BVT - deflator'!$C98,IF('Baggrundsdata - BVT - deflator'!$C$22='Baggrundsdata - BVT - deflator'!$C$20,'Baggrundsdata - BVT - deflator'!$B98,\"*\"))))))))))),\"*\")","v":0},null,{"$f":"IF(A98='Level 1'!A78,\"S\",\"falsk\")","v":"S"}]
[null,"Kilde: Eurostat"]
[null,"Bemærk: Deflatoren er hentet for  alle erhvervs samlet i de enkelte lande. * hvis manglende baggrundsdata"]
[]
[null,"Bemærk: Hvis der i valgmenuen vælges løbende priser, skal der ikke deflateres. Det medfører at alle felter i deflatoren vil vise \"*\"."]
[null,"Når løbende priser vælges, gives for valg af basisår muligheden: ","*"]
[]
[]
[]
[]
["Baggrundsdata til BVT deflator: Eurostat, nama_10_a10"]
["Opdateret",{"$f":"B64","v":"2016-05-23T11:03:21.932"}]
["Gross value added and income by A*10 industry breakdowns [nama_10_a10]"]
[]
["Last update","2016-05-18T02:02:17"]
["Extracted on","2016-05-23T11:03:21.932"]
["Source of data","Eurostat"]
[]
["UNIT","Price index (implicit deflator), 2010=100, euro"]
["NACE_R2","Total - All NACE activities"]
["NA_ITEM","Value added, gross"]
[]
["GEO/TIME",2007,2008,2009,2010,2011,2012,2013,2014,2015,2016,2017,null,{"$f":"\"Vækstrate \"&I71&\" til \"&J71&\"\"","v":"Vækstrate 2014 til 2015"}]
["European Union (28 countries)",98.87,99.197000000000003,98.231999999999999,100,100.96,103.271,103.828,105.458,108.443,{"$f":"J72*(1+N72)","v":111.51249074513076},null,null,{"$f":"J72/I72-1","v":2.8305107246486827E-2}]
["Belgium",95.646000000000001,97.242999999999995,98.135000000000005,100,101.83199999999999,103.818,105.245,105.96599999999999,106.884,{"$f":"J73*(1+N73)","v":107.80995277730595},null,null,{"$f":"J73/I73-1","v":8.6631561066758955E-3}]
["Bulgaria",88.153000000000006,94.456999999999994,98.930999999999997,100,107.414,108.831,107.959,109.09699999999999,109.26300000000001,109.42925258256415,null,null,1.5215817116878139E-3]
["Czech Republic",88.903000000000006,100.303,97.573999999999998,100,102.34699999999999,100.97,98.734999999999999,95.635000000000005,97.242000000000004,98.876003178752555,null,null,1.6803471532388814E-2]
["Denmark",91.9,96.17,96.766000000000005,100,100.536,103.517,105.06399999999999,106.071,107.404,108.75375188317258,null,null,1.256705414297965E-2]
["Germany (until 1990 former territory of the FRG)",96.445999999999998,97.138999999999996,99.114000000000004,100,100.98699999999999,102.419,104.66200000000001,106.617,108.98699999999999,111.40968296800698,null,null,2.2229100424885351E-2]
["Estonia",94.218999999999994,100.548,99.03,100,105.328,108.128,112.587,115.099,116.762,118.44902774133573,null,null,1.4448431350402746E-2]
["Ireland",109.884,107.10899999999999,101.19799999999999,100,104.871,105.504,107.541,106.562,112.8,119.40316435502336,null,null,5.85386910906327E-2]
["Greece",93.516000000000005,97.593000000000004,100.33499999999999,100,100.131,99.418000000000006,96.638000000000005,94.397999999999996,93.135999999999996,91.890871586262421,null,null,-1.3368927307781941E-2]
["Spain",96.245000000000005,100.13,101.648,100,99.954999999999998,99.710999999999999,99.62,98.966999999999999,99.233999999999995,99.501720331019428,null,null,2.697868986631935E-3]
["France",96.462999999999994,98.754000000000005,99.034000000000006,100,100.57,101.447,102.11199999999999,102.38800000000001,103.65300000000001,104.93362902879244,null,null,1.2354963472281932E-2]
["Croatia",90.870999999999995,97.576999999999998,98.620999999999995,100,99.843000000000004,100.065,99.528999999999996,98.546999999999997,98.587999999999994,98.629017057850561,null,null,4.1604513582349512E-4]
["Italy",95.47,98.097999999999999,100.217,100,101.28400000000001,102.251,103.541,104.029,104.902,105.782326120601,null,null,8.3918907227793493E-3]
["Latvia",104.577,116.175,101.744,100,106.64100000000001,112.279,113.407,114.431,115.19,115.95403430888481,null,null,6.6328180300792017E-3]
["Lithuania",91.912999999999997,100.8,97.972999999999999,100,105.29,108.61799999999999,110.126,111.133,110.887,110.64154453672627,null,null,-2.2135639279061703E-3]
["Luxembourg",91.453000000000003,94.893000000000001,96.802999999999997,100,104.471,108.715,111.43600000000001,112.46299999999999,115.794,119.22365965695384,null,null,2.9618630127241863E-2]
["Hungary",99.596999999999994,104.277,96.504999999999995,100,100.99,99.944000000000003,100.117,99.147999999999996,99.936000000000007,100.73026279904792,null,null,7.9477145277768724E-3]
["Netherlands",96.569000000000003,98.771000000000001,99.198999999999998,100,100.07599999999999,101.59,102.286,103.018,103.541,104.06665515735114,null,null,5.0767826981692465E-3]
["Austria",95.453000000000003,97.036000000000001,99.081000000000003,100,101.595,103.568,105.136,106.89100000000001,108.536,110.20631574220467,null,null,1.5389508939012586E-2]
["Poland",95.194000000000003,106.34699999999999,90.995000000000005,100,99.947000000000003,101.50700000000001,101.64,102.38800000000001,103.059,103.73439740008594,null,null,6.5535023635581169E-3]
["Portugal",95.933000000000007,97.811000000000007,100.021,100,98.549000000000007,97.290999999999997,99.644000000000005,100.31399999999999,102.053,103.82214654983353,null,null,1.7335566321749818E-2]
["Romania",98.602000000000004,103.711,94.623999999999995,100,102.84,102.54,106.82899999999999,108.595,111.277,114.02523807725954,null,null,2.4697269671716038E-2]
["Slovenia",94.245999999999995,98.77,101.498,100,101.32,100.895,100.819,101.03400000000001,101.505,101.97819570639585,null,null,4.6617970188251867E-3]
["Slovakia",87.335999999999999,97.037000000000006,99.518000000000001,100,101.721,103.065,103.61,103.274,103.002,102.73071638553749,null,null,-2.6337703584639049E-3]
["Finland",94.78,97.831999999999994,99.721999999999994,100,102.178,105.399,107.93899999999999,109.852,110.23099999999999,110.611307586571,null,null,3.450096493463839E-3]
["Sweden",96.700999999999993,96.007000000000005,89.028999999999996,100,106.846,112.05,113.955,110.333,109.52800000000001,108.72887335611287,null,null,-7.2960945501345797E-3]
["United Kingdom",115.934,102.744,94.509,100,100.208,109.301,106.315,114.13,127.142,141.6375025322001,null,null,0.11401033908700597]
[]
["Special value:"]
[":","not available"]

{"sheet":"Level 1","index":5,"n_rows":271,"n_cols":77,"rows_kept":271,"cut":false,"hidden":false,"merged":[[2,0,2,11],[2,65,2,76],[2,52,2,63],[2,39,2,50],[2,26,2,37],[2,13,2,24]]}
["Gaspriser, industri. Level 1 gaspriser for forskellige forbrugsintervaller"]
[]
["Forbrugsinterval < 1000 GJ",null,null,null,null,null,null,null,null,null,null,null,null,"Forbrugsinterval  1 000 GJ <  10 000 GJ",null,null,null,null,null,null,null,null,null,null,null,null,"Forbrugsinterval  10 000 GJ <  100 000 GJ",null,null,null,null,null,null,null,null,null,null,null,null,"Forbrugsinterval  100 000 GJ < 1 000 000 GJ",null,null,null,null,null,null,null,null,null,null,null,null,"Forbrugsinterval 1 000 000 GJ < 4 000 000 GJ",null,null,null,null,null,null,null,null,null,null,null,null,"Forbrugsinterval > 4 000 000 GJ"]
[]
["EURO/GJ",{"$f":"+LEFT(B51,4)+0","v":2007},{"$f":"B5+1","v":2008},{"$f":"+C5+1","v":2009},2010,2011,2012,2013,{"$f":"+H5+1","v":2014},{"$f":"+I5+1","v":2015},{"$f":"+J5+1","v":2016},{"$f":"+K5+1","v":2017},null,"EURO/GJ",{"$f":"LEFT(B89,4)+0","v":2007},{"$f":"+O5+1","v":2008},{"$f":"+P5+1","v":2009},{"$f":"+Q5+1","v":2010},{"$f":"+R5+1","v":2011},{"$f":"+S5+1","v":2012},{"$f":"+T5+1","v":2013},{"$f":"+U5+1","v":2014},{"$f":"+V5+1","v":2015},{"$f":"+W5+1","v":2016},{"$f":"+X5+1","v":2017},null,"EURO/GJ",{"$f":"LEFT(B127,4)+0","v":2007},{"$f":"+AB5+1","v":2008},{"$f":"+AC5+1","v":2009},{"$f":"+AD5+1","v":2010},{"$f":"+AE5+1","v":2011},{"$f":"+AF5+1","v":2012},{"$f":"+AG5+1","v":2013},{"$f":"+AH5+1","v":2014},{"$f":"+AI5+1","v":2015},{"$f":"+AJ5+1","v":2016},{"$f":"+AK5+1","v":2017},null,"EURO/GJ",{"$f":"LEFT(B165,4)+0","v":2007},{"$f":"+AO5+1","v":2008},{"$f":"+AP5+1","v":2009},{"$f":"+AQ5+1","v":2010},{"$f":"+AR5+1","v":2011},{"$f":"+AS5+1","v":2012},{"$f":"+AT5+1","v":2013},{"$f":"+AU5+1","v":2014},{"$f":"+AV5+1","v":2015},{"$f":"+AW5+1","v":2016},{"$f":"+AX5+1","v":2017},null,"EURO/GJ",{"$f":"LEFT(B203,4)+0","v":2007},{"$f":"+BB5+1","v":2008},{"$f":"+BC5+1","v":2009},{"$f":"+BD5+1","v":2010},{"$f":"+BE5+1","v":2011},{"$f":"+BF5+1","v":2012},{"$f":"+BG5+1","v":2013},{"$f":"+BH5+1","v":2014},{"$f":"+BI5+1","v":2015},{"$f":"+BJ5+1","v":2016},{"$f":"+BK5+1","v":2017},null,"EURO/GJ",{"$f":"LEFT(B241,4)+0","v":2007},{"$f":"+BO5+1","v":2008},{"$f":"+BP5+1","v":2009},{"$f":"+BQ5+1","v":2010},{"$f":"+BR5+1","v":2011},{"$f":"+BS5+1","v":2012},{"$f":"+BT5+1","v":2013},{"$f":"+BU5+1","v":2014},{"$f":"+BV5+1","v":2015},{"$f":"+BW5+1","v":2016},{"$f":"+BX5+1","v":2017}]
[{"$f":"A52","v":"European Union (28 countries)"},{"$f":"IFERROR(AVERAGE(B52,C52),\"*\")","v":10.28},{"$f":"IFERROR(AVERAGE(D52,E52),\"*\")","v":11.664999999999999},{"$f":"IFERROR(AVERAGE(F52,G52),\"*\")","v":11.280000000000001},{"$f":"IFERROR(AVERAGE(H52,I52),\"*\")","v":10.925000000000001},{"$f":"IFERROR(AVERAGE(J52,K52),\"*\")","v":11.84},{"$f":"IFERROR(AVERAGE(L52,M52),\"*\")","v":13.48},{"$f":"IFERROR(AVERAGE(N52,O52),\"*\")","v":13.815},{"$f":"IFERROR(AVERAGE(P52,Q52),\"*\")","v":13.355},{"$f":"IFERROR(AVERAGE(R52,S52),\"*\")","v":12.895},{"$f":"IFERROR(AVERAGE(T52,U52),\"*\")","v":11.48},{"$f":"IFERROR(AVERAGE(V52,W52),\"*\")","v":"*"},null,{"$f":"A90","v":"European Union (28 countries)"},{"$f":"IFERROR(AVERAGE(B90,C90),\"*\")","v":9.19},{"$f":"IFERROR(AVERAGE(D90,E90),\"*\")","v":10.695},{"$f":"IFERROR(AVERAGE(F90,G90),\"*\")","v":9.93},{"$f":"IFERROR(AVERAGE(H90,I90),\"*\")","v":9.6700000000000017},{"$f":"IFERROR(AVERAGE(J90,K90),\"*\")","v":10.59},{"$f":"IFERROR(AVERAGE(L90,M90),\"*\")","v":11.545},{"$f":"IFERROR(AVERAGE(N90,O90),\"*\")","v":12.305},{"$f":"IFERROR(AVERAGE(P90,Q90),\"*\")","v":11.605},{"$f":"IFERROR(AVERAGE(R90,S90),\"*\")","v":10.655000000000001},{"$f":"IFERROR(AVERAGE(T90,U90),\"*\")","v":9.1},{"$f":"IFERROR(AVERAGE(V90,W90),\"*\")","v":"*"},null,{"$f":"A128","v":"European Union (28 countries)"},{"$f":"IFERROR(AVERAGE(B128,C128),\"*\")","v":8.0399999999999991},{"$f":"IFERROR(AVERAGE(D128,E128),\"*\")","v":9.620000000000001},{"$f":"IFERROR(AVERAGE(F128,G128),\"*\")","v":8.5299999999999994},{"$f":"IFERROR(AVERAGE(H128,I128),\"*\")","v":8.1750000000000007},{"$f":"IFERROR(AVERAGE(J128,K128),\"*\")","v":8.9050000000000011},{"$f":"IFERROR(AVERAGE(L128,M128),\"*\")","v":9.7250000000000014},{"$f":"IFERROR(AVERAGE(N128,O128),\"*\")","v":10.495000000000001},{"$f":"IFERROR(AVERAGE(P128,Q128),\"*\")","v":9.75},{"$f":"IFERROR(AVERAGE(R128,S128),\"*\")","v":8.9699999999999989},{"$f":"IFERROR(AVERAGE(T128,U128),\"*\")","v":7.67},{"$f":"IFERROR(AVERAGE(V128,W128),\"*\")","v":"*"},null,{"$f":"A166","v":"European Union (28 countries)"},{"$f":"IFERROR(AVERAGE(B166,C166),\"*\")","v":6.97},{"$f":"IFERROR(AVERAGE(D166,E166),\"*\")","v":8.5649999999999995},{"$f":"IFERROR(AVERAGE(F166,G166),\"*\")","v":7.4700000000000006},{"$f":"IFERROR(AVERAGE(H166,I166),\"*\")","v":7.165},{"$f":"IFERROR(AVERAGE(J166,K166),\"*\")","v":7.86},{"$f":"IFERROR(AVERAGE(L166,M166),\"*\")","v":8.67},{"$f":"IFERROR(AVERAGE(N166,O166),\"*\")","v":8.9},{"$f":"IFERROR(AVERAGE(P166,Q166),\"*\")","v":8.254999999999999},{"$f":"IFERROR(AVERAGE(R166,S166),\"*\")","v":7.58},{"$f":"IFERROR(AVERAGE(T166,U166),\"*\")","v":6.25},{"$f":"IFERROR(AVERAGE(V166,W166),\"*\")","v":"*"},null,{"$f":"A204","v":"European Union (28 countries)"},{"$f":"IFERROR(AVERAGE(B204,C204),\"*\")","v":6.24},{"$f":"IFERROR(AVERAGE(D204,E204),\"*\")","v":8.004999999999999},{"$f":"IFERROR(AVERAGE(F204,G204),\"*\")","v":6.6400000000000006},{"$f":"IFERROR(AVERAGE(H204,I204),\"*\")","v":6.57},{"$f":"IFERROR(AVERAGE(J204,K204),\"*\")","v":7.46},{"$f":"IFERROR(AVERAGE(L204,M204),\"*\")","v":8.25},{"$f":"IFERROR(AVERAGE(N204,O204),\"*\")","v":8.17},{"$f":"IFERROR(AVERAGE(P204,Q204),\"*\")","v":7.6},{"$f":"IFERROR(AVERAGE(R204,S204),\"*\")","v":6.8550000000000004},{"$f":"IFERROR(AVERAGE(T204,U204),\"*\")","v":5.38},{"$f":"IFERROR(AVERAGE(V204,W204),\"*\")","v":"*"},null,{"$f":"A242","v":"European Union (28 countries)"},{"$f":"IFERROR(AVERAGE(B242,C242),\"*\")","v":"*"},{"$f":"IFERROR(AVERAGE(D242,E242),\"*\")","v":"*"},{"$f":"IFERROR(AVERAGE(F242,G242),\"*\")","v":"*"},{"$f":"IFERROR(AVERAGE(H242,I242),\"*\")","v":"*"},{"$f":"IFERROR(AVERAGE(J242,K242),\"*\")","v":"*"},{"$f":"IFERROR(AVERAGE(L242,M242),\"*\")","v":"*"},{"$f":"IFERROR(AVERAGE(N242,O242),\"*\")","v":"*"},{"$f":"IFERROR(AVERAGE(P242,Q242),\"*\")","v":"*"},{"$f":"IFERROR(AVERAGE(R242,S242),\"*\")","v":"*"},{"$f":"IFERROR(AVERAGE(T242,U242),\"*\")","v":"*"},{"$f":"IFERROR(AVERAGE(V242,W242),\"*\")","v":"*"}]
["Belgium",10.76,14.245000000000001,11.58,11.9,13.904999999999999,14.645,14.07,13.33,12.239999999999998,10.82,"*",null,"Belgium",9.5,11.629999999999999,10.185,10.07,11.565,11.004999999999999,12.030000000000001,9.9,9.379999999999999,8.5299999999999994,"*",null,"Belgium",7.7,9.73,8.4,7.64,8.7600000000000016,9.2650000000000006,9.93,8.0399999999999991,7.5,6.63,"*",null,"Belgium",7.11,8.8849999999999998,7.8849999999999998,6.4749999999999996,7.32,7.7449999999999992,8.120000000000001,7.24,6.7449999999999992,5.66,"*",null,"Belgium",7.12,8.81,6.45,6.22,7.11,7.6050000000000004,7.5449999999999999,6.85,5.6850000000000005,4.51,"*",null,"Belgium","*","*","*","*","*","*",7.71,5.9749999999999996,4.9399999999999995,3.73,"*"]
["Bulgaria",5.5220000000000002,7.1531000000000002,8.1398499999999991,8.3242000000000012,9.5535999999999994,11.519600000000001,10.8498,10.486750000000001,9.2340499999999999,7.3525,"*",null,"Bulgaria",5.2816999999999998,6.9843499999999992,7.9660500000000001,8.1021999999999998,9.0780999999999992,11.105399999999999,10.318049999999999,9.9856499999999997,8.5182500000000001,6.6928999999999998,"*",null,"Bulgaria",5.0159000000000002,6.5727500000000001,7.3498999999999999,7.5375500000000004,8.4108999999999998,10.54045,9.8066999999999993,9.3491,7.9174499999999997,6.0845000000000002,"*",null,"Bulgaria",4.5709999999999997,6.1432500000000001,6.6852499999999999,6.8103999999999996,7.7512999999999996,9.7224000000000004,8.9247000000000014,8.4722499999999989,6.9255500000000003,5.0925000000000002,"*",null,"Bulgaria",4.4993999999999996,6.0103000000000009,6.5343999999999998,6.59415,7.50075,9.4616000000000007,8.6639999999999997,8.2702500000000008,6.6546000000000003,4.8369,"*",null,"Bulgaria","*",6.56,8.0990000000000002,"*","*","*","*","*","*","*","*"]
["Czech Republic",8.0114000000000001,10.918749999999999,11.120850000000001,10.928599999999999,12.630700000000001,13.451599999999999,12.1991,10.821449999999999,10.986599999999999,10.2729,"*",null,"Czech Republic",7.3497000000000003,10.03275,9.0466499999999996,9.2974499999999995,10.6991,10.65325,9.7615999999999996,9.3283500000000004,8.7325499999999998,7.6120999999999999,"*",null,"Czech Republic",6.8169000000000004,9.5712499999999991,8.1054999999999993,8.9760500000000008,8.7998499999999993,9.0113999999999983,8.94435,8.3005500000000012,7.8915499999999996,6.9718999999999998,"*",null,"Czech Republic",6.3746,8.8863500000000002,7.2446000000000002,7.8572500000000005,8.2849000000000004,8.5025499999999994,8.2142999999999997,7.7576999999999998,7.1161000000000003,6.0080999999999998,"*",null,"Czech Republic",6.1482000000000001,8.6941500000000005,6.9434500000000003,7.6378000000000004,7.4011999999999993,8.1565499999999993,7.9538000000000002,7.4297000000000004,6.6949000000000005,6.0762,"*",null,"Czech Republic","*","*","*","*","*","*","*","*","*","*","*"]
["Denmark",11.443999999999999,13.825900000000001,11.224599999999999,12.920249999999999,13.816800000000001,12.069599999999999,10.8422,9.8576000000000015,9.1278000000000006,7.7248999999999999,"*",null,"Denmark",10.84135,13.0983,10.288550000000001,11.895050000000001,12.745750000000001,11.1386,10.063800000000001,9.4947499999999998,8.4212500000000006,7.0846,"*",null,"Denmark",6.1101999999999999,7.3821000000000003,5.7348499999999998,7.1417999999999999,8.7286999999999999,8.8543000000000003,9.379999999999999,7.4445999999999994,7.3298500000000004,5.4188000000000001,"*",null,"Denmark",5.7652999999999999,6.9656000000000002,5.4112,6.7705000000000002,8.3549000000000007,8.504999999999999,8.9945000000000004,7.2332999999999998,7.0034000000000001,5.1101000000000001,"*",null,"Denmark",5.2888000000000002,6.3895499999999998,4.9640000000000004,6.2931499999999998,7.8542500000000004,8.0488999999999997,8.6518999999999995,7.0240499999999999,6.6635,4.7786,"*",null,"Denmark","*","*","*","*","*","*","*","*","*","*","*"]
["Germany (until 1990 former territory of the FRG)",11.82,13.620000000000001,11.21,11.185,12.14,13.06,13.32,12.600000000000001,12.129999999999999,11.45,"*",null,"Germany (until 1990 former territory of the FRG)",10.54,12.984999999999999,10.725000000000001,10.73,11.285,10.780000000000001,13.324999999999999,12.14,10.75,8.75,"*",null,"Germany (until 1990 former territory of the FRG)",9.86,11.984999999999999,9.6750000000000007,9.23,9.8949999999999996,9.41,12.17,10.69,9.6050000000000004,8.3000000000000007,"*",null,"Germany (until 1990 former territory of the FRG)",7.76,9.75,8.43,8.1,8.7149999999999999,8.5250000000000004,9.32,8.2200000000000006,7.4249999999999998,6.25,"*",null,"Germany (until 1990 former territory of the FRG)",6.27,8.39,7.0950000000000006,7.1950000000000003,8.0150000000000006,7.9350000000000005,8.0749999999999993,7.2949999999999999,6.5949999999999998,5.04,"*",null,"Germany (until 1990 former territory of the FRG)","*","*","*",7.32,7.6449999999999996,7.48,7.8449999999999998,6.8049999999999997,6.1449999999999996,4.62,"*"]
["Estonia",5.8367000000000004,8.6969999999999992,7.7344499999999998,7.9076500000000003,8.6950000000000003,10.945,10.555,10.435,9.23,8.91,"*",null,"Estonia",5.3765999999999998,8.3482000000000003,7.1708499999999997,7.5074000000000005,8.1750000000000007,10.285,10.219999999999999,10.17,8.4749999999999996,8.25,"*",null,"Estonia",5.0358999999999998,7.6713000000000005,6.5354999999999999,7.3558000000000003,7.7850000000000001,9.66,9.629999999999999,9.629999999999999,8.2249999999999996,7.59,"*",null,"Estonia",4.8170999999999999,6.9602500000000003,6.2604499999999996,7.1449499999999997,7.6050000000000004,9.43,9.379999999999999,9.4250000000000007,7.7149999999999999,7.59,"*",null,"Estonia",4.7103000000000002,6.7484999999999999,6.2136499999999995,6.8689,7.29,9.3150000000000013,9.3650000000000002,9.41,7.6899999999999995,7.26,"*",null,"Estonia","*","*","*","*","*","*","*","*","*","*","*"]
["Ireland",12.57,13.795,13.61,10.510000000000002,10.934999999999999,12.635,13.91,14.275,13.945,13.17,"*",null,"Ireland",10.83,11.79,10.02,8.9649999999999999,10.205,10.91,11.865,11.29,10.47,9.8800000000000008,"*",null,"Ireland",9.7200000000000006,11.02,8.3049999999999997,7.875,9.9699999999999989,10.27,11.48,10.5,9.6950000000000003,8.02,"*",null,"Ireland",6.91,8.56,7.57,6.38,7.3849999999999998,8.5350000000000001,9.52,8.59,7.9550000000000001,6.4,"*",null,"Ireland","*","*","*","*","*",6.96,"*","*","*","*","*",null,"Ireland","*","*","*","*","*","*","*","*","*","*","*"]
["Greece","*","*","*","*","*",14.41,13.379999999999999,12.45,9.25,7.5,"*",null,"Greece","*","*","*","*","*",15.27,13.559999999999999,12.559999999999999,9.5950000000000006,7.55,"*",null,"Greece","*","*","*","*","*",14.53,12.904999999999999,11.745000000000001,9.1750000000000007,6.64,"*",null,"Greece","*","*","*","*","*",13.22,11.565000000000001,10.445,8.14,5.41,"*",null,"Greece","*","*","*","*","*",11.53,9.86,8.7850000000000001,"*","*","*",null,"Greece","*","*","*","*","*","*","*","*","*","*","*"]
["Spain",8.8439999999999994,9.8805000000000014,12.33765,11.2004,11.21,13.440000000000001,14.29,14.42,13.945,11.86,"*",null,"Spain",7.3090000000000002,8.86,9.3788499999999999,9.4839500000000001,11.164999999999999,13.185,12.895,12.504999999999999,11.370000000000001,9.93,"*",null,"Spain",7.0739999999999998,8.3375000000000004,8.1151499999999999,7.8933499999999999,8.9600000000000009,10.58,10.484999999999999,10.234999999999999,9.11,7.66,"*",null,"Spain",6.6970000000000001,7.7884999999999991,6.9930000000000003,6.89785,8.0350000000000001,9.5300000000000011,9.39,9.3449999999999989,8.31,6.64,"*",null,"Spain",5.5350000000000001,7.1124999999999998,6.4089500000000008,6.4565000000000001,7.4550000000000001,8.754999999999999,8.93,8.8449999999999989,7.7099999999999991,5.67,"*",null,"Spain",5.4770000000000003,6.8979999999999997,5.8391500000000001,5.6050500000000003,"*","*",8.879999999999999,8.629999999999999,7.37,5.43,"*"]
["France",11.45,11.669,11.925000000000001,12.155000000000001,13.67,16.09,16.594999999999999,15.475,14.1,11.59,"*",null,"France",9.6199999999999992,10.628,10.280000000000001,10.46,11.94,13.425000000000001,13.48,12.92,11.324999999999999,9.64,"*",null,"France",8.34,9.8330000000000002,9.129999999999999,9.1649999999999991,10.02,10.69,10.734999999999999,10.18,9.4250000000000007,7.92,"*",null,"France",7.31,8.6875,7.73,7.4,7.5299999999999994,8.2949999999999999,8.7899999999999991,8.3350000000000009,7.7850000000000001,5.98,"*",null,"France",6.84,8.5084999999999997,6.8849999999999998,6.3449999999999998,7.72,8.504999999999999,8.2100000000000009,7.57,6.7750000000000004,4.6100000000000003,"*",null,"France","*","*","*","*","*","*","*","*","*","*","*"]
["Croatia",6.3603000000000005,6.2559500000000003,7.3775999999999993,10.198,11.6256,13.0928,13.167449999999999,12.4924,12.074449999999999,11.1259,"*",null,"Croatia",6.3603000000000005,6.2559500000000003,7.3775999999999993,10.198,11.6256,13.06545,12.821100000000001,11.8239,11.041650000000001,10.1286,"*",null,"Croatia",6.3603000000000005,6.2559500000000003,7.3775999999999993,10.198,11.6256,12.338200000000001,12.173999999999999,11.2102,10.152850000000001,8.9765999999999995,"*",null,"Croatia","*",6.4118000000000004,7.3775999999999993,10.198,11.6256,11.7319,10.7803,9.5478000000000005,8.8616499999999991,7.1395,"*",null,"Croatia","*","*","*","*","*","*",7.5782999999999996,"*","*","*","*",null,"Croatia","*","*","*","*","*","*","*","*","*","*","*"]
["Italy",9.7439999999999998,11.137499999999999,11.676,10.6995,12.244999999999999,14.370000000000001,14.879999999999999,13.969999999999999,13.605,12.22,"*",null,"Italy",9.5990000000000002,11.045500000000001,10.862,9.3849999999999998,10.620000000000001,12.61,12.8,11.67,11.129999999999999,10.23,"*",null,"Italy",8.0370000000000008,9.7979999999999983,8.9049999999999994,7.8550000000000004,8.6000000000000014,10.469999999999999,10.149999999999999,9.2899999999999991,8.7349999999999994,8,"*",null,"Italy",7.2520000000000007,9.2459999999999987,7.9194999999999993,7.165,7.91,9.5599999999999987,9.09,8.2749999999999986,7.7249999999999996,6.8,"*",null,"Italy",7.0155000000000003,9.141,7.7230000000000008,7.15,7.8500000000000005,9.66,8.9600000000000009,7.98,7.3599999999999994,6.47,"*",null,"Italy",6.6434999999999995,8.9050000000000011,7.3680000000000003,7.0500000000000007,7.8550000000000004,9.33,8.4699999999999989,7.7550000000000008,7.21,6.22,"*"]
["Latvia",7.2751000000000001,10.51835,11.45485,9.1494499999999999,9.8760499999999993,11.7676,11.135349999999999,10.695,10.125,8.84,"*",null,"Latvia",8.1041000000000007,10.1431,10.2575,8.6769499999999997,9.2814499999999995,11.10045,10.71485,10.175000000000001,9.2800000000000011,7.9,"*",null,"Latvia",7.7039,9.4482999999999997,9.27285,7.9926500000000003,8.4531500000000008,10.26145,9.8807000000000009,9.3650000000000002,8.43,6.96,"*",null,"Latvia",7.4036999999999997,9.1859000000000002,8.6067999999999998,7.5623500000000003,8.1842500000000005,9.8097500000000011,9.4172499999999992,8.84,7.99,6.45,"*",null,"Latvia",7.2179000000000002,8.4461499999999994,7.8842499999999998,7.0614500000000007,7.3769,9.3866499999999995,9.0038,8.1750000000000007,7.53,6.21,"*",null,"Latvia","*","*","*",7.8680000000000003,"*","*","*","*","*","*","*"]
["Lithuania",7.0952999999999999,10.908100000000001,9.0095999999999989,9.5655999999999999,11.092449999999999,15.487449999999999,13.173400000000001,12.595549999999999,10.195,10.01,"*",null,"Lithuania",6.7893999999999997,10.744299999999999,8.70275,9.3416999999999994,11.15185,12.549200000000001,11.900500000000001,11.6297,8.2650000000000006,8.41,"*",null,"Lithuania",6.7598000000000003,10.464549999999999,8.1417999999999999,9.1557999999999993,10.8477,12.637550000000001,11.78895,10.95055,6.92,7.45,"*",null,"Lithuania",5.8836000000000004,9.3757999999999999,6.7881,8.3453499999999998,10.433599999999998,12.489850000000001,11.67895,9.6529999999999987,5.3849999999999998,5.88,"*",null,"Lithuania",5.2984999999999998,7.2647000000000004,5.3487,7.1329000000000002,"*","*","*","*","*","*","*",null,"Lithuania","*",8.6956000000000007,5.7557999999999998,7.1329000000000002,"*","*","*","*","*","*","*"]
["Luxembourg",9.74,12.11,12.71,10.99,13.524999999999999,14.855,15.295,13.46,12.16,10.83,"*",null,"Luxembourg",8.69,10.71,11.395,12.34,13.07,14.404999999999999,15.184999999999999,13.219999999999999,11.984999999999999,10.95,"*",null,"Luxembourg",8.5399999999999991,10.815,10.52,10.855,12.6,14.025,13.195,11.25,10.335000000000001,9.49,"*",null,"Luxembourg","*",6.3849999999999998,7.13,7.22,9.7750000000000004,10.56,10.585000000000001,8.8150000000000013,8.4450000000000003,7.11,"*",null,"Luxembourg","*","*","*","*","*","*","*","*","*","*","*",null,"Luxembourg","*","*","*","*","*","*","*","*","*","*","*"]
["Hungary",9.6426999999999996,12.60045,11.232700000000001,11.501249999999999,12.766400000000001,12.117100000000001,11.59835,10.652750000000001,10.277149999999999,9.0492000000000008,"*",null,"Hungary",8.9082000000000008,11.67225,10.83235,10.939450000000001,12.04495,14.4404,14.7638,11.48185,10.51735,8.1168999999999993,"*",null,"Hungary",8.3506,10.399850000000001,9.8864999999999998,8.7962999999999987,10.07625,11.97175,11.902650000000001,10.527899999999999,9.3063000000000002,8.3145000000000007,"*",null,"Hungary",6.8994999999999997,8.702,8.4857499999999995,8.2865500000000001,10.1297,11.4695,10.82985,8.1942500000000003,7.4713500000000002,7.0148000000000001,"*",null,"Hungary",7.0789999999999997,8.5129000000000001,8.1549499999999995,7.9314999999999998,8.7908000000000008,10.424700000000001,10.0609,8.8898499999999991,7.48245,6.0805999999999996,"*",null,"Hungary",6.6989000000000001,8.423350000000001,7.8977000000000004,7.7423999999999999,9.0577000000000005,10.84085,10.214549999999999,9.3161500000000004,7.5737000000000005,6.0505000000000004,"*"]
["Netherlands",11.695,12.08,12.09,10.495000000000001,10.984999999999999,12.36,12.24,11.914999999999999,11.215,10.15,"*",null,"Netherlands",10.9,10.809999999999999,11.370000000000001,9.5749999999999993,10.025,10.445,10.524999999999999,10.559999999999999,9.8449999999999989,8.57,"*",null,"Netherlands",8.5500000000000007,8.6499999999999986,8.7149999999999999,7.3250000000000002,7.7449999999999992,8.3149999999999995,8.41,8.0949999999999989,7.32,6.29,"*",null,"Netherlands",7.3900000000000006,8.1849999999999987,7.8149999999999995,6.59,7.08,7.7750000000000004,8.2100000000000009,7.3149999999999995,6.9050000000000002,5.67,"*",null,"Netherlands",6.79,7.8949999999999996,6.8900000000000006,5.8949999999999996,6.5299999999999994,7.0049999999999999,7.58,7.1550000000000002,6.7850000000000001,5.47,"*",null,"Netherlands",6.1680000000000001,"*","*","*","*","*","*","*","*","*","*"]
["Austria",10.63,"*",12.625,12.515000000000001,13.434999999999999,13.97,13.92,13.91,13.16,12.75,"*",null,"Austria",10.44,"*",10.795,10.75,11.195,11.795,11.414999999999999,11.245000000000001,10.43,9.8000000000000007,"*",null,"Austria","*","*",8.4499999999999993,8.995000000000001,9.2200000000000006,9.7650000000000006,9.64,9.35,8.34,7.79,"*",null,"Austria","*","*",6.8049999999999997,6.9050000000000002,7.9749999999999996,8.4849999999999994,8.26,7.62,7.1349999999999998,7.15,"*",null,"Austria","*","*",6.9649999999999999,6.93,8.120000000000001,8.75,7.54,7.4450000000000003,6.5449999999999999,7.23,"*",null,"Austria","*","*","*","*","*","*","*","*","*","*","*"]
["Poland",9.2208000000000006,10.95965,9.7278500000000001,10.4534,11.23495,12.019600000000001,11.407250000000001,11.4785,11.76005,9.9250000000000007,"*",null,"Poland",8.4124999999999996,9.9429499999999997,9.0214499999999997,9.7184500000000007,10.1206,11.0426,11.541,11.4908,11.29735,9.2887000000000004,"*",null,"Poland",7.2149999999999999,8.8467000000000002,8.0457999999999998,8.7105999999999995,8.9663000000000004,9.8826000000000001,10.06845,10.129,9.7348499999999998,7.3636999999999997,"*",null,"Poland",6.2805,7.8581500000000002,7.0110000000000001,7.6540999999999997,7.7990499999999994,8.8922999999999988,8.9619499999999999,8.9327499999999986,8.4495500000000003,6.2214999999999998,"*",null,"Poland",5.7945000000000002,7.1673499999999999,6.2641,6.8905500000000002,7.1448999999999998,8.2904,8.2660499999999999,8.2283499999999989,6.9966999999999997,4.8113999999999999,"*",null,"Poland","*","*",6.1177999999999999,"*","*","*","*","*","*","*","*"]
["Portugal",12.7432,14.182,14.009599999999999,13.302,15.39,16.885000000000002,18.63,19.740000000000002,19.420000000000002,17.75,"*",null,"Portugal",10.783799999999999,11.079000000000001,10.44365,10.266999999999999,12.475,14.31,15.25,15.945,15.350000000000001,11.76,"*",null,"Portugal",8.1989000000000001,8.9514999999999993,8.5169500000000014,8.4474999999999998,9.9700000000000006,11.365,11.45,11.885000000000002,10.905000000000001,9.24,"*",null,"Portugal",5.843,6.9175000000000004,6.7393999999999998,7.6269999999999998,8.6550000000000011,10.039999999999999,10.02,10.23,9.3849999999999998,7.62,"*",null,"Portugal",5.4539999999999997,6.6615000000000002,7.5124500000000003,7.2390000000000008,8.0399999999999991,9.66,9.41,9.745000000000001,8.7750000000000004,7.36,"*",null,"Portugal","*","*","*","*","*","*","*","*","*","*","*"]
["Romania",6.2816000000000001,6.0217000000000001,4.4308499999999995,4.0651999999999999,4.5729000000000006,5.6256000000000004,6.4905999999999997,6.6410499999999999,6.6234999999999999,6.4664999999999999,"*",null,"Romania",6.2656000000000001,6.03085,4.3855500000000003,4.0239500000000001,4.5166500000000003,5.5596999999999994,6.3234500000000002,6.5251000000000001,6.3613999999999997,6.0060000000000002,"*",null,"Romania",6.4764999999999997,6.2953000000000001,4.2860500000000004,4.0888,4.5304000000000002,5.3420000000000005,5.75535,5.8965499999999995,5.6944499999999998,5.3943000000000003,"*",null,"Romania",6.2618,6.0828499999999996,4.0384000000000002,3.9568000000000003,4.6485000000000003,5.6592500000000001,5.306,5.71035,5.3930000000000007,5.0805999999999996,"*",null,"Romania",5.8632999999999997,5.8628499999999999,3.80715,3.7761,4.8759999999999994,5.6056500000000007,5.0917499999999993,5.367,4.8566000000000003,4.5156000000000001,"*",null,"Romania",4.5711000000000004,4.6246,3.0508499999999996,3.1905999999999999,4.1804500000000004,4.1939000000000002,3.9242499999999998,4.5337499999999995,4.1804500000000004,4.202,"*"]
["Slovenia",11.29,13.82,13.93,13.393899999999999,15.255000000000001,16.994999999999997,14.864999999999998,13.33,12.725,11.91,"*",null,"Slovenia",10.45,13.285,13.190000000000001,12.137,15.11,16.079999999999998,13.574999999999999,13.8,12.475,11.53,"*",null,"Slovenia",8.0500000000000007,10.6,10.085000000000001,10.72565,12.175000000000001,14.43,12.190000000000001,10.664999999999999,9,8.18,"*",null,"Slovenia",6.79,9.625,6.77,9.5616500000000002,"*",11.91,9.9550000000000001,8.6199999999999992,7.92,6.77,"*",null,"Slovenia","*","*","*","*","*","*","*","*","*","*","*",null,"Slovenia","*","*","*","*","*","*","*","*","*","*","*"]
["Slovakia",9.6829000000000001,12.191600000000001,12.615,11.568999999999999,13.024999999999999,14.33,13.684999999999999,13.675000000000001,12.67,12.17,"*",null,"Slovakia",8.1518999999999995,11.29055,11.0915,10.224,11.57,12.6,11.41,11.36,10.68,9.64,"*",null,"Slovakia",7.9428999999999998,11.107700000000001,9.923,9.2940000000000005,10.11,10.85,10.130000000000001,9.995000000000001,9.2749999999999986,8.11,"*",null,"Slovakia",7.3624000000000001,10.246400000000001,8.94,7.9540000000000006,8.3650000000000002,8.7149999999999999,9.4149999999999991,9.1550000000000011,8.5949999999999989,7.45,"*",null,"Slovakia",7.0468000000000002,9.7272499999999997,8.4145000000000003,7.4284999999999997,7.2249999999999996,8.8249999999999993,8.1950000000000003,8.0849999999999991,8.0599999999999987,7.7,"*",null,"Slovakia","*","*","*","*","*","*","*","*","*","*","*"]
["Finland","*","*","*","*","*","*","*","*","*","*","*",null,"Finland","*","*","*","*","*",14.04,12.385,11.195,9.86,8.49,"*",null,"Finland",6.0749999999999993,8.1000000000000014,7.7,8.25,9.93,10.920000000000002,10.370000000000001,10.085000000000001,8.2050000000000001,7.15,"*",null,"Finland",5.8949999999999996,7.7,7.5,7.9649999999999999,9.9450000000000003,10.6,10.315000000000001,9.3849999999999998,7.6150000000000002,6.81,"*",null,"Finland",5.46,7.05,6.9499999999999993,7.2450000000000001,8.870000000000001,9.9899999999999984,9.44,8.9049999999999994,7.3550000000000004,6.77,"*",null,"Finland","*","*","*","*","*","*","*","*","*","*","*"]
["Sweden",13.7064,16.263349999999999,13.3537,15.192399999999999,16.11225,18.0213,18.309100000000001,15.985250000000001,16.5274,14.4521,"*",null,"Sweden",12.23615,14.39255,12.01505,12.859100000000002,14.1915,14.8904,15.16765,13.0413,12.774799999999999,11.055199999999999,"*",null,"Sweden",10.58005,12.703800000000001,9.8106000000000009,10.992699999999999,12.392299999999999,12.42975,12.7193,10.638,9.5998999999999999,7.9259000000000004,"*",null,"Sweden",8.8297500000000007,10.8947,8.2453000000000003,10.004899999999999,11.120650000000001,11.0002,10.793800000000001,9.091899999999999,8.6773000000000007,7.0197000000000003,"*",null,"Sweden",8.5685000000000002,11.6365,8.1192999999999991,9.261099999999999,10.112649999999999,10.68735,10.57705,8.922699999999999,8.359,6.9939,"*",null,"Sweden","*","*","*","*","*","*","*","*","*","*","*"]
["United Kingdom",10.939900000000002,11.0905,10.76085,10.0586,10.69885,13.617850000000001,13.589749999999999,15.153700000000001,16.151800000000001,13.833,"*",null,"United Kingdom",9.3786500000000004,8.8771000000000004,7.6789000000000005,7.3692000000000002,8.0314999999999994,9.9225500000000011,10.262650000000001,10.761800000000001,10.54485,8.6054999999999993,"*",null,"United Kingdom",7.5538499999999997,7.7640000000000002,6.70275,5.9610000000000003,6.8963999999999999,8.78355,9.4498499999999996,9.5306999999999995,9.3527000000000005,7.6421999999999999,"*",null,"United Kingdom",6.3989500000000001,7.4867499999999998,6.0691500000000005,5.5670500000000001,6.6486499999999999,8.0673999999999992,8.3839499999999987,7.98095,7.6021999999999998,5.9339000000000004,"*",null,"United Kingdom",5.0655999999999999,7.0520499999999995,4.5309499999999998,5.0722000000000005,6.4468499999999995,7.2503000000000002,7.4008000000000003,6.9909499999999998,6.6652500000000003,4.9063999999999997,"*",null,"United Kingdom","*","*","*","*","*","*","*","*","*","*","*"]
[]
[]
[]
["Baggrundsdata for level 1 priser"]
["Eurostat, tabel:",{"$f":"A39","v":"Gas prices for industrial consumers - bi-annual data (from 2007 onwards) [nrg_pc_203]"}]
["Opdateret:",{"$f":"B42","v":"2016-12-08T10:36:43.368"}]
["Gas prices for industrial consumers - bi-annual data (from 2007 onwards) [nrg_pc_203]"]
[]
["Last update","2016-12-01T12:40:20"]
["Extracted on","2016-12-08T10:36:43.368"]
["Source of data","Eurostat"]
[]
["PRODUCT","Natural gas"]
["CONSOM","Band I1 : Consumption < 1 000 GJ"]
["UNIT","Gigajoules (gross calorific value = GCV)"]
["TAX","Excluding taxes and levies"]
["CURRENCY","Euro"]
[]
["GEO/TIME","2007S1","2007S2","2008S1","2008S2","2009S1","2009S2","2010S1","2010S2","2011S1","2011S2","2012S1","2012S2","2013S1","2013S2","2014S1","2014S2","2015S1","2015S2","2016S1"]
["European Union (28 countries)",":",10.28,10.88,12.45,11.9,10.66,10.57,11.28,11.37,12.31,13.08,13.88,13.53,14.1,13.16,13.55,12.8,12.99,11.48]
["Belgium",":",10.76,12.65,15.84,12.45,10.71,11.06,12.74,13.37,14.44,14.78,14.51,14.12,14.02,13.75,12.91,12.28,12.2,10.82]
["Bulgaria",":",5.5220000000000002,6.2430000000000003,8.0632000000000001,9.6942000000000004,6.5854999999999997,7.2553000000000001,9.3931000000000004,9.0960000000000001,10.011200000000001,10.9367,12.102499999999999,10.9367,10.7629,10.614599999999999,10.3589,10.011200000000001,8.4568999999999992,7.3525]
["Czech Republic",":",8.0114000000000001,9.8666999999999998,11.970800000000001,11.154,11.0877,10.337199999999999,11.52,12.0306,13.2308,13.4733,13.4299,12.317299999999999,12.0809,10.601599999999999,11.0413,10.864100000000001,11.1091,10.2729]
["Denmark",10.707000000000001,12.180999999999999,13.6066,14.045199999999999,10.7111,11.738099999999999,12.8042,13.036300000000001,13.9496,13.683999999999999,12.2852,11.853999999999999,10.9787,10.7057,10.145200000000001,9.57,9.4994999999999994,8.7561,7.7248999999999999]
["Germany (until 1990 former territory of the FRG)",":",11.82,12.92,14.32,12.07,10.35,10.9,11.47,11.87,12.41,12.97,13.15,13.37,13.27,12.88,12.32,12.2,12.06,11.45]
["Estonia",":",5.8367000000000004,7.3968999999999996,9.9970999999999997,8.9300999999999995,6.5388000000000002,7.6496000000000004,8.1656999999999993,8.36,9.0299999999999994,11.01,10.88,11.23,9.8800000000000008,10.41,10.46,10.59,7.87,8.91]
["Ireland",":",12.57,12.44,15.15,14.4,12.82,10.220000000000001,10.8,9.83,12.04,11.76,13.51,13.14,14.68,13.64,14.91,13.46,14.43,13.17]
["Greece",":",":",":",":",":",":",":",":",":",":",":",14.41,13.61,13.15,13.17,11.73,9.81,8.69,7.5]
["Spain",":",8.8439999999999994,9.1980000000000004,10.563000000000001,12.7004,11.9749,11.026899999999999,11.373900000000001,11.81,10.61,13.24,13.64,13.39,15.19,13.61,15.23,13.45,14.44,11.86]
["France",":",11.45,10.9,12.438000000000001,12.18,11.67,11.43,12.88,12.68,14.66,14.93,17.25,15.84,17.350000000000001,14.86,16.09,14.42,13.78,11.59]
["Croatia",6.5891999999999999,6.1314000000000002,6.1001000000000003,6.4118000000000004,7.3202999999999996,7.4348999999999998,9.4504999999999999,10.945499999999999,11.2376,12.0136,12.5703,13.6153,13.6152,12.7197,12.5595,12.4253,12.5641,11.5848,11.1259]
["Italy",10.11,9.3780000000000001,10.138999999999999,12.135999999999999,12.582000000000001,10.77,10.217000000000001,11.182,11.29,13.2,13.65,15.09,14.9,14.86,13.85,14.09,13.3,13.91,12.22]
["Latvia",":",7.2751000000000001,8.2033000000000005,12.833399999999999,13.238,9.6716999999999995,7.9492000000000003,10.3497,9.6173999999999999,10.1347,11.212899999999999,12.3223,11.181699999999999,11.089,10.68,10.71,10.89,9.36,8.84]
["Lithuania",":",7.0952999999999999,8.8922000000000008,12.923999999999999,9.6046999999999993,8.4145000000000003,9.1091999999999995,10.022,9.8268000000000004,12.3581,15.2804,15.6945,14.648999999999999,11.697800000000001,13.0242,12.1669,11.25,9.14,10.01]
["Luxembourg",":",9.74,11.53,12.69,13.2,12.22,10.24,11.74,12.78,14.27,14.88,14.83,15.97,14.62,13.74,13.18,12.42,11.9,10.83]
["Hungary",":",9.6426999999999996,11.935,13.2659,11.154400000000001,11.311,11.516999999999999,11.4855,12.447800000000001,13.085000000000001,12.2165,12.0177,10.9574,12.2393,10.494899999999999,10.810600000000001,10.2751,10.279199999999999,9.0492000000000008]
["Netherlands",12.13,11.26,11.41,12.75,13.47,10.71,10.24,10.75,9.99,11.98,11.74,12.98,12.02,12.46,11.84,11.99,11.16,11.27,10.15]
["Austria",":",10.63,":",":",12.78,12.47,12.36,12.67,13.09,13.78,13.8,14.14,14.03,13.81,14.17,13.65,13.4,12.92,12.75]
["Poland",":",9.2208000000000006,9.6149000000000004,12.304399999999999,9.0022000000000002,10.4535,9.8400999999999996,11.066700000000001,10.577299999999999,11.8926,10.8568,13.182399999999999,10.8164,11.998100000000001,11.2516,11.705399999999999,11.472200000000001,12.0479,9.9250000000000007]
["Portugal",":",12.7432,14.586,13.778,14.66,13.3592,11.798999999999999,14.805,14.65,16.13,15.83,17.940000000000001,17.88,19.38,19.32,20.16,19.78,19.059999999999999,17.75]
["Romania",":",6.2816000000000001,5.9252000000000002,6.1181999999999999,4.8414000000000001,4.0202999999999998,4.1444999999999999,3.9859,4.1058000000000003,5.04,5.4153000000000002,5.8358999999999996,6.4356999999999998,6.5454999999999997,6.7473999999999998,6.5347,6.6840999999999999,6.5629,6.4664999999999999]
["Slovenia",":",11.29,11.39,16.25,15.36,12.5,12.505599999999999,14.2822,13.39,17.12,17.7,16.29,14.86,14.87,11.8,14.86,12.92,12.53,11.91]
["Slovakia",":",9.6829000000000001,10.521800000000001,13.8614,14.099,11.131,10.843999999999999,12.294,12.36,13.69,14.3,14.36,13.7,13.67,13.74,13.61,12.82,12.52,12.17]
["Finland",":",":",":",":",":",":",":",":",":",":",":",":",":",":",":",":",":",":",":"]
["Sweden",13.369300000000001,14.0435,15.9765,16.5502,11.993600000000001,14.713800000000001,14.7004,15.6844,15.6168,16.607700000000001,17.365600000000001,18.677,18.679300000000001,17.9389,16.0794,15.8911,16.288399999999999,16.766400000000001,14.4521]
["United Kingdom",11.338200000000001,10.541600000000001,10.517200000000001,11.6638,11.4566,10.065099999999999,10.356400000000001,9.7607999999999997,10.2499,11.1478,13.001200000000001,14.234500000000001,13.0107,14.168799999999999,14.185,16.122399999999999,15.2963,17.007300000000001,13.833]
[]
["Special value:"]
[":","not available"]
[]
["PRODUCT","Natural gas"]
["CONSOM","Band I2 : 1 000 GJ < Consumption < 10 000 GJ"]
["UNIT","Gigajoules (gross calorific value = GCV)"]
["TAX","Excluding taxes and levies"]
["CURRENCY","Euro"]
[]
["GEO/TIME","2007S1","2007S2","2008S1","2008S2","2009S1","2009S2","2010S1","2010S2","2011S1","2011S2","2012S1","2012S2","2013S1","2013S2","2014S1","2014S2","2015S1","2015S2","2016S1"]
["European Union (28 countries)",":",9.19,9.9700000000000006,11.42,10.73,9.1300000000000008,9.3800000000000008,9.9600000000000009,10.199999999999999,10.98,11.6,11.49,12.44,12.17,11.83,11.38,10.85,10.46,9.1]
["Belgium",":",9.5,10.67,12.59,10.81,9.56,9.7100000000000009,10.43,11.19,11.94,11.72,10.29,12.63,11.43,10.75,9.0500000000000007,9.4,9.36,8.5299999999999994]
["Bulgaria",":",5.2816999999999998,6.0332999999999997,7.9353999999999996,9.3977000000000004,6.5343999999999998,7.2450999999999999,8.9593000000000007,8.6562999999999999,9.4999000000000002,10.5481,11.662699999999999,10.384499999999999,10.2516,10.118600000000001,9.8527000000000005,9.3619000000000003,7.6745999999999999,6.6928999999999998]
["Czech Republic",":",7.3497000000000003,9.0053999999999998,11.0601,10.040900000000001,8.0524000000000004,8.5045999999999999,10.090299999999999,10.355399999999999,11.0428,10.669499999999999,10.637,9.7988,9.7243999999999993,9.0858000000000008,9.5709,8.8158999999999992,8.6492000000000004,7.6120999999999999]
["Denmark",10.1433,11.539400000000001,12.890499999999999,13.306100000000001,9.7982999999999993,10.7788,11.7857,12.0044,12.8726,12.6189,11.3424,10.934799999999999,10.1942,9.9334000000000007,9.7834000000000003,9.2060999999999993,8.7726000000000006,8.0699000000000005,7.0846]
["Germany (until 1990 former territory of the FRG)",":",10.54,12.27,13.7,11.71,9.74,10.66,10.8,11.38,11.19,11.67,9.89,13.58,13.07,12.6,11.68,11.03,10.47,8.75]
["Estonia",":",5.3765999999999998,7.3784999999999998,9.3178999999999998,8.3436000000000003,5.9981,7.6955999999999998,7.3192000000000004,7.68,8.67,10.37,10.199999999999999,10.83,9.61,10.02,10.32,9.68,7.27,8.25]
["Ireland",":",10.83,10.88,12.7,10.51,9.5299999999999994,8.15,9.7799999999999994,9.52,10.89,10.29,11.53,11.21,12.52,11.07,11.51,10.31,10.63,9.8800000000000008]
["Greece",":",":",":",":",":",":",":",":",":",":",":",15.27,13.85,13.27,12.93,12.19,10.23,8.9600000000000009,7.55]
["Spain",":",7.3090000000000002,8.0340000000000007,9.6859999999999999,9.9347999999999992,8.8229000000000006,9.0174000000000003,9.9504999999999999,10.51,11.82,13.15,13.22,13.17,12.62,12.52,12.49,11.88,10.86,9.93]
["France",":",9.6199999999999992,9.98,11.276,11.01,9.5500000000000007,9.93,10.99,11.51,12.37,12.89,13.96,13.62,13.34,13.24,12.6,11.41,11.24,9.64]
["Croatia",6.5891999999999999,6.1314000000000002,6.1001000000000003,6.4118000000000004,7.3202999999999996,7.4348999999999998,9.4504999999999999,10.945499999999999,11.2376,12.0136,12.578200000000001,13.5527,13.2889,12.353300000000001,12.021800000000001,11.625999999999999,11.419499999999999,10.6638,10.1286]
["Italy",9.82,9.3780000000000001,10.192,11.898999999999999,12.241,9.4830000000000005,9.19,9.58,10.1,11.14,12.56,12.66,13.29,12.31,11.91,11.43,11.32,10.94,10.23]
["Latvia",":",8.1041000000000007,8.1602999999999994,12.1259,12.0204,8.4946000000000002,7.7797000000000001,9.5741999999999994,8.9384999999999994,9.6243999999999996,10.769,11.431900000000001,10.839,10.5907,10.06,10.29,10.06,8.5,7.9]
["Lithuania",":",6.7893999999999997,8.7971000000000004,12.6915,9.3087999999999997,8.0967000000000002,8.9969000000000001,9.6865000000000006,9.7022999999999993,12.6014,12.476800000000001,12.621600000000001,12.418900000000001,11.382099999999999,11.97,11.289400000000001,9.0299999999999994,7.5,8.41]
["Luxembourg",":",8.69,10.039999999999999,11.38,12.16,10.63,11.55,13.13,12.06,14.08,14.11,14.7,15.86,14.51,13.53,12.91,12.08,11.89,10.95]
["Hungary",":",8.9082000000000008,10.6372,12.7073,10.9976,10.6671,10.638299999999999,11.240600000000001,10.0853,14.0046,13.6343,15.246499999999999,13.6972,15.830399999999999,11.491099999999999,11.4726,10.6965,10.338200000000001,8.1168999999999993]
["Netherlands",11.09,10.71,9.93,11.69,11.82,10.92,8.9600000000000009,10.19,9.5,10.55,10.31,10.58,10.27,10.78,10.51,10.61,9.59,10.1,8.57]
["Austria",":",10.44,":",":",11.08,10.51,10.6,10.9,10.56,11.83,11.78,11.81,11.58,11.25,11.31,11.18,10.44,10.42,9.8000000000000007]
["Poland",":",8.4124999999999996,9.1280000000000001,10.757899999999999,8.4994999999999994,9.5434000000000001,9.2203999999999997,10.2165,10.116899999999999,10.1243,10.2727,11.8125,11.276,11.805999999999999,11.4217,11.559900000000001,11.469799999999999,11.1249,9.2887000000000004]
["Portugal",":",10.783799999999999,11.079000000000001,11.079000000000001,12.01,8.8773,8.9610000000000003,11.573,12.01,12.94,13.71,14.91,14.95,15.55,15.51,16.38,15.88,14.82,11.76]
["Romania",":",6.2656000000000001,5.9382999999999999,6.1234000000000002,4.7965,3.9746000000000001,4.1029999999999998,3.9449000000000001,4.0747,4.9585999999999997,5.3673999999999999,5.7519999999999998,6.3173000000000004,6.3296000000000001,6.6421000000000001,6.4081000000000001,6.4344999999999999,6.2882999999999996,6.0060000000000002]
["Slovenia",":",10.45,10.79,15.78,13.96,12.42,11.1915,13.0825,13.4,16.82,16.39,15.77,13.99,13.16,13.72,13.88,12.37,12.58,11.53]
["Slovakia",":",8.1518999999999995,9.4388000000000005,13.142300000000001,12.098000000000001,10.085000000000001,9.3670000000000009,11.081,10.38,12.76,12.26,12.94,11.24,11.58,11.12,11.6,10.52,10.84,9.64]
["Finland",":",":",":",":",":",":",":",":",":",":",":",14.04,12.77,12,11.55,10.84,9.23,10.49,8.49]
["Sweden",12.0921,12.3802,14.0961,14.689,10.643800000000001,13.3863,12.556100000000001,13.162100000000001,13.782299999999999,14.6007,14.421799999999999,15.359,15.5166,14.8187,13.4193,12.6633,12.739100000000001,12.810499999999999,11.055199999999999]
["United Kingdom",10.2563,8.5009999999999994,8.4525000000000006,9.3017000000000003,8.7491000000000003,6.6086999999999998,7.4828000000000001,7.2556000000000003,7.3822000000000001,8.6807999999999996,9.8634000000000004,9.9817,10.001899999999999,10.523400000000001,10.897500000000001,10.626099999999999,10.5435,10.546200000000001,8.6054999999999993]
[]
["Special value:"]
[":","not available"]
[]
["PRODUCT","Natural gas"]
["CONSOM","Band I3 : 10 000 GJ < Consumption < 100 000 GJ"]
["UNIT","Gigajoules (gross calorific value = GCV)"]
["TAX","Excluding taxes and levies"]
["CURRENCY","Euro"]
[]
["GEO/TIME","2007S1","2007S2","2008S1","2008S2","2009S1","2009S2","2010S1","2010S2","2011S1","2011S2","2012S1","2012S2","2013S1","2013S2","2014S1","2014S2","2015S1","2015S2","2016S1"]
["European Union (28 countries)",":",8.0399999999999991,8.92,10.32,9.34,7.72,7.96,8.39,8.58,9.23,9.56,9.89,10.61,10.38,10.029999999999999,9.4700000000000006,9.27,8.67,7.67]
["Belgium",":",7.7,8.98,10.48,8.73,8.07,7.64,7.64,8.7200000000000006,8.8000000000000007,9.17,9.36,10.71,9.15,8.42,7.66,7.67,7.33,6.63]
["Bulgaria",":",5.0159000000000002,5.7163000000000004,7.4291999999999998,8.7431999999999999,5.9565999999999999,6.6622000000000003,8.4129000000000005,7.9763000000000002,8.8454999999999995,10.031700000000001,11.049200000000001,9.8935999999999993,9.7197999999999993,9.4947999999999997,9.2034000000000002,8.6306999999999992,7.2042000000000002,6.0845000000000002]
["Czech Republic",":",6.8169000000000004,8.5374999999999996,10.605,8.9816000000000003,7.2294,8.2283000000000008,9.7238000000000007,8.3566000000000003,9.2431000000000001,8.9690999999999992,9.0536999999999992,8.9999000000000002,8.8887999999999998,8.4542999999999999,8.1468000000000007,7.9307999999999996,7.8522999999999996,6.9718999999999998]
["Denmark",5.7172000000000001,6.5031999999999996,7.2647000000000004,7.4995000000000003,6.3442999999999996,5.1254,6.3731999999999998,7.9104000000000001,8.7980999999999998,8.6593,8.6524000000000001,9.0562000000000005,9.5947999999999993,9.1652000000000005,7.5697000000000001,7.3194999999999997,7.6727999999999996,6.9869000000000003,5.4188000000000001]
["Germany (until 1990 former territory of the FRG)",":",9.86,11.28,12.69,10.86,8.49,8.98,9.48,9.65,10.14,9.27,9.5500000000000007,12.16,12.18,11.35,10.029999999999999,9.86,9.35,8.3000000000000007]
["Estonia",":",5.0358999999999998,6.7774000000000001,8.5652000000000008,7.3010999999999999,5.7698999999999998,7.5019,7.2096999999999998,7.31,8.26,9.82,9.5,9.94,9.32,9.42,9.84,9.48,6.97,7.59]
["Ireland",":",9.7200000000000006,11.05,10.99,9.3000000000000007,7.31,7.67,8.08,9.9,10.039999999999999,9.76,10.78,10.81,12.15,10.45,10.55,10.08,9.31,8.02]
["Greece",":",":",":",":",":",":",":",":",":",":",":",14.53,13.27,12.54,12.11,11.38,9.93,8.42,6.64]
["Spain",":",7.0739999999999998,7.641,9.0340000000000007,8.702,7.5282999999999998,7.7023000000000001,8.0844000000000005,8.36,9.56,10.38,10.78,10.65,10.32,10.23,10.24,9.56,8.66,7.66]
["France",":",8.34,9.06,10.606,9.76,8.5,8.9499999999999993,9.3800000000000008,9.86,10.18,10.51,10.87,11.03,10.44,10.36,10,9.58,9.27,7.92]
["Croatia",6.5891999999999999,6.1314000000000002,6.1001000000000003,6.4118000000000004,7.3202999999999996,7.4348999999999998,9.4504999999999999,10.945499999999999,11.2376,12.0136,11.850300000000001,12.8261,12.6945,11.653499999999999,11.407999999999999,11.0124,10.6853,9.6204000000000001,8.9765999999999995]
["Italy",8.2200000000000006,7.8540000000000001,8.7739999999999991,10.821999999999999,10.401999999999999,7.4080000000000004,7.78,7.93,8.24,8.9600000000000009,10.58,10.36,10.53,9.77,9.58,9,9.1199999999999992,8.35,8]
["Latvia",":",7.7039,7.9025999999999996,10.994,10.859400000000001,7.6863000000000001,7.1585000000000001,8.8268000000000004,8.1181999999999999,8.7881,9.9383999999999997,10.5845,9.9392999999999994,9.8221000000000007,9.24,9.49,9.16,7.7,6.96]
["Lithuania",":",6.7598000000000003,8.7871000000000006,12.141999999999999,8.7301000000000002,7.5534999999999997,8.9116,9.4,9.7399000000000004,11.955500000000001,12.476800000000001,12.798299999999999,12.233499999999999,11.3444,11.4979,10.4032,7.79,6.05,7.45]
["Luxembourg",":",8.5399999999999991,10.44,11.19,11.08,9.9600000000000009,10.130000000000001,11.58,11.58,13.62,13.99,14.06,14.05,12.34,11.72,10.78,10.71,9.9600000000000009,9.49]
["Hungary",":",8.3506,9.3887,11.411,10.0444,9.7286000000000001,7.9757999999999996,9.6167999999999996,8.2594999999999992,11.893000000000001,11.599299999999999,12.344200000000001,10.941700000000001,12.8636,10.6814,10.3744,9.7136999999999993,8.8988999999999994,8.3145000000000007]
["Netherlands",8.4700000000000006,8.6300000000000008,8.11,9.19,8.7899999999999991,8.64,7.07,7.58,7.52,7.97,8.01,8.6199999999999992,8.39,8.43,8.1199999999999992,8.07,7.59,7.05,6.29]
["Austria",":",":",":",":",8.6,8.3000000000000007,9.01,8.98,8.9700000000000006,9.4700000000000006,9.7899999999999991,9.74,9.6999999999999993,9.58,9.43,9.27,8.49,8.19,7.79]
["Poland",":",7.2149999999999999,8.3633000000000006,9.3300999999999998,7.7331000000000003,8.3584999999999994,8.4008000000000003,9.0204000000000004,9.11,8.8225999999999996,9.359,10.4062,10.062200000000001,10.0747,10.295999999999999,9.9619999999999997,10.238,9.2317,7.3636999999999997]
["Portugal",":",8.1989000000000001,8.69,9.2129999999999992,9.81,7.2239000000000004,7.62,9.2750000000000004,9.3800000000000008,10.56,11.09,11.64,11.46,11.44,11.63,12.14,11.42,10.39,9.24]
["Romania",":",6.4764999999999997,6.2327000000000004,6.3578999999999999,4.6996000000000002,3.8725000000000001,4.1150000000000002,4.0625999999999998,4.2302,4.8305999999999996,5.2854999999999999,5.3985000000000003,5.7502000000000004,5.7605000000000004,5.9184999999999999,5.8746,5.7488000000000001,5.6401000000000003,5.3943000000000003]
["Slovenia",":",8.0500000000000007,9.33,11.87,11.34,8.83,10.8766,10.5747,11.19,13.16,14.8,14.06,12.38,12,10.64,10.69,8.93,9.07,8.18]
["Slovakia",":",7.9428999999999998,9.2788000000000004,12.9366,11.12,8.7260000000000009,8.7390000000000008,9.8490000000000002,9.2200000000000006,11,10.6,11.1,9.8800000000000008,10.38,9.91,10.08,9.2899999999999991,9.26,8.11]
["Finland",5.85,6.3,7.4,8.8000000000000007,8,7.4,7.9,8.6,9.34,10.52,10.88,10.96,10.6,10.14,10.06,10.11,8.5399999999999991,7.87,7.15]
["Sweden",10.464700000000001,10.695399999999999,12.4855,12.9221,8.7581000000000007,10.863099999999999,10.3485,11.636900000000001,11.705,13.079599999999999,12.456200000000001,12.4033,12.794700000000001,12.6439,11.3934,9.8826000000000001,10.0313,9.1684999999999999,7.9259000000000004]
["United Kingdom",8.2998999999999992,6.8078000000000003,7.2911000000000001,8.2369000000000003,7.6862000000000004,5.7192999999999996,5.9425999999999997,5.9794,6.4724000000000004,7.3204000000000002,8.5985999999999994,8.9685000000000006,9.3554999999999993,9.5442,9.8504000000000005,9.2110000000000003,9.4236000000000004,9.2818000000000005,7.6421999999999999]
[]
["Special value:"]
[":","not available"]
[]
["PRODUCT","Natural gas"]
["CONSOM","Band I4 : 100 000 GJ < Consumption < 1 000 000 GJ"]
["UNIT","Gigajoules (gross calorific value = GCV)"]
["TAX","Excluding taxes and levies"]
["CURRENCY","Euro"]
[]
["GEO/TIME","2007S1","2007S2","2008S1","2008S2","2009S1","2009S2","2010S1","2010S2","2011S1","2011S2","2012S1","2012S2","2013S1","2013S2","2014S1","2014S2","2015S1","2015S2","2016S1"]
["European Union (28 countries)",":",6.97,7.95,9.18,8,6.94,7.04,7.29,7.58,8.14,8.56,8.7799999999999994,8.92,8.8800000000000008,8.48,8.0299999999999994,7.83,7.33,6.25]
["Belgium",":",7.11,8.65,9.1199999999999992,8.0299999999999994,7.74,6.42,6.53,7.17,7.47,7.68,7.81,8.15,8.09,7.43,7.05,6.93,6.56,5.66]
["Bulgaria",":",4.5709999999999997,5.4043999999999999,6.8821000000000003,8.1399000000000008,5.2305999999999999,6.0026999999999999,7.6181000000000001,7.3575999999999997,8.1449999999999996,9.2289999999999992,10.2158,9.0653000000000006,8.7841000000000005,8.6153999999999993,8.3291000000000004,7.7053000000000003,6.1458000000000004,5.0925000000000002]
["Czech Republic",":",6.3746,7.8921999999999999,9.8804999999999996,8.1366999999999994,6.3525,7.2671000000000001,8.4474,7.8108000000000004,8.7590000000000003,8.5352999999999994,8.4697999999999993,8.2698999999999998,8.1586999999999996,8.0031999999999996,7.5122,7.2072000000000003,7.0250000000000004,6.0080999999999998]
["Denmark",5.3937999999999997,6.1368,6.8555999999999999,7.0755999999999997,6.0072999999999999,4.8151000000000002,6.0049999999999999,7.5359999999999996,8.4238999999999997,8.2858999999999998,8.3066999999999993,8.7033000000000005,9.2004999999999999,8.7885000000000009,7.3593000000000002,7.1073000000000004,7.3468999999999998,6.6599000000000004,5.1101000000000001]
["Germany (until 1990 former territory of the FRG)",":",7.76,9.27,10.23,8.84,8.02,8.11,8.09,8.5,8.93,8.4700000000000006,8.58,9.1999999999999993,9.44,8.7100000000000009,7.73,7.67,7.18,6.25]
["Estonia",":",4.8170999999999999,6.1715999999999998,7.7488999999999999,6.9132999999999996,5.6075999999999997,7.1593999999999998,7.1304999999999996,7.13,8.08,9.67,9.19,9.6199999999999992,9.14,9.18,9.67,8.77,6.66,7.59]
["Ireland",":",6.91,8.0500000000000007,9.07,8.7200000000000006,6.42,6.35,6.41,7.57,7.2,8.32,8.75,9.35,9.69,9.0399999999999991,8.14,7.95,7.96,6.4]
["Greece",":",":",":",":",":",":",":",":",":",":",":",13.22,12.13,11,10.55,10.34,8.9600000000000009,7.32,5.41]
["Spain",":",6.6970000000000001,7.1369999999999996,8.44,7.4763999999999999,6.5095999999999998,6.7861000000000002,7.0095999999999998,7.47,8.6,9.35,9.7100000000000009,9.5299999999999994,9.25,9.19,9.5,8.65,7.97,6.64]
["France",":",7.31,7.92,9.4550000000000001,8.23,7.23,7.38,7.42,7.35,7.71,8.2200000000000006,8.3699999999999992,8.61,8.9700000000000006,8.4700000000000006,8.1999999999999993,7.95,7.62,5.98]
["Croatia",":",":",":",6.4118000000000004,7.3202999999999996,7.4348999999999998,9.4504999999999999,10.945499999999999,11.2376,12.0136,10.303100000000001,13.1607,11.595499999999999,9.9650999999999996,8.6012000000000004,10.494400000000001,9.8264999999999993,7.8967999999999998,7.1395]
["Italy",7.28,7.2240000000000002,8.2739999999999991,10.218,9.0359999999999996,6.8029999999999999,7.14,7.19,7.53,8.2899999999999991,9.59,9.5299999999999994,9.1999999999999993,8.98,8.5299999999999994,8.02,7.93,7.52,6.8]
["Latvia",":",7.4036999999999997,7.7881,10.5837,10.335599999999999,6.8780000000000001,6.7914000000000003,8.3332999999999995,7.7647000000000004,8.6037999999999997,9.4657999999999998,10.153700000000001,9.468,9.3665000000000003,8.67,9.01,8.7100000000000009,7.27,6.45]
["Lithuania",":",5.8836000000000004,8.0838999999999999,10.6677,7.1847000000000003,6.3914999999999997,7.9744000000000002,8.7163000000000004,9.3981999999999992,11.468999999999999,12.1698,12.809900000000001,11.758599999999999,11.599299999999999,10.5595,8.7464999999999993,5.62,5.15,5.88]
["Luxembourg",":",":",5.82,6.95,7.35,6.91,6.76,7.68,9.15,10.4,9.9,11.22,11.49,9.68,8.9700000000000006,8.66,8.7100000000000009,8.18,7.11]
["Hungary",":",6.8994999999999997,7.2896999999999998,10.1143,8.6338000000000008,8.3376999999999999,7.4425999999999997,9.1304999999999996,9.5975000000000001,10.661899999999999,11.816700000000001,11.122299999999999,11.0245,10.635199999999999,8.8187999999999995,7.5697000000000001,7.2949000000000002,7.6478000000000002,7.0148000000000001]
["Netherlands",7.29,7.49,7.67,8.6999999999999993,8.1,7.53,6.33,6.85,6.95,7.21,7.45,8.1,8.18,8.24,7.56,7.07,7.19,6.62,5.67]
["Austria",":",":",":",":",6.87,6.74,6.53,7.28,7.78,8.17,8.34,8.6300000000000008,8.69,7.83,8.01,7.23,7.26,7.01,7.15]
["Poland",":",6.2805,7.4267000000000003,8.2896000000000001,6.9176000000000002,7.1044,7.3987999999999996,7.9093999999999998,7.9791999999999996,7.6189,8.4451999999999998,9.3393999999999995,9.0183999999999997,8.9055,9.0673999999999992,8.7980999999999998,8.9169,7.9821999999999997,6.2214999999999998]
["Portugal",":",5.843,6.5940000000000003,7.2409999999999997,7.1,6.3788,7.2149999999999999,8.0389999999999997,7.99,9.32,9.85,10.23,10.1,9.94,9.99,10.47,9.77,9,7.62]
["Romania",":",6.2618,5.7950999999999997,6.3705999999999996,4.4397000000000002,3.6371000000000002,4.0929000000000002,3.8207,4.3570000000000002,4.9400000000000004,5.9686000000000003,5.3498999999999999,5.4701000000000004,5.1418999999999997,5.6161000000000003,5.8045999999999998,5.4767000000000001,5.3093000000000004,5.0805999999999996]
["Slovenia",":",6.79,8.41,10.84,":",6.77,10.382999999999999,8.7402999999999995,":",":",12.16,11.66,10.08,9.83,8.7899999999999991,8.4499999999999993,8.23,7.61,6.77]
["Slovakia",":",7.3624000000000001,8.5997000000000003,11.8931,9.94,7.94,7.8760000000000003,8.032,8.07,8.66,8.8800000000000008,8.5500000000000007,9.5500000000000007,9.2799999999999994,9.08,9.23,8.6199999999999992,8.57,7.45]
["Finland",5.59,6.2,7,8.4,7.7,7.3,7.4,8.5299999999999994,9.02,10.87,10.5,10.7,10.31,10.32,9.48,9.2899999999999991,8.19,7.04,6.81]
["Sweden",8.3082999999999991,9.3512000000000004,11.2035,10.585900000000001,7.2554999999999996,9.2350999999999992,9.6324000000000005,10.3774,10.865,11.376300000000001,11.061500000000001,10.9389,10.993,10.5946,9.3285,8.8552999999999997,9.1994000000000007,8.1552000000000007,7.0197000000000003]
["United Kingdom",6.9066999999999998,5.8912000000000004,6.9813999999999998,7.9920999999999998,6.9031000000000002,5.2351999999999999,5.3792999999999997,5.7548000000000004,6.3688000000000002,6.9284999999999997,7.9417999999999997,8.1929999999999996,8.4269999999999996,8.3408999999999995,8.2797000000000001,7.6821999999999999,7.7984,7.4059999999999997,5.9339000000000004]
[]
["Special value:"]
[":","not available"]
[]
["PRODUCT","Natural gas"]
["CONSOM","Band I5 : 1 000 000 GJ < Consumption < 4 000 000 GJ"]
["UNIT","Gigajoules (gross calorific value = GCV)"]
["TAX","Excluding taxes and levies"]
["CURRENCY","Euro"]
[]
["GEO/TIME","2007S1","2007S2","2008S1","2008S2","2009S1","2009S2","2010S1","2010S2","2011S1","2011S2","2012S1","2012S2","2013S1","2013S2","2014S1","2014S2","2015S1","2015S2","2016S1"]
["European Union (28 countries)",":",6.24,7.43,8.58,7.2,6.08,6.32,6.82,7.16,7.76,8.19,8.31,8.2799999999999994,8.06,7.76,7.44,7.17,6.54,5.38]
["Belgium",":",7.12,8.81,8.81,6.42,6.48,5.8,6.64,6.69,7.53,7.53,7.68,7.53,7.56,7.08,6.62,5.66,5.71,4.51]
["Bulgaria",":",4.4993999999999996,5.3226000000000004,6.6980000000000004,8.0222999999999995,5.0465,5.7930000000000001,7.3952999999999998,7.1326000000000001,7.8689,8.9681999999999995,9.9550000000000001,8.7637,8.5642999999999994,8.4261999999999997,8.1143000000000001,7.3474000000000004,5.9618000000000002,4.8369]
["Czech Republic",":",6.1482000000000001,7.7088999999999999,9.6793999999999993,7.8349000000000002,6.0519999999999996,7.1066000000000003,8.1690000000000005,7.1060999999999996,7.6962999999999999,8.0988000000000007,8.2142999999999997,7.9695,7.9381000000000004,7.7110000000000003,7.1483999999999996,6.8196000000000003,6.5701999999999998,6.0762]
["Denmark",4.9481999999999999,5.6294000000000004,6.2882999999999996,6.4908000000000001,5.5468999999999999,4.3811,5.5548999999999999,7.0313999999999997,7.9222999999999999,7.7862,7.8548,8.2430000000000003,8.8544999999999998,8.4492999999999991,7.1502999999999997,6.8978000000000002,6.9995000000000003,6.3274999999999997,4.7786]
["Germany (until 1990 former territory of the FRG)",":",6.27,7.78,9,7.7,6.49,6.97,7.42,7.83,8.1999999999999993,7.73,8.14,8.18,7.97,7.51,7.08,6.92,6.27,5.04]
["Estonia",":",4.7103000000000002,6.1165000000000003,7.3804999999999996,6.8414000000000001,5.5858999999999996,6.9375999999999998,6.8002000000000002,6.98,7.6,9.65,8.98,9.56,9.17,9.18,9.64,8.6999999999999993,6.68,7.26]
["Ireland",":",":",":",":",":",":",":",":",":",":",6.96,":",":",":",":",":",":",":",":"]
["Greece",":",":",":",":",":",":",":",":",":",":",":",11.53,10.63,9.09,8.6199999999999992,8.9499999999999993,":",":",":"]
["Spain",":",5.5350000000000001,6.6029999999999998,7.6219999999999999,6.9206000000000003,5.8973000000000004,6.4272,6.4858000000000002,6.84,8.07,8.7799999999999994,8.73,9,8.86,8.7899999999999991,8.9,8.11,7.31,5.67]
["France",":",6.84,7.87,9.1470000000000002,7.09,6.68,6.01,6.68,7.27,8.17,8.9,8.11,8.36,8.06,7.9,7.24,7.04,6.51,4.6100000000000003]
["Croatia",":",":",":",":",":",":",":",":",":",":",":",":",":",7.5782999999999996,":",":",":",":",":"]
["Italy",7.07,6.9610000000000003,8.1690000000000005,10.113,8.8000000000000007,6.6459999999999999,7.22,7.08,7.4,8.3000000000000007,9.67,9.65,9.15,8.77,8.2200000000000006,7.74,7.68,7.04,6.47]
["Latvia",":",7.2179000000000002,7.1151999999999997,9.7771000000000008,9.4010999999999996,6.3673999999999999,6.2549000000000001,7.8680000000000003,7.2271999999999998,7.5266000000000002,9.0792000000000002,9.6941000000000006,9.0396000000000001,8.968,7.96,8.39,8.31,6.75,6.21]
["Lithuania",":",5.2984999999999998,7.2647000000000004,":",":",5.3487,7.1329000000000002,":",":",":",":",":",":",":",":",":",":",":",":"]
["Luxembourg",":",":",":",":",":",":",":",":",":",":",":",":",":",":",":",":",":",":",":"]
["Hungary",":",7.0789999999999997,7.1738999999999997,9.8519000000000005,8.1867999999999999,8.1231000000000009,7.3514999999999997,8.5114999999999998,8.2382000000000009,9.3434000000000008,10.271100000000001,10.5783,10.4625,9.6593,9.3908000000000005,8.3888999999999996,8.0830000000000002,6.8818999999999999,6.0805999999999996]
["Netherlands",6.67,6.91,7.6,8.19,7.08,6.7,5.7,6.09,6.47,6.59,6.91,7.1,7.68,7.48,7.44,6.87,7.04,6.53,5.47]
["Austria",":",":",":",":",7.03,6.9,6.62,7.24,7.92,8.32,8.8699999999999992,8.6300000000000008,8.07,7.01,7.24,7.65,6.98,6.11,7.23]
["Poland",":",5.7945000000000002,6.8423999999999996,7.4923000000000002,6.1691000000000003,6.3590999999999998,6.6817000000000002,7.0994000000000002,7.1467999999999998,7.1429999999999998,7.8304999999999998,8.7502999999999993,8.3002000000000002,8.2318999999999996,8.0807000000000002,8.3759999999999994,7.76,6.2333999999999996,4.8113999999999999]
["Portugal",":",5.4539999999999997,6.3230000000000004,7,8.5500000000000007,6.4748999999999999,7.0220000000000002,7.4560000000000004,7.29,8.7899999999999991,9.5299999999999994,9.7899999999999991,9.61,9.2100000000000009,9.5500000000000007,9.94,9.2200000000000006,8.33,7.36]
["Romania",":",5.8632999999999997,5.3362999999999996,6.3894000000000002,4.2271000000000001,3.3872,3.8245,3.7277,4.3186999999999998,5.4333,6.1485000000000003,5.0628000000000002,5.1944999999999997,4.9889999999999999,5.3159000000000001,5.4180999999999999,4.8404999999999996,4.8727,4.5156000000000001]
["Slovenia",":",":",":",":",":",":",":",":",":",":",":",":",":",":",":",":",":",":",":"]
["Slovakia",":",7.0468000000000002,8.2813999999999997,11.1731,9.7840000000000007,7.0449999999999999,7.1550000000000002,7.702,7.15,7.3,8.7799999999999994,8.8699999999999992,8.19,8.1999999999999993,8.2899999999999991,7.88,8,8.1199999999999992,7.7]
["Finland",5.22,5.7,6.5,7.6,7.1,6.8,6.9,7.59,8.08,9.66,9.94,10.039999999999999,9.5399999999999991,9.34,9.11,8.6999999999999993,7.64,7.07,6.77]
["Sweden",8.5685000000000002,":",11.6365,":",7.5464000000000002,8.6921999999999997,8.9611999999999998,9.5609999999999999,9.5595999999999997,10.665699999999999,10.4862,10.888500000000001,10.8207,10.333399999999999,8.8850999999999996,8.9603000000000002,8.7026000000000003,8.0153999999999996,6.9939]
["United Kingdom",4.9058000000000002,5.2253999999999996,6.7362000000000002,7.3678999999999997,5.5492999999999997,3.5125999999999999,4.4367999999999999,5.7076000000000002,6.4493999999999998,6.4443000000000001,6.9080000000000004,7.5926,7.3810000000000002,7.4206000000000003,7.1715999999999998,6.8102999999999998,6.8833000000000002,6.4471999999999996,4.9063999999999997]
[]
["Special value:"]
[":","not available"]
[]
["PRODUCT","Natural gas"]
["CONSOM","Band I6 : Consumption > 4 000 000 GJ"]
["UNIT","Gigajoules (gross calorific value = GCV)"]
["TAX","Excluding taxes and levies"]
["CURRENCY","Euro"]
[]
["GEO/TIME","2007S1","2007S2","2008S1","2008S2","2009S1","2009S2","2010S1","2010S2","2011S1","2011S2","2012S1","2012S2","2013S1","2013S2","2014S1","2014S2","2015S1","2015S2","2016S1"]
["European Union (28 countries)",":",":",":",":",":",":",":",":",":",":",":",":",":",":",":",":",":",":",":"]
["Belgium",":",":",":",":",":",":",":",":",":",":",":",":",7.71,":",6.58,5.37,5.2,4.68,3.73]
["Bulgaria",":",":",":",6.56,8.0990000000000002,":",":",":",":",":",":",":",":",":",":",":",":",":",":"]
["Czech Republic",":",":",":",":",":",":",":",":",":",":",":",":",":",":",":",":",":",":",":"]
["Denmark",":",":",":",":",":",":",":",":",":",":",":",":",":",":",":",":",":",":",":"]
["Germany (until 1990 former territory of the FRG)",":",":",":",":",":",":",":",7.32,7.33,7.96,":",7.48,7.97,7.72,7.09,6.52,6.38,5.91,4.62]
["Estonia",":",":",":",":",":",":",":",":",":",":",":",":",":",":",":",":",":",":",":"]
["Ireland",":",":",":",":",":",":",":",":",":",":",":",":",":",":",":",":",":",":",":"]
["Greece",":",":",":",":",":",":",":",":",":",":",":",":",":",":",":",":",":",":",":"]
["Spain",":",5.4770000000000003,6.1980000000000004,7.5979999999999999,6.4829999999999997,5.1952999999999996,5.4268999999999998,5.7831999999999999,":",":",":",":",8.9499999999999993,8.81,8.67,8.59,7.99,6.75,5.43]
["France",":",":",":",":",":",":",":",":",":",":",":",":",":",":",":",":",":",":",":"]
["Croatia",":",":",":",":",":",":",":",":",":",":",":",":",":",":",":",":",":",":",":"]
["Italy",6.72,6.5670000000000002,8.0380000000000003,9.7720000000000002,8.5370000000000008,6.1989999999999998,6.99,7.11,7.56,8.15,9.3800000000000008,9.2799999999999994,8.66,8.2799999999999994,7.82,7.69,7.49,6.93,6.22]
["Latvia",":",":",":",":",":",":",":",7.8680000000000003,":",":",":",":",":",":",":",":",":",":",":"]
["Lithuania",":",":",7.2647000000000004,10.1265,6.1628999999999996,5.3487,7.1329000000000002,":",":",":",":",":",":",":",":",":",":",":",":"]
["Luxembourg",":",":",":",":",":",":",":",":",":",":",":",":",":",":",":",":",":",":",":"]
["Hungary",":",6.6989000000000001,7.7670000000000003,9.0797000000000008,8.3346999999999998,7.4607000000000001,7.3167,8.1681000000000008,8.1402000000000001,9.9751999999999992,10.7356,10.946099999999999,10.9541,9.4749999999999996,9.7090999999999994,8.9231999999999996,8.1181999999999999,7.0292000000000003,6.0505000000000004]
["Netherlands",6.1680000000000001,":",":",":",":",":",":",":",":",":",":",":",":",":",":",":",":",":",":"]
["Austria",":",":",":",":",":",":",":",":",":",":",":",":",":",":",":",":",":",":",":"]
["Poland",":",":",":",":",":",6.1177999999999999,":",":",":",":",":",":",":",":",":",":",":",":",":"]
["Portugal",":",":",":",":",":",":",":",":",":",":",":",":",":",":",":",":",":",":",":"]
["Romania",":",4.5711000000000004,4.6406999999999998,4.6085000000000003,3.3645999999999998,2.7370999999999999,3.1690999999999998,3.2121,4.0793999999999997,4.2815000000000003,4.3632,4.0246000000000004,3.7143000000000002,4.1341999999999999,4.3773,4.6901999999999999,4.4740000000000002,3.8868999999999998,4.202]
["Slovenia",":",":",":",":",":",":",":",":",":",":",":",":",":",":",":",":",":",":",":"]
["Slovakia",":",":",":",":",":",":",":",":",":",":",":",":",":",":",":",":",":",":",":"]
["Finland",":",":",":",":",":",":",":",":",":",":",":",":",":",":",":",":",":",":",":"]
["Sweden",":",":",":",":",":",":",":",":",":",":",":",":",":",":",":",":",":",":",":"]
["United Kingdom",":",":",":",":",":",":",":",":",":",":",":",":",":",":",":",":",":",":",":"]
[]
["Special value:"]
[":","not available"]

{"sheet":"Level 2","index":6,"n_rows":271,"n_cols":77,"rows_kept":271,"cut":false,"hidden":false,"merged":[[2,0,2,11],[2,65,2,76],[2,52,2,63],[2,39,2,50],[2,26,2,37],[2,13,2,24]]}
["Gaspriser, industri. Level 2 gaspriser for forskellige forbrugsintervaller"]
[]
["Forbrugsinterval < 1000 GJ",null,null,null,null,null,null,null,null,null,null,null,null,"Forbrugsinterval  1 000 GJ <  10 000 GJ",null,null,null,null,null,null,null,null,null,null,null,null,"Forbrugsinterval  10 000 GJ <  100 000 GJ",null,null,null,null,null,null,null,null,null,null,null,null,"Forbrugsinterval  100 000 GJ < 1 000 000 GJ",null,null,null,null,null,null,null,null,null,null,null,null,"Forbrugsinterval 1 000 000 GJ < 4 000 000 GJ",null,null,null,null,null,null,null,null,null,null,null,null,"Forbrugsinterval > 4 000 000 GJ"]
[]
["EURO/GJ",{"$f":"LEFT(B51,4)+0","v":2007},{"$f":"+B5+1","v":2008},{"$f":"+C5+1","v":2009},2010,2011,2012,2013,{"$f":"+H5+1","v":2014},{"$f":"+I5+1","v":2015},{"$f":"+J5+1","v":2016},{"$f":"+K5+1","v":2017},null,"EURO/GJ",{"$f":"LEFT(B89,4)+0","v":2007},{"$f":"+O5+1","v":2008},{"$f":"+P5+1","v":2009},2010,2011,2012,2013,{"$f":"+U5+1","v":2014},{"$f":"+V5+1","v":2015},{"$f":"+W5+1","v":2016},{"$f":"+X5+1","v":2017},null,"EURO/GJ",{"$f":"LEFT(B127,4)+0","v":2007},{"$f":"+AB5+1","v":2008},{"$f":"+AC5+1","v":2009},2010,2011,2012,{"$f":"+AG5+1","v":2013},{"$f":"+AH5+1","v":2014},{"$f":"+AI5+1","v":2015},{"$f":"+AJ5+1","v":2016},{"$f":"+AK5+1","v":2017},null,"EURO/GJ",{"$f":"LEFT(B158,4)+0","v":{"$error":"#VALUE!"}},{"$f":"AO5+1","v":{"$error":"#VALUE!"}},{"$f":"AP5+1","v":{"$error":"#VALUE!"}},{"$error":"#VALUE!"},{"$error":"#VALUE!"},{"$error":"#VALUE!"},{"$error":"#VALUE!"},{"$error":"#VALUE!"},{"$error":"#VALUE!"},{"$error":"#VALUE!"},{"$error":"#VALUE!"},null,"EURO/GJ",{"$f":"LEFT(B196,4)+0","v":{"$error":"#VALUE!"}},{"$f":"+BB5+1","v":{"$error":"#VALUE!"}},{"$f":"+BC5+1","v":{"$error":"#VALUE!"}},{"$error":"#VALUE!"},{"$error":"#VALUE!"},{"$error":"#VALUE!"},{"$error":"#VALUE!"},{"$f":"+BH5+1","v":{"$error":"#VALUE!"}},{"$f":"+BI5+1","v":{"$error":"#VALUE!"}},{"$f":"+BJ5+1","v":{"$error":"#VALUE!"}},{"$f":"+BK5+1","v":{"$error":"#VALUE!"}},null,"EURO/GJ",{"$f":"LEFT(B234,4)+0","v":{"$error":"#VALUE!"}},{"$f":"+BO5+1","v":{"$error":"#VALUE!"}},{"$f":"+BP5+1","v":{"$error":"#VALUE!"}},{"$error":"#VALUE!"},{"$error":"#VALUE!"},{"$error":"#VALUE!"},{"$error":"#VALUE!"},{"$f":"+BU5+1","v":{"$error":"#VALUE!"}},{"$f":"+BV5+1","v":{"$error":"#VALUE!"}},{"$f":"+BW5+1","v":{"$error":"#VALUE!"}},{"$f":"+BX5+1","v":{"$error":"#VALUE!"}}]
[{"$f":"A52","v":"European Union (28 countries)"},{"$f":"IFERROR(AVERAGE(B52,C52),\"*\")","v":11.25},{"$f":"IFERROR(AVERAGE(D52,E52),\"*\")","v":12.675000000000001},{"$f":"IFERROR(AVERAGE(F52,G52),\"*\")","v":12.42},{"$f":"IFERROR(AVERAGE(H52,I52),\"*\")","v":12.04},{"$f":"IFERROR(AVERAGE(J52,K52),\"*\")","v":13.059999999999999},{"$f":"IFERROR(AVERAGE(L52,M52),\"*\")","v":14.76},{"$f":"IFERROR(AVERAGE(N52,O52),\"*\")","v":15.17},{"$f":"IFERROR(AVERAGE(P52,Q52),\"*\")","v":14.775},{"$f":"IFERROR(AVERAGE(R52,S52),\"*\")","v":14.344999999999999},{"$f":"IFERROR(AVERAGE(T52,U52),\"*\")","v":13.06},{"$f":"IFERROR(AVERAGE(V52,W52),\"*\")","v":"*"},null,{"$f":"A90","v":"European Union (28 countries)"},{"$f":"IFERROR(AVERAGE(B90,C90),\"*\")","v":10},{"$f":"IFERROR(AVERAGE(D90,E90),\"*\")","v":11.49},{"$f":"IFERROR(AVERAGE(F90,G90),\"*\")","v":10.79},{"$f":"IFERROR(AVERAGE(H90,I90),\"*\")","v":10.555},{"$f":"IFERROR(AVERAGE(J90,K90),\"*\")","v":11.525},{"$f":"IFERROR(AVERAGE(L90,M90),\"*\")","v":12.61},{"$f":"IFERROR(AVERAGE(N90,O90),\"*\")","v":13.5},{"$f":"IFERROR(AVERAGE(P90,Q90),\"*\")","v":12.875},{"$f":"IFERROR(AVERAGE(R90,S90),\"*\")","v":11.955},{"$f":"IFERROR(AVERAGE(T90,U90),\"*\")","v":10.57},{"$f":"IFERROR(AVERAGE(V90,W90),\"*\")","v":"*"},null,{"$f":"A128","v":"European Union (28 countries)"},{"$f":"IFERROR(AVERAGE(B128,C128),\"*\")","v":8.5399999999999991},{"$f":"IFERROR(AVERAGE(D128,E128),\"*\")","v":10.24},{"$f":"IFERROR(AVERAGE(F128,G128),\"*\")","v":9.1849999999999987},{"$f":"IFERROR(AVERAGE(H128,I128),\"*\")","v":8.9},{"$f":"IFERROR(AVERAGE(J128,K128),\"*\")","v":9.68},{"$f":"IFERROR(AVERAGE(L128,M128),\"*\")","v":10.52},{"$f":"IFERROR(AVERAGE(N128,O128),\"*\")","v":11.324999999999999},{"$f":"IFERROR(AVERAGE(P128,Q128),\"*\")","v":10.615},{"$f":"IFERROR(AVERAGE(R128,S128),\"*\")","v":9.92},{"$f":"IFERROR(AVERAGE(T128,U128),\"*\")","v":8.76},{"$f":"IFERROR(AVERAGE(V128,W128),\"*\")","v":"*"},null,{"$f":"A159","v":"PRODUCT"},{"$f":"IFERROR(AVERAGE(B159,C159),\"*\")","v":"*"},{"$f":"IFERROR(AVERAGE(D159,E159),\"*\")","v":"*"},{"$f":"IFERROR(AVERAGE(F159,G159),\"*\")","v":"*"},{"$f":"IFERROR(AVERAGE(H159,I159),\"*\")","v":"*"},{"$f":"IFERROR(AVERAGE(J159,K159),\"*\")","v":"*"},{"$f":"IFERROR(AVERAGE(L159,M159),\"*\")","v":"*"},{"$f":"IFERROR(AVERAGE(N159,O159),\"*\")","v":"*"},{"$f":"IFERROR(AVERAGE(P159,Q159),\"*\")","v":"*"},{"$f":"IFERROR(AVERAGE(R159,S159),\"*\")","v":"*"},{"$f":"IFERROR(AVERAGE(T159,U159),\"*\")","v":"*"},{"$f":"IFERROR(AVERAGE(V159,W159),\"*\")","v":"*"},null,{"$f":"A197","v":"PRODUCT"},{"$f":"IFERROR(AVERAGE(B197,C197),\"*\")","v":"*"},{"$f":"IFERROR(AVERAGE(D197,E197),\"*\")","v":"*"},{"$f":"IFERROR(AVERAGE(F197,G197),\"*\")","v":"*"},{"$f":"IFERROR(AVERAGE(H197,I197),\"*\")","v":"*"},{"$f":"IFERROR(AVERAGE(J197,K197),\"*\")","v":"*"},{"$f":"IFERROR(AVERAGE(L197,M197),\"*\")","v":"*"},{"$f":"IFERROR(AVERAGE(N197,O197),\"*\")","v":"*"},{"$f":"IFERROR(AVERAGE(P197,Q197),\"*\")","v":"*"},{"$f":"IFERROR(AVERAGE(R197,S197),\"*\")","v":"*"},{"$f":"IFERROR(AVERAGE(T197,U197),\"*\")","v":"*"},{"$f":"IFERROR(AVERAGE(V197,W197),\"*\")","v":"*"},null,{"$f":"A235","v":"PRODUCT"},{"$f":"IFERROR(AVERAGE(B235,C235),\"*\")","v":"*"},{"$f":"IFERROR(AVERAGE(D235,E235),\"*\")","v":"*"},{"$f":"IFERROR(AVERAGE(F235,G235),\"*\")","v":"*"},{"$f":"IFERROR(AVERAGE(H235,I235),\"*\")","v":"*"},{"$f":"IFERROR(AVERAGE(J235,K235),\"*\")","v":"*"},{"$f":"IFERROR(AVERAGE(L235,M235),\"*\")","v":"*"},{"$f":"IFERROR(AVERAGE(N235,O235),\"*\")","v":"*"},{"$f":"IFERROR(AVERAGE(P235,Q235),\"*\")","v":"*"},{"$f":"IFERROR(AVERAGE(R235,S235),\"*\")","v":"*"},{"$f":"IFERROR(AVERAGE(T235,U235),\"*\")","v":"*"},{"$f":"IFERROR(AVERAGE(V235,W235),\"*\")","v":"*"}]
[{"$f":"A53","v":"Belgium"},{"$f":"IFERROR(AVERAGE(B53,C53),\"*\")","v":11.09},{"$f":"IFERROR(AVERAGE(D53,E53),\"*\")","v":14.59},{"$f":"IFERROR(AVERAGE(F53,G53),\"*\")","v":11.965},{"$f":"IFERROR(AVERAGE(H53,I53),\"*\")","v":12.370000000000001},{"$f":"IFERROR(AVERAGE(J53,K53),\"*\")","v":14.414999999999999},{"$f":"IFERROR(AVERAGE(L53,M53),\"*\")","v":15.23},{"$f":"IFERROR(AVERAGE(N53,O53),\"*\")","v":14.565},13.934999999999999,12.780000000000001,11.37,"*",null,"Belgium",9.73,11.885,10.475,10.56,12.045,11.649999999999999,12.434999999999999,11.455,10.145,9.1199999999999992,"*",null,{"$f":"#REF!","v":{"$error":"#REF!"}},{"$f":"IFERROR(AVERAGE(#REF!,#REF!),\"*\")","v":"*"},{"$f":"IFERROR(AVERAGE(#REF!,#REF!),\"*\")","v":"*"},{"$f":"IFERROR(AVERAGE(#REF!,#REF!),\"*\")","v":"*"},{"$f":"IFERROR(AVERAGE(#REF!,#REF!),\"*\")","v":"*"},{"$f":"IFERROR(AVERAGE(#REF!,#REF!),\"*\")","v":"*"},{"$f":"IFERROR(AVERAGE(#REF!,#REF!),\"*\")","v":"*"},{"$f":"IFERROR(AVERAGE(#REF!,#REF!),\"*\")","v":"*"},{"$f":"IFERROR(AVERAGE(#REF!,#REF!),\"*\")","v":"*"},{"$f":"IFERROR(AVERAGE(#REF!,#REF!),\"*\")","v":"*"},{"$f":"IFERROR(AVERAGE(#REF!,#REF!),\"*\")","v":"*"},{"$f":"IFERROR(AVERAGE(#REF!,#REF!),\"*\")","v":"*"},null,"CONSOM","*","*","*","*","*","*","*","*","*","*","*",null,"CONSOM","*","*","*","*","*","*","*","*","*","*","*",null,"CONSOM","*","*","*","*","*","*","*","*","*","*","*"]
["Bulgaria",5.5220000000000002,7.1531000000000002,8.1398499999999991,8.3242000000000012,9.5535999999999994,11.55025,10.9009,10.79355,9.5357500000000002,7.6593,"*",null,"Bulgaria",5.2816999999999998,6.9843499999999992,7.9660500000000001,8.1021999999999998,9.0780999999999992,11.136099999999999,10.369150000000001,10.289899999999999,8.8173499999999994,6.9996999999999998,"*",null,{"$f":"#REF!","v":{"$error":"#REF!"}},{"$f":"IFERROR(AVERAGE(#REF!,#REF!),\"*\")","v":"*"},{"$f":"IFERROR(AVERAGE(#REF!,#REF!),\"*\")","v":"*"},{"$f":"IFERROR(AVERAGE(#REF!,#REF!),\"*\")","v":"*"},{"$f":"IFERROR(AVERAGE(#REF!,#REF!),\"*\")","v":"*"},{"$f":"IFERROR(AVERAGE(#REF!,#REF!),\"*\")","v":"*"},{"$f":"IFERROR(AVERAGE(#REF!,#REF!),\"*\")","v":"*"},{"$f":"IFERROR(AVERAGE(#REF!,#REF!),\"*\")","v":"*"},{"$f":"IFERROR(AVERAGE(#REF!,#REF!),\"*\")","v":"*"},{"$f":"IFERROR(AVERAGE(#REF!,#REF!),\"*\")","v":"*"},{"$f":"IFERROR(AVERAGE(#REF!,#REF!),\"*\")","v":"*"},{"$f":"IFERROR(AVERAGE(#REF!,#REF!),\"*\")","v":"*"},null,"UNIT","*","*","*","*","*","*","*","*","*","*","*",null,"UNIT","*","*","*","*","*","*","*","*","*","*","*",null,"UNIT","*","*","*","*","*","*","*","*","*","*","*"]
["Czech Republic",8.0114000000000001,11.259350000000001,11.442450000000001,11.264700000000001,12.9764,13.78955,12.526350000000001,11.13015,11.2982,10.587300000000001,"*",null,"Czech Republic",7.3497000000000003,10.3734,9.3682499999999997,9.6336000000000013,11.044799999999999,10.991199999999999,10.088899999999999,9.6370000000000005,9.0441500000000001,7.9264000000000001,"*",null,{"$f":"A129","v":"Belgium"},{"$f":"IFERROR(AVERAGE(B129,C129),\"*\")","v":7.83},{"$f":"IFERROR(AVERAGE(D129,E129),\"*\")","v":9.9699999999999989},{"$f":"IFERROR(AVERAGE(F129,G129),\"*\")","v":8.77},{"$f":"IFERROR(AVERAGE(H129,I129),\"*\")","v":8.0649999999999995},{"$f":"IFERROR(AVERAGE(J129,K129),\"*\")","v":9.1750000000000007},{"$f":"IFERROR(AVERAGE(L129,M129),\"*\")","v":9.6449999999999996},{"$f":"IFERROR(AVERAGE(N129,O129),\"*\")","v":10.305},{"$f":"IFERROR(AVERAGE(P129,Q129),\"*\")","v":8.4350000000000005},{"$f":"IFERROR(AVERAGE(R129,S129),\"*\")","v":8.0500000000000007},{"$f":"IFERROR(AVERAGE(T129,U129),\"*\")","v":7.15},{"$f":"IFERROR(AVERAGE(V129,W129),\"*\")","v":"*"},null,"TAX","*","*","*","*","*","*","*","*","*","*","*",null,"TAX","*","*","*","*","*","*","*","*","*","*","*",null,"TAX","*","*","*","*","*","*","*","*","*","*","*"]
["Denmark",16.745550000000001,19.229700000000001,16.697150000000001,19.925599999999999,20.943649999999998,19.003050000000002,18.796149999999997,17.995800000000003,15.636299999999999,14.2605,"*",null,"Denmark",14.891999999999999,17.226599999999998,14.469149999999999,17.450200000000002,18.39555,16.697700000000001,16.407399999999999,15.859,13.6145,12.294,"*",null,"Bulgaria",5.0159000000000002,6.5727500000000001,7.3498999999999999,7.5375500000000004,8.4108999999999998,10.56855,9.8578499999999991,9.6354500000000005,8.2012499999999999,6.3810000000000002,"*",null,"CURRENCY","*","*","*","*","*","*","*","*","*","*","*",null,"CURRENCY","*","*","*","*","*","*","*","*","*","*","*",null,"CURRENCY","*","*","*","*","*","*","*","*","*","*","*"]
["Germany (until 1990 former territory of the FRG)",12.83,14.739999999999998,12.33,12.55,13.51,14.18,14.440000000000001,13.719999999999999,13.25,12.57,"*",null,"Germany (until 1990 former territory of the FRG)",11.5,14.105,11.844999999999999,12.094999999999999,12.655000000000001,11.899999999999999,14.445,13.260000000000002,11.870000000000001,9.8699999999999992,"*",null,"Czech Republic",6.8169000000000004,9.9118999999999993,8.4270999999999994,9.3122499999999988,9.1455500000000001,9.3493499999999994,9.2715999999999994,8.6092499999999994,8.2030999999999992,7.2862,"*",null,0,"*","*","*","*","*","*","*","*","*","*","*",null,0,"*","*","*","*","*","*","*","*","*","*","*",null,0,"*","*","*","*","*","*","*","*","*","*","*"]
["Estonia",5.8367000000000004,9.0343,8.2515000000000001,8.6035000000000004,9.1950000000000003,11.51,11.16,11.145,9.93,9.9,"*",null,"Estonia",5.3765999999999998,8.610949999999999,7.5645500000000006,8.1655499999999996,8.629999999999999,10.79,10.82,10.74,9.1349999999999998,9.24,"*",null,"Denmark",7.7791999999999994,9.083400000000001,7.4578499999999996,9.9562500000000007,11.5875,11.5962,12.449200000000001,10.3447,9.88795,7.9652000000000003,"*",null,"GEO/TIME","*","*","*","*","*","*","*","*","*","*","*",null,"GEO/TIME","*","*","*","*","*","*","*","*","*","*","*",null,"GEO/TIME","*","*","*","*","*","*","*","*","*","*","*"]
["Ireland",12.57,13.795,13.61,10.955,11.59,13.504999999999999,14.934999999999999,15.324999999999999,14.995000000000001,14.23,"*",null,"Ireland",10.83,11.79,10.02,9.4400000000000013,10.940000000000001,11.824999999999999,13.045,12.525,11.605,11.05,"*",null,"Germany (until 1990 former territory of the FRG)",10.79,13.105,10.795,10.594999999999999,11.219999999999999,10.530000000000001,13.29,11.81,10.725000000000001,9.42,"*",null,"European Union (28 countries)",7.35,9.0300000000000011,7.97,7.7200000000000006,8.4350000000000005,9.25,9.52,8.9050000000000011,8.26,6.97,"*",null,"European Union (28 countries)",6.56,8.4050000000000011,7.08,7.07,7.9649999999999999,8.754999999999999,8.7199999999999989,8.16,7.4399999999999995,5.95,"*",null,"European Union (28 countries)","*","*","*","*","*","*","*","*","*","*","*"]
["Greece","*","*","*","*","*",15.99,14.95,14.015000000000001,10.905000000000001,9.11,"*",null,"Greece","*","*","*","*","*",16.850000000000001,15.135,14.14,11.234999999999999,9.15,"*",null,"Estonia",5.0358999999999998,7.8666499999999999,6.9422499999999996,7.9276999999999997,8.17,10.08,10.125,10.025,8.7750000000000004,8.58,"*",null,"Belgium",7.18,9.3150000000000013,8.7800000000000011,6.78,7.55,8.01,8.3550000000000004,7.47,7.085,5.95,"*",null,"Belgium",7.17,9.1449999999999996,7.1749999999999998,6.4,7.2750000000000004,7.77,8.16,7.01,5.8249999999999993,4.6900000000000004,"*",null,"Belgium","*","*","*","*","*","*",7.72,6.0650000000000004,4.9800000000000004,3.77,"*"]
["Spain",8.8439999999999994,9.8805000000000014,12.33765,11.2004,11.21,13.440000000000001,14.44,14.57,14.094999999999999,12.01,"*",null,"Spain",7.3090000000000002,8.86,9.3788499999999999,9.4839500000000001,11.164999999999999,13.185,13.045,12.655000000000001,11.52,10.08,"*",null,"Ireland",9.7200000000000006,11.02,8.3049999999999997,8.3150000000000013,10.684999999999999,11.135,12.469999999999999,11.515000000000001,10.68,9.11,"*",null,"Bulgaria",4.5709999999999997,6.1432500000000001,6.6852499999999999,6.8103999999999996,7.7512999999999996,9.7479499999999994,8.9630499999999991,8.6562999999999999,7.1147,5.2816999999999998,"*",null,"Bulgaria",4.4993999999999996,6.0103000000000009,6.5343999999999998,6.59415,7.50075,9.4692499999999988,8.6716499999999996,8.3341500000000011,6.7951499999999996,4.9903000000000004,"*",null,"Bulgaria","*",6.56,8.0990000000000002,"*","*","*","*","*","*","*","*"]
["France",11.45,11.7745,12.184999999999999,12.54,14.155000000000001,16.71,17.244999999999997,16.295000000000002,15.295,13.09,"*",null,"France",9.6199999999999992,10.702999999999999,10.48,10.71,12.225,13.705,13.775,13.36,12.324999999999999,11,"*",null,"Greece","*","*","*","*","*",16.09,14.475,13.32,10.77,8.2100000000000009,"*",null,"Czech Republic",6.3746,9.2269499999999987,7.5662000000000003,8.1934000000000005,8.6306000000000012,8.8405500000000004,8.5415500000000009,8.0663999999999998,7.4276999999999997,6.3224999999999998,"*",null,"Czech Republic",6.1482000000000001,9.0347500000000007,7.2650499999999996,7.9740000000000002,7.7469000000000001,8.4945000000000004,8.2811000000000003,7.7384000000000004,7.0065,6.3905000000000003,"*",null,"Czech Republic","*","*","*","*","*","*","*","*","*","*","*"]
["Croatia",6.6593999999999998,6.3928000000000003,7.3775999999999993,10.198,11.6256,13.0928,13.24915,12.657450000000001,12.246449999999999,11.295199999999999,"*",null,"Croatia",6.6593999999999998,6.3928000000000003,7.3775999999999993,10.198,11.6256,13.06545,12.90085,11.984999999999999,11.173,10.270099999999999,"*",null,"Spain",7.0739999999999998,8.3375000000000004,8.1151499999999999,7.8933499999999999,8.9600000000000009,10.58,10.635000000000002,10.385000000000002,9.2600000000000016,7.81,"*",null,"Denmark",6.6934000000000005,7.9118500000000003,6.3694000000000006,8.4073499999999992,10.00375,10.06875,10.753699999999998,8.8068500000000007,8.4473500000000001,6.5235000000000003,"*",null,"Denmark",5.4444999999999997,6.54915,5.1251499999999997,7.10825,8.67835,9.1606000000000005,9.8787500000000001,8.0020000000000007,7.6322000000000001,5.7127999999999997,"*",null,"Denmark","*","*","*","*","*","*","*","*","*","*","*"]
["Italy",12.116499999999998,13.17,14.853,12.769500000000001,14.914999999999999,17.59,18.115000000000002,17.14,16.704999999999998,15.28,"*",null,"Italy",11.190999999999999,12.202999999999999,12.620999999999999,10.4,12.024999999999999,14.83,14.99,13.725000000000001,13.145,12.39,"*",null,"France",8.51,10.041499999999999,9.4050000000000011,9.44,10.315000000000001,11,11.065,10.629999999999999,10.335000000000001,9.25,"*",null,"Germany (until 1990 former territory of the FRG)",8.68,10.870000000000001,9.5500000000000007,9.4550000000000001,10.039999999999999,9.6449999999999996,10.440000000000001,9.34,8.5449999999999999,7.37,"*",null,"Germany (until 1990 former territory of the FRG)",7.19,9.51,8.2149999999999999,8.5599999999999987,9.34,9.0549999999999997,9.1950000000000003,8.4149999999999991,7.7149999999999999,6.16,"*",null,"Germany (until 1990 former territory of the FRG)","*","*","*",8.91,8.9649999999999999,8.6,8.9649999999999999,7.9250000000000007,7.2650000000000006,5.74,"*"]
["Latvia",7.2893999999999997,10.53965,11.468999999999999,9.1635500000000008,10.1241,12.248049999999999,11.60585,11.155000000000001,10.6,9.32,"*",null,"Latvia",8.1182999999999996,10.1502,10.26455,8.6911000000000005,9.5224000000000011,11.5379,11.192450000000001,10.605,9.754999999999999,8.36,"*",null,"Croatia",6.6593999999999998,6.3928000000000003,7.3775999999999993,10.198,11.6256,12.338200000000001,12.24845,11.346450000000001,10.2684,9.093,"*",null,"Estonia",4.8170999999999999,7.1672500000000001,6.6222499999999993,7.63415,7.9399999999999995,9.745000000000001,9.6999999999999993,9.8000000000000007,8.27,8.58,"*",null,"Estonia",4.7103000000000002,6.8780999999999999,6.5079000000000002,7.3188499999999994,7.5549999999999997,9.5850000000000009,9.629999999999999,9.7749999999999986,8.14,8.25,"*",null,"Estonia","*","*","*","*","*","*","*","*","*","*","*"]
["Lithuania",7.0952999999999999,10.908100000000001,9.0095999999999989,9.5655999999999999,11.092449999999999,15.487449999999999,13.173400000000001,12.595549999999999,10.195,10.01,"*",null,"Lithuania",6.7893999999999997,10.744299999999999,8.70275,9.3416999999999994,11.15185,12.549200000000001,11.900500000000001,11.6297,8.2650000000000006,8.41,"*",null,"Italy",8.5489999999999995,10.327999999999999,9.4565000000000001,8.2899999999999991,9.1900000000000013,11.35,10.995000000000001,10.045,9.3550000000000004,8.67,"*",null,"Ireland",6.91,8.56,7.57,6.6850000000000005,7.7200000000000006,8.8550000000000004,9.8249999999999993,8.8850000000000016,8.3350000000000009,6.73,"*",null,"Ireland","*","*","*","*","*",7.03,"*","*","*","*","*",null,"Ireland","*","*","*","*","*","*","*","*","*","*","*"]
["Luxembourg",10.15,12.26,12.965,11.29,13.824999999999999,15.155000000000001,15.594999999999999,13.76,12.465,11.13,"*",null,"Luxembourg",9.0399999999999991,11.015000000000001,11.675000000000001,12.494999999999999,13.234999999999999,14.555,15.335000000000001,13.385,12.18,11.11,"*",null,"Latvia",7.7039,9.4625500000000002,9.2799499999999995,8.0067500000000003,8.6941000000000006,10.66315,10.365399999999999,9.8000000000000007,8.9050000000000011,7.42,"*",null,"Greece","*","*","*","*","*",14.79,13.129999999999999,12.01,9.7100000000000009,6.95,"*",null,"Greece","*","*","*","*","*",13.1,11.414999999999999,10.335000000000001,"*","*","*",null,"Greece","*","*","*","*","*","*","*","*","*","*","*"]
["Hungary",9.8650000000000002,12.9008,11.526350000000001,11.822700000000001,13.083600000000001,12.68965,12.1014,11.07715,10.745799999999999,9.5197000000000003,"*",null,"Hungary",9.1301000000000005,11.9726,11.12595,11.260899999999999,12.362200000000001,15.01295,15.235900000000001,11.89085,10.9885,8.5510999999999999,"*",null,"Lithuania",6.7598000000000003,10.464549999999999,8.1417999999999999,9.1557999999999993,10.8477,12.637550000000001,11.78895,10.95055,6.92,7.45,"*",null,"Spain",6.6970000000000001,7.7884999999999991,6.9930000000000003,6.89785,8.0350000000000001,9.5300000000000011,9.5399999999999991,9.495000000000001,8.4600000000000009,6.79,"*",null,"Spain",5.5350000000000001,7.1124999999999998,6.4089500000000008,6.4565000000000001,7.4550000000000001,8.754999999999999,9.08,8.995000000000001,7.8599999999999994,5.82,"*",null,"Spain",5.4770000000000003,6.8979999999999997,5.8391500000000001,5.6050500000000003,"*","*",9.0300000000000011,8.7800000000000011,7.5200000000000005,5.58,"*"]
["Netherlands",15.77,16.174999999999997,16.405000000000001,14.844999999999999,15.489999999999998,17.024999999999999,17.600000000000001,17.43,16.86,17.62,"*",null,"Netherlands",14.34,13.42,15.225000000000001,13.574999999999999,14.105,14.574999999999999,15.885000000000002,16.07,15.49,16.04,"*",null,"Luxembourg",8.73,10.91,10.620000000000001,10.99,12.76,14.170000000000002,13.315000000000001,11.39,10.65,9.7899999999999991,"*",null,"France",7.61,8.9939999999999998,7.98,7.6449999999999996,7.75,8.49,9.0299999999999994,8.61,8.2650000000000006,6.65,"*",null,"France",7.14,8.7705000000000002,7.1150000000000002,6.5350000000000001,7.8849999999999998,8.69,8.379999999999999,7.7850000000000001,6.9749999999999996,4.88,"*",null,"France","*","*","*","*","*","*","*","*","*","*","*"]
["Austria",12.37,"*",12.725000000000001,12.61,13.535,15.66,16.305,15.984999999999999,15.195,14.71,"*",null,"Austria",12.18,"*",11.115,11.055,11.484999999999999,13.6,13.815,13.254999999999999,12.58,11.95,"*",null,"Hungary",8.5725999999999996,10.70025,10.180099999999999,9.1176999999999992,10.39345,12.5443,12.391,10.936249999999999,9.7936499999999995,8.8088999999999995,"*",null,"Croatia","*",6.4118000000000004,7.3775999999999993,10.198,11.6256,11.7319,10.814599999999999,9.60215,8.9489999999999998,7.2214999999999998,"*",null,"Croatia","*","*","*","*","*","*",7.6429,"*","*","*","*",null,"Croatia","*","*","*","*","*","*","*","*","*","*","*"]
["Poland",9.2208000000000006,10.95965,9.7278500000000001,10.4534,11.23495,12.019600000000001,11.441649999999999,11.691099999999999,11.964449999999999,10.1242,"*",null,"Poland",8.4124999999999996,9.9429499999999997,9.0214499999999997,9.7184500000000007,10.1206,11.0426,11.576550000000001,11.67475,11.5006,9.4923999999999999,"*",null,"Netherlands",10.245000000000001,10.385,10.345000000000001,8.9600000000000009,9.4849999999999994,10.1,10.615,10.365,9.8550000000000004,10.66,"*",null,"Italy",7.3804999999999996,9.2780000000000005,7.9634999999999998,7.335,8.1349999999999998,9.84,9.34,8.5,7.9,6.98,"*",null,"Italy",7.0585000000000004,9.141,7.7230000000000008,7.2799999999999994,7.95,9.7200000000000006,9.0850000000000009,8.1,7.4749999999999996,6.6,"*",null,"Italy",6.7215000000000007,8.9050000000000011,7.3680000000000003,7.1150000000000002,7.9150000000000009,9.4050000000000011,8.6000000000000014,7.84,7.29,6.3,"*"]
["Portugal",12.7432,14.182,14.009599999999999,13.361000000000001,15.75,17.255000000000003,19.55,21.145,20.765000000000001,18.77,"*",null,"Portugal",10.783799999999999,11.079000000000001,10.44365,10.283000000000001,12.59,14.45,15.675000000000001,16.435000000000002,15.77,12.11,"*",null,"Austria","*","*",9.2100000000000009,9.76,9.9499999999999993,12.06,12.02,11.49,10.75,9.81,"*",null,"Latvia",7.4036999999999997,9.2000999999999991,8.6138499999999993,7.5764500000000004,8.4252000000000002,10.20425,9.8877999999999986,9.27,8.4649999999999999,6.92,"*",null,"Latvia",7.2321999999999997,8.4604499999999998,7.8913500000000001,7.0755499999999998,7.6178499999999998,9.7810999999999986,9.4814499999999988,8.6050000000000004,8,6.68,"*",null,"Latvia","*","*","*",7.8821000000000003,"*","*","*","*","*","*","*"]
["Romania",7.9294000000000002,7.7355999999999998,6.4941999999999993,6.2684499999999996,6.7673500000000004,7.7092499999999999,8.7587499999999991,9.2757500000000004,9.2642500000000005,9.0023,"*",null,"Romania",7.7740999999999998,7.6134000000000004,6.3701000000000008,6.1614500000000003,6.6472499999999997,7.5805500000000006,8.5451499999999996,9.0876999999999999,8.9572500000000002,8.4418000000000006,"*",null,"Poland",7.2149999999999999,8.8467000000000002,8.0457999999999998,8.7105999999999995,8.9663000000000004,9.8826000000000001,10.093350000000001,10.286750000000001,9.8938500000000005,7.5102000000000002,"*",null,"Lithuania",5.8836000000000004,9.3757999999999999,6.7881,8.3453499999999998,10.433599999999998,12.489850000000001,11.67895,9.6529999999999987,5.3849999999999998,5.88,"*",null,"Lithuania",5.2984999999999998,7.2647000000000004,5.3487,7.1329000000000002,"*","*","*","*","*","*","*",null,"Lithuania","*",8.6956000000000007,5.7557999999999998,7.1329000000000002,"*","*","*","*","*","*","*"]
["Slovenia",12.08,14.605,14.719999999999999,14.472449999999998,16.495000000000001,18.234999999999999,16.195,14.734999999999999,14.23,13.35,"*",null,"Slovenia",11.24,14.074999999999999,13.98,13.21555,16.350000000000001,17.32,14.905000000000001,15.205,14.059999999999999,13.08,"*",null,"Portugal",8.1989000000000001,8.9514999999999993,8.5169500000000014,8.4510000000000005,9.995000000000001,11.39,11.66,12.094999999999999,11.045,9.44,"*",null,"Luxembourg","*",6.46,7.24,7.27,9.8350000000000009,10.625,10.64,8.91,8.49,7.16,"*",null,"Luxembourg","*","*","*","*","*","*","*","*","*","*","*",null,"Luxembourg","*","*","*","*","*","*","*","*","*","*","*"]
["Slovakia",9.6829000000000001,12.283100000000001,12.798,11.936,13.39,14.695,14.05,14.045,13.035,12.53,"*",null,"Slovakia",8.1518999999999995,11.382200000000001,11.2745,10.591000000000001,11.940000000000001,12.96,11.774999999999999,11.72,11.045000000000002,10.01,"*",null,"Romania",7.8912000000000004,7.7772000000000006,6.2239000000000004,6.1486000000000001,6.5854499999999998,7.3024000000000004,7.8911499999999997,8.4309000000000012,8.1968999999999994,7.75,"*",null,"Hungary",7.1214000000000004,9.0023999999999997,8.7793500000000009,8.6080000000000005,10.446899999999999,12.042100000000001,11.2904,8.5892999999999997,7.9278500000000003,7.4858000000000002,"*",null,"Hungary",7.3009000000000004,8.8133499999999998,8.4484999999999992,8.2529000000000003,9.1080000000000005,10.997250000000001,10.559750000000001,9.3038999999999987,7.9354999999999993,6.5461,"*",null,"Hungary",6.9207999999999998,8.7237000000000009,8.1913,8.0638000000000005,9.3749000000000002,11.413399999999999,10.7,9.7464000000000013,8.049199999999999,6.5627000000000004,"*"]
["Finland","*","*","*","*","*","*","*","*","*","*","*",null,"Finland","*","*","*","*","*",16.3,15.254999999999999,14.065000000000001,13.719999999999999,12.85,"*",null,"Slovenia",8.84,11.39,10.870000000000001,11.80425,13.41,15.67,13.52,12.07,10.385,9.59,"*",null,"Netherlands",7.9399999999999995,8.74,8.4049999999999994,7.1400000000000006,7.6349999999999998,8.35,8.870000000000001,8.0350000000000001,7.8949999999999996,7.08,"*",null,"Netherlands",7.0250000000000004,8.1449999999999996,7.18,6.165,6.83,7.31,7.97,7.57,7.27,6.14,"*",null,"Netherlands",6.266,"*","*","*","*","*","*","*","*","*","*"]
["Sweden",15.3253,17.929549999999999,14.927350000000001,16.942,18.497050000000002,20.699649999999998,20.86225,18.405000000000001,18.972700000000003,16.899799999999999,"*",null,"Sweden",13.855650000000001,16.05875,13.5886,14.609200000000001,16.5763,17.568750000000001,17.72025,15.46105,15.220099999999999,13.504,"*",null,"Slovakia",7.9428999999999998,11.199200000000001,10.106000000000002,9.6609999999999996,10.48,11.21,10.495000000000001,10.364999999999998,9.64,8.48,"*",null,"Austria","*","*",7.2050000000000001,7.2750000000000004,8.3350000000000009,10.370000000000001,10.54,9.8249999999999993,9.2650000000000006,9.1199999999999992,"*",null,"Austria","*","*",7.3550000000000004,7.3149999999999995,8.4050000000000011,10.684999999999999,9.5300000000000011,9.4,9.3999999999999986,8.84,"*",null,"Austria","*","*","*","*","*","*","*","*","*","*","*"]
["United Kingdom",11.410699999999999,11.492850000000001,11.1143,10.437149999999999,11.107900000000001,14.0435,14.01365,15.58135,16.647449999999999,14.308199999999999,"*",null,"United Kingdom",9.8290499999999987,9.316749999999999,8.0940999999999992,7.7710500000000007,8.4520499999999998,10.341950000000001,10.674800000000001,11.20185,11.047499999999999,9.0807000000000002,"*",null,"Finland",6.5600000000000005,8.6000000000000014,8.25,8.7650000000000006,12.19,13.18,13.24,12.955,12.065000000000001,11.51,"*",null,"Poland",6.2805,7.8581500000000002,7.0110000000000001,7.6540999999999997,7.7990499999999994,8.8922999999999988,8.9809000000000001,8.9351500000000001,8.5379500000000004,6.2923999999999998,"*",null,"Poland",5.7945000000000002,7.1673499999999999,6.2641,6.8905500000000002,7.1448999999999998,8.2904,8.2672500000000007,8.2318999999999996,6.9966999999999997,4.8113999999999999,"*",null,"Poland","*","*",6.1177999999999999,"*","*","*","*","*","*","*","*"]
[]
[]
[]
["Baggrundsdata for level 2 priser: Eurostat nrg_pc_203"]
["Eurostat, tabel:",{"$f":"A39","v":"Gas prices for industrial consumers - bi-annual data (from 2007 onwards) [nrg_pc_203]"}]
["Opdateret:",{"$f":"B42","v":"2016-12-08T10:37:39.073"}]
["Gas prices for industrial consumers - bi-annual data (from 2007 onwards) [nrg_pc_203]"]
[]
["Last update","2016-12-01T12:40:20"]
["Extracted on","2016-12-08T10:37:39.073"]
["Source of data","Eurostat"]
[]
["PRODUCT","Natural gas"]
["CONSOM","Band I1 : Consumption < 1 000 GJ"]
["UNIT","Gigajoules (gross calorific value = GCV)"]
["TAX","Excluding VAT and other recoverable taxes and levies"]
["CURRENCY","Euro"]
[]
["GEO/TIME","2007S1","2007S2","2008S1","2008S2","2009S1","2009S2","2010S1","2010S2","2011S1","2011S2","2012S1","2012S2","2013S1","2013S2","2014S1","2014S2","2015S1","2015S2","2016S1"]
["European Union (28 countries)",":",11.25,11.87,13.48,12.93,11.91,11.6,12.48,12.59,13.53,14.34,15.18,14.87,15.47,14.55,15,14.25,14.44,13.06]
["Belgium",":",11.09,12.98,16.2,12.82,11.11,11.43,13.31,13.88,14.95,15.43,15.03,14.61,14.52,14.27,13.6,12.68,12.88,11.37]
["Bulgaria",":",5.5220000000000002,6.2430000000000003,8.0632000000000001,9.6942000000000004,6.5854999999999997,7.2553000000000001,9.3931000000000004,9.0960000000000001,10.011200000000001,10.946899999999999,12.153600000000001,10.9878,10.814,10.9214,10.665699999999999,10.318,8.7535000000000007,7.6593]
["Czech Republic",":",8.0114000000000001,10.204000000000001,12.3147,11.4672,11.4177,10.6675,11.8619,12.3797,13.5731,13.8109,13.7682,12.648099999999999,12.4046,10.911300000000001,11.349,11.1732,11.4232,10.587300000000001]
["Denmark",16.008199999999999,17.482900000000001,19.009899999999998,19.4495,16.1815,17.212800000000001,19.814299999999999,20.036899999999999,21.071200000000001,20.816099999999999,19.226800000000001,18.779299999999999,18.933399999999999,18.658899999999999,18.249500000000001,17.742100000000001,16.0108,15.261799999999999,14.2605]
["Germany (until 1990 former territory of the FRG)",":",12.83,14.04,15.44,13.19,11.47,12.02,13.08,13.49,13.53,14.09,14.27,14.49,14.39,14,13.44,13.32,13.18,12.57]
["Estonia",":",5.8367000000000004,7.7310999999999996,10.3375,9.2457999999999991,7.2572000000000001,8.3455999999999992,8.8613999999999997,8.99,9.4,11.52,11.5,11.85,10.47,11.23,11.06,11.27,8.59,9.9]
["Ireland",":",12.57,12.44,15.15,14.4,12.82,10.34,11.57,10.61,12.57,12.53,14.48,14.12,15.75,14.69,15.96,14.51,15.48,14.23]
["Greece",":",":",":",":",":",":",":",":",":",":",":",15.99,15.18,14.72,14.74,13.29,11.47,10.34,9.11]
["Spain",":",8.8439999999999994,9.1980000000000004,10.563000000000001,12.7004,11.9749,11.026899999999999,11.373900000000001,11.81,10.61,13.24,13.64,13.54,15.34,13.76,15.38,13.6,14.59,12.01]
["France",":",11.45,10.93,12.619,12.43,11.94,11.76,13.32,13.09,15.22,15.44,17.98,16.36,18.13,15.45,17.14,15.48,15.11,13.09]
["Croatia",6.9032,6.4156000000000004,6.3738000000000001,6.4118000000000004,7.3202999999999996,7.4348999999999998,9.4504999999999999,10.945499999999999,11.2376,12.0136,12.5703,13.6153,13.6152,12.883100000000001,12.7379,12.577,12.7437,11.7492,11.295199999999999]
["Italy",12.77,11.462999999999999,12.084,14.256,15.068,14.638,12.217000000000001,13.321999999999999,13.53,16.3,16.88,18.3,18.27,17.96,17.12,17.16,16.48,16.93,15.28]
["Latvia",":",7.2893999999999997,8.2175999999999991,12.861700000000001,13.266299999999999,9.6716999999999995,7.9633000000000003,10.363799999999999,9.6316000000000006,10.6166,11.685499999999999,12.810600000000001,11.653,11.5587,11.15,11.16,11.37,9.83,9.32]
["Lithuania",":",7.0952999999999999,8.8922000000000008,12.923999999999999,9.6046999999999993,8.4145000000000003,9.1091999999999995,10.022,9.8268000000000004,12.3581,15.2804,15.6945,14.648999999999999,11.697800000000001,13.0242,12.1669,11.25,9.14,10.01]
["Luxembourg",":",10.15,11.53,12.99,13.49,12.44,10.54,12.04,13.08,14.57,15.18,15.13,16.27,14.92,14.04,13.48,12.73,12.2,11.13]
["Hungary",":",9.8650000000000002,12.233000000000001,13.5686,11.4152,11.637499999999999,11.8428,11.8026,12.776300000000001,13.3909,12.776899999999999,12.602399999999999,11.5167,12.6861,10.9108,11.243499999999999,10.7338,10.7578,9.5197000000000003]
["Netherlands",16.2,15.34,15.52,16.829999999999998,17.95,14.86,14.84,14.85,14.62,16.36,16.48,17.57,17.38,17.82,17.36,17.5,16.8,16.920000000000002,17.62]
["Austria",":",12.37,":",":",12.88,12.57,12.44,12.78,13.18,13.89,15.44,15.88,16.14,16.47,16.25,15.72,15.5,14.89,14.71]
["Poland",":",9.2208000000000006,9.6149000000000004,12.304399999999999,9.0022000000000002,10.4535,9.8400999999999996,11.066700000000001,10.577299999999999,11.8926,10.8568,13.182399999999999,10.8164,12.0669,11.4169,11.965299999999999,11.6799,12.249000000000001,10.1242]
["Portugal",":",12.7432,14.586,13.778,14.66,13.3592,11.798999999999999,14.923,14.93,16.57,16.21,18.3,18.64,20.46,20.59,21.7,21.15,20.38,18.77]
["Romania",":",7.9294000000000002,7.6939000000000002,7.7773000000000003,6.7835999999999999,6.2047999999999996,6.367,6.1699000000000002,6.3236999999999997,7.2110000000000003,7.5217000000000001,7.8967999999999998,8.5854999999999997,8.9320000000000004,9.1959,9.3556000000000008,9.4605999999999995,9.0678999999999998,9.0023]
["Slovenia",":",12.08,12.17,17.04,16.149999999999999,13.29,13.4255,15.519399999999999,14.63,18.36,18.940000000000001,17.53,16.190000000000001,16.2,13.15,16.32,14.48,13.98,13.35]
["Slovakia",":",9.6829000000000001,10.521800000000001,14.0444,14.282,11.314,11.211,12.661,12.72,14.06,14.67,14.72,14.06,14.04,14.11,13.98,13.18,12.89,12.53]
["Finland",":",":",":",":",":",":",":",":",":",":",":",":",":",":",":",":",":",":",":"]
["Sweden",14.9924,15.658200000000001,17.684100000000001,18.175000000000001,13.5322,16.322500000000002,16.404399999999999,17.479600000000001,18.025099999999998,18.969000000000001,19.855699999999999,21.543600000000001,21.267499999999998,20.457000000000001,18.541899999999998,18.2681,18.737100000000002,19.208300000000001,16.899799999999999]
["United Kingdom",11.827299999999999,10.9941,10.930199999999999,12.0555,11.837,10.3916,10.747199999999999,10.1271,10.6645,11.551299999999999,13.4147,14.6723,13.445600000000001,14.5817,14.6233,16.539400000000001,15.815200000000001,17.479700000000001,14.308199999999999]
[]
["Special value:"]
[":","not available"]
[]
["PRODUCT","Natural gas"]
["CONSOM","Band I2 : 1 000 GJ < Consumption < 10 000 GJ"]
["UNIT","Gigajoules (gross calorific value = GCV)"]
["TAX","Excluding VAT and other recoverable taxes and levies"]
["CURRENCY","Euro"]
[]
["GEO/TIME","2007S1","2007S2","2008S1","2008S2","2009S1","2009S2","2010S1","2010S2","2011S1","2011S2","2012S1","2012S2","2013S1","2013S2","2014S1","2014S2","2015S1","2015S2","2016S1"]
["European Union (28 countries)",":",10,10.77,12.21,11.62,9.9600000000000009,10.220000000000001,10.89,11.15,11.9,12.66,12.56,13.7,13.3,13.06,12.69,12.19,11.72,10.57]
["Belgium",":",9.73,10.93,12.84,11.09,9.86,10.06,11.06,11.65,12.44,12.37,10.93,13.03,11.84,11.16,11.75,9.93,10.36,9.1199999999999992]
["Bulgaria",":",5.2816999999999998,6.0332999999999997,7.9353999999999996,9.3977000000000004,6.5343999999999998,7.2450999999999999,8.9593000000000007,8.6562999999999999,9.4999000000000002,10.558299999999999,11.713900000000001,10.435600000000001,10.3027,10.4254,10.154400000000001,9.6686999999999994,7.9660000000000002,6.9996999999999998]
["Czech Republic",":",7.3497000000000003,9.3428000000000004,11.404,10.354100000000001,8.3824000000000005,8.8350000000000009,10.4322,10.704499999999999,11.3851,11.007099999999999,10.975300000000001,10.1296,10.0482,9.3955000000000002,9.8785000000000007,9.125,8.9633000000000003,7.9264000000000001]
["Denmark",14.1937,15.590299999999999,17.0184,17.434799999999999,13.9772,14.9611,17.3446,17.555800000000001,18.517600000000002,18.273499999999999,16.908000000000001,16.487400000000001,16.538399999999999,16.276399999999999,16.1082,15.6098,13.9682,13.2608,12.294]
["Germany (until 1990 former territory of the FRG)",":",11.5,13.39,14.82,12.83,10.86,11.78,12.41,13,12.31,12.79,11.01,14.7,14.19,13.72,12.8,12.15,11.59,9.8699999999999992]
["Estonia",":",5.3765999999999998,7.6265000000000001,9.5953999999999997,8.5167999999999999,6.6123000000000003,8.3245000000000005,8.0066000000000006,8.1999999999999993,9.06,10.85,10.73,11.45,10.19,10.57,10.91,10.28,7.99,9.24]
["Ireland",":",10.83,10.88,12.7,10.51,9.5299999999999994,8.3000000000000007,10.58,10.32,11.56,11.17,12.48,12.34,13.75,12.3,12.75,11.55,11.66,11.05]
["Greece",":",":",":",":",":",":",":",":",":",":",":",16.850000000000001,15.43,14.84,14.5,13.78,11.88,10.59,9.15]
["Spain",":",7.3090000000000002,8.0340000000000007,9.6859999999999999,9.9347999999999992,8.8229000000000006,9.0174000000000003,9.9504999999999999,10.51,11.82,13.15,13.22,13.32,12.77,12.67,12.64,12.03,11.01,10.08]
["France",":",9.6199999999999992,10.01,11.396000000000001,11.2,9.76,10.17,11.25,11.78,12.67,13.16,14.25,13.89,13.66,13.56,13.16,12.37,12.28,11]
["Croatia",6.9032,6.4156000000000004,6.3738000000000001,6.4118000000000004,7.3202999999999996,7.4348999999999998,9.4504999999999999,10.945499999999999,11.2376,12.0136,12.578200000000001,13.5527,13.2889,12.5128,12.192299999999999,11.777699999999999,11.541399999999999,10.804600000000001,10.270099999999999]
["Italy",11.54,10.842000000000001,11.462999999999999,12.943,14.305,10.936999999999999,10.24,10.56,11.12,12.93,15.03,14.63,15.81,14.17,14.23,13.22,13.56,12.73,12.39]
["Latvia",":",8.1182999999999996,8.1602999999999994,12.1401,12.0345,8.4946000000000002,7.7938999999999998,9.5883000000000003,8.9527000000000001,10.0921,11.17,11.905799999999999,11.3102,11.0747,10.53,10.68,10.54,8.9700000000000006,8.36]
["Lithuania",":",6.7893999999999997,8.7971000000000004,12.6915,9.3087999999999997,8.0967000000000002,8.9969000000000001,9.6865000000000006,9.7022999999999993,12.6014,12.476800000000001,12.621600000000001,12.418900000000001,11.382099999999999,11.97,11.289400000000001,9.0299999999999994,7.5,8.41]
["Luxembourg",":",9.0399999999999991,10.26,11.77,12.57,10.78,11.7,13.29,12.21,14.26,14.26,14.85,16,14.67,13.68,13.09,12.31,12.05,11.11]
["Hungary",":",9.1301000000000005,10.9352,13.01,11.2584,10.993499999999999,10.9641,11.557700000000001,10.4138,14.310600000000001,14.194699999999999,15.831200000000001,14.256500000000001,16.215299999999999,11.885899999999999,11.895799999999999,11.1557,10.821300000000001,8.5510999999999999]
["Netherlands",14.66,14.02,12.44,14.4,15.82,14.63,13.04,14.11,13.62,14.59,14.48,14.67,15.63,16.14,16.02,16.12,15.24,15.74,16.04]
["Austria",":",12.18,":",":",11.4,10.83,10.9,11.21,10.73,12.24,13.52,13.68,13.77,13.86,13.47,13.04,12.8,12.36,11.95]
["Poland",":",8.4124999999999996,9.1280000000000001,10.757899999999999,8.4994999999999994,9.5434000000000001,9.2203999999999997,10.2165,10.116899999999999,10.1243,10.2727,11.8125,11.276,11.8771,11.591699999999999,11.7578,11.6751,11.3261,9.4923999999999999]
["Portugal",":",10.783799999999999,11.079000000000001,11.079000000000001,12.01,8.8773,8.9610000000000003,11.605,12.09,13.09,13.82,15.08,15.3,16.05,16.02,16.850000000000001,16.309999999999999,15.23,12.11]
["Romania",":",7.7740999999999998,7.5651999999999999,7.6616,6.6466000000000003,6.0936000000000003,6.2492000000000001,6.0736999999999997,6.2207999999999997,7.0736999999999997,7.4100999999999999,7.7510000000000003,8.4123999999999999,8.6778999999999993,9.0412999999999997,9.1341000000000001,9.1076999999999995,8.8068000000000008,8.4418000000000006]
["Slovenia",":",11.24,11.58,16.57,14.75,13.21,12.1114,14.319699999999999,14.64,18.059999999999999,17.63,17.010000000000002,15.32,14.49,15.06,15.35,13.84,14.28,13.08]
["Slovakia",":",8.1518999999999995,9.4388000000000005,13.3256,12.281000000000001,10.268000000000001,9.734,11.448,10.75,13.13,12.62,13.3,11.61,11.94,11.48,11.96,10.88,11.21,10.01]
["Finland",":",":",":",":",":",":",":",":",":",":",":",16.3,15.64,14.87,14.42,13.71,13.09,14.35,12.85]
["Sweden",13.7163,13.994999999999999,15.803699999999999,16.313800000000001,12.1823,14.994899999999999,14.261100000000001,14.9573,16.1906,16.962,16.911899999999999,18.2256,18.1037,17.3368,15.8818,15.0403,15.187799999999999,15.2524,13.504]
["United Kingdom",10.730499999999999,8.9276,8.8911999999999995,9.7423000000000002,9.1853999999999996,7.0027999999999997,7.8966000000000003,7.6455000000000002,7.7968000000000002,9.1073000000000004,10.276899999999999,10.407,10.4251,10.9245,11.348000000000001,11.0557,11.0625,11.032500000000001,9.0807000000000002]
[]
["Special value:"]
[":","not available"]
[]
["PRODUCT","Natural gas"]
["CONSOM","Band I3 : 10 000 GJ < Consumption < 100 000 GJ"]
["UNIT","Gigajoules (gross calorific value = GCV)"]
["TAX","Excluding VAT and other recoverable taxes and levies"]
["CURRENCY","Euro"]
[]
["GEO/TIME","2007S1","2007S2","2008S1","2008S2","2009S1","2009S2","2010S1","2010S2","2011S1","2011S2","2012S1","2012S2","2013S1","2013S2","2014S1","2014S2","2015S1","2015S2","2016S1"]
["European Union (28 countries)",":",8.5399999999999991,9.57,10.91,10.02,8.35,8.64,9.16,9.4,9.9600000000000009,10.4,10.64,11.49,11.16,10.97,10.26,10.28,9.56,8.76]
["Belgium",":",7.83,9.15,10.79,9.0399999999999991,8.5,7.93,8.1999999999999993,9.1199999999999992,9.23,9.65,9.64,11.07,9.5399999999999991,8.74,8.1300000000000008,8.16,7.94,7.15]
["Bulgaria",":",5.0159000000000002,5.7163000000000004,7.4291999999999998,8.7431999999999999,5.9565999999999999,6.6622000000000003,8.4129000000000005,7.9763000000000002,8.8454999999999995,10.0419,11.0952,9.9448000000000008,9.7708999999999993,9.7863000000000007,9.4846000000000004,8.9170999999999996,7.4854000000000003,6.3810000000000002]
["Czech Republic",":",6.8169000000000004,8.8749000000000002,10.9489,9.2948000000000004,7.5594000000000001,8.5587,10.065799999999999,8.7057000000000002,9.5853999999999999,9.3066999999999993,9.3919999999999995,9.3307000000000002,9.2125000000000004,8.7639999999999993,8.4544999999999995,8.2399000000000004,8.1662999999999997,7.2862]
["Denmark",7.3853999999999997,8.173,8.9664999999999999,9.2003000000000004,8.0665999999999993,6.8491,9.1896000000000004,10.722899999999999,11.6548,11.520200000000001,11.397500000000001,11.7949,12.664300000000001,12.2341,10.421200000000001,10.2682,10.2331,9.5427999999999997,7.9652000000000003]
["Germany (until 1990 former territory of the FRG)",":",10.79,12.4,13.81,11.98,9.61,10.1,11.09,11.18,11.26,10.39,10.67,13.28,13.3,12.47,11.15,10.98,10.47,9.42]
["Estonia",":",5.0358999999999998,6.9714999999999998,8.7617999999999991,7.4984000000000002,6.3860999999999999,8.0010999999999992,7.8543000000000003,7.75,8.59,10.210000000000001,9.9499999999999993,10.45,9.8000000000000007,9.81,10.24,10.01,7.54,8.58]
["Ireland",":",9.7200000000000006,11.05,10.99,9.3000000000000007,7.31,7.83,8.8000000000000007,10.61,10.76,10.5,11.77,11.78,13.16,11.46,11.57,11.08,10.28,9.11]
["Greece",":",":",":",":",":",":",":",":",":",":",":",16.09,14.84,14.11,13.68,12.96,11.54,10,8.2100000000000009]
["Spain",":",7.0739999999999998,7.641,9.0340000000000007,8.702,7.5282999999999998,7.7023000000000001,8.0844000000000005,8.36,9.56,10.38,10.78,10.8,10.47,10.38,10.39,9.7100000000000009,8.81,7.81]
["France",":",8.51,9.23,10.853,10.01,8.8000000000000007,9.19,9.69,10.14,10.49,10.81,11.19,11.34,10.79,10.74,10.52,10.48,10.19,9.25]
["Croatia",6.9032,6.4156000000000004,6.3738000000000001,6.4118000000000004,7.3202999999999996,7.4348999999999998,9.4504999999999999,10.945499999999999,11.2376,12.0136,11.850300000000001,12.8261,12.6945,11.8024,11.547000000000001,11.145899999999999,10.7967,9.7401,9.093]
["Italy",8.74,8.3580000000000005,9.3369999999999997,11.319000000000001,11.08,7.8330000000000002,8.24,8.34,8.7100000000000009,9.67,11.7,11,11.55,10.44,10.51,9.58,9.84,8.8699999999999992,8.67]
["Latvia",":",7.7039,7.9169999999999998,11.008100000000001,10.8736,7.6863000000000001,7.1726000000000001,8.8408999999999995,8.1324000000000005,9.2558000000000007,10.267799999999999,11.0585,10.424799999999999,10.305999999999999,9.7100000000000009,9.89,9.64,8.17,7.42]
["Lithuania",":",6.7598000000000003,8.7871000000000006,12.141999999999999,8.7301000000000002,7.5534999999999997,8.9116,9.4,9.7399000000000004,11.955500000000001,12.476800000000001,12.798299999999999,12.233499999999999,11.3444,11.4979,10.4032,7.79,6.05,7.45]
["Luxembourg",":",8.73,10.49,11.33,11.21,10.029999999999999,10.26,11.72,11.73,13.79,14.13,14.21,14.14,12.49,11.84,10.94,10.97,10.33,9.7899999999999991]
["Hungary",":",8.5725999999999996,9.6867999999999999,11.713699999999999,10.305199999999999,10.055,8.3015000000000008,9.9338999999999995,8.5879999999999992,12.1989,12.159700000000001,12.928900000000001,11.500999999999999,13.281000000000001,11.062099999999999,10.8104,10.202500000000001,9.3848000000000003,8.8088999999999995]
["Netherlands",10.69,9.8000000000000007,10.4,10.37,10.97,9.7200000000000006,9.3000000000000007,8.6199999999999992,9.9600000000000009,9.01,10.5,9.6999999999999993,11.56,9.67,11.39,9.34,10.8,8.91,10.66]
["Austria",":",":",":",":",9.35,9.07,9.74,9.7799999999999994,9.6300000000000008,10.27,12.06,12.06,12.14,11.9,11.85,11.13,11,10.5,9.81]
["Poland",":",7.2149999999999999,8.3633000000000006,9.3300999999999998,7.7331000000000003,8.3584999999999994,8.4008000000000003,9.0204000000000004,9.11,8.8225999999999996,9.359,10.4062,10.062200000000001,10.124499999999999,10.451700000000001,10.1218,10.399800000000001,9.3879000000000001,7.5102000000000002]
["Portugal",":",8.1989000000000001,8.69,9.2129999999999992,9.81,7.2239000000000004,7.62,9.282,9.4,10.59,11.12,11.66,11.66,11.66,11.86,12.33,11.57,10.52,9.44]
["Romania",":",7.8912000000000004,7.7899000000000003,7.7645,6.5190000000000001,5.9287999999999998,6.1916000000000002,6.1055999999999999,6.2949999999999999,6.8758999999999997,7.2735000000000003,7.3312999999999997,7.7747000000000002,8.0076000000000001,8.3177000000000003,8.5441000000000003,8.3409999999999993,8.0527999999999995,7.75]
["Slovenia",":",8.84,10.119999999999999,12.66,12.13,9.61,11.7966,11.8119,12.42,14.4,16.04,15.3,13.71,13.33,11.98,12.16,10.199999999999999,10.57,9.59]
["Slovakia",":",7.9428999999999998,9.2788000000000004,13.1196,11.303000000000001,8.9090000000000007,9.1059999999999999,10.215999999999999,9.59,11.37,10.96,11.46,10.25,10.74,10.28,10.45,9.65,9.6300000000000008,8.48]
["Finland",6.32,6.8,7.9,9.3000000000000007,8.5,8,8.4,9.1300000000000008,11.6,12.78,13.14,13.22,13.47,13.01,12.93,12.98,12.4,11.73,11.51]
["Sweden",12.088900000000001,12.309100000000001,14.193099999999999,14.5479,10.297599999999999,12.4717,12.0525,13.430999999999999,14.1134,15.440799999999999,14.946400000000001,15.271100000000001,15.382999999999999,15.162000000000001,13.8559,12.259600000000001,12.478899999999999,11.609299999999999,10.3736]
["United Kingdom",8.6999999999999993,7.1738,7.7298,8.6897000000000002,8.0330999999999992,6.0571000000000002,6.2759,6.3338999999999999,6.8410000000000002,7.6893000000000002,8.9878,9.3812999999999995,9.7551000000000005,9.9452999999999996,10.2765,9.6532,9.9153000000000002,9.7542000000000009,8.0789000000000009]
[]
["Special value:"]
[":","not available"]
[]
["PRODUCT","Natural gas"]
["CONSOM","Band I4 : 100 000 GJ < Consumption < 1 000 000 GJ"]
["UNIT","Gigajoules (gross calorific value = GCV)"]
["TAX","Excluding VAT and other recoverable taxes and levies"]
["CURRENCY","Euro"]
[]
["GEO/TIME","2007S1","2007S2","2008S1","2008S2","2009S1","2009S2","2010S1","2010S2","2011S1","2011S2","2012S1","2012S2","2013S1","2013S2","2014S1","2014S2","2015S1","2015S2","2016S1"]
["European Union (28 countries)",":",7.35,8.41,9.65,8.51,7.43,7.54,7.9,8.2100000000000009,8.66,9.15,9.35,9.5500000000000007,9.49,9.17,8.64,8.5399999999999991,7.98,6.97]
["Belgium",":",7.18,8.73,9.9,8.81,8.75,6.58,6.98,7.39,7.71,7.96,8.06,8.32,8.39,7.64,7.3,7.26,6.91,5.95]
["Bulgaria",":",4.5709999999999997,5.4043999999999999,6.8821000000000003,8.1399000000000008,5.2305999999999999,6.0026999999999999,7.6181000000000001,7.3575999999999997,8.1449999999999996,9.2392000000000003,10.2567,9.1061999999999994,8.8199000000000005,8.8148,8.4977999999999998,7.8791000000000002,6.3502999999999998,5.2816999999999998]
["Czech Republic",":",6.3746,8.2295999999999996,10.224299999999999,8.4498999999999995,6.6825000000000001,7.5975000000000001,8.7893000000000008,8.1599000000000004,9.1013000000000002,8.8729999999999993,8.8080999999999996,8.6006999999999998,8.4824000000000002,8.3129000000000008,7.8198999999999996,7.5163000000000002,7.3391000000000002,6.3224999999999998]
["Denmark",6.3224999999999998,7.0643000000000002,7.8010999999999999,8.0226000000000006,6.9645000000000001,5.7743000000000002,7.6551,9.1595999999999993,10.0709,9.9366000000000003,9.8722999999999992,10.2652,10.959899999999999,10.547499999999999,8.8762000000000008,8.7375000000000007,8.7912999999999997,8.1034000000000006,6.5235000000000003]
["Germany (until 1990 former territory of the FRG)",":",8.68,10.39,11.35,9.9600000000000009,9.14,9.23,9.68,10.029999999999999,10.050000000000001,9.59,9.6999999999999993,10.32,10.56,9.83,8.85,8.7899999999999991,8.3000000000000007,7.37]
["Estonia",":",4.8170999999999999,6.3726000000000003,7.9619,7.1166999999999998,6.1277999999999997,7.6616999999999997,7.6066000000000003,7.51,8.3699999999999992,9.98,9.51,9.91,9.49,9.5500000000000007,10.050000000000001,9.3000000000000007,7.24,8.58]
["Ireland",":",6.91,8.0500000000000007,9.07,8.7200000000000006,6.42,6.43,6.94,7.95,7.49,8.65,9.06,9.68,9.9700000000000006,9.3000000000000007,8.4700000000000006,8.36,8.31,6.73]
["Greece",":",":",":",":",":",":",":",":",":",":",":",14.79,13.7,12.56,12.12,11.9,10.54,8.8800000000000008,6.95]
["Spain",":",6.6970000000000001,7.1369999999999996,8.44,7.4763999999999999,6.5095999999999998,6.7861000000000002,7.0095999999999998,7.47,8.6,9.35,9.7100000000000009,9.68,9.4,9.34,9.65,8.8000000000000007,8.1199999999999992,6.79]
["France",":",7.61,8.23,9.7579999999999991,8.51,7.45,7.59,7.7,7.56,7.94,8.42,8.56,8.8699999999999992,9.19,8.7200000000000006,8.5,8.44,8.09,6.65]
["Croatia",":",":",":",6.4118000000000004,7.3202999999999996,7.4348999999999998,9.4504999999999999,10.945499999999999,11.2376,12.0136,10.303100000000001,13.1607,11.595499999999999,10.0337,8.6457999999999995,10.5585,9.9314,7.9665999999999997,7.2214999999999998]
["Italy",7.43,7.3310000000000004,8.3350000000000009,10.221,9.1219999999999999,6.8049999999999997,7.32,7.35,7.75,8.52,9.91,9.77,9.4700000000000006,9.2100000000000009,8.7899999999999991,8.2100000000000009,8.11,7.69,6.98]
["Latvia",":",7.4036999999999997,7.8023999999999996,10.597799999999999,10.3497,6.8780000000000001,6.8055000000000003,8.3474000000000004,7.7788000000000004,9.0716000000000001,9.7809000000000008,10.627599999999999,9.9392999999999994,9.8362999999999996,9.14,9.4,9.19,7.74,6.92]
["Lithuania",":",5.8836000000000004,8.0838999999999999,10.6677,7.1847000000000003,6.3914999999999997,7.9744000000000002,8.7163000000000004,9.3981999999999992,11.468999999999999,12.1698,12.809900000000001,11.758599999999999,11.599299999999999,10.5595,8.7464999999999993,5.62,5.15,5.88]
["Luxembourg",":",":",5.89,7.03,7.43,7.05,6.81,7.73,9.2100000000000009,10.46,9.9700000000000006,11.28,11.54,9.74,9.11,8.7100000000000009,8.75,8.23,7.16]
["Hungary",":",7.1214000000000004,7.5876999999999999,10.4171,8.8946000000000005,8.6640999999999995,7.7683999999999997,9.4475999999999996,9.9260000000000002,10.9678,12.3772,11.707000000000001,11.5838,10.997,9.2065999999999999,7.9720000000000004,7.7248999999999999,8.1308000000000007,7.4858000000000002]
["Netherlands",8.01,7.87,8.39,9.09,8.93,7.88,7.08,7.2,7.71,7.56,8.25,8.4499999999999993,9.06,8.68,8.52,7.55,8.4499999999999993,7.34,7.08]
["Austria",":",":",":",":",7.28,7.13,6.87,7.68,8.1300000000000008,8.5399999999999991,10.19,10.55,10.98,10.1,10.23,9.42,9.5399999999999991,8.99,9.1199999999999992]
["Poland",":",6.2805,7.4267000000000003,8.2896000000000001,6.9176000000000002,7.1044,7.3987999999999996,7.9093999999999998,7.9791999999999996,7.6189,8.4451999999999998,9.3393999999999995,9.0183999999999997,8.9434000000000005,9.0722000000000005,8.7980999999999998,9.0014000000000003,8.0745000000000005,6.2923999999999998]
["Portugal",":",5.843,6.5940000000000003,7.2409999999999997,7.1,6.3788,7.2149999999999999,8.0470000000000006,8,9.32,9.8800000000000008,10.24,10.18,10.029999999999999,10.1,10.59,9.8699999999999992,9.09,7.71]
["Romania",":",7.4256000000000002,6.7525000000000004,7.2693000000000003,5.9306999999999999,5.1806000000000001,5.6875,5.3338000000000001,5.8834999999999997,6.4268000000000001,7.4511000000000003,6.7305000000000001,6.8956999999999997,6.7276999999999996,7.4015000000000004,7.6603000000000003,7.2348999999999997,6.9005000000000001,6.7823000000000002]
["Slovenia",":",7.58,9.1999999999999993,11.63,":",7.56,11.302899999999999,9.9773999999999994,":",":",13.4,12.89,11.41,11.16,10.130000000000001,9.91,9.0299999999999994,8.33,7.57]
["Slovakia",":",7.3624000000000001,8.5997000000000003,12.0761,10.122999999999999,8.1229999999999993,8.2430000000000003,8.3989999999999991,8.44,9.0299999999999994,9.24,8.91,9.91,9.64,9.4499999999999993,9.59,8.99,8.93,7.82]
["Finland",6.07,6.7,7.5,8.9,8.1999999999999993,7.8,7.9,9.06,11.28,13.13,12.76,12.96,13.18,13.19,12.35,12.16,12.05,10.9,11.17]
["Sweden",9.9323999999999995,10.9649,12.9122,12.2117,8.7940000000000005,10.8438,11.336399999999999,12.1715,13.273300000000001,13.7376,13.551600000000001,13.8055,13.581300000000001,13.1126,11.791,11.2323,11.648099999999999,10.597099999999999,9.4673999999999996]
["United Kingdom",7.1289999999999996,6.1031000000000004,7.2911000000000001,8.2980999999999998,7.1155999999999997,5.4265999999999996,5.5976999999999997,5.9439000000000002,6.5761000000000003,7.1475,8.1972000000000005,8.4807000000000006,8.7208000000000006,8.6357999999999997,8.5840999999999994,7.9474999999999998,8.1397999999999993,7.7255000000000003,6.2549999999999999]
[]
["Special value:"]
[":","not available"]
[]
["PRODUCT","Natural gas"]
["CONSOM","Band I5 : 1 000 000 GJ < Consumption < 4 000 000 GJ"]
["UNIT","Gigajoules (gross calorific value = GCV)"]
["TAX","Excluding VAT and other recoverable taxes and levies"]
["CURRENCY","Euro"]
[]
["GEO/TIME","2007S1","2007S2","2008S1","2008S2","2009S1","2009S2","2010S1","2010S2","2011S1","2011S2","2012S1","2012S2","2013S1","2013S2","2014S1","2014S2","2015S1","2015S2","2016S1"]
["European Union (28 countries)",":",6.56,7.83,8.98,7.64,6.52,6.76,7.38,7.72,8.2100000000000009,8.6999999999999993,8.81,8.8699999999999992,8.57,8.34,7.98,7.76,7.12,5.95]
["Belgium",":",7.17,8.8699999999999992,9.42,7.06,7.29,5.91,6.89,6.87,7.68,7.71,7.83,8.61,7.71,7.24,6.78,5.77,5.88,4.6900000000000004]
["Bulgaria",":",4.4993999999999996,5.3226000000000004,6.6980000000000004,8.0222999999999995,5.0465,5.7930000000000001,7.3952999999999998,7.1326000000000001,7.8689,8.9733000000000001,9.9651999999999994,8.7688000000000006,8.5745000000000005,8.5130999999999997,8.1552000000000007,7.4394,6.1509,4.9903000000000004]
["Czech Republic",":",6.1482000000000001,8.0462000000000007,10.023300000000001,8.1480999999999995,6.3819999999999997,7.4370000000000003,8.5109999999999992,7.4551999999999996,8.0386000000000006,8.4364000000000008,8.5526,8.3003,8.2619000000000007,8.0206999999999997,7.4561000000000002,7.1287000000000003,6.8842999999999996,6.3905000000000003]
["Denmark",5.1039000000000003,5.7850999999999999,6.4478999999999997,6.6504000000000003,5.7080000000000002,4.5423,6.3704999999999998,7.8460000000000001,8.7457999999999991,8.6109000000000009,8.9671000000000003,9.3541000000000007,10.0815,9.6760000000000002,8.0950000000000006,7.9089999999999998,7.9691999999999998,7.2952000000000004,5.7127999999999997]
["Germany (until 1990 former territory of the FRG)",":",7.19,8.9,10.119999999999999,8.82,7.61,8.09,9.0299999999999994,9.36,9.32,8.85,9.26,9.3000000000000007,9.09,8.6300000000000008,8.1999999999999993,8.0399999999999991,7.39,6.16]
["Estonia",":",4.7103000000000002,6.2472000000000003,7.5090000000000003,6.9698000000000002,6.0460000000000003,7.5370999999999997,7.1006,7.24,7.87,9.92,9.25,9.89,9.3699999999999992,9.5399999999999991,10.01,9.07,7.21,8.25]
["Ireland",":",":",":",":",":",":",":",":",":",":",7.03,":",":",":",":",":",":",":",":"]
["Greece",":",":",":",":",":",":",":",":",":",":",":",13.1,12.19,10.64,10.17,10.5,":",":",":"]
["Spain",":",5.5350000000000001,6.6029999999999998,7.6219999999999999,6.9206000000000003,5.8973000000000004,6.4272,6.4858000000000002,6.84,8.07,8.7799999999999994,8.73,9.15,9.01,8.94,9.0500000000000007,8.26,7.46,5.82]
["France",":",7.14,8.15,9.391,7.31,6.92,6.11,6.96,7.39,8.3800000000000008,9.09,8.2899999999999991,8.51,8.25,8.09,7.48,7.22,6.73,4.88]
["Croatia",":",":",":",":",":",":",":",":",":",":",":",":",":",7.6429,":",":",":",":",":"]
["Italy",7.12,6.9969999999999999,8.1690000000000005,10.113,8.8000000000000007,6.6459999999999999,7.38,7.18,7.51,8.39,9.73,9.7100000000000009,9.2799999999999994,8.89,8.36,7.84,7.8,7.15,6.6]
["Latvia",":",7.2321999999999997,7.1295999999999999,9.7912999999999997,9.4153000000000002,6.3673999999999999,6.2690000000000001,7.8821000000000003,7.2413999999999996,7.9943,9.3941999999999997,10.167999999999999,9.5108999999999995,9.452,8.43,8.7799999999999994,8.7799999999999994,7.22,6.68]
["Lithuania",":",5.2984999999999998,7.2647000000000004,":",":",5.3487,7.1329000000000002,":",":",":",":",":",":",":",":",":",":",":",":"]
["Luxembourg",":",":",":",":",":",":",":",":",":",":",":",":",":",":",":",":",":",":",":"]
["Hungary",":",7.3009000000000004,7.4720000000000004,10.1547,8.4474999999999998,8.4495000000000005,7.6772,8.8285999999999998,8.5667000000000009,9.6493000000000002,10.8315,11.163,11.021800000000001,10.0977,9.7829999999999995,8.8247999999999998,8.5183,7.3526999999999996,6.5461]
["Netherlands",6.94,7.11,7.89,8.4,7.43,6.93,6.01,6.32,6.82,6.84,7.27,7.35,8.1199999999999992,7.82,7.92,7.22,7.65,6.89,6.14]
["Austria",":",":",":",":",7.45,7.26,7.11,7.52,8.23,8.58,10.79,10.58,10.31,8.75,9.42,9.3800000000000008,9.76,9.0399999999999991,8.84]
["Poland",":",5.7945000000000002,6.8423999999999996,7.4923000000000002,6.1691000000000003,6.3590999999999998,6.6817000000000002,7.0994000000000002,7.1467999999999998,7.1429999999999998,7.8304999999999998,8.7502999999999993,8.3002000000000002,8.2342999999999993,8.0807000000000002,8.3831000000000007,7.76,6.2333999999999996,4.8113999999999999]
["Portugal",":",5.4539999999999997,6.3230000000000004,7,8.5500000000000007,6.4748999999999999,7.0220000000000002,7.4560000000000004,7.29,8.7899999999999991,9.5399999999999991,9.7899999999999991,9.6199999999999992,9.27,9.56,9.9499999999999993,9.24,8.35,7.38]
["Romania",":",6.7213000000000003,6.1172000000000004,7.1311,5.4534000000000002,4.6665000000000001,5.1131000000000002,4.9078999999999997,5.5030999999999999,6.5781000000000001,7.2849000000000004,6.2004000000000001,6.1214000000000004,6.1946000000000003,6.3710000000000004,6.5505000000000004,6.2725999999999997,6.4054000000000002,5.9725999999999999]
["Slovenia",":",":",":",":",":",":",":",":",":",":",":",":",":",":",":",":",":",":",":"]
["Slovakia",":",7.0468000000000002,8.2813999999999997,11.356400000000001,9.968,7.2279999999999998,7.5220000000000002,8.0690000000000008,7.51,7.67,9.15,9.23,8.56,8.56,8.66,8.25,8.3699999999999992,8.49,8.07]
["Finland",5.7,6.2,7,8.1999999999999993,7.6,7.4,7.4,8.1199999999999992,10.34,11.92,12.2,12.3,12.41,12.21,11.98,11.57,11.5,10.93,11.13]
["Sweden",10.1915,":",13.5137,":",9.0850000000000009,10.300800000000001,10.6662,11.3551,11.9679,13.026899999999999,12.9763,13.7563,13.4078,12.8515,11.348699999999999,11.337300000000001,11.151300000000001,10.4573,9.4415999999999993]
["United Kingdom",5.0244,5.3132999999999999,6.8522999999999996,7.4535999999999998,5.6276000000000002,3.6027,4.5518000000000001,5.8021000000000003,6.53,6.548,7.0418000000000003,7.7051999999999996,7.5220000000000002,7.5503999999999998,7.3665000000000003,6.9619,7.0609000000000002,6.5861999999999998,5.0220000000000002]
[]
["Special value:"]
[":","not available"]
[]
["PRODUCT","Natural gas"]
["CONSOM","Band I6 : Consumption > 4 000 000 GJ"]
["UNIT","Gigajoules (gross calorific value = GCV)"]
["TAX","Excluding VAT and other recoverable taxes and levies"]
["CURRENCY","Euro"]
[]
["GEO/TIME","2007S1","2007S2","2008S1","2008S2","2009S1","2009S2","2010S1","2010S2","2011S1","2011S2","2012S1","2012S2","2013S1","2013S2","2014S1","2014S2","2015S1","2015S2","2016S1"]
["European Union (28 countries)",":",":",":",":",":",":",":",":",":",":",":",":",":",":",":",":",":",":",":"]
["Belgium",":",":",":",":",":",":",":",":",":",":",":",":",7.72,":",6.65,5.48,5.25,4.71,3.77]
["Bulgaria",":",":",":",6.56,8.0990000000000002,":",":",":",":",":",":",":",":",":",":",":",":",":",":"]
["Czech Republic",":",":",":",":",":",":",":",":",":",":",":",":",":",":",":",":",":",":",":"]
["Denmark",":",":",":",":",":",":",":",":",":",":",":",":",":",":",":",":",":",":",":"]
["Germany (until 1990 former territory of the FRG)",":",":",":",":",":",":",":",8.91,8.85,9.08,":",8.6,9.09,8.84,8.2100000000000009,7.64,7.5,7.03,5.74]
["Estonia",":",":",":",":",":",":",":",":",":",":",":",":",":",":",":",":",":",":",":"]
["Ireland",":",":",":",":",":",":",":",":",":",":",":",":",":",":",":",":",":",":",":"]
["Greece",":",":",":",":",":",":",":",":",":",":",":",":",":",":",":",":",":",":",":"]
["Spain",":",5.4770000000000003,6.1980000000000004,7.5979999999999999,6.4829999999999997,5.1952999999999996,5.4268999999999998,5.7831999999999999,":",":",":",":",9.1,8.9600000000000009,8.82,8.74,8.14,6.9,5.58]
["France",":",":",":",":",":",":",":",":",":",":",":",":",":",":",":",":",":",":",":"]
["Croatia",":",":",":",":",":",":",":",":",":",":",":",":",":",":",":",":",":",":",":"]
["Italy",6.78,6.6630000000000003,8.0380000000000003,9.7720000000000002,8.5370000000000008,6.1989999999999998,7.06,7.17,7.62,8.2100000000000009,9.5,9.31,8.74,8.4600000000000009,7.9,7.78,7.59,6.99,6.3]
["Latvia",":",":",":",":",":",":",":",7.8821000000000003,":",":",":",":",":",":",":",":",":",":",":"]
["Lithuania",":",":",7.2647000000000004,10.1265,6.1628999999999996,5.3487,7.1329000000000002,":",":",":",":",":",":",":",":",":",":",":",":"]
["Luxembourg",":",":",":",":",":",":",":",":",":",":",":",":",":",":",":",":",":",":",":"]
["Hungary",":",6.9207999999999998,8.0649999999999995,9.3824000000000005,8.5954999999999995,7.7870999999999997,7.6424000000000003,8.4852000000000007,8.4687000000000001,10.2811,11.295999999999999,11.530799999999999,11.513400000000001,9.8865999999999996,10.145200000000001,9.3475999999999999,8.5870999999999995,7.5113000000000003,6.5627000000000004]
["Netherlands",6.266,":",":",":",":",":",":",":",":",":",":",":",":",":",":",":",":",":",":"]
["Austria",":",":",":",":",":",":",":",":",":",":",":",":",":",":",":",":",":",":",":"]
["Poland",":",":",":",":",":",6.1177999999999999,":",":",":",":",":",":",":",":",":",":",":",":",":"]
["Portugal",":",":",":",":",":",":",":",":",":",":",":",":",":",":",":",":",":",":",":"]
["Romania",":",5.3310000000000004,5.4881000000000002,5.1600999999999999,3.8372000000000002,3.2361,3.6926000000000001,3.7185999999999999,4.5961999999999996,4.7864000000000004,4.8596000000000004,4.5084,4.2607999999999997,4.8517999999999999,5.0560999999999998,5.3322000000000003,5.0697999999999999,4.4698000000000002,4.7291999999999996]
["Slovenia",":",":",":",":",":",":",":",":",":",":",":",":",":",":",":",":",":",":",":"]
["Slovakia",":",":",":",":",":",":",":",":",":",":",":",":",":",":",":",":",":",":",":"]
["Finland",":",":",":",":",":",":",":",":",":",":",":",":",":",":",":",":",":",":",":"]
["Sweden",":",":",":",":",":",":",":",":",":",":",":",":",":",":",":",":",":",":",":"]
["United Kingdom",":",":",":",":",":",":",":",":",":",":",":",":",":",":",":",":",":",":",":"]
[]
["Special value:"]
[":","not available"]

{"sheet":"Afgifter og moms","index":7,"n_rows":32,"n_cols":77,"rows_kept":32,"cut":false,"hidden":false,"merged":[[2,0,2,11],[2,65,2,76],[2,52,2,63],[2,39,2,50],[2,26,2,37],[2,13,2,24]]}
["Ikke-refunderbare afgifter i de enklete lande, EURO"]
[]
["Forbrugsinterval < 1000 GJ",null,null,null,null,null,null,null,null,null,null,null,null,"Forbrugsinterval  1 000 GJ <  10 000 GJ",null,null,null,null,null,null,null,null,null,null,null,null,"Forbrugsinterval  10 000 GJ <  100 000 GJ",null,null,null,null,null,null,null,null,null,null,null,null,"Forbrugsinterval  100 000 GJ < 1 000 000 GJ",null,null,null,null,null,null,null,null,null,null,null,null,"Forbrugsinterval 1 000 000 GJ < 4 000 000 GJ",null,null,null,null,null,null,null,null,null,null,null,null,"Forbrugsinterval > 4 000 000 GJ"]
[]
[{"$f":"'Level 1'!A5","v":"EURO/GJ"},{"$f":"'Level 1'!B5","v":2007},{"$f":"'Level 1'!C5","v":2008},{"$f":"'Level 1'!D5","v":2009},{"$f":"'Level 1'!E5","v":2010},{"$f":"'Level 1'!F5","v":2011},{"$f":"'Level 1'!G5","v":2012},{"$f":"'Level 1'!H5","v":2013},{"$f":"'Level 1'!I5","v":2014},{"$f":"'Level 1'!J5","v":2015},{"$f":"'Level 1'!K5","v":2016},{"$f":"'Level 1'!L5","v":2017},null,{"$f":"'Level 1'!N5","v":"EURO/GJ"},{"$f":"'Level 1'!O5","v":2007},{"$f":"'Level 1'!P5","v":2008},{"$f":"'Level 1'!Q5","v":2009},{"$f":"'Level 1'!R5","v":2010},{"$f":"'Level 1'!S5","v":2011},{"$f":"'Level 1'!T5","v":2012},{"$f":"'Level 1'!U5","v":2013},{"$f":"'Level 1'!V5","v":2014},{"$f":"'Level 1'!W5","v":2015},{"$f":"'Level 1'!X5","v":2016},{"$f":"'Level 1'!Y5","v":2017},null,{"$f":"'Level 1'!AA5","v":"EURO/GJ"},{"$f":"'Level 1'!AB5","v":2007},{"$f":"'Level 1'!AC5","v":2008},{"$f":"'Level 1'!AD5","v":2009},{"$f":"'Level 1'!AE5","v":2010},{"$f":"'Level 1'!AF5","v":2011},{"$f":"'Level 1'!AG5","v":2012},{"$f":"'Level 1'!AH5","v":2013},{"$f":"'Level 1'!AI5","v":2014},{"$f":"'Level 1'!AJ5","v":2015},{"$f":"'Level 1'!AK5","v":2016},{"$f":"'Level 1'!AL5","v":2017},null,{"$f":"'Level 1'!AN5","v":"EURO/GJ"},{"$f":"'Level 1'!AO5","v":2007},{"$f":"'Level 1'!AP5","v":2008},{"$f":"'Level 1'!AQ5","v":2009},{"$f":"'Level 1'!AR5","v":2010},{"$f":"'Level 1'!AS5","v":2011},{"$f":"'Level 1'!AT5","v":2012},{"$f":"'Level 1'!AU5","v":2013},{"$f":"'Level 1'!AV5","v":2014},{"$f":"'Level 1'!AW5","v":2015},{"$f":"'Level 1'!AX5","v":2016},{"$f":"'Level 1'!AY5","v":2017},null,{"$f":"'Level 1'!BA5","v":"EURO/GJ"},{"$f":"'Level 1'!BB5","v":2007},{"$f":"'Level 1'!BC5","v":2008},{"$f":"'Level 1'!BD5","v":2009},{"$f":"'Level 1'!BE5","v":2010},{"$f":"'Level 1'!BF5","v":2011},{"$f":"'Level 1'!BG5","v":2012},{"$f":"'Level 1'!BH5","v":2013},{"$f":"'Level 1'!BI5","v":2014},{"$f":"'Level 1'!BJ5","v":2015},{"$f":"'Level 1'!BK5","v":2016},{"$f":"'Level 1'!BL5","v":2017},null,{"$f":"'Level 1'!BN5","v":"EURO/GJ"},{"$f":"'Level 1'!BO5","v":2007},{"$f":"'Level 1'!BP5","v":2008},{"$f":"'Level 1'!BQ5","v":2009},{"$f":"'Level 1'!BR5","v":2010},{"$f":"'Level 1'!BS5","v":2011},{"$f":"'Level 1'!BT5","v":2012},{"$f":"'Level 1'!BU5","v":2013},{"$f":"'Level 1'!BV5","v":2014},{"$f":"'Level 1'!BW5","v":2015},{"$f":"'Level 1'!BX5","v":2016},{"$f":"'Level 1'!BY5","v":2017}]
[{"$f":"'Level 1'!A6","v":"European Union (28 countries)"},{"$f":"IFERROR('Level 2'!B6-'Level 1'!B6,\"*\")","v":0.97000000000000064},{"$f":"IFERROR('Level 2'!C6-'Level 1'!C6,\"*\")","v":1.0100000000000016},{"$f":"IFERROR('Level 2'!D6-'Level 1'!D6,\"*\")","v":1.1399999999999988},{"$f":"IFERROR('Level 2'!E6-'Level 1'!E6,\"*\")","v":1.1149999999999984},{"$f":"IFERROR('Level 2'!F6-'Level 1'!F6,\"*\")","v":1.2199999999999989},{"$f":"IFERROR('Level 2'!G6-'Level 1'!G6,\"*\")","v":1.2799999999999994},{"$f":"IFERROR('Level 2'!H6-'Level 1'!H6,\"*\")","v":1.3550000000000004},{"$f":"IFERROR('Level 2'!I6-'Level 1'!I6,\"*\")","v":1.42},{"$f":"IFERROR('Level 2'!J6-'Level 1'!J6,\"*\")","v":1.4499999999999993},{"$f":"IFERROR('Level 2'!K6-'Level 1'!K6,\"*\")","v":1.58},{"$f":"IFERROR('Level 2'!L6-'Level 1'!L6,\"*\")","v":"*"},null,{"$f":"'Level 1'!A6","v":"European Union (28 countries)"},{"$f":"IFERROR('Level 2'!O6-'Level 1'!O6,\"*\")","v":0.8100000000000005},{"$f":"IFERROR('Level 2'!P6-'Level 1'!P6,\"*\")","v":0.79499999999999993},{"$f":"IFERROR('Level 2'!Q6-'Level 1'!Q6,\"*\")","v":0.85999999999999943},{"$f":"IFERROR('Level 2'!R6-'Level 1'!R6,\"*\")","v":0.88499999999999801},{"$f":"IFERROR('Level 2'!S6-'Level 1'!S6,\"*\")","v":0.9350000000000005},{"$f":"IFERROR('Level 2'!T6-'Level 1'!T6,\"*\")","v":1.0649999999999995},{"$f":"IFERROR('Level 2'!U6-'Level 1'!U6,\"*\")","v":1.1950000000000003},{"$f":"IFERROR('Level 2'!V6-'Level 1'!V6,\"*\")","v":1.2699999999999996},{"$f":"IFERROR('Level 2'!W6-'Level 1'!W6,\"*\")","v":1.2999999999999989},{"$f":"IFERROR('Level 2'!X6-'Level 1'!X6,\"*\")","v":1.4700000000000006},{"$f":"IFERROR('Level 2'!Y6-'Level 1'!Y6,\"*\")","v":"*"},null,{"$f":"'Level 1'!A6","v":"European Union (28 countries)"},{"$f":"IFERROR('Level 2'!AB6-'Level 1'!AB6,\"*\")","v":0.5},{"$f":"IFERROR('Level 2'!AC6-'Level 1'!AC6,\"*\")","v":0.61999999999999922},{"$f":"IFERROR('Level 2'!AD6-'Level 1'!AD6,\"*\")","v":0.65499999999999936},{"$f":"IFERROR('Level 2'!AE6-'Level 1'!AE6,\"*\")","v":0.72499999999999964},{"$f":"IFERROR('Level 2'!AF6-'Level 1'!AF6,\"*\")","v":0.77499999999999858},{"$f":"IFERROR('Level 2'!AG6-'Level 1'!AG6,\"*\")","v":0.79499999999999815},{"$f":"IFERROR('Level 2'!AH6-'Level 1'!AH6,\"*\")","v":0.82999999999999829},{"$f":"IFERROR('Level 2'!AI6-'Level 1'!AI6,\"*\")","v":0.86500000000000021},{"$f":"IFERROR('Level 2'!AJ6-'Level 1'!AJ6,\"*\")","v":0.95000000000000107},{"$f":"IFERROR('Level 2'!AK6-'Level 1'!AK6,\"*\")","v":1.0899999999999999},{"$f":"IFERROR('Level 2'!AL6-'Level 1'!AL6,\"*\")","v":"*"},null,{"$f":"'Level 1'!A6","v":"European Union (28 countries)"},{"$f":"IFERROR('Level 2'!AO6-'Level 1'!AO6,\"*\")","v":"*"},{"$f":"IFERROR('Level 2'!AP6-'Level 1'!AP6,\"*\")","v":"*"},{"$f":"IFERROR('Level 2'!AQ6-'Level 1'!AQ6,\"*\")","v":"*"},{"$f":"IFERROR('Level 2'!AR6-'Level 1'!AR6,\"*\")","v":"*"},{"$f":"IFERROR('Level 2'!AS6-'Level 1'!AS6,\"*\")","v":"*"},{"$f":"IFERROR('Level 2'!AT6-'Level 1'!AT6,\"*\")","v":"*"},{"$f":"IFERROR('Level 2'!AU6-'Level 1'!AU6,\"*\")","v":"*"},{"$f":"IFERROR('Level 2'!AV6-'Level 1'!AV6,\"*\")","v":"*"},{"$f":"IFERROR('Level 2'!AW6-'Level 1'!AW6,\"*\")","v":"*"},{"$f":"IFERROR('Level 2'!AX6-'Level 1'!AX6,\"*\")","v":"*"},{"$f":"IFERROR('Level 2'!AY6-'Level 1'!AY6,\"*\")","v":"*"},null,{"$f":"'Level 1'!A6","v":"European Union (28 countries)"},{"$f":"IFERROR('Level 2'!BB6-'Level 1'!BB6,\"*\")","v":"*"},{"$f":"IFERROR('Level 2'!BC6-'Level 1'!BC6,\"*\")","v":"*"},{"$f":"IFERROR('Level 2'!BD6-'Level 1'!BD6,\"*\")","v":"*"},{"$f":"IFERROR('Level 2'!BE6-'Level 1'!BE6,\"*\")","v":"*"},{"$f":"IFERROR('Level 2'!BF6-'Level 1'!BF6,\"*\")","v":"*"},{"$f":"IFERROR('Level 2'!BG6-'Level 1'!BG6,\"*\")","v":"*"},{"$f":"IFERROR('Level 2'!BH6-'Level 1'!BH6,\"*\")","v":"*"},{"$f":"IFERROR('Level 2'!BI6-'Level 1'!BI6,\"*\")","v":"*"},{"$f":"IFERROR('Level 2'!BJ6-'Level 1'!BJ6,\"*\")","v":"*"},{"$f":"IFERROR('Level 2'!BK6-'Level 1'!BK6,\"*\")","v":"*"},{"$f":"IFERROR('Level 2'!BL6-'Level 1'!BL6,\"*\")","v":"*"},null,{"$f":"'Level 1'!A6","v":"European Union (28 countries)"},{"$f":"IFERROR('Level 2'!BO6-'Level 1'!BO6,\"*\")","v":"*"},{"$f":"IFERROR('Level 2'!BP6-'Level 1'!BP6,\"*\")","v":"*"},{"$f":"IFERROR('Level 2'!BQ6-'Level 1'!BQ6,\"*\")","v":"*"},{"$f":"IFERROR('Level 2'!BR6-'Level 1'!BR6,\"*\")","v":"*"},{"$f":"IFERROR('Level 2'!BS6-'Level 1'!BS6,\"*\")","v":"*"},{"$f":"IFERROR('Level 2'!BT6-'Level 1'!BT6,\"*\")","v":"*"},{"$f":"IFERROR('Level 2'!BU6-'Level 1'!BU6,\"*\")","v":"*"},{"$f":"IFERROR('Level 2'!BV6-'Level 1'!BV6,\"*\")","v":"*"},{"$f":"IFERROR('Level 2'!BW6-'Level 1'!BW6,\"*\")","v":"*"},{"$f":"IFERROR('Level 2'!BX6-'Level 1'!BX6,\"*\")","v":"*"},{"$f":"IFERROR('Level 2'!BY6-'Level 1'!BY6,\"*\")","v":"*"}]
[{"$f":"'Level 1'!A7","v":"Belgium"},{"$f":"IFERROR('Level 2'!B7-'Level 1'!B7,\"*\")","v":0.33000000000000007},{"$f":"IFERROR('Level 2'!C7-'Level 1'!C7,\"*\")","v":0.34499999999999886},{"$f":"IFERROR('Level 2'!D7-'Level 1'!D7,\"*\")","v":0.38499999999999979},{"$f":"IFERROR('Level 2'!E7-'Level 1'!E7,\"*\")","v":0.47000000000000064},{"$f":"IFERROR('Level 2'!F7-'Level 1'!F7,\"*\")","v":0.50999999999999979},{"$f":"IFERROR('Level 2'!G7-'Level 1'!G7,\"*\")","v":0.58500000000000085},{"$f":"IFERROR('Level 2'!H7-'Level 1'!H7,\"*\")","v":0.49499999999999922},{"$f":"IFERROR('Level 2'!I7-'Level 1'!I7,\"*\")","v":0.60499999999999865},{"$f":"IFERROR('Level 2'!J7-'Level 1'!J7,\"*\")","v":0.5400000000000027},{"$f":"IFERROR('Level 2'!K7-'Level 1'!K7,\"*\")","v":0.54999999999999893},{"$f":"IFERROR('Level 2'!L7-'Level 1'!L7,\"*\")","v":"*"},null,{"$f":"'Level 1'!A7","v":"Belgium"},{"$f":"IFERROR('Level 2'!O7-'Level 1'!O7,\"*\")","v":0.23000000000000043},{"$f":"IFERROR('Level 2'!P7-'Level 1'!P7,\"*\")","v":0.25500000000000078},{"$f":"IFERROR('Level 2'!Q7-'Level 1'!Q7,\"*\")","v":0.28999999999999915},{"$f":"IFERROR('Level 2'!R7-'Level 1'!R7,\"*\")","v":0.49000000000000021},{"$f":"IFERROR('Level 2'!S7-'Level 1'!S7,\"*\")","v":0.48000000000000043},{"$f":"IFERROR('Level 2'!T7-'Level 1'!T7,\"*\")","v":0.64499999999999957},{"$f":"IFERROR('Level 2'!U7-'Level 1'!U7,\"*\")","v":0.40499999999999758},{"$f":"IFERROR('Level 2'!V7-'Level 1'!V7,\"*\")","v":1.5549999999999997},{"$f":"IFERROR('Level 2'!W7-'Level 1'!W7,\"*\")","v":0.76500000000000057},{"$f":"IFERROR('Level 2'!X7-'Level 1'!X7,\"*\")","v":0.58999999999999986},{"$f":"IFERROR('Level 2'!Y7-'Level 1'!Y7,\"*\")","v":"*"},null,{"$f":"'Level 1'!A7","v":"Belgium"},{"$f":"IFERROR('Level 2'!AB7-'Level 1'!AB7,\"*\")","v":"*"},{"$f":"IFERROR('Level 2'!AC7-'Level 1'!AC7,\"*\")","v":"*"},{"$f":"IFERROR('Level 2'!AD7-'Level 1'!AD7,\"*\")","v":"*"},{"$f":"IFERROR('Level 2'!AE7-'Level 1'!AE7,\"*\")","v":"*"},{"$f":"IFERROR('Level 2'!AF7-'Level 1'!AF7,\"*\")","v":"*"},{"$f":"IFERROR('Level 2'!AG7-'Level 1'!AG7,\"*\")","v":"*"},{"$f":"IFERROR('Level 2'!AH7-'Level 1'!AH7,\"*\")","v":"*"},{"$f":"IFERROR('Level 2'!AI7-'Level 1'!AI7,\"*\")","v":"*"},{"$f":"IFERROR('Level 2'!AJ7-'Level 1'!AJ7,\"*\")","v":"*"},{"$f":"IFERROR('Level 2'!AK7-'Level 1'!AK7,\"*\")","v":"*"},{"$f":"IFERROR('Level 2'!AL7-'Level 1'!AL7,\"*\")","v":"*"},null,{"$f":"'Level 1'!A7","v":"Belgium"},{"$f":"IFERROR('Level 2'!AO7-'Level 1'!AO7,\"*\")","v":"*"},{"$f":"IFERROR('Level 2'!AP7-'Level 1'!AP7,\"*\")","v":"*"},{"$f":"IFERROR('Level 2'!AQ7-'Level 1'!AQ7,\"*\")","v":"*"},{"$f":"IFERROR('Level 2'!AR7-'Level 1'!AR7,\"*\")","v":"*"},{"$f":"IFERROR('Level 2'!AS7-'Level 1'!AS7,\"*\")","v":"*"},{"$f":"IFERROR('Level 2'!AT7-'Level 1'!AT7,\"*\")","v":"*"},{"$f":"IFERROR('Level 2'!AU7-'Level 1'!AU7,\"*\")","v":"*"},{"$f":"IFERROR('Level 2'!AV7-'Level 1'!AV7,\"*\")","v":"*"},{"$f":"IFERROR('Level 2'!AW7-'Level 1'!AW7,\"*\")","v":"*"},{"$f":"IFERROR('Level 2'!AX7-'Level 1'!AX7,\"*\")","v":"*"},{"$f":"IFERROR('Level 2'!AY7-'Level 1'!AY7,\"*\")","v":"*"},null,{"$f":"'Level 1'!A7","v":"Belgium"},{"$f":"IFERROR('Level 2'!BB7-'Level 1'!BB7,\"*\")","v":"*"},{"$f":"IFERROR('Level 2'!BC7-'Level 1'!BC7,\"*\")","v":"*"},{"$f":"IFERROR('Level 2'!BD7-'Level 1'!BD7,\"*\")","v":"*"},{"$f":"IFERROR('Level 2'!BE7-'Level 1'!BE7,\"*\")","v":"*"},{"$f":"IFERROR('Level 2'!BF7-'Level 1'!BF7,\"*\")","v":"*"},{"$f":"IFERROR('Level 2'!BG7-'Level 1'!BG7,\"*\")","v":"*"},{"$f":"IFERROR('Level 2'!BH7-'Level 1'!BH7,\"*\")","v":"*"},{"$f":"IFERROR('Level 2'!BI7-'Level 1'!BI7,\"*\")","v":"*"},{"$f":"IFERROR('Level 2'!BJ7-'Level 1'!BJ7,\"*\")","v":"*"},{"$f":"IFERROR('Level 2'!BK7-'Level 1'!BK7,\"*\")","v":"*"},{"$f":"IFERROR('Level 2'!BL7-'Level 1'!BL7,\"*\")","v":"*"},null,{"$f":"'Level 1'!A7","v":"Belgium"},{"$f":"IFERROR('Level 2'!BO7-'Level 1'!BO7,\"*\")","v":"*"},{"$f":"IFERROR('Level 2'!BP7-'Level 1'!BP7,\"*\")","v":"*"},{"$f":"IFERROR('Level 2'!BQ7-'Level 1'!BQ7,\"*\")","v":"*"},{"$f":"IFERROR('Level 2'!BR7-'Level 1'!BR7,\"*\")","v":"*"},{"$f":"IFERROR('Level 2'!BS7-'Level 1'!BS7,\"*\")","v":"*"},{"$f":"IFERROR('Level 2'!BT7-'Level 1'!BT7,\"*\")","v":"*"},{"$f":"IFERROR('Level 2'!BU7-'Level 1'!BU7,\"*\")","v":"*"},{"$f":"IFERROR('Level 2'!BV7-'Level 1'!BV7,\"*\")","v":"*"},{"$f":"IFERROR('Level 2'!BW7-'Level 1'!BW7,\"*\")","v":"*"},{"$f":"IFERROR('Level 2'!BX7-'Level 1'!BX7,\"*\")","v":"*"},{"$f":"IFERROR('Level 2'!BY7-'Level 1'!BY7,\"*\")","v":"*"}]
[{"$f":"'Level 1'!A8","v":"Bulgaria"},{"$f":"IFERROR('Level 2'!B8-'Level 1'!B8,\"*\")","v":0},{"$f":"IFERROR('Level 2'!C8-'Level 1'!C8,\"*\")","v":0},{"$f":"IFERROR('Level 2'!D8-'Level 1'!D8,\"*\")","v":0},{"$f":"IFERROR('Level 2'!E8-'Level 1'!E8,\"*\")","v":0},{"$f":"IFERROR('Level 2'!F8-'Level 1'!F8,\"*\")","v":0},{"$f":"IFERROR('Level 2'!G8-'Level 1'!G8,\"*\")","v":3.0649999999999622E-2},{"$f":"IFERROR('Level 2'!H8-'Level 1'!H8,\"*\")","v":5.1099999999999923E-2},{"$f":"IFERROR('Level 2'!I8-'Level 1'!I8,\"*\")","v":0.30679999999999907},{"$f":"IFERROR('Level 2'!J8-'Level 1'!J8,\"*\")","v":0.3017000000000003},{"$f":"IFERROR('Level 2'!K8-'Level 1'!K8,\"*\")","v":0.30679999999999996},{"$f":"IFERROR('Level 2'!L8-'Level 1'!L8,\"*\")","v":"*"},null,{"$f":"'Level 1'!A8","v":"Bulgaria"},{"$f":"IFERROR('Level 2'!O8-'Level 1'!O8,\"*\")","v":0},{"$f":"IFERROR('Level 2'!P8-'Level 1'!P8,\"*\")","v":0},{"$f":"IFERROR('Level 2'!Q8-'Level 1'!Q8,\"*\")","v":0},{"$f":"IFERROR('Level 2'!R8-'Level 1'!R8,\"*\")","v":0},{"$f":"IFERROR('Level 2'!S8-'Level 1'!S8,\"*\")","v":0},{"$f":"IFERROR('Level 2'!T8-'Level 1'!T8,\"*\")","v":3.0699999999999505E-2},{"$f":"IFERROR('Level 2'!U8-'Level 1'!U8,\"*\")","v":5.11000000000017E-2},{"$f":"IFERROR('Level 2'!V8-'Level 1'!V8,\"*\")","v":0.30424999999999969},{"$f":"IFERROR('Level 2'!W8-'Level 1'!W8,\"*\")","v":0.29909999999999926},{"$f":"IFERROR('Level 2'!X8-'Level 1'!X8,\"*\")","v":0.30679999999999996},{"$f":"IFERROR('Level 2'!Y8-'Level 1'!Y8,\"*\")","v":"*"},null,{"$f":"'Level 1'!A8","v":"Bulgaria"},{"$f":"IFERROR('Level 2'!AB8-'Level 1'!AB8,\"*\")","v":"*"},{"$f":"IFERROR('Level 2'!AC8-'Level 1'!AC8,\"*\")","v":"*"},{"$f":"IFERROR('Level 2'!AD8-'Level 1'!AD8,\"*\")","v":"*"},{"$f":"IFERROR('Level 2'!AE8-'Level 1'!AE8,\"*\")","v":"*"},{"$f":"IFERROR('Level 2'!AF8-'Level 1'!AF8,\"*\")","v":"*"},{"$f":"IFERROR('Level 2'!AG8-'Level 1'!AG8,\"*\")","v":"*"},{"$f":"IFERROR('Level 2'!AH8-'Level 1'!AH8,\"*\")","v":"*"},{"$f":"IFERROR('Level 2'!AI8-'Level 1'!AI8,\"*\")","v":"*"},{"$f":"IFERROR('Level 2'!AJ8-'Level 1'!AJ8,\"*\")","v":"*"},{"$f":"IFERROR('Level 2'!AK8-'Level 1'!AK8,\"*\")","v":"*"},{"$f":"IFERROR('Level 2'!AL8-'Level 1'!AL8,\"*\")","v":"*"},null,{"$f":"'Level 1'!A8","v":"Bulgaria"},{"$f":"IFERROR('Level 2'!AO8-'Level 1'!AO8,\"*\")","v":"*"},{"$f":"IFERROR('Level 2'!AP8-'Level 1'!AP8,\"*\")","v":"*"},{"$f":"IFERROR('Level 2'!AQ8-'Level 1'!AQ8,\"*\")","v":"*"},{"$f":"IFERROR('Level 2'!AR8-'Level 1'!AR8,\"*\")","v":"*"},{"$f":"IFERROR('Level 2'!AS8-'Level 1'!AS8,\"*\")","v":"*"},{"$f":"IFERROR('Level 2'!AT8-'Level 1'!AT8,\"*\")","v":"*"},{"$f":"IFERROR('Level 2'!AU8-'Level 1'!AU8,\"*\")","v":"*"},{"$f":"IFERROR('Level 2'!AV8-'Level 1'!AV8,\"*\")","v":"*"},{"$f":"IFERROR('Level 2'!AW8-'Level 1'!AW8,\"*\")","v":"*"},{"$f":"IFERROR('Level 2'!AX8-'Level 1'!AX8,\"*\")","v":"*"},{"$f":"IFERROR('Level 2'!AY8-'Level 1'!AY8,\"*\")","v":"*"},null,{"$f":"'Level 1'!A8","v":"Bulgaria"},{"$f":"IFERROR('Level 2'!BB8-'Level 1'!BB8,\"*\")","v":"*"},{"$f":"IFERROR('Level 2'!BC8-'Level 1'!BC8,\"*\")","v":"*"},{"$f":"IFERROR('Level 2'!BD8-'Level 1'!BD8,\"*\")","v":"*"},{"$f":"IFERROR('Level 2'!BE8-'Level 1'!BE8,\"*\")","v":"*"},{"$f":"IFERROR('Level 2'!BF8-'Level 1'!BF8,\"*\")","v":"*"},{"$f":"IFERROR('Level 2'!BG8-'Level 1'!BG8,\"*\")","v":"*"},{"$f":"IFERROR('Level 2'!BH8-'Level 1'!BH8,\"*\")","v":"*"},{"$f":"IFERROR('Level 2'!BI8-'Level 1'!BI8,\"*\")","v":"*"},{"$f":"IFERROR('Level 2'!BJ8-'Level 1'!BJ8,\"*\")","v":"*"},{"$f":"IFERROR('Level 2'!BK8-'Level 1'!BK8,\"*\")","v":"*"},{"$f":"IFERROR('Level 2'!BL8-'Level 1'!BL8,\"*\")","v":"*"},null,{"$f":"'Level 1'!A8","v":"Bulgaria"},{"$f":"IFERROR('Level 2'!BO8-'Level 1'!BO8,\"*\")","v":"*"},{"$f":"IFERROR('Level 2'!BP8-'Level 1'!BP8,\"*\")","v":"*"},{"$f":"IFERROR('Level 2'!BQ8-'Level 1'!BQ8,\"*\")","v":"*"},{"$f":"IFERROR('Level 2'!BR8-'Level 1'!BR8,\"*\")","v":"*"},{"$f":"IFERROR('Level 2'!BS8-'Level 1'!BS8,\"*\")","v":"*"},{"$f":"IFERROR('Level 2'!BT8-'Level 1'!BT8,\"*\")","v":"*"},{"$f":"IFERROR('Level 2'!BU8-'Level 1'!BU8,\"*\")","v":"*"},{"$f":"IFERROR('Level 2'!BV8-'Level 1'!BV8,\"*\")","v":"*"},{"$f":"IFERROR('Level 2'!BW8-'Level 1'!BW8,\"*\")","v":"*"},{"$f":"IFERROR('Level 2'!BX8-'Level 1'!BX8,\"*\")","v":"*"},{"$f":"IFERROR('Level 2'!BY8-'Level 1'!BY8,\"*\")","v":"*"}]
[{"$f":"'Level 1'!A9","v":"Czech Republic"},{"$f":"IFERROR('Level 2'!B9-'Level 1'!B9,\"*\")","v":0},{"$f":"IFERROR('Level 2'!C9-'Level 1'!C9,\"*\")","v":0.34060000000000201},{"$f":"IFERROR('Level 2'!D9-'Level 1'!D9,\"*\")","v":0.32160000000000011},{"$f":"IFERROR('Level 2'!E9-'Level 1'!E9,\"*\")","v":0.33610000000000184},{"$f":"IFERROR('Level 2'!F9-'Level 1'!F9,\"*\")","v":0.34569999999999901},{"$f":"IFERROR('Level 2'!G9-'Level 1'!G9,\"*\")","v":0.33795000000000108},{"$f":"IFERROR('Level 2'!H9-'Level 1'!H9,\"*\")","v":0.32725000000000115},{"$f":"IFERROR('Level 2'!I9-'Level 1'!I9,\"*\")","v":0.30870000000000175},{"$f":"IFERROR('Level 2'!J9-'Level 1'!J9,\"*\")","v":0.31160000000000032},{"$f":"IFERROR('Level 2'!K9-'Level 1'!K9,\"*\")","v":0.3144000000000009},{"$f":"IFERROR('Level 2'!L9-'Level 1'!L9,\"*\")","v":"*"},null,{"$f":"'Level 1'!A9","v":"Czech Republic"},{"$f":"IFERROR('Level 2'!O9-'Level 1'!O9,\"*\")","v":0},{"$f":"IFERROR('Level 2'!P9-'Level 1'!P9,\"*\")","v":0.34065000000000012},{"$f":"IFERROR('Level 2'!Q9-'Level 1'!Q9,\"*\")","v":0.32160000000000011},{"$f":"IFERROR('Level 2'!R9-'Level 1'!R9,\"*\")","v":0.33615000000000173},{"$f":"IFERROR('Level 2'!S9-'Level 1'!S9,\"*\")","v":0.34569999999999901},{"$f":"IFERROR('Level 2'!T9-'Level 1'!T9,\"*\")","v":0.33794999999999931},{"$f":"IFERROR('Level 2'!U9-'Level 1'!U9,\"*\")","v":0.32729999999999926},{"$f":"IFERROR('Level 2'!V9-'Level 1'!V9,\"*\")","v":0.30865000000000009},{"$f":"IFERROR('Level 2'!W9-'Level 1'!W9,\"*\")","v":0.31160000000000032},{"$f":"IFERROR('Level 2'!X9-'Level 1'!X9,\"*\")","v":0.31430000000000025},{"$f":"IFERROR('Level 2'!Y9-'Level 1'!Y9,\"*\")","v":"*"},null,{"$f":"'Level 1'!A9","v":"Czech Republic"},{"$f":"IFERROR('Level 2'!AB9-'Level 1'!AB9,\"*\")","v":1.0130999999999997},{"$f":"IFERROR('Level 2'!AC9-'Level 1'!AC9,\"*\")","v":0.39874999999999972},{"$f":"IFERROR('Level 2'!AD9-'Level 1'!AD9,\"*\")","v":0.66450000000000031},{"$f":"IFERROR('Level 2'!AE9-'Level 1'!AE9,\"*\")","v":-0.91105000000000125},{"$f":"IFERROR('Level 2'!AF9-'Level 1'!AF9,\"*\")","v":0.37515000000000143},{"$f":"IFERROR('Level 2'!AG9-'Level 1'!AG9,\"*\")","v":0.63360000000000127},{"$f":"IFERROR('Level 2'!AH9-'Level 1'!AH9,\"*\")","v":1.3606499999999997},{"$f":"IFERROR('Level 2'!AI9-'Level 1'!AI9,\"*\")","v":0.13444999999999929},{"$f":"IFERROR('Level 2'!AJ9-'Level 1'!AJ9,\"*\")","v":0.15845000000000109},{"$f":"IFERROR('Level 2'!AK9-'Level 1'!AK9,\"*\")","v":0.17810000000000059},{"$f":"IFERROR('Level 2'!AL9-'Level 1'!AL9,\"*\")","v":"*"},null,{"$f":"'Level 1'!A9","v":"Czech Republic"},{"$f":"IFERROR('Level 2'!AO9-'Level 1'!AO9,\"*\")","v":"*"},{"$f":"IFERROR('Level 2'!AP9-'Level 1'!AP9,\"*\")","v":"*"},{"$f":"IFERROR('Level 2'!AQ9-'Level 1'!AQ9,\"*\")","v":"*"},{"$f":"IFERROR('Level 2'!AR9-'Level 1'!AR9,\"*\")","v":"*"},{"$f":"IFERROR('Level 2'!AS9-'Level 1'!AS9,\"*\")","v":"*"},{"$f":"IFERROR('Level 2'!AT9-'Level 1'!AT9,\"*\")","v":"*"},{"$f":"IFERROR('Level 2'!AU9-'Level 1'!AU9,\"*\")","v":"*"},{"$f":"IFERROR('Level 2'!AV9-'Level 1'!AV9,\"*\")","v":"*"},{"$f":"IFERROR('Level 2'!AW9-'Level 1'!AW9,\"*\")","v":"*"},{"$f":"IFERROR('Level 2'!AX9-'Level 1'!AX9,\"*\")","v":"*"},{"$f":"IFERROR('Level 2'!AY9-'Level 1'!AY9,\"*\")","v":"*"},null,{"$f":"'Level 1'!A9","v":"Czech Republic"},{"$f":"IFERROR('Level 2'!BB9-'Level 1'!BB9,\"*\")","v":"*"},{"$f":"IFERROR('Level 2'!BC9-'Level 1'!BC9,\"*\")","v":"*"},{"$f":"IFERROR('Level 2'!BD9-'Level 1'!BD9,\"*\")","v":"*"},{"$f":"IFERROR('Level 2'!BE9-'Level 1'!BE9,\"*\")","v":"*"},{"$f":"IFERROR('Level 2'!BF9-'Level 1'!BF9,\"*\")","v":"*"},{"$f":"IFERROR('Level 2'!BG9-'Level 1'!BG9,\"*\")","v":"*"},{"$f":"IFERROR('Level 2'!BH9-'Level 1'!BH9,\"*\")","v":"*"},{"$f":"IFERROR('Level 2'!BI9-'Level 1'!BI9,\"*\")","v":"*"},{"$f":"IFERROR('Level 2'!BJ9-'Level 1'!BJ9,\"*\")","v":"*"},{"$f":"IFERROR('Level 2'!BK9-'Level 1'!BK9,\"*\")","v":"*"},{"$f":"IFERROR('Level 2'!BL9-'Level 1'!BL9,\"*\")","v":"*"},null,{"$f":"'Level 1'!A9","v":"Czech Republic"},{"$f":"IFERROR('Level 2'!BO9-'Level 1'!BO9,\"*\")","v":"*"},{"$f":"IFERROR('Level 2'!BP9-'Level 1'!BP9,\"*\")","v":"*"},{"$f":"IFERROR('Level 2'!BQ9-'Level 1'!BQ9,\"*\")","v":"*"},{"$f":"IFERROR('Level 2'!BR9-'Level 1'!BR9,\"*\")","v":"*"},{"$f":"IFERROR('Level 2'!BS9-'Level 1'!BS9,\"*\")","v":"*"},{"$f":"IFERROR('Level 2'!BT9-'Level 1'!BT9,\"*\")","v":"*"},{"$f":"IFERROR('Level 2'!BU9-'Level 1'!BU9,\"*\")","v":"*"},{"$f":"IFERROR('Level 2'!BV9-'Level 1'!BV9,\"*\")","v":"*"},{"$f":"IFERROR('Level 2'!BW9-'Level 1'!BW9,\"*\")","v":"*"},{"$f":"IFERROR('Level 2'!BX9-'Level 1'!BX9,\"*\")","v":"*"},{"$f":"IFERROR('Level 2'!BY9-'Level 1'!BY9,\"*\")","v":"*"}]
[{"$f":"'Level 1'!A10","v":"Denmark"},{"$f":"IFERROR('Level 2'!B10-'Level 1'!B10,\"*\")","v":5.3015500000000024},{"$f":"IFERROR('Level 2'!C10-'Level 1'!C10,\"*\")","v":5.4038000000000004},{"$f":"IFERROR('Level 2'!D10-'Level 1'!D10,\"*\")","v":5.4725500000000018},{"$f":"IFERROR('Level 2'!E10-'Level 1'!E10,\"*\")","v":7.00535},{"$f":"IFERROR('Level 2'!F10-'Level 1'!F10,\"*\")","v":7.1268499999999975},{"$f":"IFERROR('Level 2'!G10-'Level 1'!G10,\"*\")","v":6.9334500000000023},{"$f":"IFERROR('Level 2'!H10-'Level 1'!H10,\"*\")","v":7.9539499999999972},{"$f":"IFERROR('Level 2'!I10-'Level 1'!I10,\"*\")","v":8.1382000000000012},{"$f":"IFERROR('Level 2'!J10-'Level 1'!J10,\"*\")","v":6.508499999999998},{"$f":"IFERROR('Level 2'!K10-'Level 1'!K10,\"*\")","v":6.5356000000000005},{"$f":"IFERROR('Level 2'!L10-'Level 1'!L10,\"*\")","v":"*"},null,{"$f":"'Level 1'!A10","v":"Denmark"},{"$f":"IFERROR('Level 2'!O10-'Level 1'!O10,\"*\")","v":4.0506499999999992},{"$f":"IFERROR('Level 2'!P10-'Level 1'!P10,\"*\")","v":4.1282999999999976},{"$f":"IFERROR('Level 2'!Q10-'Level 1'!Q10,\"*\")","v":4.1805999999999983},{"$f":"IFERROR('Level 2'!R10-'Level 1'!R10,\"*\")","v":5.5551500000000011},{"$f":"IFERROR('Level 2'!S10-'Level 1'!S10,\"*\")","v":5.649799999999999},{"$f":"IFERROR('Level 2'!T10-'Level 1'!T10,\"*\")","v":5.5591000000000008},{"$f":"IFERROR('Level 2'!U10-'Level 1'!U10,\"*\")","v":6.3435999999999986},{"$f":"IFERROR('Level 2'!V10-'Level 1'!V10,\"*\")","v":6.3642500000000002},{"$f":"IFERROR('Level 2'!W10-'Level 1'!W10,\"*\")","v":5.193249999999999},{"$f":"IFERROR('Level 2'!X10-'Level 1'!X10,\"*\")","v":5.2094000000000005},{"$f":"IFERROR('Level 2'!Y10-'Level 1'!Y10,\"*\")","v":"*"},null,{"$f":"'Level 1'!A10","v":"Denmark"},{"$f":"IFERROR('Level 2'!AB10-'Level 1'!AB10,\"*\")","v":-1.0942999999999996},{"$f":"IFERROR('Level 2'!AC10-'Level 1'!AC10,\"*\")","v":-0.80935000000000024},{"$f":"IFERROR('Level 2'!AD10-'Level 1'!AD10,\"*\")","v":1.6150500000000001},{"$f":"IFERROR('Level 2'!AE10-'Level 1'!AE10,\"*\")","v":0.39575000000000049},{"$f":"IFERROR('Level 2'!AF10-'Level 1'!AF10,\"*\")","v":-0.31780000000000008},{"$f":"IFERROR('Level 2'!AG10-'Level 1'!AG10,\"*\")","v":1.7142499999999998},{"$f":"IFERROR('Level 2'!AH10-'Level 1'!AH10,\"*\")","v":0.47785000000000011},{"$f":"IFERROR('Level 2'!AI10-'Level 1'!AI10,\"*\")","v":2.1908500000000011},{"$f":"IFERROR('Level 2'!AJ10-'Level 1'!AJ10,\"*\")","v":0.87139999999999951},{"$f":"IFERROR('Level 2'!AK10-'Level 1'!AK10,\"*\")","v":0.96220000000000017},{"$f":"IFERROR('Level 2'!AL10-'Level 1'!AL10,\"*\")","v":"*"},null,{"$f":"'Level 1'!A10","v":"Denmark"},{"$f":"IFERROR('Level 2'!AO10-'Level 1'!AO10,\"*\")","v":"*"},{"$f":"IFERROR('Level 2'!AP10-'Level 1'!AP10,\"*\")","v":"*"},{"$f":"IFERROR('Level 2'!AQ10-'Level 1'!AQ10,\"*\")","v":"*"},{"$f":"IFERROR('Level 2'!AR10-'Level 1'!AR10,\"*\")","v":"*"},{"$f":"IFERROR('Level 2'!AS10-'Level 1'!AS10,\"*\")","v":"*"},{"$f":"IFERROR('Level 2'!AT10-'Level 1'!AT10,\"*\")","v":"*"},{"$f":"IFERROR('Level 2'!AU10-'Level 1'!AU10,\"*\")","v":"*"},{"$f":"IFERROR('Level 2'!AV10-'Level 1'!AV10,\"*\")","v":"*"},{"$f":"IFERROR('Level 2'!AW10-'Level 1'!AW10,\"*\")","v":"*"},{"$f":"IFERROR('Level 2'!AX10-'Level 1'!AX10,\"*\")","v":"*"},{"$f":"IFERROR('Level 2'!AY10-'Level 1'!AY10,\"*\")","v":"*"},null,{"$f":"'Level 1'!A10","v":"Denmark"},{"$f":"IFERROR('Level 2'!BB10-'Level 1'!BB10,\"*\")","v":"*"},{"$f":"IFERROR('Level 2'!BC10-'Level 1'!BC10,\"*\")","v":"*"},{"$f":"IFERROR('Level 2'!BD10-'Level 1'!BD10,\"*\")","v":"*"},{"$f":"IFERROR('Level 2'!BE10-'Level 1'!BE10,\"*\")","v":"*"},{"$f":"IFERROR('Level 2'!BF10-'Level 1'!BF10,\"*\")","v":"*"},{"$f":"IFERROR('Level 2'!BG10-'Level 1'!BG10,\"*\")","v":"*"},{"$f":"IFERROR('Level 2'!BH10-'Level 1'!BH10,\"*\")","v":"*"},{"$f":"IFERROR('Level 2'!BI10-'Level 1'!BI10,\"*\")","v":"*"},{"$f":"IFERROR('Level 2'!BJ10-'Level 1'!BJ10,\"*\")","v":"*"},{"$f":"IFERROR('Level 2'!BK10-'Level 1'!BK10,\"*\")","v":"*"},{"$f":"IFERROR('Level 2'!BL10-'Level 1'!BL10,\"*\")","v":"*"},null,{"$f":"'Level 1'!A10","v":"Denmark"},{"$f":"IFERROR('Level 2'!BO10-'Level 1'!BO10,\"*\")","v":"*"},{"$f":"IFERROR('Level 2'!BP10-'Level 1'!BP10,\"*\")","v":"*"},{"$f":"IFERROR('Level 2'!BQ10-'Level 1'!BQ10,\"*\")","v":"*"},{"$f":"IFERROR('Level 2'!BR10-'Level 1'!BR10,\"*\")","v":"*"},{"$f":"IFERROR('Level 2'!BS10-'Level 1'!BS10,\"*\")","v":"*"},{"$f":"IFERROR('Level 2'!BT10-'Level 1'!BT10,\"*\")","v":"*"},{"$f":"IFERROR('Level 2'!BU10-'Level 1'!BU10,\"*\")","v":"*"},{"$f":"IFERROR('Level 2'!BV10-'Level 1'!BV10,\"*\")","v":"*"},{"$f":"IFERROR('Level 2'!BW10-'Level 1'!BW10,\"*\")","v":"*"},{"$f":"IFERROR('Level 2'!BX10-'Level 1'!BX10,\"*\")","v":"*"},{"$f":"IFERROR('Level 2'!BY10-'Level 1'!BY10,\"*\")","v":"*"}]
[{"$f":"'Level 1'!A11","v":"Germany (until 1990 former territory of the FRG)"},{"$f":"IFERROR('Level 2'!B11-'Level 1'!B11,\"*\")","v":1.0099999999999998},{"$f":"IFERROR('Level 2'!C11-'Level 1'!C11,\"*\")","v":1.1199999999999974},{"$f":"IFERROR('Level 2'!D11-'Level 1'!D11,\"*\")","v":1.1199999999999992},{"$f":"IFERROR('Level 2'!E11-'Level 1'!E11,\"*\")","v":1.3650000000000002},{"$f":"IFERROR('Level 2'!F11-'Level 1'!F11,\"*\")","v":1.3699999999999992},{"$f":"IFERROR('Level 2'!G11-'Level 1'!G11,\"*\")","v":1.1199999999999992},{"$f":"IFERROR('Level 2'!H11-'Level 1'!H11,\"*\")","v":1.120000000000001},{"$f":"IFERROR('Level 2'!I11-'Level 1'!I11,\"*\")","v":1.1199999999999974},{"$f":"IFERROR('Level 2'!J11-'Level 1'!J11,\"*\")","v":1.120000000000001},{"$f":"IFERROR('Level 2'!K11-'Level 1'!K11,\"*\")","v":1.120000000000001},{"$f":"IFERROR('Level 2'!L11-'Level 1'!L11,\"*\")","v":"*"},null,{"$f":"'Level 1'!A11","v":"Germany (until 1990 former territory of the FRG)"},{"$f":"IFERROR('Level 2'!O11-'Level 1'!O11,\"*\")","v":0.96000000000000085},{"$f":"IFERROR('Level 2'!P11-'Level 1'!P11,\"*\")","v":1.120000000000001},{"$f":"IFERROR('Level 2'!Q11-'Level 1'!Q11,\"*\")","v":1.1199999999999974},{"$f":"IFERROR('Level 2'!R11-'Level 1'!R11,\"*\")","v":1.3649999999999984},{"$f":"IFERROR('Level 2'!S11-'Level 1'!S11,\"*\")","v":1.370000000000001},{"$f":"IFERROR('Level 2'!T11-'Level 1'!T11,\"*\")","v":1.1199999999999974},{"$f":"IFERROR('Level 2'!U11-'Level 1'!U11,\"*\")","v":1.120000000000001},{"$f":"IFERROR('Level 2'!V11-'Level 1'!V11,\"*\")","v":1.120000000000001},{"$f":"IFERROR('Level 2'!W11-'Level 1'!W11,\"*\")","v":1.120000000000001},{"$f":"IFERROR('Level 2'!X11-'Level 1'!X11,\"*\")","v":1.1199999999999992},{"$f":"IFERROR('Level 2'!Y11-'Level 1'!Y11,\"*\")","v":"*"},null,{"$f":"'Level 1'!A11","v":"Germany (until 1990 former territory of the FRG)"},{"$f":"IFERROR('Level 2'!AB11-'Level 1'!AB11,\"*\")","v":-3.043099999999999},{"$f":"IFERROR('Level 2'!AC11-'Level 1'!AC11,\"*\")","v":-2.0731000000000002},{"$f":"IFERROR('Level 2'!AD11-'Level 1'!AD11,\"*\")","v":-1.2479000000000013},{"$f":"IFERROR('Level 2'!AE11-'Level 1'!AE11,\"*\")","v":8.224999999999838E-2},{"$f":"IFERROR('Level 2'!AF11-'Level 1'!AF11,\"*\")","v":-0.74944999999999951},{"$f":"IFERROR('Level 2'!AG11-'Level 1'!AG11,\"*\")","v":-6.0650000000000759E-2},{"$f":"IFERROR('Level 2'!AH11-'Level 1'!AH11,\"*\")","v":-2.8984000000000005},{"$f":"IFERROR('Level 2'!AI11-'Level 1'!AI11,\"*\")","v":-2.0807500000000001},{"$f":"IFERROR('Level 2'!AJ11-'Level 1'!AJ11,\"*\")","v":-1.4019000000000013},{"$f":"IFERROR('Level 2'!AK11-'Level 1'!AK11,\"*\")","v":-1.0138000000000007},{"$f":"IFERROR('Level 2'!AL11-'Level 1'!AL11,\"*\")","v":"*"},null,{"$f":"'Level 1'!A11","v":"Germany (until 1990 former territory of the FRG)"},{"$f":"IFERROR('Level 2'!AO11-'Level 1'!AO11,\"*\")","v":"*"},{"$f":"IFERROR('Level 2'!AP11-'Level 1'!AP11,\"*\")","v":"*"},{"$f":"IFERROR('Level 2'!AQ11-'Level 1'!AQ11,\"*\")","v":"*"},{"$f":"IFERROR('Level 2'!AR11-'Level 1'!AR11,\"*\")","v":"*"},{"$f":"IFERROR('Level 2'!AS11-'Level 1'!AS11,\"*\")","v":"*"},{"$f":"IFERROR('Level 2'!AT11-'Level 1'!AT11,\"*\")","v":"*"},{"$f":"IFERROR('Level 2'!AU11-'Level 1'!AU11,\"*\")","v":"*"},{"$f":"IFERROR('Level 2'!AV11-'Level 1'!AV11,\"*\")","v":"*"},{"$f":"IFERROR('Level 2'!AW11-'Level 1'!AW11,\"*\")","v":"*"},{"$f":"IFERROR('Level 2'!AX11-'Level 1'!AX11,\"*\")","v":"*"},{"$f":"IFERROR('Level 2'!AY11-'Level 1'!AY11,\"*\")","v":"*"},null,{"$f":"'Level 1'!A11","v":"Germany (until 1990 former territory of the FRG)"},{"$f":"IFERROR('Level 2'!BB11-'Level 1'!BB11,\"*\")","v":"*"},{"$f":"IFERROR('Level 2'!BC11-'Level 1'!BC11,\"*\")","v":"*"},{"$f":"IFERROR('Level 2'!BD11-'Level 1'!BD11,\"*\")","v":"*"},{"$f":"IFERROR('Level 2'!BE11-'Level 1'!BE11,\"*\")","v":"*"},{"$f":"IFERROR('Level 2'!BF11-'Level 1'!BF11,\"*\")","v":"*"},{"$f":"IFERROR('Level 2'!BG11-'Level 1'!BG11,\"*\")","v":"*"},{"$f":"IFERROR('Level 2'!BH11-'Level 1'!BH11,\"*\")","v":"*"},{"$f":"IFERROR('Level 2'!BI11-'Level 1'!BI11,\"*\")","v":"*"},{"$f":"IFERROR('Level 2'!BJ11-'Level 1'!BJ11,\"*\")","v":"*"},{"$f":"IFERROR('Level 2'!BK11-'Level 1'!BK11,\"*\")","v":"*"},{"$f":"IFERROR('Level 2'!BL11-'Level 1'!BL11,\"*\")","v":"*"},null,{"$f":"'Level 1'!A11","v":"Germany (until 1990 former territory of the FRG)"},{"$f":"IFERROR('Level 2'!BO11-'Level 1'!BO11,\"*\")","v":"*"},{"$f":"IFERROR('Level 2'!BP11-'Level 1'!BP11,\"*\")","v":"*"},{"$f":"IFERROR('Level 2'!BQ11-'Level 1'!BQ11,\"*\")","v":"*"},{"$f":"IFERROR('Level 2'!BR11-'Level 1'!BR11,\"*\")","v":"*"},{"$f":"IFERROR('Level 2'!BS11-'Level 1'!BS11,\"*\")","v":"*"},{"$f":"IFERROR('Level 2'!BT11-'Level 1'!BT11,\"*\")","v":"*"},{"$f":"IFERROR('Level 2'!BU11-'Level 1'!BU11,\"*\")","v":"*"},{"$f":"IFERROR('Level 2'!BV11-'Level 1'!BV11,\"*\")","v":"*"},{"$f":"IFERROR('Level 2'!BW11-'Level 1'!BW11,\"*\")","v":"*"},{"$f":"IFERROR('Level 2'!BX11-'Level 1'!BX11,\"*\")","v":"*"},{"$f":"IFERROR('Level 2'!BY11-'Level 1'!BY11,\"*\")","v":"*"}]
[{"$f":"'Level 1'!A12","v":"Estonia"},{"$f":"IFERROR('Level 2'!B12-'Level 1'!B12,\"*\")","v":0},{"$f":"IFERROR('Level 2'!C12-'Level 1'!C12,\"*\")","v":0.33730000000000082},{"$f":"IFERROR('Level 2'!D12-'Level 1'!D12,\"*\")","v":0.51705000000000023},{"$f":"IFERROR('Level 2'!E12-'Level 1'!E12,\"*\")","v":0.69585000000000008},{"$f":"IFERROR('Level 2'!F12-'Level 1'!F12,\"*\")","v":0.5},{"$f":"IFERROR('Level 2'!G12-'Level 1'!G12,\"*\")","v":0.5649999999999995},{"$f":"IFERROR('Level 2'!H12-'Level 1'!H12,\"*\")","v":0.60500000000000043},{"$f":"IFERROR('Level 2'!I12-'Level 1'!I12,\"*\")","v":0.70999999999999908},{"$f":"IFERROR('Level 2'!J12-'Level 1'!J12,\"*\")","v":0.69999999999999929},{"$f":"IFERROR('Level 2'!K12-'Level 1'!K12,\"*\")","v":0.99000000000000021},{"$f":"IFERROR('Level 2'!L12-'Level 1'!L12,\"*\")","v":"*"},null,{"$f":"'Level 1'!A12","v":"Estonia"},{"$f":"IFERROR('Level 2'!O12-'Level 1'!O12,\"*\")","v":0},{"$f":"IFERROR('Level 2'!P12-'Level 1'!P12,\"*\")","v":0.26274999999999871},{"$f":"IFERROR('Level 2'!Q12-'Level 1'!Q12,\"*\")","v":0.39370000000000083},{"$f":"IFERROR('Level 2'!R12-'Level 1'!R12,\"*\")","v":0.65814999999999912},{"$f":"IFERROR('Level 2'!S12-'Level 1'!S12,\"*\")","v":0.45499999999999829},{"$f":"IFERROR('Level 2'!T12-'Level 1'!T12,\"*\")","v":0.50499999999999901},{"$f":"IFERROR('Level 2'!U12-'Level 1'!U12,\"*\")","v":0.60000000000000142},{"$f":"IFERROR('Level 2'!V12-'Level 1'!V12,\"*\")","v":0.57000000000000028},{"$f":"IFERROR('Level 2'!W12-'Level 1'!W12,\"*\")","v":0.66000000000000014},{"$f":"IFERROR('Level 2'!X12-'Level 1'!X12,\"*\")","v":0.99000000000000021},{"$f":"IFERROR('Level 2'!Y12-'Level 1'!Y12,\"*\")","v":"*"},null,{"$f":"'Level 1'!A12","v":"Estonia"},{"$f":"IFERROR('Level 2'!AB12-'Level 1'!AB12,\"*\")","v":2.7432999999999996},{"$f":"IFERROR('Level 2'!AC12-'Level 1'!AC12,\"*\")","v":1.4121000000000006},{"$f":"IFERROR('Level 2'!AD12-'Level 1'!AD12,\"*\")","v":0.92234999999999978},{"$f":"IFERROR('Level 2'!AE12-'Level 1'!AE12,\"*\")","v":2.6004500000000004},{"$f":"IFERROR('Level 2'!AF12-'Level 1'!AF12,\"*\")","v":3.8025000000000002},{"$f":"IFERROR('Level 2'!AG12-'Level 1'!AG12,\"*\")","v":1.9361999999999995},{"$f":"IFERROR('Level 2'!AH12-'Level 1'!AH12,\"*\")","v":2.8192000000000021},{"$f":"IFERROR('Level 2'!AI12-'Level 1'!AI12,\"*\")","v":0.71470000000000056},{"$f":"IFERROR('Level 2'!AJ12-'Level 1'!AJ12,\"*\")","v":1.6629500000000004},{"$f":"IFERROR('Level 2'!AK12-'Level 1'!AK12,\"*\")","v":0.37520000000000042},{"$f":"IFERROR('Level 2'!AL12-'Level 1'!AL12,\"*\")","v":"*"},null,{"$f":"'Level 1'!A12","v":"Estonia"},{"$f":"IFERROR('Level 2'!AO12-'Level 1'!AO12,\"*\")","v":"*"},{"$f":"IFERROR('Level 2'!AP12-'Level 1'!AP12,\"*\")","v":"*"},{"$f":"IFERROR('Level 2'!AQ12-'Level 1'!AQ12,\"*\")","v":"*"},{"$f":"IFERROR('Level 2'!AR12-'Level 1'!AR12,\"*\")","v":"*"},{"$f":"IFERROR('Level 2'!AS12-'Level 1'!AS12,\"*\")","v":"*"},{"$f":"IFERROR('Level 2'!AT12-'Level 1'!AT12,\"*\")","v":"*"},{"$f":"IFERROR('Level 2'!AU12-'Level 1'!AU12,\"*\")","v":"*"},{"$f":"IFERROR('Level 2'!AV12-'Level 1'!AV12,\"*\")","v":"*"},{"$f":"IFERROR('Level 2'!AW12-'Level 1'!AW12,\"*\")","v":"*"},{"$f":"IFERROR('Level 2'!AX12-'Level 1'!AX12,\"*\")","v":"*"},{"$f":"IFERROR('Level 2'!AY12-'Level 1'!AY12,\"*\")","v":"*"},null,{"$f":"'Level 1'!A12","v":"Estonia"},{"$f":"IFERROR('Level 2'!BB12-'Level 1'!BB12,\"*\")","v":"*"},{"$f":"IFERROR('Level 2'!BC12-'Level 1'!BC12,\"*\")","v":"*"},{"$f":"IFERROR('Level 2'!BD12-'Level 1'!BD12,\"*\")","v":"*"},{"$f":"IFERROR('Level 2'!BE12-'Level 1'!BE12,\"*\")","v":"*"},{"$f":"IFERROR('Level 2'!BF12-'Level 1'!BF12,\"*\")","v":"*"},{"$f":"IFERROR('Level 2'!BG12-'Level 1'!BG12,\"*\")","v":"*"},{"$f":"IFERROR('Level 2'!BH12-'Level 1'!BH12,\"*\")","v":"*"},{"$f":"IFERROR('Level 2'!BI12-'Level 1'!BI12,\"*\")","v":"*"},{"$f":"IFERROR('Level 2'!BJ12-'Level 1'!BJ12,\"*\")","v":"*"},{"$f":"IFERROR('Level 2'!BK12-'Level 1'!BK12,\"*\")","v":"*"},{"$f":"IFERROR('Level 2'!BL12-'Level 1'!BL12,\"*\")","v":"*"},null,{"$f":"'Level 1'!A12","v":"Estonia"},{"$f":"IFERROR('Level 2'!BO12-'Level 1'!BO12,\"*\")","v":"*"},{"$f":"IFERROR('Level 2'!BP12-'Level 1'!BP12,\"*\")","v":"*"},{"$f":"IFERROR('Level 2'!BQ12-'Level 1'!BQ12,\"*\")","v":"*"},{"$f":"IFERROR('Level 2'!BR12-'Level 1'!BR12,\"*\")","v":"*"},{"$f":"IFERROR('Level 2'!BS12-'Level 1'!BS12,\"*\")","v":"*"},{"$f":"IFERROR('Level 2'!BT12-'Level 1'!BT12,\"*\")","v":"*"},{"$f":"IFERROR('Level 2'!BU12-'Level 1'!BU12,\"*\")","v":"*"},{"$f":"IFERROR('Level 2'!BV12-'Level 1'!BV12,\"*\")","v":"*"},{"$f":"IFERROR('Level 2'!BW12-'Level 1'!BW12,\"*\")","v":"*"},{"$f":"IFERROR('Level 2'!BX12-'Level 1'!BX12,\"*\")","v":"*"},{"$f":"IFERROR('Level 2'!BY12-'Level 1'!BY12,\"*\")","v":"*"}]
[{"$f":"'Level 1'!A13","v":"Ireland"},{"$f":"IFERROR('Level 2'!B13-'Level 1'!B13,\"*\")","v":0},{"$f":"IFERROR('Level 2'!C13-'Level 1'!C13,\"*\")","v":0},{"$f":"IFERROR('Level 2'!D13-'Level 1'!D13,\"*\")","v":0},{"$f":"IFERROR('Level 2'!E13-'Level 1'!E13,\"*\")","v":0.44499999999999851},{"$f":"IFERROR('Level 2'!F13-'Level 1'!F13,\"*\")","v":0.65500000000000114},{"$f":"IFERROR('Level 2'!G13-'Level 1'!G13,\"*\")","v":0.86999999999999922},{"$f":"IFERROR('Level 2'!H13-'Level 1'!H13,\"*\")","v":1.0249999999999986},{"$f":"IFERROR('Level 2'!I13-'Level 1'!I13,\"*\")","v":1.0499999999999989},{"$f":"IFERROR('Level 2'!J13-'Level 1'!J13,\"*\")","v":1.0500000000000007},{"$f":"IFERROR('Level 2'!K13-'Level 1'!K13,\"*\")","v":1.0600000000000005},{"$f":"IFERROR('Level 2'!L13-'Level 1'!L13,\"*\")","v":"*"},null,{"$f":"'Level 1'!A13","v":"Ireland"},{"$f":"IFERROR('Level 2'!O13-'Level 1'!O13,\"*\")","v":0},{"$f":"IFERROR('Level 2'!P13-'Level 1'!P13,\"*\")","v":0},{"$f":"IFERROR('Level 2'!Q13-'Level 1'!Q13,\"*\")","v":0},{"$f":"IFERROR('Level 2'!R13-'Level 1'!R13,\"*\")","v":0.47500000000000142},{"$f":"IFERROR('Level 2'!S13-'Level 1'!S13,\"*\")","v":0.73500000000000121},{"$f":"IFERROR('Level 2'!T13-'Level 1'!T13,\"*\")","v":0.91499999999999915},{"$f":"IFERROR('Level 2'!U13-'Level 1'!U13,\"*\")","v":1.1799999999999997},{"$f":"IFERROR('Level 2'!V13-'Level 1'!V13,\"*\")","v":1.2350000000000012},{"$f":"IFERROR('Level 2'!W13-'Level 1'!W13,\"*\")","v":1.1349999999999998},{"$f":"IFERROR('Level 2'!X13-'Level 1'!X13,\"*\")","v":1.17},{"$f":"IFERROR('Level 2'!Y13-'Level 1'!Y13,\"*\")","v":"*"},null,{"$f":"'Level 1'!A13","v":"Ireland"},{"$f":"IFERROR('Level 2'!AB13-'Level 1'!AB13,\"*\")","v":1.0699999999999985},{"$f":"IFERROR('Level 2'!AC13-'Level 1'!AC13,\"*\")","v":2.0850000000000009},{"$f":"IFERROR('Level 2'!AD13-'Level 1'!AD13,\"*\")","v":2.4900000000000002},{"$f":"IFERROR('Level 2'!AE13-'Level 1'!AE13,\"*\")","v":2.7199999999999989},{"$f":"IFERROR('Level 2'!AF13-'Level 1'!AF13,\"*\")","v":1.25},{"$f":"IFERROR('Level 2'!AG13-'Level 1'!AG13,\"*\")","v":0.26000000000000156},{"$f":"IFERROR('Level 2'!AH13-'Level 1'!AH13,\"*\")","v":1.8099999999999987},{"$f":"IFERROR('Level 2'!AI13-'Level 1'!AI13,\"*\")","v":1.3100000000000005},{"$f":"IFERROR('Level 2'!AJ13-'Level 1'!AJ13,\"*\")","v":1.0300000000000011},{"$f":"IFERROR('Level 2'!AK13-'Level 1'!AK13,\"*\")","v":1.4000000000000004},{"$f":"IFERROR('Level 2'!AL13-'Level 1'!AL13,\"*\")","v":"*"},null,{"$f":"'Level 1'!A13","v":"Ireland"},{"$f":"IFERROR('Level 2'!AO13-'Level 1'!AO13,\"*\")","v":0.4399999999999995},{"$f":"IFERROR('Level 2'!AP13-'Level 1'!AP13,\"*\")","v":0.47000000000000064},{"$f":"IFERROR('Level 2'!AQ13-'Level 1'!AQ13,\"*\")","v":0.39999999999999947},{"$f":"IFERROR('Level 2'!AR13-'Level 1'!AR13,\"*\")","v":1.3400000000000007},{"$f":"IFERROR('Level 2'!AS13-'Level 1'!AS13,\"*\")","v":1.0500000000000007},{"$f":"IFERROR('Level 2'!AT13-'Level 1'!AT13,\"*\")","v":0.71499999999999986},{"$f":"IFERROR('Level 2'!AU13-'Level 1'!AU13,\"*\")","v":0},{"$f":"IFERROR('Level 2'!AV13-'Level 1'!AV13,\"*\")","v":0.31500000000000128},{"$f":"IFERROR('Level 2'!AW13-'Level 1'!AW13,\"*\")","v":0.30499999999999972},{"$f":"IFERROR('Level 2'!AX13-'Level 1'!AX13,\"*\")","v":0.5699999999999994},{"$f":"IFERROR('Level 2'!AY13-'Level 1'!AY13,\"*\")","v":"*"},null,{"$f":"'Level 1'!A13","v":"Ireland"},{"$f":"IFERROR('Level 2'!BB13-'Level 1'!BB13,\"*\")","v":"*"},{"$f":"IFERROR('Level 2'!BC13-'Level 1'!BC13,\"*\")","v":"*"},{"$f":"IFERROR('Level 2'!BD13-'Level 1'!BD13,\"*\")","v":"*"},{"$f":"IFERROR('Level 2'!BE13-'Level 1'!BE13,\"*\")","v":"*"},{"$f":"IFERROR('Level 2'!BF13-'Level 1'!BF13,\"*\")","v":"*"},{"$f":"IFERROR('Level 2'!BG13-'Level 1'!BG13,\"*\")","v":1.794999999999999},{"$f":"IFERROR('Level 2'!BH13-'Level 1'!BH13,\"*\")","v":"*"},{"$f":"IFERROR('Level 2'!BI13-'Level 1'!BI13,\"*\")","v":"*"},{"$f":"IFERROR('Level 2'!BJ13-'Level 1'!BJ13,\"*\")","v":"*"},{"$f":"IFERROR('Level 2'!BK13-'Level 1'!BK13,\"*\")","v":"*"},{"$f":"IFERROR('Level 2'!BL13-'Level 1'!BL13,\"*\")","v":"*"},null,{"$f":"'Level 1'!A13","v":"Ireland"},{"$f":"IFERROR('Level 2'!BO13-'Level 1'!BO13,\"*\")","v":"*"},{"$f":"IFERROR('Level 2'!BP13-'Level 1'!BP13,\"*\")","v":"*"},{"$f":"IFERROR('Level 2'!BQ13-'Level 1'!BQ13,\"*\")","v":"*"},{"$f":"IFERROR('Level 2'!BR13-'Level 1'!BR13,\"*\")","v":"*"},{"$f":"IFERROR('Level 2'!BS13-'Level 1'!BS13,\"*\")","v":"*"},{"$f":"IFERROR('Level 2'!BT13-'Level 1'!BT13,\"*\")","v":"*"},{"$f":"IFERROR('Level 2'!BU13-'Level 1'!BU13,\"*\")","v":"*"},{"$f":"IFERROR('Level 2'!BV13-'Level 1'!BV13,\"*\")","v":"*"},{"$f":"IFERROR('Level 2'!BW13-'Level 1'!BW13,\"*\")","v":"*"},{"$f":"IFERROR('Level 2'!BX13-'Level 1'!BX13,\"*\")","v":"*"},{"$f":"IFERROR('Level 2'!BY13-'Level 1'!BY13,\"*\")","v":"*"}]
[{"$f":"'Level 1'!A14","v":"Greece"},{"$f":"IFERROR('Level 2'!B14-'Level 1'!B14,\"*\")","v":"*"},{"$f":"IFERROR('Level 2'!C14-'Level 1'!C14,\"*\")","v":"*"},{"$f":"IFERROR('Level 2'!D14-'Level 1'!D14,\"*\")","v":"*"},{"$f":"IFERROR('Level 2'!E14-'Level 1'!E14,\"*\")","v":"*"},{"$f":"IFERROR('Level 2'!F14-'Level 1'!F14,\"*\")","v":"*"},{"$f":"IFERROR('Level 2'!G14-'Level 1'!G14,\"*\")","v":1.58},{"$f":"IFERROR('Level 2'!H14-'Level 1'!H14,\"*\")","v":1.5700000000000003},{"$f":"IFERROR('Level 2'!I14-'Level 1'!I14,\"*\")","v":1.5650000000000013},{"$f":"IFERROR('Level 2'!J14-'Level 1'!J14,\"*\")","v":1.6550000000000011},{"$f":"IFERROR('Level 2'!K14-'Level 1'!K14,\"*\")","v":1.6099999999999994},{"$f":"IFERROR('Level 2'!L14-'Level 1'!L14,\"*\")","v":"*"},null,{"$f":"'Level 1'!A14","v":"Greece"},{"$f":"IFERROR('Level 2'!O14-'Level 1'!O14,\"*\")","v":"*"},{"$f":"IFERROR('Level 2'!P14-'Level 1'!P14,\"*\")","v":"*"},{"$f":"IFERROR('Level 2'!Q14-'Level 1'!Q14,\"*\")","v":"*"},{"$f":"IFERROR('Level 2'!R14-'Level 1'!R14,\"*\")","v":"*"},{"$f":"IFERROR('Level 2'!S14-'Level 1'!S14,\"*\")","v":"*"},{"$f":"IFERROR('Level 2'!T14-'Level 1'!T14,\"*\")","v":1.5800000000000018},{"$f":"IFERROR('Level 2'!U14-'Level 1'!U14,\"*\")","v":1.5750000000000011},{"$f":"IFERROR('Level 2'!V14-'Level 1'!V14,\"*\")","v":1.5800000000000018},{"$f":"IFERROR('Level 2'!W14-'Level 1'!W14,\"*\")","v":1.6399999999999988},{"$f":"IFERROR('Level 2'!X14-'Level 1'!X14,\"*\")","v":1.6000000000000005},{"$f":"IFERROR('Level 2'!Y14-'Level 1'!Y14,\"*\")","v":"*"},null,{"$f":"'Level 1'!A14","v":"Greece"},{"$f":"IFERROR('Level 2'!AB14-'Level 1'!AB14,\"*\")","v":"*"},{"$f":"IFERROR('Level 2'!AC14-'Level 1'!AC14,\"*\")","v":"*"},{"$f":"IFERROR('Level 2'!AD14-'Level 1'!AD14,\"*\")","v":"*"},{"$f":"IFERROR('Level 2'!AE14-'Level 1'!AE14,\"*\")","v":"*"},{"$f":"IFERROR('Level 2'!AF14-'Level 1'!AF14,\"*\")","v":"*"},{"$f":"IFERROR('Level 2'!AG14-'Level 1'!AG14,\"*\")","v":-4.4499999999999993},{"$f":"IFERROR('Level 2'!AH14-'Level 1'!AH14,\"*\")","v":-2.7799999999999994},{"$f":"IFERROR('Level 2'!AI14-'Level 1'!AI14,\"*\")","v":-1.7200000000000006},{"$f":"IFERROR('Level 2'!AJ14-'Level 1'!AJ14,\"*\")","v":-0.40000000000000036},{"$f":"IFERROR('Level 2'!AK14-'Level 1'!AK14,\"*\")","v":1.9400000000000004},{"$f":"IFERROR('Level 2'!AL14-'Level 1'!AL14,\"*\")","v":"*"},null,{"$f":"'Level 1'!A14","v":"Greece"},{"$f":"IFERROR('Level 2'!AO14-'Level 1'!AO14,\"*\")","v":"*"},{"$f":"IFERROR('Level 2'!AP14-'Level 1'!AP14,\"*\")","v":"*"},{"$f":"IFERROR('Level 2'!AQ14-'Level 1'!AQ14,\"*\")","v":"*"},{"$f":"IFERROR('Level 2'!AR14-'Level 1'!AR14,\"*\")","v":"*"},{"$f":"IFERROR('Level 2'!AS14-'Level 1'!AS14,\"*\")","v":"*"},{"$f":"IFERROR('Level 2'!AT14-'Level 1'!AT14,\"*\")","v":-5.2100000000000009},{"$f":"IFERROR('Level 2'!AU14-'Level 1'!AU14,\"*\")","v":-3.2100000000000009},{"$f":"IFERROR('Level 2'!AV14-'Level 1'!AV14,\"*\")","v":-2.9750000000000005},{"$f":"IFERROR('Level 2'!AW14-'Level 1'!AW14,\"*\")","v":-1.0550000000000006},{"$f":"IFERROR('Level 2'!AX14-'Level 1'!AX14,\"*\")","v":0.54},{"$f":"IFERROR('Level 2'!AY14-'Level 1'!AY14,\"*\")","v":"*"},null,{"$f":"'Level 1'!A14","v":"Greece"},{"$f":"IFERROR('Level 2'!BB14-'Level 1'!BB14,\"*\")","v":"*"},{"$f":"IFERROR('Level 2'!BC14-'Level 1'!BC14,\"*\")","v":"*"},{"$f":"IFERROR('Level 2'!BD14-'Level 1'!BD14,\"*\")","v":"*"},{"$f":"IFERROR('Level 2'!BE14-'Level 1'!BE14,\"*\")","v":"*"},{"$f":"IFERROR('Level 2'!BF14-'Level 1'!BF14,\"*\")","v":"*"},{"$f":"IFERROR('Level 2'!BG14-'Level 1'!BG14,\"*\")","v":-3.76},{"$f":"IFERROR('Level 2'!BH14-'Level 1'!BH14,\"*\")","v":-1.6999999999999993},{"$f":"IFERROR('Level 2'!BI14-'Level 1'!BI14,\"*\")","v":-1.7750000000000004},{"$f":"IFERROR('Level 2'!BJ14-'Level 1'!BJ14,\"*\")","v":"*"},{"$f":"IFERROR('Level 2'!BK14-'Level 1'!BK14,\"*\")","v":"*"},{"$f":"IFERROR('Level 2'!BL14-'Level 1'!BL14,\"*\")","v":"*"},null,{"$f":"'Level 1'!A14","v":"Greece"},{"$f":"IFERROR('Level 2'!BO14-'Level 1'!BO14,\"*\")","v":"*"},{"$f":"IFERROR('Level 2'!BP14-'Level 1'!BP14,\"*\")","v":"*"},{"$f":"IFERROR('Level 2'!BQ14-'Level 1'!BQ14,\"*\")","v":"*"},{"$f":"IFERROR('Level 2'!BR14-'Level 1'!BR14,\"*\")","v":"*"},{"$f":"IFERROR('Level 2'!BS14-'Level 1'!BS14,\"*\")","v":"*"},{"$f":"IFERROR('Level 2'!BT14-'Level 1'!BT14,\"*\")","v":"*"},{"$f":"IFERROR('Level 2'!BU14-'Level 1'!BU14,\"*\")","v":"*"},{"$f":"IFERROR('Level 2'!BV14-'Level 1'!BV14,\"*\")","v":"*"},{"$f":"IFERROR('Level 2'!BW14-'Level 1'!BW14,\"*\")","v":"*"},{"$f":"IFERROR('Level 2'!BX14-'Level 1'!BX14,\"*\")","v":"*"},{"$f":"IFERROR('Level 2'!BY14-'Level 1'!BY14,\"*\")","v":"*"}]
[{"$f":"'Level 1'!A15","v":"Spain"},{"$f":"IFERROR('Level 2'!B15-'Level 1'!B15,\"*\")","v":0},{"$f":"IFERROR('Level 2'!C15-'Level 1'!C15,\"*\")","v":0},{"$f":"IFERROR('Level 2'!D15-'Level 1'!D15,\"*\")","v":0},{"$f":"IFERROR('Level 2'!E15-'Level 1'!E15,\"*\")","v":0},{"$f":"IFERROR('Level 2'!F15-'Level 1'!F15,\"*\")","v":0},{"$f":"IFERROR('Level 2'!G15-'Level 1'!G15,\"*\")","v":0},{"$f":"IFERROR('Level 2'!H15-'Level 1'!H15,\"*\")","v":0.15000000000000036},{"$f":"IFERROR('Level 2'!I15-'Level 1'!I15,\"*\")","v":0.15000000000000036},{"$f":"IFERROR('Level 2'!J15-'Level 1'!J15,\"*\")","v":0.14999999999999858},{"$f":"IFERROR('Level 2'!K15-'Level 1'!K15,\"*\")","v":0.15000000000000036},{"$f":"IFERROR('Level 2'!L15-'Level 1'!L15,\"*\")","v":"*"},null,{"$f":"'Level 1'!A15","v":"Spain"},{"$f":"IFERROR('Level 2'!O15-'Level 1'!O15,\"*\")","v":0},{"$f":"IFERROR('Level 2'!P15-'Level 1'!P15,\"*\")","v":0},{"$f":"IFERROR('Level 2'!Q15-'Level 1'!Q15,\"*\")","v":0},{"$f":"IFERROR('Level 2'!R15-'Level 1'!R15,\"*\")","v":0},{"$f":"IFERROR('Level 2'!S15-'Level 1'!S15,\"*\")","v":0},{"$f":"IFERROR('Level 2'!T15-'Level 1'!T15,\"*\")","v":0},{"$f":"IFERROR('Level 2'!U15-'Level 1'!U15,\"*\")","v":0.15000000000000036},{"$f":"IFERROR('Level 2'!V15-'Level 1'!V15,\"*\")","v":0.15000000000000213},{"$f":"IFERROR('Level 2'!W15-'Level 1'!W15,\"*\")","v":0.14999999999999858},{"$f":"IFERROR('Level 2'!X15-'Level 1'!X15,\"*\")","v":0.15000000000000036},{"$f":"IFERROR('Level 2'!Y15-'Level 1'!Y15,\"*\")","v":"*"},null,{"$f":"'Level 1'!A15","v":"Spain"},{"$f":"IFERROR('Level 2'!AB15-'Level 1'!AB15,\"*\")","v":2.6460000000000008},{"$f":"IFERROR('Level 2'!AC15-'Level 1'!AC15,\"*\")","v":2.6824999999999992},{"$f":"IFERROR('Level 2'!AD15-'Level 1'!AD15,\"*\")","v":0.18984999999999985},{"$f":"IFERROR('Level 2'!AE15-'Level 1'!AE15,\"*\")","v":0.42165000000000141},{"$f":"IFERROR('Level 2'!AF15-'Level 1'!AF15,\"*\")","v":1.7249999999999979},{"$f":"IFERROR('Level 2'!AG15-'Level 1'!AG15,\"*\")","v":0.55499999999999972},{"$f":"IFERROR('Level 2'!AH15-'Level 1'!AH15,\"*\")","v":1.9849999999999994},{"$f":"IFERROR('Level 2'!AI15-'Level 1'!AI15,\"*\")","v":1.2800000000000011},{"$f":"IFERROR('Level 2'!AJ15-'Level 1'!AJ15,\"*\")","v":1.5700000000000003},{"$f":"IFERROR('Level 2'!AK15-'Level 1'!AK15,\"*\")","v":1.4499999999999993},{"$f":"IFERROR('Level 2'!AL15-'Level 1'!AL15,\"*\")","v":"*"},null,{"$f":"'Level 1'!A15","v":"Spain"},{"$f":"IFERROR('Level 2'!AO15-'Level 1'!AO15,\"*\")","v":-2.1260000000000003},{"$f":"IFERROR('Level 2'!AP15-'Level 1'!AP15,\"*\")","v":-1.645249999999999},{"$f":"IFERROR('Level 2'!AQ15-'Level 1'!AQ15,\"*\")","v":-0.30775000000000041},{"$f":"IFERROR('Level 2'!AR15-'Level 1'!AR15,\"*\")","v":-8.7450000000000472E-2},{"$f":"IFERROR('Level 2'!AS15-'Level 1'!AS15,\"*\")","v":-0.28370000000000051},{"$f":"IFERROR('Level 2'!AT15-'Level 1'!AT15,\"*\")","v":0.21794999999999831},{"$f":"IFERROR('Level 2'!AU15-'Level 1'!AU15,\"*\")","v":-0.42695000000000149},{"$f":"IFERROR('Level 2'!AV15-'Level 1'!AV15,\"*\")","v":-0.68869999999999898},{"$f":"IFERROR('Level 2'!AW15-'Level 1'!AW15,\"*\")","v":-1.1953000000000005},{"$f":"IFERROR('Level 2'!AX15-'Level 1'!AX15,\"*\")","v":-1.3582999999999998},{"$f":"IFERROR('Level 2'!AY15-'Level 1'!AY15,\"*\")","v":"*"},null,{"$f":"'Level 1'!A15","v":"Spain"},{"$f":"IFERROR('Level 2'!BB15-'Level 1'!BB15,\"*\")","v":-1.0356000000000005},{"$f":"IFERROR('Level 2'!BC15-'Level 1'!BC15,\"*\")","v":-1.102199999999999},{"$f":"IFERROR('Level 2'!BD15-'Level 1'!BD15,\"*\")","v":0.12544999999999895},{"$f":"IFERROR('Level 2'!BE15-'Level 1'!BE15,\"*\")","v":0.13764999999999983},{"$f":"IFERROR('Level 2'!BF15-'Level 1'!BF15,\"*\")","v":4.5749999999999957E-2},{"$f":"IFERROR('Level 2'!BG15-'Level 1'!BG15,\"*\")","v":0.71424999999999983},{"$f":"IFERROR('Level 2'!BH15-'Level 1'!BH15,\"*\")","v":-0.25835000000000008},{"$f":"IFERROR('Level 2'!BI15-'Level 1'!BI15,\"*\")","v":-0.51084999999999781},{"$f":"IFERROR('Level 2'!BJ15-'Level 1'!BJ15,\"*\")","v":-0.9148499999999995},{"$f":"IFERROR('Level 2'!BK15-'Level 1'!BK15,\"*\")","v":-0.67969999999999953},{"$f":"IFERROR('Level 2'!BL15-'Level 1'!BL15,\"*\")","v":"*"},null,{"$f":"'Level 1'!A15","v":"Spain"},{"$f":"IFERROR('Level 2'!BO15-'Level 1'!BO15,\"*\")","v":"*"},{"$f":"IFERROR('Level 2'!BP15-'Level 1'!BP15,\"*\")","v":-0.33800000000000008},{"$f":"IFERROR('Level 2'!BQ15-'Level 1'!BQ15,\"*\")","v":2.2598500000000001},{"$f":"IFERROR('Level 2'!BR15-'Level 1'!BR15,\"*\")","v":"*"},{"$f":"IFERROR('Level 2'!BS15-'Level 1'!BS15,\"*\")","v":"*"},{"$f":"IFERROR('Level 2'!BT15-'Level 1'!BT15,\"*\")","v":"*"},{"$f":"IFERROR('Level 2'!BU15-'Level 1'!BU15,\"*\")","v":"*"},{"$f":"IFERROR('Level 2'!BV15-'Level 1'!BV15,\"*\")","v":"*"},{"$f":"IFERROR('Level 2'!BW15-'Level 1'!BW15,\"*\")","v":"*"},{"$f":"IFERROR('Level 2'!BX15-'Level 1'!BX15,\"*\")","v":"*"},{"$f":"IFERROR('Level 2'!BY15-'Level 1'!BY15,\"*\")","v":"*"}]
[{"$f":"'Level 1'!A16","v":"France"},{"$f":"IFERROR('Level 2'!B16-'Level 1'!B16,\"*\")","v":0},{"$f":"IFERROR('Level 2'!C16-'Level 1'!C16,\"*\")","v":0.10549999999999926},{"$f":"IFERROR('Level 2'!D16-'Level 1'!D16,\"*\")","v":0.25999999999999801},{"$f":"IFERROR('Level 2'!E16-'Level 1'!E16,\"*\")","v":0.38499999999999801},{"$f":"IFERROR('Level 2'!F16-'Level 1'!F16,\"*\")","v":0.48500000000000121},{"$f":"IFERROR('Level 2'!G16-'Level 1'!G16,\"*\")","v":0.62000000000000099},{"$f":"IFERROR('Level 2'!H16-'Level 1'!H16,\"*\")","v":0.64999999999999858},{"$f":"IFERROR('Level 2'!I16-'Level 1'!I16,\"*\")","v":0.82000000000000206},{"$f":"IFERROR('Level 2'!J16-'Level 1'!J16,\"*\")","v":1.1950000000000003},{"$f":"IFERROR('Level 2'!K16-'Level 1'!K16,\"*\")","v":1.5},{"$f":"IFERROR('Level 2'!L16-'Level 1'!L16,\"*\")","v":"*"},null,{"$f":"'Level 1'!A16","v":"France"},{"$f":"IFERROR('Level 2'!O16-'Level 1'!O16,\"*\")","v":0},{"$f":"IFERROR('Level 2'!P16-'Level 1'!P16,\"*\")","v":7.4999999999999289E-2},{"$f":"IFERROR('Level 2'!Q16-'Level 1'!Q16,\"*\")","v":0.19999999999999929},{"$f":"IFERROR('Level 2'!R16-'Level 1'!R16,\"*\")","v":0.25},{"$f":"IFERROR('Level 2'!S16-'Level 1'!S16,\"*\")","v":0.28500000000000014},{"$f":"IFERROR('Level 2'!T16-'Level 1'!T16,\"*\")","v":0.27999999999999936},{"$f":"IFERROR('Level 2'!U16-'Level 1'!U16,\"*\")","v":0.29499999999999993},{"$f":"IFERROR('Level 2'!V16-'Level 1'!V16,\"*\")","v":0.4399999999999995},{"$f":"IFERROR('Level 2'!W16-'Level 1'!W16,\"*\")","v":1},{"$f":"IFERROR('Level 2'!X16-'Level 1'!X16,\"*\")","v":1.3599999999999994},{"$f":"IFERROR('Level 2'!Y16-'Level 1'!Y16,\"*\")","v":"*"},null,{"$f":"'Level 1'!A16","v":"France"},{"$f":"IFERROR('Level 2'!AB16-'Level 1'!AB16,\"*\")","v":"*"},{"$f":"IFERROR('Level 2'!AC16-'Level 1'!AC16,\"*\")","v":"*"},{"$f":"IFERROR('Level 2'!AD16-'Level 1'!AD16,\"*\")","v":"*"},{"$f":"IFERROR('Level 2'!AE16-'Level 1'!AE16,\"*\")","v":"*"},{"$f":"IFERROR('Level 2'!AF16-'Level 1'!AF16,\"*\")","v":"*"},{"$f":"IFERROR('Level 2'!AG16-'Level 1'!AG16,\"*\")","v":5.4},{"$f":"IFERROR('Level 2'!AH16-'Level 1'!AH16,\"*\")","v":3.74},{"$f":"IFERROR('Level 2'!AI16-'Level 1'!AI16,\"*\")","v":3.1400000000000006},{"$f":"IFERROR('Level 2'!AJ16-'Level 1'!AJ16,\"*\")","v":1.3449999999999989},{"$f":"IFERROR('Level 2'!AK16-'Level 1'!AK16,\"*\")","v":0.29000000000000092},{"$f":"IFERROR('Level 2'!AL16-'Level 1'!AL16,\"*\")","v":"*"},null,{"$f":"'Level 1'!A16","v":"France"},{"$f":"IFERROR('Level 2'!AO16-'Level 1'!AO16,\"*\")","v":-0.93539999999999957},{"$f":"IFERROR('Level 2'!AP16-'Level 1'!AP16,\"*\")","v":0.53944999999999865},{"$f":"IFERROR('Level 2'!AQ16-'Level 1'!AQ16,\"*\")","v":-0.16380000000000017},{"$f":"IFERROR('Level 2'!AR16-'Level 1'!AR16,\"*\")","v":0.79340000000000011},{"$f":"IFERROR('Level 2'!AS16-'Level 1'!AS16,\"*\")","v":1.1006000000000018},{"$f":"IFERROR('Level 2'!AT16-'Level 1'!AT16,\"*\")","v":0.54555000000000042},{"$f":"IFERROR('Level 2'!AU16-'Level 1'!AU16,\"*\")","v":-0.24844999999999828},{"$f":"IFERROR('Level 2'!AV16-'Level 1'!AV16,\"*\")","v":-0.26860000000000106},{"$f":"IFERROR('Level 2'!AW16-'Level 1'!AW16,\"*\")","v":-0.3573000000000004},{"$f":"IFERROR('Level 2'!AX16-'Level 1'!AX16,\"*\")","v":0.34249999999999936},{"$f":"IFERROR('Level 2'!AY16-'Level 1'!AY16,\"*\")","v":"*"},null,{"$f":"'Level 1'!A16","v":"France"},{"$f":"IFERROR('Level 2'!BB16-'Level 1'!BB16,\"*\")","v":-0.69179999999999975},{"$f":"IFERROR('Level 2'!BC16-'Level 1'!BC16,\"*\")","v":0.52625000000000099},{"$f":"IFERROR('Level 2'!BD16-'Level 1'!BD16,\"*\")","v":0.38004999999999978},{"$f":"IFERROR('Level 2'!BE16-'Level 1'!BE16,\"*\")","v":1.6290000000000004},{"$f":"IFERROR('Level 2'!BF16-'Level 1'!BF16,\"*\")","v":2.6900000000000368E-2},{"$f":"IFERROR('Level 2'!BG16-'Level 1'!BG16,\"*\")","v":-1.0499999999998622E-2},{"$f":"IFERROR('Level 2'!BH16-'Level 1'!BH16,\"*\")","v":7.1099999999999497E-2},{"$f":"IFERROR('Level 2'!BI16-'Level 1'!BI16,\"*\")","v":0.16840000000000011},{"$f":"IFERROR('Level 2'!BJ16-'Level 1'!BJ16,\"*\")","v":0.23149999999999959},{"$f":"IFERROR('Level 2'!BK16-'Level 1'!BK16,\"*\")","v":1.7805},{"$f":"IFERROR('Level 2'!BL16-'Level 1'!BL16,\"*\")","v":"*"},null,{"$f":"'Level 1'!A16","v":"France"},{"$f":"IFERROR('Level 2'!BO16-'Level 1'!BO16,\"*\")","v":"*"},{"$f":"IFERROR('Level 2'!BP16-'Level 1'!BP16,\"*\")","v":"*"},{"$f":"IFERROR('Level 2'!BQ16-'Level 1'!BQ16,\"*\")","v":"*"},{"$f":"IFERROR('Level 2'!BR16-'Level 1'!BR16,\"*\")","v":"*"},{"$f":"IFERROR('Level 2'!BS16-'Level 1'!BS16,\"*\")","v":"*"},{"$f":"IFERROR('Level 2'!BT16-'Level 1'!BT16,\"*\")","v":"*"},{"$f":"IFERROR('Level 2'!BU16-'Level 1'!BU16,\"*\")","v":"*"},{"$f":"IFERROR('Level 2'!BV16-'Level 1'!BV16,\"*\")","v":"*"},{"$f":"IFERROR('Level 2'!BW16-'Level 1'!BW16,\"*\")","v":"*"},{"$f":"IFERROR('Level 2'!BX16-'Level 1'!BX16,\"*\")","v":"*"},{"$f":"IFERROR('Level 2'!BY16-'Level 1'!BY16,\"*\")","v":"*"}]
[{"$f":"'Level 1'!A17","v":"Croatia"},{"$f":"IFERROR('Level 2'!B17-'Level 1'!B17,\"*\")","v":0.29909999999999926},{"$f":"IFERROR('Level 2'!C17-'Level 1'!C17,\"*\")","v":0.13684999999999992},{"$f":"IFERROR('Level 2'!D17-'Level 1'!D17,\"*\")","v":0},{"$f":"IFERROR('Level 2'!E17-'Level 1'!E17,\"*\")","v":0},{"$f":"IFERROR('Level 2'!F17-'Level 1'!F17,\"*\")","v":0},{"$f":"IFERROR('Level 2'!G17-'Level 1'!G17,\"*\")","v":0},{"$f":"IFERROR('Level 2'!H17-'Level 1'!H17,\"*\")","v":8.1700000000001438E-2},{"$f":"IFERROR('Level 2'!I17-'Level 1'!I17,\"*\")","v":0.16505000000000081},{"$f":"IFERROR('Level 2'!J17-'Level 1'!J17,\"*\")","v":0.1720000000000006},{"$f":"IFERROR('Level 2'!K17-'Level 1'!K17,\"*\")","v":0.16929999999999978},{"$f":"IFERROR('Level 2'!L17-'Level 1'!L17,\"*\")","v":"*"},null,{"$f":"'Level 1'!A17","v":"Croatia"},{"$f":"IFERROR('Level 2'!O17-'Level 1'!O17,\"*\")","v":0.29909999999999926},{"$f":"IFERROR('Level 2'!P17-'Level 1'!P17,\"*\")","v":0.13684999999999992},{"$f":"IFERROR('Level 2'!Q17-'Level 1'!Q17,\"*\")","v":0},{"$f":"IFERROR('Level 2'!R17-'Level 1'!R17,\"*\")","v":0},{"$f":"IFERROR('Level 2'!S17-'Level 1'!S17,\"*\")","v":0},{"$f":"IFERROR('Level 2'!T17-'Level 1'!T17,\"*\")","v":0},{"$f":"IFERROR('Level 2'!U17-'Level 1'!U17,\"*\")","v":7.9749999999998877E-2},{"$f":"IFERROR('Level 2'!V17-'Level 1'!V17,\"*\")","v":0.16109999999999935},{"$f":"IFERROR('Level 2'!W17-'Level 1'!W17,\"*\")","v":0.13134999999999941},{"$f":"IFERROR('Level 2'!X17-'Level 1'!X17,\"*\")","v":0.14149999999999885},{"$f":"IFERROR('Level 2'!Y17-'Level 1'!Y17,\"*\")","v":"*"},null,{"$f":"'Level 1'!A17","v":"Croatia"},{"$f":"IFERROR('Level 2'!AB17-'Level 1'!AB17,\"*\")","v":0.71369999999999933},{"$f":"IFERROR('Level 2'!AC17-'Level 1'!AC17,\"*\")","v":2.08155},{"$f":"IFERROR('Level 2'!AD17-'Level 1'!AD17,\"*\")","v":0.73755000000000059},{"$f":"IFERROR('Level 2'!AE17-'Level 1'!AE17,\"*\")","v":-2.3046500000000005},{"$f":"IFERROR('Level 2'!AF17-'Level 1'!AF17,\"*\")","v":-2.6655999999999995},{"$f":"IFERROR('Level 2'!AG17-'Level 1'!AG17,\"*\")","v":-1.7582000000000004},{"$f":"IFERROR('Level 2'!AH17-'Level 1'!AH17,\"*\")","v":-1.5389999999999979},{"$f":"IFERROR('Level 2'!AI17-'Level 1'!AI17,\"*\")","v":-0.82519999999999882},{"$f":"IFERROR('Level 2'!AJ17-'Level 1'!AJ17,\"*\")","v":-0.89284999999999926},{"$f":"IFERROR('Level 2'!AK17-'Level 1'!AK17,\"*\")","v":-1.1665999999999999},{"$f":"IFERROR('Level 2'!AL17-'Level 1'!AL17,\"*\")","v":"*"},null,{"$f":"'Level 1'!A17","v":"Croatia"},{"$f":"IFERROR('Level 2'!AO17-'Level 1'!AO17,\"*\")","v":"*"},{"$f":"IFERROR('Level 2'!AP17-'Level 1'!AP17,\"*\")","v":1.5000499999999999},{"$f":"IFERROR('Level 2'!AQ17-'Level 1'!AQ17,\"*\")","v":-1.0081999999999987},{"$f":"IFERROR('Level 2'!AR17-'Level 1'!AR17,\"*\")","v":-1.7906500000000012},{"$f":"IFERROR('Level 2'!AS17-'Level 1'!AS17,\"*\")","v":-1.6218500000000002},{"$f":"IFERROR('Level 2'!AT17-'Level 1'!AT17,\"*\")","v":-1.6631499999999999},{"$f":"IFERROR('Level 2'!AU17-'Level 1'!AU17,\"*\")","v":-2.6600000000001955E-2},{"$f":"IFERROR('Level 2'!AV17-'Level 1'!AV17,\"*\")","v":-0.74094999999999978},{"$f":"IFERROR('Level 2'!AW17-'Level 1'!AW17,\"*\")","v":-0.414299999999999},{"$f":"IFERROR('Level 2'!AX17-'Level 1'!AX17,\"*\")","v":-0.61599999999999966},{"$f":"IFERROR('Level 2'!AY17-'Level 1'!AY17,\"*\")","v":"*"},null,{"$f":"'Level 1'!A17","v":"Croatia"},{"$f":"IFERROR('Level 2'!BB17-'Level 1'!BB17,\"*\")","v":"*"},{"$f":"IFERROR('Level 2'!BC17-'Level 1'!BC17,\"*\")","v":"*"},{"$f":"IFERROR('Level 2'!BD17-'Level 1'!BD17,\"*\")","v":"*"},{"$f":"IFERROR('Level 2'!BE17-'Level 1'!BE17,\"*\")","v":"*"},{"$f":"IFERROR('Level 2'!BF17-'Level 1'!BF17,\"*\")","v":"*"},{"$f":"IFERROR('Level 2'!BG17-'Level 1'!BG17,\"*\")","v":"*"},{"$f":"IFERROR('Level 2'!BH17-'Level 1'!BH17,\"*\")","v":2.3004500000000005},{"$f":"IFERROR('Level 2'!BI17-'Level 1'!BI17,\"*\")","v":"*"},{"$f":"IFERROR('Level 2'!BJ17-'Level 1'!BJ17,\"*\")","v":"*"},{"$f":"IFERROR('Level 2'!BK17-'Level 1'!BK17,\"*\")","v":"*"},{"$f":"IFERROR('Level 2'!BL17-'Level 1'!BL17,\"*\")","v":"*"},null,{"$f":"'Level 1'!A17","v":"Croatia"},{"$f":"IFERROR('Level 2'!BO17-'Level 1'!BO17,\"*\")","v":"*"},{"$f":"IFERROR('Level 2'!BP17-'Level 1'!BP17,\"*\")","v":"*"},{"$f":"IFERROR('Level 2'!BQ17-'Level 1'!BQ17,\"*\")","v":"*"},{"$f":"IFERROR('Level 2'!BR17-'Level 1'!BR17,\"*\")","v":"*"},{"$f":"IFERROR('Level 2'!BS17-'Level 1'!BS17,\"*\")","v":"*"},{"$f":"IFERROR('Level 2'!BT17-'Level 1'!BT17,\"*\")","v":"*"},{"$f":"IFERROR('Level 2'!BU17-'Level 1'!BU17,\"*\")","v":"*"},{"$f":"IFERROR('Level 2'!BV17-'Level 1'!BV17,\"*\")","v":"*"},{"$f":"IFERROR('Level 2'!BW17-'Level 1'!BW17,\"*\")","v":"*"},{"$f":"IFERROR('Level 2'!BX17-'Level 1'!BX17,\"*\")","v":"*"},{"$f":"IFERROR('Level 2'!BY17-'Level 1'!BY17,\"*\")","v":"*"}]
[{"$f":"'Level 1'!A18","v":"Italy"},{"$f":"IFERROR('Level 2'!B18-'Level 1'!B18,\"*\")","v":2.3724999999999987},{"$f":"IFERROR('Level 2'!C18-'Level 1'!C18,\"*\")","v":2.0325000000000006},{"$f":"IFERROR('Level 2'!D18-'Level 1'!D18,\"*\")","v":3.1769999999999996},{"$f":"IFERROR('Level 2'!E18-'Level 1'!E18,\"*\")","v":2.0700000000000003},{"$f":"IFERROR('Level 2'!F18-'Level 1'!F18,\"*\")","v":2.67},{"$f":"IFERROR('Level 2'!G18-'Level 1'!G18,\"*\")","v":3.2199999999999989},{"$f":"IFERROR('Level 2'!H18-'Level 1'!H18,\"*\")","v":3.235000000000003},{"$f":"IFERROR('Level 2'!I18-'Level 1'!I18,\"*\")","v":3.1700000000000017},{"$f":"IFERROR('Level 2'!J18-'Level 1'!J18,\"*\")","v":3.0999999999999979},{"$f":"IFERROR('Level 2'!K18-'Level 1'!K18,\"*\")","v":3.0599999999999987},{"$f":"IFERROR('Level 2'!L18-'Level 1'!L18,\"*\")","v":"*"},null,{"$f":"'Level 1'!A18","v":"Italy"},{"$f":"IFERROR('Level 2'!O18-'Level 1'!O18,\"*\")","v":1.5919999999999987},{"$f":"IFERROR('Level 2'!P18-'Level 1'!P18,\"*\")","v":1.1574999999999989},{"$f":"IFERROR('Level 2'!Q18-'Level 1'!Q18,\"*\")","v":1.7589999999999986},{"$f":"IFERROR('Level 2'!R18-'Level 1'!R18,\"*\")","v":1.0150000000000006},{"$f":"IFERROR('Level 2'!S18-'Level 1'!S18,\"*\")","v":1.4049999999999976},{"$f":"IFERROR('Level 2'!T18-'Level 1'!T18,\"*\")","v":2.2200000000000006},{"$f":"IFERROR('Level 2'!U18-'Level 1'!U18,\"*\")","v":2.1899999999999995},{"$f":"IFERROR('Level 2'!V18-'Level 1'!V18,\"*\")","v":2.0550000000000015},{"$f":"IFERROR('Level 2'!W18-'Level 1'!W18,\"*\")","v":2.0150000000000006},{"$f":"IFERROR('Level 2'!X18-'Level 1'!X18,\"*\")","v":2.16},{"$f":"IFERROR('Level 2'!Y18-'Level 1'!Y18,\"*\")","v":"*"},null,{"$f":"'Level 1'!A18","v":"Italy"},{"$f":"IFERROR('Level 2'!AB18-'Level 1'!AB18,\"*\")","v":0.47299999999999898},{"$f":"IFERROR('Level 2'!AC18-'Level 1'!AC18,\"*\")","v":0.24350000000000094},{"$f":"IFERROR('Level 2'!AD18-'Level 1'!AD18,\"*\")","v":0.50000000000000178},{"$f":"IFERROR('Level 2'!AE18-'Level 1'!AE18,\"*\")","v":1.5849999999999991},{"$f":"IFERROR('Level 2'!AF18-'Level 1'!AF18,\"*\")","v":1.7149999999999999},{"$f":"IFERROR('Level 2'!AG18-'Level 1'!AG18,\"*\")","v":0.53000000000000114},{"$f":"IFERROR('Level 2'!AH18-'Level 1'!AH18,\"*\")","v":0.91500000000000092},{"$f":"IFERROR('Level 2'!AI18-'Level 1'!AI18,\"*\")","v":1.3399999999999999},{"$f":"IFERROR('Level 2'!AJ18-'Level 1'!AJ18,\"*\")","v":1.6000000000000014},{"$f":"IFERROR('Level 2'!AK18-'Level 1'!AK18,\"*\")","v":1.25},{"$f":"IFERROR('Level 2'!AL18-'Level 1'!AL18,\"*\")","v":"*"},null,{"$f":"'Level 1'!A18","v":"Italy"},{"$f":"IFERROR('Level 2'!AO18-'Level 1'!AO18,\"*\")","v":1.427999999999999},{"$f":"IFERROR('Level 2'!AP18-'Level 1'!AP18,\"*\")","v":1.6240000000000023},{"$f":"IFERROR('Level 2'!AQ18-'Level 1'!AQ18,\"*\")","v":1.6305000000000014},{"$f":"IFERROR('Level 2'!AR18-'Level 1'!AR18,\"*\")","v":2.29},{"$f":"IFERROR('Level 2'!AS18-'Level 1'!AS18,\"*\")","v":2.129999999999999},{"$f":"IFERROR('Level 2'!AT18-'Level 1'!AT18,\"*\")","v":8.5000000000000853E-2},{"$f":"IFERROR('Level 2'!AU18-'Level 1'!AU18,\"*\")","v":1.3500000000000014},{"$f":"IFERROR('Level 2'!AV18-'Level 1'!AV18,\"*\")","v":1.0650000000000013},{"$f":"IFERROR('Level 2'!AW18-'Level 1'!AW18,\"*\")","v":0.82000000000000028},{"$f":"IFERROR('Level 2'!AX18-'Level 1'!AX18,\"*\")","v":0.57000000000000028},{"$f":"IFERROR('Level 2'!AY18-'Level 1'!AY18,\"*\")","v":"*"},null,{"$f":"'Level 1'!A18","v":"Italy"},{"$f":"IFERROR('Level 2'!BB18-'Level 1'!BB18,\"*\")","v":0.1745000000000001},{"$f":"IFERROR('Level 2'!BC18-'Level 1'!BC18,\"*\")","v":0.36899999999999977},{"$f":"IFERROR('Level 2'!BD18-'Level 1'!BD18,\"*\")","v":0.4919999999999991},{"$f":"IFERROR('Level 2'!BE18-'Level 1'!BE18,\"*\")","v":1.4099999999999984},{"$f":"IFERROR('Level 2'!BF18-'Level 1'!BF18,\"*\")","v":1.4899999999999993},{"$f":"IFERROR('Level 2'!BG18-'Level 1'!BG18,\"*\")","v":-0.60500000000000043},{"$f":"IFERROR('Level 2'!BH18-'Level 1'!BH18,\"*\")","v":0.23499999999999943},{"$f":"IFERROR('Level 2'!BI18-'Level 1'!BI18,\"*\")","v":0.43499999999999872},{"$f":"IFERROR('Level 2'!BJ18-'Level 1'!BJ18,\"*\")","v":0.35500000000000043},{"$f":"IFERROR('Level 2'!BK18-'Level 1'!BK18,\"*\")","v":-0.30999999999999961},{"$f":"IFERROR('Level 2'!BL18-'Level 1'!BL18,\"*\")","v":"*"},null,{"$f":"'Level 1'!A18","v":"Italy"},{"$f":"IFERROR('Level 2'!BO18-'Level 1'!BO18,\"*\")","v":"*"},{"$f":"IFERROR('Level 2'!BP18-'Level 1'!BP18,\"*\")","v":"*"},{"$f":"IFERROR('Level 2'!BQ18-'Level 1'!BQ18,\"*\")","v":"*"},{"$f":"IFERROR('Level 2'!BR18-'Level 1'!BR18,\"*\")","v":1.8599999999999994},{"$f":"IFERROR('Level 2'!BS18-'Level 1'!BS18,\"*\")","v":1.1099999999999994},{"$f":"IFERROR('Level 2'!BT18-'Level 1'!BT18,\"*\")","v":-0.73000000000000043},{"$f":"IFERROR('Level 2'!BU18-'Level 1'!BU18,\"*\")","v":0.49500000000000099},{"$f":"IFERROR('Level 2'!BV18-'Level 1'!BV18,\"*\")","v":0.16999999999999993},{"$f":"IFERROR('Level 2'!BW18-'Level 1'!BW18,\"*\")","v":5.5000000000000604E-2},{"$f":"IFERROR('Level 2'!BX18-'Level 1'!BX18,\"*\")","v":-0.47999999999999954},{"$f":"IFERROR('Level 2'!BY18-'Level 1'!BY18,\"*\")","v":"*"}]
[{"$f":"'Level 1'!A19","v":"Latvia"},{"$f":"IFERROR('Level 2'!B19-'Level 1'!B19,\"*\")","v":1.4299999999999535E-2},{"$f":"IFERROR('Level 2'!C19-'Level 1'!C19,\"*\")","v":2.1300000000000097E-2},{"$f":"IFERROR('Level 2'!D19-'Level 1'!D19,\"*\")","v":1.4149999999998997E-2},{"$f":"IFERROR('Level 2'!E19-'Level 1'!E19,\"*\")","v":1.410000000000089E-2},{"$f":"IFERROR('Level 2'!F19-'Level 1'!F19,\"*\")","v":0.24805000000000099},{"$f":"IFERROR('Level 2'!G19-'Level 1'!G19,\"*\")","v":0.48044999999999938},{"$f":"IFERROR('Level 2'!H19-'Level 1'!H19,\"*\")","v":0.47050000000000125},{"$f":"IFERROR('Level 2'!I19-'Level 1'!I19,\"*\")","v":0.46000000000000085},{"$f":"IFERROR('Level 2'!J19-'Level 1'!J19,\"*\")","v":0.47499999999999964},{"$f":"IFERROR('Level 2'!K19-'Level 1'!K19,\"*\")","v":0.48000000000000043},{"$f":"IFERROR('Level 2'!L19-'Level 1'!L19,\"*\")","v":"*"},null,{"$f":"'Level 1'!A19","v":"Latvia"},{"$f":"IFERROR('Level 2'!O19-'Level 1'!O19,\"*\")","v":1.419999999999888E-2},{"$f":"IFERROR('Level 2'!P19-'Level 1'!P19,\"*\")","v":7.0999999999994401E-3},{"$f":"IFERROR('Level 2'!Q19-'Level 1'!Q19,\"*\")","v":7.0499999999995566E-3},{"$f":"IFERROR('Level 2'!R19-'Level 1'!R19,\"*\")","v":1.4150000000000773E-2},{"$f":"IFERROR('Level 2'!S19-'Level 1'!S19,\"*\")","v":0.24095000000000155},{"$f":"IFERROR('Level 2'!T19-'Level 1'!T19,\"*\")","v":0.43745000000000012},{"$f":"IFERROR('Level 2'!U19-'Level 1'!U19,\"*\")","v":0.47760000000000069},{"$f":"IFERROR('Level 2'!V19-'Level 1'!V19,\"*\")","v":0.42999999999999972},{"$f":"IFERROR('Level 2'!W19-'Level 1'!W19,\"*\")","v":0.47499999999999787},{"$f":"IFERROR('Level 2'!X19-'Level 1'!X19,\"*\")","v":0.45999999999999908},{"$f":"IFERROR('Level 2'!Y19-'Level 1'!Y19,\"*\")","v":"*"},null,{"$f":"'Level 1'!A19","v":"Latvia"},{"$f":"IFERROR('Level 2'!AB19-'Level 1'!AB19,\"*\")","v":-1.0445000000000002},{"$f":"IFERROR('Level 2'!AC19-'Level 1'!AC19,\"*\")","v":-3.0554999999999994},{"$f":"IFERROR('Level 2'!AD19-'Level 1'!AD19,\"*\")","v":-1.8952500000000008},{"$f":"IFERROR('Level 2'!AE19-'Level 1'!AE19,\"*\")","v":2.2053500000000001},{"$f":"IFERROR('Level 2'!AF19-'Level 1'!AF19,\"*\")","v":3.1724499999999995},{"$f":"IFERROR('Level 2'!AG19-'Level 1'!AG19,\"*\")","v":2.0767500000000005},{"$f":"IFERROR('Level 2'!AH19-'Level 1'!AH19,\"*\")","v":2.3677499999999991},{"$f":"IFERROR('Level 2'!AI19-'Level 1'!AI19,\"*\")","v":1.9814500000000006},{"$f":"IFERROR('Level 2'!AJ19-'Level 1'!AJ19,\"*\")","v":1.8384},{"$f":"IFERROR('Level 2'!AK19-'Level 1'!AK19,\"*\")","v":2.133},{"$f":"IFERROR('Level 2'!AL19-'Level 1'!AL19,\"*\")","v":"*"},null,{"$f":"'Level 1'!A19","v":"Latvia"},{"$f":"IFERROR('Level 2'!AO19-'Level 1'!AO19,\"*\")","v":-2.5865999999999998},{"$f":"IFERROR('Level 2'!AP19-'Level 1'!AP19,\"*\")","v":-2.0186500000000001},{"$f":"IFERROR('Level 2'!AQ19-'Level 1'!AQ19,\"*\")","v":-1.9845500000000005},{"$f":"IFERROR('Level 2'!AR19-'Level 1'!AR19,\"*\")","v":7.1799999999999642E-2},{"$f":"IFERROR('Level 2'!AS19-'Level 1'!AS19,\"*\")","v":-0.24425000000000097},{"$f":"IFERROR('Level 2'!AT19-'Level 1'!AT19,\"*\")","v":-6.4750000000000085E-2},{"$f":"IFERROR('Level 2'!AU19-'Level 1'!AU19,\"*\")","v":0.28275000000000006},{"$f":"IFERROR('Level 2'!AV19-'Level 1'!AV19,\"*\")","v":0.96000000000000085},{"$f":"IFERROR('Level 2'!AW19-'Level 1'!AW19,\"*\")","v":0.27999999999999936},{"$f":"IFERROR('Level 2'!AX19-'Level 1'!AX19,\"*\")","v":2.13},{"$f":"IFERROR('Level 2'!AY19-'Level 1'!AY19,\"*\")","v":"*"},null,{"$f":"'Level 1'!A19","v":"Latvia"},{"$f":"IFERROR('Level 2'!BB19-'Level 1'!BB19,\"*\")","v":-2.5076000000000001},{"$f":"IFERROR('Level 2'!BC19-'Level 1'!BC19,\"*\")","v":-1.5680499999999995},{"$f":"IFERROR('Level 2'!BD19-'Level 1'!BD19,\"*\")","v":-1.3763499999999995},{"$f":"IFERROR('Level 2'!BE19-'Level 1'!BE19,\"*\")","v":0.25739999999999874},{"$f":"IFERROR('Level 2'!BF19-'Level 1'!BF19,\"*\")","v":0.1780999999999997},{"$f":"IFERROR('Level 2'!BG19-'Level 1'!BG19,\"*\")","v":0.19835000000000136},{"$f":"IFERROR('Level 2'!BH19-'Level 1'!BH19,\"*\")","v":0.62619999999999898},{"$f":"IFERROR('Level 2'!BI19-'Level 1'!BI19,\"*\")","v":1.5999999999999979},{"$f":"IFERROR('Level 2'!BJ19-'Level 1'!BJ19,\"*\")","v":0.61000000000000032},{"$f":"IFERROR('Level 2'!BK19-'Level 1'!BK19,\"*\")","v":2.04},{"$f":"IFERROR('Level 2'!BL19-'Level 1'!BL19,\"*\")","v":"*"},null,{"$f":"'Level 1'!A19","v":"Latvia"},{"$f":"IFERROR('Level 2'!BO19-'Level 1'!BO19,\"*\")","v":"*"},{"$f":"IFERROR('Level 2'!BP19-'Level 1'!BP19,\"*\")","v":"*"},{"$f":"IFERROR('Level 2'!BQ19-'Level 1'!BQ19,\"*\")","v":"*"},{"$f":"IFERROR('Level 2'!BR19-'Level 1'!BR19,\"*\")","v":"*"},{"$f":"IFERROR('Level 2'!BS19-'Level 1'!BS19,\"*\")","v":"*"},{"$f":"IFERROR('Level 2'!BT19-'Level 1'!BT19,\"*\")","v":"*"},{"$f":"IFERROR('Level 2'!BU19-'Level 1'!BU19,\"*\")","v":"*"},{"$f":"IFERROR('Level 2'!BV19-'Level 1'!BV19,\"*\")","v":"*"},{"$f":"IFERROR('Level 2'!BW19-'Level 1'!BW19,\"*\")","v":"*"},{"$f":"IFERROR('Level 2'!BX19-'Level 1'!BX19,\"*\")","v":"*"},{"$f":"IFERROR('Level 2'!BY19-'Level 1'!BY19,\"*\")","v":"*"}]
[{"$f":"'Level 1'!A20","v":"Lithuania"},{"$f":"IFERROR('Level 2'!B20-'Level 1'!B20,\"*\")","v":0},{"$f":"IFERROR('Level 2'!C20-'Level 1'!C20,\"*\")","v":0},{"$f":"IFERROR('Level 2'!D20-'Level 1'!D20,\"*\")","v":0},{"$f":"IFERROR('Level 2'!E20-'Level 1'!E20,\"*\")","v":0},{"$f":"IFERROR('Level 2'!F20-'Level 1'!F20,\"*\")","v":0},{"$f":"IFERROR('Level 2'!G20-'Level 1'!G20,\"*\")","v":0},{"$f":"IFERROR('Level 2'!H20-'Level 1'!H20,\"*\")","v":0},{"$f":"IFERROR('Level 2'!I20-'Level 1'!I20,\"*\")","v":0},{"$f":"IFERROR('Level 2'!J20-'Level 1'!J20,\"*\")","v":0},{"$f":"IFERROR('Level 2'!K20-'Level 1'!K20,\"*\")","v":0},{"$f":"IFERROR('Level 2'!L20-'Level 1'!L20,\"*\")","v":"*"},null,{"$f":"'Level 1'!A20","v":"Lithuania"},{"$f":"IFERROR('Level 2'!O20-'Level 1'!O20,\"*\")","v":0},{"$f":"IFERROR('Level 2'!P20-'Level 1'!P20,\"*\")","v":0},{"$f":"IFERROR('Level 2'!Q20-'Level 1'!Q20,\"*\")","v":0},{"$f":"IFERROR('Level 2'!R20-'Level 1'!R20,\"*\")","v":0},{"$f":"IFERROR('Level 2'!S20-'Level 1'!S20,\"*\")","v":0},{"$f":"IFERROR('Level 2'!T20-'Level 1'!T20,\"*\")","v":0},{"$f":"IFERROR('Level 2'!U20-'Level 1'!U20,\"*\")","v":0},{"$f":"IFERROR('Level 2'!V20-'Level 1'!V20,\"*\")","v":0},{"$f":"IFERROR('Level 2'!W20-'Level 1'!W20,\"*\")","v":0},{"$f":"IFERROR('Level 2'!X20-'Level 1'!X20,\"*\")","v":0},{"$f":"IFERROR('Level 2'!Y20-'Level 1'!Y20,\"*\")","v":"*"},null,{"$f":"'Level 1'!A20","v":"Lithuania"},{"$f":"IFERROR('Level 2'!AB20-'Level 1'!AB20,\"*\")","v":1.7891999999999992},{"$f":"IFERROR('Level 2'!AC20-'Level 1'!AC20,\"*\")","v":-0.13654999999999973},{"$f":"IFERROR('Level 2'!AD20-'Level 1'!AD20,\"*\")","v":1.3147000000000002},{"$f":"IFERROR('Level 2'!AE20-'Level 1'!AE20,\"*\")","v":-0.86580000000000013},{"$f":"IFERROR('Level 2'!AF20-'Level 1'!AF20,\"*\")","v":-1.6576999999999984},{"$f":"IFERROR('Level 2'!AG20-'Level 1'!AG20,\"*\")","v":-1.2875500000000013},{"$f":"IFERROR('Level 2'!AH20-'Level 1'!AH20,\"*\")","v":-0.79394999999999882},{"$f":"IFERROR('Level 2'!AI20-'Level 1'!AI20,\"*\")","v":-0.90554999999999986},{"$f":"IFERROR('Level 2'!AJ20-'Level 1'!AJ20,\"*\")","v":2.4350000000000005},{"$f":"IFERROR('Level 2'!AK20-'Level 1'!AK20,\"*\")","v":1.2199999999999998},{"$f":"IFERROR('Level 2'!AL20-'Level 1'!AL20,\"*\")","v":"*"},null,{"$f":"'Level 1'!A20","v":"Lithuania"},{"$f":"IFERROR('Level 2'!AO20-'Level 1'!AO20,\"*\")","v":1.0263999999999998},{"$f":"IFERROR('Level 2'!AP20-'Level 1'!AP20,\"*\")","v":-0.81579999999999941},{"$f":"IFERROR('Level 2'!AQ20-'Level 1'!AQ20,\"*\")","v":0.78190000000000026},{"$f":"IFERROR('Level 2'!AR20-'Level 1'!AR20,\"*\")","v":-1.6603499999999993},{"$f":"IFERROR('Level 2'!AS20-'Level 1'!AS20,\"*\")","v":-2.7135999999999978},{"$f":"IFERROR('Level 2'!AT20-'Level 1'!AT20,\"*\")","v":-3.6348500000000001},{"$f":"IFERROR('Level 2'!AU20-'Level 1'!AU20,\"*\")","v":-1.8539500000000011},{"$f":"IFERROR('Level 2'!AV20-'Level 1'!AV20,\"*\")","v":-0.76799999999999713},{"$f":"IFERROR('Level 2'!AW20-'Level 1'!AW20,\"*\")","v":2.9500000000000011},{"$f":"IFERROR('Level 2'!AX20-'Level 1'!AX20,\"*\")","v":0.85000000000000053},{"$f":"IFERROR('Level 2'!AY20-'Level 1'!AY20,\"*\")","v":"*"},null,{"$f":"'Level 1'!A20","v":"Lithuania"},{"$f":"IFERROR('Level 2'!BB20-'Level 1'!BB20,\"*\")","v":"*"},{"$f":"IFERROR('Level 2'!BC20-'Level 1'!BC20,\"*\")","v":"*"},{"$f":"IFERROR('Level 2'!BD20-'Level 1'!BD20,\"*\")","v":"*"},{"$f":"IFERROR('Level 2'!BE20-'Level 1'!BE20,\"*\")","v":"*"},{"$f":"IFERROR('Level 2'!BF20-'Level 1'!BF20,\"*\")","v":"*"},{"$f":"IFERROR('Level 2'!BG20-'Level 1'!BG20,\"*\")","v":"*"},{"$f":"IFERROR('Level 2'!BH20-'Level 1'!BH20,\"*\")","v":"*"},{"$f":"IFERROR('Level 2'!BI20-'Level 1'!BI20,\"*\")","v":"*"},{"$f":"IFERROR('Level 2'!BJ20-'Level 1'!BJ20,\"*\")","v":"*"},{"$f":"IFERROR('Level 2'!BK20-'Level 1'!BK20,\"*\")","v":"*"},{"$f":"IFERROR('Level 2'!BL20-'Level 1'!BL20,\"*\")","v":"*"},null,{"$f":"'Level 1'!A20","v":"Lithuania"},{"$f":"IFERROR('Level 2'!BO20-'Level 1'!BO20,\"*\")","v":"*"},{"$f":"IFERROR('Level 2'!BP20-'Level 1'!BP20,\"*\")","v":"*"},{"$f":"IFERROR('Level 2'!BQ20-'Level 1'!BQ20,\"*\")","v":"*"},{"$f":"IFERROR('Level 2'!BR20-'Level 1'!BR20,\"*\")","v":"*"},{"$f":"IFERROR('Level 2'!BS20-'Level 1'!BS20,\"*\")","v":"*"},{"$f":"IFERROR('Level 2'!BT20-'Level 1'!BT20,\"*\")","v":"*"},{"$f":"IFERROR('Level 2'!BU20-'Level 1'!BU20,\"*\")","v":"*"},{"$f":"IFERROR('Level 2'!BV20-'Level 1'!BV20,\"*\")","v":"*"},{"$f":"IFERROR('Level 2'!BW20-'Level 1'!BW20,\"*\")","v":"*"},{"$f":"IFERROR('Level 2'!BX20-'Level 1'!BX20,\"*\")","v":"*"},{"$f":"IFERROR('Level 2'!BY20-'Level 1'!BY20,\"*\")","v":"*"}]
[{"$f":"'Level 1'!A21","v":"Luxembourg"},{"$f":"IFERROR('Level 2'!B21-'Level 1'!B21,\"*\")","v":0.41000000000000014},{"$f":"IFERROR('Level 2'!C21-'Level 1'!C21,\"*\")","v":0.15000000000000036},{"$f":"IFERROR('Level 2'!D21-'Level 1'!D21,\"*\")","v":0.25499999999999901},{"$f":"IFERROR('Level 2'!E21-'Level 1'!E21,\"*\")","v":0.29999999999999893},{"$f":"IFERROR('Level 2'!F21-'Level 1'!F21,\"*\")","v":0.30000000000000071},{"$f":"IFERROR('Level 2'!G21-'Level 1'!G21,\"*\")","v":0.30000000000000071},{"$f":"IFERROR('Level 2'!H21-'Level 1'!H21,\"*\")","v":0.29999999999999893},{"$f":"IFERROR('Level 2'!I21-'Level 1'!I21,\"*\")","v":0.29999999999999893},{"$f":"IFERROR('Level 2'!J21-'Level 1'!J21,\"*\")","v":0.30499999999999972},{"$f":"IFERROR('Level 2'!K21-'Level 1'!K21,\"*\")","v":0.30000000000000071},{"$f":"IFERROR('Level 2'!L21-'Level 1'!L21,\"*\")","v":"*"},null,{"$f":"'Level 1'!A21","v":"Luxembourg"},{"$f":"IFERROR('Level 2'!O21-'Level 1'!O21,\"*\")","v":0.34999999999999964},{"$f":"IFERROR('Level 2'!P21-'Level 1'!P21,\"*\")","v":0.30499999999999972},{"$f":"IFERROR('Level 2'!Q21-'Level 1'!Q21,\"*\")","v":0.28000000000000114},{"$f":"IFERROR('Level 2'!R21-'Level 1'!R21,\"*\")","v":0.15499999999999936},{"$f":"IFERROR('Level 2'!S21-'Level 1'!S21,\"*\")","v":0.16499999999999915},{"$f":"IFERROR('Level 2'!T21-'Level 1'!T21,\"*\")","v":0.15000000000000036},{"$f":"IFERROR('Level 2'!U21-'Level 1'!U21,\"*\")","v":0.15000000000000213},{"$f":"IFERROR('Level 2'!V21-'Level 1'!V21,\"*\")","v":0.16500000000000092},{"$f":"IFERROR('Level 2'!W21-'Level 1'!W21,\"*\")","v":0.19500000000000028},{"$f":"IFERROR('Level 2'!X21-'Level 1'!X21,\"*\")","v":0.16000000000000014},{"$f":"IFERROR('Level 2'!Y21-'Level 1'!Y21,\"*\")","v":"*"},null,{"$f":"'Level 1'!A21","v":"Luxembourg"},{"$f":"IFERROR('Level 2'!AB21-'Level 1'!AB21,\"*\")","v":-0.83609999999999918},{"$f":"IFERROR('Level 2'!AC21-'Level 1'!AC21,\"*\")","v":-1.3524499999999993},{"$f":"IFERROR('Level 2'!AD21-'Level 1'!AD21,\"*\")","v":-1.2400500000000001},{"$f":"IFERROR('Level 2'!AE21-'Level 1'!AE21,\"*\")","v":-2.8482500000000002},{"$f":"IFERROR('Level 2'!AF21-'Level 1'!AF21,\"*\")","v":-3.905899999999999},{"$f":"IFERROR('Level 2'!AG21-'Level 1'!AG21,\"*\")","v":-3.3618500000000004},{"$f":"IFERROR('Level 2'!AH21-'Level 1'!AH21,\"*\")","v":-2.829600000000001},{"$f":"IFERROR('Level 2'!AI21-'Level 1'!AI21,\"*\")","v":-1.4499999999999993},{"$f":"IFERROR('Level 2'!AJ21-'Level 1'!AJ21,\"*\")","v":-1.4299999999999997},{"$f":"IFERROR('Level 2'!AK21-'Level 1'!AK21,\"*\")","v":-2.0700000000000003},{"$f":"IFERROR('Level 2'!AL21-'Level 1'!AL21,\"*\")","v":"*"},null,{"$f":"'Level 1'!A21","v":"Luxembourg"},{"$f":"IFERROR('Level 2'!AO21-'Level 1'!AO21,\"*\")","v":"*"},{"$f":"IFERROR('Level 2'!AP21-'Level 1'!AP21,\"*\")","v":"*"},{"$f":"IFERROR('Level 2'!AQ21-'Level 1'!AQ21,\"*\")","v":"*"},{"$f":"IFERROR('Level 2'!AR21-'Level 1'!AR21,\"*\")","v":"*"},{"$f":"IFERROR('Level 2'!AS21-'Level 1'!AS21,\"*\")","v":"*"},{"$f":"IFERROR('Level 2'!AT21-'Level 1'!AT21,\"*\")","v":4.2299999999999986},{"$f":"IFERROR('Level 2'!AU21-'Level 1'!AU21,\"*\")","v":2.5449999999999982},{"$f":"IFERROR('Level 2'!AV21-'Level 1'!AV21,\"*\")","v":3.1949999999999985},{"$f":"IFERROR('Level 2'!AW21-'Level 1'!AW21,\"*\")","v":1.2650000000000006},{"$f":"IFERROR('Level 2'!AX21-'Level 1'!AX21,\"*\")","v":-0.16000000000000014},{"$f":"IFERROR('Level 2'!AY21-'Level 1'!AY21,\"*\")","v":"*"},null,{"$f":"'Level 1'!A21","v":"Luxembourg"},{"$f":"IFERROR('Level 2'!BB21-'Level 1'!BB21,\"*\")","v":"*"},{"$f":"IFERROR('Level 2'!BC21-'Level 1'!BC21,\"*\")","v":"*"},{"$f":"IFERROR('Level 2'!BD21-'Level 1'!BD21,\"*\")","v":"*"},{"$f":"IFERROR('Level 2'!BE21-'Level 1'!BE21,\"*\")","v":"*"},{"$f":"IFERROR('Level 2'!BF21-'Level 1'!BF21,\"*\")","v":"*"},{"$f":"IFERROR('Level 2'!BG21-'Level 1'!BG21,\"*\")","v":"*"},{"$f":"IFERROR('Level 2'!BH21-'Level 1'!BH21,\"*\")","v":"*"},{"$f":"IFERROR('Level 2'!BI21-'Level 1'!BI21,\"*\")","v":"*"},{"$f":"IFERROR('Level 2'!BJ21-'Level 1'!BJ21,\"*\")","v":"*"},{"$f":"IFERROR('Level 2'!BK21-'Level 1'!BK21,\"*\")","v":"*"},{"$f":"IFERROR('Level 2'!BL21-'Level 1'!BL21,\"*\")","v":"*"},null,{"$f":"'Level 1'!A21","v":"Luxembourg"},{"$f":"IFERROR('Level 2'!BO21-'Level 1'!BO21,\"*\")","v":"*"},{"$f":"IFERROR('Level 2'!BP21-'Level 1'!BP21,\"*\")","v":"*"},{"$f":"IFERROR('Level 2'!BQ21-'Level 1'!BQ21,\"*\")","v":"*"},{"$f":"IFERROR('Level 2'!BR21-'Level 1'!BR21,\"*\")","v":"*"},{"$f":"IFERROR('Level 2'!BS21-'Level 1'!BS21,\"*\")","v":"*"},{"$f":"IFERROR('Level 2'!BT21-'Level 1'!BT21,\"*\")","v":"*"},{"$f":"IFERROR('Level 2'!BU21-'Level 1'!BU21,\"*\")","v":"*"},{"$f":"IFERROR('Level 2'!BV21-'Level 1'!BV21,\"*\")","v":"*"},{"$f":"IFERROR('Level 2'!BW21-'Level 1'!BW21,\"*\")","v":"*"},{"$f":"IFERROR('Level 2'!BX21-'Level 1'!BX21,\"*\")","v":"*"},{"$f":"IFERROR('Level 2'!BY21-'Level 1'!BY21,\"*\")","v":"*"}]
[{"$f":"'Level 1'!A22","v":"Hungary"},{"$f":"IFERROR('Level 2'!B22-'Level 1'!B22,\"*\")","v":0.22230000000000061},{"$f":"IFERROR('Level 2'!C22-'Level 1'!C22,\"*\")","v":0.30034999999999989},{"$f":"IFERROR('Level 2'!D22-'Level 1'!D22,\"*\")","v":0.29364999999999952},{"$f":"IFERROR('Level 2'!E22-'Level 1'!E22,\"*\")","v":0.32145000000000223},{"$f":"IFERROR('Level 2'!F22-'Level 1'!F22,\"*\")","v":0.3171999999999997},{"$f":"IFERROR('Level 2'!G22-'Level 1'!G22,\"*\")","v":0.57254999999999967},{"$f":"IFERROR('Level 2'!H22-'Level 1'!H22,\"*\")","v":0.50305},{"$f":"IFERROR('Level 2'!I22-'Level 1'!I22,\"*\")","v":0.42439999999999856},{"$f":"IFERROR('Level 2'!J22-'Level 1'!J22,\"*\")","v":0.46865000000000023},{"$f":"IFERROR('Level 2'!K22-'Level 1'!K22,\"*\")","v":0.47049999999999947},{"$f":"IFERROR('Level 2'!L22-'Level 1'!L22,\"*\")","v":"*"},null,{"$f":"'Level 1'!A22","v":"Hungary"},{"$f":"IFERROR('Level 2'!O22-'Level 1'!O22,\"*\")","v":0.22189999999999976},{"$f":"IFERROR('Level 2'!P22-'Level 1'!P22,\"*\")","v":0.30034999999999989},{"$f":"IFERROR('Level 2'!Q22-'Level 1'!Q22,\"*\")","v":0.29359999999999964},{"$f":"IFERROR('Level 2'!R22-'Level 1'!R22,\"*\")","v":0.32144999999999868},{"$f":"IFERROR('Level 2'!S22-'Level 1'!S22,\"*\")","v":0.31725000000000136},{"$f":"IFERROR('Level 2'!T22-'Level 1'!T22,\"*\")","v":0.57254999999999967},{"$f":"IFERROR('Level 2'!U22-'Level 1'!U22,\"*\")","v":0.47210000000000107},{"$f":"IFERROR('Level 2'!V22-'Level 1'!V22,\"*\")","v":0.4090000000000007},{"$f":"IFERROR('Level 2'!W22-'Level 1'!W22,\"*\")","v":0.47114999999999974},{"$f":"IFERROR('Level 2'!X22-'Level 1'!X22,\"*\")","v":0.43420000000000059},{"$f":"IFERROR('Level 2'!Y22-'Level 1'!Y22,\"*\")","v":"*"},null,{"$f":"'Level 1'!A22","v":"Hungary"},{"$f":"IFERROR('Level 2'!AB22-'Level 1'!AB22,\"*\")","v":-1.5907999999999998},{"$f":"IFERROR('Level 2'!AC22-'Level 1'!AC22,\"*\")","v":6.4699999999998425E-2},{"$f":"IFERROR('Level 2'!AD22-'Level 1'!AD22,\"*\")","v":-1.7446999999999999},{"$f":"IFERROR('Level 2'!AE22-'Level 1'!AE22,\"*\")","v":0.3595000000000006},{"$f":"IFERROR('Level 2'!AF22-'Level 1'!AF22,\"*\")","v":0.77144999999999975},{"$f":"IFERROR('Level 2'!AG22-'Level 1'!AG22,\"*\")","v":0.66580000000000084},{"$f":"IFERROR('Level 2'!AH22-'Level 1'!AH22,\"*\")","v":-0.11370000000000147},{"$f":"IFERROR('Level 2'!AI22-'Level 1'!AI22,\"*\")","v":0.42265000000000086},{"$f":"IFERROR('Level 2'!AJ22-'Level 1'!AJ22,\"*\")","v":-2.3863000000000003},{"$f":"IFERROR('Level 2'!AK22-'Level 1'!AK22,\"*\")","v":-0.86450000000000049},{"$f":"IFERROR('Level 2'!AL22-'Level 1'!AL22,\"*\")","v":"*"},null,{"$f":"'Level 1'!A22","v":"Hungary"},{"$f":"IFERROR('Level 2'!AO22-'Level 1'!AO22,\"*\")","v":-0.20249999999999968},{"$f":"IFERROR('Level 2'!AP22-'Level 1'!AP22,\"*\")","v":-0.91350000000000087},{"$f":"IFERROR('Level 2'!AQ22-'Level 1'!AQ22,\"*\")","v":-1.4927499999999991},{"$f":"IFERROR('Level 2'!AR22-'Level 1'!AR22,\"*\")","v":-1.3887},{"$f":"IFERROR('Level 2'!AS22-'Level 1'!AS22,\"*\")","v":-2.0946999999999996},{"$f":"IFERROR('Level 2'!AT22-'Level 1'!AT22,\"*\")","v":-1.9394999999999989},{"$f":"IFERROR('Level 2'!AU22-'Level 1'!AU22,\"*\")","v":-1.2898500000000013},{"$f":"IFERROR('Level 2'!AV22-'Level 1'!AV22,\"*\")","v":1.3007500000000007},{"$f":"IFERROR('Level 2'!AW22-'Level 1'!AW22,\"*\")","v":0.98865000000000069},{"$f":"IFERROR('Level 2'!AX22-'Level 1'!AX22,\"*\")","v":-0.22480000000000011},{"$f":"IFERROR('Level 2'!AY22-'Level 1'!AY22,\"*\")","v":"*"},null,{"$f":"'Level 1'!A22","v":"Hungary"},{"$f":"IFERROR('Level 2'!BB22-'Level 1'!BB22,\"*\")","v":-1.5439999999999996},{"$f":"IFERROR('Level 2'!BC22-'Level 1'!BC22,\"*\")","v":-1.4004000000000003},{"$f":"IFERROR('Level 2'!BD22-'Level 1'!BD22,\"*\")","v":-1.7459999999999987},{"$f":"IFERROR('Level 2'!BE22-'Level 1'!BE22,\"*\")","v":-1.4749999999999996},{"$f":"IFERROR('Level 2'!BF22-'Level 1'!BF22,\"*\")","v":-1.3358000000000008},{"$f":"IFERROR('Level 2'!BG22-'Level 1'!BG22,\"*\")","v":-1.6697000000000024},{"$f":"IFERROR('Level 2'!BH22-'Level 1'!BH22,\"*\")","v":-0.98090000000000011},{"$f":"IFERROR('Level 2'!BI22-'Level 1'!BI22,\"*\")","v":0.10515000000000185},{"$f":"IFERROR('Level 2'!BJ22-'Level 1'!BJ22,\"*\")","v":0.37754999999999939},{"$f":"IFERROR('Level 2'!BK22-'Level 1'!BK22,\"*\")","v":-0.26059999999999928},{"$f":"IFERROR('Level 2'!BL22-'Level 1'!BL22,\"*\")","v":"*"},null,{"$f":"'Level 1'!A22","v":"Hungary"},{"$f":"IFERROR('Level 2'!BO22-'Level 1'!BO22,\"*\")","v":-1.2218999999999998},{"$f":"IFERROR('Level 2'!BP22-'Level 1'!BP22,\"*\")","v":-1.5253500000000013},{"$f":"IFERROR('Level 2'!BQ22-'Level 1'!BQ22,\"*\")","v":-2.0585500000000003},{"$f":"IFERROR('Level 2'!BR22-'Level 1'!BR22,\"*\")","v":-2.1373499999999996},{"$f":"IFERROR('Level 2'!BS22-'Level 1'!BS22,\"*\")","v":"*"},{"$f":"IFERROR('Level 2'!BT22-'Level 1'!BT22,\"*\")","v":"*"},{"$f":"IFERROR('Level 2'!BU22-'Level 1'!BU22,\"*\")","v":-1.184549999999998},{"$f":"IFERROR('Level 2'!BV22-'Level 1'!BV22,\"*\")","v":-0.53614999999999924},{"$f":"IFERROR('Level 2'!BW22-'Level 1'!BW22,\"*\")","v":-5.3700000000000081E-2},{"$f":"IFERROR('Level 2'!BX22-'Level 1'!BX22,\"*\")","v":-0.47050000000000036},{"$f":"IFERROR('Level 2'!BY22-'Level 1'!BY22,\"*\")","v":"*"}]
[{"$f":"'Level 1'!A23","v":"Netherlands"},{"$f":"IFERROR('Level 2'!B23-'Level 1'!B23,\"*\")","v":4.0749999999999993},{"$f":"IFERROR('Level 2'!C23-'Level 1'!C23,\"*\")","v":4.0949999999999971},{"$f":"IFERROR('Level 2'!D23-'Level 1'!D23,\"*\")","v":4.3150000000000013},{"$f":"IFERROR('Level 2'!E23-'Level 1'!E23,\"*\")","v":4.3499999999999979},{"$f":"IFERROR('Level 2'!F23-'Level 1'!F23,\"*\")","v":4.504999999999999},{"$f":"IFERROR('Level 2'!G23-'Level 1'!G23,\"*\")","v":4.6649999999999991},{"$f":"IFERROR('Level 2'!H23-'Level 1'!H23,\"*\")","v":5.3600000000000012},{"$f":"IFERROR('Level 2'!I23-'Level 1'!I23,\"*\")","v":5.5150000000000006},{"$f":"IFERROR('Level 2'!J23-'Level 1'!J23,\"*\")","v":5.6449999999999996},{"$f":"IFERROR('Level 2'!K23-'Level 1'!K23,\"*\")","v":7.4700000000000006},{"$f":"IFERROR('Level 2'!L23-'Level 1'!L23,\"*\")","v":"*"},null,{"$f":"'Level 1'!A23","v":"Netherlands"},{"$f":"IFERROR('Level 2'!O23-'Level 1'!O23,\"*\")","v":3.4399999999999995},{"$f":"IFERROR('Level 2'!P23-'Level 1'!P23,\"*\")","v":2.6100000000000012},{"$f":"IFERROR('Level 2'!Q23-'Level 1'!Q23,\"*\")","v":3.8550000000000004},{"$f":"IFERROR('Level 2'!R23-'Level 1'!R23,\"*\")","v":4},{"$f":"IFERROR('Level 2'!S23-'Level 1'!S23,\"*\")","v":4.08},{"$f":"IFERROR('Level 2'!T23-'Level 1'!T23,\"*\")","v":4.129999999999999},{"$f":"IFERROR('Level 2'!U23-'Level 1'!U23,\"*\")","v":5.360000000000003},{"$f":"IFERROR('Level 2'!V23-'Level 1'!V23,\"*\")","v":5.5100000000000016},{"$f":"IFERROR('Level 2'!W23-'Level 1'!W23,\"*\")","v":5.6450000000000014},{"$f":"IFERROR('Level 2'!X23-'Level 1'!X23,\"*\")","v":7.4699999999999989},{"$f":"IFERROR('Level 2'!Y23-'Level 1'!Y23,\"*\")","v":"*"},null,{"$f":"'Level 1'!A23","v":"Netherlands"},{"$f":"IFERROR('Level 2'!AB23-'Level 1'!AB23,\"*\")","v":0.17999999999999972},{"$f":"IFERROR('Level 2'!AC23-'Level 1'!AC23,\"*\")","v":2.2600000000000016},{"$f":"IFERROR('Level 2'!AD23-'Level 1'!AD23,\"*\")","v":1.9050000000000011},{"$f":"IFERROR('Level 2'!AE23-'Level 1'!AE23,\"*\")","v":3.665},{"$f":"IFERROR('Level 2'!AF23-'Level 1'!AF23,\"*\")","v":5.0150000000000006},{"$f":"IFERROR('Level 2'!AG23-'Level 1'!AG23,\"*\")","v":5.8550000000000022},{"$f":"IFERROR('Level 2'!AH23-'Level 1'!AH23,\"*\")","v":4.9050000000000011},{"$f":"IFERROR('Level 2'!AI23-'Level 1'!AI23,\"*\")","v":3.2950000000000017},{"$f":"IFERROR('Level 2'!AJ23-'Level 1'!AJ23,\"*\")","v":3.33},{"$f":"IFERROR('Level 2'!AK23-'Level 1'!AK23,\"*\")","v":3.4999999999999991},{"$f":"IFERROR('Level 2'!AL23-'Level 1'!AL23,\"*\")","v":"*"},null,{"$f":"'Level 1'!A23","v":"Netherlands"},{"$f":"IFERROR('Level 2'!AO23-'Level 1'!AO23,\"*\")","v":0.21999999999999975},{"$f":"IFERROR('Level 2'!AP23-'Level 1'!AP23,\"*\")","v":0.80900000000000105},{"$f":"IFERROR('Level 2'!AQ23-'Level 1'!AQ23,\"*\")","v":0.16500000000000092},{"$f":"IFERROR('Level 2'!AR23-'Level 1'!AR23,\"*\")","v":1.0549999999999997},{"$f":"IFERROR('Level 2'!AS23-'Level 1'!AS23,\"*\")","v":0.66999999999999993},{"$f":"IFERROR('Level 2'!AT23-'Level 1'!AT23,\"*\")","v":0.71499999999999986},{"$f":"IFERROR('Level 2'!AU23-'Level 1'!AU23,\"*\")","v":0.81999999999999851},{"$f":"IFERROR('Level 2'!AV23-'Level 1'!AV23,\"*\")","v":1.2949999999999999},{"$f":"IFERROR('Level 2'!AW23-'Level 1'!AW23,\"*\")","v":1.3600000000000003},{"$f":"IFERROR('Level 2'!AX23-'Level 1'!AX23,\"*\")","v":0.98000000000000043},{"$f":"IFERROR('Level 2'!AY23-'Level 1'!AY23,\"*\")","v":"*"},null,{"$f":"'Level 1'!A23","v":"Netherlands"},{"$f":"IFERROR('Level 2'!BB23-'Level 1'!BB23,\"*\")","v":0.34999999999999964},{"$f":"IFERROR('Level 2'!BC23-'Level 1'!BC23,\"*\")","v":0.87550000000000061},{"$f":"IFERROR('Level 2'!BD23-'Level 1'!BD23,\"*\")","v":0.22499999999999964},{"$f":"IFERROR('Level 2'!BE23-'Level 1'!BE23,\"*\")","v":0.64000000000000057},{"$f":"IFERROR('Level 2'!BF23-'Level 1'!BF23,\"*\")","v":1.3550000000000004},{"$f":"IFERROR('Level 2'!BG23-'Level 1'!BG23,\"*\")","v":1.6849999999999996},{"$f":"IFERROR('Level 2'!BH23-'Level 1'!BH23,\"*\")","v":0.79999999999999893},{"$f":"IFERROR('Level 2'!BI23-'Level 1'!BI23,\"*\")","v":0.62999999999999989},{"$f":"IFERROR('Level 2'!BJ23-'Level 1'!BJ23,\"*\")","v":0.1899999999999995},{"$f":"IFERROR('Level 2'!BK23-'Level 1'!BK23,\"*\")","v":-0.58999999999999986},{"$f":"IFERROR('Level 2'!BL23-'Level 1'!BL23,\"*\")","v":"*"},null,{"$f":"'Level 1'!A23","v":"Netherlands"},{"$f":"IFERROR('Level 2'!BO23-'Level 1'!BO23,\"*\")","v":"*"},{"$f":"IFERROR('Level 2'!BP23-'Level 1'!BP23,\"*\")","v":"*"},{"$f":"IFERROR('Level 2'!BQ23-'Level 1'!BQ23,\"*\")","v":"*"},{"$f":"IFERROR('Level 2'!BR23-'Level 1'!BR23,\"*\")","v":"*"},{"$f":"IFERROR('Level 2'!BS23-'Level 1'!BS23,\"*\")","v":"*"},{"$f":"IFERROR('Level 2'!BT23-'Level 1'!BT23,\"*\")","v":"*"},{"$f":"IFERROR('Level 2'!BU23-'Level 1'!BU23,\"*\")","v":"*"},{"$f":"IFERROR('Level 2'!BV23-'Level 1'!BV23,\"*\")","v":"*"},{"$f":"IFERROR('Level 2'!BW23-'Level 1'!BW23,\"*\")","v":"*"},{"$f":"IFERROR('Level 2'!BX23-'Level 1'!BX23,\"*\")","v":"*"},{"$f":"IFERROR('Level 2'!BY23-'Level 1'!BY23,\"*\")","v":"*"}]
[{"$f":"'Level 1'!A24","v":"Austria"},{"$f":"IFERROR('Level 2'!B24-'Level 1'!B24,\"*\")","v":1.7399999999999984},{"$f":"IFERROR('Level 2'!C24-'Level 1'!C24,\"*\")","v":"*"},{"$f":"IFERROR('Level 2'!D24-'Level 1'!D24,\"*\")","v":0.10000000000000142},{"$f":"IFERROR('Level 2'!E24-'Level 1'!E24,\"*\")","v":9.4999999999998863E-2},{"$f":"IFERROR('Level 2'!F24-'Level 1'!F24,\"*\")","v":0.10000000000000142},{"$f":"IFERROR('Level 2'!G24-'Level 1'!G24,\"*\")","v":1.6899999999999995},{"$f":"IFERROR('Level 2'!H24-'Level 1'!H24,\"*\")","v":2.3849999999999998},{"$f":"IFERROR('Level 2'!I24-'Level 1'!I24,\"*\")","v":2.0749999999999993},{"$f":"IFERROR('Level 2'!J24-'Level 1'!J24,\"*\")","v":2.0350000000000001},{"$f":"IFERROR('Level 2'!K24-'Level 1'!K24,\"*\")","v":1.9600000000000009},{"$f":"IFERROR('Level 2'!L24-'Level 1'!L24,\"*\")","v":"*"},null,{"$f":"'Level 1'!A24","v":"Austria"},{"$f":"IFERROR('Level 2'!O24-'Level 1'!O24,\"*\")","v":1.7400000000000002},{"$f":"IFERROR('Level 2'!P24-'Level 1'!P24,\"*\")","v":"*"},{"$f":"IFERROR('Level 2'!Q24-'Level 1'!Q24,\"*\")","v":0.32000000000000028},{"$f":"IFERROR('Level 2'!R24-'Level 1'!R24,\"*\")","v":0.30499999999999972},{"$f":"IFERROR('Level 2'!S24-'Level 1'!S24,\"*\")","v":0.28999999999999915},{"$f":"IFERROR('Level 2'!T24-'Level 1'!T24,\"*\")","v":1.8049999999999997},{"$f":"IFERROR('Level 2'!U24-'Level 1'!U24,\"*\")","v":2.4000000000000004},{"$f":"IFERROR('Level 2'!V24-'Level 1'!V24,\"*\")","v":2.009999999999998},{"$f":"IFERROR('Level 2'!W24-'Level 1'!W24,\"*\")","v":2.1500000000000004},{"$f":"IFERROR('Level 2'!X24-'Level 1'!X24,\"*\")","v":2.1499999999999986},{"$f":"IFERROR('Level 2'!Y24-'Level 1'!Y24,\"*\")","v":"*"},null,{"$f":"'Level 1'!A24","v":"Austria"},{"$f":"IFERROR('Level 2'!AB24-'Level 1'!AB24,\"*\")","v":"*"},{"$f":"IFERROR('Level 2'!AC24-'Level 1'!AC24,\"*\")","v":"*"},{"$f":"IFERROR('Level 2'!AD24-'Level 1'!AD24,\"*\")","v":1.7301000000000002},{"$f":"IFERROR('Level 2'!AE24-'Level 1'!AE24,\"*\")","v":0.12269999999999825},{"$f":"IFERROR('Level 2'!AF24-'Level 1'!AF24,\"*\")","v":1.173449999999999},{"$f":"IFERROR('Level 2'!AG24-'Level 1'!AG24,\"*\")","v":2.7792999999999992},{"$f":"IFERROR('Level 2'!AH24-'Level 1'!AH24,\"*\")","v":2.7509999999999994},{"$f":"IFERROR('Level 2'!AI24-'Level 1'!AI24,\"*\")","v":1.5862499999999997},{"$f":"IFERROR('Level 2'!AJ24-'Level 1'!AJ24,\"*\")","v":1.4536499999999997},{"$f":"IFERROR('Level 2'!AK24-'Level 1'!AK24,\"*\")","v":1.0188999999999995},{"$f":"IFERROR('Level 2'!AL24-'Level 1'!AL24,\"*\")","v":"*"},null,{"$f":"'Level 1'!A24","v":"Austria"},{"$f":"IFERROR('Level 2'!AO24-'Level 1'!AO24,\"*\")","v":"*"},{"$f":"IFERROR('Level 2'!AP24-'Level 1'!AP24,\"*\")","v":"*"},{"$f":"IFERROR('Level 2'!AQ24-'Level 1'!AQ24,\"*\")","v":0.57259999999999955},{"$f":"IFERROR('Level 2'!AR24-'Level 1'!AR24,\"*\")","v":3.2930000000000001},{"$f":"IFERROR('Level 2'!AS24-'Level 1'!AS24,\"*\")","v":3.6506000000000007},{"$f":"IFERROR('Level 2'!AT24-'Level 1'!AT24,\"*\")","v":3.2469000000000001},{"$f":"IFERROR('Level 2'!AU24-'Level 1'!AU24,\"*\")","v":2.5545999999999989},{"$f":"IFERROR('Level 2'!AV24-'Level 1'!AV24,\"*\")","v":1.9821499999999999},{"$f":"IFERROR('Level 2'!AW24-'Level 1'!AW24,\"*\")","v":1.8140000000000001},{"$f":"IFERROR('Level 2'!AX24-'Level 1'!AX24,\"*\")","v":7.1499999999999453E-2},{"$f":"IFERROR('Level 2'!AY24-'Level 1'!AY24,\"*\")","v":"*"},null,{"$f":"'Level 1'!A24","v":"Austria"},{"$f":"IFERROR('Level 2'!BB24-'Level 1'!BB24,\"*\")","v":"*"},{"$f":"IFERROR('Level 2'!BC24-'Level 1'!BC24,\"*\")","v":"*"},{"$f":"IFERROR('Level 2'!BD24-'Level 1'!BD24,\"*\")","v":"*"},{"$f":"IFERROR('Level 2'!BE24-'Level 1'!BE24,\"*\")","v":"*"},{"$f":"IFERROR('Level 2'!BF24-'Level 1'!BF24,\"*\")","v":"*"},{"$f":"IFERROR('Level 2'!BG24-'Level 1'!BG24,\"*\")","v":"*"},{"$f":"IFERROR('Level 2'!BH24-'Level 1'!BH24,\"*\")","v":0.10289999999999999},{"$f":"IFERROR('Level 2'!BI24-'Level 1'!BI24,\"*\")","v":"*"},{"$f":"IFERROR('Level 2'!BJ24-'Level 1'!BJ24,\"*\")","v":"*"},{"$f":"IFERROR('Level 2'!BK24-'Level 1'!BK24,\"*\")","v":"*"},{"$f":"IFERROR('Level 2'!BL24-'Level 1'!BL24,\"*\")","v":"*"},null,{"$f":"'Level 1'!A24","v":"Austria"},{"$f":"IFERROR('Level 2'!BO24-'Level 1'!BO24,\"*\")","v":"*"},{"$f":"IFERROR('Level 2'!BP24-'Level 1'!BP24,\"*\")","v":"*"},{"$f":"IFERROR('Level 2'!BQ24-'Level 1'!BQ24,\"*\")","v":"*"},{"$f":"IFERROR('Level 2'!BR24-'Level 1'!BR24,\"*\")","v":"*"},{"$f":"IFERROR('Level 2'!BS24-'Level 1'!BS24,\"*\")","v":"*"},{"$f":"IFERROR('Level 2'!BT24-'Level 1'!BT24,\"*\")","v":"*"},{"$f":"IFERROR('Level 2'!BU24-'Level 1'!BU24,\"*\")","v":"*"},{"$f":"IFERROR('Level 2'!BV24-'Level 1'!BV24,\"*\")","v":"*"},{"$f":"IFERROR('Level 2'!BW24-'Level 1'!BW24,\"*\")","v":"*"},{"$f":"IFERROR('Level 2'!BX24-'Level 1'!BX24,\"*\")","v":"*"},{"$f":"IFERROR('Level 2'!BY24-'Level 1'!BY24,\"*\")","v":"*"}]
[{"$f":"'Level 1'!A25","v":"Poland"},{"$f":"IFERROR('Level 2'!B25-'Level 1'!B25,\"*\")","v":0},{"$f":"IFERROR('Level 2'!C25-'Level 1'!C25,\"*\")","v":0},{"$f":"IFERROR('Level 2'!D25-'Level 1'!D25,\"*\")","v":0},{"$f":"IFERROR('Level 2'!E25-'Level 1'!E25,\"*\")","v":0},{"$f":"IFERROR('Level 2'!F25-'Level 1'!F25,\"*\")","v":0},{"$f":"IFERROR('Level 2'!G25-'Level 1'!G25,\"*\")","v":0},{"$f":"IFERROR('Level 2'!H25-'Level 1'!H25,\"*\")","v":3.4399999999997988E-2},{"$f":"IFERROR('Level 2'!I25-'Level 1'!I25,\"*\")","v":0.21259999999999835},{"$f":"IFERROR('Level 2'!J25-'Level 1'!J25,\"*\")","v":0.20439999999999969},{"$f":"IFERROR('Level 2'!K25-'Level 1'!K25,\"*\")","v":0.19919999999999938},{"$f":"IFERROR('Level 2'!L25-'Level 1'!L25,\"*\")","v":"*"},null,{"$f":"'Level 1'!A25","v":"Poland"},{"$f":"IFERROR('Level 2'!O25-'Level 1'!O25,\"*\")","v":0},{"$f":"IFERROR('Level 2'!P25-'Level 1'!P25,\"*\")","v":0},{"$f":"IFERROR('Level 2'!Q25-'Level 1'!Q25,\"*\")","v":0},{"$f":"IFERROR('Level 2'!R25-'Level 1'!R25,\"*\")","v":0},{"$f":"IFERROR('Level 2'!S25-'Level 1'!S25,\"*\")","v":0},{"$f":"IFERROR('Level 2'!T25-'Level 1'!T25,\"*\")","v":0},{"$f":"IFERROR('Level 2'!U25-'Level 1'!U25,\"*\")","v":3.5550000000000637E-2},{"$f":"IFERROR('Level 2'!V25-'Level 1'!V25,\"*\")","v":0.18394999999999939},{"$f":"IFERROR('Level 2'!W25-'Level 1'!W25,\"*\")","v":0.2032500000000006},{"$f":"IFERROR('Level 2'!X25-'Level 1'!X25,\"*\")","v":0.20369999999999955},{"$f":"IFERROR('Level 2'!Y25-'Level 1'!Y25,\"*\")","v":"*"},null,{"$f":"'Level 1'!A25","v":"Poland"},{"$f":"IFERROR('Level 2'!AB25-'Level 1'!AB25,\"*\")","v":3.0300000000000011},{"$f":"IFERROR('Level 2'!AC25-'Level 1'!AC25,\"*\")","v":1.5382999999999996},{"$f":"IFERROR('Level 2'!AD25-'Level 1'!AD25,\"*\")","v":2.2992000000000008},{"$f":"IFERROR('Level 2'!AE25-'Level 1'!AE25,\"*\")","v":0.2494000000000014},{"$f":"IFERROR('Level 2'!AF25-'Level 1'!AF25,\"*\")","v":0.51869999999999905},{"$f":"IFERROR('Level 2'!AG25-'Level 1'!AG25,\"*\")","v":0.21739999999999959},{"$f":"IFERROR('Level 2'!AH25-'Level 1'!AH25,\"*\")","v":0.54654999999999987},{"$f":"IFERROR('Level 2'!AI25-'Level 1'!AI25,\"*\")","v":0.23600000000000065},{"$f":"IFERROR('Level 2'!AJ25-'Level 1'!AJ25,\"*\")","v":0.12015000000000065},{"$f":"IFERROR('Level 2'!AK25-'Level 1'!AK25,\"*\")","v":3.2963000000000005},{"$f":"IFERROR('Level 2'!AL25-'Level 1'!AL25,\"*\")","v":"*"},null,{"$f":"'Level 1'!A25","v":"Poland"},{"$f":"IFERROR('Level 2'!AO25-'Level 1'!AO25,\"*\")","v":1.0999999999999996},{"$f":"IFERROR('Level 2'!AP25-'Level 1'!AP25,\"*\")","v":1.4198500000000003},{"$f":"IFERROR('Level 2'!AQ25-'Level 1'!AQ25,\"*\")","v":0.95249999999999968},{"$f":"IFERROR('Level 2'!AR25-'Level 1'!AR25,\"*\")","v":-0.31909999999999972},{"$f":"IFERROR('Level 2'!AS25-'Level 1'!AS25,\"*\")","v":0.33595000000000041},{"$f":"IFERROR('Level 2'!AT25-'Level 1'!AT25,\"*\")","v":0.9477000000000011},{"$f":"IFERROR('Level 2'!AU25-'Level 1'!AU25,\"*\")","v":0.37805},{"$f":"IFERROR('Level 2'!AV25-'Level 1'!AV25,\"*\")","v":-0.43274999999999864},{"$f":"IFERROR('Level 2'!AW25-'Level 1'!AW25,\"*\")","v":-0.54954999999999998},{"$f":"IFERROR('Level 2'!AX25-'Level 1'!AX25,\"*\")","v":0.75850000000000062},{"$f":"IFERROR('Level 2'!AY25-'Level 1'!AY25,\"*\")","v":"*"},null,{"$f":"'Level 1'!A25","v":"Poland"},{"$f":"IFERROR('Level 2'!BB25-'Level 1'!BB25,\"*\")","v":1.2640000000000002},{"$f":"IFERROR('Level 2'!BC25-'Level 1'!BC25,\"*\")","v":1.9736500000000001},{"$f":"IFERROR('Level 2'!BD25-'Level 1'!BD25,\"*\")","v":1.4589000000000008},{"$f":"IFERROR('Level 2'!BE25-'Level 1'!BE25,\"*\")","v":0.38944999999999919},{"$f":"IFERROR('Level 2'!BF25-'Level 1'!BF25,\"*\")","v":0.80510000000000037},{"$f":"IFERROR('Level 2'!BG25-'Level 1'!BG25,\"*\")","v":1.4296000000000006},{"$f":"IFERROR('Level 2'!BH25-'Level 1'!BH25,\"*\")","v":0.81895000000000095},{"$f":"IFERROR('Level 2'!BI25-'Level 1'!BI25,\"*\")","v":-0.1283499999999993},{"$f":"IFERROR('Level 2'!BJ25-'Level 1'!BJ25,\"*\")","v":0.47829999999999995},{"$f":"IFERROR('Level 2'!BK25-'Level 1'!BK25,\"*\")","v":1.7885999999999997},{"$f":"IFERROR('Level 2'!BL25-'Level 1'!BL25,\"*\")","v":"*"},null,{"$f":"'Level 1'!A25","v":"Poland"},{"$f":"IFERROR('Level 2'!BO25-'Level 1'!BO25,\"*\")","v":"*"},{"$f":"IFERROR('Level 2'!BP25-'Level 1'!BP25,\"*\")","v":"*"},{"$f":"IFERROR('Level 2'!BQ25-'Level 1'!BQ25,\"*\")","v":1.2502000000000004},{"$f":"IFERROR('Level 2'!BR25-'Level 1'!BR25,\"*\")","v":"*"},{"$f":"IFERROR('Level 2'!BS25-'Level 1'!BS25,\"*\")","v":"*"},{"$f":"IFERROR('Level 2'!BT25-'Level 1'!BT25,\"*\")","v":"*"},{"$f":"IFERROR('Level 2'!BU25-'Level 1'!BU25,\"*\")","v":"*"},{"$f":"IFERROR('Level 2'!BV25-'Level 1'!BV25,\"*\")","v":"*"},{"$f":"IFERROR('Level 2'!BW25-'Level 1'!BW25,\"*\")","v":"*"},{"$f":"IFERROR('Level 2'!BX25-'Level 1'!BX25,\"*\")","v":"*"},{"$f":"IFERROR('Level 2'!BY25-'Level 1'!BY25,\"*\")","v":"*"}]
[{"$f":"'Level 1'!A26","v":"Portugal"},{"$f":"IFERROR('Level 2'!B26-'Level 1'!B26,\"*\")","v":0},{"$f":"IFERROR('Level 2'!C26-'Level 1'!C26,\"*\")","v":0},{"$f":"IFERROR('Level 2'!D26-'Level 1'!D26,\"*\")","v":0},{"$f":"IFERROR('Level 2'!E26-'Level 1'!E26,\"*\")","v":5.9000000000001052E-2},{"$f":"IFERROR('Level 2'!F26-'Level 1'!F26,\"*\")","v":0.35999999999999943},{"$f":"IFERROR('Level 2'!G26-'Level 1'!G26,\"*\")","v":0.37000000000000099},{"$f":"IFERROR('Level 2'!H26-'Level 1'!H26,\"*\")","v":0.92000000000000171},{"$f":"IFERROR('Level 2'!I26-'Level 1'!I26,\"*\")","v":1.4049999999999976},{"$f":"IFERROR('Level 2'!J26-'Level 1'!J26,\"*\")","v":1.3449999999999989},{"$f":"IFERROR('Level 2'!K26-'Level 1'!K26,\"*\")","v":1.0199999999999996},{"$f":"IFERROR('Level 2'!L26-'Level 1'!L26,\"*\")","v":"*"},null,{"$f":"'Level 1'!A26","v":"Portugal"},{"$f":"IFERROR('Level 2'!O26-'Level 1'!O26,\"*\")","v":0},{"$f":"IFERROR('Level 2'!P26-'Level 1'!P26,\"*\")","v":0},{"$f":"IFERROR('Level 2'!Q26-'Level 1'!Q26,\"*\")","v":0},{"$f":"IFERROR('Level 2'!R26-'Level 1'!R26,\"*\")","v":1.6000000000001791E-2},{"$f":"IFERROR('Level 2'!S26-'Level 1'!S26,\"*\")","v":0.11500000000000021},{"$f":"IFERROR('Level 2'!T26-'Level 1'!T26,\"*\")","v":0.13999999999999879},{"$f":"IFERROR('Level 2'!U26-'Level 1'!U26,\"*\")","v":0.42500000000000071},{"$f":"IFERROR('Level 2'!V26-'Level 1'!V26,\"*\")","v":0.49000000000000199},{"$f":"IFERROR('Level 2'!W26-'Level 1'!W26,\"*\")","v":0.41999999999999815},{"$f":"IFERROR('Level 2'!X26-'Level 1'!X26,\"*\")","v":0.34999999999999964},{"$f":"IFERROR('Level 2'!Y26-'Level 1'!Y26,\"*\")","v":"*"},null,{"$f":"'Level 1'!A26","v":"Portugal"},{"$f":"IFERROR('Level 2'!AB26-'Level 1'!AB26,\"*\")","v":"*"},{"$f":"IFERROR('Level 2'!AC26-'Level 1'!AC26,\"*\")","v":"*"},{"$f":"IFERROR('Level 2'!AD26-'Level 1'!AD26,\"*\")","v":0.6930499999999995},{"$f":"IFERROR('Level 2'!AE26-'Level 1'!AE26,\"*\")","v":1.3125},{"$f":"IFERROR('Level 2'!AF26-'Level 1'!AF26,\"*\")","v":-2.000000000000135E-2},{"$f":"IFERROR('Level 2'!AG26-'Level 1'!AG26,\"*\")","v":0.69500000000000028},{"$f":"IFERROR('Level 2'!AH26-'Level 1'!AH26,\"*\")","v":0.57000000000000028},{"$f":"IFERROR('Level 2'!AI26-'Level 1'!AI26,\"*\")","v":-0.39500000000000135},{"$f":"IFERROR('Level 2'!AJ26-'Level 1'!AJ26,\"*\")","v":-0.15500000000000114},{"$f":"IFERROR('Level 2'!AK26-'Level 1'!AK26,\"*\")","v":0.57000000000000028},{"$f":"IFERROR('Level 2'!AL26-'Level 1'!AL26,\"*\")","v":"*"},null,{"$f":"'Level 1'!A26","v":"Portugal"},{"$f":"IFERROR('Level 2'!AO26-'Level 1'!AO26,\"*\")","v":1.5606999999999998},{"$f":"IFERROR('Level 2'!AP26-'Level 1'!AP26,\"*\")","v":2.2825999999999986},{"$f":"IFERROR('Level 2'!AQ26-'Level 1'!AQ26,\"*\")","v":1.8744499999999995},{"$f":"IFERROR('Level 2'!AR26-'Level 1'!AR26,\"*\")","v":-5.0549999999999429E-2},{"$f":"IFERROR('Level 2'!AS26-'Level 1'!AS26,\"*\")","v":-0.22980000000000089},{"$f":"IFERROR('Level 2'!AT26-'Level 1'!AT26,\"*\")","v":0.1642500000000009},{"$f":"IFERROR('Level 2'!AU26-'Level 1'!AU26,\"*\")","v":-0.13220000000000098},{"$f":"IFERROR('Level 2'!AV26-'Level 1'!AV26,\"*\")","v":-0.96000000000000085},{"$f":"IFERROR('Level 2'!AW26-'Level 1'!AW26,\"*\")","v":-0.91999999999999993},{"$f":"IFERROR('Level 2'!AX26-'Level 1'!AX26,\"*\")","v":-0.70000000000000018},{"$f":"IFERROR('Level 2'!AY26-'Level 1'!AY26,\"*\")","v":"*"},null,{"$f":"'Level 1'!A26","v":"Portugal"},{"$f":"IFERROR('Level 2'!BB26-'Level 1'!BB26,\"*\")","v":1.7782},{"$f":"IFERROR('Level 2'!BC26-'Level 1'!BC26,\"*\")","v":1.7989499999999996},{"$f":"IFERROR('Level 2'!BD26-'Level 1'!BD26,\"*\")","v":0.37889999999999979},{"$f":"IFERROR('Level 2'!BE26-'Level 1'!BE26,\"*\")","v":-0.16345000000000098},{"$f":"IFERROR('Level 2'!BF26-'Level 1'!BF26,\"*\")","v":-0.42214999999999936},{"$f":"IFERROR('Level 2'!BG26-'Level 1'!BG26,\"*\")","v":0.12109999999999843},{"$f":"IFERROR('Level 2'!BH26-'Level 1'!BH26,\"*\")","v":7.1449999999998681E-2},{"$f":"IFERROR('Level 2'!BI26-'Level 1'!BI26,\"*\")","v":-1.1400000000000006},{"$f":"IFERROR('Level 2'!BJ26-'Level 1'!BJ26,\"*\")","v":-0.77500000000000036},{"$f":"IFERROR('Level 2'!BK26-'Level 1'!BK26,\"*\")","v":-0.6800000000000006},{"$f":"IFERROR('Level 2'!BL26-'Level 1'!BL26,\"*\")","v":"*"},null,{"$f":"'Level 1'!A26","v":"Portugal"},{"$f":"IFERROR('Level 2'!BO26-'Level 1'!BO26,\"*\")","v":"*"},{"$f":"IFERROR('Level 2'!BP26-'Level 1'!BP26,\"*\")","v":"*"},{"$f":"IFERROR('Level 2'!BQ26-'Level 1'!BQ26,\"*\")","v":"*"},{"$f":"IFERROR('Level 2'!BR26-'Level 1'!BR26,\"*\")","v":"*"},{"$f":"IFERROR('Level 2'!BS26-'Level 1'!BS26,\"*\")","v":"*"},{"$f":"IFERROR('Level 2'!BT26-'Level 1'!BT26,\"*\")","v":"*"},{"$f":"IFERROR('Level 2'!BU26-'Level 1'!BU26,\"*\")","v":"*"},{"$f":"IFERROR('Level 2'!BV26-'Level 1'!BV26,\"*\")","v":"*"},{"$f":"IFERROR('Level 2'!BW26-'Level 1'!BW26,\"*\")","v":"*"},{"$f":"IFERROR('Level 2'!BX26-'Level 1'!BX26,\"*\")","v":"*"},{"$f":"IFERROR('Level 2'!BY26-'Level 1'!BY26,\"*\")","v":"*"}]
[{"$f":"'Level 1'!A27","v":"Romania"},{"$f":"IFERROR('Level 2'!B27-'Level 1'!B27,\"*\")","v":1.6478000000000002},{"$f":"IFERROR('Level 2'!C27-'Level 1'!C27,\"*\")","v":1.7138999999999998},{"$f":"IFERROR('Level 2'!D27-'Level 1'!D27,\"*\")","v":2.0633499999999998},{"$f":"IFERROR('Level 2'!E27-'Level 1'!E27,\"*\")","v":2.2032499999999997},{"$f":"IFERROR('Level 2'!F27-'Level 1'!F27,\"*\")","v":2.1944499999999998},{"$f":"IFERROR('Level 2'!G27-'Level 1'!G27,\"*\")","v":2.0836499999999996},{"$f":"IFERROR('Level 2'!H27-'Level 1'!H27,\"*\")","v":2.2681499999999994},{"$f":"IFERROR('Level 2'!I27-'Level 1'!I27,\"*\")","v":2.6347000000000005},{"$f":"IFERROR('Level 2'!J27-'Level 1'!J27,\"*\")","v":2.6407500000000006},{"$f":"IFERROR('Level 2'!K27-'Level 1'!K27,\"*\")","v":2.5358000000000001},{"$f":"IFERROR('Level 2'!L27-'Level 1'!L27,\"*\")","v":"*"},null,{"$f":"'Level 1'!A27","v":"Romania"},{"$f":"IFERROR('Level 2'!O27-'Level 1'!O27,\"*\")","v":1.5084999999999997},{"$f":"IFERROR('Level 2'!P27-'Level 1'!P27,\"*\")","v":1.5825500000000003},{"$f":"IFERROR('Level 2'!Q27-'Level 1'!Q27,\"*\")","v":1.9845500000000005},{"$f":"IFERROR('Level 2'!R27-'Level 1'!R27,\"*\")","v":2.1375000000000002},{"$f":"IFERROR('Level 2'!S27-'Level 1'!S27,\"*\")","v":2.1305999999999994},{"$f":"IFERROR('Level 2'!T27-'Level 1'!T27,\"*\")","v":2.0208500000000011},{"$f":"IFERROR('Level 2'!U27-'Level 1'!U27,\"*\")","v":2.2216999999999993},{"$f":"IFERROR('Level 2'!V27-'Level 1'!V27,\"*\")","v":2.5625999999999998},{"$f":"IFERROR('Level 2'!W27-'Level 1'!W27,\"*\")","v":2.5958500000000004},{"$f":"IFERROR('Level 2'!X27-'Level 1'!X27,\"*\")","v":2.4358000000000004},{"$f":"IFERROR('Level 2'!Y27-'Level 1'!Y27,\"*\")","v":"*"},null,{"$f":"'Level 1'!A27","v":"Romania"},{"$f":"IFERROR('Level 2'!AB27-'Level 1'!AB27,\"*\")","v":0.73850000000000016},{"$f":"IFERROR('Level 2'!AC27-'Level 1'!AC27,\"*\")","v":2.5514000000000001},{"$f":"IFERROR('Level 2'!AD27-'Level 1'!AD27,\"*\")","v":3.7597499999999995},{"$f":"IFERROR('Level 2'!AE27-'Level 1'!AE27,\"*\")","v":4.6217999999999995},{"$f":"IFERROR('Level 2'!AF27-'Level 1'!AF27,\"*\")","v":4.4359000000000002},{"$f":"IFERROR('Level 2'!AG27-'Level 1'!AG27,\"*\")","v":4.5405999999999995},{"$f":"IFERROR('Level 2'!AH27-'Level 1'!AH27,\"*\")","v":4.338000000000001},{"$f":"IFERROR('Level 2'!AI27-'Level 1'!AI27,\"*\")","v":4.3902000000000019},{"$f":"IFERROR('Level 2'!AJ27-'Level 1'!AJ27,\"*\")","v":4.1994000000000007},{"$f":"IFERROR('Level 2'!AK27-'Level 1'!AK27,\"*\")","v":2.1158999999999999},{"$f":"IFERROR('Level 2'!AL27-'Level 1'!AL27,\"*\")","v":"*"},null,{"$f":"'Level 1'!A27","v":"Romania"},{"$f":"IFERROR('Level 2'!AO27-'Level 1'!AO27,\"*\")","v":-0.37819999999999965},{"$f":"IFERROR('Level 2'!AP27-'Level 1'!AP27,\"*\")","v":3.2929500000000003},{"$f":"IFERROR('Level 2'!AQ27-'Level 1'!AQ27,\"*\")","v":2.7496999999999998},{"$f":"IFERROR('Level 2'!AR27-'Level 1'!AR27,\"*\")","v":4.3885499999999995},{"$f":"IFERROR('Level 2'!AS27-'Level 1'!AS27,\"*\")","v":5.7850999999999981},{"$f":"IFERROR('Level 2'!AT27-'Level 1'!AT27,\"*\")","v":6.8306000000000004},{"$f":"IFERROR('Level 2'!AU27-'Level 1'!AU27,\"*\")","v":6.3729500000000003},{"$f":"IFERROR('Level 2'!AV27-'Level 1'!AV27,\"*\")","v":3.9426499999999987},{"$f":"IFERROR('Level 2'!AW27-'Level 1'!AW27,\"*\")","v":-8.0000000000008953E-3},{"$f":"IFERROR('Level 2'!AX27-'Level 1'!AX27,\"*\")","v":0.79940000000000033},{"$f":"IFERROR('Level 2'!AY27-'Level 1'!AY27,\"*\")","v":"*"},null,{"$f":"'Level 1'!A27","v":"Romania"},{"$f":"IFERROR('Level 2'!BB27-'Level 1'!BB27,\"*\")","v":-0.56479999999999997},{"$f":"IFERROR('Level 2'!BC27-'Level 1'!BC27,\"*\")","v":1.4018500000000005},{"$f":"IFERROR('Level 2'!BD27-'Level 1'!BD27,\"*\")","v":1.54155},{"$f":"IFERROR('Level 2'!BE27-'Level 1'!BE27,\"*\")","v":3.3568000000000002},{"$f":"IFERROR('Level 2'!BF27-'Level 1'!BF27,\"*\")","v":"*"},{"$f":"IFERROR('Level 2'!BG27-'Level 1'!BG27,\"*\")","v":"*"},{"$f":"IFERROR('Level 2'!BH27-'Level 1'!BH27,\"*\")","v":"*"},{"$f":"IFERROR('Level 2'!BI27-'Level 1'!BI27,\"*\")","v":"*"},{"$f":"IFERROR('Level 2'!BJ27-'Level 1'!BJ27,\"*\")","v":"*"},{"$f":"IFERROR('Level 2'!BK27-'Level 1'!BK27,\"*\")","v":"*"},{"$f":"IFERROR('Level 2'!BL27-'Level 1'!BL27,\"*\")","v":"*"},null,{"$f":"'Level 1'!A27","v":"Romania"},{"$f":"IFERROR('Level 2'!BO27-'Level 1'!BO27,\"*\")","v":"*"},{"$f":"IFERROR('Level 2'!BP27-'Level 1'!BP27,\"*\")","v":4.0710000000000006},{"$f":"IFERROR('Level 2'!BQ27-'Level 1'!BQ27,\"*\")","v":2.7049500000000002},{"$f":"IFERROR('Level 2'!BR27-'Level 1'!BR27,\"*\")","v":3.9423000000000004},{"$f":"IFERROR('Level 2'!BS27-'Level 1'!BS27,\"*\")","v":"*"},{"$f":"IFERROR('Level 2'!BT27-'Level 1'!BT27,\"*\")","v":"*"},{"$f":"IFERROR('Level 2'!BU27-'Level 1'!BU27,\"*\")","v":"*"},{"$f":"IFERROR('Level 2'!BV27-'Level 1'!BV27,\"*\")","v":"*"},{"$f":"IFERROR('Level 2'!BW27-'Level 1'!BW27,\"*\")","v":"*"},{"$f":"IFERROR('Level 2'!BX27-'Level 1'!BX27,\"*\")","v":"*"},{"$f":"IFERROR('Level 2'!BY27-'Level 1'!BY27,\"*\")","v":"*"}]
[{"$f":"'Level 1'!A28","v":"Slovenia"},{"$f":"IFERROR('Level 2'!B28-'Level 1'!B28,\"*\")","v":0.79000000000000092},{"$f":"IFERROR('Level 2'!C28-'Level 1'!C28,\"*\")","v":0.78500000000000014},{"$f":"IFERROR('Level 2'!D28-'Level 1'!D28,\"*\")","v":0.78999999999999915},{"$f":"IFERROR('Level 2'!E28-'Level 1'!E28,\"*\")","v":1.0785499999999999},{"$f":"IFERROR('Level 2'!F28-'Level 1'!F28,\"*\")","v":1.2400000000000002},{"$f":"IFERROR('Level 2'!G28-'Level 1'!G28,\"*\")","v":1.240000000000002},{"$f":"IFERROR('Level 2'!H28-'Level 1'!H28,\"*\")","v":1.3300000000000018},{"$f":"IFERROR('Level 2'!I28-'Level 1'!I28,\"*\")","v":1.4049999999999994},{"$f":"IFERROR('Level 2'!J28-'Level 1'!J28,\"*\")","v":1.5050000000000008},{"$f":"IFERROR('Level 2'!K28-'Level 1'!K28,\"*\")","v":1.4399999999999995},{"$f":"IFERROR('Level 2'!L28-'Level 1'!L28,\"*\")","v":"*"},null,{"$f":"'Level 1'!A28","v":"Slovenia"},{"$f":"IFERROR('Level 2'!O28-'Level 1'!O28,\"*\")","v":0.79000000000000092},{"$f":"IFERROR('Level 2'!P28-'Level 1'!P28,\"*\")","v":0.78999999999999915},{"$f":"IFERROR('Level 2'!Q28-'Level 1'!Q28,\"*\")","v":0.78999999999999915},{"$f":"IFERROR('Level 2'!R28-'Level 1'!R28,\"*\")","v":1.0785499999999999},{"$f":"IFERROR('Level 2'!S28-'Level 1'!S28,\"*\")","v":1.240000000000002},{"$f":"IFERROR('Level 2'!T28-'Level 1'!T28,\"*\")","v":1.240000000000002},{"$f":"IFERROR('Level 2'!U28-'Level 1'!U28,\"*\")","v":1.3300000000000018},{"$f":"IFERROR('Level 2'!V28-'Level 1'!V28,\"*\")","v":1.4049999999999994},{"$f":"IFERROR('Level 2'!W28-'Level 1'!W28,\"*\")","v":1.5849999999999991},{"$f":"IFERROR('Level 2'!X28-'Level 1'!X28,\"*\")","v":1.5500000000000007},{"$f":"IFERROR('Level 2'!Y28-'Level 1'!Y28,\"*\")","v":"*"},null,{"$f":"'Level 1'!A28","v":"Slovenia"},{"$f":"IFERROR('Level 2'!AB28-'Level 1'!AB28,\"*\")","v":0.14889999999999937},{"$f":"IFERROR('Level 2'!AC28-'Level 1'!AC28,\"*\")","v":-1.6485000000000003},{"$f":"IFERROR('Level 2'!AD28-'Level 1'!AD28,\"*\")","v":-1.5680499999999995},{"$f":"IFERROR('Level 2'!AE28-'Level 1'!AE28,\"*\")","v":-2.2746499999999994},{"$f":"IFERROR('Level 2'!AF28-'Level 1'!AF28,\"*\")","v":-2.1799999999999997},{"$f":"IFERROR('Level 2'!AG28-'Level 1'!AG28,\"*\")","v":-3.0399999999999991},{"$f":"IFERROR('Level 2'!AH28-'Level 1'!AH28,\"*\")","v":-0.53000000000000114},{"$f":"IFERROR('Level 2'!AI28-'Level 1'!AI28,\"*\")","v":1.4299999999999997},{"$f":"IFERROR('Level 2'!AJ28-'Level 1'!AJ28,\"*\")","v":2.0449999999999999},{"$f":"IFERROR('Level 2'!AK28-'Level 1'!AK28,\"*\")","v":1.2599999999999998},{"$f":"IFERROR('Level 2'!AL28-'Level 1'!AL28,\"*\")","v":"*"},null,{"$f":"'Level 1'!A28","v":"Slovenia"},{"$f":"IFERROR('Level 2'!AO28-'Level 1'!AO28,\"*\")","v":"*"},{"$f":"IFERROR('Level 2'!AP28-'Level 1'!AP28,\"*\")","v":-3.165},{"$f":"IFERROR('Level 2'!AQ28-'Level 1'!AQ28,\"*\")","v":0.47000000000000064},{"$f":"IFERROR('Level 2'!AR28-'Level 1'!AR28,\"*\")","v":-2.2916500000000006},{"$f":"IFERROR('Level 2'!AS28-'Level 1'!AS28,\"*\")","v":"*"},{"$f":"IFERROR('Level 2'!AT28-'Level 1'!AT28,\"*\")","v":-1.2850000000000001},{"$f":"IFERROR('Level 2'!AU28-'Level 1'!AU28,\"*\")","v":0.6850000000000005},{"$f":"IFERROR('Level 2'!AV28-'Level 1'!AV28,\"*\")","v":0.29000000000000092},{"$f":"IFERROR('Level 2'!AW28-'Level 1'!AW28,\"*\")","v":0.57000000000000028},{"$f":"IFERROR('Level 2'!AX28-'Level 1'!AX28,\"*\")","v":0.39000000000000057},{"$f":"IFERROR('Level 2'!AY28-'Level 1'!AY28,\"*\")","v":"*"},null,{"$f":"'Level 1'!A28","v":"Slovenia"},{"$f":"IFERROR('Level 2'!BB28-'Level 1'!BB28,\"*\")","v":"*"},{"$f":"IFERROR('Level 2'!BC28-'Level 1'!BC28,\"*\")","v":"*"},{"$f":"IFERROR('Level 2'!BD28-'Level 1'!BD28,\"*\")","v":"*"},{"$f":"IFERROR('Level 2'!BE28-'Level 1'!BE28,\"*\")","v":"*"},{"$f":"IFERROR('Level 2'!BF28-'Level 1'!BF28,\"*\")","v":"*"},{"$f":"IFERROR('Level 2'!BG28-'Level 1'!BG28,\"*\")","v":"*"},{"$f":"IFERROR('Level 2'!BH28-'Level 1'!BH28,\"*\")","v":"*"},{"$f":"IFERROR('Level 2'!BI28-'Level 1'!BI28,\"*\")","v":"*"},{"$f":"IFERROR('Level 2'!BJ28-'Level 1'!BJ28,\"*\")","v":"*"},{"$f":"IFERROR('Level 2'!BK28-'Level 1'!BK28,\"*\")","v":"*"},{"$f":"IFERROR('Level 2'!BL28-'Level 1'!BL28,\"*\")","v":"*"},null,{"$f":"'Level 1'!A28","v":"Slovenia"},{"$f":"IFERROR('Level 2'!BO28-'Level 1'!BO28,\"*\")","v":"*"},{"$f":"IFERROR('Level 2'!BP28-'Level 1'!BP28,\"*\")","v":"*"},{"$f":"IFERROR('Level 2'!BQ28-'Level 1'!BQ28,\"*\")","v":"*"},{"$f":"IFERROR('Level 2'!BR28-'Level 1'!BR28,\"*\")","v":"*"},{"$f":"IFERROR('Level 2'!BS28-'Level 1'!BS28,\"*\")","v":"*"},{"$f":"IFERROR('Level 2'!BT28-'Level 1'!BT28,\"*\")","v":"*"},{"$f":"IFERROR('Level 2'!BU28-'Level 1'!BU28,\"*\")","v":"*"},{"$f":"IFERROR('Level 2'!BV28-'Level 1'!BV28,\"*\")","v":"*"},{"$f":"IFERROR('Level 2'!BW28-'Level 1'!BW28,\"*\")","v":"*"},{"$f":"IFERROR('Level 2'!BX28-'Level 1'!BX28,\"*\")","v":"*"},{"$f":"IFERROR('Level 2'!BY28-'Level 1'!BY28,\"*\")","v":"*"}]
[{"$f":"'Level 1'!A29","v":"Slovakia"},{"$f":"IFERROR('Level 2'!B29-'Level 1'!B29,\"*\")","v":0},{"$f":"IFERROR('Level 2'!C29-'Level 1'!C29,\"*\")","v":9.1499999999999915E-2},{"$f":"IFERROR('Level 2'!D29-'Level 1'!D29,\"*\")","v":0.18299999999999983},{"$f":"IFERROR('Level 2'!E29-'Level 1'!E29,\"*\")","v":0.36700000000000088},{"$f":"IFERROR('Level 2'!F29-'Level 1'!F29,\"*\")","v":0.36500000000000199},{"$f":"IFERROR('Level 2'!G29-'Level 1'!G29,\"*\")","v":0.36500000000000021},{"$f":"IFERROR('Level 2'!H29-'Level 1'!H29,\"*\")","v":0.36500000000000199},{"$f":"IFERROR('Level 2'!I29-'Level 1'!I29,\"*\")","v":0.36999999999999922},{"$f":"IFERROR('Level 2'!J29-'Level 1'!J29,\"*\")","v":0.36500000000000021},{"$f":"IFERROR('Level 2'!K29-'Level 1'!K29,\"*\")","v":0.35999999999999943},{"$f":"IFERROR('Level 2'!L29-'Level 1'!L29,\"*\")","v":"*"},null,{"$f":"'Level 1'!A29","v":"Slovakia"},{"$f":"IFERROR('Level 2'!O29-'Level 1'!O29,\"*\")","v":0},{"$f":"IFERROR('Level 2'!P29-'Level 1'!P29,\"*\")","v":9.1650000000001342E-2},{"$f":"IFERROR('Level 2'!Q29-'Level 1'!Q29,\"*\")","v":0.18299999999999983},{"$f":"IFERROR('Level 2'!R29-'Level 1'!R29,\"*\")","v":0.36700000000000088},{"$f":"IFERROR('Level 2'!S29-'Level 1'!S29,\"*\")","v":0.37000000000000099},{"$f":"IFERROR('Level 2'!T29-'Level 1'!T29,\"*\")","v":0.36000000000000121},{"$f":"IFERROR('Level 2'!U29-'Level 1'!U29,\"*\")","v":0.36499999999999844},{"$f":"IFERROR('Level 2'!V29-'Level 1'!V29,\"*\")","v":0.36000000000000121},{"$f":"IFERROR('Level 2'!W29-'Level 1'!W29,\"*\")","v":0.36500000000000199},{"$f":"IFERROR('Level 2'!X29-'Level 1'!X29,\"*\")","v":0.36999999999999922},{"$f":"IFERROR('Level 2'!Y29-'Level 1'!Y29,\"*\")","v":"*"},null,{"$f":"'Level 1'!A29","v":"Slovakia"},{"$f":"IFERROR('Level 2'!AB29-'Level 1'!AB29,\"*\")","v":-5.1699999999999413E-2},{"$f":"IFERROR('Level 2'!AC29-'Level 1'!AC29,\"*\")","v":-3.3305000000000007},{"$f":"IFERROR('Level 2'!AD29-'Level 1'!AD29,\"*\")","v":-3.6990999999999996},{"$f":"IFERROR('Level 2'!AE29-'Level 1'!AE29,\"*\")","v":-3.1454000000000004},{"$f":"IFERROR('Level 2'!AF29-'Level 1'!AF29,\"*\")","v":-3.5245499999999996},{"$f":"IFERROR('Level 2'!AG29-'Level 1'!AG29,\"*\")","v":-3.5475999999999992},{"$f":"IFERROR('Level 2'!AH29-'Level 1'!AH29,\"*\")","v":-2.2388500000000011},{"$f":"IFERROR('Level 2'!AI29-'Level 1'!AI29,\"*\")","v":-1.5640999999999998},{"$f":"IFERROR('Level 2'!AJ29-'Level 1'!AJ29,\"*\")","v":-1.0780999999999992},{"$f":"IFERROR('Level 2'!AK29-'Level 1'!AK29,\"*\")","v":-0.35999999999999943},{"$f":"IFERROR('Level 2'!AL29-'Level 1'!AL29,\"*\")","v":"*"},null,{"$f":"'Level 1'!A29","v":"Slovakia"},{"$f":"IFERROR('Level 2'!AO29-'Level 1'!AO29,\"*\")","v":-0.24099999999999966},{"$f":"IFERROR('Level 2'!AP29-'Level 1'!AP29,\"*\")","v":-1.2440000000000015},{"$f":"IFERROR('Level 2'!AQ29-'Level 1'!AQ29,\"*\")","v":-0.16064999999999863},{"$f":"IFERROR('Level 2'!AR29-'Level 1'!AR29,\"*\")","v":0.65399999999999991},{"$f":"IFERROR('Level 2'!AS29-'Level 1'!AS29,\"*\")","v":2.0818999999999992},{"$f":"IFERROR('Level 2'!AT29-'Level 1'!AT29,\"*\")","v":3.3271000000000015},{"$f":"IFERROR('Level 2'!AU29-'Level 1'!AU29,\"*\")","v":1.8754000000000008},{"$f":"IFERROR('Level 2'!AV29-'Level 1'!AV29,\"*\")","v":-0.56570000000000142},{"$f":"IFERROR('Level 2'!AW29-'Level 1'!AW29,\"*\")","v":-0.66714999999999858},{"$f":"IFERROR('Level 2'!AX29-'Level 1'!AX29,\"*\")","v":3.5800000000000054E-2},{"$f":"IFERROR('Level 2'!AY29-'Level 1'!AY29,\"*\")","v":"*"},null,{"$f":"'Level 1'!A29","v":"Slovakia"},{"$f":"IFERROR('Level 2'!BB29-'Level 1'!BB29,\"*\")","v":0.25410000000000021},{"$f":"IFERROR('Level 2'!BC29-'Level 1'!BC29,\"*\")","v":-0.91389999999999993},{"$f":"IFERROR('Level 2'!BD29-'Level 1'!BD29,\"*\")","v":3.399999999999892E-2},{"$f":"IFERROR('Level 2'!BE29-'Level 1'!BE29,\"*\")","v":0.82440000000000069},{"$f":"IFERROR('Level 2'!BF29-'Level 1'!BF29,\"*\")","v":1.8830000000000009},{"$f":"IFERROR('Level 2'!BG29-'Level 1'!BG29,\"*\")","v":2.1722500000000018},{"$f":"IFERROR('Level 2'!BH29-'Level 1'!BH29,\"*\")","v":2.3647500000000008},{"$f":"IFERROR('Level 2'!BI29-'Level 1'!BI29,\"*\")","v":1.2188999999999997},{"$f":"IFERROR('Level 2'!BJ29-'Level 1'!BJ29,\"*\")","v":-0.12449999999999939},{"$f":"IFERROR('Level 2'!BK29-'Level 1'!BK29,\"*\")","v":-1.1539000000000001},{"$f":"IFERROR('Level 2'!BL29-'Level 1'!BL29,\"*\")","v":"*"},null,{"$f":"'Level 1'!A29","v":"Slovakia"},{"$f":"IFERROR('Level 2'!BO29-'Level 1'!BO29,\"*\")","v":"*"},{"$f":"IFERROR('Level 2'!BP29-'Level 1'!BP29,\"*\")","v":"*"},{"$f":"IFERROR('Level 2'!BQ29-'Level 1'!BQ29,\"*\")","v":"*"},{"$f":"IFERROR('Level 2'!BR29-'Level 1'!BR29,\"*\")","v":"*"},{"$f":"IFERROR('Level 2'!BS29-'Level 1'!BS29,\"*\")","v":"*"},{"$f":"IFERROR('Level 2'!BT29-'Level 1'!BT29,\"*\")","v":"*"},{"$f":"IFERROR('Level 2'!BU29-'Level 1'!BU29,\"*\")","v":"*"},{"$f":"IFERROR('Level 2'!BV29-'Level 1'!BV29,\"*\")","v":"*"},{"$f":"IFERROR('Level 2'!BW29-'Level 1'!BW29,\"*\")","v":"*"},{"$f":"IFERROR('Level 2'!BX29-'Level 1'!BX29,\"*\")","v":"*"},{"$f":"IFERROR('Level 2'!BY29-'Level 1'!BY29,\"*\")","v":"*"}]
[{"$f":"'Level 1'!A30","v":"Finland"},{"$f":"IFERROR('Level 2'!B30-'Level 1'!B30,\"*\")","v":"*"},{"$f":"IFERROR('Level 2'!C30-'Level 1'!C30,\"*\")","v":"*"},{"$f":"IFERROR('Level 2'!D30-'Level 1'!D30,\"*\")","v":"*"},{"$f":"IFERROR('Level 2'!E30-'Level 1'!E30,\"*\")","v":"*"},{"$f":"IFERROR('Level 2'!F30-'Level 1'!F30,\"*\")","v":"*"},{"$f":"IFERROR('Level 2'!G30-'Level 1'!G30,\"*\")","v":"*"},{"$f":"IFERROR('Level 2'!H30-'Level 1'!H30,\"*\")","v":"*"},{"$f":"IFERROR('Level 2'!I30-'Level 1'!I30,\"*\")","v":"*"},{"$f":"IFERROR('Level 2'!J30-'Level 1'!J30,\"*\")","v":"*"},{"$f":"IFERROR('Level 2'!K30-'Level 1'!K30,\"*\")","v":"*"},{"$f":"IFERROR('Level 2'!L30-'Level 1'!L30,\"*\")","v":"*"},null,{"$f":"'Level 1'!A30","v":"Finland"},{"$f":"IFERROR('Level 2'!O30-'Level 1'!O30,\"*\")","v":"*"},{"$f":"IFERROR('Level 2'!P30-'Level 1'!P30,\"*\")","v":"*"},{"$f":"IFERROR('Level 2'!Q30-'Level 1'!Q30,\"*\")","v":"*"},{"$f":"IFERROR('Level 2'!R30-'Level 1'!R30,\"*\")","v":"*"},{"$f":"IFERROR('Level 2'!S30-'Level 1'!S30,\"*\")","v":"*"},{"$f":"IFERROR('Level 2'!T30-'Level 1'!T30,\"*\")","v":2.2600000000000016},{"$f":"IFERROR('Level 2'!U30-'Level 1'!U30,\"*\")","v":2.8699999999999992},{"$f":"IFERROR('Level 2'!V30-'Level 1'!V30,\"*\")","v":2.870000000000001},{"$f":"IFERROR('Level 2'!W30-'Level 1'!W30,\"*\")","v":3.8599999999999994},{"$f":"IFERROR('Level 2'!X30-'Level 1'!X30,\"*\")","v":4.3599999999999994},{"$f":"IFERROR('Level 2'!Y30-'Level 1'!Y30,\"*\")","v":"*"},null,{"$f":"'Level 1'!A30","v":"Finland"},{"$f":"IFERROR('Level 2'!AB30-'Level 1'!AB30,\"*\")","v":2.7650000000000006},{"$f":"IFERROR('Level 2'!AC30-'Level 1'!AC30,\"*\")","v":3.2899999999999991},{"$f":"IFERROR('Level 2'!AD30-'Level 1'!AD30,\"*\")","v":3.1700000000000008},{"$f":"IFERROR('Level 2'!AE30-'Level 1'!AE30,\"*\")","v":3.5542499999999997},{"$f":"IFERROR('Level 2'!AF30-'Level 1'!AF30,\"*\")","v":3.4800000000000004},{"$f":"IFERROR('Level 2'!AG30-'Level 1'!AG30,\"*\")","v":4.7499999999999982},{"$f":"IFERROR('Level 2'!AH30-'Level 1'!AH30,\"*\")","v":3.1499999999999986},{"$f":"IFERROR('Level 2'!AI30-'Level 1'!AI30,\"*\")","v":1.9849999999999994},{"$f":"IFERROR('Level 2'!AJ30-'Level 1'!AJ30,\"*\")","v":2.1799999999999997},{"$f":"IFERROR('Level 2'!AK30-'Level 1'!AK30,\"*\")","v":2.4399999999999995},{"$f":"IFERROR('Level 2'!AL30-'Level 1'!AL30,\"*\")","v":"*"},null,{"$f":"'Level 1'!A30","v":"Finland"},{"$f":"IFERROR('Level 2'!AO30-'Level 1'!AO30,\"*\")","v":2.0449999999999999},{"$f":"IFERROR('Level 2'!AP30-'Level 1'!AP30,\"*\")","v":1.04},{"$f":"IFERROR('Level 2'!AQ30-'Level 1'!AQ30,\"*\")","v":0.90499999999999936},{"$f":"IFERROR('Level 2'!AR30-'Level 1'!AR30,\"*\")","v":-0.82499999999999929},{"$f":"IFERROR('Level 2'!AS30-'Level 1'!AS30,\"*\")","v":-2.3100000000000005},{"$f":"IFERROR('Level 2'!AT30-'Level 1'!AT30,\"*\")","v":-2.25},{"$f":"IFERROR('Level 2'!AU30-'Level 1'!AU30,\"*\")","v":-1.4450000000000003},{"$f":"IFERROR('Level 2'!AV30-'Level 1'!AV30,\"*\")","v":-1.3499999999999996},{"$f":"IFERROR('Level 2'!AW30-'Level 1'!AW30,\"*\")","v":0.27999999999999936},{"$f":"IFERROR('Level 2'!AX30-'Level 1'!AX30,\"*\")","v":0.27000000000000046},{"$f":"IFERROR('Level 2'!AY30-'Level 1'!AY30,\"*\")","v":"*"},null,{"$f":"'Level 1'!A30","v":"Finland"},{"$f":"IFERROR('Level 2'!BB30-'Level 1'!BB30,\"*\")","v":1.5650000000000004},{"$f":"IFERROR('Level 2'!BC30-'Level 1'!BC30,\"*\")","v":1.0949999999999998},{"$f":"IFERROR('Level 2'!BD30-'Level 1'!BD30,\"*\")","v":0.23000000000000043},{"$f":"IFERROR('Level 2'!BE30-'Level 1'!BE30,\"*\")","v":-1.08},{"$f":"IFERROR('Level 2'!BF30-'Level 1'!BF30,\"*\")","v":-2.0400000000000009},{"$f":"IFERROR('Level 2'!BG30-'Level 1'!BG30,\"*\")","v":-2.6799999999999988},{"$f":"IFERROR('Level 2'!BH30-'Level 1'!BH30,\"*\")","v":-1.4699999999999998},{"$f":"IFERROR('Level 2'!BI30-'Level 1'!BI30,\"*\")","v":-1.3349999999999991},{"$f":"IFERROR('Level 2'!BJ30-'Level 1'!BJ30,\"*\")","v":-8.5000000000000853E-2},{"$f":"IFERROR('Level 2'!BK30-'Level 1'!BK30,\"*\")","v":-0.62999999999999989},{"$f":"IFERROR('Level 2'!BL30-'Level 1'!BL30,\"*\")","v":"*"},null,{"$f":"'Level 1'!A30","v":"Finland"},{"$f":"IFERROR('Level 2'!BO30-'Level 1'!BO30,\"*\")","v":"*"},{"$f":"IFERROR('Level 2'!BP30-'Level 1'!BP30,\"*\")","v":"*"},{"$f":"IFERROR('Level 2'!BQ30-'Level 1'!BQ30,\"*\")","v":"*"},{"$f":"IFERROR('Level 2'!BR30-'Level 1'!BR30,\"*\")","v":"*"},{"$f":"IFERROR('Level 2'!BS30-'Level 1'!BS30,\"*\")","v":"*"},{"$f":"IFERROR('Level 2'!BT30-'Level 1'!BT30,\"*\")","v":"*"},{"$f":"IFERROR('Level 2'!BU30-'Level 1'!BU30,\"*\")","v":"*"},{"$f":"IFERROR('Level 2'!BV30-'Level 1'!BV30,\"*\")","v":"*"},{"$f":"IFERROR('Level 2'!BW30-'Level 1'!BW30,\"*\")","v":"*"},{"$f":"IFERROR('Level 2'!BX30-'Level 1'!BX30,\"*\")","v":"*"},{"$f":"IFERROR('Level 2'!BY30-'Level 1'!BY30,\"*\")","v":"*"}]
[{"$f":"'Level 1'!A31","v":"Sweden"},{"$f":"IFERROR('Level 2'!B31-'Level 1'!B31,\"*\")","v":1.6189},{"$f":"IFERROR('Level 2'!C31-'Level 1'!C31,\"*\")","v":1.6661999999999999},{"$f":"IFERROR('Level 2'!D31-'Level 1'!D31,\"*\")","v":1.5736500000000007},{"$f":"IFERROR('Level 2'!E31-'Level 1'!E31,\"*\")","v":1.7496000000000009},{"$f":"IFERROR('Level 2'!F31-'Level 1'!F31,\"*\")","v":2.384800000000002},{"$f":"IFERROR('Level 2'!G31-'Level 1'!G31,\"*\")","v":2.6783499999999982},{"$f":"IFERROR('Level 2'!H31-'Level 1'!H31,\"*\")","v":2.5531499999999987},{"$f":"IFERROR('Level 2'!I31-'Level 1'!I31,\"*\")","v":2.4197500000000005},{"$f":"IFERROR('Level 2'!J31-'Level 1'!J31,\"*\")","v":2.4453000000000031},{"$f":"IFERROR('Level 2'!K31-'Level 1'!K31,\"*\")","v":2.4476999999999993},{"$f":"IFERROR('Level 2'!L31-'Level 1'!L31,\"*\")","v":"*"},null,{"$f":"'Level 1'!A31","v":"Sweden"},{"$f":"IFERROR('Level 2'!O31-'Level 1'!O31,\"*\")","v":1.6195000000000004},{"$f":"IFERROR('Level 2'!P31-'Level 1'!P31,\"*\")","v":1.6661999999999999},{"$f":"IFERROR('Level 2'!Q31-'Level 1'!Q31,\"*\")","v":1.5735499999999991},{"$f":"IFERROR('Level 2'!R31-'Level 1'!R31,\"*\")","v":1.7500999999999998},{"$f":"IFERROR('Level 2'!S31-'Level 1'!S31,\"*\")","v":2.3848000000000003},{"$f":"IFERROR('Level 2'!T31-'Level 1'!T31,\"*\")","v":2.6783500000000018},{"$f":"IFERROR('Level 2'!U31-'Level 1'!U31,\"*\")","v":2.5526},{"$f":"IFERROR('Level 2'!V31-'Level 1'!V31,\"*\")","v":2.4197500000000005},{"$f":"IFERROR('Level 2'!W31-'Level 1'!W31,\"*\")","v":2.4452999999999996},{"$f":"IFERROR('Level 2'!X31-'Level 1'!X31,\"*\")","v":2.4488000000000003},{"$f":"IFERROR('Level 2'!Y31-'Level 1'!Y31,\"*\")","v":"*"},null,{"$f":"'Level 1'!A31","v":"Sweden"},{"$f":"IFERROR('Level 2'!AB31-'Level 1'!AB31,\"*\")","v":-2.6371500000000001},{"$f":"IFERROR('Level 2'!AC31-'Level 1'!AC31,\"*\")","v":-1.5045999999999999},{"$f":"IFERROR('Level 2'!AD31-'Level 1'!AD31,\"*\")","v":0.29540000000000077},{"$f":"IFERROR('Level 2'!AE31-'Level 1'!AE31,\"*\")","v":-1.3316999999999997},{"$f":"IFERROR('Level 2'!AF31-'Level 1'!AF31,\"*\")","v":-1.9122999999999983},{"$f":"IFERROR('Level 2'!AG31-'Level 1'!AG31,\"*\")","v":-1.2197499999999994},{"$f":"IFERROR('Level 2'!AH31-'Level 1'!AH31,\"*\")","v":-2.2242999999999995},{"$f":"IFERROR('Level 2'!AI31-'Level 1'!AI31,\"*\")","v":-0.27300000000000146},{"$f":"IFERROR('Level 2'!AJ31-'Level 1'!AJ31,\"*\")","v":4.0100000000000691E-2},{"$f":"IFERROR('Level 2'!AK31-'Level 1'!AK31,\"*\")","v":0.55410000000000004},{"$f":"IFERROR('Level 2'!AL31-'Level 1'!AL31,\"*\")","v":"*"},null,{"$f":"'Level 1'!A31","v":"Sweden"},{"$f":"IFERROR('Level 2'!AO31-'Level 1'!AO31,\"*\")","v":"*"},{"$f":"IFERROR('Level 2'!AP31-'Level 1'!AP31,\"*\")","v":"*"},{"$f":"IFERROR('Level 2'!AQ31-'Level 1'!AQ31,\"*\")","v":-1.0403000000000002},{"$f":"IFERROR('Level 2'!AR31-'Level 1'!AR31,\"*\")","v":-2.7298999999999989},{"$f":"IFERROR('Level 2'!AS31-'Level 1'!AS31,\"*\")","v":-2.7856500000000004},{"$f":"IFERROR('Level 2'!AT31-'Level 1'!AT31,\"*\")","v":-0.63019999999999854},{"$f":"IFERROR('Level 2'!AU31-'Level 1'!AU31,\"*\")","v":-0.2538000000000018},{"$f":"IFERROR('Level 2'!AV31-'Level 1'!AV31,\"*\")","v":0.73310000000000031},{"$f":"IFERROR('Level 2'!AW31-'Level 1'!AW31,\"*\")","v":0.58769999999999989},{"$f":"IFERROR('Level 2'!AX31-'Level 1'!AX31,\"*\")","v":2.1002999999999989},{"$f":"IFERROR('Level 2'!AY31-'Level 1'!AY31,\"*\")","v":"*"},null,{"$f":"'Level 1'!A31","v":"Sweden"},{"$f":"IFERROR('Level 2'!BB31-'Level 1'!BB31,\"*\")","v":"*"},{"$f":"IFERROR('Level 2'!BC31-'Level 1'!BC31,\"*\")","v":"*"},{"$f":"IFERROR('Level 2'!BD31-'Level 1'!BD31,\"*\")","v":-0.76429999999999865},{"$f":"IFERROR('Level 2'!BE31-'Level 1'!BE31,\"*\")","v":-1.9460999999999995},{"$f":"IFERROR('Level 2'!BF31-'Level 1'!BF31,\"*\")","v":-1.7076499999999974},{"$f":"IFERROR('Level 2'!BG31-'Level 1'!BG31,\"*\")","v":-2.3500000000016286E-3},{"$f":"IFERROR('Level 2'!BH31-'Level 1'!BH31,\"*\")","v":-1.0470499999999987},{"$f":"IFERROR('Level 2'!BI31-'Level 1'!BI31,\"*\")","v":0.47730000000000139},{"$f":"IFERROR('Level 2'!BJ31-'Level 1'!BJ31,\"*\")","v":1.0409999999999986},{"$f":"IFERROR('Level 2'!BK31-'Level 1'!BK31,\"*\")","v":1.8460999999999999},{"$f":"IFERROR('Level 2'!BL31-'Level 1'!BL31,\"*\")","v":"*"},null,{"$f":"'Level 1'!A31","v":"Sweden"},{"$f":"IFERROR('Level 2'!BO31-'Level 1'!BO31,\"*\")","v":"*"},{"$f":"IFERROR('Level 2'!BP31-'Level 1'!BP31,\"*\")","v":"*"},{"$f":"IFERROR('Level 2'!BQ31-'Level 1'!BQ31,\"*\")","v":"*"},{"$f":"IFERROR('Level 2'!BR31-'Level 1'!BR31,\"*\")","v":"*"},{"$f":"IFERROR('Level 2'!BS31-'Level 1'!BS31,\"*\")","v":"*"},{"$f":"IFERROR('Level 2'!BT31-'Level 1'!BT31,\"*\")","v":"*"},{"$f":"IFERROR('Level 2'!BU31-'Level 1'!BU31,\"*\")","v":"*"},{"$f":"IFERROR('Level 2'!BV31-'Level 1'!BV31,\"*\")","v":"*"},{"$f":"IFERROR('Level 2'!BW31-'Level 1'!BW31,\"*\")","v":"*"},{"$f":"IFERROR('Level 2'!BX31-'Level 1'!BX31,\"*\")","v":"*"},{"$f":"IFERROR('Level 2'!BY31-'Level 1'!BY31,\"*\")","v":"*"}]
[{"$f":"'Level 1'!A32","v":"United Kingdom"},{"$f":"IFERROR('Level 2'!B32-'Level 1'!B32,\"*\")","v":0.470799999999997},{"$f":"IFERROR('Level 2'!C32-'Level 1'!C32,\"*\")","v":0.40235000000000021},{"$f":"IFERROR('Level 2'!D32-'Level 1'!D32,\"*\")","v":0.35345000000000049},{"$f":"IFERROR('Level 2'!E32-'Level 1'!E32,\"*\")","v":0.37854999999999883},{"$f":"IFERROR('Level 2'!F32-'Level 1'!F32,\"*\")","v":0.40905000000000058},{"$f":"IFERROR('Level 2'!G32-'Level 1'!G32,\"*\")","v":0.4256499999999992},{"$f":"IFERROR('Level 2'!H32-'Level 1'!H32,\"*\")","v":0.4239000000000015},{"$f":"IFERROR('Level 2'!I32-'Level 1'!I32,\"*\")","v":0.42764999999999986},{"$f":"IFERROR('Level 2'!J32-'Level 1'!J32,\"*\")","v":0.4956499999999977},{"$f":"IFERROR('Level 2'!K32-'Level 1'!K32,\"*\")","v":0.47519999999999918},{"$f":"IFERROR('Level 2'!L32-'Level 1'!L32,\"*\")","v":"*"},null,{"$f":"'Level 1'!A32","v":"United Kingdom"},{"$f":"IFERROR('Level 2'!O32-'Level 1'!O32,\"*\")","v":0.45039999999999836},{"$f":"IFERROR('Level 2'!P32-'Level 1'!P32,\"*\")","v":0.43964999999999854},{"$f":"IFERROR('Level 2'!Q32-'Level 1'!Q32,\"*\")","v":0.41519999999999868},{"$f":"IFERROR('Level 2'!R32-'Level 1'!R32,\"*\")","v":0.40185000000000048},{"$f":"IFERROR('Level 2'!S32-'Level 1'!S32,\"*\")","v":0.42055000000000042},{"$f":"IFERROR('Level 2'!T32-'Level 1'!T32,\"*\")","v":0.41939999999999955},{"$f":"IFERROR('Level 2'!U32-'Level 1'!U32,\"*\")","v":0.41215000000000046},{"$f":"IFERROR('Level 2'!V32-'Level 1'!V32,\"*\")","v":0.44004999999999939},{"$f":"IFERROR('Level 2'!W32-'Level 1'!W32,\"*\")","v":0.50264999999999915},{"$f":"IFERROR('Level 2'!X32-'Level 1'!X32,\"*\")","v":0.47520000000000095},{"$f":"IFERROR('Level 2'!Y32-'Level 1'!Y32,\"*\")","v":"*"},null,{"$f":"'Level 1'!A32","v":"United Kingdom"},{"$f":"IFERROR('Level 2'!AB32-'Level 1'!AB32,\"*\")","v":-0.99384999999999923},{"$f":"IFERROR('Level 2'!AC32-'Level 1'!AC32,\"*\")","v":0.83600000000000119},{"$f":"IFERROR('Level 2'!AD32-'Level 1'!AD32,\"*\")","v":1.54725},{"$f":"IFERROR('Level 2'!AE32-'Level 1'!AE32,\"*\")","v":2.8040000000000003},{"$f":"IFERROR('Level 2'!AF32-'Level 1'!AF32,\"*\")","v":5.2935999999999996},{"$f":"IFERROR('Level 2'!AG32-'Level 1'!AG32,\"*\")","v":4.3964499999999997},{"$f":"IFERROR('Level 2'!AH32-'Level 1'!AH32,\"*\")","v":3.7901500000000006},{"$f":"IFERROR('Level 2'!AI32-'Level 1'!AI32,\"*\")","v":3.4243000000000006},{"$f":"IFERROR('Level 2'!AJ32-'Level 1'!AJ32,\"*\")","v":2.7123000000000008},{"$f":"IFERROR('Level 2'!AK32-'Level 1'!AK32,\"*\")","v":3.8677999999999999},{"$f":"IFERROR('Level 2'!AL32-'Level 1'!AL32,\"*\")","v":"*"},null,{"$f":"'Level 1'!A32","v":"United Kingdom"},{"$f":"IFERROR('Level 2'!AO32-'Level 1'!AO32,\"*\")","v":-0.11845000000000017},{"$f":"IFERROR('Level 2'!AP32-'Level 1'!AP32,\"*\")","v":0.3714000000000004},{"$f":"IFERROR('Level 2'!AQ32-'Level 1'!AQ32,\"*\")","v":0.94184999999999963},{"$f":"IFERROR('Level 2'!AR32-'Level 1'!AR32,\"*\")","v":2.0870499999999996},{"$f":"IFERROR('Level 2'!AS32-'Level 1'!AS32,\"*\")","v":1.1503999999999994},{"$f":"IFERROR('Level 2'!AT32-'Level 1'!AT32,\"*\")","v":0.82489999999999952},{"$f":"IFERROR('Level 2'!AU32-'Level 1'!AU32,\"*\")","v":0.59695000000000142},{"$f":"IFERROR('Level 2'!AV32-'Level 1'!AV32,\"*\")","v":0.95420000000000016},{"$f":"IFERROR('Level 2'!AW32-'Level 1'!AW32,\"*\")","v":0.93575000000000053},{"$f":"IFERROR('Level 2'!AX32-'Level 1'!AX32,\"*\")","v":0.35849999999999937},{"$f":"IFERROR('Level 2'!AY32-'Level 1'!AY32,\"*\")","v":"*"},null,{"$f":"'Level 1'!A32","v":"United Kingdom"},{"$f":"IFERROR('Level 2'!BB32-'Level 1'!BB32,\"*\")","v":0.72890000000000033},{"$f":"IFERROR('Level 2'!BC32-'Level 1'!BC32,\"*\")","v":0.1153000000000004},{"$f":"IFERROR('Level 2'!BD32-'Level 1'!BD32,\"*\")","v":1.7331500000000002},{"$f":"IFERROR('Level 2'!BE32-'Level 1'!BE32,\"*\")","v":1.8183499999999997},{"$f":"IFERROR('Level 2'!BF32-'Level 1'!BF32,\"*\")","v":0.69805000000000028},{"$f":"IFERROR('Level 2'!BG32-'Level 1'!BG32,\"*\")","v":1.0400999999999998},{"$f":"IFERROR('Level 2'!BH32-'Level 1'!BH32,\"*\")","v":0.86645000000000039},{"$f":"IFERROR('Level 2'!BI32-'Level 1'!BI32,\"*\")","v":1.2409499999999998},{"$f":"IFERROR('Level 2'!BJ32-'Level 1'!BJ32,\"*\")","v":0.33144999999999936},{"$f":"IFERROR('Level 2'!BK32-'Level 1'!BK32,\"*\")","v":-9.4999999999999751E-2},{"$f":"IFERROR('Level 2'!BL32-'Level 1'!BL32,\"*\")","v":"*"},null,{"$f":"'Level 1'!A32","v":"United Kingdom"},{"$f":"IFERROR('Level 2'!BO32-'Level 1'!BO32,\"*\")","v":"*"},{"$f":"IFERROR('Level 2'!BP32-'Level 1'!BP32,\"*\")","v":"*"},{"$f":"IFERROR('Level 2'!BQ32-'Level 1'!BQ32,\"*\")","v":"*"},{"$f":"IFERROR('Level 2'!BR32-'Level 1'!BR32,\"*\")","v":"*"},{"$f":"IFERROR('Level 2'!BS32-'Level 1'!BS32,\"*\")","v":"*"},{"$f":"IFERROR('Level 2'!BT32-'Level 1'!BT32,\"*\")","v":"*"},{"$f":"IFERROR('Level 2'!BU32-'Level 1'!BU32,\"*\")","v":"*"},{"$f":"IFERROR('Level 2'!BV32-'Level 1'!BV32,\"*\")","v":"*"},{"$f":"IFERROR('Level 2'!BW32-'Level 1'!BW32,\"*\")","v":"*"},{"$f":"IFERROR('Level 2'!BX32-'Level 1'!BX32,\"*\")","v":"*"},{"$f":"IFERROR('Level 2'!BY32-'Level 1'!BY32,\"*\")","v":"*"}]

{"sheet":"Oversættelse af landenavne","index":8,"n_rows":32,"n_cols":4,"rows_kept":32,"cut":false,"hidden":true,"merged":[]}
["På denne side er en helt lavpraktisk oversættelse af landenavne fra engelsk til dansk. På regnearkene er de danske navne hentet direkte fra denne side"]
["Yderligere er der opgivet rækkenumre som bruges til vopslag og fortæller hvilken række de enkelte lande står på i Level 1,2 og 3 arkene. Disse informationer indgår ikke i nogle beregninger."]
[]
[]
["Engelsk","Dansk oversættelse (automatisk)","rækkenummer til vopslag","rækkenummer i level 1,2 og 3"]
[{"$f":"'Level 1'!A6","v":"European Union (28 countries)"},{"$f":"IF(A6=\"European Union (28 countries)\",\"EU-28\",IF(A6=\"European Union (27 countries)\",\"EU-27\",IF(A6=\"Euro area (EA11-2000, EA12-2006, EA13-2007, EA15-2008, EA16-2010, EA17-2013, EA18-2014, EA19)\",\"EU-området\",IF(A6=\"Belgium\",\"Belgien\",IF(A6=\"Bulgaria\",\"Bulgarien\",IF(A6=\"czech republic\",\"Tjekkiet\",IF(A6=\"Denmark\",\"Danmark\",IF(A6=\"Germany (until 1990 former territory of the FRG)\",\"Tyskland\",IF(A6=\"Estonia\",\"Estland\",IF(A6=\"Ireland\",\"Irland\",IF(A6=\"Greece\",\"Grækenland\",IF(A6=\"Spain\",\"Spanien\",IF(A6=\"france\",\"Frankrig\",IF(A6=\"Croatia\",\"Kroatien\",IF(A6=\"italy\",\"Italien\",IF(A6=\"Cyprus\",\"Cypern\",IF(A6=\"Latvia\",\"Letland\",IF(A6=\"Lithuania\",\"Litaun\",IF(A6=\"Luxembourg\",\"luxembourg\",IF(A6=\"Hungary\",\"Ungarn\",IF(A6=\"Malta\",\"Malta\",IF(A6=\"Netherlands\",\"Holland\",IF(A6=\"Austria\",\"Østrig\",IF(A6=\"Poland\",\"Polen\",IF(A6=\"portugal\",\"Portugal\",IF(A6=\"Romania\",\"Rumænien\",IF(A6=\"Slovenia\",\"Slovenien\",IF(A6=\"slovakia\",\"Slovakiet\",IF(A6=\"Finland\",\"Finland\",IF(A6=\"sweden\",\"Sverige\",IF(A6=\"United kingdom\",\"UK\",IF(A6=\"liechtenstein\",\"Liechtenstein\",IF(A6=\"Norway\",\"Norge\",IF(A6=\"Montenegro\",\"Montenegro\",IF(A6=\"Former Yugoslav Republic of Macedonia, the\",\"Makedonien\",IF(A6=\"Serbia\",\"Serbien\",IF(A6=\"Turkey\",\"Tyrkiet\",IF(A6=\"Bosnia and Herzegovina\",\"Bosnien-Hercegovina\",IF(A6=\"Kosovo (under United Nations Security Council Resolution 1244/99)\",\"Kosovo\",IF(A6=\"New Country\",\"Nyt land\",0))))))))))))))))))))))))))))))))))))))))","v":"EU-28"},2,6]
[{"$f":"'Level 1'!A7","v":"Belgium"},"Belgien",{"$f":"C6+1","v":3},{"$f":"D6+1","v":7}]
[{"$f":"'Level 1'!A8","v":"Bulgaria"},"Bulgarien",{"$f":"C7+1","v":4},{"$f":"D7+1","v":8}]
[{"$f":"'Level 1'!A9","v":"Czech Republic"},"Tjekkiet",5,9]
[{"$f":"'Level 1'!A10","v":"Denmark"},"Danmark",6,10]
[{"$f":"'Level 1'!A11","v":"Germany (until 1990 former territory of the FRG)"},"Tyskland",7,11]
[{"$f":"'Level 1'!A12","v":"Estonia"},"Estland",8,12]
[{"$f":"'Level 1'!A13","v":"Ireland"},"Irland",9,13]
[{"$f":"'Level 1'!A14","v":"Greece"},"Grækenland",10,14]
[{"$f":"'Level 1'!A15","v":"Spain"},"Spanien",11,15]
[{"$f":"'Level 1'!A16","v":"France"},"Frankrig",12,16]
[{"$f":"'Level 1'!A17","v":"Croatia"},"Kroatien",13,17]
[{"$f":"'Level 1'!A18","v":"Italy"},"Italien",14,18]
[{"$f":"'Level 1'!A19","v":"Latvia"},"Letland",15,19]
[{"$f":"'Level 1'!A20","v":"Lithuania"},"Litaun",16,20]
[{"$f":"'Level 1'!A21","v":"Luxembourg"},"luxembourg",17,21]
[{"$f":"'Level 1'!A22","v":"Hungary"},"Ungarn",18,22]
[{"$f":"'Level 1'!A23","v":"Netherlands"},"Holland",19,23]
[{"$f":"'Level 1'!A24","v":"Austria"},"Østrig",20,24]
[{"$f":"'Level 1'!A25","v":"Poland"},"Polen",21,25]
[{"$f":"'Level 1'!A26","v":"Portugal"},"Portugal",22,26]
[{"$f":"'Level 1'!A27","v":"Romania"},"Rumænien",23,27]
[{"$f":"'Level 1'!A28","v":"Slovenia"},"Slovenien",24,28]
[{"$f":"'Level 1'!A29","v":"Slovakia"},"Slovakiet",25,29]
[{"$f":"'Level 1'!A30","v":"Finland"},"Finland",26,30]
[{"$f":"'Level 1'!A31","v":"Sweden"},"Sverige",27,31]
[{"$f":"'Level 1'!A32","v":"United Kingdom"},"UK",28,32]

{"sheet":"Sådan opdateres arket","index":9,"n_rows":8,"n_cols":2,"rows_kept":8,"cut":false,"hidden":true,"merged":[]}
[]
[]
[null,"Sådan foretages opdatering"]
[null,"Der skal foretages opdateringer på følgende ark: Forside, Baggrundsdata - BVT deflator, Level 1, Level 2 og Level 3. De resterende ark indeholder kun værdier der hantes fra disse opdateringer.\n\nOpdateringer foretages halvårigt når Eurostat frigiver ny data, omkring 1. september og 1. marts.\nBVT deflatoren opdateres ligeledes når der er nye tal. Tal for året før offentligøres ca. 1 sebtember. Inden BVT offentligøres bruges seneste års tal som approksimation.\n\nNedenfor findes en oversigt over hvordan de enkelte ark opdateres.\n\n\nA) FORSIDEN:\nFrsiden opdateres halvårigt.\n1) Anfør i celle ’C3’ manuelt hvem der senest har opdateret i arket og datoen for denne opdatering.\n\n2) Valutakursen opdateres med nye tal for det seneste år. Det ældste år slettes, således at der til enhver tid er valutakurser for de seneste 7 år. Ved halvårsopdateringer beregnes kursen for det nyeste år som gennemsnitskursen for de første 6 mdr. af året. Data til opdatering af valutakursen findes på Danmarks statistik i tabel ”DNVALA”. \nOBS: Husk at årstallene skal være formateret som tal.\n\n"]
[null,"B) Level 1, 2 og 3 \nDenne opdatering omhandler level 1,2 og 3 og skal laves både når der kommer nye års og halvårsdata. Data hentes fra eurostattabellen 'nrg_pc_204' (Electricity prices for domestic consumers - bi-annual data (from 2007 onwards))\n\nGaspriser, indutstri:\nArkene \"Level 1\", \"Level 2\" og \"Level 3\" opdateres med nye tal fra Eurostat, tabel ’nrg_pc_203’.  Det relevante data findes ved at dialogboksen åbnes.\nFor alle levels gælder: \n• I fanen ’Consom’ vælges alle bånd (I1, I2, I3, I4, I5 og I6). \n• I ’currency vælges kun EUR. \n• I ’GEO’ vælges enten alle lande eller landene fra 2014-opdateringen som er: European Union (28 countries), European Union (27 countries), Euro area (EA11-2000, EA12-2006, EA13-2007, EA15-2008, EA16-2010, EA17-2013, EA18), Belgium, Bulgaria Czech Republic, Denmark, Germany , Estonia, Ireland, Greece, Spain, France, Croatia, Italy, Latvia, Lithuania, Luxembourg, Hungary, Netherlands, Austria, Poland, Portugal, Romania, Slovenia, Slovakia, Sweden, United Kingdom, Serbia, Turkey, Bosnia and Herzegovina.\n• I fanen ‘Product’ vælges den eneste mulighed ‘Natural gas’. \n• I fanen ’Time’ vælges data for de seneste 7 år. Det er vigtigt at ens data altid starter med tal fra første halvår at et givent startår. Det betyder, at man ved en halvårs opdatering (altså når der kun er nye data for det første halvår) har tal for de seneste 6,5 år. \n• I fanen ’Unit’ vælges ’Gigajoules’.\nOBS! Det er meget vigtigt at vælge de samme for alle tre levels. \n\n"]
[null,"Når man opdaterer data for level 1 vælger man i fanen ’Excluding taxes and levies’, opdateres data for level 2 vælges ’ Excluding VAT and other recoverable taxes and levies’. For level 3 vælges ’All taxes and levies included’. \nDet er vigtigt at man kun henter data for et level ad gangen da formateringen i Excel er lavet til det.\nFor at få data i det korrekte excel-format vælges download og der sættes hak i ’Short decription’ og ’Full extraction’. Hele det downloadede ark kopieres ind i fanen for det level man opdaterer data for. Data indsættes i cellen ’A45’ lige nedenfor det blå bånd med teksten ’baggrundsdata til level [1, 2 eller 3]’. Proceduren gentages for alle 3 levels.\nNu er alt relevant data indhentet i arket. Alle de resterende ark burde tilpasse sig det nye data, således alle årstal, overskrifter mv. passer til det nyeste år."]
[null,"C) Baggrundsdata-BVT-defaltoren\nBaggrundsdata (nederst i arket) opdateres når der kommer nye tal i eurostat tabellen \"nama_nace10_c. (typisk en gang årligt i september) Hvis man ikke har tal for nyeste år bruges seneste år som approksimation. Det er kun baggrundsdata der skal opdateres tabellerne øverst tilpasser sig når de nye tal er kopieret ind.\n\nData hentes fra Eurostat tabellen ’nama_nace10_c’. Det relevante data findes ved at dialog-boksen åbnes.\n• I fanen ’Geo’ vælges de relevante lande (se lande fra den seneste opdatering af data).\n• I ’Indic_NA’ vælges ’ Gross value added (at basic prices)’\n• I ‘NACE_R2’ vælges ‘Industry (except construction)’\n• I ‘Time’ vælges de seneste 7 år.\n• I ’Unit’ vælges ’Million euro’\n• Klik ’update’\nFor at få data i det korrekte excel-format vælges download og der sættes hak i ’Short decription’ og ’Full extraction’. Hele det downloadede ark kopieres ind i fanen ’BVT baggrundsdata’. Data indsættes cellen 'A 69' lige nedenfor det blå bånd med teksten ’baggrundsdata til BVT deflator’. Denne handling opdaterer BVT deflatoren øverst i arket.\n\n\n\n\n"]
[null,"D) Kontrol  \nKontrollen skal sikre, at opdateringen er foretaget korrekt, og at figurer og tabeller dermed viser de korrekte data. Kontrollen skal også tjekke om der er tilføjet eller fjernet lande siden sidste opdatering, eller om Eurostat har byttet om på rækkefølgen. I så fald skal kontrollen sikre at der reageres på dette.\n\nLevel 1, 2 og 3:\n1) Tjek at data starter med tal fra S1, således at middelværdierne for de enkelte år altid tages af to tal fra samme kalenderår.\n2) Tag evt. par stikprøver fra tabeller og figurer for at se om data hentes korrekt, dette burde være tilfældet.\n3) I fanen ’Oversættelse af landenavne’ skal det engelske navn hentet fra level 1 arket stemme overens med begge danske oversættelser. Den første er programmeret således at der ungås fejl hvis kontrollen ikke udføres grundigt. anden række er for at tjekke om eurostat har lavet ændringer i medtagne lande eller rækkefølgen siden sidste opdatering. Hvis der er sket ændringer siden sidst vil det gule felt vise falsk.\n\nBVT deflatoren:\n4) BVT -deflatoren skal hentes for de samme lande som indgår i prisstatistikken. For at sikre at dette opfyles skal alle de orange tjekceller vise 'sand'. Er dette tilfældet har man BVT deflatoren for de korrekte lande.\n\nAlle tabeller og figurer burde nu være opdaterede og korrekte.\n\n\n"]